{"text_format":"1","workbook":"xlsx","n_sheets":3,"sheets":["Продажа","Типы товаров","Лист3"],"not_rendered":{"charts":0,"images":0,"macros":1,"external_links":0,"defined_names":2,"comments":0,"pivot_tables":0},"unopened":[],"bounds":{"document_bytes":16777216,"sheet_cells":100000,"rows_first":2000,"rows_last":500,"rows_between":2000,"halvings":0,"cell_chars":16384,"cell_head_chars":4096},"cells_cut":0,"cells_raw":0,"read":"whole","date_system":"1900"}

{"sheet":"Продажа","index":0,"n_rows":104,"n_cols":7,"rows_kept":104,"cut":false,"hidden":false,"merged":[]}
["Номенклатура","Дата продажи",null,null,null,null,"click me!"]
[16001222,"2014-03-09",null,{"$f":"MAX(IF(('Типы товаров'!$B$2:$B$142<=IF(ISTEXT(B2),DATEVALUE(B2),B2))*('Типы товаров'!$A$2:$A$142=A2),'Типы товаров'!$B$2:$B$142))","v":"2010-07-21"},{"$f":"IF(D2=0,MIN(IF('Типы товаров'!$A$2:$A$142=A2,'Типы товаров'!$B$2:$B$142)))","v":false},{"$f":"IF(D2,MAX(IF((A2='Типы товаров'!$A$2:$A$142)*(D2='Типы товаров'!$B$2:$B$142),'Типы товаров'!$C$2:$C$142)),MAX(IF((A2='Типы товаров'!$A$2:$A$142)*(E2='Типы товаров'!$B$2:$B$142),'Типы товаров'!$D$2:$D$142)))","v":4}]
[16001222,"2014-03-08",null,{"$f":"MAX(IF(('Типы товаров'!$B$2:$B$142<=IF(ISTEXT(B3),DATEVALUE(B3),B3))*('Типы товаров'!$A$2:$A$142=A3),'Типы товаров'!$B$2:$B$142))","v":"2010-07-21"},{"$f":"IF(D3=0,MIN(IF('Типы товаров'!$A$2:$A$142=A3,'Типы товаров'!$B$2:$B$142)))","v":false},{"$f":"IF(D3,MAX(IF((A3='Типы товаров'!$A$2:$A$142)*(D3='Типы товаров'!$B$2:$B$142),'Типы товаров'!$C$2:$C$142)),MAX(IF((A3='Типы товаров'!$A$2:$A$142)*(E3='Типы товаров'!$B$2:$B$142),'Типы товаров'!$D$2:$D$142)))","v":4}]
[16001222,"2014-03-02",null,{"$f":"MAX(IF(('Типы товаров'!$B$2:$B$142<=IF(ISTEXT(B4),DATEVALUE(B4),B4))*('Типы товаров'!$A$2:$A$142=A4),'Типы товаров'!$B$2:$B$142))","v":"2010-07-21"},{"$f":"IF(D4=0,MIN(IF('Типы товаров'!$A$2:$A$142=A4,'Типы товаров'!$B$2:$B$142)))","v":false},{"$f":"IF(D4,MAX(IF((A4='Типы товаров'!$A$2:$A$142)*(D4='Типы товаров'!$B$2:$B$142),'Типы товаров'!$C$2:$C$142)),MAX(IF((A4='Типы товаров'!$A$2:$A$142)*(E4='Типы товаров'!$B$2:$B$142),'Типы товаров'!$D$2:$D$142)))","v":4}]
[16001222,"2014-03-02",null,{"$f":"MAX(IF(('Типы товаров'!$B$2:$B$142<=IF(ISTEXT(B5),DATEVALUE(B5),B5))*('Типы товаров'!$A$2:$A$142=A5),'Типы товаров'!$B$2:$B$142))","v":"2010-07-21"},{"$f":"IF(D5=0,MIN(IF('Типы товаров'!$A$2:$A$142=A5,'Типы товаров'!$B$2:$B$142)))","v":false},{"$f":"IF(D5,MAX(IF((A5='Типы товаров'!$A$2:$A$142)*(D5='Типы товаров'!$B$2:$B$142),'Типы товаров'!$C$2:$C$142)),MAX(IF((A5='Типы товаров'!$A$2:$A$142)*(E5='Типы товаров'!$B$2:$B$142),'Типы товаров'!$D$2:$D$142)))","v":4}]
[16001222,"25.08.2013",null,{"$f":"MAX(IF(('Типы товаров'!$B$2:$B$142<=IF(ISTEXT(B6),DATEVALUE(B6),B6))*('Типы товаров'!$A$2:$A$142=A6),'Типы товаров'!$B$2:$B$142))","v":"2010-07-21"},{"$f":"IF(D6=0,MIN(IF('Типы товаров'!$A$2:$A$142=A6,'Типы товаров'!$B$2:$B$142)))","v":false},{"$f":"IF(D6,MAX(IF((A6='Типы товаров'!$A$2:$A$142)*(D6='Типы товаров'!$B$2:$B$142),'Типы товаров'!$C$2:$C$142)),MAX(IF((A6='Типы товаров'!$A$2:$A$142)*(E6='Типы товаров'!$B$2:$B$142),'Типы товаров'!$D$2:$D$142)))","v":4}]
[16001338,"2014-03-10",null,{"$f":"MAX(IF(('Типы товаров'!$B$2:$B$142<=IF(ISTEXT(B7),DATEVALUE(B7),B7))*('Типы товаров'!$A$2:$A$142=A7),'Типы товаров'!$B$2:$B$142))","v":"2010-04-14"},{"$f":"IF(D7=0,MIN(IF('Типы товаров'!$A$2:$A$142=A7,'Типы товаров'!$B$2:$B$142)))","v":false},{"$f":"IF(D7,MAX(IF((A7='Типы товаров'!$A$2:$A$142)*(D7='Типы товаров'!$B$2:$B$142),'Типы товаров'!$C$2:$C$142)),MAX(IF((A7='Типы товаров'!$A$2:$A$142)*(E7='Типы товаров'!$B$2:$B$142),'Типы товаров'!$D$2:$D$142)))","v":4}]
[16001338,"2014-03-05",null,{"$f":"MAX(IF(('Типы товаров'!$B$2:$B$142<=IF(ISTEXT(B8),DATEVALUE(B8),B8))*('Типы товаров'!$A$2:$A$142=A8),'Типы товаров'!$B$2:$B$142))","v":"2010-04-14"},{"$f":"IF(D8=0,MIN(IF('Типы товаров'!$A$2:$A$142=A8,'Типы товаров'!$B$2:$B$142)))","v":false},{"$f":"IF(D8,MAX(IF((A8='Типы товаров'!$A$2:$A$142)*(D8='Типы товаров'!$B$2:$B$142),'Типы товаров'!$C$2:$C$142)),MAX(IF((A8='Типы товаров'!$A$2:$A$142)*(E8='Типы товаров'!$B$2:$B$142),'Типы товаров'!$D$2:$D$142)))","v":4}]
[16001338,"28.08.2013",null,{"$f":"MAX(IF(('Типы товаров'!$B$2:$B$142<=IF(ISTEXT(B9),DATEVALUE(B9),B9))*('Типы товаров'!$A$2:$A$142=A9),'Типы товаров'!$B$2:$B$142))","v":"2010-04-14"},{"$f":"IF(D9=0,MIN(IF('Типы товаров'!$A$2:$A$142=A9,'Типы товаров'!$B$2:$B$142)))","v":false},{"$f":"IF(D9,MAX(IF((A9='Типы товаров'!$A$2:$A$142)*(D9='Типы товаров'!$B$2:$B$142),'Типы товаров'!$C$2:$C$142)),MAX(IF((A9='Типы товаров'!$A$2:$A$142)*(E9='Типы товаров'!$B$2:$B$142),'Типы товаров'!$D$2:$D$142)))","v":4}]
[16001338,"20.08.2013",null,{"$f":"MAX(IF(('Типы товаров'!$B$2:$B$142<=IF(ISTEXT(B10),DATEVALUE(B10),B10))*('Типы товаров'!$A$2:$A$142=A10),'Типы товаров'!$B$2:$B$142))","v":"2010-04-14"},{"$f":"IF(D10=0,MIN(IF('Типы товаров'!$A$2:$A$142=A10,'Типы товаров'!$B$2:$B$142)))","v":false},{"$f":"IF(D10,MAX(IF((A10='Типы товаров'!$A$2:$A$142)*(D10='Типы товаров'!$B$2:$B$142),'Типы товаров'!$C$2:$C$142)),MAX(IF((A10='Типы товаров'!$A$2:$A$142)*(E10='Типы товаров'!$B$2:$B$142),'Типы товаров'!$D$2:$D$142)))","v":4}]
[43503139,"28.02.2013",null,{"$f":"MAX(IF(('Типы товаров'!$B$2:$B$142<=IF(ISTEXT(B11),DATEVALUE(B11),B11))*('Типы товаров'!$A$2:$A$142=A11),'Типы товаров'!$B$2:$B$142))","v":"2012-08-27"},{"$f":"IF(D11=0,MIN(IF('Типы товаров'!$A$2:$A$142=A11,'Типы товаров'!$B$2:$B$142)))","v":false},{"$f":"IF(D11,MAX(IF((A11='Типы товаров'!$A$2:$A$142)*(D11='Типы товаров'!$B$2:$B$142),'Типы товаров'!$C$2:$C$142)),MAX(IF((A11='Типы товаров'!$A$2:$A$142)*(E11='Типы товаров'!$B$2:$B$142),'Типы товаров'!$D$2:$D$142)))","v":4}]
[45300527,"30.03.2013",null,{"$f":"MAX(IF(('Типы товаров'!$B$2:$B$142<=IF(ISTEXT(B12),DATEVALUE(B12),B12))*('Типы товаров'!$A$2:$A$142=A12),'Типы товаров'!$B$2:$B$142))","v":"00:00:00"},{"$f":"IF(D12=0,MIN(IF('Типы товаров'!$A$2:$A$142=A12,'Типы товаров'!$B$2:$B$142)))","v":"2013-07-26"},{"$f":"IF(D12,MAX(IF((A12='Типы товаров'!$A$2:$A$142)*(D12='Типы товаров'!$B$2:$B$142),'Типы товаров'!$C$2:$C$142)),MAX(IF((A12='Типы товаров'!$A$2:$A$142)*(E12='Типы товаров'!$B$2:$B$142),'Типы товаров'!$D$2:$D$142)))","v":4}]
[46500146,"2014-03-07",null,{"$f":"MAX(IF(('Типы товаров'!$B$2:$B$142<=IF(ISTEXT(B13),DATEVALUE(B13),B13))*('Типы товаров'!$A$2:$A$142=A13),'Типы товаров'!$B$2:$B$142))","v":"00:00:00"},{"$f":"IF(D13=0,MIN(IF('Типы товаров'!$A$2:$A$142=A13,'Типы товаров'!$B$2:$B$142)))","v":"2014-04-09"},{"$f":"IF(D13,MAX(IF((A13='Типы товаров'!$A$2:$A$142)*(D13='Типы товаров'!$B$2:$B$142),'Типы товаров'!$C$2:$C$142)),MAX(IF((A13='Типы товаров'!$A$2:$A$142)*(E13='Типы товаров'!$B$2:$B$142),'Типы товаров'!$D$2:$D$142)))","v":2}]
[46500146,"2014-02-13",null,{"$f":"MAX(IF(('Типы товаров'!$B$2:$B$142<=IF(ISTEXT(B14),DATEVALUE(B14),B14))*('Типы товаров'!$A$2:$A$142=A14),'Типы товаров'!$B$2:$B$142))","v":"00:00:00"},{"$f":"IF(D14=0,MIN(IF('Типы товаров'!$A$2:$A$142=A14,'Типы товаров'!$B$2:$B$142)))","v":"2014-04-09"},{"$f":"IF(D14,MAX(IF((A14='Типы товаров'!$A$2:$A$142)*(D14='Типы товаров'!$B$2:$B$142),'Типы товаров'!$C$2:$C$142)),MAX(IF((A14='Типы товаров'!$A$2:$A$142)*(E14='Типы товаров'!$B$2:$B$142),'Типы товаров'!$D$2:$D$142)))","v":2}]
[46500146,"02.09.2013",null,{"$f":"MAX(IF(('Типы товаров'!$B$2:$B$142<=IF(ISTEXT(B15),DATEVALUE(B15),B15))*('Типы товаров'!$A$2:$A$142=A15),'Типы товаров'!$B$2:$B$142))","v":"00:00:00"},{"$f":"IF(D15=0,MIN(IF('Типы товаров'!$A$2:$A$142=A15,'Типы товаров'!$B$2:$B$142)))","v":"2014-04-09"},{"$f":"IF(D15,MAX(IF((A15='Типы товаров'!$A$2:$A$142)*(D15='Типы товаров'!$B$2:$B$142),'Типы товаров'!$C$2:$C$142)),MAX(IF((A15='Типы товаров'!$A$2:$A$142)*(E15='Типы товаров'!$B$2:$B$142),'Типы товаров'!$D$2:$D$142)))","v":2}]
[47110127,"29.03.2013",null,{"$f":"MAX(IF(('Типы товаров'!$B$2:$B$142<=IF(ISTEXT(B16),DATEVALUE(B16),B16))*('Типы товаров'!$A$2:$A$142=A16),'Типы товаров'!$B$2:$B$142))","v":"2012-07-20"},{"$f":"IF(D16=0,MIN(IF('Типы товаров'!$A$2:$A$142=A16,'Типы товаров'!$B$2:$B$142)))","v":false},{"$f":"IF(D16,MAX(IF((A16='Типы товаров'!$A$2:$A$142)*(D16='Типы товаров'!$B$2:$B$142),'Типы товаров'!$C$2:$C$142)),MAX(IF((A16='Типы товаров'!$A$2:$A$142)*(E16='Типы товаров'!$B$2:$B$142),'Типы товаров'!$D$2:$D$142)))","v":2}]
[47110139,"06.09.2013",null,{"$f":"MAX(IF(('Типы товаров'!$B$2:$B$142<=IF(ISTEXT(B17),DATEVALUE(B17),B17))*('Типы товаров'!$A$2:$A$142=A17),'Типы товаров'!$B$2:$B$142))","v":"2013-07-15"},{"$f":"IF(D17=0,MIN(IF('Типы товаров'!$A$2:$A$142=A17,'Типы товаров'!$B$2:$B$142)))","v":false},{"$f":"IF(D17,MAX(IF((A17='Типы товаров'!$A$2:$A$142)*(D17='Типы товаров'!$B$2:$B$142),'Типы товаров'!$C$2:$C$142)),MAX(IF((A17='Типы товаров'!$A$2:$A$142)*(E17='Типы товаров'!$B$2:$B$142),'Типы товаров'!$D$2:$D$142)))","v":4}]
[47110139,"01.09.2013",null,{"$f":"MAX(IF(('Типы товаров'!$B$2:$B$142<=IF(ISTEXT(B18),DATEVALUE(B18),B18))*('Типы товаров'!$A$2:$A$142=A18),'Типы товаров'!$B$2:$B$142))","v":"2013-07-15"},{"$f":"IF(D18=0,MIN(IF('Типы товаров'!$A$2:$A$142=A18,'Типы товаров'!$B$2:$B$142)))","v":false},{"$f":"IF(D18,MAX(IF((A18='Типы товаров'!$A$2:$A$142)*(D18='Типы товаров'!$B$2:$B$142),'Типы товаров'!$C$2:$C$142)),MAX(IF((A18='Типы товаров'!$A$2:$A$142)*(E18='Типы товаров'!$B$2:$B$142),'Типы товаров'!$D$2:$D$142)))","v":4}]
[47210050,"19.01.2013",null,{"$f":"MAX(IF(('Типы товаров'!$B$2:$B$142<=IF(ISTEXT(B19),DATEVALUE(B19),B19))*('Типы товаров'!$A$2:$A$142=A19),'Типы товаров'!$B$2:$B$142))","v":"2010-07-15"},{"$f":"IF(D19=0,MIN(IF('Типы товаров'!$A$2:$A$142=A19,'Типы товаров'!$B$2:$B$142)))","v":false},{"$f":"IF(D19,MAX(IF((A19='Типы товаров'!$A$2:$A$142)*(D19='Типы товаров'!$B$2:$B$142),'Типы товаров'!$C$2:$C$142)),MAX(IF((A19='Типы товаров'!$A$2:$A$142)*(E19='Типы товаров'!$B$2:$B$142),'Типы товаров'!$D$2:$D$142)))","v":4}]
[47420063,"07.03.2013",null,{"$f":"MAX(IF(('Типы товаров'!$B$2:$B$142<=IF(ISTEXT(B20),DATEVALUE(B20),B20))*('Типы товаров'!$A$2:$A$142=A20),'Типы товаров'!$B$2:$B$142))","v":"2011-08-02"},{"$f":"IF(D20=0,MIN(IF('Типы товаров'!$A$2:$A$142=A20,'Типы товаров'!$B$2:$B$142)))","v":false},{"$f":"IF(D20,MAX(IF((A20='Типы товаров'!$A$2:$A$142)*(D20='Типы товаров'!$B$2:$B$142),'Типы товаров'!$C$2:$C$142)),MAX(IF((A20='Типы товаров'!$A$2:$A$142)*(E20='Типы товаров'!$B$2:$B$142),'Типы товаров'!$D$2:$D$142)))","v":13}]
[47610012,"17.01.2013",null,{"$f":"MAX(IF(('Типы товаров'!$B$2:$B$142<=IF(ISTEXT(B21),DATEVALUE(B21),B21))*('Типы товаров'!$A$2:$A$142=A21),'Типы товаров'!$B$2:$B$142))","v":"2013-01-15"},{"$f":"IF(D21=0,MIN(IF('Типы товаров'!$A$2:$A$142=A21,'Типы товаров'!$B$2:$B$142)))","v":false},{"$f":"IF(D21,MAX(IF((A21='Типы товаров'!$A$2:$A$142)*(D21='Типы товаров'!$B$2:$B$142),'Типы товаров'!$C$2:$C$142)),MAX(IF((A21='Типы товаров'!$A$2:$A$142)*(E21='Типы товаров'!$B$2:$B$142),'Типы товаров'!$D$2:$D$142)))","v":13}]
[47610013,"20.01.2013",null,{"$f":"MAX(IF(('Типы товаров'!$B$2:$B$142<=IF(ISTEXT(B22),DATEVALUE(B22),B22))*('Типы товаров'!$A$2:$A$142=A22),'Типы товаров'!$B$2:$B$142))","v":"00:00:00"},{"$f":"IF(D22=0,MIN(IF('Типы товаров'!$A$2:$A$142=A22,'Типы товаров'!$B$2:$B$142)))","v":"2013-01-21"},{"$f":"IF(D22,MAX(IF((A22='Типы товаров'!$A$2:$A$142)*(D22='Типы товаров'!$B$2:$B$142),'Типы товаров'!$C$2:$C$142)),MAX(IF((A22='Типы товаров'!$A$2:$A$142)*(E22='Типы товаров'!$B$2:$B$142),'Типы товаров'!$D$2:$D$142)))","v":2}]
[47610020,"05.04.2013",null,{"$f":"MAX(IF(('Типы товаров'!$B$2:$B$142<=IF(ISTEXT(B23),DATEVALUE(B23),B23))*('Типы товаров'!$A$2:$A$142=A23),'Типы товаров'!$B$2:$B$142))","v":"00:00:00"},{"$f":"IF(D23=0,MIN(IF('Типы товаров'!$A$2:$A$142=A23,'Типы товаров'!$B$2:$B$142)))","v":"2014-01-21"},{"$f":"IF(D23,MAX(IF((A23='Типы товаров'!$A$2:$A$142)*(D23='Типы товаров'!$B$2:$B$142),'Типы товаров'!$C$2:$C$142)),MAX(IF((A23='Типы товаров'!$A$2:$A$142)*(E23='Типы товаров'!$B$2:$B$142),'Типы товаров'!$D$2:$D$142)))","v":2}]
[47610020,"27.03.2013",null,{"$f":"MAX(IF(('Типы товаров'!$B$2:$B$142<=IF(ISTEXT(B24),DATEVALUE(B24),B24))*('Типы товаров'!$A$2:$A$142=A24),'Типы товаров'!$B$2:$B$142))","v":"00:00:00"},{"$f":"IF(D24=0,MIN(IF('Типы товаров'!$A$2:$A$142=A24,'Типы товаров'!$B$2:$B$142)))","v":"2014-01-21"},{"$f":"IF(D24,MAX(IF((A24='Типы товаров'!$A$2:$A$142)*(D24='Типы товаров'!$B$2:$B$142),'Типы товаров'!$C$2:$C$142)),MAX(IF((A24='Типы товаров'!$A$2:$A$142)*(E24='Типы товаров'!$B$2:$B$142),'Типы товаров'!$D$2:$D$142)))","v":2}]
[48110027,"30.09.2013",null,{"$f":"MAX(IF(('Типы товаров'!$B$2:$B$142<=IF(ISTEXT(B25),DATEVALUE(B25),B25))*('Типы товаров'!$A$2:$A$142=A25),'Типы товаров'!$B$2:$B$142))","v":"2013-09-30"},{"$f":"IF(D25=0,MIN(IF('Типы товаров'!$A$2:$A$142=A25,'Типы товаров'!$B$2:$B$142)))","v":false},{"$f":"IF(D25,MAX(IF((A25='Типы товаров'!$A$2:$A$142)*(D25='Типы товаров'!$B$2:$B$142),'Типы товаров'!$C$2:$C$142)),MAX(IF((A25='Типы товаров'!$A$2:$A$142)*(E25='Типы товаров'!$B$2:$B$142),'Типы товаров'!$D$2:$D$142)))","v":7}]
[48110027,"15.09.2013",null,{"$f":"MAX(IF(('Типы товаров'!$B$2:$B$142<=IF(ISTEXT(B26),DATEVALUE(B26),B26))*('Типы товаров'!$A$2:$A$142=A26),'Типы товаров'!$B$2:$B$142))","v":"00:00:00"},{"$f":"IF(D26=0,MIN(IF('Типы товаров'!$A$2:$A$142=A26,'Типы товаров'!$B$2:$B$142)))","v":"2013-09-30"},{"$f":"IF(D26,MAX(IF((A26='Типы товаров'!$A$2:$A$142)*(D26='Типы товаров'!$B$2:$B$142),'Типы товаров'!$C$2:$C$142)),MAX(IF((A26='Типы товаров'!$A$2:$A$142)*(E26='Типы товаров'!$B$2:$B$142),'Типы товаров'!$D$2:$D$142)))","v":2}]
[48110027,"11.09.2013",null,{"$f":"MAX(IF(('Типы товаров'!$B$2:$B$142<=IF(ISTEXT(B27),DATEVALUE(B27),B27))*('Типы товаров'!$A$2:$A$142=A27),'Типы товаров'!$B$2:$B$142))","v":"00:00:00"},{"$f":"IF(D27=0,MIN(IF('Типы товаров'!$A$2:$A$142=A27,'Типы товаров'!$B$2:$B$142)))","v":"2013-09-30"},{"$f":"IF(D27,MAX(IF((A27='Типы товаров'!$A$2:$A$142)*(D27='Типы товаров'!$B$2:$B$142),'Типы товаров'!$C$2:$C$142)),MAX(IF((A27='Типы товаров'!$A$2:$A$142)*(E27='Типы товаров'!$B$2:$B$142),'Типы товаров'!$D$2:$D$142)))","v":2}]
[48110027,"21.02.2013",null,{"$f":"MAX(IF(('Типы товаров'!$B$2:$B$142<=IF(ISTEXT(B28),DATEVALUE(B28),B28))*('Типы товаров'!$A$2:$A$142=A28),'Типы товаров'!$B$2:$B$142))","v":"00:00:00"},{"$f":"IF(D28=0,MIN(IF('Типы товаров'!$A$2:$A$142=A28,'Типы товаров'!$B$2:$B$142)))","v":"2013-09-30"},{"$f":"IF(D28,MAX(IF((A28='Типы товаров'!$A$2:$A$142)*(D28='Типы товаров'!$B$2:$B$142),'Типы товаров'!$C$2:$C$142)),MAX(IF((A28='Типы товаров'!$A$2:$A$142)*(E28='Типы товаров'!$B$2:$B$142),'Типы товаров'!$D$2:$D$142)))","v":2}]
[48330158,"31.08.2013",null,{"$f":"MAX(IF(('Типы товаров'!$B$2:$B$142<=IF(ISTEXT(B29),DATEVALUE(B29),B29))*('Типы товаров'!$A$2:$A$142=A29),'Типы товаров'!$B$2:$B$142))","v":"2013-06-24"},{"$f":"IF(D29=0,MIN(IF('Типы товаров'!$A$2:$A$142=A29,'Типы товаров'!$B$2:$B$142)))","v":false},{"$f":"IF(D29,MAX(IF((A29='Типы товаров'!$A$2:$A$142)*(D29='Типы товаров'!$B$2:$B$142),'Типы товаров'!$C$2:$C$142)),MAX(IF((A29='Типы товаров'!$A$2:$A$142)*(E29='Типы товаров'!$B$2:$B$142),'Типы товаров'!$D$2:$D$142)))","v":99}]
[48330158,"26.08.2013",null,{"$f":"MAX(IF(('Типы товаров'!$B$2:$B$142<=IF(ISTEXT(B30),DATEVALUE(B30),B30))*('Типы товаров'!$A$2:$A$142=A30),'Типы товаров'!$B$2:$B$142))","v":"2013-06-24"},{"$f":"IF(D30=0,MIN(IF('Типы товаров'!$A$2:$A$142=A30,'Типы товаров'!$B$2:$B$142)))","v":false},{"$f":"IF(D30,MAX(IF((A30='Типы товаров'!$A$2:$A$142)*(D30='Типы товаров'!$B$2:$B$142),'Типы товаров'!$C$2:$C$142)),MAX(IF((A30='Типы товаров'!$A$2:$A$142)*(E30='Типы товаров'!$B$2:$B$142),'Типы товаров'!$D$2:$D$142)))","v":99}]
[48330158,"24.08.2013",null,{"$f":"MAX(IF(('Типы товаров'!$B$2:$B$142<=IF(ISTEXT(B31),DATEVALUE(B31),B31))*('Типы товаров'!$A$2:$A$142=A31),'Типы товаров'!$B$2:$B$142))","v":"2013-06-24"},{"$f":"IF(D31=0,MIN(IF('Типы товаров'!$A$2:$A$142=A31,'Типы товаров'!$B$2:$B$142)))","v":false},{"$f":"IF(D31,MAX(IF((A31='Типы товаров'!$A$2:$A$142)*(D31='Типы товаров'!$B$2:$B$142),'Типы товаров'!$C$2:$C$142)),MAX(IF((A31='Типы товаров'!$A$2:$A$142)*(E31='Типы товаров'!$B$2:$B$142),'Типы товаров'!$D$2:$D$142)))","v":99}]
[48330158,"23.08.2013",null,{"$f":"MAX(IF(('Типы товаров'!$B$2:$B$142<=IF(ISTEXT(B32),DATEVALUE(B32),B32))*('Типы товаров'!$A$2:$A$142=A32),'Типы товаров'!$B$2:$B$142))","v":"2013-06-24"},{"$f":"IF(D32=0,MIN(IF('Типы товаров'!$A$2:$A$142=A32,'Типы товаров'!$B$2:$B$142)))","v":false},{"$f":"IF(D32,MAX(IF((A32='Типы товаров'!$A$2:$A$142)*(D32='Типы товаров'!$B$2:$B$142),'Типы товаров'!$C$2:$C$142)),MAX(IF((A32='Типы товаров'!$A$2:$A$142)*(E32='Типы товаров'!$B$2:$B$142),'Типы товаров'!$D$2:$D$142)))","v":99}]
[48330158,"20.08.2013",null,{"$f":"MAX(IF(('Типы товаров'!$B$2:$B$142<=IF(ISTEXT(B33),DATEVALUE(B33),B33))*('Типы товаров'!$A$2:$A$142=A33),'Типы товаров'!$B$2:$B$142))","v":"2013-06-24"},{"$f":"IF(D33=0,MIN(IF('Типы товаров'!$A$2:$A$142=A33,'Типы товаров'!$B$2:$B$142)))","v":false},{"$f":"IF(D33,MAX(IF((A33='Типы товаров'!$A$2:$A$142)*(D33='Типы товаров'!$B$2:$B$142),'Типы товаров'!$C$2:$C$142)),MAX(IF((A33='Типы товаров'!$A$2:$A$142)*(E33='Типы товаров'!$B$2:$B$142),'Типы товаров'!$D$2:$D$142)))","v":99}]
[49000202,"19.03.2013",null,{"$f":"MAX(IF(('Типы товаров'!$B$2:$B$142<=IF(ISTEXT(B34),DATEVALUE(B34),B34))*('Типы товаров'!$A$2:$A$142=A34),'Типы товаров'!$B$2:$B$142))","v":"00:00:00"},{"$f":"IF(D34=0,MIN(IF('Типы товаров'!$A$2:$A$142=A34,'Типы товаров'!$B$2:$B$142)))","v":"2013-06-25"},{"$f":"IF(D34,MAX(IF((A34='Типы товаров'!$A$2:$A$142)*(D34='Типы товаров'!$B$2:$B$142),'Типы товаров'!$C$2:$C$142)),MAX(IF((A34='Типы товаров'!$A$2:$A$142)*(E34='Типы товаров'!$B$2:$B$142),'Типы товаров'!$D$2:$D$142)))","v":4}]
[49000202,"16.02.2013",null,{"$f":"MAX(IF(('Типы товаров'!$B$2:$B$142<=IF(ISTEXT(B35),DATEVALUE(B35),B35))*('Типы товаров'!$A$2:$A$142=A35),'Типы товаров'!$B$2:$B$142))","v":"00:00:00"},{"$f":"IF(D35=0,MIN(IF('Типы товаров'!$A$2:$A$142=A35,'Типы товаров'!$B$2:$B$142)))","v":"2013-06-25"},{"$f":"IF(D35,MAX(IF((A35='Типы товаров'!$A$2:$A$142)*(D35='Типы товаров'!$B$2:$B$142),'Типы товаров'!$C$2:$C$142)),MAX(IF((A35='Типы товаров'!$A$2:$A$142)*(E35='Типы товаров'!$B$2:$B$142),'Типы товаров'!$D$2:$D$142)))","v":4}]
[49000202,"01.02.2013",null,{"$f":"MAX(IF(('Типы товаров'!$B$2:$B$142<=IF(ISTEXT(B36),DATEVALUE(B36),B36))*('Типы товаров'!$A$2:$A$142=A36),'Типы товаров'!$B$2:$B$142))","v":"00:00:00"},{"$f":"IF(D36=0,MIN(IF('Типы товаров'!$A$2:$A$142=A36,'Типы товаров'!$B$2:$B$142)))","v":"2013-06-25"},{"$f":"IF(D36,MAX(IF((A36='Типы товаров'!$A$2:$A$142)*(D36='Типы товаров'!$B$2:$B$142),'Типы товаров'!$C$2:$C$142)),MAX(IF((A36='Типы товаров'!$A$2:$A$142)*(E36='Типы товаров'!$B$2:$B$142),'Типы товаров'!$D$2:$D$142)))","v":4}]
[49000208,"16.04.2013",null,{"$f":"MAX(IF(('Типы товаров'!$B$2:$B$142<=IF(ISTEXT(B37),DATEVALUE(B37),B37))*('Типы товаров'!$A$2:$A$142=A37),'Типы товаров'!$B$2:$B$142))","v":"2011-07-13"},{"$f":"IF(D37=0,MIN(IF('Типы товаров'!$A$2:$A$142=A37,'Типы товаров'!$B$2:$B$142)))","v":false},{"$f":"IF(D37,MAX(IF((A37='Типы товаров'!$A$2:$A$142)*(D37='Типы товаров'!$B$2:$B$142),'Типы товаров'!$C$2:$C$142)),MAX(IF((A37='Типы товаров'!$A$2:$A$142)*(E37='Типы товаров'!$B$2:$B$142),'Типы товаров'!$D$2:$D$142)))","v":7}]
[49000208,"27.03.2013",null,{"$f":"MAX(IF(('Типы товаров'!$B$2:$B$142<=IF(ISTEXT(B38),DATEVALUE(B38),B38))*('Типы товаров'!$A$2:$A$142=A38),'Типы товаров'!$B$2:$B$142))","v":"2011-07-13"},{"$f":"IF(D38=0,MIN(IF('Типы товаров'!$A$2:$A$142=A38,'Типы товаров'!$B$2:$B$142)))","v":false},{"$f":"IF(D38,MAX(IF((A38='Типы товаров'!$A$2:$A$142)*(D38='Типы товаров'!$B$2:$B$142),'Типы товаров'!$C$2:$C$142)),MAX(IF((A38='Типы товаров'!$A$2:$A$142)*(E38='Типы товаров'!$B$2:$B$142),'Типы товаров'!$D$2:$D$142)))","v":7}]
[49000208,"20.03.2013",null,{"$f":"MAX(IF(('Типы товаров'!$B$2:$B$142<=IF(ISTEXT(B39),DATEVALUE(B39),B39))*('Типы товаров'!$A$2:$A$142=A39),'Типы товаров'!$B$2:$B$142))","v":"2011-07-13"},{"$f":"IF(D39=0,MIN(IF('Типы товаров'!$A$2:$A$142=A39,'Типы товаров'!$B$2:$B$142)))","v":false},{"$f":"IF(D39,MAX(IF((A39='Типы товаров'!$A$2:$A$142)*(D39='Типы товаров'!$B$2:$B$142),'Типы товаров'!$C$2:$C$142)),MAX(IF((A39='Типы товаров'!$A$2:$A$142)*(E39='Типы товаров'!$B$2:$B$142),'Типы товаров'!$D$2:$D$142)))","v":7}]
[49100086,"20.04.2013",null,{"$f":"MAX(IF(('Типы товаров'!$B$2:$B$142<=IF(ISTEXT(B40),DATEVALUE(B40),B40))*('Типы товаров'!$A$2:$A$142=A40),'Типы товаров'!$B$2:$B$142))","v":"2013-04-15"},{"$f":"IF(D40=0,MIN(IF('Типы товаров'!$A$2:$A$142=A40,'Типы товаров'!$B$2:$B$142)))","v":false},{"$f":"IF(D40,MAX(IF((A40='Типы товаров'!$A$2:$A$142)*(D40='Типы товаров'!$B$2:$B$142),'Типы товаров'!$C$2:$C$142)),MAX(IF((A40='Типы товаров'!$A$2:$A$142)*(E40='Типы товаров'!$B$2:$B$142),'Типы товаров'!$D$2:$D$142)))","v":13}]
[49100086,"03.04.2013",null,{"$f":"MAX(IF(('Типы товаров'!$B$2:$B$142<=IF(ISTEXT(B41),DATEVALUE(B41),B41))*('Типы товаров'!$A$2:$A$142=A41),'Типы товаров'!$B$2:$B$142))","v":"00:00:00"},{"$f":"IF(D41=0,MIN(IF('Типы товаров'!$A$2:$A$142=A41,'Типы товаров'!$B$2:$B$142)))","v":"2013-04-15"},{"$f":"IF(D41,MAX(IF((A41='Типы товаров'!$A$2:$A$142)*(D41='Типы товаров'!$B$2:$B$142),'Типы товаров'!$C$2:$C$142)),MAX(IF((A41='Типы товаров'!$A$2:$A$142)*(E41='Типы товаров'!$B$2:$B$142),'Типы товаров'!$D$2:$D$142)))","v":2}]
[49100086,"07.03.2013",null,{"$f":"MAX(IF(('Типы товаров'!$B$2:$B$142<=IF(ISTEXT(B42),DATEVALUE(B42),B42))*('Типы товаров'!$A$2:$A$142=A42),'Типы товаров'!$B$2:$B$142))","v":"00:00:00"},{"$f":"IF(D42=0,MIN(IF('Типы товаров'!$A$2:$A$142=A42,'Типы товаров'!$B$2:$B$142)))","v":"2013-04-15"},{"$f":"IF(D42,MAX(IF((A42='Типы товаров'!$A$2:$A$142)*(D42='Типы товаров'!$B$2:$B$142),'Типы товаров'!$C$2:$C$142)),MAX(IF((A42='Типы товаров'!$A$2:$A$142)*(E42='Типы товаров'!$B$2:$B$142),'Типы товаров'!$D$2:$D$142)))","v":2}]
[49100086,"16.01.2013",null,{"$f":"MAX(IF(('Типы товаров'!$B$2:$B$142<=IF(ISTEXT(B43),DATEVALUE(B43),B43))*('Типы товаров'!$A$2:$A$142=A43),'Типы товаров'!$B$2:$B$142))","v":"00:00:00"},{"$f":"IF(D43=0,MIN(IF('Типы товаров'!$A$2:$A$142=A43,'Типы товаров'!$B$2:$B$142)))","v":"2013-04-15"},{"$f":"IF(D43,MAX(IF((A43='Типы товаров'!$A$2:$A$142)*(D43='Типы товаров'!$B$2:$B$142),'Типы товаров'!$C$2:$C$142)),MAX(IF((A43='Типы товаров'!$A$2:$A$142)*(E43='Типы товаров'!$B$2:$B$142),'Типы товаров'!$D$2:$D$142)))","v":2}]
[49200003,"15.01.2013",null,{"$f":"MAX(IF(('Типы товаров'!$B$2:$B$142<=IF(ISTEXT(B44),DATEVALUE(B44),B44))*('Типы товаров'!$A$2:$A$142=A44),'Типы товаров'!$B$2:$B$142))","v":"00:00:00"},{"$f":"IF(D44=0,MIN(IF('Типы товаров'!$A$2:$A$142=A44,'Типы товаров'!$B$2:$B$142)))","v":"2013-01-28"},{"$f":"IF(D44,MAX(IF((A44='Типы товаров'!$A$2:$A$142)*(D44='Типы товаров'!$B$2:$B$142),'Типы товаров'!$C$2:$C$142)),MAX(IF((A44='Типы товаров'!$A$2:$A$142)*(E44='Типы товаров'!$B$2:$B$142),'Типы товаров'!$D$2:$D$142)))","v":2}]
[49200010,"26.02.2013",null,{"$f":"MAX(IF(('Типы товаров'!$B$2:$B$142<=IF(ISTEXT(B45),DATEVALUE(B45),B45))*('Типы товаров'!$A$2:$A$142=A45),'Типы товаров'!$B$2:$B$142))","v":"00:00:00"},{"$f":"IF(D45=0,MIN(IF('Типы товаров'!$A$2:$A$142=A45,'Типы товаров'!$B$2:$B$142)))","v":"2013-06-25"},{"$f":"IF(D45,MAX(IF((A45='Типы товаров'!$A$2:$A$142)*(D45='Типы товаров'!$B$2:$B$142),'Типы товаров'!$C$2:$C$142)),MAX(IF((A45='Типы товаров'!$A$2:$A$142)*(E45='Типы товаров'!$B$2:$B$142),'Типы товаров'!$D$2:$D$142)))","v":2}]
[49200010,"09.02.2013",null,{"$f":"MAX(IF(('Типы товаров'!$B$2:$B$142<=IF(ISTEXT(B46),DATEVALUE(B46),B46))*('Типы товаров'!$A$2:$A$142=A46),'Типы товаров'!$B$2:$B$142))","v":"00:00:00"},{"$f":"IF(D46=0,MIN(IF('Типы товаров'!$A$2:$A$142=A46,'Типы товаров'!$B$2:$B$142)))","v":"2013-06-25"},{"$f":"IF(D46,MAX(IF((A46='Типы товаров'!$A$2:$A$142)*(D46='Типы товаров'!$B$2:$B$142),'Типы товаров'!$C$2:$C$142)),MAX(IF((A46='Типы товаров'!$A$2:$A$142)*(E46='Типы товаров'!$B$2:$B$142),'Типы товаров'!$D$2:$D$142)))","v":2}]
[49200010,"14.01.2013",null,{"$f":"MAX(IF(('Типы товаров'!$B$2:$B$142<=IF(ISTEXT(B47),DATEVALUE(B47),B47))*('Типы товаров'!$A$2:$A$142=A47),'Типы товаров'!$B$2:$B$142))","v":"00:00:00"},{"$f":"IF(D47=0,MIN(IF('Типы товаров'!$A$2:$A$142=A47,'Типы товаров'!$B$2:$B$142)))","v":"2013-06-25"},{"$f":"IF(D47,MAX(IF((A47='Типы товаров'!$A$2:$A$142)*(D47='Типы товаров'!$B$2:$B$142),'Типы товаров'!$C$2:$C$142)),MAX(IF((A47='Типы товаров'!$A$2:$A$142)*(E47='Типы товаров'!$B$2:$B$142),'Типы товаров'!$D$2:$D$142)))","v":2}]
[49200014,"31.03.2013",null,{"$f":"MAX(IF(('Типы товаров'!$B$2:$B$142<=IF(ISTEXT(B48),DATEVALUE(B48),B48))*('Типы товаров'!$A$2:$A$142=A48),'Типы товаров'!$B$2:$B$142))","v":"00:00:00"},{"$f":"IF(D48=0,MIN(IF('Типы товаров'!$A$2:$A$142=A48,'Типы товаров'!$B$2:$B$142)))","v":"2013-06-25"},{"$f":"IF(D48,MAX(IF((A48='Типы товаров'!$A$2:$A$142)*(D48='Типы товаров'!$B$2:$B$142),'Типы товаров'!$C$2:$C$142)),MAX(IF((A48='Типы товаров'!$A$2:$A$142)*(E48='Типы товаров'!$B$2:$B$142),'Типы товаров'!$D$2:$D$142)))","v":4}]
[49200014,"24.03.2013",null,{"$f":"MAX(IF(('Типы товаров'!$B$2:$B$142<=IF(ISTEXT(B49),DATEVALUE(B49),B49))*('Типы товаров'!$A$2:$A$142=A49),'Типы товаров'!$B$2:$B$142))","v":"00:00:00"},{"$f":"IF(D49=0,MIN(IF('Типы товаров'!$A$2:$A$142=A49,'Типы товаров'!$B$2:$B$142)))","v":"2013-06-25"},{"$f":"IF(D49,MAX(IF((A49='Типы товаров'!$A$2:$A$142)*(D49='Типы товаров'!$B$2:$B$142),'Типы товаров'!$C$2:$C$142)),MAX(IF((A49='Типы товаров'!$A$2:$A$142)*(E49='Типы товаров'!$B$2:$B$142),'Типы товаров'!$D$2:$D$142)))","v":4}]
[49200014,"22.03.2013",null,{"$f":"MAX(IF(('Типы товаров'!$B$2:$B$142<=IF(ISTEXT(B50),DATEVALUE(B50),B50))*('Типы товаров'!$A$2:$A$142=A50),'Типы товаров'!$B$2:$B$142))","v":"00:00:00"},{"$f":"IF(D50=0,MIN(IF('Типы товаров'!$A$2:$A$142=A50,'Типы товаров'!$B$2:$B$142)))","v":"2013-06-25"},{"$f":"IF(D50,MAX(IF((A50='Типы товаров'!$A$2:$A$142)*(D50='Типы товаров'!$B$2:$B$142),'Типы товаров'!$C$2:$C$142)),MAX(IF((A50='Типы товаров'!$A$2:$A$142)*(E50='Типы товаров'!$B$2:$B$142),'Типы товаров'!$D$2:$D$142)))","v":4}]
[49200014,"13.03.2013",null,{"$f":"MAX(IF(('Типы товаров'!$B$2:$B$142<=IF(ISTEXT(B51),DATEVALUE(B51),B51))*('Типы товаров'!$A$2:$A$142=A51),'Типы товаров'!$B$2:$B$142))","v":"00:00:00"},{"$f":"IF(D51=0,MIN(IF('Типы товаров'!$A$2:$A$142=A51,'Типы товаров'!$B$2:$B$142)))","v":"2013-06-25"},{"$f":"IF(D51,MAX(IF((A51='Типы товаров'!$A$2:$A$142)*(D51='Типы товаров'!$B$2:$B$142),'Типы товаров'!$C$2:$C$142)),MAX(IF((A51='Типы товаров'!$A$2:$A$142)*(E51='Типы товаров'!$B$2:$B$142),'Типы товаров'!$D$2:$D$142)))","v":4}]
[49200014,"08.03.2013",null,{"$f":"MAX(IF(('Типы товаров'!$B$2:$B$142<=IF(ISTEXT(B52),DATEVALUE(B52),B52))*('Типы товаров'!$A$2:$A$142=A52),'Типы товаров'!$B$2:$B$142))","v":"00:00:00"},{"$f":"IF(D52=0,MIN(IF('Типы товаров'!$A$2:$A$142=A52,'Типы товаров'!$B$2:$B$142)))","v":"2013-06-25"},{"$f":"IF(D52,MAX(IF((A52='Типы товаров'!$A$2:$A$142)*(D52='Типы товаров'!$B$2:$B$142),'Типы товаров'!$C$2:$C$142)),MAX(IF((A52='Типы товаров'!$A$2:$A$142)*(E52='Типы товаров'!$B$2:$B$142),'Типы товаров'!$D$2:$D$142)))","v":4}]
[49200014,"07.03.2013",null,{"$f":"MAX(IF(('Типы товаров'!$B$2:$B$142<=IF(ISTEXT(B53),DATEVALUE(B53),B53))*('Типы товаров'!$A$2:$A$142=A53),'Типы товаров'!$B$2:$B$142))","v":"00:00:00"},{"$f":"IF(D53=0,MIN(IF('Типы товаров'!$A$2:$A$142=A53,'Типы товаров'!$B$2:$B$142)))","v":"2013-06-25"},{"$f":"IF(D53,MAX(IF((A53='Типы товаров'!$A$2:$A$142)*(D53='Типы товаров'!$B$2:$B$142),'Типы товаров'!$C$2:$C$142)),MAX(IF((A53='Типы товаров'!$A$2:$A$142)*(E53='Типы товаров'!$B$2:$B$142),'Типы товаров'!$D$2:$D$142)))","v":4}]
[49200014,"04.03.2013",null,{"$f":"MAX(IF(('Типы товаров'!$B$2:$B$142<=IF(ISTEXT(B54),DATEVALUE(B54),B54))*('Типы товаров'!$A$2:$A$142=A54),'Типы товаров'!$B$2:$B$142))","v":"00:00:00"},{"$f":"IF(D54=0,MIN(IF('Типы товаров'!$A$2:$A$142=A54,'Типы товаров'!$B$2:$B$142)))","v":"2013-06-25"},{"$f":"IF(D54,MAX(IF((A54='Типы товаров'!$A$2:$A$142)*(D54='Типы товаров'!$B$2:$B$142),'Типы товаров'!$C$2:$C$142)),MAX(IF((A54='Типы товаров'!$A$2:$A$142)*(E54='Типы товаров'!$B$2:$B$142),'Типы товаров'!$D$2:$D$142)))","v":4}]
[49200014,"19.02.2013",null,{"$f":"MAX(IF(('Типы товаров'!$B$2:$B$142<=IF(ISTEXT(B55),DATEVALUE(B55),B55))*('Типы товаров'!$A$2:$A$142=A55),'Типы товаров'!$B$2:$B$142))","v":"00:00:00"},{"$f":"IF(D55=0,MIN(IF('Типы товаров'!$A$2:$A$142=A55,'Типы товаров'!$B$2:$B$142)))","v":"2013-06-25"},{"$f":"IF(D55,MAX(IF((A55='Типы товаров'!$A$2:$A$142)*(D55='Типы товаров'!$B$2:$B$142),'Типы товаров'!$C$2:$C$142)),MAX(IF((A55='Типы товаров'!$A$2:$A$142)*(E55='Типы товаров'!$B$2:$B$142),'Типы товаров'!$D$2:$D$142)))","v":4}]
[49200014,"16.02.2013",null,{"$f":"MAX(IF(('Типы товаров'!$B$2:$B$142<=IF(ISTEXT(B56),DATEVALUE(B56),B56))*('Типы товаров'!$A$2:$A$142=A56),'Типы товаров'!$B$2:$B$142))","v":"00:00:00"},{"$f":"IF(D56=0,MIN(IF('Типы товаров'!$A$2:$A$142=A56,'Типы товаров'!$B$2:$B$142)))","v":"2013-06-25"},{"$f":"IF(D56,MAX(IF((A56='Типы товаров'!$A$2:$A$142)*(D56='Типы товаров'!$B$2:$B$142),'Типы товаров'!$C$2:$C$142)),MAX(IF((A56='Типы товаров'!$A$2:$A$142)*(E56='Типы товаров'!$B$2:$B$142),'Типы товаров'!$D$2:$D$142)))","v":4}]
[49200014,"12.01.2013",null,{"$f":"MAX(IF(('Типы товаров'!$B$2:$B$142<=IF(ISTEXT(B57),DATEVALUE(B57),B57))*('Типы товаров'!$A$2:$A$142=A57),'Типы товаров'!$B$2:$B$142))","v":"00:00:00"},{"$f":"IF(D57=0,MIN(IF('Типы товаров'!$A$2:$A$142=A57,'Типы товаров'!$B$2:$B$142)))","v":"2013-06-25"},{"$f":"IF(D57,MAX(IF((A57='Типы товаров'!$A$2:$A$142)*(D57='Типы товаров'!$B$2:$B$142),'Типы товаров'!$C$2:$C$142)),MAX(IF((A57='Типы товаров'!$A$2:$A$142)*(E57='Типы товаров'!$B$2:$B$142),'Типы товаров'!$D$2:$D$142)))","v":4}]
[49200026,"2014-03-09",null,{"$f":"MAX(IF(('Типы товаров'!$B$2:$B$142<=IF(ISTEXT(B58),DATEVALUE(B58),B58))*('Типы товаров'!$A$2:$A$142=A58),'Типы товаров'!$B$2:$B$142))","v":"2013-10-31"},{"$f":"IF(D58=0,MIN(IF('Типы товаров'!$A$2:$A$142=A58,'Типы товаров'!$B$2:$B$142)))","v":false},{"$f":"IF(D58,MAX(IF((A58='Типы товаров'!$A$2:$A$142)*(D58='Типы товаров'!$B$2:$B$142),'Типы товаров'!$C$2:$C$142)),MAX(IF((A58='Типы товаров'!$A$2:$A$142)*(E58='Типы товаров'!$B$2:$B$142),'Типы товаров'!$D$2:$D$142)))","v":4}]
[49200026,"24.03.2013",null,{"$f":"MAX(IF(('Типы товаров'!$B$2:$B$142<=IF(ISTEXT(B59),DATEVALUE(B59),B59))*('Типы товаров'!$A$2:$A$142=A59),'Типы товаров'!$B$2:$B$142))","v":"00:00:00"},{"$f":"IF(D59=0,MIN(IF('Типы товаров'!$A$2:$A$142=A59,'Типы товаров'!$B$2:$B$142)))","v":"2013-06-25"},{"$f":"IF(D59,MAX(IF((A59='Типы товаров'!$A$2:$A$142)*(D59='Типы товаров'!$B$2:$B$142),'Типы товаров'!$C$2:$C$142)),MAX(IF((A59='Типы товаров'!$A$2:$A$142)*(E59='Типы товаров'!$B$2:$B$142),'Типы товаров'!$D$2:$D$142)))","v":2}]
[49200026,"10.02.2013",null,{"$f":"MAX(IF(('Типы товаров'!$B$2:$B$142<=IF(ISTEXT(B60),DATEVALUE(B60),B60))*('Типы товаров'!$A$2:$A$142=A60),'Типы товаров'!$B$2:$B$142))","v":"00:00:00"},{"$f":"IF(D60=0,MIN(IF('Типы товаров'!$A$2:$A$142=A60,'Типы товаров'!$B$2:$B$142)))","v":"2013-06-25"},{"$f":"IF(D60,MAX(IF((A60='Типы товаров'!$A$2:$A$142)*(D60='Типы товаров'!$B$2:$B$142),'Типы товаров'!$C$2:$C$142)),MAX(IF((A60='Типы товаров'!$A$2:$A$142)*(E60='Типы товаров'!$B$2:$B$142),'Типы товаров'!$D$2:$D$142)))","v":2}]
[49200026,"05.02.2013",null,{"$f":"MAX(IF(('Типы товаров'!$B$2:$B$142<=IF(ISTEXT(B61),DATEVALUE(B61),B61))*('Типы товаров'!$A$2:$A$142=A61),'Типы товаров'!$B$2:$B$142))","v":"00:00:00"},{"$f":"IF(D61=0,MIN(IF('Типы товаров'!$A$2:$A$142=A61,'Типы товаров'!$B$2:$B$142)))","v":"2013-06-25"},{"$f":"IF(D61,MAX(IF((A61='Типы товаров'!$A$2:$A$142)*(D61='Типы товаров'!$B$2:$B$142),'Типы товаров'!$C$2:$C$142)),MAX(IF((A61='Типы товаров'!$A$2:$A$142)*(E61='Типы товаров'!$B$2:$B$142),'Типы товаров'!$D$2:$D$142)))","v":2}]
[51300028,"14.01.2013",null,{"$f":"MAX(IF(('Типы товаров'!$B$2:$B$142<=IF(ISTEXT(B62),DATEVALUE(B62),B62))*('Типы товаров'!$A$2:$A$142=A62),'Типы товаров'!$B$2:$B$142))","v":"00:00:00"},{"$f":"IF(D62=0,MIN(IF('Типы товаров'!$A$2:$A$142=A62,'Типы товаров'!$B$2:$B$142)))","v":"2013-01-28"},{"$f":"IF(D62,MAX(IF((A62='Типы товаров'!$A$2:$A$142)*(D62='Типы товаров'!$B$2:$B$142),'Типы товаров'!$C$2:$C$142)),MAX(IF((A62='Типы товаров'!$A$2:$A$142)*(E62='Типы товаров'!$B$2:$B$142),'Типы товаров'!$D$2:$D$142)))","v":2}]
[54000006,"24.08.2013",null,{"$f":"MAX(IF(('Типы товаров'!$B$2:$B$142<=IF(ISTEXT(B63),DATEVALUE(B63),B63))*('Типы товаров'!$A$2:$A$142=A63),'Типы товаров'!$B$2:$B$142))","v":"2012-05-28"},{"$f":"IF(D63=0,MIN(IF('Типы товаров'!$A$2:$A$142=A63,'Типы товаров'!$B$2:$B$142)))","v":false},{"$f":"IF(D63,MAX(IF((A63='Типы товаров'!$A$2:$A$142)*(D63='Типы товаров'!$B$2:$B$142),'Типы товаров'!$C$2:$C$142)),MAX(IF((A63='Типы товаров'!$A$2:$A$142)*(E63='Типы товаров'!$B$2:$B$142),'Типы товаров'!$D$2:$D$142)))","v":4}]
[54000006,"05.04.2013",null,{"$f":"MAX(IF(('Типы товаров'!$B$2:$B$142<=IF(ISTEXT(B64),DATEVALUE(B64),B64))*('Типы товаров'!$A$2:$A$142=A64),'Типы товаров'!$B$2:$B$142))","v":"2012-05-28"},{"$f":"IF(D64=0,MIN(IF('Типы товаров'!$A$2:$A$142=A64,'Типы товаров'!$B$2:$B$142)))","v":false},{"$f":"IF(D64,MAX(IF((A64='Типы товаров'!$A$2:$A$142)*(D64='Типы товаров'!$B$2:$B$142),'Типы товаров'!$C$2:$C$142)),MAX(IF((A64='Типы товаров'!$A$2:$A$142)*(E64='Типы товаров'!$B$2:$B$142),'Типы товаров'!$D$2:$D$142)))","v":4}]
[54000006,"18.03.2013",null,{"$f":"MAX(IF(('Типы товаров'!$B$2:$B$142<=IF(ISTEXT(B65),DATEVALUE(B65),B65))*('Типы товаров'!$A$2:$A$142=A65),'Типы товаров'!$B$2:$B$142))","v":"2012-05-28"},{"$f":"IF(D65=0,MIN(IF('Типы товаров'!$A$2:$A$142=A65,'Типы товаров'!$B$2:$B$142)))","v":false},{"$f":"IF(D65,MAX(IF((A65='Типы товаров'!$A$2:$A$142)*(D65='Типы товаров'!$B$2:$B$142),'Типы товаров'!$C$2:$C$142)),MAX(IF((A65='Типы товаров'!$A$2:$A$142)*(E65='Типы товаров'!$B$2:$B$142),'Типы товаров'!$D$2:$D$142)))","v":4}]
[54000006,"08.03.2013",null,{"$f":"MAX(IF(('Типы товаров'!$B$2:$B$142<=IF(ISTEXT(B66),DATEVALUE(B66),B66))*('Типы товаров'!$A$2:$A$142=A66),'Типы товаров'!$B$2:$B$142))","v":"2012-05-28"},{"$f":"IF(D66=0,MIN(IF('Типы товаров'!$A$2:$A$142=A66,'Типы товаров'!$B$2:$B$142)))","v":false},{"$f":"IF(D66,MAX(IF((A66='Типы товаров'!$A$2:$A$142)*(D66='Типы товаров'!$B$2:$B$142),'Типы товаров'!$C$2:$C$142)),MAX(IF((A66='Типы товаров'!$A$2:$A$142)*(E66='Типы товаров'!$B$2:$B$142),'Типы товаров'!$D$2:$D$142)))","v":4}]
[54000006,"22.02.2013",null,{"$f":"MAX(IF(('Типы товаров'!$B$2:$B$142<=IF(ISTEXT(B67),DATEVALUE(B67),B67))*('Типы товаров'!$A$2:$A$142=A67),'Типы товаров'!$B$2:$B$142))","v":"2012-05-28"},{"$f":"IF(D67=0,MIN(IF('Типы товаров'!$A$2:$A$142=A67,'Типы товаров'!$B$2:$B$142)))","v":false},{"$f":"IF(D67,MAX(IF((A67='Типы товаров'!$A$2:$A$142)*(D67='Типы товаров'!$B$2:$B$142),'Типы товаров'!$C$2:$C$142)),MAX(IF((A67='Типы товаров'!$A$2:$A$142)*(E67='Типы товаров'!$B$2:$B$142),'Типы товаров'!$D$2:$D$142)))","v":4}]
[54000006,"20.02.2013",null,{"$f":"MAX(IF(('Типы товаров'!$B$2:$B$142<=IF(ISTEXT(B68),DATEVALUE(B68),B68))*('Типы товаров'!$A$2:$A$142=A68),'Типы товаров'!$B$2:$B$142))","v":"2012-05-28"},{"$f":"IF(D68=0,MIN(IF('Типы товаров'!$A$2:$A$142=A68,'Типы товаров'!$B$2:$B$142)))","v":false},{"$f":"IF(D68,MAX(IF((A68='Типы товаров'!$A$2:$A$142)*(D68='Типы товаров'!$B$2:$B$142),'Типы товаров'!$C$2:$C$142)),MAX(IF((A68='Типы товаров'!$A$2:$A$142)*(E68='Типы товаров'!$B$2:$B$142),'Типы товаров'!$D$2:$D$142)))","v":4}]
[54000006,"15.01.2013",null,{"$f":"MAX(IF(('Типы товаров'!$B$2:$B$142<=IF(ISTEXT(B69),DATEVALUE(B69),B69))*('Типы товаров'!$A$2:$A$142=A69),'Типы товаров'!$B$2:$B$142))","v":"2012-05-28"},{"$f":"IF(D69=0,MIN(IF('Типы товаров'!$A$2:$A$142=A69,'Типы товаров'!$B$2:$B$142)))","v":false},{"$f":"IF(D69,MAX(IF((A69='Типы товаров'!$A$2:$A$142)*(D69='Типы товаров'!$B$2:$B$142),'Типы товаров'!$C$2:$C$142)),MAX(IF((A69='Типы товаров'!$A$2:$A$142)*(E69='Типы товаров'!$B$2:$B$142),'Типы товаров'!$D$2:$D$142)))","v":4}]
[54000006,"10.01.2013",null,{"$f":"MAX(IF(('Типы товаров'!$B$2:$B$142<=IF(ISTEXT(B70),DATEVALUE(B70),B70))*('Типы товаров'!$A$2:$A$142=A70),'Типы товаров'!$B$2:$B$142))","v":"2012-05-28"},{"$f":"IF(D70=0,MIN(IF('Типы товаров'!$A$2:$A$142=A70,'Типы товаров'!$B$2:$B$142)))","v":false},{"$f":"IF(D70,MAX(IF((A70='Типы товаров'!$A$2:$A$142)*(D70='Типы товаров'!$B$2:$B$142),'Типы товаров'!$C$2:$C$142)),MAX(IF((A70='Типы товаров'!$A$2:$A$142)*(E70='Типы товаров'!$B$2:$B$142),'Типы товаров'!$D$2:$D$142)))","v":4}]
[54120035,"01.04.2013",null,{"$f":"MAX(IF(('Типы товаров'!$B$2:$B$142<=IF(ISTEXT(B71),DATEVALUE(B71),B71))*('Типы товаров'!$A$2:$A$142=A71),'Типы товаров'!$B$2:$B$142))","v":"2013-01-17"},{"$f":"IF(D71=0,MIN(IF('Типы товаров'!$A$2:$A$142=A71,'Типы товаров'!$B$2:$B$142)))","v":false},{"$f":"IF(D71,MAX(IF((A71='Типы товаров'!$A$2:$A$142)*(D71='Типы товаров'!$B$2:$B$142),'Типы товаров'!$C$2:$C$142)),MAX(IF((A71='Типы товаров'!$A$2:$A$142)*(E71='Типы товаров'!$B$2:$B$142),'Типы товаров'!$D$2:$D$142)))","v":99}]
[54120035,"29.03.2013",null,{"$f":"MAX(IF(('Типы товаров'!$B$2:$B$142<=IF(ISTEXT(B72),DATEVALUE(B72),B72))*('Типы товаров'!$A$2:$A$142=A72),'Типы товаров'!$B$2:$B$142))","v":"2013-01-17"},{"$f":"IF(D72=0,MIN(IF('Типы товаров'!$A$2:$A$142=A72,'Типы товаров'!$B$2:$B$142)))","v":false},{"$f":"IF(D72,MAX(IF((A72='Типы товаров'!$A$2:$A$142)*(D72='Типы товаров'!$B$2:$B$142),'Типы товаров'!$C$2:$C$142)),MAX(IF((A72='Типы товаров'!$A$2:$A$142)*(E72='Типы товаров'!$B$2:$B$142),'Типы товаров'!$D$2:$D$142)))","v":99}]
[54120035,"19.01.2013",null,{"$f":"MAX(IF(('Типы товаров'!$B$2:$B$142<=IF(ISTEXT(B73),DATEVALUE(B73),B73))*('Типы товаров'!$A$2:$A$142=A73),'Типы товаров'!$B$2:$B$142))","v":"2013-01-17"},{"$f":"IF(D73=0,MIN(IF('Типы товаров'!$A$2:$A$142=A73,'Типы товаров'!$B$2:$B$142)))","v":false},{"$f":"IF(D73,MAX(IF((A73='Типы товаров'!$A$2:$A$142)*(D73='Типы товаров'!$B$2:$B$142),'Типы товаров'!$C$2:$C$142)),MAX(IF((A73='Типы товаров'!$A$2:$A$142)*(E73='Типы товаров'!$B$2:$B$142),'Типы товаров'!$D$2:$D$142)))","v":99}]
[54120038,"08.09.2013",null,{"$f":"MAX(IF(('Типы товаров'!$B$2:$B$142<=IF(ISTEXT(B74),DATEVALUE(B74),B74))*('Типы товаров'!$A$2:$A$142=A74),'Типы товаров'!$B$2:$B$142))","v":"2013-07-22"},{"$f":"IF(D74=0,MIN(IF('Типы товаров'!$A$2:$A$142=A74,'Типы товаров'!$B$2:$B$142)))","v":false},{"$f":"IF(D74,MAX(IF((A74='Типы товаров'!$A$2:$A$142)*(D74='Типы товаров'!$B$2:$B$142),'Типы товаров'!$C$2:$C$142)),MAX(IF((A74='Типы товаров'!$A$2:$A$142)*(E74='Типы товаров'!$B$2:$B$142),'Типы товаров'!$D$2:$D$142)))","v":7}]
[54120038,"18.03.2013",null,{"$f":"MAX(IF(('Типы товаров'!$B$2:$B$142<=IF(ISTEXT(B75),DATEVALUE(B75),B75))*('Типы товаров'!$A$2:$A$142=A75),'Типы товаров'!$B$2:$B$142))","v":"2013-01-17"},{"$f":"IF(D75=0,MIN(IF('Типы товаров'!$A$2:$A$142=A75,'Типы товаров'!$B$2:$B$142)))","v":false},{"$f":"IF(D75,MAX(IF((A75='Типы товаров'!$A$2:$A$142)*(D75='Типы товаров'!$B$2:$B$142),'Типы товаров'!$C$2:$C$142)),MAX(IF((A75='Типы товаров'!$A$2:$A$142)*(E75='Типы товаров'!$B$2:$B$142),'Типы товаров'!$D$2:$D$142)))","v":4}]
[54120038,"04.03.2013",null,{"$f":"MAX(IF(('Типы товаров'!$B$2:$B$142<=IF(ISTEXT(B76),DATEVALUE(B76),B76))*('Типы товаров'!$A$2:$A$142=A76),'Типы товаров'!$B$2:$B$142))","v":"2013-01-17"},{"$f":"IF(D76=0,MIN(IF('Типы товаров'!$A$2:$A$142=A76,'Типы товаров'!$B$2:$B$142)))","v":false},{"$f":"IF(D76,MAX(IF((A76='Типы товаров'!$A$2:$A$142)*(D76='Типы товаров'!$B$2:$B$142),'Типы товаров'!$C$2:$C$142)),MAX(IF((A76='Типы товаров'!$A$2:$A$142)*(E76='Типы товаров'!$B$2:$B$142),'Типы товаров'!$D$2:$D$142)))","v":4}]
[54120038,"03.03.2013",null,{"$f":"MAX(IF(('Типы товаров'!$B$2:$B$142<=IF(ISTEXT(B77),DATEVALUE(B77),B77))*('Типы товаров'!$A$2:$A$142=A77),'Типы товаров'!$B$2:$B$142))","v":"2013-01-17"},{"$f":"IF(D77=0,MIN(IF('Типы товаров'!$A$2:$A$142=A77,'Типы товаров'!$B$2:$B$142)))","v":false},{"$f":"IF(D77,MAX(IF((A77='Типы товаров'!$A$2:$A$142)*(D77='Типы товаров'!$B$2:$B$142),'Типы товаров'!$C$2:$C$142)),MAX(IF((A77='Типы товаров'!$A$2:$A$142)*(E77='Типы товаров'!$B$2:$B$142),'Типы товаров'!$D$2:$D$142)))","v":4}]
[54120087,"2014-03-09",null,{"$f":"MAX(IF(('Типы товаров'!$B$2:$B$142<=IF(ISTEXT(B78),DATEVALUE(B78),B78))*('Типы товаров'!$A$2:$A$142=A78),'Типы товаров'!$B$2:$B$142))","v":"2012-10-22"},{"$f":"IF(D78=0,MIN(IF('Типы товаров'!$A$2:$A$142=A78,'Типы товаров'!$B$2:$B$142)))","v":false},{"$f":"IF(D78,MAX(IF((A78='Типы товаров'!$A$2:$A$142)*(D78='Типы товаров'!$B$2:$B$142),'Типы товаров'!$C$2:$C$142)),MAX(IF((A78='Типы товаров'!$A$2:$A$142)*(E78='Типы товаров'!$B$2:$B$142),'Типы товаров'!$D$2:$D$142)))","v":2}]
[54120087,"2014-02-28",null,{"$f":"MAX(IF(('Типы товаров'!$B$2:$B$142<=IF(ISTEXT(B79),DATEVALUE(B79),B79))*('Типы товаров'!$A$2:$A$142=A79),'Типы товаров'!$B$2:$B$142))","v":"2012-10-22"},{"$f":"IF(D79=0,MIN(IF('Типы товаров'!$A$2:$A$142=A79,'Типы товаров'!$B$2:$B$142)))","v":false},{"$f":"IF(D79,MAX(IF((A79='Типы товаров'!$A$2:$A$142)*(D79='Типы товаров'!$B$2:$B$142),'Типы товаров'!$C$2:$C$142)),MAX(IF((A79='Типы товаров'!$A$2:$A$142)*(E79='Типы товаров'!$B$2:$B$142),'Типы товаров'!$D$2:$D$142)))","v":2}]
[54120087,"2014-02-15",null,{"$f":"MAX(IF(('Типы товаров'!$B$2:$B$142<=IF(ISTEXT(B80),DATEVALUE(B80),B80))*('Типы товаров'!$A$2:$A$142=A80),'Типы товаров'!$B$2:$B$142))","v":"2012-10-22"},{"$f":"IF(D80=0,MIN(IF('Типы товаров'!$A$2:$A$142=A80,'Типы товаров'!$B$2:$B$142)))","v":false},{"$f":"IF(D80,MAX(IF((A80='Типы товаров'!$A$2:$A$142)*(D80='Типы товаров'!$B$2:$B$142),'Типы товаров'!$C$2:$C$142)),MAX(IF((A80='Типы товаров'!$A$2:$A$142)*(E80='Типы товаров'!$B$2:$B$142),'Типы товаров'!$D$2:$D$142)))","v":2}]
[54120087,"09.09.2013",null,{"$f":"MAX(IF(('Типы товаров'!$B$2:$B$142<=IF(ISTEXT(B81),DATEVALUE(B81),B81))*('Типы товаров'!$A$2:$A$142=A81),'Типы товаров'!$B$2:$B$142))","v":"2012-10-22"},{"$f":"IF(D81=0,MIN(IF('Типы товаров'!$A$2:$A$142=A81,'Типы товаров'!$B$2:$B$142)))","v":false},{"$f":"IF(D81,MAX(IF((A81='Типы товаров'!$A$2:$A$142)*(D81='Типы товаров'!$B$2:$B$142),'Типы товаров'!$C$2:$C$142)),MAX(IF((A81='Типы товаров'!$A$2:$A$142)*(E81='Типы товаров'!$B$2:$B$142),'Типы товаров'!$D$2:$D$142)))","v":2}]
[54120087,"07.09.2013",null,{"$f":"MAX(IF(('Типы товаров'!$B$2:$B$142<=IF(ISTEXT(B82),DATEVALUE(B82),B82))*('Типы товаров'!$A$2:$A$142=A82),'Типы товаров'!$B$2:$B$142))","v":"2012-10-22"},{"$f":"IF(D82=0,MIN(IF('Типы товаров'!$A$2:$A$142=A82,'Типы товаров'!$B$2:$B$142)))","v":false},{"$f":"IF(D82,MAX(IF((A82='Типы товаров'!$A$2:$A$142)*(D82='Типы товаров'!$B$2:$B$142),'Типы товаров'!$C$2:$C$142)),MAX(IF((A82='Типы товаров'!$A$2:$A$142)*(E82='Типы товаров'!$B$2:$B$142),'Типы товаров'!$D$2:$D$142)))","v":2}]
[54120087,"03.09.2013",null,{"$f":"MAX(IF(('Типы товаров'!$B$2:$B$142<=IF(ISTEXT(B83),DATEVALUE(B83),B83))*('Типы товаров'!$A$2:$A$142=A83),'Типы товаров'!$B$2:$B$142))","v":"2012-10-22"},{"$f":"IF(D83=0,MIN(IF('Типы товаров'!$A$2:$A$142=A83,'Типы товаров'!$B$2:$B$142)))","v":false},{"$f":"IF(D83,MAX(IF((A83='Типы товаров'!$A$2:$A$142)*(D83='Типы товаров'!$B$2:$B$142),'Типы товаров'!$C$2:$C$142)),MAX(IF((A83='Типы товаров'!$A$2:$A$142)*(E83='Типы товаров'!$B$2:$B$142),'Типы товаров'!$D$2:$D$142)))","v":2}]
[54120087,"20.08.2013",null,{"$f":"MAX(IF(('Типы товаров'!$B$2:$B$142<=IF(ISTEXT(B84),DATEVALUE(B84),B84))*('Типы товаров'!$A$2:$A$142=A84),'Типы товаров'!$B$2:$B$142))","v":"2012-10-22"},{"$f":"IF(D84=0,MIN(IF('Типы товаров'!$A$2:$A$142=A84,'Типы товаров'!$B$2:$B$142)))","v":false},{"$f":"IF(D84,MAX(IF((A84='Типы товаров'!$A$2:$A$142)*(D84='Типы товаров'!$B$2:$B$142),'Типы товаров'!$C$2:$C$142)),MAX(IF((A84='Типы товаров'!$A$2:$A$142)*(E84='Типы товаров'!$B$2:$B$142),'Типы товаров'!$D$2:$D$142)))","v":2}]
[54120087,"11.08.2013",null,{"$f":"MAX(IF(('Типы товаров'!$B$2:$B$142<=IF(ISTEXT(B85),DATEVALUE(B85),B85))*('Типы товаров'!$A$2:$A$142=A85),'Типы товаров'!$B$2:$B$142))","v":"2012-10-22"},{"$f":"IF(D85=0,MIN(IF('Типы товаров'!$A$2:$A$142=A85,'Типы товаров'!$B$2:$B$142)))","v":false},{"$f":"IF(D85,MAX(IF((A85='Типы товаров'!$A$2:$A$142)*(D85='Типы товаров'!$B$2:$B$142),'Типы товаров'!$C$2:$C$142)),MAX(IF((A85='Типы товаров'!$A$2:$A$142)*(E85='Типы товаров'!$B$2:$B$142),'Типы товаров'!$D$2:$D$142)))","v":2}]
[54120087,"02.03.2013",null,{"$f":"MAX(IF(('Типы товаров'!$B$2:$B$142<=IF(ISTEXT(B86),DATEVALUE(B86),B86))*('Типы товаров'!$A$2:$A$142=A86),'Типы товаров'!$B$2:$B$142))","v":"2012-10-22"},{"$f":"IF(D86=0,MIN(IF('Типы товаров'!$A$2:$A$142=A86,'Типы товаров'!$B$2:$B$142)))","v":false},{"$f":"IF(D86,MAX(IF((A86='Типы товаров'!$A$2:$A$142)*(D86='Типы товаров'!$B$2:$B$142),'Типы товаров'!$C$2:$C$142)),MAX(IF((A86='Типы товаров'!$A$2:$A$142)*(E86='Типы товаров'!$B$2:$B$142),'Типы товаров'!$D$2:$D$142)))","v":2}]
[55105322,"16.03.2013",null,{"$f":"MAX(IF(('Типы товаров'!$B$2:$B$142<=IF(ISTEXT(B87),DATEVALUE(B87),B87))*('Типы товаров'!$A$2:$A$142=A87),'Типы товаров'!$B$2:$B$142))","v":"00:00:00"},{"$f":"IF(D87=0,MIN(IF('Типы товаров'!$A$2:$A$142=A87,'Типы товаров'!$B$2:$B$142)))","v":"2013-07-22"},{"$f":"IF(D87,MAX(IF((A87='Типы товаров'!$A$2:$A$142)*(D87='Типы товаров'!$B$2:$B$142),'Типы товаров'!$C$2:$C$142)),MAX(IF((A87='Типы товаров'!$A$2:$A$142)*(E87='Типы товаров'!$B$2:$B$142),'Типы товаров'!$D$2:$D$142)))","v":2}]
[55105322,"02.03.2013",null,{"$f":"MAX(IF(('Типы товаров'!$B$2:$B$142<=IF(ISTEXT(B88),DATEVALUE(B88),B88))*('Типы товаров'!$A$2:$A$142=A88),'Типы товаров'!$B$2:$B$142))","v":"00:00:00"},{"$f":"IF(D88=0,MIN(IF('Типы товаров'!$A$2:$A$142=A88,'Типы товаров'!$B$2:$B$142)))","v":"2013-07-22"},{"$f":"IF(D88,MAX(IF((A88='Типы товаров'!$A$2:$A$142)*(D88='Типы товаров'!$B$2:$B$142),'Типы товаров'!$C$2:$C$142)),MAX(IF((A88='Типы товаров'!$A$2:$A$142)*(E88='Типы товаров'!$B$2:$B$142),'Типы товаров'!$D$2:$D$142)))","v":2}]
[55105322,"27.02.2013",null,{"$f":"MAX(IF(('Типы товаров'!$B$2:$B$142<=IF(ISTEXT(B89),DATEVALUE(B89),B89))*('Типы товаров'!$A$2:$A$142=A89),'Типы товаров'!$B$2:$B$142))","v":"00:00:00"},{"$f":"IF(D89=0,MIN(IF('Типы товаров'!$A$2:$A$142=A89,'Типы товаров'!$B$2:$B$142)))","v":"2013-07-22"},{"$f":"IF(D89,MAX(IF((A89='Типы товаров'!$A$2:$A$142)*(D89='Типы товаров'!$B$2:$B$142),'Типы товаров'!$C$2:$C$142)),MAX(IF((A89='Типы товаров'!$A$2:$A$142)*(E89='Типы товаров'!$B$2:$B$142),'Типы товаров'!$D$2:$D$142)))","v":2}]
[55105322,"24.02.2013",null,{"$f":"MAX(IF(('Типы товаров'!$B$2:$B$142<=IF(ISTEXT(B90),DATEVALUE(B90),B90))*('Типы товаров'!$A$2:$A$142=A90),'Типы товаров'!$B$2:$B$142))","v":"00:00:00"},{"$f":"IF(D90=0,MIN(IF('Типы товаров'!$A$2:$A$142=A90,'Типы товаров'!$B$2:$B$142)))","v":"2013-07-22"},{"$f":"IF(D90,MAX(IF((A90='Типы товаров'!$A$2:$A$142)*(D90='Типы товаров'!$B$2:$B$142),'Типы товаров'!$C$2:$C$142)),MAX(IF((A90='Типы товаров'!$A$2:$A$142)*(E90='Типы товаров'!$B$2:$B$142),'Типы товаров'!$D$2:$D$142)))","v":2}]
[55200069,"28.09.2013",null,{"$f":"MAX(IF(('Типы товаров'!$B$2:$B$142<=IF(ISTEXT(B91),DATEVALUE(B91),B91))*('Типы товаров'!$A$2:$A$142=A91),'Типы товаров'!$B$2:$B$142))","v":"2013-09-02"},{"$f":"IF(D91=0,MIN(IF('Типы товаров'!$A$2:$A$142=A91,'Типы товаров'!$B$2:$B$142)))","v":false},{"$f":"IF(D91,MAX(IF((A91='Типы товаров'!$A$2:$A$142)*(D91='Типы товаров'!$B$2:$B$142),'Типы товаров'!$C$2:$C$142)),MAX(IF((A91='Типы товаров'!$A$2:$A$142)*(E91='Типы товаров'!$B$2:$B$142),'Типы товаров'!$D$2:$D$142)))","v":13}]
[55200069,"08.09.2013",null,{"$f":"MAX(IF(('Типы товаров'!$B$2:$B$142<=IF(ISTEXT(B92),DATEVALUE(B92),B92))*('Типы товаров'!$A$2:$A$142=A92),'Типы товаров'!$B$2:$B$142))","v":"2013-09-02"},{"$f":"IF(D92=0,MIN(IF('Типы товаров'!$A$2:$A$142=A92,'Типы товаров'!$B$2:$B$142)))","v":false},{"$f":"IF(D92,MAX(IF((A92='Типы товаров'!$A$2:$A$142)*(D92='Типы товаров'!$B$2:$B$142),'Типы товаров'!$C$2:$C$142)),MAX(IF((A92='Типы товаров'!$A$2:$A$142)*(E92='Типы товаров'!$B$2:$B$142),'Типы товаров'!$D$2:$D$142)))","v":13}]
[55200069,"08.09.2013",null,{"$f":"MAX(IF(('Типы товаров'!$B$2:$B$142<=IF(ISTEXT(B93),DATEVALUE(B93),B93))*('Типы товаров'!$A$2:$A$142=A93),'Типы товаров'!$B$2:$B$142))","v":"2013-09-02"},{"$f":"IF(D93=0,MIN(IF('Типы товаров'!$A$2:$A$142=A93,'Типы товаров'!$B$2:$B$142)))","v":false},{"$f":"IF(D93,MAX(IF((A93='Типы товаров'!$A$2:$A$142)*(D93='Типы товаров'!$B$2:$B$142),'Типы товаров'!$C$2:$C$142)),MAX(IF((A93='Типы товаров'!$A$2:$A$142)*(E93='Типы товаров'!$B$2:$B$142),'Типы товаров'!$D$2:$D$142)))","v":13}]
[55200069,"03.09.2013",null,{"$f":"MAX(IF(('Типы товаров'!$B$2:$B$142<=IF(ISTEXT(B94),DATEVALUE(B94),B94))*('Типы товаров'!$A$2:$A$142=A94),'Типы товаров'!$B$2:$B$142))","v":"2013-09-02"},{"$f":"IF(D94=0,MIN(IF('Типы товаров'!$A$2:$A$142=A94,'Типы товаров'!$B$2:$B$142)))","v":false},{"$f":"IF(D94,MAX(IF((A94='Типы товаров'!$A$2:$A$142)*(D94='Типы товаров'!$B$2:$B$142),'Типы товаров'!$C$2:$C$142)),MAX(IF((A94='Типы товаров'!$A$2:$A$142)*(E94='Типы товаров'!$B$2:$B$142),'Типы товаров'!$D$2:$D$142)))","v":13}]
[55200069,"31.08.2013",null,{"$f":"MAX(IF(('Типы товаров'!$B$2:$B$142<=IF(ISTEXT(B95),DATEVALUE(B95),B95))*('Типы товаров'!$A$2:$A$142=A95),'Типы товаров'!$B$2:$B$142))","v":"00:00:00"},{"$f":"IF(D95=0,MIN(IF('Типы товаров'!$A$2:$A$142=A95,'Типы товаров'!$B$2:$B$142)))","v":"2013-09-02"},{"$f":"IF(D95,MAX(IF((A95='Типы товаров'!$A$2:$A$142)*(D95='Типы товаров'!$B$2:$B$142),'Типы товаров'!$C$2:$C$142)),MAX(IF((A95='Типы товаров'!$A$2:$A$142)*(E95='Типы товаров'!$B$2:$B$142),'Типы товаров'!$D$2:$D$142)))","v":2}]
[55200069,"20.08.2013",null,{"$f":"MAX(IF(('Типы товаров'!$B$2:$B$142<=IF(ISTEXT(B96),DATEVALUE(B96),B96))*('Типы товаров'!$A$2:$A$142=A96),'Типы товаров'!$B$2:$B$142))","v":"00:00:00"},{"$f":"IF(D96=0,MIN(IF('Типы товаров'!$A$2:$A$142=A96,'Типы товаров'!$B$2:$B$142)))","v":"2013-09-02"},{"$f":"IF(D96,MAX(IF((A96='Типы товаров'!$A$2:$A$142)*(D96='Типы товаров'!$B$2:$B$142),'Типы товаров'!$C$2:$C$142)),MAX(IF((A96='Типы товаров'!$A$2:$A$142)*(E96='Типы товаров'!$B$2:$B$142),'Типы товаров'!$D$2:$D$142)))","v":2}]
[55200069,"19.03.2013",null,{"$f":"MAX(IF(('Типы товаров'!$B$2:$B$142<=IF(ISTEXT(B97),DATEVALUE(B97),B97))*('Типы товаров'!$A$2:$A$142=A97),'Типы товаров'!$B$2:$B$142))","v":"00:00:00"},{"$f":"IF(D97=0,MIN(IF('Типы товаров'!$A$2:$A$142=A97,'Типы товаров'!$B$2:$B$142)))","v":"2013-09-02"},{"$f":"IF(D97,MAX(IF((A97='Типы товаров'!$A$2:$A$142)*(D97='Типы товаров'!$B$2:$B$142),'Типы товаров'!$C$2:$C$142)),MAX(IF((A97='Типы товаров'!$A$2:$A$142)*(E97='Типы товаров'!$B$2:$B$142),'Типы товаров'!$D$2:$D$142)))","v":2}]
[55200069,"11.03.2013",null,{"$f":"MAX(IF(('Типы товаров'!$B$2:$B$142<=IF(ISTEXT(B98),DATEVALUE(B98),B98))*('Типы товаров'!$A$2:$A$142=A98),'Типы товаров'!$B$2:$B$142))","v":"00:00:00"},{"$f":"IF(D98=0,MIN(IF('Типы товаров'!$A$2:$A$142=A98,'Типы товаров'!$B$2:$B$142)))","v":"2013-09-02"},{"$f":"IF(D98,MAX(IF((A98='Типы товаров'!$A$2:$A$142)*(D98='Типы товаров'!$B$2:$B$142),'Типы товаров'!$C$2:$C$142)),MAX(IF((A98='Типы товаров'!$A$2:$A$142)*(E98='Типы товаров'!$B$2:$B$142),'Типы товаров'!$D$2:$D$142)))","v":2}]
[55200069,"19.02.2013",null,{"$f":"MAX(IF(('Типы товаров'!$B$2:$B$142<=IF(ISTEXT(B99),DATEVALUE(B99),B99))*('Типы товаров'!$A$2:$A$142=A99),'Типы товаров'!$B$2:$B$142))","v":"00:00:00"},{"$f":"IF(D99=0,MIN(IF('Типы товаров'!$A$2:$A$142=A99,'Типы товаров'!$B$2:$B$142)))","v":"2013-09-02"},{"$f":"IF(D99,MAX(IF((A99='Типы товаров'!$A$2:$A$142)*(D99='Типы товаров'!$B$2:$B$142),'Типы товаров'!$C$2:$C$142)),MAX(IF((A99='Типы товаров'!$A$2:$A$142)*(E99='Типы товаров'!$B$2:$B$142),'Типы товаров'!$D$2:$D$142)))","v":2}]
[55200069,"16.01.2013",null,{"$f":"MAX(IF(('Типы товаров'!$B$2:$B$142<=IF(ISTEXT(B100),DATEVALUE(B100),B100))*('Типы товаров'!$A$2:$A$142=A100),'Типы товаров'!$B$2:$B$142))","v":"00:00:00"},{"$f":"IF(D100=0,MIN(IF('Типы товаров'!$A$2:$A$142=A100,'Типы товаров'!$B$2:$B$142)))","v":"2013-09-02"},{"$f":"IF(D100,MAX(IF((A100='Типы товаров'!$A$2:$A$142)*(D100='Типы товаров'!$B$2:$B$142),'Типы товаров'!$C$2:$C$142)),MAX(IF((A100='Типы товаров'!$A$2:$A$142)*(E100='Типы товаров'!$B$2:$B$142),'Типы товаров'!$D$2:$D$142)))","v":2}]
[56000003,"2014-02-10",null,{"$f":"MAX(IF(('Типы товаров'!$B$2:$B$142<=IF(ISTEXT(B101),DATEVALUE(B101),B101))*('Типы товаров'!$A$2:$A$142=A101),'Типы товаров'!$B$2:$B$142))","v":"00:00:00"},{"$f":"IF(D101=0,MIN(IF('Типы товаров'!$A$2:$A$142=A101,'Типы товаров'!$B$2:$B$142)))","v":"2014-02-13"},{"$f":"IF(D101,MAX(IF((A101='Типы товаров'!$A$2:$A$142)*(D101='Типы товаров'!$B$2:$B$142),'Типы товаров'!$C$2:$C$142)),MAX(IF((A101='Типы товаров'!$A$2:$A$142)*(E101='Типы товаров'!$B$2:$B$142),'Типы товаров'!$D$2:$D$142)))","v":4}]
[56000003,"20.08.2013",null,{"$f":"MAX(IF(('Типы товаров'!$B$2:$B$142<=IF(ISTEXT(B102),DATEVALUE(B102),B102))*('Типы товаров'!$A$2:$A$142=A102),'Типы товаров'!$B$2:$B$142))","v":"00:00:00"},{"$f":"IF(D102=0,MIN(IF('Типы товаров'!$A$2:$A$142=A102,'Типы товаров'!$B$2:$B$142)))","v":"2014-02-13"},{"$f":"IF(D102,MAX(IF((A102='Типы товаров'!$A$2:$A$142)*(D102='Типы товаров'!$B$2:$B$142),'Типы товаров'!$C$2:$C$142)),MAX(IF((A102='Типы товаров'!$A$2:$A$142)*(E102='Типы товаров'!$B$2:$B$142),'Типы товаров'!$D$2:$D$142)))","v":4}]
[56000003,"21.03.2013",null,{"$f":"MAX(IF(('Типы товаров'!$B$2:$B$142<=IF(ISTEXT(B103),DATEVALUE(B103),B103))*('Типы товаров'!$A$2:$A$142=A103),'Типы товаров'!$B$2:$B$142))","v":"00:00:00"},{"$f":"IF(D103=0,MIN(IF('Типы товаров'!$A$2:$A$142=A103,'Типы товаров'!$B$2:$B$142)))","v":"2014-02-13"},{"$f":"IF(D103,MAX(IF((A103='Типы товаров'!$A$2:$A$142)*(D103='Типы товаров'!$B$2:$B$142),'Типы товаров'!$C$2:$C$142)),MAX(IF((A103='Типы товаров'!$A$2:$A$142)*(E103='Типы товаров'!$B$2:$B$142),'Типы товаров'!$D$2:$D$142)))","v":4}]
[56000003,"14.03.2013",null,{"$f":"MAX(IF(('Типы товаров'!$B$2:$B$142<=IF(ISTEXT(B104),DATEVALUE(B104),B104))*('Типы товаров'!$A$2:$A$142=A104),'Типы товаров'!$B$2:$B$142))","v":"00:00:00"},{"$f":"IF(D104=0,MIN(IF('Типы товаров'!$A$2:$A$142=A104,'Типы товаров'!$B$2:$B$142)))","v":"2014-02-13"},{"$f":"IF(D104,MAX(IF((A104='Типы товаров'!$A$2:$A$142)*(D104='Типы товаров'!$B$2:$B$142),'Типы товаров'!$C$2:$C$142)),MAX(IF((A104='Типы товаров'!$A$2:$A$142)*(E104='Типы товаров'!$B$2:$B$142),'Типы товаров'!$D$2:$D$142)))","v":4}]

{"sheet":"Типы товаров","index":1,"n_rows":142,"n_cols":4,"rows_kept":142,"cut":false,"hidden":false,"merged":[]}
["нн","Дата","Новый тип","Старый тип"]
[16001222,"2014-04-22",7,4]
[16001222,"2010-07-21",4,7]
[16001338,"2014-04-16",2,4]
[16001338,"2010-04-14",4,7]
[39400050,"2009-12-21",14,13]
[39400050,"2010-01-26",4,14]
[39400050,"2010-10-05",7,2]
[39400050,"2010-03-15",2,4]
[39400050,"2011-03-04",4,7]
[41000072,"2010-03-23",2,4]
[41000130,"2010-06-10",4,2]
[41000146,"2010-05-18",4,2]
[41000147,"2010-05-18",7,4]
[43503139,"2012-08-27",4,2]
[43503139,"2013-03-25",13,4]
[45300525,"2009-12-24",14,13]
[45300525,"2010-07-22",4,14]
[45300527,"2013-12-05",14,13]
[45300527,"2013-07-26",13,4]
[46500146,"2014-04-09",4,2]
[47110067,"2012-10-17",14,13]
[47110067,"2011-10-11",13,2]
[47110067,"2010-02-19",4]
[47110067,"2010-03-26",7,4]
[47110067,"2010-08-12",2,7]
[47110090,"2010-05-28",14,13]
[47110090,"2010-07-14",2,14]
[47110090,"2013-01-23",13,2]
[47110090,"2009-12-24",4]
[47110090,"2010-01-18",13,4]
[47110127,"2010-12-06",2,10]
[47110127,"2013-11-12",14,13]
[47110127,"2012-07-20",2]
[47110127,"2012-04-03",13,2]
[47110127,"2010-09-28",10]
[47110139,"2010-12-06",4,10]
[47110139,"2014-04-11",14,13]
[47110139,"2013-07-15",4]
[47110139,"2013-01-21",13,4]
[47110139,"2010-09-23",10]
[47210050,"2014-02-20",14,13]
[47210050,"2010-07-15",4]
[47210050,"2009-12-24",13,4]
[47310028,"2013-04-02",2,13]
[47310028,"2011-03-01",4]
[47310028,"2010-03-04",13,2]
[47310028,"2011-07-11",13,4]
[47420062,"2011-02-24",2,10]
[47420062,"2010-11-03",10,2]
[47420062,"2012-07-12",13]
[47420063,"2011-01-24",2,10]
[47420063,"2010-11-03",10,2]
[47420063,"2013-08-13",13]
[47420063,"2011-01-24",2,10]
[47420063,"2013-09-25",14,13]
[47420063,"2010-11-03",10,2]
[47420063,"2011-08-02",13]
[47610012,"2013-05-29",14,13]
[47610012,"2013-01-15",13,2]
[47610013,"2013-08-14",14,13]
[47610013,"2013-01-21",13,2]
[47610020,"2014-01-21",13,2]
[48110027,"2013-09-30",7,2]
[48110027,"2014-03-04",13,7]
[48330158,"2013-06-24",99,10]
[48330158,"2011-04-04",2,14]
[48330158,"2012-10-02",4,2]
[48330158,"2012-12-18",7,4]
[48330158,"2013-06-05",10,7]
[48330158,"2013-12-02",13,99]
[49000202,"2014-04-25",14,13]
[49000202,"2013-06-25",99,4]
[49000202,"2013-11-01",13,99]
[49000208,"2011-07-06",14,13]
[49000208,"2011-07-13",7,14]
[49000208,"2011-05-16",13,7]
[49000208,"2013-06-25",99]
[49000208,"2013-11-01",13,99]
[49100086,"2013-12-19",14,13]
[49100086,"2013-04-15",13,2]
[49100153,"2010-11-02",2,14]
[49200003,"2013-01-28",4,2]
[49200003,"2013-06-24",99,4]
[49200003,"2013-10-31",7,99]
[49200010,"2013-06-25",99,2]
[49200010,"2014-04-14",2,4]
[49200010,"2013-10-31",4,99]
[49200014,"2013-06-25",99,4]
[49200014,"2014-02-18",13,99]
[49200026,"2013-06-25",99,2]
[49200026,"2014-04-14",2,4]
[49200026,"2013-10-31",4,99]
[49300013,"2012-11-13",99,7]
[50040003,"2013-10-08",99,14]
[50220112,"2012-07-23",99,13]
[50220112,"2011-09-30",7,2]
[50220112,"2010-10-10",2,4]
[50220112,"2012-02-08",13,7]
[51300028,"2013-09-25",14,13]
[51300028,"2013-01-28",13,2]
[54000005,"2011-09-28",4,10]
[54000005,"2012-05-28",7]
[54000005,"2011-05-16",10,2]
[54000005,"2012-04-28",10,4]
[54000005,"2010-11-19",2]
[54000005,"2010-10-26",4,7]
[54000005,"2011-04-22",4]
[54000006,"2012-05-28",4,10]
[54000006,"2009-12-24",14,13]
[54000006,"2010-01-17",4]
[54000006,"2010-01-17",4,14]
[54000006,"2012-04-28",10,2]
[54000006,"2014-04-08",4]
[54000006,"2010-10-08",2,4]
[54120035,"2013-10-23",14,13]
[54120035,"2010-03-04",7,4]
[54120035,"2013-01-17",99,7]
[54120035,"2013-04-10",13,99]
[54120038,"2013-01-17",4,2]
[54120038,"2013-07-22",7,4]
[54120038,"2013-11-07",99,7]
[54120038,"2014-03-14",13,99]
[54120081,"2013-08-07",99,14]
[54120087,"2010-05-11",2,10]
[54120087,"2010-05-06",10,13]
[54120087,"2011-08-29",14]
[54120087,"2012-10-22",2,14]
[54120087,"2010-01-31",13,2]
[54120087,"2014-04-25",4]
[54120093,"2010-05-06",4,2]
[54120093,"2013-01-28",2,4]
[54120130,"2010-03-04",2,4]
[54120138,"2011-08-22",2,13]
[54120138,"2011-08-18",13,4]
[55105322,"2014-02-12",14,13]
[55105322,"2013-07-22",13,2]
[55200069,"2014-04-04",14,13]
[55200069,"2013-09-02",13,2]
[55200094,"2010-03-22",2,4]
[55200097,"2010-11-12",4,2]
[56000003,"2014-02-13",2,4]

{"sheet":"Лист3","index":2,"n_rows":0,"n_cols":0,"rows_kept":0,"cut":false,"hidden":false,"merged":[]}