{"text_format":"1","workbook":"xlsx","n_sheets":2,"sheets":["2014-2015","admin"],"not_rendered":{"charts":0,"images":0,"macros":1,"external_links":0,"defined_names":1,"comments":1,"pivot_tables":0},"unopened":[],"bounds":{"document_bytes":16777216,"sheet_cells":100000,"rows_first":2000,"rows_last":500,"rows_between":2000,"halvings":0,"cell_chars":16384,"cell_head_chars":4096},"cells_cut":0,"cells_raw":0,"read":"whole","date_system":"1900"}

{"sheet":"2014-2015","index":0,"n_rows":37,"n_cols":28,"rows_kept":37,"cut":false,"hidden":false,"merged":[[1,0,3,0],[1,20,1,27],[2,20,2,23],[2,24,2,27],[2,1,2,3],[1,1,1,2],[1,12,1,19],[2,12,2,15],[2,16,2,19],[0,1,0,2],[0,4,0,11],[2,4,2,7],[2,8,2,11],[1,4,1,11]]}
["Choose language","Russian"]
[{"$f":"admin!B4","v":"Наименование с/х культуры"},null,null,null,{"$f":"admin!$B$46","v":"[Наименование предприятия/или ФИО заемщика]"},null,null,null,null,null,null,null,{"$f":"admin!$B$46","v":"[Наименование предприятия/или ФИО заемщика]"},null,null,null,null,null,null,null,{"$f":"admin!$B$46","v":"[Наименование предприятия/или ФИО заемщика]"}]
[null,"平均值计算",null,null,{"$f":"admin!$B$47","v":"ПЛАН"},null,null,null,{"$f":"admin!$B$48","v":"ФАКТ"},null,null,null,{"$f":"admin!$B$47","v":"ПЛАН"},null,null,null,{"$f":"admin!$B$48","v":"ФАКТ"},null,null,null,{"$f":"admin!$B$47","v":"ПЛАН"},null,null,null,{"$f":"admin!$B$48","v":"ФАКТ"}]
[null,{"$f":"F4","v":"урожайность с 1 му"},{"$f":"G4","v":"цена за 1 т"},{"$f":"admin!B52","v":"Себестоимость 1 му"},{"$f":"admin!$B$49","v":"му"},{"$f":"admin!$B$50","v":"урожайность с 1 му"},{"$f":"admin!$B$51","v":"цена за 1 т"},{"$f":"admin!$B$52","v":"Себестоимость 1 му"},{"$f":"admin!$B$49","v":"му"},{"$f":"admin!$B$50","v":"урожайность с 1 му"},{"$f":"admin!$B$51","v":"цена за 1 т"},{"$f":"admin!$B$52","v":"Себестоимость 1 му"},{"$f":"admin!$B$49","v":"му"},{"$f":"admin!$B$50","v":"урожайность с 1 му"},{"$f":"admin!$B$51","v":"цена за 1 т"},{"$f":"admin!$B$52","v":"Себестоимость 1 му"},{"$f":"admin!$B$49","v":"му"},{"$f":"admin!$B$50","v":"урожайность с 1 му"},{"$f":"admin!$B$51","v":"цена за 1 т"},{"$f":"admin!$B$52","v":"Себестоимость 1 му"},{"$f":"admin!$B$49","v":"му"},{"$f":"admin!$B$50","v":"урожайность с 1 му"},{"$f":"admin!$B$51","v":"цена за 1 т"},{"$f":"admin!$B$52","v":"Себестоимость 1 му"},{"$f":"admin!$B$49","v":"му"},{"$f":"admin!$B$50","v":"урожайность с 1 му"},{"$f":"admin!$B$51","v":"цена за 1 т"},{"$f":"admin!$B$52","v":"Себестоимость 1 му"}]
[{"$f":"admin!B32","v":"Баклажан"},{"$f":"SUM(SUBTOTAL(9,OFFSET($J5,,8*(ROW(INDIRECT(\"$1:$\"&COUNTA($2:$2)))-1))))/MAX(1,SUM(SUBTOTAL(3,OFFSET($J5,,8*(ROW(INDIRECT(\"$1:$\"&COUNTA($2:$2)))-1)))))","v":0},{"$f":"SUM(SUBTOTAL(9,OFFSET($K5,,8*(ROW(INDIRECT(\"$1:$\"&COUNTA($2:$2)))-1))))/MAX(1,SUM(SUBTOTAL(3,OFFSET($K5,,8*(ROW(INDIRECT(\"$1:$\"&COUNTA($2:$2)))-1)))))","v":0},{"$f":"SUM(SUBTOTAL(9,OFFSET($L5,,8*(ROW(INDIRECT(\"$1:$\"&COUNTA($2:$2)))-1))))/MAX(1,SUM(SUBTOTAL(3,OFFSET($L5,,8*(ROW(INDIRECT(\"$1:$\"&COUNTA($2:$2)))-1)))))","v":0}]
[{"$f":"admin!B38","v":"Кабачки"},{"$f":"SUM(SUBTOTAL(9,OFFSET($J6,,8*(ROW(INDIRECT(\"$1:$\"&COUNTA($2:$2)))-1))))/MAX(1,SUM(SUBTOTAL(3,OFFSET($J6,,8*(ROW(INDIRECT(\"$1:$\"&COUNTA($2:$2)))-1)))))","v":0},{"$f":"SUM(SUBTOTAL(9,OFFSET($G6,,8*(ROW(INDIRECT(\"$1:$\"&COUNTA($2:$2)))-1))))/MAX(1,SUM(SUBTOTAL(3,OFFSET($G6,,8*(ROW(INDIRECT(\"$1:$\"&COUNTA($2:$2)))-1)))))","v":0},{"$f":"SUM(SUBTOTAL(9,OFFSET($L6,,8*(ROW(INDIRECT(\"$1:$\"&COUNTA($2:$2)))-1))))/MAX(1,SUM(SUBTOTAL(3,OFFSET($L6,,8*(ROW(INDIRECT(\"$1:$\"&COUNTA($2:$2)))-1)))))","v":0}]
[{"$f":"admin!B26","v":"Капуста"},{"$f":"SUM(SUBTOTAL(9,OFFSET($J7,,8*(ROW(INDIRECT(\"$1:$\"&COUNTA($2:$2)))-1))))/MAX(1,SUM(SUBTOTAL(3,OFFSET($J7,,8*(ROW(INDIRECT(\"$1:$\"&COUNTA($2:$2)))-1)))))","v":0},{"$f":"SUM(SUBTOTAL(9,OFFSET($G7,,8*(ROW(INDIRECT(\"$1:$\"&COUNTA($2:$2)))-1))))/MAX(1,SUM(SUBTOTAL(3,OFFSET($G7,,8*(ROW(INDIRECT(\"$1:$\"&COUNTA($2:$2)))-1)))))","v":0},{"$f":"SUM(SUBTOTAL(9,OFFSET($L7,,8*(ROW(INDIRECT(\"$1:$\"&COUNTA($2:$2)))-1))))/MAX(1,SUM(SUBTOTAL(3,OFFSET($L7,,8*(ROW(INDIRECT(\"$1:$\"&COUNTA($2:$2)))-1)))))","v":0}]
[{"$f":"admin!B5","v":"Кукуруза"},{"$f":"SUM(SUBTOTAL(9,OFFSET($J8,,8*(ROW(INDIRECT(\"$1:$\"&COUNTA($2:$2)))-1))))/MAX(1,SUM(SUBTOTAL(3,OFFSET($J8,,8*(ROW(INDIRECT(\"$1:$\"&COUNTA($2:$2)))-1)))))","v":0},{"$f":"SUM(SUBTOTAL(9,OFFSET($G8,,8*(ROW(INDIRECT(\"$1:$\"&COUNTA($2:$2)))-1))))/MAX(1,SUM(SUBTOTAL(3,OFFSET($G8,,8*(ROW(INDIRECT(\"$1:$\"&COUNTA($2:$2)))-1)))))","v":0},{"$f":"SUM(SUBTOTAL(9,OFFSET($L8,,8*(ROW(INDIRECT(\"$1:$\"&COUNTA($2:$2)))-1))))/MAX(1,SUM(SUBTOTAL(3,OFFSET($L8,,8*(ROW(INDIRECT(\"$1:$\"&COUNTA($2:$2)))-1)))))","v":0}]
[{"$f":"admin!B33","v":"Лук"},{"$f":"SUM(SUBTOTAL(9,OFFSET($J9,,8*(ROW(INDIRECT(\"$1:$\"&COUNTA($2:$2)))-1))))/MAX(1,SUM(SUBTOTAL(3,OFFSET($J9,,8*(ROW(INDIRECT(\"$1:$\"&COUNTA($2:$2)))-1)))))","v":0},{"$f":"SUM(SUBTOTAL(9,OFFSET($G9,,8*(ROW(INDIRECT(\"$1:$\"&COUNTA($2:$2)))-1))))/MAX(1,SUM(SUBTOTAL(3,OFFSET($G9,,8*(ROW(INDIRECT(\"$1:$\"&COUNTA($2:$2)))-1)))))","v":0},{"$f":"SUM(SUBTOTAL(9,OFFSET($L9,,8*(ROW(INDIRECT(\"$1:$\"&COUNTA($2:$2)))-1))))/MAX(1,SUM(SUBTOTAL(3,OFFSET($L9,,8*(ROW(INDIRECT(\"$1:$\"&COUNTA($2:$2)))-1)))))","v":0}]
[{"$f":"admin!B27","v":"Огурцы"},{"$f":"SUM(SUBTOTAL(9,OFFSET($J10,,8*(ROW(INDIRECT(\"$1:$\"&COUNTA($2:$2)))-1))))/MAX(1,SUM(SUBTOTAL(3,OFFSET($J10,,8*(ROW(INDIRECT(\"$1:$\"&COUNTA($2:$2)))-1)))))","v":0},{"$f":"SUM(SUBTOTAL(9,OFFSET($G10,,8*(ROW(INDIRECT(\"$1:$\"&COUNTA($2:$2)))-1))))/MAX(1,SUM(SUBTOTAL(3,OFFSET($G10,,8*(ROW(INDIRECT(\"$1:$\"&COUNTA($2:$2)))-1)))))","v":0},{"$f":"SUM(SUBTOTAL(9,OFFSET($L10,,8*(ROW(INDIRECT(\"$1:$\"&COUNTA($2:$2)))-1))))/MAX(1,SUM(SUBTOTAL(3,OFFSET($L10,,8*(ROW(INDIRECT(\"$1:$\"&COUNTA($2:$2)))-1)))))","v":0}]
[{"$f":"admin!B31","v":"Перец"},{"$f":"SUM(SUBTOTAL(9,OFFSET($J11,,8*(ROW(INDIRECT(\"$1:$\"&COUNTA($2:$2)))-1))))/MAX(1,SUM(SUBTOTAL(3,OFFSET($J11,,8*(ROW(INDIRECT(\"$1:$\"&COUNTA($2:$2)))-1)))))","v":0},{"$f":"SUM(SUBTOTAL(9,OFFSET($G11,,8*(ROW(INDIRECT(\"$1:$\"&COUNTA($2:$2)))-1))))/MAX(1,SUM(SUBTOTAL(3,OFFSET($G11,,8*(ROW(INDIRECT(\"$1:$\"&COUNTA($2:$2)))-1)))))","v":0},{"$f":"SUM(SUBTOTAL(9,OFFSET($L11,,8*(ROW(INDIRECT(\"$1:$\"&COUNTA($2:$2)))-1))))/MAX(1,SUM(SUBTOTAL(3,OFFSET($L11,,8*(ROW(INDIRECT(\"$1:$\"&COUNTA($2:$2)))-1)))))","v":0}]
[{"$f":"admin!B6","v":"Сладкая кукуруза"},{"$f":"SUM(SUBTOTAL(9,OFFSET($J12,,8*(ROW(INDIRECT(\"$1:$\"&COUNTA($2:$2)))-1))))/MAX(1,SUM(SUBTOTAL(3,OFFSET($J12,,8*(ROW(INDIRECT(\"$1:$\"&COUNTA($2:$2)))-1)))))","v":0},{"$f":"SUM(SUBTOTAL(9,OFFSET($G12,,8*(ROW(INDIRECT(\"$1:$\"&COUNTA($2:$2)))-1))))/MAX(1,SUM(SUBTOTAL(3,OFFSET($G12,,8*(ROW(INDIRECT(\"$1:$\"&COUNTA($2:$2)))-1)))))","v":0},{"$f":"SUM(SUBTOTAL(9,OFFSET($L12,,8*(ROW(INDIRECT(\"$1:$\"&COUNTA($2:$2)))-1))))/MAX(1,SUM(SUBTOTAL(3,OFFSET($L12,,8*(ROW(INDIRECT(\"$1:$\"&COUNTA($2:$2)))-1)))))","v":0}]
[{"$f":"admin!B7","v":"Сорго"},{"$f":"SUM(SUBTOTAL(9,OFFSET($J13,,8*(ROW(INDIRECT(\"$1:$\"&COUNTA($2:$2)))-1))))/MAX(1,SUM(SUBTOTAL(3,OFFSET($J13,,8*(ROW(INDIRECT(\"$1:$\"&COUNTA($2:$2)))-1)))))","v":0},{"$f":"SUM(SUBTOTAL(9,OFFSET($G13,,8*(ROW(INDIRECT(\"$1:$\"&COUNTA($2:$2)))-1))))/MAX(1,SUM(SUBTOTAL(3,OFFSET($G13,,8*(ROW(INDIRECT(\"$1:$\"&COUNTA($2:$2)))-1)))))","v":0},{"$f":"SUM(SUBTOTAL(9,OFFSET($L13,,8*(ROW(INDIRECT(\"$1:$\"&COUNTA($2:$2)))-1))))/MAX(1,SUM(SUBTOTAL(3,OFFSET($L13,,8*(ROW(INDIRECT(\"$1:$\"&COUNTA($2:$2)))-1)))))","v":0}]
[{"$f":"admin!B18","v":"Соя"},{"$f":"SUM(SUBTOTAL(9,OFFSET($J14,,8*(ROW(INDIRECT(\"$1:$\"&COUNTA($2:$2)))-1))))/MAX(1,SUM(SUBTOTAL(3,OFFSET($J14,,8*(ROW(INDIRECT(\"$1:$\"&COUNTA($2:$2)))-1)))))","v":0},{"$f":"SUM(SUBTOTAL(9,OFFSET($G14,,8*(ROW(INDIRECT(\"$1:$\"&COUNTA($2:$2)))-1))))/MAX(1,SUM(SUBTOTAL(3,OFFSET($G14,,8*(ROW(INDIRECT(\"$1:$\"&COUNTA($2:$2)))-1)))))","v":0},{"$f":"SUM(SUBTOTAL(9,OFFSET($L14,,8*(ROW(INDIRECT(\"$1:$\"&COUNTA($2:$2)))-1))))/MAX(1,SUM(SUBTOTAL(3,OFFSET($L14,,8*(ROW(INDIRECT(\"$1:$\"&COUNTA($2:$2)))-1)))))","v":0}]
[{"$f":"admin!B24","v":"Томаты"},{"$f":"SUM(SUBTOTAL(9,OFFSET($J15,,8*(ROW(INDIRECT(\"$1:$\"&COUNTA($2:$2)))-1))))/MAX(1,SUM(SUBTOTAL(3,OFFSET($J15,,8*(ROW(INDIRECT(\"$1:$\"&COUNTA($2:$2)))-1)))))","v":0},{"$f":"SUM(SUBTOTAL(9,OFFSET($G15,,8*(ROW(INDIRECT(\"$1:$\"&COUNTA($2:$2)))-1))))/MAX(1,SUM(SUBTOTAL(3,OFFSET($G15,,8*(ROW(INDIRECT(\"$1:$\"&COUNTA($2:$2)))-1)))))","v":0},{"$f":"SUM(SUBTOTAL(9,OFFSET($L15,,8*(ROW(INDIRECT(\"$1:$\"&COUNTA($2:$2)))-1))))/MAX(1,SUM(SUBTOTAL(3,OFFSET($L15,,8*(ROW(INDIRECT(\"$1:$\"&COUNTA($2:$2)))-1)))))","v":0}]
[{"$f":"admin!B35","v":"Арбуз"},{"$f":"SUM(SUBTOTAL(9,OFFSET($J16,,8*(ROW(INDIRECT(\"$1:$\"&COUNTA($2:$2)))-1))))/MAX(1,SUM(SUBTOTAL(3,OFFSET($J16,,8*(ROW(INDIRECT(\"$1:$\"&COUNTA($2:$2)))-1)))))","v":0},{"$f":"SUM(SUBTOTAL(9,OFFSET($G16,,8*(ROW(INDIRECT(\"$1:$\"&COUNTA($2:$2)))-1))))/MAX(1,SUM(SUBTOTAL(3,OFFSET($G16,,8*(ROW(INDIRECT(\"$1:$\"&COUNTA($2:$2)))-1)))))","v":0},{"$f":"SUM(SUBTOTAL(9,OFFSET($L16,,8*(ROW(INDIRECT(\"$1:$\"&COUNTA($2:$2)))-1))))/MAX(1,SUM(SUBTOTAL(3,OFFSET($L16,,8*(ROW(INDIRECT(\"$1:$\"&COUNTA($2:$2)))-1)))))","v":0}]
[{"$f":"admin!B36","v":"Дыня"},{"$f":"SUM(SUBTOTAL(9,OFFSET($J17,,8*(ROW(INDIRECT(\"$1:$\"&COUNTA($2:$2)))-1))))/MAX(1,SUM(SUBTOTAL(3,OFFSET($J17,,8*(ROW(INDIRECT(\"$1:$\"&COUNTA($2:$2)))-1)))))","v":0},{"$f":"SUM(SUBTOTAL(9,OFFSET($G17,,8*(ROW(INDIRECT(\"$1:$\"&COUNTA($2:$2)))-1))))/MAX(1,SUM(SUBTOTAL(3,OFFSET($G17,,8*(ROW(INDIRECT(\"$1:$\"&COUNTA($2:$2)))-1)))))","v":0},{"$f":"SUM(SUBTOTAL(9,OFFSET($L17,,8*(ROW(INDIRECT(\"$1:$\"&COUNTA($2:$2)))-1))))/MAX(1,SUM(SUBTOTAL(3,OFFSET($L17,,8*(ROW(INDIRECT(\"$1:$\"&COUNTA($2:$2)))-1)))))","v":0}]
[{"$f":"admin!B30","v":"Картофель"},{"$f":"SUM(SUBTOTAL(9,OFFSET($J18,,8*(ROW(INDIRECT(\"$1:$\"&COUNTA($2:$2)))-1))))/MAX(1,SUM(SUBTOTAL(3,OFFSET($J18,,8*(ROW(INDIRECT(\"$1:$\"&COUNTA($2:$2)))-1)))))","v":0},{"$f":"SUM(SUBTOTAL(9,OFFSET($G18,,8*(ROW(INDIRECT(\"$1:$\"&COUNTA($2:$2)))-1))))/MAX(1,SUM(SUBTOTAL(3,OFFSET($G18,,8*(ROW(INDIRECT(\"$1:$\"&COUNTA($2:$2)))-1)))))","v":0},{"$f":"SUM(SUBTOTAL(9,OFFSET($L18,,8*(ROW(INDIRECT(\"$1:$\"&COUNTA($2:$2)))-1))))/MAX(1,SUM(SUBTOTAL(3,OFFSET($L18,,8*(ROW(INDIRECT(\"$1:$\"&COUNTA($2:$2)))-1)))))","v":0}]
[{"$f":"admin!B22","v":"Люцерна"},{"$f":"SUM(SUBTOTAL(9,OFFSET($J19,,8*(ROW(INDIRECT(\"$1:$\"&COUNTA($2:$2)))-1))))/MAX(1,SUM(SUBTOTAL(3,OFFSET($J19,,8*(ROW(INDIRECT(\"$1:$\"&COUNTA($2:$2)))-1)))))","v":0},{"$f":"SUM(SUBTOTAL(9,OFFSET($G19,,8*(ROW(INDIRECT(\"$1:$\"&COUNTA($2:$2)))-1))))/MAX(1,SUM(SUBTOTAL(3,OFFSET($G19,,8*(ROW(INDIRECT(\"$1:$\"&COUNTA($2:$2)))-1)))))","v":0},{"$f":"SUM(SUBTOTAL(9,OFFSET($L19,,8*(ROW(INDIRECT(\"$1:$\"&COUNTA($2:$2)))-1))))/MAX(1,SUM(SUBTOTAL(3,OFFSET($L19,,8*(ROW(INDIRECT(\"$1:$\"&COUNTA($2:$2)))-1)))))","v":0}]
[{"$f":"admin!B25","v":"Морковь"},{"$f":"SUM(SUBTOTAL(9,OFFSET($J20,,8*(ROW(INDIRECT(\"$1:$\"&COUNTA($2:$2)))-1))))/MAX(1,SUM(SUBTOTAL(3,OFFSET($J20,,8*(ROW(INDIRECT(\"$1:$\"&COUNTA($2:$2)))-1)))))","v":0},{"$f":"SUM(SUBTOTAL(9,OFFSET($G20,,8*(ROW(INDIRECT(\"$1:$\"&COUNTA($2:$2)))-1))))/MAX(1,SUM(SUBTOTAL(3,OFFSET($G20,,8*(ROW(INDIRECT(\"$1:$\"&COUNTA($2:$2)))-1)))))","v":0},{"$f":"SUM(SUBTOTAL(9,OFFSET($L20,,8*(ROW(INDIRECT(\"$1:$\"&COUNTA($2:$2)))-1))))/MAX(1,SUM(SUBTOTAL(3,OFFSET($L20,,8*(ROW(INDIRECT(\"$1:$\"&COUNTA($2:$2)))-1)))))","v":0}]
[{"$f":"admin!B13","v":"Озимая пшеница"},{"$f":"SUM(SUBTOTAL(9,OFFSET($J21,,8*(ROW(INDIRECT(\"$1:$\"&COUNTA($2:$2)))-1))))/MAX(1,SUM(SUBTOTAL(3,OFFSET($J21,,8*(ROW(INDIRECT(\"$1:$\"&COUNTA($2:$2)))-1)))))","v":0},{"$f":"SUM(SUBTOTAL(9,OFFSET($G21,,8*(ROW(INDIRECT(\"$1:$\"&COUNTA($2:$2)))-1))))/MAX(1,SUM(SUBTOTAL(3,OFFSET($G21,,8*(ROW(INDIRECT(\"$1:$\"&COUNTA($2:$2)))-1)))))","v":0},{"$f":"SUM(SUBTOTAL(9,OFFSET($L21,,8*(ROW(INDIRECT(\"$1:$\"&COUNTA($2:$2)))-1))))/MAX(1,SUM(SUBTOTAL(3,OFFSET($L21,,8*(ROW(INDIRECT(\"$1:$\"&COUNTA($2:$2)))-1)))))","v":0}]
[{"$f":"admin!B16","v":"Просо"},{"$f":"SUM(SUBTOTAL(9,OFFSET($J22,,8*(ROW(INDIRECT(\"$1:$\"&COUNTA($2:$2)))-1))))/MAX(1,SUM(SUBTOTAL(3,OFFSET($J22,,8*(ROW(INDIRECT(\"$1:$\"&COUNTA($2:$2)))-1)))))","v":0},{"$f":"SUM(SUBTOTAL(9,OFFSET($G22,,8*(ROW(INDIRECT(\"$1:$\"&COUNTA($2:$2)))-1))))/MAX(1,SUM(SUBTOTAL(3,OFFSET($G22,,8*(ROW(INDIRECT(\"$1:$\"&COUNTA($2:$2)))-1)))))","v":0},{"$f":"SUM(SUBTOTAL(9,OFFSET($L22,,8*(ROW(INDIRECT(\"$1:$\"&COUNTA($2:$2)))-1))))/MAX(1,SUM(SUBTOTAL(3,OFFSET($L22,,8*(ROW(INDIRECT(\"$1:$\"&COUNTA($2:$2)))-1)))))","v":0}]
[{"$f":"admin!B37","v":"Тыква"},{"$f":"SUM(SUBTOTAL(9,OFFSET($J23,,8*(ROW(INDIRECT(\"$1:$\"&COUNTA($2:$2)))-1))))/MAX(1,SUM(SUBTOTAL(3,OFFSET($J23,,8*(ROW(INDIRECT(\"$1:$\"&COUNTA($2:$2)))-1)))))","v":0},{"$f":"SUM(SUBTOTAL(9,OFFSET($G23,,8*(ROW(INDIRECT(\"$1:$\"&COUNTA($2:$2)))-1))))/MAX(1,SUM(SUBTOTAL(3,OFFSET($G23,,8*(ROW(INDIRECT(\"$1:$\"&COUNTA($2:$2)))-1)))))","v":0},{"$f":"SUM(SUBTOTAL(9,OFFSET($L23,,8*(ROW(INDIRECT(\"$1:$\"&COUNTA($2:$2)))-1))))/MAX(1,SUM(SUBTOTAL(3,OFFSET($L23,,8*(ROW(INDIRECT(\"$1:$\"&COUNTA($2:$2)))-1)))))","v":0}]
[{"$f":"admin!B19","v":"Горох"},{"$f":"SUM(SUBTOTAL(9,OFFSET($J24,,8*(ROW(INDIRECT(\"$1:$\"&COUNTA($2:$2)))-1))))/MAX(1,SUM(SUBTOTAL(3,OFFSET($J24,,8*(ROW(INDIRECT(\"$1:$\"&COUNTA($2:$2)))-1)))))","v":0},{"$f":"SUM(SUBTOTAL(9,OFFSET($G24,,8*(ROW(INDIRECT(\"$1:$\"&COUNTA($2:$2)))-1))))/MAX(1,SUM(SUBTOTAL(3,OFFSET($G24,,8*(ROW(INDIRECT(\"$1:$\"&COUNTA($2:$2)))-1)))))","v":0},{"$f":"SUM(SUBTOTAL(9,OFFSET($L24,,8*(ROW(INDIRECT(\"$1:$\"&COUNTA($2:$2)))-1))))/MAX(1,SUM(SUBTOTAL(3,OFFSET($L24,,8*(ROW(INDIRECT(\"$1:$\"&COUNTA($2:$2)))-1)))))","v":0}]
[{"$f":"admin!B20","v":"Гречиха"},{"$f":"SUM(SUBTOTAL(9,OFFSET($J25,,8*(ROW(INDIRECT(\"$1:$\"&COUNTA($2:$2)))-1))))/MAX(1,SUM(SUBTOTAL(3,OFFSET($J25,,8*(ROW(INDIRECT(\"$1:$\"&COUNTA($2:$2)))-1)))))","v":0},{"$f":"SUM(SUBTOTAL(9,OFFSET($G25,,8*(ROW(INDIRECT(\"$1:$\"&COUNTA($2:$2)))-1))))/MAX(1,SUM(SUBTOTAL(3,OFFSET($G25,,8*(ROW(INDIRECT(\"$1:$\"&COUNTA($2:$2)))-1)))))","v":0},{"$f":"SUM(SUBTOTAL(9,OFFSET($L25,,8*(ROW(INDIRECT(\"$1:$\"&COUNTA($2:$2)))-1))))/MAX(1,SUM(SUBTOTAL(3,OFFSET($L25,,8*(ROW(INDIRECT(\"$1:$\"&COUNTA($2:$2)))-1)))))","v":0}]
[{"$f":"admin!B21","v":"Нут"},{"$f":"SUM(SUBTOTAL(9,OFFSET($J26,,8*(ROW(INDIRECT(\"$1:$\"&COUNTA($2:$2)))-1))))/MAX(1,SUM(SUBTOTAL(3,OFFSET($J26,,8*(ROW(INDIRECT(\"$1:$\"&COUNTA($2:$2)))-1)))))","v":0},{"$f":"SUM(SUBTOTAL(9,OFFSET($G26,,8*(ROW(INDIRECT(\"$1:$\"&COUNTA($2:$2)))-1))))/MAX(1,SUM(SUBTOTAL(3,OFFSET($G26,,8*(ROW(INDIRECT(\"$1:$\"&COUNTA($2:$2)))-1)))))","v":0},{"$f":"SUM(SUBTOTAL(9,OFFSET($L26,,8*(ROW(INDIRECT(\"$1:$\"&COUNTA($2:$2)))-1))))/MAX(1,SUM(SUBTOTAL(3,OFFSET($L26,,8*(ROW(INDIRECT(\"$1:$\"&COUNTA($2:$2)))-1)))))","v":0}]
[{"$f":"admin!B17","v":"Овес"},{"$f":"SUM(SUBTOTAL(9,OFFSET($J27,,8*(ROW(INDIRECT(\"$1:$\"&COUNTA($2:$2)))-1))))/MAX(1,SUM(SUBTOTAL(3,OFFSET($J27,,8*(ROW(INDIRECT(\"$1:$\"&COUNTA($2:$2)))-1)))))","v":0},{"$f":"SUM(SUBTOTAL(9,OFFSET($G27,,8*(ROW(INDIRECT(\"$1:$\"&COUNTA($2:$2)))-1))))/MAX(1,SUM(SUBTOTAL(3,OFFSET($G27,,8*(ROW(INDIRECT(\"$1:$\"&COUNTA($2:$2)))-1)))))","v":0},{"$f":"SUM(SUBTOTAL(9,OFFSET($L27,,8*(ROW(INDIRECT(\"$1:$\"&COUNTA($2:$2)))-1))))/MAX(1,SUM(SUBTOTAL(3,OFFSET($L27,,8*(ROW(INDIRECT(\"$1:$\"&COUNTA($2:$2)))-1)))))","v":0}]
[{"$f":"admin!B14","v":"Озимый Рапс"},{"$f":"SUM(SUBTOTAL(9,OFFSET($J28,,8*(ROW(INDIRECT(\"$1:$\"&COUNTA($2:$2)))-1))))/MAX(1,SUM(SUBTOTAL(3,OFFSET($J28,,8*(ROW(INDIRECT(\"$1:$\"&COUNTA($2:$2)))-1)))))","v":0},{"$f":"SUM(SUBTOTAL(9,OFFSET($G28,,8*(ROW(INDIRECT(\"$1:$\"&COUNTA($2:$2)))-1))))/MAX(1,SUM(SUBTOTAL(3,OFFSET($G28,,8*(ROW(INDIRECT(\"$1:$\"&COUNTA($2:$2)))-1)))))","v":0},{"$f":"SUM(SUBTOTAL(9,OFFSET($L28,,8*(ROW(INDIRECT(\"$1:$\"&COUNTA($2:$2)))-1))))/MAX(1,SUM(SUBTOTAL(3,OFFSET($L28,,8*(ROW(INDIRECT(\"$1:$\"&COUNTA($2:$2)))-1)))))","v":0}]
[{"$f":"admin!B9","v":"Озимый ячмень"},{"$f":"SUM(SUBTOTAL(9,OFFSET($J29,,8*(ROW(INDIRECT(\"$1:$\"&COUNTA($2:$2)))-1))))/MAX(1,SUM(SUBTOTAL(3,OFFSET($J29,,8*(ROW(INDIRECT(\"$1:$\"&COUNTA($2:$2)))-1)))))","v":0},{"$f":"SUM(SUBTOTAL(9,OFFSET($G29,,8*(ROW(INDIRECT(\"$1:$\"&COUNTA($2:$2)))-1))))/MAX(1,SUM(SUBTOTAL(3,OFFSET($G29,,8*(ROW(INDIRECT(\"$1:$\"&COUNTA($2:$2)))-1)))))","v":0},{"$f":"SUM(SUBTOTAL(9,OFFSET($L29,,8*(ROW(INDIRECT(\"$1:$\"&COUNTA($2:$2)))-1))))/MAX(1,SUM(SUBTOTAL(3,OFFSET($L29,,8*(ROW(INDIRECT(\"$1:$\"&COUNTA($2:$2)))-1)))))","v":0}]
[{"$f":"admin!B12","v":"Подсолнечник"},{"$f":"SUM(SUBTOTAL(9,OFFSET($J30,,8*(ROW(INDIRECT(\"$1:$\"&COUNTA($2:$2)))-1))))/MAX(1,SUM(SUBTOTAL(3,OFFSET($J30,,8*(ROW(INDIRECT(\"$1:$\"&COUNTA($2:$2)))-1)))))","v":0},{"$f":"SUM(SUBTOTAL(9,OFFSET($G30,,8*(ROW(INDIRECT(\"$1:$\"&COUNTA($2:$2)))-1))))/MAX(1,SUM(SUBTOTAL(3,OFFSET($G30,,8*(ROW(INDIRECT(\"$1:$\"&COUNTA($2:$2)))-1)))))","v":0},{"$f":"SUM(SUBTOTAL(9,OFFSET($L30,,8*(ROW(INDIRECT(\"$1:$\"&COUNTA($2:$2)))-1))))/MAX(1,SUM(SUBTOTAL(3,OFFSET($L30,,8*(ROW(INDIRECT(\"$1:$\"&COUNTA($2:$2)))-1)))))","v":0}]
[{"$f":"admin!B11","v":"Рожь/Тритикале"},{"$f":"SUM(SUBTOTAL(9,OFFSET($J31,,8*(ROW(INDIRECT(\"$1:$\"&COUNTA($2:$2)))-1))))/MAX(1,SUM(SUBTOTAL(3,OFFSET($J31,,8*(ROW(INDIRECT(\"$1:$\"&COUNTA($2:$2)))-1)))))","v":0},{"$f":"SUM(SUBTOTAL(9,OFFSET($G31,,8*(ROW(INDIRECT(\"$1:$\"&COUNTA($2:$2)))-1))))/MAX(1,SUM(SUBTOTAL(3,OFFSET($G31,,8*(ROW(INDIRECT(\"$1:$\"&COUNTA($2:$2)))-1)))))","v":0},{"$f":"SUM(SUBTOTAL(9,OFFSET($L31,,8*(ROW(INDIRECT(\"$1:$\"&COUNTA($2:$2)))-1))))/MAX(1,SUM(SUBTOTAL(3,OFFSET($L31,,8*(ROW(INDIRECT(\"$1:$\"&COUNTA($2:$2)))-1)))))","v":0}]
[{"$f":"admin!B28","v":"Свекла сахарная"},{"$f":"SUM(SUBTOTAL(9,OFFSET($J32,,8*(ROW(INDIRECT(\"$1:$\"&COUNTA($2:$2)))-1))))/MAX(1,SUM(SUBTOTAL(3,OFFSET($J32,,8*(ROW(INDIRECT(\"$1:$\"&COUNTA($2:$2)))-1)))))","v":0},{"$f":"SUM(SUBTOTAL(9,OFFSET($G32,,8*(ROW(INDIRECT(\"$1:$\"&COUNTA($2:$2)))-1))))/MAX(1,SUM(SUBTOTAL(3,OFFSET($G32,,8*(ROW(INDIRECT(\"$1:$\"&COUNTA($2:$2)))-1)))))","v":0},{"$f":"SUM(SUBTOTAL(9,OFFSET($L32,,8*(ROW(INDIRECT(\"$1:$\"&COUNTA($2:$2)))-1))))/MAX(1,SUM(SUBTOTAL(3,OFFSET($L32,,8*(ROW(INDIRECT(\"$1:$\"&COUNTA($2:$2)))-1)))))","v":0}]
[{"$f":"admin!B29","v":"Свекла столовая"},{"$f":"SUM(SUBTOTAL(9,OFFSET($J33,,8*(ROW(INDIRECT(\"$1:$\"&COUNTA($2:$2)))-1))))/MAX(1,SUM(SUBTOTAL(3,OFFSET($J33,,8*(ROW(INDIRECT(\"$1:$\"&COUNTA($2:$2)))-1)))))","v":0},{"$f":"SUM(SUBTOTAL(9,OFFSET($G33,,8*(ROW(INDIRECT(\"$1:$\"&COUNTA($2:$2)))-1))))/MAX(1,SUM(SUBTOTAL(3,OFFSET($G33,,8*(ROW(INDIRECT(\"$1:$\"&COUNTA($2:$2)))-1)))))","v":0},{"$f":"SUM(SUBTOTAL(9,OFFSET($L33,,8*(ROW(INDIRECT(\"$1:$\"&COUNTA($2:$2)))-1))))/MAX(1,SUM(SUBTOTAL(3,OFFSET($L33,,8*(ROW(INDIRECT(\"$1:$\"&COUNTA($2:$2)))-1)))))","v":0}]
[{"$f":"admin!B34","v":"Чеснок"},{"$f":"SUM(SUBTOTAL(9,OFFSET($J34,,8*(ROW(INDIRECT(\"$1:$\"&COUNTA($2:$2)))-1))))/MAX(1,SUM(SUBTOTAL(3,OFFSET($J34,,8*(ROW(INDIRECT(\"$1:$\"&COUNTA($2:$2)))-1)))))","v":0},{"$f":"SUM(SUBTOTAL(9,OFFSET($G34,,8*(ROW(INDIRECT(\"$1:$\"&COUNTA($2:$2)))-1))))/MAX(1,SUM(SUBTOTAL(3,OFFSET($G34,,8*(ROW(INDIRECT(\"$1:$\"&COUNTA($2:$2)))-1)))))","v":0},{"$f":"SUM(SUBTOTAL(9,OFFSET($L34,,8*(ROW(INDIRECT(\"$1:$\"&COUNTA($2:$2)))-1))))/MAX(1,SUM(SUBTOTAL(3,OFFSET($L34,,8*(ROW(INDIRECT(\"$1:$\"&COUNTA($2:$2)))-1)))))","v":0}]
[{"$f":"admin!B8","v":"Ярая пшеница"},{"$f":"SUM(SUBTOTAL(9,OFFSET($J35,,8*(ROW(INDIRECT(\"$1:$\"&COUNTA($2:$2)))-1))))/MAX(1,SUM(SUBTOTAL(3,OFFSET($J35,,8*(ROW(INDIRECT(\"$1:$\"&COUNTA($2:$2)))-1)))))","v":0},{"$f":"SUM(SUBTOTAL(9,OFFSET($G35,,8*(ROW(INDIRECT(\"$1:$\"&COUNTA($2:$2)))-1))))/MAX(1,SUM(SUBTOTAL(3,OFFSET($G35,,8*(ROW(INDIRECT(\"$1:$\"&COUNTA($2:$2)))-1)))))","v":0},{"$f":"SUM(SUBTOTAL(9,OFFSET($L35,,8*(ROW(INDIRECT(\"$1:$\"&COUNTA($2:$2)))-1))))/MAX(1,SUM(SUBTOTAL(3,OFFSET($L35,,8*(ROW(INDIRECT(\"$1:$\"&COUNTA($2:$2)))-1)))))","v":0}]
[{"$f":"admin!B15","v":"Ярый Рапс"},{"$f":"SUM(SUBTOTAL(9,OFFSET($J36,,8*(ROW(INDIRECT(\"$1:$\"&COUNTA($2:$2)))-1))))/MAX(1,SUM(SUBTOTAL(3,OFFSET($J36,,8*(ROW(INDIRECT(\"$1:$\"&COUNTA($2:$2)))-1)))))","v":0},{"$f":"SUM(SUBTOTAL(9,OFFSET($G36,,8*(ROW(INDIRECT(\"$1:$\"&COUNTA($2:$2)))-1))))/MAX(1,SUM(SUBTOTAL(3,OFFSET($G36,,8*(ROW(INDIRECT(\"$1:$\"&COUNTA($2:$2)))-1)))))","v":0},{"$f":"SUM(SUBTOTAL(9,OFFSET($L36,,8*(ROW(INDIRECT(\"$1:$\"&COUNTA($2:$2)))-1))))/MAX(1,SUM(SUBTOTAL(3,OFFSET($L36,,8*(ROW(INDIRECT(\"$1:$\"&COUNTA($2:$2)))-1)))))","v":0}]
[{"$f":"admin!B10","v":"Ярый ячмень"},{"$f":"SUM(SUBTOTAL(9,OFFSET($J37,,8*(ROW(INDIRECT(\"$1:$\"&COUNTA($2:$2)))-1))))/MAX(1,SUM(SUBTOTAL(3,OFFSET($J37,,8*(ROW(INDIRECT(\"$1:$\"&COUNTA($2:$2)))-1)))))","v":0},{"$f":"SUM(SUBTOTAL(9,OFFSET($G37,,8*(ROW(INDIRECT(\"$1:$\"&COUNTA($2:$2)))-1))))/MAX(1,SUM(SUBTOTAL(3,OFFSET($G37,,8*(ROW(INDIRECT(\"$1:$\"&COUNTA($2:$2)))-1)))))","v":0},{"$f":"SUM(SUBTOTAL(9,OFFSET($L37,,8*(ROW(INDIRECT(\"$1:$\"&COUNTA($2:$2)))-1))))/MAX(1,SUM(SUBTOTAL(3,OFFSET($L37,,8*(ROW(INDIRECT(\"$1:$\"&COUNTA($2:$2)))-1)))))","v":0}]

{"sheet":"admin","index":1,"n_rows":52,"n_cols":8,"rows_kept":52,"cut":false,"hidden":false,"merged":[]}
[]
[null,"常见种植物"]
[null,{"$f":"IF('2014-2015'!B1=admin!C3,1,IF('2014-2015'!B1=admin!D3,2,3))","v":3},"Chinese","English","Russian"]
[null,{"$f":"CHOOSE($B$3,C4,D4,E4)","v":"Наименование с/х культуры"},"作物名称","Crops","Наименование с/х культуры"]
[null,{"$f":"CHOOSE($B$3,C5,D5,E5)","v":"Кукуруза"},"玉米","corn","Кукуруза"]
[null,"Сладкая кукуруза","甜玉米","sweet Corn","Сладкая кукуруза"]
[null,"Сорго","高粱","sorghum","Сорго",null,null,"不适用的作物"]
[null,"Ярая пшеница","春小麦","spring wheat","Ярая пшеница",null,null,"确认类别"]
[null,"Озимый ячмень","秋大麦","winter barley","Озимый ячмень",null,null,"翻译修改"]
[null,"Ярый ячмень","春大麦","spring barley","Ярый ячмень"]
[null,"Рожь/Тритикале","黑麦","rye / triticale","Рожь/Тритикале"]
[null,"Подсолнечник","向日葵","sunflower","Подсолнечник",null,"需要补充的"]
[null,"Озимая пшеница","冬小麦","winter wheat","Озимая пшеница",null,"豆角"]
[null,"Озимый Рапс","秋油菜","autumn rape","Озимый Рапс",null,"青椒"]
[null,"Ярый Рапс","春油菜","spring rape","Ярый Рапс",null,"尖椒"]
[null,"Просо","谷子","millet","Просо",null,"洋葱"]
[null,"Овес","燕麦","oats","Овес",null,"大葱"]
[null,"Соя","黄豆","Soybean","Соя",null,"秋葵"]
[null,"Горох","豌豆","peas","Горох",null,"芹菜"]
[null,"Гречиха","荞麦","buckwheat","Гречиха"]
[null,"Нут","鹰嘴豆","chickpeas","Нут"]
[null,"Люцерна","苜蓿","Alfaalfa","Люцерна"]
[]
[null,"Томаты","西红柿","tomatoes","Томаты"]
[null,"Морковь","胡萝卜","carrots","Морковь"]
[null,"Капуста","白菜","cabbage","Капуста"]
[null,"Огурцы","黄瓜","cucumbers","Огурцы"]
[null,"Свекла сахарная","制糖类-甜菜","sugar beet","Свекла сахарная"]
[null,"Свекла столовая","食品用-甜菜","beet","Свекла столовая"]
[null,"Картофель","马铃薯-土豆","potatoes","Картофель"]
[null,"Перец","辣椒","chili","Перец"]
[null,"Баклажан","茄子","eggplant","Баклажан"]
[null,"Лук","洋葱（大葱）","onion","Лук"]
[null,"Чеснок","大蒜","garlic","Чеснок"]
[null,"Арбуз","西瓜","watermelon","Арбуз"]
[null,"Дыня","香瓜","melon","Дыня"]
[null,"Тыква","南瓜","pumpkin","Тыква"]
[null,"Кабачки","西葫芦（北瓜）","courgettes","Кабачки"]
[]
[null,"非常见种植物"]
[]
[]
[]
[]
[]
[null,"[Наименование предприятия/или ФИО заемщика]","企业名称/借款人姓名","[Name of the company / or the name of the borrower]","[Наименование предприятия/или ФИО заемщика]"]
[null,"ПЛАН","计划","PLAN","ПЛАН"]
[null,"ФАКТ","实际情况","FACT","ФАКТ"]
[null,"му","亩","mu","му"]
[null,"урожайность с 1 му","亩产量","yield from 1 mu","урожайность с 1 му"]
[null,"цена за 1 т","单价/吨","price for 1 ton","цена за 1 т"]
[null,"Себестоимость 1 му","成本/亩","cost of 1 mu","Себестоимость 1 му"]