{"text_format":"1","workbook":"xlsx","n_sheets":2,"sheets":["faktura","Лист1"],"not_rendered":{"charts":0,"images":0,"macros":1,"external_links":0,"defined_names":0,"comments":0,"pivot_tables":0},"unopened":[],"bounds":{"document_bytes":16777216,"sheet_cells":100000,"rows_first":2000,"rows_last":500,"rows_between":2000,"halvings":0,"cell_chars":16384,"cell_head_chars":4096},"cells_cut":0,"cells_raw":0,"read":"whole","date_system":"1900"}

{"sheet":"faktura","index":0,"n_rows":39,"n_cols":18,"rows_kept":39,"cut":false,"hidden":false,"merged":[[15,17,19,19],[9,4,9,7],[11,12,11,15],[10,4,10,7],[22,0,22,3],[5,0,5,2],[19,0,19,3],[20,0,20,3],[21,0,21,3],[30,4,30,7],[31,0,31,3],[32,0,32,3],[24,0,24,3],[23,0,23,3],[26,0,26,3],[27,0,27,3],[28,0,28,3],[29,0,29,3],[25,0,25,3],[30,0,30,3],[35,0,35,3],[14,6,14,7],[6,0,6,3],[12,4,13,5],[17,0,17,3],[13,0,14,2],[15,0,15,2],[18,0,18,3],[12,6,13,7],[8,0,8,2],[9,0,9,2],[31,4,31,7],[32,4,32,7],[10,0,10,2],[33,0,33,3],[8,4,8,7],[32,8,32,11],[33,8,33,11],[34,8,34,11],[6,8,6,11],[12,12,13,13],[13,8,14,10],[15,8,15,10],[9,8,9,10],[10,8,10,10],[8,12,8,15],[9,12,9,15],[10,12,10,15],[6,14,6,15],[23,8,23,11],[12,14,13,15],[14,14,14,15],[26,8,26,11],[17,8,17,11],[18,8,18,11],[19,8,19,11],[20,8,20,11],[21,8,21,11],[22,8,22,11],[8,8,8,10],[24,8,24,11],[25,8,25,11],[27,8,27,11],[28,8,28,11],[0,0,0,2],[0,8,0,10],[4,4,4,7],[0,4,0,7],[4,12,4,15],[4,0,4,2],[3,0,3,2],[2,0,2,2],[0,12,0,15],[2,8,2,10],[35,12,35,15],[29,4,29,7],[28,4,28,7],[34,0,34,3],[34,4,34,7],[35,4,35,7],[28,12,28,15],[29,12,29,15],[30,12,30,15],[35,8,35,11],[31,12,31,15],[32,12,32,15],[34,12,34,15],[30,8,30,11],[31,8,31,11],[29,8,29,11]]}
["менеджер",null,null,null,"Առաքման   գիրք   25/17771",null,null,null,{"$f":"A1","v":"менеджер"},null,null,null,"Առաքման   գիրք   25/17771"]
[]
["Արսեն  Կիրակոսյան",null,null,null,"Հաշիվ        ","ֆակտուրա   "," N    2",null,{"$f":"A3","v":"Արսեն  Կիրակոսյան"},null,null,null,"Հաշիվ       ֆակտուրա    ",null,{"$f":"G3","v":" N    2"}]
["Կոտայքի   մարզ   ք.  Աբովյան",null,null,null,null,null,null,null,"Կոտայքի   մարզ   ք.  Աբովյան"]
["Կոլխոզնիկների   1",null,null,null,{"$f":"DATE(YEAR(TODAY()),MONTH(F15),DAY(F15))","v":"2015-01-18"},null,null,null,"Կոլխոզնիկների   1",null,null,null,{"$f":"E5","v":"2015-01-18"}]
["ՀՎՀՀ  43070372",null,null,null,null,null,null,null,{"$f":"A6","v":"ՀՎՀՀ  43070372"}]
["Առաքման  կայարանը   ՀՀ   տարածք",null,null,null,null,"Պահեստ","Գործառության   N","Ծածկագիր","Առաքման  կայարանը   ՀՀ   տարածք",null,null,null,"Պահեստ","Գործառության   N","Ծածկագիր"]
[]
["Վճարողը   և  նրա   տվյալները",null,null,null,{"$f":"Лист1!B6","v":"Ք.Չարենցավան  3-րդ  թաղ. 26շ."},null,null,null,"Վճարողը   և  նրա   տվյալները",null,null,null,{"$f":"E9","v":"Ք.Չարենցավան  3-րդ  թաղ. 26շ."}]
["Մատակարարման   միջոց՝    ",null,null,null,{"$f":"Лист1!C6","v":"Ա.Ձ.   Մաթևոսյան   Արթուր"},null,null,null,"Մատակարարման   միջոց՝    ",null,null,null,{"$f":"E10","v":"Ա.Ձ.   Մաթևոսյան   Արթուր"}]
[" ֆորդ    տրանզիտ   33  sv 649",null,null,null,{"$f":"Лист1!D5&Лист1!D6","v":"ՀՎՀՀ42256545"},null,null,null,{"$f":"A11","v":" ֆորդ    տրանզիտ   33  sv 649"},null,null,null,"ՀՎՀՀ42256545"]
[]
[null,null,null,null,"Տեղերի   քանակը",null,"Կշիռ",null,null,null,null,null,"Տեղերի   քանակը",null,"Կշիռ"]
["Պայմանագրի-պատվերը",null,null,null,null,null,null,null,"Պայմանագրի-պատվերը"]
[null,null,null,"Բարձման  ամսաթիվը",null,{"$f":"TODAY()","v":"2015-01-18"},"Անդորրագիր   N",null,null,null,null,"Բարձման  ամսաթիվը",null,{"$f":"TODAY()","v":"2015-01-18"},"Անդորրագիր   N"]
["Լրացուցիչ   պայմաններ",null,null,null,null,null,null,null,"Լրացուցիչ   պայմաններ",null,null,null,null,null,null,null,null,"в  А3  имя  менеджера  в  Е9  адрес  клиента, в  Е10   имя и  фам  клиента, в  Е11  код  клиента с & верхним  буквами,  в  А19  названии  продукта,в F19  кол  товаров,в G19  цена,  в  H19   сумма,  и  все  товары  список  который  взял  активные  клиент"]
[]
["Անվանումը",null,null,null,"Չափ.մվ.","Քանակը","Գինը","Գումարը","Անվանումը",null,null,null,"Չափ.մվ.","Քանակը","Գինը","Գումարը"]
[{"$f":"Лист1!E3","v":"лим-1,5"},null,null,null,"հատ",{"$f":"Лист1!E6","v":60},{"$f":"Лист1!E5","v":80},{"$f":"F19*G19","v":4800},{"$f":"A19","v":"лим-1,5"},null,null,null,"հատ",{"$f":"F19","v":60},{"$f":"G19","v":80},{"$f":"N19*O19","v":4800}]
["Լիմոնադ   1,5լ",null,null,null,"հատ",null,null,{"$f":"F20*G20","v":0},{"$f":"A20","v":"Լիմոնադ   1,5լ"},null,null,null,"հատ",{"$f":"F20","v":0},{"$f":"G20","v":0},{"$f":"N20*O20","v":0}]
["Լիմոնադ   1,85լ",null,null,null,"հատ",null,null,0,"Լիմոնադ   1,85լ",null,null,null,"հատ",0,0,0]
["Գազավորված   հյութ   1,5 լ",null,null,null,"հատ",null,null,0,"Գազավորված   հյութ   1,5 լ",null,null,null,"հատ",0,0,0]
["Գազավորված   թան   0,5 լ",null,null,null,"հատ",null,null,0,"Գազավորված   թան   0,5 լ",null,null,null,"հատ",0,0,0]
[null,null,null,null,"հատ",null,null,0,0,null,null,null,"հատ",0,0,0]
[null,null,null,null,"հատ",null,null,0,0,null,null,null,"հատ",0,0,0]
[null,null,null,null,"հատ",null,null,0,0,null,null,null,"հատ",0,0,0]
[null,null,null,null,"հատ",null,null,0,0,null,null,null,"հատ",0,0,0]
[null,null,null,null,"հատ",null,null,0,0,null,null,null,"հատ",0,0,0]
["ԸՆԴՀԱՆՈՒՐԸ",null,null,null,{"$f":"SUM(H19:H28)","v":4800},null,null,null,"ԸՆԴՀԱՆՈՒՐԸ",null,null,null,{"$f":"E29","v":4800}]
[]
[]
[]
[]
["Հանձնեց՝   Հ.Ղամբարյան",null,null,null,"Ընդհունեց՝",null,null,null,{"$f":"A34","v":"Հանձնեց՝   Հ.Ղամբարյան"},null,null,null,"Ընդհունեց՝",{"$f":"F34","v":0}]
[]
[]
[]
[]
[null,null,null,null,null,null,null,null,null,null,null,null,null,null,{"$f":"Лист1!C4","v":"Արսեն  Կիրակոսյան"}]

{"sheet":"Лист1","index":1,"n_rows":18,"n_cols":11,"rows_kept":18,"cut":false,"hidden":false,"merged":[[2,4,3,4],[2,7,3,7],[2,8,3,8]]}
[]
[]
[null,"адресс","имя  фамиля",null,"лим-1,5","лим-0,5","тан-0,5","натур-сок  2","натур-сок  0.25","скидка","сумма"]
[null,null,"Արսեն  Կիրակոսյան"]
[null,null,null,"ՀՎՀՀ",80,60,80,500,125]
[null,"Ք.Չարենցավան  3-րդ  թաղ. 26շ.","Ա.Ձ.   Մաթևոսյան   Արթուր",42256545,60,24,24,8,24,2000,{"$f":"SUMPRODUCT(E5:I5,E6:I6)","v":15160}]
[null,"Ք.Չարենցավան  3-րդ  թաղ. 38շ.","Ա.Ձ.   Մաթևոսյան   Արմեն",35658975,48,24,24,8,24,2000,{"$f":"SUMPRODUCT(E6:I6,E7:I7)","v":4672}]
[null,"Ք.Չարենցավան  3-րդ  թաղ. 40շ.","Ա.Ձ.   Սարգսյան  Կարեն",25854565,72,24,24,8,24,2000,5248]
[null,"Ք.Չարենցավան  4-րդ  թաղ. 2շ.","Ա.Ձ.   Կարապետյան  Մարի",85456523,120,24,24,8,24,2000,10432]
[null,"Ք.Չարենցավան  4-րդ  թաղ. 20շ.","Ա.Ձ.   Մաթևոսյան   Արթուր",77255533,60,null,null,16,24,2000,7904]
[null,"Ք.Չարենցավան  4-րդ  թաղ. 30շ.","Ա.Ձ.   Մաթևոսյան   Արթուր",89235085,48,24,24,8,60,2000,4448]
[null,"Ք.Չարենցավան  4-րդ  թաղ. 36շ.","Ա.Ձ.   Մաթևոսյան   Արթուր",101214637.8,24,24,24,8,24,2000,3808]
[null,"Ք.Չարենցավան  4-րդ  թաղ. 45շ.","Ա.Ձ.   Մաթևոսյան   Արթուր",113194190.2,120,24,60,8,48,2000,6112]
[null,"Ք.Չարենցավան  2-րդ  թաղ. 16շ.","Ա.Ձ.   Մաթևոսյան   Արթուր",125173742.59999999,60,60,24,20,24,2000,11392]
[null,"Ք.Չարենցավան  2-րդ  թաղ. 20շ.","Ա.Ձ.   Մաթևոսյան   Արթուր",137153295,72,48,24,8,24,2000,8512]
[null,"Ք.Չարենցավան  2-րդ  թաղ. 26շ.","Ա.Ձ.   Մաթևոսյան   Արթուր",149132847.40000001,60,24,120,8,60,2000,9856]
[null,"Ք.Չարենցավան  2-րդ  թաղ. 46շ.","Ա.Ձ.   Մաթևոսյան   Արթուր",161112399.80000001,48,60,24,20,24,2000,8800]
[null,"Ք.Չարենցավան  2-րդ  թաղ. 48շ.","Ա.Ձ.   Մաթևոսյան   Արթուր",173091952.19999999,60,24,24,8,24,2000,5632]