{"text_format":"1","workbook":"xlsx","n_sheets":4,"sheets":["faktura","Лист1","Лист2","Лист3"],"not_rendered":{"charts":0,"images":0,"macros":1,"external_links":0,"defined_names":0,"comments":0,"pivot_tables":0},"unopened":[],"bounds":{"document_bytes":16777216,"sheet_cells":100000,"rows_first":2000,"rows_last":500,"rows_between":2000,"halvings":0,"cell_chars":16384,"cell_head_chars":4096},"cells_cut":0,"cells_raw":0,"read":"whole","date_system":"1900"}

{"sheet":"faktura","index":0,"n_rows":41,"n_cols":18,"rows_kept":41,"cut":false,"hidden":false,"merged":[[36,8,36,11],[35,8,35,11],[36,12,36,15],[30,4,30,7],[29,4,29,7],[35,0,35,3],[35,4,35,7],[36,4,36,7],[29,12,29,15],[30,12,30,15],[31,12,31,15],[29,8,29,11],[27,8,27,11],[7,8,7,11],[32,12,32,15],[33,12,33,15],[35,12,35,15],[31,8,31,11],[32,8,32,11],[33,8,33,11],[34,8,34,11],[5,0,5,2],[4,0,4,2],[3,0,3,2],[30,8,30,11],[1,0,1,2],[1,8,1,10],[5,4,5,7],[1,4,1,7],[26,8,26,11],[28,8,28,11],[25,8,25,11],[18,8,18,11],[19,8,19,11],[20,8,20,11],[21,8,21,11],[22,8,22,11],[23,8,23,11],[16,8,16,10],[10,8,10,10],[11,8,11,10],[1,12,1,15],[3,8,3,10],[9,8,9,10],[5,12,5,15],[9,12,9,15],[10,12,10,15],[11,12,11,15],[7,14,7,15],[13,12,14,13],[14,8,15,10],[24,8,24,11],[13,14,14,15],[15,14,15,15],[36,0,36,3],[15,6,15,7],[19,0,19,3],[13,6,14,7],[32,4,32,7],[33,4,33,7],[34,0,34,3],[7,0,7,3],[13,4,14,5],[18,0,18,3],[14,0,15,2],[16,0,16,2],[9,0,9,2],[10,0,10,2],[11,0,11,2],[9,4,9,7],[6,0,6,2],[20,0,20,3],[21,0,21,3],[22,0,22,3],[32,0,32,3],[33,0,33,3],[25,0,25,3],[24,0,24,3],[27,0,27,3],[28,0,28,3],[23,0,23,3],[31,4,31,7],[16,17,20,19],[10,4,10,7],[12,12,12,15],[11,4,11,7],[29,0,29,3],[30,0,30,3],[26,0,26,3],[31,0,31,3]]}
[null,null,null,null,null,1]
["менеджер",null,null,null,"Առաքման   գիրք   25/17771",null,null,null,{"$f":"A2","v":"менеджер"},null,null,null,"Առաքման   գիրք   25/17771"]
[]
[{"$f":"Лист1!C4","v":"Արսեն  Կիրակոսյան"},null,null,null,"Հաշիվ        ","ֆակտուրա   "," N    2",null,{"$f":"A4","v":"Արսեն  Կիրակոսյան"},null,null,null,"Հաշիվ       ֆակտուրա    ",null,{"$f":"G4","v":" N    2"}]
["Կոտայքի   մարզ   ք.  Աբովյան",null,null,null,null,null,null,null,"Կոտայքի   մարզ   ք.  Աբովյան"]
["Կոլխոզնիկների   1",null,null,null,{"$f":"DATE(YEAR(TODAY()),MONTH(F16),DAY(F16))","v":"2015-01-19"},null,null,null,"Կոլխոզնիկների   1",null,null,null,{"$f":"E6","v":"2015-01-19"}]
["ՀՎՀՀ  43070372",null,null,null,null,null,null,null,{"$f":"A7","v":"ՀՎՀՀ  43070372"}]
["Առաքման  կայարանը   ՀՀ   տարածք",null,null,null,null,"Պահեստ","Գործառության   N","Ծածկագիր","Առաքման  կայարանը   ՀՀ   տարածք",null,null,null,"Պահեստ","Գործառության   N","Ծածկագիր"]
[]
["Վճարողը   և  նրա   տվյալները",null,null,null,{"$f":"INDIRECT(\"Лист1!B\" & F1+5)","v":"Ք.Չարենցավան  3-րդ  թաղ. 26շ."},null,null,null,"Վճարողը   և  նրա   տվյալները",null,null,null,{"$f":"E10","v":"Ք.Չարենցավան  3-րդ  թաղ. 26շ."}]
["Մատակարարման   միջոց՝    ",null,null,null,{"$f":"INDIRECT(\"Лист1!C\" & F1+5)","v":"Ա.Ձ.   Մաթևոսյան   Արթուր"},null,null,null,"Մատակարարման   միջոց՝    ",null,null,null,{"$f":"E11","v":"Ա.Ձ.   Մաթևոսյան   Արթուր"},null,null,null,null,{"$f":"SUMIFS(Лист1!E6:E18,Лист1!B6:B18,E10,Лист1!C6:C18,E11)","v":5}]
[" ֆորդ    տրանզիտ   33  sv 649",null,null,null,{"$f":"Лист1!D5&INDIRECT(\"Лист1!D\" & F1+5)","v":"ՀՎՀՀ42256545"},null,null,null,{"$f":"A12","v":" ֆորդ    տրանզիտ   33  sv 649"},null,null,null,{"$f":"E12","v":"ՀՎՀՀ42256545"}]
[]
[null,null,null,null,"Տեղերի   քանակը",null,"Կշիռ",null,null,null,null,null,"Տեղերի   քանակը",null,"Կշիռ"]
["Պայմանագրի-պատվերը",null,null,null,null,null,null,null,"Պայմանագրի-պատվերը"]
[null,null,null,"Բարձման  ամսաթիվը",null,{"$f":"TODAY()","v":"2015-01-19"},"Անդորրագիր   N",null,null,null,null,"Բարձման  ամսաթիվը",null,{"$f":"TODAY()","v":"2015-01-19"},"Անդորրագիր   N"]
["Լրացուցիչ   պայմաններ",null,null,null,null,null,null,null,"Լրացուցիչ   պայմաններ"]
[]
["Անվանումը",null,null,null,"Չափ.մվ.","Քանակը","Գինը","Գումարը","Անվանումը",null,null,null,"Չափ.մվ.","Քանակը","Գինը","Գումարը"]
[{"$f":"Лист1!E3","v":"лим-1,5"},null,null,null,"հատ",{"$f":"INDIRECT(\"Лист1!E\" & F1+5)","v":5},{"$f":"IF(F20:F20>0,Лист1!E5,0)","v":80},{"$f":"F20*G20","v":400},{"$f":"A20","v":"лим-1,5"},null,null,null,"հատ",{"$f":"F20","v":5},{"$f":"G20","v":80},{"$f":"N20*O20","v":400}]
[{"$f":"Лист1!F3","v":"лим-0,5"},null,null,null,"հատ",{"$f":"INDIRECT(\"Лист1!f\" & F1+5)","v":4},{"$f":"IF(F21:F21>0,Лист1!F5,0)","v":60},{"$f":"F21*G21","v":240},{"$f":"A21","v":"лим-0,5"},null,null,null,"հատ",{"$f":"F21","v":4},{"$f":"G21","v":60},{"$f":"N21*O21","v":240}]
[{"$f":"Лист1!G3","v":"тан-0,5"},null,null,null,"հատ",{"$f":"INDIRECT(\"Лист1!G\" & F1+5)","v":9},{"$f":"IF(F22:F22>0,Лист1!G5,0)","v":80},720,"тан-0,5",null,null,null,"հատ",9,80,720]
[{"$f":"Лист1!H3","v":"натур-сок  2"},null,null,null,"հատ",{"$f":"INDIRECT(\"Лист1!H\" & F1+5)","v":8},{"$f":"IF(F23:F23>0,Лист1!H5,0)","v":500},4000,"натур-сок  2",null,null,null,"հատ",8,500,4000]
[{"$f":"Лист1!I3","v":"натур-сок  0.25"},null,null,null,"հատ",{"$f":"INDIRECT(\"Лист1!I\" & F1+5)","v":10},{"$f":"IF(F24:F24>0,Лист1!I5,0)","v":125},1250,"натур-сок  0.25",null,null,null,"հատ",10,125,1250]
[null,null,null,null,"հատ",null,null,0,0,null,null,null,"հատ",0,0,0]
[null,null,null,null,"հատ",null,null,0,0,null,null,null,"հատ",0,0,0]
[null,null,null,null,"հատ",null,null,0,0,null,null,null,"հատ",0,0,0]
[null,null,null,null,"հատ",null,null,0,0,null,null,null,"հատ",0,0,0]
[null,null,null,null,"հատ",null,null,0,0,null,null,null,"հատ",0,0,0]
["ԸՆԴՀԱՆՈՒՐԸ",null,null,null,{"$f":"SUM(H20:H29)","v":6610},null,null,null,"ԸՆԴՀԱՆՈՒՐԸ",null,null,null,{"$f":"E30","v":6610}]
[]
[]
[]
[]
["Հանձնեց՝   Հ.Ղամբարյան",null,null,null,"Ընդհունեց՝",null,null,null,{"$f":"A35","v":"Հանձնեց՝   Հ.Ղամբարյան"},null,null,null,"Ընդհունեց՝",{"$f":"F35","v":0}]
[]
[]
[]
[]
[null,null,null,null,null,null,null,null,null,null,null,null,null,null,{"$f":"Лист1!C4","v":"Արսեն  Կիրակոսյան"}]
[null,null,null,null,null,null,null,null,null,null,null,null,{"$f":"(INDEX(R3:R43,MATCH(B18,P3:P43,0),1))","v":0}]

{"sheet":"Лист1","index":1,"n_rows":22,"n_cols":11,"rows_kept":22,"cut":false,"hidden":false,"merged":[]}
[]
[]
[null,"адресс","имя  фамиля",null,"лим-1,5","лим-0,5","тан-0,5","натур-сок  2","натур-сок  0.25","скидка","сумма"]
[null,null,"Արսեն  Կիրակոսյան"]
[null,null,null,"ՀՎՀՀ",80,60,80,500,125]
[null,"Ք.Չարենցավան  3-րդ  թաղ. 26շ.","Ա.Ձ.   Մաթևոսյան   Արթուր",42256545,5,4,9,8,10,null,{"$f":"SUMPRODUCT(E5:I5,E6:I6)-J6","v":6610}]
[null,"Ք.Չարենցավան  3-րդ  թաղ. 38շ.","Ա.Ձ.   Մաթևոսյան   Արմեն",35658975,48,24,null,null,null,null,336]
[null,"Ք.Չարենցավան  3-րդ  թաղ. 40շ.","Ա.Ձ.   Սարգսյան  Կարեն",25854565,72,48,24,8,24,2000,{"$f":"SUMPRODUCT(E7:I7,E8:I8)-J8","v":2608}]
[null,"Ք.Չարենցավան  4-րդ  թաղ. 2շ.","Ա.Ձ.   Կարապետյան  Մարի",85456523,120,24,24,8,24,2000,9008]
[null,"Ք.Չարենցավան  4-րդ  թաղ. 20շ.","Ա.Ձ.   Մաթևոսյան   Արթուր",77255533,60,null,null,16,24,2000,5904]
[null,"Ք.Չարենցավան  4-րդ  թաղ. 30շ.","Ա.Ձ.   Մաթևոսյան   Արթուր",89235085,48,24,24,8,60,2000,2448]
[null,"Ք.Չարենցավան  4-րդ  թաղ. 36շ.","abo",101214637.8,24,24,24,null,24,2000,1744]
[null,"Ք.Չարենցավան  4-րդ  թաղ. 45շ.","kbo",113194190.2,120,24,60,8,48,2000,4048]
[null,"Ք.Չարենցավան  2-րդ  թաղ. 16շ.","mbo",125173742.59999999,60,60,null,20,null,2000,6800]
[null,"Ք.Չարենցավան  2-րդ  թաղ. 20շ.","Ա.Ձ.   Մաթևոսյան   Արթուր",137153295,72,48,24,8,24,2000,5360]
[null,"Ք.Չարենցավան  2-րդ  թաղ. 26շ.","Ա.Ձ.   Մաթևոսյան   Արթուր",149132847.40000001,60,24,120,8,60,2000,7856]
[null,"Ք.Չարենցավան  2-րդ  թաղ. 46շ.","Ա.Ձ.   Մաթևոսյան   Արթուր",161112399.80000001,48,60,24,20,24,2000,6800]
[null,"Ք.Չարենցավան  2-րդ  թաղ. 48շ.","Ա.Ձ.   Մաթևոսյան   Արթուր",173091952.19999999,60,24,24,8,24,2000,3632]
[]
[]
[null,null,{"$f":"LOOKUP(\"\",E6:I6&\"\",E3:I3)","v":{"$error":"#N/A"}},{"$f":"MATCH(\"*?\",INDEX(\"\"&B6:I6,),)","v":1},{"$f":"IF(E6>0,E3,IF(E6<=0,F3,IF(E6:F6<1,G3,)))","v":"лим-1,5"},{"$f":"IF(E6=0,F3,IF(F6=0,G3,IF(G6=0,H3,E3)))","v":"лим-1,5"}]
[null,null,null,null,{"$f":"IF(G6>0,G3,\"\")","v":"тан-0,5"},{"$f":"IF(H6>0,H3,\"\")","v":"натур-сок  2"}]

{"sheet":"Лист2","index":2,"n_rows":22,"n_cols":11,"rows_kept":22,"cut":false,"hidden":false,"merged":[]}
[]
[]
[null,"адресс","имя  фамиля",null,"лим-1,5","лим-0,5","тан-0,5","натур-сок  2","натур-сок  0.25","скидка","сумма"]
[null,null,"Արսեն  Կիրակոսյան"]
[null,null,null,"ՀՎՀՀ",80,60,80,500,125]
[null,"Ք.Հրազդան  Միկրո. 29շ.","Ա.Ձ.   Մաթևոսյան   Արթուր",42256545,60,24,null,8,null,null,{"$f":"SUMPRODUCT(E5:I5,E6:I6)-J6","v":10240}]
[null,"Ք.Հրազդան  Միկրո. 38շ.","Ա.Ձ.   Մաթևոսյան   Արմեն",35658975,48,24,null,null,null,null,{"$f":"SUMPRODUCT(E6:I6,E7:I7)-J7","v":3456}]
[null,"Ք.Հրազդան  Միկրո. 40շ.","Ա.Ձ.   Սարգսյան  Կարեն",25854565,72,48,24,8,24,2000,{"$f":"SUMPRODUCT(E7:I7,E8:I8)-J8","v":2608}]
[null,"Ք.Հրազդան  Միկրո. 2շ.","Ա.Ձ.   Կարապետյան  Մարի",85456523,120,24,24,8,24,2000,9008]
[null,"Ք.Հրազդան  Միկրո. 20շ.","Ա.Ձ.   Մաթևոսյան   Արթուր",77255533,60,null,null,16,24,2000,5904]
[null,"Ք.Հրազդան  Միկրո. 30շ.","Ա.Ձ.   Մաթևոսյան   Արթուր",89235085,48,24,24,8,60,2000,2448]
[null,"Ք.Հրազդան  Միկրո. 36շ.","abo",101214637.8,24,24,24,null,24,2000,1744]
[null,"Ք.Հրազդան  Միկրո. 45շ.","kbo",113194190.2,120,24,60,8,48,2000,4048]
[null,"Ք.Հրազդան  Միկրո. 16շ.","mbo",125173742.59999999,60,60,null,20,null,2000,6800]
[null,"Ք.Հրազդան  Միկրո. 20շ.","Ա.Ձ.   Մաթևոսյան   Արթուր",137153295,72,48,24,8,24,2000,5360]
[null,"Ք.Հրազդան  Միկրո. 26շ.","Ա.Ձ.   Մաթևոսյան   Արթուր",149132847.40000001,60,24,120,8,60,2000,7856]
[null,"Ք.Հրազդան  Միկրո. 46շ.","Ա.Ձ.   Մաթևոսյան   Արթուր",161112399.80000001,48,60,24,20,24,2000,6800]
[null,"Ք.Հրազդան  Միկրո. 48շ.","Ա.Ձ.   Մաթևոսյան   Արթուր",173091952.19999999,60,24,24,8,24,2000,3632]
[]
[null,null,{"$f":"IF(B6>0,AND(C6>0,D6>0)*D23)","v":0},{"$f":"ISBLANK(E6)","v":false}]
[]
[null,null,{"$f":"IF(E6>0,E3,\"\")","v":"лим-1,5"},{"$f":"IF(F6>0,F3,\"\")","v":"лим-0,5"},{"$f":"IF(G6>0,G3,\"\")","v":""}]

{"sheet":"Лист3","index":3,"n_rows":22,"n_cols":11,"rows_kept":22,"cut":false,"hidden":false,"merged":[[2,7,3,7],[2,8,3,8]]}
[]
[]
[null,"адресс","имя  фамиля",null,"лим-1,5","лим-0,5","тан-0,5","натур-сок  2","натур-сок  0.25","скидка","сумма"]
[null,null,"Արսեն  Կիրակոսյան"]
[null,null,null,"ՀՎՀՀ",80,60,80,500,125]
[null,"Ք.Աբովյան  3-րդ  Միկրո. 29շ.","Ա.Ձ.   Մաթևոսյան   Արթուր",42256545,60,24,null,8,null,null,{"$f":"SUMPRODUCT(E5:I5,E6:I6)-J6","v":10240}]
[null,"Ք.Աբովյան  3-րդ  Միկրո. 38շ.","Ա.Ձ.   Մաթևոսյան   Արմեն",35658975,48,24,null,null,null,null,3456]
[null,"Ք.Աբովյան  3-րդ  Միկրո. 40շ.","Ա.Ձ.   Սարգսյան  Կարեն",25854565,72,48,24,8,24,2000,{"$f":"SUMPRODUCT(E7:I7,E8:I8)-J8","v":2608}]
[null,"Ք.Աբովյան  4-րդ  Միկրո. 2շ.","Ա.Ձ.   Կարապետյան  Մարի",85456523,120,24,24,8,24,2000,9008]
[null,"Ք.Աբովյան  4-րդ  Միկրո. 20շ.","Ա.Ձ.   Մաթևոսյան   Արթուր",77255533,60,null,null,16,24,2000,5904]
[null,"Ք.Աբովյան  4-րդ  Միկրո. 30շ.","Ա.Ձ.   Մաթևոսյան   Արթուր",89235085,48,24,24,8,60,2000,2448]
[null,"Ք.Աբովյան  4-րդ  Միկրո. 36շ.","abo",101214637.8,24,24,24,null,24,2000,1744]
[null,"Ք.Աբովյան  4-րդ  Միկրո. 45շ.","kbo",113194190.2,120,24,60,8,48,2000,4048]
[null,"Ք.Աբովյան  2-րդ  Միկրո. 16շ.","mbo",125173742.59999999,60,60,null,20,null,2000,6800]
[null,"Ք.Աբովյան  2-րդ  Միկրո. 20շ.","Ա.Ձ.   Մաթևոսյան   Արթուր",137153295,72,48,24,8,24,2000,5360]
[null,"Ք.Աբովյան  2-րդ  Միկրո. 26շ.","Ա.Ձ.   Մաթևոսյան   Արթուր",149132847.40000001,60,24,120,8,60,2000,7856]
[null,"Ք.Աբովյան  2-րդ  Միկրո. 46շ.","Ա.Ձ.   Մաթևոսյան   Արթուր",161112399.80000001,48,60,24,20,24,2000,6800]
[null,"Ք.Աբովյան  2-րդ  Միկրո. 48շ.","Ա.Ձ.   Մաթևոսյան   Արթուր",173091952.19999999,60,24,24,8,24,2000,3632]
[]
[null,null,{"$f":"IF(B6>0,AND(C6>0,D6>0)*D23)","v":0},{"$f":"ISBLANK(E6)","v":false},{"$f":"IF(E6>0,E3)","v":"лим-1,5"},{"$f":"IF(F6>0,5)","v":5},{"$f":"IF(G6>0,5)","v":false},5,{"$f":"IF(I6>0,E3)","v":false}]
[]
[null,null,{"$f":"IF(E6>0,E3,\"\")","v":"лим-1,5"},{"$f":"IF(F6>0,F3,\"\")","v":"лим-0,5"},{"$f":"IF(G6>0,G3,\"\")","v":""},{"$f":"IF(H6>0,H3,\"\")","v":"натур-сок  2"},{"$f":"MATCH(ISBLANK(E6),E4:I18,0)","v":{"$error":"#N/A"}}]