{"text_format":"1","workbook":"xlsx","n_sheets":3,"sheets":["Лист1","Лист2","Лист3"],"not_rendered":{"charts":0,"images":0,"macros":1,"external_links":1,"defined_names":0,"comments":0,"pivot_tables":0},"unopened":[],"bounds":{"document_bytes":16777216,"sheet_cells":100000,"rows_first":2000,"rows_last":500,"rows_between":2000,"halvings":0,"cell_chars":16384,"cell_head_chars":4096},"cells_cut":0,"cells_raw":0,"read":"whole","date_system":"1900"}

{"sheet":"Лист1","index":0,"n_rows":18,"n_cols":7,"rows_kept":18,"cut":false,"hidden":false,"merged":[]}
["фио","ПК","ЖК","МБ","КОРОБКА","всего УП","%"]
["Лопух И.О.",{"$f":"[1]Лист1!B3","v":4},{"$f":"[1]Лист1!C3","v":0},{"$f":"[1]Лист1!D3","v":0},{"$f":"[1]Лист1!E3","v":0},{"$f":"SUMPRODUCT(B2:E2,A12:D12)","v":4.8},{"$f":"F2/F12*100","v":18.46153846153846}]
["Татарин Д.Л.",{"$f":"[1]Лист1!B4","v":5},{"$f":"[1]Лист1!C4","v":0},{"$f":"[1]Лист1!D4","v":0},{"$f":"[1]Лист1!E4","v":0},{"$f":"SUMPRODUCT(B3:E3,A13:D13)","v":6},{"$f":"F3/F13*100","v":23.076923076923077}]
["Ретон Ж.Л.",{"$f":"[1]Лист1!B5","v":6},{"$f":"[1]Лист1!C5","v":0},{"$f":"[1]Лист1!D5","v":0},{"$f":"[1]Лист1!E5","v":0},{"$f":"SUMPRODUCT(B4:E4,A14:D14)","v":7.1999999999999993},{"$f":"F4/F14*100","v":27.69230769230769}]
["Пронет Ш.З.",{"$f":"[1]Лист1!B6","v":7},{"$f":"[1]Лист1!C6","v":0},{"$f":"[1]Лист1!D6","v":0},{"$f":"[1]Лист1!E6","v":0},{"$f":"SUMPRODUCT(B5:E5,A15:D15)","v":8.4},{"$f":"F5/F15*100","v":32.307692307692307}]
["Доля Щ.Н.",{"$f":"[1]Лист1!B8","v":9},{"$f":"[1]Лист1!C8","v":0},{"$f":"[1]Лист1!D8","v":0},{"$f":"[1]Лист1!E8","v":0},{"$f":"SUMPRODUCT(B6:E6,A16:D16)","v":10.799999999999999},{"$f":"F6/F16*100","v":41.538461538461533}]
["Процент Ю.Б.",{"$f":"[1]Лист1!B7","v":13},{"$f":"[1]Лист1!C7","v":0},{"$f":"[1]Лист1!D7","v":0},{"$f":"[1]Лист1!E7","v":0},{"$f":"SUMPRODUCT(B7:E7,A17:D17)","v":15.6},{"$f":"F7/F17*100","v":60}]
["Галуза А.О.",{"$f":"[1]Лист1!B2","v":15},{"$f":"[1]Лист1!C2","v":0},{"$f":"[1]Лист1!D2","v":0},{"$f":"[1]Лист1!E2","v":0},{"$f":"SUMPRODUCT(B8:E8,A18:D18)","v":18},{"$f":"F8/F18*100","v":69.230769230769226}]
[]
[]
["ПК","ЖК","МБ","КОРОБКА","Дней","План"]
[1.2,1.5,0.2,0.12,21,26]
[1.2,1.5,0.2,0.12,18,26]
[1.2,1.5,0.2,0.12,null,26]
[1.2,1.5,0.2,0.12,null,26]
[1.2,1.5,0.2,0.12,null,26]
[1.2,1.5,0.2,0.12,null,26]
[1.2,1.5,0.2,0.12,null,26]

{"sheet":"Лист2","index":1,"n_rows":0,"n_cols":0,"rows_kept":0,"cut":false,"hidden":false,"merged":[]}

{"sheet":"Лист3","index":2,"n_rows":0,"n_cols":0,"rows_kept":0,"cut":false,"hidden":false,"merged":[]}