{"text_format":"1","workbook":"xlsx","n_sheets":2,"sheets":["Лист1","Лист2"],"not_rendered":{"charts":0,"images":0,"macros":0,"external_links":0,"defined_names":0,"comments":0,"pivot_tables":0},"unopened":[],"bounds":{"document_bytes":16777216,"sheet_cells":100000,"rows_first":2000,"rows_last":500,"rows_between":2000,"halvings":0,"cell_chars":16384,"cell_head_chars":4096},"cells_cut":0,"cells_raw":0,"read":"whole","date_system":"1900"}

{"sheet":"Лист1","index":0,"n_rows":136,"n_cols":2,"rows_kept":136,"cut":false,"hidden":false,"merged":[]}
[10,100000]
[20,200000]
[30,300000]
[40,400000]
[50,500000]
[60,600000]
[70,700000]
[80,800000]
[90,900000]
[100,1000000]
[110,1100000]
[120,1200000]
[130,1300000]
[140,1400000]
[150,1500000]
[160,1600000]
[170,1700000]
[180,1800000]
[190,1900000]
[200,2000000]
[210,2100000]
[220,2200000]
[230,2300000]
[240,2400000]
[250,2500000]
[260,2600000]
[270,2700000]
[280,2800000]
[290,2900000]
[300,3000000]
[310,3100000]
[320,3200000]
[330,3300000]
[340,3400000]
[350,3500000]
[360,3600000]
[370,3700000]
[380,3800000]
[390,3900000]
[400,4000000]
[410,4100000]
[420,4200000]
[430,4300000]
[440,4400000]
[450,4500000]
[460,4600000]
[470,4700000]
[480,4800000]
[490,4900000]
[500,5000000]
[510,5100000]
[520,5200000]
[530,5300000]
[540,5400000]
[550,5500000]
[560,5600000]
[570,5700000]
[580,5800000]
[590,5900000]
[600,6000000]
[610,6100000]
[620,6200000]
[630,6300000]
[640,6400000]
[650,6500000]
[660,6600000]
[670,6700000]
[680,6800000]
[690,6900000]
[700,7000000]
[710,7100000]
[720,7200000]
[730,7300000]
[740,7400000]
[750,7500000]
[760,7600000]
[770,7700000]
[780,7800000]
[790,7900000]
[800,8000000]
[810,8100000]
[820,8200000]
[830,8300000]
[840,8400000]
[850,8500000]
[860,8600000]
[870,8700000]
[880,8800000]
[890,8900000]
[900,9000000]
[910,9100000]
[920,9200000]
[930,9300000]
[940,9400000]
[950,9500000]
[960,9600000]
[970,9700000]
[980,9800000]
[990,9900000]
[1000,10000000]
[1010,10100000]
[1020,10200000]
[1030,10300000]
[1040,10400000]
[1050,10500000]
[1060,10600000]
[1070,10700000]
[1080,10800000]
[1090,10900000]
[1100,11000000]
[1110,11100000]
[1120,11200000]
[1130,11300000]
[1140,11400000]
[1150,11500000]
[1160,11600000]
[1170,11700000]
[1180,11800000]
[1190,11900000]
[1200,12000000]
[1210,12100000]
[1220,12200000]
[1230,12300000]
[1240,12400000]
[1250,12500000]
[1260,12600000]
[1270,12700000]
[1280,12800000]
[1290,12900000]
[1300,13000000]
[1310,13100000]
[1320,13200000]
[1330,13300000]
[1340,13400000]
[1350,13500000]
[1360,13600000]

{"sheet":"Лист2","index":1,"n_rows":1513,"n_cols":34,"rows_kept":1513,"cut":false,"hidden":false,"merged":[[1,17,1,18],[2,17,2,18],[3,17,3,18],[4,17,4,18],[1,9,1,10],[2,9,2,10],[3,9,3,10],[4,9,4,10],[1,13,1,14],[2,13,2,14],[3,13,3,14],[4,13,4,14],[1,1,1,2],[2,1,2,2],[3,1,3,2],[4,1,4,2],[1,5,1,6],[2,5,2,6],[3,5,3,6],[4,5,4,6]]}
[]
[]
[]
[]
[]
[]
[]
[]
[]
[]
[]
[]
[]
[]
[]
[]
[]
[]
[]
[]
[]
[]
[]
[]
[]
[]
[]
[]
[]
[]
[]
[]
[]
[]
[]
[]
[]
[]
[]
[]
[]
[]
[]
[]
[]
[]
[]
[null,null,null,null,null,null,null,null,null,null,null,null,null,null,null,null,null,null,null,null,null,null,null,null,null,null,null,null,null,null,null,null,null,"и"]
[]
[]
[]
[]
[]
[]
[]
[]
[]
[]
[]
[]
[]
[]
[]
[]
[]
[]
[]
[]
[]
[]
[]
[]
[]
[]
[]
[]
[]
[]
[]
[]
[]
[]
[]
[]
[]
[]
[]
[]
[]
[]
[]
[]
[]
[]
[]
[]
[]
[]
[]
[]
[]
[]
[]
[]
[]
[]
[]
[]
[]
[]
[]
[]
[]
[]
[]
[]
[]
[]
[]
[]
[]
[]
[]
[]
[]
[]
[]
[]
[]
[]
[]
[]
[]
[]
[]
[]
[]
[]
[]
[]
[]
[]
[]
[]
[]
[]
[]
[]
[]
[]
[]
[]
[]
[]
[]
[]
[]
[]
[]
[]
[]
[]
[]
[]
[]
[]
[]
[]
[]
[]
[]
[null,null,null,null,null,null,null,null,null,null,null,null,null,null,null,null,null,null,null,null,null,null,null,null,null,null,null,null,null,null,null,null,null,"и"]
[]
[]
[]
[]
[]
[]
[]
[]
[]
[]
[]
[]
[]
[]
[]
[]
[]
[]
[]
[]
[]
[]
[]
[]
[]
[]
[]
[]
[]
[]
[null,null,null,null,null,null,null,null,null,null,null,null,null,null,null,null,null,null,null,null,null,null,null,null,null,null,null,null,null,null,null,null,null,"и"]
[]
[]
[]
[]
[]
[]
[]
[]
[]
[]
[]
[]
[]
[]
[]
[]
[]
[]
[]
[]
[]
[]
[]
[]
[]
[]
[]
[]
[]
[]
[null,null,null,null,null,null,null,null,null,null,null,null,null,null,null,null,null,null,null,null,null,null,null,null,null,null,null,null,null,null,null,null,null,"и"]
[]
[]
[]
[]
[]
[]
[]
[]
[]
[]
[]
[]
[]
[]
[]
[]
[]
[]
[]
[]
[]
[]
[]
[]
[]
[]
[]
[]
[]
[]
[null,null,null,null,null,null,null,null,null,null,null,null,null,null,null,null,null,null,null,null,null,null,null,null,null,null,null,null,null,null,null,null,null,"и"]
[]
[]
[]
[]
[]
[]
[]
[]
[]
[]
[]
[]
[]
[]
[]
[]
[]
[]
[]
[]
[]
[]
[]
[]
[]
[]
[]
[]
[]
[]
[]
[]
[]
[]
[]
[]
[]
[]
[]
[]
[]
[]
[]
[]
[]
[]
[]
[]
[]
[]
[]
[]
[]
[]
[]
[]
[]
[]
[]
[]
[]
[null,null,null,null,null,null,null,null,null,null,null,null,null,null,null,null,null,null,null,null,null,null,null,null,null,null,null,null,null,null,null,null,null,"и"]
[]
[]
[]
[]
[]
[]
[]
[]
[]
[]
[]
[]
[]
[]
[]
[]
[]
[]
[]
[]
[]
[]
[]
[]
[]
[]
[]
[]
[]
[]
[null,null,null,null,null,null,null,null,null,null,null,null,null,null,null,null,null,null,null,null,null,null,null,null,null,null,null,null,null,null,null,null,null,"и"]
[]
[]
[]
[]
[]
[]
[]
[]
[]
[]
[]
[]
[]
[]
[]
[]
[]
[]
[]
[]
[]
[]
[]
[]
[]
[]
[]
[]
[]
[]
[null,null,null,null,null,null,null,null,null,null,null,null,null,null,null,null,null,null,null,null,null,null,null,null,null,null,null,null,null,null,null,null,null,"и"]
[]
[]
[]
[]
[]
[]
[]
[]
[]
[]
[]
[]
[]
[]
[]
[]
[]
[]
[]
[]
[]
[]
[]
[]
[]
[]
[]
[]
[]
[]
[null,null,null,null,null,null,null,null,null,null,null,null,null,null,null,null,null,null,null,null,null,null,null,null,null,null,null,null,null,null,null,null,null,"и"]
[]
[]
[]
[]
[]
[]
[]
[]
[]
[]
[]
[]
[]
[]
[]
[]
[]
[]
[]
[]
[]
[]
[]
[]
[]
[]
[]
[]
[]
[]
[]
[]
[]
[null,null,null,null,null,{"$f":"IFERROR(INDEX(Лист1!B:B,IF(MOD(ROW(A468)/31,1),\"\",INT(ROW(A468)/31))),\"\")","v":""}]
[null,null,null,null,null,{"$f":"IFERROR(INDEX(Лист1!B:B,IF(MOD(ROW(A469)/31,1),\"\",INT(ROW(A469)/31))),\"\")","v":""}]
[null,null,null,null,null,{"$f":"IFERROR(INDEX(Лист1!B:B,IF(MOD(ROW(A470)/31,1),\"\",INT(ROW(A470)/31))),\"\")","v":""}]
[null,null,null,null,null,{"$f":"IFERROR(INDEX(Лист1!B:B,IF(MOD(ROW(A471)/31,1),\"\",INT(ROW(A471)/31))),\"\")","v":""}]
[null,null,null,null,null,{"$f":"IFERROR(INDEX(Лист1!B:B,IF(MOD(ROW(A472)/31,1),\"\",INT(ROW(A472)/31))),\"\")","v":""}]
[null,null,null,null,null,{"$f":"IFERROR(INDEX(Лист1!B:B,IF(MOD(ROW(A473)/31,1),\"\",INT(ROW(A473)/31))),\"\")","v":""}]
[null,null,null,null,null,{"$f":"IFERROR(INDEX(Лист1!B:B,IF(MOD(ROW(A474)/31,1),\"\",INT(ROW(A474)/31))),\"\")","v":""}]
[null,null,null,null,null,{"$f":"IFERROR(INDEX(Лист1!B:B,IF(MOD(ROW(A475)/31,1),\"\",INT(ROW(A475)/31))),\"\")","v":""}]
[null,null,null,null,null,{"$f":"IFERROR(INDEX(Лист1!B:B,IF(MOD(ROW(A476)/31,1),\"\",INT(ROW(A476)/31))),\"\")","v":""}]
[null,null,null,null,null,{"$f":"IFERROR(INDEX(Лист1!B:B,IF(MOD(ROW(A477)/31,1),\"\",INT(ROW(A477)/31))),\"\")","v":""}]
[null,null,null,null,null,{"$f":"IFERROR(INDEX(Лист1!B:B,IF(MOD(ROW(A478)/31,1),\"\",INT(ROW(A478)/31))),\"\")","v":""}]
[null,null,null,null,null,{"$f":"IFERROR(INDEX(Лист1!B:B,IF(MOD(ROW(A479)/31,1),\"\",INT(ROW(A479)/31))),\"\")","v":""}]
[null,null,null,null,null,{"$f":"IFERROR(INDEX(Лист1!B:B,IF(MOD(ROW(A480)/31,1),\"\",INT(ROW(A480)/31))),\"\")","v":""}]
[null,null,null,null,null,{"$f":"IFERROR(INDEX(Лист1!B:B,IF(MOD(ROW(A481)/31,1),\"\",INT(ROW(A481)/31))),\"\")","v":""}]
[null,null,null,null,null,{"$f":"IFERROR(INDEX(Лист1!B:B,IF(MOD(ROW(A482)/31,1),\"\",INT(ROW(A482)/31))),\"\")","v":""}]
[null,null,null,null,null,{"$f":"IFERROR(INDEX(Лист1!B:B,IF(MOD(ROW(A483)/31,1),\"\",INT(ROW(A483)/31))),\"\")","v":""}]
[null,null,null,null,null,{"$f":"IFERROR(INDEX(Лист1!B:B,IF(MOD(ROW(A484)/31,1),\"\",INT(ROW(A484)/31))),\"\")","v":""}]
[null,null,null,null,null,{"$f":"IFERROR(INDEX(Лист1!B:B,IF(MOD(ROW(A485)/31,1),\"\",INT(ROW(A485)/31))),\"\")","v":""}]
[null,null,null,null,null,{"$f":"IFERROR(INDEX(Лист1!B:B,IF(MOD(ROW(A486)/31,1),\"\",INT(ROW(A486)/31))),\"\")","v":""}]
[null,null,null,null,null,{"$f":"IFERROR(INDEX(Лист1!B:B,IF(MOD(ROW(A487)/31,1),\"\",INT(ROW(A487)/31))),\"\")","v":""}]
[null,null,null,null,null,{"$f":"IFERROR(INDEX(Лист1!B:B,IF(MOD(ROW(A488)/31,1),\"\",INT(ROW(A488)/31))),\"\")","v":""}]
[null,null,null,null,null,{"$f":"IFERROR(INDEX(Лист1!B:B,IF(MOD(ROW(A489)/31,1),\"\",INT(ROW(A489)/31))),\"\")","v":""}]
[null,null,null,null,null,{"$f":"IFERROR(INDEX(Лист1!B:B,IF(MOD(ROW(A490)/31,1),\"\",INT(ROW(A490)/31))),\"\")","v":""}]
[null,null,null,null,null,{"$f":"IFERROR(INDEX(Лист1!B:B,IF(MOD(ROW(A491)/31,1),\"\",INT(ROW(A491)/31))),\"\")","v":""}]
[null,null,null,null,null,{"$f":"IFERROR(INDEX(Лист1!B:B,IF(MOD(ROW(A492)/31,1),\"\",INT(ROW(A492)/31))),\"\")","v":""}]
[null,null,null,null,null,{"$f":"IFERROR(INDEX(Лист1!B:B,IF(MOD(ROW(A493)/31,1),\"\",INT(ROW(A493)/31))),\"\")","v":""}]
[null,null,null,null,null,{"$f":"IFERROR(INDEX(Лист1!B:B,IF(MOD(ROW(A494)/31,1),\"\",INT(ROW(A494)/31))),\"\")","v":""}]
[null,null,null,null,null,{"$f":"IFERROR(INDEX(Лист1!B:B,IF(MOD(ROW(A495)/31,1),\"\",INT(ROW(A495)/31))),\"\")","v":""}]
[null,null,null,null,null,{"$f":"IFERROR(INDEX(Лист1!B:B,IF(MOD(ROW(A496)/31,1),\"\",INT(ROW(A496)/31))),\"\")","v":1600000}]
[null,null,null,null,null,{"$f":"IFERROR(INDEX(Лист1!B:B,IF(MOD(ROW(A497)/31,1),\"\",INT(ROW(A497)/31))),\"\")","v":""}]
[null,null,null,null,null,{"$f":"IFERROR(INDEX(Лист1!B:B,IF(MOD(ROW(A498)/31,1),\"\",INT(ROW(A498)/31))),\"\")","v":""}]
[null,null,null,null,null,{"$f":"IFERROR(INDEX(Лист1!B:B,IF(MOD(ROW(A499)/31,1),\"\",INT(ROW(A499)/31))),\"\")","v":""}]
[null,null,null,null,null,{"$f":"IFERROR(INDEX(Лист1!B:B,IF(MOD(ROW(A500)/31,1),\"\",INT(ROW(A500)/31))),\"\")","v":""}]
[null,null,null,null,null,{"$f":"IFERROR(INDEX(Лист1!B:B,IF(MOD(ROW(A501)/31,1),\"\",INT(ROW(A501)/31))),\"\")","v":""}]
[null,null,null,null,null,{"$f":"IFERROR(INDEX(Лист1!B:B,IF(MOD(ROW(A502)/31,1),\"\",INT(ROW(A502)/31))),\"\")","v":""}]
[null,null,null,null,null,{"$f":"IFERROR(INDEX(Лист1!B:B,IF(MOD(ROW(A503)/31,1),\"\",INT(ROW(A503)/31))),\"\")","v":""}]
[null,null,null,null,null,{"$f":"IFERROR(INDEX(Лист1!B:B,IF(MOD(ROW(A504)/31,1),\"\",INT(ROW(A504)/31))),\"\")","v":""}]
[null,null,null,null,null,{"$f":"IFERROR(INDEX(Лист1!B:B,IF(MOD(ROW(A505)/31,1),\"\",INT(ROW(A505)/31))),\"\")","v":""}]
[null,null,null,null,null,{"$f":"IFERROR(INDEX(Лист1!B:B,IF(MOD(ROW(A506)/31,1),\"\",INT(ROW(A506)/31))),\"\")","v":""}]
[null,null,null,null,null,{"$f":"IFERROR(INDEX(Лист1!B:B,IF(MOD(ROW(A507)/31,1),\"\",INT(ROW(A507)/31))),\"\")","v":""}]
[null,null,null,null,null,{"$f":"IFERROR(INDEX(Лист1!B:B,IF(MOD(ROW(A508)/31,1),\"\",INT(ROW(A508)/31))),\"\")","v":""}]
[null,null,null,null,null,{"$f":"IFERROR(INDEX(Лист1!B:B,IF(MOD(ROW(A509)/31,1),\"\",INT(ROW(A509)/31))),\"\")","v":""}]
[null,null,null,null,null,{"$f":"IFERROR(INDEX(Лист1!B:B,IF(MOD(ROW(A510)/31,1),\"\",INT(ROW(A510)/31))),\"\")","v":""}]
[null,null,null,null,null,{"$f":"IFERROR(INDEX(Лист1!B:B,IF(MOD(ROW(A511)/31,1),\"\",INT(ROW(A511)/31))),\"\")","v":""}]
[null,null,null,null,null,{"$f":"IFERROR(INDEX(Лист1!B:B,IF(MOD(ROW(A512)/31,1),\"\",INT(ROW(A512)/31))),\"\")","v":""}]
[null,null,null,null,null,{"$f":"IFERROR(INDEX(Лист1!B:B,IF(MOD(ROW(A513)/31,1),\"\",INT(ROW(A513)/31))),\"\")","v":""}]
[null,null,null,null,null,{"$f":"IFERROR(INDEX(Лист1!B:B,IF(MOD(ROW(A514)/31,1),\"\",INT(ROW(A514)/31))),\"\")","v":""}]
[null,null,null,null,null,{"$f":"IFERROR(INDEX(Лист1!B:B,IF(MOD(ROW(A515)/31,1),\"\",INT(ROW(A515)/31))),\"\")","v":""}]
[null,null,null,null,null,{"$f":"IFERROR(INDEX(Лист1!B:B,IF(MOD(ROW(A516)/31,1),\"\",INT(ROW(A516)/31))),\"\")","v":""}]
[null,null,null,null,null,{"$f":"IFERROR(INDEX(Лист1!B:B,IF(MOD(ROW(A517)/31,1),\"\",INT(ROW(A517)/31))),\"\")","v":""}]
[null,null,null,null,null,{"$f":"IFERROR(INDEX(Лист1!B:B,IF(MOD(ROW(A518)/31,1),\"\",INT(ROW(A518)/31))),\"\")","v":""}]
[null,null,null,null,null,{"$f":"IFERROR(INDEX(Лист1!B:B,IF(MOD(ROW(A519)/31,1),\"\",INT(ROW(A519)/31))),\"\")","v":""}]
[null,null,null,null,null,{"$f":"IFERROR(INDEX(Лист1!B:B,IF(MOD(ROW(A520)/31,1),\"\",INT(ROW(A520)/31))),\"\")","v":""}]
[null,null,null,null,null,{"$f":"IFERROR(INDEX(Лист1!B:B,IF(MOD(ROW(A521)/31,1),\"\",INT(ROW(A521)/31))),\"\")","v":""}]
[null,null,null,null,null,{"$f":"IFERROR(INDEX(Лист1!B:B,IF(MOD(ROW(A522)/31,1),\"\",INT(ROW(A522)/31))),\"\")","v":""}]
[null,null,null,null,null,{"$f":"IFERROR(INDEX(Лист1!B:B,IF(MOD(ROW(A523)/31,1),\"\",INT(ROW(A523)/31))),\"\")","v":""}]
[null,null,null,null,null,{"$f":"IFERROR(INDEX(Лист1!B:B,IF(MOD(ROW(A524)/31,1),\"\",INT(ROW(A524)/31))),\"\")","v":""}]
[null,null,null,null,null,{"$f":"IFERROR(INDEX(Лист1!B:B,IF(MOD(ROW(A525)/31,1),\"\",INT(ROW(A525)/31))),\"\")","v":""}]
[null,null,null,null,null,{"$f":"IFERROR(INDEX(Лист1!B:B,IF(MOD(ROW(A526)/31,1),\"\",INT(ROW(A526)/31))),\"\")","v":""}]
[null,null,null,null,null,{"$f":"IFERROR(INDEX(Лист1!B:B,IF(MOD(ROW(A527)/31,1),\"\",INT(ROW(A527)/31))),\"\")","v":1700000}]
[null,null,null,null,null,{"$f":"IFERROR(INDEX(Лист1!B:B,IF(MOD(ROW(A528)/31,1),\"\",INT(ROW(A528)/31))),\"\")","v":""}]
[null,null,null,null,null,{"$f":"IFERROR(INDEX(Лист1!B:B,IF(MOD(ROW(A529)/31,1),\"\",INT(ROW(A529)/31))),\"\")","v":""}]
[null,null,null,null,null,{"$f":"IFERROR(INDEX(Лист1!B:B,IF(MOD(ROW(A530)/31,1),\"\",INT(ROW(A530)/31))),\"\")","v":""}]
[null,null,null,null,null,{"$f":"IFERROR(INDEX(Лист1!B:B,IF(MOD(ROW(A531)/31,1),\"\",INT(ROW(A531)/31))),\"\")","v":""}]
[null,null,null,null,null,{"$f":"IFERROR(INDEX(Лист1!B:B,IF(MOD(ROW(A532)/31,1),\"\",INT(ROW(A532)/31))),\"\")","v":""}]
[null,null,null,null,null,{"$f":"IFERROR(INDEX(Лист1!B:B,IF(MOD(ROW(A533)/31,1),\"\",INT(ROW(A533)/31))),\"\")","v":""}]
[null,null,null,null,null,{"$f":"IFERROR(INDEX(Лист1!B:B,IF(MOD(ROW(A534)/31,1),\"\",INT(ROW(A534)/31))),\"\")","v":""}]
[null,null,null,null,null,{"$f":"IFERROR(INDEX(Лист1!B:B,IF(MOD(ROW(A535)/31,1),\"\",INT(ROW(A535)/31))),\"\")","v":""}]
[null,null,null,null,null,{"$f":"IFERROR(INDEX(Лист1!B:B,IF(MOD(ROW(A536)/31,1),\"\",INT(ROW(A536)/31))),\"\")","v":""}]
[null,null,null,null,null,{"$f":"IFERROR(INDEX(Лист1!B:B,IF(MOD(ROW(A537)/31,1),\"\",INT(ROW(A537)/31))),\"\")","v":""}]
[null,null,null,null,null,{"$f":"IFERROR(INDEX(Лист1!B:B,IF(MOD(ROW(A538)/31,1),\"\",INT(ROW(A538)/31))),\"\")","v":""}]
[null,null,null,null,null,{"$f":"IFERROR(INDEX(Лист1!B:B,IF(MOD(ROW(A539)/31,1),\"\",INT(ROW(A539)/31))),\"\")","v":""}]
[null,null,null,null,null,{"$f":"IFERROR(INDEX(Лист1!B:B,IF(MOD(ROW(A540)/31,1),\"\",INT(ROW(A540)/31))),\"\")","v":""}]
[null,null,null,null,null,{"$f":"IFERROR(INDEX(Лист1!B:B,IF(MOD(ROW(A541)/31,1),\"\",INT(ROW(A541)/31))),\"\")","v":""}]
[null,null,null,null,null,{"$f":"IFERROR(INDEX(Лист1!B:B,IF(MOD(ROW(A542)/31,1),\"\",INT(ROW(A542)/31))),\"\")","v":""}]
[null,null,null,null,null,{"$f":"IFERROR(INDEX(Лист1!B:B,IF(MOD(ROW(A543)/31,1),\"\",INT(ROW(A543)/31))),\"\")","v":""}]
[null,null,null,null,null,{"$f":"IFERROR(INDEX(Лист1!B:B,IF(MOD(ROW(A544)/31,1),\"\",INT(ROW(A544)/31))),\"\")","v":""}]
[null,null,null,null,null,{"$f":"IFERROR(INDEX(Лист1!B:B,IF(MOD(ROW(A545)/31,1),\"\",INT(ROW(A545)/31))),\"\")","v":""}]
[null,null,null,null,null,{"$f":"IFERROR(INDEX(Лист1!B:B,IF(MOD(ROW(A546)/31,1),\"\",INT(ROW(A546)/31))),\"\")","v":""}]
[null,null,null,null,null,{"$f":"IFERROR(INDEX(Лист1!B:B,IF(MOD(ROW(A547)/31,1),\"\",INT(ROW(A547)/31))),\"\")","v":""}]
[null,null,null,null,null,{"$f":"IFERROR(INDEX(Лист1!B:B,IF(MOD(ROW(A548)/31,1),\"\",INT(ROW(A548)/31))),\"\")","v":""}]
[null,null,null,null,null,{"$f":"IFERROR(INDEX(Лист1!B:B,IF(MOD(ROW(A549)/31,1),\"\",INT(ROW(A549)/31))),\"\")","v":""}]
[null,null,null,null,null,{"$f":"IFERROR(INDEX(Лист1!B:B,IF(MOD(ROW(A550)/31,1),\"\",INT(ROW(A550)/31))),\"\")","v":""}]
[null,null,null,null,null,{"$f":"IFERROR(INDEX(Лист1!B:B,IF(MOD(ROW(A551)/31,1),\"\",INT(ROW(A551)/31))),\"\")","v":""}]
[null,null,null,null,null,{"$f":"IFERROR(INDEX(Лист1!B:B,IF(MOD(ROW(A552)/31,1),\"\",INT(ROW(A552)/31))),\"\")","v":""}]
[null,null,null,null,null,{"$f":"IFERROR(INDEX(Лист1!B:B,IF(MOD(ROW(A553)/31,1),\"\",INT(ROW(A553)/31))),\"\")","v":""}]
[null,null,null,null,null,{"$f":"IFERROR(INDEX(Лист1!B:B,IF(MOD(ROW(A554)/31,1),\"\",INT(ROW(A554)/31))),\"\")","v":""}]
[null,null,null,null,null,{"$f":"IFERROR(INDEX(Лист1!B:B,IF(MOD(ROW(A555)/31,1),\"\",INT(ROW(A555)/31))),\"\")","v":""}]
[null,null,null,null,null,{"$f":"IFERROR(INDEX(Лист1!B:B,IF(MOD(ROW(A556)/31,1),\"\",INT(ROW(A556)/31))),\"\")","v":""}]
[null,null,null,null,null,{"$f":"IFERROR(INDEX(Лист1!B:B,IF(MOD(ROW(A557)/31,1),\"\",INT(ROW(A557)/31))),\"\")","v":""}]
[null,null,null,null,null,{"$f":"IFERROR(INDEX(Лист1!B:B,IF(MOD(ROW(A558)/31,1),\"\",INT(ROW(A558)/31))),\"\")","v":1800000}]
[null,null,null,null,null,{"$f":"IFERROR(INDEX(Лист1!B:B,IF(MOD(ROW(A559)/31,1),\"\",INT(ROW(A559)/31))),\"\")","v":""}]
[null,null,null,null,null,{"$f":"IFERROR(INDEX(Лист1!B:B,IF(MOD(ROW(A560)/31,1),\"\",INT(ROW(A560)/31))),\"\")","v":""}]
[null,null,null,null,null,{"$f":"IFERROR(INDEX(Лист1!B:B,IF(MOD(ROW(A561)/31,1),\"\",INT(ROW(A561)/31))),\"\")","v":""}]
[null,null,null,null,null,{"$f":"IFERROR(INDEX(Лист1!B:B,IF(MOD(ROW(A562)/31,1),\"\",INT(ROW(A562)/31))),\"\")","v":""}]
[null,null,null,null,null,{"$f":"IFERROR(INDEX(Лист1!B:B,IF(MOD(ROW(A563)/31,1),\"\",INT(ROW(A563)/31))),\"\")","v":""}]
[null,null,null,null,null,{"$f":"IFERROR(INDEX(Лист1!B:B,IF(MOD(ROW(A564)/31,1),\"\",INT(ROW(A564)/31))),\"\")","v":""}]
[null,null,null,null,null,{"$f":"IFERROR(INDEX(Лист1!B:B,IF(MOD(ROW(A565)/31,1),\"\",INT(ROW(A565)/31))),\"\")","v":""}]
[null,null,null,null,null,{"$f":"IFERROR(INDEX(Лист1!B:B,IF(MOD(ROW(A566)/31,1),\"\",INT(ROW(A566)/31))),\"\")","v":""}]
[null,null,null,null,null,{"$f":"IFERROR(INDEX(Лист1!B:B,IF(MOD(ROW(A567)/31,1),\"\",INT(ROW(A567)/31))),\"\")","v":""}]
[null,null,null,null,null,{"$f":"IFERROR(INDEX(Лист1!B:B,IF(MOD(ROW(A568)/31,1),\"\",INT(ROW(A568)/31))),\"\")","v":""}]
[null,null,null,null,null,{"$f":"IFERROR(INDEX(Лист1!B:B,IF(MOD(ROW(A569)/31,1),\"\",INT(ROW(A569)/31))),\"\")","v":""}]
[null,null,null,null,null,{"$f":"IFERROR(INDEX(Лист1!B:B,IF(MOD(ROW(A570)/31,1),\"\",INT(ROW(A570)/31))),\"\")","v":""}]
[null,null,null,null,null,{"$f":"IFERROR(INDEX(Лист1!B:B,IF(MOD(ROW(A571)/31,1),\"\",INT(ROW(A571)/31))),\"\")","v":""}]
[null,null,null,null,null,{"$f":"IFERROR(INDEX(Лист1!B:B,IF(MOD(ROW(A572)/31,1),\"\",INT(ROW(A572)/31))),\"\")","v":""}]
[null,null,null,null,null,{"$f":"IFERROR(INDEX(Лист1!B:B,IF(MOD(ROW(A573)/31,1),\"\",INT(ROW(A573)/31))),\"\")","v":""}]
[null,null,null,null,null,{"$f":"IFERROR(INDEX(Лист1!B:B,IF(MOD(ROW(A574)/31,1),\"\",INT(ROW(A574)/31))),\"\")","v":""}]
[null,null,null,null,null,{"$f":"IFERROR(INDEX(Лист1!B:B,IF(MOD(ROW(A575)/31,1),\"\",INT(ROW(A575)/31))),\"\")","v":""}]
[null,null,null,null,null,{"$f":"IFERROR(INDEX(Лист1!B:B,IF(MOD(ROW(A576)/31,1),\"\",INT(ROW(A576)/31))),\"\")","v":""}]
[null,null,null,null,null,{"$f":"IFERROR(INDEX(Лист1!B:B,IF(MOD(ROW(A577)/31,1),\"\",INT(ROW(A577)/31))),\"\")","v":""}]
[null,null,null,null,null,{"$f":"IFERROR(INDEX(Лист1!B:B,IF(MOD(ROW(A578)/31,1),\"\",INT(ROW(A578)/31))),\"\")","v":""}]
[null,null,null,null,null,{"$f":"IFERROR(INDEX(Лист1!B:B,IF(MOD(ROW(A579)/31,1),\"\",INT(ROW(A579)/31))),\"\")","v":""}]
[null,null,null,null,null,{"$f":"IFERROR(INDEX(Лист1!B:B,IF(MOD(ROW(A580)/31,1),\"\",INT(ROW(A580)/31))),\"\")","v":""}]
[null,null,null,null,null,{"$f":"IFERROR(INDEX(Лист1!B:B,IF(MOD(ROW(A581)/31,1),\"\",INT(ROW(A581)/31))),\"\")","v":""}]
[null,null,null,null,null,{"$f":"IFERROR(INDEX(Лист1!B:B,IF(MOD(ROW(A582)/31,1),\"\",INT(ROW(A582)/31))),\"\")","v":""}]
[null,null,null,null,null,{"$f":"IFERROR(INDEX(Лист1!B:B,IF(MOD(ROW(A583)/31,1),\"\",INT(ROW(A583)/31))),\"\")","v":""}]
[null,null,null,null,null,{"$f":"IFERROR(INDEX(Лист1!B:B,IF(MOD(ROW(A584)/31,1),\"\",INT(ROW(A584)/31))),\"\")","v":""}]
[null,null,null,null,null,{"$f":"IFERROR(INDEX(Лист1!B:B,IF(MOD(ROW(A585)/31,1),\"\",INT(ROW(A585)/31))),\"\")","v":""}]
[null,null,null,null,null,{"$f":"IFERROR(INDEX(Лист1!B:B,IF(MOD(ROW(A586)/31,1),\"\",INT(ROW(A586)/31))),\"\")","v":""}]
[null,null,null,null,null,{"$f":"IFERROR(INDEX(Лист1!B:B,IF(MOD(ROW(A587)/31,1),\"\",INT(ROW(A587)/31))),\"\")","v":""}]
[null,null,null,null,null,{"$f":"IFERROR(INDEX(Лист1!B:B,IF(MOD(ROW(A588)/31,1),\"\",INT(ROW(A588)/31))),\"\")","v":""}]
[null,null,null,null,null,{"$f":"IFERROR(INDEX(Лист1!B:B,IF(MOD(ROW(A589)/31,1),\"\",INT(ROW(A589)/31))),\"\")","v":1900000}]
[null,null,null,null,null,{"$f":"IFERROR(INDEX(Лист1!B:B,IF(MOD(ROW(A590)/31,1),\"\",INT(ROW(A590)/31))),\"\")","v":""}]
[null,null,null,null,null,{"$f":"IFERROR(INDEX(Лист1!B:B,IF(MOD(ROW(A591)/31,1),\"\",INT(ROW(A591)/31))),\"\")","v":""}]
[null,null,null,null,null,{"$f":"IFERROR(INDEX(Лист1!B:B,IF(MOD(ROW(A592)/31,1),\"\",INT(ROW(A592)/31))),\"\")","v":""}]
[null,null,null,null,null,{"$f":"IFERROR(INDEX(Лист1!B:B,IF(MOD(ROW(A593)/31,1),\"\",INT(ROW(A593)/31))),\"\")","v":""}]
[null,null,null,null,null,{"$f":"IFERROR(INDEX(Лист1!B:B,IF(MOD(ROW(A594)/31,1),\"\",INT(ROW(A594)/31))),\"\")","v":""}]
[null,null,null,null,null,{"$f":"IFERROR(INDEX(Лист1!B:B,IF(MOD(ROW(A595)/31,1),\"\",INT(ROW(A595)/31))),\"\")","v":""}]
[null,null,null,null,null,{"$f":"IFERROR(INDEX(Лист1!B:B,IF(MOD(ROW(A596)/31,1),\"\",INT(ROW(A596)/31))),\"\")","v":""}]
[null,null,null,null,null,{"$f":"IFERROR(INDEX(Лист1!B:B,IF(MOD(ROW(A597)/31,1),\"\",INT(ROW(A597)/31))),\"\")","v":""}]
[null,null,null,null,null,{"$f":"IFERROR(INDEX(Лист1!B:B,IF(MOD(ROW(A598)/31,1),\"\",INT(ROW(A598)/31))),\"\")","v":""}]
[null,null,null,null,null,{"$f":"IFERROR(INDEX(Лист1!B:B,IF(MOD(ROW(A599)/31,1),\"\",INT(ROW(A599)/31))),\"\")","v":""}]
[null,null,null,null,null,{"$f":"IFERROR(INDEX(Лист1!B:B,IF(MOD(ROW(A600)/31,1),\"\",INT(ROW(A600)/31))),\"\")","v":""}]
[null,null,null,null,null,{"$f":"IFERROR(INDEX(Лист1!B:B,IF(MOD(ROW(A601)/31,1),\"\",INT(ROW(A601)/31))),\"\")","v":""}]
[null,null,null,null,null,{"$f":"IFERROR(INDEX(Лист1!B:B,IF(MOD(ROW(A602)/31,1),\"\",INT(ROW(A602)/31))),\"\")","v":""}]
[null,null,null,null,null,{"$f":"IFERROR(INDEX(Лист1!B:B,IF(MOD(ROW(A603)/31,1),\"\",INT(ROW(A603)/31))),\"\")","v":""}]
[null,null,null,null,null,{"$f":"IFERROR(INDEX(Лист1!B:B,IF(MOD(ROW(A604)/31,1),\"\",INT(ROW(A604)/31))),\"\")","v":""}]
[null,null,null,null,null,{"$f":"IFERROR(INDEX(Лист1!B:B,IF(MOD(ROW(A605)/31,1),\"\",INT(ROW(A605)/31))),\"\")","v":""}]
[null,null,null,null,null,{"$f":"IFERROR(INDEX(Лист1!B:B,IF(MOD(ROW(A606)/31,1),\"\",INT(ROW(A606)/31))),\"\")","v":""}]
[null,null,null,null,null,{"$f":"IFERROR(INDEX(Лист1!B:B,IF(MOD(ROW(A607)/31,1),\"\",INT(ROW(A607)/31))),\"\")","v":""}]
[null,null,null,null,null,{"$f":"IFERROR(INDEX(Лист1!B:B,IF(MOD(ROW(A608)/31,1),\"\",INT(ROW(A608)/31))),\"\")","v":""}]
[null,null,null,null,null,{"$f":"IFERROR(INDEX(Лист1!B:B,IF(MOD(ROW(A609)/31,1),\"\",INT(ROW(A609)/31))),\"\")","v":""}]
[null,null,null,null,null,{"$f":"IFERROR(INDEX(Лист1!B:B,IF(MOD(ROW(A610)/31,1),\"\",INT(ROW(A610)/31))),\"\")","v":""}]
[null,null,null,null,null,{"$f":"IFERROR(INDEX(Лист1!B:B,IF(MOD(ROW(A611)/31,1),\"\",INT(ROW(A611)/31))),\"\")","v":""}]
[null,null,null,null,null,{"$f":"IFERROR(INDEX(Лист1!B:B,IF(MOD(ROW(A612)/31,1),\"\",INT(ROW(A612)/31))),\"\")","v":""}]
[null,null,null,null,null,{"$f":"IFERROR(INDEX(Лист1!B:B,IF(MOD(ROW(A613)/31,1),\"\",INT(ROW(A613)/31))),\"\")","v":""}]
[null,null,null,null,null,{"$f":"IFERROR(INDEX(Лист1!B:B,IF(MOD(ROW(A614)/31,1),\"\",INT(ROW(A614)/31))),\"\")","v":""}]
[null,null,null,null,null,{"$f":"IFERROR(INDEX(Лист1!B:B,IF(MOD(ROW(A615)/31,1),\"\",INT(ROW(A615)/31))),\"\")","v":""}]
[null,null,null,null,null,{"$f":"IFERROR(INDEX(Лист1!B:B,IF(MOD(ROW(A616)/31,1),\"\",INT(ROW(A616)/31))),\"\")","v":""}]
[null,null,null,null,null,{"$f":"IFERROR(INDEX(Лист1!B:B,IF(MOD(ROW(A617)/31,1),\"\",INT(ROW(A617)/31))),\"\")","v":""}]
[null,null,null,null,null,{"$f":"IFERROR(INDEX(Лист1!B:B,IF(MOD(ROW(A618)/31,1),\"\",INT(ROW(A618)/31))),\"\")","v":""}]
[null,null,null,null,null,{"$f":"IFERROR(INDEX(Лист1!B:B,IF(MOD(ROW(A619)/31,1),\"\",INT(ROW(A619)/31))),\"\")","v":""}]
[null,null,null,null,null,{"$f":"IFERROR(INDEX(Лист1!B:B,IF(MOD(ROW(A620)/31,1),\"\",INT(ROW(A620)/31))),\"\")","v":2000000}]
[null,null,null,null,null,{"$f":"IFERROR(INDEX(Лист1!B:B,IF(MOD(ROW(A621)/31,1),\"\",INT(ROW(A621)/31))),\"\")","v":""}]
[null,null,null,null,null,{"$f":"IFERROR(INDEX(Лист1!B:B,IF(MOD(ROW(A622)/31,1),\"\",INT(ROW(A622)/31))),\"\")","v":""}]
[null,null,null,null,null,{"$f":"IFERROR(INDEX(Лист1!B:B,IF(MOD(ROW(A623)/31,1),\"\",INT(ROW(A623)/31))),\"\")","v":""}]
[null,null,null,null,null,{"$f":"IFERROR(INDEX(Лист1!B:B,IF(MOD(ROW(A624)/31,1),\"\",INT(ROW(A624)/31))),\"\")","v":""}]
[null,null,null,null,null,{"$f":"IFERROR(INDEX(Лист1!B:B,IF(MOD(ROW(A625)/31,1),\"\",INT(ROW(A625)/31))),\"\")","v":""}]
[null,null,null,null,null,{"$f":"IFERROR(INDEX(Лист1!B:B,IF(MOD(ROW(A626)/31,1),\"\",INT(ROW(A626)/31))),\"\")","v":""}]
[null,null,null,null,null,{"$f":"IFERROR(INDEX(Лист1!B:B,IF(MOD(ROW(A627)/31,1),\"\",INT(ROW(A627)/31))),\"\")","v":""}]
[null,null,null,null,null,{"$f":"IFERROR(INDEX(Лист1!B:B,IF(MOD(ROW(A628)/31,1),\"\",INT(ROW(A628)/31))),\"\")","v":""}]
[null,null,null,null,null,{"$f":"IFERROR(INDEX(Лист1!B:B,IF(MOD(ROW(A629)/31,1),\"\",INT(ROW(A629)/31))),\"\")","v":""}]
[null,null,null,null,null,{"$f":"IFERROR(INDEX(Лист1!B:B,IF(MOD(ROW(A630)/31,1),\"\",INT(ROW(A630)/31))),\"\")","v":""}]
[null,null,null,null,null,{"$f":"IFERROR(INDEX(Лист1!B:B,IF(MOD(ROW(A631)/31,1),\"\",INT(ROW(A631)/31))),\"\")","v":""}]
[null,null,null,null,null,{"$f":"IFERROR(INDEX(Лист1!B:B,IF(MOD(ROW(A632)/31,1),\"\",INT(ROW(A632)/31))),\"\")","v":""}]
[null,null,null,null,null,{"$f":"IFERROR(INDEX(Лист1!B:B,IF(MOD(ROW(A633)/31,1),\"\",INT(ROW(A633)/31))),\"\")","v":""}]
[null,null,null,null,null,{"$f":"IFERROR(INDEX(Лист1!B:B,IF(MOD(ROW(A634)/31,1),\"\",INT(ROW(A634)/31))),\"\")","v":""}]
[null,null,null,null,null,{"$f":"IFERROR(INDEX(Лист1!B:B,IF(MOD(ROW(A635)/31,1),\"\",INT(ROW(A635)/31))),\"\")","v":""}]
[null,null,null,null,null,{"$f":"IFERROR(INDEX(Лист1!B:B,IF(MOD(ROW(A636)/31,1),\"\",INT(ROW(A636)/31))),\"\")","v":""}]
[null,null,null,null,null,{"$f":"IFERROR(INDEX(Лист1!B:B,IF(MOD(ROW(A637)/31,1),\"\",INT(ROW(A637)/31))),\"\")","v":""}]
[null,null,null,null,null,{"$f":"IFERROR(INDEX(Лист1!B:B,IF(MOD(ROW(A638)/31,1),\"\",INT(ROW(A638)/31))),\"\")","v":""}]
[null,null,null,null,null,{"$f":"IFERROR(INDEX(Лист1!B:B,IF(MOD(ROW(A639)/31,1),\"\",INT(ROW(A639)/31))),\"\")","v":""}]
[null,null,null,null,null,{"$f":"IFERROR(INDEX(Лист1!B:B,IF(MOD(ROW(A640)/31,1),\"\",INT(ROW(A640)/31))),\"\")","v":""}]
[null,null,null,null,null,{"$f":"IFERROR(INDEX(Лист1!B:B,IF(MOD(ROW(A641)/31,1),\"\",INT(ROW(A641)/31))),\"\")","v":""}]
[null,null,null,null,null,{"$f":"IFERROR(INDEX(Лист1!B:B,IF(MOD(ROW(A642)/31,1),\"\",INT(ROW(A642)/31))),\"\")","v":""}]
[null,null,null,null,null,{"$f":"IFERROR(INDEX(Лист1!B:B,IF(MOD(ROW(A643)/31,1),\"\",INT(ROW(A643)/31))),\"\")","v":""}]
[null,null,null,null,null,{"$f":"IFERROR(INDEX(Лист1!B:B,IF(MOD(ROW(A644)/31,1),\"\",INT(ROW(A644)/31))),\"\")","v":""}]
[null,null,null,null,null,{"$f":"IFERROR(INDEX(Лист1!B:B,IF(MOD(ROW(A645)/31,1),\"\",INT(ROW(A645)/31))),\"\")","v":""}]
[null,null,null,null,null,{"$f":"IFERROR(INDEX(Лист1!B:B,IF(MOD(ROW(A646)/31,1),\"\",INT(ROW(A646)/31))),\"\")","v":""}]
[null,null,null,null,null,{"$f":"IFERROR(INDEX(Лист1!B:B,IF(MOD(ROW(A647)/31,1),\"\",INT(ROW(A647)/31))),\"\")","v":""}]
[null,null,null,null,null,{"$f":"IFERROR(INDEX(Лист1!B:B,IF(MOD(ROW(A648)/31,1),\"\",INT(ROW(A648)/31))),\"\")","v":""}]
[null,null,null,null,null,{"$f":"IFERROR(INDEX(Лист1!B:B,IF(MOD(ROW(A649)/31,1),\"\",INT(ROW(A649)/31))),\"\")","v":""}]
[null,null,null,null,null,{"$f":"IFERROR(INDEX(Лист1!B:B,IF(MOD(ROW(A650)/31,1),\"\",INT(ROW(A650)/31))),\"\")","v":""}]
[null,null,null,null,null,{"$f":"IFERROR(INDEX(Лист1!B:B,IF(MOD(ROW(A651)/31,1),\"\",INT(ROW(A651)/31))),\"\")","v":2100000}]
[null,null,null,null,null,{"$f":"IFERROR(INDEX(Лист1!B:B,IF(MOD(ROW(A652)/31,1),\"\",INT(ROW(A652)/31))),\"\")","v":""}]
[null,null,null,null,null,{"$f":"IFERROR(INDEX(Лист1!B:B,IF(MOD(ROW(A653)/31,1),\"\",INT(ROW(A653)/31))),\"\")","v":""}]
[null,null,null,null,null,{"$f":"IFERROR(INDEX(Лист1!B:B,IF(MOD(ROW(A654)/31,1),\"\",INT(ROW(A654)/31))),\"\")","v":""}]
[null,null,null,null,null,{"$f":"IFERROR(INDEX(Лист1!B:B,IF(MOD(ROW(A655)/31,1),\"\",INT(ROW(A655)/31))),\"\")","v":""}]
[null,null,null,null,null,{"$f":"IFERROR(INDEX(Лист1!B:B,IF(MOD(ROW(A656)/31,1),\"\",INT(ROW(A656)/31))),\"\")","v":""}]
[null,null,null,null,null,{"$f":"IFERROR(INDEX(Лист1!B:B,IF(MOD(ROW(A657)/31,1),\"\",INT(ROW(A657)/31))),\"\")","v":""}]
[null,null,null,null,null,{"$f":"IFERROR(INDEX(Лист1!B:B,IF(MOD(ROW(A658)/31,1),\"\",INT(ROW(A658)/31))),\"\")","v":""}]
[null,null,null,null,null,{"$f":"IFERROR(INDEX(Лист1!B:B,IF(MOD(ROW(A659)/31,1),\"\",INT(ROW(A659)/31))),\"\")","v":""}]
[null,null,null,null,null,{"$f":"IFERROR(INDEX(Лист1!B:B,IF(MOD(ROW(A660)/31,1),\"\",INT(ROW(A660)/31))),\"\")","v":""}]
[null,null,null,null,null,{"$f":"IFERROR(INDEX(Лист1!B:B,IF(MOD(ROW(A661)/31,1),\"\",INT(ROW(A661)/31))),\"\")","v":""}]
[null,null,null,null,null,{"$f":"IFERROR(INDEX(Лист1!B:B,IF(MOD(ROW(A662)/31,1),\"\",INT(ROW(A662)/31))),\"\")","v":""}]
[null,null,null,null,null,{"$f":"IFERROR(INDEX(Лист1!B:B,IF(MOD(ROW(A663)/31,1),\"\",INT(ROW(A663)/31))),\"\")","v":""}]
[null,null,null,null,null,{"$f":"IFERROR(INDEX(Лист1!B:B,IF(MOD(ROW(A664)/31,1),\"\",INT(ROW(A664)/31))),\"\")","v":""}]
[null,null,null,null,null,{"$f":"IFERROR(INDEX(Лист1!B:B,IF(MOD(ROW(A665)/31,1),\"\",INT(ROW(A665)/31))),\"\")","v":""}]
[null,null,null,null,null,{"$f":"IFERROR(INDEX(Лист1!B:B,IF(MOD(ROW(A666)/31,1),\"\",INT(ROW(A666)/31))),\"\")","v":""}]
[null,null,null,null,null,{"$f":"IFERROR(INDEX(Лист1!B:B,IF(MOD(ROW(A667)/31,1),\"\",INT(ROW(A667)/31))),\"\")","v":""}]
[null,null,null,null,null,{"$f":"IFERROR(INDEX(Лист1!B:B,IF(MOD(ROW(A668)/31,1),\"\",INT(ROW(A668)/31))),\"\")","v":""}]
[null,null,null,null,null,{"$f":"IFERROR(INDEX(Лист1!B:B,IF(MOD(ROW(A669)/31,1),\"\",INT(ROW(A669)/31))),\"\")","v":""}]
[null,null,null,null,null,{"$f":"IFERROR(INDEX(Лист1!B:B,IF(MOD(ROW(A670)/31,1),\"\",INT(ROW(A670)/31))),\"\")","v":""}]
[null,null,null,null,null,{"$f":"IFERROR(INDEX(Лист1!B:B,IF(MOD(ROW(A671)/31,1),\"\",INT(ROW(A671)/31))),\"\")","v":""}]
[null,null,null,null,null,{"$f":"IFERROR(INDEX(Лист1!B:B,IF(MOD(ROW(A672)/31,1),\"\",INT(ROW(A672)/31))),\"\")","v":""}]
[null,null,null,null,null,{"$f":"IFERROR(INDEX(Лист1!B:B,IF(MOD(ROW(A673)/31,1),\"\",INT(ROW(A673)/31))),\"\")","v":""}]
[null,null,null,null,null,{"$f":"IFERROR(INDEX(Лист1!B:B,IF(MOD(ROW(A674)/31,1),\"\",INT(ROW(A674)/31))),\"\")","v":""}]
[null,null,null,null,null,{"$f":"IFERROR(INDEX(Лист1!B:B,IF(MOD(ROW(A675)/31,1),\"\",INT(ROW(A675)/31))),\"\")","v":""}]
[null,null,null,null,null,{"$f":"IFERROR(INDEX(Лист1!B:B,IF(MOD(ROW(A676)/31,1),\"\",INT(ROW(A676)/31))),\"\")","v":""}]
[null,null,null,null,null,{"$f":"IFERROR(INDEX(Лист1!B:B,IF(MOD(ROW(A677)/31,1),\"\",INT(ROW(A677)/31))),\"\")","v":""}]
[null,null,null,null,null,{"$f":"IFERROR(INDEX(Лист1!B:B,IF(MOD(ROW(A678)/31,1),\"\",INT(ROW(A678)/31))),\"\")","v":""}]
[null,null,null,null,null,{"$f":"IFERROR(INDEX(Лист1!B:B,IF(MOD(ROW(A679)/31,1),\"\",INT(ROW(A679)/31))),\"\")","v":""}]
[null,null,null,null,null,{"$f":"IFERROR(INDEX(Лист1!B:B,IF(MOD(ROW(A680)/31,1),\"\",INT(ROW(A680)/31))),\"\")","v":""}]
[null,null,null,null,null,{"$f":"IFERROR(INDEX(Лист1!B:B,IF(MOD(ROW(A681)/31,1),\"\",INT(ROW(A681)/31))),\"\")","v":""}]
[null,null,null,null,null,{"$f":"IFERROR(INDEX(Лист1!B:B,IF(MOD(ROW(A682)/31,1),\"\",INT(ROW(A682)/31))),\"\")","v":2200000}]
[null,null,null,null,null,{"$f":"IFERROR(INDEX(Лист1!B:B,IF(MOD(ROW(A683)/31,1),\"\",INT(ROW(A683)/31))),\"\")","v":""}]
[null,null,null,null,null,{"$f":"IFERROR(INDEX(Лист1!B:B,IF(MOD(ROW(A684)/31,1),\"\",INT(ROW(A684)/31))),\"\")","v":""}]
[null,null,null,null,null,{"$f":"IFERROR(INDEX(Лист1!B:B,IF(MOD(ROW(A685)/31,1),\"\",INT(ROW(A685)/31))),\"\")","v":""}]
[null,null,null,null,null,{"$f":"IFERROR(INDEX(Лист1!B:B,IF(MOD(ROW(A686)/31,1),\"\",INT(ROW(A686)/31))),\"\")","v":""}]
[null,null,null,null,null,{"$f":"IFERROR(INDEX(Лист1!B:B,IF(MOD(ROW(A687)/31,1),\"\",INT(ROW(A687)/31))),\"\")","v":""}]
[null,null,null,null,null,{"$f":"IFERROR(INDEX(Лист1!B:B,IF(MOD(ROW(A688)/31,1),\"\",INT(ROW(A688)/31))),\"\")","v":""}]
[null,null,null,null,null,{"$f":"IFERROR(INDEX(Лист1!B:B,IF(MOD(ROW(A689)/31,1),\"\",INT(ROW(A689)/31))),\"\")","v":""}]
[null,null,null,null,null,{"$f":"IFERROR(INDEX(Лист1!B:B,IF(MOD(ROW(A690)/31,1),\"\",INT(ROW(A690)/31))),\"\")","v":""}]
[null,null,null,null,null,{"$f":"IFERROR(INDEX(Лист1!B:B,IF(MOD(ROW(A691)/31,1),\"\",INT(ROW(A691)/31))),\"\")","v":""}]
[null,null,null,null,null,{"$f":"IFERROR(INDEX(Лист1!B:B,IF(MOD(ROW(A692)/31,1),\"\",INT(ROW(A692)/31))),\"\")","v":""}]
[null,null,null,null,null,{"$f":"IFERROR(INDEX(Лист1!B:B,IF(MOD(ROW(A693)/31,1),\"\",INT(ROW(A693)/31))),\"\")","v":""}]
[null,null,null,null,null,{"$f":"IFERROR(INDEX(Лист1!B:B,IF(MOD(ROW(A694)/31,1),\"\",INT(ROW(A694)/31))),\"\")","v":""}]
[null,null,null,null,null,{"$f":"IFERROR(INDEX(Лист1!B:B,IF(MOD(ROW(A695)/31,1),\"\",INT(ROW(A695)/31))),\"\")","v":""}]
[null,null,null,null,null,{"$f":"IFERROR(INDEX(Лист1!B:B,IF(MOD(ROW(A696)/31,1),\"\",INT(ROW(A696)/31))),\"\")","v":""}]
[null,null,null,null,null,{"$f":"IFERROR(INDEX(Лист1!B:B,IF(MOD(ROW(A697)/31,1),\"\",INT(ROW(A697)/31))),\"\")","v":""}]
[null,null,null,null,null,{"$f":"IFERROR(INDEX(Лист1!B:B,IF(MOD(ROW(A698)/31,1),\"\",INT(ROW(A698)/31))),\"\")","v":""}]
[null,null,null,null,null,{"$f":"IFERROR(INDEX(Лист1!B:B,IF(MOD(ROW(A699)/31,1),\"\",INT(ROW(A699)/31))),\"\")","v":""}]
[null,null,null,null,null,{"$f":"IFERROR(INDEX(Лист1!B:B,IF(MOD(ROW(A700)/31,1),\"\",INT(ROW(A700)/31))),\"\")","v":""}]
[null,null,null,null,null,{"$f":"IFERROR(INDEX(Лист1!B:B,IF(MOD(ROW(A701)/31,1),\"\",INT(ROW(A701)/31))),\"\")","v":""}]
[null,null,null,null,null,{"$f":"IFERROR(INDEX(Лист1!B:B,IF(MOD(ROW(A702)/31,1),\"\",INT(ROW(A702)/31))),\"\")","v":""}]
[null,null,null,null,null,{"$f":"IFERROR(INDEX(Лист1!B:B,IF(MOD(ROW(A703)/31,1),\"\",INT(ROW(A703)/31))),\"\")","v":""}]
[null,null,null,null,null,{"$f":"IFERROR(INDEX(Лист1!B:B,IF(MOD(ROW(A704)/31,1),\"\",INT(ROW(A704)/31))),\"\")","v":""}]
[null,null,null,null,null,{"$f":"IFERROR(INDEX(Лист1!B:B,IF(MOD(ROW(A705)/31,1),\"\",INT(ROW(A705)/31))),\"\")","v":""}]
[null,null,null,null,null,{"$f":"IFERROR(INDEX(Лист1!B:B,IF(MOD(ROW(A706)/31,1),\"\",INT(ROW(A706)/31))),\"\")","v":""}]
[null,null,null,null,null,{"$f":"IFERROR(INDEX(Лист1!B:B,IF(MOD(ROW(A707)/31,1),\"\",INT(ROW(A707)/31))),\"\")","v":""}]
[null,null,null,null,null,{"$f":"IFERROR(INDEX(Лист1!B:B,IF(MOD(ROW(A708)/31,1),\"\",INT(ROW(A708)/31))),\"\")","v":""}]
[null,null,null,null,null,{"$f":"IFERROR(INDEX(Лист1!B:B,IF(MOD(ROW(A709)/31,1),\"\",INT(ROW(A709)/31))),\"\")","v":""}]
[null,null,null,null,null,{"$f":"IFERROR(INDEX(Лист1!B:B,IF(MOD(ROW(A710)/31,1),\"\",INT(ROW(A710)/31))),\"\")","v":""}]
[null,null,null,null,null,{"$f":"IFERROR(INDEX(Лист1!B:B,IF(MOD(ROW(A711)/31,1),\"\",INT(ROW(A711)/31))),\"\")","v":""}]
[null,null,null,null,null,{"$f":"IFERROR(INDEX(Лист1!B:B,IF(MOD(ROW(A712)/31,1),\"\",INT(ROW(A712)/31))),\"\")","v":""}]
[null,null,null,null,null,{"$f":"IFERROR(INDEX(Лист1!B:B,IF(MOD(ROW(A713)/31,1),\"\",INT(ROW(A713)/31))),\"\")","v":2300000}]
[null,null,null,null,null,{"$f":"IFERROR(INDEX(Лист1!B:B,IF(MOD(ROW(A714)/31,1),\"\",INT(ROW(A714)/31))),\"\")","v":""}]
[null,null,null,null,null,{"$f":"IFERROR(INDEX(Лист1!B:B,IF(MOD(ROW(A715)/31,1),\"\",INT(ROW(A715)/31))),\"\")","v":""}]
[null,null,null,null,null,{"$f":"IFERROR(INDEX(Лист1!B:B,IF(MOD(ROW(A716)/31,1),\"\",INT(ROW(A716)/31))),\"\")","v":""}]
[null,null,null,null,null,{"$f":"IFERROR(INDEX(Лист1!B:B,IF(MOD(ROW(A717)/31,1),\"\",INT(ROW(A717)/31))),\"\")","v":""}]
[null,null,null,null,null,{"$f":"IFERROR(INDEX(Лист1!B:B,IF(MOD(ROW(A718)/31,1),\"\",INT(ROW(A718)/31))),\"\")","v":""}]
[null,null,null,null,null,{"$f":"IFERROR(INDEX(Лист1!B:B,IF(MOD(ROW(A719)/31,1),\"\",INT(ROW(A719)/31))),\"\")","v":""}]
[null,null,null,null,null,{"$f":"IFERROR(INDEX(Лист1!B:B,IF(MOD(ROW(A720)/31,1),\"\",INT(ROW(A720)/31))),\"\")","v":""}]
[null,null,null,null,null,{"$f":"IFERROR(INDEX(Лист1!B:B,IF(MOD(ROW(A721)/31,1),\"\",INT(ROW(A721)/31))),\"\")","v":""}]
[null,null,null,null,null,{"$f":"IFERROR(INDEX(Лист1!B:B,IF(MOD(ROW(A722)/31,1),\"\",INT(ROW(A722)/31))),\"\")","v":""}]
[null,null,null,null,null,{"$f":"IFERROR(INDEX(Лист1!B:B,IF(MOD(ROW(A723)/31,1),\"\",INT(ROW(A723)/31))),\"\")","v":""}]
[null,null,null,null,null,{"$f":"IFERROR(INDEX(Лист1!B:B,IF(MOD(ROW(A724)/31,1),\"\",INT(ROW(A724)/31))),\"\")","v":""}]
[null,null,null,null,null,{"$f":"IFERROR(INDEX(Лист1!B:B,IF(MOD(ROW(A725)/31,1),\"\",INT(ROW(A725)/31))),\"\")","v":""}]
[null,null,null,null,null,{"$f":"IFERROR(INDEX(Лист1!B:B,IF(MOD(ROW(A726)/31,1),\"\",INT(ROW(A726)/31))),\"\")","v":""}]
[null,null,null,null,null,{"$f":"IFERROR(INDEX(Лист1!B:B,IF(MOD(ROW(A727)/31,1),\"\",INT(ROW(A727)/31))),\"\")","v":""}]
[null,null,null,null,null,{"$f":"IFERROR(INDEX(Лист1!B:B,IF(MOD(ROW(A728)/31,1),\"\",INT(ROW(A728)/31))),\"\")","v":""}]
[null,null,null,null,null,{"$f":"IFERROR(INDEX(Лист1!B:B,IF(MOD(ROW(A729)/31,1),\"\",INT(ROW(A729)/31))),\"\")","v":""}]
[null,null,null,null,null,{"$f":"IFERROR(INDEX(Лист1!B:B,IF(MOD(ROW(A730)/31,1),\"\",INT(ROW(A730)/31))),\"\")","v":""}]
[null,null,null,null,null,{"$f":"IFERROR(INDEX(Лист1!B:B,IF(MOD(ROW(A731)/31,1),\"\",INT(ROW(A731)/31))),\"\")","v":""}]
[null,null,null,null,null,{"$f":"IFERROR(INDEX(Лист1!B:B,IF(MOD(ROW(A732)/31,1),\"\",INT(ROW(A732)/31))),\"\")","v":""}]
[null,null,null,null,null,{"$f":"IFERROR(INDEX(Лист1!B:B,IF(MOD(ROW(A733)/31,1),\"\",INT(ROW(A733)/31))),\"\")","v":""}]
[null,null,null,null,null,{"$f":"IFERROR(INDEX(Лист1!B:B,IF(MOD(ROW(A734)/31,1),\"\",INT(ROW(A734)/31))),\"\")","v":""}]
[null,null,null,null,null,{"$f":"IFERROR(INDEX(Лист1!B:B,IF(MOD(ROW(A735)/31,1),\"\",INT(ROW(A735)/31))),\"\")","v":""}]
[null,null,null,null,null,{"$f":"IFERROR(INDEX(Лист1!B:B,IF(MOD(ROW(A736)/31,1),\"\",INT(ROW(A736)/31))),\"\")","v":""}]
[null,null,null,null,null,{"$f":"IFERROR(INDEX(Лист1!B:B,IF(MOD(ROW(A737)/31,1),\"\",INT(ROW(A737)/31))),\"\")","v":""}]
[null,null,null,null,null,{"$f":"IFERROR(INDEX(Лист1!B:B,IF(MOD(ROW(A738)/31,1),\"\",INT(ROW(A738)/31))),\"\")","v":""}]
[null,null,null,null,null,{"$f":"IFERROR(INDEX(Лист1!B:B,IF(MOD(ROW(A739)/31,1),\"\",INT(ROW(A739)/31))),\"\")","v":""}]
[null,null,null,null,null,{"$f":"IFERROR(INDEX(Лист1!B:B,IF(MOD(ROW(A740)/31,1),\"\",INT(ROW(A740)/31))),\"\")","v":""}]
[null,null,null,null,null,{"$f":"IFERROR(INDEX(Лист1!B:B,IF(MOD(ROW(A741)/31,1),\"\",INT(ROW(A741)/31))),\"\")","v":""}]
[null,null,null,null,null,{"$f":"IFERROR(INDEX(Лист1!B:B,IF(MOD(ROW(A742)/31,1),\"\",INT(ROW(A742)/31))),\"\")","v":""}]
[null,null,null,null,null,{"$f":"IFERROR(INDEX(Лист1!B:B,IF(MOD(ROW(A743)/31,1),\"\",INT(ROW(A743)/31))),\"\")","v":""}]
[null,null,null,null,null,{"$f":"IFERROR(INDEX(Лист1!B:B,IF(MOD(ROW(A744)/31,1),\"\",INT(ROW(A744)/31))),\"\")","v":2400000}]
[null,null,null,null,null,{"$f":"IFERROR(INDEX(Лист1!B:B,IF(MOD(ROW(A745)/31,1),\"\",INT(ROW(A745)/31))),\"\")","v":""}]
[null,null,null,null,null,{"$f":"IFERROR(INDEX(Лист1!B:B,IF(MOD(ROW(A746)/31,1),\"\",INT(ROW(A746)/31))),\"\")","v":""}]
[null,null,null,null,null,{"$f":"IFERROR(INDEX(Лист1!B:B,IF(MOD(ROW(A747)/31,1),\"\",INT(ROW(A747)/31))),\"\")","v":""}]
[null,null,null,null,null,{"$f":"IFERROR(INDEX(Лист1!B:B,IF(MOD(ROW(A748)/31,1),\"\",INT(ROW(A748)/31))),\"\")","v":""}]
[null,null,null,null,null,{"$f":"IFERROR(INDEX(Лист1!B:B,IF(MOD(ROW(A749)/31,1),\"\",INT(ROW(A749)/31))),\"\")","v":""}]
[null,null,null,null,null,{"$f":"IFERROR(INDEX(Лист1!B:B,IF(MOD(ROW(A750)/31,1),\"\",INT(ROW(A750)/31))),\"\")","v":""}]
[null,null,null,null,null,{"$f":"IFERROR(INDEX(Лист1!B:B,IF(MOD(ROW(A751)/31,1),\"\",INT(ROW(A751)/31))),\"\")","v":""}]
[null,null,null,null,null,{"$f":"IFERROR(INDEX(Лист1!B:B,IF(MOD(ROW(A752)/31,1),\"\",INT(ROW(A752)/31))),\"\")","v":""}]
[null,null,null,null,null,{"$f":"IFERROR(INDEX(Лист1!B:B,IF(MOD(ROW(A753)/31,1),\"\",INT(ROW(A753)/31))),\"\")","v":""}]
[null,null,null,null,null,{"$f":"IFERROR(INDEX(Лист1!B:B,IF(MOD(ROW(A754)/31,1),\"\",INT(ROW(A754)/31))),\"\")","v":""}]
[null,null,null,null,null,{"$f":"IFERROR(INDEX(Лист1!B:B,IF(MOD(ROW(A755)/31,1),\"\",INT(ROW(A755)/31))),\"\")","v":""}]
[null,null,null,null,null,{"$f":"IFERROR(INDEX(Лист1!B:B,IF(MOD(ROW(A756)/31,1),\"\",INT(ROW(A756)/31))),\"\")","v":""}]
[null,null,null,null,null,{"$f":"IFERROR(INDEX(Лист1!B:B,IF(MOD(ROW(A757)/31,1),\"\",INT(ROW(A757)/31))),\"\")","v":""}]
[null,null,null,null,null,{"$f":"IFERROR(INDEX(Лист1!B:B,IF(MOD(ROW(A758)/31,1),\"\",INT(ROW(A758)/31))),\"\")","v":""}]
[null,null,null,null,null,{"$f":"IFERROR(INDEX(Лист1!B:B,IF(MOD(ROW(A759)/31,1),\"\",INT(ROW(A759)/31))),\"\")","v":""}]
[null,null,null,null,null,{"$f":"IFERROR(INDEX(Лист1!B:B,IF(MOD(ROW(A760)/31,1),\"\",INT(ROW(A760)/31))),\"\")","v":""}]
[null,null,null,null,null,{"$f":"IFERROR(INDEX(Лист1!B:B,IF(MOD(ROW(A761)/31,1),\"\",INT(ROW(A761)/31))),\"\")","v":""}]
[null,null,null,null,null,{"$f":"IFERROR(INDEX(Лист1!B:B,IF(MOD(ROW(A762)/31,1),\"\",INT(ROW(A762)/31))),\"\")","v":""}]
[null,null,null,null,null,{"$f":"IFERROR(INDEX(Лист1!B:B,IF(MOD(ROW(A763)/31,1),\"\",INT(ROW(A763)/31))),\"\")","v":""}]
[null,null,null,null,null,{"$f":"IFERROR(INDEX(Лист1!B:B,IF(MOD(ROW(A764)/31,1),\"\",INT(ROW(A764)/31))),\"\")","v":""}]
[null,null,null,null,null,{"$f":"IFERROR(INDEX(Лист1!B:B,IF(MOD(ROW(A765)/31,1),\"\",INT(ROW(A765)/31))),\"\")","v":""}]
[null,null,null,null,null,{"$f":"IFERROR(INDEX(Лист1!B:B,IF(MOD(ROW(A766)/31,1),\"\",INT(ROW(A766)/31))),\"\")","v":""}]
[null,null,null,null,null,{"$f":"IFERROR(INDEX(Лист1!B:B,IF(MOD(ROW(A767)/31,1),\"\",INT(ROW(A767)/31))),\"\")","v":""}]
[null,null,null,null,null,{"$f":"IFERROR(INDEX(Лист1!B:B,IF(MOD(ROW(A768)/31,1),\"\",INT(ROW(A768)/31))),\"\")","v":""}]
[null,null,null,null,null,{"$f":"IFERROR(INDEX(Лист1!B:B,IF(MOD(ROW(A769)/31,1),\"\",INT(ROW(A769)/31))),\"\")","v":""}]
[null,null,null,null,null,{"$f":"IFERROR(INDEX(Лист1!B:B,IF(MOD(ROW(A770)/31,1),\"\",INT(ROW(A770)/31))),\"\")","v":""}]
[null,null,null,null,null,{"$f":"IFERROR(INDEX(Лист1!B:B,IF(MOD(ROW(A771)/31,1),\"\",INT(ROW(A771)/31))),\"\")","v":""}]
[null,null,null,null,null,{"$f":"IFERROR(INDEX(Лист1!B:B,IF(MOD(ROW(A772)/31,1),\"\",INT(ROW(A772)/31))),\"\")","v":""}]
[null,null,null,null,null,{"$f":"IFERROR(INDEX(Лист1!B:B,IF(MOD(ROW(A773)/31,1),\"\",INT(ROW(A773)/31))),\"\")","v":""}]
[null,null,null,null,null,{"$f":"IFERROR(INDEX(Лист1!B:B,IF(MOD(ROW(A774)/31,1),\"\",INT(ROW(A774)/31))),\"\")","v":""}]
[null,null,null,null,null,{"$f":"IFERROR(INDEX(Лист1!B:B,IF(MOD(ROW(A775)/31,1),\"\",INT(ROW(A775)/31))),\"\")","v":2500000}]
[null,null,null,null,null,{"$f":"IFERROR(INDEX(Лист1!B:B,IF(MOD(ROW(A776)/31,1),\"\",INT(ROW(A776)/31))),\"\")","v":""}]
[null,null,null,null,null,{"$f":"IFERROR(INDEX(Лист1!B:B,IF(MOD(ROW(A777)/31,1),\"\",INT(ROW(A777)/31))),\"\")","v":""}]
[null,null,null,null,null,{"$f":"IFERROR(INDEX(Лист1!B:B,IF(MOD(ROW(A778)/31,1),\"\",INT(ROW(A778)/31))),\"\")","v":""}]
[null,null,null,null,null,{"$f":"IFERROR(INDEX(Лист1!B:B,IF(MOD(ROW(A779)/31,1),\"\",INT(ROW(A779)/31))),\"\")","v":""}]
[null,null,null,null,null,{"$f":"IFERROR(INDEX(Лист1!B:B,IF(MOD(ROW(A780)/31,1),\"\",INT(ROW(A780)/31))),\"\")","v":""}]
[null,null,null,null,null,{"$f":"IFERROR(INDEX(Лист1!B:B,IF(MOD(ROW(A781)/31,1),\"\",INT(ROW(A781)/31))),\"\")","v":""}]
[null,null,null,null,null,{"$f":"IFERROR(INDEX(Лист1!B:B,IF(MOD(ROW(A782)/31,1),\"\",INT(ROW(A782)/31))),\"\")","v":""}]
[null,null,null,null,null,{"$f":"IFERROR(INDEX(Лист1!B:B,IF(MOD(ROW(A783)/31,1),\"\",INT(ROW(A783)/31))),\"\")","v":""}]
[null,null,null,null,null,{"$f":"IFERROR(INDEX(Лист1!B:B,IF(MOD(ROW(A784)/31,1),\"\",INT(ROW(A784)/31))),\"\")","v":""}]
[null,null,null,null,null,{"$f":"IFERROR(INDEX(Лист1!B:B,IF(MOD(ROW(A785)/31,1),\"\",INT(ROW(A785)/31))),\"\")","v":""}]
[null,null,null,null,null,{"$f":"IFERROR(INDEX(Лист1!B:B,IF(MOD(ROW(A786)/31,1),\"\",INT(ROW(A786)/31))),\"\")","v":""}]
[null,null,null,null,null,{"$f":"IFERROR(INDEX(Лист1!B:B,IF(MOD(ROW(A787)/31,1),\"\",INT(ROW(A787)/31))),\"\")","v":""}]
[null,null,null,null,null,{"$f":"IFERROR(INDEX(Лист1!B:B,IF(MOD(ROW(A788)/31,1),\"\",INT(ROW(A788)/31))),\"\")","v":""}]
[null,null,null,null,null,{"$f":"IFERROR(INDEX(Лист1!B:B,IF(MOD(ROW(A789)/31,1),\"\",INT(ROW(A789)/31))),\"\")","v":""}]
[null,null,null,null,null,{"$f":"IFERROR(INDEX(Лист1!B:B,IF(MOD(ROW(A790)/31,1),\"\",INT(ROW(A790)/31))),\"\")","v":""}]
[null,null,null,null,null,{"$f":"IFERROR(INDEX(Лист1!B:B,IF(MOD(ROW(A791)/31,1),\"\",INT(ROW(A791)/31))),\"\")","v":""}]
[null,null,null,null,null,{"$f":"IFERROR(INDEX(Лист1!B:B,IF(MOD(ROW(A792)/31,1),\"\",INT(ROW(A792)/31))),\"\")","v":""}]
[null,null,null,null,null,{"$f":"IFERROR(INDEX(Лист1!B:B,IF(MOD(ROW(A793)/31,1),\"\",INT(ROW(A793)/31))),\"\")","v":""}]
[null,null,null,null,null,{"$f":"IFERROR(INDEX(Лист1!B:B,IF(MOD(ROW(A794)/31,1),\"\",INT(ROW(A794)/31))),\"\")","v":""}]
[null,null,null,null,null,{"$f":"IFERROR(INDEX(Лист1!B:B,IF(MOD(ROW(A795)/31,1),\"\",INT(ROW(A795)/31))),\"\")","v":""}]
[null,null,null,null,null,{"$f":"IFERROR(INDEX(Лист1!B:B,IF(MOD(ROW(A796)/31,1),\"\",INT(ROW(A796)/31))),\"\")","v":""}]
[null,null,null,null,null,{"$f":"IFERROR(INDEX(Лист1!B:B,IF(MOD(ROW(A797)/31,1),\"\",INT(ROW(A797)/31))),\"\")","v":""}]
[null,null,null,null,null,{"$f":"IFERROR(INDEX(Лист1!B:B,IF(MOD(ROW(A798)/31,1),\"\",INT(ROW(A798)/31))),\"\")","v":""}]
[null,null,null,null,null,{"$f":"IFERROR(INDEX(Лист1!B:B,IF(MOD(ROW(A799)/31,1),\"\",INT(ROW(A799)/31))),\"\")","v":""}]
[null,null,null,null,null,{"$f":"IFERROR(INDEX(Лист1!B:B,IF(MOD(ROW(A800)/31,1),\"\",INT(ROW(A800)/31))),\"\")","v":""}]
[null,null,null,null,null,{"$f":"IFERROR(INDEX(Лист1!B:B,IF(MOD(ROW(A801)/31,1),\"\",INT(ROW(A801)/31))),\"\")","v":""}]
[null,null,null,null,null,{"$f":"IFERROR(INDEX(Лист1!B:B,IF(MOD(ROW(A802)/31,1),\"\",INT(ROW(A802)/31))),\"\")","v":""}]
[null,null,null,null,null,{"$f":"IFERROR(INDEX(Лист1!B:B,IF(MOD(ROW(A803)/31,1),\"\",INT(ROW(A803)/31))),\"\")","v":""}]
[null,null,null,null,null,{"$f":"IFERROR(INDEX(Лист1!B:B,IF(MOD(ROW(A804)/31,1),\"\",INT(ROW(A804)/31))),\"\")","v":""}]
[null,null,null,null,null,{"$f":"IFERROR(INDEX(Лист1!B:B,IF(MOD(ROW(A805)/31,1),\"\",INT(ROW(A805)/31))),\"\")","v":""}]
[null,null,null,null,null,{"$f":"IFERROR(INDEX(Лист1!B:B,IF(MOD(ROW(A806)/31,1),\"\",INT(ROW(A806)/31))),\"\")","v":2600000}]
[null,null,null,null,null,{"$f":"IFERROR(INDEX(Лист1!B:B,IF(MOD(ROW(A807)/31,1),\"\",INT(ROW(A807)/31))),\"\")","v":""}]
[null,null,null,null,null,{"$f":"IFERROR(INDEX(Лист1!B:B,IF(MOD(ROW(A808)/31,1),\"\",INT(ROW(A808)/31))),\"\")","v":""}]
[null,null,null,null,null,{"$f":"IFERROR(INDEX(Лист1!B:B,IF(MOD(ROW(A809)/31,1),\"\",INT(ROW(A809)/31))),\"\")","v":""}]
[null,null,null,null,null,{"$f":"IFERROR(INDEX(Лист1!B:B,IF(MOD(ROW(A810)/31,1),\"\",INT(ROW(A810)/31))),\"\")","v":""}]
[null,null,null,null,null,{"$f":"IFERROR(INDEX(Лист1!B:B,IF(MOD(ROW(A811)/31,1),\"\",INT(ROW(A811)/31))),\"\")","v":""}]
[null,null,null,null,null,{"$f":"IFERROR(INDEX(Лист1!B:B,IF(MOD(ROW(A812)/31,1),\"\",INT(ROW(A812)/31))),\"\")","v":""}]
[null,null,null,null,null,{"$f":"IFERROR(INDEX(Лист1!B:B,IF(MOD(ROW(A813)/31,1),\"\",INT(ROW(A813)/31))),\"\")","v":""}]
[null,null,null,null,null,{"$f":"IFERROR(INDEX(Лист1!B:B,IF(MOD(ROW(A814)/31,1),\"\",INT(ROW(A814)/31))),\"\")","v":""}]
[null,null,null,null,null,{"$f":"IFERROR(INDEX(Лист1!B:B,IF(MOD(ROW(A815)/31,1),\"\",INT(ROW(A815)/31))),\"\")","v":""}]
[null,null,null,null,null,{"$f":"IFERROR(INDEX(Лист1!B:B,IF(MOD(ROW(A816)/31,1),\"\",INT(ROW(A816)/31))),\"\")","v":""}]
[null,null,null,null,null,{"$f":"IFERROR(INDEX(Лист1!B:B,IF(MOD(ROW(A817)/31,1),\"\",INT(ROW(A817)/31))),\"\")","v":""}]
[null,null,null,null,null,{"$f":"IFERROR(INDEX(Лист1!B:B,IF(MOD(ROW(A818)/31,1),\"\",INT(ROW(A818)/31))),\"\")","v":""}]
[null,null,null,null,null,{"$f":"IFERROR(INDEX(Лист1!B:B,IF(MOD(ROW(A819)/31,1),\"\",INT(ROW(A819)/31))),\"\")","v":""}]
[null,null,null,null,null,{"$f":"IFERROR(INDEX(Лист1!B:B,IF(MOD(ROW(A820)/31,1),\"\",INT(ROW(A820)/31))),\"\")","v":""}]
[null,null,null,null,null,{"$f":"IFERROR(INDEX(Лист1!B:B,IF(MOD(ROW(A821)/31,1),\"\",INT(ROW(A821)/31))),\"\")","v":""}]
[null,null,null,null,null,{"$f":"IFERROR(INDEX(Лист1!B:B,IF(MOD(ROW(A822)/31,1),\"\",INT(ROW(A822)/31))),\"\")","v":""}]
[null,null,null,null,null,{"$f":"IFERROR(INDEX(Лист1!B:B,IF(MOD(ROW(A823)/31,1),\"\",INT(ROW(A823)/31))),\"\")","v":""}]
[null,null,null,null,null,{"$f":"IFERROR(INDEX(Лист1!B:B,IF(MOD(ROW(A824)/31,1),\"\",INT(ROW(A824)/31))),\"\")","v":""}]
[null,null,null,null,null,{"$f":"IFERROR(INDEX(Лист1!B:B,IF(MOD(ROW(A825)/31,1),\"\",INT(ROW(A825)/31))),\"\")","v":""}]
[null,null,null,null,null,{"$f":"IFERROR(INDEX(Лист1!B:B,IF(MOD(ROW(A826)/31,1),\"\",INT(ROW(A826)/31))),\"\")","v":""}]
[null,null,null,null,null,{"$f":"IFERROR(INDEX(Лист1!B:B,IF(MOD(ROW(A827)/31,1),\"\",INT(ROW(A827)/31))),\"\")","v":""}]
[null,null,null,null,null,{"$f":"IFERROR(INDEX(Лист1!B:B,IF(MOD(ROW(A828)/31,1),\"\",INT(ROW(A828)/31))),\"\")","v":""}]
[null,null,null,null,null,{"$f":"IFERROR(INDEX(Лист1!B:B,IF(MOD(ROW(A829)/31,1),\"\",INT(ROW(A829)/31))),\"\")","v":""}]
[null,null,null,null,null,{"$f":"IFERROR(INDEX(Лист1!B:B,IF(MOD(ROW(A830)/31,1),\"\",INT(ROW(A830)/31))),\"\")","v":""}]
[null,null,null,null,null,{"$f":"IFERROR(INDEX(Лист1!B:B,IF(MOD(ROW(A831)/31,1),\"\",INT(ROW(A831)/31))),\"\")","v":""}]
[null,null,null,null,null,{"$f":"IFERROR(INDEX(Лист1!B:B,IF(MOD(ROW(A832)/31,1),\"\",INT(ROW(A832)/31))),\"\")","v":""}]
[null,null,null,null,null,{"$f":"IFERROR(INDEX(Лист1!B:B,IF(MOD(ROW(A833)/31,1),\"\",INT(ROW(A833)/31))),\"\")","v":""}]
[null,null,null,null,null,{"$f":"IFERROR(INDEX(Лист1!B:B,IF(MOD(ROW(A834)/31,1),\"\",INT(ROW(A834)/31))),\"\")","v":""}]
[null,null,null,null,null,{"$f":"IFERROR(INDEX(Лист1!B:B,IF(MOD(ROW(A835)/31,1),\"\",INT(ROW(A835)/31))),\"\")","v":""}]
[null,null,null,null,null,{"$f":"IFERROR(INDEX(Лист1!B:B,IF(MOD(ROW(A836)/31,1),\"\",INT(ROW(A836)/31))),\"\")","v":""}]
[null,null,null,null,null,{"$f":"IFERROR(INDEX(Лист1!B:B,IF(MOD(ROW(A837)/31,1),\"\",INT(ROW(A837)/31))),\"\")","v":2700000}]
[null,null,null,null,null,{"$f":"IFERROR(INDEX(Лист1!B:B,IF(MOD(ROW(A838)/31,1),\"\",INT(ROW(A838)/31))),\"\")","v":""}]
[null,null,null,null,null,{"$f":"IFERROR(INDEX(Лист1!B:B,IF(MOD(ROW(A839)/31,1),\"\",INT(ROW(A839)/31))),\"\")","v":""}]
[null,null,null,null,null,{"$f":"IFERROR(INDEX(Лист1!B:B,IF(MOD(ROW(A840)/31,1),\"\",INT(ROW(A840)/31))),\"\")","v":""}]
[null,null,null,null,null,{"$f":"IFERROR(INDEX(Лист1!B:B,IF(MOD(ROW(A841)/31,1),\"\",INT(ROW(A841)/31))),\"\")","v":""}]
[null,null,null,null,null,{"$f":"IFERROR(INDEX(Лист1!B:B,IF(MOD(ROW(A842)/31,1),\"\",INT(ROW(A842)/31))),\"\")","v":""}]
[null,null,null,null,null,{"$f":"IFERROR(INDEX(Лист1!B:B,IF(MOD(ROW(A843)/31,1),\"\",INT(ROW(A843)/31))),\"\")","v":""}]
[null,null,null,null,null,{"$f":"IFERROR(INDEX(Лист1!B:B,IF(MOD(ROW(A844)/31,1),\"\",INT(ROW(A844)/31))),\"\")","v":""}]
[null,null,null,null,null,{"$f":"IFERROR(INDEX(Лист1!B:B,IF(MOD(ROW(A845)/31,1),\"\",INT(ROW(A845)/31))),\"\")","v":""}]
[null,null,null,null,null,{"$f":"IFERROR(INDEX(Лист1!B:B,IF(MOD(ROW(A846)/31,1),\"\",INT(ROW(A846)/31))),\"\")","v":""}]
[null,null,null,null,null,{"$f":"IFERROR(INDEX(Лист1!B:B,IF(MOD(ROW(A847)/31,1),\"\",INT(ROW(A847)/31))),\"\")","v":""}]
[null,null,null,null,null,{"$f":"IFERROR(INDEX(Лист1!B:B,IF(MOD(ROW(A848)/31,1),\"\",INT(ROW(A848)/31))),\"\")","v":""}]
[null,null,null,null,null,{"$f":"IFERROR(INDEX(Лист1!B:B,IF(MOD(ROW(A849)/31,1),\"\",INT(ROW(A849)/31))),\"\")","v":""}]
[null,null,null,null,null,{"$f":"IFERROR(INDEX(Лист1!B:B,IF(MOD(ROW(A850)/31,1),\"\",INT(ROW(A850)/31))),\"\")","v":""}]
[null,null,null,null,null,{"$f":"IFERROR(INDEX(Лист1!B:B,IF(MOD(ROW(A851)/31,1),\"\",INT(ROW(A851)/31))),\"\")","v":""}]
[null,null,null,null,null,{"$f":"IFERROR(INDEX(Лист1!B:B,IF(MOD(ROW(A852)/31,1),\"\",INT(ROW(A852)/31))),\"\")","v":""}]
[null,null,null,null,null,{"$f":"IFERROR(INDEX(Лист1!B:B,IF(MOD(ROW(A853)/31,1),\"\",INT(ROW(A853)/31))),\"\")","v":""}]
[null,null,null,null,null,{"$f":"IFERROR(INDEX(Лист1!B:B,IF(MOD(ROW(A854)/31,1),\"\",INT(ROW(A854)/31))),\"\")","v":""}]
[null,null,null,null,null,{"$f":"IFERROR(INDEX(Лист1!B:B,IF(MOD(ROW(A855)/31,1),\"\",INT(ROW(A855)/31))),\"\")","v":""}]
[null,null,null,null,null,{"$f":"IFERROR(INDEX(Лист1!B:B,IF(MOD(ROW(A856)/31,1),\"\",INT(ROW(A856)/31))),\"\")","v":""}]
[null,null,null,null,null,{"$f":"IFERROR(INDEX(Лист1!B:B,IF(MOD(ROW(A857)/31,1),\"\",INT(ROW(A857)/31))),\"\")","v":""}]
[null,null,null,null,null,{"$f":"IFERROR(INDEX(Лист1!B:B,IF(MOD(ROW(A858)/31,1),\"\",INT(ROW(A858)/31))),\"\")","v":""}]
[null,null,null,null,null,{"$f":"IFERROR(INDEX(Лист1!B:B,IF(MOD(ROW(A859)/31,1),\"\",INT(ROW(A859)/31))),\"\")","v":""}]
[null,null,null,null,null,{"$f":"IFERROR(INDEX(Лист1!B:B,IF(MOD(ROW(A860)/31,1),\"\",INT(ROW(A860)/31))),\"\")","v":""}]
[null,null,null,null,null,{"$f":"IFERROR(INDEX(Лист1!B:B,IF(MOD(ROW(A861)/31,1),\"\",INT(ROW(A861)/31))),\"\")","v":""}]
[null,null,null,null,null,{"$f":"IFERROR(INDEX(Лист1!B:B,IF(MOD(ROW(A862)/31,1),\"\",INT(ROW(A862)/31))),\"\")","v":""}]
[null,null,null,null,null,{"$f":"IFERROR(INDEX(Лист1!B:B,IF(MOD(ROW(A863)/31,1),\"\",INT(ROW(A863)/31))),\"\")","v":""}]
[null,null,null,null,null,{"$f":"IFERROR(INDEX(Лист1!B:B,IF(MOD(ROW(A864)/31,1),\"\",INT(ROW(A864)/31))),\"\")","v":""}]
[null,null,null,null,null,{"$f":"IFERROR(INDEX(Лист1!B:B,IF(MOD(ROW(A865)/31,1),\"\",INT(ROW(A865)/31))),\"\")","v":""}]
[null,null,null,null,null,{"$f":"IFERROR(INDEX(Лист1!B:B,IF(MOD(ROW(A866)/31,1),\"\",INT(ROW(A866)/31))),\"\")","v":""}]
[null,null,null,null,null,{"$f":"IFERROR(INDEX(Лист1!B:B,IF(MOD(ROW(A867)/31,1),\"\",INT(ROW(A867)/31))),\"\")","v":""}]
[null,null,null,null,null,{"$f":"IFERROR(INDEX(Лист1!B:B,IF(MOD(ROW(A868)/31,1),\"\",INT(ROW(A868)/31))),\"\")","v":2800000}]
[null,null,null,null,null,{"$f":"IFERROR(INDEX(Лист1!B:B,IF(MOD(ROW(A869)/31,1),\"\",INT(ROW(A869)/31))),\"\")","v":""}]
[null,null,null,null,null,{"$f":"IFERROR(INDEX(Лист1!B:B,IF(MOD(ROW(A870)/31,1),\"\",INT(ROW(A870)/31))),\"\")","v":""}]
[null,null,null,null,null,{"$f":"IFERROR(INDEX(Лист1!B:B,IF(MOD(ROW(A871)/31,1),\"\",INT(ROW(A871)/31))),\"\")","v":""}]
[null,null,null,null,null,{"$f":"IFERROR(INDEX(Лист1!B:B,IF(MOD(ROW(A872)/31,1),\"\",INT(ROW(A872)/31))),\"\")","v":""}]
[null,null,null,null,null,{"$f":"IFERROR(INDEX(Лист1!B:B,IF(MOD(ROW(A873)/31,1),\"\",INT(ROW(A873)/31))),\"\")","v":""}]
[null,null,null,null,null,{"$f":"IFERROR(INDEX(Лист1!B:B,IF(MOD(ROW(A874)/31,1),\"\",INT(ROW(A874)/31))),\"\")","v":""}]
[null,null,null,null,null,{"$f":"IFERROR(INDEX(Лист1!B:B,IF(MOD(ROW(A875)/31,1),\"\",INT(ROW(A875)/31))),\"\")","v":""}]
[null,null,null,null,null,{"$f":"IFERROR(INDEX(Лист1!B:B,IF(MOD(ROW(A876)/31,1),\"\",INT(ROW(A876)/31))),\"\")","v":""}]
[null,null,null,null,null,{"$f":"IFERROR(INDEX(Лист1!B:B,IF(MOD(ROW(A877)/31,1),\"\",INT(ROW(A877)/31))),\"\")","v":""}]
[null,null,null,null,null,{"$f":"IFERROR(INDEX(Лист1!B:B,IF(MOD(ROW(A878)/31,1),\"\",INT(ROW(A878)/31))),\"\")","v":""}]
[null,null,null,null,null,{"$f":"IFERROR(INDEX(Лист1!B:B,IF(MOD(ROW(A879)/31,1),\"\",INT(ROW(A879)/31))),\"\")","v":""}]
[null,null,null,null,null,{"$f":"IFERROR(INDEX(Лист1!B:B,IF(MOD(ROW(A880)/31,1),\"\",INT(ROW(A880)/31))),\"\")","v":""}]
[null,null,null,null,null,{"$f":"IFERROR(INDEX(Лист1!B:B,IF(MOD(ROW(A881)/31,1),\"\",INT(ROW(A881)/31))),\"\")","v":""}]
[null,null,null,null,null,{"$f":"IFERROR(INDEX(Лист1!B:B,IF(MOD(ROW(A882)/31,1),\"\",INT(ROW(A882)/31))),\"\")","v":""}]
[null,null,null,null,null,{"$f":"IFERROR(INDEX(Лист1!B:B,IF(MOD(ROW(A883)/31,1),\"\",INT(ROW(A883)/31))),\"\")","v":""}]
[null,null,null,null,null,{"$f":"IFERROR(INDEX(Лист1!B:B,IF(MOD(ROW(A884)/31,1),\"\",INT(ROW(A884)/31))),\"\")","v":""}]
[null,null,null,null,null,{"$f":"IFERROR(INDEX(Лист1!B:B,IF(MOD(ROW(A885)/31,1),\"\",INT(ROW(A885)/31))),\"\")","v":""}]
[null,null,null,null,null,{"$f":"IFERROR(INDEX(Лист1!B:B,IF(MOD(ROW(A886)/31,1),\"\",INT(ROW(A886)/31))),\"\")","v":""}]
[null,null,null,null,null,{"$f":"IFERROR(INDEX(Лист1!B:B,IF(MOD(ROW(A887)/31,1),\"\",INT(ROW(A887)/31))),\"\")","v":""}]
[null,null,null,null,null,{"$f":"IFERROR(INDEX(Лист1!B:B,IF(MOD(ROW(A888)/31,1),\"\",INT(ROW(A888)/31))),\"\")","v":""}]
[null,null,null,null,null,{"$f":"IFERROR(INDEX(Лист1!B:B,IF(MOD(ROW(A889)/31,1),\"\",INT(ROW(A889)/31))),\"\")","v":""}]
[null,null,null,null,null,{"$f":"IFERROR(INDEX(Лист1!B:B,IF(MOD(ROW(A890)/31,1),\"\",INT(ROW(A890)/31))),\"\")","v":""}]
[null,null,null,null,null,{"$f":"IFERROR(INDEX(Лист1!B:B,IF(MOD(ROW(A891)/31,1),\"\",INT(ROW(A891)/31))),\"\")","v":""}]
[null,null,null,null,null,{"$f":"IFERROR(INDEX(Лист1!B:B,IF(MOD(ROW(A892)/31,1),\"\",INT(ROW(A892)/31))),\"\")","v":""}]
[null,null,null,null,null,{"$f":"IFERROR(INDEX(Лист1!B:B,IF(MOD(ROW(A893)/31,1),\"\",INT(ROW(A893)/31))),\"\")","v":""}]
[null,null,null,null,null,{"$f":"IFERROR(INDEX(Лист1!B:B,IF(MOD(ROW(A894)/31,1),\"\",INT(ROW(A894)/31))),\"\")","v":""}]
[null,null,null,null,null,{"$f":"IFERROR(INDEX(Лист1!B:B,IF(MOD(ROW(A895)/31,1),\"\",INT(ROW(A895)/31))),\"\")","v":""}]
[null,null,null,null,null,{"$f":"IFERROR(INDEX(Лист1!B:B,IF(MOD(ROW(A896)/31,1),\"\",INT(ROW(A896)/31))),\"\")","v":""}]
[null,null,null,null,null,{"$f":"IFERROR(INDEX(Лист1!B:B,IF(MOD(ROW(A897)/31,1),\"\",INT(ROW(A897)/31))),\"\")","v":""}]
[null,null,null,null,null,{"$f":"IFERROR(INDEX(Лист1!B:B,IF(MOD(ROW(A898)/31,1),\"\",INT(ROW(A898)/31))),\"\")","v":""}]
[null,null,null,null,null,{"$f":"IFERROR(INDEX(Лист1!B:B,IF(MOD(ROW(A899)/31,1),\"\",INT(ROW(A899)/31))),\"\")","v":2900000}]
[null,null,null,null,null,{"$f":"IFERROR(INDEX(Лист1!B:B,IF(MOD(ROW(A900)/31,1),\"\",INT(ROW(A900)/31))),\"\")","v":""}]
[null,null,null,null,null,{"$f":"IFERROR(INDEX(Лист1!B:B,IF(MOD(ROW(A901)/31,1),\"\",INT(ROW(A901)/31))),\"\")","v":""}]
[null,null,null,null,null,{"$f":"IFERROR(INDEX(Лист1!B:B,IF(MOD(ROW(A902)/31,1),\"\",INT(ROW(A902)/31))),\"\")","v":""}]
[null,null,null,null,null,{"$f":"IFERROR(INDEX(Лист1!B:B,IF(MOD(ROW(A903)/31,1),\"\",INT(ROW(A903)/31))),\"\")","v":""}]
[null,null,null,null,null,{"$f":"IFERROR(INDEX(Лист1!B:B,IF(MOD(ROW(A904)/31,1),\"\",INT(ROW(A904)/31))),\"\")","v":""}]
[null,null,null,null,null,{"$f":"IFERROR(INDEX(Лист1!B:B,IF(MOD(ROW(A905)/31,1),\"\",INT(ROW(A905)/31))),\"\")","v":""}]
[null,null,null,null,null,{"$f":"IFERROR(INDEX(Лист1!B:B,IF(MOD(ROW(A906)/31,1),\"\",INT(ROW(A906)/31))),\"\")","v":""}]
[null,null,null,null,null,{"$f":"IFERROR(INDEX(Лист1!B:B,IF(MOD(ROW(A907)/31,1),\"\",INT(ROW(A907)/31))),\"\")","v":""}]
[null,null,null,null,null,{"$f":"IFERROR(INDEX(Лист1!B:B,IF(MOD(ROW(A908)/31,1),\"\",INT(ROW(A908)/31))),\"\")","v":""}]
[null,null,null,null,null,{"$f":"IFERROR(INDEX(Лист1!B:B,IF(MOD(ROW(A909)/31,1),\"\",INT(ROW(A909)/31))),\"\")","v":""}]
[null,null,null,null,null,{"$f":"IFERROR(INDEX(Лист1!B:B,IF(MOD(ROW(A910)/31,1),\"\",INT(ROW(A910)/31))),\"\")","v":""}]
[null,null,null,null,null,{"$f":"IFERROR(INDEX(Лист1!B:B,IF(MOD(ROW(A911)/31,1),\"\",INT(ROW(A911)/31))),\"\")","v":""}]
[null,null,null,null,null,{"$f":"IFERROR(INDEX(Лист1!B:B,IF(MOD(ROW(A912)/31,1),\"\",INT(ROW(A912)/31))),\"\")","v":""}]
[null,null,null,null,null,{"$f":"IFERROR(INDEX(Лист1!B:B,IF(MOD(ROW(A913)/31,1),\"\",INT(ROW(A913)/31))),\"\")","v":""}]
[null,null,null,null,null,{"$f":"IFERROR(INDEX(Лист1!B:B,IF(MOD(ROW(A914)/31,1),\"\",INT(ROW(A914)/31))),\"\")","v":""}]
[null,null,null,null,null,{"$f":"IFERROR(INDEX(Лист1!B:B,IF(MOD(ROW(A915)/31,1),\"\",INT(ROW(A915)/31))),\"\")","v":""}]
[null,null,null,null,null,{"$f":"IFERROR(INDEX(Лист1!B:B,IF(MOD(ROW(A916)/31,1),\"\",INT(ROW(A916)/31))),\"\")","v":""}]
[null,null,null,null,null,{"$f":"IFERROR(INDEX(Лист1!B:B,IF(MOD(ROW(A917)/31,1),\"\",INT(ROW(A917)/31))),\"\")","v":""}]
[null,null,null,null,null,{"$f":"IFERROR(INDEX(Лист1!B:B,IF(MOD(ROW(A918)/31,1),\"\",INT(ROW(A918)/31))),\"\")","v":""}]
[null,null,null,null,null,{"$f":"IFERROR(INDEX(Лист1!B:B,IF(MOD(ROW(A919)/31,1),\"\",INT(ROW(A919)/31))),\"\")","v":""}]
[null,null,null,null,null,{"$f":"IFERROR(INDEX(Лист1!B:B,IF(MOD(ROW(A920)/31,1),\"\",INT(ROW(A920)/31))),\"\")","v":""}]
[null,null,null,null,null,{"$f":"IFERROR(INDEX(Лист1!B:B,IF(MOD(ROW(A921)/31,1),\"\",INT(ROW(A921)/31))),\"\")","v":""}]
[null,null,null,null,null,{"$f":"IFERROR(INDEX(Лист1!B:B,IF(MOD(ROW(A922)/31,1),\"\",INT(ROW(A922)/31))),\"\")","v":""}]
[null,null,null,null,null,{"$f":"IFERROR(INDEX(Лист1!B:B,IF(MOD(ROW(A923)/31,1),\"\",INT(ROW(A923)/31))),\"\")","v":""}]
[null,null,null,null,null,{"$f":"IFERROR(INDEX(Лист1!B:B,IF(MOD(ROW(A924)/31,1),\"\",INT(ROW(A924)/31))),\"\")","v":""}]
[null,null,null,null,null,{"$f":"IFERROR(INDEX(Лист1!B:B,IF(MOD(ROW(A925)/31,1),\"\",INT(ROW(A925)/31))),\"\")","v":""}]
[null,null,null,null,null,{"$f":"IFERROR(INDEX(Лист1!B:B,IF(MOD(ROW(A926)/31,1),\"\",INT(ROW(A926)/31))),\"\")","v":""}]
[null,null,null,null,null,{"$f":"IFERROR(INDEX(Лист1!B:B,IF(MOD(ROW(A927)/31,1),\"\",INT(ROW(A927)/31))),\"\")","v":""}]
[null,null,null,null,null,{"$f":"IFERROR(INDEX(Лист1!B:B,IF(MOD(ROW(A928)/31,1),\"\",INT(ROW(A928)/31))),\"\")","v":""}]
[null,null,null,null,null,{"$f":"IFERROR(INDEX(Лист1!B:B,IF(MOD(ROW(A929)/31,1),\"\",INT(ROW(A929)/31))),\"\")","v":""}]
[null,null,null,null,null,{"$f":"IFERROR(INDEX(Лист1!B:B,IF(MOD(ROW(A930)/31,1),\"\",INT(ROW(A930)/31))),\"\")","v":3000000}]
[null,null,null,null,null,{"$f":"IFERROR(INDEX(Лист1!B:B,IF(MOD(ROW(A931)/31,1),\"\",INT(ROW(A931)/31))),\"\")","v":""}]
[null,null,null,null,null,{"$f":"IFERROR(INDEX(Лист1!B:B,IF(MOD(ROW(A932)/31,1),\"\",INT(ROW(A932)/31))),\"\")","v":""}]
[null,null,null,null,null,{"$f":"IFERROR(INDEX(Лист1!B:B,IF(MOD(ROW(A933)/31,1),\"\",INT(ROW(A933)/31))),\"\")","v":""}]
[null,null,null,null,null,{"$f":"IFERROR(INDEX(Лист1!B:B,IF(MOD(ROW(A934)/31,1),\"\",INT(ROW(A934)/31))),\"\")","v":""}]
[null,null,null,null,null,{"$f":"IFERROR(INDEX(Лист1!B:B,IF(MOD(ROW(A935)/31,1),\"\",INT(ROW(A935)/31))),\"\")","v":""}]
[null,null,null,null,null,{"$f":"IFERROR(INDEX(Лист1!B:B,IF(MOD(ROW(A936)/31,1),\"\",INT(ROW(A936)/31))),\"\")","v":""}]
[null,null,null,null,null,{"$f":"IFERROR(INDEX(Лист1!B:B,IF(MOD(ROW(A937)/31,1),\"\",INT(ROW(A937)/31))),\"\")","v":""}]
[null,null,null,null,null,{"$f":"IFERROR(INDEX(Лист1!B:B,IF(MOD(ROW(A938)/31,1),\"\",INT(ROW(A938)/31))),\"\")","v":""}]
[null,null,null,null,null,{"$f":"IFERROR(INDEX(Лист1!B:B,IF(MOD(ROW(A939)/31,1),\"\",INT(ROW(A939)/31))),\"\")","v":""}]
[null,null,null,null,null,{"$f":"IFERROR(INDEX(Лист1!B:B,IF(MOD(ROW(A940)/31,1),\"\",INT(ROW(A940)/31))),\"\")","v":""}]
[null,null,null,null,null,{"$f":"IFERROR(INDEX(Лист1!B:B,IF(MOD(ROW(A941)/31,1),\"\",INT(ROW(A941)/31))),\"\")","v":""}]
[null,null,null,null,null,{"$f":"IFERROR(INDEX(Лист1!B:B,IF(MOD(ROW(A942)/31,1),\"\",INT(ROW(A942)/31))),\"\")","v":""}]
[null,null,null,null,null,{"$f":"IFERROR(INDEX(Лист1!B:B,IF(MOD(ROW(A943)/31,1),\"\",INT(ROW(A943)/31))),\"\")","v":""}]
[null,null,null,null,null,{"$f":"IFERROR(INDEX(Лист1!B:B,IF(MOD(ROW(A944)/31,1),\"\",INT(ROW(A944)/31))),\"\")","v":""}]
[null,null,null,null,null,{"$f":"IFERROR(INDEX(Лист1!B:B,IF(MOD(ROW(A945)/31,1),\"\",INT(ROW(A945)/31))),\"\")","v":""}]
[null,null,null,null,null,{"$f":"IFERROR(INDEX(Лист1!B:B,IF(MOD(ROW(A946)/31,1),\"\",INT(ROW(A946)/31))),\"\")","v":""}]
[null,null,null,null,null,{"$f":"IFERROR(INDEX(Лист1!B:B,IF(MOD(ROW(A947)/31,1),\"\",INT(ROW(A947)/31))),\"\")","v":""}]
[null,null,null,null,null,{"$f":"IFERROR(INDEX(Лист1!B:B,IF(MOD(ROW(A948)/31,1),\"\",INT(ROW(A948)/31))),\"\")","v":""}]
[null,null,null,null,null,{"$f":"IFERROR(INDEX(Лист1!B:B,IF(MOD(ROW(A949)/31,1),\"\",INT(ROW(A949)/31))),\"\")","v":""}]
[null,null,null,null,null,{"$f":"IFERROR(INDEX(Лист1!B:B,IF(MOD(ROW(A950)/31,1),\"\",INT(ROW(A950)/31))),\"\")","v":""}]
[null,null,null,null,null,{"$f":"IFERROR(INDEX(Лист1!B:B,IF(MOD(ROW(A951)/31,1),\"\",INT(ROW(A951)/31))),\"\")","v":""}]
[null,null,null,null,null,{"$f":"IFERROR(INDEX(Лист1!B:B,IF(MOD(ROW(A952)/31,1),\"\",INT(ROW(A952)/31))),\"\")","v":""}]
[null,null,null,null,null,{"$f":"IFERROR(INDEX(Лист1!B:B,IF(MOD(ROW(A953)/31,1),\"\",INT(ROW(A953)/31))),\"\")","v":""}]
[null,null,null,null,null,{"$f":"IFERROR(INDEX(Лист1!B:B,IF(MOD(ROW(A954)/31,1),\"\",INT(ROW(A954)/31))),\"\")","v":""}]
[null,null,null,null,null,{"$f":"IFERROR(INDEX(Лист1!B:B,IF(MOD(ROW(A955)/31,1),\"\",INT(ROW(A955)/31))),\"\")","v":""}]
[null,null,null,null,null,{"$f":"IFERROR(INDEX(Лист1!B:B,IF(MOD(ROW(A956)/31,1),\"\",INT(ROW(A956)/31))),\"\")","v":""}]
[null,null,null,null,null,{"$f":"IFERROR(INDEX(Лист1!B:B,IF(MOD(ROW(A957)/31,1),\"\",INT(ROW(A957)/31))),\"\")","v":""}]
[null,null,null,null,null,{"$f":"IFERROR(INDEX(Лист1!B:B,IF(MOD(ROW(A958)/31,1),\"\",INT(ROW(A958)/31))),\"\")","v":""}]
[null,null,null,null,null,{"$f":"IFERROR(INDEX(Лист1!B:B,IF(MOD(ROW(A959)/31,1),\"\",INT(ROW(A959)/31))),\"\")","v":""}]
[null,null,null,null,null,{"$f":"IFERROR(INDEX(Лист1!B:B,IF(MOD(ROW(A960)/31,1),\"\",INT(ROW(A960)/31))),\"\")","v":""}]
[null,null,null,null,null,{"$f":"IFERROR(INDEX(Лист1!B:B,IF(MOD(ROW(A961)/31,1),\"\",INT(ROW(A961)/31))),\"\")","v":3100000}]
[null,null,null,null,null,{"$f":"IFERROR(INDEX(Лист1!B:B,IF(MOD(ROW(A962)/31,1),\"\",INT(ROW(A962)/31))),\"\")","v":""}]
[null,null,null,null,null,{"$f":"IFERROR(INDEX(Лист1!B:B,IF(MOD(ROW(A963)/31,1),\"\",INT(ROW(A963)/31))),\"\")","v":""}]
[null,null,null,null,null,{"$f":"IFERROR(INDEX(Лист1!B:B,IF(MOD(ROW(A964)/31,1),\"\",INT(ROW(A964)/31))),\"\")","v":""}]
[null,null,null,null,null,{"$f":"IFERROR(INDEX(Лист1!B:B,IF(MOD(ROW(A965)/31,1),\"\",INT(ROW(A965)/31))),\"\")","v":""}]
[null,null,null,null,null,{"$f":"IFERROR(INDEX(Лист1!B:B,IF(MOD(ROW(A966)/31,1),\"\",INT(ROW(A966)/31))),\"\")","v":""}]
[null,null,null,null,null,{"$f":"IFERROR(INDEX(Лист1!B:B,IF(MOD(ROW(A967)/31,1),\"\",INT(ROW(A967)/31))),\"\")","v":""}]
[null,null,null,null,null,{"$f":"IFERROR(INDEX(Лист1!B:B,IF(MOD(ROW(A968)/31,1),\"\",INT(ROW(A968)/31))),\"\")","v":""}]
[null,null,null,null,null,{"$f":"IFERROR(INDEX(Лист1!B:B,IF(MOD(ROW(A969)/31,1),\"\",INT(ROW(A969)/31))),\"\")","v":""}]
[null,null,null,null,null,{"$f":"IFERROR(INDEX(Лист1!B:B,IF(MOD(ROW(A970)/31,1),\"\",INT(ROW(A970)/31))),\"\")","v":""}]
[null,null,null,null,null,{"$f":"IFERROR(INDEX(Лист1!B:B,IF(MOD(ROW(A971)/31,1),\"\",INT(ROW(A971)/31))),\"\")","v":""}]
[null,null,null,null,null,{"$f":"IFERROR(INDEX(Лист1!B:B,IF(MOD(ROW(A972)/31,1),\"\",INT(ROW(A972)/31))),\"\")","v":""}]
[null,null,null,null,null,{"$f":"IFERROR(INDEX(Лист1!B:B,IF(MOD(ROW(A973)/31,1),\"\",INT(ROW(A973)/31))),\"\")","v":""}]
[null,null,null,null,null,{"$f":"IFERROR(INDEX(Лист1!B:B,IF(MOD(ROW(A974)/31,1),\"\",INT(ROW(A974)/31))),\"\")","v":""}]
[null,null,null,null,null,{"$f":"IFERROR(INDEX(Лист1!B:B,IF(MOD(ROW(A975)/31,1),\"\",INT(ROW(A975)/31))),\"\")","v":""}]
[null,null,null,null,null,{"$f":"IFERROR(INDEX(Лист1!B:B,IF(MOD(ROW(A976)/31,1),\"\",INT(ROW(A976)/31))),\"\")","v":""}]
[null,null,null,null,null,{"$f":"IFERROR(INDEX(Лист1!B:B,IF(MOD(ROW(A977)/31,1),\"\",INT(ROW(A977)/31))),\"\")","v":""}]
[null,null,null,null,null,{"$f":"IFERROR(INDEX(Лист1!B:B,IF(MOD(ROW(A978)/31,1),\"\",INT(ROW(A978)/31))),\"\")","v":""}]
[null,null,null,null,null,{"$f":"IFERROR(INDEX(Лист1!B:B,IF(MOD(ROW(A979)/31,1),\"\",INT(ROW(A979)/31))),\"\")","v":""}]
[null,null,null,null,null,{"$f":"IFERROR(INDEX(Лист1!B:B,IF(MOD(ROW(A980)/31,1),\"\",INT(ROW(A980)/31))),\"\")","v":""}]
[null,null,null,null,null,{"$f":"IFERROR(INDEX(Лист1!B:B,IF(MOD(ROW(A981)/31,1),\"\",INT(ROW(A981)/31))),\"\")","v":""}]
[null,null,null,null,null,{"$f":"IFERROR(INDEX(Лист1!B:B,IF(MOD(ROW(A982)/31,1),\"\",INT(ROW(A982)/31))),\"\")","v":""}]
[null,null,null,null,null,{"$f":"IFERROR(INDEX(Лист1!B:B,IF(MOD(ROW(A983)/31,1),\"\",INT(ROW(A983)/31))),\"\")","v":""}]
[null,null,null,null,null,{"$f":"IFERROR(INDEX(Лист1!B:B,IF(MOD(ROW(A984)/31,1),\"\",INT(ROW(A984)/31))),\"\")","v":""}]
[null,null,null,null,null,{"$f":"IFERROR(INDEX(Лист1!B:B,IF(MOD(ROW(A985)/31,1),\"\",INT(ROW(A985)/31))),\"\")","v":""}]
[null,null,null,null,null,{"$f":"IFERROR(INDEX(Лист1!B:B,IF(MOD(ROW(A986)/31,1),\"\",INT(ROW(A986)/31))),\"\")","v":""}]
[null,null,null,null,null,{"$f":"IFERROR(INDEX(Лист1!B:B,IF(MOD(ROW(A987)/31,1),\"\",INT(ROW(A987)/31))),\"\")","v":""}]
[null,null,null,null,null,{"$f":"IFERROR(INDEX(Лист1!B:B,IF(MOD(ROW(A988)/31,1),\"\",INT(ROW(A988)/31))),\"\")","v":""}]
[null,null,null,null,null,{"$f":"IFERROR(INDEX(Лист1!B:B,IF(MOD(ROW(A989)/31,1),\"\",INT(ROW(A989)/31))),\"\")","v":""}]
[null,null,null,null,null,{"$f":"IFERROR(INDEX(Лист1!B:B,IF(MOD(ROW(A990)/31,1),\"\",INT(ROW(A990)/31))),\"\")","v":""}]
[null,null,null,null,null,{"$f":"IFERROR(INDEX(Лист1!B:B,IF(MOD(ROW(A991)/31,1),\"\",INT(ROW(A991)/31))),\"\")","v":""}]
[null,null,null,null,null,{"$f":"IFERROR(INDEX(Лист1!B:B,IF(MOD(ROW(A992)/31,1),\"\",INT(ROW(A992)/31))),\"\")","v":3200000}]
[null,null,null,null,null,{"$f":"IFERROR(INDEX(Лист1!B:B,IF(MOD(ROW(A993)/31,1),\"\",INT(ROW(A993)/31))),\"\")","v":""}]
[null,null,null,null,null,{"$f":"IFERROR(INDEX(Лист1!B:B,IF(MOD(ROW(A994)/31,1),\"\",INT(ROW(A994)/31))),\"\")","v":""}]
[null,null,null,null,null,{"$f":"IFERROR(INDEX(Лист1!B:B,IF(MOD(ROW(A995)/31,1),\"\",INT(ROW(A995)/31))),\"\")","v":""}]
[null,null,null,null,null,{"$f":"IFERROR(INDEX(Лист1!B:B,IF(MOD(ROW(A996)/31,1),\"\",INT(ROW(A996)/31))),\"\")","v":""}]
[null,null,null,null,null,{"$f":"IFERROR(INDEX(Лист1!B:B,IF(MOD(ROW(A997)/31,1),\"\",INT(ROW(A997)/31))),\"\")","v":""}]
[null,null,null,null,null,{"$f":"IFERROR(INDEX(Лист1!B:B,IF(MOD(ROW(A998)/31,1),\"\",INT(ROW(A998)/31))),\"\")","v":""}]
[null,null,null,null,null,{"$f":"IFERROR(INDEX(Лист1!B:B,IF(MOD(ROW(A999)/31,1),\"\",INT(ROW(A999)/31))),\"\")","v":""}]
[null,null,null,null,null,{"$f":"IFERROR(INDEX(Лист1!B:B,IF(MOD(ROW(A1000)/31,1),\"\",INT(ROW(A1000)/31))),\"\")","v":""}]
[null,null,null,null,null,{"$f":"IFERROR(INDEX(Лист1!B:B,IF(MOD(ROW(A1001)/31,1),\"\",INT(ROW(A1001)/31))),\"\")","v":""}]
[null,null,null,null,null,{"$f":"IFERROR(INDEX(Лист1!B:B,IF(MOD(ROW(A1002)/31,1),\"\",INT(ROW(A1002)/31))),\"\")","v":""}]
[null,null,null,null,null,{"$f":"IFERROR(INDEX(Лист1!B:B,IF(MOD(ROW(A1003)/31,1),\"\",INT(ROW(A1003)/31))),\"\")","v":""}]
[null,null,null,null,null,{"$f":"IFERROR(INDEX(Лист1!B:B,IF(MOD(ROW(A1004)/31,1),\"\",INT(ROW(A1004)/31))),\"\")","v":""}]
[null,null,null,null,null,{"$f":"IFERROR(INDEX(Лист1!B:B,IF(MOD(ROW(A1005)/31,1),\"\",INT(ROW(A1005)/31))),\"\")","v":""}]
[null,null,null,null,null,{"$f":"IFERROR(INDEX(Лист1!B:B,IF(MOD(ROW(A1006)/31,1),\"\",INT(ROW(A1006)/31))),\"\")","v":""}]
[null,null,null,null,null,{"$f":"IFERROR(INDEX(Лист1!B:B,IF(MOD(ROW(A1007)/31,1),\"\",INT(ROW(A1007)/31))),\"\")","v":""}]
[null,null,null,null,null,{"$f":"IFERROR(INDEX(Лист1!B:B,IF(MOD(ROW(A1008)/31,1),\"\",INT(ROW(A1008)/31))),\"\")","v":""}]
[null,null,null,null,null,{"$f":"IFERROR(INDEX(Лист1!B:B,IF(MOD(ROW(A1009)/31,1),\"\",INT(ROW(A1009)/31))),\"\")","v":""}]
[null,null,null,null,null,{"$f":"IFERROR(INDEX(Лист1!B:B,IF(MOD(ROW(A1010)/31,1),\"\",INT(ROW(A1010)/31))),\"\")","v":""}]
[null,null,null,null,null,{"$f":"IFERROR(INDEX(Лист1!B:B,IF(MOD(ROW(A1011)/31,1),\"\",INT(ROW(A1011)/31))),\"\")","v":""}]
[null,null,null,null,null,{"$f":"IFERROR(INDEX(Лист1!B:B,IF(MOD(ROW(A1012)/31,1),\"\",INT(ROW(A1012)/31))),\"\")","v":""}]
[null,null,null,null,null,{"$f":"IFERROR(INDEX(Лист1!B:B,IF(MOD(ROW(A1013)/31,1),\"\",INT(ROW(A1013)/31))),\"\")","v":""}]
[null,null,null,null,null,{"$f":"IFERROR(INDEX(Лист1!B:B,IF(MOD(ROW(A1014)/31,1),\"\",INT(ROW(A1014)/31))),\"\")","v":""}]
[null,null,null,null,null,{"$f":"IFERROR(INDEX(Лист1!B:B,IF(MOD(ROW(A1015)/31,1),\"\",INT(ROW(A1015)/31))),\"\")","v":""}]
[null,null,null,null,null,{"$f":"IFERROR(INDEX(Лист1!B:B,IF(MOD(ROW(A1016)/31,1),\"\",INT(ROW(A1016)/31))),\"\")","v":""}]
[null,null,null,null,null,{"$f":"IFERROR(INDEX(Лист1!B:B,IF(MOD(ROW(A1017)/31,1),\"\",INT(ROW(A1017)/31))),\"\")","v":""}]
[null,null,null,null,null,{"$f":"IFERROR(INDEX(Лист1!B:B,IF(MOD(ROW(A1018)/31,1),\"\",INT(ROW(A1018)/31))),\"\")","v":""}]
[null,null,null,null,null,{"$f":"IFERROR(INDEX(Лист1!B:B,IF(MOD(ROW(A1019)/31,1),\"\",INT(ROW(A1019)/31))),\"\")","v":""}]
[null,null,null,null,null,{"$f":"IFERROR(INDEX(Лист1!B:B,IF(MOD(ROW(A1020)/31,1),\"\",INT(ROW(A1020)/31))),\"\")","v":""}]
[null,null,null,null,null,{"$f":"IFERROR(INDEX(Лист1!B:B,IF(MOD(ROW(A1021)/31,1),\"\",INT(ROW(A1021)/31))),\"\")","v":""}]
[null,null,null,null,null,{"$f":"IFERROR(INDEX(Лист1!B:B,IF(MOD(ROW(A1022)/31,1),\"\",INT(ROW(A1022)/31))),\"\")","v":""}]
[null,null,null,null,null,{"$f":"IFERROR(INDEX(Лист1!B:B,IF(MOD(ROW(A1023)/31,1),\"\",INT(ROW(A1023)/31))),\"\")","v":3300000}]
[null,null,null,null,null,{"$f":"IFERROR(INDEX(Лист1!B:B,IF(MOD(ROW(A1024)/31,1),\"\",INT(ROW(A1024)/31))),\"\")","v":""}]
[null,null,null,null,null,{"$f":"IFERROR(INDEX(Лист1!B:B,IF(MOD(ROW(A1025)/31,1),\"\",INT(ROW(A1025)/31))),\"\")","v":""}]
[null,null,null,null,null,{"$f":"IFERROR(INDEX(Лист1!B:B,IF(MOD(ROW(A1026)/31,1),\"\",INT(ROW(A1026)/31))),\"\")","v":""}]
[null,null,null,null,null,{"$f":"IFERROR(INDEX(Лист1!B:B,IF(MOD(ROW(A1027)/31,1),\"\",INT(ROW(A1027)/31))),\"\")","v":""}]
[null,null,null,null,null,{"$f":"IFERROR(INDEX(Лист1!B:B,IF(MOD(ROW(A1028)/31,1),\"\",INT(ROW(A1028)/31))),\"\")","v":""}]
[null,null,null,null,null,{"$f":"IFERROR(INDEX(Лист1!B:B,IF(MOD(ROW(A1029)/31,1),\"\",INT(ROW(A1029)/31))),\"\")","v":""}]
[null,null,null,null,null,{"$f":"IFERROR(INDEX(Лист1!B:B,IF(MOD(ROW(A1030)/31,1),\"\",INT(ROW(A1030)/31))),\"\")","v":""}]
[null,null,null,null,null,{"$f":"IFERROR(INDEX(Лист1!B:B,IF(MOD(ROW(A1031)/31,1),\"\",INT(ROW(A1031)/31))),\"\")","v":""}]
[null,null,null,null,null,{"$f":"IFERROR(INDEX(Лист1!B:B,IF(MOD(ROW(A1032)/31,1),\"\",INT(ROW(A1032)/31))),\"\")","v":""}]
[null,null,null,null,null,{"$f":"IFERROR(INDEX(Лист1!B:B,IF(MOD(ROW(A1033)/31,1),\"\",INT(ROW(A1033)/31))),\"\")","v":""}]
[null,null,null,null,null,{"$f":"IFERROR(INDEX(Лист1!B:B,IF(MOD(ROW(A1034)/31,1),\"\",INT(ROW(A1034)/31))),\"\")","v":""}]
[null,null,null,null,null,{"$f":"IFERROR(INDEX(Лист1!B:B,IF(MOD(ROW(A1035)/31,1),\"\",INT(ROW(A1035)/31))),\"\")","v":""}]
[null,null,null,null,null,{"$f":"IFERROR(INDEX(Лист1!B:B,IF(MOD(ROW(A1036)/31,1),\"\",INT(ROW(A1036)/31))),\"\")","v":""}]
[null,null,null,null,null,{"$f":"IFERROR(INDEX(Лист1!B:B,IF(MOD(ROW(A1037)/31,1),\"\",INT(ROW(A1037)/31))),\"\")","v":""}]
[null,null,null,null,null,{"$f":"IFERROR(INDEX(Лист1!B:B,IF(MOD(ROW(A1038)/31,1),\"\",INT(ROW(A1038)/31))),\"\")","v":""}]
[null,null,null,null,null,{"$f":"IFERROR(INDEX(Лист1!B:B,IF(MOD(ROW(A1039)/31,1),\"\",INT(ROW(A1039)/31))),\"\")","v":""}]
[null,null,null,null,null,{"$f":"IFERROR(INDEX(Лист1!B:B,IF(MOD(ROW(A1040)/31,1),\"\",INT(ROW(A1040)/31))),\"\")","v":""}]
[null,null,null,null,null,{"$f":"IFERROR(INDEX(Лист1!B:B,IF(MOD(ROW(A1041)/31,1),\"\",INT(ROW(A1041)/31))),\"\")","v":""}]
[null,null,null,null,null,{"$f":"IFERROR(INDEX(Лист1!B:B,IF(MOD(ROW(A1042)/31,1),\"\",INT(ROW(A1042)/31))),\"\")","v":""}]
[null,null,null,null,null,{"$f":"IFERROR(INDEX(Лист1!B:B,IF(MOD(ROW(A1043)/31,1),\"\",INT(ROW(A1043)/31))),\"\")","v":""}]
[null,null,null,null,null,{"$f":"IFERROR(INDEX(Лист1!B:B,IF(MOD(ROW(A1044)/31,1),\"\",INT(ROW(A1044)/31))),\"\")","v":""}]
[null,null,null,null,null,{"$f":"IFERROR(INDEX(Лист1!B:B,IF(MOD(ROW(A1045)/31,1),\"\",INT(ROW(A1045)/31))),\"\")","v":""}]
[null,null,null,null,null,{"$f":"IFERROR(INDEX(Лист1!B:B,IF(MOD(ROW(A1046)/31,1),\"\",INT(ROW(A1046)/31))),\"\")","v":""}]
[null,null,null,null,null,{"$f":"IFERROR(INDEX(Лист1!B:B,IF(MOD(ROW(A1047)/31,1),\"\",INT(ROW(A1047)/31))),\"\")","v":""}]
[null,null,null,null,null,{"$f":"IFERROR(INDEX(Лист1!B:B,IF(MOD(ROW(A1048)/31,1),\"\",INT(ROW(A1048)/31))),\"\")","v":""}]
[null,null,null,null,null,{"$f":"IFERROR(INDEX(Лист1!B:B,IF(MOD(ROW(A1049)/31,1),\"\",INT(ROW(A1049)/31))),\"\")","v":""}]
[null,null,null,null,null,{"$f":"IFERROR(INDEX(Лист1!B:B,IF(MOD(ROW(A1050)/31,1),\"\",INT(ROW(A1050)/31))),\"\")","v":""}]
[null,null,null,null,null,{"$f":"IFERROR(INDEX(Лист1!B:B,IF(MOD(ROW(A1051)/31,1),\"\",INT(ROW(A1051)/31))),\"\")","v":""}]
[null,null,null,null,null,{"$f":"IFERROR(INDEX(Лист1!B:B,IF(MOD(ROW(A1052)/31,1),\"\",INT(ROW(A1052)/31))),\"\")","v":""}]
[null,null,null,null,null,{"$f":"IFERROR(INDEX(Лист1!B:B,IF(MOD(ROW(A1053)/31,1),\"\",INT(ROW(A1053)/31))),\"\")","v":""}]
[null,null,null,null,null,{"$f":"IFERROR(INDEX(Лист1!B:B,IF(MOD(ROW(A1054)/31,1),\"\",INT(ROW(A1054)/31))),\"\")","v":3400000}]
[null,null,null,null,null,{"$f":"IFERROR(INDEX(Лист1!B:B,IF(MOD(ROW(A1055)/31,1),\"\",INT(ROW(A1055)/31))),\"\")","v":""}]
[null,null,null,null,null,{"$f":"IFERROR(INDEX(Лист1!B:B,IF(MOD(ROW(A1056)/31,1),\"\",INT(ROW(A1056)/31))),\"\")","v":""}]
[null,null,null,null,null,{"$f":"IFERROR(INDEX(Лист1!B:B,IF(MOD(ROW(A1057)/31,1),\"\",INT(ROW(A1057)/31))),\"\")","v":""}]
[null,null,null,null,null,{"$f":"IFERROR(INDEX(Лист1!B:B,IF(MOD(ROW(A1058)/31,1),\"\",INT(ROW(A1058)/31))),\"\")","v":""}]
[null,null,null,null,null,{"$f":"IFERROR(INDEX(Лист1!B:B,IF(MOD(ROW(A1059)/31,1),\"\",INT(ROW(A1059)/31))),\"\")","v":""}]
[null,null,null,null,null,{"$f":"IFERROR(INDEX(Лист1!B:B,IF(MOD(ROW(A1060)/31,1),\"\",INT(ROW(A1060)/31))),\"\")","v":""}]
[null,null,null,null,null,{"$f":"IFERROR(INDEX(Лист1!B:B,IF(MOD(ROW(A1061)/31,1),\"\",INT(ROW(A1061)/31))),\"\")","v":""}]
[null,null,null,null,null,{"$f":"IFERROR(INDEX(Лист1!B:B,IF(MOD(ROW(A1062)/31,1),\"\",INT(ROW(A1062)/31))),\"\")","v":""}]
[null,null,null,null,null,{"$f":"IFERROR(INDEX(Лист1!B:B,IF(MOD(ROW(A1063)/31,1),\"\",INT(ROW(A1063)/31))),\"\")","v":""}]
[null,null,null,null,null,{"$f":"IFERROR(INDEX(Лист1!B:B,IF(MOD(ROW(A1064)/31,1),\"\",INT(ROW(A1064)/31))),\"\")","v":""}]
[null,null,null,null,null,{"$f":"IFERROR(INDEX(Лист1!B:B,IF(MOD(ROW(A1065)/31,1),\"\",INT(ROW(A1065)/31))),\"\")","v":""}]
[null,null,null,null,null,{"$f":"IFERROR(INDEX(Лист1!B:B,IF(MOD(ROW(A1066)/31,1),\"\",INT(ROW(A1066)/31))),\"\")","v":""}]
[null,null,null,null,null,{"$f":"IFERROR(INDEX(Лист1!B:B,IF(MOD(ROW(A1067)/31,1),\"\",INT(ROW(A1067)/31))),\"\")","v":""}]
[null,null,null,null,null,{"$f":"IFERROR(INDEX(Лист1!B:B,IF(MOD(ROW(A1068)/31,1),\"\",INT(ROW(A1068)/31))),\"\")","v":""}]
[null,null,null,null,null,{"$f":"IFERROR(INDEX(Лист1!B:B,IF(MOD(ROW(A1069)/31,1),\"\",INT(ROW(A1069)/31))),\"\")","v":""}]
[null,null,null,null,null,{"$f":"IFERROR(INDEX(Лист1!B:B,IF(MOD(ROW(A1070)/31,1),\"\",INT(ROW(A1070)/31))),\"\")","v":""}]
[null,null,null,null,null,{"$f":"IFERROR(INDEX(Лист1!B:B,IF(MOD(ROW(A1071)/31,1),\"\",INT(ROW(A1071)/31))),\"\")","v":""}]
[null,null,null,null,null,{"$f":"IFERROR(INDEX(Лист1!B:B,IF(MOD(ROW(A1072)/31,1),\"\",INT(ROW(A1072)/31))),\"\")","v":""}]
[null,null,null,null,null,{"$f":"IFERROR(INDEX(Лист1!B:B,IF(MOD(ROW(A1073)/31,1),\"\",INT(ROW(A1073)/31))),\"\")","v":""}]
[null,null,null,null,null,{"$f":"IFERROR(INDEX(Лист1!B:B,IF(MOD(ROW(A1074)/31,1),\"\",INT(ROW(A1074)/31))),\"\")","v":""}]
[null,null,null,null,null,{"$f":"IFERROR(INDEX(Лист1!B:B,IF(MOD(ROW(A1075)/31,1),\"\",INT(ROW(A1075)/31))),\"\")","v":""}]
[null,null,null,null,null,{"$f":"IFERROR(INDEX(Лист1!B:B,IF(MOD(ROW(A1076)/31,1),\"\",INT(ROW(A1076)/31))),\"\")","v":""}]
[null,null,null,null,null,{"$f":"IFERROR(INDEX(Лист1!B:B,IF(MOD(ROW(A1077)/31,1),\"\",INT(ROW(A1077)/31))),\"\")","v":""}]
[null,null,null,null,null,{"$f":"IFERROR(INDEX(Лист1!B:B,IF(MOD(ROW(A1078)/31,1),\"\",INT(ROW(A1078)/31))),\"\")","v":""}]
[null,null,null,null,null,{"$f":"IFERROR(INDEX(Лист1!B:B,IF(MOD(ROW(A1079)/31,1),\"\",INT(ROW(A1079)/31))),\"\")","v":""}]
[null,null,null,null,null,{"$f":"IFERROR(INDEX(Лист1!B:B,IF(MOD(ROW(A1080)/31,1),\"\",INT(ROW(A1080)/31))),\"\")","v":""}]
[null,null,null,null,null,{"$f":"IFERROR(INDEX(Лист1!B:B,IF(MOD(ROW(A1081)/31,1),\"\",INT(ROW(A1081)/31))),\"\")","v":""}]
[null,null,null,null,null,{"$f":"IFERROR(INDEX(Лист1!B:B,IF(MOD(ROW(A1082)/31,1),\"\",INT(ROW(A1082)/31))),\"\")","v":""}]
[null,null,null,null,null,{"$f":"IFERROR(INDEX(Лист1!B:B,IF(MOD(ROW(A1083)/31,1),\"\",INT(ROW(A1083)/31))),\"\")","v":""}]
[null,null,null,null,null,{"$f":"IFERROR(INDEX(Лист1!B:B,IF(MOD(ROW(A1084)/31,1),\"\",INT(ROW(A1084)/31))),\"\")","v":""}]
[null,null,null,null,null,{"$f":"IFERROR(INDEX(Лист1!B:B,IF(MOD(ROW(A1085)/31,1),\"\",INT(ROW(A1085)/31))),\"\")","v":3500000}]
[null,null,null,null,null,{"$f":"IFERROR(INDEX(Лист1!B:B,IF(MOD(ROW(A1086)/31,1),\"\",INT(ROW(A1086)/31))),\"\")","v":""}]
[null,null,null,null,null,{"$f":"IFERROR(INDEX(Лист1!B:B,IF(MOD(ROW(A1087)/31,1),\"\",INT(ROW(A1087)/31))),\"\")","v":""}]
[null,null,null,null,null,{"$f":"IFERROR(INDEX(Лист1!B:B,IF(MOD(ROW(A1088)/31,1),\"\",INT(ROW(A1088)/31))),\"\")","v":""}]
[null,null,null,null,null,{"$f":"IFERROR(INDEX(Лист1!B:B,IF(MOD(ROW(A1089)/31,1),\"\",INT(ROW(A1089)/31))),\"\")","v":""}]
[null,null,null,null,null,{"$f":"IFERROR(INDEX(Лист1!B:B,IF(MOD(ROW(A1090)/31,1),\"\",INT(ROW(A1090)/31))),\"\")","v":""}]
[null,null,null,null,null,{"$f":"IFERROR(INDEX(Лист1!B:B,IF(MOD(ROW(A1091)/31,1),\"\",INT(ROW(A1091)/31))),\"\")","v":""}]
[null,null,null,null,null,{"$f":"IFERROR(INDEX(Лист1!B:B,IF(MOD(ROW(A1092)/31,1),\"\",INT(ROW(A1092)/31))),\"\")","v":""}]
[null,null,null,null,null,{"$f":"IFERROR(INDEX(Лист1!B:B,IF(MOD(ROW(A1093)/31,1),\"\",INT(ROW(A1093)/31))),\"\")","v":""}]
[null,null,null,null,null,{"$f":"IFERROR(INDEX(Лист1!B:B,IF(MOD(ROW(A1094)/31,1),\"\",INT(ROW(A1094)/31))),\"\")","v":""}]
[null,null,null,null,null,{"$f":"IFERROR(INDEX(Лист1!B:B,IF(MOD(ROW(A1095)/31,1),\"\",INT(ROW(A1095)/31))),\"\")","v":""}]
[null,null,null,null,null,{"$f":"IFERROR(INDEX(Лист1!B:B,IF(MOD(ROW(A1096)/31,1),\"\",INT(ROW(A1096)/31))),\"\")","v":""}]
[null,null,null,null,null,{"$f":"IFERROR(INDEX(Лист1!B:B,IF(MOD(ROW(A1097)/31,1),\"\",INT(ROW(A1097)/31))),\"\")","v":""}]
[null,null,null,null,null,{"$f":"IFERROR(INDEX(Лист1!B:B,IF(MOD(ROW(A1098)/31,1),\"\",INT(ROW(A1098)/31))),\"\")","v":""}]
[null,null,null,null,null,{"$f":"IFERROR(INDEX(Лист1!B:B,IF(MOD(ROW(A1099)/31,1),\"\",INT(ROW(A1099)/31))),\"\")","v":""}]
[null,null,null,null,null,{"$f":"IFERROR(INDEX(Лист1!B:B,IF(MOD(ROW(A1100)/31,1),\"\",INT(ROW(A1100)/31))),\"\")","v":""}]
[null,null,null,null,null,{"$f":"IFERROR(INDEX(Лист1!B:B,IF(MOD(ROW(A1101)/31,1),\"\",INT(ROW(A1101)/31))),\"\")","v":""}]
[null,null,null,null,null,{"$f":"IFERROR(INDEX(Лист1!B:B,IF(MOD(ROW(A1102)/31,1),\"\",INT(ROW(A1102)/31))),\"\")","v":""}]
[null,null,null,null,null,{"$f":"IFERROR(INDEX(Лист1!B:B,IF(MOD(ROW(A1103)/31,1),\"\",INT(ROW(A1103)/31))),\"\")","v":""}]
[null,null,null,null,null,{"$f":"IFERROR(INDEX(Лист1!B:B,IF(MOD(ROW(A1104)/31,1),\"\",INT(ROW(A1104)/31))),\"\")","v":""}]
[null,null,null,null,null,{"$f":"IFERROR(INDEX(Лист1!B:B,IF(MOD(ROW(A1105)/31,1),\"\",INT(ROW(A1105)/31))),\"\")","v":""}]
[null,null,null,null,null,{"$f":"IFERROR(INDEX(Лист1!B:B,IF(MOD(ROW(A1106)/31,1),\"\",INT(ROW(A1106)/31))),\"\")","v":""}]
[null,null,null,null,null,{"$f":"IFERROR(INDEX(Лист1!B:B,IF(MOD(ROW(A1107)/31,1),\"\",INT(ROW(A1107)/31))),\"\")","v":""}]
[null,null,null,null,null,{"$f":"IFERROR(INDEX(Лист1!B:B,IF(MOD(ROW(A1108)/31,1),\"\",INT(ROW(A1108)/31))),\"\")","v":""}]
[null,null,null,null,null,{"$f":"IFERROR(INDEX(Лист1!B:B,IF(MOD(ROW(A1109)/31,1),\"\",INT(ROW(A1109)/31))),\"\")","v":""}]
[null,null,null,null,null,{"$f":"IFERROR(INDEX(Лист1!B:B,IF(MOD(ROW(A1110)/31,1),\"\",INT(ROW(A1110)/31))),\"\")","v":""}]
[null,null,null,null,null,{"$f":"IFERROR(INDEX(Лист1!B:B,IF(MOD(ROW(A1111)/31,1),\"\",INT(ROW(A1111)/31))),\"\")","v":""}]
[null,null,null,null,null,{"$f":"IFERROR(INDEX(Лист1!B:B,IF(MOD(ROW(A1112)/31,1),\"\",INT(ROW(A1112)/31))),\"\")","v":""}]
[null,null,null,null,null,{"$f":"IFERROR(INDEX(Лист1!B:B,IF(MOD(ROW(A1113)/31,1),\"\",INT(ROW(A1113)/31))),\"\")","v":""}]
[null,null,null,null,null,{"$f":"IFERROR(INDEX(Лист1!B:B,IF(MOD(ROW(A1114)/31,1),\"\",INT(ROW(A1114)/31))),\"\")","v":""}]
[null,null,null,null,null,{"$f":"IFERROR(INDEX(Лист1!B:B,IF(MOD(ROW(A1115)/31,1),\"\",INT(ROW(A1115)/31))),\"\")","v":""}]
[null,null,null,null,null,{"$f":"IFERROR(INDEX(Лист1!B:B,IF(MOD(ROW(A1116)/31,1),\"\",INT(ROW(A1116)/31))),\"\")","v":3600000}]
[null,null,null,null,null,{"$f":"IFERROR(INDEX(Лист1!B:B,IF(MOD(ROW(A1117)/31,1),\"\",INT(ROW(A1117)/31))),\"\")","v":""}]
[null,null,null,null,null,{"$f":"IFERROR(INDEX(Лист1!B:B,IF(MOD(ROW(A1118)/31,1),\"\",INT(ROW(A1118)/31))),\"\")","v":""}]
[null,null,null,null,null,{"$f":"IFERROR(INDEX(Лист1!B:B,IF(MOD(ROW(A1119)/31,1),\"\",INT(ROW(A1119)/31))),\"\")","v":""}]
[null,null,null,null,null,{"$f":"IFERROR(INDEX(Лист1!B:B,IF(MOD(ROW(A1120)/31,1),\"\",INT(ROW(A1120)/31))),\"\")","v":""}]
[null,null,null,null,null,{"$f":"IFERROR(INDEX(Лист1!B:B,IF(MOD(ROW(A1121)/31,1),\"\",INT(ROW(A1121)/31))),\"\")","v":""}]
[null,null,null,null,null,{"$f":"IFERROR(INDEX(Лист1!B:B,IF(MOD(ROW(A1122)/31,1),\"\",INT(ROW(A1122)/31))),\"\")","v":""}]
[null,null,null,null,null,{"$f":"IFERROR(INDEX(Лист1!B:B,IF(MOD(ROW(A1123)/31,1),\"\",INT(ROW(A1123)/31))),\"\")","v":""}]
[null,null,null,null,null,{"$f":"IFERROR(INDEX(Лист1!B:B,IF(MOD(ROW(A1124)/31,1),\"\",INT(ROW(A1124)/31))),\"\")","v":""}]
[null,null,null,null,null,{"$f":"IFERROR(INDEX(Лист1!B:B,IF(MOD(ROW(A1125)/31,1),\"\",INT(ROW(A1125)/31))),\"\")","v":""}]
[null,null,null,null,null,{"$f":"IFERROR(INDEX(Лист1!B:B,IF(MOD(ROW(A1126)/31,1),\"\",INT(ROW(A1126)/31))),\"\")","v":""}]
[null,null,null,null,null,{"$f":"IFERROR(INDEX(Лист1!B:B,IF(MOD(ROW(A1127)/31,1),\"\",INT(ROW(A1127)/31))),\"\")","v":""}]
[null,null,null,null,null,{"$f":"IFERROR(INDEX(Лист1!B:B,IF(MOD(ROW(A1128)/31,1),\"\",INT(ROW(A1128)/31))),\"\")","v":""}]
[null,null,null,null,null,{"$f":"IFERROR(INDEX(Лист1!B:B,IF(MOD(ROW(A1129)/31,1),\"\",INT(ROW(A1129)/31))),\"\")","v":""}]
[null,null,null,null,null,{"$f":"IFERROR(INDEX(Лист1!B:B,IF(MOD(ROW(A1130)/31,1),\"\",INT(ROW(A1130)/31))),\"\")","v":""}]
[null,null,null,null,null,{"$f":"IFERROR(INDEX(Лист1!B:B,IF(MOD(ROW(A1131)/31,1),\"\",INT(ROW(A1131)/31))),\"\")","v":""}]
[null,null,null,null,null,{"$f":"IFERROR(INDEX(Лист1!B:B,IF(MOD(ROW(A1132)/31,1),\"\",INT(ROW(A1132)/31))),\"\")","v":""}]
[null,null,null,null,null,{"$f":"IFERROR(INDEX(Лист1!B:B,IF(MOD(ROW(A1133)/31,1),\"\",INT(ROW(A1133)/31))),\"\")","v":""}]
[null,null,null,null,null,{"$f":"IFERROR(INDEX(Лист1!B:B,IF(MOD(ROW(A1134)/31,1),\"\",INT(ROW(A1134)/31))),\"\")","v":""}]
[null,null,null,null,null,{"$f":"IFERROR(INDEX(Лист1!B:B,IF(MOD(ROW(A1135)/31,1),\"\",INT(ROW(A1135)/31))),\"\")","v":""}]
[null,null,null,null,null,{"$f":"IFERROR(INDEX(Лист1!B:B,IF(MOD(ROW(A1136)/31,1),\"\",INT(ROW(A1136)/31))),\"\")","v":""}]
[null,null,null,null,null,{"$f":"IFERROR(INDEX(Лист1!B:B,IF(MOD(ROW(A1137)/31,1),\"\",INT(ROW(A1137)/31))),\"\")","v":""}]
[null,null,null,null,null,{"$f":"IFERROR(INDEX(Лист1!B:B,IF(MOD(ROW(A1138)/31,1),\"\",INT(ROW(A1138)/31))),\"\")","v":""}]
[null,null,null,null,null,{"$f":"IFERROR(INDEX(Лист1!B:B,IF(MOD(ROW(A1139)/31,1),\"\",INT(ROW(A1139)/31))),\"\")","v":""}]
[null,null,null,null,null,{"$f":"IFERROR(INDEX(Лист1!B:B,IF(MOD(ROW(A1140)/31,1),\"\",INT(ROW(A1140)/31))),\"\")","v":""}]
[null,null,null,null,null,{"$f":"IFERROR(INDEX(Лист1!B:B,IF(MOD(ROW(A1141)/31,1),\"\",INT(ROW(A1141)/31))),\"\")","v":""}]
[null,null,null,null,null,{"$f":"IFERROR(INDEX(Лист1!B:B,IF(MOD(ROW(A1142)/31,1),\"\",INT(ROW(A1142)/31))),\"\")","v":""}]
[null,null,null,null,null,{"$f":"IFERROR(INDEX(Лист1!B:B,IF(MOD(ROW(A1143)/31,1),\"\",INT(ROW(A1143)/31))),\"\")","v":""}]
[null,null,null,null,null,{"$f":"IFERROR(INDEX(Лист1!B:B,IF(MOD(ROW(A1144)/31,1),\"\",INT(ROW(A1144)/31))),\"\")","v":""}]
[null,null,null,null,null,{"$f":"IFERROR(INDEX(Лист1!B:B,IF(MOD(ROW(A1145)/31,1),\"\",INT(ROW(A1145)/31))),\"\")","v":""}]
[null,null,null,null,null,{"$f":"IFERROR(INDEX(Лист1!B:B,IF(MOD(ROW(A1146)/31,1),\"\",INT(ROW(A1146)/31))),\"\")","v":""}]
[null,null,null,null,null,{"$f":"IFERROR(INDEX(Лист1!B:B,IF(MOD(ROW(A1147)/31,1),\"\",INT(ROW(A1147)/31))),\"\")","v":3700000}]
[null,null,null,null,null,{"$f":"IFERROR(INDEX(Лист1!B:B,IF(MOD(ROW(A1148)/31,1),\"\",INT(ROW(A1148)/31))),\"\")","v":""}]
[null,null,null,null,null,{"$f":"IFERROR(INDEX(Лист1!B:B,IF(MOD(ROW(A1149)/31,1),\"\",INT(ROW(A1149)/31))),\"\")","v":""}]
[null,null,null,null,null,{"$f":"IFERROR(INDEX(Лист1!B:B,IF(MOD(ROW(A1150)/31,1),\"\",INT(ROW(A1150)/31))),\"\")","v":""}]
[null,null,null,null,null,{"$f":"IFERROR(INDEX(Лист1!B:B,IF(MOD(ROW(A1151)/31,1),\"\",INT(ROW(A1151)/31))),\"\")","v":""}]
[null,null,null,null,null,{"$f":"IFERROR(INDEX(Лист1!B:B,IF(MOD(ROW(A1152)/31,1),\"\",INT(ROW(A1152)/31))),\"\")","v":""}]
[null,null,null,null,null,{"$f":"IFERROR(INDEX(Лист1!B:B,IF(MOD(ROW(A1153)/31,1),\"\",INT(ROW(A1153)/31))),\"\")","v":""}]
[null,null,null,null,null,{"$f":"IFERROR(INDEX(Лист1!B:B,IF(MOD(ROW(A1154)/31,1),\"\",INT(ROW(A1154)/31))),\"\")","v":""}]
[null,null,null,null,null,{"$f":"IFERROR(INDEX(Лист1!B:B,IF(MOD(ROW(A1155)/31,1),\"\",INT(ROW(A1155)/31))),\"\")","v":""}]
[null,null,null,null,null,{"$f":"IFERROR(INDEX(Лист1!B:B,IF(MOD(ROW(A1156)/31,1),\"\",INT(ROW(A1156)/31))),\"\")","v":""}]
[null,null,null,null,null,{"$f":"IFERROR(INDEX(Лист1!B:B,IF(MOD(ROW(A1157)/31,1),\"\",INT(ROW(A1157)/31))),\"\")","v":""}]
[null,null,null,null,null,{"$f":"IFERROR(INDEX(Лист1!B:B,IF(MOD(ROW(A1158)/31,1),\"\",INT(ROW(A1158)/31))),\"\")","v":""}]
[null,null,null,null,null,{"$f":"IFERROR(INDEX(Лист1!B:B,IF(MOD(ROW(A1159)/31,1),\"\",INT(ROW(A1159)/31))),\"\")","v":""}]
[null,null,null,null,null,{"$f":"IFERROR(INDEX(Лист1!B:B,IF(MOD(ROW(A1160)/31,1),\"\",INT(ROW(A1160)/31))),\"\")","v":""}]
[null,null,null,null,null,{"$f":"IFERROR(INDEX(Лист1!B:B,IF(MOD(ROW(A1161)/31,1),\"\",INT(ROW(A1161)/31))),\"\")","v":""}]
[null,null,null,null,null,{"$f":"IFERROR(INDEX(Лист1!B:B,IF(MOD(ROW(A1162)/31,1),\"\",INT(ROW(A1162)/31))),\"\")","v":""}]
[null,null,null,null,null,{"$f":"IFERROR(INDEX(Лист1!B:B,IF(MOD(ROW(A1163)/31,1),\"\",INT(ROW(A1163)/31))),\"\")","v":""}]
[null,null,null,null,null,{"$f":"IFERROR(INDEX(Лист1!B:B,IF(MOD(ROW(A1164)/31,1),\"\",INT(ROW(A1164)/31))),\"\")","v":""}]
[null,null,null,null,null,{"$f":"IFERROR(INDEX(Лист1!B:B,IF(MOD(ROW(A1165)/31,1),\"\",INT(ROW(A1165)/31))),\"\")","v":""}]
[null,null,null,null,null,{"$f":"IFERROR(INDEX(Лист1!B:B,IF(MOD(ROW(A1166)/31,1),\"\",INT(ROW(A1166)/31))),\"\")","v":""}]
[null,null,null,null,null,{"$f":"IFERROR(INDEX(Лист1!B:B,IF(MOD(ROW(A1167)/31,1),\"\",INT(ROW(A1167)/31))),\"\")","v":""}]
[null,null,null,null,null,{"$f":"IFERROR(INDEX(Лист1!B:B,IF(MOD(ROW(A1168)/31,1),\"\",INT(ROW(A1168)/31))),\"\")","v":""}]
[null,null,null,null,null,{"$f":"IFERROR(INDEX(Лист1!B:B,IF(MOD(ROW(A1169)/31,1),\"\",INT(ROW(A1169)/31))),\"\")","v":""}]
[null,null,null,null,null,{"$f":"IFERROR(INDEX(Лист1!B:B,IF(MOD(ROW(A1170)/31,1),\"\",INT(ROW(A1170)/31))),\"\")","v":""}]
[null,null,null,null,null,{"$f":"IFERROR(INDEX(Лист1!B:B,IF(MOD(ROW(A1171)/31,1),\"\",INT(ROW(A1171)/31))),\"\")","v":""}]
[null,null,null,null,null,{"$f":"IFERROR(INDEX(Лист1!B:B,IF(MOD(ROW(A1172)/31,1),\"\",INT(ROW(A1172)/31))),\"\")","v":""}]
[null,null,null,null,null,{"$f":"IFERROR(INDEX(Лист1!B:B,IF(MOD(ROW(A1173)/31,1),\"\",INT(ROW(A1173)/31))),\"\")","v":""}]
[null,null,null,null,null,{"$f":"IFERROR(INDEX(Лист1!B:B,IF(MOD(ROW(A1174)/31,1),\"\",INT(ROW(A1174)/31))),\"\")","v":""}]
[null,null,null,null,null,{"$f":"IFERROR(INDEX(Лист1!B:B,IF(MOD(ROW(A1175)/31,1),\"\",INT(ROW(A1175)/31))),\"\")","v":""}]
[null,null,null,null,null,{"$f":"IFERROR(INDEX(Лист1!B:B,IF(MOD(ROW(A1176)/31,1),\"\",INT(ROW(A1176)/31))),\"\")","v":""}]
[null,null,null,null,null,{"$f":"IFERROR(INDEX(Лист1!B:B,IF(MOD(ROW(A1177)/31,1),\"\",INT(ROW(A1177)/31))),\"\")","v":""}]
[null,null,null,null,null,{"$f":"IFERROR(INDEX(Лист1!B:B,IF(MOD(ROW(A1178)/31,1),\"\",INT(ROW(A1178)/31))),\"\")","v":3800000}]
[null,null,null,null,null,{"$f":"IFERROR(INDEX(Лист1!B:B,IF(MOD(ROW(A1179)/31,1),\"\",INT(ROW(A1179)/31))),\"\")","v":""}]
[null,null,null,null,null,{"$f":"IFERROR(INDEX(Лист1!B:B,IF(MOD(ROW(A1180)/31,1),\"\",INT(ROW(A1180)/31))),\"\")","v":""}]
[null,null,null,null,null,{"$f":"IFERROR(INDEX(Лист1!B:B,IF(MOD(ROW(A1181)/31,1),\"\",INT(ROW(A1181)/31))),\"\")","v":""}]
[null,null,null,null,null,{"$f":"IFERROR(INDEX(Лист1!B:B,IF(MOD(ROW(A1182)/31,1),\"\",INT(ROW(A1182)/31))),\"\")","v":""}]
[null,null,null,null,null,{"$f":"IFERROR(INDEX(Лист1!B:B,IF(MOD(ROW(A1183)/31,1),\"\",INT(ROW(A1183)/31))),\"\")","v":""}]
[null,null,null,null,null,{"$f":"IFERROR(INDEX(Лист1!B:B,IF(MOD(ROW(A1184)/31,1),\"\",INT(ROW(A1184)/31))),\"\")","v":""}]
[null,null,null,null,null,{"$f":"IFERROR(INDEX(Лист1!B:B,IF(MOD(ROW(A1185)/31,1),\"\",INT(ROW(A1185)/31))),\"\")","v":""}]
[null,null,null,null,null,{"$f":"IFERROR(INDEX(Лист1!B:B,IF(MOD(ROW(A1186)/31,1),\"\",INT(ROW(A1186)/31))),\"\")","v":""}]
[null,null,null,null,null,{"$f":"IFERROR(INDEX(Лист1!B:B,IF(MOD(ROW(A1187)/31,1),\"\",INT(ROW(A1187)/31))),\"\")","v":""}]
[null,null,null,null,null,{"$f":"IFERROR(INDEX(Лист1!B:B,IF(MOD(ROW(A1188)/31,1),\"\",INT(ROW(A1188)/31))),\"\")","v":""}]
[null,null,null,null,null,{"$f":"IFERROR(INDEX(Лист1!B:B,IF(MOD(ROW(A1189)/31,1),\"\",INT(ROW(A1189)/31))),\"\")","v":""}]
[null,null,null,null,null,{"$f":"IFERROR(INDEX(Лист1!B:B,IF(MOD(ROW(A1190)/31,1),\"\",INT(ROW(A1190)/31))),\"\")","v":""}]
[null,null,null,null,null,{"$f":"IFERROR(INDEX(Лист1!B:B,IF(MOD(ROW(A1191)/31,1),\"\",INT(ROW(A1191)/31))),\"\")","v":""}]
[null,null,null,null,null,{"$f":"IFERROR(INDEX(Лист1!B:B,IF(MOD(ROW(A1192)/31,1),\"\",INT(ROW(A1192)/31))),\"\")","v":""}]
[null,null,null,null,null,{"$f":"IFERROR(INDEX(Лист1!B:B,IF(MOD(ROW(A1193)/31,1),\"\",INT(ROW(A1193)/31))),\"\")","v":""}]
[null,null,null,null,null,{"$f":"IFERROR(INDEX(Лист1!B:B,IF(MOD(ROW(A1194)/31,1),\"\",INT(ROW(A1194)/31))),\"\")","v":""}]
[null,null,null,null,null,{"$f":"IFERROR(INDEX(Лист1!B:B,IF(MOD(ROW(A1195)/31,1),\"\",INT(ROW(A1195)/31))),\"\")","v":""}]
[null,null,null,null,null,{"$f":"IFERROR(INDEX(Лист1!B:B,IF(MOD(ROW(A1196)/31,1),\"\",INT(ROW(A1196)/31))),\"\")","v":""}]
[null,null,null,null,null,{"$f":"IFERROR(INDEX(Лист1!B:B,IF(MOD(ROW(A1197)/31,1),\"\",INT(ROW(A1197)/31))),\"\")","v":""}]
[null,null,null,null,null,{"$f":"IFERROR(INDEX(Лист1!B:B,IF(MOD(ROW(A1198)/31,1),\"\",INT(ROW(A1198)/31))),\"\")","v":""}]
[null,null,null,null,null,{"$f":"IFERROR(INDEX(Лист1!B:B,IF(MOD(ROW(A1199)/31,1),\"\",INT(ROW(A1199)/31))),\"\")","v":""}]
[null,null,null,null,null,{"$f":"IFERROR(INDEX(Лист1!B:B,IF(MOD(ROW(A1200)/31,1),\"\",INT(ROW(A1200)/31))),\"\")","v":""}]
[null,null,null,null,null,{"$f":"IFERROR(INDEX(Лист1!B:B,IF(MOD(ROW(A1201)/31,1),\"\",INT(ROW(A1201)/31))),\"\")","v":""}]
[null,null,null,null,null,{"$f":"IFERROR(INDEX(Лист1!B:B,IF(MOD(ROW(A1202)/31,1),\"\",INT(ROW(A1202)/31))),\"\")","v":""}]
[null,null,null,null,null,{"$f":"IFERROR(INDEX(Лист1!B:B,IF(MOD(ROW(A1203)/31,1),\"\",INT(ROW(A1203)/31))),\"\")","v":""}]
[null,null,null,null,null,{"$f":"IFERROR(INDEX(Лист1!B:B,IF(MOD(ROW(A1204)/31,1),\"\",INT(ROW(A1204)/31))),\"\")","v":""}]
[null,null,null,null,null,{"$f":"IFERROR(INDEX(Лист1!B:B,IF(MOD(ROW(A1205)/31,1),\"\",INT(ROW(A1205)/31))),\"\")","v":""}]
[null,null,null,null,null,{"$f":"IFERROR(INDEX(Лист1!B:B,IF(MOD(ROW(A1206)/31,1),\"\",INT(ROW(A1206)/31))),\"\")","v":""}]
[null,null,null,null,null,{"$f":"IFERROR(INDEX(Лист1!B:B,IF(MOD(ROW(A1207)/31,1),\"\",INT(ROW(A1207)/31))),\"\")","v":""}]
[null,null,null,null,null,{"$f":"IFERROR(INDEX(Лист1!B:B,IF(MOD(ROW(A1208)/31,1),\"\",INT(ROW(A1208)/31))),\"\")","v":""}]
[null,null,null,null,null,{"$f":"IFERROR(INDEX(Лист1!B:B,IF(MOD(ROW(A1209)/31,1),\"\",INT(ROW(A1209)/31))),\"\")","v":3900000}]
[null,null,null,null,null,{"$f":"IFERROR(INDEX(Лист1!B:B,IF(MOD(ROW(A1210)/31,1),\"\",INT(ROW(A1210)/31))),\"\")","v":""}]
[null,null,null,null,null,{"$f":"IFERROR(INDEX(Лист1!B:B,IF(MOD(ROW(A1211)/31,1),\"\",INT(ROW(A1211)/31))),\"\")","v":""}]
[null,null,null,null,null,{"$f":"IFERROR(INDEX(Лист1!B:B,IF(MOD(ROW(A1212)/31,1),\"\",INT(ROW(A1212)/31))),\"\")","v":""}]
[null,null,null,null,null,{"$f":"IFERROR(INDEX(Лист1!B:B,IF(MOD(ROW(A1213)/31,1),\"\",INT(ROW(A1213)/31))),\"\")","v":""}]
[null,null,null,null,null,{"$f":"IFERROR(INDEX(Лист1!B:B,IF(MOD(ROW(A1214)/31,1),\"\",INT(ROW(A1214)/31))),\"\")","v":""}]
[null,null,null,null,null,{"$f":"IFERROR(INDEX(Лист1!B:B,IF(MOD(ROW(A1215)/31,1),\"\",INT(ROW(A1215)/31))),\"\")","v":""}]
[null,null,null,null,null,{"$f":"IFERROR(INDEX(Лист1!B:B,IF(MOD(ROW(A1216)/31,1),\"\",INT(ROW(A1216)/31))),\"\")","v":""}]
[null,null,null,null,null,{"$f":"IFERROR(INDEX(Лист1!B:B,IF(MOD(ROW(A1217)/31,1),\"\",INT(ROW(A1217)/31))),\"\")","v":""}]
[null,null,null,null,null,{"$f":"IFERROR(INDEX(Лист1!B:B,IF(MOD(ROW(A1218)/31,1),\"\",INT(ROW(A1218)/31))),\"\")","v":""}]
[null,null,null,null,null,{"$f":"IFERROR(INDEX(Лист1!B:B,IF(MOD(ROW(A1219)/31,1),\"\",INT(ROW(A1219)/31))),\"\")","v":""}]
[null,null,null,null,null,{"$f":"IFERROR(INDEX(Лист1!B:B,IF(MOD(ROW(A1220)/31,1),\"\",INT(ROW(A1220)/31))),\"\")","v":""}]
[null,null,null,null,null,{"$f":"IFERROR(INDEX(Лист1!B:B,IF(MOD(ROW(A1221)/31,1),\"\",INT(ROW(A1221)/31))),\"\")","v":""}]
[null,null,null,null,null,{"$f":"IFERROR(INDEX(Лист1!B:B,IF(MOD(ROW(A1222)/31,1),\"\",INT(ROW(A1222)/31))),\"\")","v":""}]
[null,null,null,null,null,{"$f":"IFERROR(INDEX(Лист1!B:B,IF(MOD(ROW(A1223)/31,1),\"\",INT(ROW(A1223)/31))),\"\")","v":""}]
[null,null,null,null,null,{"$f":"IFERROR(INDEX(Лист1!B:B,IF(MOD(ROW(A1224)/31,1),\"\",INT(ROW(A1224)/31))),\"\")","v":""}]
[null,null,null,null,null,{"$f":"IFERROR(INDEX(Лист1!B:B,IF(MOD(ROW(A1225)/31,1),\"\",INT(ROW(A1225)/31))),\"\")","v":""}]
[null,null,null,null,null,{"$f":"IFERROR(INDEX(Лист1!B:B,IF(MOD(ROW(A1226)/31,1),\"\",INT(ROW(A1226)/31))),\"\")","v":""}]
[null,null,null,null,null,{"$f":"IFERROR(INDEX(Лист1!B:B,IF(MOD(ROW(A1227)/31,1),\"\",INT(ROW(A1227)/31))),\"\")","v":""}]
[null,null,null,null,null,{"$f":"IFERROR(INDEX(Лист1!B:B,IF(MOD(ROW(A1228)/31,1),\"\",INT(ROW(A1228)/31))),\"\")","v":""}]
[null,null,null,null,null,{"$f":"IFERROR(INDEX(Лист1!B:B,IF(MOD(ROW(A1229)/31,1),\"\",INT(ROW(A1229)/31))),\"\")","v":""}]
[null,null,null,null,null,{"$f":"IFERROR(INDEX(Лист1!B:B,IF(MOD(ROW(A1230)/31,1),\"\",INT(ROW(A1230)/31))),\"\")","v":""}]
[null,null,null,null,null,{"$f":"IFERROR(INDEX(Лист1!B:B,IF(MOD(ROW(A1231)/31,1),\"\",INT(ROW(A1231)/31))),\"\")","v":""}]
[null,null,null,null,null,{"$f":"IFERROR(INDEX(Лист1!B:B,IF(MOD(ROW(A1232)/31,1),\"\",INT(ROW(A1232)/31))),\"\")","v":""}]
[null,null,null,null,null,{"$f":"IFERROR(INDEX(Лист1!B:B,IF(MOD(ROW(A1233)/31,1),\"\",INT(ROW(A1233)/31))),\"\")","v":""}]
[null,null,null,null,null,{"$f":"IFERROR(INDEX(Лист1!B:B,IF(MOD(ROW(A1234)/31,1),\"\",INT(ROW(A1234)/31))),\"\")","v":""}]
[null,null,null,null,null,{"$f":"IFERROR(INDEX(Лист1!B:B,IF(MOD(ROW(A1235)/31,1),\"\",INT(ROW(A1235)/31))),\"\")","v":""}]
[null,null,null,null,null,{"$f":"IFERROR(INDEX(Лист1!B:B,IF(MOD(ROW(A1236)/31,1),\"\",INT(ROW(A1236)/31))),\"\")","v":""}]
[null,null,null,null,null,{"$f":"IFERROR(INDEX(Лист1!B:B,IF(MOD(ROW(A1237)/31,1),\"\",INT(ROW(A1237)/31))),\"\")","v":""}]
[null,null,null,null,null,{"$f":"IFERROR(INDEX(Лист1!B:B,IF(MOD(ROW(A1238)/31,1),\"\",INT(ROW(A1238)/31))),\"\")","v":""}]
[null,null,null,null,null,{"$f":"IFERROR(INDEX(Лист1!B:B,IF(MOD(ROW(A1239)/31,1),\"\",INT(ROW(A1239)/31))),\"\")","v":""}]
[null,null,null,null,null,{"$f":"IFERROR(INDEX(Лист1!B:B,IF(MOD(ROW(A1240)/31,1),\"\",INT(ROW(A1240)/31))),\"\")","v":4000000}]
[null,null,null,null,null,{"$f":"IFERROR(INDEX(Лист1!B:B,IF(MOD(ROW(A1241)/31,1),\"\",INT(ROW(A1241)/31))),\"\")","v":""}]
[null,null,null,null,null,{"$f":"IFERROR(INDEX(Лист1!B:B,IF(MOD(ROW(A1242)/31,1),\"\",INT(ROW(A1242)/31))),\"\")","v":""}]
[null,null,null,null,null,{"$f":"IFERROR(INDEX(Лист1!B:B,IF(MOD(ROW(A1243)/31,1),\"\",INT(ROW(A1243)/31))),\"\")","v":""}]
[null,null,null,null,null,{"$f":"IFERROR(INDEX(Лист1!B:B,IF(MOD(ROW(A1244)/31,1),\"\",INT(ROW(A1244)/31))),\"\")","v":""}]
[null,null,null,null,null,{"$f":"IFERROR(INDEX(Лист1!B:B,IF(MOD(ROW(A1245)/31,1),\"\",INT(ROW(A1245)/31))),\"\")","v":""}]
[null,null,null,null,null,{"$f":"IFERROR(INDEX(Лист1!B:B,IF(MOD(ROW(A1246)/31,1),\"\",INT(ROW(A1246)/31))),\"\")","v":""}]
[null,null,null,null,null,{"$f":"IFERROR(INDEX(Лист1!B:B,IF(MOD(ROW(A1247)/31,1),\"\",INT(ROW(A1247)/31))),\"\")","v":""}]
[null,null,null,null,null,{"$f":"IFERROR(INDEX(Лист1!B:B,IF(MOD(ROW(A1248)/31,1),\"\",INT(ROW(A1248)/31))),\"\")","v":""}]
[null,null,null,null,null,{"$f":"IFERROR(INDEX(Лист1!B:B,IF(MOD(ROW(A1249)/31,1),\"\",INT(ROW(A1249)/31))),\"\")","v":""}]
[null,null,null,null,null,{"$f":"IFERROR(INDEX(Лист1!B:B,IF(MOD(ROW(A1250)/31,1),\"\",INT(ROW(A1250)/31))),\"\")","v":""}]
[null,null,null,null,null,{"$f":"IFERROR(INDEX(Лист1!B:B,IF(MOD(ROW(A1251)/31,1),\"\",INT(ROW(A1251)/31))),\"\")","v":""}]
[null,null,null,null,null,{"$f":"IFERROR(INDEX(Лист1!B:B,IF(MOD(ROW(A1252)/31,1),\"\",INT(ROW(A1252)/31))),\"\")","v":""}]
[null,null,null,null,null,{"$f":"IFERROR(INDEX(Лист1!B:B,IF(MOD(ROW(A1253)/31,1),\"\",INT(ROW(A1253)/31))),\"\")","v":""}]
[null,null,null,null,null,{"$f":"IFERROR(INDEX(Лист1!B:B,IF(MOD(ROW(A1254)/31,1),\"\",INT(ROW(A1254)/31))),\"\")","v":""}]
[null,null,null,null,null,{"$f":"IFERROR(INDEX(Лист1!B:B,IF(MOD(ROW(A1255)/31,1),\"\",INT(ROW(A1255)/31))),\"\")","v":""}]
[null,null,null,null,null,{"$f":"IFERROR(INDEX(Лист1!B:B,IF(MOD(ROW(A1256)/31,1),\"\",INT(ROW(A1256)/31))),\"\")","v":""}]
[null,null,null,null,null,{"$f":"IFERROR(INDEX(Лист1!B:B,IF(MOD(ROW(A1257)/31,1),\"\",INT(ROW(A1257)/31))),\"\")","v":""}]
[null,null,null,null,null,{"$f":"IFERROR(INDEX(Лист1!B:B,IF(MOD(ROW(A1258)/31,1),\"\",INT(ROW(A1258)/31))),\"\")","v":""}]
[null,null,null,null,null,{"$f":"IFERROR(INDEX(Лист1!B:B,IF(MOD(ROW(A1259)/31,1),\"\",INT(ROW(A1259)/31))),\"\")","v":""}]
[null,null,null,null,null,{"$f":"IFERROR(INDEX(Лист1!B:B,IF(MOD(ROW(A1260)/31,1),\"\",INT(ROW(A1260)/31))),\"\")","v":""}]
[null,null,null,null,null,{"$f":"IFERROR(INDEX(Лист1!B:B,IF(MOD(ROW(A1261)/31,1),\"\",INT(ROW(A1261)/31))),\"\")","v":""}]
[null,null,null,null,null,{"$f":"IFERROR(INDEX(Лист1!B:B,IF(MOD(ROW(A1262)/31,1),\"\",INT(ROW(A1262)/31))),\"\")","v":""}]
[null,null,null,null,null,{"$f":"IFERROR(INDEX(Лист1!B:B,IF(MOD(ROW(A1263)/31,1),\"\",INT(ROW(A1263)/31))),\"\")","v":""}]
[null,null,null,null,null,{"$f":"IFERROR(INDEX(Лист1!B:B,IF(MOD(ROW(A1264)/31,1),\"\",INT(ROW(A1264)/31))),\"\")","v":""}]
[null,null,null,null,null,{"$f":"IFERROR(INDEX(Лист1!B:B,IF(MOD(ROW(A1265)/31,1),\"\",INT(ROW(A1265)/31))),\"\")","v":""}]
[null,null,null,null,null,{"$f":"IFERROR(INDEX(Лист1!B:B,IF(MOD(ROW(A1266)/31,1),\"\",INT(ROW(A1266)/31))),\"\")","v":""}]
[null,null,null,null,null,{"$f":"IFERROR(INDEX(Лист1!B:B,IF(MOD(ROW(A1267)/31,1),\"\",INT(ROW(A1267)/31))),\"\")","v":""}]
[null,null,null,null,null,{"$f":"IFERROR(INDEX(Лист1!B:B,IF(MOD(ROW(A1268)/31,1),\"\",INT(ROW(A1268)/31))),\"\")","v":""}]
[null,null,null,null,null,{"$f":"IFERROR(INDEX(Лист1!B:B,IF(MOD(ROW(A1269)/31,1),\"\",INT(ROW(A1269)/31))),\"\")","v":""}]
[null,null,null,null,null,{"$f":"IFERROR(INDEX(Лист1!B:B,IF(MOD(ROW(A1270)/31,1),\"\",INT(ROW(A1270)/31))),\"\")","v":""}]
[null,null,null,null,null,{"$f":"IFERROR(INDEX(Лист1!B:B,IF(MOD(ROW(A1271)/31,1),\"\",INT(ROW(A1271)/31))),\"\")","v":4100000}]
[null,null,null,null,null,{"$f":"IFERROR(INDEX(Лист1!B:B,IF(MOD(ROW(A1272)/31,1),\"\",INT(ROW(A1272)/31))),\"\")","v":""}]
[null,null,null,null,null,{"$f":"IFERROR(INDEX(Лист1!B:B,IF(MOD(ROW(A1273)/31,1),\"\",INT(ROW(A1273)/31))),\"\")","v":""}]
[null,null,null,null,null,{"$f":"IFERROR(INDEX(Лист1!B:B,IF(MOD(ROW(A1274)/31,1),\"\",INT(ROW(A1274)/31))),\"\")","v":""}]
[null,null,null,null,null,{"$f":"IFERROR(INDEX(Лист1!B:B,IF(MOD(ROW(A1275)/31,1),\"\",INT(ROW(A1275)/31))),\"\")","v":""}]
[null,null,null,null,null,{"$f":"IFERROR(INDEX(Лист1!B:B,IF(MOD(ROW(A1276)/31,1),\"\",INT(ROW(A1276)/31))),\"\")","v":""}]
[null,null,null,null,null,{"$f":"IFERROR(INDEX(Лист1!B:B,IF(MOD(ROW(A1277)/31,1),\"\",INT(ROW(A1277)/31))),\"\")","v":""}]
[null,null,null,null,null,{"$f":"IFERROR(INDEX(Лист1!B:B,IF(MOD(ROW(A1278)/31,1),\"\",INT(ROW(A1278)/31))),\"\")","v":""}]
[null,null,null,null,null,{"$f":"IFERROR(INDEX(Лист1!B:B,IF(MOD(ROW(A1279)/31,1),\"\",INT(ROW(A1279)/31))),\"\")","v":""}]
[null,null,null,null,null,{"$f":"IFERROR(INDEX(Лист1!B:B,IF(MOD(ROW(A1280)/31,1),\"\",INT(ROW(A1280)/31))),\"\")","v":""}]
[null,null,null,null,null,{"$f":"IFERROR(INDEX(Лист1!B:B,IF(MOD(ROW(A1281)/31,1),\"\",INT(ROW(A1281)/31))),\"\")","v":""}]
[null,null,null,null,null,{"$f":"IFERROR(INDEX(Лист1!B:B,IF(MOD(ROW(A1282)/31,1),\"\",INT(ROW(A1282)/31))),\"\")","v":""}]
[null,null,null,null,null,{"$f":"IFERROR(INDEX(Лист1!B:B,IF(MOD(ROW(A1283)/31,1),\"\",INT(ROW(A1283)/31))),\"\")","v":""}]
[null,null,null,null,null,{"$f":"IFERROR(INDEX(Лист1!B:B,IF(MOD(ROW(A1284)/31,1),\"\",INT(ROW(A1284)/31))),\"\")","v":""}]
[null,null,null,null,null,{"$f":"IFERROR(INDEX(Лист1!B:B,IF(MOD(ROW(A1285)/31,1),\"\",INT(ROW(A1285)/31))),\"\")","v":""}]
[null,null,null,null,null,{"$f":"IFERROR(INDEX(Лист1!B:B,IF(MOD(ROW(A1286)/31,1),\"\",INT(ROW(A1286)/31))),\"\")","v":""}]
[null,null,null,null,null,{"$f":"IFERROR(INDEX(Лист1!B:B,IF(MOD(ROW(A1287)/31,1),\"\",INT(ROW(A1287)/31))),\"\")","v":""}]
[null,null,null,null,null,{"$f":"IFERROR(INDEX(Лист1!B:B,IF(MOD(ROW(A1288)/31,1),\"\",INT(ROW(A1288)/31))),\"\")","v":""}]
[null,null,null,null,null,{"$f":"IFERROR(INDEX(Лист1!B:B,IF(MOD(ROW(A1289)/31,1),\"\",INT(ROW(A1289)/31))),\"\")","v":""}]
[null,null,null,null,null,{"$f":"IFERROR(INDEX(Лист1!B:B,IF(MOD(ROW(A1290)/31,1),\"\",INT(ROW(A1290)/31))),\"\")","v":""}]
[null,null,null,null,null,{"$f":"IFERROR(INDEX(Лист1!B:B,IF(MOD(ROW(A1291)/31,1),\"\",INT(ROW(A1291)/31))),\"\")","v":""}]
[null,null,null,null,null,{"$f":"IFERROR(INDEX(Лист1!B:B,IF(MOD(ROW(A1292)/31,1),\"\",INT(ROW(A1292)/31))),\"\")","v":""}]
[null,null,null,null,null,{"$f":"IFERROR(INDEX(Лист1!B:B,IF(MOD(ROW(A1293)/31,1),\"\",INT(ROW(A1293)/31))),\"\")","v":""}]
[null,null,null,null,null,{"$f":"IFERROR(INDEX(Лист1!B:B,IF(MOD(ROW(A1294)/31,1),\"\",INT(ROW(A1294)/31))),\"\")","v":""}]
[null,null,null,null,null,{"$f":"IFERROR(INDEX(Лист1!B:B,IF(MOD(ROW(A1295)/31,1),\"\",INT(ROW(A1295)/31))),\"\")","v":""}]
[null,null,null,null,null,{"$f":"IFERROR(INDEX(Лист1!B:B,IF(MOD(ROW(A1296)/31,1),\"\",INT(ROW(A1296)/31))),\"\")","v":""}]
[null,null,null,null,null,{"$f":"IFERROR(INDEX(Лист1!B:B,IF(MOD(ROW(A1297)/31,1),\"\",INT(ROW(A1297)/31))),\"\")","v":""}]
[null,null,null,null,null,{"$f":"IFERROR(INDEX(Лист1!B:B,IF(MOD(ROW(A1298)/31,1),\"\",INT(ROW(A1298)/31))),\"\")","v":""}]
[null,null,null,null,null,{"$f":"IFERROR(INDEX(Лист1!B:B,IF(MOD(ROW(A1299)/31,1),\"\",INT(ROW(A1299)/31))),\"\")","v":""}]
[null,null,null,null,null,{"$f":"IFERROR(INDEX(Лист1!B:B,IF(MOD(ROW(A1300)/31,1),\"\",INT(ROW(A1300)/31))),\"\")","v":""}]
[null,null,null,null,null,{"$f":"IFERROR(INDEX(Лист1!B:B,IF(MOD(ROW(A1301)/31,1),\"\",INT(ROW(A1301)/31))),\"\")","v":""}]
[null,null,null,null,null,{"$f":"IFERROR(INDEX(Лист1!B:B,IF(MOD(ROW(A1302)/31,1),\"\",INT(ROW(A1302)/31))),\"\")","v":4200000}]
[null,null,null,null,null,{"$f":"IFERROR(INDEX(Лист1!B:B,IF(MOD(ROW(A1303)/31,1),\"\",INT(ROW(A1303)/31))),\"\")","v":""}]
[null,null,null,null,null,{"$f":"IFERROR(INDEX(Лист1!B:B,IF(MOD(ROW(A1304)/31,1),\"\",INT(ROW(A1304)/31))),\"\")","v":""}]
[null,null,null,null,null,{"$f":"IFERROR(INDEX(Лист1!B:B,IF(MOD(ROW(A1305)/31,1),\"\",INT(ROW(A1305)/31))),\"\")","v":""}]
[null,null,null,null,null,{"$f":"IFERROR(INDEX(Лист1!B:B,IF(MOD(ROW(A1306)/31,1),\"\",INT(ROW(A1306)/31))),\"\")","v":""}]
[null,null,null,null,null,{"$f":"IFERROR(INDEX(Лист1!B:B,IF(MOD(ROW(A1307)/31,1),\"\",INT(ROW(A1307)/31))),\"\")","v":""}]
[null,null,null,null,null,{"$f":"IFERROR(INDEX(Лист1!B:B,IF(MOD(ROW(A1308)/31,1),\"\",INT(ROW(A1308)/31))),\"\")","v":""}]
[null,null,null,null,null,{"$f":"IFERROR(INDEX(Лист1!B:B,IF(MOD(ROW(A1309)/31,1),\"\",INT(ROW(A1309)/31))),\"\")","v":""}]
[null,null,null,null,null,{"$f":"IFERROR(INDEX(Лист1!B:B,IF(MOD(ROW(A1310)/31,1),\"\",INT(ROW(A1310)/31))),\"\")","v":""}]
[null,null,null,null,null,{"$f":"IFERROR(INDEX(Лист1!B:B,IF(MOD(ROW(A1311)/31,1),\"\",INT(ROW(A1311)/31))),\"\")","v":""}]
[null,null,null,null,null,{"$f":"IFERROR(INDEX(Лист1!B:B,IF(MOD(ROW(A1312)/31,1),\"\",INT(ROW(A1312)/31))),\"\")","v":""}]
[null,null,null,null,null,{"$f":"IFERROR(INDEX(Лист1!B:B,IF(MOD(ROW(A1313)/31,1),\"\",INT(ROW(A1313)/31))),\"\")","v":""}]
[null,null,null,null,null,{"$f":"IFERROR(INDEX(Лист1!B:B,IF(MOD(ROW(A1314)/31,1),\"\",INT(ROW(A1314)/31))),\"\")","v":""}]
[null,null,null,null,null,{"$f":"IFERROR(INDEX(Лист1!B:B,IF(MOD(ROW(A1315)/31,1),\"\",INT(ROW(A1315)/31))),\"\")","v":""}]
[null,null,null,null,null,{"$f":"IFERROR(INDEX(Лист1!B:B,IF(MOD(ROW(A1316)/31,1),\"\",INT(ROW(A1316)/31))),\"\")","v":""}]
[null,null,null,null,null,{"$f":"IFERROR(INDEX(Лист1!B:B,IF(MOD(ROW(A1317)/31,1),\"\",INT(ROW(A1317)/31))),\"\")","v":""}]
[null,null,null,null,null,{"$f":"IFERROR(INDEX(Лист1!B:B,IF(MOD(ROW(A1318)/31,1),\"\",INT(ROW(A1318)/31))),\"\")","v":""}]
[null,null,null,null,null,{"$f":"IFERROR(INDEX(Лист1!B:B,IF(MOD(ROW(A1319)/31,1),\"\",INT(ROW(A1319)/31))),\"\")","v":""}]
[null,null,null,null,null,{"$f":"IFERROR(INDEX(Лист1!B:B,IF(MOD(ROW(A1320)/31,1),\"\",INT(ROW(A1320)/31))),\"\")","v":""}]
[null,null,null,null,null,{"$f":"IFERROR(INDEX(Лист1!B:B,IF(MOD(ROW(A1321)/31,1),\"\",INT(ROW(A1321)/31))),\"\")","v":""}]
[null,null,null,null,null,{"$f":"IFERROR(INDEX(Лист1!B:B,IF(MOD(ROW(A1322)/31,1),\"\",INT(ROW(A1322)/31))),\"\")","v":""}]
[null,null,null,null,null,{"$f":"IFERROR(INDEX(Лист1!B:B,IF(MOD(ROW(A1323)/31,1),\"\",INT(ROW(A1323)/31))),\"\")","v":""}]
[null,null,null,null,null,{"$f":"IFERROR(INDEX(Лист1!B:B,IF(MOD(ROW(A1324)/31,1),\"\",INT(ROW(A1324)/31))),\"\")","v":""}]
[null,null,null,null,null,{"$f":"IFERROR(INDEX(Лист1!B:B,IF(MOD(ROW(A1325)/31,1),\"\",INT(ROW(A1325)/31))),\"\")","v":""}]
[null,null,null,null,null,{"$f":"IFERROR(INDEX(Лист1!B:B,IF(MOD(ROW(A1326)/31,1),\"\",INT(ROW(A1326)/31))),\"\")","v":""}]
[null,null,null,null,null,{"$f":"IFERROR(INDEX(Лист1!B:B,IF(MOD(ROW(A1327)/31,1),\"\",INT(ROW(A1327)/31))),\"\")","v":""}]
[null,null,null,null,null,{"$f":"IFERROR(INDEX(Лист1!B:B,IF(MOD(ROW(A1328)/31,1),\"\",INT(ROW(A1328)/31))),\"\")","v":""}]
[null,null,null,null,null,{"$f":"IFERROR(INDEX(Лист1!B:B,IF(MOD(ROW(A1329)/31,1),\"\",INT(ROW(A1329)/31))),\"\")","v":""}]
[null,null,null,null,null,{"$f":"IFERROR(INDEX(Лист1!B:B,IF(MOD(ROW(A1330)/31,1),\"\",INT(ROW(A1330)/31))),\"\")","v":""}]
[null,null,null,null,null,{"$f":"IFERROR(INDEX(Лист1!B:B,IF(MOD(ROW(A1331)/31,1),\"\",INT(ROW(A1331)/31))),\"\")","v":""}]
[null,null,null,null,null,{"$f":"IFERROR(INDEX(Лист1!B:B,IF(MOD(ROW(A1332)/31,1),\"\",INT(ROW(A1332)/31))),\"\")","v":""}]
[null,null,null,null,null,{"$f":"IFERROR(INDEX(Лист1!B:B,IF(MOD(ROW(A1333)/31,1),\"\",INT(ROW(A1333)/31))),\"\")","v":4300000}]
[null,null,null,null,null,{"$f":"IFERROR(INDEX(Лист1!B:B,IF(MOD(ROW(A1334)/31,1),\"\",INT(ROW(A1334)/31))),\"\")","v":""}]
[null,null,null,null,null,{"$f":"IFERROR(INDEX(Лист1!B:B,IF(MOD(ROW(A1335)/31,1),\"\",INT(ROW(A1335)/31))),\"\")","v":""}]
[null,null,null,null,null,{"$f":"IFERROR(INDEX(Лист1!B:B,IF(MOD(ROW(A1336)/31,1),\"\",INT(ROW(A1336)/31))),\"\")","v":""}]
[null,null,null,null,null,{"$f":"IFERROR(INDEX(Лист1!B:B,IF(MOD(ROW(A1337)/31,1),\"\",INT(ROW(A1337)/31))),\"\")","v":""}]
[null,null,null,null,null,{"$f":"IFERROR(INDEX(Лист1!B:B,IF(MOD(ROW(A1338)/31,1),\"\",INT(ROW(A1338)/31))),\"\")","v":""}]
[null,null,null,null,null,{"$f":"IFERROR(INDEX(Лист1!B:B,IF(MOD(ROW(A1339)/31,1),\"\",INT(ROW(A1339)/31))),\"\")","v":""}]
[null,null,null,null,null,{"$f":"IFERROR(INDEX(Лист1!B:B,IF(MOD(ROW(A1340)/31,1),\"\",INT(ROW(A1340)/31))),\"\")","v":""}]
[null,null,null,null,null,{"$f":"IFERROR(INDEX(Лист1!B:B,IF(MOD(ROW(A1341)/31,1),\"\",INT(ROW(A1341)/31))),\"\")","v":""}]
[null,null,null,null,null,{"$f":"IFERROR(INDEX(Лист1!B:B,IF(MOD(ROW(A1342)/31,1),\"\",INT(ROW(A1342)/31))),\"\")","v":""}]
[null,null,null,null,null,{"$f":"IFERROR(INDEX(Лист1!B:B,IF(MOD(ROW(A1343)/31,1),\"\",INT(ROW(A1343)/31))),\"\")","v":""}]
[null,null,null,null,null,{"$f":"IFERROR(INDEX(Лист1!B:B,IF(MOD(ROW(A1344)/31,1),\"\",INT(ROW(A1344)/31))),\"\")","v":""}]
[null,null,null,null,null,{"$f":"IFERROR(INDEX(Лист1!B:B,IF(MOD(ROW(A1345)/31,1),\"\",INT(ROW(A1345)/31))),\"\")","v":""}]
[null,null,null,null,null,{"$f":"IFERROR(INDEX(Лист1!B:B,IF(MOD(ROW(A1346)/31,1),\"\",INT(ROW(A1346)/31))),\"\")","v":""}]
[null,null,null,null,null,{"$f":"IFERROR(INDEX(Лист1!B:B,IF(MOD(ROW(A1347)/31,1),\"\",INT(ROW(A1347)/31))),\"\")","v":""}]
[null,null,null,null,null,{"$f":"IFERROR(INDEX(Лист1!B:B,IF(MOD(ROW(A1348)/31,1),\"\",INT(ROW(A1348)/31))),\"\")","v":""}]
[null,null,null,null,null,{"$f":"IFERROR(INDEX(Лист1!B:B,IF(MOD(ROW(A1349)/31,1),\"\",INT(ROW(A1349)/31))),\"\")","v":""}]
[null,null,null,null,null,{"$f":"IFERROR(INDEX(Лист1!B:B,IF(MOD(ROW(A1350)/31,1),\"\",INT(ROW(A1350)/31))),\"\")","v":""}]
[null,null,null,null,null,{"$f":"IFERROR(INDEX(Лист1!B:B,IF(MOD(ROW(A1351)/31,1),\"\",INT(ROW(A1351)/31))),\"\")","v":""}]
[null,null,null,null,null,{"$f":"IFERROR(INDEX(Лист1!B:B,IF(MOD(ROW(A1352)/31,1),\"\",INT(ROW(A1352)/31))),\"\")","v":""}]
[null,null,null,null,null,{"$f":"IFERROR(INDEX(Лист1!B:B,IF(MOD(ROW(A1353)/31,1),\"\",INT(ROW(A1353)/31))),\"\")","v":""}]
[null,null,null,null,null,{"$f":"IFERROR(INDEX(Лист1!B:B,IF(MOD(ROW(A1354)/31,1),\"\",INT(ROW(A1354)/31))),\"\")","v":""}]
[null,null,null,null,null,{"$f":"IFERROR(INDEX(Лист1!B:B,IF(MOD(ROW(A1355)/31,1),\"\",INT(ROW(A1355)/31))),\"\")","v":""}]
[null,null,null,null,null,{"$f":"IFERROR(INDEX(Лист1!B:B,IF(MOD(ROW(A1356)/31,1),\"\",INT(ROW(A1356)/31))),\"\")","v":""}]
[null,null,null,null,null,{"$f":"IFERROR(INDEX(Лист1!B:B,IF(MOD(ROW(A1357)/31,1),\"\",INT(ROW(A1357)/31))),\"\")","v":""}]
[null,null,null,null,null,{"$f":"IFERROR(INDEX(Лист1!B:B,IF(MOD(ROW(A1358)/31,1),\"\",INT(ROW(A1358)/31))),\"\")","v":""}]
[null,null,null,null,null,{"$f":"IFERROR(INDEX(Лист1!B:B,IF(MOD(ROW(A1359)/31,1),\"\",INT(ROW(A1359)/31))),\"\")","v":""}]
[null,null,null,null,null,{"$f":"IFERROR(INDEX(Лист1!B:B,IF(MOD(ROW(A1360)/31,1),\"\",INT(ROW(A1360)/31))),\"\")","v":""}]
[null,null,null,null,null,{"$f":"IFERROR(INDEX(Лист1!B:B,IF(MOD(ROW(A1361)/31,1),\"\",INT(ROW(A1361)/31))),\"\")","v":""}]
[null,null,null,null,null,{"$f":"IFERROR(INDEX(Лист1!B:B,IF(MOD(ROW(A1362)/31,1),\"\",INT(ROW(A1362)/31))),\"\")","v":""}]
[null,null,null,null,null,{"$f":"IFERROR(INDEX(Лист1!B:B,IF(MOD(ROW(A1363)/31,1),\"\",INT(ROW(A1363)/31))),\"\")","v":""}]
[null,null,null,null,null,{"$f":"IFERROR(INDEX(Лист1!B:B,IF(MOD(ROW(A1364)/31,1),\"\",INT(ROW(A1364)/31))),\"\")","v":4400000}]
[null,null,null,null,null,{"$f":"IFERROR(INDEX(Лист1!B:B,IF(MOD(ROW(A1365)/31,1),\"\",INT(ROW(A1365)/31))),\"\")","v":""}]
[null,null,null,null,null,{"$f":"IFERROR(INDEX(Лист1!B:B,IF(MOD(ROW(A1366)/31,1),\"\",INT(ROW(A1366)/31))),\"\")","v":""}]
[null,null,null,null,null,{"$f":"IFERROR(INDEX(Лист1!B:B,IF(MOD(ROW(A1367)/31,1),\"\",INT(ROW(A1367)/31))),\"\")","v":""}]
[null,null,null,null,null,{"$f":"IFERROR(INDEX(Лист1!B:B,IF(MOD(ROW(A1368)/31,1),\"\",INT(ROW(A1368)/31))),\"\")","v":""}]
[null,null,null,null,null,{"$f":"IFERROR(INDEX(Лист1!B:B,IF(MOD(ROW(A1369)/31,1),\"\",INT(ROW(A1369)/31))),\"\")","v":""}]
[null,null,null,null,null,{"$f":"IFERROR(INDEX(Лист1!B:B,IF(MOD(ROW(A1370)/31,1),\"\",INT(ROW(A1370)/31))),\"\")","v":""}]
[null,null,null,null,null,{"$f":"IFERROR(INDEX(Лист1!B:B,IF(MOD(ROW(A1371)/31,1),\"\",INT(ROW(A1371)/31))),\"\")","v":""}]
[null,null,null,null,null,{"$f":"IFERROR(INDEX(Лист1!B:B,IF(MOD(ROW(A1372)/31,1),\"\",INT(ROW(A1372)/31))),\"\")","v":""}]
[null,null,null,null,null,{"$f":"IFERROR(INDEX(Лист1!B:B,IF(MOD(ROW(A1373)/31,1),\"\",INT(ROW(A1373)/31))),\"\")","v":""}]
[null,null,null,null,null,{"$f":"IFERROR(INDEX(Лист1!B:B,IF(MOD(ROW(A1374)/31,1),\"\",INT(ROW(A1374)/31))),\"\")","v":""}]
[null,null,null,null,null,{"$f":"IFERROR(INDEX(Лист1!B:B,IF(MOD(ROW(A1375)/31,1),\"\",INT(ROW(A1375)/31))),\"\")","v":""}]
[null,null,null,null,null,{"$f":"IFERROR(INDEX(Лист1!B:B,IF(MOD(ROW(A1376)/31,1),\"\",INT(ROW(A1376)/31))),\"\")","v":""}]
[null,null,null,null,null,{"$f":"IFERROR(INDEX(Лист1!B:B,IF(MOD(ROW(A1377)/31,1),\"\",INT(ROW(A1377)/31))),\"\")","v":""}]
[null,null,null,null,null,{"$f":"IFERROR(INDEX(Лист1!B:B,IF(MOD(ROW(A1378)/31,1),\"\",INT(ROW(A1378)/31))),\"\")","v":""}]
[null,null,null,null,null,{"$f":"IFERROR(INDEX(Лист1!B:B,IF(MOD(ROW(A1379)/31,1),\"\",INT(ROW(A1379)/31))),\"\")","v":""}]
[null,null,null,null,null,{"$f":"IFERROR(INDEX(Лист1!B:B,IF(MOD(ROW(A1380)/31,1),\"\",INT(ROW(A1380)/31))),\"\")","v":""}]
[null,null,null,null,null,{"$f":"IFERROR(INDEX(Лист1!B:B,IF(MOD(ROW(A1381)/31,1),\"\",INT(ROW(A1381)/31))),\"\")","v":""}]
[null,null,null,null,null,{"$f":"IFERROR(INDEX(Лист1!B:B,IF(MOD(ROW(A1382)/31,1),\"\",INT(ROW(A1382)/31))),\"\")","v":""}]
[null,null,null,null,null,{"$f":"IFERROR(INDEX(Лист1!B:B,IF(MOD(ROW(A1383)/31,1),\"\",INT(ROW(A1383)/31))),\"\")","v":""}]
[null,null,null,null,null,{"$f":"IFERROR(INDEX(Лист1!B:B,IF(MOD(ROW(A1384)/31,1),\"\",INT(ROW(A1384)/31))),\"\")","v":""}]
[null,null,null,null,null,{"$f":"IFERROR(INDEX(Лист1!B:B,IF(MOD(ROW(A1385)/31,1),\"\",INT(ROW(A1385)/31))),\"\")","v":""}]
[null,null,null,null,null,{"$f":"IFERROR(INDEX(Лист1!B:B,IF(MOD(ROW(A1386)/31,1),\"\",INT(ROW(A1386)/31))),\"\")","v":""}]
[null,null,null,null,null,{"$f":"IFERROR(INDEX(Лист1!B:B,IF(MOD(ROW(A1387)/31,1),\"\",INT(ROW(A1387)/31))),\"\")","v":""}]
[null,null,null,null,null,{"$f":"IFERROR(INDEX(Лист1!B:B,IF(MOD(ROW(A1388)/31,1),\"\",INT(ROW(A1388)/31))),\"\")","v":""}]
[null,null,null,null,null,{"$f":"IFERROR(INDEX(Лист1!B:B,IF(MOD(ROW(A1389)/31,1),\"\",INT(ROW(A1389)/31))),\"\")","v":""}]
[null,null,null,null,null,{"$f":"IFERROR(INDEX(Лист1!B:B,IF(MOD(ROW(A1390)/31,1),\"\",INT(ROW(A1390)/31))),\"\")","v":""}]
[null,null,null,null,null,{"$f":"IFERROR(INDEX(Лист1!B:B,IF(MOD(ROW(A1391)/31,1),\"\",INT(ROW(A1391)/31))),\"\")","v":""}]
[null,null,null,null,null,{"$f":"IFERROR(INDEX(Лист1!B:B,IF(MOD(ROW(A1392)/31,1),\"\",INT(ROW(A1392)/31))),\"\")","v":""}]
[null,null,null,null,null,{"$f":"IFERROR(INDEX(Лист1!B:B,IF(MOD(ROW(A1393)/31,1),\"\",INT(ROW(A1393)/31))),\"\")","v":""}]
[null,null,null,null,null,{"$f":"IFERROR(INDEX(Лист1!B:B,IF(MOD(ROW(A1394)/31,1),\"\",INT(ROW(A1394)/31))),\"\")","v":""}]
[null,null,null,null,null,{"$f":"IFERROR(INDEX(Лист1!B:B,IF(MOD(ROW(A1395)/31,1),\"\",INT(ROW(A1395)/31))),\"\")","v":4500000}]
[null,null,null,null,null,{"$f":"IFERROR(INDEX(Лист1!B:B,IF(MOD(ROW(A1396)/31,1),\"\",INT(ROW(A1396)/31))),\"\")","v":""}]
[null,null,null,null,null,{"$f":"IFERROR(INDEX(Лист1!B:B,IF(MOD(ROW(A1397)/31,1),\"\",INT(ROW(A1397)/31))),\"\")","v":""}]
[null,null,null,null,null,{"$f":"IFERROR(INDEX(Лист1!B:B,IF(MOD(ROW(A1398)/31,1),\"\",INT(ROW(A1398)/31))),\"\")","v":""}]
[null,null,null,null,null,{"$f":"IFERROR(INDEX(Лист1!B:B,IF(MOD(ROW(A1399)/31,1),\"\",INT(ROW(A1399)/31))),\"\")","v":""}]
[null,null,null,null,null,{"$f":"IFERROR(INDEX(Лист1!B:B,IF(MOD(ROW(A1400)/31,1),\"\",INT(ROW(A1400)/31))),\"\")","v":""}]
[null,null,null,null,null,{"$f":"IFERROR(INDEX(Лист1!B:B,IF(MOD(ROW(A1401)/31,1),\"\",INT(ROW(A1401)/31))),\"\")","v":""}]
[null,null,null,null,null,{"$f":"IFERROR(INDEX(Лист1!B:B,IF(MOD(ROW(A1402)/31,1),\"\",INT(ROW(A1402)/31))),\"\")","v":""}]
[null,null,null,null,null,{"$f":"IFERROR(INDEX(Лист1!B:B,IF(MOD(ROW(A1403)/31,1),\"\",INT(ROW(A1403)/31))),\"\")","v":""}]
[null,null,null,null,null,{"$f":"IFERROR(INDEX(Лист1!B:B,IF(MOD(ROW(A1404)/31,1),\"\",INT(ROW(A1404)/31))),\"\")","v":""}]
[null,null,null,null,null,{"$f":"IFERROR(INDEX(Лист1!B:B,IF(MOD(ROW(A1405)/31,1),\"\",INT(ROW(A1405)/31))),\"\")","v":""}]
[null,null,null,null,null,{"$f":"IFERROR(INDEX(Лист1!B:B,IF(MOD(ROW(A1406)/31,1),\"\",INT(ROW(A1406)/31))),\"\")","v":""}]
[null,null,null,null,null,{"$f":"IFERROR(INDEX(Лист1!B:B,IF(MOD(ROW(A1407)/31,1),\"\",INT(ROW(A1407)/31))),\"\")","v":""}]
[null,null,null,null,null,{"$f":"IFERROR(INDEX(Лист1!B:B,IF(MOD(ROW(A1408)/31,1),\"\",INT(ROW(A1408)/31))),\"\")","v":""}]
[null,null,null,null,null,{"$f":"IFERROR(INDEX(Лист1!B:B,IF(MOD(ROW(A1409)/31,1),\"\",INT(ROW(A1409)/31))),\"\")","v":""}]
[null,null,null,null,null,{"$f":"IFERROR(INDEX(Лист1!B:B,IF(MOD(ROW(A1410)/31,1),\"\",INT(ROW(A1410)/31))),\"\")","v":""}]
[null,null,null,null,null,{"$f":"IFERROR(INDEX(Лист1!B:B,IF(MOD(ROW(A1411)/31,1),\"\",INT(ROW(A1411)/31))),\"\")","v":""}]
[null,null,null,null,null,{"$f":"IFERROR(INDEX(Лист1!B:B,IF(MOD(ROW(A1412)/31,1),\"\",INT(ROW(A1412)/31))),\"\")","v":""}]
[null,null,null,null,null,{"$f":"IFERROR(INDEX(Лист1!B:B,IF(MOD(ROW(A1413)/31,1),\"\",INT(ROW(A1413)/31))),\"\")","v":""}]
[null,null,null,null,null,{"$f":"IFERROR(INDEX(Лист1!B:B,IF(MOD(ROW(A1414)/31,1),\"\",INT(ROW(A1414)/31))),\"\")","v":""}]
[null,null,null,null,null,{"$f":"IFERROR(INDEX(Лист1!B:B,IF(MOD(ROW(A1415)/31,1),\"\",INT(ROW(A1415)/31))),\"\")","v":""}]
[null,null,null,null,null,{"$f":"IFERROR(INDEX(Лист1!B:B,IF(MOD(ROW(A1416)/31,1),\"\",INT(ROW(A1416)/31))),\"\")","v":""}]
[null,null,null,null,null,{"$f":"IFERROR(INDEX(Лист1!B:B,IF(MOD(ROW(A1417)/31,1),\"\",INT(ROW(A1417)/31))),\"\")","v":""}]
[null,null,null,null,null,{"$f":"IFERROR(INDEX(Лист1!B:B,IF(MOD(ROW(A1418)/31,1),\"\",INT(ROW(A1418)/31))),\"\")","v":""}]
[null,null,null,null,null,{"$f":"IFERROR(INDEX(Лист1!B:B,IF(MOD(ROW(A1419)/31,1),\"\",INT(ROW(A1419)/31))),\"\")","v":""}]
[null,null,null,null,null,{"$f":"IFERROR(INDEX(Лист1!B:B,IF(MOD(ROW(A1420)/31,1),\"\",INT(ROW(A1420)/31))),\"\")","v":""}]
[null,null,null,null,null,{"$f":"IFERROR(INDEX(Лист1!B:B,IF(MOD(ROW(A1421)/31,1),\"\",INT(ROW(A1421)/31))),\"\")","v":""}]
[null,null,null,null,null,{"$f":"IFERROR(INDEX(Лист1!B:B,IF(MOD(ROW(A1422)/31,1),\"\",INT(ROW(A1422)/31))),\"\")","v":""}]
[null,null,null,null,null,{"$f":"IFERROR(INDEX(Лист1!B:B,IF(MOD(ROW(A1423)/31,1),\"\",INT(ROW(A1423)/31))),\"\")","v":""}]
[null,null,null,null,null,{"$f":"IFERROR(INDEX(Лист1!B:B,IF(MOD(ROW(A1424)/31,1),\"\",INT(ROW(A1424)/31))),\"\")","v":""}]
[null,null,null,null,null,{"$f":"IFERROR(INDEX(Лист1!B:B,IF(MOD(ROW(A1425)/31,1),\"\",INT(ROW(A1425)/31))),\"\")","v":""}]
[null,null,null,null,null,{"$f":"IFERROR(INDEX(Лист1!B:B,IF(MOD(ROW(A1426)/31,1),\"\",INT(ROW(A1426)/31))),\"\")","v":4600000}]
[null,null,null,null,null,{"$f":"IFERROR(INDEX(Лист1!B:B,IF(MOD(ROW(A1427)/31,1),\"\",INT(ROW(A1427)/31))),\"\")","v":""}]
[null,null,null,null,null,{"$f":"IFERROR(INDEX(Лист1!B:B,IF(MOD(ROW(A1428)/31,1),\"\",INT(ROW(A1428)/31))),\"\")","v":""}]
[null,null,null,null,null,{"$f":"IFERROR(INDEX(Лист1!B:B,IF(MOD(ROW(A1429)/31,1),\"\",INT(ROW(A1429)/31))),\"\")","v":""}]
[null,null,null,null,null,{"$f":"IFERROR(INDEX(Лист1!B:B,IF(MOD(ROW(A1430)/31,1),\"\",INT(ROW(A1430)/31))),\"\")","v":""}]
[null,null,null,null,null,{"$f":"IFERROR(INDEX(Лист1!B:B,IF(MOD(ROW(A1431)/31,1),\"\",INT(ROW(A1431)/31))),\"\")","v":""}]
[null,null,null,null,null,{"$f":"IFERROR(INDEX(Лист1!B:B,IF(MOD(ROW(A1432)/31,1),\"\",INT(ROW(A1432)/31))),\"\")","v":""}]
[null,null,null,null,null,{"$f":"IFERROR(INDEX(Лист1!B:B,IF(MOD(ROW(A1433)/31,1),\"\",INT(ROW(A1433)/31))),\"\")","v":""}]
[null,null,null,null,null,{"$f":"IFERROR(INDEX(Лист1!B:B,IF(MOD(ROW(A1434)/31,1),\"\",INT(ROW(A1434)/31))),\"\")","v":""}]
[null,null,null,null,null,{"$f":"IFERROR(INDEX(Лист1!B:B,IF(MOD(ROW(A1435)/31,1),\"\",INT(ROW(A1435)/31))),\"\")","v":""}]
[null,null,null,null,null,{"$f":"IFERROR(INDEX(Лист1!B:B,IF(MOD(ROW(A1436)/31,1),\"\",INT(ROW(A1436)/31))),\"\")","v":""}]
[null,null,null,null,null,{"$f":"IFERROR(INDEX(Лист1!B:B,IF(MOD(ROW(A1437)/31,1),\"\",INT(ROW(A1437)/31))),\"\")","v":""}]
[null,null,null,null,null,{"$f":"IFERROR(INDEX(Лист1!B:B,IF(MOD(ROW(A1438)/31,1),\"\",INT(ROW(A1438)/31))),\"\")","v":""}]
[null,null,null,null,null,{"$f":"IFERROR(INDEX(Лист1!B:B,IF(MOD(ROW(A1439)/31,1),\"\",INT(ROW(A1439)/31))),\"\")","v":""}]
[null,null,null,null,null,{"$f":"IFERROR(INDEX(Лист1!B:B,IF(MOD(ROW(A1440)/31,1),\"\",INT(ROW(A1440)/31))),\"\")","v":""}]
[null,null,null,null,null,{"$f":"IFERROR(INDEX(Лист1!B:B,IF(MOD(ROW(A1441)/31,1),\"\",INT(ROW(A1441)/31))),\"\")","v":""}]
[null,null,null,null,null,{"$f":"IFERROR(INDEX(Лист1!B:B,IF(MOD(ROW(A1442)/31,1),\"\",INT(ROW(A1442)/31))),\"\")","v":""}]
[null,null,null,null,null,{"$f":"IFERROR(INDEX(Лист1!B:B,IF(MOD(ROW(A1443)/31,1),\"\",INT(ROW(A1443)/31))),\"\")","v":""}]
[null,null,null,null,null,{"$f":"IFERROR(INDEX(Лист1!B:B,IF(MOD(ROW(A1444)/31,1),\"\",INT(ROW(A1444)/31))),\"\")","v":""}]
[null,null,null,null,null,{"$f":"IFERROR(INDEX(Лист1!B:B,IF(MOD(ROW(A1445)/31,1),\"\",INT(ROW(A1445)/31))),\"\")","v":""}]
[null,null,null,null,null,{"$f":"IFERROR(INDEX(Лист1!B:B,IF(MOD(ROW(A1446)/31,1),\"\",INT(ROW(A1446)/31))),\"\")","v":""}]
[null,null,null,null,null,{"$f":"IFERROR(INDEX(Лист1!B:B,IF(MOD(ROW(A1447)/31,1),\"\",INT(ROW(A1447)/31))),\"\")","v":""}]
[null,null,null,null,null,{"$f":"IFERROR(INDEX(Лист1!B:B,IF(MOD(ROW(A1448)/31,1),\"\",INT(ROW(A1448)/31))),\"\")","v":""}]
[null,null,null,null,null,{"$f":"IFERROR(INDEX(Лист1!B:B,IF(MOD(ROW(A1449)/31,1),\"\",INT(ROW(A1449)/31))),\"\")","v":""}]
[null,null,null,null,null,{"$f":"IFERROR(INDEX(Лист1!B:B,IF(MOD(ROW(A1450)/31,1),\"\",INT(ROW(A1450)/31))),\"\")","v":""}]
[null,null,null,null,null,{"$f":"IFERROR(INDEX(Лист1!B:B,IF(MOD(ROW(A1451)/31,1),\"\",INT(ROW(A1451)/31))),\"\")","v":""}]
[null,null,null,null,null,{"$f":"IFERROR(INDEX(Лист1!B:B,IF(MOD(ROW(A1452)/31,1),\"\",INT(ROW(A1452)/31))),\"\")","v":""}]
[null,null,null,null,null,{"$f":"IFERROR(INDEX(Лист1!B:B,IF(MOD(ROW(A1453)/31,1),\"\",INT(ROW(A1453)/31))),\"\")","v":""}]
[null,null,null,null,null,{"$f":"IFERROR(INDEX(Лист1!B:B,IF(MOD(ROW(A1454)/31,1),\"\",INT(ROW(A1454)/31))),\"\")","v":""}]
[null,null,null,null,null,{"$f":"IFERROR(INDEX(Лист1!B:B,IF(MOD(ROW(A1455)/31,1),\"\",INT(ROW(A1455)/31))),\"\")","v":""}]
[null,null,null,null,null,{"$f":"IFERROR(INDEX(Лист1!B:B,IF(MOD(ROW(A1456)/31,1),\"\",INT(ROW(A1456)/31))),\"\")","v":""}]
[null,null,null,null,null,{"$f":"IFERROR(INDEX(Лист1!B:B,IF(MOD(ROW(A1457)/31,1),\"\",INT(ROW(A1457)/31))),\"\")","v":4700000}]
[null,null,null,null,null,{"$f":"IFERROR(INDEX(Лист1!B:B,IF(MOD(ROW(A1458)/31,1),\"\",INT(ROW(A1458)/31))),\"\")","v":""}]
[null,null,null,null,null,{"$f":"IFERROR(INDEX(Лист1!B:B,IF(MOD(ROW(A1459)/31,1),\"\",INT(ROW(A1459)/31))),\"\")","v":""}]
[null,null,null,null,null,{"$f":"IFERROR(INDEX(Лист1!B:B,IF(MOD(ROW(A1460)/31,1),\"\",INT(ROW(A1460)/31))),\"\")","v":""}]
[null,null,null,null,null,{"$f":"IFERROR(INDEX(Лист1!B:B,IF(MOD(ROW(A1461)/31,1),\"\",INT(ROW(A1461)/31))),\"\")","v":""}]
[null,null,null,null,null,{"$f":"IFERROR(INDEX(Лист1!B:B,IF(MOD(ROW(A1462)/31,1),\"\",INT(ROW(A1462)/31))),\"\")","v":""}]
[null,null,null,null,null,{"$f":"IFERROR(INDEX(Лист1!B:B,IF(MOD(ROW(A1463)/31,1),\"\",INT(ROW(A1463)/31))),\"\")","v":""}]
[null,null,null,null,null,{"$f":"IFERROR(INDEX(Лист1!B:B,IF(MOD(ROW(A1464)/31,1),\"\",INT(ROW(A1464)/31))),\"\")","v":""}]
[null,null,null,null,null,{"$f":"IFERROR(INDEX(Лист1!B:B,IF(MOD(ROW(A1465)/31,1),\"\",INT(ROW(A1465)/31))),\"\")","v":""}]
[null,null,null,null,null,{"$f":"IFERROR(INDEX(Лист1!B:B,IF(MOD(ROW(A1466)/31,1),\"\",INT(ROW(A1466)/31))),\"\")","v":""}]
[null,null,null,null,null,{"$f":"IFERROR(INDEX(Лист1!B:B,IF(MOD(ROW(A1467)/31,1),\"\",INT(ROW(A1467)/31))),\"\")","v":""}]
[null,null,null,null,null,{"$f":"IFERROR(INDEX(Лист1!B:B,IF(MOD(ROW(A1468)/31,1),\"\",INT(ROW(A1468)/31))),\"\")","v":""}]
[null,null,null,null,null,{"$f":"IFERROR(INDEX(Лист1!B:B,IF(MOD(ROW(A1469)/31,1),\"\",INT(ROW(A1469)/31))),\"\")","v":""}]
[null,null,null,null,null,{"$f":"IFERROR(INDEX(Лист1!B:B,IF(MOD(ROW(A1470)/31,1),\"\",INT(ROW(A1470)/31))),\"\")","v":""}]
[null,null,null,null,null,{"$f":"IFERROR(INDEX(Лист1!B:B,IF(MOD(ROW(A1471)/31,1),\"\",INT(ROW(A1471)/31))),\"\")","v":""}]
[null,null,null,null,null,{"$f":"IFERROR(INDEX(Лист1!B:B,IF(MOD(ROW(A1472)/31,1),\"\",INT(ROW(A1472)/31))),\"\")","v":""}]
[null,null,null,null,null,{"$f":"IFERROR(INDEX(Лист1!B:B,IF(MOD(ROW(A1473)/31,1),\"\",INT(ROW(A1473)/31))),\"\")","v":""}]
[null,null,null,null,null,{"$f":"IFERROR(INDEX(Лист1!B:B,IF(MOD(ROW(A1474)/31,1),\"\",INT(ROW(A1474)/31))),\"\")","v":""}]
[null,null,null,null,null,{"$f":"IFERROR(INDEX(Лист1!B:B,IF(MOD(ROW(A1475)/31,1),\"\",INT(ROW(A1475)/31))),\"\")","v":""}]
[null,null,null,null,null,{"$f":"IFERROR(INDEX(Лист1!B:B,IF(MOD(ROW(A1476)/31,1),\"\",INT(ROW(A1476)/31))),\"\")","v":""}]
[null,null,null,null,null,{"$f":"IFERROR(INDEX(Лист1!B:B,IF(MOD(ROW(A1477)/31,1),\"\",INT(ROW(A1477)/31))),\"\")","v":""}]
[null,null,null,null,null,{"$f":"IFERROR(INDEX(Лист1!B:B,IF(MOD(ROW(A1478)/31,1),\"\",INT(ROW(A1478)/31))),\"\")","v":""}]
[null,null,null,null,null,{"$f":"IFERROR(INDEX(Лист1!B:B,IF(MOD(ROW(A1479)/31,1),\"\",INT(ROW(A1479)/31))),\"\")","v":""}]
[null,null,null,null,null,{"$f":"IFERROR(INDEX(Лист1!B:B,IF(MOD(ROW(A1480)/31,1),\"\",INT(ROW(A1480)/31))),\"\")","v":""}]
[null,null,null,null,null,{"$f":"IFERROR(INDEX(Лист1!B:B,IF(MOD(ROW(A1481)/31,1),\"\",INT(ROW(A1481)/31))),\"\")","v":""}]
[null,null,null,null,null,{"$f":"IFERROR(INDEX(Лист1!B:B,IF(MOD(ROW(A1482)/31,1),\"\",INT(ROW(A1482)/31))),\"\")","v":""}]
[null,null,null,null,null,{"$f":"IFERROR(INDEX(Лист1!B:B,IF(MOD(ROW(A1483)/31,1),\"\",INT(ROW(A1483)/31))),\"\")","v":""}]
[null,null,null,null,null,{"$f":"IFERROR(INDEX(Лист1!B:B,IF(MOD(ROW(A1484)/31,1),\"\",INT(ROW(A1484)/31))),\"\")","v":""}]
[null,null,null,null,null,{"$f":"IFERROR(INDEX(Лист1!B:B,IF(MOD(ROW(A1485)/31,1),\"\",INT(ROW(A1485)/31))),\"\")","v":""}]
[null,null,null,null,null,{"$f":"IFERROR(INDEX(Лист1!B:B,IF(MOD(ROW(A1486)/31,1),\"\",INT(ROW(A1486)/31))),\"\")","v":""}]
[null,null,null,null,null,{"$f":"IFERROR(INDEX(Лист1!B:B,IF(MOD(ROW(A1487)/31,1),\"\",INT(ROW(A1487)/31))),\"\")","v":""}]
[null,null,null,null,null,{"$f":"IFERROR(INDEX(Лист1!B:B,IF(MOD(ROW(A1488)/31,1),\"\",INT(ROW(A1488)/31))),\"\")","v":4800000}]
[null,null,null,null,null,{"$f":"IFERROR(INDEX(Лист1!B:B,IF(MOD(ROW(A1489)/31,1),\"\",INT(ROW(A1489)/31))),\"\")","v":""}]
[null,null,null,null,null,{"$f":"IFERROR(INDEX(Лист1!B:B,IF(MOD(ROW(A1490)/31,1),\"\",INT(ROW(A1490)/31))),\"\")","v":""}]
[null,null,null,null,null,{"$f":"IFERROR(INDEX(Лист1!B:B,IF(MOD(ROW(A1491)/31,1),\"\",INT(ROW(A1491)/31))),\"\")","v":""}]
[null,null,null,null,null,{"$f":"IFERROR(INDEX(Лист1!B:B,IF(MOD(ROW(A1492)/31,1),\"\",INT(ROW(A1492)/31))),\"\")","v":""}]
[null,null,null,null,null,{"$f":"IFERROR(INDEX(Лист1!B:B,IF(MOD(ROW(A1493)/31,1),\"\",INT(ROW(A1493)/31))),\"\")","v":""}]
[null,null,null,null,null,{"$f":"IFERROR(INDEX(Лист1!B:B,IF(MOD(ROW(A1494)/31,1),\"\",INT(ROW(A1494)/31))),\"\")","v":""}]
[null,null,null,null,null,{"$f":"IFERROR(INDEX(Лист1!B:B,IF(MOD(ROW(A1495)/31,1),\"\",INT(ROW(A1495)/31))),\"\")","v":""}]
[null,null,null,null,null,{"$f":"IFERROR(INDEX(Лист1!B:B,IF(MOD(ROW(A1496)/31,1),\"\",INT(ROW(A1496)/31))),\"\")","v":""}]
[null,null,null,null,null,{"$f":"IFERROR(INDEX(Лист1!B:B,IF(MOD(ROW(A1497)/31,1),\"\",INT(ROW(A1497)/31))),\"\")","v":""}]
[null,null,null,null,null,{"$f":"IFERROR(INDEX(Лист1!B:B,IF(MOD(ROW(A1498)/31,1),\"\",INT(ROW(A1498)/31))),\"\")","v":""}]
[null,null,null,null,null,{"$f":"IFERROR(INDEX(Лист1!B:B,IF(MOD(ROW(A1499)/31,1),\"\",INT(ROW(A1499)/31))),\"\")","v":""}]
[null,null,null,null,null,{"$f":"IFERROR(INDEX(Лист1!B:B,IF(MOD(ROW(A1500)/31,1),\"\",INT(ROW(A1500)/31))),\"\")","v":""}]
[null,null,null,null,null,{"$f":"IFERROR(INDEX(Лист1!B:B,IF(MOD(ROW(A1501)/31,1),\"\",INT(ROW(A1501)/31))),\"\")","v":""}]
[null,null,null,null,null,{"$f":"IFERROR(INDEX(Лист1!B:B,IF(MOD(ROW(A1502)/31,1),\"\",INT(ROW(A1502)/31))),\"\")","v":""}]
[null,null,null,null,null,{"$f":"IFERROR(INDEX(Лист1!B:B,IF(MOD(ROW(A1503)/31,1),\"\",INT(ROW(A1503)/31))),\"\")","v":""}]
[null,null,null,null,null,{"$f":"IFERROR(INDEX(Лист1!B:B,IF(MOD(ROW(A1504)/31,1),\"\",INT(ROW(A1504)/31))),\"\")","v":""}]
[null,null,null,null,null,{"$f":"IFERROR(INDEX(Лист1!B:B,IF(MOD(ROW(A1505)/31,1),\"\",INT(ROW(A1505)/31))),\"\")","v":""}]
[null,null,null,null,null,{"$f":"IFERROR(INDEX(Лист1!B:B,IF(MOD(ROW(A1506)/31,1),\"\",INT(ROW(A1506)/31))),\"\")","v":""}]
[null,null,null,null,null,{"$f":"IFERROR(INDEX(Лист1!B:B,IF(MOD(ROW(A1507)/31,1),\"\",INT(ROW(A1507)/31))),\"\")","v":""}]
[null,null,null,null,null,{"$f":"IFERROR(INDEX(Лист1!B:B,IF(MOD(ROW(A1508)/31,1),\"\",INT(ROW(A1508)/31))),\"\")","v":""}]
[null,null,null,null,null,{"$f":"IFERROR(INDEX(Лист1!B:B,IF(MOD(ROW(A1509)/31,1),\"\",INT(ROW(A1509)/31))),\"\")","v":""}]
[null,null,null,null,null,{"$f":"IFERROR(INDEX(Лист1!B:B,IF(MOD(ROW(A1510)/31,1),\"\",INT(ROW(A1510)/31))),\"\")","v":""}]
[null,null,null,null,null,{"$f":"IFERROR(INDEX(Лист1!B:B,IF(MOD(ROW(A1511)/31,1),\"\",INT(ROW(A1511)/31))),\"\")","v":""}]
[null,null,null,null,null,{"$f":"IFERROR(INDEX(Лист1!B:B,IF(MOD(ROW(A1512)/31,1),\"\",INT(ROW(A1512)/31))),\"\")","v":""}]
[null,null,null,null,null,{"$f":"IFERROR(INDEX(Лист1!B:B,IF(MOD(ROW(A1513)/31,1),\"\",INT(ROW(A1513)/31))),\"\")","v":""}]
[null,null,null,null,null,{"$f":"IFERROR(INDEX(Лист1!B:B,IF(MOD(ROW(A1514)/31,1),\"\",INT(ROW(A1514)/31))),\"\")","v":""}]
[null,null,null,null,null,{"$f":"IFERROR(INDEX(Лист1!B:B,IF(MOD(ROW(A1515)/31,1),\"\",INT(ROW(A1515)/31))),\"\")","v":""}]
[null,null,null,null,null,{"$f":"IFERROR(INDEX(Лист1!B:B,IF(MOD(ROW(A1516)/31,1),\"\",INT(ROW(A1516)/31))),\"\")","v":""}]
[null,null,null,null,null,{"$f":"IFERROR(INDEX(Лист1!B:B,IF(MOD(ROW(A1517)/31,1),\"\",INT(ROW(A1517)/31))),\"\")","v":""}]
[null,null,null,null,null,{"$f":"IFERROR(INDEX(Лист1!B:B,IF(MOD(ROW(A1518)/31,1),\"\",INT(ROW(A1518)/31))),\"\")","v":""}]
[null,null,null,null,null,{"$f":"IFERROR(INDEX(Лист1!B:B,IF(MOD(ROW(A1519)/31,1),\"\",INT(ROW(A1519)/31))),\"\")","v":4900000}]
[null,null,null,null,null,{"$f":"IFERROR(INDEX(Лист1!B:B,IF(MOD(ROW(A1520)/31,1),\"\",INT(ROW(A1520)/31))),\"\")","v":""}]
[null,null,null,null,null,{"$f":"IFERROR(INDEX(Лист1!B:B,IF(MOD(ROW(A1521)/31,1),\"\",INT(ROW(A1521)/31))),\"\")","v":""}]
[null,null,null,null,null,{"$f":"IFERROR(INDEX(Лист1!B:B,IF(MOD(ROW(A1522)/31,1),\"\",INT(ROW(A1522)/31))),\"\")","v":""}]
[null,null,null,null,null,{"$f":"IFERROR(INDEX(Лист1!B:B,IF(MOD(ROW(A1523)/31,1),\"\",INT(ROW(A1523)/31))),\"\")","v":""}]
[null,null,null,null,null,{"$f":"IFERROR(INDEX(Лист1!B:B,IF(MOD(ROW(A1524)/31,1),\"\",INT(ROW(A1524)/31))),\"\")","v":""}]
[null,null,null,null,null,{"$f":"IFERROR(INDEX(Лист1!B:B,IF(MOD(ROW(A1525)/31,1),\"\",INT(ROW(A1525)/31))),\"\")","v":""}]
[null,null,null,null,null,{"$f":"IFERROR(INDEX(Лист1!B:B,IF(MOD(ROW(A1526)/31,1),\"\",INT(ROW(A1526)/31))),\"\")","v":""}]
[null,null,null,null,null,{"$f":"IFERROR(INDEX(Лист1!B:B,IF(MOD(ROW(A1527)/31,1),\"\",INT(ROW(A1527)/31))),\"\")","v":""}]