{"text_format":"1","workbook":"xlsx","n_sheets":6,"sheets":["Вводный","Таблица","Исходный","Организации","Доходный","Расходный"],"not_rendered":{"charts":0,"images":0,"macros":1,"external_links":1,"defined_names":43,"comments":1,"pivot_tables":0},"unopened":[],"bounds":{"document_bytes":16777216,"sheet_cells":100000,"rows_first":2000,"rows_last":500,"rows_between":2000,"halvings":0,"cell_chars":16384,"cell_head_chars":4096},"cells_cut":0,"cells_raw":0,"read":"whole","date_system":"1900"}

{"sheet":"Вводный","index":0,"n_rows":8,"n_cols":15,"rows_kept":8,"cut":false,"hidden":false,"merged":[[2,10,2,14]]}
["Расход за сегодня","Рекомендуемая сумма до конца месяца","Общий расход","Общий доход с начала ведения","Доход за текущий месяц","Расход за текущий месяц","Средний расход в день",{"$f":"IF(H3=\"\",(I2/I3)*1,(I2/H3)*1)","v":{"$error":"#DIV/0!"}},"Уплочено",null,{"$f":"INDIRECT(\"K\"&COUNTA(ТА1[Наличные])+4)","v":207.7},{"$f":"INDIRECT(\"L\"&COUNTA(ТА1[Зарплатная карта])+4)","v":0},{"$f":"INDIRECT(\"M\"&COUNTA(ТА1[Сберегательный счёт])+4)","v":17287.509999999998},{"$f":"INDIRECT(\"N\"&COUNTA(ТА1[Копилка])+4)","v":3132.04},{"$f":"INDIRECT(\"O\"&COUNTA(ТА1[Кредитная карта])+4)","v":50000}]
[{"$f":"SUMIFS(ТА1[Итого],ТА1[Дата],TODAY(),ТА1[Операция],РД)","v":0},{"$f":"G2*(EOMONTH(TODAY(),0)-TODAY())","v":0},{"$f":"SUMIFS(ТА1[Итого],ТА1[Операция],РД)","v":0},{"$f":"SUMIFS(ТА1[Итого],ТА1[Операция],ДД)","v":0},{"$f":"SUMIFS(ТА1[Итого],ТА1[Дата],\">=01.\"&TEXT(TODAY(),\"ММ.ГГГГ\"),ТА1[Дата],\"<01.\"&TEXT(EDATE(TODAY(),1),\"ММ.ГГГГ\"),ТА1[Операция],ДД)","v":0},{"$f":"SUMIFS(ТА1[Итого],ТА1[Дата],\">=01.\"&TEXT(EDATE(TODAY(),-1),\"ММ.ГГГГ\"),ТА1[Дата],\"<01.\"&TEXT(EDATE(TODAY(),1),\"ММ.ГГГГ\"),ТА1[Операция],РД)","v":0},{"$f":"SUMIFS(ТА1[Итого],ТА1[Операция],РД)/SUM(1/COUNTIF(ТА1[Дата],ТА1[Дата]))","v":0},{"$f":"I3*H3","v":0},53,{"$f":"HYPERLINK(\"#'Расходный'!\"&IFERROR(ADDRESS(COUNTA(INDIRECT(\"'Расходный'!\"&ADDRESS(1,MATCH(ПКЯ,РА11,0),4,1)&\":\"&ADDRESS(99,MATCH(ПКЯ,РА11,0),4,1),1))+1,MATCH(ПКЯ,РА11,0),4,1),ADDRESS(1,COUNTA(РА11)+1,4,1)),\"Добавить\")","v":"Добавить"},{"$f":"SUM(K1:M1)","v":17495.21},{"$f":"INDEX(A:A,LARGE(IF(ТА1[Конечная категория]=E3,ROW(ТА1[Конечная категория]),),1),1)","v":"Расход за сегодня"},{"$f":"DATEDIF(L2,TODAY(),\"d\")","v":{"$error":"#VALUE!"}},{"$f":"INDEX(I:I,LARGE(IF(ТА1[Конечная категория]=E3,ROW(ТА1[Конечная категория]),),1),1)/M2","v":{"$error":"#VALUE!"}},{"$f":"SUM(1/COUNTIF(ТА1[Дата],ТА1[Дата]))&\" Дней\"","v":"1 Дней"}]
["2016-04-05","Наличные","Расход","Продукты и питание","Кафе","Кристалл","Ед",null,null,null,"Остаток по категориям"]
["Дата","Категория","Операция","Подкатегория","Конечная категория","Организация","Единица измерения","Количест-во/масса","Сумма/сто-имость","Итого","Наличные","Зарплатная карта","Сберегательный счёт","Копилка","Кредитная карта"]
["2015-09-27","Наличные","Начало",null,null," ","Ед",1,207.7,{"$f":"ТА1[[#This Row],[Сумма/сто-имость]]*ТА1[[#This Row],[Количест-во/масса]]","v":207.7},{"$f":"IF(K4=Н_Е,0,K4)+IF(OR(AND($B5=Н_Е,OR($C5=НО,$C5=ДД,$D5=\"Заём мной\",$D5=\"Возврат мне\")),AND($C5=ПД,$D5=Н_Е)),$J5,0)+IF(OR(AND($B5=Н_Е,OR($C5=РД,$D5=\"Заём у меня\",$D5=\"Возврат мной\")),AND($C5=ПД,$B5=Н_Е)),-$J5,0)","v":207.7},{"$f":"IF(L4=З_Я,0,L4)+IF(OR(AND($B5=З_Я,OR($C5=НО,$C5=ДД,$D5=\"Заём мной\",$D5=\"Возврат мне\")),AND($C5=ПД,$D5=З_Я)),$J5,0)+IF(OR(AND($B5=З_Я,OR($C5=РД,$D5=\"Заём у меня\",$D5=\"Возврат мной\")),AND($C5=ПД,$B5=З_Я)),-$J5,0)","v":0},{"$f":"IF(M4=С_Й,0,M4)+IF(OR(AND($B5=С_Й,OR($C5=НО,$C5=ДД,$D5=\"Заём мной\",$D5=\"Возврат мне\")),AND($C5=ПД,$D5=С_Й)),$J5,0)+IF(OR(AND($B5=С_Й,OR($C5=РД,$D5=\"Заём у меня\",$D5=\"Возврат мной\")),AND($C5=ПД,$B5=С_Й)),-$J5,0)","v":0},{"$f":"IF(N4=К_А,0,N4)+IF(OR(AND($B5=К_А,OR($C5=НО,$C5=УД,$C5=ДД,$D5=\"Заём мной\",$D5=\"Возврат мне\")),AND($C5=ПД,$D5=К_А)),$J5,0)+IF(OR(AND($B5=К_А,OR($C5=РД,$D5=\"Заём у меня\",$D5=\"Возврат мной\")),AND($C5=ПД,$B5=К_А)),-$J5,0)","v":0},{"$f":"IF(O4=К_Я,0,O4)+IF(OR(AND($B5=К_Я,OR($C5=НО,$C5=ДД,$D5=\"Заём мной\",$D5=\"Возврат мне\")),AND($C5=ПД,$D5=К_Я)),$J5,0)+IF(OR(AND($B5=К_Я,OR($C5=РД,$D5=\"Заём у меня\",$D5=\"Возврат мной\")),AND($C5=ПД,$B5=К_Я)),-$J5,0)","v":0}]
["2015-09-27","Сберегательный счёт","Начало",null,null,null,"Ед",1,17287.509999999998,{"$f":"ТА1[[#This Row],[Сумма/сто-имость]]*ТА1[[#This Row],[Количест-во/масса]]","v":17287.509999999998},207.7,0,17287.509999999998,0,0]
["2015-09-27","Кредитная карта","Начало",null,null,null,"Ед",1,50000,{"$f":"ТА1[[#This Row],[Сумма/сто-имость]]*ТА1[[#This Row],[Количест-во/масса]]","v":50000},207.7,0,17287.509999999998,0,50000]
["2015-09-27","Копилка","Начало",null,null,null,"Ед",1,3132.04,{"$f":"ТА1[[#This Row],[Сумма/сто-имость]]*ТА1[[#This Row],[Количест-во/масса]]","v":3132.04},207.7,0,17287.509999999998,3132.04,50000]

{"sheet":"Таблица","index":1,"n_rows":34,"n_cols":17,"rows_kept":34,"cut":false,"hidden":false,"merged":[]}
[10,{"$f":"TEXT(\"01.\"&A1&\".\"&C1,\"ММММ\")","v":"Октябрь"},2015,{"$f":"SUM(INDIRECT(ADDRESS(MATCH(TODAY(),B3:B33,0)+2,3,4,1)&\":\"&ADDRESS(MATCH(TODAY(),B3:B33,0)+2,17,4,1)))","v":{"$error":"#N/A"}}]
[null,"Дата",{"$f":"IF(Расходный!A1=\"\",\"\",Расходный!A1)","v":"Прочее"},{"$f":"IF(Расходный!B1=\"\",\"\",Расходный!B1)","v":"Услуги"},{"$f":"IF(Расходный!C1=\"\",\"\",Расходный!C1)","v":"Продукты и питание"},{"$f":"IF(Расходный!D1=\"\",\"\",Расходный!D1)","v":"Развлечения"},{"$f":"IF(Расходный!E1=\"\",\"\",Расходный!E1)","v":"Косметика"},{"$f":"IF(Расходный!F1=\"\",\"\",Расходный!F1)","v":""},{"$f":"IF(Расходный!G1=\"\",\"\",Расходный!G1)","v":""},{"$f":"IF(Расходный!H1=\"\",\"\",Расходный!H1)","v":""},{"$f":"IF(Расходный!I1=\"\",\"\",Расходный!I1)","v":""},{"$f":"IF(Расходный!J1=\"\",\"\",Расходный!J1)","v":""},{"$f":"IF(Расходный!K1=\"\",\"\",Расходный!K1)","v":""},{"$f":"IF(Расходный!L1=\"\",\"\",Расходный!L1)","v":""},{"$f":"IF(Расходный!M1=\"\",\"\",Расходный!M1)","v":""},{"$f":"IF(Расходный!N1=\"\",\"\",Расходный!N1)","v":""},{"$f":"IF(Расходный!O1=\"\",\"\",Расходный!O1)","v":""}]
[null,{"$f":"DATE($C$1,$A$1,ROW(A1))","v":"2015-10-01"},{"$f":"IF(OR($B3=\"\",C$2=\"\"),\"\",SUMIFS(Итого,Подкатегория,Расходный!A$1,Д_А,Таблица!$B3))","v":0},{"$f":"IF(OR($B3=\"\",D$2=\"\"),\"\",SUMIFS(Итого,Подкатегория,Расходный!B$1,Д_А,Таблица!$B3))","v":0},{"$f":"IF(OR($B3=\"\",E$2=\"\"),\"\",SUMIFS(Итого,Подкатегория,Расходный!C$1,Д_А,Таблица!$B3))","v":0},{"$f":"IF(OR($B3=\"\",F$2=\"\"),\"\",SUMIFS(Итого,Подкатегория,Расходный!D$1,Д_А,Таблица!$B3))","v":0},{"$f":"IF(OR($B3=\"\",G$2=\"\"),\"\",SUMIFS(Итого,Подкатегория,Расходный!E$1,Д_А,Таблица!$B3))","v":0},{"$f":"IF(OR($B3=\"\",H$2=\"\"),\"\",SUMIFS(Итого,Подкатегория,Расходный!F$1,Д_А,Таблица!$B3))","v":""},{"$f":"IF(OR($B3=\"\",I$2=\"\"),\"\",SUMIFS(Итого,Подкатегория,Расходный!G$1,Д_А,Таблица!$B3))","v":""},{"$f":"IF(OR($B3=\"\",J$2=\"\"),\"\",SUMIFS(Итого,Подкатегория,Расходный!H$1,Д_А,Таблица!$B3))","v":""},{"$f":"IF(OR($B3=\"\",K$2=\"\"),\"\",SUMIFS(Итого,Подкатегория,Расходный!I$1,Д_А,Таблица!$B3))","v":""},{"$f":"IF(OR($B3=\"\",L$2=\"\"),\"\",SUMIFS(Итого,Подкатегория,Расходный!J$1,Д_А,Таблица!$B3))","v":""},{"$f":"IF(OR($B3=\"\",M$2=\"\"),\"\",SUMIFS(Итого,Подкатегория,Расходный!K$1,Д_А,Таблица!$B3))","v":""},{"$f":"IF(OR($B3=\"\",N$2=\"\"),\"\",SUMIFS(Итого,Подкатегория,Расходный!L$1,Д_А,Таблица!$B3))","v":""},{"$f":"IF(OR($B3=\"\",O$2=\"\"),\"\",SUMIFS(Итого,Подкатегория,Расходный!M$1,Д_А,Таблица!$B3))","v":""},{"$f":"IF(OR($B3=\"\",P$2=\"\"),\"\",SUMIFS(Итого,Подкатегория,Расходный!N$1,Д_А,Таблица!$B3))","v":""},{"$f":"IF(OR($B3=\"\",Q$2=\"\"),\"\",SUMIFS(Итого,Подкатегория,Расходный!O$1,Д_А,Таблица!$B3))","v":""}]
[null,{"$f":"DATE($C$1,$A$1,ROW(A2))","v":"2015-10-02"},{"$f":"IF(OR($B4=\"\",C$2=\"\"),\"\",SUMIFS(Итого,Подкатегория,Расходный!A$1,Д_А,Таблица!$B4))","v":0},{"$f":"IF(OR($B4=\"\",D$2=\"\"),\"\",SUMIFS(Итого,Подкатегория,Расходный!B$1,Д_А,Таблица!$B4))","v":0},{"$f":"IF(OR($B4=\"\",E$2=\"\"),\"\",SUMIFS(Итого,Подкатегория,Расходный!C$1,Д_А,Таблица!$B4))","v":0},{"$f":"IF(OR($B4=\"\",F$2=\"\"),\"\",SUMIFS(Итого,Подкатегория,Расходный!D$1,Д_А,Таблица!$B4))","v":0},{"$f":"IF(OR($B4=\"\",G$2=\"\"),\"\",SUMIFS(Итого,Подкатегория,Расходный!E$1,Д_А,Таблица!$B4))","v":0},{"$f":"IF(OR($B4=\"\",H$2=\"\"),\"\",SUMIFS(Итого,Подкатегория,Расходный!F$1,Д_А,Таблица!$B4))","v":""},{"$f":"IF(OR($B4=\"\",I$2=\"\"),\"\",SUMIFS(Итого,Подкатегория,Расходный!G$1,Д_А,Таблица!$B4))","v":""},{"$f":"IF(OR($B4=\"\",J$2=\"\"),\"\",SUMIFS(Итого,Подкатегория,Расходный!H$1,Д_А,Таблица!$B4))","v":""},{"$f":"IF(OR($B4=\"\",K$2=\"\"),\"\",SUMIFS(Итого,Подкатегория,Расходный!I$1,Д_А,Таблица!$B4))","v":""},{"$f":"IF(OR($B4=\"\",L$2=\"\"),\"\",SUMIFS(Итого,Подкатегория,Расходный!J$1,Д_А,Таблица!$B4))","v":""},{"$f":"IF(OR($B4=\"\",M$2=\"\"),\"\",SUMIFS(Итого,Подкатегория,Расходный!K$1,Д_А,Таблица!$B4))","v":""},{"$f":"IF(OR($B4=\"\",N$2=\"\"),\"\",SUMIFS(Итого,Подкатегория,Расходный!L$1,Д_А,Таблица!$B4))","v":""},{"$f":"IF(OR($B4=\"\",O$2=\"\"),\"\",SUMIFS(Итого,Подкатегория,Расходный!M$1,Д_А,Таблица!$B4))","v":""},{"$f":"IF(OR($B4=\"\",P$2=\"\"),\"\",SUMIFS(Итого,Подкатегория,Расходный!N$1,Д_А,Таблица!$B4))","v":""},{"$f":"IF(OR($B4=\"\",Q$2=\"\"),\"\",SUMIFS(Итого,Подкатегория,Расходный!O$1,Д_А,Таблица!$B4))","v":""}]
[null,"2015-10-03",{"$f":"IF(OR($B5=\"\",C$2=\"\"),\"\",SUMIFS(Итого,Подкатегория,Расходный!A$1,Д_А,Таблица!$B5))","v":0},{"$f":"IF(OR($B5=\"\",D$2=\"\"),\"\",SUMIFS(Итого,Подкатегория,Расходный!B$1,Д_А,Таблица!$B5))","v":0},{"$f":"IF(OR($B5=\"\",E$2=\"\"),\"\",SUMIFS(Итого,Подкатегория,Расходный!C$1,Д_А,Таблица!$B5))","v":0},{"$f":"IF(OR($B5=\"\",F$2=\"\"),\"\",SUMIFS(Итого,Подкатегория,Расходный!D$1,Д_А,Таблица!$B5))","v":0},{"$f":"IF(OR($B5=\"\",G$2=\"\"),\"\",SUMIFS(Итого,Подкатегория,Расходный!E$1,Д_А,Таблица!$B5))","v":0},{"$f":"IF(OR($B5=\"\",H$2=\"\"),\"\",SUMIFS(Итого,Подкатегория,Расходный!F$1,Д_А,Таблица!$B5))","v":""},{"$f":"IF(OR($B5=\"\",I$2=\"\"),\"\",SUMIFS(Итого,Подкатегория,Расходный!G$1,Д_А,Таблица!$B5))","v":""},{"$f":"IF(OR($B5=\"\",J$2=\"\"),\"\",SUMIFS(Итого,Подкатегория,Расходный!H$1,Д_А,Таблица!$B5))","v":""},{"$f":"IF(OR($B5=\"\",K$2=\"\"),\"\",SUMIFS(Итого,Подкатегория,Расходный!I$1,Д_А,Таблица!$B5))","v":""},{"$f":"IF(OR($B5=\"\",L$2=\"\"),\"\",SUMIFS(Итого,Подкатегория,Расходный!J$1,Д_А,Таблица!$B5))","v":""},{"$f":"IF(OR($B5=\"\",M$2=\"\"),\"\",SUMIFS(Итого,Подкатегория,Расходный!K$1,Д_А,Таблица!$B5))","v":""},{"$f":"IF(OR($B5=\"\",N$2=\"\"),\"\",SUMIFS(Итого,Подкатегория,Расходный!L$1,Д_А,Таблица!$B5))","v":""},{"$f":"IF(OR($B5=\"\",O$2=\"\"),\"\",SUMIFS(Итого,Подкатегория,Расходный!M$1,Д_А,Таблица!$B5))","v":""},{"$f":"IF(OR($B5=\"\",P$2=\"\"),\"\",SUMIFS(Итого,Подкатегория,Расходный!N$1,Д_А,Таблица!$B5))","v":""},{"$f":"IF(OR($B5=\"\",Q$2=\"\"),\"\",SUMIFS(Итого,Подкатегория,Расходный!O$1,Д_А,Таблица!$B5))","v":""}]
[null,"2015-10-04",{"$f":"IF(OR($B6=\"\",C$2=\"\"),\"\",SUMIFS(Итого,Подкатегория,Расходный!A$1,Д_А,Таблица!$B6))","v":0},{"$f":"IF(OR($B6=\"\",D$2=\"\"),\"\",SUMIFS(Итого,Подкатегория,Расходный!B$1,Д_А,Таблица!$B6))","v":0},{"$f":"IF(OR($B6=\"\",E$2=\"\"),\"\",SUMIFS(Итого,Подкатегория,Расходный!C$1,Д_А,Таблица!$B6))","v":0},{"$f":"IF(OR($B6=\"\",F$2=\"\"),\"\",SUMIFS(Итого,Подкатегория,Расходный!D$1,Д_А,Таблица!$B6))","v":0},{"$f":"IF(OR($B6=\"\",G$2=\"\"),\"\",SUMIFS(Итого,Подкатегория,Расходный!E$1,Д_А,Таблица!$B6))","v":0},{"$f":"IF(OR($B6=\"\",H$2=\"\"),\"\",SUMIFS(Итого,Подкатегория,Расходный!F$1,Д_А,Таблица!$B6))","v":""},{"$f":"IF(OR($B6=\"\",I$2=\"\"),\"\",SUMIFS(Итого,Подкатегория,Расходный!G$1,Д_А,Таблица!$B6))","v":""},{"$f":"IF(OR($B6=\"\",J$2=\"\"),\"\",SUMIFS(Итого,Подкатегория,Расходный!H$1,Д_А,Таблица!$B6))","v":""},{"$f":"IF(OR($B6=\"\",K$2=\"\"),\"\",SUMIFS(Итого,Подкатегория,Расходный!I$1,Д_А,Таблица!$B6))","v":""},{"$f":"IF(OR($B6=\"\",L$2=\"\"),\"\",SUMIFS(Итого,Подкатегория,Расходный!J$1,Д_А,Таблица!$B6))","v":""},{"$f":"IF(OR($B6=\"\",M$2=\"\"),\"\",SUMIFS(Итого,Подкатегория,Расходный!K$1,Д_А,Таблица!$B6))","v":""},{"$f":"IF(OR($B6=\"\",N$2=\"\"),\"\",SUMIFS(Итого,Подкатегория,Расходный!L$1,Д_А,Таблица!$B6))","v":""},{"$f":"IF(OR($B6=\"\",O$2=\"\"),\"\",SUMIFS(Итого,Подкатегория,Расходный!M$1,Д_А,Таблица!$B6))","v":""},{"$f":"IF(OR($B6=\"\",P$2=\"\"),\"\",SUMIFS(Итого,Подкатегория,Расходный!N$1,Д_А,Таблица!$B6))","v":""},{"$f":"IF(OR($B6=\"\",Q$2=\"\"),\"\",SUMIFS(Итого,Подкатегория,Расходный!O$1,Д_А,Таблица!$B6))","v":""}]
[null,"2015-10-05",{"$f":"IF(OR($B7=\"\",C$2=\"\"),\"\",SUMIFS(Итого,Подкатегория,Расходный!A$1,Д_А,Таблица!$B7))","v":0},{"$f":"IF(OR($B7=\"\",D$2=\"\"),\"\",SUMIFS(Итого,Подкатегория,Расходный!B$1,Д_А,Таблица!$B7))","v":0},{"$f":"IF(OR($B7=\"\",E$2=\"\"),\"\",SUMIFS(Итого,Подкатегория,Расходный!C$1,Д_А,Таблица!$B7))","v":0},{"$f":"IF(OR($B7=\"\",F$2=\"\"),\"\",SUMIFS(Итого,Подкатегория,Расходный!D$1,Д_А,Таблица!$B7))","v":0},{"$f":"IF(OR($B7=\"\",G$2=\"\"),\"\",SUMIFS(Итого,Подкатегория,Расходный!E$1,Д_А,Таблица!$B7))","v":0},{"$f":"IF(OR($B7=\"\",H$2=\"\"),\"\",SUMIFS(Итого,Подкатегория,Расходный!F$1,Д_А,Таблица!$B7))","v":""},{"$f":"IF(OR($B7=\"\",I$2=\"\"),\"\",SUMIFS(Итого,Подкатегория,Расходный!G$1,Д_А,Таблица!$B7))","v":""},{"$f":"IF(OR($B7=\"\",J$2=\"\"),\"\",SUMIFS(Итого,Подкатегория,Расходный!H$1,Д_А,Таблица!$B7))","v":""},{"$f":"IF(OR($B7=\"\",K$2=\"\"),\"\",SUMIFS(Итого,Подкатегория,Расходный!I$1,Д_А,Таблица!$B7))","v":""},{"$f":"IF(OR($B7=\"\",L$2=\"\"),\"\",SUMIFS(Итого,Подкатегория,Расходный!J$1,Д_А,Таблица!$B7))","v":""},{"$f":"IF(OR($B7=\"\",M$2=\"\"),\"\",SUMIFS(Итого,Подкатегория,Расходный!K$1,Д_А,Таблица!$B7))","v":""},{"$f":"IF(OR($B7=\"\",N$2=\"\"),\"\",SUMIFS(Итого,Подкатегория,Расходный!L$1,Д_А,Таблица!$B7))","v":""},{"$f":"IF(OR($B7=\"\",O$2=\"\"),\"\",SUMIFS(Итого,Подкатегория,Расходный!M$1,Д_А,Таблица!$B7))","v":""},{"$f":"IF(OR($B7=\"\",P$2=\"\"),\"\",SUMIFS(Итого,Подкатегория,Расходный!N$1,Д_А,Таблица!$B7))","v":""},{"$f":"IF(OR($B7=\"\",Q$2=\"\"),\"\",SUMIFS(Итого,Подкатегория,Расходный!O$1,Д_А,Таблица!$B7))","v":""}]
[null,"2015-10-06",{"$f":"IF(OR($B8=\"\",C$2=\"\"),\"\",SUMIFS(Итого,Подкатегория,Расходный!A$1,Д_А,Таблица!$B8))","v":0},{"$f":"IF(OR($B8=\"\",D$2=\"\"),\"\",SUMIFS(Итого,Подкатегория,Расходный!B$1,Д_А,Таблица!$B8))","v":0},{"$f":"IF(OR($B8=\"\",E$2=\"\"),\"\",SUMIFS(Итого,Подкатегория,Расходный!C$1,Д_А,Таблица!$B8))","v":0},{"$f":"IF(OR($B8=\"\",F$2=\"\"),\"\",SUMIFS(Итого,Подкатегория,Расходный!D$1,Д_А,Таблица!$B8))","v":0},{"$f":"IF(OR($B8=\"\",G$2=\"\"),\"\",SUMIFS(Итого,Подкатегория,Расходный!E$1,Д_А,Таблица!$B8))","v":0},{"$f":"IF(OR($B8=\"\",H$2=\"\"),\"\",SUMIFS(Итого,Подкатегория,Расходный!F$1,Д_А,Таблица!$B8))","v":""},{"$f":"IF(OR($B8=\"\",I$2=\"\"),\"\",SUMIFS(Итого,Подкатегория,Расходный!G$1,Д_А,Таблица!$B8))","v":""},{"$f":"IF(OR($B8=\"\",J$2=\"\"),\"\",SUMIFS(Итого,Подкатегория,Расходный!H$1,Д_А,Таблица!$B8))","v":""},{"$f":"IF(OR($B8=\"\",K$2=\"\"),\"\",SUMIFS(Итого,Подкатегория,Расходный!I$1,Д_А,Таблица!$B8))","v":""},{"$f":"IF(OR($B8=\"\",L$2=\"\"),\"\",SUMIFS(Итого,Подкатегория,Расходный!J$1,Д_А,Таблица!$B8))","v":""},{"$f":"IF(OR($B8=\"\",M$2=\"\"),\"\",SUMIFS(Итого,Подкатегория,Расходный!K$1,Д_А,Таблица!$B8))","v":""},{"$f":"IF(OR($B8=\"\",N$2=\"\"),\"\",SUMIFS(Итого,Подкатегория,Расходный!L$1,Д_А,Таблица!$B8))","v":""},{"$f":"IF(OR($B8=\"\",O$2=\"\"),\"\",SUMIFS(Итого,Подкатегория,Расходный!M$1,Д_А,Таблица!$B8))","v":""},{"$f":"IF(OR($B8=\"\",P$2=\"\"),\"\",SUMIFS(Итого,Подкатегория,Расходный!N$1,Д_А,Таблица!$B8))","v":""},{"$f":"IF(OR($B8=\"\",Q$2=\"\"),\"\",SUMIFS(Итого,Подкатегория,Расходный!O$1,Д_А,Таблица!$B8))","v":""}]
[null,"2015-10-07",{"$f":"IF(OR($B9=\"\",C$2=\"\"),\"\",SUMIFS(Итого,Подкатегория,Расходный!A$1,Д_А,Таблица!$B9))","v":0},{"$f":"IF(OR($B9=\"\",D$2=\"\"),\"\",SUMIFS(Итого,Подкатегория,Расходный!B$1,Д_А,Таблица!$B9))","v":0},{"$f":"IF(OR($B9=\"\",E$2=\"\"),\"\",SUMIFS(Итого,Подкатегория,Расходный!C$1,Д_А,Таблица!$B9))","v":0},{"$f":"IF(OR($B9=\"\",F$2=\"\"),\"\",SUMIFS(Итого,Подкатегория,Расходный!D$1,Д_А,Таблица!$B9))","v":0},{"$f":"IF(OR($B9=\"\",G$2=\"\"),\"\",SUMIFS(Итого,Подкатегория,Расходный!E$1,Д_А,Таблица!$B9))","v":0},{"$f":"IF(OR($B9=\"\",H$2=\"\"),\"\",SUMIFS(Итого,Подкатегория,Расходный!F$1,Д_А,Таблица!$B9))","v":""},{"$f":"IF(OR($B9=\"\",I$2=\"\"),\"\",SUMIFS(Итого,Подкатегория,Расходный!G$1,Д_А,Таблица!$B9))","v":""},{"$f":"IF(OR($B9=\"\",J$2=\"\"),\"\",SUMIFS(Итого,Подкатегория,Расходный!H$1,Д_А,Таблица!$B9))","v":""},{"$f":"IF(OR($B9=\"\",K$2=\"\"),\"\",SUMIFS(Итого,Подкатегория,Расходный!I$1,Д_А,Таблица!$B9))","v":""},{"$f":"IF(OR($B9=\"\",L$2=\"\"),\"\",SUMIFS(Итого,Подкатегория,Расходный!J$1,Д_А,Таблица!$B9))","v":""},{"$f":"IF(OR($B9=\"\",M$2=\"\"),\"\",SUMIFS(Итого,Подкатегория,Расходный!K$1,Д_А,Таблица!$B9))","v":""},{"$f":"IF(OR($B9=\"\",N$2=\"\"),\"\",SUMIFS(Итого,Подкатегория,Расходный!L$1,Д_А,Таблица!$B9))","v":""},{"$f":"IF(OR($B9=\"\",O$2=\"\"),\"\",SUMIFS(Итого,Подкатегория,Расходный!M$1,Д_А,Таблица!$B9))","v":""},{"$f":"IF(OR($B9=\"\",P$2=\"\"),\"\",SUMIFS(Итого,Подкатегория,Расходный!N$1,Д_А,Таблица!$B9))","v":""},{"$f":"IF(OR($B9=\"\",Q$2=\"\"),\"\",SUMIFS(Итого,Подкатегория,Расходный!O$1,Д_А,Таблица!$B9))","v":""}]
[null,"2015-10-08",{"$f":"IF(OR($B10=\"\",C$2=\"\"),\"\",SUMIFS(Итого,Подкатегория,Расходный!A$1,Д_А,Таблица!$B10))","v":0},{"$f":"IF(OR($B10=\"\",D$2=\"\"),\"\",SUMIFS(Итого,Подкатегория,Расходный!B$1,Д_А,Таблица!$B10))","v":0},{"$f":"IF(OR($B10=\"\",E$2=\"\"),\"\",SUMIFS(Итого,Подкатегория,Расходный!C$1,Д_А,Таблица!$B10))","v":0},{"$f":"IF(OR($B10=\"\",F$2=\"\"),\"\",SUMIFS(Итого,Подкатегория,Расходный!D$1,Д_А,Таблица!$B10))","v":0},{"$f":"IF(OR($B10=\"\",G$2=\"\"),\"\",SUMIFS(Итого,Подкатегория,Расходный!E$1,Д_А,Таблица!$B10))","v":0},{"$f":"IF(OR($B10=\"\",H$2=\"\"),\"\",SUMIFS(Итого,Подкатегория,Расходный!F$1,Д_А,Таблица!$B10))","v":""},{"$f":"IF(OR($B10=\"\",I$2=\"\"),\"\",SUMIFS(Итого,Подкатегория,Расходный!G$1,Д_А,Таблица!$B10))","v":""},{"$f":"IF(OR($B10=\"\",J$2=\"\"),\"\",SUMIFS(Итого,Подкатегория,Расходный!H$1,Д_А,Таблица!$B10))","v":""},{"$f":"IF(OR($B10=\"\",K$2=\"\"),\"\",SUMIFS(Итого,Подкатегория,Расходный!I$1,Д_А,Таблица!$B10))","v":""},{"$f":"IF(OR($B10=\"\",L$2=\"\"),\"\",SUMIFS(Итого,Подкатегория,Расходный!J$1,Д_А,Таблица!$B10))","v":""},{"$f":"IF(OR($B10=\"\",M$2=\"\"),\"\",SUMIFS(Итого,Подкатегория,Расходный!K$1,Д_А,Таблица!$B10))","v":""},{"$f":"IF(OR($B10=\"\",N$2=\"\"),\"\",SUMIFS(Итого,Подкатегория,Расходный!L$1,Д_А,Таблица!$B10))","v":""},{"$f":"IF(OR($B10=\"\",O$2=\"\"),\"\",SUMIFS(Итого,Подкатегория,Расходный!M$1,Д_А,Таблица!$B10))","v":""},{"$f":"IF(OR($B10=\"\",P$2=\"\"),\"\",SUMIFS(Итого,Подкатегория,Расходный!N$1,Д_А,Таблица!$B10))","v":""},{"$f":"IF(OR($B10=\"\",Q$2=\"\"),\"\",SUMIFS(Итого,Подкатегория,Расходный!O$1,Д_А,Таблица!$B10))","v":""}]
[null,"2015-10-09",{"$f":"IF(OR($B11=\"\",C$2=\"\"),\"\",SUMIFS(Итого,Подкатегория,Расходный!A$1,Д_А,Таблица!$B11))","v":0},{"$f":"IF(OR($B11=\"\",D$2=\"\"),\"\",SUMIFS(Итого,Подкатегория,Расходный!B$1,Д_А,Таблица!$B11))","v":0},{"$f":"IF(OR($B11=\"\",E$2=\"\"),\"\",SUMIFS(Итого,Подкатегория,Расходный!C$1,Д_А,Таблица!$B11))","v":0},{"$f":"IF(OR($B11=\"\",F$2=\"\"),\"\",SUMIFS(Итого,Подкатегория,Расходный!D$1,Д_А,Таблица!$B11))","v":0},{"$f":"IF(OR($B11=\"\",G$2=\"\"),\"\",SUMIFS(Итого,Подкатегория,Расходный!E$1,Д_А,Таблица!$B11))","v":0},{"$f":"IF(OR($B11=\"\",H$2=\"\"),\"\",SUMIFS(Итого,Подкатегория,Расходный!F$1,Д_А,Таблица!$B11))","v":""},{"$f":"IF(OR($B11=\"\",I$2=\"\"),\"\",SUMIFS(Итого,Подкатегория,Расходный!G$1,Д_А,Таблица!$B11))","v":""},{"$f":"IF(OR($B11=\"\",J$2=\"\"),\"\",SUMIFS(Итого,Подкатегория,Расходный!H$1,Д_А,Таблица!$B11))","v":""},{"$f":"IF(OR($B11=\"\",K$2=\"\"),\"\",SUMIFS(Итого,Подкатегория,Расходный!I$1,Д_А,Таблица!$B11))","v":""},{"$f":"IF(OR($B11=\"\",L$2=\"\"),\"\",SUMIFS(Итого,Подкатегория,Расходный!J$1,Д_А,Таблица!$B11))","v":""},{"$f":"IF(OR($B11=\"\",M$2=\"\"),\"\",SUMIFS(Итого,Подкатегория,Расходный!K$1,Д_А,Таблица!$B11))","v":""},{"$f":"IF(OR($B11=\"\",N$2=\"\"),\"\",SUMIFS(Итого,Подкатегория,Расходный!L$1,Д_А,Таблица!$B11))","v":""},{"$f":"IF(OR($B11=\"\",O$2=\"\"),\"\",SUMIFS(Итого,Подкатегория,Расходный!M$1,Д_А,Таблица!$B11))","v":""},{"$f":"IF(OR($B11=\"\",P$2=\"\"),\"\",SUMIFS(Итого,Подкатегория,Расходный!N$1,Д_А,Таблица!$B11))","v":""},{"$f":"IF(OR($B11=\"\",Q$2=\"\"),\"\",SUMIFS(Итого,Подкатегория,Расходный!O$1,Д_А,Таблица!$B11))","v":""}]
[null,"2015-10-10",{"$f":"IF(OR($B12=\"\",C$2=\"\"),\"\",SUMIFS(Итого,Подкатегория,Расходный!A$1,Д_А,Таблица!$B12))","v":0},{"$f":"IF(OR($B12=\"\",D$2=\"\"),\"\",SUMIFS(Итого,Подкатегория,Расходный!B$1,Д_А,Таблица!$B12))","v":0},{"$f":"IF(OR($B12=\"\",E$2=\"\"),\"\",SUMIFS(Итого,Подкатегория,Расходный!C$1,Д_А,Таблица!$B12))","v":0},{"$f":"IF(OR($B12=\"\",F$2=\"\"),\"\",SUMIFS(Итого,Подкатегория,Расходный!D$1,Д_А,Таблица!$B12))","v":0},{"$f":"IF(OR($B12=\"\",G$2=\"\"),\"\",SUMIFS(Итого,Подкатегория,Расходный!E$1,Д_А,Таблица!$B12))","v":0},{"$f":"IF(OR($B12=\"\",H$2=\"\"),\"\",SUMIFS(Итого,Подкатегория,Расходный!F$1,Д_А,Таблица!$B12))","v":""},{"$f":"IF(OR($B12=\"\",I$2=\"\"),\"\",SUMIFS(Итого,Подкатегория,Расходный!G$1,Д_А,Таблица!$B12))","v":""},{"$f":"IF(OR($B12=\"\",J$2=\"\"),\"\",SUMIFS(Итого,Подкатегория,Расходный!H$1,Д_А,Таблица!$B12))","v":""},{"$f":"IF(OR($B12=\"\",K$2=\"\"),\"\",SUMIFS(Итого,Подкатегория,Расходный!I$1,Д_А,Таблица!$B12))","v":""},{"$f":"IF(OR($B12=\"\",L$2=\"\"),\"\",SUMIFS(Итого,Подкатегория,Расходный!J$1,Д_А,Таблица!$B12))","v":""},{"$f":"IF(OR($B12=\"\",M$2=\"\"),\"\",SUMIFS(Итого,Подкатегория,Расходный!K$1,Д_А,Таблица!$B12))","v":""},{"$f":"IF(OR($B12=\"\",N$2=\"\"),\"\",SUMIFS(Итого,Подкатегория,Расходный!L$1,Д_А,Таблица!$B12))","v":""},{"$f":"IF(OR($B12=\"\",O$2=\"\"),\"\",SUMIFS(Итого,Подкатегория,Расходный!M$1,Д_А,Таблица!$B12))","v":""},{"$f":"IF(OR($B12=\"\",P$2=\"\"),\"\",SUMIFS(Итого,Подкатегория,Расходный!N$1,Д_А,Таблица!$B12))","v":""},{"$f":"IF(OR($B12=\"\",Q$2=\"\"),\"\",SUMIFS(Итого,Подкатегория,Расходный!O$1,Д_А,Таблица!$B12))","v":""}]
[null,"2015-10-11",{"$f":"IF(OR($B13=\"\",C$2=\"\"),\"\",SUMIFS(Итого,Подкатегория,Расходный!A$1,Д_А,Таблица!$B13))","v":0},{"$f":"IF(OR($B13=\"\",D$2=\"\"),\"\",SUMIFS(Итого,Подкатегория,Расходный!B$1,Д_А,Таблица!$B13))","v":0},{"$f":"IF(OR($B13=\"\",E$2=\"\"),\"\",SUMIFS(Итого,Подкатегория,Расходный!C$1,Д_А,Таблица!$B13))","v":0},{"$f":"IF(OR($B13=\"\",F$2=\"\"),\"\",SUMIFS(Итого,Подкатегория,Расходный!D$1,Д_А,Таблица!$B13))","v":0},{"$f":"IF(OR($B13=\"\",G$2=\"\"),\"\",SUMIFS(Итого,Подкатегория,Расходный!E$1,Д_А,Таблица!$B13))","v":0},{"$f":"IF(OR($B13=\"\",H$2=\"\"),\"\",SUMIFS(Итого,Подкатегория,Расходный!F$1,Д_А,Таблица!$B13))","v":""},{"$f":"IF(OR($B13=\"\",I$2=\"\"),\"\",SUMIFS(Итого,Подкатегория,Расходный!G$1,Д_А,Таблица!$B13))","v":""},{"$f":"IF(OR($B13=\"\",J$2=\"\"),\"\",SUMIFS(Итого,Подкатегория,Расходный!H$1,Д_А,Таблица!$B13))","v":""},{"$f":"IF(OR($B13=\"\",K$2=\"\"),\"\",SUMIFS(Итого,Подкатегория,Расходный!I$1,Д_А,Таблица!$B13))","v":""},{"$f":"IF(OR($B13=\"\",L$2=\"\"),\"\",SUMIFS(Итого,Подкатегория,Расходный!J$1,Д_А,Таблица!$B13))","v":""},{"$f":"IF(OR($B13=\"\",M$2=\"\"),\"\",SUMIFS(Итого,Подкатегория,Расходный!K$1,Д_А,Таблица!$B13))","v":""},{"$f":"IF(OR($B13=\"\",N$2=\"\"),\"\",SUMIFS(Итого,Подкатегория,Расходный!L$1,Д_А,Таблица!$B13))","v":""},{"$f":"IF(OR($B13=\"\",O$2=\"\"),\"\",SUMIFS(Итого,Подкатегория,Расходный!M$1,Д_А,Таблица!$B13))","v":""},{"$f":"IF(OR($B13=\"\",P$2=\"\"),\"\",SUMIFS(Итого,Подкатегория,Расходный!N$1,Д_А,Таблица!$B13))","v":""},{"$f":"IF(OR($B13=\"\",Q$2=\"\"),\"\",SUMIFS(Итого,Подкатегория,Расходный!O$1,Д_А,Таблица!$B13))","v":""}]
[null,"2015-10-12",{"$f":"IF(OR($B14=\"\",C$2=\"\"),\"\",SUMIFS(Итого,Подкатегория,Расходный!A$1,Д_А,Таблица!$B14))","v":0},{"$f":"IF(OR($B14=\"\",D$2=\"\"),\"\",SUMIFS(Итого,Подкатегория,Расходный!B$1,Д_А,Таблица!$B14))","v":0},{"$f":"IF(OR($B14=\"\",E$2=\"\"),\"\",SUMIFS(Итого,Подкатегория,Расходный!C$1,Д_А,Таблица!$B14))","v":0},{"$f":"IF(OR($B14=\"\",F$2=\"\"),\"\",SUMIFS(Итого,Подкатегория,Расходный!D$1,Д_А,Таблица!$B14))","v":0},{"$f":"IF(OR($B14=\"\",G$2=\"\"),\"\",SUMIFS(Итого,Подкатегория,Расходный!E$1,Д_А,Таблица!$B14))","v":0},{"$f":"IF(OR($B14=\"\",H$2=\"\"),\"\",SUMIFS(Итого,Подкатегория,Расходный!F$1,Д_А,Таблица!$B14))","v":""},{"$f":"IF(OR($B14=\"\",I$2=\"\"),\"\",SUMIFS(Итого,Подкатегория,Расходный!G$1,Д_А,Таблица!$B14))","v":""},{"$f":"IF(OR($B14=\"\",J$2=\"\"),\"\",SUMIFS(Итого,Подкатегория,Расходный!H$1,Д_А,Таблица!$B14))","v":""},{"$f":"IF(OR($B14=\"\",K$2=\"\"),\"\",SUMIFS(Итого,Подкатегория,Расходный!I$1,Д_А,Таблица!$B14))","v":""},{"$f":"IF(OR($B14=\"\",L$2=\"\"),\"\",SUMIFS(Итого,Подкатегория,Расходный!J$1,Д_А,Таблица!$B14))","v":""},{"$f":"IF(OR($B14=\"\",M$2=\"\"),\"\",SUMIFS(Итого,Подкатегория,Расходный!K$1,Д_А,Таблица!$B14))","v":""},{"$f":"IF(OR($B14=\"\",N$2=\"\"),\"\",SUMIFS(Итого,Подкатегория,Расходный!L$1,Д_А,Таблица!$B14))","v":""},{"$f":"IF(OR($B14=\"\",O$2=\"\"),\"\",SUMIFS(Итого,Подкатегория,Расходный!M$1,Д_А,Таблица!$B14))","v":""},{"$f":"IF(OR($B14=\"\",P$2=\"\"),\"\",SUMIFS(Итого,Подкатегория,Расходный!N$1,Д_А,Таблица!$B14))","v":""},{"$f":"IF(OR($B14=\"\",Q$2=\"\"),\"\",SUMIFS(Итого,Подкатегория,Расходный!O$1,Д_А,Таблица!$B14))","v":""}]
[null,"2015-10-13",{"$f":"IF(OR($B15=\"\",C$2=\"\"),\"\",SUMIFS(Итого,Подкатегория,Расходный!A$1,Д_А,Таблица!$B15))","v":0},{"$f":"IF(OR($B15=\"\",D$2=\"\"),\"\",SUMIFS(Итого,Подкатегория,Расходный!B$1,Д_А,Таблица!$B15))","v":0},{"$f":"IF(OR($B15=\"\",E$2=\"\"),\"\",SUMIFS(Итого,Подкатегория,Расходный!C$1,Д_А,Таблица!$B15))","v":0},{"$f":"IF(OR($B15=\"\",F$2=\"\"),\"\",SUMIFS(Итого,Подкатегория,Расходный!D$1,Д_А,Таблица!$B15))","v":0},{"$f":"IF(OR($B15=\"\",G$2=\"\"),\"\",SUMIFS(Итого,Подкатегория,Расходный!E$1,Д_А,Таблица!$B15))","v":0},{"$f":"IF(OR($B15=\"\",H$2=\"\"),\"\",SUMIFS(Итого,Подкатегория,Расходный!F$1,Д_А,Таблица!$B15))","v":""},{"$f":"IF(OR($B15=\"\",I$2=\"\"),\"\",SUMIFS(Итого,Подкатегория,Расходный!G$1,Д_А,Таблица!$B15))","v":""},{"$f":"IF(OR($B15=\"\",J$2=\"\"),\"\",SUMIFS(Итого,Подкатегория,Расходный!H$1,Д_А,Таблица!$B15))","v":""},{"$f":"IF(OR($B15=\"\",K$2=\"\"),\"\",SUMIFS(Итого,Подкатегория,Расходный!I$1,Д_А,Таблица!$B15))","v":""},{"$f":"IF(OR($B15=\"\",L$2=\"\"),\"\",SUMIFS(Итого,Подкатегория,Расходный!J$1,Д_А,Таблица!$B15))","v":""},{"$f":"IF(OR($B15=\"\",M$2=\"\"),\"\",SUMIFS(Итого,Подкатегория,Расходный!K$1,Д_А,Таблица!$B15))","v":""},{"$f":"IF(OR($B15=\"\",N$2=\"\"),\"\",SUMIFS(Итого,Подкатегория,Расходный!L$1,Д_А,Таблица!$B15))","v":""},{"$f":"IF(OR($B15=\"\",O$2=\"\"),\"\",SUMIFS(Итого,Подкатегория,Расходный!M$1,Д_А,Таблица!$B15))","v":""},{"$f":"IF(OR($B15=\"\",P$2=\"\"),\"\",SUMIFS(Итого,Подкатегория,Расходный!N$1,Д_А,Таблица!$B15))","v":""},{"$f":"IF(OR($B15=\"\",Q$2=\"\"),\"\",SUMIFS(Итого,Подкатегория,Расходный!O$1,Д_А,Таблица!$B15))","v":""}]
[null,"2015-10-14",{"$f":"IF(OR($B16=\"\",C$2=\"\"),\"\",SUMIFS(Итого,Подкатегория,Расходный!A$1,Д_А,Таблица!$B16))","v":0},{"$f":"IF(OR($B16=\"\",D$2=\"\"),\"\",SUMIFS(Итого,Подкатегория,Расходный!B$1,Д_А,Таблица!$B16))","v":0},{"$f":"IF(OR($B16=\"\",E$2=\"\"),\"\",SUMIFS(Итого,Подкатегория,Расходный!C$1,Д_А,Таблица!$B16))","v":0},{"$f":"IF(OR($B16=\"\",F$2=\"\"),\"\",SUMIFS(Итого,Подкатегория,Расходный!D$1,Д_А,Таблица!$B16))","v":0},{"$f":"IF(OR($B16=\"\",G$2=\"\"),\"\",SUMIFS(Итого,Подкатегория,Расходный!E$1,Д_А,Таблица!$B16))","v":0},{"$f":"IF(OR($B16=\"\",H$2=\"\"),\"\",SUMIFS(Итого,Подкатегория,Расходный!F$1,Д_А,Таблица!$B16))","v":""},{"$f":"IF(OR($B16=\"\",I$2=\"\"),\"\",SUMIFS(Итого,Подкатегория,Расходный!G$1,Д_А,Таблица!$B16))","v":""},{"$f":"IF(OR($B16=\"\",J$2=\"\"),\"\",SUMIFS(Итого,Подкатегория,Расходный!H$1,Д_А,Таблица!$B16))","v":""},{"$f":"IF(OR($B16=\"\",K$2=\"\"),\"\",SUMIFS(Итого,Подкатегория,Расходный!I$1,Д_А,Таблица!$B16))","v":""},{"$f":"IF(OR($B16=\"\",L$2=\"\"),\"\",SUMIFS(Итого,Подкатегория,Расходный!J$1,Д_А,Таблица!$B16))","v":""},{"$f":"IF(OR($B16=\"\",M$2=\"\"),\"\",SUMIFS(Итого,Подкатегория,Расходный!K$1,Д_А,Таблица!$B16))","v":""},{"$f":"IF(OR($B16=\"\",N$2=\"\"),\"\",SUMIFS(Итого,Подкатегория,Расходный!L$1,Д_А,Таблица!$B16))","v":""},{"$f":"IF(OR($B16=\"\",O$2=\"\"),\"\",SUMIFS(Итого,Подкатегория,Расходный!M$1,Д_А,Таблица!$B16))","v":""},{"$f":"IF(OR($B16=\"\",P$2=\"\"),\"\",SUMIFS(Итого,Подкатегория,Расходный!N$1,Д_А,Таблица!$B16))","v":""},{"$f":"IF(OR($B16=\"\",Q$2=\"\"),\"\",SUMIFS(Итого,Подкатегория,Расходный!O$1,Д_А,Таблица!$B16))","v":""}]
[null,"2015-10-15",{"$f":"IF(OR($B17=\"\",C$2=\"\"),\"\",SUMIFS(Итого,Подкатегория,Расходный!A$1,Д_А,Таблица!$B17))","v":0},{"$f":"IF(OR($B17=\"\",D$2=\"\"),\"\",SUMIFS(Итого,Подкатегория,Расходный!B$1,Д_А,Таблица!$B17))","v":0},{"$f":"IF(OR($B17=\"\",E$2=\"\"),\"\",SUMIFS(Итого,Подкатегория,Расходный!C$1,Д_А,Таблица!$B17))","v":0},{"$f":"IF(OR($B17=\"\",F$2=\"\"),\"\",SUMIFS(Итого,Подкатегория,Расходный!D$1,Д_А,Таблица!$B17))","v":0},{"$f":"IF(OR($B17=\"\",G$2=\"\"),\"\",SUMIFS(Итого,Подкатегория,Расходный!E$1,Д_А,Таблица!$B17))","v":0},{"$f":"IF(OR($B17=\"\",H$2=\"\"),\"\",SUMIFS(Итого,Подкатегория,Расходный!F$1,Д_А,Таблица!$B17))","v":""},{"$f":"IF(OR($B17=\"\",I$2=\"\"),\"\",SUMIFS(Итого,Подкатегория,Расходный!G$1,Д_А,Таблица!$B17))","v":""},{"$f":"IF(OR($B17=\"\",J$2=\"\"),\"\",SUMIFS(Итого,Подкатегория,Расходный!H$1,Д_А,Таблица!$B17))","v":""},{"$f":"IF(OR($B17=\"\",K$2=\"\"),\"\",SUMIFS(Итого,Подкатегория,Расходный!I$1,Д_А,Таблица!$B17))","v":""},{"$f":"IF(OR($B17=\"\",L$2=\"\"),\"\",SUMIFS(Итого,Подкатегория,Расходный!J$1,Д_А,Таблица!$B17))","v":""},{"$f":"IF(OR($B17=\"\",M$2=\"\"),\"\",SUMIFS(Итого,Подкатегория,Расходный!K$1,Д_А,Таблица!$B17))","v":""},{"$f":"IF(OR($B17=\"\",N$2=\"\"),\"\",SUMIFS(Итого,Подкатегория,Расходный!L$1,Д_А,Таблица!$B17))","v":""},{"$f":"IF(OR($B17=\"\",O$2=\"\"),\"\",SUMIFS(Итого,Подкатегория,Расходный!M$1,Д_А,Таблица!$B17))","v":""},{"$f":"IF(OR($B17=\"\",P$2=\"\"),\"\",SUMIFS(Итого,Подкатегория,Расходный!N$1,Д_А,Таблица!$B17))","v":""},{"$f":"IF(OR($B17=\"\",Q$2=\"\"),\"\",SUMIFS(Итого,Подкатегория,Расходный!O$1,Д_А,Таблица!$B17))","v":""}]
[null,"2015-10-16",{"$f":"IF(OR($B18=\"\",C$2=\"\"),\"\",SUMIFS(Итого,Подкатегория,Расходный!A$1,Д_А,Таблица!$B18))","v":0},{"$f":"IF(OR($B18=\"\",D$2=\"\"),\"\",SUMIFS(Итого,Подкатегория,Расходный!B$1,Д_А,Таблица!$B18))","v":0},{"$f":"IF(OR($B18=\"\",E$2=\"\"),\"\",SUMIFS(Итого,Подкатегория,Расходный!C$1,Д_А,Таблица!$B18))","v":0},{"$f":"IF(OR($B18=\"\",F$2=\"\"),\"\",SUMIFS(Итого,Подкатегория,Расходный!D$1,Д_А,Таблица!$B18))","v":0},{"$f":"IF(OR($B18=\"\",G$2=\"\"),\"\",SUMIFS(Итого,Подкатегория,Расходный!E$1,Д_А,Таблица!$B18))","v":0},{"$f":"IF(OR($B18=\"\",H$2=\"\"),\"\",SUMIFS(Итого,Подкатегория,Расходный!F$1,Д_А,Таблица!$B18))","v":""},{"$f":"IF(OR($B18=\"\",I$2=\"\"),\"\",SUMIFS(Итого,Подкатегория,Расходный!G$1,Д_А,Таблица!$B18))","v":""},{"$f":"IF(OR($B18=\"\",J$2=\"\"),\"\",SUMIFS(Итого,Подкатегория,Расходный!H$1,Д_А,Таблица!$B18))","v":""},{"$f":"IF(OR($B18=\"\",K$2=\"\"),\"\",SUMIFS(Итого,Подкатегория,Расходный!I$1,Д_А,Таблица!$B18))","v":""},{"$f":"IF(OR($B18=\"\",L$2=\"\"),\"\",SUMIFS(Итого,Подкатегория,Расходный!J$1,Д_А,Таблица!$B18))","v":""},{"$f":"IF(OR($B18=\"\",M$2=\"\"),\"\",SUMIFS(Итого,Подкатегория,Расходный!K$1,Д_А,Таблица!$B18))","v":""},{"$f":"IF(OR($B18=\"\",N$2=\"\"),\"\",SUMIFS(Итого,Подкатегория,Расходный!L$1,Д_А,Таблица!$B18))","v":""},{"$f":"IF(OR($B18=\"\",O$2=\"\"),\"\",SUMIFS(Итого,Подкатегория,Расходный!M$1,Д_А,Таблица!$B18))","v":""},{"$f":"IF(OR($B18=\"\",P$2=\"\"),\"\",SUMIFS(Итого,Подкатегория,Расходный!N$1,Д_А,Таблица!$B18))","v":""},{"$f":"IF(OR($B18=\"\",Q$2=\"\"),\"\",SUMIFS(Итого,Подкатегория,Расходный!O$1,Д_А,Таблица!$B18))","v":""}]
[null,"2015-10-17",{"$f":"IF(OR($B19=\"\",C$2=\"\"),\"\",SUMIFS(Итого,Подкатегория,Расходный!A$1,Д_А,Таблица!$B19))","v":0},{"$f":"IF(OR($B19=\"\",D$2=\"\"),\"\",SUMIFS(Итого,Подкатегория,Расходный!B$1,Д_А,Таблица!$B19))","v":0},{"$f":"IF(OR($B19=\"\",E$2=\"\"),\"\",SUMIFS(Итого,Подкатегория,Расходный!C$1,Д_А,Таблица!$B19))","v":0},{"$f":"IF(OR($B19=\"\",F$2=\"\"),\"\",SUMIFS(Итого,Подкатегория,Расходный!D$1,Д_А,Таблица!$B19))","v":0},{"$f":"IF(OR($B19=\"\",G$2=\"\"),\"\",SUMIFS(Итого,Подкатегория,Расходный!E$1,Д_А,Таблица!$B19))","v":0},{"$f":"IF(OR($B19=\"\",H$2=\"\"),\"\",SUMIFS(Итого,Подкатегория,Расходный!F$1,Д_А,Таблица!$B19))","v":""},{"$f":"IF(OR($B19=\"\",I$2=\"\"),\"\",SUMIFS(Итого,Подкатегория,Расходный!G$1,Д_А,Таблица!$B19))","v":""},{"$f":"IF(OR($B19=\"\",J$2=\"\"),\"\",SUMIFS(Итого,Подкатегория,Расходный!H$1,Д_А,Таблица!$B19))","v":""},{"$f":"IF(OR($B19=\"\",K$2=\"\"),\"\",SUMIFS(Итого,Подкатегория,Расходный!I$1,Д_А,Таблица!$B19))","v":""},{"$f":"IF(OR($B19=\"\",L$2=\"\"),\"\",SUMIFS(Итого,Подкатегория,Расходный!J$1,Д_А,Таблица!$B19))","v":""},{"$f":"IF(OR($B19=\"\",M$2=\"\"),\"\",SUMIFS(Итого,Подкатегория,Расходный!K$1,Д_А,Таблица!$B19))","v":""},{"$f":"IF(OR($B19=\"\",N$2=\"\"),\"\",SUMIFS(Итого,Подкатегория,Расходный!L$1,Д_А,Таблица!$B19))","v":""},{"$f":"IF(OR($B19=\"\",O$2=\"\"),\"\",SUMIFS(Итого,Подкатегория,Расходный!M$1,Д_А,Таблица!$B19))","v":""},{"$f":"IF(OR($B19=\"\",P$2=\"\"),\"\",SUMIFS(Итого,Подкатегория,Расходный!N$1,Д_А,Таблица!$B19))","v":""},{"$f":"IF(OR($B19=\"\",Q$2=\"\"),\"\",SUMIFS(Итого,Подкатегория,Расходный!O$1,Д_А,Таблица!$B19))","v":""}]
[null,"2015-10-18",{"$f":"IF(OR($B20=\"\",C$2=\"\"),\"\",SUMIFS(Итого,Подкатегория,Расходный!A$1,Д_А,Таблица!$B20))","v":0},{"$f":"IF(OR($B20=\"\",D$2=\"\"),\"\",SUMIFS(Итого,Подкатегория,Расходный!B$1,Д_А,Таблица!$B20))","v":0},{"$f":"IF(OR($B20=\"\",E$2=\"\"),\"\",SUMIFS(Итого,Подкатегория,Расходный!C$1,Д_А,Таблица!$B20))","v":0},{"$f":"IF(OR($B20=\"\",F$2=\"\"),\"\",SUMIFS(Итого,Подкатегория,Расходный!D$1,Д_А,Таблица!$B20))","v":0},{"$f":"IF(OR($B20=\"\",G$2=\"\"),\"\",SUMIFS(Итого,Подкатегория,Расходный!E$1,Д_А,Таблица!$B20))","v":0},{"$f":"IF(OR($B20=\"\",H$2=\"\"),\"\",SUMIFS(Итого,Подкатегория,Расходный!F$1,Д_А,Таблица!$B20))","v":""},{"$f":"IF(OR($B20=\"\",I$2=\"\"),\"\",SUMIFS(Итого,Подкатегория,Расходный!G$1,Д_А,Таблица!$B20))","v":""},{"$f":"IF(OR($B20=\"\",J$2=\"\"),\"\",SUMIFS(Итого,Подкатегория,Расходный!H$1,Д_А,Таблица!$B20))","v":""},{"$f":"IF(OR($B20=\"\",K$2=\"\"),\"\",SUMIFS(Итого,Подкатегория,Расходный!I$1,Д_А,Таблица!$B20))","v":""},{"$f":"IF(OR($B20=\"\",L$2=\"\"),\"\",SUMIFS(Итого,Подкатегория,Расходный!J$1,Д_А,Таблица!$B20))","v":""},{"$f":"IF(OR($B20=\"\",M$2=\"\"),\"\",SUMIFS(Итого,Подкатегория,Расходный!K$1,Д_А,Таблица!$B20))","v":""},{"$f":"IF(OR($B20=\"\",N$2=\"\"),\"\",SUMIFS(Итого,Подкатегория,Расходный!L$1,Д_А,Таблица!$B20))","v":""},{"$f":"IF(OR($B20=\"\",O$2=\"\"),\"\",SUMIFS(Итого,Подкатегория,Расходный!M$1,Д_А,Таблица!$B20))","v":""},{"$f":"IF(OR($B20=\"\",P$2=\"\"),\"\",SUMIFS(Итого,Подкатегория,Расходный!N$1,Д_А,Таблица!$B20))","v":""},{"$f":"IF(OR($B20=\"\",Q$2=\"\"),\"\",SUMIFS(Итого,Подкатегория,Расходный!O$1,Д_А,Таблица!$B20))","v":""}]
[null,"2015-10-19",{"$f":"IF(OR($B21=\"\",C$2=\"\"),\"\",SUMIFS(Итого,Подкатегория,Расходный!A$1,Д_А,Таблица!$B21))","v":0},{"$f":"IF(OR($B21=\"\",D$2=\"\"),\"\",SUMIFS(Итого,Подкатегория,Расходный!B$1,Д_А,Таблица!$B21))","v":0},{"$f":"IF(OR($B21=\"\",E$2=\"\"),\"\",SUMIFS(Итого,Подкатегория,Расходный!C$1,Д_А,Таблица!$B21))","v":0},{"$f":"IF(OR($B21=\"\",F$2=\"\"),\"\",SUMIFS(Итого,Подкатегория,Расходный!D$1,Д_А,Таблица!$B21))","v":0},{"$f":"IF(OR($B21=\"\",G$2=\"\"),\"\",SUMIFS(Итого,Подкатегория,Расходный!E$1,Д_А,Таблица!$B21))","v":0},{"$f":"IF(OR($B21=\"\",H$2=\"\"),\"\",SUMIFS(Итого,Подкатегория,Расходный!F$1,Д_А,Таблица!$B21))","v":""},{"$f":"IF(OR($B21=\"\",I$2=\"\"),\"\",SUMIFS(Итого,Подкатегория,Расходный!G$1,Д_А,Таблица!$B21))","v":""},{"$f":"IF(OR($B21=\"\",J$2=\"\"),\"\",SUMIFS(Итого,Подкатегория,Расходный!H$1,Д_А,Таблица!$B21))","v":""},{"$f":"IF(OR($B21=\"\",K$2=\"\"),\"\",SUMIFS(Итого,Подкатегория,Расходный!I$1,Д_А,Таблица!$B21))","v":""},{"$f":"IF(OR($B21=\"\",L$2=\"\"),\"\",SUMIFS(Итого,Подкатегория,Расходный!J$1,Д_А,Таблица!$B21))","v":""},{"$f":"IF(OR($B21=\"\",M$2=\"\"),\"\",SUMIFS(Итого,Подкатегория,Расходный!K$1,Д_А,Таблица!$B21))","v":""},{"$f":"IF(OR($B21=\"\",N$2=\"\"),\"\",SUMIFS(Итого,Подкатегория,Расходный!L$1,Д_А,Таблица!$B21))","v":""},{"$f":"IF(OR($B21=\"\",O$2=\"\"),\"\",SUMIFS(Итого,Подкатегория,Расходный!M$1,Д_А,Таблица!$B21))","v":""},{"$f":"IF(OR($B21=\"\",P$2=\"\"),\"\",SUMIFS(Итого,Подкатегория,Расходный!N$1,Д_А,Таблица!$B21))","v":""},{"$f":"IF(OR($B21=\"\",Q$2=\"\"),\"\",SUMIFS(Итого,Подкатегория,Расходный!O$1,Д_А,Таблица!$B21))","v":""}]
[null,"2015-10-20",{"$f":"IF(OR($B22=\"\",C$2=\"\"),\"\",SUMIFS(Итого,Подкатегория,Расходный!A$1,Д_А,Таблица!$B22))","v":0},{"$f":"IF(OR($B22=\"\",D$2=\"\"),\"\",SUMIFS(Итого,Подкатегория,Расходный!B$1,Д_А,Таблица!$B22))","v":0},{"$f":"IF(OR($B22=\"\",E$2=\"\"),\"\",SUMIFS(Итого,Подкатегория,Расходный!C$1,Д_А,Таблица!$B22))","v":0},{"$f":"IF(OR($B22=\"\",F$2=\"\"),\"\",SUMIFS(Итого,Подкатегория,Расходный!D$1,Д_А,Таблица!$B22))","v":0},{"$f":"IF(OR($B22=\"\",G$2=\"\"),\"\",SUMIFS(Итого,Подкатегория,Расходный!E$1,Д_А,Таблица!$B22))","v":0},{"$f":"IF(OR($B22=\"\",H$2=\"\"),\"\",SUMIFS(Итого,Подкатегория,Расходный!F$1,Д_А,Таблица!$B22))","v":""},{"$f":"IF(OR($B22=\"\",I$2=\"\"),\"\",SUMIFS(Итого,Подкатегория,Расходный!G$1,Д_А,Таблица!$B22))","v":""},{"$f":"IF(OR($B22=\"\",J$2=\"\"),\"\",SUMIFS(Итого,Подкатегория,Расходный!H$1,Д_А,Таблица!$B22))","v":""},{"$f":"IF(OR($B22=\"\",K$2=\"\"),\"\",SUMIFS(Итого,Подкатегория,Расходный!I$1,Д_А,Таблица!$B22))","v":""},{"$f":"IF(OR($B22=\"\",L$2=\"\"),\"\",SUMIFS(Итого,Подкатегория,Расходный!J$1,Д_А,Таблица!$B22))","v":""},{"$f":"IF(OR($B22=\"\",M$2=\"\"),\"\",SUMIFS(Итого,Подкатегория,Расходный!K$1,Д_А,Таблица!$B22))","v":""},{"$f":"IF(OR($B22=\"\",N$2=\"\"),\"\",SUMIFS(Итого,Подкатегория,Расходный!L$1,Д_А,Таблица!$B22))","v":""},{"$f":"IF(OR($B22=\"\",O$2=\"\"),\"\",SUMIFS(Итого,Подкатегория,Расходный!M$1,Д_А,Таблица!$B22))","v":""},{"$f":"IF(OR($B22=\"\",P$2=\"\"),\"\",SUMIFS(Итого,Подкатегория,Расходный!N$1,Д_А,Таблица!$B22))","v":""},{"$f":"IF(OR($B22=\"\",Q$2=\"\"),\"\",SUMIFS(Итого,Подкатегория,Расходный!O$1,Д_А,Таблица!$B22))","v":""}]
[null,"2015-10-21",{"$f":"IF(OR($B23=\"\",C$2=\"\"),\"\",SUMIFS(Итого,Подкатегория,Расходный!A$1,Д_А,Таблица!$B23))","v":0},{"$f":"IF(OR($B23=\"\",D$2=\"\"),\"\",SUMIFS(Итого,Подкатегория,Расходный!B$1,Д_А,Таблица!$B23))","v":0},{"$f":"IF(OR($B23=\"\",E$2=\"\"),\"\",SUMIFS(Итого,Подкатегория,Расходный!C$1,Д_А,Таблица!$B23))","v":0},{"$f":"IF(OR($B23=\"\",F$2=\"\"),\"\",SUMIFS(Итого,Подкатегория,Расходный!D$1,Д_А,Таблица!$B23))","v":0},{"$f":"IF(OR($B23=\"\",G$2=\"\"),\"\",SUMIFS(Итого,Подкатегория,Расходный!E$1,Д_А,Таблица!$B23))","v":0},{"$f":"IF(OR($B23=\"\",H$2=\"\"),\"\",SUMIFS(Итого,Подкатегория,Расходный!F$1,Д_А,Таблица!$B23))","v":""},{"$f":"IF(OR($B23=\"\",I$2=\"\"),\"\",SUMIFS(Итого,Подкатегория,Расходный!G$1,Д_А,Таблица!$B23))","v":""},{"$f":"IF(OR($B23=\"\",J$2=\"\"),\"\",SUMIFS(Итого,Подкатегория,Расходный!H$1,Д_А,Таблица!$B23))","v":""},{"$f":"IF(OR($B23=\"\",K$2=\"\"),\"\",SUMIFS(Итого,Подкатегория,Расходный!I$1,Д_А,Таблица!$B23))","v":""},{"$f":"IF(OR($B23=\"\",L$2=\"\"),\"\",SUMIFS(Итого,Подкатегория,Расходный!J$1,Д_А,Таблица!$B23))","v":""},{"$f":"IF(OR($B23=\"\",M$2=\"\"),\"\",SUMIFS(Итого,Подкатегория,Расходный!K$1,Д_А,Таблица!$B23))","v":""},{"$f":"IF(OR($B23=\"\",N$2=\"\"),\"\",SUMIFS(Итого,Подкатегория,Расходный!L$1,Д_А,Таблица!$B23))","v":""},{"$f":"IF(OR($B23=\"\",O$2=\"\"),\"\",SUMIFS(Итого,Подкатегория,Расходный!M$1,Д_А,Таблица!$B23))","v":""},{"$f":"IF(OR($B23=\"\",P$2=\"\"),\"\",SUMIFS(Итого,Подкатегория,Расходный!N$1,Д_А,Таблица!$B23))","v":""},{"$f":"IF(OR($B23=\"\",Q$2=\"\"),\"\",SUMIFS(Итого,Подкатегория,Расходный!O$1,Д_А,Таблица!$B23))","v":""}]
[null,"2015-10-22",{"$f":"IF(OR($B24=\"\",C$2=\"\"),\"\",SUMIFS(Итого,Подкатегория,Расходный!A$1,Д_А,Таблица!$B24))","v":0},{"$f":"IF(OR($B24=\"\",D$2=\"\"),\"\",SUMIFS(Итого,Подкатегория,Расходный!B$1,Д_А,Таблица!$B24))","v":0},{"$f":"IF(OR($B24=\"\",E$2=\"\"),\"\",SUMIFS(Итого,Подкатегория,Расходный!C$1,Д_А,Таблица!$B24))","v":0},{"$f":"IF(OR($B24=\"\",F$2=\"\"),\"\",SUMIFS(Итого,Подкатегория,Расходный!D$1,Д_А,Таблица!$B24))","v":0},{"$f":"IF(OR($B24=\"\",G$2=\"\"),\"\",SUMIFS(Итого,Подкатегория,Расходный!E$1,Д_А,Таблица!$B24))","v":0},{"$f":"IF(OR($B24=\"\",H$2=\"\"),\"\",SUMIFS(Итого,Подкатегория,Расходный!F$1,Д_А,Таблица!$B24))","v":""},{"$f":"IF(OR($B24=\"\",I$2=\"\"),\"\",SUMIFS(Итого,Подкатегория,Расходный!G$1,Д_А,Таблица!$B24))","v":""},{"$f":"IF(OR($B24=\"\",J$2=\"\"),\"\",SUMIFS(Итого,Подкатегория,Расходный!H$1,Д_А,Таблица!$B24))","v":""},{"$f":"IF(OR($B24=\"\",K$2=\"\"),\"\",SUMIFS(Итого,Подкатегория,Расходный!I$1,Д_А,Таблица!$B24))","v":""},{"$f":"IF(OR($B24=\"\",L$2=\"\"),\"\",SUMIFS(Итого,Подкатегория,Расходный!J$1,Д_А,Таблица!$B24))","v":""},{"$f":"IF(OR($B24=\"\",M$2=\"\"),\"\",SUMIFS(Итого,Подкатегория,Расходный!K$1,Д_А,Таблица!$B24))","v":""},{"$f":"IF(OR($B24=\"\",N$2=\"\"),\"\",SUMIFS(Итого,Подкатегория,Расходный!L$1,Д_А,Таблица!$B24))","v":""},{"$f":"IF(OR($B24=\"\",O$2=\"\"),\"\",SUMIFS(Итого,Подкатегория,Расходный!M$1,Д_А,Таблица!$B24))","v":""},{"$f":"IF(OR($B24=\"\",P$2=\"\"),\"\",SUMIFS(Итого,Подкатегория,Расходный!N$1,Д_А,Таблица!$B24))","v":""},{"$f":"IF(OR($B24=\"\",Q$2=\"\"),\"\",SUMIFS(Итого,Подкатегория,Расходный!O$1,Д_А,Таблица!$B24))","v":""}]
[null,"2015-10-23",{"$f":"IF(OR($B25=\"\",C$2=\"\"),\"\",SUMIFS(Итого,Подкатегория,Расходный!A$1,Д_А,Таблица!$B25))","v":0},{"$f":"IF(OR($B25=\"\",D$2=\"\"),\"\",SUMIFS(Итого,Подкатегория,Расходный!B$1,Д_А,Таблица!$B25))","v":0},{"$f":"IF(OR($B25=\"\",E$2=\"\"),\"\",SUMIFS(Итого,Подкатегория,Расходный!C$1,Д_А,Таблица!$B25))","v":0},{"$f":"IF(OR($B25=\"\",F$2=\"\"),\"\",SUMIFS(Итого,Подкатегория,Расходный!D$1,Д_А,Таблица!$B25))","v":0},{"$f":"IF(OR($B25=\"\",G$2=\"\"),\"\",SUMIFS(Итого,Подкатегория,Расходный!E$1,Д_А,Таблица!$B25))","v":0},{"$f":"IF(OR($B25=\"\",H$2=\"\"),\"\",SUMIFS(Итого,Подкатегория,Расходный!F$1,Д_А,Таблица!$B25))","v":""},{"$f":"IF(OR($B25=\"\",I$2=\"\"),\"\",SUMIFS(Итого,Подкатегория,Расходный!G$1,Д_А,Таблица!$B25))","v":""},{"$f":"IF(OR($B25=\"\",J$2=\"\"),\"\",SUMIFS(Итого,Подкатегория,Расходный!H$1,Д_А,Таблица!$B25))","v":""},{"$f":"IF(OR($B25=\"\",K$2=\"\"),\"\",SUMIFS(Итого,Подкатегория,Расходный!I$1,Д_А,Таблица!$B25))","v":""},{"$f":"IF(OR($B25=\"\",L$2=\"\"),\"\",SUMIFS(Итого,Подкатегория,Расходный!J$1,Д_А,Таблица!$B25))","v":""},{"$f":"IF(OR($B25=\"\",M$2=\"\"),\"\",SUMIFS(Итого,Подкатегория,Расходный!K$1,Д_А,Таблица!$B25))","v":""},{"$f":"IF(OR($B25=\"\",N$2=\"\"),\"\",SUMIFS(Итого,Подкатегория,Расходный!L$1,Д_А,Таблица!$B25))","v":""},{"$f":"IF(OR($B25=\"\",O$2=\"\"),\"\",SUMIFS(Итого,Подкатегория,Расходный!M$1,Д_А,Таблица!$B25))","v":""},{"$f":"IF(OR($B25=\"\",P$2=\"\"),\"\",SUMIFS(Итого,Подкатегория,Расходный!N$1,Д_А,Таблица!$B25))","v":""},{"$f":"IF(OR($B25=\"\",Q$2=\"\"),\"\",SUMIFS(Итого,Подкатегория,Расходный!O$1,Д_А,Таблица!$B25))","v":""}]
[null,"2015-10-24",{"$f":"IF(OR($B26=\"\",C$2=\"\"),\"\",SUMIFS(Итого,Подкатегория,Расходный!A$1,Д_А,Таблица!$B26))","v":0},{"$f":"IF(OR($B26=\"\",D$2=\"\"),\"\",SUMIFS(Итого,Подкатегория,Расходный!B$1,Д_А,Таблица!$B26))","v":0},{"$f":"IF(OR($B26=\"\",E$2=\"\"),\"\",SUMIFS(Итого,Подкатегория,Расходный!C$1,Д_А,Таблица!$B26))","v":0},{"$f":"IF(OR($B26=\"\",F$2=\"\"),\"\",SUMIFS(Итого,Подкатегория,Расходный!D$1,Д_А,Таблица!$B26))","v":0},{"$f":"IF(OR($B26=\"\",G$2=\"\"),\"\",SUMIFS(Итого,Подкатегория,Расходный!E$1,Д_А,Таблица!$B26))","v":0},{"$f":"IF(OR($B26=\"\",H$2=\"\"),\"\",SUMIFS(Итого,Подкатегория,Расходный!F$1,Д_А,Таблица!$B26))","v":""},{"$f":"IF(OR($B26=\"\",I$2=\"\"),\"\",SUMIFS(Итого,Подкатегория,Расходный!G$1,Д_А,Таблица!$B26))","v":""},{"$f":"IF(OR($B26=\"\",J$2=\"\"),\"\",SUMIFS(Итого,Подкатегория,Расходный!H$1,Д_А,Таблица!$B26))","v":""},{"$f":"IF(OR($B26=\"\",K$2=\"\"),\"\",SUMIFS(Итого,Подкатегория,Расходный!I$1,Д_А,Таблица!$B26))","v":""},{"$f":"IF(OR($B26=\"\",L$2=\"\"),\"\",SUMIFS(Итого,Подкатегория,Расходный!J$1,Д_А,Таблица!$B26))","v":""},{"$f":"IF(OR($B26=\"\",M$2=\"\"),\"\",SUMIFS(Итого,Подкатегория,Расходный!K$1,Д_А,Таблица!$B26))","v":""},{"$f":"IF(OR($B26=\"\",N$2=\"\"),\"\",SUMIFS(Итого,Подкатегория,Расходный!L$1,Д_А,Таблица!$B26))","v":""},{"$f":"IF(OR($B26=\"\",O$2=\"\"),\"\",SUMIFS(Итого,Подкатегория,Расходный!M$1,Д_А,Таблица!$B26))","v":""},{"$f":"IF(OR($B26=\"\",P$2=\"\"),\"\",SUMIFS(Итого,Подкатегория,Расходный!N$1,Д_А,Таблица!$B26))","v":""},{"$f":"IF(OR($B26=\"\",Q$2=\"\"),\"\",SUMIFS(Итого,Подкатегория,Расходный!O$1,Д_А,Таблица!$B26))","v":""}]
[null,"2015-10-25",{"$f":"IF(OR($B27=\"\",C$2=\"\"),\"\",SUMIFS(Итого,Подкатегория,Расходный!A$1,Д_А,Таблица!$B27))","v":0},{"$f":"IF(OR($B27=\"\",D$2=\"\"),\"\",SUMIFS(Итого,Подкатегория,Расходный!B$1,Д_А,Таблица!$B27))","v":0},{"$f":"IF(OR($B27=\"\",E$2=\"\"),\"\",SUMIFS(Итого,Подкатегория,Расходный!C$1,Д_А,Таблица!$B27))","v":0},{"$f":"IF(OR($B27=\"\",F$2=\"\"),\"\",SUMIFS(Итого,Подкатегория,Расходный!D$1,Д_А,Таблица!$B27))","v":0},{"$f":"IF(OR($B27=\"\",G$2=\"\"),\"\",SUMIFS(Итого,Подкатегория,Расходный!E$1,Д_А,Таблица!$B27))","v":0},{"$f":"IF(OR($B27=\"\",H$2=\"\"),\"\",SUMIFS(Итого,Подкатегория,Расходный!F$1,Д_А,Таблица!$B27))","v":""},{"$f":"IF(OR($B27=\"\",I$2=\"\"),\"\",SUMIFS(Итого,Подкатегория,Расходный!G$1,Д_А,Таблица!$B27))","v":""},{"$f":"IF(OR($B27=\"\",J$2=\"\"),\"\",SUMIFS(Итого,Подкатегория,Расходный!H$1,Д_А,Таблица!$B27))","v":""},{"$f":"IF(OR($B27=\"\",K$2=\"\"),\"\",SUMIFS(Итого,Подкатегория,Расходный!I$1,Д_А,Таблица!$B27))","v":""},{"$f":"IF(OR($B27=\"\",L$2=\"\"),\"\",SUMIFS(Итого,Подкатегория,Расходный!J$1,Д_А,Таблица!$B27))","v":""},{"$f":"IF(OR($B27=\"\",M$2=\"\"),\"\",SUMIFS(Итого,Подкатегория,Расходный!K$1,Д_А,Таблица!$B27))","v":""},{"$f":"IF(OR($B27=\"\",N$2=\"\"),\"\",SUMIFS(Итого,Подкатегория,Расходный!L$1,Д_А,Таблица!$B27))","v":""},{"$f":"IF(OR($B27=\"\",O$2=\"\"),\"\",SUMIFS(Итого,Подкатегория,Расходный!M$1,Д_А,Таблица!$B27))","v":""},{"$f":"IF(OR($B27=\"\",P$2=\"\"),\"\",SUMIFS(Итого,Подкатегория,Расходный!N$1,Д_А,Таблица!$B27))","v":""},{"$f":"IF(OR($B27=\"\",Q$2=\"\"),\"\",SUMIFS(Итого,Подкатегория,Расходный!O$1,Д_А,Таблица!$B27))","v":""}]
[null,"2015-10-26",{"$f":"IF(OR($B28=\"\",C$2=\"\"),\"\",SUMIFS(Итого,Подкатегория,Расходный!A$1,Д_А,Таблица!$B28))","v":0},{"$f":"IF(OR($B28=\"\",D$2=\"\"),\"\",SUMIFS(Итого,Подкатегория,Расходный!B$1,Д_А,Таблица!$B28))","v":0},{"$f":"IF(OR($B28=\"\",E$2=\"\"),\"\",SUMIFS(Итого,Подкатегория,Расходный!C$1,Д_А,Таблица!$B28))","v":0},{"$f":"IF(OR($B28=\"\",F$2=\"\"),\"\",SUMIFS(Итого,Подкатегория,Расходный!D$1,Д_А,Таблица!$B28))","v":0},{"$f":"IF(OR($B28=\"\",G$2=\"\"),\"\",SUMIFS(Итого,Подкатегория,Расходный!E$1,Д_А,Таблица!$B28))","v":0},{"$f":"IF(OR($B28=\"\",H$2=\"\"),\"\",SUMIFS(Итого,Подкатегория,Расходный!F$1,Д_А,Таблица!$B28))","v":""},{"$f":"IF(OR($B28=\"\",I$2=\"\"),\"\",SUMIFS(Итого,Подкатегория,Расходный!G$1,Д_А,Таблица!$B28))","v":""},{"$f":"IF(OR($B28=\"\",J$2=\"\"),\"\",SUMIFS(Итого,Подкатегория,Расходный!H$1,Д_А,Таблица!$B28))","v":""},{"$f":"IF(OR($B28=\"\",K$2=\"\"),\"\",SUMIFS(Итого,Подкатегория,Расходный!I$1,Д_А,Таблица!$B28))","v":""},{"$f":"IF(OR($B28=\"\",L$2=\"\"),\"\",SUMIFS(Итого,Подкатегория,Расходный!J$1,Д_А,Таблица!$B28))","v":""},{"$f":"IF(OR($B28=\"\",M$2=\"\"),\"\",SUMIFS(Итого,Подкатегория,Расходный!K$1,Д_А,Таблица!$B28))","v":""},{"$f":"IF(OR($B28=\"\",N$2=\"\"),\"\",SUMIFS(Итого,Подкатегория,Расходный!L$1,Д_А,Таблица!$B28))","v":""},{"$f":"IF(OR($B28=\"\",O$2=\"\"),\"\",SUMIFS(Итого,Подкатегория,Расходный!M$1,Д_А,Таблица!$B28))","v":""},{"$f":"IF(OR($B28=\"\",P$2=\"\"),\"\",SUMIFS(Итого,Подкатегория,Расходный!N$1,Д_А,Таблица!$B28))","v":""},{"$f":"IF(OR($B28=\"\",Q$2=\"\"),\"\",SUMIFS(Итого,Подкатегория,Расходный!O$1,Д_А,Таблица!$B28))","v":""}]
[null,"2015-10-27",{"$f":"IF(OR($B29=\"\",C$2=\"\"),\"\",SUMIFS(Итого,Подкатегория,Расходный!A$1,Д_А,Таблица!$B29))","v":0},{"$f":"IF(OR($B29=\"\",D$2=\"\"),\"\",SUMIFS(Итого,Подкатегория,Расходный!B$1,Д_А,Таблица!$B29))","v":0},{"$f":"IF(OR($B29=\"\",E$2=\"\"),\"\",SUMIFS(Итого,Подкатегория,Расходный!C$1,Д_А,Таблица!$B29))","v":0},{"$f":"IF(OR($B29=\"\",F$2=\"\"),\"\",SUMIFS(Итого,Подкатегория,Расходный!D$1,Д_А,Таблица!$B29))","v":0},{"$f":"IF(OR($B29=\"\",G$2=\"\"),\"\",SUMIFS(Итого,Подкатегория,Расходный!E$1,Д_А,Таблица!$B29))","v":0},{"$f":"IF(OR($B29=\"\",H$2=\"\"),\"\",SUMIFS(Итого,Подкатегория,Расходный!F$1,Д_А,Таблица!$B29))","v":""},{"$f":"IF(OR($B29=\"\",I$2=\"\"),\"\",SUMIFS(Итого,Подкатегория,Расходный!G$1,Д_А,Таблица!$B29))","v":""},{"$f":"IF(OR($B29=\"\",J$2=\"\"),\"\",SUMIFS(Итого,Подкатегория,Расходный!H$1,Д_А,Таблица!$B29))","v":""},{"$f":"IF(OR($B29=\"\",K$2=\"\"),\"\",SUMIFS(Итого,Подкатегория,Расходный!I$1,Д_А,Таблица!$B29))","v":""},{"$f":"IF(OR($B29=\"\",L$2=\"\"),\"\",SUMIFS(Итого,Подкатегория,Расходный!J$1,Д_А,Таблица!$B29))","v":""},{"$f":"IF(OR($B29=\"\",M$2=\"\"),\"\",SUMIFS(Итого,Подкатегория,Расходный!K$1,Д_А,Таблица!$B29))","v":""},{"$f":"IF(OR($B29=\"\",N$2=\"\"),\"\",SUMIFS(Итого,Подкатегория,Расходный!L$1,Д_А,Таблица!$B29))","v":""},{"$f":"IF(OR($B29=\"\",O$2=\"\"),\"\",SUMIFS(Итого,Подкатегория,Расходный!M$1,Д_А,Таблица!$B29))","v":""},{"$f":"IF(OR($B29=\"\",P$2=\"\"),\"\",SUMIFS(Итого,Подкатегория,Расходный!N$1,Д_А,Таблица!$B29))","v":""},{"$f":"IF(OR($B29=\"\",Q$2=\"\"),\"\",SUMIFS(Итого,Подкатегория,Расходный!O$1,Д_А,Таблица!$B29))","v":""}]
[null,"2015-10-28",{"$f":"IF(OR($B30=\"\",C$2=\"\"),\"\",SUMIFS(Итого,Подкатегория,Расходный!A$1,Д_А,Таблица!$B30))","v":0},{"$f":"IF(OR($B30=\"\",D$2=\"\"),\"\",SUMIFS(Итого,Подкатегория,Расходный!B$1,Д_А,Таблица!$B30))","v":0},{"$f":"IF(OR($B30=\"\",E$2=\"\"),\"\",SUMIFS(Итого,Подкатегория,Расходный!C$1,Д_А,Таблица!$B30))","v":0},{"$f":"IF(OR($B30=\"\",F$2=\"\"),\"\",SUMIFS(Итого,Подкатегория,Расходный!D$1,Д_А,Таблица!$B30))","v":0},{"$f":"IF(OR($B30=\"\",G$2=\"\"),\"\",SUMIFS(Итого,Подкатегория,Расходный!E$1,Д_А,Таблица!$B30))","v":0},{"$f":"IF(OR($B30=\"\",H$2=\"\"),\"\",SUMIFS(Итого,Подкатегория,Расходный!F$1,Д_А,Таблица!$B30))","v":""},{"$f":"IF(OR($B30=\"\",I$2=\"\"),\"\",SUMIFS(Итого,Подкатегория,Расходный!G$1,Д_А,Таблица!$B30))","v":""},{"$f":"IF(OR($B30=\"\",J$2=\"\"),\"\",SUMIFS(Итого,Подкатегория,Расходный!H$1,Д_А,Таблица!$B30))","v":""},{"$f":"IF(OR($B30=\"\",K$2=\"\"),\"\",SUMIFS(Итого,Подкатегория,Расходный!I$1,Д_А,Таблица!$B30))","v":""},{"$f":"IF(OR($B30=\"\",L$2=\"\"),\"\",SUMIFS(Итого,Подкатегория,Расходный!J$1,Д_А,Таблица!$B30))","v":""},{"$f":"IF(OR($B30=\"\",M$2=\"\"),\"\",SUMIFS(Итого,Подкатегория,Расходный!K$1,Д_А,Таблица!$B30))","v":""},{"$f":"IF(OR($B30=\"\",N$2=\"\"),\"\",SUMIFS(Итого,Подкатегория,Расходный!L$1,Д_А,Таблица!$B30))","v":""},{"$f":"IF(OR($B30=\"\",O$2=\"\"),\"\",SUMIFS(Итого,Подкатегория,Расходный!M$1,Д_А,Таблица!$B30))","v":""},{"$f":"IF(OR($B30=\"\",P$2=\"\"),\"\",SUMIFS(Итого,Подкатегория,Расходный!N$1,Д_А,Таблица!$B30))","v":""},{"$f":"IF(OR($B30=\"\",Q$2=\"\"),\"\",SUMIFS(Итого,Подкатегория,Расходный!O$1,Д_А,Таблица!$B30))","v":""}]
[null,{"$f":"IF(OR(B30=\"Итого\",B30=\"\"),\"\",IF(B30=EOMONTH($B$3,0),\"Итого\",DATE($C$1,$A$1,ROW(A29))))","v":"2015-10-29"},{"$f":"IF($B31=\"\",\"\",IF(C$2=\"\",\"\",IF($B31=\"Итого\",SUM(C$3:C30),SUMIFS(Итого,Подкатегория,Расходный!A$1,Д_А,Таблица!$B31))))","v":0},{"$f":"IF($B31=\"\",\"\",IF(D$2=\"\",\"\",IF($B31=\"Итого\",SUM(D$3:D30),SUMIFS(Итого,Подкатегория,Расходный!B$1,Д_А,Таблица!$B31))))","v":0},{"$f":"IF($B31=\"\",\"\",IF(E$2=\"\",\"\",IF($B31=\"Итого\",SUM(E$3:E30),SUMIFS(Итого,Подкатегория,Расходный!C$1,Д_А,Таблица!$B31))))","v":0},{"$f":"IF($B31=\"\",\"\",IF(F$2=\"\",\"\",IF($B31=\"Итого\",SUM(F$3:F30),SUMIFS(Итого,Подкатегория,Расходный!D$1,Д_А,Таблица!$B31))))","v":0},{"$f":"IF($B31=\"\",\"\",IF(G$2=\"\",\"\",IF($B31=\"Итого\",SUM(G$3:G30),SUMIFS(Итого,Подкатегория,Расходный!E$1,Д_А,Таблица!$B31))))","v":0},{"$f":"IF($B31=\"\",\"\",IF(H$2=\"\",\"\",IF($B31=\"Итого\",SUM(H$3:H30),SUMIFS(Итого,Подкатегория,Расходный!F$1,Д_А,Таблица!$B31))))","v":""},{"$f":"IF($B31=\"\",\"\",IF(I$2=\"\",\"\",IF($B31=\"Итого\",SUM(I$3:I30),SUMIFS(Итого,Подкатегория,Расходный!G$1,Д_А,Таблица!$B31))))","v":""},{"$f":"IF($B31=\"\",\"\",IF(J$2=\"\",\"\",IF($B31=\"Итого\",SUM(J$3:J30),SUMIFS(Итого,Подкатегория,Расходный!H$1,Д_А,Таблица!$B31))))","v":""},{"$f":"IF($B31=\"\",\"\",IF(K$2=\"\",\"\",IF($B31=\"Итого\",SUM(K$3:K30),SUMIFS(Итого,Подкатегория,Расходный!I$1,Д_А,Таблица!$B31))))","v":""},{"$f":"IF($B31=\"\",\"\",IF(L$2=\"\",\"\",IF($B31=\"Итого\",SUM(L$3:L30),SUMIFS(Итого,Подкатегория,Расходный!J$1,Д_А,Таблица!$B31))))","v":""},{"$f":"IF($B31=\"\",\"\",IF(M$2=\"\",\"\",IF($B31=\"Итого\",SUM(M$3:M30),SUMIFS(Итого,Подкатегория,Расходный!K$1,Д_А,Таблица!$B31))))","v":""},{"$f":"IF($B31=\"\",\"\",IF(N$2=\"\",\"\",IF($B31=\"Итого\",SUM(N$3:N30),SUMIFS(Итого,Подкатегория,Расходный!L$1,Д_А,Таблица!$B31))))","v":""},{"$f":"IF($B31=\"\",\"\",IF(O$2=\"\",\"\",IF($B31=\"Итого\",SUM(O$3:O30),SUMIFS(Итого,Подкатегория,Расходный!M$1,Д_А,Таблица!$B31))))","v":""},{"$f":"IF($B31=\"\",\"\",IF(P$2=\"\",\"\",IF($B31=\"Итого\",SUM(P$3:P30),SUMIFS(Итого,Подкатегория,Расходный!N$1,Д_А,Таблица!$B31))))","v":""},{"$f":"IF($B31=\"\",\"\",IF(Q$2=\"\",\"\",IF($B31=\"Итого\",SUM(Q$3:Q30),SUMIFS(Итого,Подкатегория,Расходный!O$1,Д_А,Таблица!$B31))))","v":""}]
[null,{"$f":"IF(OR(B31=\"Итого\",B31=\"\"),\"\",IF(B31=EOMONTH($B$3,0),\"Итого\",DATE($C$1,$A$1,ROW(A30))))","v":"2015-10-30"},{"$f":"IF($B32=\"\",\"\",IF(C$2=\"\",\"\",IF($B32=\"Итого\",SUM(C$3:C31),SUMIFS(Итого,Подкатегория,Расходный!A$1,Д_А,Таблица!$B32))))","v":0},{"$f":"IF($B32=\"\",\"\",IF(D$2=\"\",\"\",IF($B32=\"Итого\",SUM(D$3:D31),SUMIFS(Итого,Подкатегория,Расходный!B$1,Д_А,Таблица!$B32))))","v":0},{"$f":"IF($B32=\"\",\"\",IF(E$2=\"\",\"\",IF($B32=\"Итого\",SUM(E$3:E31),SUMIFS(Итого,Подкатегория,Расходный!C$1,Д_А,Таблица!$B32))))","v":0},{"$f":"IF($B32=\"\",\"\",IF(F$2=\"\",\"\",IF($B32=\"Итого\",SUM(F$3:F31),SUMIFS(Итого,Подкатегория,Расходный!D$1,Д_А,Таблица!$B32))))","v":0},{"$f":"IF($B32=\"\",\"\",IF(G$2=\"\",\"\",IF($B32=\"Итого\",SUM(G$3:G31),SUMIFS(Итого,Подкатегория,Расходный!E$1,Д_А,Таблица!$B32))))","v":0},{"$f":"IF($B32=\"\",\"\",IF(H$2=\"\",\"\",IF($B32=\"Итого\",SUM(H$3:H31),SUMIFS(Итого,Подкатегория,Расходный!F$1,Д_А,Таблица!$B32))))","v":""},{"$f":"IF($B32=\"\",\"\",IF(I$2=\"\",\"\",IF($B32=\"Итого\",SUM(I$3:I31),SUMIFS(Итого,Подкатегория,Расходный!G$1,Д_А,Таблица!$B32))))","v":""},{"$f":"IF($B32=\"\",\"\",IF(J$2=\"\",\"\",IF($B32=\"Итого\",SUM(J$3:J31),SUMIFS(Итого,Подкатегория,Расходный!H$1,Д_А,Таблица!$B32))))","v":""},{"$f":"IF($B32=\"\",\"\",IF(K$2=\"\",\"\",IF($B32=\"Итого\",SUM(K$3:K31),SUMIFS(Итого,Подкатегория,Расходный!I$1,Д_А,Таблица!$B32))))","v":""},{"$f":"IF($B32=\"\",\"\",IF(L$2=\"\",\"\",IF($B32=\"Итого\",SUM(L$3:L31),SUMIFS(Итого,Подкатегория,Расходный!J$1,Д_А,Таблица!$B32))))","v":""},{"$f":"IF($B32=\"\",\"\",IF(M$2=\"\",\"\",IF($B32=\"Итого\",SUM(M$3:M31),SUMIFS(Итого,Подкатегория,Расходный!K$1,Д_А,Таблица!$B32))))","v":""},{"$f":"IF($B32=\"\",\"\",IF(N$2=\"\",\"\",IF($B32=\"Итого\",SUM(N$3:N31),SUMIFS(Итого,Подкатегория,Расходный!L$1,Д_А,Таблица!$B32))))","v":""},{"$f":"IF($B32=\"\",\"\",IF(O$2=\"\",\"\",IF($B32=\"Итого\",SUM(O$3:O31),SUMIFS(Итого,Подкатегория,Расходный!M$1,Д_А,Таблица!$B32))))","v":""},{"$f":"IF($B32=\"\",\"\",IF(P$2=\"\",\"\",IF($B32=\"Итого\",SUM(P$3:P31),SUMIFS(Итого,Подкатегория,Расходный!N$1,Д_А,Таблица!$B32))))","v":""},{"$f":"IF($B32=\"\",\"\",IF(Q$2=\"\",\"\",IF($B32=\"Итого\",SUM(Q$3:Q31),SUMIFS(Итого,Подкатегория,Расходный!O$1,Д_А,Таблица!$B32))))","v":""}]
[null,"2015-10-31",{"$f":"IF($B33=\"\",\"\",IF(C$2=\"\",\"\",IF($B33=\"Итого\",SUM(C$3:C32),SUMIFS(Итого,Подкатегория,Расходный!A$1,Д_А,Таблица!$B33))))","v":0},{"$f":"IF($B33=\"\",\"\",IF(D$2=\"\",\"\",IF($B33=\"Итого\",SUM(D$3:D32),SUMIFS(Итого,Подкатегория,Расходный!B$1,Д_А,Таблица!$B33))))","v":0},{"$f":"IF($B33=\"\",\"\",IF(E$2=\"\",\"\",IF($B33=\"Итого\",SUM(E$3:E32),SUMIFS(Итого,Подкатегория,Расходный!C$1,Д_А,Таблица!$B33))))","v":0},{"$f":"IF($B33=\"\",\"\",IF(F$2=\"\",\"\",IF($B33=\"Итого\",SUM(F$3:F32),SUMIFS(Итого,Подкатегория,Расходный!D$1,Д_А,Таблица!$B33))))","v":0},{"$f":"IF($B33=\"\",\"\",IF(G$2=\"\",\"\",IF($B33=\"Итого\",SUM(G$3:G32),SUMIFS(Итого,Подкатегория,Расходный!E$1,Д_А,Таблица!$B33))))","v":0},{"$f":"IF($B33=\"\",\"\",IF(H$2=\"\",\"\",IF($B33=\"Итого\",SUM(H$3:H32),SUMIFS(Итого,Подкатегория,Расходный!F$1,Д_А,Таблица!$B33))))","v":""},{"$f":"IF($B33=\"\",\"\",IF(I$2=\"\",\"\",IF($B33=\"Итого\",SUM(I$3:I32),SUMIFS(Итого,Подкатегория,Расходный!G$1,Д_А,Таблица!$B33))))","v":""},{"$f":"IF($B33=\"\",\"\",IF(J$2=\"\",\"\",IF($B33=\"Итого\",SUM(J$3:J32),SUMIFS(Итого,Подкатегория,Расходный!H$1,Д_А,Таблица!$B33))))","v":""},{"$f":"IF($B33=\"\",\"\",IF(K$2=\"\",\"\",IF($B33=\"Итого\",SUM(K$3:K32),SUMIFS(Итого,Подкатегория,Расходный!I$1,Д_А,Таблица!$B33))))","v":""},{"$f":"IF($B33=\"\",\"\",IF(L$2=\"\",\"\",IF($B33=\"Итого\",SUM(L$3:L32),SUMIFS(Итого,Подкатегория,Расходный!J$1,Д_А,Таблица!$B33))))","v":""},{"$f":"IF($B33=\"\",\"\",IF(M$2=\"\",\"\",IF($B33=\"Итого\",SUM(M$3:M32),SUMIFS(Итого,Подкатегория,Расходный!K$1,Д_А,Таблица!$B33))))","v":""},{"$f":"IF($B33=\"\",\"\",IF(N$2=\"\",\"\",IF($B33=\"Итого\",SUM(N$3:N32),SUMIFS(Итого,Подкатегория,Расходный!L$1,Д_А,Таблица!$B33))))","v":""},{"$f":"IF($B33=\"\",\"\",IF(O$2=\"\",\"\",IF($B33=\"Итого\",SUM(O$3:O32),SUMIFS(Итого,Подкатегория,Расходный!M$1,Д_А,Таблица!$B33))))","v":""},{"$f":"IF($B33=\"\",\"\",IF(P$2=\"\",\"\",IF($B33=\"Итого\",SUM(P$3:P32),SUMIFS(Итого,Подкатегория,Расходный!N$1,Д_А,Таблица!$B33))))","v":""},{"$f":"IF($B33=\"\",\"\",IF(Q$2=\"\",\"\",IF($B33=\"Итого\",SUM(Q$3:Q32),SUMIFS(Итого,Подкатегория,Расходный!O$1,Д_А,Таблица!$B33))))","v":""}]
[null,"Итого",{"$f":"IF($B34=\"\",\"\",IF(C$2=\"\",\"\",IF($B34=\"Итого\",SUM(C$3:C33),SUMIFS(Итого,Подкатегория,Расходный!A$1,Д_А,Таблица!$B34))))","v":0},{"$f":"IF($B34=\"\",\"\",IF(D$2=\"\",\"\",IF($B34=\"Итого\",SUM(D$3:D33),SUMIFS(Итого,Подкатегория,Расходный!B$1,Д_А,Таблица!$B34))))","v":0},{"$f":"IF($B34=\"\",\"\",IF(E$2=\"\",\"\",IF($B34=\"Итого\",SUM(E$3:E33),SUMIFS(Итого,Подкатегория,Расходный!C$1,Д_А,Таблица!$B34))))","v":0},{"$f":"IF($B34=\"\",\"\",IF(F$2=\"\",\"\",IF($B34=\"Итого\",SUM(F$3:F33),SUMIFS(Итого,Подкатегория,Расходный!D$1,Д_А,Таблица!$B34))))","v":0},{"$f":"IF($B34=\"\",\"\",IF(G$2=\"\",\"\",IF($B34=\"Итого\",SUM(G$3:G33),SUMIFS(Итого,Подкатегория,Расходный!E$1,Д_А,Таблица!$B34))))","v":0},{"$f":"IF($B34=\"\",\"\",IF(H$2=\"\",\"\",IF($B34=\"Итого\",SUM(H$3:H33),SUMIFS(Итого,Подкатегория,Расходный!F$1,Д_А,Таблица!$B34))))","v":""},{"$f":"IF($B34=\"\",\"\",IF(I$2=\"\",\"\",IF($B34=\"Итого\",SUM(I$3:I33),SUMIFS(Итого,Подкатегория,Расходный!G$1,Д_А,Таблица!$B34))))","v":""},{"$f":"IF($B34=\"\",\"\",IF(J$2=\"\",\"\",IF($B34=\"Итого\",SUM(J$3:J33),SUMIFS(Итого,Подкатегория,Расходный!H$1,Д_А,Таблица!$B34))))","v":""},{"$f":"IF($B34=\"\",\"\",IF(K$2=\"\",\"\",IF($B34=\"Итого\",SUM(K$3:K33),SUMIFS(Итого,Подкатегория,Расходный!I$1,Д_А,Таблица!$B34))))","v":""},{"$f":"IF($B34=\"\",\"\",IF(L$2=\"\",\"\",IF($B34=\"Итого\",SUM(L$3:L33),SUMIFS(Итого,Подкатегория,Расходный!J$1,Д_А,Таблица!$B34))))","v":""},{"$f":"IF($B34=\"\",\"\",IF(M$2=\"\",\"\",IF($B34=\"Итого\",SUM(M$3:M33),SUMIFS(Итого,Подкатегория,Расходный!K$1,Д_А,Таблица!$B34))))","v":""},{"$f":"IF($B34=\"\",\"\",IF(N$2=\"\",\"\",IF($B34=\"Итого\",SUM(N$3:N33),SUMIFS(Итого,Подкатегория,Расходный!L$1,Д_А,Таблица!$B34))))","v":""},{"$f":"IF($B34=\"\",\"\",IF(O$2=\"\",\"\",IF($B34=\"Итого\",SUM(O$3:O33),SUMIFS(Итого,Подкатегория,Расходный!M$1,Д_А,Таблица!$B34))))","v":""},{"$f":"IF($B34=\"\",\"\",IF(P$2=\"\",\"\",IF($B34=\"Итого\",SUM(P$3:P33),SUMIFS(Итого,Подкатегория,Расходный!N$1,Д_А,Таблица!$B34))))","v":""},{"$f":"IF($B34=\"\",\"\",IF(Q$2=\"\",\"\",IF($B34=\"Итого\",SUM(Q$3:Q33),SUMIFS(Итого,Подкатегория,Расходный!O$1,Д_А,Таблица!$B34))))","v":""}]

{"sheet":"Исходный","index":2,"n_rows":11,"n_cols":10,"rows_kept":11,"cut":false,"hidden":false,"merged":[]}
["Дата","Категории","Категории без уч. Выбр.","Категории операций","Заёмные операции","ФИО","Занято у меня","Возвращено мне","Заём мной","Возврат мной"]
[null,"Наличные",{"$f":"IFERROR(IF(B3=\"\",\"\",INDIRECT(\"B\"&IF(MATCH(ВНБ,ИНБ,0)>ROW(A1),ROW(),ROW()+1))),\"\")","v":"Зарплатная карта"},"Доход","Заём у меня","Беляев Д. С.",{"$f":"SUMIFS(ТА1[Сумма/сто-имость],ТА1[Подкатегория],$E$2,ТА1[Конечная категория],Таблица3[[#This Row],[ФИО]])","v":0},{"$f":"SUMIFS(ТА1[Сумма/сто-имость],ТА1[Подкатегория],$E$4,ТА1[Конечная категория],Таблица3[[#This Row],[ФИО]])","v":0},{"$f":"SUMIFS(ТА1[Сумма/сто-имость],ТА1[Подкатегория],$E$3,ТА1[Конечная категория],Таблица3[[#This Row],[ФИО]])","v":0},{"$f":"SUMIFS(ТА1[Сумма/сто-имость],ТА1[Подкатегория],$E$5,ТА1[Конечная категория],Таблица3[[#This Row],[ФИО]])","v":0}]
[{"$f":"TODAY()","v":"2016-04-05"},"Зарплатная карта","Сберегательный счёт","Расход","Заём мной","Курочкина Л. М.",{"$f":"SUMIFS(ТА1[Сумма/сто-имость],ТА1[Подкатегория],$E$2,ТА1[Конечная категория],Таблица3[[#This Row],[ФИО]])","v":0},{"$f":"SUMIFS(ТА1[Сумма/сто-имость],ТА1[Подкатегория],$E$4,ТА1[Конечная категория],Таблица3[[#This Row],[ФИО]])","v":0},{"$f":"SUMIFS(ТА1[Сумма/сто-имость],ТА1[Подкатегория],$E$3,ТА1[Конечная категория],Таблица3[[#This Row],[ФИО]])","v":0},{"$f":"SUMIFS(ТА1[Сумма/сто-имость],ТА1[Подкатегория],$E$5,ТА1[Конечная категория],Таблица3[[#This Row],[ФИО]])","v":0}]
[null,"Сберегательный счёт","Копилка","Перевод","Возврат мне","Сидоров С. С.",{"$f":"SUMIFS(ТА1[Сумма/сто-имость],ТА1[Подкатегория],$E$2,ТА1[Конечная категория],Таблица3[[#This Row],[ФИО]])","v":0},{"$f":"SUMIFS(ТА1[Сумма/сто-имость],ТА1[Подкатегория],$E$4,ТА1[Конечная категория],Таблица3[[#This Row],[ФИО]])","v":0},{"$f":"SUMIFS(ТА1[Сумма/сто-имость],ТА1[Подкатегория],$E$3,ТА1[Конечная категория],Таблица3[[#This Row],[ФИО]])","v":0},{"$f":"SUMIFS(ТА1[Сумма/сто-имость],ТА1[Подкатегория],$E$5,ТА1[Конечная категория],Таблица3[[#This Row],[ФИО]])","v":0}]
[null,"Копилка","Кредитная карта","Заём","Возврат мной","Собакин Ю. В.",{"$f":"SUMIFS(ТА1[Сумма/сто-имость],ТА1[Подкатегория],$E$2,ТА1[Конечная категория],Таблица3[[#This Row],[ФИО]])","v":0},{"$f":"SUMIFS(ТА1[Сумма/сто-имость],ТА1[Подкатегория],$E$4,ТА1[Конечная категория],Таблица3[[#This Row],[ФИО]])","v":0},{"$f":"SUMIFS(ТА1[Сумма/сто-имость],ТА1[Подкатегория],$E$3,ТА1[Конечная категория],Таблица3[[#This Row],[ФИО]])","v":0},{"$f":"SUMIFS(ТА1[Сумма/сто-имость],ТА1[Подкатегория],$E$5,ТА1[Конечная категория],Таблица3[[#This Row],[ФИО]])","v":0}]
[null,"Кредитная карта","","Возврат",null,"Волков Е. А.",{"$f":"SUMIFS(ТА1[Сумма/сто-имость],ТА1[Подкатегория],$E$2,ТА1[Конечная категория],Таблица3[[#This Row],[ФИО]])","v":0},{"$f":"SUMIFS(ТА1[Сумма/сто-имость],ТА1[Подкатегория],$E$4,ТА1[Конечная категория],Таблица3[[#This Row],[ФИО]])","v":0},{"$f":"SUMIFS(ТА1[Сумма/сто-имость],ТА1[Подкатегория],$E$3,ТА1[Конечная категория],Таблица3[[#This Row],[ФИО]])","v":0},{"$f":"SUMIFS(ТА1[Сумма/сто-имость],ТА1[Подкатегория],$E$5,ТА1[Конечная категория],Таблица3[[#This Row],[ФИО]])","v":0}]
[null,null,"","Начало"]
[null,null,"","Усл. Доход"]
[null,null,""]
[null,null,""]
[null,null,""]

{"sheet":"Организации","index":3,"n_rows":13,"n_cols":8,"rows_kept":13,"cut":false,"hidden":false,"merged":[]}
["Заработная плата","Продажа запчастей","Подработка","Прочее","Услуги","Продукты и питание","Скидка",{"$f":"IF(Доходный!H1<>\"\",Доходный!H1,INDIRECT(\"'Расходный'!\"&ADDRESS(1,COLUMN()-COUNTA(Расходный!$A$1:H1),4,1)))","v":"Продукты и питание"}]
["Кости и рога","Audi 80",null,"Другое","Другое","Другое","Виват","Колизей Синема"]
[null,null,null,"Товары прикамья","Beeline","Виват","Три ивана","Кристалл"]
[null,null,null,null,"Дом.ru","Магнит"]
[null,null,null,null,"TELE2","Пятёрочка"]
[null,null,null,null,"Транспорт","Семья"]
[null,null,null,null,null,"Диалог"]
[null,null,null,null,null,"Ост. М. Рыбалко"]
[null,null,null,null,null,"Три ивана"]
[null,null,null,null,null,"Кристалл"]
[null,null,null,null,null,"Продукты \"Ларец\""]
[null,null,null,null,null,"Продукты (подвал)"]
[null,null,null,null,null,"\"Покровский хлеб\""]

{"sheet":"Доходный","index":4,"n_rows":4,"n_cols":4,"rows_kept":4,"cut":false,"hidden":false,"merged":[]}
["Заработная плата","Продажа запчастей","Подработка","Скидка"]
["Окончаловка","Панель приборов","Ремонт ноутбуков"]
["Аванс","Капот"]
[null,"Шланг сцепления"]

{"sheet":"Расходный","index":5,"n_rows":25,"n_cols":5,"rows_kept":25,"cut":false,"hidden":false,"merged":[]}
["Прочее","Услуги","Продукты и питание","Развлечения","Косметика"]
["На подарок Куськиной Ю. М.","Ремонт одежды","Бананы","Кино"]
["Электронные компоненты","Домашний интернет","Баранки ванильные"]
[null,"Сотовая связь","Ветчина нежная"]
[null,"Проезд автобус","Кальмар Абырвалг сушеный"]
[null,"Проезд маршрутка","Карамель капри молоко"]
[null,"Изготовление дубликата ключа","Кафе"]
[null,"Проезд такси","Колбаса докторская микоян"]
[null,null,"Липтон Айс ти"]
[null,null,"Мармелад мармеландия фр. К"]
[null,null,"Мармелад правильные сладости"]
[null,null,"Молоко"]
[null,null,"Молоко сгущенное (Рогачев)"]
[null,null,"Орехи кедровые"]
[null,null,"Печ. Конвертики с творогом"]
[null,null,"Печ. Фестиваль творожн."]
[null,null,"Печенье любятово шоколадное"]
[null,null,"Печенье Мария"]
[null,null,"Сахар"]
[null,null,"Снэки Онега со вк. Пекинс"]
[null,null,"Талоны"]
[null,null,"Творог обезжиренный"]
[null,null,"Хлеб белый"]
[null,null,"Чай Greenfield"]
[null,null,"Чипсы Lays Сметана и зелень"]