{"text_format":"1","workbook":"xlsx","n_sheets":3,"sheets":["Лист1","Лист2","Лист3"],"not_rendered":{"charts":0,"images":0,"macros":0,"external_links":1,"defined_names":0,"comments":0,"pivot_tables":0},"unopened":[],"bounds":{"document_bytes":16777216,"sheet_cells":100000,"rows_first":2000,"rows_last":500,"rows_between":2000,"halvings":0,"cell_chars":16384,"cell_head_chars":4096},"cells_cut":0,"cells_raw":0,"read":"whole","date_system":"1900"}

{"sheet":"Лист1","index":0,"n_rows":26,"n_cols":3,"rows_kept":26,"cut":false,"hidden":false,"merged":[]}
[{"$f":"[1]Лист1!A1","v":"№"},{"$f":"[1]Лист1!B1","v":"Фамилия"},"Значения"]
[{"$f":"[1]Лист1!A2","v":1},{"$f":"[1]Лист1!B2","v":"Иванов"},10000]
[{"$f":"[1]Лист1!A3","v":2},{"$f":"[1]Лист1!B3","v":"Петров"},5000]
[{"$f":"[1]Лист1!A4","v":3},{"$f":"[1]Лист1!B4","v":"Сидоров"}]
[{"$f":"[1]Лист1!A5","v":4},{"$f":"[1]Лист1!B5","v":"Кокошкин"}]
[{"$f":"[1]Лист1!A6","v":5},{"$f":"[1]Лист1!B6","v":"Иванов"}]
[{"$f":"[1]Лист1!A7","v":6},{"$f":"[1]Лист1!B7","v":"Петров"}]
[{"$f":"[1]Лист1!A8","v":7},{"$f":"[1]Лист1!B8","v":"Сидоров"}]
[{"$f":"[1]Лист1!A9","v":8},{"$f":"[1]Лист1!B9","v":"Кокошкин"}]
[{"$f":"[1]Лист1!A10","v":9},{"$f":"[1]Лист1!B10","v":"Иванов"}]
[{"$f":"[1]Лист1!A11","v":10},{"$f":"[1]Лист1!B11","v":"Петров"}]
[{"$f":"[1]Лист1!A12","v":11},{"$f":"[1]Лист1!B12","v":"Сидоров"}]
[{"$f":"[1]Лист1!A13","v":12},{"$f":"[1]Лист1!B13","v":"Кокошкин"}]
[{"$f":"[1]Лист1!A14","v":13},{"$f":"[1]Лист1!B14","v":"Иванов"}]
[{"$f":"[1]Лист1!A15","v":14},{"$f":"[1]Лист1!B15","v":"Петров"}]
[{"$f":"[1]Лист1!A16","v":15},{"$f":"[1]Лист1!B16","v":"Сидоров"}]
[{"$f":"[1]Лист1!A17","v":16},{"$f":"[1]Лист1!B17","v":"Кокошкин"}]
[{"$f":"[1]Лист1!A18","v":17},{"$f":"[1]Лист1!B18","v":"Иванов"}]
[{"$f":"[1]Лист1!A19","v":18},{"$f":"[1]Лист1!B19","v":"Петров"}]
[{"$f":"[1]Лист1!A20","v":19},{"$f":"[1]Лист1!B20","v":"Сидоров"}]
[{"$f":"[1]Лист1!A21","v":20},{"$f":"[1]Лист1!B21","v":"Кокошкин"}]
[{"$f":"[1]Лист1!A22","v":21},{"$f":"[1]Лист1!B22","v":"Иванов"}]
[{"$f":"[1]Лист1!A23","v":22},{"$f":"[1]Лист1!B23","v":"Петров"}]
[{"$f":"[1]Лист1!A24","v":23},{"$f":"[1]Лист1!B24","v":"Сидоров"}]
[{"$f":"[1]Лист1!A25","v":24},{"$f":"[1]Лист1!B25","v":"Кокошкин"}]
[{"$f":"[1]Лист1!A26","v":25},{"$f":"[1]Лист1!B26","v":0}]

{"sheet":"Лист2","index":1,"n_rows":0,"n_cols":0,"rows_kept":0,"cut":false,"hidden":false,"merged":[]}

{"sheet":"Лист3","index":2,"n_rows":0,"n_cols":0,"rows_kept":0,"cut":false,"hidden":false,"merged":[]}