{"text_format":"1","workbook":"xlsx","n_sheets":1,"sheets":["МСУ"],"not_rendered":{"charts":0,"images":0,"macros":1,"external_links":0,"defined_names":0,"comments":0,"pivot_tables":0},"unopened":[],"bounds":{"document_bytes":16777216,"sheet_cells":100000,"rows_first":2000,"rows_last":500,"rows_between":2000,"halvings":0,"cell_chars":16384,"cell_head_chars":4096},"cells_cut":0,"cells_raw":0,"read":"whole","date_system":"1900"}

{"sheet":"МСУ","index":0,"n_rows":873,"n_cols":12,"rows_kept":873,"cut":false,"hidden":false,"merged":[]}
[]
[]
[]
[null,"Ногинский муниципальный район\n(7)   [0,325]   \n<7,071>",null,null,"Ногинский муниципальный район\n(7)   [0,325]   \n<7,071>","Сергиево-Посадский муниципальный район\n(7)   [0,325]   \n<9,589>","Городской округ Дзержинский\n(6)   [0,278]   \n<16,216>","Щёлковский муниципальный район\n(6)   [0,278]   \n<8,219>","Красногорский муниципальный район\n(5)   [0,232]   \n<6,410>","Шатурский муниципальный район\n(5)   [0,232]   \n<17,857>","Городской округ Железнодорожный\n(5)   [0,232]   \n<12,821>","Городской округ Королёв\n(5)   [0,232]   \n<8,621>"]
[null,"Сергиево-Посадский муниципальный район\n(7)   [0,325]   \n<9,589>",null,null,"Каширский муниципальный район\n(5)   [0,232]   \n<16,667>","Истринский муниципальный район\n(4)   [0,186]   \n<13,793>","Рузский  муниципальный район\n(4)   [0,186]   \n<23,529>","Раменский муниципальный район\n(4)   [0,186]   \n<5,970>","Городской округ Орехово-Зуево\n(4)   [0,186]   \n<11,429>","Городской округ Электрогорск\n(4)   [0,186]   \n<36,364>","Городской округ Лосино-Петровский\n(4)   [0,186]   \n<19,048>","Орехово-Зуевский  муниципальный район\n(3)   [0,139]   \n<10,714>"]
[null,"Городской округ Дзержинский\n(6)   [0,278]   \n<16,216>",null,null,"Городской округ Электросталь\n(3)   [0,139]   \n<6,122>","Воскресенский муниципальный район\n(3)   [0,139]   \n<6,522>","Солнечногорский муниципальный район\n(3)   [0,139]   \n<6,383>","Чеховский муниципальный район\n(2)   [0,093]   \n<7,407>","Городской округ Лыткарино\n(2)   [0,093]   \n<18,182>","Павлово-Посадский муниципальный район\n(2)   [0,093]   \n<7,407>","Клинский муниципальный район\n(2)   [0,093]   \n<6,897>","Городской округ Жуковский\n(1)   [0,046]   \n<7,143>"]
[null,"Щёлковский муниципальный район\n(6)   [0,278]   \n<8,219>"]
[null,"Красногорский муниципальный район\n(5)   [0,232]   \n<6,410>"]
[null,"Шатурский муниципальный район\n(5)   [0,232]   \n<17,857>"]
[null,"Городской округ Железнодорожный\n(5)   [0,232]   \n<12,821>"]
[null,"Городской округ Королёв\n(5)   [0,232]   \n<8,621>"]
[null,"Каширский муниципальный район\n(5)   [0,232]   \n<16,667>"]
[null,"Истринский муниципальный район\n(4)   [0,186]   \n<13,793>"]
[null,"Рузский  муниципальный район\n(4)   [0,186]   \n<23,529>"]
[null,"Раменский муниципальный район\n(4)   [0,186]   \n<5,970>"]
[null,"Городской округ Орехово-Зуево\n(4)   [0,186]   \n<11,429>"]
[null,"Городской округ Электрогорск\n(4)   [0,186]   \n<36,364>"]
[null,"Городской округ Лосино-Петровский\n(4)   [0,186]   \n<19,048>"]
[null,"Орехово-Зуевский  муниципальный район\n(3)   [0,139]   \n<10,714>"]
[null,"Городской округ Электросталь\n(3)   [0,139]   \n<6,122>"]
[null,"Воскресенский муниципальный район\n(3)   [0,139]   \n<6,522>"]
[null,"Солнечногорский муниципальный район\n(3)   [0,139]   \n<6,383>"]
[null,"Чеховский муниципальный район\n(2)   [0,093]   \n<7,407>"]
[null,"Городской округ Лыткарино\n(2)   [0,093]   \n<18,182>"]
[null,"Павлово-Посадский муниципальный район\n(2)   [0,093]   \n<7,407>"]
[null,"Клинский муниципальный район\n(2)   [0,093]   \n<6,897>"]
[null,"Городской округ Жуковский\n(1)   [0,046]   \n<7,143>"]
[null,"Городской округ Красноармейск\n(1)   [0,046]   \n<16,667>"]
[null,"Коломенский муниципальный район\n(1)   [0,046]   \n<9,091>"]
[null,"Зарайский муниципальный район\n(1)   [0,046]   \n<7,692>"]
[null,"Городской округ - город-курорт Сочи\n(27)   [1,253]   \n<9,153>"]
[null,"Ленинградский муниципальный район\n(11)   [0,510]   \n<47,826>"]
[null,"Туапсинский муниципальный район\n(4)   [0,186]   \n<6,349>"]
[null,"Городской округ - город Армавир\n(3)   [0,139]   \n<11,538>"]
[null,"Усть-Лабинский муниципальный район\n(1)   [0,046]   \n<10,000>"]
[null,"Городской округ - город Горячий Ключ\n(1)   [0,046]   \n<6,250>"]
[null,"Абинский муниципальный район\n(1)   [0,046]   \n<20,000>"]
[null,"Энгельсский муниципальный район\n(7)   [0,325]   \n<11,667>"]
[null,"Вольский муниципальный район\n(3)   [0,139]   \n<14,286>"]
[null,"Федоровский муниципальный район\n(1)   [0,046]   \n<33,333>"]
[null,"Краснокутский муниципальный район\n(1)   [0,046]   \n<10,000>"]
[null,"Городской округ -город Уфа\n(52)   [2,413]   \n<14,404>"]
[null,"Муниципальный район Благовещенский район\n(3)   [0,139]   \n<37,500>"]
[null,"Муниципальный район Ишимбайский  район\n(2)   [0,093]   \n<16,667>"]
[null,"Муниципальный район Туймазинский район\n(2)   [0,093]   \n<66,667>"]
[null,"Муниципальный район Федоровский  район\n(1)   [0,046]   \n<16,667>"]
[null,"Муниципальный район Кармаскалинский район\n(1)   [0,046]   \n<33,333>"]
[null,"Муниципальный район Альшеевский район\n(1)   [0,046]   \n<25,000>"]
[null,"Муниципальный район Ермекеевский район\n(1)   [0,046]   \n<100,000>"]
[null,"Городской округ Город Таганрог\n(5)   [0,232]   \n<5,556>"]
[null,"Городской округ Город Новочеркасск\n(5)   [0,232]   \n<10,870>"]
[null,"Городской округ Город Шахты\n(4)   [0,186]   \n<5,882>"]
[null,"Городской округ Город Батайск\n(3)   [0,139]   \n<7,500>"]
[null,"Городской округ Город Донецк\n(3)   [0,139]   \n<23,077>"]
[null,"Шолоховский муниципальный район\n(2)   [0,093]   \n<40,000>"]
[null,"Миллеровский муниципальный район\n(2)   [0,093]   \n<7,407>"]
[null,"Волгодонской муниципальный район\n(1)   [0,046]   \n<20,000>"]
[null,"Целинский муниципальный район\n(1)   [0,046]   \n<33,333>"]
[null,"Сальский муниципальный район\n(1)   [0,046]   \n<25,000>"]
[null,"Багаевский муниципальный район\n(1)   [0,046]   \n<33,333>"]
[null,"Городской округ Город Гуково\n(1)   [0,046]   \n<10,000>"]
[null,"Городской округ Город Каменск-Шахтинский\n(1)   [0,046]   \n<9,091>"]
[null,"Городской округ - город Новосибирск\n(54)   [2,506]   \n<13,235>"]
[null,"Кыштовский муниципальный район\n(2)   [0,093]   \n<100,000>"]
[null,"Тогучинский муниципальный район\n(1)   [0,046]   \n<14,286>"]
[null,"Каргатский муниципальный район\n(1)   [0,046]   \n<16,667>"]
[null,"Черепановский муниципальный район\n(1)   [0,046]   \n<25,000>"]
[null,"Венгеровский муниципальный район\n(1)   [0,046]   \n<33,333>"]
[null,"Городской округ Самара\n(49)   [2,274]   \n<10,426>"]
[null,"Городской округ Сызрань\n(3)   [0,139]   \n<18,750>"]
[null,"Городской округ Чапаевск\n(2)   [0,093]   \n<22,222>"]
[null,"Муниципальный район Кинельский\n(1)   [0,046]   \n<50,000>"]
[null,"Городской округ  Жигулевск\n(1)   [0,046]   \n<14,286>"]
[null,"Муниципальный район Кинель-Черкасский\n(1)   [0,046]   \n<25,000>"]
[null,"Муниципальный район Большеглушицкий\n(1)   [0,046]   \n<16,667>"]
[null,"Муниципальный район Исаклинский\n(1)   [0,046]   \n<100,000>"]
[null,"Городской округ - город Выкса\n(4)   [0,186]   \n<18,182>"]
[null,"Лукояновский  муниципальный район\n(2)   [0,093]   \n<40,000>"]
[null,"Починковский муниципальный район\n(2)   [0,093]   \n<22,222>"]
[null,"Шатковский  муниципальный район\n(2)   [0,093]   \n<100,000>"]
[null,"Городской округ- город Дзержинск\n(2)   [0,093]   \n<8,696>"]
[null,"Тонкинский  муниципальный район\n(1)   [0,046]   \n<100,000>"]
[null,"Вадский муниципальный район\n(1)   [0,046]   \n<33,333>"]
[null,"Тоншаевский  муниципальный район\n(1)   [0,046]   \n<33,333>"]
[null,"Кулебакский  муниципальный район\n(1)   [0,046]   \n<9,091>"]
[null,"Ардатовский  муниципальный район\n(1)   [0,046]   \n<20,000>"]
[null,"Балахнинский муниципальный район\n(1)   [0,046]   \n<9,091>"]
[null,"Городской округ - город Прокопьевск\n(16)   [0,742]   \n<32,653>"]
[null,"Городской округ - город Киселевск\n(4)   [0,186]   \n<26,667>"]
[null,"Городской округ - город Анжеро-Судженск\n(3)   [0,139]   \n<23,077>"]
[null,"Городской округ - город Ленинск-Кузнецкий\n(2)   [0,093]   \n<22,222>"]
[null,"Муниципальный район Беловский\n(2)   [0,093]   \n<28,571>"]
[null,"Муниципальный район Мариинский\n(1)   [0,046]   \n<33,333>"]
[null,"Городской округ - город Полысаево\n(1)   [0,046]   \n<33,333>"]
[null,"Городской округ - город Осинники\n(1)   [0,046]   \n<33,333>"]
[null,"Городской округ город Нижневартовск\n(17)   [0,789]   \n<22,667>"]
[null,"Городской округ город Радужный\n(4)   [0,186]   \n<100,000>"]
[null,"Сургутский муниципальный район\n(2)   [0,093]   \n<18,182>"]
[null,"Городской округ город Мегион\n(1)   [0,046]   \n<50,000>"]
[null,"Кондинский муниципальный район\n(1)   [0,046]   \n<50,000>"]
[null,"Очерский муниципальный район\n(3)   [0,139]   \n<75,000>"]
[null,"Березниковский городской округ\n(3)   [0,139]   \n<33,333>"]
[null,"Кудымкарский городской округ\n(2)   [0,093]   \n<25,000>"]
[null,"Добрянский муниципальный район\n(1)   [0,046]   \n<16,667>"]
[null,"Верещагинский муниципальный район\n(1)   [0,046]   \n<20,000>"]
[null,"Березовский муниципальный район\n(1)   [0,046]   \n<14,286>"]
[null,"Чусовской муниципальный район\n(1)   [0,046]   \n<25,000>"]
[null,"Кунгурский городской округ\n(1)   [0,046]   \n<14,286>"]
[null,"Лысьвенский городской округ\n(1)   [0,046]   \n<16,667>"]
[null,"Муниципальный район Приволжский\n(4)   [0,186]   \n<15,385>"]
[null,"Муниципальный район Володарский\n(4)   [0,186]   \n<25,000>"]
[null,"Муниципальный район Икрянинский\n(2)   [0,093]   \n<22,222>"]
[null,"Городской округ Город Южно-Сахалинск\n(18)   [0,835]   \n<24,324>"]
[null,"Углегорский муниципальный район\n(4)   [0,186]   \n<50,000>"]
[null,"Городской округСмирныховский\n(4)   [0,186]   \n<100,000>"]
[null,"Корсаковский городской округ\n(3)   [0,139]   \n<37,500>"]
[null,"Городской округОхинский\n(2)   [0,093]   \n<28,571>"]
[null,"Томаринский городской округ\n(2)   [0,093]   \n<40,000>"]
[null,"Городской округ Охинский\n(1)   [0,046]   \n<50,000>"]
[null,"Муниципальное образование Город Иркутск\n(26)   [1,206]   \n<10,359>"]
[null,"Шелеховский муниципальное образование\n(3)   [0,139]   \n<25,000>"]
[null,"Муниципальное образование города Братска\n(3)   [0,139]   \n<13,636>"]
[null,"Муниципальное образование Город Тулун\n(2)   [0,093]   \n<33,333>"]
[null,"Черемховское районное муниципальное образование\n(1)   [0,046]   \n<33,333>"]
[null,"Муниципальное образование Город Усть-Илимск\n(1)   [0,046]   \n<12,500>"]
[null,"Казачинско-Ленский муниципальный район\n(1)   [0,046]   \n<50,000>"]
[null,"Нижнеилимский муниципальный район\n(1)   [0,046]   \n<50,000>"]
[null,"Городской округ Город Хабаровск\n(28)   [1,299]   \n<11,382>"]
[null,"Солнечный муниципальный район\n(3)   [0,139]   \n<30,000>"]
[null,"Советско-Гаванский муниципальный район\n(2)   [0,093]   \n<28,571>"]
[null,"Лебедянский муниципальный район\n(5)   [0,232]   \n<20,833>"]
[null,"Задонский муниципальный район\n(2)   [0,093]   \n<16,667>"]
[null,"Данковский муниципальный район\n(1)   [0,046]   \n<14,286>"]
[null,"Хлевенский муниципальный район\n(1)   [0,046]   \n<11,111>"]
[null,"Липецкий муниципальный район\n(1)   [0,046]   \n<16,667>"]
[null,"Краснинский муниципальный район\n(1)   [0,046]   \n<50,000>"]
[null,"Елецкий муниципальный район\n(1)   [0,046]   \n<20,000>"]
[null,"Пряжинский муниципальный район\n(3)   [0,139]   \n<42,857>"]
[null,"Кондопожский муниципальный район\n(3)   [0,139]   \n<37,500>"]
[null,"Сортавальский муниципальный район\n(2)   [0,093]   \n<20,000>"]
[null,"Лахденпохский муниципальный район\n(2)   [0,093]   \n<50,000>"]
[null,"Пудожский муниципальный район\n(1)   [0,046]   \n<16,667>"]
[null,"Питкярантский муниципальный район\n(1)   [0,046]   \n<33,333>"]
[null,"Кемский муниципальный район\n(1)   [0,046]   \n<50,000>"]
[null,"Городской округ город Пенза\n(31)   [1,439]   \n<23,846>"]
[null,"Городищенский муниципальный район\n(2)   [0,093]   \n<22,222>"]
[null,"Нижнеломовский муниципальный район\n(1)   [0,046]   \n<25,000>"]
[null,"Муниципальный район  Александрово-Заводский\n(4)   [0,186]   \n<36,364>"]
[null,"Городской округ - город Петровск-Забайкальский\n(2)   [0,093]   \n<50,000>"]
[null,"Муниципальный район Каларский\n(2)   [0,093]   \n<50,000>"]
[null,"Муниципальный район Шилкинский\n(1)   [0,046]   \n<33,333>"]
[null,"Городской округ - поселок Агинское\n(1)   [0,046]   \n<50,000>"]
[null,"Вышневолоцкий муниципальный район\n(4)   [0,186]   \n<25,000>"]
[null,"Конаковский муниципальный  район\n(3)   [0,139]   \n<12,000>"]
[null,"Городской округ - город Торжок\n(3)   [0,139]   \n<33,333>"]
[null,"Кимрский муниципальный район\n(1)   [0,046]   \n<20,000>"]
[null,"Нелидовский муниципальный район\n(1)   [0,046]   \n<50,000>"]
[null,"Весьегонский  муниципальный район\n(1)   [0,046]   \n<12,500>"]
[null,"Калязинский  муниципальный район\n(1)   [0,046]   \n<33,333>"]
[null,"Городской округ - город Глазов\n(5)   [0,232]   \n<38,462>"]
[null,"Алнашский муниципальный район\n(2)   [0,093]   \n<66,667>"]
[null,"Малопургинский муниципальный район\n(1)   [0,046]   \n<33,333>"]
[null,"Городской округ - город Воткинск\n(1)   [0,046]   \n<16,667>"]
[null,"Городской округ город Тюмень\n(18)   [0,835]   \n<9,783>"]
[null,"Городской округ город Ишим\n(4)   [0,186]   \n<23,529>"]
[null,"Тюменский муниципальный район\n(2)   [0,093]   \n<14,286>"]
[null,"Уватский муниципальный район\n(1)   [0,046]   \n<50,000>"]
[null,"Ярковский муниципальный район\n(1)   [0,046]   \n<50,000>"]
[null,"Казанский муниципальный район\n(1)   [0,046]   \n<50,000>"]
[null,"Городской округ город Салехард\n(12)   [0,557]   \n<29,268>"]
[null,"Городской округ город Новый Уренгой\n(3)   [0,139]   \n<33,333>"]
[null,"Надымский муниципальный район\n(1)   [0,046]   \n<33,333>"]
[null,"Тазовский муниципальный район\n(1)   [0,046]   \n<50,000>"]
[null,"Городской округ город Лабытнанги\n(1)   [0,046]   \n<50,000>"]
[null,"Городской округ город Муравленко\n(1)   [0,046]   \n<50,000>"]
[null,"Кирилловский муниципальный район\n(2)   [0,093]   \n<66,667>"]
[null,"Белозерский муниципальный  район\n(1)   [0,046]   \n<100,000>"]
[null,"Грязовецкий муниципальный район\n(1)   [0,046]   \n<25,000>"]
[null,"Рузаевский муниципальный район\n(2)   [0,093]   \n<25,000>"]
[null,"Краснослободский муниципальный район\n(2)   [0,093]   \n<50,000>"]
[null,"Кочкуровский муниципальный район\n(1)   [0,046]   \n<20,000>"]
[null,"Темниковский муниципальный район\n(1)   [0,046]   \n<16,667>"]
[null,"Старошайговский муниципальный район\n(1)   [0,046]   \n<50,000>"]
[null,"Инсарский муниципальный район\n(1)   [0,046]   \n<50,000>"]
[null,"Чамзинский муниципальный район\n(1)   [0,046]   \n<16,667>"]
[null,"Лямбирский муниципальный район\n(1)   [0,046]   \n<20,000>"]
[null,"Ковылкинский муниципальный район\n(1)   [0,046]   \n<20,000>"]
[null,"Городской округ - город Северодвинск\n(6)   [0,278]   \n<20,000>"]
[null,"Муниципальный район Няндомский\n(1)   [0,046]   \n<50,000>"]
[null,"Муниципальный район Ленский\n(1)   [0,046]   \n<33,333>"]
[null,"Муниципальный район Устьянский\n(1)   [0,046]   \n<25,000>"]
[null,"Городской округ - город Котлас\n(1)   [0,046]   \n<25,000>"]
[null,"Муниципальный район Котласский\n(1)   [0,046]   \n<12,500>"]
[null,"Узловский муниципальный район\n(3)   [0,139]   \n<23,077>"]
[null,"Киреевский муниципальный район\n(2)   [0,093]   \n<10,526>"]
[null,"Тепло-Огаревский  муниципальный район\n(2)   [0,093]   \n<100,000>"]
[null,"Алексинский муниципальный район\n(2)   [0,093]   \n<11,765>"]
[null,"Воловский муниципальный район\n(1)   [0,046]   \n<33,333>"]
[null,"Кимовский муниципальный район\n(1)   [0,046]   \n<10,000>"]
[null,"Заокский муниципальный район\n(1)   [0,046]   \n<10,000>"]
[null,"Верхнекамский муниципальный район\n(3)   [0,139]   \n<37,500>"]
[null,"Городской округ Город Кирово-Чепецк\n(3)   [0,139]   \n<30,000>"]
[null,"Немский муниципальный район\n(2)   [0,093]   \n<25,000>"]
[null,"Омутнинский муниципальный район\n(1)   [0,046]   \n<50,000>"]
[null,"Слободской муниципальный район\n(1)   [0,046]   \n<16,667>"]
[null,"Городской округ Город Котельнич\n(1)   [0,046]   \n<11,111>"]
[null,"Городской округ  Город Томск\n(19)   [0,882]   \n<13,971>"]
[null,"Городской округ Город Северск\n(4)   [0,186]   \n<16,000>"]
[null,"Муниципальный район Каргасокский\n(1)   [0,046]   \n<33,333>"]
[null,"Алданский муниципальный район\n(2)   [0,093]   \n<28,571>"]
[null,"Нерюнгринский муниципальный район\n(2)   [0,093]   \n<25,000>"]
[null,"Усть-Майский муниципальный район\n(1)   [0,046]   \n<33,333>"]
[null,"Хангаласский муниципальный район\n(1)   [0,046]   \n<50,000>"]
[null,"Нижнеколымский муниципальный район\n(1)   [0,046]   \n<50,000>"]
[null,"Оймяконский муниципальный район\n(1)   [0,046]   \n<100,000>"]
[null,"Трубчевский муниципальный район\n(1)   [0,046]   \n<33,333>"]
[null,"Погарский муниципальный район\n(1)   [0,046]   \n<20,000>"]
[null,"Брасовский муниципальный район\n(1)   [0,046]   \n<50,000>"]
[null,"Дмитриевский муниципальный район\n(2)   [0,093]   \n<25,000>"]
[null,"Глушковский муниципальный район\n(2)   [0,093]   \n<22,222>"]
[null,"Касторенский муниципальный район\n(1)   [0,046]   \n<10,000>"]
[null,"Городской округ город Щигры\n(1)   [0,046]   \n<11,111>"]
[null,"Городской округ Ухта\n(3)   [0,139]   \n<30,000>"]
[null,"Муниципальный район Печора\n(3)   [0,139]   \n<42,857>"]
[null,"Муниципальный район Корткеросский\n(3)   [0,139]   \n<60,000>"]
[null,"Муниципальный район Сосногорск\n(2)   [0,093]   \n<16,667>"]
[null,"Муниципальный район Прилузский\n(1)   [0,046]   \n<50,000>"]
[null,"Городской округ-  город Северобайкальск\n(7)   [0,325]   \n<53,846>"]
[null,"Муниципальный район Кяхтинский\n(2)   [0,093]   \n<40,000>"]
[null,"Муниципальный район Бичурский\n(1)   [0,046]   \n<100,000>"]
[null,"Городской округ - город Белогорск\n(3)   [0,139]   \n<50,000>"]
[null,"Городской округ - город Тында\n(2)   [0,093]   \n<22,222>"]
[null,"Городской округ - город Свободный\n(2)   [0,093]   \n<18,182>"]
[null,"Серышевский муниципальный район\n(1)   [0,046]   \n<50,000>"]
[null,"Зейский муниципальный район\n(1)   [0,046]   \n<50,000>"]
[null,"Городской округ город Курган\n(11)   [0,510]   \n<8,871>"]
[null,"Муниципальный район Петуховский\n(2)   [0,093]   \n<40,000>"]
[null,"Муниципальный район Шадринский\n(1)   [0,046]   \n<100,000>"]
[null,"Городской округ город Мурманск\n(9)   [0,418]   \n<9,890>"]
[null,"Кандалакшский муниципальный район\n(2)   [0,093]   \n<22,222>"]
[null,"Кольский муниципальный район\n(1)   [0,046]   \n<16,667>"]
[null,"Городской округ  Александровск\n(1)   [0,046]   \n<14,286>"]
[null,"Городской округ город Владикавказ\n(10)   [0,464]   \n<11,494>"]
[null,"Моздокский муниципальный район\n(1)   [0,046]   \n<16,667>"]
[null,"Петропавловск-Камчатский городской округ\n(11)   [0,510]   \n<23,404>"]
[null,"Городской округ - город Орёл\n(9)   [0,418]   \n<10,000>"]
[null,"Городской округ - город Ливны\n(1)   [0,046]   \n<16,667>"]
[null,"Краснозоренский муниципальный район\n(1)   [0,046]   \n<100,000>"]
[null,"Новгородский муниципальный район\n(3)   [0,139]   \n<42,857>"]
[null,"Холмский муниципальный район\n(1)   [0,046]   \n<100,000>"]
[null,"Маловишерский муниципальный район\n(1)   [0,046]   \n<12,500>"]
[null,"Мошенской муниципальный район\n(1)   [0,046]   \n<50,000>"]
[null,"Муниципальный район Назрановский\n(5)   [0,232]   \n<35,714>"]
[null,"Муниципальный район Малгобекский\n(3)   [0,139]   \n<25,000>"]
[null,"Городской округ - город Малгобек\n(1)   [0,046]   \n<100,000>"]
[null,"Усть-Джегутинский муниципальный район\n(2)   [0,093]   \n<33,333>"]
[null,"Прикубанский муниципальный район\n(2)   [0,093]   \n<100,000>"]
[null,"Абазинский муниципальный район\n(1)   [0,046]   \n<100,000>"]
[null,"Урупский муниципальный район\n(1)   [0,046]   \n<100,000>"]
[null,"Городской округ город Кострома\n(8)   [0,371]   \n<6,400>"]
[null,"Муниципальный район город Нерехта и Нерехтский район\n(1)   [0,046]   \n<14,286>"]
[null,"Межевской муниципальный район\n(1)   [0,046]   \n<100,000>"]
[null,"Улаганский  муниципальный район\n(5)   [0,232]   \n<29,412>"]
[null,"Городской округ Город Биробиджан\n(8)   [0,371]   \n<29,630>"]
[null,"Городской округ - город Нарьян -Мар\n(4)   [0,186]   \n<26,667>"]
[null,{"$f":"IFERROR(#REF!&\"\n(\"&#REF!&\")   [\"&FIXED(ROUND(#REF!,3),3)&\"]   \n<\"&FIXED(ROUND(#REF!,3),3)&\">\",\"\")","v":""}]
[null,{"$f":"IFERROR(#REF!&\"\n(\"&#REF!&\")   [\"&FIXED(ROUND(#REF!,3),3)&\"]   \n<\"&FIXED(ROUND(#REF!,3),3)&\">\",\"\")","v":""}]
[null,{"$f":"IFERROR(#REF!&\"\n(\"&#REF!&\")   [\"&FIXED(ROUND(#REF!,3),3)&\"]   \n<\"&FIXED(ROUND(#REF!,3),3)&\">\",\"\")","v":""}]
[null,{"$f":"IFERROR(#REF!&\"\n(\"&#REF!&\")   [\"&FIXED(ROUND(#REF!,3),3)&\"]   \n<\"&FIXED(ROUND(#REF!,3),3)&\">\",\"\")","v":""}]
[null,{"$f":"IFERROR(#REF!&\"\n(\"&#REF!&\")   [\"&FIXED(ROUND(#REF!,3),3)&\"]   \n<\"&FIXED(ROUND(#REF!,3),3)&\">\",\"\")","v":""}]
[null,{"$f":"IFERROR(#REF!&\"\n(\"&#REF!&\")   [\"&FIXED(ROUND(#REF!,3),3)&\"]   \n<\"&FIXED(ROUND(#REF!,3),3)&\">\",\"\")","v":""}]
[null,{"$f":"IFERROR(#REF!&\"\n(\"&#REF!&\")   [\"&FIXED(ROUND(#REF!,3),3)&\"]   \n<\"&FIXED(ROUND(#REF!,3),3)&\">\",\"\")","v":""}]
[null,{"$f":"IFERROR(#REF!&\"\n(\"&#REF!&\")   [\"&FIXED(ROUND(#REF!,3),3)&\"]   \n<\"&FIXED(ROUND(#REF!,3),3)&\">\",\"\")","v":""}]
[null,{"$f":"IFERROR(#REF!&\"\n(\"&#REF!&\")   [\"&FIXED(ROUND(#REF!,3),3)&\"]   \n<\"&FIXED(ROUND(#REF!,3),3)&\">\",\"\")","v":""}]
[null,{"$f":"IFERROR(#REF!&\"\n(\"&#REF!&\")   [\"&FIXED(ROUND(#REF!,3),3)&\"]   \n<\"&FIXED(ROUND(#REF!,3),3)&\">\",\"\")","v":""}]
[null,{"$f":"IFERROR(#REF!&\"\n(\"&#REF!&\")   [\"&FIXED(ROUND(#REF!,3),3)&\"]   \n<\"&FIXED(ROUND(#REF!,3),3)&\">\",\"\")","v":""}]
[null,{"$f":"IFERROR(#REF!&\"\n(\"&#REF!&\")   [\"&FIXED(ROUND(#REF!,3),3)&\"]   \n<\"&FIXED(ROUND(#REF!,3),3)&\">\",\"\")","v":""}]
[null,{"$f":"IFERROR(#REF!&\"\n(\"&#REF!&\")   [\"&FIXED(ROUND(#REF!,3),3)&\"]   \n<\"&FIXED(ROUND(#REF!,3),3)&\">\",\"\")","v":""}]
[null,{"$f":"IFERROR(#REF!&\"\n(\"&#REF!&\")   [\"&FIXED(ROUND(#REF!,3),3)&\"]   \n<\"&FIXED(ROUND(#REF!,3),3)&\">\",\"\")","v":""}]
[null,{"$f":"IFERROR(#REF!&\"\n(\"&#REF!&\")   [\"&FIXED(ROUND(#REF!,3),3)&\"]   \n<\"&FIXED(ROUND(#REF!,3),3)&\">\",\"\")","v":""}]
[null,{"$f":"IFERROR(#REF!&\"\n(\"&#REF!&\")   [\"&FIXED(ROUND(#REF!,3),3)&\"]   \n<\"&FIXED(ROUND(#REF!,3),3)&\">\",\"\")","v":""}]
[null,{"$f":"IFERROR(#REF!&\"\n(\"&#REF!&\")   [\"&FIXED(ROUND(#REF!,3),3)&\"]   \n<\"&FIXED(ROUND(#REF!,3),3)&\">\",\"\")","v":""}]
[null,{"$f":"IFERROR(#REF!&\"\n(\"&#REF!&\")   [\"&FIXED(ROUND(#REF!,3),3)&\"]   \n<\"&FIXED(ROUND(#REF!,3),3)&\">\",\"\")","v":""}]
[null,{"$f":"IFERROR(#REF!&\"\n(\"&#REF!&\")   [\"&FIXED(ROUND(#REF!,3),3)&\"]   \n<\"&FIXED(ROUND(#REF!,3),3)&\">\",\"\")","v":""}]
[null,{"$f":"IFERROR(#REF!&\"\n(\"&#REF!&\")   [\"&FIXED(ROUND(#REF!,3),3)&\"]   \n<\"&FIXED(ROUND(#REF!,3),3)&\">\",\"\")","v":""}]
[null,{"$f":"IFERROR(#REF!&\"\n(\"&#REF!&\")   [\"&FIXED(ROUND(#REF!,3),3)&\"]   \n<\"&FIXED(ROUND(#REF!,3),3)&\">\",\"\")","v":""}]
[null,{"$f":"IFERROR(#REF!&\"\n(\"&#REF!&\")   [\"&FIXED(ROUND(#REF!,3),3)&\"]   \n<\"&FIXED(ROUND(#REF!,3),3)&\">\",\"\")","v":""}]
[null,{"$f":"IFERROR(#REF!&\"\n(\"&#REF!&\")   [\"&FIXED(ROUND(#REF!,3),3)&\"]   \n<\"&FIXED(ROUND(#REF!,3),3)&\">\",\"\")","v":""}]
[null,{"$f":"IFERROR(#REF!&\"\n(\"&#REF!&\")   [\"&FIXED(ROUND(#REF!,3),3)&\"]   \n<\"&FIXED(ROUND(#REF!,3),3)&\">\",\"\")","v":""}]
[null,{"$f":"IFERROR(#REF!&\"\n(\"&#REF!&\")   [\"&FIXED(ROUND(#REF!,3),3)&\"]   \n<\"&FIXED(ROUND(#REF!,3),3)&\">\",\"\")","v":""}]
[null,{"$f":"IFERROR(#REF!&\"\n(\"&#REF!&\")   [\"&FIXED(ROUND(#REF!,3),3)&\"]   \n<\"&FIXED(ROUND(#REF!,3),3)&\">\",\"\")","v":""}]
[null,{"$f":"IFERROR(#REF!&\"\n(\"&#REF!&\")   [\"&FIXED(ROUND(#REF!,3),3)&\"]   \n<\"&FIXED(ROUND(#REF!,3),3)&\">\",\"\")","v":""}]
[null,{"$f":"IFERROR(#REF!&\"\n(\"&#REF!&\")   [\"&FIXED(ROUND(#REF!,3),3)&\"]   \n<\"&FIXED(ROUND(#REF!,3),3)&\">\",\"\")","v":""}]
[null,{"$f":"IFERROR(#REF!&\"\n(\"&#REF!&\")   [\"&FIXED(ROUND(#REF!,3),3)&\"]   \n<\"&FIXED(ROUND(#REF!,3),3)&\">\",\"\")","v":""}]
[null,{"$f":"IFERROR(#REF!&\"\n(\"&#REF!&\")   [\"&FIXED(ROUND(#REF!,3),3)&\"]   \n<\"&FIXED(ROUND(#REF!,3),3)&\">\",\"\")","v":""}]
[null,{"$f":"IFERROR(#REF!&\"\n(\"&#REF!&\")   [\"&FIXED(ROUND(#REF!,3),3)&\"]   \n<\"&FIXED(ROUND(#REF!,3),3)&\">\",\"\")","v":""}]
[null,{"$f":"IFERROR(#REF!&\"\n(\"&#REF!&\")   [\"&FIXED(ROUND(#REF!,3),3)&\"]   \n<\"&FIXED(ROUND(#REF!,3),3)&\">\",\"\")","v":""}]
[null,{"$f":"IFERROR(#REF!&\"\n(\"&#REF!&\")   [\"&FIXED(ROUND(#REF!,3),3)&\"]   \n<\"&FIXED(ROUND(#REF!,3),3)&\">\",\"\")","v":""}]
[null,{"$f":"IFERROR(#REF!&\"\n(\"&#REF!&\")   [\"&FIXED(ROUND(#REF!,3),3)&\"]   \n<\"&FIXED(ROUND(#REF!,3),3)&\">\",\"\")","v":""}]
[null,{"$f":"IFERROR(#REF!&\"\n(\"&#REF!&\")   [\"&FIXED(ROUND(#REF!,3),3)&\"]   \n<\"&FIXED(ROUND(#REF!,3),3)&\">\",\"\")","v":""}]
[null,{"$f":"IFERROR(#REF!&\"\n(\"&#REF!&\")   [\"&FIXED(ROUND(#REF!,3),3)&\"]   \n<\"&FIXED(ROUND(#REF!,3),3)&\">\",\"\")","v":""}]
[null,{"$f":"IFERROR(#REF!&\"\n(\"&#REF!&\")   [\"&FIXED(ROUND(#REF!,3),3)&\"]   \n<\"&FIXED(ROUND(#REF!,3),3)&\">\",\"\")","v":""}]
[null,{"$f":"IFERROR(#REF!&\"\n(\"&#REF!&\")   [\"&FIXED(ROUND(#REF!,3),3)&\"]   \n<\"&FIXED(ROUND(#REF!,3),3)&\">\",\"\")","v":""}]
[null,{"$f":"IFERROR(#REF!&\"\n(\"&#REF!&\")   [\"&FIXED(ROUND(#REF!,3),3)&\"]   \n<\"&FIXED(ROUND(#REF!,3),3)&\">\",\"\")","v":""}]
[null,{"$f":"IFERROR(#REF!&\"\n(\"&#REF!&\")   [\"&FIXED(ROUND(#REF!,3),3)&\"]   \n<\"&FIXED(ROUND(#REF!,3),3)&\">\",\"\")","v":""}]
[null,{"$f":"IFERROR(#REF!&\"\n(\"&#REF!&\")   [\"&FIXED(ROUND(#REF!,3),3)&\"]   \n<\"&FIXED(ROUND(#REF!,3),3)&\">\",\"\")","v":""}]
[null,{"$f":"IFERROR(#REF!&\"\n(\"&#REF!&\")   [\"&FIXED(ROUND(#REF!,3),3)&\"]   \n<\"&FIXED(ROUND(#REF!,3),3)&\">\",\"\")","v":""}]
[null,{"$f":"IFERROR(#REF!&\"\n(\"&#REF!&\")   [\"&FIXED(ROUND(#REF!,3),3)&\"]   \n<\"&FIXED(ROUND(#REF!,3),3)&\">\",\"\")","v":""}]
[null,{"$f":"IFERROR(#REF!&\"\n(\"&#REF!&\")   [\"&FIXED(ROUND(#REF!,3),3)&\"]   \n<\"&FIXED(ROUND(#REF!,3),3)&\">\",\"\")","v":""}]
[null,{"$f":"IFERROR(#REF!&\"\n(\"&#REF!&\")   [\"&FIXED(ROUND(#REF!,3),3)&\"]   \n<\"&FIXED(ROUND(#REF!,3),3)&\">\",\"\")","v":""}]
[null,{"$f":"IFERROR(#REF!&\"\n(\"&#REF!&\")   [\"&FIXED(ROUND(#REF!,3),3)&\"]   \n<\"&FIXED(ROUND(#REF!,3),3)&\">\",\"\")","v":""}]
[null,{"$f":"IFERROR(#REF!&\"\n(\"&#REF!&\")   [\"&FIXED(ROUND(#REF!,3),3)&\"]   \n<\"&FIXED(ROUND(#REF!,3),3)&\">\",\"\")","v":""}]
[null,{"$f":"IFERROR(#REF!&\"\n(\"&#REF!&\")   [\"&FIXED(ROUND(#REF!,3),3)&\"]   \n<\"&FIXED(ROUND(#REF!,3),3)&\">\",\"\")","v":""}]
[null,{"$f":"IFERROR(#REF!&\"\n(\"&#REF!&\")   [\"&FIXED(ROUND(#REF!,3),3)&\"]   \n<\"&FIXED(ROUND(#REF!,3),3)&\">\",\"\")","v":""}]
[null,{"$f":"IFERROR(#REF!&\"\n(\"&#REF!&\")   [\"&FIXED(ROUND(#REF!,3),3)&\"]   \n<\"&FIXED(ROUND(#REF!,3),3)&\">\",\"\")","v":""}]
[null,{"$f":"IFERROR(#REF!&\"\n(\"&#REF!&\")   [\"&FIXED(ROUND(#REF!,3),3)&\"]   \n<\"&FIXED(ROUND(#REF!,3),3)&\">\",\"\")","v":""}]
[null,{"$f":"IFERROR(#REF!&\"\n(\"&#REF!&\")   [\"&FIXED(ROUND(#REF!,3),3)&\"]   \n<\"&FIXED(ROUND(#REF!,3),3)&\">\",\"\")","v":""}]
[null,{"$f":"IFERROR(#REF!&\"\n(\"&#REF!&\")   [\"&FIXED(ROUND(#REF!,3),3)&\"]   \n<\"&FIXED(ROUND(#REF!,3),3)&\">\",\"\")","v":""}]
[null,{"$f":"IFERROR(#REF!&\"\n(\"&#REF!&\")   [\"&FIXED(ROUND(#REF!,3),3)&\"]   \n<\"&FIXED(ROUND(#REF!,3),3)&\">\",\"\")","v":""}]
[null,{"$f":"IFERROR(#REF!&\"\n(\"&#REF!&\")   [\"&FIXED(ROUND(#REF!,3),3)&\"]   \n<\"&FIXED(ROUND(#REF!,3),3)&\">\",\"\")","v":""}]
[null,{"$f":"IFERROR(#REF!&\"\n(\"&#REF!&\")   [\"&FIXED(ROUND(#REF!,3),3)&\"]   \n<\"&FIXED(ROUND(#REF!,3),3)&\">\",\"\")","v":""}]
[null,{"$f":"IFERROR(#REF!&\"\n(\"&#REF!&\")   [\"&FIXED(ROUND(#REF!,3),3)&\"]   \n<\"&FIXED(ROUND(#REF!,3),3)&\">\",\"\")","v":""}]
[null,{"$f":"IFERROR(#REF!&\"\n(\"&#REF!&\")   [\"&FIXED(ROUND(#REF!,3),3)&\"]   \n<\"&FIXED(ROUND(#REF!,3),3)&\">\",\"\")","v":""}]
[null,{"$f":"IFERROR(#REF!&\"\n(\"&#REF!&\")   [\"&FIXED(ROUND(#REF!,3),3)&\"]   \n<\"&FIXED(ROUND(#REF!,3),3)&\">\",\"\")","v":""}]
[null,{"$f":"IFERROR(#REF!&\"\n(\"&#REF!&\")   [\"&FIXED(ROUND(#REF!,3),3)&\"]   \n<\"&FIXED(ROUND(#REF!,3),3)&\">\",\"\")","v":""}]
[null,{"$f":"IFERROR(#REF!&\"\n(\"&#REF!&\")   [\"&FIXED(ROUND(#REF!,3),3)&\"]   \n<\"&FIXED(ROUND(#REF!,3),3)&\">\",\"\")","v":""}]
[null,{"$f":"IFERROR(#REF!&\"\n(\"&#REF!&\")   [\"&FIXED(ROUND(#REF!,3),3)&\"]   \n<\"&FIXED(ROUND(#REF!,3),3)&\">\",\"\")","v":""}]
[null,{"$f":"IFERROR(#REF!&\"\n(\"&#REF!&\")   [\"&FIXED(ROUND(#REF!,3),3)&\"]   \n<\"&FIXED(ROUND(#REF!,3),3)&\">\",\"\")","v":""}]
[null,{"$f":"IFERROR(#REF!&\"\n(\"&#REF!&\")   [\"&FIXED(ROUND(#REF!,3),3)&\"]   \n<\"&FIXED(ROUND(#REF!,3),3)&\">\",\"\")","v":""}]
[null,{"$f":"IFERROR(#REF!&\"\n(\"&#REF!&\")   [\"&FIXED(ROUND(#REF!,3),3)&\"]   \n<\"&FIXED(ROUND(#REF!,3),3)&\">\",\"\")","v":""}]
[null,{"$f":"IFERROR(#REF!&\"\n(\"&#REF!&\")   [\"&FIXED(ROUND(#REF!,3),3)&\"]   \n<\"&FIXED(ROUND(#REF!,3),3)&\">\",\"\")","v":""}]
[null,{"$f":"IFERROR(#REF!&\"\n(\"&#REF!&\")   [\"&FIXED(ROUND(#REF!,3),3)&\"]   \n<\"&FIXED(ROUND(#REF!,3),3)&\">\",\"\")","v":""}]
[null,{"$f":"IFERROR(#REF!&\"\n(\"&#REF!&\")   [\"&FIXED(ROUND(#REF!,3),3)&\"]   \n<\"&FIXED(ROUND(#REF!,3),3)&\">\",\"\")","v":""}]
[null,{"$f":"IFERROR(#REF!&\"\n(\"&#REF!&\")   [\"&FIXED(ROUND(#REF!,3),3)&\"]   \n<\"&FIXED(ROUND(#REF!,3),3)&\">\",\"\")","v":""}]
[null,{"$f":"IFERROR(#REF!&\"\n(\"&#REF!&\")   [\"&FIXED(ROUND(#REF!,3),3)&\"]   \n<\"&FIXED(ROUND(#REF!,3),3)&\">\",\"\")","v":""}]
[null,{"$f":"IFERROR(#REF!&\"\n(\"&#REF!&\")   [\"&FIXED(ROUND(#REF!,3),3)&\"]   \n<\"&FIXED(ROUND(#REF!,3),3)&\">\",\"\")","v":""}]
[null,{"$f":"IFERROR(#REF!&\"\n(\"&#REF!&\")   [\"&FIXED(ROUND(#REF!,3),3)&\"]   \n<\"&FIXED(ROUND(#REF!,3),3)&\">\",\"\")","v":""}]
[null,{"$f":"IFERROR(#REF!&\"\n(\"&#REF!&\")   [\"&FIXED(ROUND(#REF!,3),3)&\"]   \n<\"&FIXED(ROUND(#REF!,3),3)&\">\",\"\")","v":""}]
[null,{"$f":"IFERROR(#REF!&\"\n(\"&#REF!&\")   [\"&FIXED(ROUND(#REF!,3),3)&\"]   \n<\"&FIXED(ROUND(#REF!,3),3)&\">\",\"\")","v":""}]
[null,{"$f":"IFERROR(#REF!&\"\n(\"&#REF!&\")   [\"&FIXED(ROUND(#REF!,3),3)&\"]   \n<\"&FIXED(ROUND(#REF!,3),3)&\">\",\"\")","v":""}]
[null,{"$f":"IFERROR(#REF!&\"\n(\"&#REF!&\")   [\"&FIXED(ROUND(#REF!,3),3)&\"]   \n<\"&FIXED(ROUND(#REF!,3),3)&\">\",\"\")","v":""}]
[null,{"$f":"IFERROR(#REF!&\"\n(\"&#REF!&\")   [\"&FIXED(ROUND(#REF!,3),3)&\"]   \n<\"&FIXED(ROUND(#REF!,3),3)&\">\",\"\")","v":""}]
[null,{"$f":"IFERROR(#REF!&\"\n(\"&#REF!&\")   [\"&FIXED(ROUND(#REF!,3),3)&\"]   \n<\"&FIXED(ROUND(#REF!,3),3)&\">\",\"\")","v":""}]
[null,{"$f":"IFERROR(#REF!&\"\n(\"&#REF!&\")   [\"&FIXED(ROUND(#REF!,3),3)&\"]   \n<\"&FIXED(ROUND(#REF!,3),3)&\">\",\"\")","v":""}]
[null,{"$f":"IFERROR(#REF!&\"\n(\"&#REF!&\")   [\"&FIXED(ROUND(#REF!,3),3)&\"]   \n<\"&FIXED(ROUND(#REF!,3),3)&\">\",\"\")","v":""}]
[null,{"$f":"IFERROR(#REF!&\"\n(\"&#REF!&\")   [\"&FIXED(ROUND(#REF!,3),3)&\"]   \n<\"&FIXED(ROUND(#REF!,3),3)&\">\",\"\")","v":""}]
[null,{"$f":"IFERROR(#REF!&\"\n(\"&#REF!&\")   [\"&FIXED(ROUND(#REF!,3),3)&\"]   \n<\"&FIXED(ROUND(#REF!,3),3)&\">\",\"\")","v":""}]
[null,{"$f":"IFERROR(#REF!&\"\n(\"&#REF!&\")   [\"&FIXED(ROUND(#REF!,3),3)&\"]   \n<\"&FIXED(ROUND(#REF!,3),3)&\">\",\"\")","v":""}]
[null,{"$f":"IFERROR(#REF!&\"\n(\"&#REF!&\")   [\"&FIXED(ROUND(#REF!,3),3)&\"]   \n<\"&FIXED(ROUND(#REF!,3),3)&\">\",\"\")","v":""}]
[null,{"$f":"IFERROR(#REF!&\"\n(\"&#REF!&\")   [\"&FIXED(ROUND(#REF!,3),3)&\"]   \n<\"&FIXED(ROUND(#REF!,3),3)&\">\",\"\")","v":""}]
[null,{"$f":"IFERROR(#REF!&\"\n(\"&#REF!&\")   [\"&FIXED(ROUND(#REF!,3),3)&\"]   \n<\"&FIXED(ROUND(#REF!,3),3)&\">\",\"\")","v":""}]
[null,{"$f":"IFERROR(#REF!&\"\n(\"&#REF!&\")   [\"&FIXED(ROUND(#REF!,3),3)&\"]   \n<\"&FIXED(ROUND(#REF!,3),3)&\">\",\"\")","v":""}]
[null,{"$f":"IFERROR(#REF!&\"\n(\"&#REF!&\")   [\"&FIXED(ROUND(#REF!,3),3)&\"]   \n<\"&FIXED(ROUND(#REF!,3),3)&\">\",\"\")","v":""}]
[null,{"$f":"IFERROR(#REF!&\"\n(\"&#REF!&\")   [\"&FIXED(ROUND(#REF!,3),3)&\"]   \n<\"&FIXED(ROUND(#REF!,3),3)&\">\",\"\")","v":""}]
[null,{"$f":"IFERROR(#REF!&\"\n(\"&#REF!&\")   [\"&FIXED(ROUND(#REF!,3),3)&\"]   \n<\"&FIXED(ROUND(#REF!,3),3)&\">\",\"\")","v":""}]
[null,{"$f":"IFERROR(#REF!&\"\n(\"&#REF!&\")   [\"&FIXED(ROUND(#REF!,3),3)&\"]   \n<\"&FIXED(ROUND(#REF!,3),3)&\">\",\"\")","v":""}]
[null,{"$f":"IFERROR(#REF!&\"\n(\"&#REF!&\")   [\"&FIXED(ROUND(#REF!,3),3)&\"]   \n<\"&FIXED(ROUND(#REF!,3),3)&\">\",\"\")","v":""}]
[null,{"$f":"IFERROR(#REF!&\"\n(\"&#REF!&\")   [\"&FIXED(ROUND(#REF!,3),3)&\"]   \n<\"&FIXED(ROUND(#REF!,3),3)&\">\",\"\")","v":""}]
[null,{"$f":"IFERROR(#REF!&\"\n(\"&#REF!&\")   [\"&FIXED(ROUND(#REF!,3),3)&\"]   \n<\"&FIXED(ROUND(#REF!,3),3)&\">\",\"\")","v":""}]
[null,{"$f":"IFERROR(#REF!&\"\n(\"&#REF!&\")   [\"&FIXED(ROUND(#REF!,3),3)&\"]   \n<\"&FIXED(ROUND(#REF!,3),3)&\">\",\"\")","v":""}]
[null,{"$f":"IFERROR(#REF!&\"\n(\"&#REF!&\")   [\"&FIXED(ROUND(#REF!,3),3)&\"]   \n<\"&FIXED(ROUND(#REF!,3),3)&\">\",\"\")","v":""}]
[null,{"$f":"IFERROR(#REF!&\"\n(\"&#REF!&\")   [\"&FIXED(ROUND(#REF!,3),3)&\"]   \n<\"&FIXED(ROUND(#REF!,3),3)&\">\",\"\")","v":""}]
[null,{"$f":"IFERROR(#REF!&\"\n(\"&#REF!&\")   [\"&FIXED(ROUND(#REF!,3),3)&\"]   \n<\"&FIXED(ROUND(#REF!,3),3)&\">\",\"\")","v":""}]
[null,{"$f":"IFERROR(#REF!&\"\n(\"&#REF!&\")   [\"&FIXED(ROUND(#REF!,3),3)&\"]   \n<\"&FIXED(ROUND(#REF!,3),3)&\">\",\"\")","v":""}]
[null,{"$f":"IFERROR(#REF!&\"\n(\"&#REF!&\")   [\"&FIXED(ROUND(#REF!,3),3)&\"]   \n<\"&FIXED(ROUND(#REF!,3),3)&\">\",\"\")","v":""}]
[null,{"$f":"IFERROR(#REF!&\"\n(\"&#REF!&\")   [\"&FIXED(ROUND(#REF!,3),3)&\"]   \n<\"&FIXED(ROUND(#REF!,3),3)&\">\",\"\")","v":""}]
[null,{"$f":"IFERROR(#REF!&\"\n(\"&#REF!&\")   [\"&FIXED(ROUND(#REF!,3),3)&\"]   \n<\"&FIXED(ROUND(#REF!,3),3)&\">\",\"\")","v":""}]
[null,{"$f":"IFERROR(#REF!&\"\n(\"&#REF!&\")   [\"&FIXED(ROUND(#REF!,3),3)&\"]   \n<\"&FIXED(ROUND(#REF!,3),3)&\">\",\"\")","v":""}]
[null,{"$f":"IFERROR(#REF!&\"\n(\"&#REF!&\")   [\"&FIXED(ROUND(#REF!,3),3)&\"]   \n<\"&FIXED(ROUND(#REF!,3),3)&\">\",\"\")","v":""}]
[null,{"$f":"IFERROR(#REF!&\"\n(\"&#REF!&\")   [\"&FIXED(ROUND(#REF!,3),3)&\"]   \n<\"&FIXED(ROUND(#REF!,3),3)&\">\",\"\")","v":""}]
[null,{"$f":"IFERROR(#REF!&\"\n(\"&#REF!&\")   [\"&FIXED(ROUND(#REF!,3),3)&\"]   \n<\"&FIXED(ROUND(#REF!,3),3)&\">\",\"\")","v":""}]
[null,{"$f":"IFERROR(#REF!&\"\n(\"&#REF!&\")   [\"&FIXED(ROUND(#REF!,3),3)&\"]   \n<\"&FIXED(ROUND(#REF!,3),3)&\">\",\"\")","v":""}]
[null,{"$f":"IFERROR(#REF!&\"\n(\"&#REF!&\")   [\"&FIXED(ROUND(#REF!,3),3)&\"]   \n<\"&FIXED(ROUND(#REF!,3),3)&\">\",\"\")","v":""}]
[null,{"$f":"IFERROR(#REF!&\"\n(\"&#REF!&\")   [\"&FIXED(ROUND(#REF!,3),3)&\"]   \n<\"&FIXED(ROUND(#REF!,3),3)&\">\",\"\")","v":""}]
[null,{"$f":"IFERROR(#REF!&\"\n(\"&#REF!&\")   [\"&FIXED(ROUND(#REF!,3),3)&\"]   \n<\"&FIXED(ROUND(#REF!,3),3)&\">\",\"\")","v":""}]
[null,{"$f":"IFERROR(#REF!&\"\n(\"&#REF!&\")   [\"&FIXED(ROUND(#REF!,3),3)&\"]   \n<\"&FIXED(ROUND(#REF!,3),3)&\">\",\"\")","v":""}]
[null,{"$f":"IFERROR(#REF!&\"\n(\"&#REF!&\")   [\"&FIXED(ROUND(#REF!,3),3)&\"]   \n<\"&FIXED(ROUND(#REF!,3),3)&\">\",\"\")","v":""}]
[null,{"$f":"IFERROR(#REF!&\"\n(\"&#REF!&\")   [\"&FIXED(ROUND(#REF!,3),3)&\"]   \n<\"&FIXED(ROUND(#REF!,3),3)&\">\",\"\")","v":""}]
[null,{"$f":"IFERROR(#REF!&\"\n(\"&#REF!&\")   [\"&FIXED(ROUND(#REF!,3),3)&\"]   \n<\"&FIXED(ROUND(#REF!,3),3)&\">\",\"\")","v":""}]
[null,{"$f":"IFERROR(#REF!&\"\n(\"&#REF!&\")   [\"&FIXED(ROUND(#REF!,3),3)&\"]   \n<\"&FIXED(ROUND(#REF!,3),3)&\">\",\"\")","v":""}]
[null,{"$f":"IFERROR(#REF!&\"\n(\"&#REF!&\")   [\"&FIXED(ROUND(#REF!,3),3)&\"]   \n<\"&FIXED(ROUND(#REF!,3),3)&\">\",\"\")","v":""}]
[null,{"$f":"IFERROR(#REF!&\"\n(\"&#REF!&\")   [\"&FIXED(ROUND(#REF!,3),3)&\"]   \n<\"&FIXED(ROUND(#REF!,3),3)&\">\",\"\")","v":""}]
[null,{"$f":"IFERROR(#REF!&\"\n(\"&#REF!&\")   [\"&FIXED(ROUND(#REF!,3),3)&\"]   \n<\"&FIXED(ROUND(#REF!,3),3)&\">\",\"\")","v":""}]
[null,{"$f":"IFERROR(#REF!&\"\n(\"&#REF!&\")   [\"&FIXED(ROUND(#REF!,3),3)&\"]   \n<\"&FIXED(ROUND(#REF!,3),3)&\">\",\"\")","v":""}]
[null,{"$f":"IFERROR(#REF!&\"\n(\"&#REF!&\")   [\"&FIXED(ROUND(#REF!,3),3)&\"]   \n<\"&FIXED(ROUND(#REF!,3),3)&\">\",\"\")","v":""}]
[null,{"$f":"IFERROR(#REF!&\"\n(\"&#REF!&\")   [\"&FIXED(ROUND(#REF!,3),3)&\"]   \n<\"&FIXED(ROUND(#REF!,3),3)&\">\",\"\")","v":""}]
[null,{"$f":"IFERROR(#REF!&\"\n(\"&#REF!&\")   [\"&FIXED(ROUND(#REF!,3),3)&\"]   \n<\"&FIXED(ROUND(#REF!,3),3)&\">\",\"\")","v":""}]
[null,{"$f":"IFERROR(#REF!&\"\n(\"&#REF!&\")   [\"&FIXED(ROUND(#REF!,3),3)&\"]   \n<\"&FIXED(ROUND(#REF!,3),3)&\">\",\"\")","v":""}]
[null,{"$f":"IFERROR(#REF!&\"\n(\"&#REF!&\")   [\"&FIXED(ROUND(#REF!,3),3)&\"]   \n<\"&FIXED(ROUND(#REF!,3),3)&\">\",\"\")","v":""}]
[null,{"$f":"IFERROR(#REF!&\"\n(\"&#REF!&\")   [\"&FIXED(ROUND(#REF!,3),3)&\"]   \n<\"&FIXED(ROUND(#REF!,3),3)&\">\",\"\")","v":""}]
[null,{"$f":"IFERROR(#REF!&\"\n(\"&#REF!&\")   [\"&FIXED(ROUND(#REF!,3),3)&\"]   \n<\"&FIXED(ROUND(#REF!,3),3)&\">\",\"\")","v":""}]
[null,{"$f":"IFERROR(#REF!&\"\n(\"&#REF!&\")   [\"&FIXED(ROUND(#REF!,3),3)&\"]   \n<\"&FIXED(ROUND(#REF!,3),3)&\">\",\"\")","v":""}]
[null,{"$f":"IFERROR(#REF!&\"\n(\"&#REF!&\")   [\"&FIXED(ROUND(#REF!,3),3)&\"]   \n<\"&FIXED(ROUND(#REF!,3),3)&\">\",\"\")","v":""}]
[null,{"$f":"IFERROR(#REF!&\"\n(\"&#REF!&\")   [\"&FIXED(ROUND(#REF!,3),3)&\"]   \n<\"&FIXED(ROUND(#REF!,3),3)&\">\",\"\")","v":""}]
[null,{"$f":"IFERROR(#REF!&\"\n(\"&#REF!&\")   [\"&FIXED(ROUND(#REF!,3),3)&\"]   \n<\"&FIXED(ROUND(#REF!,3),3)&\">\",\"\")","v":""}]
[null,{"$f":"IFERROR(#REF!&\"\n(\"&#REF!&\")   [\"&FIXED(ROUND(#REF!,3),3)&\"]   \n<\"&FIXED(ROUND(#REF!,3),3)&\">\",\"\")","v":""}]
[null,{"$f":"IFERROR(#REF!&\"\n(\"&#REF!&\")   [\"&FIXED(ROUND(#REF!,3),3)&\"]   \n<\"&FIXED(ROUND(#REF!,3),3)&\">\",\"\")","v":""}]
[null,{"$f":"IFERROR(#REF!&\"\n(\"&#REF!&\")   [\"&FIXED(ROUND(#REF!,3),3)&\"]   \n<\"&FIXED(ROUND(#REF!,3),3)&\">\",\"\")","v":""}]
[null,{"$f":"IFERROR(#REF!&\"\n(\"&#REF!&\")   [\"&FIXED(ROUND(#REF!,3),3)&\"]   \n<\"&FIXED(ROUND(#REF!,3),3)&\">\",\"\")","v":""}]
[null,{"$f":"IFERROR(#REF!&\"\n(\"&#REF!&\")   [\"&FIXED(ROUND(#REF!,3),3)&\"]   \n<\"&FIXED(ROUND(#REF!,3),3)&\">\",\"\")","v":""}]
[null,{"$f":"IFERROR(#REF!&\"\n(\"&#REF!&\")   [\"&FIXED(ROUND(#REF!,3),3)&\"]   \n<\"&FIXED(ROUND(#REF!,3),3)&\">\",\"\")","v":""}]
[null,{"$f":"IFERROR(#REF!&\"\n(\"&#REF!&\")   [\"&FIXED(ROUND(#REF!,3),3)&\"]   \n<\"&FIXED(ROUND(#REF!,3),3)&\">\",\"\")","v":""}]
[null,{"$f":"IFERROR(#REF!&\"\n(\"&#REF!&\")   [\"&FIXED(ROUND(#REF!,3),3)&\"]   \n<\"&FIXED(ROUND(#REF!,3),3)&\">\",\"\")","v":""}]
[null,{"$f":"IFERROR(#REF!&\"\n(\"&#REF!&\")   [\"&FIXED(ROUND(#REF!,3),3)&\"]   \n<\"&FIXED(ROUND(#REF!,3),3)&\">\",\"\")","v":""}]
[null,{"$f":"IFERROR(#REF!&\"\n(\"&#REF!&\")   [\"&FIXED(ROUND(#REF!,3),3)&\"]   \n<\"&FIXED(ROUND(#REF!,3),3)&\">\",\"\")","v":""}]
[null,{"$f":"IFERROR(#REF!&\"\n(\"&#REF!&\")   [\"&FIXED(ROUND(#REF!,3),3)&\"]   \n<\"&FIXED(ROUND(#REF!,3),3)&\">\",\"\")","v":""}]
[null,{"$f":"IFERROR(#REF!&\"\n(\"&#REF!&\")   [\"&FIXED(ROUND(#REF!,3),3)&\"]   \n<\"&FIXED(ROUND(#REF!,3),3)&\">\",\"\")","v":""}]
[null,{"$f":"IFERROR(#REF!&\"\n(\"&#REF!&\")   [\"&FIXED(ROUND(#REF!,3),3)&\"]   \n<\"&FIXED(ROUND(#REF!,3),3)&\">\",\"\")","v":""}]
[null,{"$f":"IFERROR(#REF!&\"\n(\"&#REF!&\")   [\"&FIXED(ROUND(#REF!,3),3)&\"]   \n<\"&FIXED(ROUND(#REF!,3),3)&\">\",\"\")","v":""}]
[null,{"$f":"IFERROR(#REF!&\"\n(\"&#REF!&\")   [\"&FIXED(ROUND(#REF!,3),3)&\"]   \n<\"&FIXED(ROUND(#REF!,3),3)&\">\",\"\")","v":""}]
[null,{"$f":"IFERROR(#REF!&\"\n(\"&#REF!&\")   [\"&FIXED(ROUND(#REF!,3),3)&\"]   \n<\"&FIXED(ROUND(#REF!,3),3)&\">\",\"\")","v":""}]
[null,{"$f":"IFERROR(#REF!&\"\n(\"&#REF!&\")   [\"&FIXED(ROUND(#REF!,3),3)&\"]   \n<\"&FIXED(ROUND(#REF!,3),3)&\">\",\"\")","v":""}]
[null,{"$f":"IFERROR(#REF!&\"\n(\"&#REF!&\")   [\"&FIXED(ROUND(#REF!,3),3)&\"]   \n<\"&FIXED(ROUND(#REF!,3),3)&\">\",\"\")","v":""}]
[null,{"$f":"IFERROR(#REF!&\"\n(\"&#REF!&\")   [\"&FIXED(ROUND(#REF!,3),3)&\"]   \n<\"&FIXED(ROUND(#REF!,3),3)&\">\",\"\")","v":""}]
[null,{"$f":"IFERROR(#REF!&\"\n(\"&#REF!&\")   [\"&FIXED(ROUND(#REF!,3),3)&\"]   \n<\"&FIXED(ROUND(#REF!,3),3)&\">\",\"\")","v":""}]
[null,{"$f":"IFERROR(#REF!&\"\n(\"&#REF!&\")   [\"&FIXED(ROUND(#REF!,3),3)&\"]   \n<\"&FIXED(ROUND(#REF!,3),3)&\">\",\"\")","v":""}]
[null,{"$f":"IFERROR(#REF!&\"\n(\"&#REF!&\")   [\"&FIXED(ROUND(#REF!,3),3)&\"]   \n<\"&FIXED(ROUND(#REF!,3),3)&\">\",\"\")","v":""}]
[null,{"$f":"IFERROR(#REF!&\"\n(\"&#REF!&\")   [\"&FIXED(ROUND(#REF!,3),3)&\"]   \n<\"&FIXED(ROUND(#REF!,3),3)&\">\",\"\")","v":""}]
[null,{"$f":"IFERROR(#REF!&\"\n(\"&#REF!&\")   [\"&FIXED(ROUND(#REF!,3),3)&\"]   \n<\"&FIXED(ROUND(#REF!,3),3)&\">\",\"\")","v":""}]
[null,{"$f":"IFERROR(#REF!&\"\n(\"&#REF!&\")   [\"&FIXED(ROUND(#REF!,3),3)&\"]   \n<\"&FIXED(ROUND(#REF!,3),3)&\">\",\"\")","v":""}]
[null,{"$f":"IFERROR(#REF!&\"\n(\"&#REF!&\")   [\"&FIXED(ROUND(#REF!,3),3)&\"]   \n<\"&FIXED(ROUND(#REF!,3),3)&\">\",\"\")","v":""}]
[null,{"$f":"IFERROR(#REF!&\"\n(\"&#REF!&\")   [\"&FIXED(ROUND(#REF!,3),3)&\"]   \n<\"&FIXED(ROUND(#REF!,3),3)&\">\",\"\")","v":""}]
[null,{"$f":"IFERROR(#REF!&\"\n(\"&#REF!&\")   [\"&FIXED(ROUND(#REF!,3),3)&\"]   \n<\"&FIXED(ROUND(#REF!,3),3)&\">\",\"\")","v":""}]
[null,{"$f":"IFERROR(#REF!&\"\n(\"&#REF!&\")   [\"&FIXED(ROUND(#REF!,3),3)&\"]   \n<\"&FIXED(ROUND(#REF!,3),3)&\">\",\"\")","v":""}]
[null,{"$f":"IFERROR(#REF!&\"\n(\"&#REF!&\")   [\"&FIXED(ROUND(#REF!,3),3)&\"]   \n<\"&FIXED(ROUND(#REF!,3),3)&\">\",\"\")","v":""}]
[null,{"$f":"IFERROR(#REF!&\"\n(\"&#REF!&\")   [\"&FIXED(ROUND(#REF!,3),3)&\"]   \n<\"&FIXED(ROUND(#REF!,3),3)&\">\",\"\")","v":""}]
[null,{"$f":"IFERROR(#REF!&\"\n(\"&#REF!&\")   [\"&FIXED(ROUND(#REF!,3),3)&\"]   \n<\"&FIXED(ROUND(#REF!,3),3)&\">\",\"\")","v":""}]
[null,{"$f":"IFERROR(#REF!&\"\n(\"&#REF!&\")   [\"&FIXED(ROUND(#REF!,3),3)&\"]   \n<\"&FIXED(ROUND(#REF!,3),3)&\">\",\"\")","v":""}]
[null,{"$f":"IFERROR(#REF!&\"\n(\"&#REF!&\")   [\"&FIXED(ROUND(#REF!,3),3)&\"]   \n<\"&FIXED(ROUND(#REF!,3),3)&\">\",\"\")","v":""}]
[null,{"$f":"IFERROR(#REF!&\"\n(\"&#REF!&\")   [\"&FIXED(ROUND(#REF!,3),3)&\"]   \n<\"&FIXED(ROUND(#REF!,3),3)&\">\",\"\")","v":""}]
[null,{"$f":"IFERROR(#REF!&\"\n(\"&#REF!&\")   [\"&FIXED(ROUND(#REF!,3),3)&\"]   \n<\"&FIXED(ROUND(#REF!,3),3)&\">\",\"\")","v":""}]
[null,{"$f":"IFERROR(#REF!&\"\n(\"&#REF!&\")   [\"&FIXED(ROUND(#REF!,3),3)&\"]   \n<\"&FIXED(ROUND(#REF!,3),3)&\">\",\"\")","v":""}]
[null,{"$f":"IFERROR(#REF!&\"\n(\"&#REF!&\")   [\"&FIXED(ROUND(#REF!,3),3)&\"]   \n<\"&FIXED(ROUND(#REF!,3),3)&\">\",\"\")","v":""}]
[null,{"$f":"IFERROR(#REF!&\"\n(\"&#REF!&\")   [\"&FIXED(ROUND(#REF!,3),3)&\"]   \n<\"&FIXED(ROUND(#REF!,3),3)&\">\",\"\")","v":""}]
[null,{"$f":"IFERROR(#REF!&\"\n(\"&#REF!&\")   [\"&FIXED(ROUND(#REF!,3),3)&\"]   \n<\"&FIXED(ROUND(#REF!,3),3)&\">\",\"\")","v":""}]
[null,{"$f":"IFERROR(#REF!&\"\n(\"&#REF!&\")   [\"&FIXED(ROUND(#REF!,3),3)&\"]   \n<\"&FIXED(ROUND(#REF!,3),3)&\">\",\"\")","v":""}]
[null,{"$f":"IFERROR(#REF!&\"\n(\"&#REF!&\")   [\"&FIXED(ROUND(#REF!,3),3)&\"]   \n<\"&FIXED(ROUND(#REF!,3),3)&\">\",\"\")","v":""}]
[null,{"$f":"IFERROR(#REF!&\"\n(\"&#REF!&\")   [\"&FIXED(ROUND(#REF!,3),3)&\"]   \n<\"&FIXED(ROUND(#REF!,3),3)&\">\",\"\")","v":""}]
[null,{"$f":"IFERROR(#REF!&\"\n(\"&#REF!&\")   [\"&FIXED(ROUND(#REF!,3),3)&\"]   \n<\"&FIXED(ROUND(#REF!,3),3)&\">\",\"\")","v":""}]
[null,{"$f":"IFERROR(#REF!&\"\n(\"&#REF!&\")   [\"&FIXED(ROUND(#REF!,3),3)&\"]   \n<\"&FIXED(ROUND(#REF!,3),3)&\">\",\"\")","v":""}]
[null,{"$f":"IFERROR(#REF!&\"\n(\"&#REF!&\")   [\"&FIXED(ROUND(#REF!,3),3)&\"]   \n<\"&FIXED(ROUND(#REF!,3),3)&\">\",\"\")","v":""}]
[null,{"$f":"IFERROR(#REF!&\"\n(\"&#REF!&\")   [\"&FIXED(ROUND(#REF!,3),3)&\"]   \n<\"&FIXED(ROUND(#REF!,3),3)&\">\",\"\")","v":""}]
[null,{"$f":"IFERROR(#REF!&\"\n(\"&#REF!&\")   [\"&FIXED(ROUND(#REF!,3),3)&\"]   \n<\"&FIXED(ROUND(#REF!,3),3)&\">\",\"\")","v":""}]
[null,{"$f":"IFERROR(#REF!&\"\n(\"&#REF!&\")   [\"&FIXED(ROUND(#REF!,3),3)&\"]   \n<\"&FIXED(ROUND(#REF!,3),3)&\">\",\"\")","v":""}]
[null,{"$f":"IFERROR(#REF!&\"\n(\"&#REF!&\")   [\"&FIXED(ROUND(#REF!,3),3)&\"]   \n<\"&FIXED(ROUND(#REF!,3),3)&\">\",\"\")","v":""}]
[null,{"$f":"IFERROR(#REF!&\"\n(\"&#REF!&\")   [\"&FIXED(ROUND(#REF!,3),3)&\"]   \n<\"&FIXED(ROUND(#REF!,3),3)&\">\",\"\")","v":""}]
[null,{"$f":"IFERROR(#REF!&\"\n(\"&#REF!&\")   [\"&FIXED(ROUND(#REF!,3),3)&\"]   \n<\"&FIXED(ROUND(#REF!,3),3)&\">\",\"\")","v":""}]
[null,{"$f":"IFERROR(#REF!&\"\n(\"&#REF!&\")   [\"&FIXED(ROUND(#REF!,3),3)&\"]   \n<\"&FIXED(ROUND(#REF!,3),3)&\">\",\"\")","v":""}]
[null,{"$f":"IFERROR(#REF!&\"\n(\"&#REF!&\")   [\"&FIXED(ROUND(#REF!,3),3)&\"]   \n<\"&FIXED(ROUND(#REF!,3),3)&\">\",\"\")","v":""}]
[null,{"$f":"IFERROR(#REF!&\"\n(\"&#REF!&\")   [\"&FIXED(ROUND(#REF!,3),3)&\"]   \n<\"&FIXED(ROUND(#REF!,3),3)&\">\",\"\")","v":""}]
[null,{"$f":"IFERROR(#REF!&\"\n(\"&#REF!&\")   [\"&FIXED(ROUND(#REF!,3),3)&\"]   \n<\"&FIXED(ROUND(#REF!,3),3)&\">\",\"\")","v":""}]
[null,{"$f":"IFERROR(#REF!&\"\n(\"&#REF!&\")   [\"&FIXED(ROUND(#REF!,3),3)&\"]   \n<\"&FIXED(ROUND(#REF!,3),3)&\">\",\"\")","v":""}]
[null,{"$f":"IFERROR(#REF!&\"\n(\"&#REF!&\")   [\"&FIXED(ROUND(#REF!,3),3)&\"]   \n<\"&FIXED(ROUND(#REF!,3),3)&\">\",\"\")","v":""}]
[null,{"$f":"IFERROR(#REF!&\"\n(\"&#REF!&\")   [\"&FIXED(ROUND(#REF!,3),3)&\"]   \n<\"&FIXED(ROUND(#REF!,3),3)&\">\",\"\")","v":""}]
[null,{"$f":"IFERROR(#REF!&\"\n(\"&#REF!&\")   [\"&FIXED(ROUND(#REF!,3),3)&\"]   \n<\"&FIXED(ROUND(#REF!,3),3)&\">\",\"\")","v":""}]
[null,{"$f":"IFERROR(#REF!&\"\n(\"&#REF!&\")   [\"&FIXED(ROUND(#REF!,3),3)&\"]   \n<\"&FIXED(ROUND(#REF!,3),3)&\">\",\"\")","v":""}]
[null,{"$f":"IFERROR(#REF!&\"\n(\"&#REF!&\")   [\"&FIXED(ROUND(#REF!,3),3)&\"]   \n<\"&FIXED(ROUND(#REF!,3),3)&\">\",\"\")","v":""}]
[null,{"$f":"IFERROR(#REF!&\"\n(\"&#REF!&\")   [\"&FIXED(ROUND(#REF!,3),3)&\"]   \n<\"&FIXED(ROUND(#REF!,3),3)&\">\",\"\")","v":""}]
[null,{"$f":"IFERROR(#REF!&\"\n(\"&#REF!&\")   [\"&FIXED(ROUND(#REF!,3),3)&\"]   \n<\"&FIXED(ROUND(#REF!,3),3)&\">\",\"\")","v":""}]
[null,{"$f":"IFERROR(#REF!&\"\n(\"&#REF!&\")   [\"&FIXED(ROUND(#REF!,3),3)&\"]   \n<\"&FIXED(ROUND(#REF!,3),3)&\">\",\"\")","v":""}]
[null,{"$f":"IFERROR(#REF!&\"\n(\"&#REF!&\")   [\"&FIXED(ROUND(#REF!,3),3)&\"]   \n<\"&FIXED(ROUND(#REF!,3),3)&\">\",\"\")","v":""}]
[null,{"$f":"IFERROR(#REF!&\"\n(\"&#REF!&\")   [\"&FIXED(ROUND(#REF!,3),3)&\"]   \n<\"&FIXED(ROUND(#REF!,3),3)&\">\",\"\")","v":""}]
[null,{"$f":"IFERROR(#REF!&\"\n(\"&#REF!&\")   [\"&FIXED(ROUND(#REF!,3),3)&\"]   \n<\"&FIXED(ROUND(#REF!,3),3)&\">\",\"\")","v":""}]
[null,{"$f":"IFERROR(#REF!&\"\n(\"&#REF!&\")   [\"&FIXED(ROUND(#REF!,3),3)&\"]   \n<\"&FIXED(ROUND(#REF!,3),3)&\">\",\"\")","v":""}]
[null,{"$f":"IFERROR(#REF!&\"\n(\"&#REF!&\")   [\"&FIXED(ROUND(#REF!,3),3)&\"]   \n<\"&FIXED(ROUND(#REF!,3),3)&\">\",\"\")","v":""}]
[null,{"$f":"IFERROR(#REF!&\"\n(\"&#REF!&\")   [\"&FIXED(ROUND(#REF!,3),3)&\"]   \n<\"&FIXED(ROUND(#REF!,3),3)&\">\",\"\")","v":""}]
[null,{"$f":"IFERROR(#REF!&\"\n(\"&#REF!&\")   [\"&FIXED(ROUND(#REF!,3),3)&\"]   \n<\"&FIXED(ROUND(#REF!,3),3)&\">\",\"\")","v":""}]
[null,{"$f":"IFERROR(#REF!&\"\n(\"&#REF!&\")   [\"&FIXED(ROUND(#REF!,3),3)&\"]   \n<\"&FIXED(ROUND(#REF!,3),3)&\">\",\"\")","v":""}]
[null,{"$f":"IFERROR(#REF!&\"\n(\"&#REF!&\")   [\"&FIXED(ROUND(#REF!,3),3)&\"]   \n<\"&FIXED(ROUND(#REF!,3),3)&\">\",\"\")","v":""}]
[null,{"$f":"IFERROR(#REF!&\"\n(\"&#REF!&\")   [\"&FIXED(ROUND(#REF!,3),3)&\"]   \n<\"&FIXED(ROUND(#REF!,3),3)&\">\",\"\")","v":""}]
[null,{"$f":"IFERROR(#REF!&\"\n(\"&#REF!&\")   [\"&FIXED(ROUND(#REF!,3),3)&\"]   \n<\"&FIXED(ROUND(#REF!,3),3)&\">\",\"\")","v":""}]
[null,{"$f":"IFERROR(#REF!&\"\n(\"&#REF!&\")   [\"&FIXED(ROUND(#REF!,3),3)&\"]   \n<\"&FIXED(ROUND(#REF!,3),3)&\">\",\"\")","v":""}]
[null,{"$f":"IFERROR(#REF!&\"\n(\"&#REF!&\")   [\"&FIXED(ROUND(#REF!,3),3)&\"]   \n<\"&FIXED(ROUND(#REF!,3),3)&\">\",\"\")","v":""}]
[null,{"$f":"IFERROR(#REF!&\"\n(\"&#REF!&\")   [\"&FIXED(ROUND(#REF!,3),3)&\"]   \n<\"&FIXED(ROUND(#REF!,3),3)&\">\",\"\")","v":""}]
[null,{"$f":"IFERROR(#REF!&\"\n(\"&#REF!&\")   [\"&FIXED(ROUND(#REF!,3),3)&\"]   \n<\"&FIXED(ROUND(#REF!,3),3)&\">\",\"\")","v":""}]
[null,{"$f":"IFERROR(#REF!&\"\n(\"&#REF!&\")   [\"&FIXED(ROUND(#REF!,3),3)&\"]   \n<\"&FIXED(ROUND(#REF!,3),3)&\">\",\"\")","v":""}]
[null,{"$f":"IFERROR(#REF!&\"\n(\"&#REF!&\")   [\"&FIXED(ROUND(#REF!,3),3)&\"]   \n<\"&FIXED(ROUND(#REF!,3),3)&\">\",\"\")","v":""}]
[null,{"$f":"IFERROR(#REF!&\"\n(\"&#REF!&\")   [\"&FIXED(ROUND(#REF!,3),3)&\"]   \n<\"&FIXED(ROUND(#REF!,3),3)&\">\",\"\")","v":""}]
[null,{"$f":"IFERROR(#REF!&\"\n(\"&#REF!&\")   [\"&FIXED(ROUND(#REF!,3),3)&\"]   \n<\"&FIXED(ROUND(#REF!,3),3)&\">\",\"\")","v":""}]
[null,{"$f":"IFERROR(#REF!&\"\n(\"&#REF!&\")   [\"&FIXED(ROUND(#REF!,3),3)&\"]   \n<\"&FIXED(ROUND(#REF!,3),3)&\">\",\"\")","v":""}]
[null,{"$f":"IFERROR(#REF!&\"\n(\"&#REF!&\")   [\"&FIXED(ROUND(#REF!,3),3)&\"]   \n<\"&FIXED(ROUND(#REF!,3),3)&\">\",\"\")","v":""}]
[null,{"$f":"IFERROR(#REF!&\"\n(\"&#REF!&\")   [\"&FIXED(ROUND(#REF!,3),3)&\"]   \n<\"&FIXED(ROUND(#REF!,3),3)&\">\",\"\")","v":""}]
[null,{"$f":"IFERROR(#REF!&\"\n(\"&#REF!&\")   [\"&FIXED(ROUND(#REF!,3),3)&\"]   \n<\"&FIXED(ROUND(#REF!,3),3)&\">\",\"\")","v":""}]
[null,{"$f":"IFERROR(#REF!&\"\n(\"&#REF!&\")   [\"&FIXED(ROUND(#REF!,3),3)&\"]   \n<\"&FIXED(ROUND(#REF!,3),3)&\">\",\"\")","v":""}]
[null,{"$f":"IFERROR(#REF!&\"\n(\"&#REF!&\")   [\"&FIXED(ROUND(#REF!,3),3)&\"]   \n<\"&FIXED(ROUND(#REF!,3),3)&\">\",\"\")","v":""}]
[null,{"$f":"IFERROR(#REF!&\"\n(\"&#REF!&\")   [\"&FIXED(ROUND(#REF!,3),3)&\"]   \n<\"&FIXED(ROUND(#REF!,3),3)&\">\",\"\")","v":""}]
[null,{"$f":"IFERROR(#REF!&\"\n(\"&#REF!&\")   [\"&FIXED(ROUND(#REF!,3),3)&\"]   \n<\"&FIXED(ROUND(#REF!,3),3)&\">\",\"\")","v":""}]
[null,{"$f":"IFERROR(#REF!&\"\n(\"&#REF!&\")   [\"&FIXED(ROUND(#REF!,3),3)&\"]   \n<\"&FIXED(ROUND(#REF!,3),3)&\">\",\"\")","v":""}]
[null,{"$f":"IFERROR(#REF!&\"\n(\"&#REF!&\")   [\"&FIXED(ROUND(#REF!,3),3)&\"]   \n<\"&FIXED(ROUND(#REF!,3),3)&\">\",\"\")","v":""}]
[null,{"$f":"IFERROR(#REF!&\"\n(\"&#REF!&\")   [\"&FIXED(ROUND(#REF!,3),3)&\"]   \n<\"&FIXED(ROUND(#REF!,3),3)&\">\",\"\")","v":""}]
[null,{"$f":"IFERROR(#REF!&\"\n(\"&#REF!&\")   [\"&FIXED(ROUND(#REF!,3),3)&\"]   \n<\"&FIXED(ROUND(#REF!,3),3)&\">\",\"\")","v":""}]
[null,{"$f":"IFERROR(#REF!&\"\n(\"&#REF!&\")   [\"&FIXED(ROUND(#REF!,3),3)&\"]   \n<\"&FIXED(ROUND(#REF!,3),3)&\">\",\"\")","v":""}]
[null,{"$f":"IFERROR(#REF!&\"\n(\"&#REF!&\")   [\"&FIXED(ROUND(#REF!,3),3)&\"]   \n<\"&FIXED(ROUND(#REF!,3),3)&\">\",\"\")","v":""}]
[null,{"$f":"IFERROR(#REF!&\"\n(\"&#REF!&\")   [\"&FIXED(ROUND(#REF!,3),3)&\"]   \n<\"&FIXED(ROUND(#REF!,3),3)&\">\",\"\")","v":""}]
[null,{"$f":"IFERROR(#REF!&\"\n(\"&#REF!&\")   [\"&FIXED(ROUND(#REF!,3),3)&\"]   \n<\"&FIXED(ROUND(#REF!,3),3)&\">\",\"\")","v":""}]
[null,{"$f":"IFERROR(#REF!&\"\n(\"&#REF!&\")   [\"&FIXED(ROUND(#REF!,3),3)&\"]   \n<\"&FIXED(ROUND(#REF!,3),3)&\">\",\"\")","v":""}]
[null,{"$f":"IFERROR(#REF!&\"\n(\"&#REF!&\")   [\"&FIXED(ROUND(#REF!,3),3)&\"]   \n<\"&FIXED(ROUND(#REF!,3),3)&\">\",\"\")","v":""}]
[null,{"$f":"IFERROR(#REF!&\"\n(\"&#REF!&\")   [\"&FIXED(ROUND(#REF!,3),3)&\"]   \n<\"&FIXED(ROUND(#REF!,3),3)&\">\",\"\")","v":""}]
[null,{"$f":"IFERROR(#REF!&\"\n(\"&#REF!&\")   [\"&FIXED(ROUND(#REF!,3),3)&\"]   \n<\"&FIXED(ROUND(#REF!,3),3)&\">\",\"\")","v":""}]
[null,{"$f":"IFERROR(#REF!&\"\n(\"&#REF!&\")   [\"&FIXED(ROUND(#REF!,3),3)&\"]   \n<\"&FIXED(ROUND(#REF!,3),3)&\">\",\"\")","v":""}]
[null,{"$f":"IFERROR(#REF!&\"\n(\"&#REF!&\")   [\"&FIXED(ROUND(#REF!,3),3)&\"]   \n<\"&FIXED(ROUND(#REF!,3),3)&\">\",\"\")","v":""}]
[null,{"$f":"IFERROR(#REF!&\"\n(\"&#REF!&\")   [\"&FIXED(ROUND(#REF!,3),3)&\"]   \n<\"&FIXED(ROUND(#REF!,3),3)&\">\",\"\")","v":""}]
[null,{"$f":"IFERROR(#REF!&\"\n(\"&#REF!&\")   [\"&FIXED(ROUND(#REF!,3),3)&\"]   \n<\"&FIXED(ROUND(#REF!,3),3)&\">\",\"\")","v":""}]
[null,{"$f":"IFERROR(#REF!&\"\n(\"&#REF!&\")   [\"&FIXED(ROUND(#REF!,3),3)&\"]   \n<\"&FIXED(ROUND(#REF!,3),3)&\">\",\"\")","v":""}]
[null,{"$f":"IFERROR(#REF!&\"\n(\"&#REF!&\")   [\"&FIXED(ROUND(#REF!,3),3)&\"]   \n<\"&FIXED(ROUND(#REF!,3),3)&\">\",\"\")","v":""}]
[null,{"$f":"IFERROR(#REF!&\"\n(\"&#REF!&\")   [\"&FIXED(ROUND(#REF!,3),3)&\"]   \n<\"&FIXED(ROUND(#REF!,3),3)&\">\",\"\")","v":""}]
[null,{"$f":"IFERROR(#REF!&\"\n(\"&#REF!&\")   [\"&FIXED(ROUND(#REF!,3),3)&\"]   \n<\"&FIXED(ROUND(#REF!,3),3)&\">\",\"\")","v":""}]
[null,{"$f":"IFERROR(#REF!&\"\n(\"&#REF!&\")   [\"&FIXED(ROUND(#REF!,3),3)&\"]   \n<\"&FIXED(ROUND(#REF!,3),3)&\">\",\"\")","v":""}]
[null,{"$f":"IFERROR(#REF!&\"\n(\"&#REF!&\")   [\"&FIXED(ROUND(#REF!,3),3)&\"]   \n<\"&FIXED(ROUND(#REF!,3),3)&\">\",\"\")","v":""}]
[null,{"$f":"IFERROR(#REF!&\"\n(\"&#REF!&\")   [\"&FIXED(ROUND(#REF!,3),3)&\"]   \n<\"&FIXED(ROUND(#REF!,3),3)&\">\",\"\")","v":""}]
[null,{"$f":"IFERROR(#REF!&\"\n(\"&#REF!&\")   [\"&FIXED(ROUND(#REF!,3),3)&\"]   \n<\"&FIXED(ROUND(#REF!,3),3)&\">\",\"\")","v":""}]
[null,{"$f":"IFERROR(#REF!&\"\n(\"&#REF!&\")   [\"&FIXED(ROUND(#REF!,3),3)&\"]   \n<\"&FIXED(ROUND(#REF!,3),3)&\">\",\"\")","v":""}]
[null,{"$f":"IFERROR(#REF!&\"\n(\"&#REF!&\")   [\"&FIXED(ROUND(#REF!,3),3)&\"]   \n<\"&FIXED(ROUND(#REF!,3),3)&\">\",\"\")","v":""}]
[null,{"$f":"IFERROR(#REF!&\"\n(\"&#REF!&\")   [\"&FIXED(ROUND(#REF!,3),3)&\"]   \n<\"&FIXED(ROUND(#REF!,3),3)&\">\",\"\")","v":""}]
[null,{"$f":"IFERROR(#REF!&\"\n(\"&#REF!&\")   [\"&FIXED(ROUND(#REF!,3),3)&\"]   \n<\"&FIXED(ROUND(#REF!,3),3)&\">\",\"\")","v":""}]
[null,{"$f":"IFERROR(#REF!&\"\n(\"&#REF!&\")   [\"&FIXED(ROUND(#REF!,3),3)&\"]   \n<\"&FIXED(ROUND(#REF!,3),3)&\">\",\"\")","v":""}]
[null,{"$f":"IFERROR(#REF!&\"\n(\"&#REF!&\")   [\"&FIXED(ROUND(#REF!,3),3)&\"]   \n<\"&FIXED(ROUND(#REF!,3),3)&\">\",\"\")","v":""}]
[null,{"$f":"IFERROR(#REF!&\"\n(\"&#REF!&\")   [\"&FIXED(ROUND(#REF!,3),3)&\"]   \n<\"&FIXED(ROUND(#REF!,3),3)&\">\",\"\")","v":""}]
[null,{"$f":"IFERROR(#REF!&\"\n(\"&#REF!&\")   [\"&FIXED(ROUND(#REF!,3),3)&\"]   \n<\"&FIXED(ROUND(#REF!,3),3)&\">\",\"\")","v":""}]
[null,{"$f":"IFERROR(#REF!&\"\n(\"&#REF!&\")   [\"&FIXED(ROUND(#REF!,3),3)&\"]   \n<\"&FIXED(ROUND(#REF!,3),3)&\">\",\"\")","v":""}]
[null,{"$f":"IFERROR(#REF!&\"\n(\"&#REF!&\")   [\"&FIXED(ROUND(#REF!,3),3)&\"]   \n<\"&FIXED(ROUND(#REF!,3),3)&\">\",\"\")","v":""}]
[null,{"$f":"IFERROR(#REF!&\"\n(\"&#REF!&\")   [\"&FIXED(ROUND(#REF!,3),3)&\"]   \n<\"&FIXED(ROUND(#REF!,3),3)&\">\",\"\")","v":""}]
[null,{"$f":"IFERROR(#REF!&\"\n(\"&#REF!&\")   [\"&FIXED(ROUND(#REF!,3),3)&\"]   \n<\"&FIXED(ROUND(#REF!,3),3)&\">\",\"\")","v":""}]
[null,{"$f":"IFERROR(#REF!&\"\n(\"&#REF!&\")   [\"&FIXED(ROUND(#REF!,3),3)&\"]   \n<\"&FIXED(ROUND(#REF!,3),3)&\">\",\"\")","v":""}]
[null,{"$f":"IFERROR(#REF!&\"\n(\"&#REF!&\")   [\"&FIXED(ROUND(#REF!,3),3)&\"]   \n<\"&FIXED(ROUND(#REF!,3),3)&\">\",\"\")","v":""}]
[null,{"$f":"IFERROR(#REF!&\"\n(\"&#REF!&\")   [\"&FIXED(ROUND(#REF!,3),3)&\"]   \n<\"&FIXED(ROUND(#REF!,3),3)&\">\",\"\")","v":""}]
[null,{"$f":"IFERROR(#REF!&\"\n(\"&#REF!&\")   [\"&FIXED(ROUND(#REF!,3),3)&\"]   \n<\"&FIXED(ROUND(#REF!,3),3)&\">\",\"\")","v":""}]
[null,{"$f":"IFERROR(#REF!&\"\n(\"&#REF!&\")   [\"&FIXED(ROUND(#REF!,3),3)&\"]   \n<\"&FIXED(ROUND(#REF!,3),3)&\">\",\"\")","v":""}]
[null,{"$f":"IFERROR(#REF!&\"\n(\"&#REF!&\")   [\"&FIXED(ROUND(#REF!,3),3)&\"]   \n<\"&FIXED(ROUND(#REF!,3),3)&\">\",\"\")","v":""}]
[null,{"$f":"IFERROR(#REF!&\"\n(\"&#REF!&\")   [\"&FIXED(ROUND(#REF!,3),3)&\"]   \n<\"&FIXED(ROUND(#REF!,3),3)&\">\",\"\")","v":""}]
[null,{"$f":"IFERROR(#REF!&\"\n(\"&#REF!&\")   [\"&FIXED(ROUND(#REF!,3),3)&\"]   \n<\"&FIXED(ROUND(#REF!,3),3)&\">\",\"\")","v":""}]
[null,{"$f":"IFERROR(#REF!&\"\n(\"&#REF!&\")   [\"&FIXED(ROUND(#REF!,3),3)&\"]   \n<\"&FIXED(ROUND(#REF!,3),3)&\">\",\"\")","v":""}]
[null,{"$f":"IFERROR(#REF!&\"\n(\"&#REF!&\")   [\"&FIXED(ROUND(#REF!,3),3)&\"]   \n<\"&FIXED(ROUND(#REF!,3),3)&\">\",\"\")","v":""}]
[null,{"$f":"IFERROR(#REF!&\"\n(\"&#REF!&\")   [\"&FIXED(ROUND(#REF!,3),3)&\"]   \n<\"&FIXED(ROUND(#REF!,3),3)&\">\",\"\")","v":""}]
[null,{"$f":"IFERROR(#REF!&\"\n(\"&#REF!&\")   [\"&FIXED(ROUND(#REF!,3),3)&\"]   \n<\"&FIXED(ROUND(#REF!,3),3)&\">\",\"\")","v":""}]
[null,{"$f":"IFERROR(#REF!&\"\n(\"&#REF!&\")   [\"&FIXED(ROUND(#REF!,3),3)&\"]   \n<\"&FIXED(ROUND(#REF!,3),3)&\">\",\"\")","v":""}]
[null,{"$f":"IFERROR(#REF!&\"\n(\"&#REF!&\")   [\"&FIXED(ROUND(#REF!,3),3)&\"]   \n<\"&FIXED(ROUND(#REF!,3),3)&\">\",\"\")","v":""}]
[null,{"$f":"IFERROR(#REF!&\"\n(\"&#REF!&\")   [\"&FIXED(ROUND(#REF!,3),3)&\"]   \n<\"&FIXED(ROUND(#REF!,3),3)&\">\",\"\")","v":""}]
[null,{"$f":"IFERROR(#REF!&\"\n(\"&#REF!&\")   [\"&FIXED(ROUND(#REF!,3),3)&\"]   \n<\"&FIXED(ROUND(#REF!,3),3)&\">\",\"\")","v":""}]
[null,{"$f":"IFERROR(#REF!&\"\n(\"&#REF!&\")   [\"&FIXED(ROUND(#REF!,3),3)&\"]   \n<\"&FIXED(ROUND(#REF!,3),3)&\">\",\"\")","v":""}]
[null,{"$f":"IFERROR(#REF!&\"\n(\"&#REF!&\")   [\"&FIXED(ROUND(#REF!,3),3)&\"]   \n<\"&FIXED(ROUND(#REF!,3),3)&\">\",\"\")","v":""}]
[null,{"$f":"IFERROR(#REF!&\"\n(\"&#REF!&\")   [\"&FIXED(ROUND(#REF!,3),3)&\"]   \n<\"&FIXED(ROUND(#REF!,3),3)&\">\",\"\")","v":""}]
[null,{"$f":"IFERROR(#REF!&\"\n(\"&#REF!&\")   [\"&FIXED(ROUND(#REF!,3),3)&\"]   \n<\"&FIXED(ROUND(#REF!,3),3)&\">\",\"\")","v":""}]
[null,{"$f":"IFERROR(#REF!&\"\n(\"&#REF!&\")   [\"&FIXED(ROUND(#REF!,3),3)&\"]   \n<\"&FIXED(ROUND(#REF!,3),3)&\">\",\"\")","v":""}]
[null,{"$f":"IFERROR(#REF!&\"\n(\"&#REF!&\")   [\"&FIXED(ROUND(#REF!,3),3)&\"]   \n<\"&FIXED(ROUND(#REF!,3),3)&\">\",\"\")","v":""}]
[null,{"$f":"IFERROR(#REF!&\"\n(\"&#REF!&\")   [\"&FIXED(ROUND(#REF!,3),3)&\"]   \n<\"&FIXED(ROUND(#REF!,3),3)&\">\",\"\")","v":""}]
[null,{"$f":"IFERROR(#REF!&\"\n(\"&#REF!&\")   [\"&FIXED(ROUND(#REF!,3),3)&\"]   \n<\"&FIXED(ROUND(#REF!,3),3)&\">\",\"\")","v":""}]
[null,{"$f":"IFERROR(#REF!&\"\n(\"&#REF!&\")   [\"&FIXED(ROUND(#REF!,3),3)&\"]   \n<\"&FIXED(ROUND(#REF!,3),3)&\">\",\"\")","v":""}]
[null,{"$f":"IFERROR(#REF!&\"\n(\"&#REF!&\")   [\"&FIXED(ROUND(#REF!,3),3)&\"]   \n<\"&FIXED(ROUND(#REF!,3),3)&\">\",\"\")","v":""}]
[null,{"$f":"IFERROR(#REF!&\"\n(\"&#REF!&\")   [\"&FIXED(ROUND(#REF!,3),3)&\"]   \n<\"&FIXED(ROUND(#REF!,3),3)&\">\",\"\")","v":""}]
[null,{"$f":"IFERROR(#REF!&\"\n(\"&#REF!&\")   [\"&FIXED(ROUND(#REF!,3),3)&\"]   \n<\"&FIXED(ROUND(#REF!,3),3)&\">\",\"\")","v":""}]
[null,{"$f":"IFERROR(#REF!&\"\n(\"&#REF!&\")   [\"&FIXED(ROUND(#REF!,3),3)&\"]   \n<\"&FIXED(ROUND(#REF!,3),3)&\">\",\"\")","v":""}]
[null,{"$f":"IFERROR(#REF!&\"\n(\"&#REF!&\")   [\"&FIXED(ROUND(#REF!,3),3)&\"]   \n<\"&FIXED(ROUND(#REF!,3),3)&\">\",\"\")","v":""}]
[null,{"$f":"IFERROR(#REF!&\"\n(\"&#REF!&\")   [\"&FIXED(ROUND(#REF!,3),3)&\"]   \n<\"&FIXED(ROUND(#REF!,3),3)&\">\",\"\")","v":""}]
[null,{"$f":"IFERROR(#REF!&\"\n(\"&#REF!&\")   [\"&FIXED(ROUND(#REF!,3),3)&\"]   \n<\"&FIXED(ROUND(#REF!,3),3)&\">\",\"\")","v":""}]
[null,{"$f":"IFERROR(#REF!&\"\n(\"&#REF!&\")   [\"&FIXED(ROUND(#REF!,3),3)&\"]   \n<\"&FIXED(ROUND(#REF!,3),3)&\">\",\"\")","v":""}]
[null,{"$f":"IFERROR(#REF!&\"\n(\"&#REF!&\")   [\"&FIXED(ROUND(#REF!,3),3)&\"]   \n<\"&FIXED(ROUND(#REF!,3),3)&\">\",\"\")","v":""}]
[null,{"$f":"IFERROR(#REF!&\"\n(\"&#REF!&\")   [\"&FIXED(ROUND(#REF!,3),3)&\"]   \n<\"&FIXED(ROUND(#REF!,3),3)&\">\",\"\")","v":""}]
[null,{"$f":"IFERROR(#REF!&\"\n(\"&#REF!&\")   [\"&FIXED(ROUND(#REF!,3),3)&\"]   \n<\"&FIXED(ROUND(#REF!,3),3)&\">\",\"\")","v":""}]
[null,{"$f":"IFERROR(#REF!&\"\n(\"&#REF!&\")   [\"&FIXED(ROUND(#REF!,3),3)&\"]   \n<\"&FIXED(ROUND(#REF!,3),3)&\">\",\"\")","v":""}]
[null,{"$f":"IFERROR(#REF!&\"\n(\"&#REF!&\")   [\"&FIXED(ROUND(#REF!,3),3)&\"]   \n<\"&FIXED(ROUND(#REF!,3),3)&\">\",\"\")","v":""}]
[null,{"$f":"IFERROR(#REF!&\"\n(\"&#REF!&\")   [\"&FIXED(ROUND(#REF!,3),3)&\"]   \n<\"&FIXED(ROUND(#REF!,3),3)&\">\",\"\")","v":""}]
[null,{"$f":"IFERROR(#REF!&\"\n(\"&#REF!&\")   [\"&FIXED(ROUND(#REF!,3),3)&\"]   \n<\"&FIXED(ROUND(#REF!,3),3)&\">\",\"\")","v":""}]
[null,{"$f":"IFERROR(#REF!&\"\n(\"&#REF!&\")   [\"&FIXED(ROUND(#REF!,3),3)&\"]   \n<\"&FIXED(ROUND(#REF!,3),3)&\">\",\"\")","v":""}]
[null,{"$f":"IFERROR(#REF!&\"\n(\"&#REF!&\")   [\"&FIXED(ROUND(#REF!,3),3)&\"]   \n<\"&FIXED(ROUND(#REF!,3),3)&\">\",\"\")","v":""}]
[null,{"$f":"IFERROR(#REF!&\"\n(\"&#REF!&\")   [\"&FIXED(ROUND(#REF!,3),3)&\"]   \n<\"&FIXED(ROUND(#REF!,3),3)&\">\",\"\")","v":""}]
[null,{"$f":"IFERROR(#REF!&\"\n(\"&#REF!&\")   [\"&FIXED(ROUND(#REF!,3),3)&\"]   \n<\"&FIXED(ROUND(#REF!,3),3)&\">\",\"\")","v":""}]
[null,{"$f":"IFERROR(#REF!&\"\n(\"&#REF!&\")   [\"&FIXED(ROUND(#REF!,3),3)&\"]   \n<\"&FIXED(ROUND(#REF!,3),3)&\">\",\"\")","v":""}]
[null,{"$f":"IFERROR(#REF!&\"\n(\"&#REF!&\")   [\"&FIXED(ROUND(#REF!,3),3)&\"]   \n<\"&FIXED(ROUND(#REF!,3),3)&\">\",\"\")","v":""}]
[null,{"$f":"IFERROR(#REF!&\"\n(\"&#REF!&\")   [\"&FIXED(ROUND(#REF!,3),3)&\"]   \n<\"&FIXED(ROUND(#REF!,3),3)&\">\",\"\")","v":""}]
[null,{"$f":"IFERROR(#REF!&\"\n(\"&#REF!&\")   [\"&FIXED(ROUND(#REF!,3),3)&\"]   \n<\"&FIXED(ROUND(#REF!,3),3)&\">\",\"\")","v":""}]
[null,{"$f":"IFERROR(#REF!&\"\n(\"&#REF!&\")   [\"&FIXED(ROUND(#REF!,3),3)&\"]   \n<\"&FIXED(ROUND(#REF!,3),3)&\">\",\"\")","v":""}]
[null,{"$f":"IFERROR(#REF!&\"\n(\"&#REF!&\")   [\"&FIXED(ROUND(#REF!,3),3)&\"]   \n<\"&FIXED(ROUND(#REF!,3),3)&\">\",\"\")","v":""}]
[null,{"$f":"IFERROR(#REF!&\"\n(\"&#REF!&\")   [\"&FIXED(ROUND(#REF!,3),3)&\"]   \n<\"&FIXED(ROUND(#REF!,3),3)&\">\",\"\")","v":""}]
[null,{"$f":"IFERROR(#REF!&\"\n(\"&#REF!&\")   [\"&FIXED(ROUND(#REF!,3),3)&\"]   \n<\"&FIXED(ROUND(#REF!,3),3)&\">\",\"\")","v":""}]
[null,{"$f":"IFERROR(#REF!&\"\n(\"&#REF!&\")   [\"&FIXED(ROUND(#REF!,3),3)&\"]   \n<\"&FIXED(ROUND(#REF!,3),3)&\">\",\"\")","v":""}]
[null,{"$f":"IFERROR(#REF!&\"\n(\"&#REF!&\")   [\"&FIXED(ROUND(#REF!,3),3)&\"]   \n<\"&FIXED(ROUND(#REF!,3),3)&\">\",\"\")","v":""}]
[null,{"$f":"IFERROR(#REF!&\"\n(\"&#REF!&\")   [\"&FIXED(ROUND(#REF!,3),3)&\"]   \n<\"&FIXED(ROUND(#REF!,3),3)&\">\",\"\")","v":""}]
[null,{"$f":"IFERROR(#REF!&\"\n(\"&#REF!&\")   [\"&FIXED(ROUND(#REF!,3),3)&\"]   \n<\"&FIXED(ROUND(#REF!,3),3)&\">\",\"\")","v":""}]
[null,{"$f":"IFERROR(#REF!&\"\n(\"&#REF!&\")   [\"&FIXED(ROUND(#REF!,3),3)&\"]   \n<\"&FIXED(ROUND(#REF!,3),3)&\">\",\"\")","v":""}]
[null,{"$f":"IFERROR(#REF!&\"\n(\"&#REF!&\")   [\"&FIXED(ROUND(#REF!,3),3)&\"]   \n<\"&FIXED(ROUND(#REF!,3),3)&\">\",\"\")","v":""}]
[null,{"$f":"IFERROR(#REF!&\"\n(\"&#REF!&\")   [\"&FIXED(ROUND(#REF!,3),3)&\"]   \n<\"&FIXED(ROUND(#REF!,3),3)&\">\",\"\")","v":""}]
[null,{"$f":"IFERROR(#REF!&\"\n(\"&#REF!&\")   [\"&FIXED(ROUND(#REF!,3),3)&\"]   \n<\"&FIXED(ROUND(#REF!,3),3)&\">\",\"\")","v":""}]
[null,{"$f":"IFERROR(#REF!&\"\n(\"&#REF!&\")   [\"&FIXED(ROUND(#REF!,3),3)&\"]   \n<\"&FIXED(ROUND(#REF!,3),3)&\">\",\"\")","v":""}]
[null,{"$f":"IFERROR(#REF!&\"\n(\"&#REF!&\")   [\"&FIXED(ROUND(#REF!,3),3)&\"]   \n<\"&FIXED(ROUND(#REF!,3),3)&\">\",\"\")","v":""}]
[null,{"$f":"IFERROR(#REF!&\"\n(\"&#REF!&\")   [\"&FIXED(ROUND(#REF!,3),3)&\"]   \n<\"&FIXED(ROUND(#REF!,3),3)&\">\",\"\")","v":""}]
[null,{"$f":"IFERROR(#REF!&\"\n(\"&#REF!&\")   [\"&FIXED(ROUND(#REF!,3),3)&\"]   \n<\"&FIXED(ROUND(#REF!,3),3)&\">\",\"\")","v":""}]
[null,{"$f":"IFERROR(#REF!&\"\n(\"&#REF!&\")   [\"&FIXED(ROUND(#REF!,3),3)&\"]   \n<\"&FIXED(ROUND(#REF!,3),3)&\">\",\"\")","v":""}]
[null,{"$f":"IFERROR(#REF!&\"\n(\"&#REF!&\")   [\"&FIXED(ROUND(#REF!,3),3)&\"]   \n<\"&FIXED(ROUND(#REF!,3),3)&\">\",\"\")","v":""}]
[null,{"$f":"IFERROR(#REF!&\"\n(\"&#REF!&\")   [\"&FIXED(ROUND(#REF!,3),3)&\"]   \n<\"&FIXED(ROUND(#REF!,3),3)&\">\",\"\")","v":""}]
[null,{"$f":"IFERROR(#REF!&\"\n(\"&#REF!&\")   [\"&FIXED(ROUND(#REF!,3),3)&\"]   \n<\"&FIXED(ROUND(#REF!,3),3)&\">\",\"\")","v":""}]
[null,{"$f":"IFERROR(#REF!&\"\n(\"&#REF!&\")   [\"&FIXED(ROUND(#REF!,3),3)&\"]   \n<\"&FIXED(ROUND(#REF!,3),3)&\">\",\"\")","v":""}]
[null,{"$f":"IFERROR(#REF!&\"\n(\"&#REF!&\")   [\"&FIXED(ROUND(#REF!,3),3)&\"]   \n<\"&FIXED(ROUND(#REF!,3),3)&\">\",\"\")","v":""}]
[null,{"$f":"IFERROR(#REF!&\"\n(\"&#REF!&\")   [\"&FIXED(ROUND(#REF!,3),3)&\"]   \n<\"&FIXED(ROUND(#REF!,3),3)&\">\",\"\")","v":""}]
[null,{"$f":"IFERROR(#REF!&\"\n(\"&#REF!&\")   [\"&FIXED(ROUND(#REF!,3),3)&\"]   \n<\"&FIXED(ROUND(#REF!,3),3)&\">\",\"\")","v":""}]
[null,{"$f":"IFERROR(#REF!&\"\n(\"&#REF!&\")   [\"&FIXED(ROUND(#REF!,3),3)&\"]   \n<\"&FIXED(ROUND(#REF!,3),3)&\">\",\"\")","v":""}]
[null,{"$f":"IFERROR(#REF!&\"\n(\"&#REF!&\")   [\"&FIXED(ROUND(#REF!,3),3)&\"]   \n<\"&FIXED(ROUND(#REF!,3),3)&\">\",\"\")","v":""}]
[null,{"$f":"IFERROR(#REF!&\"\n(\"&#REF!&\")   [\"&FIXED(ROUND(#REF!,3),3)&\"]   \n<\"&FIXED(ROUND(#REF!,3),3)&\">\",\"\")","v":""}]
[null,{"$f":"IFERROR(#REF!&\"\n(\"&#REF!&\")   [\"&FIXED(ROUND(#REF!,3),3)&\"]   \n<\"&FIXED(ROUND(#REF!,3),3)&\">\",\"\")","v":""}]
[null,{"$f":"IFERROR(#REF!&\"\n(\"&#REF!&\")   [\"&FIXED(ROUND(#REF!,3),3)&\"]   \n<\"&FIXED(ROUND(#REF!,3),3)&\">\",\"\")","v":""}]
[null,{"$f":"IFERROR(#REF!&\"\n(\"&#REF!&\")   [\"&FIXED(ROUND(#REF!,3),3)&\"]   \n<\"&FIXED(ROUND(#REF!,3),3)&\">\",\"\")","v":""}]
[null,{"$f":"IFERROR(#REF!&\"\n(\"&#REF!&\")   [\"&FIXED(ROUND(#REF!,3),3)&\"]   \n<\"&FIXED(ROUND(#REF!,3),3)&\">\",\"\")","v":""}]
[null,{"$f":"IFERROR(#REF!&\"\n(\"&#REF!&\")   [\"&FIXED(ROUND(#REF!,3),3)&\"]   \n<\"&FIXED(ROUND(#REF!,3),3)&\">\",\"\")","v":""}]
[null,{"$f":"IFERROR(#REF!&\"\n(\"&#REF!&\")   [\"&FIXED(ROUND(#REF!,3),3)&\"]   \n<\"&FIXED(ROUND(#REF!,3),3)&\">\",\"\")","v":""}]
[null,{"$f":"IFERROR(#REF!&\"\n(\"&#REF!&\")   [\"&FIXED(ROUND(#REF!,3),3)&\"]   \n<\"&FIXED(ROUND(#REF!,3),3)&\">\",\"\")","v":""}]
[null,{"$f":"IFERROR(#REF!&\"\n(\"&#REF!&\")   [\"&FIXED(ROUND(#REF!,3),3)&\"]   \n<\"&FIXED(ROUND(#REF!,3),3)&\">\",\"\")","v":""}]
[null,{"$f":"IFERROR(#REF!&\"\n(\"&#REF!&\")   [\"&FIXED(ROUND(#REF!,3),3)&\"]   \n<\"&FIXED(ROUND(#REF!,3),3)&\">\",\"\")","v":""}]
[null,{"$f":"IFERROR(#REF!&\"\n(\"&#REF!&\")   [\"&FIXED(ROUND(#REF!,3),3)&\"]   \n<\"&FIXED(ROUND(#REF!,3),3)&\">\",\"\")","v":""}]
[null,{"$f":"IFERROR(#REF!&\"\n(\"&#REF!&\")   [\"&FIXED(ROUND(#REF!,3),3)&\"]   \n<\"&FIXED(ROUND(#REF!,3),3)&\">\",\"\")","v":""}]
[null,{"$f":"IFERROR(#REF!&\"\n(\"&#REF!&\")   [\"&FIXED(ROUND(#REF!,3),3)&\"]   \n<\"&FIXED(ROUND(#REF!,3),3)&\">\",\"\")","v":""}]
[null,{"$f":"IFERROR(#REF!&\"\n(\"&#REF!&\")   [\"&FIXED(ROUND(#REF!,3),3)&\"]   \n<\"&FIXED(ROUND(#REF!,3),3)&\">\",\"\")","v":""}]
[null,{"$f":"IFERROR(#REF!&\"\n(\"&#REF!&\")   [\"&FIXED(ROUND(#REF!,3),3)&\"]   \n<\"&FIXED(ROUND(#REF!,3),3)&\">\",\"\")","v":""}]
[null,{"$f":"IFERROR(#REF!&\"\n(\"&#REF!&\")   [\"&FIXED(ROUND(#REF!,3),3)&\"]   \n<\"&FIXED(ROUND(#REF!,3),3)&\">\",\"\")","v":""}]
[null,{"$f":"IFERROR(#REF!&\"\n(\"&#REF!&\")   [\"&FIXED(ROUND(#REF!,3),3)&\"]   \n<\"&FIXED(ROUND(#REF!,3),3)&\">\",\"\")","v":""}]
[null,{"$f":"IFERROR(#REF!&\"\n(\"&#REF!&\")   [\"&FIXED(ROUND(#REF!,3),3)&\"]   \n<\"&FIXED(ROUND(#REF!,3),3)&\">\",\"\")","v":""}]
[null,{"$f":"IFERROR(#REF!&\"\n(\"&#REF!&\")   [\"&FIXED(ROUND(#REF!,3),3)&\"]   \n<\"&FIXED(ROUND(#REF!,3),3)&\">\",\"\")","v":""}]
[null,{"$f":"IFERROR(#REF!&\"\n(\"&#REF!&\")   [\"&FIXED(ROUND(#REF!,3),3)&\"]   \n<\"&FIXED(ROUND(#REF!,3),3)&\">\",\"\")","v":""}]
[null,{"$f":"IFERROR(#REF!&\"\n(\"&#REF!&\")   [\"&FIXED(ROUND(#REF!,3),3)&\"]   \n<\"&FIXED(ROUND(#REF!,3),3)&\">\",\"\")","v":""}]
[null,{"$f":"IFERROR(#REF!&\"\n(\"&#REF!&\")   [\"&FIXED(ROUND(#REF!,3),3)&\"]   \n<\"&FIXED(ROUND(#REF!,3),3)&\">\",\"\")","v":""}]
[null,{"$f":"IFERROR(#REF!&\"\n(\"&#REF!&\")   [\"&FIXED(ROUND(#REF!,3),3)&\"]   \n<\"&FIXED(ROUND(#REF!,3),3)&\">\",\"\")","v":""}]
[null,{"$f":"IFERROR(#REF!&\"\n(\"&#REF!&\")   [\"&FIXED(ROUND(#REF!,3),3)&\"]   \n<\"&FIXED(ROUND(#REF!,3),3)&\">\",\"\")","v":""}]
[null,{"$f":"IFERROR(#REF!&\"\n(\"&#REF!&\")   [\"&FIXED(ROUND(#REF!,3),3)&\"]   \n<\"&FIXED(ROUND(#REF!,3),3)&\">\",\"\")","v":""}]
[null,{"$f":"IFERROR(#REF!&\"\n(\"&#REF!&\")   [\"&FIXED(ROUND(#REF!,3),3)&\"]   \n<\"&FIXED(ROUND(#REF!,3),3)&\">\",\"\")","v":""}]
[null,{"$f":"IFERROR(#REF!&\"\n(\"&#REF!&\")   [\"&FIXED(ROUND(#REF!,3),3)&\"]   \n<\"&FIXED(ROUND(#REF!,3),3)&\">\",\"\")","v":""}]
[null,{"$f":"IFERROR(#REF!&\"\n(\"&#REF!&\")   [\"&FIXED(ROUND(#REF!,3),3)&\"]   \n<\"&FIXED(ROUND(#REF!,3),3)&\">\",\"\")","v":""}]
[null,{"$f":"IFERROR(#REF!&\"\n(\"&#REF!&\")   [\"&FIXED(ROUND(#REF!,3),3)&\"]   \n<\"&FIXED(ROUND(#REF!,3),3)&\">\",\"\")","v":""}]
[null,{"$f":"IFERROR(#REF!&\"\n(\"&#REF!&\")   [\"&FIXED(ROUND(#REF!,3),3)&\"]   \n<\"&FIXED(ROUND(#REF!,3),3)&\">\",\"\")","v":""}]
[null,{"$f":"IFERROR(#REF!&\"\n(\"&#REF!&\")   [\"&FIXED(ROUND(#REF!,3),3)&\"]   \n<\"&FIXED(ROUND(#REF!,3),3)&\">\",\"\")","v":""}]
[null,{"$f":"IFERROR(#REF!&\"\n(\"&#REF!&\")   [\"&FIXED(ROUND(#REF!,3),3)&\"]   \n<\"&FIXED(ROUND(#REF!,3),3)&\">\",\"\")","v":""}]
[null,{"$f":"IFERROR(#REF!&\"\n(\"&#REF!&\")   [\"&FIXED(ROUND(#REF!,3),3)&\"]   \n<\"&FIXED(ROUND(#REF!,3),3)&\">\",\"\")","v":""}]
[null,{"$f":"IFERROR(#REF!&\"\n(\"&#REF!&\")   [\"&FIXED(ROUND(#REF!,3),3)&\"]   \n<\"&FIXED(ROUND(#REF!,3),3)&\">\",\"\")","v":""}]
[null,{"$f":"IFERROR(#REF!&\"\n(\"&#REF!&\")   [\"&FIXED(ROUND(#REF!,3),3)&\"]   \n<\"&FIXED(ROUND(#REF!,3),3)&\">\",\"\")","v":""}]
[null,{"$f":"IFERROR(#REF!&\"\n(\"&#REF!&\")   [\"&FIXED(ROUND(#REF!,3),3)&\"]   \n<\"&FIXED(ROUND(#REF!,3),3)&\">\",\"\")","v":""}]
[null,{"$f":"IFERROR(#REF!&\"\n(\"&#REF!&\")   [\"&FIXED(ROUND(#REF!,3),3)&\"]   \n<\"&FIXED(ROUND(#REF!,3),3)&\">\",\"\")","v":""}]
[null,{"$f":"IFERROR(#REF!&\"\n(\"&#REF!&\")   [\"&FIXED(ROUND(#REF!,3),3)&\"]   \n<\"&FIXED(ROUND(#REF!,3),3)&\">\",\"\")","v":""}]
[null,{"$f":"IFERROR(#REF!&\"\n(\"&#REF!&\")   [\"&FIXED(ROUND(#REF!,3),3)&\"]   \n<\"&FIXED(ROUND(#REF!,3),3)&\">\",\"\")","v":""}]
[null,{"$f":"IFERROR(#REF!&\"\n(\"&#REF!&\")   [\"&FIXED(ROUND(#REF!,3),3)&\"]   \n<\"&FIXED(ROUND(#REF!,3),3)&\">\",\"\")","v":""}]
[null,{"$f":"IFERROR(#REF!&\"\n(\"&#REF!&\")   [\"&FIXED(ROUND(#REF!,3),3)&\"]   \n<\"&FIXED(ROUND(#REF!,3),3)&\">\",\"\")","v":""}]
[null,{"$f":"IFERROR(#REF!&\"\n(\"&#REF!&\")   [\"&FIXED(ROUND(#REF!,3),3)&\"]   \n<\"&FIXED(ROUND(#REF!,3),3)&\">\",\"\")","v":""}]
[null,{"$f":"IFERROR(#REF!&\"\n(\"&#REF!&\")   [\"&FIXED(ROUND(#REF!,3),3)&\"]   \n<\"&FIXED(ROUND(#REF!,3),3)&\">\",\"\")","v":""}]
[null,{"$f":"IFERROR(#REF!&\"\n(\"&#REF!&\")   [\"&FIXED(ROUND(#REF!,3),3)&\"]   \n<\"&FIXED(ROUND(#REF!,3),3)&\">\",\"\")","v":""}]
[null,{"$f":"IFERROR(#REF!&\"\n(\"&#REF!&\")   [\"&FIXED(ROUND(#REF!,3),3)&\"]   \n<\"&FIXED(ROUND(#REF!,3),3)&\">\",\"\")","v":""}]
[null,{"$f":"IFERROR(#REF!&\"\n(\"&#REF!&\")   [\"&FIXED(ROUND(#REF!,3),3)&\"]   \n<\"&FIXED(ROUND(#REF!,3),3)&\">\",\"\")","v":""}]
[null,{"$f":"IFERROR(#REF!&\"\n(\"&#REF!&\")   [\"&FIXED(ROUND(#REF!,3),3)&\"]   \n<\"&FIXED(ROUND(#REF!,3),3)&\">\",\"\")","v":""}]
[null,{"$f":"IFERROR(#REF!&\"\n(\"&#REF!&\")   [\"&FIXED(ROUND(#REF!,3),3)&\"]   \n<\"&FIXED(ROUND(#REF!,3),3)&\">\",\"\")","v":""}]
[null,{"$f":"IFERROR(#REF!&\"\n(\"&#REF!&\")   [\"&FIXED(ROUND(#REF!,3),3)&\"]   \n<\"&FIXED(ROUND(#REF!,3),3)&\">\",\"\")","v":""}]
[null,{"$f":"IFERROR(#REF!&\"\n(\"&#REF!&\")   [\"&FIXED(ROUND(#REF!,3),3)&\"]   \n<\"&FIXED(ROUND(#REF!,3),3)&\">\",\"\")","v":""}]
[null,{"$f":"IFERROR(#REF!&\"\n(\"&#REF!&\")   [\"&FIXED(ROUND(#REF!,3),3)&\"]   \n<\"&FIXED(ROUND(#REF!,3),3)&\">\",\"\")","v":""}]
[null,{"$f":"IFERROR(#REF!&\"\n(\"&#REF!&\")   [\"&FIXED(ROUND(#REF!,3),3)&\"]   \n<\"&FIXED(ROUND(#REF!,3),3)&\">\",\"\")","v":""}]
[null,{"$f":"IFERROR(#REF!&\"\n(\"&#REF!&\")   [\"&FIXED(ROUND(#REF!,3),3)&\"]   \n<\"&FIXED(ROUND(#REF!,3),3)&\">\",\"\")","v":""}]
[null,{"$f":"IFERROR(#REF!&\"\n(\"&#REF!&\")   [\"&FIXED(ROUND(#REF!,3),3)&\"]   \n<\"&FIXED(ROUND(#REF!,3),3)&\">\",\"\")","v":""}]
[null,{"$f":"IFERROR(#REF!&\"\n(\"&#REF!&\")   [\"&FIXED(ROUND(#REF!,3),3)&\"]   \n<\"&FIXED(ROUND(#REF!,3),3)&\">\",\"\")","v":""}]
[null,{"$f":"IFERROR(#REF!&\"\n(\"&#REF!&\")   [\"&FIXED(ROUND(#REF!,3),3)&\"]   \n<\"&FIXED(ROUND(#REF!,3),3)&\">\",\"\")","v":""}]
[null,{"$f":"IFERROR(#REF!&\"\n(\"&#REF!&\")   [\"&FIXED(ROUND(#REF!,3),3)&\"]   \n<\"&FIXED(ROUND(#REF!,3),3)&\">\",\"\")","v":""}]
[null,{"$f":"IFERROR(#REF!&\"\n(\"&#REF!&\")   [\"&FIXED(ROUND(#REF!,3),3)&\"]   \n<\"&FIXED(ROUND(#REF!,3),3)&\">\",\"\")","v":""}]
[null,{"$f":"IFERROR(#REF!&\"\n(\"&#REF!&\")   [\"&FIXED(ROUND(#REF!,3),3)&\"]   \n<\"&FIXED(ROUND(#REF!,3),3)&\">\",\"\")","v":""}]
[null,{"$f":"IFERROR(#REF!&\"\n(\"&#REF!&\")   [\"&FIXED(ROUND(#REF!,3),3)&\"]   \n<\"&FIXED(ROUND(#REF!,3),3)&\">\",\"\")","v":""}]
[null,{"$f":"IFERROR(#REF!&\"\n(\"&#REF!&\")   [\"&FIXED(ROUND(#REF!,3),3)&\"]   \n<\"&FIXED(ROUND(#REF!,3),3)&\">\",\"\")","v":""}]
[null,{"$f":"IFERROR(#REF!&\"\n(\"&#REF!&\")   [\"&FIXED(ROUND(#REF!,3),3)&\"]   \n<\"&FIXED(ROUND(#REF!,3),3)&\">\",\"\")","v":""}]
[null,{"$f":"IFERROR(#REF!&\"\n(\"&#REF!&\")   [\"&FIXED(ROUND(#REF!,3),3)&\"]   \n<\"&FIXED(ROUND(#REF!,3),3)&\">\",\"\")","v":""}]
[null,{"$f":"IFERROR(#REF!&\"\n(\"&#REF!&\")   [\"&FIXED(ROUND(#REF!,3),3)&\"]   \n<\"&FIXED(ROUND(#REF!,3),3)&\">\",\"\")","v":""}]
[null,{"$f":"IFERROR(#REF!&\"\n(\"&#REF!&\")   [\"&FIXED(ROUND(#REF!,3),3)&\"]   \n<\"&FIXED(ROUND(#REF!,3),3)&\">\",\"\")","v":""}]
[null,{"$f":"IFERROR(#REF!&\"\n(\"&#REF!&\")   [\"&FIXED(ROUND(#REF!,3),3)&\"]   \n<\"&FIXED(ROUND(#REF!,3),3)&\">\",\"\")","v":""}]
[null,{"$f":"IFERROR(#REF!&\"\n(\"&#REF!&\")   [\"&FIXED(ROUND(#REF!,3),3)&\"]   \n<\"&FIXED(ROUND(#REF!,3),3)&\">\",\"\")","v":""}]
[null,{"$f":"IFERROR(#REF!&\"\n(\"&#REF!&\")   [\"&FIXED(ROUND(#REF!,3),3)&\"]   \n<\"&FIXED(ROUND(#REF!,3),3)&\">\",\"\")","v":""}]
[null,{"$f":"IFERROR(#REF!&\"\n(\"&#REF!&\")   [\"&FIXED(ROUND(#REF!,3),3)&\"]   \n<\"&FIXED(ROUND(#REF!,3),3)&\">\",\"\")","v":""}]
[null,{"$f":"IFERROR(#REF!&\"\n(\"&#REF!&\")   [\"&FIXED(ROUND(#REF!,3),3)&\"]   \n<\"&FIXED(ROUND(#REF!,3),3)&\">\",\"\")","v":""}]
[null,{"$f":"IFERROR(#REF!&\"\n(\"&#REF!&\")   [\"&FIXED(ROUND(#REF!,3),3)&\"]   \n<\"&FIXED(ROUND(#REF!,3),3)&\">\",\"\")","v":""}]
[null,{"$f":"IFERROR(#REF!&\"\n(\"&#REF!&\")   [\"&FIXED(ROUND(#REF!,3),3)&\"]   \n<\"&FIXED(ROUND(#REF!,3),3)&\">\",\"\")","v":""}]
[null,{"$f":"IFERROR(#REF!&\"\n(\"&#REF!&\")   [\"&FIXED(ROUND(#REF!,3),3)&\"]   \n<\"&FIXED(ROUND(#REF!,3),3)&\">\",\"\")","v":""}]
[null,{"$f":"IFERROR(#REF!&\"\n(\"&#REF!&\")   [\"&FIXED(ROUND(#REF!,3),3)&\"]   \n<\"&FIXED(ROUND(#REF!,3),3)&\">\",\"\")","v":""}]
[null,{"$f":"IFERROR(#REF!&\"\n(\"&#REF!&\")   [\"&FIXED(ROUND(#REF!,3),3)&\"]   \n<\"&FIXED(ROUND(#REF!,3),3)&\">\",\"\")","v":""}]
[null,{"$f":"IFERROR(#REF!&\"\n(\"&#REF!&\")   [\"&FIXED(ROUND(#REF!,3),3)&\"]   \n<\"&FIXED(ROUND(#REF!,3),3)&\">\",\"\")","v":""}]
[null,{"$f":"IFERROR(#REF!&\"\n(\"&#REF!&\")   [\"&FIXED(ROUND(#REF!,3),3)&\"]   \n<\"&FIXED(ROUND(#REF!,3),3)&\">\",\"\")","v":""}]
[null,{"$f":"IFERROR(#REF!&\"\n(\"&#REF!&\")   [\"&FIXED(ROUND(#REF!,3),3)&\"]   \n<\"&FIXED(ROUND(#REF!,3),3)&\">\",\"\")","v":""}]
[null,{"$f":"IFERROR(#REF!&\"\n(\"&#REF!&\")   [\"&FIXED(ROUND(#REF!,3),3)&\"]   \n<\"&FIXED(ROUND(#REF!,3),3)&\">\",\"\")","v":""}]
[null,{"$f":"IFERROR(#REF!&\"\n(\"&#REF!&\")   [\"&FIXED(ROUND(#REF!,3),3)&\"]   \n<\"&FIXED(ROUND(#REF!,3),3)&\">\",\"\")","v":""}]
[null,{"$f":"IFERROR(#REF!&\"\n(\"&#REF!&\")   [\"&FIXED(ROUND(#REF!,3),3)&\"]   \n<\"&FIXED(ROUND(#REF!,3),3)&\">\",\"\")","v":""}]
[null,{"$f":"IFERROR(#REF!&\"\n(\"&#REF!&\")   [\"&FIXED(ROUND(#REF!,3),3)&\"]   \n<\"&FIXED(ROUND(#REF!,3),3)&\">\",\"\")","v":""}]
[null,{"$f":"IFERROR(#REF!&\"\n(\"&#REF!&\")   [\"&FIXED(ROUND(#REF!,3),3)&\"]   \n<\"&FIXED(ROUND(#REF!,3),3)&\">\",\"\")","v":""}]
[null,{"$f":"IFERROR(#REF!&\"\n(\"&#REF!&\")   [\"&FIXED(ROUND(#REF!,3),3)&\"]   \n<\"&FIXED(ROUND(#REF!,3),3)&\">\",\"\")","v":""}]
[null,{"$f":"IFERROR(#REF!&\"\n(\"&#REF!&\")   [\"&FIXED(ROUND(#REF!,3),3)&\"]   \n<\"&FIXED(ROUND(#REF!,3),3)&\">\",\"\")","v":""}]
[null,{"$f":"IFERROR(#REF!&\"\n(\"&#REF!&\")   [\"&FIXED(ROUND(#REF!,3),3)&\"]   \n<\"&FIXED(ROUND(#REF!,3),3)&\">\",\"\")","v":""}]
[null,{"$f":"IFERROR(#REF!&\"\n(\"&#REF!&\")   [\"&FIXED(ROUND(#REF!,3),3)&\"]   \n<\"&FIXED(ROUND(#REF!,3),3)&\">\",\"\")","v":""}]
[null,{"$f":"IFERROR(#REF!&\"\n(\"&#REF!&\")   [\"&FIXED(ROUND(#REF!,3),3)&\"]   \n<\"&FIXED(ROUND(#REF!,3),3)&\">\",\"\")","v":""}]
[null,{"$f":"IFERROR(#REF!&\"\n(\"&#REF!&\")   [\"&FIXED(ROUND(#REF!,3),3)&\"]   \n<\"&FIXED(ROUND(#REF!,3),3)&\">\",\"\")","v":""}]
[null,{"$f":"IFERROR(#REF!&\"\n(\"&#REF!&\")   [\"&FIXED(ROUND(#REF!,3),3)&\"]   \n<\"&FIXED(ROUND(#REF!,3),3)&\">\",\"\")","v":""}]
[null,{"$f":"IFERROR(#REF!&\"\n(\"&#REF!&\")   [\"&FIXED(ROUND(#REF!,3),3)&\"]   \n<\"&FIXED(ROUND(#REF!,3),3)&\">\",\"\")","v":""}]
[null,{"$f":"IFERROR(#REF!&\"\n(\"&#REF!&\")   [\"&FIXED(ROUND(#REF!,3),3)&\"]   \n<\"&FIXED(ROUND(#REF!,3),3)&\">\",\"\")","v":""}]
[null,{"$f":"IFERROR(#REF!&\"\n(\"&#REF!&\")   [\"&FIXED(ROUND(#REF!,3),3)&\"]   \n<\"&FIXED(ROUND(#REF!,3),3)&\">\",\"\")","v":""}]
[null,{"$f":"IFERROR(#REF!&\"\n(\"&#REF!&\")   [\"&FIXED(ROUND(#REF!,3),3)&\"]   \n<\"&FIXED(ROUND(#REF!,3),3)&\">\",\"\")","v":""}]
[null,{"$f":"IFERROR(#REF!&\"\n(\"&#REF!&\")   [\"&FIXED(ROUND(#REF!,3),3)&\"]   \n<\"&FIXED(ROUND(#REF!,3),3)&\">\",\"\")","v":""}]
[null,{"$f":"IFERROR(#REF!&\"\n(\"&#REF!&\")   [\"&FIXED(ROUND(#REF!,3),3)&\"]   \n<\"&FIXED(ROUND(#REF!,3),3)&\">\",\"\")","v":""}]
[null,{"$f":"IFERROR(#REF!&\"\n(\"&#REF!&\")   [\"&FIXED(ROUND(#REF!,3),3)&\"]   \n<\"&FIXED(ROUND(#REF!,3),3)&\">\",\"\")","v":""}]
[null,{"$f":"IFERROR(#REF!&\"\n(\"&#REF!&\")   [\"&FIXED(ROUND(#REF!,3),3)&\"]   \n<\"&FIXED(ROUND(#REF!,3),3)&\">\",\"\")","v":""}]
[null,{"$f":"IFERROR(#REF!&\"\n(\"&#REF!&\")   [\"&FIXED(ROUND(#REF!,3),3)&\"]   \n<\"&FIXED(ROUND(#REF!,3),3)&\">\",\"\")","v":""}]
[null,{"$f":"IFERROR(#REF!&\"\n(\"&#REF!&\")   [\"&FIXED(ROUND(#REF!,3),3)&\"]   \n<\"&FIXED(ROUND(#REF!,3),3)&\">\",\"\")","v":""}]
[null,{"$f":"IFERROR(#REF!&\"\n(\"&#REF!&\")   [\"&FIXED(ROUND(#REF!,3),3)&\"]   \n<\"&FIXED(ROUND(#REF!,3),3)&\">\",\"\")","v":""}]
[null,{"$f":"IFERROR(#REF!&\"\n(\"&#REF!&\")   [\"&FIXED(ROUND(#REF!,3),3)&\"]   \n<\"&FIXED(ROUND(#REF!,3),3)&\">\",\"\")","v":""}]
[null,{"$f":"IFERROR(#REF!&\"\n(\"&#REF!&\")   [\"&FIXED(ROUND(#REF!,3),3)&\"]   \n<\"&FIXED(ROUND(#REF!,3),3)&\">\",\"\")","v":""}]
[null,{"$f":"IFERROR(#REF!&\"\n(\"&#REF!&\")   [\"&FIXED(ROUND(#REF!,3),3)&\"]   \n<\"&FIXED(ROUND(#REF!,3),3)&\">\",\"\")","v":""}]
[null,{"$f":"IFERROR(#REF!&\"\n(\"&#REF!&\")   [\"&FIXED(ROUND(#REF!,3),3)&\"]   \n<\"&FIXED(ROUND(#REF!,3),3)&\">\",\"\")","v":""}]
[null,{"$f":"IFERROR(#REF!&\"\n(\"&#REF!&\")   [\"&FIXED(ROUND(#REF!,3),3)&\"]   \n<\"&FIXED(ROUND(#REF!,3),3)&\">\",\"\")","v":""}]
[null,{"$f":"IFERROR(#REF!&\"\n(\"&#REF!&\")   [\"&FIXED(ROUND(#REF!,3),3)&\"]   \n<\"&FIXED(ROUND(#REF!,3),3)&\">\",\"\")","v":""}]
[null,{"$f":"IFERROR(#REF!&\"\n(\"&#REF!&\")   [\"&FIXED(ROUND(#REF!,3),3)&\"]   \n<\"&FIXED(ROUND(#REF!,3),3)&\">\",\"\")","v":""}]
[null,{"$f":"IFERROR(#REF!&\"\n(\"&#REF!&\")   [\"&FIXED(ROUND(#REF!,3),3)&\"]   \n<\"&FIXED(ROUND(#REF!,3),3)&\">\",\"\")","v":""}]
[null,{"$f":"IFERROR(#REF!&\"\n(\"&#REF!&\")   [\"&FIXED(ROUND(#REF!,3),3)&\"]   \n<\"&FIXED(ROUND(#REF!,3),3)&\">\",\"\")","v":""}]
[null,{"$f":"IFERROR(#REF!&\"\n(\"&#REF!&\")   [\"&FIXED(ROUND(#REF!,3),3)&\"]   \n<\"&FIXED(ROUND(#REF!,3),3)&\">\",\"\")","v":""}]
[null,{"$f":"IFERROR(#REF!&\"\n(\"&#REF!&\")   [\"&FIXED(ROUND(#REF!,3),3)&\"]   \n<\"&FIXED(ROUND(#REF!,3),3)&\">\",\"\")","v":""}]
[null,{"$f":"IFERROR(#REF!&\"\n(\"&#REF!&\")   [\"&FIXED(ROUND(#REF!,3),3)&\"]   \n<\"&FIXED(ROUND(#REF!,3),3)&\">\",\"\")","v":""}]
[null,{"$f":"IFERROR(#REF!&\"\n(\"&#REF!&\")   [\"&FIXED(ROUND(#REF!,3),3)&\"]   \n<\"&FIXED(ROUND(#REF!,3),3)&\">\",\"\")","v":""}]
[null,{"$f":"IFERROR(#REF!&\"\n(\"&#REF!&\")   [\"&FIXED(ROUND(#REF!,3),3)&\"]   \n<\"&FIXED(ROUND(#REF!,3),3)&\">\",\"\")","v":""}]
[null,{"$f":"IFERROR(#REF!&\"\n(\"&#REF!&\")   [\"&FIXED(ROUND(#REF!,3),3)&\"]   \n<\"&FIXED(ROUND(#REF!,3),3)&\">\",\"\")","v":""}]
[null,{"$f":"IFERROR(#REF!&\"\n(\"&#REF!&\")   [\"&FIXED(ROUND(#REF!,3),3)&\"]   \n<\"&FIXED(ROUND(#REF!,3),3)&\">\",\"\")","v":""}]
[null,{"$f":"IFERROR(#REF!&\"\n(\"&#REF!&\")   [\"&FIXED(ROUND(#REF!,3),3)&\"]   \n<\"&FIXED(ROUND(#REF!,3),3)&\">\",\"\")","v":""}]
[null,{"$f":"IFERROR(#REF!&\"\n(\"&#REF!&\")   [\"&FIXED(ROUND(#REF!,3),3)&\"]   \n<\"&FIXED(ROUND(#REF!,3),3)&\">\",\"\")","v":""}]
[null,{"$f":"IFERROR(#REF!&\"\n(\"&#REF!&\")   [\"&FIXED(ROUND(#REF!,3),3)&\"]   \n<\"&FIXED(ROUND(#REF!,3),3)&\">\",\"\")","v":""}]
[null,{"$f":"IFERROR(#REF!&\"\n(\"&#REF!&\")   [\"&FIXED(ROUND(#REF!,3),3)&\"]   \n<\"&FIXED(ROUND(#REF!,3),3)&\">\",\"\")","v":""}]
[null,{"$f":"IFERROR(#REF!&\"\n(\"&#REF!&\")   [\"&FIXED(ROUND(#REF!,3),3)&\"]   \n<\"&FIXED(ROUND(#REF!,3),3)&\">\",\"\")","v":""}]
[null,{"$f":"IFERROR(#REF!&\"\n(\"&#REF!&\")   [\"&FIXED(ROUND(#REF!,3),3)&\"]   \n<\"&FIXED(ROUND(#REF!,3),3)&\">\",\"\")","v":""}]
[null,{"$f":"IFERROR(#REF!&\"\n(\"&#REF!&\")   [\"&FIXED(ROUND(#REF!,3),3)&\"]   \n<\"&FIXED(ROUND(#REF!,3),3)&\">\",\"\")","v":""}]
[null,{"$f":"IFERROR(#REF!&\"\n(\"&#REF!&\")   [\"&FIXED(ROUND(#REF!,3),3)&\"]   \n<\"&FIXED(ROUND(#REF!,3),3)&\">\",\"\")","v":""}]
[null,{"$f":"IFERROR(#REF!&\"\n(\"&#REF!&\")   [\"&FIXED(ROUND(#REF!,3),3)&\"]   \n<\"&FIXED(ROUND(#REF!,3),3)&\">\",\"\")","v":""}]
[null,{"$f":"IFERROR(#REF!&\"\n(\"&#REF!&\")   [\"&FIXED(ROUND(#REF!,3),3)&\"]   \n<\"&FIXED(ROUND(#REF!,3),3)&\">\",\"\")","v":""}]
[null,{"$f":"IFERROR(#REF!&\"\n(\"&#REF!&\")   [\"&FIXED(ROUND(#REF!,3),3)&\"]   \n<\"&FIXED(ROUND(#REF!,3),3)&\">\",\"\")","v":""}]
[null,{"$f":"IFERROR(#REF!&\"\n(\"&#REF!&\")   [\"&FIXED(ROUND(#REF!,3),3)&\"]   \n<\"&FIXED(ROUND(#REF!,3),3)&\">\",\"\")","v":""}]
[null,{"$f":"IFERROR(#REF!&\"\n(\"&#REF!&\")   [\"&FIXED(ROUND(#REF!,3),3)&\"]   \n<\"&FIXED(ROUND(#REF!,3),3)&\">\",\"\")","v":""}]
[null,{"$f":"IFERROR(#REF!&\"\n(\"&#REF!&\")   [\"&FIXED(ROUND(#REF!,3),3)&\"]   \n<\"&FIXED(ROUND(#REF!,3),3)&\">\",\"\")","v":""}]
[null,{"$f":"IFERROR(#REF!&\"\n(\"&#REF!&\")   [\"&FIXED(ROUND(#REF!,3),3)&\"]   \n<\"&FIXED(ROUND(#REF!,3),3)&\">\",\"\")","v":""}]
[null,{"$f":"IFERROR(#REF!&\"\n(\"&#REF!&\")   [\"&FIXED(ROUND(#REF!,3),3)&\"]   \n<\"&FIXED(ROUND(#REF!,3),3)&\">\",\"\")","v":""}]
[null,{"$f":"IFERROR(#REF!&\"\n(\"&#REF!&\")   [\"&FIXED(ROUND(#REF!,3),3)&\"]   \n<\"&FIXED(ROUND(#REF!,3),3)&\">\",\"\")","v":""}]
[null,{"$f":"IFERROR(#REF!&\"\n(\"&#REF!&\")   [\"&FIXED(ROUND(#REF!,3),3)&\"]   \n<\"&FIXED(ROUND(#REF!,3),3)&\">\",\"\")","v":""}]
[null,{"$f":"IFERROR(#REF!&\"\n(\"&#REF!&\")   [\"&FIXED(ROUND(#REF!,3),3)&\"]   \n<\"&FIXED(ROUND(#REF!,3),3)&\">\",\"\")","v":""}]
[null,{"$f":"IFERROR(#REF!&\"\n(\"&#REF!&\")   [\"&FIXED(ROUND(#REF!,3),3)&\"]   \n<\"&FIXED(ROUND(#REF!,3),3)&\">\",\"\")","v":""}]
[null,{"$f":"IFERROR(#REF!&\"\n(\"&#REF!&\")   [\"&FIXED(ROUND(#REF!,3),3)&\"]   \n<\"&FIXED(ROUND(#REF!,3),3)&\">\",\"\")","v":""}]
[null,{"$f":"IFERROR(#REF!&\"\n(\"&#REF!&\")   [\"&FIXED(ROUND(#REF!,3),3)&\"]   \n<\"&FIXED(ROUND(#REF!,3),3)&\">\",\"\")","v":""}]
[null,{"$f":"IFERROR(#REF!&\"\n(\"&#REF!&\")   [\"&FIXED(ROUND(#REF!,3),3)&\"]   \n<\"&FIXED(ROUND(#REF!,3),3)&\">\",\"\")","v":""}]
[null,{"$f":"IFERROR(#REF!&\"\n(\"&#REF!&\")   [\"&FIXED(ROUND(#REF!,3),3)&\"]   \n<\"&FIXED(ROUND(#REF!,3),3)&\">\",\"\")","v":""}]
[null,{"$f":"IFERROR(#REF!&\"\n(\"&#REF!&\")   [\"&FIXED(ROUND(#REF!,3),3)&\"]   \n<\"&FIXED(ROUND(#REF!,3),3)&\">\",\"\")","v":""}]
[null,{"$f":"IFERROR(#REF!&\"\n(\"&#REF!&\")   [\"&FIXED(ROUND(#REF!,3),3)&\"]   \n<\"&FIXED(ROUND(#REF!,3),3)&\">\",\"\")","v":""}]
[null,{"$f":"IFERROR(#REF!&\"\n(\"&#REF!&\")   [\"&FIXED(ROUND(#REF!,3),3)&\"]   \n<\"&FIXED(ROUND(#REF!,3),3)&\">\",\"\")","v":""}]
[null,{"$f":"IFERROR(#REF!&\"\n(\"&#REF!&\")   [\"&FIXED(ROUND(#REF!,3),3)&\"]   \n<\"&FIXED(ROUND(#REF!,3),3)&\">\",\"\")","v":""}]
[null,{"$f":"IFERROR(#REF!&\"\n(\"&#REF!&\")   [\"&FIXED(ROUND(#REF!,3),3)&\"]   \n<\"&FIXED(ROUND(#REF!,3),3)&\">\",\"\")","v":""}]
[null,{"$f":"IFERROR(#REF!&\"\n(\"&#REF!&\")   [\"&FIXED(ROUND(#REF!,3),3)&\"]   \n<\"&FIXED(ROUND(#REF!,3),3)&\">\",\"\")","v":""}]
[null,{"$f":"IFERROR(#REF!&\"\n(\"&#REF!&\")   [\"&FIXED(ROUND(#REF!,3),3)&\"]   \n<\"&FIXED(ROUND(#REF!,3),3)&\">\",\"\")","v":""}]
[null,{"$f":"IFERROR(#REF!&\"\n(\"&#REF!&\")   [\"&FIXED(ROUND(#REF!,3),3)&\"]   \n<\"&FIXED(ROUND(#REF!,3),3)&\">\",\"\")","v":""}]
[null,{"$f":"IFERROR(#REF!&\"\n(\"&#REF!&\")   [\"&FIXED(ROUND(#REF!,3),3)&\"]   \n<\"&FIXED(ROUND(#REF!,3),3)&\">\",\"\")","v":""}]
[null,{"$f":"IFERROR(#REF!&\"\n(\"&#REF!&\")   [\"&FIXED(ROUND(#REF!,3),3)&\"]   \n<\"&FIXED(ROUND(#REF!,3),3)&\">\",\"\")","v":""}]
[null,{"$f":"IFERROR(#REF!&\"\n(\"&#REF!&\")   [\"&FIXED(ROUND(#REF!,3),3)&\"]   \n<\"&FIXED(ROUND(#REF!,3),3)&\">\",\"\")","v":""}]
[null,{"$f":"IFERROR(#REF!&\"\n(\"&#REF!&\")   [\"&FIXED(ROUND(#REF!,3),3)&\"]   \n<\"&FIXED(ROUND(#REF!,3),3)&\">\",\"\")","v":""}]
[null,{"$f":"IFERROR(#REF!&\"\n(\"&#REF!&\")   [\"&FIXED(ROUND(#REF!,3),3)&\"]   \n<\"&FIXED(ROUND(#REF!,3),3)&\">\",\"\")","v":""}]
[null,{"$f":"IFERROR(#REF!&\"\n(\"&#REF!&\")   [\"&FIXED(ROUND(#REF!,3),3)&\"]   \n<\"&FIXED(ROUND(#REF!,3),3)&\">\",\"\")","v":""}]
[null,{"$f":"IFERROR(#REF!&\"\n(\"&#REF!&\")   [\"&FIXED(ROUND(#REF!,3),3)&\"]   \n<\"&FIXED(ROUND(#REF!,3),3)&\">\",\"\")","v":""}]
[null,{"$f":"IFERROR(#REF!&\"\n(\"&#REF!&\")   [\"&FIXED(ROUND(#REF!,3),3)&\"]   \n<\"&FIXED(ROUND(#REF!,3),3)&\">\",\"\")","v":""}]
[null,{"$f":"IFERROR(#REF!&\"\n(\"&#REF!&\")   [\"&FIXED(ROUND(#REF!,3),3)&\"]   \n<\"&FIXED(ROUND(#REF!,3),3)&\">\",\"\")","v":""}]
[null,{"$f":"IFERROR(#REF!&\"\n(\"&#REF!&\")   [\"&FIXED(ROUND(#REF!,3),3)&\"]   \n<\"&FIXED(ROUND(#REF!,3),3)&\">\",\"\")","v":""}]
[null,{"$f":"IFERROR(#REF!&\"\n(\"&#REF!&\")   [\"&FIXED(ROUND(#REF!,3),3)&\"]   \n<\"&FIXED(ROUND(#REF!,3),3)&\">\",\"\")","v":""}]
[null,{"$f":"IFERROR(#REF!&\"\n(\"&#REF!&\")   [\"&FIXED(ROUND(#REF!,3),3)&\"]   \n<\"&FIXED(ROUND(#REF!,3),3)&\">\",\"\")","v":""}]
[null,{"$f":"IFERROR(#REF!&\"\n(\"&#REF!&\")   [\"&FIXED(ROUND(#REF!,3),3)&\"]   \n<\"&FIXED(ROUND(#REF!,3),3)&\">\",\"\")","v":""}]
[null,{"$f":"IFERROR(#REF!&\"\n(\"&#REF!&\")   [\"&FIXED(ROUND(#REF!,3),3)&\"]   \n<\"&FIXED(ROUND(#REF!,3),3)&\">\",\"\")","v":""}]
[null,{"$f":"IFERROR(#REF!&\"\n(\"&#REF!&\")   [\"&FIXED(ROUND(#REF!,3),3)&\"]   \n<\"&FIXED(ROUND(#REF!,3),3)&\">\",\"\")","v":""}]
[null,{"$f":"IFERROR(#REF!&\"\n(\"&#REF!&\")   [\"&FIXED(ROUND(#REF!,3),3)&\"]   \n<\"&FIXED(ROUND(#REF!,3),3)&\">\",\"\")","v":""}]
[null,{"$f":"IFERROR(#REF!&\"\n(\"&#REF!&\")   [\"&FIXED(ROUND(#REF!,3),3)&\"]   \n<\"&FIXED(ROUND(#REF!,3),3)&\">\",\"\")","v":""}]
[null,{"$f":"IFERROR(#REF!&\"\n(\"&#REF!&\")   [\"&FIXED(ROUND(#REF!,3),3)&\"]   \n<\"&FIXED(ROUND(#REF!,3),3)&\">\",\"\")","v":""}]
[null,{"$f":"IFERROR(#REF!&\"\n(\"&#REF!&\")   [\"&FIXED(ROUND(#REF!,3),3)&\"]   \n<\"&FIXED(ROUND(#REF!,3),3)&\">\",\"\")","v":""}]
[null,{"$f":"IFERROR(#REF!&\"\n(\"&#REF!&\")   [\"&FIXED(ROUND(#REF!,3),3)&\"]   \n<\"&FIXED(ROUND(#REF!,3),3)&\">\",\"\")","v":""}]
[null,{"$f":"IFERROR(#REF!&\"\n(\"&#REF!&\")   [\"&FIXED(ROUND(#REF!,3),3)&\"]   \n<\"&FIXED(ROUND(#REF!,3),3)&\">\",\"\")","v":""}]
[null,{"$f":"IFERROR(#REF!&\"\n(\"&#REF!&\")   [\"&FIXED(ROUND(#REF!,3),3)&\"]   \n<\"&FIXED(ROUND(#REF!,3),3)&\">\",\"\")","v":""}]
[null,{"$f":"IFERROR(#REF!&\"\n(\"&#REF!&\")   [\"&FIXED(ROUND(#REF!,3),3)&\"]   \n<\"&FIXED(ROUND(#REF!,3),3)&\">\",\"\")","v":""}]
[null,{"$f":"IFERROR(#REF!&\"\n(\"&#REF!&\")   [\"&FIXED(ROUND(#REF!,3),3)&\"]   \n<\"&FIXED(ROUND(#REF!,3),3)&\">\",\"\")","v":""}]
[null,{"$f":"IFERROR(#REF!&\"\n(\"&#REF!&\")   [\"&FIXED(ROUND(#REF!,3),3)&\"]   \n<\"&FIXED(ROUND(#REF!,3),3)&\">\",\"\")","v":""}]
[null,{"$f":"IFERROR(#REF!&\"\n(\"&#REF!&\")   [\"&FIXED(ROUND(#REF!,3),3)&\"]   \n<\"&FIXED(ROUND(#REF!,3),3)&\">\",\"\")","v":""}]
[null,{"$f":"IFERROR(#REF!&\"\n(\"&#REF!&\")   [\"&FIXED(ROUND(#REF!,3),3)&\"]   \n<\"&FIXED(ROUND(#REF!,3),3)&\">\",\"\")","v":""}]
[null,{"$f":"IFERROR(#REF!&\"\n(\"&#REF!&\")   [\"&FIXED(ROUND(#REF!,3),3)&\"]   \n<\"&FIXED(ROUND(#REF!,3),3)&\">\",\"\")","v":""}]
[null,{"$f":"IFERROR(#REF!&\"\n(\"&#REF!&\")   [\"&FIXED(ROUND(#REF!,3),3)&\"]   \n<\"&FIXED(ROUND(#REF!,3),3)&\">\",\"\")","v":""}]
[null,{"$f":"IFERROR(#REF!&\"\n(\"&#REF!&\")   [\"&FIXED(ROUND(#REF!,3),3)&\"]   \n<\"&FIXED(ROUND(#REF!,3),3)&\">\",\"\")","v":""}]
[null,{"$f":"IFERROR(#REF!&\"\n(\"&#REF!&\")   [\"&FIXED(ROUND(#REF!,3),3)&\"]   \n<\"&FIXED(ROUND(#REF!,3),3)&\">\",\"\")","v":""}]
[null,{"$f":"IFERROR(#REF!&\"\n(\"&#REF!&\")   [\"&FIXED(ROUND(#REF!,3),3)&\"]   \n<\"&FIXED(ROUND(#REF!,3),3)&\">\",\"\")","v":""}]
[null,{"$f":"IFERROR(#REF!&\"\n(\"&#REF!&\")   [\"&FIXED(ROUND(#REF!,3),3)&\"]   \n<\"&FIXED(ROUND(#REF!,3),3)&\">\",\"\")","v":""}]
[null,{"$f":"IFERROR(#REF!&\"\n(\"&#REF!&\")   [\"&FIXED(ROUND(#REF!,3),3)&\"]   \n<\"&FIXED(ROUND(#REF!,3),3)&\">\",\"\")","v":""}]
[null,{"$f":"IFERROR(#REF!&\"\n(\"&#REF!&\")   [\"&FIXED(ROUND(#REF!,3),3)&\"]   \n<\"&FIXED(ROUND(#REF!,3),3)&\">\",\"\")","v":""}]
[null,{"$f":"IFERROR(#REF!&\"\n(\"&#REF!&\")   [\"&FIXED(ROUND(#REF!,3),3)&\"]   \n<\"&FIXED(ROUND(#REF!,3),3)&\">\",\"\")","v":""}]
[null,{"$f":"IFERROR(#REF!&\"\n(\"&#REF!&\")   [\"&FIXED(ROUND(#REF!,3),3)&\"]   \n<\"&FIXED(ROUND(#REF!,3),3)&\">\",\"\")","v":""}]
[null,{"$f":"IFERROR(#REF!&\"\n(\"&#REF!&\")   [\"&FIXED(ROUND(#REF!,3),3)&\"]   \n<\"&FIXED(ROUND(#REF!,3),3)&\">\",\"\")","v":""}]
[null,{"$f":"IFERROR(#REF!&\"\n(\"&#REF!&\")   [\"&FIXED(ROUND(#REF!,3),3)&\"]   \n<\"&FIXED(ROUND(#REF!,3),3)&\">\",\"\")","v":""}]
[null,{"$f":"IFERROR(#REF!&\"\n(\"&#REF!&\")   [\"&FIXED(ROUND(#REF!,3),3)&\"]   \n<\"&FIXED(ROUND(#REF!,3),3)&\">\",\"\")","v":""}]
[null,{"$f":"IFERROR(#REF!&\"\n(\"&#REF!&\")   [\"&FIXED(ROUND(#REF!,3),3)&\"]   \n<\"&FIXED(ROUND(#REF!,3),3)&\">\",\"\")","v":""}]
[null,{"$f":"IFERROR(#REF!&\"\n(\"&#REF!&\")   [\"&FIXED(ROUND(#REF!,3),3)&\"]   \n<\"&FIXED(ROUND(#REF!,3),3)&\">\",\"\")","v":""}]
[null,{"$f":"IFERROR(#REF!&\"\n(\"&#REF!&\")   [\"&FIXED(ROUND(#REF!,3),3)&\"]   \n<\"&FIXED(ROUND(#REF!,3),3)&\">\",\"\")","v":""}]
[null,{"$f":"IFERROR(#REF!&\"\n(\"&#REF!&\")   [\"&FIXED(ROUND(#REF!,3),3)&\"]   \n<\"&FIXED(ROUND(#REF!,3),3)&\">\",\"\")","v":""}]
[null,{"$f":"IFERROR(#REF!&\"\n(\"&#REF!&\")   [\"&FIXED(ROUND(#REF!,3),3)&\"]   \n<\"&FIXED(ROUND(#REF!,3),3)&\">\",\"\")","v":""}]
[null,{"$f":"IFERROR(#REF!&\"\n(\"&#REF!&\")   [\"&FIXED(ROUND(#REF!,3),3)&\"]   \n<\"&FIXED(ROUND(#REF!,3),3)&\">\",\"\")","v":""}]
[null,{"$f":"IFERROR(#REF!&\"\n(\"&#REF!&\")   [\"&FIXED(ROUND(#REF!,3),3)&\"]   \n<\"&FIXED(ROUND(#REF!,3),3)&\">\",\"\")","v":""}]
[null,{"$f":"IFERROR(#REF!&\"\n(\"&#REF!&\")   [\"&FIXED(ROUND(#REF!,3),3)&\"]   \n<\"&FIXED(ROUND(#REF!,3),3)&\">\",\"\")","v":""}]
[null,{"$f":"IFERROR(#REF!&\"\n(\"&#REF!&\")   [\"&FIXED(ROUND(#REF!,3),3)&\"]   \n<\"&FIXED(ROUND(#REF!,3),3)&\">\",\"\")","v":""}]
[null,{"$f":"IFERROR(#REF!&\"\n(\"&#REF!&\")   [\"&FIXED(ROUND(#REF!,3),3)&\"]   \n<\"&FIXED(ROUND(#REF!,3),3)&\">\",\"\")","v":""}]
[null,{"$f":"IFERROR(#REF!&\"\n(\"&#REF!&\")   [\"&FIXED(ROUND(#REF!,3),3)&\"]   \n<\"&FIXED(ROUND(#REF!,3),3)&\">\",\"\")","v":""}]
[null,{"$f":"IFERROR(#REF!&\"\n(\"&#REF!&\")   [\"&FIXED(ROUND(#REF!,3),3)&\"]   \n<\"&FIXED(ROUND(#REF!,3),3)&\">\",\"\")","v":""}]
[null,{"$f":"IFERROR(#REF!&\"\n(\"&#REF!&\")   [\"&FIXED(ROUND(#REF!,3),3)&\"]   \n<\"&FIXED(ROUND(#REF!,3),3)&\">\",\"\")","v":""}]
[null,{"$f":"IFERROR(#REF!&\"\n(\"&#REF!&\")   [\"&FIXED(ROUND(#REF!,3),3)&\"]   \n<\"&FIXED(ROUND(#REF!,3),3)&\">\",\"\")","v":""}]
[null,{"$f":"IFERROR(#REF!&\"\n(\"&#REF!&\")   [\"&FIXED(ROUND(#REF!,3),3)&\"]   \n<\"&FIXED(ROUND(#REF!,3),3)&\">\",\"\")","v":""}]
[null,{"$f":"IFERROR(#REF!&\"\n(\"&#REF!&\")   [\"&FIXED(ROUND(#REF!,3),3)&\"]   \n<\"&FIXED(ROUND(#REF!,3),3)&\">\",\"\")","v":""}]
[null,{"$f":"IFERROR(#REF!&\"\n(\"&#REF!&\")   [\"&FIXED(ROUND(#REF!,3),3)&\"]   \n<\"&FIXED(ROUND(#REF!,3),3)&\">\",\"\")","v":""}]
[null,{"$f":"IFERROR(#REF!&\"\n(\"&#REF!&\")   [\"&FIXED(ROUND(#REF!,3),3)&\"]   \n<\"&FIXED(ROUND(#REF!,3),3)&\">\",\"\")","v":""}]
[null,{"$f":"IFERROR(#REF!&\"\n(\"&#REF!&\")   [\"&FIXED(ROUND(#REF!,3),3)&\"]   \n<\"&FIXED(ROUND(#REF!,3),3)&\">\",\"\")","v":""}]
[null,{"$f":"IFERROR(#REF!&\"\n(\"&#REF!&\")   [\"&FIXED(ROUND(#REF!,3),3)&\"]   \n<\"&FIXED(ROUND(#REF!,3),3)&\">\",\"\")","v":""}]
[null,{"$f":"IFERROR(#REF!&\"\n(\"&#REF!&\")   [\"&FIXED(ROUND(#REF!,3),3)&\"]   \n<\"&FIXED(ROUND(#REF!,3),3)&\">\",\"\")","v":""}]
[null,{"$f":"IFERROR(#REF!&\"\n(\"&#REF!&\")   [\"&FIXED(ROUND(#REF!,3),3)&\"]   \n<\"&FIXED(ROUND(#REF!,3),3)&\">\",\"\")","v":""}]
[null,{"$f":"IFERROR(#REF!&\"\n(\"&#REF!&\")   [\"&FIXED(ROUND(#REF!,3),3)&\"]   \n<\"&FIXED(ROUND(#REF!,3),3)&\">\",\"\")","v":""}]
[null,{"$f":"IFERROR(#REF!&\"\n(\"&#REF!&\")   [\"&FIXED(ROUND(#REF!,3),3)&\"]   \n<\"&FIXED(ROUND(#REF!,3),3)&\">\",\"\")","v":""}]
[null,{"$f":"IFERROR(#REF!&\"\n(\"&#REF!&\")   [\"&FIXED(ROUND(#REF!,3),3)&\"]   \n<\"&FIXED(ROUND(#REF!,3),3)&\">\",\"\")","v":""}]
[null,{"$f":"IFERROR(#REF!&\"\n(\"&#REF!&\")   [\"&FIXED(ROUND(#REF!,3),3)&\"]   \n<\"&FIXED(ROUND(#REF!,3),3)&\">\",\"\")","v":""}]
[null,{"$f":"IFERROR(#REF!&\"\n(\"&#REF!&\")   [\"&FIXED(ROUND(#REF!,3),3)&\"]   \n<\"&FIXED(ROUND(#REF!,3),3)&\">\",\"\")","v":""}]
[null,{"$f":"IFERROR(#REF!&\"\n(\"&#REF!&\")   [\"&FIXED(ROUND(#REF!,3),3)&\"]   \n<\"&FIXED(ROUND(#REF!,3),3)&\">\",\"\")","v":""}]
[null,{"$f":"IFERROR(#REF!&\"\n(\"&#REF!&\")   [\"&FIXED(ROUND(#REF!,3),3)&\"]   \n<\"&FIXED(ROUND(#REF!,3),3)&\">\",\"\")","v":""}]
[null,{"$f":"IFERROR(#REF!&\"\n(\"&#REF!&\")   [\"&FIXED(ROUND(#REF!,3),3)&\"]   \n<\"&FIXED(ROUND(#REF!,3),3)&\">\",\"\")","v":""}]
[null,{"$f":"IFERROR(#REF!&\"\n(\"&#REF!&\")   [\"&FIXED(ROUND(#REF!,3),3)&\"]   \n<\"&FIXED(ROUND(#REF!,3),3)&\">\",\"\")","v":""}]
[null,{"$f":"IFERROR(#REF!&\"\n(\"&#REF!&\")   [\"&FIXED(ROUND(#REF!,3),3)&\"]   \n<\"&FIXED(ROUND(#REF!,3),3)&\">\",\"\")","v":""}]
[null,{"$f":"IFERROR(#REF!&\"\n(\"&#REF!&\")   [\"&FIXED(ROUND(#REF!,3),3)&\"]   \n<\"&FIXED(ROUND(#REF!,3),3)&\">\",\"\")","v":""}]
[null,{"$f":"IFERROR(#REF!&\"\n(\"&#REF!&\")   [\"&FIXED(ROUND(#REF!,3),3)&\"]   \n<\"&FIXED(ROUND(#REF!,3),3)&\">\",\"\")","v":""}]
[null,{"$f":"IFERROR(#REF!&\"\n(\"&#REF!&\")   [\"&FIXED(ROUND(#REF!,3),3)&\"]   \n<\"&FIXED(ROUND(#REF!,3),3)&\">\",\"\")","v":""}]
[null,{"$f":"IFERROR(#REF!&\"\n(\"&#REF!&\")   [\"&FIXED(ROUND(#REF!,3),3)&\"]   \n<\"&FIXED(ROUND(#REF!,3),3)&\">\",\"\")","v":""}]
[null,{"$f":"IFERROR(#REF!&\"\n(\"&#REF!&\")   [\"&FIXED(ROUND(#REF!,3),3)&\"]   \n<\"&FIXED(ROUND(#REF!,3),3)&\">\",\"\")","v":""}]
[null,{"$f":"IFERROR(#REF!&\"\n(\"&#REF!&\")   [\"&FIXED(ROUND(#REF!,3),3)&\"]   \n<\"&FIXED(ROUND(#REF!,3),3)&\">\",\"\")","v":""}]
[null,{"$f":"IFERROR(#REF!&\"\n(\"&#REF!&\")   [\"&FIXED(ROUND(#REF!,3),3)&\"]   \n<\"&FIXED(ROUND(#REF!,3),3)&\">\",\"\")","v":""}]
[null,{"$f":"IFERROR(#REF!&\"\n(\"&#REF!&\")   [\"&FIXED(ROUND(#REF!,3),3)&\"]   \n<\"&FIXED(ROUND(#REF!,3),3)&\">\",\"\")","v":""}]
[null,{"$f":"IFERROR(#REF!&\"\n(\"&#REF!&\")   [\"&FIXED(ROUND(#REF!,3),3)&\"]   \n<\"&FIXED(ROUND(#REF!,3),3)&\">\",\"\")","v":""}]
[null,{"$f":"IFERROR(#REF!&\"\n(\"&#REF!&\")   [\"&FIXED(ROUND(#REF!,3),3)&\"]   \n<\"&FIXED(ROUND(#REF!,3),3)&\">\",\"\")","v":""}]
[null,{"$f":"IFERROR(#REF!&\"\n(\"&#REF!&\")   [\"&FIXED(ROUND(#REF!,3),3)&\"]   \n<\"&FIXED(ROUND(#REF!,3),3)&\">\",\"\")","v":""}]
[null,{"$f":"IFERROR(#REF!&\"\n(\"&#REF!&\")   [\"&FIXED(ROUND(#REF!,3),3)&\"]   \n<\"&FIXED(ROUND(#REF!,3),3)&\">\",\"\")","v":""}]
[null,{"$f":"IFERROR(#REF!&\"\n(\"&#REF!&\")   [\"&FIXED(ROUND(#REF!,3),3)&\"]   \n<\"&FIXED(ROUND(#REF!,3),3)&\">\",\"\")","v":""}]
[null,{"$f":"IFERROR(#REF!&\"\n(\"&#REF!&\")   [\"&FIXED(ROUND(#REF!,3),3)&\"]   \n<\"&FIXED(ROUND(#REF!,3),3)&\">\",\"\")","v":""}]
[null,{"$f":"IFERROR(#REF!&\"\n(\"&#REF!&\")   [\"&FIXED(ROUND(#REF!,3),3)&\"]   \n<\"&FIXED(ROUND(#REF!,3),3)&\">\",\"\")","v":""}]
[null,{"$f":"IFERROR(#REF!&\"\n(\"&#REF!&\")   [\"&FIXED(ROUND(#REF!,3),3)&\"]   \n<\"&FIXED(ROUND(#REF!,3),3)&\">\",\"\")","v":""}]
[null,{"$f":"IFERROR(#REF!&\"\n(\"&#REF!&\")   [\"&FIXED(ROUND(#REF!,3),3)&\"]   \n<\"&FIXED(ROUND(#REF!,3),3)&\">\",\"\")","v":""}]
[null,{"$f":"IFERROR(#REF!&\"\n(\"&#REF!&\")   [\"&FIXED(ROUND(#REF!,3),3)&\"]   \n<\"&FIXED(ROUND(#REF!,3),3)&\">\",\"\")","v":""}]
[null,{"$f":"IFERROR(#REF!&\"\n(\"&#REF!&\")   [\"&FIXED(ROUND(#REF!,3),3)&\"]   \n<\"&FIXED(ROUND(#REF!,3),3)&\">\",\"\")","v":""}]
[null,{"$f":"IFERROR(#REF!&\"\n(\"&#REF!&\")   [\"&FIXED(ROUND(#REF!,3),3)&\"]   \n<\"&FIXED(ROUND(#REF!,3),3)&\">\",\"\")","v":""}]
[null,{"$f":"IFERROR(#REF!&\"\n(\"&#REF!&\")   [\"&FIXED(ROUND(#REF!,3),3)&\"]   \n<\"&FIXED(ROUND(#REF!,3),3)&\">\",\"\")","v":""}]
[null,{"$f":"IFERROR(#REF!&\"\n(\"&#REF!&\")   [\"&FIXED(ROUND(#REF!,3),3)&\"]   \n<\"&FIXED(ROUND(#REF!,3),3)&\">\",\"\")","v":""}]
[null,{"$f":"IFERROR(#REF!&\"\n(\"&#REF!&\")   [\"&FIXED(ROUND(#REF!,3),3)&\"]   \n<\"&FIXED(ROUND(#REF!,3),3)&\">\",\"\")","v":""}]
[null,{"$f":"IFERROR(#REF!&\"\n(\"&#REF!&\")   [\"&FIXED(ROUND(#REF!,3),3)&\"]   \n<\"&FIXED(ROUND(#REF!,3),3)&\">\",\"\")","v":""}]
[null,{"$f":"IFERROR(#REF!&\"\n(\"&#REF!&\")   [\"&FIXED(ROUND(#REF!,3),3)&\"]   \n<\"&FIXED(ROUND(#REF!,3),3)&\">\",\"\")","v":""}]
[null,{"$f":"IFERROR(#REF!&\"\n(\"&#REF!&\")   [\"&FIXED(ROUND(#REF!,3),3)&\"]   \n<\"&FIXED(ROUND(#REF!,3),3)&\">\",\"\")","v":""}]
[null,{"$f":"IFERROR(#REF!&\"\n(\"&#REF!&\")   [\"&FIXED(ROUND(#REF!,3),3)&\"]   \n<\"&FIXED(ROUND(#REF!,3),3)&\">\",\"\")","v":""}]
[null,{"$f":"IFERROR(#REF!&\"\n(\"&#REF!&\")   [\"&FIXED(ROUND(#REF!,3),3)&\"]   \n<\"&FIXED(ROUND(#REF!,3),3)&\">\",\"\")","v":""}]
[null,{"$f":"IFERROR(#REF!&\"\n(\"&#REF!&\")   [\"&FIXED(ROUND(#REF!,3),3)&\"]   \n<\"&FIXED(ROUND(#REF!,3),3)&\">\",\"\")","v":""}]
[null,{"$f":"IFERROR(#REF!&\"\n(\"&#REF!&\")   [\"&FIXED(ROUND(#REF!,3),3)&\"]   \n<\"&FIXED(ROUND(#REF!,3),3)&\">\",\"\")","v":""}]
[null,{"$f":"IFERROR(#REF!&\"\n(\"&#REF!&\")   [\"&FIXED(ROUND(#REF!,3),3)&\"]   \n<\"&FIXED(ROUND(#REF!,3),3)&\">\",\"\")","v":""}]
[null,{"$f":"IFERROR(#REF!&\"\n(\"&#REF!&\")   [\"&FIXED(ROUND(#REF!,3),3)&\"]   \n<\"&FIXED(ROUND(#REF!,3),3)&\">\",\"\")","v":""}]
[null,{"$f":"IFERROR(#REF!&\"\n(\"&#REF!&\")   [\"&FIXED(ROUND(#REF!,3),3)&\"]   \n<\"&FIXED(ROUND(#REF!,3),3)&\">\",\"\")","v":""}]
[null,{"$f":"IFERROR(#REF!&\"\n(\"&#REF!&\")   [\"&FIXED(ROUND(#REF!,3),3)&\"]   \n<\"&FIXED(ROUND(#REF!,3),3)&\">\",\"\")","v":""}]
[null,{"$f":"IFERROR(#REF!&\"\n(\"&#REF!&\")   [\"&FIXED(ROUND(#REF!,3),3)&\"]   \n<\"&FIXED(ROUND(#REF!,3),3)&\">\",\"\")","v":""}]
[null,{"$f":"IFERROR(#REF!&\"\n(\"&#REF!&\")   [\"&FIXED(ROUND(#REF!,3),3)&\"]   \n<\"&FIXED(ROUND(#REF!,3),3)&\">\",\"\")","v":""}]
[null,{"$f":"IFERROR(#REF!&\"\n(\"&#REF!&\")   [\"&FIXED(ROUND(#REF!,3),3)&\"]   \n<\"&FIXED(ROUND(#REF!,3),3)&\">\",\"\")","v":""}]
[null,{"$f":"IFERROR(#REF!&\"\n(\"&#REF!&\")   [\"&FIXED(ROUND(#REF!,3),3)&\"]   \n<\"&FIXED(ROUND(#REF!,3),3)&\">\",\"\")","v":""}]
[null,{"$f":"IFERROR(#REF!&\"\n(\"&#REF!&\")   [\"&FIXED(ROUND(#REF!,3),3)&\"]   \n<\"&FIXED(ROUND(#REF!,3),3)&\">\",\"\")","v":""}]
[null,{"$f":"IFERROR(#REF!&\"\n(\"&#REF!&\")   [\"&FIXED(ROUND(#REF!,3),3)&\"]   \n<\"&FIXED(ROUND(#REF!,3),3)&\">\",\"\")","v":""}]
[null,{"$f":"IFERROR(#REF!&\"\n(\"&#REF!&\")   [\"&FIXED(ROUND(#REF!,3),3)&\"]   \n<\"&FIXED(ROUND(#REF!,3),3)&\">\",\"\")","v":""}]
[null,{"$f":"IFERROR(#REF!&\"\n(\"&#REF!&\")   [\"&FIXED(ROUND(#REF!,3),3)&\"]   \n<\"&FIXED(ROUND(#REF!,3),3)&\">\",\"\")","v":""}]
[null,{"$f":"IFERROR(#REF!&\"\n(\"&#REF!&\")   [\"&FIXED(ROUND(#REF!,3),3)&\"]   \n<\"&FIXED(ROUND(#REF!,3),3)&\">\",\"\")","v":""}]
[null,{"$f":"IFERROR(#REF!&\"\n(\"&#REF!&\")   [\"&FIXED(ROUND(#REF!,3),3)&\"]   \n<\"&FIXED(ROUND(#REF!,3),3)&\">\",\"\")","v":""}]
[null,{"$f":"IFERROR(#REF!&\"\n(\"&#REF!&\")   [\"&FIXED(ROUND(#REF!,3),3)&\"]   \n<\"&FIXED(ROUND(#REF!,3),3)&\">\",\"\")","v":""}]
[null,{"$f":"IFERROR(#REF!&\"\n(\"&#REF!&\")   [\"&FIXED(ROUND(#REF!,3),3)&\"]   \n<\"&FIXED(ROUND(#REF!,3),3)&\">\",\"\")","v":""}]
[null,{"$f":"IFERROR(#REF!&\"\n(\"&#REF!&\")   [\"&FIXED(ROUND(#REF!,3),3)&\"]   \n<\"&FIXED(ROUND(#REF!,3),3)&\">\",\"\")","v":""}]
[null,{"$f":"IFERROR(#REF!&\"\n(\"&#REF!&\")   [\"&FIXED(ROUND(#REF!,3),3)&\"]   \n<\"&FIXED(ROUND(#REF!,3),3)&\">\",\"\")","v":""}]
[null,{"$f":"IFERROR(#REF!&\"\n(\"&#REF!&\")   [\"&FIXED(ROUND(#REF!,3),3)&\"]   \n<\"&FIXED(ROUND(#REF!,3),3)&\">\",\"\")","v":""}]
[null,{"$f":"IFERROR(#REF!&\"\n(\"&#REF!&\")   [\"&FIXED(ROUND(#REF!,3),3)&\"]   \n<\"&FIXED(ROUND(#REF!,3),3)&\">\",\"\")","v":""}]
[null,{"$f":"IFERROR(#REF!&\"\n(\"&#REF!&\")   [\"&FIXED(ROUND(#REF!,3),3)&\"]   \n<\"&FIXED(ROUND(#REF!,3),3)&\">\",\"\")","v":""}]
[null,{"$f":"IFERROR(#REF!&\"\n(\"&#REF!&\")   [\"&FIXED(ROUND(#REF!,3),3)&\"]   \n<\"&FIXED(ROUND(#REF!,3),3)&\">\",\"\")","v":""}]
[null,{"$f":"IFERROR(#REF!&\"\n(\"&#REF!&\")   [\"&FIXED(ROUND(#REF!,3),3)&\"]   \n<\"&FIXED(ROUND(#REF!,3),3)&\">\",\"\")","v":""}]
[null,{"$f":"IFERROR(#REF!&\"\n(\"&#REF!&\")   [\"&FIXED(ROUND(#REF!,3),3)&\"]   \n<\"&FIXED(ROUND(#REF!,3),3)&\">\",\"\")","v":""}]
[null,{"$f":"IFERROR(#REF!&\"\n(\"&#REF!&\")   [\"&FIXED(ROUND(#REF!,3),3)&\"]   \n<\"&FIXED(ROUND(#REF!,3),3)&\">\",\"\")","v":""}]