{"text_format":"1","workbook":"xlsx","n_sheets":7,"sheets":["Вывод","Справочник","Эмульгаторы","Ароматизаторы","Водная фаза","Параметры","Показатели"],"not_rendered":{"charts":0,"images":0,"macros":1,"external_links":0,"defined_names":1,"comments":0,"pivot_tables":0},"unopened":[],"bounds":{"document_bytes":16777216,"sheet_cells":100000,"rows_first":2000,"rows_last":500,"rows_between":2000,"halvings":0,"cell_chars":16384,"cell_head_chars":4096},"cells_cut":0,"cells_raw":0,"read":"whole","date_system":"1900"}

{"sheet":"Вывод","index":0,"n_rows":10,"n_cols":4,"rows_kept":10,"cut":false,"hidden":false,"merged":[[2,0,2,3]]}
[]
["№ ","4.01.17/6","4.01.17/2","4.01.17/3"]
["Информация"]
[1,{"$f":"INDEX(Справочник!$B$2:$H$8,MATCH(B$2,Справочник!$A$2:$A$8,),MATCH($A4&\"\",(Справочник!$B$1:$H$1),))","v":0},{"$f":"INDEX(Справочник!$B$2:$H$8,MATCH(C$2,Справочник!$A$2:$A$8,),MATCH($A4&\"\",(Справочник!$B$1:$H$1),))","v":32},{"$f":"INDEX(Справочник!$B$2:$H$8,MATCH(D$2,Справочник!$A$2:$A$8,),MATCH($A4&\"\",(Справочник!$B$1:$H$1),))","v":0}]
[2,{"$f":"INDEX(Справочник!$B$2:$H$8,MATCH(B$2,Справочник!$A$2:$A$8,),MATCH($A5&\"\",(Справочник!$B$1:$H$1),))","v":15},{"$f":"INDEX(Справочник!$B$2:$H$8,MATCH(C$2,Справочник!$A$2:$A$8,),MATCH($A5&\"\",(Справочник!$B$1:$H$1),))","v":25},{"$f":"INDEX(Справочник!$B$2:$H$8,MATCH(D$2,Справочник!$A$2:$A$8,),MATCH($A5&\"\",(Справочник!$B$1:$H$1),))","v":0}]
[3,{"$f":"INDEX(Справочник!$B$2:$H$8,MATCH(B$2,Справочник!$A$2:$A$8,),MATCH($A6&\"\",(Справочник!$B$1:$H$1),))","v":15},{"$f":"INDEX(Справочник!$B$2:$H$8,MATCH(C$2,Справочник!$A$2:$A$8,),MATCH($A6&\"\",(Справочник!$B$1:$H$1),))","v":0},{"$f":"INDEX(Справочник!$B$2:$H$8,MATCH(D$2,Справочник!$A$2:$A$8,),MATCH($A6&\"\",(Справочник!$B$1:$H$1),))","v":10}]
[4,{"$f":"INDEX(Справочник!$B$2:$H$8,MATCH(B$2,Справочник!$A$2:$A$8,),MATCH($A7&\"\",(Справочник!$B$1:$H$1),))","v":15},{"$f":"INDEX(Справочник!$B$2:$H$8,MATCH(C$2,Справочник!$A$2:$A$8,),MATCH($A7&\"\",(Справочник!$B$1:$H$1),))","v":25},{"$f":"INDEX(Справочник!$B$2:$H$8,MATCH(D$2,Справочник!$A$2:$A$8,),MATCH($A7&\"\",(Справочник!$B$1:$H$1),))","v":0}]
[5,{"$f":"INDEX(Справочник!$B$2:$H$8,MATCH(B$2,Справочник!$A$2:$A$8,),MATCH($A8&\"\",(Справочник!$B$1:$H$1),))","v":0},{"$f":"INDEX(Справочник!$B$2:$H$8,MATCH(C$2,Справочник!$A$2:$A$8,),MATCH($A8&\"\",(Справочник!$B$1:$H$1),))","v":0},{"$f":"INDEX(Справочник!$B$2:$H$8,MATCH(D$2,Справочник!$A$2:$A$8,),MATCH($A8&\"\",(Справочник!$B$1:$H$1),))","v":12}]
[6,{"$f":"INDEX(Справочник!$B$2:$H$8,MATCH(B$2,Справочник!$A$2:$A$8,),MATCH($A9&\"\",(Справочник!$B$1:$H$1),))","v":0},{"$f":"INDEX(Справочник!$B$2:$H$8,MATCH(C$2,Справочник!$A$2:$A$8,),MATCH($A9&\"\",(Справочник!$B$1:$H$1),))","v":0},{"$f":"INDEX(Справочник!$B$2:$H$8,MATCH(D$2,Справочник!$A$2:$A$8,),MATCH($A9&\"\",(Справочник!$B$1:$H$1),))","v":16}]
[7,{"$f":"INDEX(Справочник!$B$2:$H$8,MATCH(B$2,Справочник!$A$2:$A$8,),MATCH($A10&\"\",(Справочник!$B$1:$H$1),))","v":0},{"$f":"INDEX(Справочник!$B$2:$H$8,MATCH(C$2,Справочник!$A$2:$A$8,),MATCH($A10&\"\",(Справочник!$B$1:$H$1),))","v":0},{"$f":"INDEX(Справочник!$B$2:$H$8,MATCH(D$2,Справочник!$A$2:$A$8,),MATCH($A10&\"\",(Справочник!$B$1:$H$1),))","v":0}]

{"sheet":"Справочник","index":1,"n_rows":8,"n_cols":18,"rows_kept":8,"cut":false,"hidden":false,"merged":[]}
["№ SAP","1","2","3","4","5","6","7","Столбец12","Столбец13","Столбец14","Столбец15","Столбец16","Столбец17","Столбец18","Столбец19","Столбец20","Столбец21"]
["4.01.17/1",32,25,25]
["4.01.17/2",32,25,null,25]
["4.01.17/3",null,null,10,null,12,16]
["4.01.17/4",null,17,null,23,23]
["4.01.17/5",5,null,8,null,32,null,12]
["4.01.17/6",null,15,15,15]
["4.01.17/7",null,null,13,null,15,null,15]

{"sheet":"Эмульгаторы","index":2,"n_rows":23,"n_cols":19,"rows_kept":23,"cut":false,"hidden":true,"merged":[]}
["№ SAP","0291","1117","0093","UJ","7463","Лецитин","Столбец8","Столбец9","Столбец10","Столбец11","Столбец12","Столбец13","Столбец14","Столбец15","Столбец16","Столбец17","Столбец18","Столбец19"]
[{"$f":"Жировая[[#This Row],[№ SAP]]","v":"4.01.17/1"},0.4,null,0.1,null,null,0.2]
[{"$f":"Жировая[[#This Row],[№ SAP]]","v":"4.01.17/2"},null,0.3,0.2,0.2,0.1]
[{"$f":"Жировая[[#This Row],[№ SAP]]","v":"4.01.17/3"}]
[{"$f":"Жировая[[#This Row],[№ SAP]]","v":"4.01.17/4"}]
[{"$f":"Жировая[[#This Row],[№ SAP]]","v":"4.01.17/5"}]
[{"$f":"Жировая[[#This Row],[№ SAP]]","v":"4.01.17/6"}]
[{"$f":"Жировая[[#This Row],[№ SAP]]","v":"4.01.17/7"}]
[{"$f":"Жировая[[#This Row],[№ SAP]]","v":0}]
[{"$f":"Жировая[[#This Row],[№ SAP]]","v":0}]
[{"$f":"Жировая[[#This Row],[№ SAP]]","v":0}]
[{"$f":"Жировая[[#This Row],[№ SAP]]","v":0}]
[{"$f":"Жировая[[#This Row],[№ SAP]]","v":0}]
[{"$f":"Жировая[[#This Row],[№ SAP]]","v":0}]
[{"$f":"Жировая[[#This Row],[№ SAP]]","v":0}]
[{"$f":"Жировая[[#This Row],[№ SAP]]","v":0}]
[{"$f":"Жировая[[#This Row],[№ SAP]]","v":0}]
[{"$f":"Жировая[[#This Row],[№ SAP]]","v":0}]
[{"$f":"Жировая[[#This Row],[№ SAP]]","v":0}]
[{"$f":"Жировая[[#This Row],[№ SAP]]","v":0}]
[{"$f":"Жировая[[#This Row],[№ SAP]]","v":0}]
[{"$f":"Жировая[[#This Row],[№ SAP]]","v":0}]
[{"$f":"Жировая[[#This Row],[№ SAP]]","v":0}]

{"sheet":"Ароматизаторы","index":3,"n_rows":23,"n_cols":20,"rows_kept":23,"cut":false,"hidden":true,"merged":[]}
["№ SAP","623","Столбец3","Столбец4","Столбец5","Столбец6","Столбец7","Столбец8","Столбец9","Столбец10","Столбец11","Столбец12","Столбец13","Столбец14","Столбец15","Столбец16","Столбец17","Столбец18","Столбец19","Столбец20"]
[{"$f":"Жировая[[#This Row],[№ SAP]]","v":"4.01.17/1"},0.01]
[{"$f":"Жировая[[#This Row],[№ SAP]]","v":"4.01.17/2"},0.01]
[{"$f":"Жировая[[#This Row],[№ SAP]]","v":"4.01.17/3"}]
[{"$f":"Жировая[[#This Row],[№ SAP]]","v":"4.01.17/4"}]
[{"$f":"Жировая[[#This Row],[№ SAP]]","v":"4.01.17/5"}]
[{"$f":"Жировая[[#This Row],[№ SAP]]","v":"4.01.17/6"}]
[{"$f":"Жировая[[#This Row],[№ SAP]]","v":"4.01.17/7"}]
[{"$f":"Жировая[[#This Row],[№ SAP]]","v":0}]
[{"$f":"Жировая[[#This Row],[№ SAP]]","v":0}]
[{"$f":"Жировая[[#This Row],[№ SAP]]","v":0}]
[{"$f":"Жировая[[#This Row],[№ SAP]]","v":0}]
[{"$f":"Жировая[[#This Row],[№ SAP]]","v":0}]
[{"$f":"Жировая[[#This Row],[№ SAP]]","v":0}]
[{"$f":"Жировая[[#This Row],[№ SAP]]","v":0}]
[{"$f":"Жировая[[#This Row],[№ SAP]]","v":0}]
[{"$f":"Жировая[[#This Row],[№ SAP]]","v":0}]
[{"$f":"Жировая[[#This Row],[№ SAP]]","v":0}]
[{"$f":"Жировая[[#This Row],[№ SAP]]","v":0}]
[{"$f":"Жировая[[#This Row],[№ SAP]]","v":0}]
[{"$f":"Жировая[[#This Row],[№ SAP]]","v":0}]
[{"$f":"Жировая[[#This Row],[№ SAP]]","v":0}]
[{"$f":"Жировая[[#This Row],[№ SAP]]","v":0}]

{"sheet":"Водная фаза","index":4,"n_rows":24,"n_cols":19,"rows_kept":24,"cut":false,"hidden":true,"merged":[]}
["№ SAP","B-каротин","Сахар","Соль","Лимонная кислота","Вода","Столбец6","Столбец7","Столбец8","Столбец9","Столбец10","Столбец11","Столбец12","Столбец13","Столбец14","Столбец15","Столбец16","Столбец17","Столбец18"]
[{"$f":"Жировая[[#This Row],[№ SAP]]","v":"4.01.17/1"},1E-3,0.4,0.4,2.5000000000000001E-2,16.399999999999999]
[{"$f":"Жировая[[#This Row],[№ SAP]]","v":"4.01.17/2"},1E-3,0.4,0.4,2.5000000000000001E-2,16.399999999999999]
[{"$f":"Жировая[[#This Row],[№ SAP]]","v":"4.01.17/3"}]
[{"$f":"Жировая[[#This Row],[№ SAP]]","v":"4.01.17/4"}]
[{"$f":"Жировая[[#This Row],[№ SAP]]","v":"4.01.17/5"}]
[{"$f":"Жировая[[#This Row],[№ SAP]]","v":"4.01.17/6"}]
[{"$f":"Жировая[[#This Row],[№ SAP]]","v":"4.01.17/7"}]
[{"$f":"Жировая[[#This Row],[№ SAP]]","v":0}]
[{"$f":"Жировая[[#This Row],[№ SAP]]","v":0}]
[{"$f":"Жировая[[#This Row],[№ SAP]]","v":0}]
[{"$f":"Жировая[[#This Row],[№ SAP]]","v":0}]
[{"$f":"Жировая[[#This Row],[№ SAP]]","v":0}]
[{"$f":"Жировая[[#This Row],[№ SAP]]","v":0}]
[{"$f":"Жировая[[#This Row],[№ SAP]]","v":0}]
[{"$f":"Жировая[[#This Row],[№ SAP]]","v":0}]
[{"$f":"Жировая[[#This Row],[№ SAP]]","v":0}]
[{"$f":"Жировая[[#This Row],[№ SAP]]","v":0}]
[{"$f":"Жировая[[#This Row],[№ SAP]]","v":0}]
[{"$f":"Жировая[[#This Row],[№ SAP]]","v":0}]
[{"$f":"Жировая[[#This Row],[№ SAP]]","v":0}]
[{"$f":"Жировая[[#This Row],[№ SAP]]","v":0}]
[{"$f":"Жировая[[#This Row],[№ SAP]]","v":0}]
[{"$f":"Жировая[[#This Row],[№ SAP]]","v":0}]

{"sheet":"Параметры","index":5,"n_rows":23,"n_cols":20,"rows_kept":23,"cut":false,"hidden":true,"merged":[]}
["№ SAP","Давление, Bar","Производительность, кг/ч","Т.продукта С1, °С","Т.NH3 С1, °С","Обороты вала С1, об/мин","Т.продукта С2, °С","Т.NH3 С2, °С","Обороты вала С2, об/мин","Т.продукта С3, °С","Т.NH3 С3, °С","Обороты вала С3, об/мин","Т.продукта С4, °С","Т.NH3 С4, °С","Обороты вала С4, об/мин","Т.продукта Р1, °С","Обороты вала Р1, об/мин","Т.продукта Р2, °С","Обороты вала Р2, об/мин","Описание продукта"]
[{"$f":"Жировая[[#This Row],[№ SAP]]","v":"4.01.17/1"},7.8,72,27.6,2.4,500,17.600000000000001,-1.9,650,13.1,-5.8,650,12.3,-7.9,650,16.899999999999999,70,16,70,"Однородный, глянцевый, в коробе горкой"]
[{"$f":"Жировая[[#This Row],[№ SAP]]","v":"4.01.17/2"}]
[{"$f":"Жировая[[#This Row],[№ SAP]]","v":"4.01.17/3"}]
[{"$f":"Жировая[[#This Row],[№ SAP]]","v":"4.01.17/4"}]
[{"$f":"Жировая[[#This Row],[№ SAP]]","v":"4.01.17/5"}]
[{"$f":"Жировая[[#This Row],[№ SAP]]","v":"4.01.17/6"}]
[{"$f":"Жировая[[#This Row],[№ SAP]]","v":"4.01.17/7"}]
[{"$f":"Жировая[[#This Row],[№ SAP]]","v":0}]
[{"$f":"Жировая[[#This Row],[№ SAP]]","v":0}]
[{"$f":"Жировая[[#This Row],[№ SAP]]","v":0}]
[{"$f":"Жировая[[#This Row],[№ SAP]]","v":0}]
[{"$f":"Жировая[[#This Row],[№ SAP]]","v":0}]
[{"$f":"Жировая[[#This Row],[№ SAP]]","v":0}]
[{"$f":"Жировая[[#This Row],[№ SAP]]","v":0}]
[{"$f":"Жировая[[#This Row],[№ SAP]]","v":0}]
[{"$f":"Жировая[[#This Row],[№ SAP]]","v":0}]
[{"$f":"Жировая[[#This Row],[№ SAP]]","v":0}]
[{"$f":"Жировая[[#This Row],[№ SAP]]","v":0}]
[{"$f":"Жировая[[#This Row],[№ SAP]]","v":0}]
[{"$f":"Жировая[[#This Row],[№ SAP]]","v":0}]
[{"$f":"Жировая[[#This Row],[№ SAP]]","v":0}]
[{"$f":"Жировая[[#This Row],[№ SAP]]","v":0}]

{"sheet":"Показатели","index":6,"n_rows":21,"n_cols":17,"rows_kept":21,"cut":false,"hidden":true,"merged":[]}
["№ SAP","рН","Влага","Т.плавления, °С","ТТГ 5 °С","ТТГ 10 °С","ТТГ 20 °С","ТТГ 30 °С","ТТГ 35 °С","ТТГ 40 °С","Trans","Столбец12","Столбец13","Столбец14","Столбец15","Столбец16","Столбец17"]
[{"$f":"Жировая[[#This Row],[№ SAP]]","v":"4.01.17/1"},null,13.2,33.700000000000003,39.950000000000003,32.58,14.72,4.59,1.37,"*"]
[{"$f":"Жировая[[#This Row],[№ SAP]]","v":"4.01.17/2"},null,13.2,33.700000000000003,39.950000000000003,32.58,14.72,4.59,1.37,"*"]
[{"$f":"Жировая[[#This Row],[№ SAP]]","v":"4.01.17/3"}]
[{"$f":"Жировая[[#This Row],[№ SAP]]","v":"4.01.17/4"}]
[{"$f":"Жировая[[#This Row],[№ SAP]]","v":"4.01.17/5"}]
[{"$f":"Жировая[[#This Row],[№ SAP]]","v":"4.01.17/6"}]
[{"$f":"Жировая[[#This Row],[№ SAP]]","v":"4.01.17/7"}]
[{"$f":"Жировая[[#This Row],[№ SAP]]","v":0}]
[{"$f":"Жировая[[#This Row],[№ SAP]]","v":0}]
[{"$f":"Жировая[[#This Row],[№ SAP]]","v":0}]
[{"$f":"Жировая[[#This Row],[№ SAP]]","v":0}]
[{"$f":"Жировая[[#This Row],[№ SAP]]","v":0}]
[{"$f":"Жировая[[#This Row],[№ SAP]]","v":0}]
[{"$f":"Жировая[[#This Row],[№ SAP]]","v":0}]
[{"$f":"Жировая[[#This Row],[№ SAP]]","v":0}]
[{"$f":"Жировая[[#This Row],[№ SAP]]","v":0}]
[{"$f":"Жировая[[#This Row],[№ SAP]]","v":0}]
[{"$f":"Жировая[[#This Row],[№ SAP]]","v":0}]
[{"$f":"Жировая[[#This Row],[№ SAP]]","v":0}]
[{"$f":"Жировая[[#This Row],[№ SAP]]","v":0}]