{"text_format":"1","workbook":"xlsx","n_sheets":6,"sheets":["Лист1","Лист2","Лист3","Лист4","Лист4 (2)","Лист2 (2)"],"not_rendered":{"charts":0,"images":0,"macros":0,"external_links":0,"defined_names":12,"comments":0,"pivot_tables":0},"unopened":[],"bounds":{"document_bytes":16777216,"sheet_cells":100000,"rows_first":2000,"rows_last":500,"rows_between":2000,"halvings":0,"cell_chars":16384,"cell_head_chars":4096},"cells_cut":0,"cells_raw":0,"read":"whole","date_system":"1900"}

{"sheet":"Лист1","index":0,"n_rows":30,"n_cols":13,"rows_kept":30,"cut":false,"hidden":false,"merged":[]}
[null,"число","время","сорт",null,"номер позиции"]
["2017-08-14",{"$f":"IF(ROW()-1>=SUM(DD),\"\",LL)","v":"2017-08-14"},{"$f":"IF(ROW()-1>=SUM(DD),\"\",LL)","v":"16:32:00"},{"$f":"IF(ROW()-1>=SUM(DD),\"\",LL)","v":"Сорт 2-УП"},"комментарий (константа)",{"$f":"IF(ROW()-1>=SUM(DD),\"\",LL)","v":"Позиция 4"},{"$f":"IF(ROW(Лист1!A1)>=SUM(DD),\"\",FF)","v":"[6508847.xlsm]Лист2"},null,null,null,null,"AA","=ЯЧЕЙКА(\"имяфайла\";Лист1!K1)"]
[null,{"$f":"IF(ROW()-1>=SUM(DD),\"\",LL)","v":"2017-08-14"},{"$f":"IF(ROW()-1>=SUM(DD),\"\",LL)","v":"17:26:00"},{"$f":"IF(ROW()-1>=SUM(DD),\"\",LL)","v":"Сорт 2-УХ"},null,{"$f":"IF(ROW()-1>=SUM(DD),\"\",LL)","v":"Позиция 2"},{"$f":"IF(ROW(Лист1!A2)>=SUM(DD),\"\",FF)","v":"[6508847.xlsm]Лист3"},null,null,null,null,"BB","=ПОЛУЧИТЬ.РАБОЧУЮ.КНИГУ(1;СЖПРОБЕЛЫ(ПСТР(ПОДСТАВИТЬ(AA;\"]\";ПОВТОР(\" \";999));ПОИСК(\"[\";AA)+1;999)))"]
[null,{"$f":"IF(ROW()-1>=SUM(DD),\"\",LL)","v":"2017-08-14"},{"$f":"IF(ROW()-1>=SUM(DD),\"\",LL)","v":"16:32:00"},{"$f":"IF(ROW()-1>=SUM(DD),\"\",LL)","v":"Сорт 2-УП"},null,{"$f":"IF(ROW()-1>=SUM(DD),\"\",LL)","v":"Позиция 4"},{"$f":"IF(ROW(Лист1!A3)>=SUM(DD),\"\",FF)","v":"[6508847.xlsm]Лист2 (2)"},null,null,null,null,"CC","=ПОИСКПОЗ(BB;BB;)"]
[null,{"$f":"IF(ROW()-1>=SUM(DD),\"\",LL)","v":""},{"$f":"IF(ROW()-1>=SUM(DD),\"\",LL)","v":""},{"$f":"IF(ROW()-1>=SUM(DD),\"\",LL)","v":""},null,{"$f":"IF(ROW()-1>=SUM(DD),\"\",LL)","v":""},{"$f":"IF(ROW(Лист1!A4)>=SUM(DD),\"\",FF)","v":""},null,null,null,null,"DD","=СЧЁТЕСЛИ(ДВССЫЛ(\"'\"&BB&\"'!A:A\");Лист1!$A$2)"]
[null,{"$f":"IF(ROW()-1>=SUM(DD),\"\",LL)","v":""},{"$f":"IF(ROW()-1>=SUM(DD),\"\",LL)","v":""},{"$f":"IF(ROW()-1>=SUM(DD),\"\",LL)","v":""},null,{"$f":"IF(ROW()-1>=SUM(DD),\"\",LL)","v":""},{"$f":"IF(ROW(Лист1!A5)>=SUM(DD),\"\",FF)","v":""},null,null,null,null,"EE","=МУМНОЖ((CC<=ТРАНСП(CC))*DD;ТРАНСП(CC^0))"]
[null,{"$f":"IF(ROW()-1>=SUM(DD),\"\",LL)","v":""},{"$f":"IF(ROW()-1>=SUM(DD),\"\",LL)","v":""},{"$f":"IF(ROW()-1>=SUM(DD),\"\",LL)","v":""},null,{"$f":"IF(ROW()-1>=SUM(DD),\"\",LL)","v":""},{"$f":"IF(ROW(Лист1!A6)>=SUM(DD),\"\",FF)","v":""},null,null,null,null,"FF","=ИНДЕКС(BB;ПОИСКПОЗ(СТРОКА()-1;EE)+1)"]
[null,{"$f":"IF(ROW()-1>=SUM(DD),\"\",LL)","v":""},{"$f":"IF(ROW()-1>=SUM(DD),\"\",LL)","v":""},{"$f":"IF(ROW()-1>=SUM(DD),\"\",LL)","v":""},null,{"$f":"IF(ROW()-1>=SUM(DD),\"\",LL)","v":""},{"$f":"IF(ROW(Лист1!A7)>=SUM(DD),\"\",FF)","v":""},null,null,null,null,"GG","=ПОЛУЧИТЬ.ДОКУМЕНТ(10; FF)"]
[null,{"$f":"IF(ROW()-1>=SUM(DD),\"\",LL)","v":""},{"$f":"IF(ROW()-1>=SUM(DD),\"\",LL)","v":""},{"$f":"IF(ROW()-1>=SUM(DD),\"\",LL)","v":""},null,{"$f":"IF(ROW()-1>=SUM(DD),\"\",LL)","v":""},{"$f":"IF(ROW(Лист1!A8)>=SUM(DD),\"\",FF)","v":""},null,null,null,null,"HH","=ДВССЫЛ(\"'\"&FF&\"'!A1:A\"&GG)"]
[null,{"$f":"IF(ROW()-1>=SUM(DD),\"\",LL)","v":""},{"$f":"IF(ROW()-1>=SUM(DD),\"\",LL)","v":""},{"$f":"IF(ROW()-1>=SUM(DD),\"\",LL)","v":""},null,{"$f":"IF(ROW()-1>=SUM(DD),\"\",LL)","v":""},{"$f":"IF(ROW(Лист1!A9)>=SUM(DD),\"\",FF)","v":""},null,null,null,null,"II","=ДВССЫЛ(\"'\"&FF&\"'!B1:B\"&GG;1)"]
[null,{"$f":"IF(ROW()-1>=SUM(DD),\"\",LL)","v":""},{"$f":"IF(ROW()-1>=SUM(DD),\"\",LL)","v":""},{"$f":"IF(ROW()-1>=SUM(DD),\"\",LL)","v":""},null,{"$f":"IF(ROW()-1>=SUM(DD),\"\",LL)","v":""},{"$f":"IF(ROW(Лист1!A10)>=SUM(DD),\"\",FF)","v":""},null,null,null,null,"JJ","=СТРОКА()-ПРОСМОТР(СТРОКА()-1;EE)"]
[null,{"$f":"IF(ROW()-1>=SUM(DD),\"\",LL)","v":""},{"$f":"IF(ROW()-1>=SUM(DD),\"\",LL)","v":""},{"$f":"IF(ROW()-1>=SUM(DD),\"\",LL)","v":""},null,{"$f":"IF(ROW()-1>=SUM(DD),\"\",LL)","v":""},{"$f":"IF(ROW(Лист1!A11)>=SUM(DD),\"\",FF)","v":""},null,null,null,null,"KK","=НАИМЕНЬШИЙ(ЕСЛИ(HH=Лист1!$A$2;СТРОКА(HH));JJ)"]
[null,{"$f":"IF(ROW()-1>=SUM(DD),\"\",LL)","v":""},{"$f":"IF(ROW()-1>=SUM(DD),\"\",LL)","v":""},{"$f":"IF(ROW()-1>=SUM(DD),\"\",LL)","v":""},null,{"$f":"IF(ROW()-1>=SUM(DD),\"\",LL)","v":""},{"$f":"IF(ROW(Лист1!A12)>=SUM(DD),\"\",FF)","v":""},null,null,null,null,"LL","=ИНДЕКС(ВЫБОР(ОКРВВЕРХ(СТОЛБЕЦ()/3;1);HH;II);KK+(ОСТАТ(СТОЛБЕЦ();3)=0))"]
[null,{"$f":"IF(ROW()-1>=SUM(DD),\"\",LL)","v":""},{"$f":"IF(ROW()-1>=SUM(DD),\"\",LL)","v":""},{"$f":"IF(ROW()-1>=SUM(DD),\"\",LL)","v":""},null,{"$f":"IF(ROW()-1>=SUM(DD),\"\",LL)","v":""},{"$f":"IF(ROW(Лист1!A13)>=SUM(DD),\"\",FF)","v":""}]
[null,{"$f":"IF(ROW()-1>=SUM(DD),\"\",LL)","v":""},{"$f":"IF(ROW()-1>=SUM(DD),\"\",LL)","v":""},{"$f":"IF(ROW()-1>=SUM(DD),\"\",LL)","v":""},null,{"$f":"IF(ROW()-1>=SUM(DD),\"\",LL)","v":""},{"$f":"IF(ROW(Лист1!A14)>=SUM(DD),\"\",FF)","v":""}]
[null,{"$f":"IF(ROW()-1>=SUM(DD),\"\",LL)","v":""},{"$f":"IF(ROW()-1>=SUM(DD),\"\",LL)","v":""},{"$f":"IF(ROW()-1>=SUM(DD),\"\",LL)","v":""},null,{"$f":"IF(ROW()-1>=SUM(DD),\"\",LL)","v":""},{"$f":"IF(ROW(Лист1!A15)>=SUM(DD),\"\",FF)","v":""}]
[null,{"$f":"IF(ROW()-1>=SUM(DD),\"\",LL)","v":""},{"$f":"IF(ROW()-1>=SUM(DD),\"\",LL)","v":""},{"$f":"IF(ROW()-1>=SUM(DD),\"\",LL)","v":""},null,{"$f":"IF(ROW()-1>=SUM(DD),\"\",LL)","v":""},{"$f":"IF(ROW(Лист1!A16)>=SUM(DD),\"\",FF)","v":""}]
[null,{"$f":"IF(ROW()-1>=SUM(DD),\"\",LL)","v":""},{"$f":"IF(ROW()-1>=SUM(DD),\"\",LL)","v":""},{"$f":"IF(ROW()-1>=SUM(DD),\"\",LL)","v":""},null,{"$f":"IF(ROW()-1>=SUM(DD),\"\",LL)","v":""},{"$f":"IF(ROW(Лист1!A17)>=SUM(DD),\"\",FF)","v":""}]
[null,{"$f":"IF(ROW()-1>=SUM(DD),\"\",LL)","v":""},{"$f":"IF(ROW()-1>=SUM(DD),\"\",LL)","v":""},{"$f":"IF(ROW()-1>=SUM(DD),\"\",LL)","v":""},null,{"$f":"IF(ROW()-1>=SUM(DD),\"\",LL)","v":""},{"$f":"IF(ROW(Лист1!A18)>=SUM(DD),\"\",FF)","v":""}]
[null,{"$f":"IF(ROW()-1>=SUM(DD),\"\",LL)","v":""},{"$f":"IF(ROW()-1>=SUM(DD),\"\",LL)","v":""},{"$f":"IF(ROW()-1>=SUM(DD),\"\",LL)","v":""},null,{"$f":"IF(ROW()-1>=SUM(DD),\"\",LL)","v":""},{"$f":"IF(ROW(Лист1!A19)>=SUM(DD),\"\",FF)","v":""}]
[null,{"$f":"IF(ROW()-1>=SUM(DD),\"\",LL)","v":""},{"$f":"IF(ROW()-1>=SUM(DD),\"\",LL)","v":""},{"$f":"IF(ROW()-1>=SUM(DD),\"\",LL)","v":""},null,{"$f":"IF(ROW()-1>=SUM(DD),\"\",LL)","v":""},{"$f":"IF(ROW(Лист1!A20)>=SUM(DD),\"\",FF)","v":""}]
[null,{"$f":"IF(ROW()-1>=SUM(DD),\"\",LL)","v":""},{"$f":"IF(ROW()-1>=SUM(DD),\"\",LL)","v":""},{"$f":"IF(ROW()-1>=SUM(DD),\"\",LL)","v":""},null,{"$f":"IF(ROW()-1>=SUM(DD),\"\",LL)","v":""},{"$f":"IF(ROW(Лист1!A21)>=SUM(DD),\"\",FF)","v":""}]
[null,{"$f":"IF(ROW()-1>=SUM(DD),\"\",LL)","v":""},{"$f":"IF(ROW()-1>=SUM(DD),\"\",LL)","v":""},{"$f":"IF(ROW()-1>=SUM(DD),\"\",LL)","v":""},null,{"$f":"IF(ROW()-1>=SUM(DD),\"\",LL)","v":""},{"$f":"IF(ROW(Лист1!A22)>=SUM(DD),\"\",FF)","v":""}]
[null,{"$f":"IF(ROW()-1>=SUM(DD),\"\",LL)","v":""},{"$f":"IF(ROW()-1>=SUM(DD),\"\",LL)","v":""},{"$f":"IF(ROW()-1>=SUM(DD),\"\",LL)","v":""},null,{"$f":"IF(ROW()-1>=SUM(DD),\"\",LL)","v":""},{"$f":"IF(ROW(Лист1!A23)>=SUM(DD),\"\",FF)","v":""}]
[null,{"$f":"IF(ROW()-1>=SUM(DD),\"\",LL)","v":""},{"$f":"IF(ROW()-1>=SUM(DD),\"\",LL)","v":""},{"$f":"IF(ROW()-1>=SUM(DD),\"\",LL)","v":""},null,{"$f":"IF(ROW()-1>=SUM(DD),\"\",LL)","v":""},{"$f":"IF(ROW(Лист1!A24)>=SUM(DD),\"\",FF)","v":""}]
[null,{"$f":"IF(ROW()-1>=SUM(DD),\"\",LL)","v":""},{"$f":"IF(ROW()-1>=SUM(DD),\"\",LL)","v":""},{"$f":"IF(ROW()-1>=SUM(DD),\"\",LL)","v":""},null,{"$f":"IF(ROW()-1>=SUM(DD),\"\",LL)","v":""},{"$f":"IF(ROW(Лист1!A25)>=SUM(DD),\"\",FF)","v":""}]
[null,{"$f":"IF(ROW()-1>=SUM(DD),\"\",LL)","v":""},{"$f":"IF(ROW()-1>=SUM(DD),\"\",LL)","v":""},{"$f":"IF(ROW()-1>=SUM(DD),\"\",LL)","v":""},null,{"$f":"IF(ROW()-1>=SUM(DD),\"\",LL)","v":""},{"$f":"IF(ROW(Лист1!A26)>=SUM(DD),\"\",FF)","v":""}]
[null,{"$f":"IF(ROW()-1>=SUM(DD),\"\",LL)","v":""},{"$f":"IF(ROW()-1>=SUM(DD),\"\",LL)","v":""},{"$f":"IF(ROW()-1>=SUM(DD),\"\",LL)","v":""},null,{"$f":"IF(ROW()-1>=SUM(DD),\"\",LL)","v":""},{"$f":"IF(ROW(Лист1!A27)>=SUM(DD),\"\",FF)","v":""}]
[null,{"$f":"IF(ROW()-1>=SUM(DD),\"\",LL)","v":""},{"$f":"IF(ROW()-1>=SUM(DD),\"\",LL)","v":""},{"$f":"IF(ROW()-1>=SUM(DD),\"\",LL)","v":""},null,{"$f":"IF(ROW()-1>=SUM(DD),\"\",LL)","v":""},{"$f":"IF(ROW(Лист1!A28)>=SUM(DD),\"\",FF)","v":""}]
[null,{"$f":"IF(ROW()-1>=SUM(DD),\"\",LL)","v":""},{"$f":"IF(ROW()-1>=SUM(DD),\"\",LL)","v":""},{"$f":"IF(ROW()-1>=SUM(DD),\"\",LL)","v":""},null,{"$f":"IF(ROW()-1>=SUM(DD),\"\",LL)","v":""},{"$f":"IF(ROW(Лист1!A29)>=SUM(DD),\"\",FF)","v":""}]

{"sheet":"Лист2","index":1,"n_rows":12,"n_cols":2,"rows_kept":12,"cut":false,"hidden":false,"merged":[]}
["2017-08-11","Сорт 2-УП"]
["14:38:00","Позиция 1"]
["2017-08-12","Сорт 2-УХ"]
["17:26:00","Позиция 2"]
["2017-08-11","Сорт 2-УР"]
["12:10:00","Позиция 3"]
["2017-08-14","Сорт 2-УП"]
["16:32:00","Позиция 4"]
["2017-08-11","Сорт 2-УП"]
["17:46:00","Позиция 5"]
["2017-08-11","Сорт 2-УЗ"]
["10:00:00","Позиция 6"]

{"sheet":"Лист3","index":2,"n_rows":12,"n_cols":2,"rows_kept":12,"cut":false,"hidden":false,"merged":[]}
["2014-08-12","Сорт 2-УП"]
["14:38:00","Позиция 1"]
["2017-08-14","Сорт 2-УХ"]
["17:26:00","Позиция 2"]
["2017-08-20","Сорт 2-УР"]
["12:10:00","Позиция 3"]
["2017-08-20","Сорт 2-УП"]
["16:32:00","Позиция 4"]
["2017-08-20","Сорт 2-УП"]
["17:46:00","Позиция 5"]
["2017-08-11","Сорт 2-УЗ"]
["11:00:00","Позиция 6"]

{"sheet":"Лист4","index":3,"n_rows":12,"n_cols":2,"rows_kept":12,"cut":false,"hidden":false,"merged":[]}
["2017-08-11","Сорт 2-УП"]
["14:42:00","Позиция 1"]
["2017-08-21","Сорт 2-УХ"]
["17:26:00","Позиция 2"]
["2017-08-21","Сорт 2-УР"]
["12:10:00","Позиция 3"]
["2017-08-21","Сорт 2-УП"]
["16:32:00","Позиция 4"]
["2017-08-21","Сорт 2-УП"]
["17:46:00","Позиция 5"]
["2017-08-21","Сорт 2-УЗ"]
["10:00:00","Позиция 6"]

{"sheet":"Лист4 (2)","index":4,"n_rows":12,"n_cols":2,"rows_kept":12,"cut":false,"hidden":false,"merged":[]}
["2017-08-11","Сорт 2-УП"]
["14:42:00","Позиция 1"]
["2017-08-21","Сорт 2-УХ"]
["17:26:00","Позиция 2"]
["2017-08-21","Сорт 2-УР"]
["12:10:00","Позиция 3"]
["2017-08-21","Сорт 2-УП"]
["16:32:00","Позиция 4"]
["2017-08-21","Сорт 2-УП"]
["17:46:00","Позиция 5"]
["2017-08-21","Сорт 2-УЗ"]
["10:00:00","Позиция 6"]

{"sheet":"Лист2 (2)","index":5,"n_rows":12,"n_cols":2,"rows_kept":12,"cut":false,"hidden":false,"merged":[]}
["2017-08-11","Сорт 2-УП"]
["14:38:00","Позиция 1"]
["2017-08-12","Сорт 2-УХ"]
["17:26:00","Позиция 2"]
["2017-08-11","Сорт 2-УР"]
["12:10:00","Позиция 3"]
["2017-08-14","Сорт 2-УП"]
["16:32:00","Позиция 4"]
["2017-08-11","Сорт 2-УП"]
["17:46:00","Позиция 5"]
["2017-08-11","Сорт 2-УЗ"]
["10:00:00","Позиция 6"]