{"text_format":"1","workbook":"xlsx","n_sheets":5,"sheets":["СМС","Word","План","Факт","За добу"],"not_rendered":{"charts":0,"images":0,"macros":1,"external_links":0,"defined_names":1,"comments":0,"pivot_tables":0},"unopened":[],"bounds":{"document_bytes":16777216,"sheet_cells":100000,"rows_first":2000,"rows_last":500,"rows_between":2000,"halvings":0,"cell_chars":16384,"cell_head_chars":4096},"cells_cut":0,"cells_raw":0,"read":"whole","date_system":"1900"}

{"sheet":"СМС","index":0,"n_rows":1,"n_cols":41,"rows_kept":1,"cut":false,"hidden":false,"merged":[]}
["№","Робота",null,"Вид роботи","Культура Формула","Культура СМС","Заг.План","Заг.Факт","Заг.%","Заг.Доб","Заг.Залиш","Філія1","План","Факт","%","За добу","Залишок","Філія2","План","Факт","%","За добу","Залишок","Філія3","План","Факт","%","За добу","Залишок","Філія4","План","Факт","%","За добу","Залишок","Філія5","План","Факт","%","За добу","Залишок"]

{"sheet":"Word","index":1,"n_rows":81,"n_cols":41,"rows_kept":81,"cut":false,"hidden":false,"merged":[]}
["№","Робота",null,"Вид роботи","Культура Формула","Культура СМС","Заг.План","Заг.Факт","Заг.%","Заг.Доб","Заг.Залиш","Філія1","План","Факт","%","За добу","Залишок","Філія2","План","Факт","%","За добу","Залишок","Філія3","План","Факт","%","За добу","Залишок","Філія4","План","Факт","%","За добу","Залишок","Філія5","План","Факт","%","За добу","Залишок"]
[1,{"$f":"'За добу'!$B2","v":"Внесення КАСу"},null,{"$f":"'За добу'!$D2","v":"Перше внесення по м.т.г."},{"$f":"'За добу'!$E2","v":"б.т. 2018"},{"$f":"IF(E2=\"б.т. 2018\",\"Трави Багаторічні-2018\",IF(E2=\"оз.пш. 2018\",\"Пшениця Озима-2018\",IF(E2=\"оз.ріп. 2018\",\"Ріпак Озимий-2018\",IF(E2=\"к.з. 2018\",\"Кукурудза на зерно-2018\",\"ФОРМУЛА\"))))","v":"Трави Багаторічні-2018"},{"$f":"M2+S2+Y2+AE2+AK2","v":374.52},{"$f":"N2+T2+Z2+AF2+AL2","v":374.52},{"$f":"IF(ISERR(H2/G2),0,H2/G2*100)","v":100},{"$f":"P2+V2+AB2+AH2+AN2","v":0},{"$f":"G2-H2","v":0},"Філія1",{"$f":"SUMIFS(План!$F:$F,План!$B:$B,Word!$B2,План!$D:$D,Word!$D2,План!$E:$E,Word!$E2)","v":0},{"$f":"SUMIFS(Факт!$F:$F,Факт!$B:$B,Word!$B2,Факт!$D:$D,Word!$D2,Факт!$E:$E,Word!$E2)","v":0},{"$f":"IF(ISERR(N2/M2),0,N2/M2*100)","v":0},{"$f":"SUMIFS('За добу'!$F:$F,'За добу'!$B:$B,Word!$B2,'За добу'!$D:$D,Word!$D2,'За добу'!$E:$E,Word!$E2)","v":0},{"$f":"M2-N2","v":0},"Філія2",{"$f":"SUMIFS(План!$G:$G,План!$B:$B,Word!$B2,План!$D:$D,Word!$D2,План!$E:$E,Word!$E2)","v":245.1},{"$f":"SUMIFS(Факт!$G:$G,Факт!$B:$B,Word!$B2,Факт!$D:$D,Word!$D2,Факт!$E:$E,Word!$E2)","v":245.10000000000002},{"$f":"IF(ISERR(T2/S2),0,T2/S2*100)","v":100.00000000000003},{"$f":"SUMIFS('За добу'!$G:$G,'За добу'!$B:$B,Word!$B2,'За добу'!$D:$D,Word!$D2,'За добу'!$E:$E,Word!$E2)","v":0},{"$f":"S2-T2","v":0},"Філія3",{"$f":"SUMIFS(План!$H:$H,План!$B:$B,Word!$B2,План!$D:$D,Word!$D2,План!$E:$E,Word!$E2)","v":129.41999999999999},{"$f":"SUMIFS(Факт!$H:$H,Факт!$B:$B,Word!$B2,Факт!$D:$D,Word!$D2,Факт!$E:$E,Word!$E2)","v":129.41999999999999},{"$f":"IF(ISERR(Z2/Y2),0,Z2/Y2*100)","v":100},{"$f":"SUMIFS('За добу'!$H:$H,'За добу'!$B:$B,Word!$B2,'За добу'!$D:$D,Word!$D2,'За добу'!$E:$E,Word!$E2)","v":0},{"$f":"Y2-Z2","v":0},"Філія4",{"$f":"SUMIFS(План!$I:$I,План!$B:$B,Word!$B2,План!$D:$D,Word!$D2,План!$E:$E,Word!$E2)","v":0},{"$f":"SUMIFS(Факт!$I:$I,Факт!$B:$B,Word!$B2,Факт!$D:$D,Word!$D2,Факт!$E:$E,Word!$E2)","v":0},{"$f":"IF(ISERR(AF2/AE2),0,AF2/AE2*100)","v":0},{"$f":"SUMIFS('За добу'!$I:$I,'За добу'!$B:$B,Word!$B2,'За добу'!$D:$D,Word!$D2,'За добу'!$E:$E,Word!$E2)","v":0},{"$f":"AE2-AF2","v":0},"Філія5",{"$f":"SUMIFS(План!$J:$J,План!$B:$B,Word!$B2,План!$D:$D,Word!$D2,План!$E:$E,Word!$E2)","v":0},{"$f":"SUMIFS(Факт!$J:$J,Факт!$B:$B,Word!$B2,Факт!$D:$D,Word!$D2,Факт!$E:$E,Word!$E2)","v":0},{"$f":"IF(ISERR(AL2/AK2),0,AL2/AK2*100)","v":0},{"$f":"SUMIFS('За добу'!$J:$J,'За добу'!$B:$B,Word!$B2,'За добу'!$D:$D,Word!$D2,'За добу'!$E:$E,Word!$E2)","v":0},{"$f":"AK2-AL2","v":0}]
[{"$f":"IF($B3<>\"\",$A2+1,\"\")","v":2},{"$f":"'За добу'!$B3","v":"Внесення КАСу"},null,{"$f":"'За добу'!$D3","v":"Перше внесення по м.т.г."},{"$f":"'За добу'!$E3","v":"оз.пш. 2018"},"Пшениця Озима-2018",{"$f":"M3+S3+Y3+AE3+AK3","v":7696},5370.88,{"$f":"IF(ISERR(H3/G3),0,H3/G3*100)","v":69.78794178794179},{"$f":"P3+V3+AB3+AH3+AN3","v":313},{"$f":"G3-H3","v":2325.12},"Філія1",{"$f":"SUMIFS(План!$F:$F,План!$B:$B,Word!$B3,План!$D:$D,Word!$D3,План!$E:$E,Word!$E3)","v":1002.1},{"$f":"SUMIFS(Факт!$F:$F,Факт!$B:$B,Word!$B3,Факт!$D:$D,Word!$D3,Факт!$E:$E,Word!$E3)","v":1008.2},{"$f":"IF(ISERR(N3/M3),0,N3/M3*100)","v":100.60872168446262},{"$f":"SUMIFS('За добу'!$F:$F,'За добу'!$B:$B,Word!$B3,'За добу'!$D:$D,Word!$D3,'За добу'!$E:$E,Word!$E3)","v":9},{"$f":"M3-N3","v":-6.1000000000000227},"Філія2",{"$f":"SUMIFS(План!$G:$G,План!$B:$B,Word!$B3,План!$D:$D,Word!$D3,План!$E:$E,Word!$E3)","v":1123.31},{"$f":"SUMIFS(Факт!$G:$G,Факт!$B:$B,Word!$B3,Факт!$D:$D,Word!$D3,Факт!$E:$E,Word!$E3)","v":1125.1099999999999},{"$f":"IF(ISERR(T3/S3),0,T3/S3*100)","v":100.16024071716623},{"$f":"SUMIFS('За добу'!$G:$G,'За добу'!$B:$B,Word!$B3,'За добу'!$D:$D,Word!$D3,'За добу'!$E:$E,Word!$E3)","v":0},{"$f":"S3-T3","v":-1.7999999999999545},"Філія3",{"$f":"SUMIFS(План!$H:$H,План!$B:$B,Word!$B3,План!$D:$D,Word!$D3,План!$E:$E,Word!$E3)","v":1642.09},{"$f":"SUMIFS(Факт!$H:$H,Факт!$B:$B,Word!$B3,Факт!$D:$D,Word!$D3,Факт!$E:$E,Word!$E3)","v":1641.9699999999998},{"$f":"IF(ISERR(Z3/Y3),0,Z3/Y3*100)","v":99.992692239767607},{"$f":"SUMIFS('За добу'!$H:$H,'За добу'!$B:$B,Word!$B3,'За добу'!$D:$D,Word!$D3,'За добу'!$E:$E,Word!$E3)","v":0},{"$f":"Y3-Z3","v":0.12000000000011823},"Філія4",{"$f":"SUMIFS(План!$I:$I,План!$B:$B,Word!$B3,План!$D:$D,Word!$D3,План!$E:$E,Word!$E3)","v":1150.5},{"$f":"SUMIFS(Факт!$I:$I,Факт!$B:$B,Word!$B3,Факт!$D:$D,Word!$D3,Факт!$E:$E,Word!$E3)","v":1117.6000000000001},{"$f":"IF(ISERR(AF3/AE3),0,AF3/AE3*100)","v":97.140373750543247},{"$f":"SUMIFS('За добу'!$I:$I,'За добу'!$B:$B,Word!$B3,'За добу'!$D:$D,Word!$D3,'За добу'!$E:$E,Word!$E3)","v":0},{"$f":"AE3-AF3","v":32.899999999999864},"Філія5",{"$f":"SUMIFS(План!$J:$J,План!$B:$B,Word!$B3,План!$D:$D,Word!$D3,План!$E:$E,Word!$E3)","v":2778},{"$f":"SUMIFS(Факт!$J:$J,Факт!$B:$B,Word!$B3,Факт!$D:$D,Word!$D3,Факт!$E:$E,Word!$E3)","v":478},{"$f":"IF(ISERR(AL3/AK3),0,AL3/AK3*100)","v":17.206623470122391},{"$f":"SUMIFS('За добу'!$J:$J,'За добу'!$B:$B,Word!$B3,'За добу'!$D:$D,Word!$D3,'За добу'!$E:$E,Word!$E3)","v":304},{"$f":"AK3-AL3","v":2300}]
[3,{"$f":"'За добу'!$B4","v":"Внесення КАСу"},null,{"$f":"'За добу'!$D4","v":"Перше внесення по м.т.г."},{"$f":"'За добу'!$E4","v":"оз.ріп. 2018"},"Ріпак Озимий-2018",1306.07,800.05,61.256287947812908,0,506.02,"Філія1",{"$f":"SUMIFS(План!$F:$F,План!$B:$B,Word!$B4,План!$D:$D,Word!$D4,План!$E:$E,Word!$E4)","v":183},{"$f":"SUMIFS(Факт!$F:$F,Факт!$B:$B,Word!$B4,Факт!$D:$D,Word!$D4,Факт!$E:$E,Word!$E4)","v":183},100,{"$f":"SUMIFS('За добу'!$F:$F,'За добу'!$B:$B,Word!$B4,'За добу'!$D:$D,Word!$D4,'За добу'!$E:$E,Word!$E4)","v":0},0,"Філія2",{"$f":"SUMIFS(План!$G:$G,План!$B:$B,Word!$B4,План!$D:$D,Word!$D4,План!$E:$E,Word!$E4)","v":189.91},{"$f":"SUMIFS(Факт!$G:$G,Факт!$B:$B,Word!$B4,Факт!$D:$D,Word!$D4,Факт!$E:$E,Word!$E4)","v":189.91},100,{"$f":"SUMIFS('За добу'!$G:$G,'За добу'!$B:$B,Word!$B4,'За добу'!$D:$D,Word!$D4,'За добу'!$E:$E,Word!$E4)","v":0},0,"Філія3",{"$f":"SUMIFS(План!$H:$H,План!$B:$B,Word!$B4,План!$D:$D,Word!$D4,План!$E:$E,Word!$E4)","v":134.16},{"$f":"SUMIFS(Факт!$H:$H,Факт!$B:$B,Word!$B4,Факт!$D:$D,Word!$D4,Факт!$E:$E,Word!$E4)","v":133.63999999999999},99.612403100775182,{"$f":"SUMIFS('За добу'!$H:$H,'За добу'!$B:$B,Word!$B4,'За добу'!$D:$D,Word!$D4,'За добу'!$E:$E,Word!$E4)","v":0},0.52000000000001023,"Філія4",{"$f":"SUMIFS(План!$I:$I,План!$B:$B,Word!$B4,План!$D:$D,Word!$D4,План!$E:$E,Word!$E4)","v":295},{"$f":"SUMIFS(Факт!$I:$I,Факт!$B:$B,Word!$B4,Факт!$D:$D,Word!$D4,Факт!$E:$E,Word!$E4)","v":293.5},99.491525423728817,{"$f":"SUMIFS('За добу'!$I:$I,'За добу'!$B:$B,Word!$B4,'За добу'!$D:$D,Word!$D4,'За добу'!$E:$E,Word!$E4)","v":0},1.5,"Філія5",{"$f":"SUMIFS(План!$J:$J,План!$B:$B,Word!$B4,План!$D:$D,Word!$D4,План!$E:$E,Word!$E4)","v":504},{"$f":"SUMIFS(Факт!$J:$J,Факт!$B:$B,Word!$B4,Факт!$D:$D,Word!$D4,Факт!$E:$E,Word!$E4)","v":0},0,{"$f":"SUMIFS('За добу'!$J:$J,'За добу'!$B:$B,Word!$B4,'За добу'!$D:$D,Word!$D4,'За добу'!$E:$E,Word!$E4)","v":0},504]
[4,{"$f":"'За добу'!$B5","v":"Внесення м/д (сульфат-магнію)"},null,{"$f":"'За добу'!$D5","v":"Перше підживлення по м.т.г."},{"$f":"'За добу'!$E5","v":"оз.пш. 2018"},"Пшениця Озима-2018",7696,5048.9799999999996,65.605249480249469,384,2647.0200000000004,"Філія1",{"$f":"SUMIFS(План!$F:$F,План!$B:$B,Word!$B5,План!$D:$D,Word!$D5,План!$E:$E,Word!$E5)","v":1002.1},{"$f":"SUMIFS(Факт!$F:$F,Факт!$B:$B,Word!$B5,Факт!$D:$D,Word!$D5,Факт!$E:$E,Word!$E5)","v":974.09999999999991},97.205867677876441,{"$f":"SUMIFS('За добу'!$F:$F,'За добу'!$B:$B,Word!$B5,'За добу'!$D:$D,Word!$D5,'За добу'!$E:$E,Word!$E5)","v":0},28.000000000000114,"Філія2",{"$f":"SUMIFS(План!$G:$G,План!$B:$B,Word!$B5,План!$D:$D,Word!$D5,План!$E:$E,Word!$E5)","v":1123.31},{"$f":"SUMIFS(Факт!$G:$G,Факт!$B:$B,Word!$B5,Факт!$D:$D,Word!$D5,Факт!$E:$E,Word!$E5)","v":1123.31},100,{"$f":"SUMIFS('За добу'!$G:$G,'За добу'!$B:$B,Word!$B5,'За добу'!$D:$D,Word!$D5,'За добу'!$E:$E,Word!$E5)","v":0},0,"Філія3",{"$f":"SUMIFS(План!$H:$H,План!$B:$B,Word!$B5,План!$D:$D,Word!$D5,План!$E:$E,Word!$E5)","v":1642.09},{"$f":"SUMIFS(Факт!$H:$H,Факт!$B:$B,Word!$B5,Факт!$D:$D,Word!$D5,Факт!$E:$E,Word!$E5)","v":1641.5700000000002},99.968333038993009,{"$f":"SUMIFS('За добу'!$H:$H,'За добу'!$B:$B,Word!$B5,'За добу'!$D:$D,Word!$D5,'За добу'!$E:$E,Word!$E5)","v":0},0.51999999999975444,"Філія4",{"$f":"SUMIFS(План!$I:$I,План!$B:$B,Word!$B5,План!$D:$D,Word!$D5,План!$E:$E,Word!$E5)","v":1150.5},{"$f":"SUMIFS(Факт!$I:$I,Факт!$B:$B,Word!$B5,Факт!$D:$D,Word!$D5,Факт!$E:$E,Word!$E5)","v":926},80.486744893524559,{"$f":"SUMIFS('За добу'!$I:$I,'За добу'!$B:$B,Word!$B5,'За добу'!$D:$D,Word!$D5,'За добу'!$E:$E,Word!$E5)","v":0},224.5,"Філія5",{"$f":"SUMIFS(План!$J:$J,План!$B:$B,Word!$B5,План!$D:$D,Word!$D5,План!$E:$E,Word!$E5)","v":2778},{"$f":"SUMIFS(Факт!$J:$J,Факт!$B:$B,Word!$B5,Факт!$D:$D,Word!$D5,Факт!$E:$E,Word!$E5)","v":384},13.822894168466524,{"$f":"SUMIFS('За добу'!$J:$J,'За добу'!$B:$B,Word!$B5,'За добу'!$D:$D,Word!$D5,'За добу'!$E:$E,Word!$E5)","v":384},2394]
[5,{"$f":"'За добу'!$B6","v":"Внесення м/д (сульфат-магнію)"},null,{"$f":"'За добу'!$D6","v":"Перше підживлення по м.т.г."},{"$f":"'За добу'!$E6","v":"оз.ріп. 2018"},"Ріпак Озимий-2018",1306.07,898.07,68.761245568767379,154,407.99999999999989,"Філія1",{"$f":"SUMIFS(План!$F:$F,План!$B:$B,Word!$B6,План!$D:$D,Word!$D6,План!$E:$E,Word!$E6)","v":183},{"$f":"SUMIFS(Факт!$F:$F,Факт!$B:$B,Word!$B6,Факт!$D:$D,Word!$D6,Факт!$E:$E,Word!$E6)","v":125},68.30601092896174,{"$f":"SUMIFS('За добу'!$F:$F,'За добу'!$B:$B,Word!$B6,'За добу'!$D:$D,Word!$D6,'За добу'!$E:$E,Word!$E6)","v":0},58,"Філія2",{"$f":"SUMIFS(План!$G:$G,План!$B:$B,Word!$B6,План!$D:$D,Word!$D6,План!$E:$E,Word!$E6)","v":189.91},{"$f":"SUMIFS(Факт!$G:$G,Факт!$B:$B,Word!$B6,Факт!$D:$D,Word!$D6,Факт!$E:$E,Word!$E6)","v":189.91000000000003},100.00000000000003,{"$f":"SUMIFS('За добу'!$G:$G,'За добу'!$B:$B,Word!$B6,'За добу'!$D:$D,Word!$D6,'За добу'!$E:$E,Word!$E6)","v":0},0,"Філія3",{"$f":"SUMIFS(План!$H:$H,План!$B:$B,Word!$B6,План!$D:$D,Word!$D6,План!$E:$E,Word!$E6)","v":134.16},{"$f":"SUMIFS(Факт!$H:$H,Факт!$B:$B,Word!$B6,Факт!$D:$D,Word!$D6,Факт!$E:$E,Word!$E6)","v":134.16},100,{"$f":"SUMIFS('За добу'!$H:$H,'За добу'!$B:$B,Word!$B6,'За добу'!$D:$D,Word!$D6,'За добу'!$E:$E,Word!$E6)","v":0},0,"Філія4",{"$f":"SUMIFS(План!$I:$I,План!$B:$B,Word!$B6,План!$D:$D,Word!$D6,План!$E:$E,Word!$E6)","v":295},{"$f":"SUMIFS(Факт!$I:$I,Факт!$B:$B,Word!$B6,Факт!$D:$D,Word!$D6,Факт!$E:$E,Word!$E6)","v":295},100,{"$f":"SUMIFS('За добу'!$I:$I,'За добу'!$B:$B,Word!$B6,'За добу'!$D:$D,Word!$D6,'За добу'!$E:$E,Word!$E6)","v":0},0,"Філія5",{"$f":"SUMIFS(План!$J:$J,План!$B:$B,Word!$B6,План!$D:$D,Word!$D6,План!$E:$E,Word!$E6)","v":504},{"$f":"SUMIFS(Факт!$J:$J,Факт!$B:$B,Word!$B6,Факт!$D:$D,Word!$D6,Факт!$E:$E,Word!$E6)","v":154},30.555555555555557,{"$f":"SUMIFS('За добу'!$J:$J,'За добу'!$B:$B,Word!$B6,'За добу'!$D:$D,Word!$D6,'За добу'!$E:$E,Word!$E6)","v":154},350]
[6,{"$f":"'За добу'!$B7","v":"Внесення м/д (сульфат-магнію)"},null,{"$f":"'За добу'!$D7","v":"Перше підживлення по м.т.г."},{"$f":"'За добу'!$E7","v":"б.т. 2018"},"Трави Багаторічні-2018",374.52,372.03999999999996,99.337819075082763,0,2.4800000000000182,"Філія1",{"$f":"SUMIFS(План!$F:$F,План!$B:$B,Word!$B7,План!$D:$D,Word!$D7,План!$E:$E,Word!$E7)","v":0},{"$f":"SUMIFS(Факт!$F:$F,Факт!$B:$B,Word!$B7,Факт!$D:$D,Word!$D7,Факт!$E:$E,Word!$E7)","v":0},0,{"$f":"SUMIFS('За добу'!$F:$F,'За добу'!$B:$B,Word!$B7,'За добу'!$D:$D,Word!$D7,'За добу'!$E:$E,Word!$E7)","v":0},0,"Філія2",{"$f":"SUMIFS(План!$G:$G,План!$B:$B,Word!$B7,План!$D:$D,Word!$D7,План!$E:$E,Word!$E7)","v":245.1},{"$f":"SUMIFS(Факт!$G:$G,Факт!$B:$B,Word!$B7,Факт!$D:$D,Word!$D7,Факт!$E:$E,Word!$E7)","v":244.95},99.938800489596076,{"$f":"SUMIFS('За добу'!$G:$G,'За добу'!$B:$B,Word!$B7,'За добу'!$D:$D,Word!$D7,'За добу'!$E:$E,Word!$E7)","v":0},0.15000000000000568,"Філія3",{"$f":"SUMIFS(План!$H:$H,План!$B:$B,Word!$B7,План!$D:$D,Word!$D7,План!$E:$E,Word!$E7)","v":129.41999999999999},{"$f":"SUMIFS(Факт!$H:$H,Факт!$B:$B,Word!$B7,Факт!$D:$D,Word!$D7,Факт!$E:$E,Word!$E7)","v":127.09},98.199660021634998,{"$f":"SUMIFS('За добу'!$H:$H,'За добу'!$B:$B,Word!$B7,'За добу'!$D:$D,Word!$D7,'За добу'!$E:$E,Word!$E7)","v":0},2.3299999999999841,"Філія4",{"$f":"SUMIFS(План!$I:$I,План!$B:$B,Word!$B7,План!$D:$D,Word!$D7,План!$E:$E,Word!$E7)","v":0},{"$f":"SUMIFS(Факт!$I:$I,Факт!$B:$B,Word!$B7,Факт!$D:$D,Word!$D7,Факт!$E:$E,Word!$E7)","v":0},0,{"$f":"SUMIFS('За добу'!$I:$I,'За добу'!$B:$B,Word!$B7,'За добу'!$D:$D,Word!$D7,'За добу'!$E:$E,Word!$E7)","v":0},0,"Філія5",{"$f":"SUMIFS(План!$J:$J,План!$B:$B,Word!$B7,План!$D:$D,Word!$D7,План!$E:$E,Word!$E7)","v":0},{"$f":"SUMIFS(Факт!$J:$J,Факт!$B:$B,Word!$B7,Факт!$D:$D,Word!$D7,Факт!$E:$E,Word!$E7)","v":0},0,{"$f":"SUMIFS('За добу'!$J:$J,'За добу'!$B:$B,Word!$B7,'За добу'!$D:$D,Word!$D7,'За добу'!$E:$E,Word!$E7)","v":0},0]
[7,{"$f":"'За добу'!$B8","v":"Внесення (NРК 10-26-26)"},null,{"$f":"'За добу'!$D8","v":"Внес. м.д. основне"},{"$f":"'За добу'!$E8","v":"к.з. 2018"},"Кукурудза на зерно-2018",{"$f":"M8+S8+Y8+AE8+AK8","v":9473.75},{"$f":"N8+T8+Z8+AF8+AL8","v":2041.9099999999999},{"$f":"IF(ISERR(H8/G8),0,H8/G8*100)","v":21.553344768439107},0,{"$f":"G8-H8","v":7431.84},"Філія1",{"$f":"SUMIFS(План!$F:$F,План!$B:$B,Word!$B8,План!$D:$D,Word!$D8,План!$E:$E,Word!$E8)","v":1831.54},{"$f":"SUMIFS(Факт!$F:$F,Факт!$B:$B,Word!$B8,Факт!$D:$D,Word!$D8,Факт!$E:$E,Word!$E8)","v":64},{"$f":"IF(ISERR(N8/M8),0,N8/M8*100)","v":3.4943271782216061},{"$f":"SUMIFS('За добу'!$F:$F,'За добу'!$B:$B,Word!$B8,'За добу'!$D:$D,Word!$D8,'За добу'!$E:$E,Word!$E8)","v":0},{"$f":"M8-N8","v":1767.54},"Філія2",{"$f":"SUMIFS(План!$G:$G,План!$B:$B,Word!$B8,План!$D:$D,Word!$D8,План!$E:$E,Word!$E8)","v":1865.75},{"$f":"SUMIFS(Факт!$G:$G,Факт!$B:$B,Word!$B8,Факт!$D:$D,Word!$D8,Факт!$E:$E,Word!$E8)","v":876.98},{"$f":"IF(ISERR(T8/S8),0,T8/S8*100)","v":47.004153825539333},{"$f":"SUMIFS('За добу'!$G:$G,'За добу'!$B:$B,Word!$B8,'За добу'!$D:$D,Word!$D8,'За добу'!$E:$E,Word!$E8)","v":0},{"$f":"S8-T8","v":988.77},"Філія3",{"$f":"SUMIFS(План!$H:$H,План!$B:$B,Word!$B8,План!$D:$D,Word!$D8,План!$E:$E,Word!$E8)","v":1693.34},{"$f":"SUMIFS(Факт!$H:$H,Факт!$B:$B,Word!$B8,Факт!$D:$D,Word!$D8,Факт!$E:$E,Word!$E8)","v":1100.9299999999998},{"$f":"IF(ISERR(Z8/Y8),0,Z8/Y8*100)","v":65.015295215373158},{"$f":"SUMIFS('За добу'!$H:$H,'За добу'!$B:$B,Word!$B8,'За добу'!$D:$D,Word!$D8,'За добу'!$E:$E,Word!$E8)","v":0},{"$f":"Y8-Z8","v":592.41000000000008},"Філія4",{"$f":"SUMIFS(План!$I:$I,План!$B:$B,Word!$B8,План!$D:$D,Word!$D8,План!$E:$E,Word!$E8)","v":1055.1199999999999},{"$f":"SUMIFS(Факт!$I:$I,Факт!$B:$B,Word!$B8,Факт!$D:$D,Word!$D8,Факт!$E:$E,Word!$E8)","v":0},{"$f":"IF(ISERR(AF8/AE8),0,AF8/AE8*100)","v":0},{"$f":"SUMIFS('За добу'!$I:$I,'За добу'!$B:$B,Word!$B8,'За добу'!$D:$D,Word!$D8,'За добу'!$E:$E,Word!$E8)","v":0},{"$f":"AE8-AF8","v":1055.1199999999999},"Філія5",{"$f":"SUMIFS(План!$J:$J,План!$B:$B,Word!$B8,План!$D:$D,Word!$D8,План!$E:$E,Word!$E8)","v":3028},{"$f":"SUMIFS(Факт!$J:$J,Факт!$B:$B,Word!$B8,Факт!$D:$D,Word!$D8,Факт!$E:$E,Word!$E8)","v":0},{"$f":"IF(ISERR(AL8/AK8),0,AL8/AK8*100)","v":0},{"$f":"SUMIFS('За добу'!$J:$J,'За добу'!$B:$B,Word!$B8,'За добу'!$D:$D,Word!$D8,'За добу'!$E:$E,Word!$E8)","v":0},{"$f":"AK8-AL8","v":3028}]
[null,{"$f":"'За добу'!$B9","v":0},null,{"$f":"'За добу'!$D9","v":0},{"$f":"'За добу'!$E9","v":0},{"$f":"IF(E9=\"б.т. 2018\",\"Трави Багаторічні-2018\",IF(E9=\"оз.пш. 2018\",\"Пшениця Озима-2018\",IF(E9=\"оз.ріп. 2018\",\"Ріпак Озимий-2018\",IF(E9=\"к.з. 2018\",\"Кукурудза на зерно-2018\",\"ФОРМУЛА\"))))","v":"ФОРМУЛА"},{"$f":"M9+S9+Y9+AE9+AK9","v":0},{"$f":"N9+T9+Z9+AF9+AL9","v":0},{"$f":"IF(ISERR(H9/G9),0,H9/G9*100)","v":0},0,{"$f":"G9-H9","v":0},"Філія1",{"$f":"SUMIFS(План!$F:$F,План!$B:$B,Word!$B9,План!$D:$D,Word!$D9,План!$E:$E,Word!$E9)","v":0},{"$f":"SUMIFS(Факт!$F:$F,Факт!$B:$B,Word!$B9,Факт!$D:$D,Word!$D9,Факт!$E:$E,Word!$E9)","v":0},{"$f":"IF(ISERR(N9/M9),0,N9/M9*100)","v":0},{"$f":"SUMIFS('За добу'!$F:$F,'За добу'!$B:$B,Word!$B9,'За добу'!$D:$D,Word!$D9,'За добу'!$E:$E,Word!$E9)","v":0},{"$f":"M9-N9","v":0},"Філія2",{"$f":"SUMIFS(План!$G:$G,План!$B:$B,Word!$B9,План!$D:$D,Word!$D9,План!$E:$E,Word!$E9)","v":0},{"$f":"SUMIFS(Факт!$G:$G,Факт!$B:$B,Word!$B9,Факт!$D:$D,Word!$D9,Факт!$E:$E,Word!$E9)","v":0},{"$f":"IF(ISERR(T9/S9),0,T9/S9*100)","v":0},{"$f":"SUMIFS('За добу'!$G:$G,'За добу'!$B:$B,Word!$B9,'За добу'!$D:$D,Word!$D9,'За добу'!$E:$E,Word!$E9)","v":0},{"$f":"S9-T9","v":0},"Філія3",{"$f":"SUMIFS(План!$H:$H,План!$B:$B,Word!$B9,План!$D:$D,Word!$D9,План!$E:$E,Word!$E9)","v":0},{"$f":"SUMIFS(Факт!$H:$H,Факт!$B:$B,Word!$B9,Факт!$D:$D,Word!$D9,Факт!$E:$E,Word!$E9)","v":0},{"$f":"IF(ISERR(Z9/Y9),0,Z9/Y9*100)","v":0},{"$f":"SUMIFS('За добу'!$H:$H,'За добу'!$B:$B,Word!$B9,'За добу'!$D:$D,Word!$D9,'За добу'!$E:$E,Word!$E9)","v":0},{"$f":"Y9-Z9","v":0},"Філія4",{"$f":"SUMIFS(План!$I:$I,План!$B:$B,Word!$B9,План!$D:$D,Word!$D9,План!$E:$E,Word!$E9)","v":0},{"$f":"SUMIFS(Факт!$I:$I,Факт!$B:$B,Word!$B9,Факт!$D:$D,Word!$D9,Факт!$E:$E,Word!$E9)","v":0},{"$f":"IF(ISERR(AF9/AE9),0,AF9/AE9*100)","v":0},{"$f":"SUMIFS('За добу'!$I:$I,'За добу'!$B:$B,Word!$B9,'За добу'!$D:$D,Word!$D9,'За добу'!$E:$E,Word!$E9)","v":0},{"$f":"AE9-AF9","v":0},"Філія5",{"$f":"SUMIFS(План!$J:$J,План!$B:$B,Word!$B9,План!$D:$D,Word!$D9,План!$E:$E,Word!$E9)","v":0},{"$f":"SUMIFS(Факт!$J:$J,Факт!$B:$B,Word!$B9,Факт!$D:$D,Word!$D9,Факт!$E:$E,Word!$E9)","v":0},{"$f":"IF(ISERR(AL9/AK9),0,AL9/AK9*100)","v":0},{"$f":"SUMIFS('За добу'!$J:$J,'За добу'!$B:$B,Word!$B9,'За добу'!$D:$D,Word!$D9,'За добу'!$E:$E,Word!$E9)","v":0},{"$f":"AK9-AL9","v":0}]
[null,{"$f":"'За добу'!$B10","v":0},null,{"$f":"'За добу'!$D10","v":0},{"$f":"'За добу'!$E10","v":0},"ФОРМУЛА",{"$f":"M10+S10+Y10+AE10+AK10","v":0},{"$f":"N10+T10+Z10+AF10+AL10","v":0},{"$f":"IF(ISERR(H10/G10),0,H10/G10*100)","v":0},{"$f":"P10+V10+AB10+AH10+AN10","v":0},{"$f":"G10-H10","v":0},"Філія1",{"$f":"SUMIFS(План!$F:$F,План!$B:$B,Word!$B10,План!$D:$D,Word!$D10,План!$E:$E,Word!$E10)","v":0},{"$f":"SUMIFS(Факт!$F:$F,Факт!$B:$B,Word!$B10,Факт!$D:$D,Word!$D10,Факт!$E:$E,Word!$E10)","v":0},{"$f":"IF(ISERR(N10/M10),0,N10/M10*100)","v":0},{"$f":"SUMIFS('За добу'!$F:$F,'За добу'!$B:$B,Word!$B10,'За добу'!$D:$D,Word!$D10,'За добу'!$E:$E,Word!$E10)","v":0},{"$f":"M10-N10","v":0},"Філія2",{"$f":"SUMIFS(План!$G:$G,План!$B:$B,Word!$B10,План!$D:$D,Word!$D10,План!$E:$E,Word!$E10)","v":0},{"$f":"SUMIFS(Факт!$G:$G,Факт!$B:$B,Word!$B10,Факт!$D:$D,Word!$D10,Факт!$E:$E,Word!$E10)","v":0},{"$f":"IF(ISERR(T10/S10),0,T10/S10*100)","v":0},{"$f":"SUMIFS('За добу'!$G:$G,'За добу'!$B:$B,Word!$B10,'За добу'!$D:$D,Word!$D10,'За добу'!$E:$E,Word!$E10)","v":0},{"$f":"S10-T10","v":0},"Філія3",{"$f":"SUMIFS(План!$H:$H,План!$B:$B,Word!$B10,План!$D:$D,Word!$D10,План!$E:$E,Word!$E10)","v":0},{"$f":"SUMIFS(Факт!$H:$H,Факт!$B:$B,Word!$B10,Факт!$D:$D,Word!$D10,Факт!$E:$E,Word!$E10)","v":0},{"$f":"IF(ISERR(Z10/Y10),0,Z10/Y10*100)","v":0},{"$f":"SUMIFS('За добу'!$H:$H,'За добу'!$B:$B,Word!$B10,'За добу'!$D:$D,Word!$D10,'За добу'!$E:$E,Word!$E10)","v":0},{"$f":"Y10-Z10","v":0},"Філія4",{"$f":"SUMIFS(План!$I:$I,План!$B:$B,Word!$B10,План!$D:$D,Word!$D10,План!$E:$E,Word!$E10)","v":0},{"$f":"SUMIFS(Факт!$I:$I,Факт!$B:$B,Word!$B10,Факт!$D:$D,Word!$D10,Факт!$E:$E,Word!$E10)","v":0},{"$f":"IF(ISERR(AF10/AE10),0,AF10/AE10*100)","v":0},{"$f":"SUMIFS('За добу'!$I:$I,'За добу'!$B:$B,Word!$B10,'За добу'!$D:$D,Word!$D10,'За добу'!$E:$E,Word!$E10)","v":0},{"$f":"AE10-AF10","v":0},"Філія5",{"$f":"SUMIFS(План!$J:$J,План!$B:$B,Word!$B10,План!$D:$D,Word!$D10,План!$E:$E,Word!$E10)","v":0},{"$f":"SUMIFS(Факт!$J:$J,Факт!$B:$B,Word!$B10,Факт!$D:$D,Word!$D10,Факт!$E:$E,Word!$E10)","v":0},{"$f":"IF(ISERR(AL10/AK10),0,AL10/AK10*100)","v":0},{"$f":"SUMIFS('За добу'!$J:$J,'За добу'!$B:$B,Word!$B10,'За добу'!$D:$D,Word!$D10,'За добу'!$E:$E,Word!$E10)","v":0},{"$f":"AK10-AL10","v":0}]
[null,{"$f":"'За добу'!$B11","v":0},null,{"$f":"'За добу'!$D11","v":0},{"$f":"'За добу'!$E11","v":0},"ФОРМУЛА",0,0,0,0,0,"Філія1",{"$f":"SUMIFS(План!$F:$F,План!$B:$B,Word!$B11,План!$D:$D,Word!$D11,План!$E:$E,Word!$E11)","v":0},{"$f":"SUMIFS(Факт!$F:$F,Факт!$B:$B,Word!$B11,Факт!$D:$D,Word!$D11,Факт!$E:$E,Word!$E11)","v":0},0,{"$f":"SUMIFS('За добу'!$F:$F,'За добу'!$B:$B,Word!$B11,'За добу'!$D:$D,Word!$D11,'За добу'!$E:$E,Word!$E11)","v":0},0,"Філія2",{"$f":"SUMIFS(План!$G:$G,План!$B:$B,Word!$B11,План!$D:$D,Word!$D11,План!$E:$E,Word!$E11)","v":0},{"$f":"SUMIFS(Факт!$G:$G,Факт!$B:$B,Word!$B11,Факт!$D:$D,Word!$D11,Факт!$E:$E,Word!$E11)","v":0},0,{"$f":"SUMIFS('За добу'!$G:$G,'За добу'!$B:$B,Word!$B11,'За добу'!$D:$D,Word!$D11,'За добу'!$E:$E,Word!$E11)","v":0},0,"Філія3",{"$f":"SUMIFS(План!$H:$H,План!$B:$B,Word!$B11,План!$D:$D,Word!$D11,План!$E:$E,Word!$E11)","v":0},{"$f":"SUMIFS(Факт!$H:$H,Факт!$B:$B,Word!$B11,Факт!$D:$D,Word!$D11,Факт!$E:$E,Word!$E11)","v":0},0,{"$f":"SUMIFS('За добу'!$H:$H,'За добу'!$B:$B,Word!$B11,'За добу'!$D:$D,Word!$D11,'За добу'!$E:$E,Word!$E11)","v":0},0,"Філія4",{"$f":"SUMIFS(План!$I:$I,План!$B:$B,Word!$B11,План!$D:$D,Word!$D11,План!$E:$E,Word!$E11)","v":0},{"$f":"SUMIFS(Факт!$I:$I,Факт!$B:$B,Word!$B11,Факт!$D:$D,Word!$D11,Факт!$E:$E,Word!$E11)","v":0},0,{"$f":"SUMIFS('За добу'!$I:$I,'За добу'!$B:$B,Word!$B11,'За добу'!$D:$D,Word!$D11,'За добу'!$E:$E,Word!$E11)","v":0},0,"Філія5",{"$f":"SUMIFS(План!$J:$J,План!$B:$B,Word!$B11,План!$D:$D,Word!$D11,План!$E:$E,Word!$E11)","v":0},{"$f":"SUMIFS(Факт!$J:$J,Факт!$B:$B,Word!$B11,Факт!$D:$D,Word!$D11,Факт!$E:$E,Word!$E11)","v":0},0,{"$f":"SUMIFS('За добу'!$J:$J,'За добу'!$B:$B,Word!$B11,'За добу'!$D:$D,Word!$D11,'За добу'!$E:$E,Word!$E11)","v":0},0]
[null,{"$f":"'За добу'!$B12","v":0},null,{"$f":"'За добу'!$D12","v":0},{"$f":"'За добу'!$E12","v":0},"ФОРМУЛА",0,0,0,0,0,"Філія1",{"$f":"SUMIFS(План!$F:$F,План!$B:$B,Word!$B12,План!$D:$D,Word!$D12,План!$E:$E,Word!$E12)","v":0},{"$f":"SUMIFS(Факт!$F:$F,Факт!$B:$B,Word!$B12,Факт!$D:$D,Word!$D12,Факт!$E:$E,Word!$E12)","v":0},0,{"$f":"SUMIFS('За добу'!$F:$F,'За добу'!$B:$B,Word!$B12,'За добу'!$D:$D,Word!$D12,'За добу'!$E:$E,Word!$E12)","v":0},0,"Філія2",{"$f":"SUMIFS(План!$G:$G,План!$B:$B,Word!$B12,План!$D:$D,Word!$D12,План!$E:$E,Word!$E12)","v":0},{"$f":"SUMIFS(Факт!$G:$G,Факт!$B:$B,Word!$B12,Факт!$D:$D,Word!$D12,Факт!$E:$E,Word!$E12)","v":0},0,{"$f":"SUMIFS('За добу'!$G:$G,'За добу'!$B:$B,Word!$B12,'За добу'!$D:$D,Word!$D12,'За добу'!$E:$E,Word!$E12)","v":0},0,"Філія3",{"$f":"SUMIFS(План!$H:$H,План!$B:$B,Word!$B12,План!$D:$D,Word!$D12,План!$E:$E,Word!$E12)","v":0},{"$f":"SUMIFS(Факт!$H:$H,Факт!$B:$B,Word!$B12,Факт!$D:$D,Word!$D12,Факт!$E:$E,Word!$E12)","v":0},0,{"$f":"SUMIFS('За добу'!$H:$H,'За добу'!$B:$B,Word!$B12,'За добу'!$D:$D,Word!$D12,'За добу'!$E:$E,Word!$E12)","v":0},0,"Філія4",{"$f":"SUMIFS(План!$I:$I,План!$B:$B,Word!$B12,План!$D:$D,Word!$D12,План!$E:$E,Word!$E12)","v":0},{"$f":"SUMIFS(Факт!$I:$I,Факт!$B:$B,Word!$B12,Факт!$D:$D,Word!$D12,Факт!$E:$E,Word!$E12)","v":0},0,{"$f":"SUMIFS('За добу'!$I:$I,'За добу'!$B:$B,Word!$B12,'За добу'!$D:$D,Word!$D12,'За добу'!$E:$E,Word!$E12)","v":0},0,"Філія5",{"$f":"SUMIFS(План!$J:$J,План!$B:$B,Word!$B12,План!$D:$D,Word!$D12,План!$E:$E,Word!$E12)","v":0},{"$f":"SUMIFS(Факт!$J:$J,Факт!$B:$B,Word!$B12,Факт!$D:$D,Word!$D12,Факт!$E:$E,Word!$E12)","v":0},0,{"$f":"SUMIFS('За добу'!$J:$J,'За добу'!$B:$B,Word!$B12,'За добу'!$D:$D,Word!$D12,'За добу'!$E:$E,Word!$E12)","v":0},0]
[null,{"$f":"'За добу'!$B13","v":0},null,{"$f":"'За добу'!$D13","v":0},{"$f":"'За добу'!$E13","v":0},"ФОРМУЛА",0,0,0,0,0,"Філія1",{"$f":"SUMIFS(План!$F:$F,План!$B:$B,Word!$B13,План!$D:$D,Word!$D13,План!$E:$E,Word!$E13)","v":0},{"$f":"SUMIFS(Факт!$F:$F,Факт!$B:$B,Word!$B13,Факт!$D:$D,Word!$D13,Факт!$E:$E,Word!$E13)","v":0},0,{"$f":"SUMIFS('За добу'!$F:$F,'За добу'!$B:$B,Word!$B13,'За добу'!$D:$D,Word!$D13,'За добу'!$E:$E,Word!$E13)","v":0},0,"Філія2",{"$f":"SUMIFS(План!$G:$G,План!$B:$B,Word!$B13,План!$D:$D,Word!$D13,План!$E:$E,Word!$E13)","v":0},{"$f":"SUMIFS(Факт!$G:$G,Факт!$B:$B,Word!$B13,Факт!$D:$D,Word!$D13,Факт!$E:$E,Word!$E13)","v":0},0,{"$f":"SUMIFS('За добу'!$G:$G,'За добу'!$B:$B,Word!$B13,'За добу'!$D:$D,Word!$D13,'За добу'!$E:$E,Word!$E13)","v":0},0,"Філія3",{"$f":"SUMIFS(План!$H:$H,План!$B:$B,Word!$B13,План!$D:$D,Word!$D13,План!$E:$E,Word!$E13)","v":0},{"$f":"SUMIFS(Факт!$H:$H,Факт!$B:$B,Word!$B13,Факт!$D:$D,Word!$D13,Факт!$E:$E,Word!$E13)","v":0},0,{"$f":"SUMIFS('За добу'!$H:$H,'За добу'!$B:$B,Word!$B13,'За добу'!$D:$D,Word!$D13,'За добу'!$E:$E,Word!$E13)","v":0},0,"Філія4",{"$f":"SUMIFS(План!$I:$I,План!$B:$B,Word!$B13,План!$D:$D,Word!$D13,План!$E:$E,Word!$E13)","v":0},{"$f":"SUMIFS(Факт!$I:$I,Факт!$B:$B,Word!$B13,Факт!$D:$D,Word!$D13,Факт!$E:$E,Word!$E13)","v":0},0,{"$f":"SUMIFS('За добу'!$I:$I,'За добу'!$B:$B,Word!$B13,'За добу'!$D:$D,Word!$D13,'За добу'!$E:$E,Word!$E13)","v":0},0,"Філія5",{"$f":"SUMIFS(План!$J:$J,План!$B:$B,Word!$B13,План!$D:$D,Word!$D13,План!$E:$E,Word!$E13)","v":0},{"$f":"SUMIFS(Факт!$J:$J,Факт!$B:$B,Word!$B13,Факт!$D:$D,Word!$D13,Факт!$E:$E,Word!$E13)","v":0},0,{"$f":"SUMIFS('За добу'!$J:$J,'За добу'!$B:$B,Word!$B13,'За добу'!$D:$D,Word!$D13,'За добу'!$E:$E,Word!$E13)","v":0},0]
[null,{"$f":"'За добу'!$B14","v":0},null,{"$f":"'За добу'!$D14","v":0},{"$f":"'За добу'!$E14","v":0},"ФОРМУЛА",0,0,0,0,0,"Філія1",{"$f":"SUMIFS(План!$F:$F,План!$B:$B,Word!$B14,План!$D:$D,Word!$D14,План!$E:$E,Word!$E14)","v":0},{"$f":"SUMIFS(Факт!$F:$F,Факт!$B:$B,Word!$B14,Факт!$D:$D,Word!$D14,Факт!$E:$E,Word!$E14)","v":0},0,{"$f":"SUMIFS('За добу'!$F:$F,'За добу'!$B:$B,Word!$B14,'За добу'!$D:$D,Word!$D14,'За добу'!$E:$E,Word!$E14)","v":0},0,"Філія2",{"$f":"SUMIFS(План!$G:$G,План!$B:$B,Word!$B14,План!$D:$D,Word!$D14,План!$E:$E,Word!$E14)","v":0},{"$f":"SUMIFS(Факт!$G:$G,Факт!$B:$B,Word!$B14,Факт!$D:$D,Word!$D14,Факт!$E:$E,Word!$E14)","v":0},0,{"$f":"SUMIFS('За добу'!$G:$G,'За добу'!$B:$B,Word!$B14,'За добу'!$D:$D,Word!$D14,'За добу'!$E:$E,Word!$E14)","v":0},0,"Філія3",{"$f":"SUMIFS(План!$H:$H,План!$B:$B,Word!$B14,План!$D:$D,Word!$D14,План!$E:$E,Word!$E14)","v":0},{"$f":"SUMIFS(Факт!$H:$H,Факт!$B:$B,Word!$B14,Факт!$D:$D,Word!$D14,Факт!$E:$E,Word!$E14)","v":0},0,{"$f":"SUMIFS('За добу'!$H:$H,'За добу'!$B:$B,Word!$B14,'За добу'!$D:$D,Word!$D14,'За добу'!$E:$E,Word!$E14)","v":0},0,"Філія4",{"$f":"SUMIFS(План!$I:$I,План!$B:$B,Word!$B14,План!$D:$D,Word!$D14,План!$E:$E,Word!$E14)","v":0},{"$f":"SUMIFS(Факт!$I:$I,Факт!$B:$B,Word!$B14,Факт!$D:$D,Word!$D14,Факт!$E:$E,Word!$E14)","v":0},0,{"$f":"SUMIFS('За добу'!$I:$I,'За добу'!$B:$B,Word!$B14,'За добу'!$D:$D,Word!$D14,'За добу'!$E:$E,Word!$E14)","v":0},0,"Філія5",{"$f":"SUMIFS(План!$J:$J,План!$B:$B,Word!$B14,План!$D:$D,Word!$D14,План!$E:$E,Word!$E14)","v":0},{"$f":"SUMIFS(Факт!$J:$J,Факт!$B:$B,Word!$B14,Факт!$D:$D,Word!$D14,Факт!$E:$E,Word!$E14)","v":0},0,{"$f":"SUMIFS('За добу'!$J:$J,'За добу'!$B:$B,Word!$B14,'За добу'!$D:$D,Word!$D14,'За добу'!$E:$E,Word!$E14)","v":0},0]
[null,{"$f":"'За добу'!$B15","v":0},null,{"$f":"'За добу'!$D15","v":0},{"$f":"'За добу'!$E15","v":0},"ФОРМУЛА",0,0,0,0,0,"Філія1",{"$f":"SUMIFS(План!$F:$F,План!$B:$B,Word!$B15,План!$D:$D,Word!$D15,План!$E:$E,Word!$E15)","v":0},{"$f":"SUMIFS(Факт!$F:$F,Факт!$B:$B,Word!$B15,Факт!$D:$D,Word!$D15,Факт!$E:$E,Word!$E15)","v":0},0,{"$f":"SUMIFS('За добу'!$F:$F,'За добу'!$B:$B,Word!$B15,'За добу'!$D:$D,Word!$D15,'За добу'!$E:$E,Word!$E15)","v":0},0,"Філія2",{"$f":"SUMIFS(План!$G:$G,План!$B:$B,Word!$B15,План!$D:$D,Word!$D15,План!$E:$E,Word!$E15)","v":0},{"$f":"SUMIFS(Факт!$G:$G,Факт!$B:$B,Word!$B15,Факт!$D:$D,Word!$D15,Факт!$E:$E,Word!$E15)","v":0},0,{"$f":"SUMIFS('За добу'!$G:$G,'За добу'!$B:$B,Word!$B15,'За добу'!$D:$D,Word!$D15,'За добу'!$E:$E,Word!$E15)","v":0},0,"Філія3",{"$f":"SUMIFS(План!$H:$H,План!$B:$B,Word!$B15,План!$D:$D,Word!$D15,План!$E:$E,Word!$E15)","v":0},{"$f":"SUMIFS(Факт!$H:$H,Факт!$B:$B,Word!$B15,Факт!$D:$D,Word!$D15,Факт!$E:$E,Word!$E15)","v":0},0,{"$f":"SUMIFS('За добу'!$H:$H,'За добу'!$B:$B,Word!$B15,'За добу'!$D:$D,Word!$D15,'За добу'!$E:$E,Word!$E15)","v":0},0,"Філія4",{"$f":"SUMIFS(План!$I:$I,План!$B:$B,Word!$B15,План!$D:$D,Word!$D15,План!$E:$E,Word!$E15)","v":0},{"$f":"SUMIFS(Факт!$I:$I,Факт!$B:$B,Word!$B15,Факт!$D:$D,Word!$D15,Факт!$E:$E,Word!$E15)","v":0},0,{"$f":"SUMIFS('За добу'!$I:$I,'За добу'!$B:$B,Word!$B15,'За добу'!$D:$D,Word!$D15,'За добу'!$E:$E,Word!$E15)","v":0},0,"Філія5",{"$f":"SUMIFS(План!$J:$J,План!$B:$B,Word!$B15,План!$D:$D,Word!$D15,План!$E:$E,Word!$E15)","v":0},{"$f":"SUMIFS(Факт!$J:$J,Факт!$B:$B,Word!$B15,Факт!$D:$D,Word!$D15,Факт!$E:$E,Word!$E15)","v":0},0,{"$f":"SUMIFS('За добу'!$J:$J,'За добу'!$B:$B,Word!$B15,'За добу'!$D:$D,Word!$D15,'За добу'!$E:$E,Word!$E15)","v":0},0]
[null,{"$f":"'За добу'!$B16","v":0},null,{"$f":"'За добу'!$D16","v":0},{"$f":"'За добу'!$E16","v":0},"ФОРМУЛА",0,0,0,0,0,"Філія1",{"$f":"SUMIFS(План!$F:$F,План!$B:$B,Word!$B16,План!$D:$D,Word!$D16,План!$E:$E,Word!$E16)","v":0},{"$f":"SUMIFS(Факт!$F:$F,Факт!$B:$B,Word!$B16,Факт!$D:$D,Word!$D16,Факт!$E:$E,Word!$E16)","v":0},0,{"$f":"SUMIFS('За добу'!$F:$F,'За добу'!$B:$B,Word!$B16,'За добу'!$D:$D,Word!$D16,'За добу'!$E:$E,Word!$E16)","v":0},0,"Філія2",{"$f":"SUMIFS(План!$G:$G,План!$B:$B,Word!$B16,План!$D:$D,Word!$D16,План!$E:$E,Word!$E16)","v":0},{"$f":"SUMIFS(Факт!$G:$G,Факт!$B:$B,Word!$B16,Факт!$D:$D,Word!$D16,Факт!$E:$E,Word!$E16)","v":0},0,{"$f":"SUMIFS('За добу'!$G:$G,'За добу'!$B:$B,Word!$B16,'За добу'!$D:$D,Word!$D16,'За добу'!$E:$E,Word!$E16)","v":0},0,"Філія3",{"$f":"SUMIFS(План!$H:$H,План!$B:$B,Word!$B16,План!$D:$D,Word!$D16,План!$E:$E,Word!$E16)","v":0},{"$f":"SUMIFS(Факт!$H:$H,Факт!$B:$B,Word!$B16,Факт!$D:$D,Word!$D16,Факт!$E:$E,Word!$E16)","v":0},0,{"$f":"SUMIFS('За добу'!$H:$H,'За добу'!$B:$B,Word!$B16,'За добу'!$D:$D,Word!$D16,'За добу'!$E:$E,Word!$E16)","v":0},0,"Філія4",{"$f":"SUMIFS(План!$I:$I,План!$B:$B,Word!$B16,План!$D:$D,Word!$D16,План!$E:$E,Word!$E16)","v":0},{"$f":"SUMIFS(Факт!$I:$I,Факт!$B:$B,Word!$B16,Факт!$D:$D,Word!$D16,Факт!$E:$E,Word!$E16)","v":0},0,{"$f":"SUMIFS('За добу'!$I:$I,'За добу'!$B:$B,Word!$B16,'За добу'!$D:$D,Word!$D16,'За добу'!$E:$E,Word!$E16)","v":0},0,"Філія5",{"$f":"SUMIFS(План!$J:$J,План!$B:$B,Word!$B16,План!$D:$D,Word!$D16,План!$E:$E,Word!$E16)","v":0},{"$f":"SUMIFS(Факт!$J:$J,Факт!$B:$B,Word!$B16,Факт!$D:$D,Word!$D16,Факт!$E:$E,Word!$E16)","v":0},0,{"$f":"SUMIFS('За добу'!$J:$J,'За добу'!$B:$B,Word!$B16,'За добу'!$D:$D,Word!$D16,'За добу'!$E:$E,Word!$E16)","v":0},0]
[null,{"$f":"'За добу'!$B17","v":0},null,{"$f":"'За добу'!$D17","v":0},{"$f":"'За добу'!$E17","v":0},"ФОРМУЛА",0,0,0,0,0,"Філія1",{"$f":"SUMIFS(План!$F:$F,План!$B:$B,Word!$B17,План!$D:$D,Word!$D17,План!$E:$E,Word!$E17)","v":0},{"$f":"SUMIFS(Факт!$F:$F,Факт!$B:$B,Word!$B17,Факт!$D:$D,Word!$D17,Факт!$E:$E,Word!$E17)","v":0},0,{"$f":"SUMIFS('За добу'!$F:$F,'За добу'!$B:$B,Word!$B17,'За добу'!$D:$D,Word!$D17,'За добу'!$E:$E,Word!$E17)","v":0},0,"Філія2",{"$f":"SUMIFS(План!$G:$G,План!$B:$B,Word!$B17,План!$D:$D,Word!$D17,План!$E:$E,Word!$E17)","v":0},{"$f":"SUMIFS(Факт!$G:$G,Факт!$B:$B,Word!$B17,Факт!$D:$D,Word!$D17,Факт!$E:$E,Word!$E17)","v":0},0,{"$f":"SUMIFS('За добу'!$G:$G,'За добу'!$B:$B,Word!$B17,'За добу'!$D:$D,Word!$D17,'За добу'!$E:$E,Word!$E17)","v":0},0,"Філія3",{"$f":"SUMIFS(План!$H:$H,План!$B:$B,Word!$B17,План!$D:$D,Word!$D17,План!$E:$E,Word!$E17)","v":0},{"$f":"SUMIFS(Факт!$H:$H,Факт!$B:$B,Word!$B17,Факт!$D:$D,Word!$D17,Факт!$E:$E,Word!$E17)","v":0},0,{"$f":"SUMIFS('За добу'!$H:$H,'За добу'!$B:$B,Word!$B17,'За добу'!$D:$D,Word!$D17,'За добу'!$E:$E,Word!$E17)","v":0},0,"Філія4",{"$f":"SUMIFS(План!$I:$I,План!$B:$B,Word!$B17,План!$D:$D,Word!$D17,План!$E:$E,Word!$E17)","v":0},{"$f":"SUMIFS(Факт!$I:$I,Факт!$B:$B,Word!$B17,Факт!$D:$D,Word!$D17,Факт!$E:$E,Word!$E17)","v":0},0,{"$f":"SUMIFS('За добу'!$I:$I,'За добу'!$B:$B,Word!$B17,'За добу'!$D:$D,Word!$D17,'За добу'!$E:$E,Word!$E17)","v":0},0,"Філія5",{"$f":"SUMIFS(План!$J:$J,План!$B:$B,Word!$B17,План!$D:$D,Word!$D17,План!$E:$E,Word!$E17)","v":0},{"$f":"SUMIFS(Факт!$J:$J,Факт!$B:$B,Word!$B17,Факт!$D:$D,Word!$D17,Факт!$E:$E,Word!$E17)","v":0},0,{"$f":"SUMIFS('За добу'!$J:$J,'За добу'!$B:$B,Word!$B17,'За добу'!$D:$D,Word!$D17,'За добу'!$E:$E,Word!$E17)","v":0},0]
[null,{"$f":"'За добу'!$B18","v":0},null,{"$f":"'За добу'!$D18","v":0},{"$f":"'За добу'!$E18","v":0},"ФОРМУЛА",0,0,0,0,0,"Філія1",{"$f":"SUMIFS(План!$F:$F,План!$B:$B,Word!$B18,План!$D:$D,Word!$D18,План!$E:$E,Word!$E18)","v":0},{"$f":"SUMIFS(Факт!$F:$F,Факт!$B:$B,Word!$B18,Факт!$D:$D,Word!$D18,Факт!$E:$E,Word!$E18)","v":0},0,{"$f":"SUMIFS('За добу'!$F:$F,'За добу'!$B:$B,Word!$B18,'За добу'!$D:$D,Word!$D18,'За добу'!$E:$E,Word!$E18)","v":0},0,"Філія2",{"$f":"SUMIFS(План!$G:$G,План!$B:$B,Word!$B18,План!$D:$D,Word!$D18,План!$E:$E,Word!$E18)","v":0},{"$f":"SUMIFS(Факт!$G:$G,Факт!$B:$B,Word!$B18,Факт!$D:$D,Word!$D18,Факт!$E:$E,Word!$E18)","v":0},0,{"$f":"SUMIFS('За добу'!$G:$G,'За добу'!$B:$B,Word!$B18,'За добу'!$D:$D,Word!$D18,'За добу'!$E:$E,Word!$E18)","v":0},0,"Філія3",{"$f":"SUMIFS(План!$H:$H,План!$B:$B,Word!$B18,План!$D:$D,Word!$D18,План!$E:$E,Word!$E18)","v":0},{"$f":"SUMIFS(Факт!$H:$H,Факт!$B:$B,Word!$B18,Факт!$D:$D,Word!$D18,Факт!$E:$E,Word!$E18)","v":0},0,{"$f":"SUMIFS('За добу'!$H:$H,'За добу'!$B:$B,Word!$B18,'За добу'!$D:$D,Word!$D18,'За добу'!$E:$E,Word!$E18)","v":0},0,"Філія4",{"$f":"SUMIFS(План!$I:$I,План!$B:$B,Word!$B18,План!$D:$D,Word!$D18,План!$E:$E,Word!$E18)","v":0},{"$f":"SUMIFS(Факт!$I:$I,Факт!$B:$B,Word!$B18,Факт!$D:$D,Word!$D18,Факт!$E:$E,Word!$E18)","v":0},0,{"$f":"SUMIFS('За добу'!$I:$I,'За добу'!$B:$B,Word!$B18,'За добу'!$D:$D,Word!$D18,'За добу'!$E:$E,Word!$E18)","v":0},0,"Філія5",{"$f":"SUMIFS(План!$J:$J,План!$B:$B,Word!$B18,План!$D:$D,Word!$D18,План!$E:$E,Word!$E18)","v":0},{"$f":"SUMIFS(Факт!$J:$J,Факт!$B:$B,Word!$B18,Факт!$D:$D,Word!$D18,Факт!$E:$E,Word!$E18)","v":0},0,{"$f":"SUMIFS('За добу'!$J:$J,'За добу'!$B:$B,Word!$B18,'За добу'!$D:$D,Word!$D18,'За добу'!$E:$E,Word!$E18)","v":0},0]
[null,{"$f":"'За добу'!$B19","v":0},null,{"$f":"'За добу'!$D19","v":0},{"$f":"'За добу'!$E19","v":0},"ФОРМУЛА",0,0,0,0,0,"Філія1",{"$f":"SUMIFS(План!$F:$F,План!$B:$B,Word!$B19,План!$D:$D,Word!$D19,План!$E:$E,Word!$E19)","v":0},{"$f":"SUMIFS(Факт!$F:$F,Факт!$B:$B,Word!$B19,Факт!$D:$D,Word!$D19,Факт!$E:$E,Word!$E19)","v":0},0,{"$f":"SUMIFS('За добу'!$F:$F,'За добу'!$B:$B,Word!$B19,'За добу'!$D:$D,Word!$D19,'За добу'!$E:$E,Word!$E19)","v":0},0,"Філія2",{"$f":"SUMIFS(План!$G:$G,План!$B:$B,Word!$B19,План!$D:$D,Word!$D19,План!$E:$E,Word!$E19)","v":0},{"$f":"SUMIFS(Факт!$G:$G,Факт!$B:$B,Word!$B19,Факт!$D:$D,Word!$D19,Факт!$E:$E,Word!$E19)","v":0},0,{"$f":"SUMIFS('За добу'!$G:$G,'За добу'!$B:$B,Word!$B19,'За добу'!$D:$D,Word!$D19,'За добу'!$E:$E,Word!$E19)","v":0},0,"Філія3",{"$f":"SUMIFS(План!$H:$H,План!$B:$B,Word!$B19,План!$D:$D,Word!$D19,План!$E:$E,Word!$E19)","v":0},{"$f":"SUMIFS(Факт!$H:$H,Факт!$B:$B,Word!$B19,Факт!$D:$D,Word!$D19,Факт!$E:$E,Word!$E19)","v":0},0,{"$f":"SUMIFS('За добу'!$H:$H,'За добу'!$B:$B,Word!$B19,'За добу'!$D:$D,Word!$D19,'За добу'!$E:$E,Word!$E19)","v":0},0,"Філія4",{"$f":"SUMIFS(План!$I:$I,План!$B:$B,Word!$B19,План!$D:$D,Word!$D19,План!$E:$E,Word!$E19)","v":0},{"$f":"SUMIFS(Факт!$I:$I,Факт!$B:$B,Word!$B19,Факт!$D:$D,Word!$D19,Факт!$E:$E,Word!$E19)","v":0},0,{"$f":"SUMIFS('За добу'!$I:$I,'За добу'!$B:$B,Word!$B19,'За добу'!$D:$D,Word!$D19,'За добу'!$E:$E,Word!$E19)","v":0},0,"Філія5",{"$f":"SUMIFS(План!$J:$J,План!$B:$B,Word!$B19,План!$D:$D,Word!$D19,План!$E:$E,Word!$E19)","v":0},{"$f":"SUMIFS(Факт!$J:$J,Факт!$B:$B,Word!$B19,Факт!$D:$D,Word!$D19,Факт!$E:$E,Word!$E19)","v":0},0,{"$f":"SUMIFS('За добу'!$J:$J,'За добу'!$B:$B,Word!$B19,'За добу'!$D:$D,Word!$D19,'За добу'!$E:$E,Word!$E19)","v":0},0]
[null,{"$f":"'За добу'!$B20","v":0},null,{"$f":"'За добу'!$D20","v":0},{"$f":"'За добу'!$E20","v":0},"ФОРМУЛА",0,0,0,0,0,"Філія1",{"$f":"SUMIFS(План!$F:$F,План!$B:$B,Word!$B20,План!$D:$D,Word!$D20,План!$E:$E,Word!$E20)","v":0},{"$f":"SUMIFS(Факт!$F:$F,Факт!$B:$B,Word!$B20,Факт!$D:$D,Word!$D20,Факт!$E:$E,Word!$E20)","v":0},0,{"$f":"SUMIFS('За добу'!$F:$F,'За добу'!$B:$B,Word!$B20,'За добу'!$D:$D,Word!$D20,'За добу'!$E:$E,Word!$E20)","v":0},0,"Філія2",{"$f":"SUMIFS(План!$G:$G,План!$B:$B,Word!$B20,План!$D:$D,Word!$D20,План!$E:$E,Word!$E20)","v":0},{"$f":"SUMIFS(Факт!$G:$G,Факт!$B:$B,Word!$B20,Факт!$D:$D,Word!$D20,Факт!$E:$E,Word!$E20)","v":0},0,{"$f":"SUMIFS('За добу'!$G:$G,'За добу'!$B:$B,Word!$B20,'За добу'!$D:$D,Word!$D20,'За добу'!$E:$E,Word!$E20)","v":0},0,"Філія3",{"$f":"SUMIFS(План!$H:$H,План!$B:$B,Word!$B20,План!$D:$D,Word!$D20,План!$E:$E,Word!$E20)","v":0},{"$f":"SUMIFS(Факт!$H:$H,Факт!$B:$B,Word!$B20,Факт!$D:$D,Word!$D20,Факт!$E:$E,Word!$E20)","v":0},0,{"$f":"SUMIFS('За добу'!$H:$H,'За добу'!$B:$B,Word!$B20,'За добу'!$D:$D,Word!$D20,'За добу'!$E:$E,Word!$E20)","v":0},0,"Філія4",{"$f":"SUMIFS(План!$I:$I,План!$B:$B,Word!$B20,План!$D:$D,Word!$D20,План!$E:$E,Word!$E20)","v":0},{"$f":"SUMIFS(Факт!$I:$I,Факт!$B:$B,Word!$B20,Факт!$D:$D,Word!$D20,Факт!$E:$E,Word!$E20)","v":0},0,{"$f":"SUMIFS('За добу'!$I:$I,'За добу'!$B:$B,Word!$B20,'За добу'!$D:$D,Word!$D20,'За добу'!$E:$E,Word!$E20)","v":0},0,"Філія5",{"$f":"SUMIFS(План!$J:$J,План!$B:$B,Word!$B20,План!$D:$D,Word!$D20,План!$E:$E,Word!$E20)","v":0},{"$f":"SUMIFS(Факт!$J:$J,Факт!$B:$B,Word!$B20,Факт!$D:$D,Word!$D20,Факт!$E:$E,Word!$E20)","v":0},0,{"$f":"SUMIFS('За добу'!$J:$J,'За добу'!$B:$B,Word!$B20,'За добу'!$D:$D,Word!$D20,'За добу'!$E:$E,Word!$E20)","v":0},0]
[null,{"$f":"'За добу'!$B21","v":0},null,{"$f":"'За добу'!$D21","v":0},{"$f":"'За добу'!$E21","v":0},"ФОРМУЛА",0,0,0,0,0,"Філія1",{"$f":"SUMIFS(План!$F:$F,План!$B:$B,Word!$B21,План!$D:$D,Word!$D21,План!$E:$E,Word!$E21)","v":0},{"$f":"SUMIFS(Факт!$F:$F,Факт!$B:$B,Word!$B21,Факт!$D:$D,Word!$D21,Факт!$E:$E,Word!$E21)","v":0},0,{"$f":"SUMIFS('За добу'!$F:$F,'За добу'!$B:$B,Word!$B21,'За добу'!$D:$D,Word!$D21,'За добу'!$E:$E,Word!$E21)","v":0},0,"Філія2",{"$f":"SUMIFS(План!$G:$G,План!$B:$B,Word!$B21,План!$D:$D,Word!$D21,План!$E:$E,Word!$E21)","v":0},{"$f":"SUMIFS(Факт!$G:$G,Факт!$B:$B,Word!$B21,Факт!$D:$D,Word!$D21,Факт!$E:$E,Word!$E21)","v":0},0,{"$f":"SUMIFS('За добу'!$G:$G,'За добу'!$B:$B,Word!$B21,'За добу'!$D:$D,Word!$D21,'За добу'!$E:$E,Word!$E21)","v":0},0,"Філія3",{"$f":"SUMIFS(План!$H:$H,План!$B:$B,Word!$B21,План!$D:$D,Word!$D21,План!$E:$E,Word!$E21)","v":0},{"$f":"SUMIFS(Факт!$H:$H,Факт!$B:$B,Word!$B21,Факт!$D:$D,Word!$D21,Факт!$E:$E,Word!$E21)","v":0},0,{"$f":"SUMIFS('За добу'!$H:$H,'За добу'!$B:$B,Word!$B21,'За добу'!$D:$D,Word!$D21,'За добу'!$E:$E,Word!$E21)","v":0},0,"Філія4",{"$f":"SUMIFS(План!$I:$I,План!$B:$B,Word!$B21,План!$D:$D,Word!$D21,План!$E:$E,Word!$E21)","v":0},{"$f":"SUMIFS(Факт!$I:$I,Факт!$B:$B,Word!$B21,Факт!$D:$D,Word!$D21,Факт!$E:$E,Word!$E21)","v":0},0,{"$f":"SUMIFS('За добу'!$I:$I,'За добу'!$B:$B,Word!$B21,'За добу'!$D:$D,Word!$D21,'За добу'!$E:$E,Word!$E21)","v":0},0,"Філія5",{"$f":"SUMIFS(План!$J:$J,План!$B:$B,Word!$B21,План!$D:$D,Word!$D21,План!$E:$E,Word!$E21)","v":0},{"$f":"SUMIFS(Факт!$J:$J,Факт!$B:$B,Word!$B21,Факт!$D:$D,Word!$D21,Факт!$E:$E,Word!$E21)","v":0},0,{"$f":"SUMIFS('За добу'!$J:$J,'За добу'!$B:$B,Word!$B21,'За добу'!$D:$D,Word!$D21,'За добу'!$E:$E,Word!$E21)","v":0},0]
[null,{"$f":"'За добу'!$B22","v":0},null,{"$f":"'За добу'!$D22","v":0},{"$f":"'За добу'!$E22","v":0},"ФОРМУЛА",0,0,0,0,0,"Філія1",{"$f":"SUMIFS(План!$F:$F,План!$B:$B,Word!$B22,План!$D:$D,Word!$D22,План!$E:$E,Word!$E22)","v":0},{"$f":"SUMIFS(Факт!$F:$F,Факт!$B:$B,Word!$B22,Факт!$D:$D,Word!$D22,Факт!$E:$E,Word!$E22)","v":0},0,{"$f":"SUMIFS('За добу'!$F:$F,'За добу'!$B:$B,Word!$B22,'За добу'!$D:$D,Word!$D22,'За добу'!$E:$E,Word!$E22)","v":0},0,"Філія2",{"$f":"SUMIFS(План!$G:$G,План!$B:$B,Word!$B22,План!$D:$D,Word!$D22,План!$E:$E,Word!$E22)","v":0},{"$f":"SUMIFS(Факт!$G:$G,Факт!$B:$B,Word!$B22,Факт!$D:$D,Word!$D22,Факт!$E:$E,Word!$E22)","v":0},0,{"$f":"SUMIFS('За добу'!$G:$G,'За добу'!$B:$B,Word!$B22,'За добу'!$D:$D,Word!$D22,'За добу'!$E:$E,Word!$E22)","v":0},0,"Філія3",{"$f":"SUMIFS(План!$H:$H,План!$B:$B,Word!$B22,План!$D:$D,Word!$D22,План!$E:$E,Word!$E22)","v":0},{"$f":"SUMIFS(Факт!$H:$H,Факт!$B:$B,Word!$B22,Факт!$D:$D,Word!$D22,Факт!$E:$E,Word!$E22)","v":0},0,{"$f":"SUMIFS('За добу'!$H:$H,'За добу'!$B:$B,Word!$B22,'За добу'!$D:$D,Word!$D22,'За добу'!$E:$E,Word!$E22)","v":0},0,"Філія4",{"$f":"SUMIFS(План!$I:$I,План!$B:$B,Word!$B22,План!$D:$D,Word!$D22,План!$E:$E,Word!$E22)","v":0},{"$f":"SUMIFS(Факт!$I:$I,Факт!$B:$B,Word!$B22,Факт!$D:$D,Word!$D22,Факт!$E:$E,Word!$E22)","v":0},0,{"$f":"SUMIFS('За добу'!$I:$I,'За добу'!$B:$B,Word!$B22,'За добу'!$D:$D,Word!$D22,'За добу'!$E:$E,Word!$E22)","v":0},0,"Філія5",{"$f":"SUMIFS(План!$J:$J,План!$B:$B,Word!$B22,План!$D:$D,Word!$D22,План!$E:$E,Word!$E22)","v":0},{"$f":"SUMIFS(Факт!$J:$J,Факт!$B:$B,Word!$B22,Факт!$D:$D,Word!$D22,Факт!$E:$E,Word!$E22)","v":0},0,{"$f":"SUMIFS('За добу'!$J:$J,'За добу'!$B:$B,Word!$B22,'За добу'!$D:$D,Word!$D22,'За добу'!$E:$E,Word!$E22)","v":0},0]
[null,{"$f":"'За добу'!$B23","v":0},null,{"$f":"'За добу'!$D23","v":0},{"$f":"'За добу'!$E23","v":0},"ФОРМУЛА",0,0,0,0,0,"Філія1",{"$f":"SUMIFS(План!$F:$F,План!$B:$B,Word!$B23,План!$D:$D,Word!$D23,План!$E:$E,Word!$E23)","v":0},{"$f":"SUMIFS(Факт!$F:$F,Факт!$B:$B,Word!$B23,Факт!$D:$D,Word!$D23,Факт!$E:$E,Word!$E23)","v":0},0,{"$f":"SUMIFS('За добу'!$F:$F,'За добу'!$B:$B,Word!$B23,'За добу'!$D:$D,Word!$D23,'За добу'!$E:$E,Word!$E23)","v":0},0,"Філія2",{"$f":"SUMIFS(План!$G:$G,План!$B:$B,Word!$B23,План!$D:$D,Word!$D23,План!$E:$E,Word!$E23)","v":0},{"$f":"SUMIFS(Факт!$G:$G,Факт!$B:$B,Word!$B23,Факт!$D:$D,Word!$D23,Факт!$E:$E,Word!$E23)","v":0},0,{"$f":"SUMIFS('За добу'!$G:$G,'За добу'!$B:$B,Word!$B23,'За добу'!$D:$D,Word!$D23,'За добу'!$E:$E,Word!$E23)","v":0},0,"Філія3",{"$f":"SUMIFS(План!$H:$H,План!$B:$B,Word!$B23,План!$D:$D,Word!$D23,План!$E:$E,Word!$E23)","v":0},{"$f":"SUMIFS(Факт!$H:$H,Факт!$B:$B,Word!$B23,Факт!$D:$D,Word!$D23,Факт!$E:$E,Word!$E23)","v":0},0,{"$f":"SUMIFS('За добу'!$H:$H,'За добу'!$B:$B,Word!$B23,'За добу'!$D:$D,Word!$D23,'За добу'!$E:$E,Word!$E23)","v":0},0,"Філія4",{"$f":"SUMIFS(План!$I:$I,План!$B:$B,Word!$B23,План!$D:$D,Word!$D23,План!$E:$E,Word!$E23)","v":0},{"$f":"SUMIFS(Факт!$I:$I,Факт!$B:$B,Word!$B23,Факт!$D:$D,Word!$D23,Факт!$E:$E,Word!$E23)","v":0},0,{"$f":"SUMIFS('За добу'!$I:$I,'За добу'!$B:$B,Word!$B23,'За добу'!$D:$D,Word!$D23,'За добу'!$E:$E,Word!$E23)","v":0},0,"Філія5",{"$f":"SUMIFS(План!$J:$J,План!$B:$B,Word!$B23,План!$D:$D,Word!$D23,План!$E:$E,Word!$E23)","v":0},{"$f":"SUMIFS(Факт!$J:$J,Факт!$B:$B,Word!$B23,Факт!$D:$D,Word!$D23,Факт!$E:$E,Word!$E23)","v":0},0,{"$f":"SUMIFS('За добу'!$J:$J,'За добу'!$B:$B,Word!$B23,'За добу'!$D:$D,Word!$D23,'За добу'!$E:$E,Word!$E23)","v":0},0]
[null,{"$f":"'За добу'!$B24","v":0},null,{"$f":"'За добу'!$D24","v":0},{"$f":"'За добу'!$E24","v":0},"ФОРМУЛА",0,0,0,0,0,"Філія1",{"$f":"SUMIFS(План!$F:$F,План!$B:$B,Word!$B24,План!$D:$D,Word!$D24,План!$E:$E,Word!$E24)","v":0},{"$f":"SUMIFS(Факт!$F:$F,Факт!$B:$B,Word!$B24,Факт!$D:$D,Word!$D24,Факт!$E:$E,Word!$E24)","v":0},0,{"$f":"SUMIFS('За добу'!$F:$F,'За добу'!$B:$B,Word!$B24,'За добу'!$D:$D,Word!$D24,'За добу'!$E:$E,Word!$E24)","v":0},0,"Філія2",{"$f":"SUMIFS(План!$G:$G,План!$B:$B,Word!$B24,План!$D:$D,Word!$D24,План!$E:$E,Word!$E24)","v":0},{"$f":"SUMIFS(Факт!$G:$G,Факт!$B:$B,Word!$B24,Факт!$D:$D,Word!$D24,Факт!$E:$E,Word!$E24)","v":0},0,{"$f":"SUMIFS('За добу'!$G:$G,'За добу'!$B:$B,Word!$B24,'За добу'!$D:$D,Word!$D24,'За добу'!$E:$E,Word!$E24)","v":0},0,"Філія3",{"$f":"SUMIFS(План!$H:$H,План!$B:$B,Word!$B24,План!$D:$D,Word!$D24,План!$E:$E,Word!$E24)","v":0},{"$f":"SUMIFS(Факт!$H:$H,Факт!$B:$B,Word!$B24,Факт!$D:$D,Word!$D24,Факт!$E:$E,Word!$E24)","v":0},0,{"$f":"SUMIFS('За добу'!$H:$H,'За добу'!$B:$B,Word!$B24,'За добу'!$D:$D,Word!$D24,'За добу'!$E:$E,Word!$E24)","v":0},0,"Філія4",{"$f":"SUMIFS(План!$I:$I,План!$B:$B,Word!$B24,План!$D:$D,Word!$D24,План!$E:$E,Word!$E24)","v":0},{"$f":"SUMIFS(Факт!$I:$I,Факт!$B:$B,Word!$B24,Факт!$D:$D,Word!$D24,Факт!$E:$E,Word!$E24)","v":0},0,{"$f":"SUMIFS('За добу'!$I:$I,'За добу'!$B:$B,Word!$B24,'За добу'!$D:$D,Word!$D24,'За добу'!$E:$E,Word!$E24)","v":0},0,"Філія5",{"$f":"SUMIFS(План!$J:$J,План!$B:$B,Word!$B24,План!$D:$D,Word!$D24,План!$E:$E,Word!$E24)","v":0},{"$f":"SUMIFS(Факт!$J:$J,Факт!$B:$B,Word!$B24,Факт!$D:$D,Word!$D24,Факт!$E:$E,Word!$E24)","v":0},0,{"$f":"SUMIFS('За добу'!$J:$J,'За добу'!$B:$B,Word!$B24,'За добу'!$D:$D,Word!$D24,'За добу'!$E:$E,Word!$E24)","v":0},0]
[null,{"$f":"'За добу'!$B25","v":0},null,{"$f":"'За добу'!$D25","v":0},{"$f":"'За добу'!$E25","v":0},"ФОРМУЛА",0,0,0,0,0,"Філія1",{"$f":"SUMIFS(План!$F:$F,План!$B:$B,Word!$B25,План!$D:$D,Word!$D25,План!$E:$E,Word!$E25)","v":0},{"$f":"SUMIFS(Факт!$F:$F,Факт!$B:$B,Word!$B25,Факт!$D:$D,Word!$D25,Факт!$E:$E,Word!$E25)","v":0},0,{"$f":"SUMIFS('За добу'!$F:$F,'За добу'!$B:$B,Word!$B25,'За добу'!$D:$D,Word!$D25,'За добу'!$E:$E,Word!$E25)","v":0},0,"Філія2",{"$f":"SUMIFS(План!$G:$G,План!$B:$B,Word!$B25,План!$D:$D,Word!$D25,План!$E:$E,Word!$E25)","v":0},{"$f":"SUMIFS(Факт!$G:$G,Факт!$B:$B,Word!$B25,Факт!$D:$D,Word!$D25,Факт!$E:$E,Word!$E25)","v":0},0,{"$f":"SUMIFS('За добу'!$G:$G,'За добу'!$B:$B,Word!$B25,'За добу'!$D:$D,Word!$D25,'За добу'!$E:$E,Word!$E25)","v":0},0,"Філія3",{"$f":"SUMIFS(План!$H:$H,План!$B:$B,Word!$B25,План!$D:$D,Word!$D25,План!$E:$E,Word!$E25)","v":0},{"$f":"SUMIFS(Факт!$H:$H,Факт!$B:$B,Word!$B25,Факт!$D:$D,Word!$D25,Факт!$E:$E,Word!$E25)","v":0},0,{"$f":"SUMIFS('За добу'!$H:$H,'За добу'!$B:$B,Word!$B25,'За добу'!$D:$D,Word!$D25,'За добу'!$E:$E,Word!$E25)","v":0},0,"Філія4",{"$f":"SUMIFS(План!$I:$I,План!$B:$B,Word!$B25,План!$D:$D,Word!$D25,План!$E:$E,Word!$E25)","v":0},{"$f":"SUMIFS(Факт!$I:$I,Факт!$B:$B,Word!$B25,Факт!$D:$D,Word!$D25,Факт!$E:$E,Word!$E25)","v":0},0,{"$f":"SUMIFS('За добу'!$I:$I,'За добу'!$B:$B,Word!$B25,'За добу'!$D:$D,Word!$D25,'За добу'!$E:$E,Word!$E25)","v":0},0,"Філія5",{"$f":"SUMIFS(План!$J:$J,План!$B:$B,Word!$B25,План!$D:$D,Word!$D25,План!$E:$E,Word!$E25)","v":0},{"$f":"SUMIFS(Факт!$J:$J,Факт!$B:$B,Word!$B25,Факт!$D:$D,Word!$D25,Факт!$E:$E,Word!$E25)","v":0},0,{"$f":"SUMIFS('За добу'!$J:$J,'За добу'!$B:$B,Word!$B25,'За добу'!$D:$D,Word!$D25,'За добу'!$E:$E,Word!$E25)","v":0},0]
[null,{"$f":"'За добу'!$B26","v":0},null,{"$f":"'За добу'!$D26","v":0},{"$f":"'За добу'!$E26","v":0},"ФОРМУЛА",0,0,0,0,0,"Філія1",{"$f":"SUMIFS(План!$F:$F,План!$B:$B,Word!$B26,План!$D:$D,Word!$D26,План!$E:$E,Word!$E26)","v":0},{"$f":"SUMIFS(Факт!$F:$F,Факт!$B:$B,Word!$B26,Факт!$D:$D,Word!$D26,Факт!$E:$E,Word!$E26)","v":0},0,{"$f":"SUMIFS('За добу'!$F:$F,'За добу'!$B:$B,Word!$B26,'За добу'!$D:$D,Word!$D26,'За добу'!$E:$E,Word!$E26)","v":0},0,"Філія2",{"$f":"SUMIFS(План!$G:$G,План!$B:$B,Word!$B26,План!$D:$D,Word!$D26,План!$E:$E,Word!$E26)","v":0},{"$f":"SUMIFS(Факт!$G:$G,Факт!$B:$B,Word!$B26,Факт!$D:$D,Word!$D26,Факт!$E:$E,Word!$E26)","v":0},0,{"$f":"SUMIFS('За добу'!$G:$G,'За добу'!$B:$B,Word!$B26,'За добу'!$D:$D,Word!$D26,'За добу'!$E:$E,Word!$E26)","v":0},0,"Філія3",{"$f":"SUMIFS(План!$H:$H,План!$B:$B,Word!$B26,План!$D:$D,Word!$D26,План!$E:$E,Word!$E26)","v":0},{"$f":"SUMIFS(Факт!$H:$H,Факт!$B:$B,Word!$B26,Факт!$D:$D,Word!$D26,Факт!$E:$E,Word!$E26)","v":0},0,{"$f":"SUMIFS('За добу'!$H:$H,'За добу'!$B:$B,Word!$B26,'За добу'!$D:$D,Word!$D26,'За добу'!$E:$E,Word!$E26)","v":0},0,"Філія4",{"$f":"SUMIFS(План!$I:$I,План!$B:$B,Word!$B26,План!$D:$D,Word!$D26,План!$E:$E,Word!$E26)","v":0},{"$f":"SUMIFS(Факт!$I:$I,Факт!$B:$B,Word!$B26,Факт!$D:$D,Word!$D26,Факт!$E:$E,Word!$E26)","v":0},0,{"$f":"SUMIFS('За добу'!$I:$I,'За добу'!$B:$B,Word!$B26,'За добу'!$D:$D,Word!$D26,'За добу'!$E:$E,Word!$E26)","v":0},0,"Філія5",{"$f":"SUMIFS(План!$J:$J,План!$B:$B,Word!$B26,План!$D:$D,Word!$D26,План!$E:$E,Word!$E26)","v":0},{"$f":"SUMIFS(Факт!$J:$J,Факт!$B:$B,Word!$B26,Факт!$D:$D,Word!$D26,Факт!$E:$E,Word!$E26)","v":0},0,{"$f":"SUMIFS('За добу'!$J:$J,'За добу'!$B:$B,Word!$B26,'За добу'!$D:$D,Word!$D26,'За добу'!$E:$E,Word!$E26)","v":0},0]
[null,{"$f":"'За добу'!$B27","v":0},null,{"$f":"'За добу'!$D27","v":0},{"$f":"'За добу'!$E27","v":0},"ФОРМУЛА",0,0,0,0,0,"Філія1",{"$f":"SUMIFS(План!$F:$F,План!$B:$B,Word!$B27,План!$D:$D,Word!$D27,План!$E:$E,Word!$E27)","v":0},{"$f":"SUMIFS(Факт!$F:$F,Факт!$B:$B,Word!$B27,Факт!$D:$D,Word!$D27,Факт!$E:$E,Word!$E27)","v":0},0,{"$f":"SUMIFS('За добу'!$F:$F,'За добу'!$B:$B,Word!$B27,'За добу'!$D:$D,Word!$D27,'За добу'!$E:$E,Word!$E27)","v":0},0,"Філія2",{"$f":"SUMIFS(План!$G:$G,План!$B:$B,Word!$B27,План!$D:$D,Word!$D27,План!$E:$E,Word!$E27)","v":0},{"$f":"SUMIFS(Факт!$G:$G,Факт!$B:$B,Word!$B27,Факт!$D:$D,Word!$D27,Факт!$E:$E,Word!$E27)","v":0},0,{"$f":"SUMIFS('За добу'!$G:$G,'За добу'!$B:$B,Word!$B27,'За добу'!$D:$D,Word!$D27,'За добу'!$E:$E,Word!$E27)","v":0},0,"Філія3",{"$f":"SUMIFS(План!$H:$H,План!$B:$B,Word!$B27,План!$D:$D,Word!$D27,План!$E:$E,Word!$E27)","v":0},{"$f":"SUMIFS(Факт!$H:$H,Факт!$B:$B,Word!$B27,Факт!$D:$D,Word!$D27,Факт!$E:$E,Word!$E27)","v":0},0,{"$f":"SUMIFS('За добу'!$H:$H,'За добу'!$B:$B,Word!$B27,'За добу'!$D:$D,Word!$D27,'За добу'!$E:$E,Word!$E27)","v":0},0,"Філія4",{"$f":"SUMIFS(План!$I:$I,План!$B:$B,Word!$B27,План!$D:$D,Word!$D27,План!$E:$E,Word!$E27)","v":0},{"$f":"SUMIFS(Факт!$I:$I,Факт!$B:$B,Word!$B27,Факт!$D:$D,Word!$D27,Факт!$E:$E,Word!$E27)","v":0},0,{"$f":"SUMIFS('За добу'!$I:$I,'За добу'!$B:$B,Word!$B27,'За добу'!$D:$D,Word!$D27,'За добу'!$E:$E,Word!$E27)","v":0},0,"Філія5",{"$f":"SUMIFS(План!$J:$J,План!$B:$B,Word!$B27,План!$D:$D,Word!$D27,План!$E:$E,Word!$E27)","v":0},{"$f":"SUMIFS(Факт!$J:$J,Факт!$B:$B,Word!$B27,Факт!$D:$D,Word!$D27,Факт!$E:$E,Word!$E27)","v":0},0,{"$f":"SUMIFS('За добу'!$J:$J,'За добу'!$B:$B,Word!$B27,'За добу'!$D:$D,Word!$D27,'За добу'!$E:$E,Word!$E27)","v":0},0]
[null,{"$f":"'За добу'!$B28","v":0},null,{"$f":"'За добу'!$D28","v":0},{"$f":"'За добу'!$E28","v":0},"ФОРМУЛА",0,0,0,0,0,"Філія1",{"$f":"SUMIFS(План!$F:$F,План!$B:$B,Word!$B28,План!$D:$D,Word!$D28,План!$E:$E,Word!$E28)","v":0},{"$f":"SUMIFS(Факт!$F:$F,Факт!$B:$B,Word!$B28,Факт!$D:$D,Word!$D28,Факт!$E:$E,Word!$E28)","v":0},0,{"$f":"SUMIFS('За добу'!$F:$F,'За добу'!$B:$B,Word!$B28,'За добу'!$D:$D,Word!$D28,'За добу'!$E:$E,Word!$E28)","v":0},0,"Філія2",{"$f":"SUMIFS(План!$G:$G,План!$B:$B,Word!$B28,План!$D:$D,Word!$D28,План!$E:$E,Word!$E28)","v":0},{"$f":"SUMIFS(Факт!$G:$G,Факт!$B:$B,Word!$B28,Факт!$D:$D,Word!$D28,Факт!$E:$E,Word!$E28)","v":0},0,{"$f":"SUMIFS('За добу'!$G:$G,'За добу'!$B:$B,Word!$B28,'За добу'!$D:$D,Word!$D28,'За добу'!$E:$E,Word!$E28)","v":0},0,"Філія3",{"$f":"SUMIFS(План!$H:$H,План!$B:$B,Word!$B28,План!$D:$D,Word!$D28,План!$E:$E,Word!$E28)","v":0},{"$f":"SUMIFS(Факт!$H:$H,Факт!$B:$B,Word!$B28,Факт!$D:$D,Word!$D28,Факт!$E:$E,Word!$E28)","v":0},0,{"$f":"SUMIFS('За добу'!$H:$H,'За добу'!$B:$B,Word!$B28,'За добу'!$D:$D,Word!$D28,'За добу'!$E:$E,Word!$E28)","v":0},0,"Філія4",{"$f":"SUMIFS(План!$I:$I,План!$B:$B,Word!$B28,План!$D:$D,Word!$D28,План!$E:$E,Word!$E28)","v":0},{"$f":"SUMIFS(Факт!$I:$I,Факт!$B:$B,Word!$B28,Факт!$D:$D,Word!$D28,Факт!$E:$E,Word!$E28)","v":0},0,{"$f":"SUMIFS('За добу'!$I:$I,'За добу'!$B:$B,Word!$B28,'За добу'!$D:$D,Word!$D28,'За добу'!$E:$E,Word!$E28)","v":0},0,"Філія5",{"$f":"SUMIFS(План!$J:$J,План!$B:$B,Word!$B28,План!$D:$D,Word!$D28,План!$E:$E,Word!$E28)","v":0},{"$f":"SUMIFS(Факт!$J:$J,Факт!$B:$B,Word!$B28,Факт!$D:$D,Word!$D28,Факт!$E:$E,Word!$E28)","v":0},0,{"$f":"SUMIFS('За добу'!$J:$J,'За добу'!$B:$B,Word!$B28,'За добу'!$D:$D,Word!$D28,'За добу'!$E:$E,Word!$E28)","v":0},0]
[null,{"$f":"'За добу'!$B29","v":0},null,{"$f":"'За добу'!$D29","v":0},{"$f":"'За добу'!$E29","v":0},"ФОРМУЛА",0,0,0,0,0,"Філія1",{"$f":"SUMIFS(План!$F:$F,План!$B:$B,Word!$B29,План!$D:$D,Word!$D29,План!$E:$E,Word!$E29)","v":0},{"$f":"SUMIFS(Факт!$F:$F,Факт!$B:$B,Word!$B29,Факт!$D:$D,Word!$D29,Факт!$E:$E,Word!$E29)","v":0},0,{"$f":"SUMIFS('За добу'!$F:$F,'За добу'!$B:$B,Word!$B29,'За добу'!$D:$D,Word!$D29,'За добу'!$E:$E,Word!$E29)","v":0},0,"Філія2",{"$f":"SUMIFS(План!$G:$G,План!$B:$B,Word!$B29,План!$D:$D,Word!$D29,План!$E:$E,Word!$E29)","v":0},{"$f":"SUMIFS(Факт!$G:$G,Факт!$B:$B,Word!$B29,Факт!$D:$D,Word!$D29,Факт!$E:$E,Word!$E29)","v":0},0,{"$f":"SUMIFS('За добу'!$G:$G,'За добу'!$B:$B,Word!$B29,'За добу'!$D:$D,Word!$D29,'За добу'!$E:$E,Word!$E29)","v":0},0,"Філія3",{"$f":"SUMIFS(План!$H:$H,План!$B:$B,Word!$B29,План!$D:$D,Word!$D29,План!$E:$E,Word!$E29)","v":0},{"$f":"SUMIFS(Факт!$H:$H,Факт!$B:$B,Word!$B29,Факт!$D:$D,Word!$D29,Факт!$E:$E,Word!$E29)","v":0},0,{"$f":"SUMIFS('За добу'!$H:$H,'За добу'!$B:$B,Word!$B29,'За добу'!$D:$D,Word!$D29,'За добу'!$E:$E,Word!$E29)","v":0},0,"Філія4",{"$f":"SUMIFS(План!$I:$I,План!$B:$B,Word!$B29,План!$D:$D,Word!$D29,План!$E:$E,Word!$E29)","v":0},{"$f":"SUMIFS(Факт!$I:$I,Факт!$B:$B,Word!$B29,Факт!$D:$D,Word!$D29,Факт!$E:$E,Word!$E29)","v":0},0,{"$f":"SUMIFS('За добу'!$I:$I,'За добу'!$B:$B,Word!$B29,'За добу'!$D:$D,Word!$D29,'За добу'!$E:$E,Word!$E29)","v":0},0,"Філія5",{"$f":"SUMIFS(План!$J:$J,План!$B:$B,Word!$B29,План!$D:$D,Word!$D29,План!$E:$E,Word!$E29)","v":0},{"$f":"SUMIFS(Факт!$J:$J,Факт!$B:$B,Word!$B29,Факт!$D:$D,Word!$D29,Факт!$E:$E,Word!$E29)","v":0},0,{"$f":"SUMIFS('За добу'!$J:$J,'За добу'!$B:$B,Word!$B29,'За добу'!$D:$D,Word!$D29,'За добу'!$E:$E,Word!$E29)","v":0},0]
[null,{"$f":"'За добу'!$B30","v":0},null,{"$f":"'За добу'!$D30","v":0},{"$f":"'За добу'!$E30","v":0},"ФОРМУЛА",0,0,0,0,0,"Філія1",{"$f":"SUMIFS(План!$F:$F,План!$B:$B,Word!$B30,План!$D:$D,Word!$D30,План!$E:$E,Word!$E30)","v":0},{"$f":"SUMIFS(Факт!$F:$F,Факт!$B:$B,Word!$B30,Факт!$D:$D,Word!$D30,Факт!$E:$E,Word!$E30)","v":0},0,{"$f":"SUMIFS('За добу'!$F:$F,'За добу'!$B:$B,Word!$B30,'За добу'!$D:$D,Word!$D30,'За добу'!$E:$E,Word!$E30)","v":0},0,"Філія2",{"$f":"SUMIFS(План!$G:$G,План!$B:$B,Word!$B30,План!$D:$D,Word!$D30,План!$E:$E,Word!$E30)","v":0},{"$f":"SUMIFS(Факт!$G:$G,Факт!$B:$B,Word!$B30,Факт!$D:$D,Word!$D30,Факт!$E:$E,Word!$E30)","v":0},0,{"$f":"SUMIFS('За добу'!$G:$G,'За добу'!$B:$B,Word!$B30,'За добу'!$D:$D,Word!$D30,'За добу'!$E:$E,Word!$E30)","v":0},0,"Філія3",{"$f":"SUMIFS(План!$H:$H,План!$B:$B,Word!$B30,План!$D:$D,Word!$D30,План!$E:$E,Word!$E30)","v":0},{"$f":"SUMIFS(Факт!$H:$H,Факт!$B:$B,Word!$B30,Факт!$D:$D,Word!$D30,Факт!$E:$E,Word!$E30)","v":0},0,{"$f":"SUMIFS('За добу'!$H:$H,'За добу'!$B:$B,Word!$B30,'За добу'!$D:$D,Word!$D30,'За добу'!$E:$E,Word!$E30)","v":0},0,"Філія4",{"$f":"SUMIFS(План!$I:$I,План!$B:$B,Word!$B30,План!$D:$D,Word!$D30,План!$E:$E,Word!$E30)","v":0},{"$f":"SUMIFS(Факт!$I:$I,Факт!$B:$B,Word!$B30,Факт!$D:$D,Word!$D30,Факт!$E:$E,Word!$E30)","v":0},0,{"$f":"SUMIFS('За добу'!$I:$I,'За добу'!$B:$B,Word!$B30,'За добу'!$D:$D,Word!$D30,'За добу'!$E:$E,Word!$E30)","v":0},0,"Філія5",{"$f":"SUMIFS(План!$J:$J,План!$B:$B,Word!$B30,План!$D:$D,Word!$D30,План!$E:$E,Word!$E30)","v":0},{"$f":"SUMIFS(Факт!$J:$J,Факт!$B:$B,Word!$B30,Факт!$D:$D,Word!$D30,Факт!$E:$E,Word!$E30)","v":0},0,{"$f":"SUMIFS('За добу'!$J:$J,'За добу'!$B:$B,Word!$B30,'За добу'!$D:$D,Word!$D30,'За добу'!$E:$E,Word!$E30)","v":0},0]
[null,{"$f":"'За добу'!$B31","v":0},null,{"$f":"'За добу'!$D31","v":0},{"$f":"'За добу'!$E31","v":0},"ФОРМУЛА",0,0,0,0,0,"Філія1",{"$f":"SUMIFS(План!$F:$F,План!$B:$B,Word!$B31,План!$D:$D,Word!$D31,План!$E:$E,Word!$E31)","v":0},{"$f":"SUMIFS(Факт!$F:$F,Факт!$B:$B,Word!$B31,Факт!$D:$D,Word!$D31,Факт!$E:$E,Word!$E31)","v":0},0,{"$f":"SUMIFS('За добу'!$F:$F,'За добу'!$B:$B,Word!$B31,'За добу'!$D:$D,Word!$D31,'За добу'!$E:$E,Word!$E31)","v":0},0,"Філія2",{"$f":"SUMIFS(План!$G:$G,План!$B:$B,Word!$B31,План!$D:$D,Word!$D31,План!$E:$E,Word!$E31)","v":0},{"$f":"SUMIFS(Факт!$G:$G,Факт!$B:$B,Word!$B31,Факт!$D:$D,Word!$D31,Факт!$E:$E,Word!$E31)","v":0},0,{"$f":"SUMIFS('За добу'!$G:$G,'За добу'!$B:$B,Word!$B31,'За добу'!$D:$D,Word!$D31,'За добу'!$E:$E,Word!$E31)","v":0},0,"Філія3",{"$f":"SUMIFS(План!$H:$H,План!$B:$B,Word!$B31,План!$D:$D,Word!$D31,План!$E:$E,Word!$E31)","v":0},{"$f":"SUMIFS(Факт!$H:$H,Факт!$B:$B,Word!$B31,Факт!$D:$D,Word!$D31,Факт!$E:$E,Word!$E31)","v":0},0,{"$f":"SUMIFS('За добу'!$H:$H,'За добу'!$B:$B,Word!$B31,'За добу'!$D:$D,Word!$D31,'За добу'!$E:$E,Word!$E31)","v":0},0,"Філія4",{"$f":"SUMIFS(План!$I:$I,План!$B:$B,Word!$B31,План!$D:$D,Word!$D31,План!$E:$E,Word!$E31)","v":0},{"$f":"SUMIFS(Факт!$I:$I,Факт!$B:$B,Word!$B31,Факт!$D:$D,Word!$D31,Факт!$E:$E,Word!$E31)","v":0},0,{"$f":"SUMIFS('За добу'!$I:$I,'За добу'!$B:$B,Word!$B31,'За добу'!$D:$D,Word!$D31,'За добу'!$E:$E,Word!$E31)","v":0},0,"Філія5",{"$f":"SUMIFS(План!$J:$J,План!$B:$B,Word!$B31,План!$D:$D,Word!$D31,План!$E:$E,Word!$E31)","v":0},{"$f":"SUMIFS(Факт!$J:$J,Факт!$B:$B,Word!$B31,Факт!$D:$D,Word!$D31,Факт!$E:$E,Word!$E31)","v":0},0,{"$f":"SUMIFS('За добу'!$J:$J,'За добу'!$B:$B,Word!$B31,'За добу'!$D:$D,Word!$D31,'За добу'!$E:$E,Word!$E31)","v":0},0]
[null,{"$f":"'За добу'!$B32","v":0},null,{"$f":"'За добу'!$D32","v":0},{"$f":"'За добу'!$E32","v":0},"ФОРМУЛА",0,0,0,0,0,"Філія1",{"$f":"SUMIFS(План!$F:$F,План!$B:$B,Word!$B32,План!$D:$D,Word!$D32,План!$E:$E,Word!$E32)","v":0},{"$f":"SUMIFS(Факт!$F:$F,Факт!$B:$B,Word!$B32,Факт!$D:$D,Word!$D32,Факт!$E:$E,Word!$E32)","v":0},0,{"$f":"SUMIFS('За добу'!$F:$F,'За добу'!$B:$B,Word!$B32,'За добу'!$D:$D,Word!$D32,'За добу'!$E:$E,Word!$E32)","v":0},0,"Філія2",{"$f":"SUMIFS(План!$G:$G,План!$B:$B,Word!$B32,План!$D:$D,Word!$D32,План!$E:$E,Word!$E32)","v":0},{"$f":"SUMIFS(Факт!$G:$G,Факт!$B:$B,Word!$B32,Факт!$D:$D,Word!$D32,Факт!$E:$E,Word!$E32)","v":0},0,{"$f":"SUMIFS('За добу'!$G:$G,'За добу'!$B:$B,Word!$B32,'За добу'!$D:$D,Word!$D32,'За добу'!$E:$E,Word!$E32)","v":0},0,"Філія3",{"$f":"SUMIFS(План!$H:$H,План!$B:$B,Word!$B32,План!$D:$D,Word!$D32,План!$E:$E,Word!$E32)","v":0},{"$f":"SUMIFS(Факт!$H:$H,Факт!$B:$B,Word!$B32,Факт!$D:$D,Word!$D32,Факт!$E:$E,Word!$E32)","v":0},0,{"$f":"SUMIFS('За добу'!$H:$H,'За добу'!$B:$B,Word!$B32,'За добу'!$D:$D,Word!$D32,'За добу'!$E:$E,Word!$E32)","v":0},0,"Філія4",{"$f":"SUMIFS(План!$I:$I,План!$B:$B,Word!$B32,План!$D:$D,Word!$D32,План!$E:$E,Word!$E32)","v":0},{"$f":"SUMIFS(Факт!$I:$I,Факт!$B:$B,Word!$B32,Факт!$D:$D,Word!$D32,Факт!$E:$E,Word!$E32)","v":0},0,{"$f":"SUMIFS('За добу'!$I:$I,'За добу'!$B:$B,Word!$B32,'За добу'!$D:$D,Word!$D32,'За добу'!$E:$E,Word!$E32)","v":0},0,"Філія5",{"$f":"SUMIFS(План!$J:$J,План!$B:$B,Word!$B32,План!$D:$D,Word!$D32,План!$E:$E,Word!$E32)","v":0},{"$f":"SUMIFS(Факт!$J:$J,Факт!$B:$B,Word!$B32,Факт!$D:$D,Word!$D32,Факт!$E:$E,Word!$E32)","v":0},0,{"$f":"SUMIFS('За добу'!$J:$J,'За добу'!$B:$B,Word!$B32,'За добу'!$D:$D,Word!$D32,'За добу'!$E:$E,Word!$E32)","v":0},0]
[null,{"$f":"'За добу'!$B33","v":0},null,{"$f":"'За добу'!$D33","v":0},{"$f":"'За добу'!$E33","v":0},"ФОРМУЛА",0,0,0,0,0,"Філія1",{"$f":"SUMIFS(План!$F:$F,План!$B:$B,Word!$B33,План!$D:$D,Word!$D33,План!$E:$E,Word!$E33)","v":0},{"$f":"SUMIFS(Факт!$F:$F,Факт!$B:$B,Word!$B33,Факт!$D:$D,Word!$D33,Факт!$E:$E,Word!$E33)","v":0},0,{"$f":"SUMIFS('За добу'!$F:$F,'За добу'!$B:$B,Word!$B33,'За добу'!$D:$D,Word!$D33,'За добу'!$E:$E,Word!$E33)","v":0},0,"Філія2",{"$f":"SUMIFS(План!$G:$G,План!$B:$B,Word!$B33,План!$D:$D,Word!$D33,План!$E:$E,Word!$E33)","v":0},{"$f":"SUMIFS(Факт!$G:$G,Факт!$B:$B,Word!$B33,Факт!$D:$D,Word!$D33,Факт!$E:$E,Word!$E33)","v":0},0,{"$f":"SUMIFS('За добу'!$G:$G,'За добу'!$B:$B,Word!$B33,'За добу'!$D:$D,Word!$D33,'За добу'!$E:$E,Word!$E33)","v":0},0,"Філія3",{"$f":"SUMIFS(План!$H:$H,План!$B:$B,Word!$B33,План!$D:$D,Word!$D33,План!$E:$E,Word!$E33)","v":0},{"$f":"SUMIFS(Факт!$H:$H,Факт!$B:$B,Word!$B33,Факт!$D:$D,Word!$D33,Факт!$E:$E,Word!$E33)","v":0},0,{"$f":"SUMIFS('За добу'!$H:$H,'За добу'!$B:$B,Word!$B33,'За добу'!$D:$D,Word!$D33,'За добу'!$E:$E,Word!$E33)","v":0},0,"Філія4",{"$f":"SUMIFS(План!$I:$I,План!$B:$B,Word!$B33,План!$D:$D,Word!$D33,План!$E:$E,Word!$E33)","v":0},{"$f":"SUMIFS(Факт!$I:$I,Факт!$B:$B,Word!$B33,Факт!$D:$D,Word!$D33,Факт!$E:$E,Word!$E33)","v":0},0,{"$f":"SUMIFS('За добу'!$I:$I,'За добу'!$B:$B,Word!$B33,'За добу'!$D:$D,Word!$D33,'За добу'!$E:$E,Word!$E33)","v":0},0,"Філія5",{"$f":"SUMIFS(План!$J:$J,План!$B:$B,Word!$B33,План!$D:$D,Word!$D33,План!$E:$E,Word!$E33)","v":0},{"$f":"SUMIFS(Факт!$J:$J,Факт!$B:$B,Word!$B33,Факт!$D:$D,Word!$D33,Факт!$E:$E,Word!$E33)","v":0},0,{"$f":"SUMIFS('За добу'!$J:$J,'За добу'!$B:$B,Word!$B33,'За добу'!$D:$D,Word!$D33,'За добу'!$E:$E,Word!$E33)","v":0},0]
[null,{"$f":"'За добу'!$B34","v":0},null,{"$f":"'За добу'!$D34","v":0},{"$f":"'За добу'!$E34","v":0},"ФОРМУЛА",0,0,0,0,0,"Філія1",{"$f":"SUMIFS(План!$F:$F,План!$B:$B,Word!$B34,План!$D:$D,Word!$D34,План!$E:$E,Word!$E34)","v":0},{"$f":"SUMIFS(Факт!$F:$F,Факт!$B:$B,Word!$B34,Факт!$D:$D,Word!$D34,Факт!$E:$E,Word!$E34)","v":0},0,{"$f":"SUMIFS('За добу'!$F:$F,'За добу'!$B:$B,Word!$B34,'За добу'!$D:$D,Word!$D34,'За добу'!$E:$E,Word!$E34)","v":0},0,"Філія2",{"$f":"SUMIFS(План!$G:$G,План!$B:$B,Word!$B34,План!$D:$D,Word!$D34,План!$E:$E,Word!$E34)","v":0},{"$f":"SUMIFS(Факт!$G:$G,Факт!$B:$B,Word!$B34,Факт!$D:$D,Word!$D34,Факт!$E:$E,Word!$E34)","v":0},0,{"$f":"SUMIFS('За добу'!$G:$G,'За добу'!$B:$B,Word!$B34,'За добу'!$D:$D,Word!$D34,'За добу'!$E:$E,Word!$E34)","v":0},0,"Філія3",{"$f":"SUMIFS(План!$H:$H,План!$B:$B,Word!$B34,План!$D:$D,Word!$D34,План!$E:$E,Word!$E34)","v":0},{"$f":"SUMIFS(Факт!$H:$H,Факт!$B:$B,Word!$B34,Факт!$D:$D,Word!$D34,Факт!$E:$E,Word!$E34)","v":0},0,{"$f":"SUMIFS('За добу'!$H:$H,'За добу'!$B:$B,Word!$B34,'За добу'!$D:$D,Word!$D34,'За добу'!$E:$E,Word!$E34)","v":0},0,"Філія4",{"$f":"SUMIFS(План!$I:$I,План!$B:$B,Word!$B34,План!$D:$D,Word!$D34,План!$E:$E,Word!$E34)","v":0},{"$f":"SUMIFS(Факт!$I:$I,Факт!$B:$B,Word!$B34,Факт!$D:$D,Word!$D34,Факт!$E:$E,Word!$E34)","v":0},0,{"$f":"SUMIFS('За добу'!$I:$I,'За добу'!$B:$B,Word!$B34,'За добу'!$D:$D,Word!$D34,'За добу'!$E:$E,Word!$E34)","v":0},0,"Філія5",{"$f":"SUMIFS(План!$J:$J,План!$B:$B,Word!$B34,План!$D:$D,Word!$D34,План!$E:$E,Word!$E34)","v":0},{"$f":"SUMIFS(Факт!$J:$J,Факт!$B:$B,Word!$B34,Факт!$D:$D,Word!$D34,Факт!$E:$E,Word!$E34)","v":0},0,{"$f":"SUMIFS('За добу'!$J:$J,'За добу'!$B:$B,Word!$B34,'За добу'!$D:$D,Word!$D34,'За добу'!$E:$E,Word!$E34)","v":0},0]
[null,{"$f":"'За добу'!$B35","v":0},null,{"$f":"'За добу'!$D35","v":0},{"$f":"'За добу'!$E35","v":0},"ФОРМУЛА",0,0,0,0,0,"Філія1",{"$f":"SUMIFS(План!$F:$F,План!$B:$B,Word!$B35,План!$D:$D,Word!$D35,План!$E:$E,Word!$E35)","v":0},{"$f":"SUMIFS(Факт!$F:$F,Факт!$B:$B,Word!$B35,Факт!$D:$D,Word!$D35,Факт!$E:$E,Word!$E35)","v":0},0,{"$f":"SUMIFS('За добу'!$F:$F,'За добу'!$B:$B,Word!$B35,'За добу'!$D:$D,Word!$D35,'За добу'!$E:$E,Word!$E35)","v":0},0,"Філія2",{"$f":"SUMIFS(План!$G:$G,План!$B:$B,Word!$B35,План!$D:$D,Word!$D35,План!$E:$E,Word!$E35)","v":0},{"$f":"SUMIFS(Факт!$G:$G,Факт!$B:$B,Word!$B35,Факт!$D:$D,Word!$D35,Факт!$E:$E,Word!$E35)","v":0},0,{"$f":"SUMIFS('За добу'!$G:$G,'За добу'!$B:$B,Word!$B35,'За добу'!$D:$D,Word!$D35,'За добу'!$E:$E,Word!$E35)","v":0},0,"Філія3",{"$f":"SUMIFS(План!$H:$H,План!$B:$B,Word!$B35,План!$D:$D,Word!$D35,План!$E:$E,Word!$E35)","v":0},{"$f":"SUMIFS(Факт!$H:$H,Факт!$B:$B,Word!$B35,Факт!$D:$D,Word!$D35,Факт!$E:$E,Word!$E35)","v":0},0,{"$f":"SUMIFS('За добу'!$H:$H,'За добу'!$B:$B,Word!$B35,'За добу'!$D:$D,Word!$D35,'За добу'!$E:$E,Word!$E35)","v":0},0,"Філія4",{"$f":"SUMIFS(План!$I:$I,План!$B:$B,Word!$B35,План!$D:$D,Word!$D35,План!$E:$E,Word!$E35)","v":0},{"$f":"SUMIFS(Факт!$I:$I,Факт!$B:$B,Word!$B35,Факт!$D:$D,Word!$D35,Факт!$E:$E,Word!$E35)","v":0},0,{"$f":"SUMIFS('За добу'!$I:$I,'За добу'!$B:$B,Word!$B35,'За добу'!$D:$D,Word!$D35,'За добу'!$E:$E,Word!$E35)","v":0},0,"Філія5",{"$f":"SUMIFS(План!$J:$J,План!$B:$B,Word!$B35,План!$D:$D,Word!$D35,План!$E:$E,Word!$E35)","v":0},{"$f":"SUMIFS(Факт!$J:$J,Факт!$B:$B,Word!$B35,Факт!$D:$D,Word!$D35,Факт!$E:$E,Word!$E35)","v":0},0,{"$f":"SUMIFS('За добу'!$J:$J,'За добу'!$B:$B,Word!$B35,'За добу'!$D:$D,Word!$D35,'За добу'!$E:$E,Word!$E35)","v":0},0]
[null,{"$f":"'За добу'!$B36","v":0},null,{"$f":"'За добу'!$D36","v":0},{"$f":"'За добу'!$E36","v":0},"ФОРМУЛА",0,0,0,0,0,"Філія1",{"$f":"SUMIFS(План!$F:$F,План!$B:$B,Word!$B36,План!$D:$D,Word!$D36,План!$E:$E,Word!$E36)","v":0},{"$f":"SUMIFS(Факт!$F:$F,Факт!$B:$B,Word!$B36,Факт!$D:$D,Word!$D36,Факт!$E:$E,Word!$E36)","v":0},0,{"$f":"SUMIFS('За добу'!$F:$F,'За добу'!$B:$B,Word!$B36,'За добу'!$D:$D,Word!$D36,'За добу'!$E:$E,Word!$E36)","v":0},0,"Філія2",{"$f":"SUMIFS(План!$G:$G,План!$B:$B,Word!$B36,План!$D:$D,Word!$D36,План!$E:$E,Word!$E36)","v":0},{"$f":"SUMIFS(Факт!$G:$G,Факт!$B:$B,Word!$B36,Факт!$D:$D,Word!$D36,Факт!$E:$E,Word!$E36)","v":0},0,{"$f":"SUMIFS('За добу'!$G:$G,'За добу'!$B:$B,Word!$B36,'За добу'!$D:$D,Word!$D36,'За добу'!$E:$E,Word!$E36)","v":0},0,"Філія3",{"$f":"SUMIFS(План!$H:$H,План!$B:$B,Word!$B36,План!$D:$D,Word!$D36,План!$E:$E,Word!$E36)","v":0},{"$f":"SUMIFS(Факт!$H:$H,Факт!$B:$B,Word!$B36,Факт!$D:$D,Word!$D36,Факт!$E:$E,Word!$E36)","v":0},0,{"$f":"SUMIFS('За добу'!$H:$H,'За добу'!$B:$B,Word!$B36,'За добу'!$D:$D,Word!$D36,'За добу'!$E:$E,Word!$E36)","v":0},0,"Філія4",{"$f":"SUMIFS(План!$I:$I,План!$B:$B,Word!$B36,План!$D:$D,Word!$D36,План!$E:$E,Word!$E36)","v":0},{"$f":"SUMIFS(Факт!$I:$I,Факт!$B:$B,Word!$B36,Факт!$D:$D,Word!$D36,Факт!$E:$E,Word!$E36)","v":0},0,{"$f":"SUMIFS('За добу'!$I:$I,'За добу'!$B:$B,Word!$B36,'За добу'!$D:$D,Word!$D36,'За добу'!$E:$E,Word!$E36)","v":0},0,"Філія5",{"$f":"SUMIFS(План!$J:$J,План!$B:$B,Word!$B36,План!$D:$D,Word!$D36,План!$E:$E,Word!$E36)","v":0},{"$f":"SUMIFS(Факт!$J:$J,Факт!$B:$B,Word!$B36,Факт!$D:$D,Word!$D36,Факт!$E:$E,Word!$E36)","v":0},0,{"$f":"SUMIFS('За добу'!$J:$J,'За добу'!$B:$B,Word!$B36,'За добу'!$D:$D,Word!$D36,'За добу'!$E:$E,Word!$E36)","v":0},0]
[null,{"$f":"'За добу'!$B37","v":0},null,{"$f":"'За добу'!$D37","v":0},{"$f":"'За добу'!$E37","v":0},"ФОРМУЛА",0,0,0,0,0,"Філія1",{"$f":"SUMIFS(План!$F:$F,План!$B:$B,Word!$B37,План!$D:$D,Word!$D37,План!$E:$E,Word!$E37)","v":0},{"$f":"SUMIFS(Факт!$F:$F,Факт!$B:$B,Word!$B37,Факт!$D:$D,Word!$D37,Факт!$E:$E,Word!$E37)","v":0},0,{"$f":"SUMIFS('За добу'!$F:$F,'За добу'!$B:$B,Word!$B37,'За добу'!$D:$D,Word!$D37,'За добу'!$E:$E,Word!$E37)","v":0},0,"Філія2",{"$f":"SUMIFS(План!$G:$G,План!$B:$B,Word!$B37,План!$D:$D,Word!$D37,План!$E:$E,Word!$E37)","v":0},{"$f":"SUMIFS(Факт!$G:$G,Факт!$B:$B,Word!$B37,Факт!$D:$D,Word!$D37,Факт!$E:$E,Word!$E37)","v":0},0,{"$f":"SUMIFS('За добу'!$G:$G,'За добу'!$B:$B,Word!$B37,'За добу'!$D:$D,Word!$D37,'За добу'!$E:$E,Word!$E37)","v":0},0,"Філія3",{"$f":"SUMIFS(План!$H:$H,План!$B:$B,Word!$B37,План!$D:$D,Word!$D37,План!$E:$E,Word!$E37)","v":0},{"$f":"SUMIFS(Факт!$H:$H,Факт!$B:$B,Word!$B37,Факт!$D:$D,Word!$D37,Факт!$E:$E,Word!$E37)","v":0},0,{"$f":"SUMIFS('За добу'!$H:$H,'За добу'!$B:$B,Word!$B37,'За добу'!$D:$D,Word!$D37,'За добу'!$E:$E,Word!$E37)","v":0},0,"Філія4",{"$f":"SUMIFS(План!$I:$I,План!$B:$B,Word!$B37,План!$D:$D,Word!$D37,План!$E:$E,Word!$E37)","v":0},{"$f":"SUMIFS(Факт!$I:$I,Факт!$B:$B,Word!$B37,Факт!$D:$D,Word!$D37,Факт!$E:$E,Word!$E37)","v":0},0,{"$f":"SUMIFS('За добу'!$I:$I,'За добу'!$B:$B,Word!$B37,'За добу'!$D:$D,Word!$D37,'За добу'!$E:$E,Word!$E37)","v":0},0,"Філія5",{"$f":"SUMIFS(План!$J:$J,План!$B:$B,Word!$B37,План!$D:$D,Word!$D37,План!$E:$E,Word!$E37)","v":0},{"$f":"SUMIFS(Факт!$J:$J,Факт!$B:$B,Word!$B37,Факт!$D:$D,Word!$D37,Факт!$E:$E,Word!$E37)","v":0},0,{"$f":"SUMIFS('За добу'!$J:$J,'За добу'!$B:$B,Word!$B37,'За добу'!$D:$D,Word!$D37,'За добу'!$E:$E,Word!$E37)","v":0},0]
[null,{"$f":"'За добу'!$B38","v":0},null,{"$f":"'За добу'!$D38","v":0},{"$f":"'За добу'!$E38","v":0},"ФОРМУЛА",0,0,0,0,0,"Філія1",{"$f":"SUMIFS(План!$F:$F,План!$B:$B,Word!$B38,План!$D:$D,Word!$D38,План!$E:$E,Word!$E38)","v":0},{"$f":"SUMIFS(Факт!$F:$F,Факт!$B:$B,Word!$B38,Факт!$D:$D,Word!$D38,Факт!$E:$E,Word!$E38)","v":0},0,{"$f":"SUMIFS('За добу'!$F:$F,'За добу'!$B:$B,Word!$B38,'За добу'!$D:$D,Word!$D38,'За добу'!$E:$E,Word!$E38)","v":0},0,"Філія2",{"$f":"SUMIFS(План!$G:$G,План!$B:$B,Word!$B38,План!$D:$D,Word!$D38,План!$E:$E,Word!$E38)","v":0},{"$f":"SUMIFS(Факт!$G:$G,Факт!$B:$B,Word!$B38,Факт!$D:$D,Word!$D38,Факт!$E:$E,Word!$E38)","v":0},0,{"$f":"SUMIFS('За добу'!$G:$G,'За добу'!$B:$B,Word!$B38,'За добу'!$D:$D,Word!$D38,'За добу'!$E:$E,Word!$E38)","v":0},0,"Філія3",{"$f":"SUMIFS(План!$H:$H,План!$B:$B,Word!$B38,План!$D:$D,Word!$D38,План!$E:$E,Word!$E38)","v":0},{"$f":"SUMIFS(Факт!$H:$H,Факт!$B:$B,Word!$B38,Факт!$D:$D,Word!$D38,Факт!$E:$E,Word!$E38)","v":0},0,{"$f":"SUMIFS('За добу'!$H:$H,'За добу'!$B:$B,Word!$B38,'За добу'!$D:$D,Word!$D38,'За добу'!$E:$E,Word!$E38)","v":0},0,"Філія4",{"$f":"SUMIFS(План!$I:$I,План!$B:$B,Word!$B38,План!$D:$D,Word!$D38,План!$E:$E,Word!$E38)","v":0},{"$f":"SUMIFS(Факт!$I:$I,Факт!$B:$B,Word!$B38,Факт!$D:$D,Word!$D38,Факт!$E:$E,Word!$E38)","v":0},0,{"$f":"SUMIFS('За добу'!$I:$I,'За добу'!$B:$B,Word!$B38,'За добу'!$D:$D,Word!$D38,'За добу'!$E:$E,Word!$E38)","v":0},0,"Філія5",{"$f":"SUMIFS(План!$J:$J,План!$B:$B,Word!$B38,План!$D:$D,Word!$D38,План!$E:$E,Word!$E38)","v":0},{"$f":"SUMIFS(Факт!$J:$J,Факт!$B:$B,Word!$B38,Факт!$D:$D,Word!$D38,Факт!$E:$E,Word!$E38)","v":0},0,{"$f":"SUMIFS('За добу'!$J:$J,'За добу'!$B:$B,Word!$B38,'За добу'!$D:$D,Word!$D38,'За добу'!$E:$E,Word!$E38)","v":0},0]
[null,{"$f":"'За добу'!$B39","v":0},null,{"$f":"'За добу'!$D39","v":0},{"$f":"'За добу'!$E39","v":0},"ФОРМУЛА",0,0,0,0,0,"Філія1",{"$f":"SUMIFS(План!$F:$F,План!$B:$B,Word!$B39,План!$D:$D,Word!$D39,План!$E:$E,Word!$E39)","v":0},{"$f":"SUMIFS(Факт!$F:$F,Факт!$B:$B,Word!$B39,Факт!$D:$D,Word!$D39,Факт!$E:$E,Word!$E39)","v":0},0,{"$f":"SUMIFS('За добу'!$F:$F,'За добу'!$B:$B,Word!$B39,'За добу'!$D:$D,Word!$D39,'За добу'!$E:$E,Word!$E39)","v":0},0,"Філія2",{"$f":"SUMIFS(План!$G:$G,План!$B:$B,Word!$B39,План!$D:$D,Word!$D39,План!$E:$E,Word!$E39)","v":0},{"$f":"SUMIFS(Факт!$G:$G,Факт!$B:$B,Word!$B39,Факт!$D:$D,Word!$D39,Факт!$E:$E,Word!$E39)","v":0},0,{"$f":"SUMIFS('За добу'!$G:$G,'За добу'!$B:$B,Word!$B39,'За добу'!$D:$D,Word!$D39,'За добу'!$E:$E,Word!$E39)","v":0},0,"Філія3",{"$f":"SUMIFS(План!$H:$H,План!$B:$B,Word!$B39,План!$D:$D,Word!$D39,План!$E:$E,Word!$E39)","v":0},{"$f":"SUMIFS(Факт!$H:$H,Факт!$B:$B,Word!$B39,Факт!$D:$D,Word!$D39,Факт!$E:$E,Word!$E39)","v":0},0,{"$f":"SUMIFS('За добу'!$H:$H,'За добу'!$B:$B,Word!$B39,'За добу'!$D:$D,Word!$D39,'За добу'!$E:$E,Word!$E39)","v":0},0,"Філія4",{"$f":"SUMIFS(План!$I:$I,План!$B:$B,Word!$B39,План!$D:$D,Word!$D39,План!$E:$E,Word!$E39)","v":0},{"$f":"SUMIFS(Факт!$I:$I,Факт!$B:$B,Word!$B39,Факт!$D:$D,Word!$D39,Факт!$E:$E,Word!$E39)","v":0},0,{"$f":"SUMIFS('За добу'!$I:$I,'За добу'!$B:$B,Word!$B39,'За добу'!$D:$D,Word!$D39,'За добу'!$E:$E,Word!$E39)","v":0},0,"Філія5",{"$f":"SUMIFS(План!$J:$J,План!$B:$B,Word!$B39,План!$D:$D,Word!$D39,План!$E:$E,Word!$E39)","v":0},{"$f":"SUMIFS(Факт!$J:$J,Факт!$B:$B,Word!$B39,Факт!$D:$D,Word!$D39,Факт!$E:$E,Word!$E39)","v":0},0,{"$f":"SUMIFS('За добу'!$J:$J,'За добу'!$B:$B,Word!$B39,'За добу'!$D:$D,Word!$D39,'За добу'!$E:$E,Word!$E39)","v":0},0]
[null,{"$f":"'За добу'!$B40","v":0},null,{"$f":"'За добу'!$D40","v":0},{"$f":"'За добу'!$E40","v":0},"ФОРМУЛА",0,0,0,0,0,"Філія1",{"$f":"SUMIFS(План!$F:$F,План!$B:$B,Word!$B40,План!$D:$D,Word!$D40,План!$E:$E,Word!$E40)","v":0},{"$f":"SUMIFS(Факт!$F:$F,Факт!$B:$B,Word!$B40,Факт!$D:$D,Word!$D40,Факт!$E:$E,Word!$E40)","v":0},0,{"$f":"SUMIFS('За добу'!$F:$F,'За добу'!$B:$B,Word!$B40,'За добу'!$D:$D,Word!$D40,'За добу'!$E:$E,Word!$E40)","v":0},0,"Філія2",{"$f":"SUMIFS(План!$G:$G,План!$B:$B,Word!$B40,План!$D:$D,Word!$D40,План!$E:$E,Word!$E40)","v":0},{"$f":"SUMIFS(Факт!$G:$G,Факт!$B:$B,Word!$B40,Факт!$D:$D,Word!$D40,Факт!$E:$E,Word!$E40)","v":0},0,{"$f":"SUMIFS('За добу'!$G:$G,'За добу'!$B:$B,Word!$B40,'За добу'!$D:$D,Word!$D40,'За добу'!$E:$E,Word!$E40)","v":0},0,"Філія3",{"$f":"SUMIFS(План!$H:$H,План!$B:$B,Word!$B40,План!$D:$D,Word!$D40,План!$E:$E,Word!$E40)","v":0},{"$f":"SUMIFS(Факт!$H:$H,Факт!$B:$B,Word!$B40,Факт!$D:$D,Word!$D40,Факт!$E:$E,Word!$E40)","v":0},0,{"$f":"SUMIFS('За добу'!$H:$H,'За добу'!$B:$B,Word!$B40,'За добу'!$D:$D,Word!$D40,'За добу'!$E:$E,Word!$E40)","v":0},0,"Філія4",{"$f":"SUMIFS(План!$I:$I,План!$B:$B,Word!$B40,План!$D:$D,Word!$D40,План!$E:$E,Word!$E40)","v":0},{"$f":"SUMIFS(Факт!$I:$I,Факт!$B:$B,Word!$B40,Факт!$D:$D,Word!$D40,Факт!$E:$E,Word!$E40)","v":0},0,{"$f":"SUMIFS('За добу'!$I:$I,'За добу'!$B:$B,Word!$B40,'За добу'!$D:$D,Word!$D40,'За добу'!$E:$E,Word!$E40)","v":0},0,"Філія5",{"$f":"SUMIFS(План!$J:$J,План!$B:$B,Word!$B40,План!$D:$D,Word!$D40,План!$E:$E,Word!$E40)","v":0},{"$f":"SUMIFS(Факт!$J:$J,Факт!$B:$B,Word!$B40,Факт!$D:$D,Word!$D40,Факт!$E:$E,Word!$E40)","v":0},0,{"$f":"SUMIFS('За добу'!$J:$J,'За добу'!$B:$B,Word!$B40,'За добу'!$D:$D,Word!$D40,'За добу'!$E:$E,Word!$E40)","v":0},0]
[null,{"$f":"'За добу'!$B41","v":0},null,{"$f":"'За добу'!$D41","v":0},{"$f":"'За добу'!$E41","v":0},"ФОРМУЛА",0,0,0,0,0,"Філія1",{"$f":"SUMIFS(План!$F:$F,План!$B:$B,Word!$B41,План!$D:$D,Word!$D41,План!$E:$E,Word!$E41)","v":0},{"$f":"SUMIFS(Факт!$F:$F,Факт!$B:$B,Word!$B41,Факт!$D:$D,Word!$D41,Факт!$E:$E,Word!$E41)","v":0},0,{"$f":"SUMIFS('За добу'!$F:$F,'За добу'!$B:$B,Word!$B41,'За добу'!$D:$D,Word!$D41,'За добу'!$E:$E,Word!$E41)","v":0},0,"Філія2",{"$f":"SUMIFS(План!$G:$G,План!$B:$B,Word!$B41,План!$D:$D,Word!$D41,План!$E:$E,Word!$E41)","v":0},{"$f":"SUMIFS(Факт!$G:$G,Факт!$B:$B,Word!$B41,Факт!$D:$D,Word!$D41,Факт!$E:$E,Word!$E41)","v":0},0,{"$f":"SUMIFS('За добу'!$G:$G,'За добу'!$B:$B,Word!$B41,'За добу'!$D:$D,Word!$D41,'За добу'!$E:$E,Word!$E41)","v":0},0,"Філія3",{"$f":"SUMIFS(План!$H:$H,План!$B:$B,Word!$B41,План!$D:$D,Word!$D41,План!$E:$E,Word!$E41)","v":0},{"$f":"SUMIFS(Факт!$H:$H,Факт!$B:$B,Word!$B41,Факт!$D:$D,Word!$D41,Факт!$E:$E,Word!$E41)","v":0},0,{"$f":"SUMIFS('За добу'!$H:$H,'За добу'!$B:$B,Word!$B41,'За добу'!$D:$D,Word!$D41,'За добу'!$E:$E,Word!$E41)","v":0},0,"Філія4",{"$f":"SUMIFS(План!$I:$I,План!$B:$B,Word!$B41,План!$D:$D,Word!$D41,План!$E:$E,Word!$E41)","v":0},{"$f":"SUMIFS(Факт!$I:$I,Факт!$B:$B,Word!$B41,Факт!$D:$D,Word!$D41,Факт!$E:$E,Word!$E41)","v":0},0,{"$f":"SUMIFS('За добу'!$I:$I,'За добу'!$B:$B,Word!$B41,'За добу'!$D:$D,Word!$D41,'За добу'!$E:$E,Word!$E41)","v":0},0,"Філія5",{"$f":"SUMIFS(План!$J:$J,План!$B:$B,Word!$B41,План!$D:$D,Word!$D41,План!$E:$E,Word!$E41)","v":0},{"$f":"SUMIFS(Факт!$J:$J,Факт!$B:$B,Word!$B41,Факт!$D:$D,Word!$D41,Факт!$E:$E,Word!$E41)","v":0},0,{"$f":"SUMIFS('За добу'!$J:$J,'За добу'!$B:$B,Word!$B41,'За добу'!$D:$D,Word!$D41,'За добу'!$E:$E,Word!$E41)","v":0},0]
[null,{"$f":"'За добу'!$B42","v":0},null,{"$f":"'За добу'!$D42","v":0},{"$f":"'За добу'!$E42","v":0},"ФОРМУЛА",0,0,0,0,0,"Філія1",{"$f":"SUMIFS(План!$F:$F,План!$B:$B,Word!$B42,План!$D:$D,Word!$D42,План!$E:$E,Word!$E42)","v":0},{"$f":"SUMIFS(Факт!$F:$F,Факт!$B:$B,Word!$B42,Факт!$D:$D,Word!$D42,Факт!$E:$E,Word!$E42)","v":0},0,{"$f":"SUMIFS('За добу'!$F:$F,'За добу'!$B:$B,Word!$B42,'За добу'!$D:$D,Word!$D42,'За добу'!$E:$E,Word!$E42)","v":0},0,"Філія2",{"$f":"SUMIFS(План!$G:$G,План!$B:$B,Word!$B42,План!$D:$D,Word!$D42,План!$E:$E,Word!$E42)","v":0},{"$f":"SUMIFS(Факт!$G:$G,Факт!$B:$B,Word!$B42,Факт!$D:$D,Word!$D42,Факт!$E:$E,Word!$E42)","v":0},0,{"$f":"SUMIFS('За добу'!$G:$G,'За добу'!$B:$B,Word!$B42,'За добу'!$D:$D,Word!$D42,'За добу'!$E:$E,Word!$E42)","v":0},0,"Філія3",{"$f":"SUMIFS(План!$H:$H,План!$B:$B,Word!$B42,План!$D:$D,Word!$D42,План!$E:$E,Word!$E42)","v":0},{"$f":"SUMIFS(Факт!$H:$H,Факт!$B:$B,Word!$B42,Факт!$D:$D,Word!$D42,Факт!$E:$E,Word!$E42)","v":0},0,{"$f":"SUMIFS('За добу'!$H:$H,'За добу'!$B:$B,Word!$B42,'За добу'!$D:$D,Word!$D42,'За добу'!$E:$E,Word!$E42)","v":0},0,"Філія4",{"$f":"SUMIFS(План!$I:$I,План!$B:$B,Word!$B42,План!$D:$D,Word!$D42,План!$E:$E,Word!$E42)","v":0},{"$f":"SUMIFS(Факт!$I:$I,Факт!$B:$B,Word!$B42,Факт!$D:$D,Word!$D42,Факт!$E:$E,Word!$E42)","v":0},0,{"$f":"SUMIFS('За добу'!$I:$I,'За добу'!$B:$B,Word!$B42,'За добу'!$D:$D,Word!$D42,'За добу'!$E:$E,Word!$E42)","v":0},0,"Філія5",{"$f":"SUMIFS(План!$J:$J,План!$B:$B,Word!$B42,План!$D:$D,Word!$D42,План!$E:$E,Word!$E42)","v":0},{"$f":"SUMIFS(Факт!$J:$J,Факт!$B:$B,Word!$B42,Факт!$D:$D,Word!$D42,Факт!$E:$E,Word!$E42)","v":0},0,{"$f":"SUMIFS('За добу'!$J:$J,'За добу'!$B:$B,Word!$B42,'За добу'!$D:$D,Word!$D42,'За добу'!$E:$E,Word!$E42)","v":0},0]
[null,{"$f":"'За добу'!$B43","v":0},null,{"$f":"'За добу'!$D43","v":0},{"$f":"'За добу'!$E43","v":0},"ФОРМУЛА",0,0,0,0,0,"Філія1",{"$f":"SUMIFS(План!$F:$F,План!$B:$B,Word!$B43,План!$D:$D,Word!$D43,План!$E:$E,Word!$E43)","v":0},{"$f":"SUMIFS(Факт!$F:$F,Факт!$B:$B,Word!$B43,Факт!$D:$D,Word!$D43,Факт!$E:$E,Word!$E43)","v":0},0,{"$f":"SUMIFS('За добу'!$F:$F,'За добу'!$B:$B,Word!$B43,'За добу'!$D:$D,Word!$D43,'За добу'!$E:$E,Word!$E43)","v":0},0,"Філія2",{"$f":"SUMIFS(План!$G:$G,План!$B:$B,Word!$B43,План!$D:$D,Word!$D43,План!$E:$E,Word!$E43)","v":0},{"$f":"SUMIFS(Факт!$G:$G,Факт!$B:$B,Word!$B43,Факт!$D:$D,Word!$D43,Факт!$E:$E,Word!$E43)","v":0},0,{"$f":"SUMIFS('За добу'!$G:$G,'За добу'!$B:$B,Word!$B43,'За добу'!$D:$D,Word!$D43,'За добу'!$E:$E,Word!$E43)","v":0},0,"Філія3",{"$f":"SUMIFS(План!$H:$H,План!$B:$B,Word!$B43,План!$D:$D,Word!$D43,План!$E:$E,Word!$E43)","v":0},{"$f":"SUMIFS(Факт!$H:$H,Факт!$B:$B,Word!$B43,Факт!$D:$D,Word!$D43,Факт!$E:$E,Word!$E43)","v":0},0,{"$f":"SUMIFS('За добу'!$H:$H,'За добу'!$B:$B,Word!$B43,'За добу'!$D:$D,Word!$D43,'За добу'!$E:$E,Word!$E43)","v":0},0,"Філія4",{"$f":"SUMIFS(План!$I:$I,План!$B:$B,Word!$B43,План!$D:$D,Word!$D43,План!$E:$E,Word!$E43)","v":0},{"$f":"SUMIFS(Факт!$I:$I,Факт!$B:$B,Word!$B43,Факт!$D:$D,Word!$D43,Факт!$E:$E,Word!$E43)","v":0},0,{"$f":"SUMIFS('За добу'!$I:$I,'За добу'!$B:$B,Word!$B43,'За добу'!$D:$D,Word!$D43,'За добу'!$E:$E,Word!$E43)","v":0},0,"Філія5",{"$f":"SUMIFS(План!$J:$J,План!$B:$B,Word!$B43,План!$D:$D,Word!$D43,План!$E:$E,Word!$E43)","v":0},{"$f":"SUMIFS(Факт!$J:$J,Факт!$B:$B,Word!$B43,Факт!$D:$D,Word!$D43,Факт!$E:$E,Word!$E43)","v":0},0,{"$f":"SUMIFS('За добу'!$J:$J,'За добу'!$B:$B,Word!$B43,'За добу'!$D:$D,Word!$D43,'За добу'!$E:$E,Word!$E43)","v":0},0]
[null,{"$f":"'За добу'!$B44","v":0},null,{"$f":"'За добу'!$D44","v":0},{"$f":"'За добу'!$E44","v":0},"ФОРМУЛА",0,0,0,0,0,"Філія1",{"$f":"SUMIFS(План!$F:$F,План!$B:$B,Word!$B44,План!$D:$D,Word!$D44,План!$E:$E,Word!$E44)","v":0},{"$f":"SUMIFS(Факт!$F:$F,Факт!$B:$B,Word!$B44,Факт!$D:$D,Word!$D44,Факт!$E:$E,Word!$E44)","v":0},0,{"$f":"SUMIFS('За добу'!$F:$F,'За добу'!$B:$B,Word!$B44,'За добу'!$D:$D,Word!$D44,'За добу'!$E:$E,Word!$E44)","v":0},0,"Філія2",{"$f":"SUMIFS(План!$G:$G,План!$B:$B,Word!$B44,План!$D:$D,Word!$D44,План!$E:$E,Word!$E44)","v":0},{"$f":"SUMIFS(Факт!$G:$G,Факт!$B:$B,Word!$B44,Факт!$D:$D,Word!$D44,Факт!$E:$E,Word!$E44)","v":0},0,{"$f":"SUMIFS('За добу'!$G:$G,'За добу'!$B:$B,Word!$B44,'За добу'!$D:$D,Word!$D44,'За добу'!$E:$E,Word!$E44)","v":0},0,"Філія3",{"$f":"SUMIFS(План!$H:$H,План!$B:$B,Word!$B44,План!$D:$D,Word!$D44,План!$E:$E,Word!$E44)","v":0},{"$f":"SUMIFS(Факт!$H:$H,Факт!$B:$B,Word!$B44,Факт!$D:$D,Word!$D44,Факт!$E:$E,Word!$E44)","v":0},0,{"$f":"SUMIFS('За добу'!$H:$H,'За добу'!$B:$B,Word!$B44,'За добу'!$D:$D,Word!$D44,'За добу'!$E:$E,Word!$E44)","v":0},0,"Філія4",{"$f":"SUMIFS(План!$I:$I,План!$B:$B,Word!$B44,План!$D:$D,Word!$D44,План!$E:$E,Word!$E44)","v":0},{"$f":"SUMIFS(Факт!$I:$I,Факт!$B:$B,Word!$B44,Факт!$D:$D,Word!$D44,Факт!$E:$E,Word!$E44)","v":0},0,{"$f":"SUMIFS('За добу'!$I:$I,'За добу'!$B:$B,Word!$B44,'За добу'!$D:$D,Word!$D44,'За добу'!$E:$E,Word!$E44)","v":0},0,"Філія5",{"$f":"SUMIFS(План!$J:$J,План!$B:$B,Word!$B44,План!$D:$D,Word!$D44,План!$E:$E,Word!$E44)","v":0},{"$f":"SUMIFS(Факт!$J:$J,Факт!$B:$B,Word!$B44,Факт!$D:$D,Word!$D44,Факт!$E:$E,Word!$E44)","v":0},0,{"$f":"SUMIFS('За добу'!$J:$J,'За добу'!$B:$B,Word!$B44,'За добу'!$D:$D,Word!$D44,'За добу'!$E:$E,Word!$E44)","v":0},0]
[null,{"$f":"'За добу'!$B45","v":0},null,{"$f":"'За добу'!$D45","v":0},{"$f":"'За добу'!$E45","v":0},"ФОРМУЛА",0,0,0,0,0,"Філія1",{"$f":"SUMIFS(План!$F:$F,План!$B:$B,Word!$B45,План!$D:$D,Word!$D45,План!$E:$E,Word!$E45)","v":0},{"$f":"SUMIFS(Факт!$F:$F,Факт!$B:$B,Word!$B45,Факт!$D:$D,Word!$D45,Факт!$E:$E,Word!$E45)","v":0},0,{"$f":"SUMIFS('За добу'!$F:$F,'За добу'!$B:$B,Word!$B45,'За добу'!$D:$D,Word!$D45,'За добу'!$E:$E,Word!$E45)","v":0},0,"Філія2",{"$f":"SUMIFS(План!$G:$G,План!$B:$B,Word!$B45,План!$D:$D,Word!$D45,План!$E:$E,Word!$E45)","v":0},{"$f":"SUMIFS(Факт!$G:$G,Факт!$B:$B,Word!$B45,Факт!$D:$D,Word!$D45,Факт!$E:$E,Word!$E45)","v":0},0,{"$f":"SUMIFS('За добу'!$G:$G,'За добу'!$B:$B,Word!$B45,'За добу'!$D:$D,Word!$D45,'За добу'!$E:$E,Word!$E45)","v":0},0,"Філія3",{"$f":"SUMIFS(План!$H:$H,План!$B:$B,Word!$B45,План!$D:$D,Word!$D45,План!$E:$E,Word!$E45)","v":0},{"$f":"SUMIFS(Факт!$H:$H,Факт!$B:$B,Word!$B45,Факт!$D:$D,Word!$D45,Факт!$E:$E,Word!$E45)","v":0},0,{"$f":"SUMIFS('За добу'!$H:$H,'За добу'!$B:$B,Word!$B45,'За добу'!$D:$D,Word!$D45,'За добу'!$E:$E,Word!$E45)","v":0},0,"Філія4",{"$f":"SUMIFS(План!$I:$I,План!$B:$B,Word!$B45,План!$D:$D,Word!$D45,План!$E:$E,Word!$E45)","v":0},{"$f":"SUMIFS(Факт!$I:$I,Факт!$B:$B,Word!$B45,Факт!$D:$D,Word!$D45,Факт!$E:$E,Word!$E45)","v":0},0,{"$f":"SUMIFS('За добу'!$I:$I,'За добу'!$B:$B,Word!$B45,'За добу'!$D:$D,Word!$D45,'За добу'!$E:$E,Word!$E45)","v":0},0,"Філія5",{"$f":"SUMIFS(План!$J:$J,План!$B:$B,Word!$B45,План!$D:$D,Word!$D45,План!$E:$E,Word!$E45)","v":0},{"$f":"SUMIFS(Факт!$J:$J,Факт!$B:$B,Word!$B45,Факт!$D:$D,Word!$D45,Факт!$E:$E,Word!$E45)","v":0},0,{"$f":"SUMIFS('За добу'!$J:$J,'За добу'!$B:$B,Word!$B45,'За добу'!$D:$D,Word!$D45,'За добу'!$E:$E,Word!$E45)","v":0},0]
[null,{"$f":"'За добу'!$B46","v":0},null,{"$f":"'За добу'!$D46","v":0},{"$f":"'За добу'!$E46","v":0},"ФОРМУЛА",0,0,0,0,0,"Філія1",{"$f":"SUMIFS(План!$F:$F,План!$B:$B,Word!$B46,План!$D:$D,Word!$D46,План!$E:$E,Word!$E46)","v":0},{"$f":"SUMIFS(Факт!$F:$F,Факт!$B:$B,Word!$B46,Факт!$D:$D,Word!$D46,Факт!$E:$E,Word!$E46)","v":0},0,{"$f":"SUMIFS('За добу'!$F:$F,'За добу'!$B:$B,Word!$B46,'За добу'!$D:$D,Word!$D46,'За добу'!$E:$E,Word!$E46)","v":0},0,"Філія2",{"$f":"SUMIFS(План!$G:$G,План!$B:$B,Word!$B46,План!$D:$D,Word!$D46,План!$E:$E,Word!$E46)","v":0},{"$f":"SUMIFS(Факт!$G:$G,Факт!$B:$B,Word!$B46,Факт!$D:$D,Word!$D46,Факт!$E:$E,Word!$E46)","v":0},0,{"$f":"SUMIFS('За добу'!$G:$G,'За добу'!$B:$B,Word!$B46,'За добу'!$D:$D,Word!$D46,'За добу'!$E:$E,Word!$E46)","v":0},0,"Філія3",{"$f":"SUMIFS(План!$H:$H,План!$B:$B,Word!$B46,План!$D:$D,Word!$D46,План!$E:$E,Word!$E46)","v":0},{"$f":"SUMIFS(Факт!$H:$H,Факт!$B:$B,Word!$B46,Факт!$D:$D,Word!$D46,Факт!$E:$E,Word!$E46)","v":0},0,{"$f":"SUMIFS('За добу'!$H:$H,'За добу'!$B:$B,Word!$B46,'За добу'!$D:$D,Word!$D46,'За добу'!$E:$E,Word!$E46)","v":0},0,"Філія4",{"$f":"SUMIFS(План!$I:$I,План!$B:$B,Word!$B46,План!$D:$D,Word!$D46,План!$E:$E,Word!$E46)","v":0},{"$f":"SUMIFS(Факт!$I:$I,Факт!$B:$B,Word!$B46,Факт!$D:$D,Word!$D46,Факт!$E:$E,Word!$E46)","v":0},0,{"$f":"SUMIFS('За добу'!$I:$I,'За добу'!$B:$B,Word!$B46,'За добу'!$D:$D,Word!$D46,'За добу'!$E:$E,Word!$E46)","v":0},0,"Філія5",{"$f":"SUMIFS(План!$J:$J,План!$B:$B,Word!$B46,План!$D:$D,Word!$D46,План!$E:$E,Word!$E46)","v":0},{"$f":"SUMIFS(Факт!$J:$J,Факт!$B:$B,Word!$B46,Факт!$D:$D,Word!$D46,Факт!$E:$E,Word!$E46)","v":0},0,{"$f":"SUMIFS('За добу'!$J:$J,'За добу'!$B:$B,Word!$B46,'За добу'!$D:$D,Word!$D46,'За добу'!$E:$E,Word!$E46)","v":0},0]
[null,{"$f":"'За добу'!$B47","v":0},null,{"$f":"'За добу'!$D47","v":0},{"$f":"'За добу'!$E47","v":0},"ФОРМУЛА",0,0,0,0,0,"Філія1",{"$f":"SUMIFS(План!$F:$F,План!$B:$B,Word!$B47,План!$D:$D,Word!$D47,План!$E:$E,Word!$E47)","v":0},{"$f":"SUMIFS(Факт!$F:$F,Факт!$B:$B,Word!$B47,Факт!$D:$D,Word!$D47,Факт!$E:$E,Word!$E47)","v":0},0,{"$f":"SUMIFS('За добу'!$F:$F,'За добу'!$B:$B,Word!$B47,'За добу'!$D:$D,Word!$D47,'За добу'!$E:$E,Word!$E47)","v":0},0,"Філія2",{"$f":"SUMIFS(План!$G:$G,План!$B:$B,Word!$B47,План!$D:$D,Word!$D47,План!$E:$E,Word!$E47)","v":0},{"$f":"SUMIFS(Факт!$G:$G,Факт!$B:$B,Word!$B47,Факт!$D:$D,Word!$D47,Факт!$E:$E,Word!$E47)","v":0},0,{"$f":"SUMIFS('За добу'!$G:$G,'За добу'!$B:$B,Word!$B47,'За добу'!$D:$D,Word!$D47,'За добу'!$E:$E,Word!$E47)","v":0},0,"Філія3",{"$f":"SUMIFS(План!$H:$H,План!$B:$B,Word!$B47,План!$D:$D,Word!$D47,План!$E:$E,Word!$E47)","v":0},{"$f":"SUMIFS(Факт!$H:$H,Факт!$B:$B,Word!$B47,Факт!$D:$D,Word!$D47,Факт!$E:$E,Word!$E47)","v":0},0,{"$f":"SUMIFS('За добу'!$H:$H,'За добу'!$B:$B,Word!$B47,'За добу'!$D:$D,Word!$D47,'За добу'!$E:$E,Word!$E47)","v":0},0,"Філія4",{"$f":"SUMIFS(План!$I:$I,План!$B:$B,Word!$B47,План!$D:$D,Word!$D47,План!$E:$E,Word!$E47)","v":0},{"$f":"SUMIFS(Факт!$I:$I,Факт!$B:$B,Word!$B47,Факт!$D:$D,Word!$D47,Факт!$E:$E,Word!$E47)","v":0},0,{"$f":"SUMIFS('За добу'!$I:$I,'За добу'!$B:$B,Word!$B47,'За добу'!$D:$D,Word!$D47,'За добу'!$E:$E,Word!$E47)","v":0},0,"Філія5",{"$f":"SUMIFS(План!$J:$J,План!$B:$B,Word!$B47,План!$D:$D,Word!$D47,План!$E:$E,Word!$E47)","v":0},{"$f":"SUMIFS(Факт!$J:$J,Факт!$B:$B,Word!$B47,Факт!$D:$D,Word!$D47,Факт!$E:$E,Word!$E47)","v":0},0,{"$f":"SUMIFS('За добу'!$J:$J,'За добу'!$B:$B,Word!$B47,'За добу'!$D:$D,Word!$D47,'За добу'!$E:$E,Word!$E47)","v":0},0]
[null,{"$f":"'За добу'!$B48","v":0},null,{"$f":"'За добу'!$D48","v":0},{"$f":"'За добу'!$E48","v":0},"ФОРМУЛА",0,0,0,0,0,"Філія1",{"$f":"SUMIFS(План!$F:$F,План!$B:$B,Word!$B48,План!$D:$D,Word!$D48,План!$E:$E,Word!$E48)","v":0},{"$f":"SUMIFS(Факт!$F:$F,Факт!$B:$B,Word!$B48,Факт!$D:$D,Word!$D48,Факт!$E:$E,Word!$E48)","v":0},0,{"$f":"SUMIFS('За добу'!$F:$F,'За добу'!$B:$B,Word!$B48,'За добу'!$D:$D,Word!$D48,'За добу'!$E:$E,Word!$E48)","v":0},0,"Філія2",{"$f":"SUMIFS(План!$G:$G,План!$B:$B,Word!$B48,План!$D:$D,Word!$D48,План!$E:$E,Word!$E48)","v":0},{"$f":"SUMIFS(Факт!$G:$G,Факт!$B:$B,Word!$B48,Факт!$D:$D,Word!$D48,Факт!$E:$E,Word!$E48)","v":0},0,{"$f":"SUMIFS('За добу'!$G:$G,'За добу'!$B:$B,Word!$B48,'За добу'!$D:$D,Word!$D48,'За добу'!$E:$E,Word!$E48)","v":0},0,"Філія3",{"$f":"SUMIFS(План!$H:$H,План!$B:$B,Word!$B48,План!$D:$D,Word!$D48,План!$E:$E,Word!$E48)","v":0},{"$f":"SUMIFS(Факт!$H:$H,Факт!$B:$B,Word!$B48,Факт!$D:$D,Word!$D48,Факт!$E:$E,Word!$E48)","v":0},0,{"$f":"SUMIFS('За добу'!$H:$H,'За добу'!$B:$B,Word!$B48,'За добу'!$D:$D,Word!$D48,'За добу'!$E:$E,Word!$E48)","v":0},0,"Філія4",{"$f":"SUMIFS(План!$I:$I,План!$B:$B,Word!$B48,План!$D:$D,Word!$D48,План!$E:$E,Word!$E48)","v":0},{"$f":"SUMIFS(Факт!$I:$I,Факт!$B:$B,Word!$B48,Факт!$D:$D,Word!$D48,Факт!$E:$E,Word!$E48)","v":0},0,{"$f":"SUMIFS('За добу'!$I:$I,'За добу'!$B:$B,Word!$B48,'За добу'!$D:$D,Word!$D48,'За добу'!$E:$E,Word!$E48)","v":0},0,"Філія5",{"$f":"SUMIFS(План!$J:$J,План!$B:$B,Word!$B48,План!$D:$D,Word!$D48,План!$E:$E,Word!$E48)","v":0},{"$f":"SUMIFS(Факт!$J:$J,Факт!$B:$B,Word!$B48,Факт!$D:$D,Word!$D48,Факт!$E:$E,Word!$E48)","v":0},0,{"$f":"SUMIFS('За добу'!$J:$J,'За добу'!$B:$B,Word!$B48,'За добу'!$D:$D,Word!$D48,'За добу'!$E:$E,Word!$E48)","v":0},0]
[null,{"$f":"'За добу'!$B49","v":0},null,{"$f":"'За добу'!$D49","v":0},{"$f":"'За добу'!$E49","v":0},"ФОРМУЛА",0,0,0,0,0,"Філія1",{"$f":"SUMIFS(План!$F:$F,План!$B:$B,Word!$B49,План!$D:$D,Word!$D49,План!$E:$E,Word!$E49)","v":0},{"$f":"SUMIFS(Факт!$F:$F,Факт!$B:$B,Word!$B49,Факт!$D:$D,Word!$D49,Факт!$E:$E,Word!$E49)","v":0},0,{"$f":"SUMIFS('За добу'!$F:$F,'За добу'!$B:$B,Word!$B49,'За добу'!$D:$D,Word!$D49,'За добу'!$E:$E,Word!$E49)","v":0},0,"Філія2",{"$f":"SUMIFS(План!$G:$G,План!$B:$B,Word!$B49,План!$D:$D,Word!$D49,План!$E:$E,Word!$E49)","v":0},{"$f":"SUMIFS(Факт!$G:$G,Факт!$B:$B,Word!$B49,Факт!$D:$D,Word!$D49,Факт!$E:$E,Word!$E49)","v":0},0,{"$f":"SUMIFS('За добу'!$G:$G,'За добу'!$B:$B,Word!$B49,'За добу'!$D:$D,Word!$D49,'За добу'!$E:$E,Word!$E49)","v":0},0,"Філія3",{"$f":"SUMIFS(План!$H:$H,План!$B:$B,Word!$B49,План!$D:$D,Word!$D49,План!$E:$E,Word!$E49)","v":0},{"$f":"SUMIFS(Факт!$H:$H,Факт!$B:$B,Word!$B49,Факт!$D:$D,Word!$D49,Факт!$E:$E,Word!$E49)","v":0},0,{"$f":"SUMIFS('За добу'!$H:$H,'За добу'!$B:$B,Word!$B49,'За добу'!$D:$D,Word!$D49,'За добу'!$E:$E,Word!$E49)","v":0},0,"Філія4",{"$f":"SUMIFS(План!$I:$I,План!$B:$B,Word!$B49,План!$D:$D,Word!$D49,План!$E:$E,Word!$E49)","v":0},{"$f":"SUMIFS(Факт!$I:$I,Факт!$B:$B,Word!$B49,Факт!$D:$D,Word!$D49,Факт!$E:$E,Word!$E49)","v":0},0,{"$f":"SUMIFS('За добу'!$I:$I,'За добу'!$B:$B,Word!$B49,'За добу'!$D:$D,Word!$D49,'За добу'!$E:$E,Word!$E49)","v":0},0,"Філія5",{"$f":"SUMIFS(План!$J:$J,План!$B:$B,Word!$B49,План!$D:$D,Word!$D49,План!$E:$E,Word!$E49)","v":0},{"$f":"SUMIFS(Факт!$J:$J,Факт!$B:$B,Word!$B49,Факт!$D:$D,Word!$D49,Факт!$E:$E,Word!$E49)","v":0},0,{"$f":"SUMIFS('За добу'!$J:$J,'За добу'!$B:$B,Word!$B49,'За добу'!$D:$D,Word!$D49,'За добу'!$E:$E,Word!$E49)","v":0},0]
[null,{"$f":"'За добу'!$B50","v":0},null,{"$f":"'За добу'!$D50","v":0},{"$f":"'За добу'!$E50","v":0},"ФОРМУЛА",0,0,0,0,0,"Філія1",{"$f":"SUMIFS(План!$F:$F,План!$B:$B,Word!$B50,План!$D:$D,Word!$D50,План!$E:$E,Word!$E50)","v":0},{"$f":"SUMIFS(Факт!$F:$F,Факт!$B:$B,Word!$B50,Факт!$D:$D,Word!$D50,Факт!$E:$E,Word!$E50)","v":0},0,{"$f":"SUMIFS('За добу'!$F:$F,'За добу'!$B:$B,Word!$B50,'За добу'!$D:$D,Word!$D50,'За добу'!$E:$E,Word!$E50)","v":0},0,"Філія2",{"$f":"SUMIFS(План!$G:$G,План!$B:$B,Word!$B50,План!$D:$D,Word!$D50,План!$E:$E,Word!$E50)","v":0},{"$f":"SUMIFS(Факт!$G:$G,Факт!$B:$B,Word!$B50,Факт!$D:$D,Word!$D50,Факт!$E:$E,Word!$E50)","v":0},0,{"$f":"SUMIFS('За добу'!$G:$G,'За добу'!$B:$B,Word!$B50,'За добу'!$D:$D,Word!$D50,'За добу'!$E:$E,Word!$E50)","v":0},0,"Філія3",{"$f":"SUMIFS(План!$H:$H,План!$B:$B,Word!$B50,План!$D:$D,Word!$D50,План!$E:$E,Word!$E50)","v":0},{"$f":"SUMIFS(Факт!$H:$H,Факт!$B:$B,Word!$B50,Факт!$D:$D,Word!$D50,Факт!$E:$E,Word!$E50)","v":0},0,{"$f":"SUMIFS('За добу'!$H:$H,'За добу'!$B:$B,Word!$B50,'За добу'!$D:$D,Word!$D50,'За добу'!$E:$E,Word!$E50)","v":0},0,"Філія4",{"$f":"SUMIFS(План!$I:$I,План!$B:$B,Word!$B50,План!$D:$D,Word!$D50,План!$E:$E,Word!$E50)","v":0},{"$f":"SUMIFS(Факт!$I:$I,Факт!$B:$B,Word!$B50,Факт!$D:$D,Word!$D50,Факт!$E:$E,Word!$E50)","v":0},0,{"$f":"SUMIFS('За добу'!$I:$I,'За добу'!$B:$B,Word!$B50,'За добу'!$D:$D,Word!$D50,'За добу'!$E:$E,Word!$E50)","v":0},0,"Філія5",{"$f":"SUMIFS(План!$J:$J,План!$B:$B,Word!$B50,План!$D:$D,Word!$D50,План!$E:$E,Word!$E50)","v":0},{"$f":"SUMIFS(Факт!$J:$J,Факт!$B:$B,Word!$B50,Факт!$D:$D,Word!$D50,Факт!$E:$E,Word!$E50)","v":0},0,{"$f":"SUMIFS('За добу'!$J:$J,'За добу'!$B:$B,Word!$B50,'За добу'!$D:$D,Word!$D50,'За добу'!$E:$E,Word!$E50)","v":0},0]
[null,{"$f":"'За добу'!$B51","v":0},null,{"$f":"'За добу'!$D51","v":0},{"$f":"'За добу'!$E51","v":0},"ФОРМУЛА",0,0,0,0,0,"Філія1",{"$f":"SUMIFS(План!$F:$F,План!$B:$B,Word!$B51,План!$D:$D,Word!$D51,План!$E:$E,Word!$E51)","v":0},{"$f":"SUMIFS(Факт!$F:$F,Факт!$B:$B,Word!$B51,Факт!$D:$D,Word!$D51,Факт!$E:$E,Word!$E51)","v":0},0,{"$f":"SUMIFS('За добу'!$F:$F,'За добу'!$B:$B,Word!$B51,'За добу'!$D:$D,Word!$D51,'За добу'!$E:$E,Word!$E51)","v":0},0,"Філія2",{"$f":"SUMIFS(План!$G:$G,План!$B:$B,Word!$B51,План!$D:$D,Word!$D51,План!$E:$E,Word!$E51)","v":0},{"$f":"SUMIFS(Факт!$G:$G,Факт!$B:$B,Word!$B51,Факт!$D:$D,Word!$D51,Факт!$E:$E,Word!$E51)","v":0},0,{"$f":"SUMIFS('За добу'!$G:$G,'За добу'!$B:$B,Word!$B51,'За добу'!$D:$D,Word!$D51,'За добу'!$E:$E,Word!$E51)","v":0},0,"Філія3",{"$f":"SUMIFS(План!$H:$H,План!$B:$B,Word!$B51,План!$D:$D,Word!$D51,План!$E:$E,Word!$E51)","v":0},{"$f":"SUMIFS(Факт!$H:$H,Факт!$B:$B,Word!$B51,Факт!$D:$D,Word!$D51,Факт!$E:$E,Word!$E51)","v":0},0,{"$f":"SUMIFS('За добу'!$H:$H,'За добу'!$B:$B,Word!$B51,'За добу'!$D:$D,Word!$D51,'За добу'!$E:$E,Word!$E51)","v":0},0,"Філія4",{"$f":"SUMIFS(План!$I:$I,План!$B:$B,Word!$B51,План!$D:$D,Word!$D51,План!$E:$E,Word!$E51)","v":0},{"$f":"SUMIFS(Факт!$I:$I,Факт!$B:$B,Word!$B51,Факт!$D:$D,Word!$D51,Факт!$E:$E,Word!$E51)","v":0},0,{"$f":"SUMIFS('За добу'!$I:$I,'За добу'!$B:$B,Word!$B51,'За добу'!$D:$D,Word!$D51,'За добу'!$E:$E,Word!$E51)","v":0},0,"Філія5",{"$f":"SUMIFS(План!$J:$J,План!$B:$B,Word!$B51,План!$D:$D,Word!$D51,План!$E:$E,Word!$E51)","v":0},{"$f":"SUMIFS(Факт!$J:$J,Факт!$B:$B,Word!$B51,Факт!$D:$D,Word!$D51,Факт!$E:$E,Word!$E51)","v":0},0,{"$f":"SUMIFS('За добу'!$J:$J,'За добу'!$B:$B,Word!$B51,'За добу'!$D:$D,Word!$D51,'За добу'!$E:$E,Word!$E51)","v":0},0]
[null,{"$f":"'За добу'!$B52","v":0},null,{"$f":"'За добу'!$D52","v":0},{"$f":"'За добу'!$E52","v":0},"ФОРМУЛА",0,0,0,0,0,"Філія1",{"$f":"SUMIFS(План!$F:$F,План!$B:$B,Word!$B52,План!$D:$D,Word!$D52,План!$E:$E,Word!$E52)","v":0},{"$f":"SUMIFS(Факт!$F:$F,Факт!$B:$B,Word!$B52,Факт!$D:$D,Word!$D52,Факт!$E:$E,Word!$E52)","v":0},0,{"$f":"SUMIFS('За добу'!$F:$F,'За добу'!$B:$B,Word!$B52,'За добу'!$D:$D,Word!$D52,'За добу'!$E:$E,Word!$E52)","v":0},0,"Філія2",{"$f":"SUMIFS(План!$G:$G,План!$B:$B,Word!$B52,План!$D:$D,Word!$D52,План!$E:$E,Word!$E52)","v":0},{"$f":"SUMIFS(Факт!$G:$G,Факт!$B:$B,Word!$B52,Факт!$D:$D,Word!$D52,Факт!$E:$E,Word!$E52)","v":0},0,{"$f":"SUMIFS('За добу'!$G:$G,'За добу'!$B:$B,Word!$B52,'За добу'!$D:$D,Word!$D52,'За добу'!$E:$E,Word!$E52)","v":0},0,"Філія3",{"$f":"SUMIFS(План!$H:$H,План!$B:$B,Word!$B52,План!$D:$D,Word!$D52,План!$E:$E,Word!$E52)","v":0},{"$f":"SUMIFS(Факт!$H:$H,Факт!$B:$B,Word!$B52,Факт!$D:$D,Word!$D52,Факт!$E:$E,Word!$E52)","v":0},0,{"$f":"SUMIFS('За добу'!$H:$H,'За добу'!$B:$B,Word!$B52,'За добу'!$D:$D,Word!$D52,'За добу'!$E:$E,Word!$E52)","v":0},0,"Філія4",{"$f":"SUMIFS(План!$I:$I,План!$B:$B,Word!$B52,План!$D:$D,Word!$D52,План!$E:$E,Word!$E52)","v":0},{"$f":"SUMIFS(Факт!$I:$I,Факт!$B:$B,Word!$B52,Факт!$D:$D,Word!$D52,Факт!$E:$E,Word!$E52)","v":0},0,{"$f":"SUMIFS('За добу'!$I:$I,'За добу'!$B:$B,Word!$B52,'За добу'!$D:$D,Word!$D52,'За добу'!$E:$E,Word!$E52)","v":0},0,"Філія5",{"$f":"SUMIFS(План!$J:$J,План!$B:$B,Word!$B52,План!$D:$D,Word!$D52,План!$E:$E,Word!$E52)","v":0},{"$f":"SUMIFS(Факт!$J:$J,Факт!$B:$B,Word!$B52,Факт!$D:$D,Word!$D52,Факт!$E:$E,Word!$E52)","v":0},0,{"$f":"SUMIFS('За добу'!$J:$J,'За добу'!$B:$B,Word!$B52,'За добу'!$D:$D,Word!$D52,'За добу'!$E:$E,Word!$E52)","v":0},0]
[null,{"$f":"'За добу'!$B53","v":0},null,{"$f":"'За добу'!$D53","v":0},{"$f":"'За добу'!$E53","v":0},"ФОРМУЛА",0,0,0,0,0,"Філія1",{"$f":"SUMIFS(План!$F:$F,План!$B:$B,Word!$B53,План!$D:$D,Word!$D53,План!$E:$E,Word!$E53)","v":0},{"$f":"SUMIFS(Факт!$F:$F,Факт!$B:$B,Word!$B53,Факт!$D:$D,Word!$D53,Факт!$E:$E,Word!$E53)","v":0},0,{"$f":"SUMIFS('За добу'!$F:$F,'За добу'!$B:$B,Word!$B53,'За добу'!$D:$D,Word!$D53,'За добу'!$E:$E,Word!$E53)","v":0},0,"Філія2",{"$f":"SUMIFS(План!$G:$G,План!$B:$B,Word!$B53,План!$D:$D,Word!$D53,План!$E:$E,Word!$E53)","v":0},{"$f":"SUMIFS(Факт!$G:$G,Факт!$B:$B,Word!$B53,Факт!$D:$D,Word!$D53,Факт!$E:$E,Word!$E53)","v":0},0,{"$f":"SUMIFS('За добу'!$G:$G,'За добу'!$B:$B,Word!$B53,'За добу'!$D:$D,Word!$D53,'За добу'!$E:$E,Word!$E53)","v":0},0,"Філія3",{"$f":"SUMIFS(План!$H:$H,План!$B:$B,Word!$B53,План!$D:$D,Word!$D53,План!$E:$E,Word!$E53)","v":0},{"$f":"SUMIFS(Факт!$H:$H,Факт!$B:$B,Word!$B53,Факт!$D:$D,Word!$D53,Факт!$E:$E,Word!$E53)","v":0},0,{"$f":"SUMIFS('За добу'!$H:$H,'За добу'!$B:$B,Word!$B53,'За добу'!$D:$D,Word!$D53,'За добу'!$E:$E,Word!$E53)","v":0},0,"Філія4",{"$f":"SUMIFS(План!$I:$I,План!$B:$B,Word!$B53,План!$D:$D,Word!$D53,План!$E:$E,Word!$E53)","v":0},{"$f":"SUMIFS(Факт!$I:$I,Факт!$B:$B,Word!$B53,Факт!$D:$D,Word!$D53,Факт!$E:$E,Word!$E53)","v":0},0,{"$f":"SUMIFS('За добу'!$I:$I,'За добу'!$B:$B,Word!$B53,'За добу'!$D:$D,Word!$D53,'За добу'!$E:$E,Word!$E53)","v":0},0,"Філія5",{"$f":"SUMIFS(План!$J:$J,План!$B:$B,Word!$B53,План!$D:$D,Word!$D53,План!$E:$E,Word!$E53)","v":0},{"$f":"SUMIFS(Факт!$J:$J,Факт!$B:$B,Word!$B53,Факт!$D:$D,Word!$D53,Факт!$E:$E,Word!$E53)","v":0},0,{"$f":"SUMIFS('За добу'!$J:$J,'За добу'!$B:$B,Word!$B53,'За добу'!$D:$D,Word!$D53,'За добу'!$E:$E,Word!$E53)","v":0},0]
[null,{"$f":"'За добу'!$B54","v":0},null,{"$f":"'За добу'!$D54","v":0},{"$f":"'За добу'!$E54","v":0},"ФОРМУЛА",0,0,0,0,0,"Філія1",{"$f":"SUMIFS(План!$F:$F,План!$B:$B,Word!$B54,План!$D:$D,Word!$D54,План!$E:$E,Word!$E54)","v":0},{"$f":"SUMIFS(Факт!$F:$F,Факт!$B:$B,Word!$B54,Факт!$D:$D,Word!$D54,Факт!$E:$E,Word!$E54)","v":0},0,{"$f":"SUMIFS('За добу'!$F:$F,'За добу'!$B:$B,Word!$B54,'За добу'!$D:$D,Word!$D54,'За добу'!$E:$E,Word!$E54)","v":0},0,"Філія2",{"$f":"SUMIFS(План!$G:$G,План!$B:$B,Word!$B54,План!$D:$D,Word!$D54,План!$E:$E,Word!$E54)","v":0},{"$f":"SUMIFS(Факт!$G:$G,Факт!$B:$B,Word!$B54,Факт!$D:$D,Word!$D54,Факт!$E:$E,Word!$E54)","v":0},0,{"$f":"SUMIFS('За добу'!$G:$G,'За добу'!$B:$B,Word!$B54,'За добу'!$D:$D,Word!$D54,'За добу'!$E:$E,Word!$E54)","v":0},0,"Філія3",{"$f":"SUMIFS(План!$H:$H,План!$B:$B,Word!$B54,План!$D:$D,Word!$D54,План!$E:$E,Word!$E54)","v":0},{"$f":"SUMIFS(Факт!$H:$H,Факт!$B:$B,Word!$B54,Факт!$D:$D,Word!$D54,Факт!$E:$E,Word!$E54)","v":0},0,{"$f":"SUMIFS('За добу'!$H:$H,'За добу'!$B:$B,Word!$B54,'За добу'!$D:$D,Word!$D54,'За добу'!$E:$E,Word!$E54)","v":0},0,"Філія4",{"$f":"SUMIFS(План!$I:$I,План!$B:$B,Word!$B54,План!$D:$D,Word!$D54,План!$E:$E,Word!$E54)","v":0},{"$f":"SUMIFS(Факт!$I:$I,Факт!$B:$B,Word!$B54,Факт!$D:$D,Word!$D54,Факт!$E:$E,Word!$E54)","v":0},0,{"$f":"SUMIFS('За добу'!$I:$I,'За добу'!$B:$B,Word!$B54,'За добу'!$D:$D,Word!$D54,'За добу'!$E:$E,Word!$E54)","v":0},0,"Філія5",{"$f":"SUMIFS(План!$J:$J,План!$B:$B,Word!$B54,План!$D:$D,Word!$D54,План!$E:$E,Word!$E54)","v":0},{"$f":"SUMIFS(Факт!$J:$J,Факт!$B:$B,Word!$B54,Факт!$D:$D,Word!$D54,Факт!$E:$E,Word!$E54)","v":0},0,{"$f":"SUMIFS('За добу'!$J:$J,'За добу'!$B:$B,Word!$B54,'За добу'!$D:$D,Word!$D54,'За добу'!$E:$E,Word!$E54)","v":0},0]
[null,{"$f":"'За добу'!$B55","v":0},null,{"$f":"'За добу'!$D55","v":0},{"$f":"'За добу'!$E55","v":0},"ФОРМУЛА",0,0,0,0,0,"Філія1",{"$f":"SUMIFS(План!$F:$F,План!$B:$B,Word!$B55,План!$D:$D,Word!$D55,План!$E:$E,Word!$E55)","v":0},{"$f":"SUMIFS(Факт!$F:$F,Факт!$B:$B,Word!$B55,Факт!$D:$D,Word!$D55,Факт!$E:$E,Word!$E55)","v":0},0,{"$f":"SUMIFS('За добу'!$F:$F,'За добу'!$B:$B,Word!$B55,'За добу'!$D:$D,Word!$D55,'За добу'!$E:$E,Word!$E55)","v":0},0,"Філія2",{"$f":"SUMIFS(План!$G:$G,План!$B:$B,Word!$B55,План!$D:$D,Word!$D55,План!$E:$E,Word!$E55)","v":0},{"$f":"SUMIFS(Факт!$G:$G,Факт!$B:$B,Word!$B55,Факт!$D:$D,Word!$D55,Факт!$E:$E,Word!$E55)","v":0},0,{"$f":"SUMIFS('За добу'!$G:$G,'За добу'!$B:$B,Word!$B55,'За добу'!$D:$D,Word!$D55,'За добу'!$E:$E,Word!$E55)","v":0},0,"Філія3",{"$f":"SUMIFS(План!$H:$H,План!$B:$B,Word!$B55,План!$D:$D,Word!$D55,План!$E:$E,Word!$E55)","v":0},{"$f":"SUMIFS(Факт!$H:$H,Факт!$B:$B,Word!$B55,Факт!$D:$D,Word!$D55,Факт!$E:$E,Word!$E55)","v":0},0,{"$f":"SUMIFS('За добу'!$H:$H,'За добу'!$B:$B,Word!$B55,'За добу'!$D:$D,Word!$D55,'За добу'!$E:$E,Word!$E55)","v":0},0,"Філія4",{"$f":"SUMIFS(План!$I:$I,План!$B:$B,Word!$B55,План!$D:$D,Word!$D55,План!$E:$E,Word!$E55)","v":0},{"$f":"SUMIFS(Факт!$I:$I,Факт!$B:$B,Word!$B55,Факт!$D:$D,Word!$D55,Факт!$E:$E,Word!$E55)","v":0},0,{"$f":"SUMIFS('За добу'!$I:$I,'За добу'!$B:$B,Word!$B55,'За добу'!$D:$D,Word!$D55,'За добу'!$E:$E,Word!$E55)","v":0},0,"Філія5",{"$f":"SUMIFS(План!$J:$J,План!$B:$B,Word!$B55,План!$D:$D,Word!$D55,План!$E:$E,Word!$E55)","v":0},{"$f":"SUMIFS(Факт!$J:$J,Факт!$B:$B,Word!$B55,Факт!$D:$D,Word!$D55,Факт!$E:$E,Word!$E55)","v":0},0,{"$f":"SUMIFS('За добу'!$J:$J,'За добу'!$B:$B,Word!$B55,'За добу'!$D:$D,Word!$D55,'За добу'!$E:$E,Word!$E55)","v":0},0]
[null,{"$f":"'За добу'!$B56","v":0},null,{"$f":"'За добу'!$D56","v":0},{"$f":"'За добу'!$E56","v":0},"ФОРМУЛА",0,0,0,0,0,"Філія1",{"$f":"SUMIFS(План!$F:$F,План!$B:$B,Word!$B56,План!$D:$D,Word!$D56,План!$E:$E,Word!$E56)","v":0},{"$f":"SUMIFS(Факт!$F:$F,Факт!$B:$B,Word!$B56,Факт!$D:$D,Word!$D56,Факт!$E:$E,Word!$E56)","v":0},0,{"$f":"SUMIFS('За добу'!$F:$F,'За добу'!$B:$B,Word!$B56,'За добу'!$D:$D,Word!$D56,'За добу'!$E:$E,Word!$E56)","v":0},0,"Філія2",{"$f":"SUMIFS(План!$G:$G,План!$B:$B,Word!$B56,План!$D:$D,Word!$D56,План!$E:$E,Word!$E56)","v":0},{"$f":"SUMIFS(Факт!$G:$G,Факт!$B:$B,Word!$B56,Факт!$D:$D,Word!$D56,Факт!$E:$E,Word!$E56)","v":0},0,{"$f":"SUMIFS('За добу'!$G:$G,'За добу'!$B:$B,Word!$B56,'За добу'!$D:$D,Word!$D56,'За добу'!$E:$E,Word!$E56)","v":0},0,"Філія3",{"$f":"SUMIFS(План!$H:$H,План!$B:$B,Word!$B56,План!$D:$D,Word!$D56,План!$E:$E,Word!$E56)","v":0},{"$f":"SUMIFS(Факт!$H:$H,Факт!$B:$B,Word!$B56,Факт!$D:$D,Word!$D56,Факт!$E:$E,Word!$E56)","v":0},0,{"$f":"SUMIFS('За добу'!$H:$H,'За добу'!$B:$B,Word!$B56,'За добу'!$D:$D,Word!$D56,'За добу'!$E:$E,Word!$E56)","v":0},0,"Філія4",{"$f":"SUMIFS(План!$I:$I,План!$B:$B,Word!$B56,План!$D:$D,Word!$D56,План!$E:$E,Word!$E56)","v":0},{"$f":"SUMIFS(Факт!$I:$I,Факт!$B:$B,Word!$B56,Факт!$D:$D,Word!$D56,Факт!$E:$E,Word!$E56)","v":0},0,{"$f":"SUMIFS('За добу'!$I:$I,'За добу'!$B:$B,Word!$B56,'За добу'!$D:$D,Word!$D56,'За добу'!$E:$E,Word!$E56)","v":0},0,"Філія5",{"$f":"SUMIFS(План!$J:$J,План!$B:$B,Word!$B56,План!$D:$D,Word!$D56,План!$E:$E,Word!$E56)","v":0},{"$f":"SUMIFS(Факт!$J:$J,Факт!$B:$B,Word!$B56,Факт!$D:$D,Word!$D56,Факт!$E:$E,Word!$E56)","v":0},0,{"$f":"SUMIFS('За добу'!$J:$J,'За добу'!$B:$B,Word!$B56,'За добу'!$D:$D,Word!$D56,'За добу'!$E:$E,Word!$E56)","v":0},0]
[null,{"$f":"'За добу'!$B57","v":0},null,{"$f":"'За добу'!$D57","v":0},{"$f":"'За добу'!$E57","v":0},"ФОРМУЛА",0,0,0,0,0,"Філія1",{"$f":"SUMIFS(План!$F:$F,План!$B:$B,Word!$B57,План!$D:$D,Word!$D57,План!$E:$E,Word!$E57)","v":0},{"$f":"SUMIFS(Факт!$F:$F,Факт!$B:$B,Word!$B57,Факт!$D:$D,Word!$D57,Факт!$E:$E,Word!$E57)","v":0},0,{"$f":"SUMIFS('За добу'!$F:$F,'За добу'!$B:$B,Word!$B57,'За добу'!$D:$D,Word!$D57,'За добу'!$E:$E,Word!$E57)","v":0},0,"Філія2",{"$f":"SUMIFS(План!$G:$G,План!$B:$B,Word!$B57,План!$D:$D,Word!$D57,План!$E:$E,Word!$E57)","v":0},{"$f":"SUMIFS(Факт!$G:$G,Факт!$B:$B,Word!$B57,Факт!$D:$D,Word!$D57,Факт!$E:$E,Word!$E57)","v":0},0,{"$f":"SUMIFS('За добу'!$G:$G,'За добу'!$B:$B,Word!$B57,'За добу'!$D:$D,Word!$D57,'За добу'!$E:$E,Word!$E57)","v":0},0,"Філія3",{"$f":"SUMIFS(План!$H:$H,План!$B:$B,Word!$B57,План!$D:$D,Word!$D57,План!$E:$E,Word!$E57)","v":0},{"$f":"SUMIFS(Факт!$H:$H,Факт!$B:$B,Word!$B57,Факт!$D:$D,Word!$D57,Факт!$E:$E,Word!$E57)","v":0},0,{"$f":"SUMIFS('За добу'!$H:$H,'За добу'!$B:$B,Word!$B57,'За добу'!$D:$D,Word!$D57,'За добу'!$E:$E,Word!$E57)","v":0},0,"Філія4",{"$f":"SUMIFS(План!$I:$I,План!$B:$B,Word!$B57,План!$D:$D,Word!$D57,План!$E:$E,Word!$E57)","v":0},{"$f":"SUMIFS(Факт!$I:$I,Факт!$B:$B,Word!$B57,Факт!$D:$D,Word!$D57,Факт!$E:$E,Word!$E57)","v":0},0,{"$f":"SUMIFS('За добу'!$I:$I,'За добу'!$B:$B,Word!$B57,'За добу'!$D:$D,Word!$D57,'За добу'!$E:$E,Word!$E57)","v":0},0,"Філія5",{"$f":"SUMIFS(План!$J:$J,План!$B:$B,Word!$B57,План!$D:$D,Word!$D57,План!$E:$E,Word!$E57)","v":0},{"$f":"SUMIFS(Факт!$J:$J,Факт!$B:$B,Word!$B57,Факт!$D:$D,Word!$D57,Факт!$E:$E,Word!$E57)","v":0},0,{"$f":"SUMIFS('За добу'!$J:$J,'За добу'!$B:$B,Word!$B57,'За добу'!$D:$D,Word!$D57,'За добу'!$E:$E,Word!$E57)","v":0},0]
[null,{"$f":"'За добу'!$B58","v":0},null,{"$f":"'За добу'!$D58","v":0},{"$f":"'За добу'!$E58","v":0},"ФОРМУЛА",0,0,0,0,0,"Філія1",{"$f":"SUMIFS(План!$F:$F,План!$B:$B,Word!$B58,План!$D:$D,Word!$D58,План!$E:$E,Word!$E58)","v":0},{"$f":"SUMIFS(Факт!$F:$F,Факт!$B:$B,Word!$B58,Факт!$D:$D,Word!$D58,Факт!$E:$E,Word!$E58)","v":0},0,{"$f":"SUMIFS('За добу'!$F:$F,'За добу'!$B:$B,Word!$B58,'За добу'!$D:$D,Word!$D58,'За добу'!$E:$E,Word!$E58)","v":0},0,"Філія2",{"$f":"SUMIFS(План!$G:$G,План!$B:$B,Word!$B58,План!$D:$D,Word!$D58,План!$E:$E,Word!$E58)","v":0},{"$f":"SUMIFS(Факт!$G:$G,Факт!$B:$B,Word!$B58,Факт!$D:$D,Word!$D58,Факт!$E:$E,Word!$E58)","v":0},0,{"$f":"SUMIFS('За добу'!$G:$G,'За добу'!$B:$B,Word!$B58,'За добу'!$D:$D,Word!$D58,'За добу'!$E:$E,Word!$E58)","v":0},0,"Філія3",{"$f":"SUMIFS(План!$H:$H,План!$B:$B,Word!$B58,План!$D:$D,Word!$D58,План!$E:$E,Word!$E58)","v":0},{"$f":"SUMIFS(Факт!$H:$H,Факт!$B:$B,Word!$B58,Факт!$D:$D,Word!$D58,Факт!$E:$E,Word!$E58)","v":0},0,{"$f":"SUMIFS('За добу'!$H:$H,'За добу'!$B:$B,Word!$B58,'За добу'!$D:$D,Word!$D58,'За добу'!$E:$E,Word!$E58)","v":0},0,"Філія4",{"$f":"SUMIFS(План!$I:$I,План!$B:$B,Word!$B58,План!$D:$D,Word!$D58,План!$E:$E,Word!$E58)","v":0},{"$f":"SUMIFS(Факт!$I:$I,Факт!$B:$B,Word!$B58,Факт!$D:$D,Word!$D58,Факт!$E:$E,Word!$E58)","v":0},0,{"$f":"SUMIFS('За добу'!$I:$I,'За добу'!$B:$B,Word!$B58,'За добу'!$D:$D,Word!$D58,'За добу'!$E:$E,Word!$E58)","v":0},0,"Філія5",{"$f":"SUMIFS(План!$J:$J,План!$B:$B,Word!$B58,План!$D:$D,Word!$D58,План!$E:$E,Word!$E58)","v":0},{"$f":"SUMIFS(Факт!$J:$J,Факт!$B:$B,Word!$B58,Факт!$D:$D,Word!$D58,Факт!$E:$E,Word!$E58)","v":0},0,{"$f":"SUMIFS('За добу'!$J:$J,'За добу'!$B:$B,Word!$B58,'За добу'!$D:$D,Word!$D58,'За добу'!$E:$E,Word!$E58)","v":0},0]
[null,{"$f":"'За добу'!$B59","v":0},null,{"$f":"'За добу'!$D59","v":0},{"$f":"'За добу'!$E59","v":0},"ФОРМУЛА",0,0,0,0,0,"Філія1",{"$f":"SUMIFS(План!$F:$F,План!$B:$B,Word!$B59,План!$D:$D,Word!$D59,План!$E:$E,Word!$E59)","v":0},{"$f":"SUMIFS(Факт!$F:$F,Факт!$B:$B,Word!$B59,Факт!$D:$D,Word!$D59,Факт!$E:$E,Word!$E59)","v":0},0,{"$f":"SUMIFS('За добу'!$F:$F,'За добу'!$B:$B,Word!$B59,'За добу'!$D:$D,Word!$D59,'За добу'!$E:$E,Word!$E59)","v":0},0,"Філія2",{"$f":"SUMIFS(План!$G:$G,План!$B:$B,Word!$B59,План!$D:$D,Word!$D59,План!$E:$E,Word!$E59)","v":0},{"$f":"SUMIFS(Факт!$G:$G,Факт!$B:$B,Word!$B59,Факт!$D:$D,Word!$D59,Факт!$E:$E,Word!$E59)","v":0},0,{"$f":"SUMIFS('За добу'!$G:$G,'За добу'!$B:$B,Word!$B59,'За добу'!$D:$D,Word!$D59,'За добу'!$E:$E,Word!$E59)","v":0},0,"Філія3",{"$f":"SUMIFS(План!$H:$H,План!$B:$B,Word!$B59,План!$D:$D,Word!$D59,План!$E:$E,Word!$E59)","v":0},{"$f":"SUMIFS(Факт!$H:$H,Факт!$B:$B,Word!$B59,Факт!$D:$D,Word!$D59,Факт!$E:$E,Word!$E59)","v":0},0,{"$f":"SUMIFS('За добу'!$H:$H,'За добу'!$B:$B,Word!$B59,'За добу'!$D:$D,Word!$D59,'За добу'!$E:$E,Word!$E59)","v":0},0,"Філія4",{"$f":"SUMIFS(План!$I:$I,План!$B:$B,Word!$B59,План!$D:$D,Word!$D59,План!$E:$E,Word!$E59)","v":0},{"$f":"SUMIFS(Факт!$I:$I,Факт!$B:$B,Word!$B59,Факт!$D:$D,Word!$D59,Факт!$E:$E,Word!$E59)","v":0},0,{"$f":"SUMIFS('За добу'!$I:$I,'За добу'!$B:$B,Word!$B59,'За добу'!$D:$D,Word!$D59,'За добу'!$E:$E,Word!$E59)","v":0},0,"Філія5",{"$f":"SUMIFS(План!$J:$J,План!$B:$B,Word!$B59,План!$D:$D,Word!$D59,План!$E:$E,Word!$E59)","v":0},{"$f":"SUMIFS(Факт!$J:$J,Факт!$B:$B,Word!$B59,Факт!$D:$D,Word!$D59,Факт!$E:$E,Word!$E59)","v":0},0,{"$f":"SUMIFS('За добу'!$J:$J,'За добу'!$B:$B,Word!$B59,'За добу'!$D:$D,Word!$D59,'За добу'!$E:$E,Word!$E59)","v":0},0]
[null,{"$f":"'За добу'!$B60","v":0},null,{"$f":"'За добу'!$D60","v":0},{"$f":"'За добу'!$E60","v":0},"ФОРМУЛА",0,0,0,0,0,"Філія1",{"$f":"SUMIFS(План!$F:$F,План!$B:$B,Word!$B60,План!$D:$D,Word!$D60,План!$E:$E,Word!$E60)","v":0},{"$f":"SUMIFS(Факт!$F:$F,Факт!$B:$B,Word!$B60,Факт!$D:$D,Word!$D60,Факт!$E:$E,Word!$E60)","v":0},0,{"$f":"SUMIFS('За добу'!$F:$F,'За добу'!$B:$B,Word!$B60,'За добу'!$D:$D,Word!$D60,'За добу'!$E:$E,Word!$E60)","v":0},0,"Філія2",{"$f":"SUMIFS(План!$G:$G,План!$B:$B,Word!$B60,План!$D:$D,Word!$D60,План!$E:$E,Word!$E60)","v":0},{"$f":"SUMIFS(Факт!$G:$G,Факт!$B:$B,Word!$B60,Факт!$D:$D,Word!$D60,Факт!$E:$E,Word!$E60)","v":0},0,{"$f":"SUMIFS('За добу'!$G:$G,'За добу'!$B:$B,Word!$B60,'За добу'!$D:$D,Word!$D60,'За добу'!$E:$E,Word!$E60)","v":0},0,"Філія3",{"$f":"SUMIFS(План!$H:$H,План!$B:$B,Word!$B60,План!$D:$D,Word!$D60,План!$E:$E,Word!$E60)","v":0},{"$f":"SUMIFS(Факт!$H:$H,Факт!$B:$B,Word!$B60,Факт!$D:$D,Word!$D60,Факт!$E:$E,Word!$E60)","v":0},0,{"$f":"SUMIFS('За добу'!$H:$H,'За добу'!$B:$B,Word!$B60,'За добу'!$D:$D,Word!$D60,'За добу'!$E:$E,Word!$E60)","v":0},0,"Філія4",{"$f":"SUMIFS(План!$I:$I,План!$B:$B,Word!$B60,План!$D:$D,Word!$D60,План!$E:$E,Word!$E60)","v":0},{"$f":"SUMIFS(Факт!$I:$I,Факт!$B:$B,Word!$B60,Факт!$D:$D,Word!$D60,Факт!$E:$E,Word!$E60)","v":0},0,{"$f":"SUMIFS('За добу'!$I:$I,'За добу'!$B:$B,Word!$B60,'За добу'!$D:$D,Word!$D60,'За добу'!$E:$E,Word!$E60)","v":0},0,"Філія5",{"$f":"SUMIFS(План!$J:$J,План!$B:$B,Word!$B60,План!$D:$D,Word!$D60,План!$E:$E,Word!$E60)","v":0},{"$f":"SUMIFS(Факт!$J:$J,Факт!$B:$B,Word!$B60,Факт!$D:$D,Word!$D60,Факт!$E:$E,Word!$E60)","v":0},0,{"$f":"SUMIFS('За добу'!$J:$J,'За добу'!$B:$B,Word!$B60,'За добу'!$D:$D,Word!$D60,'За добу'!$E:$E,Word!$E60)","v":0},0]
[null,{"$f":"'За добу'!$B61","v":0},null,{"$f":"'За добу'!$D61","v":0},{"$f":"'За добу'!$E61","v":0},"ФОРМУЛА",0,0,0,0,0,"Філія1",{"$f":"SUMIFS(План!$F:$F,План!$B:$B,Word!$B61,План!$D:$D,Word!$D61,План!$E:$E,Word!$E61)","v":0},{"$f":"SUMIFS(Факт!$F:$F,Факт!$B:$B,Word!$B61,Факт!$D:$D,Word!$D61,Факт!$E:$E,Word!$E61)","v":0},0,{"$f":"SUMIFS('За добу'!$F:$F,'За добу'!$B:$B,Word!$B61,'За добу'!$D:$D,Word!$D61,'За добу'!$E:$E,Word!$E61)","v":0},0,"Філія2",{"$f":"SUMIFS(План!$G:$G,План!$B:$B,Word!$B61,План!$D:$D,Word!$D61,План!$E:$E,Word!$E61)","v":0},{"$f":"SUMIFS(Факт!$G:$G,Факт!$B:$B,Word!$B61,Факт!$D:$D,Word!$D61,Факт!$E:$E,Word!$E61)","v":0},0,{"$f":"SUMIFS('За добу'!$G:$G,'За добу'!$B:$B,Word!$B61,'За добу'!$D:$D,Word!$D61,'За добу'!$E:$E,Word!$E61)","v":0},0,"Філія3",{"$f":"SUMIFS(План!$H:$H,План!$B:$B,Word!$B61,План!$D:$D,Word!$D61,План!$E:$E,Word!$E61)","v":0},{"$f":"SUMIFS(Факт!$H:$H,Факт!$B:$B,Word!$B61,Факт!$D:$D,Word!$D61,Факт!$E:$E,Word!$E61)","v":0},0,{"$f":"SUMIFS('За добу'!$H:$H,'За добу'!$B:$B,Word!$B61,'За добу'!$D:$D,Word!$D61,'За добу'!$E:$E,Word!$E61)","v":0},0,"Філія4",{"$f":"SUMIFS(План!$I:$I,План!$B:$B,Word!$B61,План!$D:$D,Word!$D61,План!$E:$E,Word!$E61)","v":0},{"$f":"SUMIFS(Факт!$I:$I,Факт!$B:$B,Word!$B61,Факт!$D:$D,Word!$D61,Факт!$E:$E,Word!$E61)","v":0},0,{"$f":"SUMIFS('За добу'!$I:$I,'За добу'!$B:$B,Word!$B61,'За добу'!$D:$D,Word!$D61,'За добу'!$E:$E,Word!$E61)","v":0},0,"Філія5",{"$f":"SUMIFS(План!$J:$J,План!$B:$B,Word!$B61,План!$D:$D,Word!$D61,План!$E:$E,Word!$E61)","v":0},{"$f":"SUMIFS(Факт!$J:$J,Факт!$B:$B,Word!$B61,Факт!$D:$D,Word!$D61,Факт!$E:$E,Word!$E61)","v":0},0,{"$f":"SUMIFS('За добу'!$J:$J,'За добу'!$B:$B,Word!$B61,'За добу'!$D:$D,Word!$D61,'За добу'!$E:$E,Word!$E61)","v":0},0]
[null,{"$f":"'За добу'!$B62","v":0},null,{"$f":"'За добу'!$D62","v":0},{"$f":"'За добу'!$E62","v":0},"ФОРМУЛА",0,0,0,0,0,"Філія1",{"$f":"SUMIFS(План!$F:$F,План!$B:$B,Word!$B62,План!$D:$D,Word!$D62,План!$E:$E,Word!$E62)","v":0},{"$f":"SUMIFS(Факт!$F:$F,Факт!$B:$B,Word!$B62,Факт!$D:$D,Word!$D62,Факт!$E:$E,Word!$E62)","v":0},0,{"$f":"SUMIFS('За добу'!$F:$F,'За добу'!$B:$B,Word!$B62,'За добу'!$D:$D,Word!$D62,'За добу'!$E:$E,Word!$E62)","v":0},0,"Філія2",{"$f":"SUMIFS(План!$G:$G,План!$B:$B,Word!$B62,План!$D:$D,Word!$D62,План!$E:$E,Word!$E62)","v":0},{"$f":"SUMIFS(Факт!$G:$G,Факт!$B:$B,Word!$B62,Факт!$D:$D,Word!$D62,Факт!$E:$E,Word!$E62)","v":0},0,{"$f":"SUMIFS('За добу'!$G:$G,'За добу'!$B:$B,Word!$B62,'За добу'!$D:$D,Word!$D62,'За добу'!$E:$E,Word!$E62)","v":0},0,"Філія3",{"$f":"SUMIFS(План!$H:$H,План!$B:$B,Word!$B62,План!$D:$D,Word!$D62,План!$E:$E,Word!$E62)","v":0},{"$f":"SUMIFS(Факт!$H:$H,Факт!$B:$B,Word!$B62,Факт!$D:$D,Word!$D62,Факт!$E:$E,Word!$E62)","v":0},0,{"$f":"SUMIFS('За добу'!$H:$H,'За добу'!$B:$B,Word!$B62,'За добу'!$D:$D,Word!$D62,'За добу'!$E:$E,Word!$E62)","v":0},0,"Філія4",{"$f":"SUMIFS(План!$I:$I,План!$B:$B,Word!$B62,План!$D:$D,Word!$D62,План!$E:$E,Word!$E62)","v":0},{"$f":"SUMIFS(Факт!$I:$I,Факт!$B:$B,Word!$B62,Факт!$D:$D,Word!$D62,Факт!$E:$E,Word!$E62)","v":0},0,{"$f":"SUMIFS('За добу'!$I:$I,'За добу'!$B:$B,Word!$B62,'За добу'!$D:$D,Word!$D62,'За добу'!$E:$E,Word!$E62)","v":0},0,"Філія5",{"$f":"SUMIFS(План!$J:$J,План!$B:$B,Word!$B62,План!$D:$D,Word!$D62,План!$E:$E,Word!$E62)","v":0},{"$f":"SUMIFS(Факт!$J:$J,Факт!$B:$B,Word!$B62,Факт!$D:$D,Word!$D62,Факт!$E:$E,Word!$E62)","v":0},0,{"$f":"SUMIFS('За добу'!$J:$J,'За добу'!$B:$B,Word!$B62,'За добу'!$D:$D,Word!$D62,'За добу'!$E:$E,Word!$E62)","v":0},0]
[null,{"$f":"'За добу'!$B63","v":0},null,{"$f":"'За добу'!$D63","v":0},{"$f":"'За добу'!$E63","v":0},"ФОРМУЛА",0,0,0,0,0,"Філія1",{"$f":"SUMIFS(План!$F:$F,План!$B:$B,Word!$B63,План!$D:$D,Word!$D63,План!$E:$E,Word!$E63)","v":0},{"$f":"SUMIFS(Факт!$F:$F,Факт!$B:$B,Word!$B63,Факт!$D:$D,Word!$D63,Факт!$E:$E,Word!$E63)","v":0},0,{"$f":"SUMIFS('За добу'!$F:$F,'За добу'!$B:$B,Word!$B63,'За добу'!$D:$D,Word!$D63,'За добу'!$E:$E,Word!$E63)","v":0},0,"Філія2",{"$f":"SUMIFS(План!$G:$G,План!$B:$B,Word!$B63,План!$D:$D,Word!$D63,План!$E:$E,Word!$E63)","v":0},{"$f":"SUMIFS(Факт!$G:$G,Факт!$B:$B,Word!$B63,Факт!$D:$D,Word!$D63,Факт!$E:$E,Word!$E63)","v":0},0,{"$f":"SUMIFS('За добу'!$G:$G,'За добу'!$B:$B,Word!$B63,'За добу'!$D:$D,Word!$D63,'За добу'!$E:$E,Word!$E63)","v":0},0,"Філія3",{"$f":"SUMIFS(План!$H:$H,План!$B:$B,Word!$B63,План!$D:$D,Word!$D63,План!$E:$E,Word!$E63)","v":0},{"$f":"SUMIFS(Факт!$H:$H,Факт!$B:$B,Word!$B63,Факт!$D:$D,Word!$D63,Факт!$E:$E,Word!$E63)","v":0},0,{"$f":"SUMIFS('За добу'!$H:$H,'За добу'!$B:$B,Word!$B63,'За добу'!$D:$D,Word!$D63,'За добу'!$E:$E,Word!$E63)","v":0},0,"Філія4",{"$f":"SUMIFS(План!$I:$I,План!$B:$B,Word!$B63,План!$D:$D,Word!$D63,План!$E:$E,Word!$E63)","v":0},{"$f":"SUMIFS(Факт!$I:$I,Факт!$B:$B,Word!$B63,Факт!$D:$D,Word!$D63,Факт!$E:$E,Word!$E63)","v":0},0,{"$f":"SUMIFS('За добу'!$I:$I,'За добу'!$B:$B,Word!$B63,'За добу'!$D:$D,Word!$D63,'За добу'!$E:$E,Word!$E63)","v":0},0,"Філія5",{"$f":"SUMIFS(План!$J:$J,План!$B:$B,Word!$B63,План!$D:$D,Word!$D63,План!$E:$E,Word!$E63)","v":0},{"$f":"SUMIFS(Факт!$J:$J,Факт!$B:$B,Word!$B63,Факт!$D:$D,Word!$D63,Факт!$E:$E,Word!$E63)","v":0},0,{"$f":"SUMIFS('За добу'!$J:$J,'За добу'!$B:$B,Word!$B63,'За добу'!$D:$D,Word!$D63,'За добу'!$E:$E,Word!$E63)","v":0},0]
[null,{"$f":"'За добу'!$B64","v":0},null,{"$f":"'За добу'!$D64","v":0},{"$f":"'За добу'!$E64","v":0},"ФОРМУЛА",0,0,0,0,0,"Філія1",{"$f":"SUMIFS(План!$F:$F,План!$B:$B,Word!$B64,План!$D:$D,Word!$D64,План!$E:$E,Word!$E64)","v":0},{"$f":"SUMIFS(Факт!$F:$F,Факт!$B:$B,Word!$B64,Факт!$D:$D,Word!$D64,Факт!$E:$E,Word!$E64)","v":0},0,{"$f":"SUMIFS('За добу'!$F:$F,'За добу'!$B:$B,Word!$B64,'За добу'!$D:$D,Word!$D64,'За добу'!$E:$E,Word!$E64)","v":0},0,"Філія2",{"$f":"SUMIFS(План!$G:$G,План!$B:$B,Word!$B64,План!$D:$D,Word!$D64,План!$E:$E,Word!$E64)","v":0},{"$f":"SUMIFS(Факт!$G:$G,Факт!$B:$B,Word!$B64,Факт!$D:$D,Word!$D64,Факт!$E:$E,Word!$E64)","v":0},0,{"$f":"SUMIFS('За добу'!$G:$G,'За добу'!$B:$B,Word!$B64,'За добу'!$D:$D,Word!$D64,'За добу'!$E:$E,Word!$E64)","v":0},0,"Філія3",{"$f":"SUMIFS(План!$H:$H,План!$B:$B,Word!$B64,План!$D:$D,Word!$D64,План!$E:$E,Word!$E64)","v":0},{"$f":"SUMIFS(Факт!$H:$H,Факт!$B:$B,Word!$B64,Факт!$D:$D,Word!$D64,Факт!$E:$E,Word!$E64)","v":0},0,{"$f":"SUMIFS('За добу'!$H:$H,'За добу'!$B:$B,Word!$B64,'За добу'!$D:$D,Word!$D64,'За добу'!$E:$E,Word!$E64)","v":0},0,"Філія4",{"$f":"SUMIFS(План!$I:$I,План!$B:$B,Word!$B64,План!$D:$D,Word!$D64,План!$E:$E,Word!$E64)","v":0},{"$f":"SUMIFS(Факт!$I:$I,Факт!$B:$B,Word!$B64,Факт!$D:$D,Word!$D64,Факт!$E:$E,Word!$E64)","v":0},0,{"$f":"SUMIFS('За добу'!$I:$I,'За добу'!$B:$B,Word!$B64,'За добу'!$D:$D,Word!$D64,'За добу'!$E:$E,Word!$E64)","v":0},0,"Філія5",{"$f":"SUMIFS(План!$J:$J,План!$B:$B,Word!$B64,План!$D:$D,Word!$D64,План!$E:$E,Word!$E64)","v":0},{"$f":"SUMIFS(Факт!$J:$J,Факт!$B:$B,Word!$B64,Факт!$D:$D,Word!$D64,Факт!$E:$E,Word!$E64)","v":0},0,{"$f":"SUMIFS('За добу'!$J:$J,'За добу'!$B:$B,Word!$B64,'За добу'!$D:$D,Word!$D64,'За добу'!$E:$E,Word!$E64)","v":0},0]
[null,{"$f":"'За добу'!$B65","v":0},null,{"$f":"'За добу'!$D65","v":0},{"$f":"'За добу'!$E65","v":0},"ФОРМУЛА",0,0,0,0,0,"Філія1",{"$f":"SUMIFS(План!$F:$F,План!$B:$B,Word!$B65,План!$D:$D,Word!$D65,План!$E:$E,Word!$E65)","v":0},{"$f":"SUMIFS(Факт!$F:$F,Факт!$B:$B,Word!$B65,Факт!$D:$D,Word!$D65,Факт!$E:$E,Word!$E65)","v":0},0,{"$f":"SUMIFS('За добу'!$F:$F,'За добу'!$B:$B,Word!$B65,'За добу'!$D:$D,Word!$D65,'За добу'!$E:$E,Word!$E65)","v":0},0,"Філія2",{"$f":"SUMIFS(План!$G:$G,План!$B:$B,Word!$B65,План!$D:$D,Word!$D65,План!$E:$E,Word!$E65)","v":0},{"$f":"SUMIFS(Факт!$G:$G,Факт!$B:$B,Word!$B65,Факт!$D:$D,Word!$D65,Факт!$E:$E,Word!$E65)","v":0},0,{"$f":"SUMIFS('За добу'!$G:$G,'За добу'!$B:$B,Word!$B65,'За добу'!$D:$D,Word!$D65,'За добу'!$E:$E,Word!$E65)","v":0},0,"Філія3",{"$f":"SUMIFS(План!$H:$H,План!$B:$B,Word!$B65,План!$D:$D,Word!$D65,План!$E:$E,Word!$E65)","v":0},{"$f":"SUMIFS(Факт!$H:$H,Факт!$B:$B,Word!$B65,Факт!$D:$D,Word!$D65,Факт!$E:$E,Word!$E65)","v":0},0,{"$f":"SUMIFS('За добу'!$H:$H,'За добу'!$B:$B,Word!$B65,'За добу'!$D:$D,Word!$D65,'За добу'!$E:$E,Word!$E65)","v":0},0,"Філія4",{"$f":"SUMIFS(План!$I:$I,План!$B:$B,Word!$B65,План!$D:$D,Word!$D65,План!$E:$E,Word!$E65)","v":0},{"$f":"SUMIFS(Факт!$I:$I,Факт!$B:$B,Word!$B65,Факт!$D:$D,Word!$D65,Факт!$E:$E,Word!$E65)","v":0},0,{"$f":"SUMIFS('За добу'!$I:$I,'За добу'!$B:$B,Word!$B65,'За добу'!$D:$D,Word!$D65,'За добу'!$E:$E,Word!$E65)","v":0},0,"Філія5",{"$f":"SUMIFS(План!$J:$J,План!$B:$B,Word!$B65,План!$D:$D,Word!$D65,План!$E:$E,Word!$E65)","v":0},{"$f":"SUMIFS(Факт!$J:$J,Факт!$B:$B,Word!$B65,Факт!$D:$D,Word!$D65,Факт!$E:$E,Word!$E65)","v":0},0,{"$f":"SUMIFS('За добу'!$J:$J,'За добу'!$B:$B,Word!$B65,'За добу'!$D:$D,Word!$D65,'За добу'!$E:$E,Word!$E65)","v":0},0]
[null,{"$f":"'За добу'!$B66","v":0},null,{"$f":"'За добу'!$D66","v":0},{"$f":"'За добу'!$E66","v":0},"ФОРМУЛА",0,0,0,0,0,"Філія1",{"$f":"SUMIFS(План!$F:$F,План!$B:$B,Word!$B66,План!$D:$D,Word!$D66,План!$E:$E,Word!$E66)","v":0},{"$f":"SUMIFS(Факт!$F:$F,Факт!$B:$B,Word!$B66,Факт!$D:$D,Word!$D66,Факт!$E:$E,Word!$E66)","v":0},0,{"$f":"SUMIFS('За добу'!$F:$F,'За добу'!$B:$B,Word!$B66,'За добу'!$D:$D,Word!$D66,'За добу'!$E:$E,Word!$E66)","v":0},0,"Філія2",{"$f":"SUMIFS(План!$G:$G,План!$B:$B,Word!$B66,План!$D:$D,Word!$D66,План!$E:$E,Word!$E66)","v":0},{"$f":"SUMIFS(Факт!$G:$G,Факт!$B:$B,Word!$B66,Факт!$D:$D,Word!$D66,Факт!$E:$E,Word!$E66)","v":0},0,{"$f":"SUMIFS('За добу'!$G:$G,'За добу'!$B:$B,Word!$B66,'За добу'!$D:$D,Word!$D66,'За добу'!$E:$E,Word!$E66)","v":0},0,"Філія3",{"$f":"SUMIFS(План!$H:$H,План!$B:$B,Word!$B66,План!$D:$D,Word!$D66,План!$E:$E,Word!$E66)","v":0},{"$f":"SUMIFS(Факт!$H:$H,Факт!$B:$B,Word!$B66,Факт!$D:$D,Word!$D66,Факт!$E:$E,Word!$E66)","v":0},0,{"$f":"SUMIFS('За добу'!$H:$H,'За добу'!$B:$B,Word!$B66,'За добу'!$D:$D,Word!$D66,'За добу'!$E:$E,Word!$E66)","v":0},0,"Філія4",{"$f":"SUMIFS(План!$I:$I,План!$B:$B,Word!$B66,План!$D:$D,Word!$D66,План!$E:$E,Word!$E66)","v":0},{"$f":"SUMIFS(Факт!$I:$I,Факт!$B:$B,Word!$B66,Факт!$D:$D,Word!$D66,Факт!$E:$E,Word!$E66)","v":0},0,{"$f":"SUMIFS('За добу'!$I:$I,'За добу'!$B:$B,Word!$B66,'За добу'!$D:$D,Word!$D66,'За добу'!$E:$E,Word!$E66)","v":0},0,"Філія5",{"$f":"SUMIFS(План!$J:$J,План!$B:$B,Word!$B66,План!$D:$D,Word!$D66,План!$E:$E,Word!$E66)","v":0},{"$f":"SUMIFS(Факт!$J:$J,Факт!$B:$B,Word!$B66,Факт!$D:$D,Word!$D66,Факт!$E:$E,Word!$E66)","v":0},0,{"$f":"SUMIFS('За добу'!$J:$J,'За добу'!$B:$B,Word!$B66,'За добу'!$D:$D,Word!$D66,'За добу'!$E:$E,Word!$E66)","v":0},0]
[null,{"$f":"'За добу'!$B67","v":0},null,{"$f":"'За добу'!$D67","v":0},{"$f":"'За добу'!$E67","v":0},"ФОРМУЛА",0,0,0,0,0,"Філія1",{"$f":"SUMIFS(План!$F:$F,План!$B:$B,Word!$B67,План!$D:$D,Word!$D67,План!$E:$E,Word!$E67)","v":0},{"$f":"SUMIFS(Факт!$F:$F,Факт!$B:$B,Word!$B67,Факт!$D:$D,Word!$D67,Факт!$E:$E,Word!$E67)","v":0},0,{"$f":"SUMIFS('За добу'!$F:$F,'За добу'!$B:$B,Word!$B67,'За добу'!$D:$D,Word!$D67,'За добу'!$E:$E,Word!$E67)","v":0},0,"Філія2",{"$f":"SUMIFS(План!$G:$G,План!$B:$B,Word!$B67,План!$D:$D,Word!$D67,План!$E:$E,Word!$E67)","v":0},{"$f":"SUMIFS(Факт!$G:$G,Факт!$B:$B,Word!$B67,Факт!$D:$D,Word!$D67,Факт!$E:$E,Word!$E67)","v":0},0,{"$f":"SUMIFS('За добу'!$G:$G,'За добу'!$B:$B,Word!$B67,'За добу'!$D:$D,Word!$D67,'За добу'!$E:$E,Word!$E67)","v":0},0,"Філія3",{"$f":"SUMIFS(План!$H:$H,План!$B:$B,Word!$B67,План!$D:$D,Word!$D67,План!$E:$E,Word!$E67)","v":0},{"$f":"SUMIFS(Факт!$H:$H,Факт!$B:$B,Word!$B67,Факт!$D:$D,Word!$D67,Факт!$E:$E,Word!$E67)","v":0},0,{"$f":"SUMIFS('За добу'!$H:$H,'За добу'!$B:$B,Word!$B67,'За добу'!$D:$D,Word!$D67,'За добу'!$E:$E,Word!$E67)","v":0},0,"Філія4",{"$f":"SUMIFS(План!$I:$I,План!$B:$B,Word!$B67,План!$D:$D,Word!$D67,План!$E:$E,Word!$E67)","v":0},{"$f":"SUMIFS(Факт!$I:$I,Факт!$B:$B,Word!$B67,Факт!$D:$D,Word!$D67,Факт!$E:$E,Word!$E67)","v":0},0,{"$f":"SUMIFS('За добу'!$I:$I,'За добу'!$B:$B,Word!$B67,'За добу'!$D:$D,Word!$D67,'За добу'!$E:$E,Word!$E67)","v":0},0,"Філія5",{"$f":"SUMIFS(План!$J:$J,План!$B:$B,Word!$B67,План!$D:$D,Word!$D67,План!$E:$E,Word!$E67)","v":0},{"$f":"SUMIFS(Факт!$J:$J,Факт!$B:$B,Word!$B67,Факт!$D:$D,Word!$D67,Факт!$E:$E,Word!$E67)","v":0},0,{"$f":"SUMIFS('За добу'!$J:$J,'За добу'!$B:$B,Word!$B67,'За добу'!$D:$D,Word!$D67,'За добу'!$E:$E,Word!$E67)","v":0},0]
[null,{"$f":"'За добу'!$B68","v":0},null,{"$f":"'За добу'!$D68","v":0},{"$f":"'За добу'!$E68","v":0},"ФОРМУЛА",0,0,0,0,0,"Філія1",{"$f":"SUMIFS(План!$F:$F,План!$B:$B,Word!$B68,План!$D:$D,Word!$D68,План!$E:$E,Word!$E68)","v":0},{"$f":"SUMIFS(Факт!$F:$F,Факт!$B:$B,Word!$B68,Факт!$D:$D,Word!$D68,Факт!$E:$E,Word!$E68)","v":0},0,{"$f":"SUMIFS('За добу'!$F:$F,'За добу'!$B:$B,Word!$B68,'За добу'!$D:$D,Word!$D68,'За добу'!$E:$E,Word!$E68)","v":0},0,"Філія2",{"$f":"SUMIFS(План!$G:$G,План!$B:$B,Word!$B68,План!$D:$D,Word!$D68,План!$E:$E,Word!$E68)","v":0},{"$f":"SUMIFS(Факт!$G:$G,Факт!$B:$B,Word!$B68,Факт!$D:$D,Word!$D68,Факт!$E:$E,Word!$E68)","v":0},0,{"$f":"SUMIFS('За добу'!$G:$G,'За добу'!$B:$B,Word!$B68,'За добу'!$D:$D,Word!$D68,'За добу'!$E:$E,Word!$E68)","v":0},0,"Філія3",{"$f":"SUMIFS(План!$H:$H,План!$B:$B,Word!$B68,План!$D:$D,Word!$D68,План!$E:$E,Word!$E68)","v":0},{"$f":"SUMIFS(Факт!$H:$H,Факт!$B:$B,Word!$B68,Факт!$D:$D,Word!$D68,Факт!$E:$E,Word!$E68)","v":0},0,{"$f":"SUMIFS('За добу'!$H:$H,'За добу'!$B:$B,Word!$B68,'За добу'!$D:$D,Word!$D68,'За добу'!$E:$E,Word!$E68)","v":0},0,"Філія4",{"$f":"SUMIFS(План!$I:$I,План!$B:$B,Word!$B68,План!$D:$D,Word!$D68,План!$E:$E,Word!$E68)","v":0},{"$f":"SUMIFS(Факт!$I:$I,Факт!$B:$B,Word!$B68,Факт!$D:$D,Word!$D68,Факт!$E:$E,Word!$E68)","v":0},0,{"$f":"SUMIFS('За добу'!$I:$I,'За добу'!$B:$B,Word!$B68,'За добу'!$D:$D,Word!$D68,'За добу'!$E:$E,Word!$E68)","v":0},0,"Філія5",{"$f":"SUMIFS(План!$J:$J,План!$B:$B,Word!$B68,План!$D:$D,Word!$D68,План!$E:$E,Word!$E68)","v":0},{"$f":"SUMIFS(Факт!$J:$J,Факт!$B:$B,Word!$B68,Факт!$D:$D,Word!$D68,Факт!$E:$E,Word!$E68)","v":0},0,{"$f":"SUMIFS('За добу'!$J:$J,'За добу'!$B:$B,Word!$B68,'За добу'!$D:$D,Word!$D68,'За добу'!$E:$E,Word!$E68)","v":0},0]
[null,{"$f":"'За добу'!$B69","v":0},null,{"$f":"'За добу'!$D69","v":0},{"$f":"'За добу'!$E69","v":0},"ФОРМУЛА",0,0,0,0,0,"Філія1",{"$f":"SUMIFS(План!$F:$F,План!$B:$B,Word!$B69,План!$D:$D,Word!$D69,План!$E:$E,Word!$E69)","v":0},{"$f":"SUMIFS(Факт!$F:$F,Факт!$B:$B,Word!$B69,Факт!$D:$D,Word!$D69,Факт!$E:$E,Word!$E69)","v":0},0,{"$f":"SUMIFS('За добу'!$F:$F,'За добу'!$B:$B,Word!$B69,'За добу'!$D:$D,Word!$D69,'За добу'!$E:$E,Word!$E69)","v":0},0,"Філія2",{"$f":"SUMIFS(План!$G:$G,План!$B:$B,Word!$B69,План!$D:$D,Word!$D69,План!$E:$E,Word!$E69)","v":0},{"$f":"SUMIFS(Факт!$G:$G,Факт!$B:$B,Word!$B69,Факт!$D:$D,Word!$D69,Факт!$E:$E,Word!$E69)","v":0},0,{"$f":"SUMIFS('За добу'!$G:$G,'За добу'!$B:$B,Word!$B69,'За добу'!$D:$D,Word!$D69,'За добу'!$E:$E,Word!$E69)","v":0},0,"Філія3",{"$f":"SUMIFS(План!$H:$H,План!$B:$B,Word!$B69,План!$D:$D,Word!$D69,План!$E:$E,Word!$E69)","v":0},{"$f":"SUMIFS(Факт!$H:$H,Факт!$B:$B,Word!$B69,Факт!$D:$D,Word!$D69,Факт!$E:$E,Word!$E69)","v":0},0,{"$f":"SUMIFS('За добу'!$H:$H,'За добу'!$B:$B,Word!$B69,'За добу'!$D:$D,Word!$D69,'За добу'!$E:$E,Word!$E69)","v":0},0,"Філія4",{"$f":"SUMIFS(План!$I:$I,План!$B:$B,Word!$B69,План!$D:$D,Word!$D69,План!$E:$E,Word!$E69)","v":0},{"$f":"SUMIFS(Факт!$I:$I,Факт!$B:$B,Word!$B69,Факт!$D:$D,Word!$D69,Факт!$E:$E,Word!$E69)","v":0},0,{"$f":"SUMIFS('За добу'!$I:$I,'За добу'!$B:$B,Word!$B69,'За добу'!$D:$D,Word!$D69,'За добу'!$E:$E,Word!$E69)","v":0},0,"Філія5",{"$f":"SUMIFS(План!$J:$J,План!$B:$B,Word!$B69,План!$D:$D,Word!$D69,План!$E:$E,Word!$E69)","v":0},{"$f":"SUMIFS(Факт!$J:$J,Факт!$B:$B,Word!$B69,Факт!$D:$D,Word!$D69,Факт!$E:$E,Word!$E69)","v":0},0,{"$f":"SUMIFS('За добу'!$J:$J,'За добу'!$B:$B,Word!$B69,'За добу'!$D:$D,Word!$D69,'За добу'!$E:$E,Word!$E69)","v":0},0]
[null,{"$f":"'За добу'!$B70","v":0},null,{"$f":"'За добу'!$D70","v":0},{"$f":"'За добу'!$E70","v":0},"ФОРМУЛА",0,0,0,0,0,"Філія1",{"$f":"SUMIFS(План!$F:$F,План!$B:$B,Word!$B70,План!$D:$D,Word!$D70,План!$E:$E,Word!$E70)","v":0},{"$f":"SUMIFS(Факт!$F:$F,Факт!$B:$B,Word!$B70,Факт!$D:$D,Word!$D70,Факт!$E:$E,Word!$E70)","v":0},0,{"$f":"SUMIFS('За добу'!$F:$F,'За добу'!$B:$B,Word!$B70,'За добу'!$D:$D,Word!$D70,'За добу'!$E:$E,Word!$E70)","v":0},0,"Філія2",{"$f":"SUMIFS(План!$G:$G,План!$B:$B,Word!$B70,План!$D:$D,Word!$D70,План!$E:$E,Word!$E70)","v":0},{"$f":"SUMIFS(Факт!$G:$G,Факт!$B:$B,Word!$B70,Факт!$D:$D,Word!$D70,Факт!$E:$E,Word!$E70)","v":0},0,{"$f":"SUMIFS('За добу'!$G:$G,'За добу'!$B:$B,Word!$B70,'За добу'!$D:$D,Word!$D70,'За добу'!$E:$E,Word!$E70)","v":0},0,"Філія3",{"$f":"SUMIFS(План!$H:$H,План!$B:$B,Word!$B70,План!$D:$D,Word!$D70,План!$E:$E,Word!$E70)","v":0},{"$f":"SUMIFS(Факт!$H:$H,Факт!$B:$B,Word!$B70,Факт!$D:$D,Word!$D70,Факт!$E:$E,Word!$E70)","v":0},0,{"$f":"SUMIFS('За добу'!$H:$H,'За добу'!$B:$B,Word!$B70,'За добу'!$D:$D,Word!$D70,'За добу'!$E:$E,Word!$E70)","v":0},0,"Філія4",{"$f":"SUMIFS(План!$I:$I,План!$B:$B,Word!$B70,План!$D:$D,Word!$D70,План!$E:$E,Word!$E70)","v":0},{"$f":"SUMIFS(Факт!$I:$I,Факт!$B:$B,Word!$B70,Факт!$D:$D,Word!$D70,Факт!$E:$E,Word!$E70)","v":0},0,{"$f":"SUMIFS('За добу'!$I:$I,'За добу'!$B:$B,Word!$B70,'За добу'!$D:$D,Word!$D70,'За добу'!$E:$E,Word!$E70)","v":0},0,"Філія5",{"$f":"SUMIFS(План!$J:$J,План!$B:$B,Word!$B70,План!$D:$D,Word!$D70,План!$E:$E,Word!$E70)","v":0},{"$f":"SUMIFS(Факт!$J:$J,Факт!$B:$B,Word!$B70,Факт!$D:$D,Word!$D70,Факт!$E:$E,Word!$E70)","v":0},0,{"$f":"SUMIFS('За добу'!$J:$J,'За добу'!$B:$B,Word!$B70,'За добу'!$D:$D,Word!$D70,'За добу'!$E:$E,Word!$E70)","v":0},0]
[null,{"$f":"'За добу'!$B71","v":0},null,{"$f":"'За добу'!$D71","v":0},{"$f":"'За добу'!$E71","v":0},"ФОРМУЛА",0,0,0,0,0,"Філія1",{"$f":"SUMIFS(План!$F:$F,План!$B:$B,Word!$B71,План!$D:$D,Word!$D71,План!$E:$E,Word!$E71)","v":0},{"$f":"SUMIFS(Факт!$F:$F,Факт!$B:$B,Word!$B71,Факт!$D:$D,Word!$D71,Факт!$E:$E,Word!$E71)","v":0},0,{"$f":"SUMIFS('За добу'!$F:$F,'За добу'!$B:$B,Word!$B71,'За добу'!$D:$D,Word!$D71,'За добу'!$E:$E,Word!$E71)","v":0},0,"Філія2",{"$f":"SUMIFS(План!$G:$G,План!$B:$B,Word!$B71,План!$D:$D,Word!$D71,План!$E:$E,Word!$E71)","v":0},{"$f":"SUMIFS(Факт!$G:$G,Факт!$B:$B,Word!$B71,Факт!$D:$D,Word!$D71,Факт!$E:$E,Word!$E71)","v":0},0,{"$f":"SUMIFS('За добу'!$G:$G,'За добу'!$B:$B,Word!$B71,'За добу'!$D:$D,Word!$D71,'За добу'!$E:$E,Word!$E71)","v":0},0,"Філія3",{"$f":"SUMIFS(План!$H:$H,План!$B:$B,Word!$B71,План!$D:$D,Word!$D71,План!$E:$E,Word!$E71)","v":0},{"$f":"SUMIFS(Факт!$H:$H,Факт!$B:$B,Word!$B71,Факт!$D:$D,Word!$D71,Факт!$E:$E,Word!$E71)","v":0},0,{"$f":"SUMIFS('За добу'!$H:$H,'За добу'!$B:$B,Word!$B71,'За добу'!$D:$D,Word!$D71,'За добу'!$E:$E,Word!$E71)","v":0},0,"Філія4",{"$f":"SUMIFS(План!$I:$I,План!$B:$B,Word!$B71,План!$D:$D,Word!$D71,План!$E:$E,Word!$E71)","v":0},{"$f":"SUMIFS(Факт!$I:$I,Факт!$B:$B,Word!$B71,Факт!$D:$D,Word!$D71,Факт!$E:$E,Word!$E71)","v":0},0,{"$f":"SUMIFS('За добу'!$I:$I,'За добу'!$B:$B,Word!$B71,'За добу'!$D:$D,Word!$D71,'За добу'!$E:$E,Word!$E71)","v":0},0,"Філія5",{"$f":"SUMIFS(План!$J:$J,План!$B:$B,Word!$B71,План!$D:$D,Word!$D71,План!$E:$E,Word!$E71)","v":0},{"$f":"SUMIFS(Факт!$J:$J,Факт!$B:$B,Word!$B71,Факт!$D:$D,Word!$D71,Факт!$E:$E,Word!$E71)","v":0},0,{"$f":"SUMIFS('За добу'!$J:$J,'За добу'!$B:$B,Word!$B71,'За добу'!$D:$D,Word!$D71,'За добу'!$E:$E,Word!$E71)","v":0},0]
[null,{"$f":"'За добу'!$B72","v":0},null,{"$f":"'За добу'!$D72","v":0},{"$f":"'За добу'!$E72","v":0},"ФОРМУЛА",0,0,0,0,0,"Філія1",{"$f":"SUMIFS(План!$F:$F,План!$B:$B,Word!$B72,План!$D:$D,Word!$D72,План!$E:$E,Word!$E72)","v":0},{"$f":"SUMIFS(Факт!$F:$F,Факт!$B:$B,Word!$B72,Факт!$D:$D,Word!$D72,Факт!$E:$E,Word!$E72)","v":0},0,{"$f":"SUMIFS('За добу'!$F:$F,'За добу'!$B:$B,Word!$B72,'За добу'!$D:$D,Word!$D72,'За добу'!$E:$E,Word!$E72)","v":0},0,"Філія2",{"$f":"SUMIFS(План!$G:$G,План!$B:$B,Word!$B72,План!$D:$D,Word!$D72,План!$E:$E,Word!$E72)","v":0},{"$f":"SUMIFS(Факт!$G:$G,Факт!$B:$B,Word!$B72,Факт!$D:$D,Word!$D72,Факт!$E:$E,Word!$E72)","v":0},0,{"$f":"SUMIFS('За добу'!$G:$G,'За добу'!$B:$B,Word!$B72,'За добу'!$D:$D,Word!$D72,'За добу'!$E:$E,Word!$E72)","v":0},0,"Філія3",{"$f":"SUMIFS(План!$H:$H,План!$B:$B,Word!$B72,План!$D:$D,Word!$D72,План!$E:$E,Word!$E72)","v":0},{"$f":"SUMIFS(Факт!$H:$H,Факт!$B:$B,Word!$B72,Факт!$D:$D,Word!$D72,Факт!$E:$E,Word!$E72)","v":0},0,{"$f":"SUMIFS('За добу'!$H:$H,'За добу'!$B:$B,Word!$B72,'За добу'!$D:$D,Word!$D72,'За добу'!$E:$E,Word!$E72)","v":0},0,"Філія4",{"$f":"SUMIFS(План!$I:$I,План!$B:$B,Word!$B72,План!$D:$D,Word!$D72,План!$E:$E,Word!$E72)","v":0},{"$f":"SUMIFS(Факт!$I:$I,Факт!$B:$B,Word!$B72,Факт!$D:$D,Word!$D72,Факт!$E:$E,Word!$E72)","v":0},0,{"$f":"SUMIFS('За добу'!$I:$I,'За добу'!$B:$B,Word!$B72,'За добу'!$D:$D,Word!$D72,'За добу'!$E:$E,Word!$E72)","v":0},0,"Філія5",{"$f":"SUMIFS(План!$J:$J,План!$B:$B,Word!$B72,План!$D:$D,Word!$D72,План!$E:$E,Word!$E72)","v":0},{"$f":"SUMIFS(Факт!$J:$J,Факт!$B:$B,Word!$B72,Факт!$D:$D,Word!$D72,Факт!$E:$E,Word!$E72)","v":0},0,{"$f":"SUMIFS('За добу'!$J:$J,'За добу'!$B:$B,Word!$B72,'За добу'!$D:$D,Word!$D72,'За добу'!$E:$E,Word!$E72)","v":0},0]
[null,{"$f":"'За добу'!$B73","v":0},null,{"$f":"'За добу'!$D73","v":0},{"$f":"'За добу'!$E73","v":0},{"$f":"IF(E73=\"б.т. 2018\",\"Трави Багаторічні-2018\",IF(E73=\"оз.пш. 2018\",\"Пшениця Озима-2018\",IF(E73=\"оз.ріп. 2018\",\"Ріпак Озимий-2018\",IF(E73=\"к.з. 2018\",\"Кукурудза на зерно-2018\",\"ФОРМУЛА\"))))","v":"ФОРМУЛА"},0,0,0,0,0,"Філія1",{"$f":"SUMIFS(План!$F:$F,План!$B:$B,Word!$B73,План!$D:$D,Word!$D73,План!$E:$E,Word!$E73)","v":0},{"$f":"SUMIFS(Факт!$F:$F,Факт!$B:$B,Word!$B73,Факт!$D:$D,Word!$D73,Факт!$E:$E,Word!$E73)","v":0},0,{"$f":"SUMIFS('За добу'!$F:$F,'За добу'!$B:$B,Word!$B73,'За добу'!$D:$D,Word!$D73,'За добу'!$E:$E,Word!$E73)","v":0},0,"Філія2",{"$f":"SUMIFS(План!$G:$G,План!$B:$B,Word!$B73,План!$D:$D,Word!$D73,План!$E:$E,Word!$E73)","v":0},{"$f":"SUMIFS(Факт!$G:$G,Факт!$B:$B,Word!$B73,Факт!$D:$D,Word!$D73,Факт!$E:$E,Word!$E73)","v":0},0,{"$f":"SUMIFS('За добу'!$G:$G,'За добу'!$B:$B,Word!$B73,'За добу'!$D:$D,Word!$D73,'За добу'!$E:$E,Word!$E73)","v":0},0,"Філія3",{"$f":"SUMIFS(План!$H:$H,План!$B:$B,Word!$B73,План!$D:$D,Word!$D73,План!$E:$E,Word!$E73)","v":0},{"$f":"SUMIFS(Факт!$H:$H,Факт!$B:$B,Word!$B73,Факт!$D:$D,Word!$D73,Факт!$E:$E,Word!$E73)","v":0},0,{"$f":"SUMIFS('За добу'!$H:$H,'За добу'!$B:$B,Word!$B73,'За добу'!$D:$D,Word!$D73,'За добу'!$E:$E,Word!$E73)","v":0},0,"Філія4",{"$f":"SUMIFS(План!$I:$I,План!$B:$B,Word!$B73,План!$D:$D,Word!$D73,План!$E:$E,Word!$E73)","v":0},{"$f":"SUMIFS(Факт!$I:$I,Факт!$B:$B,Word!$B73,Факт!$D:$D,Word!$D73,Факт!$E:$E,Word!$E73)","v":0},0,{"$f":"SUMIFS('За добу'!$I:$I,'За добу'!$B:$B,Word!$B73,'За добу'!$D:$D,Word!$D73,'За добу'!$E:$E,Word!$E73)","v":0},0,"Філія5",{"$f":"SUMIFS(План!$J:$J,План!$B:$B,Word!$B73,План!$D:$D,Word!$D73,План!$E:$E,Word!$E73)","v":0},{"$f":"SUMIFS(Факт!$J:$J,Факт!$B:$B,Word!$B73,Факт!$D:$D,Word!$D73,Факт!$E:$E,Word!$E73)","v":0},0,{"$f":"SUMIFS('За добу'!$J:$J,'За добу'!$B:$B,Word!$B73,'За добу'!$D:$D,Word!$D73,'За добу'!$E:$E,Word!$E73)","v":0},0]
[null,{"$f":"'За добу'!$B74","v":0},null,{"$f":"'За добу'!$D74","v":0},{"$f":"'За добу'!$E74","v":0},"ФОРМУЛА",{"$f":"M74+S74+Y74+AE74+AK74","v":0},{"$f":"N74+T74+Z74+AF74+AL74","v":0},{"$f":"IF(ISERR(H74/G74),0,H74/G74*100)","v":0},{"$f":"P74+V74+AB74+AH74+AN74","v":0},{"$f":"G74-H74","v":0},"Філія1",{"$f":"SUMIFS(План!$F:$F,План!$B:$B,Word!$B74,План!$D:$D,Word!$D74,План!$E:$E,Word!$E74)","v":0},{"$f":"SUMIFS(Факт!$F:$F,Факт!$B:$B,Word!$B74,Факт!$D:$D,Word!$D74,Факт!$E:$E,Word!$E74)","v":0},{"$f":"IF(ISERR(N74/M74),0,N74/M74*100)","v":0},{"$f":"SUMIFS('За добу'!$F:$F,'За добу'!$B:$B,Word!$B74,'За добу'!$D:$D,Word!$D74,'За добу'!$E:$E,Word!$E74)","v":0},{"$f":"M74-N74","v":0},"Філія2",{"$f":"SUMIFS(План!$G:$G,План!$B:$B,Word!$B74,План!$D:$D,Word!$D74,План!$E:$E,Word!$E74)","v":0},{"$f":"SUMIFS(Факт!$G:$G,Факт!$B:$B,Word!$B74,Факт!$D:$D,Word!$D74,Факт!$E:$E,Word!$E74)","v":0},{"$f":"IF(ISERR(T74/S74),0,T74/S74*100)","v":0},{"$f":"SUMIFS('За добу'!$G:$G,'За добу'!$B:$B,Word!$B74,'За добу'!$D:$D,Word!$D74,'За добу'!$E:$E,Word!$E74)","v":0},{"$f":"S74-T74","v":0},"Філія3",{"$f":"SUMIFS(План!$H:$H,План!$B:$B,Word!$B74,План!$D:$D,Word!$D74,План!$E:$E,Word!$E74)","v":0},{"$f":"SUMIFS(Факт!$H:$H,Факт!$B:$B,Word!$B74,Факт!$D:$D,Word!$D74,Факт!$E:$E,Word!$E74)","v":0},{"$f":"IF(ISERR(Z74/Y74),0,Z74/Y74*100)","v":0},{"$f":"SUMIFS('За добу'!$H:$H,'За добу'!$B:$B,Word!$B74,'За добу'!$D:$D,Word!$D74,'За добу'!$E:$E,Word!$E74)","v":0},{"$f":"Y74-Z74","v":0},"Філія4",{"$f":"SUMIFS(План!$I:$I,План!$B:$B,Word!$B74,План!$D:$D,Word!$D74,План!$E:$E,Word!$E74)","v":0},{"$f":"SUMIFS(Факт!$I:$I,Факт!$B:$B,Word!$B74,Факт!$D:$D,Word!$D74,Факт!$E:$E,Word!$E74)","v":0},{"$f":"IF(ISERR(AF74/AE74),0,AF74/AE74*100)","v":0},{"$f":"SUMIFS('За добу'!$I:$I,'За добу'!$B:$B,Word!$B74,'За добу'!$D:$D,Word!$D74,'За добу'!$E:$E,Word!$E74)","v":0},{"$f":"AE74-AF74","v":0},"Філія5",{"$f":"SUMIFS(План!$J:$J,План!$B:$B,Word!$B74,План!$D:$D,Word!$D74,План!$E:$E,Word!$E74)","v":0},{"$f":"SUMIFS(Факт!$J:$J,Факт!$B:$B,Word!$B74,Факт!$D:$D,Word!$D74,Факт!$E:$E,Word!$E74)","v":0},{"$f":"IF(ISERR(AL74/AK74),0,AL74/AK74*100)","v":0},{"$f":"SUMIFS('За добу'!$J:$J,'За добу'!$B:$B,Word!$B74,'За добу'!$D:$D,Word!$D74,'За добу'!$E:$E,Word!$E74)","v":0},{"$f":"AK74-AL74","v":0}]
[null,{"$f":"'За добу'!$B75","v":0},null,{"$f":"'За добу'!$D75","v":0},{"$f":"'За добу'!$E75","v":0},"ФОРМУЛА",0,0,0,0,0,"Філія1",{"$f":"SUMIFS(План!$F:$F,План!$B:$B,Word!$B75,План!$D:$D,Word!$D75,План!$E:$E,Word!$E75)","v":0},{"$f":"SUMIFS(Факт!$F:$F,Факт!$B:$B,Word!$B75,Факт!$D:$D,Word!$D75,Факт!$E:$E,Word!$E75)","v":0},0,{"$f":"SUMIFS('За добу'!$F:$F,'За добу'!$B:$B,Word!$B75,'За добу'!$D:$D,Word!$D75,'За добу'!$E:$E,Word!$E75)","v":0},0,"Філія2",{"$f":"SUMIFS(План!$G:$G,План!$B:$B,Word!$B75,План!$D:$D,Word!$D75,План!$E:$E,Word!$E75)","v":0},{"$f":"SUMIFS(Факт!$G:$G,Факт!$B:$B,Word!$B75,Факт!$D:$D,Word!$D75,Факт!$E:$E,Word!$E75)","v":0},0,{"$f":"SUMIFS('За добу'!$G:$G,'За добу'!$B:$B,Word!$B75,'За добу'!$D:$D,Word!$D75,'За добу'!$E:$E,Word!$E75)","v":0},0,"Філія3",{"$f":"SUMIFS(План!$H:$H,План!$B:$B,Word!$B75,План!$D:$D,Word!$D75,План!$E:$E,Word!$E75)","v":0},{"$f":"SUMIFS(Факт!$H:$H,Факт!$B:$B,Word!$B75,Факт!$D:$D,Word!$D75,Факт!$E:$E,Word!$E75)","v":0},0,{"$f":"SUMIFS('За добу'!$H:$H,'За добу'!$B:$B,Word!$B75,'За добу'!$D:$D,Word!$D75,'За добу'!$E:$E,Word!$E75)","v":0},0,"Філія4",{"$f":"SUMIFS(План!$I:$I,План!$B:$B,Word!$B75,План!$D:$D,Word!$D75,План!$E:$E,Word!$E75)","v":0},{"$f":"SUMIFS(Факт!$I:$I,Факт!$B:$B,Word!$B75,Факт!$D:$D,Word!$D75,Факт!$E:$E,Word!$E75)","v":0},0,{"$f":"SUMIFS('За добу'!$I:$I,'За добу'!$B:$B,Word!$B75,'За добу'!$D:$D,Word!$D75,'За добу'!$E:$E,Word!$E75)","v":0},0,"Філія5",{"$f":"SUMIFS(План!$J:$J,План!$B:$B,Word!$B75,План!$D:$D,Word!$D75,План!$E:$E,Word!$E75)","v":0},{"$f":"SUMIFS(Факт!$J:$J,Факт!$B:$B,Word!$B75,Факт!$D:$D,Word!$D75,Факт!$E:$E,Word!$E75)","v":0},0,{"$f":"SUMIFS('За добу'!$J:$J,'За добу'!$B:$B,Word!$B75,'За добу'!$D:$D,Word!$D75,'За добу'!$E:$E,Word!$E75)","v":0},0]
[null,{"$f":"'За добу'!$B76","v":0},null,{"$f":"'За добу'!$D76","v":0},{"$f":"'За добу'!$E76","v":0},"ФОРМУЛА",0,0,0,0,0,"Філія1",{"$f":"SUMIFS(План!$F:$F,План!$B:$B,Word!$B76,План!$D:$D,Word!$D76,План!$E:$E,Word!$E76)","v":0},{"$f":"SUMIFS(Факт!$F:$F,Факт!$B:$B,Word!$B76,Факт!$D:$D,Word!$D76,Факт!$E:$E,Word!$E76)","v":0},0,{"$f":"SUMIFS('За добу'!$F:$F,'За добу'!$B:$B,Word!$B76,'За добу'!$D:$D,Word!$D76,'За добу'!$E:$E,Word!$E76)","v":0},0,"Філія2",{"$f":"SUMIFS(План!$G:$G,План!$B:$B,Word!$B76,План!$D:$D,Word!$D76,План!$E:$E,Word!$E76)","v":0},{"$f":"SUMIFS(Факт!$G:$G,Факт!$B:$B,Word!$B76,Факт!$D:$D,Word!$D76,Факт!$E:$E,Word!$E76)","v":0},0,{"$f":"SUMIFS('За добу'!$G:$G,'За добу'!$B:$B,Word!$B76,'За добу'!$D:$D,Word!$D76,'За добу'!$E:$E,Word!$E76)","v":0},0,"Філія3",{"$f":"SUMIFS(План!$H:$H,План!$B:$B,Word!$B76,План!$D:$D,Word!$D76,План!$E:$E,Word!$E76)","v":0},{"$f":"SUMIFS(Факт!$H:$H,Факт!$B:$B,Word!$B76,Факт!$D:$D,Word!$D76,Факт!$E:$E,Word!$E76)","v":0},0,{"$f":"SUMIFS('За добу'!$H:$H,'За добу'!$B:$B,Word!$B76,'За добу'!$D:$D,Word!$D76,'За добу'!$E:$E,Word!$E76)","v":0},0,"Філія4",{"$f":"SUMIFS(План!$I:$I,План!$B:$B,Word!$B76,План!$D:$D,Word!$D76,План!$E:$E,Word!$E76)","v":0},{"$f":"SUMIFS(Факт!$I:$I,Факт!$B:$B,Word!$B76,Факт!$D:$D,Word!$D76,Факт!$E:$E,Word!$E76)","v":0},0,{"$f":"SUMIFS('За добу'!$I:$I,'За добу'!$B:$B,Word!$B76,'За добу'!$D:$D,Word!$D76,'За добу'!$E:$E,Word!$E76)","v":0},0,"Філія5",{"$f":"SUMIFS(План!$J:$J,План!$B:$B,Word!$B76,План!$D:$D,Word!$D76,План!$E:$E,Word!$E76)","v":0},{"$f":"SUMIFS(Факт!$J:$J,Факт!$B:$B,Word!$B76,Факт!$D:$D,Word!$D76,Факт!$E:$E,Word!$E76)","v":0},0,{"$f":"SUMIFS('За добу'!$J:$J,'За добу'!$B:$B,Word!$B76,'За добу'!$D:$D,Word!$D76,'За добу'!$E:$E,Word!$E76)","v":0},0]
[null,{"$f":"'За добу'!$B77","v":0},null,{"$f":"'За добу'!$D77","v":0},{"$f":"'За добу'!$E77","v":0},"ФОРМУЛА",0,0,0,0,0,"Філія1",{"$f":"SUMIFS(План!$F:$F,План!$B:$B,Word!$B77,План!$D:$D,Word!$D77,План!$E:$E,Word!$E77)","v":0},{"$f":"SUMIFS(Факт!$F:$F,Факт!$B:$B,Word!$B77,Факт!$D:$D,Word!$D77,Факт!$E:$E,Word!$E77)","v":0},0,{"$f":"SUMIFS('За добу'!$F:$F,'За добу'!$B:$B,Word!$B77,'За добу'!$D:$D,Word!$D77,'За добу'!$E:$E,Word!$E77)","v":0},0,"Філія2",{"$f":"SUMIFS(План!$G:$G,План!$B:$B,Word!$B77,План!$D:$D,Word!$D77,План!$E:$E,Word!$E77)","v":0},{"$f":"SUMIFS(Факт!$G:$G,Факт!$B:$B,Word!$B77,Факт!$D:$D,Word!$D77,Факт!$E:$E,Word!$E77)","v":0},0,{"$f":"SUMIFS('За добу'!$G:$G,'За добу'!$B:$B,Word!$B77,'За добу'!$D:$D,Word!$D77,'За добу'!$E:$E,Word!$E77)","v":0},0,"Філія3",{"$f":"SUMIFS(План!$H:$H,План!$B:$B,Word!$B77,План!$D:$D,Word!$D77,План!$E:$E,Word!$E77)","v":0},{"$f":"SUMIFS(Факт!$H:$H,Факт!$B:$B,Word!$B77,Факт!$D:$D,Word!$D77,Факт!$E:$E,Word!$E77)","v":0},0,{"$f":"SUMIFS('За добу'!$H:$H,'За добу'!$B:$B,Word!$B77,'За добу'!$D:$D,Word!$D77,'За добу'!$E:$E,Word!$E77)","v":0},0,"Філія4",{"$f":"SUMIFS(План!$I:$I,План!$B:$B,Word!$B77,План!$D:$D,Word!$D77,План!$E:$E,Word!$E77)","v":0},{"$f":"SUMIFS(Факт!$I:$I,Факт!$B:$B,Word!$B77,Факт!$D:$D,Word!$D77,Факт!$E:$E,Word!$E77)","v":0},0,{"$f":"SUMIFS('За добу'!$I:$I,'За добу'!$B:$B,Word!$B77,'За добу'!$D:$D,Word!$D77,'За добу'!$E:$E,Word!$E77)","v":0},0,"Філія5",{"$f":"SUMIFS(План!$J:$J,План!$B:$B,Word!$B77,План!$D:$D,Word!$D77,План!$E:$E,Word!$E77)","v":0},{"$f":"SUMIFS(Факт!$J:$J,Факт!$B:$B,Word!$B77,Факт!$D:$D,Word!$D77,Факт!$E:$E,Word!$E77)","v":0},0,{"$f":"SUMIFS('За добу'!$J:$J,'За добу'!$B:$B,Word!$B77,'За добу'!$D:$D,Word!$D77,'За добу'!$E:$E,Word!$E77)","v":0},0]
[null,{"$f":"'За добу'!$B78","v":0},null,{"$f":"'За добу'!$D78","v":0},{"$f":"'За добу'!$E78","v":0},"ФОРМУЛА",0,0,0,0,0,"Філія1",{"$f":"SUMIFS(План!$F:$F,План!$B:$B,Word!$B78,План!$D:$D,Word!$D78,План!$E:$E,Word!$E78)","v":0},{"$f":"SUMIFS(Факт!$F:$F,Факт!$B:$B,Word!$B78,Факт!$D:$D,Word!$D78,Факт!$E:$E,Word!$E78)","v":0},0,{"$f":"SUMIFS('За добу'!$F:$F,'За добу'!$B:$B,Word!$B78,'За добу'!$D:$D,Word!$D78,'За добу'!$E:$E,Word!$E78)","v":0},0,"Філія2",{"$f":"SUMIFS(План!$G:$G,План!$B:$B,Word!$B78,План!$D:$D,Word!$D78,План!$E:$E,Word!$E78)","v":0},{"$f":"SUMIFS(Факт!$G:$G,Факт!$B:$B,Word!$B78,Факт!$D:$D,Word!$D78,Факт!$E:$E,Word!$E78)","v":0},0,{"$f":"SUMIFS('За добу'!$G:$G,'За добу'!$B:$B,Word!$B78,'За добу'!$D:$D,Word!$D78,'За добу'!$E:$E,Word!$E78)","v":0},0,"Філія3",{"$f":"SUMIFS(План!$H:$H,План!$B:$B,Word!$B78,План!$D:$D,Word!$D78,План!$E:$E,Word!$E78)","v":0},{"$f":"SUMIFS(Факт!$H:$H,Факт!$B:$B,Word!$B78,Факт!$D:$D,Word!$D78,Факт!$E:$E,Word!$E78)","v":0},0,{"$f":"SUMIFS('За добу'!$H:$H,'За добу'!$B:$B,Word!$B78,'За добу'!$D:$D,Word!$D78,'За добу'!$E:$E,Word!$E78)","v":0},0,"Філія4",{"$f":"SUMIFS(План!$I:$I,План!$B:$B,Word!$B78,План!$D:$D,Word!$D78,План!$E:$E,Word!$E78)","v":0},{"$f":"SUMIFS(Факт!$I:$I,Факт!$B:$B,Word!$B78,Факт!$D:$D,Word!$D78,Факт!$E:$E,Word!$E78)","v":0},0,{"$f":"SUMIFS('За добу'!$I:$I,'За добу'!$B:$B,Word!$B78,'За добу'!$D:$D,Word!$D78,'За добу'!$E:$E,Word!$E78)","v":0},0,"Філія5",{"$f":"SUMIFS(План!$J:$J,План!$B:$B,Word!$B78,План!$D:$D,Word!$D78,План!$E:$E,Word!$E78)","v":0},{"$f":"SUMIFS(Факт!$J:$J,Факт!$B:$B,Word!$B78,Факт!$D:$D,Word!$D78,Факт!$E:$E,Word!$E78)","v":0},0,{"$f":"SUMIFS('За добу'!$J:$J,'За добу'!$B:$B,Word!$B78,'За добу'!$D:$D,Word!$D78,'За добу'!$E:$E,Word!$E78)","v":0},0]
[]
[{"$f":"IF($B80<>\"\",$A79+1,\"\")","v":""}]
[""]

{"sheet":"План","index":2,"n_rows":131,"n_cols":12,"rows_kept":131,"cut":false,"hidden":false,"merged":[]}
["№","Робота",null,"Вид","Культура","Філія1","Філія2","Філія3","Філія4","Філія5",null,"Всього"]
[1,"Внесення КАСу",null,"Перше внесення по м.т.г.","б.т. 2018",null,245.1,129.41999999999999,null,null,null,374.52]
[2,"Внесення КАСу",null,"Перше внесення по м.т.г.","оз.пш. 2018",1002.1,1123.31,1642.09,1150.5,2778,null,7696]
[3,"Внесення КАСу",null,"Перше внесення по м.т.г.","оз.ріп. 2018",183,189.91,134.16,295,504,null,1306.07]
[4,"Внесення м/д (сульфат-магнію)",null,"Перше підживлення по м.т.г.","оз.пш. 2018",1002.1,1123.31,1642.09,1150.5,2778,null,7696]
[5,"Внесення м/д (сульфат-магнію)",null,"Перше підживлення по м.т.г.","оз.ріп. 2018",183,189.91,134.16,295,504,null,1306.07]
[6,"Внесення м/д (сульфат-магнію)",null,"Перше підживлення по м.т.г.","б.т. 2018",null,245.1,129.41999999999999,null,null,null,374.52]
[7,"Внесення (NРК 10-26-26)",null,"Внес. м.д. основне","к.з. 2018",1831.54,1865.75,1693.34,1055.1199999999999,3028,null,9473.75]
[8,0,null,0,0,null,null,null,null,null,null,0]
[9,0,null,0,0,null,null,null,null,null,null,0]
[10,0,null,0,0,null,null,null,null,null,null,0]
[11,0,null,0,0,null,null,null,null,null,null,0]
[12,0,null,0,0,null,null,null,null,null,null,0]
[13,0,null,0,0,null,null,null,null,null,null,0]
[14,0,null,0,0,null,null,null,null,null,null,0]
[15,0,null,0,0,null,null,null,null,null,null,0]
[16,0,null,0,0,null,null,null,null,null,null,0]
[17,0,null,0,0,null,null,null,null,null,null,0]
[18,0,null,0,0,null,null,null,null,null,null,0]
[19,0,null,0,0,null,null,null,null,null,null,0]
[20,0,null,0,0,null,null,null,null,null,null,0]
[21,0,null,0,0,null,null,null,null,null,null,0]
[22,0,null,0,0,null,null,null,null,null,null,0]
[23,0,null,0,0,null,null,null,null,null,null,0]
[24,0,null,0,0,null,null,null,null,null,null,0]
[25,0,null,0,0,null,null,null,null,null,null,0]
[26,0,null,0,0,null,null,null,null,null,null,0]
[27,0,null,0,0,null,null,null,null,null,null,0]
[28,0,null,0,0,null,null,null,null,null,null,0]
[29,0,null,0,0,null,null,null,null,null,null,0]
[30,0,null,0,0,null,null,null,null,null,null,0]
[31,0,null,0,0,null,null,null,null,null,null,0]
[32,0,null,0,0,null,null,null,null,null,null,0]
[33,0,null,0,0,null,null,null,null,null,null,0]
[34,0,null,0,0,null,null,null,null,null,null,0]
[35,0,null,0,0,null,null,null,null,null,null,0]
[36,0,null,0,0,null,null,null,null,null,null,0]
[37,0,null,0,0,null,null,null,null,null,null,0]
[38,0,null,0,0,null,null,null,null,null,null,0]
[39,0,null,0,0,null,null,null,null,null,null,0]
[40,0,null,0,0,null,null,null,null,null,null,0]
[41,0,null,0,0,null,null,null,null,null,null,0]
[42,0,null,0,0,null,null,null,null,null,null,0]
[43,0,null,0,0,null,null,null,null,null,null,0]
[44,0,null,0,0,null,null,null,null,null,null,0]
[45,0,null,0,0,null,null,null,null,null,null,0]
[46,0,null,0,0,null,null,null,null,null,null,0]
[47,0,null,0,0,null,null,null,null,null,null,0]
[48,0,null,0,0,null,null,null,null,null,null,0]
[49,0,null,0,0,null,null,null,null,null,null,0]
[50,0,null,0,0,null,null,null,null,null,null,0]
[51,0,null,0,0,null,null,null,null,null,null,0]
[52,0,null,0,0,null,null,null,null,null,null,0]
[53,0,null,0,0,null,null,null,null,null,null,0]
[54,0,null,0,0,null,null,null,null,null,null,0]
[55,0,null,0,0,null,null,null,null,null,null,0]
[56,0,null,0,0,null,null,null,null,null,null,0]
[57,0,null,0,0,null,null,null,null,null,null,0]
[58,0,null,0,0,null,null,null,null,null,null,0]
[59,0,null,0,0,null,null,null,null,null,null,0]
[60,0,null,0,0,null,null,null,null,null,null,0]
[61,0,null,0,0,null,null,null,null,null,null,0]
[62,0,null,0,0,null,null,null,null,null,null,0]
[63,0,null,0,0,null,null,null,null,null,null,0]
[64,0,null,0,0,null,null,null,null,null,null,0]
[65,0,null,0,0,null,null,null,null,null,null,0]
[66,0,null,0,0,null,null,null,null,null,null,0]
[67,0,null,0,0,null,null,null,null,null,null,0]
[68,0,null,0,0,null,null,null,null,null,null,0]
[69,0,null,0,0,null,null,null,null,null,null,0]
[70,0,null,0,0,null,null,null,null,null,null,0]
[71,0,null,0,0,null,null,null,null,null,null,0]
[72,0,null,0,0,null,null,null,null,null,null,0]
[73,0,null,0,0,null,null,null,null,null,null,0]
[74,0,null,0,0,null,null,null,null,null,null,0]
[75,0,null,0,0,null,null,null,null,null,null,0]
[76,0,null,0,0,null,null,null,null,null,null,0]
[77,0,null,0,0,null,null,null,null,null,null,0]
[78,0,null,0,0,null,null,null,null,null,null,0]
[79,0,null,0,0,null,null,null,null,null,null,0]
[80,0,null,0,0,null,null,null,null,null,null,0]
[81,0,null,0,0,null,null,null,null,null,null,0]
[82,0,null,0,0,null,null,null,null,null,null,0]
[83,0,null,0,0,null,null,null,null,null,null,0]
[84,0,null,0,0,null,null,null,null,null,null,0]
[85,0,null,0,0,null,null,null,null,null,null,0]
[86,0,null,0,0,null,null,null,null,null,null,0]
[87,0,null,0,0,null,null,null,null,null,null,0]
[88,0,null,0,0,null,null,null,null,null,null,0]
[89,0,null,0,0,null,null,null,null,null,null,0]
[90,0,null,0,0,null,null,null,null,null,null,0]
[91,0,null,0,0,null,null,null,null,null,null,0]
[92,0,null,0,0,null,null,null,null,null,null,0]
[93,0,null,0,0,null,null,null,null,null,null,0]
[94,0,null,0,0,null,null,null,null,null,null,0]
[95,0,null,0,0,null,null,null,null,null,null,0]
[96,0,null,0,0,null,null,null,null,null,null,0]
[97,0,null,0,0,null,null,null,null,null,null,0]
[98,0,null,0,0,null,null,null,null,null,null,0]
[99,0,null,0,0,null,null,null,null,null,null,0]
[""]
[""]
[""]
[""]
[""]
[""]
[""]
[""]
[""]
[""]
[""]
[""]
[""]
[""]
[""]
[""]
[""]
[""]
[""]
[""]
[""]
[""]
[""]
[""]
[""]
[""]
[""]
[""]
[""]
[""]
[""]

{"sheet":"Факт","index":3,"n_rows":100,"n_cols":15,"rows_kept":100,"cut":false,"hidden":false,"merged":[[1,13,2,14]]}
["№","Робота",null,"Вид","Філія1","Філія2","Філія3","Філія4","Філія5","Всього",null,"Всього =",14906.449999999999,null,14906.449999999999]
[1,"Внесення КАСу",null,"Перше внесення по м.т.г.","б.т. 2018",0,245.10000000000002,129.41999999999999,0,0,null,"Перевірка",13777.65,"Помилка"]
[2,"Внесення КАСу",null,"Перше внесення по м.т.г.","оз.пш. 2018",1008.2,1125.1099999999999,1641.9699999999998,1117.6000000000001,478,null,"2018-04-02",1128.7999999999993]
[3,"Внесення КАСу",null,"Перше внесення по м.т.г.","оз.ріп. 2018",183,189.91,133.63999999999999,293.5,0]
[4,"Внесення м/д (сульфат-магнію)",null,"Перше підживлення по м.т.г.","оз.пш. 2018",974.09999999999991,1123.31,1641.5700000000002,926,384]
[5,"Внесення м/д (сульфат-магнію)",null,"Перше підживлення по м.т.г.","оз.ріп. 2018",125,189.91000000000003,134.16,295,154]
[6,"Внесення м/д (сульфат-магнію)",null,"Перше підживлення по м.т.г.","б.т. 2018",0,244.95,127.09,0,0]
[7,"Внесення (NРК 10-26-26)",null,"Внес. м.д. основне","к.з. 2018",64,876.98,1100.9299999999998,0,0]
[8,0,null,0,0,0,0,0,0,0]
[9,0,null,0,0,0,0,0,0,0]
[10,0,null,0,0,0,0,0,0,0]
[11,0,null,0,0,0,0,0,0,0]
[12,0,null,0,0,0,0,0,0,0]
[13,0,null,0,0,0,0,0,0,0]
[14,0,null,0,0,0,0,0,0,0]
[15,0,null,0,0,0,0,0,0,0]
[16,0,null,0,0,0,0,0,0,0]
[17,0,null,0,0,0,0,0,0,0]
[18,0,null,0,0,0,0,0,0,0]
[19,0,null,0,0,0,0,0,0,0]
[20,0,null,0,0,0,0,0,0,0]
[21,0,null,0,0,0,0,0,0,0]
[22,0,null,0,0,0,0,0,0,0]
[23,0,null,0,0,0,0,0,0,0]
[24,0,null,0,0,0,0,0,0,0]
[25,0,null,0,0,0,0,0,0,0]
[26,0,null,0,0,0,0,0,0,0]
[27,0,null,0,0,0,0,0,0,0]
[28,0,null,0,0,0,0,0,0,0]
[29,0,null,0,0,0,0,0,0,0]
[30,0,null,0,0,0,0,0,0,0]
[31,0,null,0,0,0,0,0,0,0]
[32,0,null,0,0,0,0,0,0,0]
[33,0,null,0,0,0,0,0,0,0]
[34,0,null,0,0,0,0,0,0,0]
[35,0,null,0,0,0,0,0,0,0]
[36,0,null,0,0,0,0,0,0,0]
[37,0,null,0,0,0,0,0,0,0]
[38,0,null,0,0,0,0,0,0,0]
[39,0,null,0,0,0,0,0,0,0]
[40,0,null,0,0,0,0,0,0,0]
[41,0,null,0,0,0,0,0,0,0]
[42,0,null,0,0,0,0,0,0,0]
[43,0,null,0,0,0,0,0,0,0]
[44,0,null,0,0,0,0,0,0,0]
[45,0,null,0,0,0,0,0,0,0]
[46,0,null,0,0,0,0,0,0,0]
[47,0,null,0,0,0,0,0,0,0]
[48,0,null,0,0,0,0,0,0,0]
[49,0,null,0,0,0,0,0,0,0]
[50,0,null,0,0,0,0,0,0,0]
[51,0,null,0,0,0,0,0,0,0]
[52,0,null,0,0,0,0,0,0,0]
[53,0,null,0,0,0,0,0,0,0]
[54,0,null,0,0,0,0,0,0,0]
[55,0,null,0,0,0,0,0,0,0]
[56,0,null,0,0,0,0,0,0,0]
[57,0,null,0,0,0,0,0,0,0]
[58,0,null,0,0,0,0,0,0,0]
[59,0,null,0,0,0,0,0,0,0]
[60,0,null,0,0,0,0,0,0,0]
[61,0,null,0,0,0,0,0,0,0]
[62,0,null,0,0,0,0,0,0,0]
[63,0,null,0,0,0,0,0,0,0]
[64,0,null,0,0,0,0,0,0,0]
[65,0,null,0,0,0,0,0,0,0]
[66,0,null,0,0,0,0,0,0,0]
[67,0,null,0,0,0,0,0,0,0]
[68,0,null,0,0,0,0,0,0,0]
[69,0,null,0,0,0,0,0,0,0]
[70,0,null,0,0,0,0,0,0,0]
[71,0,null,0,0,0,0,0,0,0]
[72,0,null,0,0,0,0,0,0,0]
[73,0,null,0,0,0,0,0,0,0]
[74,0,null,0,0,0,0,0,0,0]
[75,0,null,0,0,0,0,0,0,0]
[76,0,null,0,0,0,0,0,0,0]
[77,0,null,0,0,0,0,0,0,0]
[78,0,null,0,0,0,0,0,0,0]
[79,0,null,0,0,0,0,0,0,0]
[80,0,null,0,0,0,0,0,0,0]
[81,0,null,0,0,0,0,0,0,0]
[82,0,null,0,0,0,0,0,0,0]
[83,0,null,0,0,0,0,0,0,0]
[84,0,null,0,0,0,0,0,0,0]
[85,0,null,0,0,0,0,0,0,0]
[86,0,null,0,0,0,0,0,0,0]
[87,0,null,0,0,0,0,0,0,0]
[88,0,null,0,0,0,0,0,0,0]
[89,0,null,0,0,0,0,0,0,0]
[90,0,null,0,0,0,0,0,0,0]
[91,0,null,0,0,0,0,0,0,0]
[92,0,null,0,0,0,0,0,0,0]
[93,0,null,0,0,0,0,0,0,0]
[94,0,null,0,0,0,0,0,0,0]
[95,0,null,0,0,0,0,0,0,0]
[96,0,null,0,0,0,0,0,0,0]
[97,0,null,0,0,0,0,0,0,0]
[98,0,null,0,0,0,0,0,0,0]
[99,0,null,0,0,0,0,0,0,0]

{"sheet":"За добу","index":4,"n_rows":100,"n_cols":15,"rows_kept":100,"cut":false,"hidden":false,"merged":[]}
["№","Робота","2018-04-02","Вид","Культура","Філія1","Філія2","Філія3","Філія4","Філія5",null,"Всього",851,"-","Перевірка з опер звітом"]
[1,"Внесення КАСу",null,"Перше внесення по м.т.г.","б.т. 2018",0,0,0,0,0]
[2,"Внесення КАСу",null,"Перше внесення по м.т.г.","оз.пш. 2018",9,0,0,0,304]
[3,"Внесення КАСу",null,"Перше внесення по м.т.г.","оз.ріп. 2018",0,0,0,0,0]
[4,"Внесення м/д (сульфат-магнію)",null,"Перше підживлення по м.т.г.","оз.пш. 2018",0,0,0,0,384]
[5,"Внесення м/д (сульфат-магнію)",null,"Перше підживлення по м.т.г.","оз.ріп. 2018",0,0,0,0,154]
[6,"Внесення м/д (сульфат-магнію)",null,"Перше підживлення по м.т.г.","б.т. 2018",0,0,0,0,0,null,null,null,"-","Сюди копіювати нові роботи (І ТІЛЬКИ СЮДИ)"]
[7,"Внесення (NРК 10-26-26)",null,"Внес. м.д. основне","к.з. 2018",0,0,0,0,0]
["",null,null,null,null,0,0,0,0,0]
["",null,null,null,null,0,0,0,0,0]
["",null,null,null,null,0,0,0,0,0]
["",null,null,null,null,0,0,0,0,0]
["",null,null,null,null,0,0,0,0,0]
["",null,null,null,null,0,0,0,0,0]
["",null,null,null,null,0,0,0,0,0]
["",null,null,null,null,0,0,0,0,0]
["",null,null,null,null,0,0,0,0,0]
["",null,null,null,null,0,0,0,0,0]
["",null,null,null,null,0,0,0,0,0]
["",null,null,null,null,0,0,0,0,0]
["",null,null,null,null,0,0,0,0,0]
["",null,null,null,null,0,0,0,0,0]
["",null,null,null,null,0,0,0,0,0]
["",null,null,null,null,0,0,0,0,0]
["",null,null,null,null,0,0,0,0,0]
["",null,null,null,null,0,0,0,0,0]
["",null,null,null,null,0,0,0,0,0]
["",null,null,null,null,0,0,0,0,0]
["",null,null,null,null,0,0,0,0,0]
["",null,null,null,null,0,0,0,0,0]
["",null,null,null,null,0,0,0,0,0]
["",null,null,null,null,0,0,0,0,0]
["",null,null,null,null,0,0,0,0,0]
["",null,null,null,null,0,0,0,0,0]
["",null,null,null,null,0,0,0,0,0]
["",null,null,null,null,0,0,0,0,0]
["",null,null,null,null,0,0,0,0,0]
["",null,null,null,null,0,0,0,0,0]
["",null,null,null,null,0,0,0,0,0]
["",null,null,null,null,0,0,0,0,0]
["",null,null,null,null,0,0,0,0,0]
["",null,null,null,null,0,0,0,0,0]
["",null,null,null,null,0,0,0,0,0]
["",null,null,null,null,0,0,0,0,0]
["",null,null,null,null,0,0,0,0,0]
["",null,null,null,null,0,0,0,0,0]
["",null,null,null,null,0,0,0,0,0]
["",null,null,null,null,0,0,0,0,0]
["",null,null,null,null,0,0,0,0,0]
["",null,null,null,null,0,0,0,0,0]
["",null,null,null,null,0,0,0,0,0]
["",null,null,null,null,0,0,0,0,0]
["",null,null,null,null,0,0,0,0,0]
["",null,null,null,null,0,0,0,0,0]
["",null,null,null,null,0,0,0,0,0]
["",null,null,null,null,0,0,0,0,0]
["",null,null,null,null,0,0,0,0,0]
["",null,null,null,null,0,0,0,0,0]
["",null,null,null,null,0,0,0,0,0]
["",null,null,null,null,0,0,0,0,0]
["",null,null,null,null,0,0,0,0,0]
["",null,null,null,null,0,0,0,0,0]
["",null,null,null,null,0,0,0,0,0]
["",null,null,null,null,0,0,0,0,0]
["",null,null,null,null,0,0,0,0,0]
["",null,null,null,null,0,0,0,0,0]
["",null,null,null,null,0,0,0,0,0]
["",null,null,null,null,0,0,0,0,0]
["",null,null,null,null,0,0,0,0,0]
["",null,null,null,null,0,0,0,0,0]
["",null,null,null,null,0,0,0,0,0]
["",null,null,null,null,0,0,0,0,0]
["",null,null,null,null,0,0,0,0,0]
["",null,null,null,null,0,0,0,0,0]
["",null,null,null,null,0,0,0,0,0]
["",null,null,null,null,0,0,0,0,0]
["",null,null,null,null,0,0,0,0,0]
["",null,null,null,null,0,0,0,0,0]
["",null,null,null,null,0,0,0,0,0]
["",null,null,null,null,0,0,0,0,0]
["",null,null,null,null,0,0,0,0,0]
["",null,null,null,null,0,0,0,0,0]
["",null,null,null,null,0,0,0,0,0]
["",null,null,null,null,0,0,0,0,0]
["",null,null,null,null,0,0,0,0,0]
["",null,null,null,null,0,0,0,0,0]
["",null,null,null,null,0,0,0,0,0]
["",null,null,null,null,0,0,0,0,0]
["",null,null,null,null,0,0,0,0,0]
["",null,null,null,null,0,0,0,0,0]
["",null,null,null,null,0,0,0,0,0]
["",null,null,null,null,0,0,0,0,0]
["",null,null,null,null,0,0,0,0,0]
["",null,null,null,null,0,0,0,0,0]
["",null,null,null,null,0,0,0,0,0]
["",null,null,null,null,0,0,0,0,0]
["",null,null,null,null,0,0,0,0,0]
["",null,null,null,null,0,0,0,0,0]
["",null,null,null,null,0,0,0,0,0]
["",null,null,null,null,0,0,0,0,0]