{"text_format":"1","workbook":"xlsx","n_sheets":4,"sheets":["График","Лист2","Настройки","шаблон"],"not_rendered":{"charts":0,"images":0,"macros":1,"external_links":0,"defined_names":3,"comments":0,"pivot_tables":0},"unopened":[],"bounds":{"document_bytes":16777216,"sheet_cells":100000,"rows_first":2000,"rows_last":500,"rows_between":2000,"halvings":0,"cell_chars":16384,"cell_head_chars":4096},"cells_cut":0,"cells_raw":0,"read":"whole","date_system":"1900"}

{"sheet":"График","index":0,"n_rows":31,"n_cols":35,"rows_kept":31,"cut":false,"hidden":false,"merged":[[1,33,1,34],[1,8,1,11],[1,12,1,15],[1,17,1,20],[2,1,3,1],[2,2,3,2],[2,3,3,3],[29,1,29,2],[30,1,30,2],[32,27,32,28],[32,29,32,31],[33,1,33,2],[33,5,33,7],[33,8,33,10],[33,11,33,13],[33,14,33,16],[33,17,33,19],[33,23,33,26],[33,27,33,28],[32,8,32,10],[32,11,32,13],[32,14,32,16],[32,17,32,19],[32,23,32,26],[33,29,33,31],[34,23,34,26],[34,27,34,28],[34,29,34,31],[34,1,34,2],[34,5,34,7],[34,8,34,10],[34,14,34,16],[34,17,34,19],[37,5,37,7],[37,8,37,10],[37,28,37,31],[35,1,35,2],[35,5,35,7],[35,8,35,10],[35,13,35,15],[35,23,35,26],[35,27,35,28],[35,29,35,31],[36,1,36,10],[36,14,36,16],[36,18,36,20],[38,5,38,7],[38,8,38,10],[38,11,38,13],[38,20,38,22],[39,5,39,7],[39,8,39,10],[39,11,39,13],[39,20,39,22],[40,11,40,16],[40,17,40,21],[40,22,40,25],[41,12,41,16],[41,18,41,21],[41,23,41,26],[42,12,42,16],[42,18,42,21],[42,23,42,26],[43,18,43,21],[43,23,43,26]]}
[]
["График Февраль 2018 г. Москва Быково РЦ",null,null,null,null,null,null,null,"График работы",null,null,null,"Апрель",null,null,null,null,2018]
[null,"Ф.И.О.","должность","смен",{"$f":"IFERROR(WEEKDAY(CONCATENATE(E4,\" \",$M$2,\" \",$R$2)),\"-\")","v":"1900-01-01"},{"$f":"IFERROR(WEEKDAY(CONCATENATE(F4,\" \",$M$2,\" \",$R$2)),\"-\")","v":"1900-01-02"},"1900-01-03","1900-01-04","1900-01-05","1900-01-06","1900-01-07","1900-01-01","1900-01-02","1900-01-03","1900-01-04","1900-01-05","1900-01-06","1900-01-07","1900-01-01","1900-01-02","1900-01-03","1900-01-04","1900-01-05","1900-01-06","1900-01-07","1900-01-01","1900-01-02","1900-01-03","1900-01-04","1900-01-05","1900-01-06","1900-01-07","1900-01-01","1900-01-02","-"]
[null,null,null,null,"1",2,3,4,5,6,7,8,9,10,11,12,13,14,15,16,17,18,19,20,21,22,23,24,25,26,27,28,29,30,31]
[null,"Шартдинова Е","ст.мен",{"$f":"COUNTIF(E5:AH5,\"8-17\")+COUNTIF(E5:AH5,\"7-16\")+COUNTIF(E5:AH5,\"12-21\")+COUNTIF(E5:AH5,\"22-7\")+COUNTIF(E5:AH5,\"15-22\")+COUNTIF(E5:AH5,\"21-8\")+COUNTIF(E5:AH5,\"21-9\")","v":21},null,"8-17","8-17","8-17","8-17","8-17",null,null,"8-17","8-17","8-17","8-17","8-17",null,null,"8-17","8-17","8-17","8-17","8-17",null,null,"8-17","8-17","8-17","8-17","8-17",null,null,"8-17"]
[null,"Крылов Е","ст.опер",{"$f":"COUNTIF(E6:AH6,\"8-17\")+COUNTIF(E6:AH6,\"7-16\")+COUNTIF(E6:AH6,\"12-21\")+COUNTIF(E6:AH6,\"22-7\")+COUNTIF(E6:AH6,\"15-22\")+COUNTIF(E6:AH6,\"21-8\")+COUNTIF(E6:AH6,\"21-9\")","v":21},"От","22-7","22-7","22-7",null,null,"12-21","12-21","22-7","22-7","22-7",null,null,"12-21","12-21","22-7","22-7","22-7",null,null,"12-21","12-21","22-7","22-7","22-7",null,null,"12-21","12-21","22-7"]
[null,"Тетерин А.","ст.опер",{"$f":"COUNTIF(E7:AH7,\"8-17\")+COUNTIF(E7:AH7,\"7-16\")+COUNTIF(E7:AH7,\"12-21\")+COUNTIF(E7:AH7,\"22-7\")+COUNTIF(E7:AH7,\"15-22\")+COUNTIF(E7:AH7,\"21-8\")+COUNTIF(E7:AH7,\"21-9\")","v":21},null,"7-16","7-16","7-16","12-21","12-21",null,null,"7-16","7-16","7-16","12-21","12-21",null,null,"7-16","7-16","7-16","12-21","12-21",null,null,"7-16","7-16","7-16","12-21","12-21",null,null,"7-16"]
[null,"Базаева Ю.","ст.опер",{"$f":"COUNTIF(E8:AH8,\"8-17\")+COUNTIF(E8:AH8,\"7-16\")+COUNTIF(E8:AH8,\"12-21\")+COUNTIF(E8:AH8,\"22-7\")+COUNTIF(E8:AH8,\"15-22\")+COUNTIF(E8:AH8,\"21-8\")+COUNTIF(E8:AH8,\"21-9\")","v":17},"12-21","15-22","15-22","15-22","21-8","21-9",null,null,"15-22","15-22","15-22","21-8","21-9",null,null,"15-22","15-22","15-22","21-8","21-9",null,null,"От","От","От","От","От",null,null,"15-22"]
[]
[null,"Адъютантова Д.","калининград",{"$f":"COUNTIF(E10:AH10,\"20-8\")+COUNTIF(E10:AH10,\"8-20\")+COUNTIF(E10:AH10,\"17-5\")","v":10},"8-20","8-20","8-20",null,null,"8-20","8-20","8-20","8-20?","8-20",null,"От","От",null,null,"От","От","От","От","От",null,null,"От","От","От","8-20","8-20","8-20"]
[null,"Коровкин С.","калининград",{"$f":"COUNTIF(E11:AH11,\"20-8\")+COUNTIF(E11:AH11,\"8-20\")+COUNTIF(E11:AH11,\"17-5\")","v":18},"8-20",null,"8-20",null,"8-20",null,null,"8-20","20-8",null,"8-20","8-20","8-20","8-20","8-17",null,"8-20","8-20","8-20","8-20","8-20","8-17",null,"8-20","8-20",null,null,null,"8-20","8-20"]
[]
[null,"Добаева Д.","оператор",{"$f":"COUNTIF(E13:AH13,\"20-8\")+COUNTIF(E13:AH13,\"8-20\")+COUNTIF(E13:AH13,\"17-5\")+COUNTIF(E13:AH13,\"8-17\")+COUNTIF(E13:AH13,\"9-18\")","v":23},null,"9-18","9-18","9-18","9-18","9-18","8-20",null,"9-18","9-18","9-18","9-18","9-18","8-20",null,"9-18","9-18","9-18","9-18","9-18",null,null,"9-18","9-18","9-18","9-18","9-18",null,null,"9-18"]
[]
[null,"Зеленяк А.","оператор",{"$f":"COUNTIF(E15:AH15,\"20-8\")+COUNTIF(E15:AH15,\"8-20\")+COUNTIF(E15:AH15,\"17-5\")","v":9},"8-20","8-20",null,"*","8-20","*","8-20","8-20","*",null,"8-20","8-20","8-20","8-20",null,null,null,null,null,null,null,null,"*"]
[null,"Лапоников А.","оператор",{"$f":"COUNTIF(E16:AH16,\"20-8\")+COUNTIF(E16:AH16,\"8-20\")+COUNTIF(E16:AH16,\"17-5\")","v":9},"8-20",null,null,"8-20","8-20","8-20","*","*","*","8-20","8-20","8-20","8-20",null,"8-20"]
[null,"Елахов С.","оператор",{"$f":"COUNTIF(E17:AH17,\"20-8\")+COUNTIF(E17:AH17,\"8-20\")+COUNTIF(E17:AH17,\"17-5\")","v":8},null,null,"8-20","8-20","8-20","8-20",null,null,"8-20","8-20","8-20","8-20","*","*","*"]
[]
[null,"Панасовский О.","оператор",{"$f":"COUNTIF(E19:AH19,\"20-8\")+COUNTIF(E19:AH19,\"8-20\")+COUNTIF(E19:AH19,\"17-5\")","v":10},"20-8",null,null,"20-8","20-8","20-8","20-8",null,null,"20-8","20-8","20-8",null,"20-8","20-8"]
[null,"Волков Я.","оператор",{"$f":"COUNTIF(E20:AH20,\"20-8\")+COUNTIF(E20:AH20,\"8-20\")+COUNTIF(E20:AH20,\"17-5\")","v":11},"20-8","20-8","20-8",null,"20-8","20-8","20-8",null,"20-8","20-8",null,"20-8","20-8","20-8"]
[null,"Генералов Р.","оператор",{"$f":"COUNTIF(E21:AH21,\"20-8\")+COUNTIF(E21:AH21,\"8-20\")+COUNTIF(E21:AH21,\"17-5\")+COUNTIF(E21:AH21,\"В\")","v":10},null,"20-8","20-8","20-8",null,"20-8","20-8","20-8","20-8",null,"20-8","20-8","20-8"]
[null,"Буцков В","оператор",{"$f":"COUNTIF(E22:AH22,\"20-8\")+COUNTIF(E22:AH22,\"8-20\")+COUNTIF(E22:AH22,\"17-5\")","v":9},null,"17-5","20-8","20-8",null,null,"8-20","8-20","20-8",null,null,"17-5","20-8","20-8"]
[null,"Добаева А.","оператор",10,"*","20-8","20-8",null,"20-8","20-8","20-8",null,null,"20-8","20-8",null,"20-8","20-8","20-8"]
[null,"Виноградов Е.","оператор",10,null,"20-8","20-8","20-8",null,"8-20","8-20","20-8",null,"20-8","20-8",null,null,"8-20","8-20"]
[null,"Шерстнева И.","оператор",0,null,"От","От","От","От","От",null,null,"От","От","От","От","От"]
[null,"Балашов Л.","оператор",9,null,null,"8-20","8-20","20-8",null,"20-8","20-8",null,null,"20-8","20-8","20-8",null,"20-8"]
[null,"Чекменева А.","оператор",9,"20-8",null,null,"20-8","20-8","20-8",null,null,"17-5","20-8",null,null,"8-20","8-20","8-20"]
[null,"Черемнов Р.","стажер",6,null,null,"8-17","8-17","8-20","8-20",null,null,null,"8-20","8-20","8-20",null,"20-8"]
[null,"Денисенкова Т.","стажер",8,null,"20-8","20-8",null,"20-8","20-8",null,null,"20-8","20-8",null,"20-8","20-8"]
[null,"день",null,{"$f":"SUM(E30:AI30)","v":44},{"$f":"COUNTIF(E15:E29,\"8-20\")+SumByColor(E11:E13,Настройки!$A$1)","v":2},{"$f":"COUNTIF(F15:F29,\"8-20\")+SumByColor(F11:F13,Настройки!$A$1)","v":1},{"$f":"COUNTIF(G15:G29,\"8-20\")+SumByColor(G11:G13,Настройки!$A$1)","v":2},{"$f":"COUNTIF(H15:H29,\"8-20\")+SumByColor(H11:H13,Настройки!$A$1)","v":3},{"$f":"COUNTIF(I15:I29,\"8-20\")+SumByColor(I11:I13,Настройки!$A$1)","v":4},{"$f":"COUNTIF(J15:J29,\"8-20\")+SumByColor(J11:J13,Настройки!$A$1)","v":4},{"$f":"COUNTIF(K15:K29,\"8-20\")+SumByColor(K11:K13,Настройки!$A$1)","v":4},{"$f":"COUNTIF(L15:L29,\"8-20\")+SumByColor(L11:L13,Настройки!$A$1)","v":2},{"$f":"COUNTIF(M15:M29,\"8-20\")+SumByColor(M11:M13,Настройки!$A$1)","v":1},{"$f":"COUNTIF(N15:N29,\"8-20\")+SumByColor(N11:N13,Настройки!$A$1)","v":3},{"$f":"COUNTIF(O15:O29,\"8-20\")+SumByColor(O11:O13,Настройки!$A$1)","v":4},{"$f":"COUNTIF(P15:P29,\"8-20\")+SumByColor(P11:P13,Настройки!$A$1)","v":4},{"$f":"COUNTIF(Q15:Q29,\"8-20\")+SumByColor(Q11:Q13,Настройки!$A$1)","v":3},{"$f":"COUNTIF(R15:R29,\"8-20\")+SumByColor(R11:R13,Настройки!$A$1)","v":4},{"$f":"COUNTIF(S15:S29,\"8-20\")+SumByColor(S11:S13,Настройки!$A$1)","v":3},{"$f":"COUNTIF(T15:T29,\"8-20\")+SumByColor(T11:T13,Настройки!$A$1)","v":0},{"$f":"COUNTIF(U15:U29,\"8-20\")+SumByColor(U11:U13,Настройки!$A$1)","v":0},{"$f":"COUNTIF(V15:V29,\"8-20\")+SumByColor(V11:V13,Настройки!$A$1)","v":0},{"$f":"COUNTIF(W15:W29,\"8-20\")+SumByColor(W11:W13,Настройки!$A$1)","v":0},{"$f":"COUNTIF(X15:X29,\"8-20\")+SumByColor(X11:X13,Настройки!$A$1)","v":0},{"$f":"COUNTIF(Y15:Y29,\"8-20\")+SumByColor(Y11:Y13,Настройки!$A$1)","v":0},{"$f":"COUNTIF(Z15:Z29,\"8-20\")+SumByColor(Z11:Z13,Настройки!$A$1)","v":0},{"$f":"COUNTIF(AA15:AA29,\"8-20\")+SumByColor(AA11:AA13,Настройки!$A$1)","v":0},{"$f":"COUNTIF(AB15:AB29,\"8-20\")+SumByColor(AB11:AB13,Настройки!$A$1)","v":0},{"$f":"COUNTIF(AC15:AC29,\"8-20\")+SumByColor(AC11:AC13,Настройки!$A$1)","v":0},{"$f":"COUNTIF(AD15:AD29,\"8-20\")+SumByColor(AD11:AD13,Настройки!$A$1)","v":0},{"$f":"COUNTIF(AE15:AE29,\"8-20\")+SumByColor(AE11:AE13,Настройки!$A$1)","v":0},{"$f":"COUNTIF(AF15:AF29,\"8-20\")+SumByColor(AF11:AF13,Настройки!$A$1)","v":0},{"$f":"COUNTIF(AG15:AG29,\"8-20\")+SumByColor(AG11:AG13,Настройки!$A$1)","v":0},{"$f":"COUNTIF(AH15:AH29,\"8-20\")+SumByColor(AH11:AH13,Настройки!$A$1)","v":0},{"$f":"COUNTIF(AI15:AI29,\"8-20\")+SumByColor(AI11:AI13,Настройки!$A$1)","v":0}]
[null,"ночь",null,{"$f":"SUM(E31:AH31)","v":77},{"$f":"COUNTIF(E11:E30,\"20-8\")+COUNTIF(E16:E30,\"17-5\")","v":3},6,6,5,6,6,5,3,6,6,5,6,6,5,3,0,0,0,0,0,0,0,0,0,0,0,0,0,0,0,0]

{"sheet":"Лист2","index":1,"n_rows":0,"n_cols":0,"rows_kept":0,"cut":false,"hidden":true,"merged":[]}

{"sheet":"Настройки","index":2,"n_rows":12,"n_cols":3,"rows_kept":12,"cut":false,"hidden":false,"merged":[]}
[null,"Январь",2018]
[null,"Февраль",2019]
[null,"Март",2020]
[null,"Апрель",2021]
[null,"Май",2022]
[null,"Июнь",2023]
[null,"Июль",2024]
[null,"Август",2025]
[null,"Сентябрь",2026]
[null,"Октябрь",2027]
[null,"Ноябрь",2028]
[null,"Декабрь",2029]

{"sheet":"шаблон","index":3,"n_rows":27,"n_cols":34,"rows_kept":27,"cut":false,"hidden":false,"merged":[[4,3,4,33],[7,3,7,33],[9,3,9,33],[25,0,25,1],[26,0,26,1]]}
["Шартдинова Е","ст.мен",{"$f":"COUNTIF(D1:AG1,\"8-17\")+COUNTIF(D1:AG1,\"7-16\")+COUNTIF(D1:AG1,\"12-21\")+COUNTIF(D1:AG1,\"22-7\")+COUNTIF(D1:AG1,\"15-22\")+COUNTIF(D1:AG1,\"21-8\")+COUNTIF(D1:AG1,\"21-9\")","v":0}]
["Крылов Е","ст.опер",{"$f":"COUNTIF(D2:AG2,\"8-17\")+COUNTIF(D2:AG2,\"7-16\")+COUNTIF(D2:AG2,\"12-21\")+COUNTIF(D2:AG2,\"22-7\")+COUNTIF(D2:AG2,\"15-22\")+COUNTIF(D2:AG2,\"21-8\")+COUNTIF(D2:AG2,\"21-9\")","v":0}]
["Тетерин А.","ст.опер",{"$f":"COUNTIF(D3:AG3,\"8-17\")+COUNTIF(D3:AG3,\"7-16\")+COUNTIF(D3:AG3,\"12-21\")+COUNTIF(D3:AG3,\"22-7\")+COUNTIF(D3:AG3,\"15-22\")+COUNTIF(D3:AG3,\"21-8\")+COUNTIF(D3:AG3,\"21-9\")","v":0}]
["Базаева Ю.","ст.опер",{"$f":"COUNTIF(D4:AG4,\"8-17\")+COUNTIF(D4:AG4,\"7-16\")+COUNTIF(D4:AG4,\"12-21\")+COUNTIF(D4:AG4,\"22-7\")+COUNTIF(D4:AG4,\"15-22\")+COUNTIF(D4:AG4,\"21-8\")+COUNTIF(D4:AG4,\"21-9\")","v":0}]
[]
["Адъютантова Д.","калининград",{"$f":"COUNTIF(D6:AG6,\"20-8\")+COUNTIF(D6:AG6,\"8-20\")+COUNTIF(D6:AG6,\"17-5\")","v":0}]
["Коровкин С.","калининград",{"$f":"COUNTIF(D7:AG7,\"20-8\")+COUNTIF(D7:AG7,\"8-20\")+COUNTIF(D7:AG7,\"17-5\")","v":0}]
[]
["Добаева Д.","оператор",{"$f":"COUNTIF(D9:AG9,\"20-8\")+COUNTIF(D9:AG9,\"8-20\")+COUNTIF(D9:AG9,\"17-5\")+COUNTIF(D9:AG9,\"8-17\")+COUNTIF(D9:AG9,\"9-18\")","v":0}]
[]
["Зеленяк А.","оператор",{"$f":"COUNTIF(D11:AG11,\"20-8\")+COUNTIF(D11:AG11,\"8-20\")+COUNTIF(D11:AG11,\"17-5\")","v":0}]
["Лапоников А.","оператор",{"$f":"COUNTIF(D12:AG12,\"20-8\")+COUNTIF(D12:AG12,\"8-20\")+COUNTIF(D12:AG12,\"17-5\")","v":0}]
["Елахов С.","оператор",{"$f":"COUNTIF(D13:AG13,\"20-8\")+COUNTIF(D13:AG13,\"8-20\")+COUNTIF(D13:AG13,\"17-5\")","v":0}]
[]
["Панасовский О.","оператор",{"$f":"COUNTIF(D15:AG15,\"20-8\")+COUNTIF(D15:AG15,\"8-20\")+COUNTIF(D15:AG15,\"17-5\")","v":0}]
["Волков Я.","оператор",{"$f":"COUNTIF(D16:AG16,\"20-8\")+COUNTIF(D16:AG16,\"8-20\")+COUNTIF(D16:AG16,\"17-5\")","v":0}]
["Генералов Р.","оператор",{"$f":"COUNTIF(D17:AG17,\"20-8\")+COUNTIF(D17:AG17,\"8-20\")+COUNTIF(D17:AG17,\"17-5\")+COUNTIF(D17:AG17,\"В\")","v":0}]
["Буцков В","оператор",{"$f":"COUNTIF(D18:AG18,\"20-8\")+COUNTIF(D18:AG18,\"8-20\")+COUNTIF(D18:AG18,\"17-5\")","v":0}]
["Добаева А.","оператор",0]
["Виноградов Е.","оператор",0]
["Шерстнева И.","оператор",0]
["Балашов Л.","оператор",0]
["Чекменева А.","оператор",0]
["Черемнов Р.","стажер",0]
["Денисенкова Т.","стажер",0]
["день",null,{"$f":"SUM(D26:AH26)","v":0},{"$f":"COUNTIF(D11:D25,\"8-20\")+SumByColor(D7:D9,Настройки!$A$1)","v":0},{"$f":"COUNTIF(E11:E25,\"8-20\")+SumByColor(E7:E9,Настройки!$A$1)","v":0},{"$f":"COUNTIF(F11:F25,\"8-20\")+SumByColor(F7:F9,Настройки!$A$1)","v":0},{"$f":"COUNTIF(G11:G25,\"8-20\")+SumByColor(G7:G9,Настройки!$A$1)","v":0},{"$f":"COUNTIF(H11:H25,\"8-20\")+SumByColor(H7:H9,Настройки!$A$1)","v":0},{"$f":"COUNTIF(I11:I25,\"8-20\")+SumByColor(I7:I9,Настройки!$A$1)","v":0},{"$f":"COUNTIF(J11:J25,\"8-20\")+SumByColor(J7:J9,Настройки!$A$1)","v":0},{"$f":"COUNTIF(K11:K25,\"8-20\")+SumByColor(K7:K9,Настройки!$A$1)","v":0},{"$f":"COUNTIF(L11:L25,\"8-20\")+SumByColor(L7:L9,Настройки!$A$1)","v":0},{"$f":"COUNTIF(M11:M25,\"8-20\")+SumByColor(M7:M9,Настройки!$A$1)","v":0},{"$f":"COUNTIF(N11:N25,\"8-20\")+SumByColor(N7:N9,Настройки!$A$1)","v":0},{"$f":"COUNTIF(O11:O25,\"8-20\")+SumByColor(O7:O9,Настройки!$A$1)","v":0},{"$f":"COUNTIF(P11:P25,\"8-20\")+SumByColor(P7:P9,Настройки!$A$1)","v":0},{"$f":"COUNTIF(Q11:Q25,\"8-20\")+SumByColor(Q7:Q9,Настройки!$A$1)","v":0},{"$f":"COUNTIF(R11:R25,\"8-20\")+SumByColor(R7:R9,Настройки!$A$1)","v":0},{"$f":"COUNTIF(S11:S25,\"8-20\")+SumByColor(S7:S9,Настройки!$A$1)","v":0},{"$f":"COUNTIF(T11:T25,\"8-20\")+SumByColor(T7:T9,Настройки!$A$1)","v":0},{"$f":"COUNTIF(U11:U25,\"8-20\")+SumByColor(U7:U9,Настройки!$A$1)","v":0},{"$f":"COUNTIF(V11:V25,\"8-20\")+SumByColor(V7:V9,Настройки!$A$1)","v":0},{"$f":"COUNTIF(W11:W25,\"8-20\")+SumByColor(W7:W9,Настройки!$A$1)","v":0},{"$f":"COUNTIF(X11:X25,\"8-20\")+SumByColor(X7:X9,Настройки!$A$1)","v":0},{"$f":"COUNTIF(Y11:Y25,\"8-20\")+SumByColor(Y7:Y9,Настройки!$A$1)","v":0},{"$f":"COUNTIF(Z11:Z25,\"8-20\")+SumByColor(Z7:Z9,Настройки!$A$1)","v":0},{"$f":"COUNTIF(AA11:AA25,\"8-20\")+SumByColor(AA7:AA9,Настройки!$A$1)","v":0},{"$f":"COUNTIF(AB11:AB25,\"8-20\")+SumByColor(AB7:AB9,Настройки!$A$1)","v":0},{"$f":"COUNTIF(AC11:AC25,\"8-20\")+SumByColor(AC7:AC9,Настройки!$A$1)","v":0},{"$f":"COUNTIF(AD11:AD25,\"8-20\")+SumByColor(AD7:AD9,Настройки!$A$1)","v":0},{"$f":"COUNTIF(AE11:AE25,\"8-20\")+SumByColor(AE7:AE9,Настройки!$A$1)","v":0},{"$f":"COUNTIF(AF11:AF25,\"8-20\")+SumByColor(AF7:AF9,Настройки!$A$1)","v":0},{"$f":"COUNTIF(AG11:AG25,\"8-20\")+SumByColor(AG7:AG9,Настройки!$A$1)","v":0},{"$f":"COUNTIF(AH11:AH25,\"8-20\")+SumByColor(AH7:AH9,Настройки!$A$1)","v":0}]
["ночь",null,{"$f":"SUM(D27:AG27)","v":0},{"$f":"COUNTIF(D7:D26,\"20-8\")+COUNTIF(D12:D26,\"17-5\")","v":0},0,0,0,0,0,0,0,0,0,0,0,0,0,0,0,0,0,0,0,0,0,0,0,0,0,0,0,0,0,0]