{"text_format":"1","workbook":"xlsx","n_sheets":2,"sheets":["Январь","даты задач"],"not_rendered":{"charts":0,"images":0,"macros":1,"external_links":0,"defined_names":0,"comments":0,"pivot_tables":0},"unopened":[],"bounds":{"document_bytes":16777216,"sheet_cells":100000,"rows_first":2000,"rows_last":500,"rows_between":2000,"halvings":0,"cell_chars":16384,"cell_head_chars":4096},"cells_cut":0,"cells_raw":0,"read":"whole","date_system":"1900"}

{"sheet":"Январь","index":0,"n_rows":20,"n_cols":4,"rows_kept":20,"cut":false,"hidden":false,"merged":[]}
["даты","Компания 1","Компания 2","Компания 3"]
["2018-01-01"]
["2018-01-02"]
["2018-01-03"]
["2018-01-04",null,"Задача 1"]
["2018-01-05"]
["2018-01-06"]
["2018-01-07"]
["2018-01-08"]
["2018-01-09"]
["2018-01-10","Задача 1"]
["2018-01-11"]
["2018-01-12"]
["2018-01-13",null,"Задача 2"]
["2018-01-14"]
["2018-01-15","Задача 2"]
["2018-01-16"]
["2018-01-17",null,null,"Задача 1"]
["2018-01-18"]
["2018-01-19"]

{"sheet":"даты задач","index":1,"n_rows":20,"n_cols":26,"rows_kept":20,"cut":false,"hidden":false,"merged":[]}
[null,"Компания 1","Компания 2","Компания 3",null,null,"Компания 1","Компания 2","Компания 3",null,"Компания 1","Компания 2","Компания 3",null,null,"Компания 3","Компания 3","Компания 3",null,null,null,null,null,"Компания 1","Компания 2","Компания 3"]
["Январь",{"$f":"IF(Январь!B2=\"\",\"\",Январь!$A2)","v":""},{"$f":"IF(Январь!C2=\"\",\"\",Январь!$A2)","v":""},{"$f":"IF(Январь!D2=\"\",\"\",Январь!$A2)","v":""},null,null,{"$f":"IF(ISBLANK(Январь!B2),\"\",Январь!$A2)","v":""},{"$f":"IF(ISBLANK(Январь!C2),\"\",Январь!$A2)","v":""},{"$f":"IF(ISBLANK(Январь!D2),\"\",Январь!$A2)","v":""},null,{"$f":"IFERROR(INDEX(Январь!$A$1:$A$20,SUMPRODUCT(LARGE((Январь!B$2:B$20<>\"\")*ROW(Январь!B$2:B$20),COUNTA(Январь!B$2:B$20)-ROW()+2))),\"\")","v":"2018-01-10"},{"$f":"IFERROR(INDEX(Январь!$A$1:$A$20,SUMPRODUCT(LARGE((Январь!C$2:C$20<>\"\")*ROW(Январь!C$2:C$20),COUNTA(Январь!C$2:C$20)-ROW()+2))),\"\")","v":"2018-01-04"},{"$f":"IFERROR(INDEX(Январь!$A$1:$A$20,SUMPRODUCT(LARGE((Январь!D$2:D$20<>\"\")*ROW(Январь!D$2:D$20),COUNTA(Январь!D$2:D$20)-ROW()+2))),\"\")","v":"2018-01-17"},null,null,"10.01.2018 15.01.2018","04.01.2018 13.01.2018","17.01.2018",null,"Должно быть так",null,null,null,{"$f":"СцепитьЕсли(Январь!B2:B20,\"<>\",Январь!$A$2:$A$20,CHAR(10),0)","v":"10.01.2018\n15.01.2018"},{"$f":"СцепитьЕсли(Январь!C2:C20,\"<>\",Январь!$A$2:$A$20,CHAR(10),0)","v":"04.01.2018\n13.01.2018"},{"$f":"СцепитьЕсли(Январь!D2:D20,\"<>\",Январь!$A$2:$A$20,CHAR(10),0)","v":"17.01.2018"}]
["Февраль",{"$f":"IF(Январь!B3=\"\",\"\",Январь!$A3)","v":""},{"$f":"IF(Январь!C3=\"\",\"\",Январь!$A3)","v":""},{"$f":"IF(Январь!D3=\"\",\"\",Январь!$A3)","v":""},null,null,{"$f":"IF(ISBLANK(Январь!B3),\"\",Январь!$A3)","v":""},{"$f":"IF(ISBLANK(Январь!C3),\"\",Январь!$A3)","v":""},{"$f":"IF(ISBLANK(Январь!D3),\"\",Январь!$A3)","v":""},null,{"$f":"IFERROR(INDEX(Январь!$A$1:$A$20,SUMPRODUCT(LARGE((Январь!B$2:B$20<>\"\")*ROW(Январь!B$2:B$20),COUNTA(Январь!B$2:B$20)-ROW()+2))),\"\")","v":"2018-01-15"},{"$f":"IFERROR(INDEX(Январь!$A$1:$A$20,SUMPRODUCT(LARGE((Январь!C$2:C$20<>\"\")*ROW(Январь!C$2:C$20),COUNTA(Январь!C$2:C$20)-ROW()+2))),\"\")","v":"2018-01-13"},{"$f":"IFERROR(INDEX(Январь!$A$1:$A$20,SUMPRODUCT(LARGE((Январь!D$2:D$20<>\"\")*ROW(Январь!D$2:D$20),COUNTA(Январь!D$2:D$20)-ROW()+2))),\"\")","v":""}]
["Март",{"$f":"IF(Январь!B4=\"\",\"\",Январь!$A4)","v":""},{"$f":"IF(Январь!C4=\"\",\"\",Январь!$A4)","v":""},{"$f":"IF(Январь!D4=\"\",\"\",Январь!$A4)","v":""},null,null,{"$f":"IF(ISBLANK(Январь!B4),\"\",Январь!$A4)","v":""},{"$f":"IF(ISBLANK(Январь!C4),\"\",Январь!$A4)","v":""},{"$f":"IF(ISBLANK(Январь!D4),\"\",Январь!$A4)","v":""},null,{"$f":"IFERROR(INDEX(Январь!$A$1:$A$20,SUMPRODUCT(LARGE((Январь!B$2:B$20<>\"\")*ROW(Январь!B$2:B$20),COUNTA(Январь!B$2:B$20)-ROW()+2))),\"\")","v":""},{"$f":"IFERROR(INDEX(Январь!$A$1:$A$20,SUMPRODUCT(LARGE((Январь!C$2:C$20<>\"\")*ROW(Январь!C$2:C$20),COUNTA(Январь!C$2:C$20)-ROW()+2))),\"\")","v":""},{"$f":"IFERROR(INDEX(Январь!$A$1:$A$20,SUMPRODUCT(LARGE((Январь!D$2:D$20<>\"\")*ROW(Январь!D$2:D$20),COUNTA(Январь!D$2:D$20)-ROW()+2))),\"\")","v":""}]
["Апрель",{"$f":"IF(Январь!B5=\"\",\"\",Январь!$A5)","v":""},{"$f":"IF(Январь!C5=\"\",\"\",Январь!$A5)","v":"2018-01-04"},{"$f":"IF(Январь!D5=\"\",\"\",Январь!$A5)","v":""},null,null,{"$f":"IF(ISBLANK(Январь!B5),\"\",Январь!$A5)","v":""},{"$f":"IF(ISBLANK(Январь!C5),\"\",Январь!$A5)","v":"2018-01-04"},{"$f":"IF(ISBLANK(Январь!D5),\"\",Январь!$A5)","v":""},null,{"$f":"IFERROR(INDEX(Январь!$A$1:$A$20,SUMPRODUCT(LARGE((Январь!B$2:B$20<>\"\")*ROW(Январь!B$2:B$20),COUNTA(Январь!B$2:B$20)-ROW()+2))),\"\")","v":""},{"$f":"IFERROR(INDEX(Январь!$A$1:$A$20,SUMPRODUCT(LARGE((Январь!C$2:C$20<>\"\")*ROW(Январь!C$2:C$20),COUNTA(Январь!C$2:C$20)-ROW()+2))),\"\")","v":""},{"$f":"IFERROR(INDEX(Январь!$A$1:$A$20,SUMPRODUCT(LARGE((Январь!D$2:D$20<>\"\")*ROW(Январь!D$2:D$20),COUNTA(Январь!D$2:D$20)-ROW()+2))),\"\")","v":""}]
["Май",{"$f":"IF(Январь!B6=\"\",\"\",Январь!$A6)","v":""},{"$f":"IF(Январь!C6=\"\",\"\",Январь!$A6)","v":""},{"$f":"IF(Январь!D6=\"\",\"\",Январь!$A6)","v":""},null,null,{"$f":"IF(ISBLANK(Январь!B6),\"\",Январь!$A6)","v":""},{"$f":"IF(ISBLANK(Январь!C6),\"\",Январь!$A6)","v":""},{"$f":"IF(ISBLANK(Январь!D6),\"\",Январь!$A6)","v":""},null,{"$f":"IFERROR(INDEX(Январь!$A$1:$A$20,SUMPRODUCT(LARGE((Январь!B$2:B$20<>\"\")*ROW(Январь!B$2:B$20),COUNTA(Январь!B$2:B$20)-ROW()+2))),\"\")","v":""},{"$f":"IFERROR(INDEX(Январь!$A$1:$A$20,SUMPRODUCT(LARGE((Январь!C$2:C$20<>\"\")*ROW(Январь!C$2:C$20),COUNTA(Январь!C$2:C$20)-ROW()+2))),\"\")","v":""},{"$f":"IFERROR(INDEX(Январь!$A$1:$A$20,SUMPRODUCT(LARGE((Январь!D$2:D$20<>\"\")*ROW(Январь!D$2:D$20),COUNTA(Январь!D$2:D$20)-ROW()+2))),\"\")","v":""}]
[null,{"$f":"IF(Январь!B7=\"\",\"\",Январь!$A7)","v":""},{"$f":"IF(Январь!C7=\"\",\"\",Январь!$A7)","v":""},{"$f":"IF(Январь!D7=\"\",\"\",Январь!$A7)","v":""},null,null,{"$f":"IF(ISBLANK(Январь!B7),\"\",Январь!$A7)","v":""},{"$f":"IF(ISBLANK(Январь!C7),\"\",Январь!$A7)","v":""},{"$f":"IF(ISBLANK(Январь!D7),\"\",Январь!$A7)","v":""},null,{"$f":"IFERROR(INDEX(Январь!$A$1:$A$20,SUMPRODUCT(LARGE((Январь!B$2:B$20<>\"\")*ROW(Январь!B$2:B$20),COUNTA(Январь!B$2:B$20)-ROW()+2))),\"\")","v":""},{"$f":"IFERROR(INDEX(Январь!$A$1:$A$20,SUMPRODUCT(LARGE((Январь!C$2:C$20<>\"\")*ROW(Январь!C$2:C$20),COUNTA(Январь!C$2:C$20)-ROW()+2))),\"\")","v":""},{"$f":"IFERROR(INDEX(Январь!$A$1:$A$20,SUMPRODUCT(LARGE((Январь!D$2:D$20<>\"\")*ROW(Январь!D$2:D$20),COUNTA(Январь!D$2:D$20)-ROW()+2))),\"\")","v":""}]
[null,{"$f":"IF(Январь!B8=\"\",\"\",Январь!$A8)","v":""},{"$f":"IF(Январь!C8=\"\",\"\",Январь!$A8)","v":""},{"$f":"IF(Январь!D8=\"\",\"\",Январь!$A8)","v":""},null,null,{"$f":"IF(ISBLANK(Январь!B8),\"\",Январь!$A8)","v":""},{"$f":"IF(ISBLANK(Январь!C8),\"\",Январь!$A8)","v":""},{"$f":"IF(ISBLANK(Январь!D8),\"\",Январь!$A8)","v":""},null,{"$f":"IFERROR(INDEX(Январь!$A$1:$A$20,SUMPRODUCT(LARGE((Январь!B$2:B$20<>\"\")*ROW(Январь!B$2:B$20),COUNTA(Январь!B$2:B$20)-ROW()+2))),\"\")","v":""},{"$f":"IFERROR(INDEX(Январь!$A$1:$A$20,SUMPRODUCT(LARGE((Январь!C$2:C$20<>\"\")*ROW(Январь!C$2:C$20),COUNTA(Январь!C$2:C$20)-ROW()+2))),\"\")","v":""},{"$f":"IFERROR(INDEX(Январь!$A$1:$A$20,SUMPRODUCT(LARGE((Январь!D$2:D$20<>\"\")*ROW(Январь!D$2:D$20),COUNTA(Январь!D$2:D$20)-ROW()+2))),\"\")","v":""}]
[null,{"$f":"IF(Январь!B9=\"\",\"\",Январь!$A9)","v":""},{"$f":"IF(Январь!C9=\"\",\"\",Январь!$A9)","v":""},{"$f":"IF(Январь!D9=\"\",\"\",Январь!$A9)","v":""},null,null,{"$f":"IF(ISBLANK(Январь!B9),\"\",Январь!$A9)","v":""},{"$f":"IF(ISBLANK(Январь!C9),\"\",Январь!$A9)","v":""},{"$f":"IF(ISBLANK(Январь!D9),\"\",Январь!$A9)","v":""},null,{"$f":"IFERROR(INDEX(Январь!$A$1:$A$20,SUMPRODUCT(LARGE((Январь!B$2:B$20<>\"\")*ROW(Январь!B$2:B$20),COUNTA(Январь!B$2:B$20)-ROW()+2))),\"\")","v":""},{"$f":"IFERROR(INDEX(Январь!$A$1:$A$20,SUMPRODUCT(LARGE((Январь!C$2:C$20<>\"\")*ROW(Январь!C$2:C$20),COUNTA(Январь!C$2:C$20)-ROW()+2))),\"\")","v":""},{"$f":"IFERROR(INDEX(Январь!$A$1:$A$20,SUMPRODUCT(LARGE((Январь!D$2:D$20<>\"\")*ROW(Январь!D$2:D$20),COUNTA(Январь!D$2:D$20)-ROW()+2))),\"\")","v":""}]
[null,{"$f":"IF(Январь!B10=\"\",\"\",Январь!$A10)","v":""},{"$f":"IF(Январь!C10=\"\",\"\",Январь!$A10)","v":""},{"$f":"IF(Январь!D10=\"\",\"\",Январь!$A10)","v":""},null,null,{"$f":"IF(ISBLANK(Январь!B10),\"\",Январь!$A10)","v":""},{"$f":"IF(ISBLANK(Январь!C10),\"\",Январь!$A10)","v":""},{"$f":"IF(ISBLANK(Январь!D10),\"\",Январь!$A10)","v":""},null,{"$f":"IFERROR(INDEX(Январь!$A$1:$A$20,SUMPRODUCT(LARGE((Январь!B$2:B$20<>\"\")*ROW(Январь!B$2:B$20),COUNTA(Январь!B$2:B$20)-ROW()+2))),\"\")","v":""},{"$f":"IFERROR(INDEX(Январь!$A$1:$A$20,SUMPRODUCT(LARGE((Январь!C$2:C$20<>\"\")*ROW(Январь!C$2:C$20),COUNTA(Январь!C$2:C$20)-ROW()+2))),\"\")","v":""},{"$f":"IFERROR(INDEX(Январь!$A$1:$A$20,SUMPRODUCT(LARGE((Январь!D$2:D$20<>\"\")*ROW(Январь!D$2:D$20),COUNTA(Январь!D$2:D$20)-ROW()+2))),\"\")","v":""}]
[null,{"$f":"IF(Январь!B11=\"\",\"\",Январь!$A11)","v":"2018-01-10"},{"$f":"IF(Январь!C11=\"\",\"\",Январь!$A11)","v":""},{"$f":"IF(Январь!D11=\"\",\"\",Январь!$A11)","v":""},null,null,{"$f":"IF(ISBLANK(Январь!B11),\"\",Январь!$A11)","v":"2018-01-10"},{"$f":"IF(ISBLANK(Январь!C11),\"\",Январь!$A11)","v":""},{"$f":"IF(ISBLANK(Январь!D11),\"\",Январь!$A11)","v":""},null,{"$f":"IFERROR(INDEX(Январь!$A$1:$A$20,SUMPRODUCT(LARGE((Январь!B$2:B$20<>\"\")*ROW(Январь!B$2:B$20),COUNTA(Январь!B$2:B$20)-ROW()+2))),\"\")","v":""},{"$f":"IFERROR(INDEX(Январь!$A$1:$A$20,SUMPRODUCT(LARGE((Январь!C$2:C$20<>\"\")*ROW(Январь!C$2:C$20),COUNTA(Январь!C$2:C$20)-ROW()+2))),\"\")","v":""},{"$f":"IFERROR(INDEX(Январь!$A$1:$A$20,SUMPRODUCT(LARGE((Январь!D$2:D$20<>\"\")*ROW(Январь!D$2:D$20),COUNTA(Январь!D$2:D$20)-ROW()+2))),\"\")","v":""}]
[null,{"$f":"IF(Январь!B12=\"\",\"\",Январь!$A12)","v":""},{"$f":"IF(Январь!C12=\"\",\"\",Январь!$A12)","v":""},{"$f":"IF(Январь!D12=\"\",\"\",Январь!$A12)","v":""},null,null,{"$f":"IF(ISBLANK(Январь!B12),\"\",Январь!$A12)","v":""},{"$f":"IF(ISBLANK(Январь!C12),\"\",Январь!$A12)","v":""},{"$f":"IF(ISBLANK(Январь!D12),\"\",Январь!$A12)","v":""},null,{"$f":"IFERROR(INDEX(Январь!$A$1:$A$20,SUMPRODUCT(LARGE((Январь!B$2:B$20<>\"\")*ROW(Январь!B$2:B$20),COUNTA(Январь!B$2:B$20)-ROW()+2))),\"\")","v":""},{"$f":"IFERROR(INDEX(Январь!$A$1:$A$20,SUMPRODUCT(LARGE((Январь!C$2:C$20<>\"\")*ROW(Январь!C$2:C$20),COUNTA(Январь!C$2:C$20)-ROW()+2))),\"\")","v":""},{"$f":"IFERROR(INDEX(Январь!$A$1:$A$20,SUMPRODUCT(LARGE((Январь!D$2:D$20<>\"\")*ROW(Январь!D$2:D$20),COUNTA(Январь!D$2:D$20)-ROW()+2))),\"\")","v":""}]
[null,{"$f":"IF(Январь!B13=\"\",\"\",Январь!$A13)","v":""},{"$f":"IF(Январь!C13=\"\",\"\",Январь!$A13)","v":""},{"$f":"IF(Январь!D13=\"\",\"\",Январь!$A13)","v":""},null,null,{"$f":"IF(ISBLANK(Январь!B13),\"\",Январь!$A13)","v":""},{"$f":"IF(ISBLANK(Январь!C13),\"\",Январь!$A13)","v":""},{"$f":"IF(ISBLANK(Январь!D13),\"\",Январь!$A13)","v":""},null,{"$f":"IFERROR(INDEX(Январь!$A$1:$A$20,SUMPRODUCT(LARGE((Январь!B$2:B$20<>\"\")*ROW(Январь!B$2:B$20),COUNTA(Январь!B$2:B$20)-ROW()+2))),\"\")","v":""},{"$f":"IFERROR(INDEX(Январь!$A$1:$A$20,SUMPRODUCT(LARGE((Январь!C$2:C$20<>\"\")*ROW(Январь!C$2:C$20),COUNTA(Январь!C$2:C$20)-ROW()+2))),\"\")","v":""},{"$f":"IFERROR(INDEX(Январь!$A$1:$A$20,SUMPRODUCT(LARGE((Январь!D$2:D$20<>\"\")*ROW(Январь!D$2:D$20),COUNTA(Январь!D$2:D$20)-ROW()+2))),\"\")","v":""}]
[null,{"$f":"IF(Январь!B14=\"\",\"\",Январь!$A14)","v":""},{"$f":"IF(Январь!C14=\"\",\"\",Январь!$A14)","v":"2018-01-13"},{"$f":"IF(Январь!D14=\"\",\"\",Январь!$A14)","v":""},null,null,{"$f":"IF(ISBLANK(Январь!B14),\"\",Январь!$A14)","v":""},{"$f":"IF(ISBLANK(Январь!C14),\"\",Январь!$A14)","v":"2018-01-13"},{"$f":"IF(ISBLANK(Январь!D14),\"\",Январь!$A14)","v":""},null,{"$f":"IFERROR(INDEX(Январь!$A$1:$A$20,SUMPRODUCT(LARGE((Январь!B$2:B$20<>\"\")*ROW(Январь!B$2:B$20),COUNTA(Январь!B$2:B$20)-ROW()+2))),\"\")","v":""},{"$f":"IFERROR(INDEX(Январь!$A$1:$A$20,SUMPRODUCT(LARGE((Январь!C$2:C$20<>\"\")*ROW(Январь!C$2:C$20),COUNTA(Январь!C$2:C$20)-ROW()+2))),\"\")","v":""},{"$f":"IFERROR(INDEX(Январь!$A$1:$A$20,SUMPRODUCT(LARGE((Январь!D$2:D$20<>\"\")*ROW(Январь!D$2:D$20),COUNTA(Январь!D$2:D$20)-ROW()+2))),\"\")","v":""}]
[null,{"$f":"IF(Январь!B15=\"\",\"\",Январь!$A15)","v":""},{"$f":"IF(Январь!C15=\"\",\"\",Январь!$A15)","v":""},{"$f":"IF(Январь!D15=\"\",\"\",Январь!$A15)","v":""},null,null,{"$f":"IF(ISBLANK(Январь!B15),\"\",Январь!$A15)","v":""},{"$f":"IF(ISBLANK(Январь!C15),\"\",Январь!$A15)","v":""},{"$f":"IF(ISBLANK(Январь!D15),\"\",Январь!$A15)","v":""},null,{"$f":"IFERROR(INDEX(Январь!$A$1:$A$20,SUMPRODUCT(LARGE((Январь!B$2:B$20<>\"\")*ROW(Январь!B$2:B$20),COUNTA(Январь!B$2:B$20)-ROW()+2))),\"\")","v":""},{"$f":"IFERROR(INDEX(Январь!$A$1:$A$20,SUMPRODUCT(LARGE((Январь!C$2:C$20<>\"\")*ROW(Январь!C$2:C$20),COUNTA(Январь!C$2:C$20)-ROW()+2))),\"\")","v":""},{"$f":"IFERROR(INDEX(Январь!$A$1:$A$20,SUMPRODUCT(LARGE((Январь!D$2:D$20<>\"\")*ROW(Январь!D$2:D$20),COUNTA(Январь!D$2:D$20)-ROW()+2))),\"\")","v":""}]
[null,{"$f":"IF(Январь!B16=\"\",\"\",Январь!$A16)","v":"2018-01-15"},{"$f":"IF(Январь!C16=\"\",\"\",Январь!$A16)","v":""},{"$f":"IF(Январь!D16=\"\",\"\",Январь!$A16)","v":""},null,null,{"$f":"IF(ISBLANK(Январь!B16),\"\",Январь!$A16)","v":"2018-01-15"},{"$f":"IF(ISBLANK(Январь!C16),\"\",Январь!$A16)","v":""},{"$f":"IF(ISBLANK(Январь!D16),\"\",Январь!$A16)","v":""},null,{"$f":"IFERROR(INDEX(Январь!$A$1:$A$20,SUMPRODUCT(LARGE((Январь!B$2:B$20<>\"\")*ROW(Январь!B$2:B$20),COUNTA(Январь!B$2:B$20)-ROW()+2))),\"\")","v":""},{"$f":"IFERROR(INDEX(Январь!$A$1:$A$20,SUMPRODUCT(LARGE((Январь!C$2:C$20<>\"\")*ROW(Январь!C$2:C$20),COUNTA(Январь!C$2:C$20)-ROW()+2))),\"\")","v":""},{"$f":"IFERROR(INDEX(Январь!$A$1:$A$20,SUMPRODUCT(LARGE((Январь!D$2:D$20<>\"\")*ROW(Январь!D$2:D$20),COUNTA(Январь!D$2:D$20)-ROW()+2))),\"\")","v":""}]
[null,{"$f":"IF(Январь!B17=\"\",\"\",Январь!$A17)","v":""},{"$f":"IF(Январь!C17=\"\",\"\",Январь!$A17)","v":""},{"$f":"IF(Январь!D17=\"\",\"\",Январь!$A17)","v":""},null,null,{"$f":"IF(ISBLANK(Январь!B17),\"\",Январь!$A17)","v":""},{"$f":"IF(ISBLANK(Январь!C17),\"\",Январь!$A17)","v":""},{"$f":"IF(ISBLANK(Январь!D17),\"\",Январь!$A17)","v":""},null,{"$f":"IFERROR(INDEX(Январь!$A$1:$A$20,SUMPRODUCT(LARGE((Январь!B$2:B$20<>\"\")*ROW(Январь!B$2:B$20),COUNTA(Январь!B$2:B$20)-ROW()+2))),\"\")","v":""},{"$f":"IFERROR(INDEX(Январь!$A$1:$A$20,SUMPRODUCT(LARGE((Январь!C$2:C$20<>\"\")*ROW(Январь!C$2:C$20),COUNTA(Январь!C$2:C$20)-ROW()+2))),\"\")","v":""},{"$f":"IFERROR(INDEX(Январь!$A$1:$A$20,SUMPRODUCT(LARGE((Январь!D$2:D$20<>\"\")*ROW(Январь!D$2:D$20),COUNTA(Январь!D$2:D$20)-ROW()+2))),\"\")","v":""}]
[null,{"$f":"IF(Январь!B18=\"\",\"\",Январь!$A18)","v":""},{"$f":"IF(Январь!C18=\"\",\"\",Январь!$A18)","v":""},{"$f":"IF(Январь!D18=\"\",\"\",Январь!$A18)","v":"2018-01-17"},null,null,{"$f":"IF(ISBLANK(Январь!B18),\"\",Январь!$A18)","v":""},{"$f":"IF(ISBLANK(Январь!C18),\"\",Январь!$A18)","v":""},{"$f":"IF(ISBLANK(Январь!D18),\"\",Январь!$A18)","v":"2018-01-17"},null,{"$f":"IFERROR(INDEX(Январь!$A$1:$A$20,SUMPRODUCT(LARGE((Январь!B$2:B$20<>\"\")*ROW(Январь!B$2:B$20),COUNTA(Январь!B$2:B$20)-ROW()+2))),\"\")","v":""},{"$f":"IFERROR(INDEX(Январь!$A$1:$A$20,SUMPRODUCT(LARGE((Январь!C$2:C$20<>\"\")*ROW(Январь!C$2:C$20),COUNTA(Январь!C$2:C$20)-ROW()+2))),\"\")","v":""},{"$f":"IFERROR(INDEX(Январь!$A$1:$A$20,SUMPRODUCT(LARGE((Январь!D$2:D$20<>\"\")*ROW(Январь!D$2:D$20),COUNTA(Январь!D$2:D$20)-ROW()+2))),\"\")","v":""}]
[null,{"$f":"IF(Январь!B19=\"\",\"\",Январь!$A19)","v":""},{"$f":"IF(Январь!C19=\"\",\"\",Январь!$A19)","v":""},{"$f":"IF(Январь!D19=\"\",\"\",Январь!$A19)","v":""},null,null,{"$f":"IF(ISBLANK(Январь!B19),\"\",Январь!$A19)","v":""},{"$f":"IF(ISBLANK(Январь!C19),\"\",Январь!$A19)","v":""},{"$f":"IF(ISBLANK(Январь!D19),\"\",Январь!$A19)","v":""},null,{"$f":"IFERROR(INDEX(Январь!$A$1:$A$20,SUMPRODUCT(LARGE((Январь!B$2:B$20<>\"\")*ROW(Январь!B$2:B$20),COUNTA(Январь!B$2:B$20)-ROW()+2))),\"\")","v":""},{"$f":"IFERROR(INDEX(Январь!$A$1:$A$20,SUMPRODUCT(LARGE((Январь!C$2:C$20<>\"\")*ROW(Январь!C$2:C$20),COUNTA(Январь!C$2:C$20)-ROW()+2))),\"\")","v":""},{"$f":"IFERROR(INDEX(Январь!$A$1:$A$20,SUMPRODUCT(LARGE((Январь!D$2:D$20<>\"\")*ROW(Январь!D$2:D$20),COUNTA(Январь!D$2:D$20)-ROW()+2))),\"\")","v":""}]
[null,{"$f":"IF(Январь!B20=\"\",\"\",Январь!$A20)","v":""},{"$f":"IF(Январь!C20=\"\",\"\",Январь!$A20)","v":""},{"$f":"IF(Январь!D20=\"\",\"\",Январь!$A20)","v":""},null,null,{"$f":"IF(ISBLANK(Январь!B20),\"\",Январь!$A20)","v":""},{"$f":"IF(ISBLANK(Январь!C20),\"\",Январь!$A20)","v":""},{"$f":"IF(ISBLANK(Январь!D20),\"\",Январь!$A20)","v":""},null,{"$f":"IFERROR(INDEX(Январь!$A$1:$A$20,SUMPRODUCT(LARGE((Январь!B$2:B$20<>\"\")*ROW(Январь!B$2:B$20),COUNTA(Январь!B$2:B$20)-ROW()+2))),\"\")","v":""},{"$f":"IFERROR(INDEX(Январь!$A$1:$A$20,SUMPRODUCT(LARGE((Январь!C$2:C$20<>\"\")*ROW(Январь!C$2:C$20),COUNTA(Январь!C$2:C$20)-ROW()+2))),\"\")","v":""},{"$f":"IFERROR(INDEX(Январь!$A$1:$A$20,SUMPRODUCT(LARGE((Январь!D$2:D$20<>\"\")*ROW(Январь!D$2:D$20),COUNTA(Январь!D$2:D$20)-ROW()+2))),\"\")","v":""}]