{"text_format":"1","workbook":"xlsx","n_sheets":4,"sheets":["Банан","Лист1","Лист2","Лист3"],"not_rendered":{"charts":0,"images":1,"macros":1,"external_links":1,"defined_names":11,"comments":0,"pivot_tables":0},"unopened":[],"bounds":{"document_bytes":16777216,"sheet_cells":100000,"rows_first":2000,"rows_last":500,"rows_between":2000,"halvings":0,"cell_chars":16384,"cell_head_chars":4096},"cells_cut":0,"cells_raw":0,"read":"whole","date_system":"1900"}

{"sheet":"Банан","index":0,"n_rows":2036,"n_cols":12,"rows_kept":2036,"cut":false,"hidden":false,"merged":[[2030,1,2033,1],[2033,2,2034,2],[2014,1,2014,2],[2015,1,2015,2],[2019,1,2022,1],[2022,2,2023,2],[2025,1,2025,2],[2026,1,2026,2],[1997,1,2000,1],[2000,2,2001,2],[2003,1,2003,2],[2004,1,2004,2],[2008,1,2011,1],[2011,2,2012,2],[1981,1,1981,2],[1982,1,1982,2],[1986,1,1989,1],[1989,2,1990,2],[1992,1,1992,2],[1993,1,1993,2],[1964,1,1967,1],[1967,2,1968,2],[1970,1,1970,2],[1971,1,1971,2],[1975,1,1978,1],[1978,2,1979,2],[1948,1,1948,2],[1949,1,1949,2],[1953,1,1956,1],[1956,2,1957,2],[1959,1,1959,2],[1960,1,1960,2],[1931,1,1934,1],[1934,2,1935,2],[1937,1,1937,2],[1938,1,1938,2],[1942,1,1945,1],[1945,2,1946,2],[1915,1,1915,2],[1916,1,1916,2],[1920,1,1923,1],[1923,2,1924,2],[1926,1,1926,2],[1927,1,1927,2],[1898,1,1901,1],[1901,2,1902,2],[1904,1,1904,2],[1905,1,1905,2],[1909,1,1912,1],[1912,2,1913,2],[1882,1,1882,2],[1883,1,1883,2],[1887,1,1890,1],[1890,2,1891,2],[1893,1,1893,2],[1894,1,1894,2],[1865,1,1868,1],[1868,2,1869,2],[1871,1,1871,2],[1872,1,1872,2],[1876,1,1879,1],[1879,2,1880,2],[1849,1,1849,2],[1850,1,1850,2],[1854,1,1857,1],[1857,2,1858,2],[1860,1,1860,2],[1861,1,1861,2],[1832,1,1835,1],[1835,2,1836,2],[1838,1,1838,2],[1839,1,1839,2],[1843,1,1846,1],[1846,2,1847,2],[1816,1,1816,2],[1817,1,1817,2],[1821,1,1824,1],[1824,2,1825,2],[1827,1,1827,2],[1828,1,1828,2],[1799,1,1802,1],[1802,2,1803,2],[1805,1,1805,2],[1806,1,1806,2],[1810,1,1813,1],[1813,2,1814,2],[1783,1,1783,2],[1784,1,1784,2],[1788,1,1791,1],[1791,2,1792,2],[1794,1,1794,2],[1795,1,1795,2],[1766,1,1769,1],[1769,2,1770,2],[1772,1,1772,2],[1773,1,1773,2],[1777,1,1780,1],[1780,2,1781,2],[1750,1,1750,2],[1751,1,1751,2],[1755,1,1758,1],[1758,2,1759,2],[1761,1,1761,2],[1762,1,1762,2],[1733,1,1736,1],[1736,2,1737,2],[1739,1,1739,2],[1740,1,1740,2],[1744,1,1747,1],[1747,2,1748,2],[1717,1,1717,2],[1718,1,1718,2],[1722,1,1725,1],[1725,2,1726,2],[1728,1,1728,2],[1729,1,1729,2],[1700,1,1703,1],[1703,2,1704,2],[1706,1,1706,2],[1707,1,1707,2],[1711,1,1714,1],[1714,2,1715,2],[1684,1,1684,2],[1685,1,1685,2],[1689,1,1692,1],[1692,2,1693,2],[1695,1,1695,2],[1696,1,1696,2],[1667,1,1670,1],[1670,2,1671,2],[1673,1,1673,2],[1674,1,1674,2],[1678,1,1681,1],[1681,2,1682,2],[1651,1,1651,2],[1652,1,1652,2],[1656,1,1659,1],[1659,2,1660,2],[1662,1,1662,2],[1663,1,1663,2],[1634,1,1637,1],[1637,2,1638,2],[1640,1,1640,2],[1641,1,1641,2],[1645,1,1648,1],[1648,2,1649,2],[1618,1,1618,2],[1619,1,1619,2],[1623,1,1626,1],[1626,2,1627,2],[1629,1,1629,2],[1630,1,1630,2],[1601,1,1604,1],[1604,2,1605,2],[1607,1,1607,2],[1608,1,1608,2],[1612,1,1615,1],[1615,2,1616,2],[1585,1,1585,2],[1586,1,1586,2],[1590,1,1593,1],[1593,2,1594,2],[1596,1,1596,2],[1597,1,1597,2],[1568,1,1571,1],[1571,2,1572,2],[1574,1,1574,2],[1575,1,1575,2],[1579,1,1582,1],[1582,2,1583,2],[1552,1,1552,2],[1553,1,1553,2],[1557,1,1560,1],[1560,2,1561,2],[1563,1,1563,2],[1564,1,1564,2],[1535,1,1538,1],[1538,2,1539,2],[1541,1,1541,2],[1542,1,1542,2],[1546,1,1549,1],[1549,2,1550,2],[1519,1,1519,2],[1520,1,1520,2],[1524,1,1527,1],[1527,2,1528,2],[1530,1,1530,2],[1531,1,1531,2],[1502,1,1505,1],[1505,2,1506,2],[1508,1,1508,2],[1509,1,1509,2],[1513,1,1516,1],[1516,2,1517,2],[1486,1,1486,2],[1487,1,1487,2],[1491,1,1494,1],[1494,2,1495,2],[1497,1,1497,2],[1498,1,1498,2],[1469,1,1472,1],[1472,2,1473,2],[1475,1,1475,2],[1476,1,1476,2],[1480,1,1483,1],[1483,2,1484,2],[1453,1,1453,2],[1454,1,1454,2],[1458,1,1461,1],[1461,2,1462,2],[1464,1,1464,2],[1465,1,1465,2],[1436,1,1439,1],[1439,2,1440,2],[1442,1,1442,2],[1443,1,1443,2],[1447,1,1450,1],[1450,2,1451,2],[1420,1,1420,2],[1421,1,1421,2],[1425,1,1428,1],[1428,2,1429,2],[1431,1,1431,2],[1432,1,1432,2],[1403,1,1406,1],[1406,2,1407,2],[1409,1,1409,2],[1410,1,1410,2],[1414,1,1417,1],[1417,2,1418,2],[1387,1,1387,2],[1388,1,1388,2],[1392,1,1395,1],[1395,2,1396,2],[1398,1,1398,2],[1399,1,1399,2],[1370,1,1373,1],[1373,2,1374,2],[1376,1,1376,2],[1377,1,1377,2],[1381,1,1384,1],[1384,2,1385,2],[1354,1,1354,2],[1355,1,1355,2],[1359,1,1362,1],[1362,2,1363,2],[1365,1,1365,2],[1366,1,1366,2],[1337,1,1340,1],[1340,2,1341,2],[1343,1,1343,2],[1344,1,1344,2],[1348,1,1351,1],[1351,2,1352,2],[1321,1,1321,2],[1322,1,1322,2],[1326,1,1329,1],[1329,2,1330,2],[1332,1,1332,2],[1333,1,1333,2],[1304,1,1307,1],[1307,2,1308,2],[1310,1,1310,2],[1311,1,1311,2],[1315,1,1318,1],[1318,2,1319,2],[1288,1,1288,2],[1289,1,1289,2],[1293,1,1296,1],[1296,2,1297,2],[1299,1,1299,2],[1300,1,1300,2],[1271,1,1274,1],[1274,2,1275,2],[1277,1,1277,2],[1278,1,1278,2],[1282,1,1285,1],[1285,2,1286,2],[1255,1,1255,2],[1256,1,1256,2],[1260,1,1263,1],[1263,2,1264,2],[1266,1,1266,2],[1267,1,1267,2],[1238,1,1241,1],[1241,2,1242,2],[1244,1,1244,2],[1245,1,1245,2],[1249,1,1252,1],[1252,2,1253,2],[1222,1,1222,2],[1223,1,1223,2],[1227,1,1230,1],[1230,2,1231,2],[1233,1,1233,2],[1234,1,1234,2],[1205,1,1208,1],[1208,2,1209,2],[1211,1,1211,2],[1212,1,1212,2],[1216,1,1219,1],[1219,2,1220,2],[1189,1,1189,2],[1190,1,1190,2],[1194,1,1197,1],[1197,2,1198,2],[1200,1,1200,2],[1201,1,1201,2],[1172,1,1175,1],[1175,2,1176,2],[1178,1,1178,2],[1179,1,1179,2],[1183,1,1186,1],[1186,2,1187,2],[1156,1,1156,2],[1157,1,1157,2],[1161,1,1164,1],[1164,2,1165,2],[1167,1,1167,2],[1168,1,1168,2],[1139,1,1142,1],[1142,2,1143,2],[1145,1,1145,2],[1146,1,1146,2],[1150,1,1153,1],[1153,2,1154,2],[1123,1,1123,2],[1124,1,1124,2],[1128,1,1131,1],[1131,2,1132,2],[1134,1,1134,2],[1135,1,1135,2],[1106,1,1109,1],[1109,2,1110,2],[1112,1,1112,2],[1113,1,1113,2],[1117,1,1120,1],[1120,2,1121,2],[1090,1,1090,2],[1091,1,1091,2],[1095,1,1098,1],[1098,2,1099,2],[1101,1,1101,2],[1102,1,1102,2],[1073,1,1076,1],[1076,2,1077,2],[1079,1,1079,2],[1080,1,1080,2],[1084,1,1087,1],[1087,2,1088,2],[1057,1,1057,2],[1058,1,1058,2],[1062,1,1065,1],[1065,2,1066,2],[1068,1,1068,2],[1069,1,1069,2],[1040,1,1043,1],[1043,2,1044,2],[1046,1,1046,2],[1047,1,1047,2],[1051,1,1054,1],[1054,2,1055,2],[1024,1,1024,2],[1025,1,1025,2],[1029,1,1032,1],[1032,2,1033,2],[1035,1,1035,2],[1036,1,1036,2],[1007,1,1010,1],[1010,2,1011,2],[1013,1,1013,2],[1014,1,1014,2],[1018,1,1021,1],[1021,2,1022,2],[991,1,991,2],[992,1,992,2],[996,1,999,1],[999,2,1000,2],[1002,1,1002,2],[1003,1,1003,2],[974,1,977,1],[977,2,978,2],[980,1,980,2],[981,1,981,2],[985,1,988,1],[988,2,989,2],[958,1,958,2],[959,1,959,2],[963,1,966,1],[966,2,967,2],[969,1,969,2],[970,1,970,2],[941,1,944,1],[944,2,945,2],[947,1,947,2],[948,1,948,2],[952,1,955,1],[955,2,956,2],[925,1,925,2],[926,1,926,2],[930,1,933,1],[933,2,934,2],[936,1,936,2],[937,1,937,2],[908,1,911,1],[911,2,912,2],[914,1,914,2],[915,1,915,2],[919,1,922,1],[922,2,923,2],[892,1,892,2],[893,1,893,2],[897,1,900,1],[900,2,901,2],[903,1,903,2],[904,1,904,2],[875,1,878,1],[878,2,879,2],[881,1,881,2],[882,1,882,2],[886,1,889,1],[889,2,890,2],[859,1,859,2],[860,1,860,2],[864,1,867,1],[867,2,868,2],[870,1,870,2],[871,1,871,2],[842,1,845,1],[845,2,846,2],[848,1,848,2],[849,1,849,2],[853,1,856,1],[856,2,857,2],[826,1,826,2],[827,1,827,2],[831,1,834,1],[834,2,835,2],[837,1,837,2],[838,1,838,2],[809,1,812,1],[812,2,813,2],[815,1,815,2],[816,1,816,2],[820,1,823,1],[823,2,824,2],[793,1,793,2],[794,1,794,2],[798,1,801,1],[801,2,802,2],[804,1,804,2],[805,1,805,2],[776,1,779,1],[779,2,780,2],[782,1,782,2],[783,1,783,2],[787,1,790,1],[790,2,791,2],[760,1,760,2],[761,1,761,2],[765,1,768,1],[768,2,769,2],[771,1,771,2],[772,1,772,2],[743,1,746,1],[746,2,747,2],[749,1,749,2],[750,1,750,2],[754,1,757,1],[757,2,758,2],[727,1,727,2],[728,1,728,2],[732,1,735,1],[735,2,736,2],[738,1,738,2],[739,1,739,2],[710,1,713,1],[713,2,714,2],[716,1,716,2],[717,1,717,2],[721,1,724,1],[724,2,725,2],[694,1,694,2],[695,1,695,2],[699,1,702,1],[702,2,703,2],[705,1,705,2],[706,1,706,2],[677,1,680,1],[680,2,681,2],[683,1,683,2],[684,1,684,2],[688,1,691,1],[691,2,692,2],[661,1,661,2],[662,1,662,2],[666,1,669,1],[669,2,670,2],[672,1,672,2],[673,1,673,2],[644,1,647,1],[647,2,648,2],[650,1,650,2],[651,1,651,2],[655,1,658,1],[658,2,659,2],[628,1,628,2],[629,1,629,2],[633,1,636,1],[636,2,637,2],[639,1,639,2],[640,1,640,2],[611,1,614,1],[614,2,615,2],[617,1,617,2],[618,1,618,2],[622,1,625,1],[625,2,626,2],[595,1,595,2],[596,1,596,2],[600,1,603,1],[603,2,604,2],[606,1,606,2],[607,1,607,2],[578,1,581,1],[581,2,582,2],[584,1,584,2],[585,1,585,2],[589,1,592,1],[592,2,593,2],[562,1,562,2],[563,1,563,2],[567,1,570,1],[570,2,571,2],[573,1,573,2],[574,1,574,2],[545,1,548,1],[548,2,549,2],[551,1,551,2],[552,1,552,2],[556,1,559,1],[559,2,560,2],[529,1,529,2],[530,1,530,2],[534,1,537,1],[537,2,538,2],[540,1,540,2],[541,1,541,2],[512,1,515,1],[515,2,516,2],[518,1,518,2],[519,1,519,2],[523,1,526,1],[526,2,527,2],[496,1,496,2],[497,1,497,2],[501,1,504,1],[504,2,505,2],[507,1,507,2],[508,1,508,2],[479,1,482,1],[482,2,483,2],[485,1,485,2],[486,1,486,2],[490,1,493,1],[493,2,494,2],[463,1,463,2],[464,1,464,2],[468,1,471,1],[471,2,472,2],[474,1,474,2],[475,1,475,2],[446,1,449,1],[449,2,450,2],[452,1,452,2],[453,1,453,2],[457,1,460,1],[460,2,461,2],[430,1,430,2],[431,1,431,2],[435,1,438,1],[438,2,439,2],[441,1,441,2],[442,1,442,2],[413,1,416,1],[416,2,417,2],[419,1,419,2],[420,1,420,2],[424,1,427,1],[427,2,428,2],[397,1,397,2],[398,1,398,2],[402,1,405,1],[405,2,406,2],[408,1,408,2],[409,1,409,2],[380,1,383,1],[383,2,384,2],[386,1,386,2],[387,1,387,2],[391,1,394,1],[394,2,395,2],[364,1,364,2],[365,1,365,2],[369,1,372,1],[372,2,373,2],[375,1,375,2],[376,1,376,2],[347,1,350,1],[350,2,351,2],[353,1,353,2],[354,1,354,2],[358,1,361,1],[361,2,362,2],[331,1,331,2],[332,1,332,2],[336,1,339,1],[339,2,340,2],[342,1,342,2],[343,1,343,2],[314,1,317,1],[317,2,318,2],[320,1,320,2],[321,1,321,2],[325,1,328,1],[328,2,329,2],[298,1,298,2],[299,1,299,2],[303,1,306,1],[306,2,307,2],[309,1,309,2],[310,1,310,2],[281,1,284,1],[284,2,285,2],[287,1,287,2],[288,1,288,2],[292,1,295,1],[295,2,296,2],[265,1,265,2],[266,1,266,2],[270,1,273,1],[273,2,274,2],[276,1,276,2],[277,1,277,2],[248,1,251,1],[251,2,252,2],[254,1,254,2],[255,1,255,2],[259,1,262,1],[262,2,263,2],[232,1,232,2],[233,1,233,2],[237,1,240,1],[240,2,241,2],[243,1,243,2],[244,1,244,2],[215,1,218,1],[218,2,219,2],[221,1,221,2],[222,1,222,2],[226,1,229,1],[229,2,230,2],[199,1,199,2],[200,1,200,2],[204,1,207,1],[207,2,208,2],[210,1,210,2],[211,1,211,2],[182,1,185,1],[185,2,186,2],[188,1,188,2],[189,1,189,2],[193,1,196,1],[196,2,197,2],[166,1,166,2],[167,1,167,2],[171,1,174,1],[174,2,175,2],[177,1,177,2],[178,1,178,2],[149,1,152,1],[152,2,153,2],[155,1,155,2],[156,1,156,2],[160,1,163,1],[163,2,164,2],[133,1,133,2],[134,1,134,2],[138,1,141,1],[141,2,142,2],[144,1,144,2],[145,1,145,2],[116,1,119,1],[119,2,120,2],[122,1,122,2],[123,1,123,2],[127,1,130,1],[130,2,131,2],[100,1,100,2],[101,1,101,2],[105,1,108,1],[108,2,109,2],[111,1,111,2],[112,1,112,2],[83,1,86,1],[86,2,87,2],[89,1,89,2],[90,1,90,2],[94,1,97,1],[97,2,98,2],[68,1,68,2],[72,1,75,1],[75,2,76,2],[78,1,78,2],[79,1,79,2],[50,1,53,1],[53,2,54,2],[56,1,56,2],[57,1,57,2],[61,1,64,1],[64,2,65,2],[45,1,45,2],[46,1,46,2],[17,1,20,1],[20,2,21,2],[23,1,23,2],[24,1,24,2],[28,1,31,1],[31,2,32,2],[67,1,67,2],[1,1,1,2],[2,1,2,2],[6,1,9,1],[9,2,10,2],[12,1,12,2],[13,1,13,2],[34,1,34,2],[35,1,35,2],[39,1,42,1],[42,2,43,2]]}
[]
["Бананы св. вес. 1кл",{"$f":"K1","v":0},null,null,"первая страница",1,null,null,null,null,35,2]
[{"$f":"IF(INDIRECT(ADDRESS(ROW()-1,COLUMN()+1))=\"Хосп-4\",\"\",\"ГОСТ Р 51603-2000\")","v":"ГОСТ Р 51603-2000"},"Учреждение",null,null,"последняя страница",{"$f":"COUNTIF(A:A,\"масса*\")+F6","v":185},null,null,null,null,33,2]
["ТР ТС 021/2011 ТР ТС 022/2011",null,null,null,null,null,null,null,null,null,27,2]
["Изготовитель: Эквадор",null,null,null,null,null,null,null,null,null,27,2]
["\"AGZULASA CIA LTDA\"",null,null,null,"Количество ДОП этикеток",0,null,null,null,null,27,2]
[{"$f":"myDate2","v":"Дата фасовки: 12.09.2018"},{"$f":"K1","v":0},null,null,null,null,null,null,null,null,26.5,2]
["Условия хранения: +13°С до +14 °С",null,null,null,{"$f":"\"Печать количество этикеток  \"  & $F$3","v":"Печать количество этикеток  185"},null,null,null,null,null,26,2]
[{"$f":"IF(LEFT(INDIRECT(ADDRESS(ROW()-7,COLUMN()+1)),3)=\"13-\",\"Срок годности: 5 суток\",\"Срок годности: 10 суток\")","v":"Срок годности: 10 суток"},null,null,null,null,null,null,null,null,null,25,2]
[null,null,"кг",null,null,null,null,null,null,null,25,2]
["Масса нетто: ","----------------------------",null,null,"Масса коробки",20,null,null,null,null,25,2]
[null,null,null,null,null,null,null,null,null,null,25,2]
[{"$f":"$A$2","v":"Бананы св. вес. 1кл"},{"$f":"'[1]Банан расч'!E2","v":"102"},null,null,null,null,null,null,null,null,25,2]
[{"$f":"IF(INDIRECT(ADDRESS(ROW()-1,COLUMN()+1))=\"Хосп-4\",\"\",\"ГОСТ Р 51603-2000\")","v":"ГОСТ Р 51603-2000"},"Учреждение",null,null,null,null,null,null,null,null,25,2]
[{"$f":"$A$4","v":"ТР ТС 021/2011 ТР ТС 022/2011"},null,null,null,null,null,null,null,null,null,25,2]
[{"$f":"$A$5","v":"Изготовитель: Эквадор"},null,null,null,null,null,null,null,null,null,24,2]
[{"$f":"$A$6","v":"\"AGZULASA CIA LTDA\""},null,null,null,null,null,null,null,null,null,24,2]
[{"$f":"$A$7","v":"Дата фасовки: 12.09.2018"},{"$f":"K2","v":35},null,null,null,null,null,null,null,null,24,2]
[{"$f":"$A$8","v":"Условия хранения: +13°С до +14 °С"},null,null,null,null,null,null,null,null,null,24,2]
[{"$f":"IF(LEFT(INDIRECT(ADDRESS(ROW()-7,COLUMN()+1)),3)=\"13-\",\"Срок годности: 5 суток\",\"Срок годности: 10 суток\")","v":"Срок годности: 10 суток"},null,null,null,null,null,null,null,null,null,24,2]
[{"$f":"$A$10","v":0},null,"кг",null,null,null,null,null,null,null,23.5,2]
["Масса нетто: ","----------------------------",null,null,null,null,null,null,null,null,23.2,2]
[2,null,null,null,null,null,null,null,null,null,23,2]
[{"$f":"$A$2","v":"Бананы св. вес. 1кл"},{"$f":"'[1]Банан расч'!E3","v":"7-2"},null,null,null,null,null,null,null,null,23,2]
[{"$f":"IF(INDIRECT(ADDRESS(ROW()-1,COLUMN()+1))=\"Хосп-4\",\"\",\"ГОСТ Р 51603-2000\")","v":"ГОСТ Р 51603-2000"},"Учреждение",null,null,null,null,null,null,null,null,23,2]
[{"$f":"$A$4","v":"ТР ТС 021/2011 ТР ТС 022/2011"},null,null,null,null,null,null,null,null,null,23,2]
[{"$f":"$A$5","v":"Изготовитель: Эквадор"},null,null,null,null,null,null,null,null,null,23,2]
[{"$f":"$A$6","v":"\"AGZULASA CIA LTDA\""},null,null,null,null,null,null,null,null,null,22.5,2]
[{"$f":"$A$7","v":"Дата фасовки: 12.09.2018"},{"$f":"K3","v":33},null,null,null,null,null,null,null,null,22,2]
[{"$f":"$A$8","v":"Условия хранения: +13°С до +14 °С"},null,null,null,null,null,null,null,null,null,22,2]
[{"$f":"IF(LEFT(INDIRECT(ADDRESS(ROW()-7,COLUMN()+1)),3)=\"13-\",\"Срок годности: 5 суток\",\"Срок годности: 10 суток\")","v":"Срок годности: 10 суток"},null,null,null,null,null,null,null,null,null,22,2]
[{"$f":"$A$10","v":0},null,"кг",null,null,null,null,null,null,null,22,2]
["Масса нетто: ","----------------------------",null,null,null,null,null,null,null,null,22,2]
[3,null,null,null,null,null,null,null,null,null,21.6,2]
[{"$f":"$A$2","v":"Бананы св. вес. 1кл"},{"$f":"'[1]Банан расч'!E4","v":"6-1"},null,null,null,null,null,null,null,null,21,2]
[{"$f":"IF(INDIRECT(ADDRESS(ROW()-1,COLUMN()+1))=\"Хосп-4\",\"\",\"ГОСТ Р 51603-2000\")","v":"ГОСТ Р 51603-2000"},"Учреждение",null,null,null,null,null,null,null,null,21,2]
[{"$f":"$A$4","v":"ТР ТС 021/2011 ТР ТС 022/2011"},null,null,null,null,null,null,null,null,null,21,2]
[{"$f":"$A$5","v":"Изготовитель: Эквадор"},null,null,null,null,null,null,null,null,null,21,2]
[{"$f":"$A$6","v":"\"AGZULASA CIA LTDA\""},null,null,null,null,null,null,null,null,null,21,2]
[{"$f":"$A$7","v":"Дата фасовки: 12.09.2018"},{"$f":"K4","v":27},null,null,null,null,null,null,null,null,20,1]
[{"$f":"$A$8","v":"Условия хранения: +13°С до +14 °С"},null,null,null,null,null,null,null,null,null,20,1]
[{"$f":"IF(LEFT(INDIRECT(ADDRESS(ROW()-7,COLUMN()+1)),3)=\"13-\",\"Срок годности: 5 суток\",\"Срок годности: 10 суток\")","v":"Срок годности: 10 суток"},null,null,null,null,null,null,null,null,null,20,1]
[{"$f":"$A$10","v":0},null,"кг",null,null,null,null,null,null,null,20,1]
["Масса нетто: ","----------------------------",null,null,null,null,null,null,null,null,20,1]
[4,null,null,null,null,null,null,null,null,null,20,1]
[{"$f":"$A$2","v":"Бананы св. вес. 1кл"},{"$f":"'[1]Банан расч'!E5","v":"34-2"},null,null,null,null,null,null,null,null,20,1]
[{"$f":"IF(INDIRECT(ADDRESS(ROW()-1,COLUMN()+1))=\"Хосп-4\",\"\",\"ГОСТ Р 51603-2000\")","v":"ГОСТ Р 51603-2000"},"Учреждение",null,null,null,null,null,null,null,null,20,1]
[{"$f":"$A$4","v":"ТР ТС 021/2011 ТР ТС 022/2011"},null,null,null,null,null,null,null,null,null,20,1]
[{"$f":"$A$5","v":"Изготовитель: Эквадор"},null,null,null,null,null,null,null,null,null,19,1]
[{"$f":"$A$6","v":"\"AGZULASA CIA LTDA\""},null,null,null,null,null,null,null,null,null,19,1]
[{"$f":"$A$7","v":"Дата фасовки: 12.09.2018"},{"$f":"K5","v":27},null,null,null,null,null,null,null,null,19,1]
[{"$f":"$A$8","v":"Условия хранения: +13°С до +14 °С"},null,null,null,null,null,null,null,null,null,19,1]
[{"$f":"IF(LEFT(INDIRECT(ADDRESS(ROW()-7,COLUMN()+1)),3)=\"13-\",\"Срок годности: 5 суток\",\"Срок годности: 10 суток\")","v":"Срок годности: 10 суток"},null,null,null,null,null,null,null,null,null,18.5,1]
[{"$f":"$A$10","v":0},null,"кг",null,null,null,null,null,null,null,18,1]
["Масса нетто: ","----------------------------",null,null,null,null,null,null,null,null,18,1]
[5,null,null,null,null,null,null,null,null,null,18,1]
[{"$f":"$A$2","v":"Бананы св. вес. 1кл"},{"$f":"'[1]Банан расч'!E6","v":"141"},null,null,null,null,null,null,null,null,17,1]
[{"$f":"IF(INDIRECT(ADDRESS(ROW()-1,COLUMN()+1))=\"Хосп-4\",\"\",\"ГОСТ Р 51603-2000\")","v":"ГОСТ Р 51603-2000"},"Учреждение",null,null,null,null,null,null,null,null,17,1]
[{"$f":"$A$4","v":"ТР ТС 021/2011 ТР ТС 022/2011"},null,null,null,null,null,null,null,null,null,17,1]
[{"$f":"$A$5","v":"Изготовитель: Эквадор"},null,null,null,null,null,null,null,null,null,16,1]
[{"$f":"$A$6","v":"\"AGZULASA CIA LTDA\""},null,null,null,null,null,null,null,null,null,16,1]
[{"$f":"$A$7","v":"Дата фасовки: 12.09.2018"},{"$f":"K6","v":27},null,null,null,null,null,null,null,null,16,1]
[{"$f":"$A$8","v":"Условия хранения: +13°С до +14 °С"},null,null,null,null,null,null,null,null,null,15.5,1]
[{"$f":"IF(LEFT(INDIRECT(ADDRESS(ROW()-7,COLUMN()+1)),3)=\"13-\",\"Срок годности: 5 суток\",\"Срок годности: 10 суток\")","v":"Срок годности: 10 суток"},null,null,null,null,null,null,null,null,null,15,1]
[{"$f":"$A$10","v":0},null,"кг",null,null,null,null,null,null,null,14.6,1]
["Масса нетто: ","----------------------------",null,null,null,null,null,null,null,null,14,1]
[6,null,null,null,null,null,null,null,null,null,14,1]
[{"$f":"$A$2","v":"Бананы св. вес. 1кл"},{"$f":"'[1]Банан расч'!E7","v":"140"},null,null,null,null,null,null,null,null,14,1]
[{"$f":"IF(INDIRECT(ADDRESS(ROW()-1,COLUMN()+1))=\"Хосп-4\",\"\",\"ГОСТ Р 51603-2000\")","v":"ГОСТ Р 51603-2000"},"Учреждение",null,null,null,null,null,null,null,null,12.7,1]
[{"$f":"$A$4","v":"ТР ТС 021/2011 ТР ТС 022/2011"},null,null,null,null,null,null,null,null,null,12.5,1]
[{"$f":"$A$5","v":"Изготовитель: Эквадор"},null,null,null,null,null,null,null,null,null,12,1]
[{"$f":"$A$6","v":"\"AGZULASA CIA LTDA\""},null,null,null,null,null,null,null,null,null,12,1]
[{"$f":"$A$7","v":"Дата фасовки: 12.09.2018"},{"$f":"K7","v":26.5},null,null,null,null,null,null,null,null,12,1]
[{"$f":"$A$8","v":"Условия хранения: +13°С до +14 °С"},null,null,null,null,null,null,null,null,null,12,1]
[{"$f":"IF(LEFT(INDIRECT(ADDRESS(ROW()-7,COLUMN()+1)),3)=\"13-\",\"Срок годности: 5 суток\",\"Срок годности: 10 суток\")","v":"Срок годности: 10 суток"},null,null,null,null,null,null,null,null,null,11,1]
[{"$f":"$A$10","v":0},null,"кг",null,null,null,null,null,null,null,10,1]
["Масса нетто: ","----------------------------",null,null,null,null,null,null,null,null,10,1]
[7,null,null,null,null,null,null,null,null,null,10,1]
[{"$f":"$A$2","v":"Бананы св. вес. 1кл"},{"$f":"'[1]Банан расч'!E8","v":"122"},null,null,null,null,null,null,null,null,10,1]
[{"$f":"IF(INDIRECT(ADDRESS(ROW()-1,COLUMN()+1))=\"Хосп-4\",\"\",\"ГОСТ Р 51603-2000\")","v":"ГОСТ Р 51603-2000"},"Учреждение",null,null,null,null,null,null,null,null,10,1]
[{"$f":"$A$4","v":"ТР ТС 021/2011 ТР ТС 022/2011"},null,null,null,null,null,null,null,null,null,9.6,1]
[{"$f":"$A$5","v":"Изготовитель: Эквадор"},null,null,null,null,null,null,null,null,null,9,1]
[{"$f":"$A$6","v":"\"AGZULASA CIA LTDA\""},null,null,null,null,null,null,null,null,null,8.8000000000000007,1]
[{"$f":"$A$7","v":"Дата фасовки: 12.09.2018"},{"$f":"K8","v":26},null,null,null,null,null,null,null,null,8.6999999999999993,1]
[{"$f":"$A$8","v":"Условия хранения: +13°С до +14 °С"},null,null,null,null,null,null,null,null,null,8.2249999999999996,1]
[{"$f":"IF(LEFT(INDIRECT(ADDRESS(ROW()-7,COLUMN()+1)),3)=\"13-\",\"Срок годности: 5 суток\",\"Срок годности: 10 суток\")","v":"Срок годности: 10 суток"},null,null,null,null,null,null,null,null,null,8,1]
[{"$f":"$A$10","v":0},null,"кг",null,null,null,null,null,null,null,8,1]
["Масса нетто: ","----------------------------",null,null,null,null,null,null,null,null,6.5,1]
[8,null,null,null,null,null,null,null,null,null,6,1]
[{"$f":"$A$2","v":"Бананы св. вес. 1кл"},{"$f":"'[1]Банан расч'!E9","v":"36"},null,null,null,null,null,null,null,null,6,1]
[{"$f":"IF(INDIRECT(ADDRESS(ROW()-1,COLUMN()+1))=\"Хосп-4\",\"\",\"ГОСТ Р 51603-2000\")","v":"ГОСТ Р 51603-2000"},"Учреждение",null,null,null,null,null,null,null,null,6,1]
[{"$f":"$A$4","v":"ТР ТС 021/2011 ТР ТС 022/2011"},null,null,null,null,null,null,null,null,null,6,1]
[{"$f":"$A$5","v":"Изготовитель: Эквадор"},null,null,null,null,null,null,null,null,null,6,1]
[{"$f":"$A$6","v":"\"AGZULASA CIA LTDA\""},null,null,null,null,null,null,null,null,null,6,1]
[{"$f":"$A$7","v":"Дата фасовки: 12.09.2018"},{"$f":"K9","v":25},null,null,null,null,null,null,null,null,6,1]
[{"$f":"$A$8","v":"Условия хранения: +13°С до +14 °С"},null,null,null,null,null,null,null,null,null,5.3,1]
[{"$f":"IF(LEFT(INDIRECT(ADDRESS(ROW()-7,COLUMN()+1)),3)=\"13-\",\"Срок годности: 5 суток\",\"Срок годности: 10 суток\")","v":"Срок годности: 10 суток"},null,null,null,null,null,null,null,null,null,5,1]
[{"$f":"$A$10","v":0},null,"кг",null,null,null,null,null,null,null,5,1]
["Масса нетто: ","----------------------------",null,null,null,null,null,null,null,null,5,1]
[9,null,null,null,null,null,null,null,null,null,4.8,1]
[{"$f":"$A$2","v":"Бананы св. вес. 1кл"},{"$f":"'[1]Банан расч'!E10","v":"295"},null,null,null,null,null,null,null,null,4,1]
[{"$f":"IF(INDIRECT(ADDRESS(ROW()-1,COLUMN()+1))=\"Хосп-4\",\"\",\"ГОСТ Р 51603-2000\")","v":"ГОСТ Р 51603-2000"},"Учреждение",null,null,null,null,null,null,null,null,3.8,1]
[{"$f":"$A$4","v":"ТР ТС 021/2011 ТР ТС 022/2011"},null,null,null,null,null,null,null,null,null,3.8,1]
[{"$f":"$A$5","v":"Изготовитель: Эквадор"},null,null,null,null,null,null,null,null,null,3.5,1]
[{"$f":"$A$6","v":"\"AGZULASA CIA LTDA\""},null,null,null,null,null,null,null,null,null,3.1,1]
[{"$f":"$A$7","v":"Дата фасовки: 12.09.2018"},{"$f":"K10","v":25},null,null,null,null,null,null,null,null,2,1]
[{"$f":"$A$8","v":"Условия хранения: +13°С до +14 °С"},null,null,null,null,null,null,null,null,null,0,0]
[{"$f":"IF(LEFT(INDIRECT(ADDRESS(ROW()-7,COLUMN()+1)),3)=\"13-\",\"Срок годности: 5 суток\",\"Срок годности: 10 суток\")","v":"Срок годности: 10 суток"},null,null,null,null,null,null,null,null,null,0,0]
[{"$f":"$A$10","v":0},null,"кг",null,null,null,null,null,null,null,0,0]
["Масса нетто: ","----------------------------",null,null,null,null,null,null,null,null,null,143]
[0]
[{"$f":"$A$2","v":"Бананы св. вес. 1кл"},{"$f":"'[1]Банан расч'!E11","v":"113"}]
[{"$f":"IF(INDIRECT(ADDRESS(ROW()-1,COLUMN()+1))=\"Хосп-4\",\"\",\"ГОСТ Р 51603-2000\")","v":"ГОСТ Р 51603-2000"},"Учреждение"]
[{"$f":"$A$4","v":"ТР ТС 021/2011 ТР ТС 022/2011"}]
[{"$f":"$A$5","v":"Изготовитель: Эквадор"}]
[{"$f":"$A$6","v":"\"AGZULASA CIA LTDA\""}]
[{"$f":"$A$7","v":"Дата фасовки: 12.09.2018"},{"$f":"K11","v":25}]
[{"$f":"$A$8","v":"Условия хранения: +13°С до +14 °С"}]
[{"$f":"IF(LEFT(INDIRECT(ADDRESS(ROW()-7,COLUMN()+1)),3)=\"13-\",\"Срок годности: 5 суток\",\"Срок годности: 10 суток\")","v":"Срок годности: 10 суток"}]
[{"$f":"$A$10","v":0},null,"кг"]
["Масса нетто: ","----------------------------"]
[1]
[{"$f":"$A$2","v":"Бананы св. вес. 1кл"},{"$f":"'[1]Банан расч'!E12","v":"135-1"}]
[{"$f":"IF(INDIRECT(ADDRESS(ROW()-1,COLUMN()+1))=\"Хосп-4\",\"\",\"ГОСТ Р 51603-2000\")","v":"ГОСТ Р 51603-2000"},"Учреждение"]
[{"$f":"$A$4","v":"ТР ТС 021/2011 ТР ТС 022/2011"}]
[{"$f":"$A$5","v":"Изготовитель: Эквадор"}]
[{"$f":"$A$6","v":"\"AGZULASA CIA LTDA\""}]
[{"$f":"$A$7","v":"Дата фасовки: 12.09.2018"},{"$f":"K12","v":25}]
[{"$f":"$A$8","v":"Условия хранения: +13°С до +14 °С"}]
[{"$f":"IF(LEFT(INDIRECT(ADDRESS(ROW()-7,COLUMN()+1)),3)=\"13-\",\"Срок годности: 5 суток\",\"Срок годности: 10 суток\")","v":"Срок годности: 10 суток"}]
[{"$f":"$A$10","v":0},null,"кг"]
["Масса нетто: ","----------------------------"]
[2]
[{"$f":"$A$2","v":"Бананы св. вес. 1кл"},{"$f":"'[1]Банан расч'!E13","v":"7-1"}]
[{"$f":"IF(INDIRECT(ADDRESS(ROW()-1,COLUMN()+1))=\"Хосп-4\",\"\",\"ГОСТ Р 51603-2000\")","v":"ГОСТ Р 51603-2000"},"Учреждение"]
[{"$f":"$A$4","v":"ТР ТС 021/2011 ТР ТС 022/2011"}]
[{"$f":"$A$5","v":"Изготовитель: Эквадор"}]
[{"$f":"$A$6","v":"\"AGZULASA CIA LTDA\""}]
[{"$f":"$A$7","v":"Дата фасовки: 12.09.2018"},{"$f":"K13","v":25}]
[{"$f":"$A$8","v":"Условия хранения: +13°С до +14 °С"}]
[{"$f":"IF(LEFT(INDIRECT(ADDRESS(ROW()-7,COLUMN()+1)),3)=\"13-\",\"Срок годности: 5 суток\",\"Срок годности: 10 суток\")","v":"Срок годности: 10 суток"}]
[{"$f":"$A$10","v":0},null,"кг"]
["Масса нетто: ","----------------------------"]
[3]
[{"$f":"$A$2","v":"Бананы св. вес. 1кл"},{"$f":"'[1]Банан расч'!E14","v":"6-2"}]
[{"$f":"IF(INDIRECT(ADDRESS(ROW()-1,COLUMN()+1))=\"Хосп-4\",\"\",\"ГОСТ Р 51603-2000\")","v":"ГОСТ Р 51603-2000"},"Учреждение"]
[{"$f":"$A$4","v":"ТР ТС 021/2011 ТР ТС 022/2011"}]
[{"$f":"$A$5","v":"Изготовитель: Эквадор"}]
[{"$f":"$A$6","v":"\"AGZULASA CIA LTDA\""}]
[{"$f":"$A$7","v":"Дата фасовки: 12.09.2018"},{"$f":"K14","v":25}]
[{"$f":"$A$8","v":"Условия хранения: +13°С до +14 °С"}]
[{"$f":"IF(LEFT(INDIRECT(ADDRESS(ROW()-7,COLUMN()+1)),3)=\"13-\",\"Срок годности: 5 суток\",\"Срок годности: 10 суток\")","v":"Срок годности: 10 суток"}]
[{"$f":"$A$10","v":0},null,"кг"]
["Масса нетто: ","----------------------------"]
[4]
[{"$f":"$A$2","v":"Бананы св. вес. 1кл"},{"$f":"'[1]Банан расч'!E15","v":"139"}]
[{"$f":"IF(INDIRECT(ADDRESS(ROW()-1,COLUMN()+1))=\"Хосп-4\",\"\",\"ГОСТ Р 51603-2000\")","v":"ГОСТ Р 51603-2000"},"Учреждение"]
[{"$f":"$A$4","v":"ТР ТС 021/2011 ТР ТС 022/2011"}]
[{"$f":"$A$5","v":"Изготовитель: Эквадор"}]
[{"$f":"$A$6","v":"\"AGZULASA CIA LTDA\""}]
[{"$f":"$A$7","v":"Дата фасовки: 12.09.2018"},{"$f":"K15","v":25}]
[{"$f":"$A$8","v":"Условия хранения: +13°С до +14 °С"}]
[{"$f":"IF(LEFT(INDIRECT(ADDRESS(ROW()-7,COLUMN()+1)),3)=\"13-\",\"Срок годности: 5 суток\",\"Срок годности: 10 суток\")","v":"Срок годности: 10 суток"}]
[{"$f":"$A$10","v":0},null,"кг"]
["Масса нетто: ","----------------------------"]
[5]
[{"$f":"$A$2","v":"Бананы св. вес. 1кл"},{"$f":"'[1]Банан расч'!E16","v":"34-1"}]
[{"$f":"IF(INDIRECT(ADDRESS(ROW()-1,COLUMN()+1))=\"Хосп-4\",\"\",\"ГОСТ Р 51603-2000\")","v":"ГОСТ Р 51603-2000"},"Учреждение"]
[{"$f":"$A$4","v":"ТР ТС 021/2011 ТР ТС 022/2011"}]
[{"$f":"$A$5","v":"Изготовитель: Эквадор"}]
[{"$f":"$A$6","v":"\"AGZULASA CIA LTDA\""}]
[{"$f":"$A$7","v":"Дата фасовки: 12.09.2018"},{"$f":"K16","v":24}]
[{"$f":"$A$8","v":"Условия хранения: +13°С до +14 °С"}]
[{"$f":"IF(LEFT(INDIRECT(ADDRESS(ROW()-7,COLUMN()+1)),3)=\"13-\",\"Срок годности: 5 суток\",\"Срок годности: 10 суток\")","v":"Срок годности: 10 суток"}]
[{"$f":"$A$10","v":0},null,"кг"]
["Масса нетто: ","----------------------------"]
[6]
[{"$f":"$A$2","v":"Бананы св. вес. 1кл"},{"$f":"'[1]Банан расч'!E17","v":"99"}]
[{"$f":"IF(INDIRECT(ADDRESS(ROW()-1,COLUMN()+1))=\"Хосп-4\",\"\",\"ГОСТ Р 51603-2000\")","v":"ГОСТ Р 51603-2000"},"Учреждение"]
[{"$f":"$A$4","v":"ТР ТС 021/2011 ТР ТС 022/2011"}]
[{"$f":"$A$5","v":"Изготовитель: Эквадор"}]
[{"$f":"$A$6","v":"\"AGZULASA CIA LTDA\""}]
[{"$f":"$A$7","v":"Дата фасовки: 12.09.2018"},{"$f":"K17","v":24}]
[{"$f":"$A$8","v":"Условия хранения: +13°С до +14 °С"}]
[{"$f":"IF(LEFT(INDIRECT(ADDRESS(ROW()-7,COLUMN()+1)),3)=\"13-\",\"Срок годности: 5 суток\",\"Срок годности: 10 суток\")","v":"Срок годности: 10 суток"}]
[{"$f":"$A$10","v":0},null,"кг"]
["Масса нетто: ","----------------------------"]
[7]
[{"$f":"$A$2","v":"Бананы св. вес. 1кл"},{"$f":"'[1]Банан расч'!E18","v":"135-2"}]
[{"$f":"IF(INDIRECT(ADDRESS(ROW()-1,COLUMN()+1))=\"Хосп-4\",\"\",\"ГОСТ Р 51603-2000\")","v":"ГОСТ Р 51603-2000"},"Учреждение"]
[{"$f":"$A$4","v":"ТР ТС 021/2011 ТР ТС 022/2011"}]
[{"$f":"$A$5","v":"Изготовитель: Эквадор"}]
[{"$f":"$A$6","v":"\"AGZULASA CIA LTDA\""}]
[{"$f":"$A$7","v":"Дата фасовки: 12.09.2018"},{"$f":"K18","v":24}]
[{"$f":"$A$8","v":"Условия хранения: +13°С до +14 °С"}]
[{"$f":"IF(LEFT(INDIRECT(ADDRESS(ROW()-7,COLUMN()+1)),3)=\"13-\",\"Срок годности: 5 суток\",\"Срок годности: 10 суток\")","v":"Срок годности: 10 суток"}]
[{"$f":"$A$10","v":0},null,"кг"]
["Масса нетто: ","----------------------------"]
[8]
[{"$f":"$A$2","v":"Бананы св. вес. 1кл"},{"$f":"'[1]Банан расч'!E19","v":"120"}]
[{"$f":"IF(INDIRECT(ADDRESS(ROW()-1,COLUMN()+1))=\"Хосп-4\",\"\",\"ГОСТ Р 51603-2000\")","v":"ГОСТ Р 51603-2000"},"Учреждение"]
[{"$f":"$A$4","v":"ТР ТС 021/2011 ТР ТС 022/2011"}]
[{"$f":"$A$5","v":"Изготовитель: Эквадор"}]
[{"$f":"$A$6","v":"\"AGZULASA CIA LTDA\""}]
[{"$f":"$A$7","v":"Дата фасовки: 12.09.2018"},{"$f":"K19","v":24}]
[{"$f":"$A$8","v":"Условия хранения: +13°С до +14 °С"}]
[{"$f":"IF(LEFT(INDIRECT(ADDRESS(ROW()-7,COLUMN()+1)),3)=\"13-\",\"Срок годности: 5 суток\",\"Срок годности: 10 суток\")","v":"Срок годности: 10 суток"}]
[{"$f":"$A$10","v":0},null,"кг"]
["Масса нетто: ","----------------------------"]
[9]
[{"$f":"$A$2","v":"Бананы св. вес. 1кл"},{"$f":"'[1]Банан расч'!E20","v":"104"}]
[{"$f":"IF(INDIRECT(ADDRESS(ROW()-1,COLUMN()+1))=\"Хосп-4\",\"\",\"ГОСТ Р 51603-2000\")","v":"ГОСТ Р 51603-2000"},"Учреждение"]
[{"$f":"$A$4","v":"ТР ТС 021/2011 ТР ТС 022/2011"}]
[{"$f":"$A$5","v":"Изготовитель: Эквадор"}]
[{"$f":"$A$6","v":"\"AGZULASA CIA LTDA\""}]
[{"$f":"$A$7","v":"Дата фасовки: 12.09.2018"},{"$f":"K20","v":24}]
[{"$f":"$A$8","v":"Условия хранения: +13°С до +14 °С"}]
[{"$f":"IF(LEFT(INDIRECT(ADDRESS(ROW()-7,COLUMN()+1)),3)=\"13-\",\"Срок годности: 5 суток\",\"Срок годности: 10 суток\")","v":"Срок годности: 10 суток"}]
[{"$f":"$A$10","v":0},null,"кг"]
["Масса нетто: ","----------------------------"]
[20]
[{"$f":"$A$2","v":"Бананы св. вес. 1кл"},{"$f":"'[1]Банан расч'!E21","v":"457"}]
[{"$f":"IF(INDIRECT(ADDRESS(ROW()-1,COLUMN()+1))=\"Хосп-4\",\"\",\"ГОСТ Р 51603-2000\")","v":"ГОСТ Р 51603-2000"},"Учреждение"]
[{"$f":"$A$4","v":"ТР ТС 021/2011 ТР ТС 022/2011"}]
[{"$f":"$A$5","v":"Изготовитель: Эквадор"}]
[{"$f":"$A$6","v":"\"AGZULASA CIA LTDA\""}]
[{"$f":"$A$7","v":"Дата фасовки: 12.09.2018"},{"$f":"K21","v":23.5}]
[{"$f":"$A$8","v":"Условия хранения: +13°С до +14 °С"}]
[{"$f":"IF(LEFT(INDIRECT(ADDRESS(ROW()-7,COLUMN()+1)),3)=\"13-\",\"Срок годности: 5 суток\",\"Срок годности: 10 суток\")","v":"Срок годности: 10 суток"}]
[{"$f":"$A$10","v":0},null,"кг"]
["Масса нетто: ","----------------------------"]
[21]
[{"$f":"$A$2","v":"Бананы св. вес. 1кл"},{"$f":"'[1]Банан расч'!E22","v":"119"}]
[{"$f":"IF(INDIRECT(ADDRESS(ROW()-1,COLUMN()+1))=\"Хосп-4\",\"\",\"ГОСТ Р 51603-2000\")","v":"ГОСТ Р 51603-2000"},"Учреждение"]
[{"$f":"$A$4","v":"ТР ТС 021/2011 ТР ТС 022/2011"}]
[{"$f":"$A$5","v":"Изготовитель: Эквадор"}]
[{"$f":"$A$6","v":"\"AGZULASA CIA LTDA\""}]
[{"$f":"$A$7","v":"Дата фасовки: 12.09.2018"},{"$f":"K22","v":23.2}]
[{"$f":"$A$8","v":"Условия хранения: +13°С до +14 °С"}]
[{"$f":"IF(LEFT(INDIRECT(ADDRESS(ROW()-7,COLUMN()+1)),3)=\"13-\",\"Срок годности: 5 суток\",\"Срок годности: 10 суток\")","v":"Срок годности: 10 суток"}]
[{"$f":"$A$10","v":0},null,"кг"]
["Масса нетто: ","----------------------------"]
[22]
[{"$f":"$A$2","v":"Бананы св. вес. 1кл"},{"$f":"'[1]Банан расч'!E23","v":"67"}]
[{"$f":"IF(INDIRECT(ADDRESS(ROW()-1,COLUMN()+1))=\"Хосп-4\",\"\",\"ГОСТ Р 51603-2000\")","v":"ГОСТ Р 51603-2000"},"Учреждение"]
[{"$f":"$A$4","v":"ТР ТС 021/2011 ТР ТС 022/2011"}]
[{"$f":"$A$5","v":"Изготовитель: Эквадор"}]
[{"$f":"$A$6","v":"\"AGZULASA CIA LTDA\""}]
[{"$f":"$A$7","v":"Дата фасовки: 12.09.2018"},{"$f":"K23","v":23}]
[{"$f":"$A$8","v":"Условия хранения: +13°С до +14 °С"}]
[{"$f":"IF(LEFT(INDIRECT(ADDRESS(ROW()-7,COLUMN()+1)),3)=\"13-\",\"Срок годности: 5 суток\",\"Срок годности: 10 суток\")","v":"Срок годности: 10 суток"}]
[{"$f":"$A$10","v":0},null,"кг"]
["Масса нетто: "]
[23]
[{"$f":"$A$2","v":"Бананы св. вес. 1кл"},{"$f":"'[1]Банан расч'!E24","v":"43"}]
[{"$f":"IF(INDIRECT(ADDRESS(ROW()-1,COLUMN()+1))=\"Хосп-4\",\"\",\"ГОСТ Р 51603-2000\")","v":"ГОСТ Р 51603-2000"},"Учреждение"]
[{"$f":"$A$4","v":"ТР ТС 021/2011 ТР ТС 022/2011"}]
[{"$f":"$A$5","v":"Изготовитель: Эквадор"}]
[{"$f":"$A$6","v":"\"AGZULASA CIA LTDA\""}]
[{"$f":"$A$7","v":"Дата фасовки: 12.09.2018"},{"$f":"K24","v":23}]
[{"$f":"$A$8","v":"Условия хранения: +13°С до +14 °С"}]
[{"$f":"IF(LEFT(INDIRECT(ADDRESS(ROW()-7,COLUMN()+1)),3)=\"13-\",\"Срок годности: 5 суток\",\"Срок годности: 10 суток\")","v":"Срок годности: 10 суток"}]
[{"$f":"$A$10","v":0},null,"кг"]
["Масса нетто: ","----------------------------"]
[24]
[{"$f":"$A$2","v":"Бананы св. вес. 1кл"},{"$f":"'[1]Банан расч'!E25","v":"103"}]
[{"$f":"IF(INDIRECT(ADDRESS(ROW()-1,COLUMN()+1))=\"Хосп-4\",\"\",\"ГОСТ Р 51603-2000\")","v":"ГОСТ Р 51603-2000"},"Учреждение"]
[{"$f":"$A$4","v":"ТР ТС 021/2011 ТР ТС 022/2011"}]
[{"$f":"$A$5","v":"Изготовитель: Эквадор"}]
[{"$f":"$A$6","v":"\"AGZULASA CIA LTDA\""}]
[{"$f":"$A$7","v":"Дата фасовки: 12.09.2018"},{"$f":"K25","v":23}]
[{"$f":"$A$8","v":"Условия хранения: +13°С до +14 °С"}]
[{"$f":"IF(LEFT(INDIRECT(ADDRESS(ROW()-7,COLUMN()+1)),3)=\"13-\",\"Срок годности: 5 суток\",\"Срок годности: 10 суток\")","v":"Срок годности: 10 суток"}]
[{"$f":"$A$10","v":0},null,"кг"]
["Масса нетто: ","----------------------------"]
[25]
[{"$f":"$A$2","v":"Бананы св. вес. 1кл"},{"$f":"'[1]Банан расч'!E26","v":"74-1"}]
[{"$f":"IF(INDIRECT(ADDRESS(ROW()-1,COLUMN()+1))=\"Хосп-4\",\"\",\"ГОСТ Р 51603-2000\")","v":"ГОСТ Р 51603-2000"},"Учреждение"]
[{"$f":"$A$4","v":"ТР ТС 021/2011 ТР ТС 022/2011"}]
[{"$f":"$A$5","v":"Изготовитель: Эквадор"}]
[{"$f":"$A$6","v":"\"AGZULASA CIA LTDA\""}]
[{"$f":"$A$7","v":"Дата фасовки: 12.09.2018"},{"$f":"K26","v":23}]
[{"$f":"$A$8","v":"Условия хранения: +13°С до +14 °С"}]
[{"$f":"IF(LEFT(INDIRECT(ADDRESS(ROW()-7,COLUMN()+1)),3)=\"13-\",\"Срок годности: 5 суток\",\"Срок годности: 10 суток\")","v":"Срок годности: 10 суток"}]
[{"$f":"$A$10","v":0},null,"кг"]
["Масса нетто: ","----------------------------"]
[26]
[{"$f":"$A$2","v":"Бананы св. вес. 1кл"},{"$f":"'[1]Банан расч'!E27","v":"65"}]
[{"$f":"IF(INDIRECT(ADDRESS(ROW()-1,COLUMN()+1))=\"Хосп-4\",\"\",\"ГОСТ Р 51603-2000\")","v":"ГОСТ Р 51603-2000"},"Учреждение"]
[{"$f":"$A$4","v":"ТР ТС 021/2011 ТР ТС 022/2011"}]
[{"$f":"$A$5","v":"Изготовитель: Эквадор"}]
[{"$f":"$A$6","v":"\"AGZULASA CIA LTDA\""}]
[{"$f":"$A$7","v":"Дата фасовки: 12.09.2018"},{"$f":"K27","v":23}]
[{"$f":"$A$8","v":"Условия хранения: +13°С до +14 °С"}]
[{"$f":"IF(LEFT(INDIRECT(ADDRESS(ROW()-7,COLUMN()+1)),3)=\"13-\",\"Срок годности: 5 суток\",\"Срок годности: 10 суток\")","v":"Срок годности: 10 суток"}]
[{"$f":"$A$10","v":0},null,"кг"]
["Масса нетто: ","----------------------------"]
[27]
[{"$f":"$A$2","v":"Бананы св. вес. 1кл"},{"$f":"'[1]Банан расч'!E28","v":"27"}]
[{"$f":"IF(INDIRECT(ADDRESS(ROW()-1,COLUMN()+1))=\"Хосп-4\",\"\",\"ГОСТ Р 51603-2000\")","v":"ГОСТ Р 51603-2000"},"Учреждение"]
[{"$f":"$A$4","v":"ТР ТС 021/2011 ТР ТС 022/2011"}]
[{"$f":"$A$5","v":"Изготовитель: Эквадор"}]
[{"$f":"$A$6","v":"\"AGZULASA CIA LTDA\""}]
[{"$f":"$A$7","v":"Дата фасовки: 12.09.2018"},{"$f":"K28","v":22.5}]
[{"$f":"$A$8","v":"Условия хранения: +13°С до +14 °С"}]
[{"$f":"IF(LEFT(INDIRECT(ADDRESS(ROW()-7,COLUMN()+1)),3)=\"13-\",\"Срок годности: 5 суток\",\"Срок годности: 10 суток\")","v":"Срок годности: 10 суток"}]
[{"$f":"$A$10","v":0},null,"кг"]
["Масса нетто: ","----------------------------"]
[28]
[{"$f":"$A$2","v":"Бананы св. вес. 1кл"},{"$f":"'[1]Банан расч'!E29","v":"72-1"}]
[{"$f":"IF(INDIRECT(ADDRESS(ROW()-1,COLUMN()+1))=\"Хосп-4\",\"\",\"ГОСТ Р 51603-2000\")","v":"ГОСТ Р 51603-2000"},"Учреждение"]
[{"$f":"$A$4","v":"ТР ТС 021/2011 ТР ТС 022/2011"}]
[{"$f":"$A$5","v":"Изготовитель: Эквадор"}]
[{"$f":"$A$6","v":"\"AGZULASA CIA LTDA\""}]
[{"$f":"$A$7","v":"Дата фасовки: 12.09.2018"},{"$f":"K29","v":22}]
[{"$f":"$A$8","v":"Условия хранения: +13°С до +14 °С"}]
[{"$f":"IF(LEFT(INDIRECT(ADDRESS(ROW()-7,COLUMN()+1)),3)=\"13-\",\"Срок годности: 5 суток\",\"Срок годности: 10 суток\")","v":"Срок годности: 10 суток"}]
[{"$f":"$A$10","v":0},null,"кг"]
["Масса нетто: ","----------------------------"]
[29]
[{"$f":"$A$2","v":"Бананы св. вес. 1кл"},{"$f":"'[1]Банан расч'!E30","v":"79"}]
[{"$f":"IF(INDIRECT(ADDRESS(ROW()-1,COLUMN()+1))=\"Хосп-4\",\"\",\"ГОСТ Р 51603-2000\")","v":"ГОСТ Р 51603-2000"},"Учреждение"]
[{"$f":"$A$4","v":"ТР ТС 021/2011 ТР ТС 022/2011"}]
[{"$f":"$A$5","v":"Изготовитель: Эквадор"}]
[{"$f":"$A$6","v":"\"AGZULASA CIA LTDA\""}]
[{"$f":"$A$7","v":"Дата фасовки: 12.09.2018"},{"$f":"K30","v":22}]
[{"$f":"$A$8","v":"Условия хранения: +13°С до +14 °С"}]
[{"$f":"IF(LEFT(INDIRECT(ADDRESS(ROW()-7,COLUMN()+1)),3)=\"13-\",\"Срок годности: 5 суток\",\"Срок годности: 10 суток\")","v":"Срок годности: 10 суток"}]
[{"$f":"$A$10","v":0},null,"кг"]
["Масса нетто: ","----------------------------"]
[30]
[{"$f":"$A$2","v":"Бананы св. вес. 1кл"},{"$f":"'[1]Банан расч'!E31","v":"74-2"}]
[{"$f":"IF(INDIRECT(ADDRESS(ROW()-1,COLUMN()+1))=\"Хосп-4\",\"\",\"ГОСТ Р 51603-2000\")","v":"ГОСТ Р 51603-2000"},"Учреждение"]
[{"$f":"$A$4","v":"ТР ТС 021/2011 ТР ТС 022/2011"}]
[{"$f":"$A$5","v":"Изготовитель: Эквадор"}]
[{"$f":"$A$6","v":"\"AGZULASA CIA LTDA\""}]
[{"$f":"$A$7","v":"Дата фасовки: 12.09.2018"},{"$f":"K31","v":22}]
[{"$f":"$A$8","v":"Условия хранения: +13°С до +14 °С"}]
[{"$f":"IF(LEFT(INDIRECT(ADDRESS(ROW()-7,COLUMN()+1)),3)=\"13-\",\"Срок годности: 5 суток\",\"Срок годности: 10 суток\")","v":"Срок годности: 10 суток"}]
[{"$f":"$A$10","v":0},null,"кг"]
["Масса нетто: ","----------------------------"]
[31]
[{"$f":"$A$2","v":"Бананы св. вес. 1кл"},{"$f":"'[1]Банан расч'!E32","v":"10"}]
[{"$f":"IF(INDIRECT(ADDRESS(ROW()-1,COLUMN()+1))=\"Хосп-4\",\"\",\"ГОСТ Р 51603-2000\")","v":"ГОСТ Р 51603-2000"},"Учреждение"]
[{"$f":"$A$4","v":"ТР ТС 021/2011 ТР ТС 022/2011"}]
[{"$f":"$A$5","v":"Изготовитель: Эквадор"}]
[{"$f":"$A$6","v":"\"AGZULASA CIA LTDA\""}]
[{"$f":"$A$7","v":"Дата фасовки: 12.09.2018"},{"$f":"K32","v":22}]
[{"$f":"$A$8","v":"Условия хранения: +13°С до +14 °С"}]
[{"$f":"IF(LEFT(INDIRECT(ADDRESS(ROW()-7,COLUMN()+1)),3)=\"13-\",\"Срок годности: 5 суток\",\"Срок годности: 10 суток\")","v":"Срок годности: 10 суток"}]
[{"$f":"$A$10","v":0},null,"кг"]
["Масса нетто: ","----------------------------"]
[32]
[{"$f":"$A$2","v":"Бананы св. вес. 1кл"},{"$f":"'[1]Банан расч'!E33","v":"137"}]
[{"$f":"IF(INDIRECT(ADDRESS(ROW()-1,COLUMN()+1))=\"Хосп-4\",\"\",\"ГОСТ Р 51603-2000\")","v":"ГОСТ Р 51603-2000"},"Учреждение"]
[{"$f":"$A$4","v":"ТР ТС 021/2011 ТР ТС 022/2011"}]
[{"$f":"$A$5","v":"Изготовитель: Эквадор"}]
[{"$f":"$A$6","v":"\"AGZULASA CIA LTDA\""}]
[{"$f":"$A$7","v":"Дата фасовки: 12.09.2018"},{"$f":"K33","v":22}]
[{"$f":"$A$8","v":"Условия хранения: +13°С до +14 °С"}]
[{"$f":"IF(LEFT(INDIRECT(ADDRESS(ROW()-7,COLUMN()+1)),3)=\"13-\",\"Срок годности: 5 суток\",\"Срок годности: 10 суток\")","v":"Срок годности: 10 суток"}]
[{"$f":"$A$10","v":0},null,"кг"]
["Масса нетто: ","----------------------------"]
[33]
[{"$f":"$A$2","v":"Бананы св. вес. 1кл"},{"$f":"'[1]Банан расч'!E34","v":"111"}]
[{"$f":"IF(INDIRECT(ADDRESS(ROW()-1,COLUMN()+1))=\"Хосп-4\",\"\",\"ГОСТ Р 51603-2000\")","v":"ГОСТ Р 51603-2000"},"Учреждение"]
[{"$f":"$A$4","v":"ТР ТС 021/2011 ТР ТС 022/2011"}]
[{"$f":"$A$5","v":"Изготовитель: Эквадор"}]
[{"$f":"$A$6","v":"\"AGZULASA CIA LTDA\""}]
[{"$f":"$A$7","v":"Дата фасовки: 12.09.2018"},{"$f":"K34","v":21.6}]
[{"$f":"$A$8","v":"Условия хранения: +13°С до +14 °С"}]
[{"$f":"IF(LEFT(INDIRECT(ADDRESS(ROW()-7,COLUMN()+1)),3)=\"13-\",\"Срок годности: 5 суток\",\"Срок годности: 10 суток\")","v":"Срок годности: 10 суток"}]
[{"$f":"$A$10","v":0},null,"кг"]
["Масса нетто: ","----------------------------"]
[34]
[{"$f":"$A$2","v":"Бананы св. вес. 1кл"},{"$f":"'[1]Банан расч'!E35","v":"117"}]
[{"$f":"IF(INDIRECT(ADDRESS(ROW()-1,COLUMN()+1))=\"Хосп-4\",\"\",\"ГОСТ Р 51603-2000\")","v":"ГОСТ Р 51603-2000"},"Учреждение"]
[{"$f":"$A$4","v":"ТР ТС 021/2011 ТР ТС 022/2011"}]
[{"$f":"$A$5","v":"Изготовитель: Эквадор"}]
[{"$f":"$A$6","v":"\"AGZULASA CIA LTDA\""}]
[{"$f":"$A$7","v":"Дата фасовки: 12.09.2018"},{"$f":"K35","v":21}]
[{"$f":"$A$8","v":"Условия хранения: +13°С до +14 °С"}]
[{"$f":"IF(LEFT(INDIRECT(ADDRESS(ROW()-7,COLUMN()+1)),3)=\"13-\",\"Срок годности: 5 суток\",\"Срок годности: 10 суток\")","v":"Срок годности: 10 суток"}]
[{"$f":"$A$10","v":0},null,"кг"]
["Масса нетто: ","----------------------------"]
[35]
[{"$f":"$A$2","v":"Бананы св. вес. 1кл"},{"$f":"'[1]Банан расч'!E36","v":"107"}]
[{"$f":"IF(INDIRECT(ADDRESS(ROW()-1,COLUMN()+1))=\"Хосп-4\",\"\",\"ГОСТ Р 51603-2000\")","v":"ГОСТ Р 51603-2000"},"Учреждение"]
[{"$f":"$A$4","v":"ТР ТС 021/2011 ТР ТС 022/2011"}]
[{"$f":"$A$5","v":"Изготовитель: Эквадор"}]
[{"$f":"$A$6","v":"\"AGZULASA CIA LTDA\""}]
[{"$f":"$A$7","v":"Дата фасовки: 12.09.2018"},{"$f":"K36","v":21}]
[{"$f":"$A$8","v":"Условия хранения: +13°С до +14 °С"}]
[{"$f":"IF(LEFT(INDIRECT(ADDRESS(ROW()-7,COLUMN()+1)),3)=\"13-\",\"Срок годности: 5 суток\",\"Срок годности: 10 суток\")","v":"Срок годности: 10 суток"}]
[{"$f":"$A$10","v":0},null,"кг"]
["Масса нетто: ","----------------------------"]
[36]
[{"$f":"$A$2","v":"Бананы св. вес. 1кл"},{"$f":"'[1]Банан расч'!E37","v":"134"}]
[{"$f":"IF(INDIRECT(ADDRESS(ROW()-1,COLUMN()+1))=\"Хосп-4\",\"\",\"ГОСТ Р 51603-2000\")","v":"ГОСТ Р 51603-2000"},"Учреждение"]
[{"$f":"$A$4","v":"ТР ТС 021/2011 ТР ТС 022/2011"}]
[{"$f":"$A$5","v":"Изготовитель: Эквадор"}]
[{"$f":"$A$6","v":"\"AGZULASA CIA LTDA\""}]
[{"$f":"$A$7","v":"Дата фасовки: 12.09.2018"},{"$f":"K37","v":21}]
[{"$f":"$A$8","v":"Условия хранения: +13°С до +14 °С"}]
[{"$f":"IF(LEFT(INDIRECT(ADDRESS(ROW()-7,COLUMN()+1)),3)=\"13-\",\"Срок годности: 5 суток\",\"Срок годности: 10 суток\")","v":"Срок годности: 10 суток"}]
[{"$f":"$A$10","v":0},null,"кг"]
["Масса нетто: ","----------------------------"]
[37]
[{"$f":"$A$2","v":"Бананы св. вес. 1кл"},{"$f":"'[1]Банан расч'!E38","v":"136"}]
[{"$f":"IF(INDIRECT(ADDRESS(ROW()-1,COLUMN()+1))=\"Хосп-4\",\"\",\"ГОСТ Р 51603-2000\")","v":"ГОСТ Р 51603-2000"},"Учреждение"]
[{"$f":"$A$4","v":"ТР ТС 021/2011 ТР ТС 022/2011"}]
[{"$f":"$A$5","v":"Изготовитель: Эквадор"}]
[{"$f":"$A$6","v":"\"AGZULASA CIA LTDA\""}]
[{"$f":"$A$7","v":"Дата фасовки: 12.09.2018"},{"$f":"K38","v":21}]
[{"$f":"$A$8","v":"Условия хранения: +13°С до +14 °С"}]
[{"$f":"IF(LEFT(INDIRECT(ADDRESS(ROW()-7,COLUMN()+1)),3)=\"13-\",\"Срок годности: 5 суток\",\"Срок годности: 10 суток\")","v":"Срок годности: 10 суток"}]
[{"$f":"$A$10","v":0},null,"кг"]
["Масса нетто: ","----------------------------"]
[38]
[{"$f":"$A$2","v":"Бананы св. вес. 1кл"},{"$f":"'[1]Банан расч'!E39","v":"72-2"}]
[{"$f":"IF(INDIRECT(ADDRESS(ROW()-1,COLUMN()+1))=\"Хосп-4\",\"\",\"ГОСТ Р 51603-2000\")","v":"ГОСТ Р 51603-2000"},"Учреждение"]
[{"$f":"$A$4","v":"ТР ТС 021/2011 ТР ТС 022/2011"}]
[{"$f":"$A$5","v":"Изготовитель: Эквадор"}]
[{"$f":"$A$6","v":"\"AGZULASA CIA LTDA\""}]
[{"$f":"$A$7","v":"Дата фасовки: 12.09.2018"},{"$f":"K39","v":21}]
[{"$f":"$A$8","v":"Условия хранения: +13°С до +14 °С"}]
[{"$f":"IF(LEFT(INDIRECT(ADDRESS(ROW()-7,COLUMN()+1)),3)=\"13-\",\"Срок годности: 5 суток\",\"Срок годности: 10 суток\")","v":"Срок годности: 10 суток"}]
[{"$f":"$A$10","v":0},null,"кг"]
["Масса нетто: ","----------------------------"]
[39]
[{"$f":"$A$2","v":"Бананы св. вес. 1кл"},{"$f":"'[1]Банан расч'!E40","v":"125-2"}]
[{"$f":"IF(INDIRECT(ADDRESS(ROW()-1,COLUMN()+1))=\"Хосп-4\",\"\",\"ГОСТ Р 51603-2000\")","v":"ГОСТ Р 51603-2000"},"Учреждение"]
[{"$f":"$A$4","v":"ТР ТС 021/2011 ТР ТС 022/2011"}]
[{"$f":"$A$5","v":"Изготовитель: Эквадор"}]
[{"$f":"$A$6","v":"\"AGZULASA CIA LTDA\""}]
[{"$f":"$A$7","v":"Дата фасовки: 12.09.2018"},{"$f":"K40","v":20}]
[{"$f":"$A$8","v":"Условия хранения: +13°С до +14 °С"}]
[{"$f":"IF(LEFT(INDIRECT(ADDRESS(ROW()-7,COLUMN()+1)),3)=\"13-\",\"Срок годности: 5 суток\",\"Срок годности: 10 суток\")","v":"Срок годности: 10 суток"}]
[{"$f":"$A$10","v":0},null,"кг"]
["Масса нетто: ","----------------------------"]
[40]
[{"$f":"$A$2","v":"Бананы св. вес. 1кл"},{"$f":"'[1]Банан расч'!E41","v":"25"}]
[{"$f":"IF(INDIRECT(ADDRESS(ROW()-1,COLUMN()+1))=\"Хосп-4\",\"\",\"ГОСТ Р 51603-2000\")","v":"ГОСТ Р 51603-2000"},"Учреждение"]
[{"$f":"$A$4","v":"ТР ТС 021/2011 ТР ТС 022/2011"}]
[{"$f":"$A$5","v":"Изготовитель: Эквадор"}]
[{"$f":"$A$6","v":"\"AGZULASA CIA LTDA\""}]
[{"$f":"$A$7","v":"Дата фасовки: 12.09.2018"},{"$f":"K41","v":20}]
[{"$f":"$A$8","v":"Условия хранения: +13°С до +14 °С"}]
[{"$f":"IF(LEFT(INDIRECT(ADDRESS(ROW()-7,COLUMN()+1)),3)=\"13-\",\"Срок годности: 5 суток\",\"Срок годности: 10 суток\")","v":"Срок годности: 10 суток"}]
[{"$f":"$A$10","v":0},null,"кг"]
["Масса нетто: ","----------------------------"]
[41]
[{"$f":"$A$2","v":"Бананы св. вес. 1кл"},{"$f":"'[1]Банан расч'!E42","v":"15"}]
[{"$f":"IF(INDIRECT(ADDRESS(ROW()-1,COLUMN()+1))=\"Хосп-4\",\"\",\"ГОСТ Р 51603-2000\")","v":"ГОСТ Р 51603-2000"},"Учреждение"]
[{"$f":"$A$4","v":"ТР ТС 021/2011 ТР ТС 022/2011"}]
[{"$f":"$A$5","v":"Изготовитель: Эквадор"}]
[{"$f":"$A$6","v":"\"AGZULASA CIA LTDA\""}]
[{"$f":"$A$7","v":"Дата фасовки: 12.09.2018"},{"$f":"K42","v":20}]
[{"$f":"$A$8","v":"Условия хранения: +13°С до +14 °С"}]
[{"$f":"IF(LEFT(INDIRECT(ADDRESS(ROW()-7,COLUMN()+1)),3)=\"13-\",\"Срок годности: 5 суток\",\"Срок годности: 10 суток\")","v":"Срок годности: 10 суток"}]
[{"$f":"$A$10","v":0},null,"кг"]
["Масса нетто: ","----------------------------"]
[42]
[{"$f":"$A$2","v":"Бананы св. вес. 1кл"},{"$f":"'[1]Банан расч'!E43","v":"69"}]
[{"$f":"IF(INDIRECT(ADDRESS(ROW()-1,COLUMN()+1))=\"Хосп-4\",\"\",\"ГОСТ Р 51603-2000\")","v":"ГОСТ Р 51603-2000"},"Учреждение"]
[{"$f":"$A$4","v":"ТР ТС 021/2011 ТР ТС 022/2011"}]
[{"$f":"$A$5","v":"Изготовитель: Эквадор"}]
[{"$f":"$A$6","v":"\"AGZULASA CIA LTDA\""}]
[{"$f":"$A$7","v":"Дата фасовки: 12.09.2018"},{"$f":"K43","v":20}]
[{"$f":"$A$8","v":"Условия хранения: +13°С до +14 °С"}]
[{"$f":"IF(LEFT(INDIRECT(ADDRESS(ROW()-7,COLUMN()+1)),3)=\"13-\",\"Срок годности: 5 суток\",\"Срок годности: 10 суток\")","v":"Срок годности: 10 суток"}]
[{"$f":"$A$10","v":0},null,"кг"]
["Масса нетто: ","----------------------------"]
[43]
[{"$f":"$A$2","v":"Бананы св. вес. 1кл"},{"$f":"'[1]Банан расч'!E44","v":"9-2"}]
[{"$f":"IF(INDIRECT(ADDRESS(ROW()-1,COLUMN()+1))=\"Хосп-4\",\"\",\"ГОСТ Р 51603-2000\")","v":"ГОСТ Р 51603-2000"},"Учреждение"]
[{"$f":"$A$4","v":"ТР ТС 021/2011 ТР ТС 022/2011"}]
[{"$f":"$A$5","v":"Изготовитель: Эквадор"}]
[{"$f":"$A$6","v":"\"AGZULASA CIA LTDA\""}]
[{"$f":"$A$7","v":"Дата фасовки: 12.09.2018"},{"$f":"K44","v":20}]
[{"$f":"$A$8","v":"Условия хранения: +13°С до +14 °С"}]
[{"$f":"IF(LEFT(INDIRECT(ADDRESS(ROW()-7,COLUMN()+1)),3)=\"13-\",\"Срок годности: 5 суток\",\"Срок годности: 10 суток\")","v":"Срок годности: 10 суток"}]
[{"$f":"$A$10","v":0},null,"кг"]
["Масса нетто: ","----------------------------"]
[44]
[{"$f":"$A$2","v":"Бананы св. вес. 1кл"},{"$f":"'[1]Банан расч'!E45","v":"64"}]
[{"$f":"IF(INDIRECT(ADDRESS(ROW()-1,COLUMN()+1))=\"Хосп-4\",\"\",\"ГОСТ Р 51603-2000\")","v":"ГОСТ Р 51603-2000"},"Учреждение"]
[{"$f":"$A$4","v":"ТР ТС 021/2011 ТР ТС 022/2011"}]
[{"$f":"$A$5","v":"Изготовитель: Эквадор"}]
[{"$f":"$A$6","v":"\"AGZULASA CIA LTDA\""}]
[{"$f":"$A$7","v":"Дата фасовки: 12.09.2018"},{"$f":"K45","v":20}]
[{"$f":"$A$8","v":"Условия хранения: +13°С до +14 °С"}]
[{"$f":"IF(LEFT(INDIRECT(ADDRESS(ROW()-7,COLUMN()+1)),3)=\"13-\",\"Срок годности: 5 суток\",\"Срок годности: 10 суток\")","v":"Срок годности: 10 суток"}]
[{"$f":"$A$10","v":0},null,"кг"]
["Масса нетто: ","----------------------------"]
[45]
[{"$f":"$A$2","v":"Бананы св. вес. 1кл"},{"$f":"'[1]Банан расч'!E46","v":"9-1"}]
[{"$f":"IF(INDIRECT(ADDRESS(ROW()-1,COLUMN()+1))=\"Хосп-4\",\"\",\"ГОСТ Р 51603-2000\")","v":"ГОСТ Р 51603-2000"},"Учреждение"]
[{"$f":"$A$4","v":"ТР ТС 021/2011 ТР ТС 022/2011"}]
[{"$f":"$A$5","v":"Изготовитель: Эквадор"}]
[{"$f":"$A$6","v":"\"AGZULASA CIA LTDA\""}]
[{"$f":"$A$7","v":"Дата фасовки: 12.09.2018"},{"$f":"K46","v":20}]
[{"$f":"$A$8","v":"Условия хранения: +13°С до +14 °С"}]
[{"$f":"IF(LEFT(INDIRECT(ADDRESS(ROW()-7,COLUMN()+1)),3)=\"13-\",\"Срок годности: 5 суток\",\"Срок годности: 10 суток\")","v":"Срок годности: 10 суток"}]
[{"$f":"$A$10","v":0},null,"кг"]
["Масса нетто: ","----------------------------"]
[46]
[{"$f":"$A$2","v":"Бананы св. вес. 1кл"},{"$f":"'[1]Банан расч'!E47","v":"8-1"}]
[{"$f":"IF(INDIRECT(ADDRESS(ROW()-1,COLUMN()+1))=\"Хосп-4\",\"\",\"ГОСТ Р 51603-2000\")","v":"ГОСТ Р 51603-2000"},"Учреждение"]
[{"$f":"$A$4","v":"ТР ТС 021/2011 ТР ТС 022/2011"}]
[{"$f":"$A$5","v":"Изготовитель: Эквадор"}]
[{"$f":"$A$6","v":"\"AGZULASA CIA LTDA\""}]
[{"$f":"$A$7","v":"Дата фасовки: 12.09.2018"},{"$f":"K47","v":20}]
[{"$f":"$A$8","v":"Условия хранения: +13°С до +14 °С"}]
[{"$f":"IF(LEFT(INDIRECT(ADDRESS(ROW()-7,COLUMN()+1)),3)=\"13-\",\"Срок годности: 5 суток\",\"Срок годности: 10 суток\")","v":"Срок годности: 10 суток"}]
[{"$f":"$A$10","v":0},null,"кг"]
["Масса нетто: ","----------------------------"]
[47]
[{"$f":"$A$2","v":"Бананы св. вес. 1кл"},{"$f":"'[1]Банан расч'!E48","v":"2"}]
[{"$f":"IF(INDIRECT(ADDRESS(ROW()-1,COLUMN()+1))=\"Хосп-4\",\"\",\"ГОСТ Р 51603-2000\")","v":"ГОСТ Р 51603-2000"},"Учреждение"]
[{"$f":"$A$4","v":"ТР ТС 021/2011 ТР ТС 022/2011"}]
[{"$f":"$A$5","v":"Изготовитель: Эквадор"}]
[{"$f":"$A$6","v":"\"AGZULASA CIA LTDA\""}]
[{"$f":"$A$7","v":"Дата фасовки: 12.09.2018"},{"$f":"K48","v":20}]
[{"$f":"$A$8","v":"Условия хранения: +13°С до +14 °С"}]
[{"$f":"IF(LEFT(INDIRECT(ADDRESS(ROW()-7,COLUMN()+1)),3)=\"13-\",\"Срок годности: 5 суток\",\"Срок годности: 10 суток\")","v":"Срок годности: 10 суток"}]
[{"$f":"$A$10","v":0},null,"кг"]
["Масса нетто: ","----------------------------"]
[48]
[{"$f":"$A$2","v":"Бананы св. вес. 1кл"},{"$f":"'[1]Банан расч'!E49","v":"130 с"}]
[{"$f":"IF(INDIRECT(ADDRESS(ROW()-1,COLUMN()+1))=\"Хосп-4\",\"\",\"ГОСТ Р 51603-2000\")","v":"ГОСТ Р 51603-2000"},"Учреждение"]
[{"$f":"$A$4","v":"ТР ТС 021/2011 ТР ТС 022/2011"}]
[{"$f":"$A$5","v":"Изготовитель: Эквадор"}]
[{"$f":"$A$6","v":"\"AGZULASA CIA LTDA\""}]
[{"$f":"$A$7","v":"Дата фасовки: 12.09.2018"},{"$f":"K49","v":19}]
[{"$f":"$A$8","v":"Условия хранения: +13°С до +14 °С"}]
[{"$f":"IF(LEFT(INDIRECT(ADDRESS(ROW()-7,COLUMN()+1)),3)=\"13-\",\"Срок годности: 5 суток\",\"Срок годности: 10 суток\")","v":"Срок годности: 10 суток"}]
[{"$f":"$A$10","v":0},null,"кг"]
["Масса нетто: ","----------------------------"]
[49]
[{"$f":"$A$2","v":"Бананы св. вес. 1кл"},{"$f":"'[1]Банан расч'!E50","v":"130 ш"}]
[{"$f":"IF(INDIRECT(ADDRESS(ROW()-1,COLUMN()+1))=\"Хосп-4\",\"\",\"ГОСТ Р 51603-2000\")","v":"ГОСТ Р 51603-2000"},"Учреждение"]
[{"$f":"$A$4","v":"ТР ТС 021/2011 ТР ТС 022/2011"}]
[{"$f":"$A$5","v":"Изготовитель: Эквадор"}]
[{"$f":"$A$6","v":"\"AGZULASA CIA LTDA\""}]
[{"$f":"$A$7","v":"Дата фасовки: 12.09.2018"},{"$f":"K50","v":19}]
[{"$f":"$A$8","v":"Условия хранения: +13°С до +14 °С"}]
[{"$f":"IF(LEFT(INDIRECT(ADDRESS(ROW()-7,COLUMN()+1)),3)=\"13-\",\"Срок годности: 5 суток\",\"Срок годности: 10 суток\")","v":"Срок годности: 10 суток"}]
[{"$f":"$A$10","v":0},null,"кг"]
["Масса нетто: ","----------------------------"]
[50]
[{"$f":"$A$2","v":"Бананы св. вес. 1кл"},{"$f":"'[1]Банан расч'!E51","v":"677 с2"}]
[{"$f":"IF(INDIRECT(ADDRESS(ROW()-1,COLUMN()+1))=\"Хосп-4\",\"\",\"ГОСТ Р 51603-2000\")","v":"ГОСТ Р 51603-2000"},"Учреждение"]
[{"$f":"$A$4","v":"ТР ТС 021/2011 ТР ТС 022/2011"}]
[{"$f":"$A$5","v":"Изготовитель: Эквадор"}]
[{"$f":"$A$6","v":"\"AGZULASA CIA LTDA\""}]
[{"$f":"$A$7","v":"Дата фасовки: 12.09.2018"},{"$f":"K51","v":19}]
[{"$f":"$A$8","v":"Условия хранения: +13°С до +14 °С"}]
[{"$f":"IF(LEFT(INDIRECT(ADDRESS(ROW()-7,COLUMN()+1)),3)=\"13-\",\"Срок годности: 5 суток\",\"Срок годности: 10 суток\")","v":"Срок годности: 10 суток"}]
[{"$f":"$A$10","v":0},null,"кг"]
["Масса нетто: ","----------------------------"]
[51]
[{"$f":"$A$2","v":"Бананы св. вес. 1кл"},{"$f":"'[1]Банан расч'!E52","v":"2 ф"}]
[{"$f":"IF(INDIRECT(ADDRESS(ROW()-1,COLUMN()+1))=\"Хосп-4\",\"\",\"ГОСТ Р 51603-2000\")","v":"ГОСТ Р 51603-2000"},"Учреждение"]
[{"$f":"$A$4","v":"ТР ТС 021/2011 ТР ТС 022/2011"}]
[{"$f":"$A$5","v":"Изготовитель: Эквадор"}]
[{"$f":"$A$6","v":"\"AGZULASA CIA LTDA\""}]
[{"$f":"$A$7","v":"Дата фасовки: 12.09.2018"},{"$f":"K52","v":19}]
[{"$f":"$A$8","v":"Условия хранения: +13°С до +14 °С"}]
[{"$f":"IF(LEFT(INDIRECT(ADDRESS(ROW()-7,COLUMN()+1)),3)=\"13-\",\"Срок годности: 5 суток\",\"Срок годности: 10 суток\")","v":"Срок годности: 10 суток"}]
[{"$f":"$A$10","v":0},null,"кг"]
["Масса нетто: ","----------------------------"]
[52]
[{"$f":"$A$2","v":"Бананы св. вес. 1кл"},{"$f":"'[1]Банан расч'!E53","v":"8-2"}]
[{"$f":"IF(INDIRECT(ADDRESS(ROW()-1,COLUMN()+1))=\"Хосп-4\",\"\",\"ГОСТ Р 51603-2000\")","v":"ГОСТ Р 51603-2000"},"Учреждение"]
[{"$f":"$A$4","v":"ТР ТС 021/2011 ТР ТС 022/2011"}]
[{"$f":"$A$5","v":"Изготовитель: Эквадор"}]
[{"$f":"$A$6","v":"\"AGZULASA CIA LTDA\""}]
[{"$f":"$A$7","v":"Дата фасовки: 12.09.2018"},{"$f":"K53","v":18.5}]
[{"$f":"$A$8","v":"Условия хранения: +13°С до +14 °С"}]
[{"$f":"IF(LEFT(INDIRECT(ADDRESS(ROW()-7,COLUMN()+1)),3)=\"13-\",\"Срок годности: 5 суток\",\"Срок годности: 10 суток\")","v":"Срок годности: 10 суток"}]
[{"$f":"$A$10","v":0},null,"кг"]
["Масса нетто: ","----------------------------"]
[53]
[{"$f":"$A$2","v":"Бананы св. вес. 1кл"},{"$f":"'[1]Банан расч'!E54","v":11}]
[{"$f":"IF(INDIRECT(ADDRESS(ROW()-1,COLUMN()+1))=\"Хосп-4\",\"\",\"ГОСТ Р 51603-2000\")","v":"ГОСТ Р 51603-2000"},"Учреждение"]
[{"$f":"$A$4","v":"ТР ТС 021/2011 ТР ТС 022/2011"}]
[{"$f":"$A$5","v":"Изготовитель: Эквадор"}]
[{"$f":"$A$6","v":"\"AGZULASA CIA LTDA\""}]
[{"$f":"$A$7","v":"Дата фасовки: 12.09.2018"},{"$f":"K54","v":18}]
[{"$f":"$A$8","v":"Условия хранения: +13°С до +14 °С"}]
[{"$f":"IF(LEFT(INDIRECT(ADDRESS(ROW()-7,COLUMN()+1)),3)=\"13-\",\"Срок годности: 5 суток\",\"Срок годности: 10 суток\")","v":"Срок годности: 10 суток"}]
[{"$f":"$A$10","v":0},null,"кг"]
["Масса нетто: ","----------------------------"]
[54]
[{"$f":"$A$2","v":"Бананы св. вес. 1кл"},{"$f":"'[1]Банан расч'!E55","v":"56"}]
[{"$f":"IF(INDIRECT(ADDRESS(ROW()-1,COLUMN()+1))=\"Хосп-4\",\"\",\"ГОСТ Р 51603-2000\")","v":"ГОСТ Р 51603-2000"},"Учреждение"]
[{"$f":"$A$4","v":"ТР ТС 021/2011 ТР ТС 022/2011"}]
[{"$f":"$A$5","v":"Изготовитель: Эквадор"}]
[{"$f":"$A$6","v":"\"AGZULASA CIA LTDA\""}]
[{"$f":"$A$7","v":"Дата фасовки: 12.09.2018"},{"$f":"K55","v":18}]
[{"$f":"$A$8","v":"Условия хранения: +13°С до +14 °С"}]
[{"$f":"IF(LEFT(INDIRECT(ADDRESS(ROW()-7,COLUMN()+1)),3)=\"13-\",\"Срок годности: 5 суток\",\"Срок годности: 10 суток\")","v":"Срок годности: 10 суток"}]
[{"$f":"$A$10","v":0},null,"кг"]
["Масса нетто: ","----------------------------"]
[55]
[{"$f":"$A$2","v":"Бананы св. вес. 1кл"},{"$f":"'[1]Банан расч'!E56","v":"70"}]
[{"$f":"IF(INDIRECT(ADDRESS(ROW()-1,COLUMN()+1))=\"Хосп-4\",\"\",\"ГОСТ Р 51603-2000\")","v":"ГОСТ Р 51603-2000"},"Учреждение"]
[{"$f":"$A$4","v":"ТР ТС 021/2011 ТР ТС 022/2011"}]
[{"$f":"$A$5","v":"Изготовитель: Эквадор"}]
[{"$f":"$A$6","v":"\"AGZULASA CIA LTDA\""}]
[{"$f":"$A$7","v":"Дата фасовки: 12.09.2018"},{"$f":"K56","v":18}]
[{"$f":"$A$8","v":"Условия хранения: +13°С до +14 °С"}]
[{"$f":"IF(LEFT(INDIRECT(ADDRESS(ROW()-7,COLUMN()+1)),3)=\"13-\",\"Срок годности: 5 суток\",\"Срок годности: 10 суток\")","v":"Срок годности: 10 суток"}]
[{"$f":"$A$10","v":0},null,"кг"]
["Масса нетто: ","----------------------------"]
[56]
[{"$f":"$A$2","v":"Бананы св. вес. 1кл"},{"$f":"'[1]Банан расч'!E57","v":"52"}]
[{"$f":"IF(INDIRECT(ADDRESS(ROW()-1,COLUMN()+1))=\"Хосп-4\",\"\",\"ГОСТ Р 51603-2000\")","v":"ГОСТ Р 51603-2000"},"Учреждение"]
[{"$f":"$A$4","v":"ТР ТС 021/2011 ТР ТС 022/2011"}]
[{"$f":"$A$5","v":"Изготовитель: Эквадор"}]
[{"$f":"$A$6","v":"\"AGZULASA CIA LTDA\""}]
[{"$f":"$A$7","v":"Дата фасовки: 12.09.2018"},{"$f":"K57","v":17}]
[{"$f":"$A$8","v":"Условия хранения: +13°С до +14 °С"}]
[{"$f":"IF(LEFT(INDIRECT(ADDRESS(ROW()-7,COLUMN()+1)),3)=\"13-\",\"Срок годности: 5 суток\",\"Срок годности: 10 суток\")","v":"Срок годности: 10 суток"}]
[{"$f":"$A$10","v":0},null,"кг"]
["Масса нетто: ","----------------------------"]
[57]
[{"$f":"$A$2","v":"Бананы св. вес. 1кл"},{"$f":"'[1]Банан расч'!E58","v":"60"}]
[{"$f":"IF(INDIRECT(ADDRESS(ROW()-1,COLUMN()+1))=\"Хосп-4\",\"\",\"ГОСТ Р 51603-2000\")","v":"ГОСТ Р 51603-2000"},"Учреждение"]
[{"$f":"$A$4","v":"ТР ТС 021/2011 ТР ТС 022/2011"}]
[{"$f":"$A$5","v":"Изготовитель: Эквадор"}]
[{"$f":"$A$6","v":"\"AGZULASA CIA LTDA\""}]
[{"$f":"$A$7","v":"Дата фасовки: 12.09.2018"},{"$f":"K58","v":17}]
[{"$f":"$A$8","v":"Условия хранения: +13°С до +14 °С"}]
[{"$f":"IF(LEFT(INDIRECT(ADDRESS(ROW()-7,COLUMN()+1)),3)=\"13-\",\"Срок годности: 5 суток\",\"Срок годности: 10 суток\")","v":"Срок годности: 10 суток"}]
[{"$f":"$A$10","v":0},null,"кг"]
["Масса нетто: ","----------------------------"]
[58]
[{"$f":"$A$2","v":"Бананы св. вес. 1кл"},{"$f":"'[1]Банан расч'!E59","v":"21"}]
[{"$f":"IF(INDIRECT(ADDRESS(ROW()-1,COLUMN()+1))=\"Хосп-4\",\"\",\"ГОСТ Р 51603-2000\")","v":"ГОСТ Р 51603-2000"},"Учреждение"]
[{"$f":"$A$4","v":"ТР ТС 021/2011 ТР ТС 022/2011"}]
[{"$f":"$A$5","v":"Изготовитель: Эквадор"}]
[{"$f":"$A$6","v":"\"AGZULASA CIA LTDA\""}]
[{"$f":"$A$7","v":"Дата фасовки: 12.09.2018"},{"$f":"K59","v":17}]
[{"$f":"$A$8","v":"Условия хранения: +13°С до +14 °С"}]
[{"$f":"IF(LEFT(INDIRECT(ADDRESS(ROW()-7,COLUMN()+1)),3)=\"13-\",\"Срок годности: 5 суток\",\"Срок годности: 10 суток\")","v":"Срок годности: 10 суток"}]
[{"$f":"$A$10","v":0},null,"кг"]
["Масса нетто: ","----------------------------"]
[59]
[{"$f":"$A$2","v":"Бананы св. вес. 1кл"},{"$f":"'[1]Банан расч'!E60","v":"9"}]
[{"$f":"IF(INDIRECT(ADDRESS(ROW()-1,COLUMN()+1))=\"Хосп-4\",\"\",\"ГОСТ Р 51603-2000\")","v":"ГОСТ Р 51603-2000"},"Учреждение"]
[{"$f":"$A$4","v":"ТР ТС 021/2011 ТР ТС 022/2011"}]
[{"$f":"$A$5","v":"Изготовитель: Эквадор"}]
[{"$f":"$A$6","v":"\"AGZULASA CIA LTDA\""}]
[{"$f":"$A$7","v":"Дата фасовки: 12.09.2018"},{"$f":"K60","v":16}]
[{"$f":"$A$8","v":"Условия хранения: +13°С до +14 °С"}]
[{"$f":"IF(LEFT(INDIRECT(ADDRESS(ROW()-7,COLUMN()+1)),3)=\"13-\",\"Срок годности: 5 суток\",\"Срок годности: 10 суток\")","v":"Срок годности: 10 суток"}]
[{"$f":"$A$10","v":0},null,"кг"]
["Масса нетто: ","----------------------------"]
[60]
[{"$f":"$A$2","v":"Бананы св. вес. 1кл"},{"$f":"'[1]Банан расч'!E61","v":"29-2"}]
[{"$f":"IF(INDIRECT(ADDRESS(ROW()-1,COLUMN()+1))=\"Хосп-4\",\"\",\"ГОСТ Р 51603-2000\")","v":"ГОСТ Р 51603-2000"},"Учреждение"]
[{"$f":"$A$4","v":"ТР ТС 021/2011 ТР ТС 022/2011"}]
[{"$f":"$A$5","v":"Изготовитель: Эквадор"}]
[{"$f":"$A$6","v":"\"AGZULASA CIA LTDA\""}]
[{"$f":"$A$7","v":"Дата фасовки: 12.09.2018"},{"$f":"K61","v":16}]
[{"$f":"$A$8","v":"Условия хранения: +13°С до +14 °С"}]
[{"$f":"IF(LEFT(INDIRECT(ADDRESS(ROW()-7,COLUMN()+1)),3)=\"13-\",\"Срок годности: 5 суток\",\"Срок годности: 10 суток\")","v":"Срок годности: 10 суток"}]
[{"$f":"$A$10","v":0},null,"кг"]
["Масса нетто: ","----------------------------"]
[61]
[{"$f":"$A$2","v":"Бананы св. вес. 1кл"},{"$f":"'[1]Банан расч'!E62","v":"87"}]
[{"$f":"IF(INDIRECT(ADDRESS(ROW()-1,COLUMN()+1))=\"Хосп-4\",\"\",\"ГОСТ Р 51603-2000\")","v":"ГОСТ Р 51603-2000"},"Учреждение"]
[{"$f":"$A$4","v":"ТР ТС 021/2011 ТР ТС 022/2011"}]
[{"$f":"$A$5","v":"Изготовитель: Эквадор"}]
[{"$f":"$A$6","v":"\"AGZULASA CIA LTDA\""}]
[{"$f":"$A$7","v":"Дата фасовки: 12.09.2018"},{"$f":"K62","v":16}]
[{"$f":"$A$8","v":"Условия хранения: +13°С до +14 °С"}]
[{"$f":"IF(LEFT(INDIRECT(ADDRESS(ROW()-7,COLUMN()+1)),3)=\"13-\",\"Срок годности: 5 суток\",\"Срок годности: 10 суток\")","v":"Срок годности: 10 суток"}]
[{"$f":"$A$10","v":0},null,"кг"]
["Масса нетто: ","----------------------------"]
[62]
[{"$f":"$A$2","v":"Бананы св. вес. 1кл"},{"$f":"'[1]Банан расч'!E63","v":"29-1"}]
[{"$f":"IF(INDIRECT(ADDRESS(ROW()-1,COLUMN()+1))=\"Хосп-4\",\"\",\"ГОСТ Р 51603-2000\")","v":"ГОСТ Р 51603-2000"},"Учреждение"]
[{"$f":"$A$4","v":"ТР ТС 021/2011 ТР ТС 022/2011"}]
[{"$f":"$A$5","v":"Изготовитель: Эквадор"}]
[{"$f":"$A$6","v":"\"AGZULASA CIA LTDA\""}]
[{"$f":"$A$7","v":"Дата фасовки: 12.09.2018"},{"$f":"K63","v":15.5}]
[{"$f":"$A$8","v":"Условия хранения: +13°С до +14 °С"}]
[{"$f":"IF(LEFT(INDIRECT(ADDRESS(ROW()-7,COLUMN()+1)),3)=\"13-\",\"Срок годности: 5 суток\",\"Срок годности: 10 суток\")","v":"Срок годности: 10 суток"}]
[{"$f":"$A$10","v":0},null,"кг"]
["Масса нетто: ","----------------------------"]
[63]
[{"$f":"$A$2","v":"Бананы св. вес. 1кл"},{"$f":"'[1]Банан расч'!E64","v":"49"}]
[{"$f":"IF(INDIRECT(ADDRESS(ROW()-1,COLUMN()+1))=\"Хосп-4\",\"\",\"ГОСТ Р 51603-2000\")","v":"ГОСТ Р 51603-2000"},"Учреждение"]
[{"$f":"$A$4","v":"ТР ТС 021/2011 ТР ТС 022/2011"}]
[{"$f":"$A$5","v":"Изготовитель: Эквадор"}]
[{"$f":"$A$6","v":"\"AGZULASA CIA LTDA\""}]
[{"$f":"$A$7","v":"Дата фасовки: 12.09.2018"},{"$f":"K64","v":15}]
[{"$f":"$A$8","v":"Условия хранения: +13°С до +14 °С"}]
[{"$f":"IF(LEFT(INDIRECT(ADDRESS(ROW()-7,COLUMN()+1)),3)=\"13-\",\"Срок годности: 5 суток\",\"Срок годности: 10 суток\")","v":"Срок годности: 10 суток"}]
[{"$f":"$A$10","v":0},null,"кг"]
["Масса нетто: ","----------------------------"]
[64]
[{"$f":"$A$2","v":"Бананы св. вес. 1кл"},{"$f":"'[1]Банан расч'!E65","v":"202"}]
[{"$f":"IF(INDIRECT(ADDRESS(ROW()-1,COLUMN()+1))=\"Хосп-4\",\"\",\"ГОСТ Р 51603-2000\")","v":"ГОСТ Р 51603-2000"},"Учреждение"]
[{"$f":"$A$4","v":"ТР ТС 021/2011 ТР ТС 022/2011"}]
[{"$f":"$A$5","v":"Изготовитель: Эквадор"}]
[{"$f":"$A$6","v":"\"AGZULASA CIA LTDA\""}]
[{"$f":"$A$7","v":"Дата фасовки: 12.09.2018"},{"$f":"K65","v":14.6}]
[{"$f":"$A$8","v":"Условия хранения: +13°С до +14 °С"}]
[{"$f":"IF(LEFT(INDIRECT(ADDRESS(ROW()-7,COLUMN()+1)),3)=\"13-\",\"Срок годности: 5 суток\",\"Срок годности: 10 суток\")","v":"Срок годности: 10 суток"}]
[{"$f":"$A$10","v":0},null,"кг"]
["Масса нетто: ","----------------------------"]
[65]
[{"$f":"$A$2","v":"Бананы св. вес. 1кл"},{"$f":"'[1]Банан расч'!E66","v":"109"}]
[{"$f":"IF(INDIRECT(ADDRESS(ROW()-1,COLUMN()+1))=\"Хосп-4\",\"\",\"ГОСТ Р 51603-2000\")","v":"ГОСТ Р 51603-2000"},"Учреждение"]
[{"$f":"$A$4","v":"ТР ТС 021/2011 ТР ТС 022/2011"}]
[{"$f":"$A$5","v":"Изготовитель: Эквадор"}]
[{"$f":"$A$6","v":"\"AGZULASA CIA LTDA\""}]
[{"$f":"$A$7","v":"Дата фасовки: 12.09.2018"},{"$f":"K66","v":14}]
[{"$f":"$A$8","v":"Условия хранения: +13°С до +14 °С"}]
[{"$f":"IF(LEFT(INDIRECT(ADDRESS(ROW()-7,COLUMN()+1)),3)=\"13-\",\"Срок годности: 5 суток\",\"Срок годности: 10 суток\")","v":"Срок годности: 10 суток"}]
[{"$f":"$A$10","v":0},null,"кг"]
["Масса нетто: ","----------------------------"]
[66]
[{"$f":"$A$2","v":"Бананы св. вес. 1кл"},{"$f":"'[1]Банан расч'!E67","v":"124"}]
[{"$f":"IF(INDIRECT(ADDRESS(ROW()-1,COLUMN()+1))=\"Хосп-4\",\"\",\"ГОСТ Р 51603-2000\")","v":"ГОСТ Р 51603-2000"},"Учреждение"]
[{"$f":"$A$4","v":"ТР ТС 021/2011 ТР ТС 022/2011"}]
[{"$f":"$A$5","v":"Изготовитель: Эквадор"}]
[{"$f":"$A$6","v":"\"AGZULASA CIA LTDA\""}]
[{"$f":"$A$7","v":"Дата фасовки: 12.09.2018"},{"$f":"K67","v":14}]
[{"$f":"$A$8","v":"Условия хранения: +13°С до +14 °С"}]
[{"$f":"IF(LEFT(INDIRECT(ADDRESS(ROW()-7,COLUMN()+1)),3)=\"13-\",\"Срок годности: 5 суток\",\"Срок годности: 10 суток\")","v":"Срок годности: 10 суток"}]
[{"$f":"$A$10","v":0},null,"кг"]
["Масса нетто: ","----------------------------"]
[67]
[{"$f":"$A$2","v":"Бананы св. вес. 1кл"},{"$f":"'[1]Банан расч'!E68","v":"123"}]
[{"$f":"IF(INDIRECT(ADDRESS(ROW()-1,COLUMN()+1))=\"Хосп-4\",\"\",\"ГОСТ Р 51603-2000\")","v":"ГОСТ Р 51603-2000"},"Учреждение"]
[{"$f":"$A$4","v":"ТР ТС 021/2011 ТР ТС 022/2011"}]
[{"$f":"$A$5","v":"Изготовитель: Эквадор"}]
[{"$f":"$A$6","v":"\"AGZULASA CIA LTDA\""}]
[{"$f":"$A$7","v":"Дата фасовки: 12.09.2018"},{"$f":"K68","v":14}]
[{"$f":"$A$8","v":"Условия хранения: +13°С до +14 °С"}]
[{"$f":"IF(LEFT(INDIRECT(ADDRESS(ROW()-7,COLUMN()+1)),3)=\"13-\",\"Срок годности: 5 суток\",\"Срок годности: 10 суток\")","v":"Срок годности: 10 суток"}]
[{"$f":"$A$10","v":0},null,"кг"]
["Масса нетто: ","----------------------------"]
[68]
[{"$f":"$A$2","v":"Бананы св. вес. 1кл"},{"$f":"'[1]Банан расч'!E69","v":"63"}]
[{"$f":"IF(INDIRECT(ADDRESS(ROW()-1,COLUMN()+1))=\"Хосп-4\",\"\",\"ГОСТ Р 51603-2000\")","v":"ГОСТ Р 51603-2000"},"Учреждение"]
[{"$f":"$A$4","v":"ТР ТС 021/2011 ТР ТС 022/2011"}]
[{"$f":"$A$5","v":"Изготовитель: Эквадор"}]
[{"$f":"$A$6","v":"\"AGZULASA CIA LTDA\""}]
[{"$f":"$A$7","v":"Дата фасовки: 12.09.2018"},{"$f":"K69","v":12.7}]
[{"$f":"$A$8","v":"Условия хранения: +13°С до +14 °С"}]
[{"$f":"IF(LEFT(INDIRECT(ADDRESS(ROW()-7,COLUMN()+1)),3)=\"13-\",\"Срок годности: 5 суток\",\"Срок годности: 10 суток\")","v":"Срок годности: 10 суток"}]
[{"$f":"$A$10","v":0},null,"кг"]
["Масса нетто: ","----------------------------"]
[69]
[{"$f":"$A$2","v":"Бананы св. вес. 1кл"},{"$f":"'[1]Банан расч'!E70","v":"33 инт"}]
[{"$f":"IF(INDIRECT(ADDRESS(ROW()-1,COLUMN()+1))=\"Хосп-4\",\"\",\"ГОСТ Р 51603-2000\")","v":"ГОСТ Р 51603-2000"},"Учреждение"]
[{"$f":"$A$4","v":"ТР ТС 021/2011 ТР ТС 022/2011"}]
[{"$f":"$A$5","v":"Изготовитель: Эквадор"}]
[{"$f":"$A$6","v":"\"AGZULASA CIA LTDA\""}]
[{"$f":"$A$7","v":"Дата фасовки: 12.09.2018"},{"$f":"K70","v":12.5}]
[{"$f":"$A$8","v":"Условия хранения: +13°С до +14 °С"}]
[{"$f":"IF(LEFT(INDIRECT(ADDRESS(ROW()-7,COLUMN()+1)),3)=\"13-\",\"Срок годности: 5 суток\",\"Срок годности: 10 суток\")","v":"Срок годности: 10 суток"}]
[{"$f":"$A$10","v":0},null,"кг"]
["Масса нетто: ","----------------------------"]
[70]
[{"$f":"$A$2","v":"Бананы св. вес. 1кл"},{"$f":"'[1]Банан расч'!E71","v":"1 инт"}]
[{"$f":"IF(INDIRECT(ADDRESS(ROW()-1,COLUMN()+1))=\"Хосп-4\",\"\",\"ГОСТ Р 51603-2000\")","v":"ГОСТ Р 51603-2000"},"Учреждение"]
[{"$f":"$A$4","v":"ТР ТС 021/2011 ТР ТС 022/2011"}]
[{"$f":"$A$5","v":"Изготовитель: Эквадор"}]
[{"$f":"$A$6","v":"\"AGZULASA CIA LTDA\""}]
[{"$f":"$A$7","v":"Дата фасовки: 12.09.2018"},{"$f":"K71","v":12}]
[{"$f":"$A$8","v":"Условия хранения: +13°С до +14 °С"}]
[{"$f":"IF(LEFT(INDIRECT(ADDRESS(ROW()-7,COLUMN()+1)),3)=\"13-\",\"Срок годности: 5 суток\",\"Срок годности: 10 суток\")","v":"Срок годности: 10 суток"}]
[{"$f":"$A$10","v":0},null,"кг"]
["Масса нетто: ","----------------------------"]
[71]
[{"$f":"$A$2","v":"Бананы св. вес. 1кл"},{"$f":"'[1]Банан расч'!E72","v":"85"}]
[{"$f":"IF(INDIRECT(ADDRESS(ROW()-1,COLUMN()+1))=\"Хосп-4\",\"\",\"ГОСТ Р 51603-2000\")","v":"ГОСТ Р 51603-2000"},"Учреждение"]
[{"$f":"$A$4","v":"ТР ТС 021/2011 ТР ТС 022/2011"}]
[{"$f":"$A$5","v":"Изготовитель: Эквадор"}]
[{"$f":"$A$6","v":"\"AGZULASA CIA LTDA\""}]
[{"$f":"$A$7","v":"Дата фасовки: 12.09.2018"},{"$f":"K72","v":12}]
[{"$f":"$A$8","v":"Условия хранения: +13°С до +14 °С"}]
[{"$f":"IF(LEFT(INDIRECT(ADDRESS(ROW()-7,COLUMN()+1)),3)=\"13-\",\"Срок годности: 5 суток\",\"Срок годности: 10 суток\")","v":"Срок годности: 10 суток"}]
[{"$f":"$A$10","v":0},null,"кг"]
["Масса нетто: ","----------------------------"]
[72]
[{"$f":"$A$2","v":"Бананы св. вес. 1кл"},{"$f":"'[1]Банан расч'!E73","v":"3-ф"}]
[{"$f":"IF(INDIRECT(ADDRESS(ROW()-1,COLUMN()+1))=\"Хосп-4\",\"\",\"ГОСТ Р 51603-2000\")","v":"ГОСТ Р 51603-2000"},"Учреждение"]
[{"$f":"$A$4","v":"ТР ТС 021/2011 ТР ТС 022/2011"}]
[{"$f":"$A$5","v":"Изготовитель: Эквадор"}]
[{"$f":"$A$6","v":"\"AGZULASA CIA LTDA\""}]
[{"$f":"$A$7","v":"Дата фасовки: 12.09.2018"},{"$f":"K73","v":12}]
[{"$f":"$A$8","v":"Условия хранения: +13°С до +14 °С"}]
[{"$f":"IF(LEFT(INDIRECT(ADDRESS(ROW()-7,COLUMN()+1)),3)=\"13-\",\"Срок годности: 5 суток\",\"Срок годности: 10 суток\")","v":"Срок годности: 10 суток"}]
[{"$f":"$A$10","v":0},null,"кг"]
["Масса нетто: ","----------------------------"]
[73]
[{"$f":"$A$2","v":"Бананы св. вес. 1кл"},{"$f":"'[1]Банан расч'!E74","v":"23"}]
[{"$f":"IF(INDIRECT(ADDRESS(ROW()-1,COLUMN()+1))=\"Хосп-4\",\"\",\"ГОСТ Р 51603-2000\")","v":"ГОСТ Р 51603-2000"},"Учреждение"]
[{"$f":"$A$4","v":"ТР ТС 021/2011 ТР ТС 022/2011"}]
[{"$f":"$A$5","v":"Изготовитель: Эквадор"}]
[{"$f":"$A$6","v":"\"AGZULASA CIA LTDA\""}]
[{"$f":"$A$7","v":"Дата фасовки: 12.09.2018"},{"$f":"K74","v":12}]
[{"$f":"$A$8","v":"Условия хранения: +13°С до +14 °С"}]
[{"$f":"IF(LEFT(INDIRECT(ADDRESS(ROW()-7,COLUMN()+1)),3)=\"13-\",\"Срок годности: 5 суток\",\"Срок годности: 10 суток\")","v":"Срок годности: 10 суток"}]
[{"$f":"$A$10","v":0},null,"кг"]
["Масса нетто: ","----------------------------"]
[74]
[{"$f":"$A$2","v":"Бананы св. вес. 1кл"},{"$f":"'[1]Банан расч'!E75","v":"115"}]
[{"$f":"IF(INDIRECT(ADDRESS(ROW()-1,COLUMN()+1))=\"Хосп-4\",\"\",\"ГОСТ Р 51603-2000\")","v":"ГОСТ Р 51603-2000"},"Учреждение"]
[{"$f":"$A$4","v":"ТР ТС 021/2011 ТР ТС 022/2011"}]
[{"$f":"$A$5","v":"Изготовитель: Эквадор"}]
[{"$f":"$A$6","v":"\"AGZULASA CIA LTDA\""}]
[{"$f":"$A$7","v":"Дата фасовки: 12.09.2018"},{"$f":"K75","v":11}]
[{"$f":"$A$8","v":"Условия хранения: +13°С до +14 °С"}]
[{"$f":"IF(LEFT(INDIRECT(ADDRESS(ROW()-7,COLUMN()+1)),3)=\"13-\",\"Срок годности: 5 суток\",\"Срок годности: 10 суток\")","v":"Срок годности: 10 суток"}]
[{"$f":"$A$10","v":0},null,"кг"]
["Масса нетто: ","----------------------------"]
[75]
[{"$f":"$A$2","v":"Бананы св. вес. 1кл"},{"$f":"'[1]Банан расч'!E76","v":"128-2"}]
[{"$f":"IF(INDIRECT(ADDRESS(ROW()-1,COLUMN()+1))=\"Хосп-4\",\"\",\"ГОСТ Р 51603-2000\")","v":"ГОСТ Р 51603-2000"},"Учреждение"]
[{"$f":"$A$4","v":"ТР ТС 021/2011 ТР ТС 022/2011"}]
[{"$f":"$A$5","v":"Изготовитель: Эквадор"}]
[{"$f":"$A$6","v":"\"AGZULASA CIA LTDA\""}]
[{"$f":"$A$7","v":"Дата фасовки: 12.09.2018"},{"$f":"K76","v":10}]
[{"$f":"$A$8","v":"Условия хранения: +13°С до +14 °С"}]
[{"$f":"IF(LEFT(INDIRECT(ADDRESS(ROW()-7,COLUMN()+1)),3)=\"13-\",\"Срок годности: 5 суток\",\"Срок годности: 10 суток\")","v":"Срок годности: 10 суток"}]
[{"$f":"$A$10","v":0},null,"кг"]
["Масса нетто: ","----------------------------"]
[76]
[{"$f":"$A$2","v":"Бананы св. вес. 1кл"},{"$f":"'[1]Банан расч'!E77","v":"133"}]
[{"$f":"IF(INDIRECT(ADDRESS(ROW()-1,COLUMN()+1))=\"Хосп-4\",\"\",\"ГОСТ Р 51603-2000\")","v":"ГОСТ Р 51603-2000"},"Учреждение"]
[{"$f":"$A$4","v":"ТР ТС 021/2011 ТР ТС 022/2011"}]
[{"$f":"$A$5","v":"Изготовитель: Эквадор"}]
[{"$f":"$A$6","v":"\"AGZULASA CIA LTDA\""}]
[{"$f":"$A$7","v":"Дата фасовки: 12.09.2018"},{"$f":"K77","v":10}]
[{"$f":"$A$8","v":"Условия хранения: +13°С до +14 °С"}]
[{"$f":"IF(LEFT(INDIRECT(ADDRESS(ROW()-7,COLUMN()+1)),3)=\"13-\",\"Срок годности: 5 суток\",\"Срок годности: 10 суток\")","v":"Срок годности: 10 суток"}]
[{"$f":"$A$10","v":0},null,"кг"]
["Масса нетто: ","----------------------------"]
[77]
[{"$f":"$A$2","v":"Бананы св. вес. 1кл"},{"$f":"'[1]Банан расч'!E78","v":"32-2"}]
[{"$f":"IF(INDIRECT(ADDRESS(ROW()-1,COLUMN()+1))=\"Хосп-4\",\"\",\"ГОСТ Р 51603-2000\")","v":"ГОСТ Р 51603-2000"},"Учреждение"]
[{"$f":"$A$4","v":"ТР ТС 021/2011 ТР ТС 022/2011"}]
[{"$f":"$A$5","v":"Изготовитель: Эквадор"}]
[{"$f":"$A$6","v":"\"AGZULASA CIA LTDA\""}]
[{"$f":"$A$7","v":"Дата фасовки: 12.09.2018"},{"$f":"K78","v":10}]
[{"$f":"$A$8","v":"Условия хранения: +13°С до +14 °С"}]
[{"$f":"IF(LEFT(INDIRECT(ADDRESS(ROW()-7,COLUMN()+1)),3)=\"13-\",\"Срок годности: 5 суток\",\"Срок годности: 10 суток\")","v":"Срок годности: 10 суток"}]
[{"$f":"$A$10","v":0},null,"кг"]
["Масса нетто: ","----------------------------"]
[78]
[{"$f":"$A$2","v":"Бананы св. вес. 1кл"},{"$f":"'[1]Банан расч'!E79","v":"1"}]
[{"$f":"IF(INDIRECT(ADDRESS(ROW()-1,COLUMN()+1))=\"Хосп-4\",\"\",\"ГОСТ Р 51603-2000\")","v":"ГОСТ Р 51603-2000"},"Учреждение"]
[{"$f":"$A$4","v":"ТР ТС 021/2011 ТР ТС 022/2011"}]
[{"$f":"$A$5","v":"Изготовитель: Эквадор"}]
[{"$f":"$A$6","v":"\"AGZULASA CIA LTDA\""}]
[{"$f":"$A$7","v":"Дата фасовки: 12.09.2018"},{"$f":"K79","v":10}]
[{"$f":"$A$8","v":"Условия хранения: +13°С до +14 °С"}]
[{"$f":"IF(LEFT(INDIRECT(ADDRESS(ROW()-7,COLUMN()+1)),3)=\"13-\",\"Срок годности: 5 суток\",\"Срок годности: 10 суток\")","v":"Срок годности: 10 суток"}]
[{"$f":"$A$10","v":0},null,"кг"]
["Масса нетто: ","----------------------------"]
[79]
[{"$f":"$A$2","v":"Бананы св. вес. 1кл"},{"$f":"'[1]Банан расч'!E80","v":"129"}]
[{"$f":"IF(INDIRECT(ADDRESS(ROW()-1,COLUMN()+1))=\"Хосп-4\",\"\",\"ГОСТ Р 51603-2000\")","v":"ГОСТ Р 51603-2000"},"Учреждение"]
[{"$f":"$A$4","v":"ТР ТС 021/2011 ТР ТС 022/2011"}]
[{"$f":"$A$5","v":"Изготовитель: Эквадор"}]
[{"$f":"$A$6","v":"\"AGZULASA CIA LTDA\""}]
[{"$f":"$A$7","v":"Дата фасовки: 12.09.2018"},{"$f":"K80","v":10}]
[{"$f":"$A$8","v":"Условия хранения: +13°С до +14 °С"}]
[{"$f":"IF(LEFT(INDIRECT(ADDRESS(ROW()-7,COLUMN()+1)),3)=\"13-\",\"Срок годности: 5 суток\",\"Срок годности: 10 суток\")","v":"Срок годности: 10 суток"}]
[{"$f":"$A$10","v":0},null,"кг"]
["Масса нетто: ","----------------------------"]
[80]
[{"$f":"$A$2","v":"Бананы св. вес. 1кл"},{"$f":"'[1]Банан расч'!E81","v":"138"}]
[{"$f":"IF(INDIRECT(ADDRESS(ROW()-1,COLUMN()+1))=\"Хосп-4\",\"\",\"ГОСТ Р 51603-2000\")","v":"ГОСТ Р 51603-2000"},"Учреждение"]
[{"$f":"$A$4","v":"ТР ТС 021/2011 ТР ТС 022/2011"}]
[{"$f":"$A$5","v":"Изготовитель: Эквадор"}]
[{"$f":"$A$6","v":"\"AGZULASA CIA LTDA\""}]
[{"$f":"$A$7","v":"Дата фасовки: 12.09.2018"},{"$f":"K81","v":9.6}]
[{"$f":"$A$8","v":"Условия хранения: +13°С до +14 °С"}]
[{"$f":"IF(LEFT(INDIRECT(ADDRESS(ROW()-7,COLUMN()+1)),3)=\"13-\",\"Срок годности: 5 суток\",\"Срок годности: 10 суток\")","v":"Срок годности: 10 суток"}]
[{"$f":"$A$10","v":0},null,"кг"]
["Масса нетто: ","----------------------------"]
[81]
[{"$f":"$A$2","v":"Бананы св. вес. 1кл"},{"$f":"'[1]Банан расч'!E82","v":"128-1"}]
[{"$f":"IF(INDIRECT(ADDRESS(ROW()-1,COLUMN()+1))=\"Хосп-4\",\"\",\"ГОСТ Р 51603-2000\")","v":"ГОСТ Р 51603-2000"},"Учреждение"]
[{"$f":"$A$4","v":"ТР ТС 021/2011 ТР ТС 022/2011"}]
[{"$f":"$A$5","v":"Изготовитель: Эквадор"}]
[{"$f":"$A$6","v":"\"AGZULASA CIA LTDA\""}]
[{"$f":"$A$7","v":"Дата фасовки: 12.09.2018"},{"$f":"K82","v":9}]
[{"$f":"$A$8","v":"Условия хранения: +13°С до +14 °С"}]
[{"$f":"IF(LEFT(INDIRECT(ADDRESS(ROW()-7,COLUMN()+1)),3)=\"13-\",\"Срок годности: 5 суток\",\"Срок годности: 10 суток\")","v":"Срок годности: 10 суток"}]
[{"$f":"$A$10","v":0},null,"кг"]
["Масса нетто: ","----------------------------"]
[82]
[{"$f":"$A$2","v":"Бананы св. вес. 1кл"},{"$f":"'[1]Банан расч'!E83","v":"25-1-п"}]
[{"$f":"IF(INDIRECT(ADDRESS(ROW()-1,COLUMN()+1))=\"Хосп-4\",\"\",\"ГОСТ Р 51603-2000\")","v":"ГОСТ Р 51603-2000"},"Учреждение"]
[{"$f":"$A$4","v":"ТР ТС 021/2011 ТР ТС 022/2011"}]
[{"$f":"$A$5","v":"Изготовитель: Эквадор"}]
[{"$f":"$A$6","v":"\"AGZULASA CIA LTDA\""}]
[{"$f":"$A$7","v":"Дата фасовки: 12.09.2018"},{"$f":"K83","v":8.8000000000000007}]
[{"$f":"$A$8","v":"Условия хранения: +13°С до +14 °С"}]
[{"$f":"IF(LEFT(INDIRECT(ADDRESS(ROW()-7,COLUMN()+1)),3)=\"13-\",\"Срок годности: 5 суток\",\"Срок годности: 10 суток\")","v":"Срок годности: 10 суток"}]
[{"$f":"$A$10","v":0},null,"кг"]
["Масса нетто: ","----------------------------"]
[83]
[{"$f":"$A$2","v":"Бананы св. вес. 1кл"},{"$f":"'[1]Банан расч'!E84","v":"34-п"}]
[{"$f":"IF(INDIRECT(ADDRESS(ROW()-1,COLUMN()+1))=\"Хосп-4\",\"\",\"ГОСТ Р 51603-2000\")","v":"ГОСТ Р 51603-2000"},"Учреждение"]
[{"$f":"$A$4","v":"ТР ТС 021/2011 ТР ТС 022/2011"}]
[{"$f":"$A$5","v":"Изготовитель: Эквадор"}]
[{"$f":"$A$6","v":"\"AGZULASA CIA LTDA\""}]
[{"$f":"$A$7","v":"Дата фасовки: 12.09.2018"},{"$f":"K84","v":8.6999999999999993}]
[{"$f":"$A$8","v":"Условия хранения: +13°С до +14 °С"}]
[{"$f":"IF(LEFT(INDIRECT(ADDRESS(ROW()-7,COLUMN()+1)),3)=\"13-\",\"Срок годности: 5 суток\",\"Срок годности: 10 суток\")","v":"Срок годности: 10 суток"}]
[{"$f":"$A$10","v":0},null,"кг"]
["Масса нетто: ","----------------------------"]
[84]
[{"$f":"$A$2","v":"Бананы св. вес. 1кл"},{"$f":"'[1]Банан расч'!E85","v":"9-п"}]
[{"$f":"IF(INDIRECT(ADDRESS(ROW()-1,COLUMN()+1))=\"Хосп-4\",\"\",\"ГОСТ Р 51603-2000\")","v":"ГОСТ Р 51603-2000"},"Учреждение"]
[{"$f":"$A$4","v":"ТР ТС 021/2011 ТР ТС 022/2011"}]
[{"$f":"$A$5","v":"Изготовитель: Эквадор"}]
[{"$f":"$A$6","v":"\"AGZULASA CIA LTDA\""}]
[{"$f":"$A$7","v":"Дата фасовки: 12.09.2018"},{"$f":"K85","v":8.2249999999999996}]
[{"$f":"$A$8","v":"Условия хранения: +13°С до +14 °С"}]
[{"$f":"IF(LEFT(INDIRECT(ADDRESS(ROW()-7,COLUMN()+1)),3)=\"13-\",\"Срок годности: 5 суток\",\"Срок годности: 10 суток\")","v":"Срок годности: 10 суток"}]
[{"$f":"$A$10","v":0},null,"кг"]
["Масса нетто: ","----------------------------"]
[85]
[{"$f":"$A$2","v":"Бананы св. вес. 1кл"},{"$f":"'[1]Банан расч'!E86","v":"15-п"}]
[{"$f":"IF(INDIRECT(ADDRESS(ROW()-1,COLUMN()+1))=\"Хосп-4\",\"\",\"ГОСТ Р 51603-2000\")","v":"ГОСТ Р 51603-2000"},"Учреждение"]
[{"$f":"$A$4","v":"ТР ТС 021/2011 ТР ТС 022/2011"}]
[{"$f":"$A$5","v":"Изготовитель: Эквадор"}]
[{"$f":"$A$6","v":"\"AGZULASA CIA LTDA\""}]
[{"$f":"$A$7","v":"Дата фасовки: 12.09.2018"},{"$f":"K86","v":8}]
[{"$f":"$A$8","v":"Условия хранения: +13°С до +14 °С"}]
[{"$f":"IF(LEFT(INDIRECT(ADDRESS(ROW()-7,COLUMN()+1)),3)=\"13-\",\"Срок годности: 5 суток\",\"Срок годности: 10 суток\")","v":"Срок годности: 10 суток"}]
[{"$f":"$A$10","v":0},null,"кг"]
["Масса нетто: ","----------------------------"]
[86]
[{"$f":"$A$2","v":"Бананы св. вес. 1кл"},{"$f":"'[1]Банан расч'!E87","v":"25-2-п"}]
[{"$f":"IF(INDIRECT(ADDRESS(ROW()-1,COLUMN()+1))=\"Хосп-4\",\"\",\"ГОСТ Р 51603-2000\")","v":"ГОСТ Р 51603-2000"},"Учреждение"]
[{"$f":"$A$4","v":"ТР ТС 021/2011 ТР ТС 022/2011"}]
[{"$f":"$A$5","v":"Изготовитель: Эквадор"}]
[{"$f":"$A$6","v":"\"AGZULASA CIA LTDA\""}]
[{"$f":"$A$7","v":"Дата фасовки: 12.09.2018"},{"$f":"K87","v":8}]
[{"$f":"$A$8","v":"Условия хранения: +13°С до +14 °С"}]
[{"$f":"IF(LEFT(INDIRECT(ADDRESS(ROW()-7,COLUMN()+1)),3)=\"13-\",\"Срок годности: 5 суток\",\"Срок годности: 10 суток\")","v":"Срок годности: 10 суток"}]
[{"$f":"$A$10","v":0},null,"кг"]
["Масса нетто: ","----------------------------"]
[87]
[{"$f":"$A$2","v":"Бананы св. вес. 1кл"},{"$f":"'[1]Банан расч'!E88","v":"100"}]
[{"$f":"IF(INDIRECT(ADDRESS(ROW()-1,COLUMN()+1))=\"Хосп-4\",\"\",\"ГОСТ Р 51603-2000\")","v":"ГОСТ Р 51603-2000"},"Учреждение"]
[{"$f":"$A$4","v":"ТР ТС 021/2011 ТР ТС 022/2011"}]
[{"$f":"$A$5","v":"Изготовитель: Эквадор"}]
[{"$f":"$A$6","v":"\"AGZULASA CIA LTDA\""}]
[{"$f":"$A$7","v":"Дата фасовки: 12.09.2018"},{"$f":"K88","v":6.5}]
[{"$f":"$A$8","v":"Условия хранения: +13°С до +14 °С"}]
[{"$f":"IF(LEFT(INDIRECT(ADDRESS(ROW()-7,COLUMN()+1)),3)=\"13-\",\"Срок годности: 5 суток\",\"Срок годности: 10 суток\")","v":"Срок годности: 10 суток"}]
[{"$f":"$A$10","v":0},null,"кг"]
["Масса нетто: ","----------------------------"]
[88]
[{"$f":"$A$2","v":"Бананы св. вес. 1кл"},{"$f":"'[1]Банан расч'!E89","v":"37"}]
[{"$f":"IF(INDIRECT(ADDRESS(ROW()-1,COLUMN()+1))=\"Хосп-4\",\"\",\"ГОСТ Р 51603-2000\")","v":"ГОСТ Р 51603-2000"},"Учреждение"]
[{"$f":"$A$4","v":"ТР ТС 021/2011 ТР ТС 022/2011"}]
[{"$f":"$A$5","v":"Изготовитель: Эквадор"}]
[{"$f":"$A$6","v":"\"AGZULASA CIA LTDA\""}]
[{"$f":"$A$7","v":"Дата фасовки: 12.09.2018"},{"$f":"K89","v":6}]
[{"$f":"$A$8","v":"Условия хранения: +13°С до +14 °С"}]
[{"$f":"IF(LEFT(INDIRECT(ADDRESS(ROW()-7,COLUMN()+1)),3)=\"13-\",\"Срок годности: 5 суток\",\"Срок годности: 10 суток\")","v":"Срок годности: 10 суток"}]
[{"$f":"$A$10","v":0},null,"кг"]
["Масса нетто: ","----------------------------"]
[89]
[{"$f":"$A$2","v":"Бананы св. вес. 1кл"},{"$f":"'[1]Банан расч'!E90","v":"17"}]
[{"$f":"IF(INDIRECT(ADDRESS(ROW()-1,COLUMN()+1))=\"Хосп-4\",\"\",\"ГОСТ Р 51603-2000\")","v":"ГОСТ Р 51603-2000"},"Учреждение"]
[{"$f":"$A$4","v":"ТР ТС 021/2011 ТР ТС 022/2011"}]
[{"$f":"$A$5","v":"Изготовитель: Эквадор"}]
[{"$f":"$A$6","v":"\"AGZULASA CIA LTDA\""}]
[{"$f":"$A$7","v":"Дата фасовки: 12.09.2018"},{"$f":"K90","v":6}]
[{"$f":"$A$8","v":"Условия хранения: +13°С до +14 °С"}]
[{"$f":"IF(LEFT(INDIRECT(ADDRESS(ROW()-7,COLUMN()+1)),3)=\"13-\",\"Срок годности: 5 суток\",\"Срок годности: 10 суток\")","v":"Срок годности: 10 суток"}]
[{"$f":"$A$10","v":0},null,"кг"]
["Масса нетто: ","----------------------------"]
[90]
[{"$f":"$A$2","v":"Бананы св. вес. 1кл"},{"$f":"'[1]Банан расч'!E91","v":"87-2-п"}]
[{"$f":"IF(INDIRECT(ADDRESS(ROW()-1,COLUMN()+1))=\"Хосп-4\",\"\",\"ГОСТ Р 51603-2000\")","v":"ГОСТ Р 51603-2000"},"Учреждение"]
[{"$f":"$A$4","v":"ТР ТС 021/2011 ТР ТС 022/2011"}]
[{"$f":"$A$5","v":"Изготовитель: Эквадор"}]
[{"$f":"$A$6","v":"\"AGZULASA CIA LTDA\""}]
[{"$f":"$A$7","v":"Дата фасовки: 12.09.2018"},{"$f":"K91","v":6}]
[{"$f":"$A$8","v":"Условия хранения: +13°С до +14 °С"}]
[{"$f":"IF(LEFT(INDIRECT(ADDRESS(ROW()-7,COLUMN()+1)),3)=\"13-\",\"Срок годности: 5 суток\",\"Срок годности: 10 суток\")","v":"Срок годности: 10 суток"}]
[{"$f":"$A$10","v":0},null,"кг"]
["Масса нетто: ","----------------------------"]
[91]
[{"$f":"$A$2","v":"Бананы св. вес. 1кл"},{"$f":"'[1]Банан расч'!E92","v":"90-п"}]
[{"$f":"IF(INDIRECT(ADDRESS(ROW()-1,COLUMN()+1))=\"Хосп-4\",\"\",\"ГОСТ Р 51603-2000\")","v":"ГОСТ Р 51603-2000"},"Учреждение"]
[{"$f":"$A$4","v":"ТР ТС 021/2011 ТР ТС 022/2011"}]
[{"$f":"$A$5","v":"Изготовитель: Эквадор"}]
[{"$f":"$A$6","v":"\"AGZULASA CIA LTDA\""}]
[{"$f":"$A$7","v":"Дата фасовки: 12.09.2018"},{"$f":"K92","v":6}]
[{"$f":"$A$8","v":"Условия хранения: +13°С до +14 °С"}]
[{"$f":"IF(LEFT(INDIRECT(ADDRESS(ROW()-7,COLUMN()+1)),3)=\"13-\",\"Срок годности: 5 суток\",\"Срок годности: 10 суток\")","v":"Срок годности: 10 суток"}]
[{"$f":"$A$10","v":0},null,"кг"]
["Масса нетто: ","----------------------------"]
[92]
[{"$f":"$A$2","v":"Бананы св. вес. 1кл"},{"$f":"'[1]Банан расч'!E93","v":"85-п"}]
[{"$f":"IF(INDIRECT(ADDRESS(ROW()-1,COLUMN()+1))=\"Хосп-4\",\"\",\"ГОСТ Р 51603-2000\")","v":"ГОСТ Р 51603-2000"},"Учреждение"]
[{"$f":"$A$4","v":"ТР ТС 021/2011 ТР ТС 022/2011"}]
[{"$f":"$A$5","v":"Изготовитель: Эквадор"}]
[{"$f":"$A$6","v":"\"AGZULASA CIA LTDA\""}]
[{"$f":"$A$7","v":"Дата фасовки: 12.09.2018"},{"$f":"K93","v":6}]
[{"$f":"$A$8","v":"Условия хранения: +13°С до +14 °С"}]
[{"$f":"IF(LEFT(INDIRECT(ADDRESS(ROW()-7,COLUMN()+1)),3)=\"13-\",\"Срок годности: 5 суток\",\"Срок годности: 10 суток\")","v":"Срок годности: 10 суток"}]
[{"$f":"$A$10","v":0},null,"кг"]
["Масса нетто: ","----------------------------"]
[93]
[{"$f":"$A$2","v":"Бананы св. вес. 1кл"},{"$f":"'[1]Банан расч'!E94","v":"87-1-п"}]
[{"$f":"IF(INDIRECT(ADDRESS(ROW()-1,COLUMN()+1))=\"Хосп-4\",\"\",\"ГОСТ Р 51603-2000\")","v":"ГОСТ Р 51603-2000"},"Учреждение"]
[{"$f":"$A$4","v":"ТР ТС 021/2011 ТР ТС 022/2011"}]
[{"$f":"$A$5","v":"Изготовитель: Эквадор"}]
[{"$f":"$A$6","v":"\"AGZULASA CIA LTDA\""}]
[{"$f":"$A$7","v":"Дата фасовки: 12.09.2018"},{"$f":"K94","v":6}]
[{"$f":"$A$8","v":"Условия хранения: +13°С до +14 °С"}]
[{"$f":"IF(LEFT(INDIRECT(ADDRESS(ROW()-7,COLUMN()+1)),3)=\"13-\",\"Срок годности: 5 суток\",\"Срок годности: 10 суток\")","v":"Срок годности: 10 суток"}]
[{"$f":"$A$10","v":0},null,"кг"]
["Масса нетто: ","----------------------------"]
[94]
[{"$f":"$A$2","v":"Бананы св. вес. 1кл"},{"$f":"'[1]Банан расч'!E95","v":"4 д/д"}]
[{"$f":"IF(INDIRECT(ADDRESS(ROW()-1,COLUMN()+1))=\"Хосп-4\",\"\",\"ГОСТ Р 51603-2000\")","v":"ГОСТ Р 51603-2000"},"Учреждение"]
[{"$f":"$A$4","v":"ТР ТС 021/2011 ТР ТС 022/2011"}]
[{"$f":"$A$5","v":"Изготовитель: Эквадор"}]
[{"$f":"$A$6","v":"\"AGZULASA CIA LTDA\""}]
[{"$f":"$A$7","v":"Дата фасовки: 12.09.2018"},{"$f":"K95","v":6}]
[{"$f":"$A$8","v":"Условия хранения: +13°С до +14 °С"}]
[{"$f":"IF(LEFT(INDIRECT(ADDRESS(ROW()-7,COLUMN()+1)),3)=\"13-\",\"Срок годности: 5 суток\",\"Срок годности: 10 суток\")","v":"Срок годности: 10 суток"}]
[{"$f":"$A$10","v":0},null,"кг"]
["Масса нетто: ","----------------------------"]
[95]
[{"$f":"$A$2","v":"Бананы св. вес. 1кл"},{"$f":"'[1]Банан расч'!E96","v":"3"}]
[{"$f":"IF(INDIRECT(ADDRESS(ROW()-1,COLUMN()+1))=\"Хосп-4\",\"\",\"ГОСТ Р 51603-2000\")","v":"ГОСТ Р 51603-2000"},"Учреждение"]
[{"$f":"$A$4","v":"ТР ТС 021/2011 ТР ТС 022/2011"}]
[{"$f":"$A$5","v":"Изготовитель: Эквадор"}]
[{"$f":"$A$6","v":"\"AGZULASA CIA LTDA\""}]
[{"$f":"$A$7","v":"Дата фасовки: 12.09.2018"},{"$f":"K96","v":5.3}]
[{"$f":"$A$8","v":"Условия хранения: +13°С до +14 °С"}]
[{"$f":"IF(LEFT(INDIRECT(ADDRESS(ROW()-7,COLUMN()+1)),3)=\"13-\",\"Срок годности: 5 суток\",\"Срок годности: 10 суток\")","v":"Срок годности: 10 суток"}]
[{"$f":"$A$10","v":0},null,"кг"]
["Масса нетто: ","----------------------------"]
[96]
[{"$f":"$A$2","v":"Бананы св. вес. 1кл"},{"$f":"'[1]Банан расч'!E97","v":"127"}]
[{"$f":"IF(INDIRECT(ADDRESS(ROW()-1,COLUMN()+1))=\"Хосп-4\",\"\",\"ГОСТ Р 51603-2000\")","v":"ГОСТ Р 51603-2000"},"Учреждение"]
[{"$f":"$A$4","v":"ТР ТС 021/2011 ТР ТС 022/2011"}]
[{"$f":"$A$5","v":"Изготовитель: Эквадор"}]
[{"$f":"$A$6","v":"\"AGZULASA CIA LTDA\""}]
[{"$f":"$A$7","v":"Дата фасовки: 12.09.2018"},{"$f":"K97","v":5}]
[{"$f":"$A$8","v":"Условия хранения: +13°С до +14 °С"}]
[{"$f":"IF(LEFT(INDIRECT(ADDRESS(ROW()-7,COLUMN()+1)),3)=\"13-\",\"Срок годности: 5 суток\",\"Срок годности: 10 суток\")","v":"Срок годности: 10 суток"}]
[{"$f":"$A$10","v":0},null,"кг"]
["Масса нетто: ","----------------------------"]
[97]
[{"$f":"$A$2","v":"Бананы св. вес. 1кл"},{"$f":"'[1]Банан расч'!E98","v":"108"}]
[{"$f":"IF(INDIRECT(ADDRESS(ROW()-1,COLUMN()+1))=\"Хосп-4\",\"\",\"ГОСТ Р 51603-2000\")","v":"ГОСТ Р 51603-2000"},"Учреждение"]
[{"$f":"$A$4","v":"ТР ТС 021/2011 ТР ТС 022/2011"}]
[{"$f":"$A$5","v":"Изготовитель: Эквадор"}]
[{"$f":"$A$6","v":"\"AGZULASA CIA LTDA\""}]
[{"$f":"$A$7","v":"Дата фасовки: 12.09.2018"},{"$f":"K98","v":5}]
[{"$f":"$A$8","v":"Условия хранения: +13°С до +14 °С"}]
[{"$f":"IF(LEFT(INDIRECT(ADDRESS(ROW()-7,COLUMN()+1)),3)=\"13-\",\"Срок годности: 5 суток\",\"Срок годности: 10 суток\")","v":"Срок годности: 10 суток"}]
[{"$f":"$A$10","v":0},null,"кг"]
["Масса нетто: ","----------------------------"]
[98]
[{"$f":"$A$2","v":"Бананы св. вес. 1кл"},{"$f":"'[1]Банан расч'!E99","v":"хосп-4"}]
[{"$f":"IF(INDIRECT(ADDRESS(ROW()-1,COLUMN()+1))=\"Хосп-4\",\"\",\"ГОСТ Р 51603-2000\")","v":""},"Учреждение"]
[{"$f":"$A$4","v":"ТР ТС 021/2011 ТР ТС 022/2011"}]
[{"$f":"$A$5","v":"Изготовитель: Эквадор"}]
[{"$f":"$A$6","v":"\"AGZULASA CIA LTDA\""}]
[{"$f":"$A$7","v":"Дата фасовки: 12.09.2018"},{"$f":"K99","v":5}]
[{"$f":"$A$8","v":"Условия хранения: +13°С до +14 °С"}]
[{"$f":"IF(LEFT(INDIRECT(ADDRESS(ROW()-7,COLUMN()+1)),3)=\"13-\",\"Срок годности: 5 суток\",\"Срок годности: 10 суток\")","v":"Срок годности: 10 суток"}]
[{"$f":"$A$10","v":0},null,"кг"]
["Масса нетто: ","----------------------------"]
[99]
[{"$f":"$A$2","v":"Бананы св. вес. 1кл"},{"$f":"'[1]Банан расч'!E100","v":"5 д/д"}]
[{"$f":"IF(INDIRECT(ADDRESS(ROW()-1,COLUMN()+1))=\"Хосп-4\",\"\",\"ГОСТ Р 51603-2000\")","v":"ГОСТ Р 51603-2000"},"Учреждение"]
[{"$f":"$A$4","v":"ТР ТС 021/2011 ТР ТС 022/2011"}]
[{"$f":"$A$5","v":"Изготовитель: Эквадор"}]
[{"$f":"$A$6","v":"\"AGZULASA CIA LTDA\""}]
[{"$f":"$A$7","v":"Дата фасовки: 12.09.2018"},{"$f":"K100","v":4.8}]
[{"$f":"$A$8","v":"Условия хранения: +13°С до +14 °С"}]
[{"$f":"IF(LEFT(INDIRECT(ADDRESS(ROW()-7,COLUMN()+1)),3)=\"13-\",\"Срок годности: 5 суток\",\"Срок годности: 10 суток\")","v":"Срок годности: 10 суток"}]
[{"$f":"$A$10","v":0},null,"кг"]
["Масса нетто: ","----------------------------"]
[0]
[{"$f":"$A$2","v":"Бананы св. вес. 1кл"},{"$f":"'[1]Банан расч'!E101","v":"43-п"}]
[{"$f":"IF(INDIRECT(ADDRESS(ROW()-1,COLUMN()+1))=\"Хосп-4\",\"\",\"ГОСТ Р 51603-2000\")","v":"ГОСТ Р 51603-2000"},"Учреждение"]
[{"$f":"$A$4","v":"ТР ТС 021/2011 ТР ТС 022/2011"}]
[{"$f":"$A$5","v":"Изготовитель: Эквадор"}]
[{"$f":"$A$6","v":"\"AGZULASA CIA LTDA\""}]
[{"$f":"$A$7","v":"Дата фасовки: 12.09.2018"},{"$f":"K101","v":4}]
[{"$f":"$A$8","v":"Условия хранения: +13°С до +14 °С"}]
[{"$f":"IF(LEFT(INDIRECT(ADDRESS(ROW()-7,COLUMN()+1)),3)=\"13-\",\"Срок годности: 5 суток\",\"Срок годности: 10 суток\")","v":"Срок годности: 10 суток"}]
[{"$f":"$A$10","v":0},null,"кг"]
["Масса нетто: ","----------------------------"]
[1]
[{"$f":"$A$2","v":"Бананы св. вес. 1кл"},{"$f":"'[1]Банан расч'!E102","v":"298"}]
[{"$f":"IF(INDIRECT(ADDRESS(ROW()-1,COLUMN()+1))=\"Хосп-4\",\"\",\"ГОСТ Р 51603-2000\")","v":"ГОСТ Р 51603-2000"},"Учреждение"]
[{"$f":"$A$4","v":"ТР ТС 021/2011 ТР ТС 022/2011"}]
[{"$f":"$A$5","v":"Изготовитель: Эквадор"}]
[{"$f":"$A$6","v":"\"AGZULASA CIA LTDA\""}]
[{"$f":"$A$7","v":"Дата фасовки: 12.09.2018"},{"$f":"K102","v":3.8}]
[{"$f":"$A$8","v":"Условия хранения: +13°С до +14 °С"}]
[{"$f":"IF(LEFT(INDIRECT(ADDRESS(ROW()-7,COLUMN()+1)),3)=\"13-\",\"Срок годности: 5 суток\",\"Срок годности: 10 суток\")","v":"Срок годности: 10 суток"}]
[{"$f":"$A$10","v":0},null,"кг"]
["Масса нетто: ","----------------------------"]
[2]
[{"$f":"$A$2","v":"Бананы св. вес. 1кл"},{"$f":"'[1]Банан расч'!E103","v":"40-п"}]
[{"$f":"IF(INDIRECT(ADDRESS(ROW()-1,COLUMN()+1))=\"Хосп-4\",\"\",\"ГОСТ Р 51603-2000\")","v":"ГОСТ Р 51603-2000"},"Учреждение"]
[{"$f":"$A$4","v":"ТР ТС 021/2011 ТР ТС 022/2011"}]
[{"$f":"$A$5","v":"Изготовитель: Эквадор"}]
[{"$f":"$A$6","v":"\"AGZULASA CIA LTDA\""}]
[{"$f":"$A$7","v":"Дата фасовки: 12.09.2018"},{"$f":"K103","v":3.8}]
[{"$f":"$A$8","v":"Условия хранения: +13°С до +14 °С"}]
[{"$f":"IF(LEFT(INDIRECT(ADDRESS(ROW()-7,COLUMN()+1)),3)=\"13-\",\"Срок годности: 5 суток\",\"Срок годности: 10 суток\")","v":"Срок годности: 10 суток"}]
[{"$f":"$A$10","v":0},null,"кг"]
["Масса нетто: ","----------------------------"]
[3]
[{"$f":"$A$2","v":"Бананы св. вес. 1кл"},{"$f":"'[1]Банан расч'!E104","v":"46шк"}]
[{"$f":"IF(INDIRECT(ADDRESS(ROW()-1,COLUMN()+1))=\"Хосп-4\",\"\",\"ГОСТ Р 51603-2000\")","v":"ГОСТ Р 51603-2000"},"Учреждение"]
[{"$f":"$A$4","v":"ТР ТС 021/2011 ТР ТС 022/2011"}]
[{"$f":"$A$5","v":"Изготовитель: Эквадор"}]
[{"$f":"$A$6","v":"\"AGZULASA CIA LTDA\""}]
[{"$f":"$A$7","v":"Дата фасовки: 12.09.2018"},{"$f":"K104","v":3.5}]
[{"$f":"$A$8","v":"Условия хранения: +13°С до +14 °С"}]
[{"$f":"IF(LEFT(INDIRECT(ADDRESS(ROW()-7,COLUMN()+1)),3)=\"13-\",\"Срок годности: 5 суток\",\"Срок годности: 10 суток\")","v":"Срок годности: 10 суток"}]
[{"$f":"$A$10","v":0},null,"кг"]
["Масса нетто: ","----------------------------"]
[4]
[{"$f":"$A$2","v":"Бананы св. вес. 1кл"},{"$f":"'[1]Банан расч'!E105","v":"90"}]
[{"$f":"IF(INDIRECT(ADDRESS(ROW()-1,COLUMN()+1))=\"Хосп-4\",\"\",\"ГОСТ Р 51603-2000\")","v":"ГОСТ Р 51603-2000"},"Учреждение"]
[{"$f":"$A$4","v":"ТР ТС 021/2011 ТР ТС 022/2011"}]
[{"$f":"$A$5","v":"Изготовитель: Эквадор"}]
[{"$f":"$A$6","v":"\"AGZULASA CIA LTDA\""}]
[{"$f":"$A$7","v":"Дата фасовки: 12.09.2018"},{"$f":"K105","v":3.1}]
[{"$f":"$A$8","v":"Условия хранения: +13°С до +14 °С"}]
[{"$f":"IF(LEFT(INDIRECT(ADDRESS(ROW()-7,COLUMN()+1)),3)=\"13-\",\"Срок годности: 5 суток\",\"Срок годности: 10 суток\")","v":"Срок годности: 10 суток"}]
[{"$f":"$A$10","v":0},null,"кг"]
["Масса нетто: ","----------------------------"]
[5]
[{"$f":"$A$2","v":"Бананы св. вес. 1кл"},{"$f":"'[1]Банан расч'!E106","v":"48"}]
[{"$f":"IF(INDIRECT(ADDRESS(ROW()-1,COLUMN()+1))=\"Хосп-4\",\"\",\"ГОСТ Р 51603-2000\")","v":"ГОСТ Р 51603-2000"},"Учреждение"]
[{"$f":"$A$4","v":"ТР ТС 021/2011 ТР ТС 022/2011"}]
[{"$f":"$A$5","v":"Изготовитель: Эквадор"}]
[{"$f":"$A$6","v":"\"AGZULASA CIA LTDA\""}]
[{"$f":"$A$7","v":"Дата фасовки: 12.09.2018"},{"$f":"K106","v":2}]
[{"$f":"$A$8","v":"Условия хранения: +13°С до +14 °С"}]
[{"$f":"IF(LEFT(INDIRECT(ADDRESS(ROW()-7,COLUMN()+1)),3)=\"13-\",\"Срок годности: 5 суток\",\"Срок годности: 10 суток\")","v":"Срок годности: 10 суток"}]
[{"$f":"$A$10","v":0},null,"кг"]
["Масса нетто: ","----------------------------"]
[6]
[{"$f":"$A$2","v":"Бананы св. вес. 1кл"},{"$f":"'[1]Банан расч'!E107","v":"71"}]
[{"$f":"IF(INDIRECT(ADDRESS(ROW()-1,COLUMN()+1))=\"Хосп-4\",\"\",\"ГОСТ Р 51603-2000\")","v":"ГОСТ Р 51603-2000"},"Учреждение"]
[{"$f":"$A$4","v":"ТР ТС 021/2011 ТР ТС 022/2011"}]
[{"$f":"$A$5","v":"Изготовитель: Эквадор"}]
[{"$f":"$A$6","v":"\"AGZULASA CIA LTDA\""}]
[{"$f":"$A$7","v":"Дата фасовки: 12.09.2018"},{"$f":"K107","v":0}]
[{"$f":"$A$8","v":"Условия хранения: +13°С до +14 °С"}]
[{"$f":"IF(LEFT(INDIRECT(ADDRESS(ROW()-7,COLUMN()+1)),3)=\"13-\",\"Срок годности: 5 суток\",\"Срок годности: 10 суток\")","v":"Срок годности: 10 суток"}]
[{"$f":"$A$10","v":0},null,"кг"]
["Масса нетто: ","----------------------------"]
[7]
[{"$f":"$A$2","v":"Бананы св. вес. 1кл"},{"$f":"'[1]Банан расч'!E108","v":"233"}]
[{"$f":"IF(INDIRECT(ADDRESS(ROW()-1,COLUMN()+1))=\"Хосп-4\",\"\",\"ГОСТ Р 51603-2000\")","v":"ГОСТ Р 51603-2000"},"Учреждение"]
[{"$f":"$A$4","v":"ТР ТС 021/2011 ТР ТС 022/2011"}]
[{"$f":"$A$5","v":"Изготовитель: Эквадор"}]
[{"$f":"$A$6","v":"\"AGZULASA CIA LTDA\""}]
[{"$f":"$A$7","v":"Дата фасовки: 12.09.2018"},{"$f":"K108","v":0}]
[{"$f":"$A$8","v":"Условия хранения: +13°С до +14 °С"}]
[{"$f":"IF(LEFT(INDIRECT(ADDRESS(ROW()-7,COLUMN()+1)),3)=\"13-\",\"Срок годности: 5 суток\",\"Срок годности: 10 суток\")","v":"Срок годности: 10 суток"}]
[{"$f":"$A$10","v":0},null,"кг"]
["Масса нетто: ","----------------------------"]
[8]
[{"$f":"$A$2","v":"Бананы св. вес. 1кл"},{"$f":"'[1]Банан расч'!E109","v":"112"}]
[{"$f":"IF(INDIRECT(ADDRESS(ROW()-1,COLUMN()+1))=\"Хосп-4\",\"\",\"ГОСТ Р 51603-2000\")","v":"ГОСТ Р 51603-2000"},"Учреждение"]
[{"$f":"$A$4","v":"ТР ТС 021/2011 ТР ТС 022/2011"}]
[{"$f":"$A$5","v":"Изготовитель: Эквадор"}]
[{"$f":"$A$6","v":"\"AGZULASA CIA LTDA\""}]
[{"$f":"$A$7","v":"Дата фасовки: 12.09.2018"},{"$f":"K109","v":0}]
[{"$f":"$A$8","v":"Условия хранения: +13°С до +14 °С"}]
[{"$f":"IF(LEFT(INDIRECT(ADDRESS(ROW()-7,COLUMN()+1)),3)=\"13-\",\"Срок годности: 5 суток\",\"Срок годности: 10 суток\")","v":"Срок годности: 10 суток"}]
[{"$f":"$A$10","v":0},null,"кг"]
["Масса нетто: ","----------------------------"]
[9]
[{"$f":"$A$2","v":"Бананы св. вес. 1кл"},{"$f":"'[1]Банан расч'!E110","v":"81"}]
[{"$f":"IF(INDIRECT(ADDRESS(ROW()-1,COLUMN()+1))=\"Хосп-4\",\"\",\"ГОСТ Р 51603-2000\")","v":"ГОСТ Р 51603-2000"},"Учреждение"]
[{"$f":"$A$4","v":"ТР ТС 021/2011 ТР ТС 022/2011"}]
[{"$f":"$A$5","v":"Изготовитель: Эквадор"}]
[{"$f":"$A$6","v":"\"AGZULASA CIA LTDA\""}]
[{"$f":"$A$7","v":"Дата фасовки: 12.09.2018"},{"$f":"K110","v":0}]
[{"$f":"$A$8","v":"Условия хранения: +13°С до +14 °С"}]
[{"$f":"IF(LEFT(INDIRECT(ADDRESS(ROW()-7,COLUMN()+1)),3)=\"13-\",\"Срок годности: 5 суток\",\"Срок годности: 10 суток\")","v":"Срок годности: 10 суток"}]
[{"$f":"$A$10","v":0},null,"кг"]
["Масса нетто: ","----------------------------"]
[10]
[{"$f":"$A$2","v":"Бананы св. вес. 1кл"},{"$f":"'[1]Банан расч'!E111","v":"78"}]
[{"$f":"IF(INDIRECT(ADDRESS(ROW()-1,COLUMN()+1))=\"Хосп-4\",\"\",\"ГОСТ Р 51603-2000\")","v":"ГОСТ Р 51603-2000"},"Учреждение"]
[{"$f":"$A$4","v":"ТР ТС 021/2011 ТР ТС 022/2011"}]
[{"$f":"$A$5","v":"Изготовитель: Эквадор"}]
[{"$f":"$A$6","v":"\"AGZULASA CIA LTDA\""}]
[{"$f":"$A$7","v":"Дата фасовки: 12.09.2018"},{"$f":"K111","v":0}]
[{"$f":"$A$8","v":"Условия хранения: +13°С до +14 °С"}]
[{"$f":"IF(LEFT(INDIRECT(ADDRESS(ROW()-7,COLUMN()+1)),3)=\"13-\",\"Срок годности: 5 суток\",\"Срок годности: 10 суток\")","v":"Срок годности: 10 суток"}]
[{"$f":"$A$10","v":0},null,"кг"]
["Масса нетто: ","----------------------------"]
[11]
[{"$f":"$A$2","v":"Бананы св. вес. 1кл"},{"$f":"'[1]Банан расч'!E112","v":"32-1"}]
[{"$f":"IF(INDIRECT(ADDRESS(ROW()-1,COLUMN()+1))=\"Хосп-4\",\"\",\"ГОСТ Р 51603-2000\")","v":"ГОСТ Р 51603-2000"},"Учреждение"]
[{"$f":"$A$4","v":"ТР ТС 021/2011 ТР ТС 022/2011"}]
[{"$f":"$A$5","v":"Изготовитель: Эквадор"}]
[{"$f":"$A$6","v":"\"AGZULASA CIA LTDA\""}]
[{"$f":"$A$7","v":"Дата фасовки: 12.09.2018"},{"$f":"K112","v":0}]
[{"$f":"$A$8","v":"Условия хранения: +13°С до +14 °С"}]
[{"$f":"IF(LEFT(INDIRECT(ADDRESS(ROW()-7,COLUMN()+1)),3)=\"13-\",\"Срок годности: 5 суток\",\"Срок годности: 10 суток\")","v":"Срок годности: 10 суток"}]
[{"$f":"$A$10","v":0},null,"кг"]
["Масса нетто: ","----------------------------"]
[12]
[{"$f":"$A$2","v":"Бананы св. вес. 1кл"},{"$f":"'[1]Банан расч'!E113","v":"4"}]
[{"$f":"IF(INDIRECT(ADDRESS(ROW()-1,COLUMN()+1))=\"Хосп-4\",\"\",\"ГОСТ Р 51603-2000\")","v":"ГОСТ Р 51603-2000"},"Учреждение"]
[{"$f":"$A$4","v":"ТР ТС 021/2011 ТР ТС 022/2011"}]
[{"$f":"$A$5","v":"Изготовитель: Эквадор"}]
[{"$f":"$A$6","v":"\"AGZULASA CIA LTDA\""}]
[{"$f":"$A$7","v":"Дата фасовки: 12.09.2018"},{"$f":"K113","v":0}]
[{"$f":"$A$8","v":"Условия хранения: +13°С до +14 °С"}]
[{"$f":"IF(LEFT(INDIRECT(ADDRESS(ROW()-7,COLUMN()+1)),3)=\"13-\",\"Срок годности: 5 суток\",\"Срок годности: 10 суток\")","v":"Срок годности: 10 суток"}]
[{"$f":"$A$10","v":0},null,"кг"]
["Масса нетто: ","----------------------------"]
[13]
[{"$f":"$A$2","v":"Бананы св. вес. 1кл"},{"$f":"'[1]Банан расч'!E114","v":"44"}]
[{"$f":"IF(INDIRECT(ADDRESS(ROW()-1,COLUMN()+1))=\"Хосп-4\",\"\",\"ГОСТ Р 51603-2000\")","v":"ГОСТ Р 51603-2000"},"Учреждение"]
[{"$f":"$A$4","v":"ТР ТС 021/2011 ТР ТС 022/2011"}]
[{"$f":"$A$5","v":"Изготовитель: Эквадор"}]
[{"$f":"$A$6","v":"\"AGZULASA CIA LTDA\""}]
[{"$f":"$A$7","v":"Дата фасовки: 12.09.2018"},{"$f":"K114","v":0}]
[{"$f":"$A$8","v":"Условия хранения: +13°С до +14 °С"}]
[{"$f":"IF(LEFT(INDIRECT(ADDRESS(ROW()-7,COLUMN()+1)),3)=\"13-\",\"Срок годности: 5 суток\",\"Срок годности: 10 суток\")","v":"Срок годности: 10 суток"}]
[{"$f":"$A$10","v":0},null,"кг"]
["Масса нетто: ","----------------------------"]
[14]
[{"$f":"$A$2","v":"Бананы св. вес. 1кл"},{"$f":"'[1]Банан расч'!E115","v":"125-1"}]
[{"$f":"IF(INDIRECT(ADDRESS(ROW()-1,COLUMN()+1))=\"Хосп-4\",\"\",\"ГОСТ Р 51603-2000\")","v":"ГОСТ Р 51603-2000"},"Учреждение"]
[{"$f":"$A$4","v":"ТР ТС 021/2011 ТР ТС 022/2011"}]
[{"$f":"$A$5","v":"Изготовитель: Эквадор"}]
[{"$f":"$A$6","v":"\"AGZULASA CIA LTDA\""}]
[{"$f":"$A$7","v":"Дата фасовки: 12.09.2018"},{"$f":"K115","v":0}]
[{"$f":"$A$8","v":"Условия хранения: +13°С до +14 °С"}]
[{"$f":"IF(LEFT(INDIRECT(ADDRESS(ROW()-7,COLUMN()+1)),3)=\"13-\",\"Срок годности: 5 суток\",\"Срок годности: 10 суток\")","v":"Срок годности: 10 суток"}]
[{"$f":"$A$10","v":0},null,"кг"]
["Масса нетто: ","----------------------------"]
[15]
[{"$f":"$A$2","v":"Бананы св. вес. 1кл"},{"$f":"'[1]Банан расч'!E116","v":"32-3"}]
[{"$f":"IF(INDIRECT(ADDRESS(ROW()-1,COLUMN()+1))=\"Хосп-4\",\"\",\"ГОСТ Р 51603-2000\")","v":"ГОСТ Р 51603-2000"},"Учреждение"]
[{"$f":"$A$4","v":"ТР ТС 021/2011 ТР ТС 022/2011"}]
[{"$f":"$A$5","v":"Изготовитель: Эквадор"}]
[{"$f":"$A$6","v":"\"AGZULASA CIA LTDA\""}]
[{"$f":"$A$7","v":"Дата фасовки: 12.09.2018"},{"$f":"K116","v":0}]
[{"$f":"$A$8","v":"Условия хранения: +13°С до +14 °С"}]
[{"$f":"IF(LEFT(INDIRECT(ADDRESS(ROW()-7,COLUMN()+1)),3)=\"13-\",\"Срок годности: 5 суток\",\"Срок годности: 10 суток\")","v":"Срок годности: 10 суток"}]
[{"$f":"$A$10","v":0},null,"кг"]
["Масса нетто: ","----------------------------"]
[16]
[{"$f":"$A$2","v":"Бананы св. вес. 1кл"},{"$f":"'[1]Банан расч'!E117","v":"118"}]
[{"$f":"IF(INDIRECT(ADDRESS(ROW()-1,COLUMN()+1))=\"Хосп-4\",\"\",\"ГОСТ Р 51603-2000\")","v":"ГОСТ Р 51603-2000"},"Учреждение"]
[{"$f":"$A$4","v":"ТР ТС 021/2011 ТР ТС 022/2011"}]
[{"$f":"$A$5","v":"Изготовитель: Эквадор"}]
[{"$f":"$A$6","v":"\"AGZULASA CIA LTDA\""}]
[{"$f":"$A$7","v":"Дата фасовки: 12.09.2018"},{"$f":"K117","v":0}]
[{"$f":"$A$8","v":"Условия хранения: +13°С до +14 °С"}]
[{"$f":"IF(LEFT(INDIRECT(ADDRESS(ROW()-7,COLUMN()+1)),3)=\"13-\",\"Срок годности: 5 суток\",\"Срок годности: 10 суток\")","v":"Срок годности: 10 суток"}]
[{"$f":"$A$10","v":0},null,"кг"]
["Масса нетто: ","----------------------------"]
[17]
[{"$f":"$A$2","v":"Бананы св. вес. 1кл"},{"$f":"'[1]Банан расч'!E818","v":0}]
[{"$f":"IF(INDIRECT(ADDRESS(ROW()-1,COLUMN()+1))=\"Хосп-4\",\"\",\"ГОСТ Р 51603-2000\")","v":"ГОСТ Р 51603-2000"},"Учреждение"]
[{"$f":"$A$4","v":"ТР ТС 021/2011 ТР ТС 022/2011"}]
[{"$f":"$A$5","v":"Изготовитель: Эквадор"}]
[{"$f":"$A$6","v":"\"AGZULASA CIA LTDA\""}]
[{"$f":"$A$7","v":"Дата фасовки: 12.09.2018"},{"$f":"K818","v":0}]
[{"$f":"$A$8","v":"Условия хранения: +13°С до +14 °С"}]
[{"$f":"IF(LEFT(INDIRECT(ADDRESS(ROW()-7,COLUMN()+1)),3)=\"13-\",\"Срок годности: 5 суток\",\"Срок годности: 10 суток\")","v":"Срок годности: 10 суток"}]
[{"$f":"$A$10","v":0},null,"кг"]
["Масса нетто: ","----------------------------"]
[818]
[{"$f":"$A$2","v":"Бананы св. вес. 1кл"},{"$f":"'[1]Банан расч'!E819","v":0}]
[{"$f":"IF(INDIRECT(ADDRESS(ROW()-1,COLUMN()+1))=\"Хосп-4\",\"\",\"ГОСТ Р 51603-2000\")","v":"ГОСТ Р 51603-2000"},"Учреждение"]
[{"$f":"$A$4","v":"ТР ТС 021/2011 ТР ТС 022/2011"}]
[{"$f":"$A$5","v":"Изготовитель: Эквадор"}]
[{"$f":"$A$6","v":"\"AGZULASA CIA LTDA\""}]
[{"$f":"$A$7","v":"Дата фасовки: 12.09.2018"},{"$f":"K819","v":0}]
[{"$f":"$A$8","v":"Условия хранения: +13°С до +14 °С"}]
[{"$f":"IF(LEFT(INDIRECT(ADDRESS(ROW()-7,COLUMN()+1)),3)=\"13-\",\"Срок годности: 5 суток\",\"Срок годности: 10 суток\")","v":"Срок годности: 10 суток"}]
[{"$f":"$A$10","v":0},null,"кг"]
["Масса нетто: ","----------------------------"]
[819]
[{"$f":"$A$2","v":"Бананы св. вес. 1кл"},{"$f":"'[1]Банан расч'!E820","v":0}]
[{"$f":"IF(INDIRECT(ADDRESS(ROW()-1,COLUMN()+1))=\"Хосп-4\",\"\",\"ГОСТ Р 51603-2000\")","v":"ГОСТ Р 51603-2000"},"Учреждение"]
[{"$f":"$A$4","v":"ТР ТС 021/2011 ТР ТС 022/2011"}]
[{"$f":"$A$5","v":"Изготовитель: Эквадор"}]
[{"$f":"$A$6","v":"\"AGZULASA CIA LTDA\""}]
[{"$f":"$A$7","v":"Дата фасовки: 12.09.2018"},{"$f":"K820","v":0}]
[{"$f":"$A$8","v":"Условия хранения: +13°С до +14 °С"}]
[{"$f":"IF(LEFT(INDIRECT(ADDRESS(ROW()-7,COLUMN()+1)),3)=\"13-\",\"Срок годности: 5 суток\",\"Срок годности: 10 суток\")","v":"Срок годности: 10 суток"}]
[{"$f":"$A$10","v":0},null,"кг"]
["Масса нетто: ","----------------------------"]
[820]
[{"$f":"$A$2","v":"Бананы св. вес. 1кл"},{"$f":"'[1]Банан расч'!E821","v":0}]
[{"$f":"IF(INDIRECT(ADDRESS(ROW()-1,COLUMN()+1))=\"Хосп-4\",\"\",\"ГОСТ Р 51603-2000\")","v":"ГОСТ Р 51603-2000"},"Учреждение"]
[{"$f":"$A$4","v":"ТР ТС 021/2011 ТР ТС 022/2011"}]
[{"$f":"$A$5","v":"Изготовитель: Эквадор"}]
[{"$f":"$A$6","v":"\"AGZULASA CIA LTDA\""}]
[{"$f":"$A$7","v":"Дата фасовки: 12.09.2018"},{"$f":"K821","v":0}]
[{"$f":"$A$8","v":"Условия хранения: +13°С до +14 °С"}]
[{"$f":"IF(LEFT(INDIRECT(ADDRESS(ROW()-7,COLUMN()+1)),3)=\"13-\",\"Срок годности: 5 суток\",\"Срок годности: 10 суток\")","v":"Срок годности: 10 суток"}]
[{"$f":"$A$10","v":0},null,"кг"]
["Масса нетто: ","----------------------------"]
[821]
[{"$f":"$A$2","v":"Бананы св. вес. 1кл"},{"$f":"'[1]Банан расч'!E822","v":0}]
[{"$f":"IF(INDIRECT(ADDRESS(ROW()-1,COLUMN()+1))=\"Хосп-4\",\"\",\"ГОСТ Р 51603-2000\")","v":"ГОСТ Р 51603-2000"},"Учреждение"]
[{"$f":"$A$4","v":"ТР ТС 021/2011 ТР ТС 022/2011"}]
[{"$f":"$A$5","v":"Изготовитель: Эквадор"}]
[{"$f":"$A$6","v":"\"AGZULASA CIA LTDA\""}]
[{"$f":"$A$7","v":"Дата фасовки: 12.09.2018"},{"$f":"K822","v":0}]
[{"$f":"$A$8","v":"Условия хранения: +13°С до +14 °С"}]
[{"$f":"IF(LEFT(INDIRECT(ADDRESS(ROW()-7,COLUMN()+1)),3)=\"13-\",\"Срок годности: 5 суток\",\"Срок годности: 10 суток\")","v":"Срок годности: 10 суток"}]
[{"$f":"$A$10","v":0},null,"кг"]
["Масса нетто: ","----------------------------"]
[822]
[{"$f":"$A$2","v":"Бананы св. вес. 1кл"},{"$f":"'[1]Банан расч'!E823","v":0}]
[{"$f":"IF(INDIRECT(ADDRESS(ROW()-1,COLUMN()+1))=\"Хосп-4\",\"\",\"ГОСТ Р 51603-2000\")","v":"ГОСТ Р 51603-2000"},"Учреждение"]
[{"$f":"$A$4","v":"ТР ТС 021/2011 ТР ТС 022/2011"}]
[{"$f":"$A$5","v":"Изготовитель: Эквадор"}]
[{"$f":"$A$6","v":"\"AGZULASA CIA LTDA\""}]
[{"$f":"$A$7","v":"Дата фасовки: 12.09.2018"},{"$f":"K823","v":0}]
[{"$f":"$A$8","v":"Условия хранения: +13°С до +14 °С"}]
[{"$f":"IF(LEFT(INDIRECT(ADDRESS(ROW()-7,COLUMN()+1)),3)=\"13-\",\"Срок годности: 5 суток\",\"Срок годности: 10 суток\")","v":"Срок годности: 10 суток"}]
[{"$f":"$A$10","v":0},null,"кг"]
["Масса нетто: ","----------------------------"]
[823]
[{"$f":"$A$2","v":"Бананы св. вес. 1кл"},{"$f":"'[1]Банан расч'!E824","v":0}]
[{"$f":"IF(INDIRECT(ADDRESS(ROW()-1,COLUMN()+1))=\"Хосп-4\",\"\",\"ГОСТ Р 51603-2000\")","v":"ГОСТ Р 51603-2000"},"Учреждение"]
[{"$f":"$A$4","v":"ТР ТС 021/2011 ТР ТС 022/2011"}]
[{"$f":"$A$5","v":"Изготовитель: Эквадор"}]
[{"$f":"$A$6","v":"\"AGZULASA CIA LTDA\""}]
[{"$f":"$A$7","v":"Дата фасовки: 12.09.2018"},{"$f":"K824","v":0}]
[{"$f":"$A$8","v":"Условия хранения: +13°С до +14 °С"}]
[{"$f":"IF(LEFT(INDIRECT(ADDRESS(ROW()-7,COLUMN()+1)),3)=\"13-\",\"Срок годности: 5 суток\",\"Срок годности: 10 суток\")","v":"Срок годности: 10 суток"}]
[{"$f":"$A$10","v":0},null,"кг"]
["Масса нетто: ","----------------------------"]
[824]
[{"$f":"$A$2","v":"Бананы св. вес. 1кл"},{"$f":"'[1]Банан расч'!E825","v":0}]
[{"$f":"IF(INDIRECT(ADDRESS(ROW()-1,COLUMN()+1))=\"Хосп-4\",\"\",\"ГОСТ Р 51603-2000\")","v":"ГОСТ Р 51603-2000"},"Учреждение"]
[{"$f":"$A$4","v":"ТР ТС 021/2011 ТР ТС 022/2011"}]
[{"$f":"$A$5","v":"Изготовитель: Эквадор"}]
[{"$f":"$A$6","v":"\"AGZULASA CIA LTDA\""}]
[{"$f":"$A$7","v":"Дата фасовки: 12.09.2018"},{"$f":"K825","v":0}]
[{"$f":"$A$8","v":"Условия хранения: +13°С до +14 °С"}]
[{"$f":"IF(LEFT(INDIRECT(ADDRESS(ROW()-7,COLUMN()+1)),3)=\"13-\",\"Срок годности: 5 суток\",\"Срок годности: 10 суток\")","v":"Срок годности: 10 суток"}]
[{"$f":"$A$10","v":0},null,"кг"]
["Масса нетто: ","----------------------------"]
[825]
[{"$f":"$A$2","v":"Бананы св. вес. 1кл"},{"$f":"'[1]Банан расч'!E826","v":0}]
[{"$f":"IF(INDIRECT(ADDRESS(ROW()-1,COLUMN()+1))=\"Хосп-4\",\"\",\"ГОСТ Р 51603-2000\")","v":"ГОСТ Р 51603-2000"},"Учреждение"]
[{"$f":"$A$4","v":"ТР ТС 021/2011 ТР ТС 022/2011"}]
[{"$f":"$A$5","v":"Изготовитель: Эквадор"}]
[{"$f":"$A$6","v":"\"AGZULASA CIA LTDA\""}]
[{"$f":"$A$7","v":"Дата фасовки: 12.09.2018"},{"$f":"K826","v":0}]
[{"$f":"$A$8","v":"Условия хранения: +13°С до +14 °С"}]
[{"$f":"IF(LEFT(INDIRECT(ADDRESS(ROW()-7,COLUMN()+1)),3)=\"13-\",\"Срок годности: 5 суток\",\"Срок годности: 10 суток\")","v":"Срок годности: 10 суток"}]
[{"$f":"$A$10","v":0},null,"кг"]
["Масса нетто: ","----------------------------"]
[826]
[{"$f":"$A$2","v":"Бананы св. вес. 1кл"},{"$f":"'[1]Банан расч'!E827","v":0}]
[{"$f":"IF(INDIRECT(ADDRESS(ROW()-1,COLUMN()+1))=\"Хосп-4\",\"\",\"ГОСТ Р 51603-2000\")","v":"ГОСТ Р 51603-2000"},"Учреждение"]
[{"$f":"$A$4","v":"ТР ТС 021/2011 ТР ТС 022/2011"}]
[{"$f":"$A$5","v":"Изготовитель: Эквадор"}]
[{"$f":"$A$6","v":"\"AGZULASA CIA LTDA\""}]
[{"$f":"$A$7","v":"Дата фасовки: 12.09.2018"},{"$f":"K827","v":0}]
[{"$f":"$A$8","v":"Условия хранения: +13°С до +14 °С"}]
[{"$f":"IF(LEFT(INDIRECT(ADDRESS(ROW()-7,COLUMN()+1)),3)=\"13-\",\"Срок годности: 5 суток\",\"Срок годности: 10 суток\")","v":"Срок годности: 10 суток"}]
[{"$f":"$A$10","v":0},null,"кг"]
["Масса нетто: ","----------------------------"]
[827]
[{"$f":"$A$2","v":"Бананы св. вес. 1кл"},{"$f":"'[1]Банан расч'!E828","v":0}]
[{"$f":"IF(INDIRECT(ADDRESS(ROW()-1,COLUMN()+1))=\"Хосп-4\",\"\",\"ГОСТ Р 51603-2000\")","v":"ГОСТ Р 51603-2000"},"Учреждение"]
[{"$f":"$A$4","v":"ТР ТС 021/2011 ТР ТС 022/2011"}]
[{"$f":"$A$5","v":"Изготовитель: Эквадор"}]
[{"$f":"$A$6","v":"\"AGZULASA CIA LTDA\""}]
[{"$f":"$A$7","v":"Дата фасовки: 12.09.2018"},{"$f":"K828","v":0}]
[{"$f":"$A$8","v":"Условия хранения: +13°С до +14 °С"}]
[{"$f":"IF(LEFT(INDIRECT(ADDRESS(ROW()-7,COLUMN()+1)),3)=\"13-\",\"Срок годности: 5 суток\",\"Срок годности: 10 суток\")","v":"Срок годности: 10 суток"}]
[{"$f":"$A$10","v":0},null,"кг"]
["Масса нетто: ","----------------------------"]
[828]
[{"$f":"$A$2","v":"Бананы св. вес. 1кл"},{"$f":"'[1]Банан расч'!E829","v":0}]
[{"$f":"IF(INDIRECT(ADDRESS(ROW()-1,COLUMN()+1))=\"Хосп-4\",\"\",\"ГОСТ Р 51603-2000\")","v":"ГОСТ Р 51603-2000"},"Учреждение"]
[{"$f":"$A$4","v":"ТР ТС 021/2011 ТР ТС 022/2011"}]
[{"$f":"$A$5","v":"Изготовитель: Эквадор"}]
[{"$f":"$A$6","v":"\"AGZULASA CIA LTDA\""}]
[{"$f":"$A$7","v":"Дата фасовки: 12.09.2018"},{"$f":"K829","v":0}]
[{"$f":"$A$8","v":"Условия хранения: +13°С до +14 °С"}]
[{"$f":"IF(LEFT(INDIRECT(ADDRESS(ROW()-7,COLUMN()+1)),3)=\"13-\",\"Срок годности: 5 суток\",\"Срок годности: 10 суток\")","v":"Срок годности: 10 суток"}]
[{"$f":"$A$10","v":0},null,"кг"]
["Масса нетто: ","----------------------------"]
[829]
[{"$f":"$A$2","v":"Бананы св. вес. 1кл"},{"$f":"'[1]Банан расч'!E830","v":0}]
[{"$f":"IF(INDIRECT(ADDRESS(ROW()-1,COLUMN()+1))=\"Хосп-4\",\"\",\"ГОСТ Р 51603-2000\")","v":"ГОСТ Р 51603-2000"},"Учреждение"]
[{"$f":"$A$4","v":"ТР ТС 021/2011 ТР ТС 022/2011"}]
[{"$f":"$A$5","v":"Изготовитель: Эквадор"}]
[{"$f":"$A$6","v":"\"AGZULASA CIA LTDA\""}]
[{"$f":"$A$7","v":"Дата фасовки: 12.09.2018"},{"$f":"K830","v":0}]
[{"$f":"$A$8","v":"Условия хранения: +13°С до +14 °С"}]
[{"$f":"IF(LEFT(INDIRECT(ADDRESS(ROW()-7,COLUMN()+1)),3)=\"13-\",\"Срок годности: 5 суток\",\"Срок годности: 10 суток\")","v":"Срок годности: 10 суток"}]
[{"$f":"$A$10","v":0},null,"кг"]
["Масса нетто: ","----------------------------"]
[830]
[{"$f":"$A$2","v":"Бананы св. вес. 1кл"},{"$f":"'[1]Банан расч'!E831","v":0}]
[{"$f":"IF(INDIRECT(ADDRESS(ROW()-1,COLUMN()+1))=\"Хосп-4\",\"\",\"ГОСТ Р 51603-2000\")","v":"ГОСТ Р 51603-2000"},"Учреждение"]
[{"$f":"$A$4","v":"ТР ТС 021/2011 ТР ТС 022/2011"}]
[{"$f":"$A$5","v":"Изготовитель: Эквадор"}]
[{"$f":"$A$6","v":"\"AGZULASA CIA LTDA\""}]
[{"$f":"$A$7","v":"Дата фасовки: 12.09.2018"},{"$f":"K831","v":0}]
[{"$f":"$A$8","v":"Условия хранения: +13°С до +14 °С"}]
[{"$f":"IF(LEFT(INDIRECT(ADDRESS(ROW()-7,COLUMN()+1)),3)=\"13-\",\"Срок годности: 5 суток\",\"Срок годности: 10 суток\")","v":"Срок годности: 10 суток"}]
[{"$f":"$A$10","v":0},null,"кг"]
["Масса нетто: ","----------------------------"]
[831]
[{"$f":"$A$2","v":"Бананы св. вес. 1кл"},{"$f":"'[1]Банан расч'!E832","v":0}]
[{"$f":"IF(INDIRECT(ADDRESS(ROW()-1,COLUMN()+1))=\"Хосп-4\",\"\",\"ГОСТ Р 51603-2000\")","v":"ГОСТ Р 51603-2000"},"Учреждение"]
[{"$f":"$A$4","v":"ТР ТС 021/2011 ТР ТС 022/2011"}]
[{"$f":"$A$5","v":"Изготовитель: Эквадор"}]
[{"$f":"$A$6","v":"\"AGZULASA CIA LTDA\""}]
[{"$f":"$A$7","v":"Дата фасовки: 12.09.2018"},{"$f":"K832","v":0}]
[{"$f":"$A$8","v":"Условия хранения: +13°С до +14 °С"}]
[{"$f":"IF(LEFT(INDIRECT(ADDRESS(ROW()-7,COLUMN()+1)),3)=\"13-\",\"Срок годности: 5 суток\",\"Срок годности: 10 суток\")","v":"Срок годности: 10 суток"}]
[{"$f":"$A$10","v":0},null,"кг"]
["Масса нетто: ","----------------------------"]
[832]
[{"$f":"$A$2","v":"Бананы св. вес. 1кл"},{"$f":"'[1]Банан расч'!E833","v":0}]
[{"$f":"IF(INDIRECT(ADDRESS(ROW()-1,COLUMN()+1))=\"Хосп-4\",\"\",\"ГОСТ Р 51603-2000\")","v":"ГОСТ Р 51603-2000"},"Учреждение"]
[{"$f":"$A$4","v":"ТР ТС 021/2011 ТР ТС 022/2011"}]
[{"$f":"$A$5","v":"Изготовитель: Эквадор"}]
[{"$f":"$A$6","v":"\"AGZULASA CIA LTDA\""}]
[{"$f":"$A$7","v":"Дата фасовки: 12.09.2018"},{"$f":"K833","v":0}]
[{"$f":"$A$8","v":"Условия хранения: +13°С до +14 °С"}]
[{"$f":"IF(LEFT(INDIRECT(ADDRESS(ROW()-7,COLUMN()+1)),3)=\"13-\",\"Срок годности: 5 суток\",\"Срок годности: 10 суток\")","v":"Срок годности: 10 суток"}]
[{"$f":"$A$10","v":0},null,"кг"]
["Масса нетто: ","----------------------------"]
[833]
[{"$f":"$A$2","v":"Бананы св. вес. 1кл"},{"$f":"'[1]Банан расч'!E834","v":0}]
[{"$f":"IF(INDIRECT(ADDRESS(ROW()-1,COLUMN()+1))=\"Хосп-4\",\"\",\"ГОСТ Р 51603-2000\")","v":"ГОСТ Р 51603-2000"},"Учреждение"]
[{"$f":"$A$4","v":"ТР ТС 021/2011 ТР ТС 022/2011"}]
[{"$f":"$A$5","v":"Изготовитель: Эквадор"}]
[{"$f":"$A$6","v":"\"AGZULASA CIA LTDA\""}]
[{"$f":"$A$7","v":"Дата фасовки: 12.09.2018"},{"$f":"K834","v":0}]
[{"$f":"$A$8","v":"Условия хранения: +13°С до +14 °С"}]
[{"$f":"IF(LEFT(INDIRECT(ADDRESS(ROW()-7,COLUMN()+1)),3)=\"13-\",\"Срок годности: 5 суток\",\"Срок годности: 10 суток\")","v":"Срок годности: 10 суток"}]
[{"$f":"$A$10","v":0},null,"кг"]
["Масса нетто: ","----------------------------"]
[834]
[{"$f":"$A$2","v":"Бананы св. вес. 1кл"},{"$f":"'[1]Банан расч'!E835","v":0}]
[{"$f":"IF(INDIRECT(ADDRESS(ROW()-1,COLUMN()+1))=\"Хосп-4\",\"\",\"ГОСТ Р 51603-2000\")","v":"ГОСТ Р 51603-2000"},"Учреждение"]
[{"$f":"$A$4","v":"ТР ТС 021/2011 ТР ТС 022/2011"}]
[{"$f":"$A$5","v":"Изготовитель: Эквадор"}]
[{"$f":"$A$6","v":"\"AGZULASA CIA LTDA\""}]
[{"$f":"$A$7","v":"Дата фасовки: 12.09.2018"},{"$f":"K835","v":0}]
[{"$f":"$A$8","v":"Условия хранения: +13°С до +14 °С"}]
[{"$f":"IF(LEFT(INDIRECT(ADDRESS(ROW()-7,COLUMN()+1)),3)=\"13-\",\"Срок годности: 5 суток\",\"Срок годности: 10 суток\")","v":"Срок годности: 10 суток"}]
[{"$f":"$A$10","v":0},null,"кг"]
["Масса нетто: ","----------------------------"]
[835]
[{"$f":"$A$2","v":"Бананы св. вес. 1кл"},{"$f":"'[1]Банан расч'!E836","v":0}]
[{"$f":"IF(INDIRECT(ADDRESS(ROW()-1,COLUMN()+1))=\"Хосп-4\",\"\",\"ГОСТ Р 51603-2000\")","v":"ГОСТ Р 51603-2000"},"Учреждение"]
[{"$f":"$A$4","v":"ТР ТС 021/2011 ТР ТС 022/2011"}]
[{"$f":"$A$5","v":"Изготовитель: Эквадор"}]
[{"$f":"$A$6","v":"\"AGZULASA CIA LTDA\""}]
[{"$f":"$A$7","v":"Дата фасовки: 12.09.2018"},{"$f":"K836","v":0}]
[{"$f":"$A$8","v":"Условия хранения: +13°С до +14 °С"}]
[{"$f":"IF(LEFT(INDIRECT(ADDRESS(ROW()-7,COLUMN()+1)),3)=\"13-\",\"Срок годности: 5 суток\",\"Срок годности: 10 суток\")","v":"Срок годности: 10 суток"}]
[{"$f":"$A$10","v":0},null,"кг"]
["Масса нетто: ","----------------------------"]
[836]
[{"$f":"$A$2","v":"Бананы св. вес. 1кл"},{"$f":"'[1]Банан расч'!E837","v":0}]
[{"$f":"IF(INDIRECT(ADDRESS(ROW()-1,COLUMN()+1))=\"Хосп-4\",\"\",\"ГОСТ Р 51603-2000\")","v":"ГОСТ Р 51603-2000"},"Учреждение"]
[{"$f":"$A$4","v":"ТР ТС 021/2011 ТР ТС 022/2011"}]
[{"$f":"$A$5","v":"Изготовитель: Эквадор"}]
[{"$f":"$A$6","v":"\"AGZULASA CIA LTDA\""}]
[{"$f":"$A$7","v":"Дата фасовки: 12.09.2018"},{"$f":"K837","v":0}]
[{"$f":"$A$8","v":"Условия хранения: +13°С до +14 °С"}]
[{"$f":"IF(LEFT(INDIRECT(ADDRESS(ROW()-7,COLUMN()+1)),3)=\"13-\",\"Срок годности: 5 суток\",\"Срок годности: 10 суток\")","v":"Срок годности: 10 суток"}]
[{"$f":"$A$10","v":0},null,"кг"]
["Масса нетто: ","----------------------------"]
[837]
[{"$f":"$A$2","v":"Бананы св. вес. 1кл"},{"$f":"'[1]Банан расч'!E838","v":0}]
[{"$f":"IF(INDIRECT(ADDRESS(ROW()-1,COLUMN()+1))=\"Хосп-4\",\"\",\"ГОСТ Р 51603-2000\")","v":"ГОСТ Р 51603-2000"},"Учреждение"]
[{"$f":"$A$4","v":"ТР ТС 021/2011 ТР ТС 022/2011"}]
[{"$f":"$A$5","v":"Изготовитель: Эквадор"}]
[{"$f":"$A$6","v":"\"AGZULASA CIA LTDA\""}]
[{"$f":"$A$7","v":"Дата фасовки: 12.09.2018"},{"$f":"K838","v":0}]
[{"$f":"$A$8","v":"Условия хранения: +13°С до +14 °С"}]
[{"$f":"IF(LEFT(INDIRECT(ADDRESS(ROW()-7,COLUMN()+1)),3)=\"13-\",\"Срок годности: 5 суток\",\"Срок годности: 10 суток\")","v":"Срок годности: 10 суток"}]
[{"$f":"$A$10","v":0},null,"кг"]
["Масса нетто: ","----------------------------"]
[838]
[{"$f":"$A$2","v":"Бананы св. вес. 1кл"},{"$f":"'[1]Банан расч'!E839","v":0}]
[{"$f":"IF(INDIRECT(ADDRESS(ROW()-1,COLUMN()+1))=\"Хосп-4\",\"\",\"ГОСТ Р 51603-2000\")","v":"ГОСТ Р 51603-2000"},"Учреждение"]
[{"$f":"$A$4","v":"ТР ТС 021/2011 ТР ТС 022/2011"}]
[{"$f":"$A$5","v":"Изготовитель: Эквадор"}]
[{"$f":"$A$6","v":"\"AGZULASA CIA LTDA\""}]
[{"$f":"$A$7","v":"Дата фасовки: 12.09.2018"},{"$f":"K839","v":0}]
[{"$f":"$A$8","v":"Условия хранения: +13°С до +14 °С"}]
[{"$f":"IF(LEFT(INDIRECT(ADDRESS(ROW()-7,COLUMN()+1)),3)=\"13-\",\"Срок годности: 5 суток\",\"Срок годности: 10 суток\")","v":"Срок годности: 10 суток"}]
[{"$f":"$A$10","v":0},null,"кг"]
["Масса нетто: ","----------------------------"]
[839]
[{"$f":"$A$2","v":"Бананы св. вес. 1кл"},{"$f":"'[1]Банан расч'!E840","v":0}]
[{"$f":"IF(INDIRECT(ADDRESS(ROW()-1,COLUMN()+1))=\"Хосп-4\",\"\",\"ГОСТ Р 51603-2000\")","v":"ГОСТ Р 51603-2000"},"Учреждение"]
[{"$f":"$A$4","v":"ТР ТС 021/2011 ТР ТС 022/2011"}]
[{"$f":"$A$5","v":"Изготовитель: Эквадор"}]
[{"$f":"$A$6","v":"\"AGZULASA CIA LTDA\""}]
[{"$f":"$A$7","v":"Дата фасовки: 12.09.2018"},{"$f":"K840","v":0}]
[{"$f":"$A$8","v":"Условия хранения: +13°С до +14 °С"}]
[{"$f":"IF(LEFT(INDIRECT(ADDRESS(ROW()-7,COLUMN()+1)),3)=\"13-\",\"Срок годности: 5 суток\",\"Срок годности: 10 суток\")","v":"Срок годности: 10 суток"}]
[{"$f":"$A$10","v":0},null,"кг"]
["Масса нетто: ","----------------------------"]
[840]
[{"$f":"$A$2","v":"Бананы св. вес. 1кл"},{"$f":"'[1]Банан расч'!E841","v":0}]
[{"$f":"IF(INDIRECT(ADDRESS(ROW()-1,COLUMN()+1))=\"Хосп-4\",\"\",\"ГОСТ Р 51603-2000\")","v":"ГОСТ Р 51603-2000"},"Учреждение"]
[{"$f":"$A$4","v":"ТР ТС 021/2011 ТР ТС 022/2011"}]
[{"$f":"$A$5","v":"Изготовитель: Эквадор"}]
[{"$f":"$A$6","v":"\"AGZULASA CIA LTDA\""}]
[{"$f":"$A$7","v":"Дата фасовки: 12.09.2018"},{"$f":"K841","v":0}]
[{"$f":"$A$8","v":"Условия хранения: +13°С до +14 °С"}]
[{"$f":"IF(LEFT(INDIRECT(ADDRESS(ROW()-7,COLUMN()+1)),3)=\"13-\",\"Срок годности: 5 суток\",\"Срок годности: 10 суток\")","v":"Срок годности: 10 суток"}]
[{"$f":"$A$10","v":0},null,"кг"]
["Масса нетто: ","----------------------------"]
[841]
[{"$f":"$A$2","v":"Бананы св. вес. 1кл"},{"$f":"'[1]Банан расч'!E842","v":0}]
[{"$f":"IF(INDIRECT(ADDRESS(ROW()-1,COLUMN()+1))=\"Хосп-4\",\"\",\"ГОСТ Р 51603-2000\")","v":"ГОСТ Р 51603-2000"},"Учреждение"]
[{"$f":"$A$4","v":"ТР ТС 021/2011 ТР ТС 022/2011"}]
[{"$f":"$A$5","v":"Изготовитель: Эквадор"}]
[{"$f":"$A$6","v":"\"AGZULASA CIA LTDA\""}]
[{"$f":"$A$7","v":"Дата фасовки: 12.09.2018"},{"$f":"K842","v":0}]
[{"$f":"$A$8","v":"Условия хранения: +13°С до +14 °С"}]
[{"$f":"IF(LEFT(INDIRECT(ADDRESS(ROW()-7,COLUMN()+1)),3)=\"13-\",\"Срок годности: 5 суток\",\"Срок годности: 10 суток\")","v":"Срок годности: 10 суток"}]
[{"$f":"$A$10","v":0},null,"кг"]
["Масса нетто: ","----------------------------"]
[842]
[{"$f":"$A$2","v":"Бананы св. вес. 1кл"},{"$f":"'[1]Банан расч'!E843","v":0}]
[{"$f":"IF(INDIRECT(ADDRESS(ROW()-1,COLUMN()+1))=\"Хосп-4\",\"\",\"ГОСТ Р 51603-2000\")","v":"ГОСТ Р 51603-2000"},"Учреждение"]
[{"$f":"$A$4","v":"ТР ТС 021/2011 ТР ТС 022/2011"}]
[{"$f":"$A$5","v":"Изготовитель: Эквадор"}]
[{"$f":"$A$6","v":"\"AGZULASA CIA LTDA\""}]
[{"$f":"$A$7","v":"Дата фасовки: 12.09.2018"},{"$f":"K843","v":0}]
[{"$f":"$A$8","v":"Условия хранения: +13°С до +14 °С"}]
[{"$f":"IF(LEFT(INDIRECT(ADDRESS(ROW()-7,COLUMN()+1)),3)=\"13-\",\"Срок годности: 5 суток\",\"Срок годности: 10 суток\")","v":"Срок годности: 10 суток"}]
[{"$f":"$A$10","v":0},null,"кг"]
["Масса нетто: ","----------------------------"]
[843]
[{"$f":"$A$2","v":"Бананы св. вес. 1кл"},{"$f":"'[1]Банан расч'!E844","v":0}]
[{"$f":"IF(INDIRECT(ADDRESS(ROW()-1,COLUMN()+1))=\"Хосп-4\",\"\",\"ГОСТ Р 51603-2000\")","v":"ГОСТ Р 51603-2000"},"Учреждение"]
[{"$f":"$A$4","v":"ТР ТС 021/2011 ТР ТС 022/2011"}]
[{"$f":"$A$5","v":"Изготовитель: Эквадор"}]
[{"$f":"$A$6","v":"\"AGZULASA CIA LTDA\""}]
[{"$f":"$A$7","v":"Дата фасовки: 12.09.2018"},{"$f":"K844","v":0}]
[{"$f":"$A$8","v":"Условия хранения: +13°С до +14 °С"}]
[{"$f":"IF(LEFT(INDIRECT(ADDRESS(ROW()-7,COLUMN()+1)),3)=\"13-\",\"Срок годности: 5 суток\",\"Срок годности: 10 суток\")","v":"Срок годности: 10 суток"}]
[{"$f":"$A$10","v":0},null,"кг"]
["Масса нетто: ","----------------------------"]
[844]
[{"$f":"$A$2","v":"Бананы св. вес. 1кл"},{"$f":"'[1]Банан расч'!E845","v":0}]
[{"$f":"IF(INDIRECT(ADDRESS(ROW()-1,COLUMN()+1))=\"Хосп-4\",\"\",\"ГОСТ Р 51603-2000\")","v":"ГОСТ Р 51603-2000"},"Учреждение"]
[{"$f":"$A$4","v":"ТР ТС 021/2011 ТР ТС 022/2011"}]
[{"$f":"$A$5","v":"Изготовитель: Эквадор"}]
[{"$f":"$A$6","v":"\"AGZULASA CIA LTDA\""}]
[{"$f":"$A$7","v":"Дата фасовки: 12.09.2018"},{"$f":"K845","v":0}]
[{"$f":"$A$8","v":"Условия хранения: +13°С до +14 °С"}]
[{"$f":"IF(LEFT(INDIRECT(ADDRESS(ROW()-7,COLUMN()+1)),3)=\"13-\",\"Срок годности: 5 суток\",\"Срок годности: 10 суток\")","v":"Срок годности: 10 суток"}]
[{"$f":"$A$10","v":0},null,"кг"]
["Масса нетто: ","----------------------------"]
[845]
[{"$f":"$A$2","v":"Бананы св. вес. 1кл"},{"$f":"'[1]Банан расч'!E846","v":0}]
[{"$f":"IF(INDIRECT(ADDRESS(ROW()-1,COLUMN()+1))=\"Хосп-4\",\"\",\"ГОСТ Р 51603-2000\")","v":"ГОСТ Р 51603-2000"},"Учреждение"]
[{"$f":"$A$4","v":"ТР ТС 021/2011 ТР ТС 022/2011"}]
[{"$f":"$A$5","v":"Изготовитель: Эквадор"}]
[{"$f":"$A$6","v":"\"AGZULASA CIA LTDA\""}]
[{"$f":"$A$7","v":"Дата фасовки: 12.09.2018"},{"$f":"K846","v":0}]
[{"$f":"$A$8","v":"Условия хранения: +13°С до +14 °С"}]
[{"$f":"IF(LEFT(INDIRECT(ADDRESS(ROW()-7,COLUMN()+1)),3)=\"13-\",\"Срок годности: 5 суток\",\"Срок годности: 10 суток\")","v":"Срок годности: 10 суток"}]
[{"$f":"$A$10","v":0},null,"кг"]
["Масса нетто: ","----------------------------"]
[846]
[{"$f":"$A$2","v":"Бананы св. вес. 1кл"},{"$f":"'[1]Банан расч'!E847","v":0}]
[{"$f":"IF(INDIRECT(ADDRESS(ROW()-1,COLUMN()+1))=\"Хосп-4\",\"\",\"ГОСТ Р 51603-2000\")","v":"ГОСТ Р 51603-2000"},"Учреждение"]
[{"$f":"$A$4","v":"ТР ТС 021/2011 ТР ТС 022/2011"}]
[{"$f":"$A$5","v":"Изготовитель: Эквадор"}]
[{"$f":"$A$6","v":"\"AGZULASA CIA LTDA\""}]
[{"$f":"$A$7","v":"Дата фасовки: 12.09.2018"},{"$f":"K847","v":0}]
[{"$f":"$A$8","v":"Условия хранения: +13°С до +14 °С"}]
[{"$f":"IF(LEFT(INDIRECT(ADDRESS(ROW()-7,COLUMN()+1)),3)=\"13-\",\"Срок годности: 5 суток\",\"Срок годности: 10 суток\")","v":"Срок годности: 10 суток"}]
[{"$f":"$A$10","v":0},null,"кг"]
["Масса нетто: ","----------------------------"]
[847]
[{"$f":"$A$2","v":"Бананы св. вес. 1кл"},{"$f":"'[1]Банан расч'!E848","v":0}]
[{"$f":"IF(INDIRECT(ADDRESS(ROW()-1,COLUMN()+1))=\"Хосп-4\",\"\",\"ГОСТ Р 51603-2000\")","v":"ГОСТ Р 51603-2000"},"Учреждение"]
[{"$f":"$A$4","v":"ТР ТС 021/2011 ТР ТС 022/2011"}]
[{"$f":"$A$5","v":"Изготовитель: Эквадор"}]
[{"$f":"$A$6","v":"\"AGZULASA CIA LTDA\""}]
[{"$f":"$A$7","v":"Дата фасовки: 12.09.2018"},{"$f":"K848","v":0}]
[{"$f":"$A$8","v":"Условия хранения: +13°С до +14 °С"}]
[{"$f":"IF(LEFT(INDIRECT(ADDRESS(ROW()-7,COLUMN()+1)),3)=\"13-\",\"Срок годности: 5 суток\",\"Срок годности: 10 суток\")","v":"Срок годности: 10 суток"}]
[{"$f":"$A$10","v":0},null,"кг"]
["Масса нетто: ","----------------------------"]
[848]
[{"$f":"$A$2","v":"Бананы св. вес. 1кл"},{"$f":"'[1]Банан расч'!E849","v":0}]
[{"$f":"IF(INDIRECT(ADDRESS(ROW()-1,COLUMN()+1))=\"Хосп-4\",\"\",\"ГОСТ Р 51603-2000\")","v":"ГОСТ Р 51603-2000"},"Учреждение"]
[{"$f":"$A$4","v":"ТР ТС 021/2011 ТР ТС 022/2011"}]
[{"$f":"$A$5","v":"Изготовитель: Эквадор"}]
[{"$f":"$A$6","v":"\"AGZULASA CIA LTDA\""}]
[{"$f":"$A$7","v":"Дата фасовки: 12.09.2018"},{"$f":"K849","v":0}]
[{"$f":"$A$8","v":"Условия хранения: +13°С до +14 °С"}]
[{"$f":"IF(LEFT(INDIRECT(ADDRESS(ROW()-7,COLUMN()+1)),3)=\"13-\",\"Срок годности: 5 суток\",\"Срок годности: 10 суток\")","v":"Срок годности: 10 суток"}]
[{"$f":"$A$10","v":0},null,"кг"]
["Масса нетто: ","----------------------------"]
[849]
[{"$f":"$A$2","v":"Бананы св. вес. 1кл"},{"$f":"'[1]Банан расч'!E850","v":0}]
[{"$f":"IF(INDIRECT(ADDRESS(ROW()-1,COLUMN()+1))=\"Хосп-4\",\"\",\"ГОСТ Р 51603-2000\")","v":"ГОСТ Р 51603-2000"},"Учреждение"]
[{"$f":"$A$4","v":"ТР ТС 021/2011 ТР ТС 022/2011"}]
[{"$f":"$A$5","v":"Изготовитель: Эквадор"}]
[{"$f":"$A$6","v":"\"AGZULASA CIA LTDA\""}]
[{"$f":"$A$7","v":"Дата фасовки: 12.09.2018"},{"$f":"K850","v":0}]
[{"$f":"$A$8","v":"Условия хранения: +13°С до +14 °С"}]
[{"$f":"IF(LEFT(INDIRECT(ADDRESS(ROW()-7,COLUMN()+1)),3)=\"13-\",\"Срок годности: 5 суток\",\"Срок годности: 10 суток\")","v":"Срок годности: 10 суток"}]
[{"$f":"$A$10","v":0},null,"кг"]
["Масса нетто: ","----------------------------"]
[850]
[{"$f":"$A$2","v":"Бананы св. вес. 1кл"},{"$f":"'[1]Банан расч'!E851","v":0}]
[{"$f":"IF(INDIRECT(ADDRESS(ROW()-1,COLUMN()+1))=\"Хосп-4\",\"\",\"ГОСТ Р 51603-2000\")","v":"ГОСТ Р 51603-2000"},"Учреждение"]
[{"$f":"$A$4","v":"ТР ТС 021/2011 ТР ТС 022/2011"}]
[{"$f":"$A$5","v":"Изготовитель: Эквадор"}]
[{"$f":"$A$6","v":"\"AGZULASA CIA LTDA\""}]
[{"$f":"$A$7","v":"Дата фасовки: 12.09.2018"},{"$f":"K851","v":0}]
[{"$f":"$A$8","v":"Условия хранения: +13°С до +14 °С"}]
[{"$f":"IF(LEFT(INDIRECT(ADDRESS(ROW()-7,COLUMN()+1)),3)=\"13-\",\"Срок годности: 5 суток\",\"Срок годности: 10 суток\")","v":"Срок годности: 10 суток"}]
[{"$f":"$A$10","v":0},null,"кг"]
["Масса нетто: ","----------------------------"]
[851]
[{"$f":"$A$2","v":"Бананы св. вес. 1кл"},{"$f":"'[1]Банан расч'!E852","v":0}]
[{"$f":"IF(INDIRECT(ADDRESS(ROW()-1,COLUMN()+1))=\"Хосп-4\",\"\",\"ГОСТ Р 51603-2000\")","v":"ГОСТ Р 51603-2000"},"Учреждение"]
[{"$f":"$A$4","v":"ТР ТС 021/2011 ТР ТС 022/2011"}]
[{"$f":"$A$5","v":"Изготовитель: Эквадор"}]
[{"$f":"$A$6","v":"\"AGZULASA CIA LTDA\""}]
[{"$f":"$A$7","v":"Дата фасовки: 12.09.2018"},{"$f":"K852","v":0}]
[{"$f":"$A$8","v":"Условия хранения: +13°С до +14 °С"}]
[{"$f":"IF(LEFT(INDIRECT(ADDRESS(ROW()-7,COLUMN()+1)),3)=\"13-\",\"Срок годности: 5 суток\",\"Срок годности: 10 суток\")","v":"Срок годности: 10 суток"}]
[{"$f":"$A$10","v":0},null,"кг"]
["Масса нетто: ","----------------------------"]
[852]
[{"$f":"$A$2","v":"Бананы св. вес. 1кл"},{"$f":"'[1]Банан расч'!E853","v":0}]
[{"$f":"IF(INDIRECT(ADDRESS(ROW()-1,COLUMN()+1))=\"Хосп-4\",\"\",\"ГОСТ Р 51603-2000\")","v":"ГОСТ Р 51603-2000"},"Учреждение"]
[{"$f":"$A$4","v":"ТР ТС 021/2011 ТР ТС 022/2011"}]
[{"$f":"$A$5","v":"Изготовитель: Эквадор"}]
[{"$f":"$A$6","v":"\"AGZULASA CIA LTDA\""}]
[{"$f":"$A$7","v":"Дата фасовки: 12.09.2018"},{"$f":"K853","v":0}]
[{"$f":"$A$8","v":"Условия хранения: +13°С до +14 °С"}]
[{"$f":"IF(LEFT(INDIRECT(ADDRESS(ROW()-7,COLUMN()+1)),3)=\"13-\",\"Срок годности: 5 суток\",\"Срок годности: 10 суток\")","v":"Срок годности: 10 суток"}]
[{"$f":"$A$10","v":0},null,"кг"]
["Масса нетто: ","----------------------------"]
[853]
[{"$f":"$A$2","v":"Бананы св. вес. 1кл"},{"$f":"'[1]Банан расч'!E854","v":0}]
[{"$f":"IF(INDIRECT(ADDRESS(ROW()-1,COLUMN()+1))=\"Хосп-4\",\"\",\"ГОСТ Р 51603-2000\")","v":"ГОСТ Р 51603-2000"},"Учреждение"]
[{"$f":"$A$4","v":"ТР ТС 021/2011 ТР ТС 022/2011"}]
[{"$f":"$A$5","v":"Изготовитель: Эквадор"}]
[{"$f":"$A$6","v":"\"AGZULASA CIA LTDA\""}]
[{"$f":"$A$7","v":"Дата фасовки: 12.09.2018"},{"$f":"K854","v":0}]
[{"$f":"$A$8","v":"Условия хранения: +13°С до +14 °С"}]
[{"$f":"IF(LEFT(INDIRECT(ADDRESS(ROW()-7,COLUMN()+1)),3)=\"13-\",\"Срок годности: 5 суток\",\"Срок годности: 10 суток\")","v":"Срок годности: 10 суток"}]
[{"$f":"$A$10","v":0},null,"кг"]
["Масса нетто: ","----------------------------"]
[854]
[{"$f":"$A$2","v":"Бананы св. вес. 1кл"},{"$f":"'[1]Банан расч'!E855","v":0}]
[{"$f":"IF(INDIRECT(ADDRESS(ROW()-1,COLUMN()+1))=\"Хосп-4\",\"\",\"ГОСТ Р 51603-2000\")","v":"ГОСТ Р 51603-2000"},"Учреждение"]
[{"$f":"$A$4","v":"ТР ТС 021/2011 ТР ТС 022/2011"}]
[{"$f":"$A$5","v":"Изготовитель: Эквадор"}]
[{"$f":"$A$6","v":"\"AGZULASA CIA LTDA\""}]
[{"$f":"$A$7","v":"Дата фасовки: 12.09.2018"},{"$f":"K855","v":0}]
[{"$f":"$A$8","v":"Условия хранения: +13°С до +14 °С"}]
[{"$f":"IF(LEFT(INDIRECT(ADDRESS(ROW()-7,COLUMN()+1)),3)=\"13-\",\"Срок годности: 5 суток\",\"Срок годности: 10 суток\")","v":"Срок годности: 10 суток"}]
[{"$f":"$A$10","v":0},null,"кг"]
["Масса нетто: ","----------------------------"]
[855]
[{"$f":"$A$2","v":"Бананы св. вес. 1кл"},{"$f":"'[1]Банан расч'!E856","v":0}]
[{"$f":"IF(INDIRECT(ADDRESS(ROW()-1,COLUMN()+1))=\"Хосп-4\",\"\",\"ГОСТ Р 51603-2000\")","v":"ГОСТ Р 51603-2000"},"Учреждение"]
[{"$f":"$A$4","v":"ТР ТС 021/2011 ТР ТС 022/2011"}]
[{"$f":"$A$5","v":"Изготовитель: Эквадор"}]
[{"$f":"$A$6","v":"\"AGZULASA CIA LTDA\""}]
[{"$f":"$A$7","v":"Дата фасовки: 12.09.2018"},{"$f":"K856","v":0}]
[{"$f":"$A$8","v":"Условия хранения: +13°С до +14 °С"}]
[{"$f":"IF(LEFT(INDIRECT(ADDRESS(ROW()-7,COLUMN()+1)),3)=\"13-\",\"Срок годности: 5 суток\",\"Срок годности: 10 суток\")","v":"Срок годности: 10 суток"}]
[{"$f":"$A$10","v":0},null,"кг"]
["Масса нетто: ","----------------------------"]
[856]
[{"$f":"$A$2","v":"Бананы св. вес. 1кл"},{"$f":"'[1]Банан расч'!E857","v":0}]
[{"$f":"IF(INDIRECT(ADDRESS(ROW()-1,COLUMN()+1))=\"Хосп-4\",\"\",\"ГОСТ Р 51603-2000\")","v":"ГОСТ Р 51603-2000"},"Учреждение"]
[{"$f":"$A$4","v":"ТР ТС 021/2011 ТР ТС 022/2011"}]
[{"$f":"$A$5","v":"Изготовитель: Эквадор"}]
[{"$f":"$A$6","v":"\"AGZULASA CIA LTDA\""}]
[{"$f":"$A$7","v":"Дата фасовки: 12.09.2018"},{"$f":"K857","v":0}]
[{"$f":"$A$8","v":"Условия хранения: +13°С до +14 °С"}]
[{"$f":"IF(LEFT(INDIRECT(ADDRESS(ROW()-7,COLUMN()+1)),3)=\"13-\",\"Срок годности: 5 суток\",\"Срок годности: 10 суток\")","v":"Срок годности: 10 суток"}]
[{"$f":"$A$10","v":0},null,"кг"]
["Масса нетто: ","----------------------------"]
[857]
[{"$f":"$A$2","v":"Бананы св. вес. 1кл"},{"$f":"'[1]Банан расч'!E858","v":0}]
[{"$f":"IF(INDIRECT(ADDRESS(ROW()-1,COLUMN()+1))=\"Хосп-4\",\"\",\"ГОСТ Р 51603-2000\")","v":"ГОСТ Р 51603-2000"},"Учреждение"]
[{"$f":"$A$4","v":"ТР ТС 021/2011 ТР ТС 022/2011"}]
[{"$f":"$A$5","v":"Изготовитель: Эквадор"}]
[{"$f":"$A$6","v":"\"AGZULASA CIA LTDA\""}]
[{"$f":"$A$7","v":"Дата фасовки: 12.09.2018"},{"$f":"K858","v":0}]
[{"$f":"$A$8","v":"Условия хранения: +13°С до +14 °С"}]
[{"$f":"IF(LEFT(INDIRECT(ADDRESS(ROW()-7,COLUMN()+1)),3)=\"13-\",\"Срок годности: 5 суток\",\"Срок годности: 10 суток\")","v":"Срок годности: 10 суток"}]
[{"$f":"$A$10","v":0},null,"кг"]
["Масса нетто: ","----------------------------"]
[858]
[{"$f":"$A$2","v":"Бананы св. вес. 1кл"},{"$f":"'[1]Банан расч'!E859","v":0}]
[{"$f":"IF(INDIRECT(ADDRESS(ROW()-1,COLUMN()+1))=\"Хосп-4\",\"\",\"ГОСТ Р 51603-2000\")","v":"ГОСТ Р 51603-2000"},"Учреждение"]
[{"$f":"$A$4","v":"ТР ТС 021/2011 ТР ТС 022/2011"}]
[{"$f":"$A$5","v":"Изготовитель: Эквадор"}]
[{"$f":"$A$6","v":"\"AGZULASA CIA LTDA\""}]
[{"$f":"$A$7","v":"Дата фасовки: 12.09.2018"},{"$f":"K859","v":0}]
[{"$f":"$A$8","v":"Условия хранения: +13°С до +14 °С"}]
[{"$f":"IF(LEFT(INDIRECT(ADDRESS(ROW()-7,COLUMN()+1)),3)=\"13-\",\"Срок годности: 5 суток\",\"Срок годности: 10 суток\")","v":"Срок годности: 10 суток"}]
[{"$f":"$A$10","v":0},null,"кг"]
["Масса нетто: ","----------------------------"]
[859]
[{"$f":"$A$2","v":"Бананы св. вес. 1кл"},{"$f":"'[1]Банан расч'!E860","v":0}]
[{"$f":"IF(INDIRECT(ADDRESS(ROW()-1,COLUMN()+1))=\"Хосп-4\",\"\",\"ГОСТ Р 51603-2000\")","v":"ГОСТ Р 51603-2000"},"Учреждение"]
[{"$f":"$A$4","v":"ТР ТС 021/2011 ТР ТС 022/2011"}]
[{"$f":"$A$5","v":"Изготовитель: Эквадор"}]
[{"$f":"$A$6","v":"\"AGZULASA CIA LTDA\""}]
[{"$f":"$A$7","v":"Дата фасовки: 12.09.2018"},{"$f":"K860","v":0}]
[{"$f":"$A$8","v":"Условия хранения: +13°С до +14 °С"}]
[{"$f":"IF(LEFT(INDIRECT(ADDRESS(ROW()-7,COLUMN()+1)),3)=\"13-\",\"Срок годности: 5 суток\",\"Срок годности: 10 суток\")","v":"Срок годности: 10 суток"}]
[{"$f":"$A$10","v":0},null,"кг"]
["Масса нетто: ","----------------------------"]
[860]
[{"$f":"$A$2","v":"Бананы св. вес. 1кл"},{"$f":"'[1]Банан расч'!E861","v":0}]
[{"$f":"IF(INDIRECT(ADDRESS(ROW()-1,COLUMN()+1))=\"Хосп-4\",\"\",\"ГОСТ Р 51603-2000\")","v":"ГОСТ Р 51603-2000"},"Учреждение"]
[{"$f":"$A$4","v":"ТР ТС 021/2011 ТР ТС 022/2011"}]
[{"$f":"$A$5","v":"Изготовитель: Эквадор"}]
[{"$f":"$A$6","v":"\"AGZULASA CIA LTDA\""}]
[{"$f":"$A$7","v":"Дата фасовки: 12.09.2018"},{"$f":"K861","v":0}]
[{"$f":"$A$8","v":"Условия хранения: +13°С до +14 °С"}]
[{"$f":"IF(LEFT(INDIRECT(ADDRESS(ROW()-7,COLUMN()+1)),3)=\"13-\",\"Срок годности: 5 суток\",\"Срок годности: 10 суток\")","v":"Срок годности: 10 суток"}]
[{"$f":"$A$10","v":0},null,"кг"]
["Масса нетто: ","----------------------------"]
[861]
[{"$f":"$A$2","v":"Бананы св. вес. 1кл"},{"$f":"'[1]Банан расч'!E862","v":0}]
[{"$f":"IF(INDIRECT(ADDRESS(ROW()-1,COLUMN()+1))=\"Хосп-4\",\"\",\"ГОСТ Р 51603-2000\")","v":"ГОСТ Р 51603-2000"},"Учреждение"]
[{"$f":"$A$4","v":"ТР ТС 021/2011 ТР ТС 022/2011"}]
[{"$f":"$A$5","v":"Изготовитель: Эквадор"}]
[{"$f":"$A$6","v":"\"AGZULASA CIA LTDA\""}]
[{"$f":"$A$7","v":"Дата фасовки: 12.09.2018"},{"$f":"K862","v":0}]
[{"$f":"$A$8","v":"Условия хранения: +13°С до +14 °С"}]
[{"$f":"IF(LEFT(INDIRECT(ADDRESS(ROW()-7,COLUMN()+1)),3)=\"13-\",\"Срок годности: 5 суток\",\"Срок годности: 10 суток\")","v":"Срок годности: 10 суток"}]
[{"$f":"$A$10","v":0},null,"кг"]
["Масса нетто: ","----------------------------"]
[862]
[{"$f":"$A$2","v":"Бананы св. вес. 1кл"},{"$f":"'[1]Банан расч'!E863","v":0}]
[{"$f":"IF(INDIRECT(ADDRESS(ROW()-1,COLUMN()+1))=\"Хосп-4\",\"\",\"ГОСТ Р 51603-2000\")","v":"ГОСТ Р 51603-2000"},"Учреждение"]
[{"$f":"$A$4","v":"ТР ТС 021/2011 ТР ТС 022/2011"}]
[{"$f":"$A$5","v":"Изготовитель: Эквадор"}]
[{"$f":"$A$6","v":"\"AGZULASA CIA LTDA\""}]
[{"$f":"$A$7","v":"Дата фасовки: 12.09.2018"},{"$f":"K863","v":0}]
[{"$f":"$A$8","v":"Условия хранения: +13°С до +14 °С"}]
[{"$f":"IF(LEFT(INDIRECT(ADDRESS(ROW()-7,COLUMN()+1)),3)=\"13-\",\"Срок годности: 5 суток\",\"Срок годности: 10 суток\")","v":"Срок годности: 10 суток"}]
[{"$f":"$A$10","v":0},null,"кг"]
["Масса нетто: ","----------------------------"]
[863]
[{"$f":"$A$2","v":"Бананы св. вес. 1кл"},{"$f":"'[1]Банан расч'!E864","v":0}]
[{"$f":"IF(INDIRECT(ADDRESS(ROW()-1,COLUMN()+1))=\"Хосп-4\",\"\",\"ГОСТ Р 51603-2000\")","v":"ГОСТ Р 51603-2000"},"Учреждение"]
[{"$f":"$A$4","v":"ТР ТС 021/2011 ТР ТС 022/2011"}]
[{"$f":"$A$5","v":"Изготовитель: Эквадор"}]
[{"$f":"$A$6","v":"\"AGZULASA CIA LTDA\""}]
[{"$f":"$A$7","v":"Дата фасовки: 12.09.2018"},{"$f":"K864","v":0}]
[{"$f":"$A$8","v":"Условия хранения: +13°С до +14 °С"}]
[{"$f":"IF(LEFT(INDIRECT(ADDRESS(ROW()-7,COLUMN()+1)),3)=\"13-\",\"Срок годности: 5 суток\",\"Срок годности: 10 суток\")","v":"Срок годности: 10 суток"}]
[{"$f":"$A$10","v":0},null,"кг"]
["Масса нетто: ","----------------------------"]
[864]
[{"$f":"$A$2","v":"Бананы св. вес. 1кл"},{"$f":"'[1]Банан расч'!E865","v":0}]
[{"$f":"IF(INDIRECT(ADDRESS(ROW()-1,COLUMN()+1))=\"Хосп-4\",\"\",\"ГОСТ Р 51603-2000\")","v":"ГОСТ Р 51603-2000"},"Учреждение"]
[{"$f":"$A$4","v":"ТР ТС 021/2011 ТР ТС 022/2011"}]
[{"$f":"$A$5","v":"Изготовитель: Эквадор"}]
[{"$f":"$A$6","v":"\"AGZULASA CIA LTDA\""}]
[{"$f":"$A$7","v":"Дата фасовки: 12.09.2018"},{"$f":"K865","v":0}]
[{"$f":"$A$8","v":"Условия хранения: +13°С до +14 °С"}]
[{"$f":"IF(LEFT(INDIRECT(ADDRESS(ROW()-7,COLUMN()+1)),3)=\"13-\",\"Срок годности: 5 суток\",\"Срок годности: 10 суток\")","v":"Срок годности: 10 суток"}]
[{"$f":"$A$10","v":0},null,"кг"]
["Масса нетто: ","----------------------------"]
[865]
[{"$f":"$A$2","v":"Бананы св. вес. 1кл"},{"$f":"'[1]Банан расч'!E866","v":0}]
[{"$f":"IF(INDIRECT(ADDRESS(ROW()-1,COLUMN()+1))=\"Хосп-4\",\"\",\"ГОСТ Р 51603-2000\")","v":"ГОСТ Р 51603-2000"},"Учреждение"]
[{"$f":"$A$4","v":"ТР ТС 021/2011 ТР ТС 022/2011"}]
[{"$f":"$A$5","v":"Изготовитель: Эквадор"}]
[{"$f":"$A$6","v":"\"AGZULASA CIA LTDA\""}]
[{"$f":"$A$7","v":"Дата фасовки: 12.09.2018"},{"$f":"K866","v":0}]
[{"$f":"$A$8","v":"Условия хранения: +13°С до +14 °С"}]
[{"$f":"IF(LEFT(INDIRECT(ADDRESS(ROW()-7,COLUMN()+1)),3)=\"13-\",\"Срок годности: 5 суток\",\"Срок годности: 10 суток\")","v":"Срок годности: 10 суток"}]
[{"$f":"$A$10","v":0},null,"кг"]
["Масса нетто: ","----------------------------"]
[866]
[{"$f":"$A$2","v":"Бананы св. вес. 1кл"},{"$f":"'[1]Банан расч'!E867","v":0}]
[{"$f":"IF(INDIRECT(ADDRESS(ROW()-1,COLUMN()+1))=\"Хосп-4\",\"\",\"ГОСТ Р 51603-2000\")","v":"ГОСТ Р 51603-2000"},"Учреждение"]
[{"$f":"$A$4","v":"ТР ТС 021/2011 ТР ТС 022/2011"}]
[{"$f":"$A$5","v":"Изготовитель: Эквадор"}]
[{"$f":"$A$6","v":"\"AGZULASA CIA LTDA\""}]
[{"$f":"$A$7","v":"Дата фасовки: 12.09.2018"},{"$f":"K867","v":0}]
[{"$f":"$A$8","v":"Условия хранения: +13°С до +14 °С"}]
[{"$f":"IF(LEFT(INDIRECT(ADDRESS(ROW()-7,COLUMN()+1)),3)=\"13-\",\"Срок годности: 5 суток\",\"Срок годности: 10 суток\")","v":"Срок годности: 10 суток"}]
[{"$f":"$A$10","v":0},null,"кг"]
["Масса нетто: ","----------------------------"]
[867]
[{"$f":"$A$2","v":"Бананы св. вес. 1кл"},{"$f":"'[1]Банан расч'!E868","v":0}]
[{"$f":"IF(INDIRECT(ADDRESS(ROW()-1,COLUMN()+1))=\"Хосп-4\",\"\",\"ГОСТ Р 51603-2000\")","v":"ГОСТ Р 51603-2000"},"Учреждение"]
[{"$f":"$A$4","v":"ТР ТС 021/2011 ТР ТС 022/2011"}]
[{"$f":"$A$5","v":"Изготовитель: Эквадор"}]
[{"$f":"$A$6","v":"\"AGZULASA CIA LTDA\""}]
[{"$f":"$A$7","v":"Дата фасовки: 12.09.2018"},{"$f":"K868","v":0}]
[{"$f":"$A$8","v":"Условия хранения: +13°С до +14 °С"}]
[{"$f":"IF(LEFT(INDIRECT(ADDRESS(ROW()-7,COLUMN()+1)),3)=\"13-\",\"Срок годности: 5 суток\",\"Срок годности: 10 суток\")","v":"Срок годности: 10 суток"}]
[{"$f":"$A$10","v":0},null,"кг"]
["Масса нетто: ","----------------------------"]
[868]
[{"$f":"$A$2","v":"Бананы св. вес. 1кл"},{"$f":"'[1]Банан расч'!E869","v":0}]
[{"$f":"IF(INDIRECT(ADDRESS(ROW()-1,COLUMN()+1))=\"Хосп-4\",\"\",\"ГОСТ Р 51603-2000\")","v":"ГОСТ Р 51603-2000"},"Учреждение"]
[{"$f":"$A$4","v":"ТР ТС 021/2011 ТР ТС 022/2011"}]
[{"$f":"$A$5","v":"Изготовитель: Эквадор"}]
[{"$f":"$A$6","v":"\"AGZULASA CIA LTDA\""}]
[{"$f":"$A$7","v":"Дата фасовки: 12.09.2018"},{"$f":"K869","v":0}]
[{"$f":"$A$8","v":"Условия хранения: +13°С до +14 °С"}]
[{"$f":"IF(LEFT(INDIRECT(ADDRESS(ROW()-7,COLUMN()+1)),3)=\"13-\",\"Срок годности: 5 суток\",\"Срок годности: 10 суток\")","v":"Срок годности: 10 суток"}]
[{"$f":"$A$10","v":0},null,"кг"]
["Масса нетто: ","----------------------------"]
[869]
[{"$f":"$A$2","v":"Бананы св. вес. 1кл"},{"$f":"'[1]Банан расч'!E870","v":0}]
[{"$f":"IF(INDIRECT(ADDRESS(ROW()-1,COLUMN()+1))=\"Хосп-4\",\"\",\"ГОСТ Р 51603-2000\")","v":"ГОСТ Р 51603-2000"},"Учреждение"]
[{"$f":"$A$4","v":"ТР ТС 021/2011 ТР ТС 022/2011"}]
[{"$f":"$A$5","v":"Изготовитель: Эквадор"}]
[{"$f":"$A$6","v":"\"AGZULASA CIA LTDA\""}]
[{"$f":"$A$7","v":"Дата фасовки: 12.09.2018"},{"$f":"K870","v":0}]
[{"$f":"$A$8","v":"Условия хранения: +13°С до +14 °С"}]
[{"$f":"IF(LEFT(INDIRECT(ADDRESS(ROW()-7,COLUMN()+1)),3)=\"13-\",\"Срок годности: 5 суток\",\"Срок годности: 10 суток\")","v":"Срок годности: 10 суток"}]
[{"$f":"$A$10","v":0},null,"кг"]
["Масса нетто: ","----------------------------"]
[870]
[{"$f":"$A$2","v":"Бананы св. вес. 1кл"},{"$f":"'[1]Банан расч'!E871","v":0}]
[{"$f":"IF(INDIRECT(ADDRESS(ROW()-1,COLUMN()+1))=\"Хосп-4\",\"\",\"ГОСТ Р 51603-2000\")","v":"ГОСТ Р 51603-2000"},"Учреждение"]
[{"$f":"$A$4","v":"ТР ТС 021/2011 ТР ТС 022/2011"}]
[{"$f":"$A$5","v":"Изготовитель: Эквадор"}]
[{"$f":"$A$6","v":"\"AGZULASA CIA LTDA\""}]
[{"$f":"$A$7","v":"Дата фасовки: 12.09.2018"},{"$f":"K871","v":0}]
[{"$f":"$A$8","v":"Условия хранения: +13°С до +14 °С"}]
[{"$f":"IF(LEFT(INDIRECT(ADDRESS(ROW()-7,COLUMN()+1)),3)=\"13-\",\"Срок годности: 5 суток\",\"Срок годности: 10 суток\")","v":"Срок годности: 10 суток"}]
[{"$f":"$A$10","v":0},null,"кг"]
["Масса нетто: ","----------------------------"]
[871]
[{"$f":"$A$2","v":"Бананы св. вес. 1кл"},{"$f":"'[1]Банан расч'!E872","v":0}]
[{"$f":"IF(INDIRECT(ADDRESS(ROW()-1,COLUMN()+1))=\"Хосп-4\",\"\",\"ГОСТ Р 51603-2000\")","v":"ГОСТ Р 51603-2000"},"Учреждение"]
[{"$f":"$A$4","v":"ТР ТС 021/2011 ТР ТС 022/2011"}]
[{"$f":"$A$5","v":"Изготовитель: Эквадор"}]
[{"$f":"$A$6","v":"\"AGZULASA CIA LTDA\""}]
[{"$f":"$A$7","v":"Дата фасовки: 12.09.2018"},{"$f":"K872","v":0}]
[{"$f":"$A$8","v":"Условия хранения: +13°С до +14 °С"}]
[{"$f":"IF(LEFT(INDIRECT(ADDRESS(ROW()-7,COLUMN()+1)),3)=\"13-\",\"Срок годности: 5 суток\",\"Срок годности: 10 суток\")","v":"Срок годности: 10 суток"}]
[{"$f":"$A$10","v":0},null,"кг"]
["Масса нетто: ","----------------------------"]
[872]
[{"$f":"$A$2","v":"Бананы св. вес. 1кл"},{"$f":"'[1]Банан расч'!E873","v":0}]
[{"$f":"IF(INDIRECT(ADDRESS(ROW()-1,COLUMN()+1))=\"Хосп-4\",\"\",\"ГОСТ Р 51603-2000\")","v":"ГОСТ Р 51603-2000"},"Учреждение"]
[{"$f":"$A$4","v":"ТР ТС 021/2011 ТР ТС 022/2011"}]
[{"$f":"$A$5","v":"Изготовитель: Эквадор"}]
[{"$f":"$A$6","v":"\"AGZULASA CIA LTDA\""}]
[{"$f":"$A$7","v":"Дата фасовки: 12.09.2018"},{"$f":"K873","v":0}]
[{"$f":"$A$8","v":"Условия хранения: +13°С до +14 °С"}]
[{"$f":"IF(LEFT(INDIRECT(ADDRESS(ROW()-7,COLUMN()+1)),3)=\"13-\",\"Срок годности: 5 суток\",\"Срок годности: 10 суток\")","v":"Срок годности: 10 суток"}]
[{"$f":"$A$10","v":0},null,"кг"]
["Масса нетто: ","----------------------------"]
[873]
[{"$f":"$A$2","v":"Бананы св. вес. 1кл"},{"$f":"'[1]Банан расч'!E874","v":0}]
[{"$f":"IF(INDIRECT(ADDRESS(ROW()-1,COLUMN()+1))=\"Хосп-4\",\"\",\"ГОСТ Р 51603-2000\")","v":"ГОСТ Р 51603-2000"},"Учреждение"]
[{"$f":"$A$4","v":"ТР ТС 021/2011 ТР ТС 022/2011"}]
[{"$f":"$A$5","v":"Изготовитель: Эквадор"}]
[{"$f":"$A$6","v":"\"AGZULASA CIA LTDA\""}]
[{"$f":"$A$7","v":"Дата фасовки: 12.09.2018"},{"$f":"K874","v":0}]
[{"$f":"$A$8","v":"Условия хранения: +13°С до +14 °С"}]
[{"$f":"IF(LEFT(INDIRECT(ADDRESS(ROW()-7,COLUMN()+1)),3)=\"13-\",\"Срок годности: 5 суток\",\"Срок годности: 10 суток\")","v":"Срок годности: 10 суток"}]
[{"$f":"$A$10","v":0},null,"кг"]
["Масса нетто: ","----------------------------"]
[874]
[{"$f":"$A$2","v":"Бананы св. вес. 1кл"},{"$f":"'[1]Банан расч'!E875","v":0}]
[{"$f":"IF(INDIRECT(ADDRESS(ROW()-1,COLUMN()+1))=\"Хосп-4\",\"\",\"ГОСТ Р 51603-2000\")","v":"ГОСТ Р 51603-2000"},"Учреждение"]
[{"$f":"$A$4","v":"ТР ТС 021/2011 ТР ТС 022/2011"}]
[{"$f":"$A$5","v":"Изготовитель: Эквадор"}]
[{"$f":"$A$6","v":"\"AGZULASA CIA LTDA\""}]
[{"$f":"$A$7","v":"Дата фасовки: 12.09.2018"},{"$f":"K875","v":0}]
[{"$f":"$A$8","v":"Условия хранения: +13°С до +14 °С"}]
[{"$f":"IF(LEFT(INDIRECT(ADDRESS(ROW()-7,COLUMN()+1)),3)=\"13-\",\"Срок годности: 5 суток\",\"Срок годности: 10 суток\")","v":"Срок годности: 10 суток"}]
[{"$f":"$A$10","v":0},null,"кг"]
["Масса нетто: ","----------------------------"]
[875]
[{"$f":"$A$2","v":"Бананы св. вес. 1кл"},{"$f":"'[1]Банан расч'!E876","v":0}]
[{"$f":"IF(INDIRECT(ADDRESS(ROW()-1,COLUMN()+1))=\"Хосп-4\",\"\",\"ГОСТ Р 51603-2000\")","v":"ГОСТ Р 51603-2000"},"Учреждение"]
[{"$f":"$A$4","v":"ТР ТС 021/2011 ТР ТС 022/2011"}]
[{"$f":"$A$5","v":"Изготовитель: Эквадор"}]
[{"$f":"$A$6","v":"\"AGZULASA CIA LTDA\""}]
[{"$f":"$A$7","v":"Дата фасовки: 12.09.2018"},{"$f":"K876","v":0}]
[{"$f":"$A$8","v":"Условия хранения: +13°С до +14 °С"}]
[{"$f":"IF(LEFT(INDIRECT(ADDRESS(ROW()-7,COLUMN()+1)),3)=\"13-\",\"Срок годности: 5 суток\",\"Срок годности: 10 суток\")","v":"Срок годности: 10 суток"}]
[{"$f":"$A$10","v":0},null,"кг"]
["Масса нетто: ","----------------------------"]
[876]
[{"$f":"$A$2","v":"Бананы св. вес. 1кл"},{"$f":"'[1]Банан расч'!E877","v":0}]
[{"$f":"IF(INDIRECT(ADDRESS(ROW()-1,COLUMN()+1))=\"Хосп-4\",\"\",\"ГОСТ Р 51603-2000\")","v":"ГОСТ Р 51603-2000"},"Учреждение"]
[{"$f":"$A$4","v":"ТР ТС 021/2011 ТР ТС 022/2011"}]
[{"$f":"$A$5","v":"Изготовитель: Эквадор"}]
[{"$f":"$A$6","v":"\"AGZULASA CIA LTDA\""}]
[{"$f":"$A$7","v":"Дата фасовки: 12.09.2018"},{"$f":"K877","v":0}]
[{"$f":"$A$8","v":"Условия хранения: +13°С до +14 °С"}]
[{"$f":"IF(LEFT(INDIRECT(ADDRESS(ROW()-7,COLUMN()+1)),3)=\"13-\",\"Срок годности: 5 суток\",\"Срок годности: 10 суток\")","v":"Срок годности: 10 суток"}]
[{"$f":"$A$10","v":0},null,"кг"]
["Масса нетто: ","----------------------------"]
[877]
[{"$f":"$A$2","v":"Бананы св. вес. 1кл"},{"$f":"'[1]Банан расч'!E878","v":0}]
[{"$f":"IF(INDIRECT(ADDRESS(ROW()-1,COLUMN()+1))=\"Хосп-4\",\"\",\"ГОСТ Р 51603-2000\")","v":"ГОСТ Р 51603-2000"},"Учреждение"]
[{"$f":"$A$4","v":"ТР ТС 021/2011 ТР ТС 022/2011"}]
[{"$f":"$A$5","v":"Изготовитель: Эквадор"}]
[{"$f":"$A$6","v":"\"AGZULASA CIA LTDA\""}]
[{"$f":"$A$7","v":"Дата фасовки: 12.09.2018"},{"$f":"K878","v":0}]
[{"$f":"$A$8","v":"Условия хранения: +13°С до +14 °С"}]
[{"$f":"IF(LEFT(INDIRECT(ADDRESS(ROW()-7,COLUMN()+1)),3)=\"13-\",\"Срок годности: 5 суток\",\"Срок годности: 10 суток\")","v":"Срок годности: 10 суток"}]
[{"$f":"$A$10","v":0},null,"кг"]
["Масса нетто: ","----------------------------"]
[878]
[{"$f":"$A$2","v":"Бананы св. вес. 1кл"},{"$f":"'[1]Банан расч'!E879","v":0}]
[{"$f":"IF(INDIRECT(ADDRESS(ROW()-1,COLUMN()+1))=\"Хосп-4\",\"\",\"ГОСТ Р 51603-2000\")","v":"ГОСТ Р 51603-2000"},"Учреждение"]
[{"$f":"$A$4","v":"ТР ТС 021/2011 ТР ТС 022/2011"}]
[{"$f":"$A$5","v":"Изготовитель: Эквадор"}]
[{"$f":"$A$6","v":"\"AGZULASA CIA LTDA\""}]
[{"$f":"$A$7","v":"Дата фасовки: 12.09.2018"},{"$f":"K879","v":0}]
[{"$f":"$A$8","v":"Условия хранения: +13°С до +14 °С"}]
[{"$f":"IF(LEFT(INDIRECT(ADDRESS(ROW()-7,COLUMN()+1)),3)=\"13-\",\"Срок годности: 5 суток\",\"Срок годности: 10 суток\")","v":"Срок годности: 10 суток"}]
[{"$f":"$A$10","v":0},null,"кг"]
["Масса нетто: ","----------------------------"]
[879]
[{"$f":"$A$2","v":"Бананы св. вес. 1кл"},{"$f":"'[1]Банан расч'!E880","v":0}]
[{"$f":"IF(INDIRECT(ADDRESS(ROW()-1,COLUMN()+1))=\"Хосп-4\",\"\",\"ГОСТ Р 51603-2000\")","v":"ГОСТ Р 51603-2000"},"Учреждение"]
[{"$f":"$A$4","v":"ТР ТС 021/2011 ТР ТС 022/2011"}]
[{"$f":"$A$5","v":"Изготовитель: Эквадор"}]
[{"$f":"$A$6","v":"\"AGZULASA CIA LTDA\""}]
[{"$f":"$A$7","v":"Дата фасовки: 12.09.2018"},{"$f":"K880","v":0}]
[{"$f":"$A$8","v":"Условия хранения: +13°С до +14 °С"}]
[{"$f":"IF(LEFT(INDIRECT(ADDRESS(ROW()-7,COLUMN()+1)),3)=\"13-\",\"Срок годности: 5 суток\",\"Срок годности: 10 суток\")","v":"Срок годности: 10 суток"}]
[{"$f":"$A$10","v":0},null,"кг"]
["Масса нетто: ","----------------------------"]
[880]
[{"$f":"$A$2","v":"Бананы св. вес. 1кл"},{"$f":"'[1]Банан расч'!E881","v":0}]
[{"$f":"IF(INDIRECT(ADDRESS(ROW()-1,COLUMN()+1))=\"Хосп-4\",\"\",\"ГОСТ Р 51603-2000\")","v":"ГОСТ Р 51603-2000"},"Учреждение"]
[{"$f":"$A$4","v":"ТР ТС 021/2011 ТР ТС 022/2011"}]
[{"$f":"$A$5","v":"Изготовитель: Эквадор"}]
[{"$f":"$A$6","v":"\"AGZULASA CIA LTDA\""}]
[{"$f":"$A$7","v":"Дата фасовки: 12.09.2018"},{"$f":"K881","v":0}]
[{"$f":"$A$8","v":"Условия хранения: +13°С до +14 °С"}]
[{"$f":"IF(LEFT(INDIRECT(ADDRESS(ROW()-7,COLUMN()+1)),3)=\"13-\",\"Срок годности: 5 суток\",\"Срок годности: 10 суток\")","v":"Срок годности: 10 суток"}]
[{"$f":"$A$10","v":0},null,"кг"]
["Масса нетто: ","----------------------------"]
[881]
[{"$f":"$A$2","v":"Бананы св. вес. 1кл"},{"$f":"'[1]Банан расч'!E882","v":0}]
[{"$f":"IF(INDIRECT(ADDRESS(ROW()-1,COLUMN()+1))=\"Хосп-4\",\"\",\"ГОСТ Р 51603-2000\")","v":"ГОСТ Р 51603-2000"},"Учреждение"]
[{"$f":"$A$4","v":"ТР ТС 021/2011 ТР ТС 022/2011"}]
[{"$f":"$A$5","v":"Изготовитель: Эквадор"}]
[{"$f":"$A$6","v":"\"AGZULASA CIA LTDA\""}]
[{"$f":"$A$7","v":"Дата фасовки: 12.09.2018"},{"$f":"K882","v":0}]
[{"$f":"$A$8","v":"Условия хранения: +13°С до +14 °С"}]
[{"$f":"IF(LEFT(INDIRECT(ADDRESS(ROW()-7,COLUMN()+1)),3)=\"13-\",\"Срок годности: 5 суток\",\"Срок годности: 10 суток\")","v":"Срок годности: 10 суток"}]
[{"$f":"$A$10","v":0},null,"кг"]
["Масса нетто: ","----------------------------"]
[882]
[{"$f":"$A$2","v":"Бананы св. вес. 1кл"},{"$f":"'[1]Банан расч'!E883","v":0}]
[{"$f":"IF(INDIRECT(ADDRESS(ROW()-1,COLUMN()+1))=\"Хосп-4\",\"\",\"ГОСТ Р 51603-2000\")","v":"ГОСТ Р 51603-2000"},"Учреждение"]
[{"$f":"$A$4","v":"ТР ТС 021/2011 ТР ТС 022/2011"}]
[{"$f":"$A$5","v":"Изготовитель: Эквадор"}]
[{"$f":"$A$6","v":"\"AGZULASA CIA LTDA\""}]
[{"$f":"$A$7","v":"Дата фасовки: 12.09.2018"},{"$f":"K883","v":0}]
[{"$f":"$A$8","v":"Условия хранения: +13°С до +14 °С"}]
[{"$f":"IF(LEFT(INDIRECT(ADDRESS(ROW()-7,COLUMN()+1)),3)=\"13-\",\"Срок годности: 5 суток\",\"Срок годности: 10 суток\")","v":"Срок годности: 10 суток"}]
[{"$f":"$A$10","v":0},null,"кг"]
["Масса нетто: ","----------------------------"]
[883]
[{"$f":"$A$2","v":"Бананы св. вес. 1кл"},{"$f":"'[1]Банан расч'!E884","v":0}]
[{"$f":"IF(INDIRECT(ADDRESS(ROW()-1,COLUMN()+1))=\"Хосп-4\",\"\",\"ГОСТ Р 51603-2000\")","v":"ГОСТ Р 51603-2000"},"Учреждение"]
[{"$f":"$A$4","v":"ТР ТС 021/2011 ТР ТС 022/2011"}]
[{"$f":"$A$5","v":"Изготовитель: Эквадор"}]
[{"$f":"$A$6","v":"\"AGZULASA CIA LTDA\""}]
[{"$f":"$A$7","v":"Дата фасовки: 12.09.2018"},{"$f":"K884","v":0}]
[{"$f":"$A$8","v":"Условия хранения: +13°С до +14 °С"}]
[{"$f":"IF(LEFT(INDIRECT(ADDRESS(ROW()-7,COLUMN()+1)),3)=\"13-\",\"Срок годности: 5 суток\",\"Срок годности: 10 суток\")","v":"Срок годности: 10 суток"}]
[{"$f":"$A$10","v":0},null,"кг"]
["Масса нетто: ","----------------------------"]
[884]
[{"$f":"$A$2","v":"Бананы св. вес. 1кл"},{"$f":"'[1]Банан расч'!E885","v":0}]
[{"$f":"IF(INDIRECT(ADDRESS(ROW()-1,COLUMN()+1))=\"Хосп-4\",\"\",\"ГОСТ Р 51603-2000\")","v":"ГОСТ Р 51603-2000"},"Учреждение"]
[{"$f":"$A$4","v":"ТР ТС 021/2011 ТР ТС 022/2011"}]
[{"$f":"$A$5","v":"Изготовитель: Эквадор"}]
[{"$f":"$A$6","v":"\"AGZULASA CIA LTDA\""}]
[{"$f":"$A$7","v":"Дата фасовки: 12.09.2018"},{"$f":"K885","v":0}]
[{"$f":"$A$8","v":"Условия хранения: +13°С до +14 °С"}]
[{"$f":"IF(LEFT(INDIRECT(ADDRESS(ROW()-7,COLUMN()+1)),3)=\"13-\",\"Срок годности: 5 суток\",\"Срок годности: 10 суток\")","v":"Срок годности: 10 суток"}]
[{"$f":"$A$10","v":0},null,"кг"]
["Масса нетто: ","----------------------------"]
[885]

{"sheet":"Лист1","index":1,"n_rows":0,"n_cols":0,"rows_kept":0,"cut":false,"hidden":false,"merged":[]}

{"sheet":"Лист2","index":2,"n_rows":0,"n_cols":0,"rows_kept":0,"cut":false,"hidden":false,"merged":[]}

{"sheet":"Лист3","index":3,"n_rows":0,"n_cols":0,"rows_kept":0,"cut":false,"hidden":false,"merged":[]}