{"text_format":"1","workbook":"xlsx","n_sheets":5,"sheets":["Marathonbet","Олимп","М","О","Лист1"],"not_rendered":{"charts":0,"images":0,"macros":0,"external_links":0,"defined_names":2,"comments":0,"pivot_tables":0},"unopened":[],"bounds":{"document_bytes":16777216,"sheet_cells":100000,"rows_first":2000,"rows_last":500,"rows_between":2000,"halvings":0,"cell_chars":16384,"cell_head_chars":4096},"cells_cut":0,"cells_raw":0,"read":"whole","date_system":"1900"}

{"sheet":"Marathonbet","index":0,"n_rows":0,"n_cols":0,"rows_kept":0,"cut":false,"hidden":false,"merged":[]}

{"sheet":"Олимп","index":1,"n_rows":0,"n_cols":0,"rows_kept":0,"cut":false,"hidden":false,"merged":[]}

{"sheet":"М","index":2,"n_rows":17,"n_cols":12,"rows_kept":17,"cut":false,"hidden":false,"merged":[[0,1,0,6]]}
[null,"Marathonbet"]
["Наименование","Время начала",1,"Х",2,"1Х",12,"Х2","Ф1","Ф2","ТМ","ТБ"]
[{"$f":"Marathonbet!A103 &\"  -  \"&Marathonbet!A105","v":"  -  "},{"$f":"Marathonbet!C102","v":"00:00:00"},{"$f":"Marathonbet!E102","v":0},{"$f":"Marathonbet!F102","v":0},{"$f":"Marathonbet!G102","v":0},{"$f":"Marathonbet!H102","v":0},{"$f":"Marathonbet!I102","v":0},{"$f":"Marathonbet!J102","v":0},{"$f":"Marathonbet!K103","v":0},{"$f":"Marathonbet!L103","v":0},{"$f":"Marathonbet!M103","v":0},{"$f":"Marathonbet!N103","v":0}]
[{"$f":"Marathonbet!A108 &\"  -  \"&Marathonbet!A110","v":"  -  "},{"$f":"Marathonbet!C107","v":"00:00:00"},{"$f":"Marathonbet!E107","v":0},{"$f":"Marathonbet!F107","v":0},{"$f":"Marathonbet!G107","v":0},{"$f":"Marathonbet!H107","v":0},{"$f":"Marathonbet!I107","v":0},{"$f":"Marathonbet!J107","v":0},{"$f":"Marathonbet!K108","v":0},{"$f":"Marathonbet!L108","v":0},{"$f":"Marathonbet!M108","v":0},{"$f":"Marathonbet!N108","v":0}]
[{"$f":"Marathonbet!A113 &\"  -  \"&Marathonbet!A115","v":"  -  "},{"$f":"Marathonbet!C112","v":"00:00:00"},{"$f":"Marathonbet!E112","v":0},{"$f":"Marathonbet!F112","v":0},{"$f":"Marathonbet!H112","v":0},{"$f":"Marathonbet!I112","v":0},{"$f":"Marathonbet!J112","v":0},{"$f":"Marathonbet!J112","v":0},{"$f":"Marathonbet!K113","v":0},{"$f":"Marathonbet!L113","v":0},{"$f":"Marathonbet!M113","v":0},{"$f":"Marathonbet!N113","v":0}]
[{"$f":"Marathonbet!A118 &\"  -  \"&Marathonbet!A120","v":"  -  "}]
[{"$f":"Marathonbet!A123 &\"  -   \"&Marathonbet!A125","v":"  -   "}]
[{"$f":"Marathonbet!A128 &\"  -  \"&Marathonbet!A130","v":"  -  "}]
[{"$f":"Marathonbet!A133 &\"  -  \"&Marathonbet!A135","v":"  -  "}]
[{"$f":"Marathonbet!A138 &\"  -   \"&Marathonbet!A140","v":"  -   "}]
[{"$f":"Marathonbet!A143 &\"  -  \"&Marathonbet!A145","v":"  -  "}]
[{"$f":"Marathonbet!A148 &\"  -   \"&Marathonbet!A150","v":"  -   "}]
[{"$f":"Marathonbet!A153 &\"  -   \"&Marathonbet!A155","v":"  -   "}]
[{"$f":"Marathonbet!A158 &\"  -   \"&Marathonbet!A160","v":"  -   "}]
[{"$f":"Marathonbet!A163 &\"  -   \"&Marathonbet!A165","v":"  -   "}]
[{"$f":"Marathonbet!A168 &\"  -   \"&Marathonbet!A170","v":"  -   "}]
[{"$f":"Marathonbet!A173 &\"  -   \"&Marathonbet!A175","v":"  -   "}]

{"sheet":"О","index":3,"n_rows":6,"n_cols":12,"rows_kept":6,"cut":false,"hidden":false,"merged":[[0,1,0,4]]}
[null,"Olimp"]
["Наименование","Время начала",1,"Х",2,"1Х",12,"Х2","Ф1","Ф2","ТМ","ТБ"]
[{"$f":"#REF!","v":{"$error":"#REF!"}},{"$f":"#REF!","v":{"$error":"#REF!"}},{"$f":"#REF!","v":{"$error":"#REF!"}},{"$f":"#REF!","v":{"$error":"#REF!"}},{"$f":"#REF!","v":{"$error":"#REF!"}},{"$f":"#REF!","v":{"$error":"#REF!"}},{"$f":"#REF!","v":{"$error":"#REF!"}},{"$f":"#REF!","v":{"$error":"#REF!"}},{"$f":"#REF!","v":{"$error":"#REF!"}},{"$f":"#REF!","v":{"$error":"#REF!"}},{"$f":"#REF!","v":{"$error":"#REF!"}},{"$f":"#REF!","v":{"$error":"#REF!"}}]
[{"$f":"#REF!","v":{"$error":"#REF!"}},{"$f":"#REF!","v":{"$error":"#REF!"}},{"$f":"#REF!","v":{"$error":"#REF!"}},{"$f":"#REF!","v":{"$error":"#REF!"}},{"$f":"#REF!","v":{"$error":"#REF!"}},{"$f":"#REF!","v":{"$error":"#REF!"}},{"$f":"#REF!","v":{"$error":"#REF!"}},{"$f":"#REF!","v":{"$error":"#REF!"}},{"$f":"#REF!","v":{"$error":"#REF!"}},{"$f":"#REF!","v":{"$error":"#REF!"}},{"$f":"#REF!","v":{"$error":"#REF!"}},{"$f":"#REF!","v":{"$error":"#REF!"}}]
[{"$f":"#REF!","v":{"$error":"#REF!"}},{"$f":"#REF!","v":{"$error":"#REF!"}},{"$f":"#REF!","v":{"$error":"#REF!"}},{"$f":"#REF!","v":{"$error":"#REF!"}},{"$f":"#REF!","v":{"$error":"#REF!"}},{"$f":"#REF!","v":{"$error":"#REF!"}},{"$f":"#REF!","v":{"$error":"#REF!"}},{"$f":"#REF!","v":{"$error":"#REF!"}},{"$f":"#REF!","v":{"$error":"#REF!"}},{"$f":"#REF!","v":{"$error":"#REF!"}},{"$f":"#REF!","v":{"$error":"#REF!"}},{"$f":"#REF!","v":{"$error":"#REF!"}}]
[{"$f":"#REF!","v":{"$error":"#REF!"}},{"$f":"#REF!","v":{"$error":"#REF!"}},{"$f":"#REF!","v":{"$error":"#REF!"}},{"$f":"#REF!","v":{"$error":"#REF!"}},{"$f":"#REF!","v":{"$error":"#REF!"}},{"$f":"#REF!","v":{"$error":"#REF!"}},{"$f":"#REF!","v":{"$error":"#REF!"}},{"$f":"#REF!","v":{"$error":"#REF!"}},{"$f":"#REF!","v":{"$error":"#REF!"}},{"$f":"#REF!","v":{"$error":"#REF!"}},{"$f":"#REF!","v":{"$error":"#REF!"}},{"$f":"#REF!","v":{"$error":"#REF!"}}]

{"sheet":"Лист1","index":4,"n_rows":17,"n_cols":19,"rows_kept":17,"cut":false,"hidden":false,"merged":[[0,12,0,14],[1,12,1,14],[0,16,0,18],[1,16,1,18],[9,0,9,2],[9,12,9,14],[0,0,0,2],[1,0,1,2],[0,4,0,6],[1,4,1,6],[0,8,0,10],[1,8,1,10],[10,12,10,14],[9,16,9,18],[10,16,10,18],[10,0,10,2],[9,4,9,6],[10,4,10,6],[9,8,9,10],[10,8,10,10]]}
[]
[]
["мар п1",null,"олимп п2",null,"мар п1",null,"олимп п2",null,"мар п1",null,"олимп п2",null,"мар п1",null,"олимп п2",null,"мар п1",null,"олимп п2"]
[null,{"$f":"1/A4+1/C4","v":{"$error":"#DIV/0!"}},null,null,null,{"$f":"1/E4+1/G4","v":{"$error":"#DIV/0!"}},null,null,null,{"$f":"1/I4+1/K4","v":{"$error":"#DIV/0!"}},null,null,null,{"$f":"1/M4+1/O4","v":{"$error":"#DIV/0!"}},null,null,null,{"$f":"1/Q4+1/S4","v":{"$error":"#DIV/0!"}}]
["%",{"$f":"100-(100*B4)","v":{"$error":"#DIV/0!"}},null,null,"%",{"$f":"100-(100*F4)","v":{"$error":"#DIV/0!"}},null,null,"%",{"$f":"100-(100*J4)","v":{"$error":"#DIV/0!"}},null,null,"%",{"$f":"100-(100*N4)","v":{"$error":"#DIV/0!"}},null,null,"%",{"$f":"100-(100*R4)","v":{"$error":"#DIV/0!"}}]
["мар п2",null,"олимп п1",null,"мар п2",null,"олимп п1",null,"мар п2",null,"олимп п1",null,"мар п2",null,"олимп п1",null,"мар п2",null,"олимп п1"]
[null,{"$f":"1/A7+1/C7","v":{"$error":"#DIV/0!"}},null,null,null,{"$f":"1/E7+1/G7","v":{"$error":"#DIV/0!"}},null,null,null,{"$f":"1/I7+1/K7","v":{"$error":"#DIV/0!"}},null,null,null,{"$f":"1/M7+1/O7","v":{"$error":"#DIV/0!"}},null,null,null,{"$f":"1/Q7+1/S7","v":{"$error":"#DIV/0!"}}]
["%",{"$f":"100-(100*B7)","v":{"$error":"#DIV/0!"}},null,null,"%",{"$f":"100-(100*F7)","v":{"$error":"#DIV/0!"}},null,null,"%",{"$f":"100-(100*J7)","v":{"$error":"#DIV/0!"}},null,null,"%",{"$f":"100-(100*N7)","v":{"$error":"#DIV/0!"}},null,null,"%",{"$f":"100-(100*R7)","v":{"$error":"#DIV/0!"}}]
[]
[]
[]
["мар ТМ",null,"олим ТБ",null,"мар ТМ",null,"олимп ТБ",null,"мар ТМ",null,"олимп ТБ",null,"мар ТМ",null,"олимп ТБ",null,"мар ТМ",null,"олимп ТБ"]
[null,{"$f":"1/A13+1/C13","v":{"$error":"#DIV/0!"}},null,null,null,{"$f":"1/E13+1/G13","v":{"$error":"#DIV/0!"}},null,null,null,{"$f":"1/I13+1/K13","v":{"$error":"#DIV/0!"}},null,null,null,{"$f":"1/M13+1/O13","v":{"$error":"#DIV/0!"}},null,null,null,{"$f":"1/Q13+1/S13","v":{"$error":"#DIV/0!"}}]
["%",{"$f":"100-(100*B13)","v":{"$error":"#DIV/0!"}},null,null,"%",{"$f":"100-(100*F13)","v":{"$error":"#DIV/0!"}},null,null,"%",{"$f":"100-(100*J13)","v":{"$error":"#DIV/0!"}},null,null,"%",{"$f":"100-(100*N13)","v":{"$error":"#DIV/0!"}},null,null,"%",{"$f":"100-(100*R13)","v":{"$error":"#DIV/0!"}}]
["мар ТБ",null,"олим ТМ",null,"мар ТБ",null,"олимп ТМ",null,"мар ТБ",null,"олимп ТМ",null,"мар ТБ",null,"олимп ТМ",null,"мар ТБ",null,"олимп ТМ"]
[null,{"$f":"1/A16+1/C16","v":{"$error":"#DIV/0!"}},null,null,null,{"$f":"1/E16+1/G16","v":{"$error":"#DIV/0!"}},null,null,null,{"$f":"1/I16+1/K16","v":{"$error":"#DIV/0!"}},null,null,null,{"$f":"1/M16+1/O16","v":{"$error":"#DIV/0!"}},null,null,null,{"$f":"1/Q16+1/S16","v":{"$error":"#DIV/0!"}}]
["%",{"$f":"100-(100*B16)","v":{"$error":"#DIV/0!"}},null,null,"%",{"$f":"100-(100*F16)","v":{"$error":"#DIV/0!"}},null,null,"%",{"$f":"100-(100*J16)","v":{"$error":"#DIV/0!"}},null,null,"%",{"$f":"100-(100*N16)","v":{"$error":"#DIV/0!"}},null,null,"%",{"$f":"100-(100*R16)","v":{"$error":"#DIV/0!"}}]