{"text_format":"1","workbook":"xlsx","n_sheets":4,"sheets":["Общий заказ","Лист (1)","Лист (2)","Лист (3)"],"not_rendered":{"charts":0,"images":0,"macros":1,"external_links":0,"defined_names":0,"comments":0,"pivot_tables":0},"unopened":[],"bounds":{"document_bytes":16777216,"sheet_cells":100000,"rows_first":2000,"rows_last":500,"rows_between":2000,"halvings":0,"cell_chars":16384,"cell_head_chars":4096},"cells_cut":0,"cells_raw":0,"read":"whole","date_system":"1900"}

{"sheet":"Общий заказ","index":0,"n_rows":116,"n_cols":11,"rows_kept":116,"cut":false,"hidden":false,"merged":[[84,1,84,2],[85,1,85,2],[113,1,113,2],[114,1,114,2],[115,1,115,2],[116,1,116,2],[106,1,106,2],[109,1,109,2],[110,1,110,2],[111,1,111,2],[112,1,112,2],[101,1,101,2],[102,1,102,2],[103,1,103,2],[107,1,107,2],[108,1,108,2],[105,1,105,2],[104,1,104,2],[89,1,89,2],[90,1,90,2],[97,1,97,2],[98,1,98,2],[99,1,99,2],[100,1,100,2],[91,1,91,2],[92,1,92,2],[93,1,93,2],[94,1,94,2],[96,1,96,2],[61,1,61,2],[62,1,62,2],[64,1,64,2],[65,1,65,2],[67,1,67,2],[63,1,63,2],[66,1,66,2],[88,1,88,2],[86,1,86,2],[87,1,87,2],[68,1,68,2],[80,1,80,2],[81,1,81,2],[82,1,82,2],[83,1,83,2],[74,1,74,2],[75,1,75,2],[77,1,77,2],[78,1,78,2],[79,1,79,2],[76,1,76,2],[69,1,69,2],[70,1,70,2],[71,1,71,2],[14,1,14,2],[15,1,15,2],[16,1,16,2],[17,1,17,2],[18,1,18,2],[44,1,44,2],[43,1,43,2],[42,1,42,2],[32,1,32,2],[31,1,31,2],[30,1,30,2],[29,1,29,2],[28,1,28,2],[72,1,72,2],[73,1,73,2],[57,1,57,2],[58,1,58,2],[59,1,59,2],[60,1,60,2],[0,1,0,5],[5,1,5,2],[6,1,6,2],[7,1,7,2],[8,1,8,2],[9,1,9,2],[10,1,10,2],[11,1,11,2],[12,1,12,2],[4,1,4,2],[13,1,13,2],[25,1,25,2],[26,1,26,2],[27,1,27,2],[22,1,22,2],[19,1,19,2],[20,1,20,2],[21,1,21,2],[23,1,23,2],[24,1,24,2],[50,1,50,2],[51,1,51,2],[52,1,52,2],[53,1,53,2],[56,1,56,2],[45,1,45,2],[46,1,46,2],[47,1,47,2],[48,1,48,2],[49,1,49,2],[55,1,55,2],[87,16,87,17],[88,16,88,17],[30,15,30,16],[31,15,31,16],[32,15,32,16],[42,15,42,16],[44,15,44,16],[45,15,45,16],[46,15,46,16],[47,15,47,16],[86,16,86,17],[101,14,101,15],[102,14,102,15],[107,14,107,15],[48,15,48,16],[49,15,49,16],[50,15,50,16],[52,15,52,16],[53,15,53,16],[74,16,74,17],[75,16,75,17],[77,16,77,17],[78,16,78,17],[79,16,79,17],[80,16,80,17],[81,16,81,17],[82,16,82,17],[83,16,83,17],[94,16,94,17],[95,16,95,17],[96,16,96,17],[97,16,97,17],[93,14,93,15],[94,14,94,15],[95,14,95,15],[108,14,108,15],[109,14,109,15],[110,14,110,15],[111,14,111,15],[112,14,112,15],[113,14,113,15],[114,14,114,15],[115,14,115,15],[116,14,116,15],[98,16,98,17],[99,16,99,17],[100,16,100,17],[33,1,33,2],[34,1,34,2],[35,1,35,2],[36,1,36,2],[37,1,37,2],[38,1,38,2],[39,1,39,2],[40,1,40,2],[41,1,41,2],[96,14,96,15],[97,14,97,15],[98,14,98,15],[99,14,99,15],[100,14,100,15],[89,16,89,17],[90,16,90,17],[91,16,91,17],[92,16,92,17],[93,16,93,17],[84,16,84,17],[85,16,85,17]]}
[null,"Rose Ecuador"]
[null,null,{"$f":"CELL(\"имяфайла\")","v":"G:\\Моя\\Стереть\\[19 (1)_2.xlsm]Лист (2)"}]
[null,null,{"$f":"SEARCH(\"]\",CELL(\"имяфайла\"))+1","v":31}]
[null,"Client:",{"$f":"MID(CELL(\"имяфайла\",$A$1),SEARCH(\"]\",CELL(\"имяфайла\",$A$1))+1,100)","v":"Общий заказ"},"Data:","2019-12-01"]
[null,"Variety"]
[null,"Red Rose:",null,"Рост:","ЗАКАЗ",50,60,70,80,90,100]
[null,"Forever young  80-90  см",null,null,{"$f":"SUM('Лист (1):Лист (3)'!E7)","v":0}]
[null,"Freedom mix Prima",null,null,{"$f":"SUM('Лист (1):Лист (3)'!E8)","v":0}]
[null,"Freedom 50 см        (foxy)",null,null,{"$f":"SUM('Лист (1):Лист (3)'!E9)","v":0}]
[null,"Freedom 60 см        (foxy) ",null,null,{"$f":"SUM('Лист (1):Лист (3)'!E10)","v":0}]
[null,"Freedom 70 см        (foxy) ",null,null,{"$f":"SUM('Лист (1):Лист (3)'!E11)","v":0}]
[null,"Freedom 70-80 см   (foxy) ",null,null,{"$f":"SUM('Лист (1):Лист (3)'!E12)","v":0}]
[null,"Freedom 80-90 см   ",null,null,{"$f":"SUM('Лист (1):Лист (3)'!E13)","v":0}]
[null,"Exployer               3 кат",null,null,{"$f":"SUM('Лист (1):Лист (3)'!E14)","v":0}]
[null,"Exployer               3 кат",null,null,{"$f":"SUM('Лист (1):Лист (3)'!E15)","v":0}]
[null,"Colour Rose:",null,null,{"$f":"SUM('Лист (1):Лист (3)'!E16)","v":0}]
[null,"Esperance",null,null,{"$f":"SUM('Лист (1):Лист (3)'!E17)","v":0}]
[null,"Engagement",null,null,{"$f":"SUM('Лист (1):Лист (3)'!E18)","v":0}]
[null,"Gotha                  3 кат",null,null,{"$f":"SUM('Лист (1):Лист (3)'!E19)","v":0}]
[null,"Hermosa",null,null,{"$f":"SUM('Лист (1):Лист (3)'!E20)","v":0}]
[null,"Lola                     3 кат",null,null,{"$f":"SUM('Лист (1):Лист (3)'!E21)","v":0}]
[null,"Mondial",null,null,{"$f":"SUM('Лист (1):Лист (3)'!E22)","v":0}]
[null,"Mohana",null,null,{"$f":"SUM('Лист (1):Лист (3)'!E23)","v":0}]
[null,"Nina ",null,null,{"$f":"SUM('Лист (1):Лист (3)'!E24)","v":0}]
[null,"Pink Floed",null,null,{"$f":"SUM('Лист (1):Лист (3)'!E25)","v":0}]
[null,"Polar Star",null,null,{"$f":"SUM('Лист (1):Лист (3)'!E26)","v":0}]
[null,"Playа Blanka      3 кат",null,null,{"$f":"SUM('Лист (1):Лист (3)'!E27)","v":0}]
[null,"Santana",null,null,{"$f":"SUM('Лист (1):Лист (3)'!E28)","v":0}]
[null,"Sweetness",null,null,{"$f":"SUM('Лист (1):Лист (3)'!E29)","v":0}]
[null,"White Chocolate    ",null,null,{"$f":"SUM('Лист (1):Лист (3)'!E30)","v":0}]
[null,"High & Yellow Magik",null,null,{"$f":"SUM('Лист (1):Лист (3)'!E31)","v":0}]
[null,"High & Magik",null,null,{"$f":"SUM('Лист (1):Лист (3)'!E32)","v":0}]
[null,"High & Orange Magik",null,null,{"$f":"SUM('Лист (1):Лист (3)'!E33)","v":0}]
[null,null,null,null,{"$f":"SUM('Лист (1):Лист (3)'!E34)","v":0}]
[null,null,null,null,{"$f":"SUM('Лист (1):Лист (3)'!E35)","v":0}]
[null,null,null,null,{"$f":"SUM('Лист (1):Лист (3)'!E36)","v":0}]
[null,null,null,null,{"$f":"SUM('Лист (1):Лист (3)'!E37)","v":0}]
[null,null,null,null,{"$f":"SUM('Лист (1):Лист (3)'!E38)","v":0}]
[null,null,null,null,{"$f":"SUM('Лист (1):Лист (3)'!E39)","v":0}]
[null,null,null,null,{"$f":"SUM('Лист (1):Лист (3)'!E40)","v":0}]
[null,null,null,null,{"$f":"SUM('Лист (1):Лист (3)'!E41)","v":0}]
[null,null,null,null,{"$f":"SUM('Лист (1):Лист (3)'!E42)","v":0}]
[null,"Anastasia",null,null,{"$f":"SUM('Лист (1):Лист (3)'!E43)","v":0}]
[null,"Blue Tinted Roses  ",null,null,{"$f":"SUM('Лист (1):Лист (3)'!E44)","v":0}]
[null,"Blush",null,null,{"$f":"SUM('Лист (1):Лист (3)'!E45)","v":0}]
[null,"Bolivard",null,null,{"$f":"SUM('Лист (1):Лист (3)'!E46)","v":0}]
[null,"Carrousel",null,null,{"$f":"SUM('Лист (1):Лист (3)'!E47)","v":0}]
[null,"Dark Engagement",null,null,{"$f":"SUM('Лист (1):Лист (3)'!E48)","v":0}]
[null,"Deep Purple",null,null,{"$f":"SUM('Лист (1):Лист (3)'!E49)","v":0}]
[null,"Dejavu",null,null,{"$f":"SUM('Лист (1):Лист (3)'!E50)","v":0}]
[null,"Everest",null,null,{"$f":"SUM('Лист (1):Лист (3)'!E51)","v":0}]
[null,"Farfalla",null,null,{"$f":"SUM('Лист (1):Лист (3)'!E52)","v":0}]
[null,"Fiesta               3 кат",null,null,{"$f":"SUM('Лист (1):Лист (3)'!E53)","v":0}]
[null,"Hermosa",null,null,{"$f":"SUM('Лист (1):Лист (3)'!E54)","v":0}]
[null,"High & Winkle",null,null,{"$f":"SUM('Лист (1):Лист (3)'!E55)","v":0}]
[null,"High & Intenzz      ",null,null,{"$f":"SUM('Лист (1):Лист (3)'!E56)","v":0}]
[null,"Hot Lady",null,null,{"$f":"SUM('Лист (1):Лист (3)'!E57)","v":0}]
[null,"Hummer",null,null,{"$f":"SUM('Лист (1):Лист (3)'!E58)","v":0}]
[null,"Iguana",null,null,{"$f":"SUM('Лист (1):Лист (3)'!E59)","v":0}]
[null,"Latina",null,null,{"$f":"SUM('Лист (1):Лист (3)'!E60)","v":0}]
[null,"Limbo",null,null,{"$f":"SUM('Лист (1):Лист (3)'!E61)","v":0}]
[null,"Malibu",null,null,{"$f":"SUM('Лист (1):Лист (3)'!E62)","v":0}]
[null,"Malu",null,null,{"$f":"SUM('Лист (1):Лист (3)'!E63)","v":0}]
[null,"Mondial Prima          ",null,null,{"$f":"SUM('Лист (1):Лист (3)'!E64)","v":0}]
[null,"Monitou",null,null,{"$f":"SUM('Лист (1):Лист (3)'!E65)","v":0}]
[null,"Movie Star",null,null,{"$f":"SUM('Лист (1):Лист (3)'!E66)","v":0}]
[null,"Nina Prima",null,null,{"$f":"SUM('Лист (1):Лист (3)'!E67)","v":0}]
[null,"Pink Intuition",null,null,{"$f":"SUM('Лист (1):Лист (3)'!E68)","v":0}]
[null,"Proud",null,null,{"$f":"SUM('Лист (1):Лист (3)'!E69)","v":0}]
[null,"Ravel",null,null,{"$f":"SUM('Лист (1):Лист (3)'!E70)","v":0}]
[null,"Red Intuition",null,null,{"$f":"SUM('Лист (1):Лист (3)'!E71)","v":0}]
[null,"Red Unique",null,null,{"$f":"SUM('Лист (1):Лист (3)'!E72)","v":0}]
[null,"Rivera",null,null,{"$f":"SUM('Лист (1):Лист (3)'!E73)","v":0}]
[null,"Rock Star",null,null,{"$f":"SUM('Лист (1):Лист (3)'!E74)","v":0}]
[null,"Sexi Red",null,null,{"$f":"SUM('Лист (1):Лист (3)'!E75)","v":0}]
[null,"Shoking Versilia",null,null,{"$f":"SUM('Лист (1):Лист (3)'!E76)","v":0}]
[null,"Sylvia",null,null,{"$f":"SUM('Лист (1):Лист (3)'!E77)","v":0}]
[null,"Star 2000",null,null,{"$f":"SUM('Лист (1):Лист (3)'!E78)","v":0}]
[null,"Tara",null,null,{"$f":"SUM('Лист (1):Лист (3)'!E79)","v":0}]
[null,"Tibet",null,null,{"$f":"SUM('Лист (1):Лист (3)'!E80)","v":0}]
[null,"Vendela",null,null,{"$f":"SUM('Лист (1):Лист (3)'!E81)","v":0}]
[null,"Verdi",null,null,{"$f":"SUM('Лист (1):Лист (3)'!E82)","v":0}]
[null,"Versilia",null,null,{"$f":"SUM('Лист (1):Лист (3)'!E83)","v":0}]
[null,"total:",null,null,{"$f":"SUM(E7:E83)","v":0}]
[null,"Mix Foxi 50cm",null,null,{"$f":"SUM('Лист (1):Лист (3)'!E85)","v":0}]
[null,"Mix Foxi 60cm",null,null,{"$f":"SUM('Лист (1):Лист (3)'!E86)","v":0}]
[null,"Mix Foxi 70cm",null,null,{"$f":"SUM('Лист (1):Лист (3)'!E87)","v":0}]
[null,"Мix        80cm",null,null,{"$f":"SUM('Лист (1):Лист (3)'!E88)","v":0}]
[null,"total:",null,null,{"$f":"SUM(E85:E88)","v":0}]
[null,"Кения СУХАЯ 40см",null,null,{"$f":"SUM('Лист (1):Лист (3)'!E90)","v":0}]
[null,"Кения СУХАЯ 50см",null,null,{"$f":"SUM('Лист (1):Лист (3)'!E91)","v":0}]
[null,"Кения СУХАЯ 60см",null,null,{"$f":"SUM('Лист (1):Лист (3)'!E92)","v":0}]
[null,"Кения СУХАЯ 70см",null,null,{"$f":"SUM('Лист (1):Лист (3)'!E93)","v":0}]
[null,"Кения СУББАТИ 60см",null,null,{"$f":"SUM('Лист (1):Лист (3)'!E94)","v":0}]
[null,"Кения КУСТОВАЯ",null,null,{"$f":"SUM('Лист (1):Лист (3)'!E95)","v":0}]
[null,"Кения СУХАЯ 60см КРАСНАЯ",null,null,{"$f":"SUM('Лист (1):Лист (3)'!E96)","v":0}]
[null,"Кения СУХАЯ 60см БЕЛАЯ",null,null,{"$f":"SUM('Лист (1):Лист (3)'!E97)","v":0}]
[null,"total:",null,null,{"$f":"SUM(E90:E97)","v":0}]
[null,"Kenia spray:"]
[null,"Barbados",null,null,{"$f":"SUM('Лист (1):Лист (3)'!E100)","v":0}]
[null,"Bebi",null,null,{"$f":"SUM('Лист (1):Лист (3)'!E101)","v":0}]
[null,"Bombastic",null,null,{"$f":"SUM('Лист (1):Лист (3)'!E102)","v":0}]
[null,"Bombastic mix",null,null,{"$f":"SUM('Лист (1):Лист (3)'!E103)","v":0}]
[null,"Fire Flash",null,null,{"$f":"SUM('Лист (1):Лист (3)'!E104)","v":0}]
[null,"Fire Works",null,null,{"$f":"SUM('Лист (1):Лист (3)'!E105)","v":0}]
[null,"Hot Bubbles",null,null,{"$f":"SUM('Лист (1):Лист (3)'!E106)","v":0}]
[null,"Lianne",null,null,{"$f":"SUM('Лист (1):Лист (3)'!E107)","v":0}]
[null,"Justine",null,null,{"$f":"SUM('Лист (1):Лист (3)'!E108)","v":0}]
[null,"Misty Bubbles",null,null,{"$f":"SUM('Лист (1):Лист (3)'!E109)","v":0}]
[null,"Mix Spray",null,null,{"$f":"SUM('Лист (1):Лист (3)'!E110)","v":0}]
[null,"Sultan",null,null,{"$f":"SUM('Лист (1):Лист (3)'!E111)","v":0}]
[null,"Snow Flakes ",null,null,{"$f":"SUM('Лист (1):Лист (3)'!E112)","v":0}]
[null,"Summer Dance",null,null,{"$f":"SUM('Лист (1):Лист (3)'!E113)","v":0}]
[null,"Yana",null,null,{"$f":"SUM('Лист (1):Лист (3)'!E114)","v":0}]
[null,"total:",null,null,{"$f":"SUM(E100:E114)","v":0}]
[null,null,null,null,{"$f":"SUM(E84,E89,E98,E115)","v":0}]

{"sheet":"Лист (1)","index":1,"n_rows":116,"n_cols":11,"rows_kept":116,"cut":false,"hidden":false,"merged":[[0,1,0,5],[4,1,4,2],[5,1,5,2],[6,1,6,2],[7,1,7,2],[8,1,8,2],[15,1,15,2],[16,1,16,2],[17,1,17,2],[18,1,18,2],[19,1,19,2],[20,1,20,2],[9,1,9,2],[10,1,10,2],[11,1,11,2],[12,1,12,2],[13,1,13,2],[14,1,14,2],[27,1,27,2],[28,1,28,2],[29,1,29,2],[30,1,30,2],[30,15,30,16],[31,1,31,2],[31,15,31,16],[21,1,21,2],[22,1,22,2],[23,1,23,2],[24,1,24,2],[25,1,25,2],[26,1,26,2],[37,1,37,2],[38,1,38,2],[39,1,39,2],[40,1,40,2],[41,1,41,2],[42,1,42,2],[32,1,32,2],[32,15,32,16],[33,1,33,2],[34,1,34,2],[35,1,35,2],[36,1,36,2],[46,1,46,2],[46,15,46,16],[47,1,47,2],[47,15,47,16],[48,1,48,2],[48,15,48,16],[42,15,42,16],[43,1,43,2],[44,1,44,2],[44,15,44,16],[45,1,45,2],[45,15,45,16],[53,1,53,2],[53,15,53,16],[55,1,55,2],[56,1,56,2],[57,1,57,2],[58,1,58,2],[49,1,49,2],[49,15,49,16],[50,1,50,2],[50,15,50,16],[51,1,51,2],[52,1,52,2],[52,15,52,16],[65,1,65,2],[66,1,66,2],[67,1,67,2],[68,1,68,2],[69,1,69,2],[70,1,70,2],[59,1,59,2],[60,1,60,2],[61,1,61,2],[62,1,62,2],[63,1,63,2],[64,1,64,2],[76,1,76,2],[77,1,77,2],[77,16,77,17],[78,1,78,2],[78,16,78,17],[79,1,79,2],[79,16,79,17],[71,1,71,2],[72,1,72,2],[73,1,73,2],[74,1,74,2],[74,16,74,17],[75,1,75,2],[75,16,75,17],[83,1,83,2],[83,16,83,17],[84,1,84,2],[84,16,84,17],[85,1,85,2],[85,16,85,17],[80,1,80,2],[80,16,80,17],[81,1,81,2],[81,16,81,17],[82,1,82,2],[82,16,82,17],[89,1,89,2],[89,16,89,17],[90,1,90,2],[90,16,90,17],[91,1,91,2],[91,16,91,17],[86,1,86,2],[86,16,86,17],[87,1,87,2],[87,16,87,17],[88,1,88,2],[88,16,88,17],[95,14,95,15],[95,16,95,17],[96,1,96,2],[96,14,96,15],[96,16,96,17],[97,1,97,2],[97,14,97,15],[97,16,97,17],[92,1,92,2],[92,16,92,17],[93,1,93,2],[93,14,93,15],[93,16,93,17],[94,1,94,2],[94,14,94,15],[94,16,94,17],[100,1,100,2],[100,14,100,15],[100,16,100,17],[101,1,101,2],[101,14,101,15],[102,1,102,2],[102,14,102,15],[98,1,98,2],[98,14,98,15],[98,16,98,17],[99,1,99,2],[99,14,99,15],[99,16,99,17],[108,1,108,2],[108,14,108,15],[109,1,109,2],[109,14,109,15],[110,1,110,2],[110,14,110,15],[103,1,103,2],[104,1,104,2],[105,1,105,2],[106,1,106,2],[107,1,107,2],[107,14,107,15],[114,1,114,2],[114,14,114,15],[115,1,115,2],[115,14,115,15],[116,1,116,2],[116,14,116,15],[111,1,111,2],[111,14,111,15],[112,1,112,2],[112,14,112,15],[113,1,113,2],[113,14,113,15]]}
[null,"Rose Ecuador"]
[null,null,{"$f":"CELL(\"имяфайла\")","v":"G:\\Моя\\Стереть\\[19 (1)_2.xlsm]Лист (2)"}]
[null,null,{"$f":"SEARCH(\"]\",CELL(\"имяфайла\"))+1","v":31}]
[null,"Client:",{"$f":"MID(CELL(\"имяфайла\",$A$1),SEARCH(\"]\",CELL(\"имяфайла\",$A$1))+1,100)","v":"Лист (1)"},"Data:",{"$f":"SUM('Общий заказ'!E4)","v":"2019-12-01"}]
[null,"Variety"]
[null,"Red Rose:",null,"Рост:","ЗАКАЗ",50,60,70,80,90,100]
[null,"Forever young  80-90  см"]
[null,"Freedom mix Prima"]
[null,"Freedom 50 см        (foxy)"]
[null,"Freedom 60 см        (foxy) "]
[null,"Freedom 70 см        (foxy) "]
[null,"Freedom 70-80 см   (foxy) "]
[null,"Freedom 80-90 см   "]
[null,"Exployer               3 кат"]
[null,"Exployer               3 кат"]
[null,"Colour Rose:"]
[null,"Esperance"]
[null,"Engagement"]
[null,"Gotha                  3 кат"]
[null,"Hermosa"]
[null,"Lola                     3 кат"]
[null,"Mondial"]
[null,"Mohana"]
[null,"Nina "]
[null,"Pink Floed"]
[null,"Polar Star"]
[null,"Playа Blanka      3 кат"]
[null,"Santana"]
[null,"Sweetness"]
[null,"White Chocolate    "]
[null,"High & Yellow Magik"]
[null,"High & Magik"]
[null,"High & Orange Magik"]
[]
[]
[]
[]
[]
[]
[]
[]
[]
[null,"Anastasia"]
[null,"Blue Tinted Roses  "]
[null,"Blush"]
[null,"Bolivard"]
[null,"Carrousel"]
[null,"Dark Engagement"]
[null,"Deep Purple"]
[null,"Dejavu"]
[null,"Everest"]
[null,"Farfalla"]
[null,"Fiesta               3 кат"]
[null,"Hermosa"]
[null,"High & Winkle"]
[null,"High & Intenzz      "]
[null,"Hot Lady"]
[null,"Hummer"]
[null,"Iguana"]
[null,"Latina"]
[null,"Limbo"]
[null,"Malibu"]
[null,"Malu"]
[null,"Mondial Prima          "]
[null,"Monitou"]
[null,"Movie Star"]
[null,"Nina Prima"]
[null,"Pink Intuition"]
[null,"Proud"]
[null,"Ravel"]
[null,"Red Intuition"]
[null,"Red Unique"]
[null,"Rivera"]
[null,"Rock Star"]
[null,"Sexi Red"]
[null,"Shoking Versilia"]
[null,"Sylvia"]
[null,"Star 2000"]
[null,"Tara"]
[null,"Tibet"]
[null,"Vendela"]
[null,"Verdi"]
[null,"Versilia"]
[null,"total:",null,null,{"$f":"SUM(E7:E83)","v":0}]
[null,"Mix Foxi 50cm"]
[null,"Mix Foxi 60cm"]
[null,"Mix Foxi 70cm"]
[null,"Мix        80cm"]
[null,"total:",null,null,{"$f":"SUM(E85:E88)","v":0}]
[null,"Кения СУХАЯ 40см"]
[null,"Кения СУХАЯ 50см"]
[null,"Кения СУХАЯ 60см"]
[null,"Кения СУХАЯ 70см"]
[null,"Кения СУББАТИ 60см"]
[null,"Кения КУСТОВАЯ"]
[null,"Кения СУХАЯ 60см КРАСНАЯ"]
[null,"Кения СУХАЯ 60см БЕЛАЯ"]
[null,"total:",null,null,{"$f":"SUM(E90:E97)","v":0}]
[null,"Kenia spray:"]
[null,"Barbados"]
[null,"Bebi"]
[null,"Bombastic"]
[null,"Bombastic mix"]
[null,"Fire Flash"]
[null,"Fire Works"]
[null,"Hot Bubbles"]
[null,"Lianne"]
[null,"Justine"]
[null,"Misty Bubbles"]
[null,"Mix Spray"]
[null,"Sultan"]
[null,"Snow Flakes "]
[null,"Summer Dance"]
[null,"Yana"]
[null,"total:",null,null,{"$f":"SUM(E100:E114)","v":0}]
[null,null,null,null,{"$f":"SUM(E84,E89,E98,E115)","v":0}]

{"sheet":"Лист (2)","index":2,"n_rows":116,"n_cols":11,"rows_kept":116,"cut":false,"hidden":false,"merged":[[0,1,0,5],[4,1,4,2],[5,1,5,2],[6,1,6,2],[7,1,7,2],[8,1,8,2],[15,1,15,2],[16,1,16,2],[17,1,17,2],[18,1,18,2],[19,1,19,2],[20,1,20,2],[9,1,9,2],[10,1,10,2],[11,1,11,2],[12,1,12,2],[13,1,13,2],[14,1,14,2],[27,1,27,2],[28,1,28,2],[29,1,29,2],[30,1,30,2],[30,15,30,16],[31,1,31,2],[31,15,31,16],[21,1,21,2],[22,1,22,2],[23,1,23,2],[24,1,24,2],[25,1,25,2],[26,1,26,2],[37,1,37,2],[38,1,38,2],[39,1,39,2],[40,1,40,2],[41,1,41,2],[42,1,42,2],[32,1,32,2],[32,15,32,16],[33,1,33,2],[34,1,34,2],[35,1,35,2],[36,1,36,2],[46,1,46,2],[46,15,46,16],[47,1,47,2],[47,15,47,16],[48,1,48,2],[48,15,48,16],[42,15,42,16],[43,1,43,2],[44,1,44,2],[44,15,44,16],[45,1,45,2],[45,15,45,16],[53,1,53,2],[53,15,53,16],[55,1,55,2],[56,1,56,2],[57,1,57,2],[58,1,58,2],[49,1,49,2],[49,15,49,16],[50,1,50,2],[50,15,50,16],[51,1,51,2],[52,1,52,2],[52,15,52,16],[65,1,65,2],[66,1,66,2],[67,1,67,2],[68,1,68,2],[69,1,69,2],[70,1,70,2],[59,1,59,2],[60,1,60,2],[61,1,61,2],[62,1,62,2],[63,1,63,2],[64,1,64,2],[76,1,76,2],[77,1,77,2],[77,16,77,17],[78,1,78,2],[78,16,78,17],[79,1,79,2],[79,16,79,17],[71,1,71,2],[72,1,72,2],[73,1,73,2],[74,1,74,2],[74,16,74,17],[75,1,75,2],[75,16,75,17],[83,1,83,2],[83,16,83,17],[84,1,84,2],[84,16,84,17],[85,1,85,2],[85,16,85,17],[80,1,80,2],[80,16,80,17],[81,1,81,2],[81,16,81,17],[82,1,82,2],[82,16,82,17],[89,1,89,2],[89,16,89,17],[90,1,90,2],[90,16,90,17],[91,1,91,2],[91,16,91,17],[86,1,86,2],[86,16,86,17],[87,1,87,2],[87,16,87,17],[88,1,88,2],[88,16,88,17],[95,14,95,15],[95,16,95,17],[96,1,96,2],[96,14,96,15],[96,16,96,17],[97,1,97,2],[97,14,97,15],[97,16,97,17],[92,1,92,2],[92,16,92,17],[93,1,93,2],[93,14,93,15],[93,16,93,17],[94,1,94,2],[94,14,94,15],[94,16,94,17],[100,1,100,2],[100,14,100,15],[100,16,100,17],[101,1,101,2],[101,14,101,15],[102,1,102,2],[102,14,102,15],[98,1,98,2],[98,14,98,15],[98,16,98,17],[99,1,99,2],[99,14,99,15],[99,16,99,17],[108,1,108,2],[108,14,108,15],[109,1,109,2],[109,14,109,15],[110,1,110,2],[110,14,110,15],[103,1,103,2],[104,1,104,2],[105,1,105,2],[106,1,106,2],[107,1,107,2],[107,14,107,15],[114,1,114,2],[114,14,114,15],[115,1,115,2],[115,14,115,15],[116,1,116,2],[116,14,116,15],[111,1,111,2],[111,14,111,15],[112,1,112,2],[112,14,112,15],[113,1,113,2],[113,14,113,15]]}
[null,"Rose Ecuador"]
[null,null,{"$f":"CELL(\"имяфайла\")","v":"G:\\Моя\\Стереть\\[19 (1)_2.xlsm]Лист (2)"}]
[null,null,{"$f":"SEARCH(\"]\",CELL(\"имяфайла\"))+1","v":31}]
[null,"Client:",{"$f":"MID(CELL(\"имяфайла\",$A$1),SEARCH(\"]\",CELL(\"имяфайла\",$A$1))+1,100)","v":"Лист (2)"},"Data:",{"$f":"SUM('Общий заказ'!E4)","v":"2019-12-01"}]
[null,"Variety"]
[null,"Red Rose:",null,"Рост:","ЗАКАЗ",50,60,70,80,90,100]
[null,"Forever young  80-90  см"]
[null,"Freedom mix Prima"]
[null,"Freedom 50 см        (foxy)"]
[null,"Freedom 60 см        (foxy) "]
[null,"Freedom 70 см        (foxy) "]
[null,"Freedom 70-80 см   (foxy) "]
[null,"Freedom 80-90 см   "]
[null,"Exployer               3 кат"]
[null,"Exployer               3 кат"]
[null,"Colour Rose:"]
[null,"Esperance"]
[null,"Engagement"]
[null,"Gotha                  3 кат"]
[null,"Hermosa"]
[null,"Lola                     3 кат"]
[null,"Mondial"]
[null,"Mohana"]
[null,"Nina "]
[null,"Pink Floed"]
[null,"Polar Star"]
[null,"Playа Blanka      3 кат"]
[null,"Santana"]
[null,"Sweetness"]
[null,"White Chocolate    "]
[null,"High & Yellow Magik"]
[null,"High & Magik"]
[null,"High & Orange Magik"]
[]
[]
[]
[]
[]
[]
[]
[]
[]
[null,"Anastasia"]
[null,"Blue Tinted Roses  "]
[null,"Blush"]
[null,"Bolivard"]
[null,"Carrousel"]
[null,"Dark Engagement"]
[null,"Deep Purple"]
[null,"Dejavu"]
[null,"Everest"]
[null,"Farfalla"]
[null,"Fiesta               3 кат"]
[null,"Hermosa"]
[null,"High & Winkle"]
[null,"High & Intenzz      "]
[null,"Hot Lady"]
[null,"Hummer"]
[null,"Iguana"]
[null,"Latina"]
[null,"Limbo"]
[null,"Malibu"]
[null,"Malu"]
[null,"Mondial Prima          "]
[null,"Monitou"]
[null,"Movie Star"]
[null,"Nina Prima"]
[null,"Pink Intuition"]
[null,"Proud"]
[null,"Ravel"]
[null,"Red Intuition"]
[null,"Red Unique"]
[null,"Rivera"]
[null,"Rock Star"]
[null,"Sexi Red"]
[null,"Shoking Versilia"]
[null,"Sylvia"]
[null,"Star 2000"]
[null,"Tara"]
[null,"Tibet"]
[null,"Vendela"]
[null,"Verdi"]
[null,"Versilia"]
[null,"total:",null,null,{"$f":"SUM(E7:E83)","v":0}]
[null,"Mix Foxi 50cm"]
[null,"Mix Foxi 60cm"]
[null,"Mix Foxi 70cm"]
[null,"Мix        80cm"]
[null,"total:",null,null,{"$f":"SUM(E85:E88)","v":0}]
[null,"Кения СУХАЯ 40см"]
[null,"Кения СУХАЯ 50см"]
[null,"Кения СУХАЯ 60см"]
[null,"Кения СУХАЯ 70см"]
[null,"Кения СУББАТИ 60см"]
[null,"Кения КУСТОВАЯ"]
[null,"Кения СУХАЯ 60см КРАСНАЯ"]
[null,"Кения СУХАЯ 60см БЕЛАЯ"]
[null,"total:",null,null,{"$f":"SUM(E90:E97)","v":0}]
[null,"Kenia spray:"]
[null,"Barbados"]
[null,"Bebi"]
[null,"Bombastic"]
[null,"Bombastic mix"]
[null,"Fire Flash"]
[null,"Fire Works"]
[null,"Hot Bubbles"]
[null,"Lianne"]
[null,"Justine"]
[null,"Misty Bubbles"]
[null,"Mix Spray"]
[null,"Sultan"]
[null,"Snow Flakes "]
[null,"Summer Dance"]
[null,"Yana"]
[null,"total:",null,null,{"$f":"SUM(E100:E114)","v":0}]
[null,null,null,null,{"$f":"SUM(E84,E89,E98,E115)","v":0}]

{"sheet":"Лист (3)","index":3,"n_rows":116,"n_cols":11,"rows_kept":116,"cut":false,"hidden":false,"merged":[[0,1,0,5],[4,1,4,2],[5,1,5,2],[6,1,6,2],[7,1,7,2],[8,1,8,2],[15,1,15,2],[16,1,16,2],[17,1,17,2],[18,1,18,2],[19,1,19,2],[20,1,20,2],[9,1,9,2],[10,1,10,2],[11,1,11,2],[12,1,12,2],[13,1,13,2],[14,1,14,2],[27,1,27,2],[28,1,28,2],[29,1,29,2],[30,1,30,2],[30,15,30,16],[31,1,31,2],[31,15,31,16],[21,1,21,2],[22,1,22,2],[23,1,23,2],[24,1,24,2],[25,1,25,2],[26,1,26,2],[37,1,37,2],[38,1,38,2],[39,1,39,2],[40,1,40,2],[41,1,41,2],[42,1,42,2],[32,1,32,2],[32,15,32,16],[33,1,33,2],[34,1,34,2],[35,1,35,2],[36,1,36,2],[46,1,46,2],[46,15,46,16],[47,1,47,2],[47,15,47,16],[48,1,48,2],[48,15,48,16],[42,15,42,16],[43,1,43,2],[44,1,44,2],[44,15,44,16],[45,1,45,2],[45,15,45,16],[53,1,53,2],[53,15,53,16],[55,1,55,2],[56,1,56,2],[57,1,57,2],[58,1,58,2],[49,1,49,2],[49,15,49,16],[50,1,50,2],[50,15,50,16],[51,1,51,2],[52,1,52,2],[52,15,52,16],[65,1,65,2],[66,1,66,2],[67,1,67,2],[68,1,68,2],[69,1,69,2],[70,1,70,2],[59,1,59,2],[60,1,60,2],[61,1,61,2],[62,1,62,2],[63,1,63,2],[64,1,64,2],[76,1,76,2],[77,1,77,2],[77,16,77,17],[78,1,78,2],[78,16,78,17],[79,1,79,2],[79,16,79,17],[71,1,71,2],[72,1,72,2],[73,1,73,2],[74,1,74,2],[74,16,74,17],[75,1,75,2],[75,16,75,17],[83,1,83,2],[83,16,83,17],[84,1,84,2],[84,16,84,17],[85,1,85,2],[85,16,85,17],[80,1,80,2],[80,16,80,17],[81,1,81,2],[81,16,81,17],[82,1,82,2],[82,16,82,17],[89,1,89,2],[89,16,89,17],[90,1,90,2],[90,16,90,17],[91,1,91,2],[91,16,91,17],[86,1,86,2],[86,16,86,17],[87,1,87,2],[87,16,87,17],[88,1,88,2],[88,16,88,17],[95,14,95,15],[95,16,95,17],[96,1,96,2],[96,14,96,15],[96,16,96,17],[97,1,97,2],[97,14,97,15],[97,16,97,17],[92,1,92,2],[92,16,92,17],[93,1,93,2],[93,14,93,15],[93,16,93,17],[94,1,94,2],[94,14,94,15],[94,16,94,17],[100,1,100,2],[100,14,100,15],[100,16,100,17],[101,1,101,2],[101,14,101,15],[102,1,102,2],[102,14,102,15],[98,1,98,2],[98,14,98,15],[98,16,98,17],[99,1,99,2],[99,14,99,15],[99,16,99,17],[108,1,108,2],[108,14,108,15],[109,1,109,2],[109,14,109,15],[110,1,110,2],[110,14,110,15],[103,1,103,2],[104,1,104,2],[105,1,105,2],[106,1,106,2],[107,1,107,2],[107,14,107,15],[114,1,114,2],[114,14,114,15],[115,1,115,2],[115,14,115,15],[116,1,116,2],[116,14,116,15],[111,1,111,2],[111,14,111,15],[112,1,112,2],[112,14,112,15],[113,1,113,2],[113,14,113,15]]}
[null,"Rose Ecuador"]
[null,null,{"$f":"CELL(\"имяфайла\")","v":"G:\\Моя\\Стереть\\[19 (1)_2.xlsm]Лист (2)"}]
[null,null,{"$f":"SEARCH(\"]\",CELL(\"имяфайла\"))+1","v":31}]
[null,"Client:",{"$f":"MID(CELL(\"имяфайла\",$A$1),SEARCH(\"]\",CELL(\"имяфайла\",$A$1))+1,100)","v":"Лист (3)"},"Data:",{"$f":"SUM('Общий заказ'!E4)","v":"2019-12-01"}]
[null,"Variety"]
[null,"Red Rose:",null,"Рост:","ЗАКАЗ",50,60,70,80,90,100]
[null,"Forever young  80-90  см"]
[null,"Freedom mix Prima"]
[null,"Freedom 50 см        (foxy)"]
[null,"Freedom 60 см        (foxy) "]
[null,"Freedom 70 см        (foxy) "]
[null,"Freedom 70-80 см   (foxy) "]
[null,"Freedom 80-90 см   "]
[null,"Exployer               3 кат"]
[null,"Exployer               3 кат"]
[null,"Colour Rose:"]
[null,"Esperance"]
[null,"Engagement"]
[null,"Gotha                  3 кат"]
[null,"Hermosa"]
[null,"Lola                     3 кат"]
[null,"Mondial"]
[null,"Mohana"]
[null,"Nina "]
[null,"Pink Floed"]
[null,"Polar Star"]
[null,"Playа Blanka      3 кат"]
[null,"Santana"]
[null,"Sweetness"]
[null,"White Chocolate    "]
[null,"High & Yellow Magik"]
[null,"High & Magik"]
[null,"High & Orange Magik"]
[]
[]
[]
[]
[]
[]
[]
[]
[]
[]
[null,"Blue Tinted Roses  "]
[null,"Blush"]
[null,"Bolivard"]
[null,"Carrousel"]
[null,"Dark Engagement"]
[null,"Deep Purple"]
[null,"Dejavu"]
[null,"Everest"]
[null,"Farfalla"]
[null,"Fiesta               3 кат"]
[null,"Hermosa"]
[null,"High & Winkle"]
[null,"High & Intenzz      "]
[null,"Hot Lady"]
[null,"Hummer"]
[null,"Iguana"]
[null,"Latina"]
[null,"Limbo"]
[null,"Malibu"]
[null,"Malu"]
[null,"Mondial Prima          "]
[null,"Monitou"]
[null,"Movie Star"]
[null,"Nina Prima"]
[null,"Pink Intuition"]
[null,"Proud"]
[null,"Ravel"]
[null,"Red Intuition"]
[null,"Red Unique"]
[null,"Rivera"]
[null,"Rock Star"]
[null,"Sexi Red"]
[null,"Shoking Versilia"]
[null,"Sylvia"]
[null,"Star 2000"]
[null,"Tara"]
[null,"Tibet"]
[null,"Vendela"]
[null,"Verdi"]
[null,"Versilia"]
[null,"total:",null,null,{"$f":"SUM(E7:E83)","v":0}]
[null,"Mix Foxi 50cm"]
[null,"Mix Foxi 60cm"]
[null,"Mix Foxi 70cm"]
[null,"Мix        80cm"]
[null,"total:",null,null,{"$f":"SUM(E85:E88)","v":0}]
[null,"Кения СУХАЯ 40см"]
[null,"Кения СУХАЯ 50см"]
[null,"Кения СУХАЯ 60см"]
[null,"Кения СУХАЯ 70см"]
[null,"Кения СУББАТИ 60см"]
[null,"Кения КУСТОВАЯ"]
[null,"Кения СУХАЯ 60см КРАСНАЯ"]
[null,"Кения СУХАЯ 60см БЕЛАЯ"]
[null,"total:",null,null,{"$f":"SUM(E90:E97)","v":0}]
[null,"Kenia spray:"]
[null,"Barbados"]
[null,"Bebi"]
[null,"Bombastic"]
[null,"Bombastic mix"]
[null,"Fire Flash"]
[null,"Fire Works"]
[null,"Hot Bubbles"]
[null,"Lianne"]
[null,"Justine"]
[null,"Misty Bubbles"]
[null,"Mix Spray"]
[null,"Sultan"]
[null,"Snow Flakes "]
[null,"Summer Dance"]
[null,"Yana"]
[null,"total:",null,null,{"$f":"SUM(E100:E114)","v":0}]
[null,null,null,null,{"$f":"SUM(E84,E89,E98,E115)","v":0}]