{"text_format":"1","workbook":"xlsx","n_sheets":3,"sheets":["Лист1","Расчётная","Сводная таблица"],"not_rendered":{"charts":0,"images":0,"macros":1,"external_links":0,"defined_names":2,"comments":0,"pivot_tables":1},"unopened":[],"bounds":{"document_bytes":16777216,"sheet_cells":100000,"rows_first":2000,"rows_last":500,"rows_between":2000,"halvings":0,"cell_chars":16384,"cell_head_chars":4096},"cells_cut":0,"cells_raw":0,"read":"whole","date_system":"1900"}

{"sheet":"Лист1","index":0,"n_rows":104,"n_cols":6,"rows_kept":104,"cut":false,"hidden":false,"merged":[]}
["Текст","Дата выхода",null,null,"Дата выхода","Текст"]
["В связи с расширением срочно требуются сотрудники в офис, от 35 000 руб. Тел. 201-06-13","21, 22, 25, 26, 29, 30/03;02, 03, 06, 07/04",{"$f":"IF(IFERROR(SEARCH(\";\",B2),0)<>0,SUBSTITUTE(LEFT(B2,IFERROR(SEARCH(\";\",B2),0)-1),\",\",RIGHT(LEFT(B2,IFERROR(SEARCH(\";\",B2),0)-1),3)&\"/\"&YEAR(TODAY()))&\"/\"&YEAR(TODAY())&\" \",\"\")&SUBSTITUTE(RIGHT(B2,LEN(B2)-IFERROR(SEARCH(\";\",B2),0)),\",\",RIGHT(RIGHT(B2,LEN(B2)-IFERROR(SEARCH(\";\",B2),0)),3)&\"/\"&YEAR(TODAY()))&\"/\"&YEAR(TODAY())","v":"21/03/2013 22/03/2013 25/03/2013 26/03/2013 29/03/2013 30/03/2013 02/04/2013 03/04/2013 06/04/2013 07/04/2013"},{"$f":"(LEN(C2)+1)/11+D1","v":10},21,"В связи с расширением срочно требуются сотрудники в офис, от 35 000 руб. Тел. 201-06-13"]
["Водители такси на новые Нексии. Выгодные условия. Тел. 207-10-65","21, 22, 23/03",{"$f":"IF(IFERROR(SEARCH(\";\",B3),0)<>0,SUBSTITUTE(LEFT(B3,IFERROR(SEARCH(\";\",B3),0)-1),\",\",RIGHT(LEFT(B3,IFERROR(SEARCH(\";\",B3),0)-1),3)&\"/\"&YEAR(TODAY()))&\"/\"&YEAR(TODAY())&\" \",\"\")&SUBSTITUTE(RIGHT(B3,LEN(B3)-IFERROR(SEARCH(\";\",B3),0)),\",\",RIGHT(RIGHT(B3,LEN(B3)-IFERROR(SEARCH(\";\",B3),0)),3)&\"/\"&YEAR(TODAY()))&\"/\"&YEAR(TODAY())","v":"21/03/2013 22/03/2013 23/03/2013"},{"$f":"(LEN(C3)+1)/11+D2","v":13},21,"Водители такси на новые Нексии. Выгодные условия. Тел. 207-10-65"]
["На постоянную работу диспетчер-логист, 2/2. Тел. 219-22-27","21, 22, 23/03","21/03/2013 22/03/2013 23/03/2013",16,21,"На постоянную работу диспетчер-логист, 2/2. Тел. 219-22-27"]
["Обучение на массажистов, косметологов-эстетистов, медсестер. Трудоустройство. Тел. 202-36-56","21, 22, 23, 24, 25/03","21/03/2013 22/03/2013 23/03/2013 24/03/2013 25/03/2013",21,21,"Обучение на массажистов, косметологов-эстетистов, медсестер. Трудоустройство. Тел. 202-36-56"]
["Подработка. Тел. 3-611-655","21, 24, 25, 26, 27/03","21/03/2013 24/03/2013 25/03/2013 26/03/2013 27/03/2013",26,21,"Подработка. Тел. 3-611-655"]
["Приглашаем комплектовщиков, приемосдатчиков, грузчиков, упаковщицу, складского логиста. Официальное трудоустройство, питание, доставка. Тел. 216-28-48","21, 24, 25, 26, 27/03","21/03/2013 24/03/2013 25/03/2013 26/03/2013 27/03/2013",31,21,"Приглашаем комплектовщиков, приемосдатчиков, грузчиков, упаковщицу, складского логиста. Официальное трудоустройство, питание, доставка. Тел. 216-28-48"]
["Работа на дому. Тел. 201-05-47","21, 22, 25, 26, 29, 30/03;02, 03, 06, 07/04","21/03/2013 22/03/2013 25/03/2013 26/03/2013 29/03/2013 30/03/2013 02/04/2013 03/04/2013 06/04/2013 07/04/2013",41,21,"Работа на дому. Тел. 201-05-47"]
["Срочно требуется команда консультантов в новый офис финансовой компании. От 20000 руб, гибкий график. Тел. 200-25-46","21, 22, 23, 24, 25/03","21/03/2013 22/03/2013 23/03/2013 24/03/2013 25/03/2013",46,21,"Срочно требуется команда консультантов в новый офис финансовой компании. От 20000 руб, гибкий график. Тел. 200-25-46"]
["Срочно требуются: продавец в мясной отдел, повар в холодный цех, продавец в колбасный отдел, товаровед с опытом работы, юрист. Тел. 8-912-294-60-06, 8-922-14-33-457","21, 25, 27, 29, 31/03;02, 04/04","21/03/2013 25/03/2013 27/03/2013 29/03/2013 31/03/2013 02/04/2013 04/04/2013",53,21,"Срочно требуются: продавец в мясной отдел, повар в холодный цех, продавец в колбасный отдел, товаровед с опытом работы, юрист. Тел. 8-912-294-60-06, 8-922-14-33-457"]
["Срочно! Требуются экспедиторы. Официальное трудоустройство. Тел. 216-28-49","21, 24, 25, 26, 27/03","21/03/2013 24/03/2013 25/03/2013 26/03/2013 27/03/2013",58,21,"Срочно! Требуются экспедиторы. Официальное трудоустройство. Тел. 216-28-49"]
["Требуется администратор зала, 28 000 руб. Тел. 200-93-67","21, 22, 25, 26, 29, 30/03;02, 03, 06, 07/04","21/03/2013 22/03/2013 25/03/2013 26/03/2013 29/03/2013 30/03/2013 02/04/2013 03/04/2013 06/04/2013 07/04/2013",68,21,"Требуется администратор зала, 28 000 руб. Тел. 200-93-67"]
["Требуется администратор, от 25000 руб. Тел. 213-35-60","21, 22, 26, 27, 29, 30/03;02, 03, 06, 07/04","21/03/2013 22/03/2013 26/03/2013 27/03/2013 29/03/2013 30/03/2013 02/04/2013 03/04/2013 06/04/2013 07/04/2013",78,21,"Требуется администратор, от 25000 руб. Тел. 213-35-60"]
["Требуется ведущий консультант. Работа с вип клиентами. Консультирование по продуктам компании, заключение договоров. От 50000 руб. Тел. 200-25-46","21, 22, 23, 24, 25/03","21/03/2013 22/03/2013 23/03/2013 24/03/2013 25/03/2013",83,21,"Требуется ведущий консультант. Работа с вип клиентами. Консультирование по продуктам компании, заключение договоров. От 50000 руб. Тел. 200-25-46"]
["Требуется водитель на маршрут. Тел. 8-922-028-57-64","21/03","21/03/2013",84,21,"Требуется водитель на маршрут. Тел. 8-922-028-57-64"]
["Требуется водитель погрузчика, машинист экскаватора, слесарь по ремонту погрузчиков. Тел. 295-62-18, 295-71-51","21, 22, 23/03","21/03/2013 22/03/2013 23/03/2013",87,21,"Требуется водитель погрузчика, машинист экскаватора, слесарь по ремонту погрузчиков. Тел. 295-62-18, 295-71-51"]
["Требуется менеджер корпоративных продаж, от 35 000 руб. Тел. 200-21-78","21, 22, 25, 26, 29, 30/03;02, 03, 06, 07/04","21/03/2013 22/03/2013 25/03/2013 26/03/2013 29/03/2013 30/03/2013 02/04/2013 03/04/2013 06/04/2013 07/04/2013",97,21,"Требуется менеджер корпоративных продаж, от 35 000 руб. Тел. 200-21-78"]
["Требуется менеджер по продажам. От 25000 руб. Тел. 200-25-46","21, 22, 23, 24, 25/03","21/03/2013 22/03/2013 23/03/2013 24/03/2013 25/03/2013",102,21,"Требуется менеджер по продажам. От 25000 руб. Тел. 200-25-46"]
["Требуется токарь, слесарь-ремонтник. Тел. 295-62-18, 295-71-51","21, 22, 23/03","21/03/2013 22/03/2013 23/03/2013",105,21,"Требуется токарь, слесарь-ремонтник. Тел. 295-62-18, 295-71-51"]
["Требуется электрогазосварщик. Тел. 287-02-47","21/03","21/03/2013",106,21,"Требуется электрогазосварщик. Тел. 287-02-47"]
["Требуются водители штабелера. Зарплата от 28000 руб. Официальное трудоустройство, питание, доставка. Тел. 216-28-48","21, 24, 25, 26, 27/03","21/03/2013 24/03/2013 25/03/2013 26/03/2013 27/03/2013",111,21,"Требуются водители штабелера. Зарплата от 28000 руб. Официальное трудоустройство, питание, доставка. Тел. 216-28-48"]
["Требуются менеджеры по туризму. Работа в офисе. Тел. 379-76-50, 379-76-50","21, 22, 23, 24/03","21/03/2013 22/03/2013 23/03/2013 24/03/2013",115,21,"Требуются менеджеры по туризму. Работа в офисе. Тел. 379-76-50, 379-76-50"]
["Требуются продавцы-консультанты, грузчики, фасовщицы. ЖБИ, Эльмаш, Центр, Сортировка. Тел. 290-16-48, 8-922-030-72-22","21, 24, 27, 30/03;02/04","21/03/2013 24/03/2013 27/03/2013 30/03/2013 02/04/2013",120,21,"Требуются продавцы-консультанты, грузчики, фасовщицы. ЖБИ, Эльмаш, Центр, Сортировка. Тел. 290-16-48, 8-922-030-72-22"]
["Требуются сотрудники в отдел продаж, оклад 30 000 руб + %. Тел. 200-21-78","21, 22, 25, 26, 29, 30/03;02, 03, 06, 07/04","21/03/2013 22/03/2013 25/03/2013 26/03/2013 29/03/2013 30/03/2013 02/04/2013 03/04/2013 06/04/2013 07/04/2013",130,21,"Требуются сотрудники в отдел продаж, оклад 30 000 руб + %. Тел. 200-21-78"]
[null,null,null,null,22,"В связи с расширением срочно требуются сотрудники в офис, от 35 000 руб. Тел. 201-06-13"]
[null,null,null,null,22,"Водители такси на новые Нексии. Выгодные условия. Тел. 207-10-65"]
[null,null,null,null,22,"На постоянную работу диспетчер-логист, 2/2. Тел. 219-22-27"]
[null,null,null,null,22,"Обучение на массажистов, косметологов-эстетистов, медсестер. Трудоустройство. Тел. 202-36-56"]
[null,null,null,null,22,"Работа на дому. Тел. 201-05-47"]
[null,null,null,null,22,"Срочно требуется команда консультантов в новый офис финансовой компании. От 20000 руб, гибкий график. Тел. 200-25-46"]
[null,null,null,null,22,"Требуется администратор зала, 28 000 руб. Тел. 200-93-67"]
[null,null,null,null,22,"Требуется администратор, от 25000 руб. Тел. 213-35-60"]
[null,null,null,null,22,"Требуется ведущий консультант. Работа с вип клиентами. Консультирование по продуктам компании, заключение договоров. От 50000 руб. Тел. 200-25-46"]
[null,null,null,null,22,"Требуется водитель погрузчика, машинист экскаватора, слесарь по ремонту погрузчиков. Тел. 295-62-18, 295-71-51"]
[null,null,null,null,22,"Требуется менеджер корпоративных продаж, от 35 000 руб. Тел. 200-21-78"]
[null,null,null,null,22,"Требуется менеджер по продажам. От 25000 руб. Тел. 200-25-46"]
[null,null,null,null,22,"Требуется токарь, слесарь-ремонтник. Тел. 295-62-18, 295-71-51"]
[null,null,null,null,22,"Требуются менеджеры по туризму. Работа в офисе. Тел. 379-76-50, 379-76-50"]
[null,null,null,null,22,"Требуются сотрудники в отдел продаж, оклад 30 000 руб + %. Тел. 200-21-78"]
[null,null,null,null,23,"Водители такси на новые Нексии. Выгодные условия. Тел. 207-10-65"]
[null,null,null,null,23,"На постоянную работу диспетчер-логист, 2/2. Тел. 219-22-27"]
[null,null,null,null,23,"Обучение на массажистов, косметологов-эстетистов, медсестер. Трудоустройство. Тел. 202-36-56"]
[null,null,null,null,23,"Срочно требуется команда консультантов в новый офис финансовой компании. От 20000 руб, гибкий график. Тел. 200-25-46"]
[null,null,null,null,23,"Требуется ведущий консультант. Работа с вип клиентами. Консультирование по продуктам компании, заключение договоров. От 50000 руб. Тел. 200-25-46"]
[null,null,null,null,23,"Требуется водитель погрузчика, машинист экскаватора, слесарь по ремонту погрузчиков. Тел. 295-62-18, 295-71-51"]
[null,null,null,null,23,"Требуется менеджер по продажам. От 25000 руб. Тел. 200-25-46"]
[null,null,null,null,23,"Требуется токарь, слесарь-ремонтник. Тел. 295-62-18, 295-71-51"]
[null,null,null,null,23,"Требуются менеджеры по туризму. Работа в офисе. Тел. 379-76-50, 379-76-50"]
[null,null,null,null,24,"Обучение на массажистов, косметологов-эстетистов, медсестер. Трудоустройство. Тел. 202-36-56"]
[null,null,null,null,24,"Подработка. Тел. 3-611-655"]
[null,null,null,null,24,"Приглашаем комплектовщиков, приемосдатчиков, грузчиков, упаковщицу, складского логиста. Официальное трудоустройство, питание, доставка. Тел. 216-28-48"]
[null,null,null,null,24,"Срочно требуется команда консультантов в новый офис финансовой компании. От 20000 руб, гибкий график. Тел. 200-25-46"]
[null,null,null,null,24,"Срочно! Требуются экспедиторы. Официальное трудоустройство. Тел. 216-28-49"]
[null,null,null,null,24,"Требуется ведущий консультант. Работа с вип клиентами. Консультирование по продуктам компании, заключение договоров. От 50000 руб. Тел. 200-25-46"]
[null,null,null,null,24,"Требуется менеджер по продажам. От 25000 руб. Тел. 200-25-46"]
[null,null,null,null,24,"Требуются водители штабелера. Зарплата от 28000 руб. Официальное трудоустройство, питание, доставка. Тел. 216-28-48"]
[null,null,null,null,24,"Требуются менеджеры по туризму. Работа в офисе. Тел. 379-76-50, 379-76-50"]
[null,null,null,null,24,"Требуются продавцы-консультанты, грузчики, фасовщицы. ЖБИ, Эльмаш, Центр, Сортировка. Тел. 290-16-48, 8-922-030-72-22"]
[null,null,null,null,25,"В связи с расширением срочно требуются сотрудники в офис, от 35 000 руб. Тел. 201-06-13"]
[null,null,null,null,25,"Обучение на массажистов, косметологов-эстетистов, медсестер. Трудоустройство. Тел. 202-36-56"]
[null,null,null,null,25,"Подработка. Тел. 3-611-655"]
[null,null,null,null,25,"Приглашаем комплектовщиков, приемосдатчиков, грузчиков, упаковщицу, складского логиста. Официальное трудоустройство, питание, доставка. Тел. 216-28-48"]
[null,null,null,null,25,"Работа на дому. Тел. 201-05-47"]
[null,null,null,null,25,"Срочно требуется команда консультантов в новый офис финансовой компании. От 20000 руб, гибкий график. Тел. 200-25-46"]
[null,null,null,null,25,"Срочно требуются: продавец в мясной отдел, повар в холодный цех, продавец в колбасный отдел, товаровед с опытом работы, юрист. Тел. 8-912-294-60-06, 8-922-14-33-457"]
[null,null,null,null,25,"Срочно! Требуются экспедиторы. Официальное трудоустройство. Тел. 216-28-49"]
[null,null,null,null,25,"Требуется администратор зала, 28 000 руб. Тел. 200-93-67"]
[null,null,null,null,25,"Требуется ведущий консультант. Работа с вип клиентами. Консультирование по продуктам компании, заключение договоров. От 50000 руб. Тел. 200-25-46"]
[null,null,null,null,25,"Требуется менеджер корпоративных продаж, от 35 000 руб. Тел. 200-21-78"]
[null,null,null,null,25,"Требуется менеджер по продажам. От 25000 руб. Тел. 200-25-46"]
[null,null,null,null,25,"Требуются водители штабелера. Зарплата от 28000 руб. Официальное трудоустройство, питание, доставка. Тел. 216-28-48"]
[null,null,null,null,25,"Требуются сотрудники в отдел продаж, оклад 30 000 руб + %. Тел. 200-21-78"]
[null,null,null,null,26,"В связи с расширением срочно требуются сотрудники в офис, от 35 000 руб. Тел. 201-06-13"]
[null,null,null,null,26,"Подработка. Тел. 3-611-655"]
[null,null,null,null,26,"Приглашаем комплектовщиков, приемосдатчиков, грузчиков, упаковщицу, складского логиста. Официальное трудоустройство, питание, доставка. Тел. 216-28-48"]
[null,null,null,null,26,"Работа на дому. Тел. 201-05-47"]
[null,null,null,null,26,"Срочно! Требуются экспедиторы. Официальное трудоустройство. Тел. 216-28-49"]
[null,null,null,null,26,"Требуется администратор зала, 28 000 руб. Тел. 200-93-67"]
[null,null,null,null,26,"Требуется администратор, от 25000 руб. Тел. 213-35-60"]
[null,null,null,null,26,"Требуется менеджер корпоративных продаж, от 35 000 руб. Тел. 200-21-78"]
[null,null,null,null,26,"Требуются водители штабелера. Зарплата от 28000 руб. Официальное трудоустройство, питание, доставка. Тел. 216-28-48"]
[null,null,null,null,26,"Требуются сотрудники в отдел продаж, оклад 30 000 руб + %. Тел. 200-21-78"]
[null,null,null,null,27,"Подработка. Тел. 3-611-655"]
[null,null,null,null,27,"Приглашаем комплектовщиков, приемосдатчиков, грузчиков, упаковщицу, складского логиста. Официальное трудоустройство, питание, доставка. Тел. 216-28-48"]
[null,null,null,null,27,"Срочно требуются: продавец в мясной отдел, повар в холодный цех, продавец в колбасный отдел, товаровед с опытом работы, юрист. Тел. 8-912-294-60-06, 8-922-14-33-457"]
[null,null,null,null,27,"Срочно! Требуются экспедиторы. Официальное трудоустройство. Тел. 216-28-49"]
[null,null,null,null,27,"Требуется администратор, от 25000 руб. Тел. 213-35-60"]
[null,null,null,null,27,"Требуются водители штабелера. Зарплата от 28000 руб. Официальное трудоустройство, питание, доставка. Тел. 216-28-48"]
[null,null,null,null,27,"Требуются продавцы-консультанты, грузчики, фасовщицы. ЖБИ, Эльмаш, Центр, Сортировка. Тел. 290-16-48, 8-922-030-72-22"]
[null,null,null,null,29,"В связи с расширением срочно требуются сотрудники в офис, от 35 000 руб. Тел. 201-06-13"]
[null,null,null,null,29,"Работа на дому. Тел. 201-05-47"]
[null,null,null,null,29,"Срочно требуются: продавец в мясной отдел, повар в холодный цех, продавец в колбасный отдел, товаровед с опытом работы, юрист. Тел. 8-912-294-60-06, 8-922-14-33-457"]
[null,null,null,null,29,"Требуется администратор зала, 28 000 руб. Тел. 200-93-67"]
[null,null,null,null,29,"Требуется администратор, от 25000 руб. Тел. 213-35-60"]
[null,null,null,null,29,"Требуется менеджер корпоративных продаж, от 35 000 руб. Тел. 200-21-78"]
[null,null,null,null,29,"Требуются сотрудники в отдел продаж, оклад 30 000 руб + %. Тел. 200-21-78"]
[null,null,null,null,30,"В связи с расширением срочно требуются сотрудники в офис, от 35 000 руб. Тел. 201-06-13"]
[null,null,null,null,30,"Работа на дому. Тел. 201-05-47"]
[null,null,null,null,30,"Требуется администратор зала, 28 000 руб. Тел. 200-93-67"]
[null,null,null,null,30,"Требуется администратор, от 25000 руб. Тел. 213-35-60"]
[null,null,null,null,30,"Требуется менеджер корпоративных продаж, от 35 000 руб. Тел. 200-21-78"]
[null,null,null,null,30,"Требуются продавцы-консультанты, грузчики, фасовщицы. ЖБИ, Эльмаш, Центр, Сортировка. Тел. 290-16-48, 8-922-030-72-22"]
[null,null,null,null,30,"Требуются сотрудники в отдел продаж, оклад 30 000 руб + %. Тел. 200-21-78"]
[null,null,null,null,31,"Срочно требуются: продавец в мясной отдел, повар в холодный цех, продавец в колбасный отдел, товаровед с опытом работы, юрист. Тел. 8-912-294-60-06, 8-922-14-33-457"]

{"sheet":"Расчётная","index":1,"n_rows":330,"n_cols":4,"rows_kept":330,"cut":false,"hidden":false,"merged":[]}
[1,"Текст","Дата выхода","Количество выходов объявления"]
[{"$f":"IFERROR(IF(ROW()=2,1,IF(INDEX(Лист1!$A$2:$I$32,$A1,4)=ROW()-2,IF(ROW()>=MAX(Лист1!D:D)+2,\"\",MAX(A$1:A1)+1),A1)),\"\")","v":1},{"$f":"IFERROR(INDEX(Лист1!$A$2:$G$32,$A2,1),\"\")","v":"В связи с расширением срочно требуются сотрудники в офис, от 35 000 руб. Тел. 201-06-13"},{"$f":"IFERROR(--MID(INDEX(Лист1!$A$2:$G$32,$A2,3),ROW()-1+10*(ROW()-2)-IF(A2=1,0,INDEX(Лист1!$A$2:$H$32,$A2-1,4)*11),10),\"\")","v":"2013-03-21"},{"$f":"IFERROR((LEN(INDEX(Лист1!$A$2:$G$32,$A2,3))+1)/11,\"\")","v":10}]
[{"$f":"IFERROR(IF(ROW()=2,1,IF(INDEX(Лист1!$A$2:$I$32,$A2,4)=ROW()-2,IF(ROW()>=MAX(Лист1!D:D)+2,\"\",MAX(A$1:A2)+1),A2)),\"\")","v":1},{"$f":"IFERROR(INDEX(Лист1!$A$2:$G$32,$A3,1),\"\")","v":"В связи с расширением срочно требуются сотрудники в офис, от 35 000 руб. Тел. 201-06-13"},{"$f":"IFERROR(--MID(INDEX(Лист1!$A$2:$G$32,$A3,3),ROW()-1+10*(ROW()-2)-IF(A3=1,0,INDEX(Лист1!$A$2:$H$32,$A3-1,4)*11),10),\"\")","v":"2013-03-22"},{"$f":"IFERROR((LEN(INDEX(Лист1!$A$2:$G$32,$A3,3))+1)/11,\"\")","v":10}]
[{"$f":"IFERROR(IF(ROW()=2,1,IF(INDEX(Лист1!$A$2:$I$32,$A3,4)=ROW()-2,IF(ROW()>=MAX(Лист1!D:D)+2,\"\",MAX(A$1:A3)+1),A3)),\"\")","v":1},{"$f":"IFERROR(INDEX(Лист1!$A$2:$G$32,$A4,1),\"\")","v":"В связи с расширением срочно требуются сотрудники в офис, от 35 000 руб. Тел. 201-06-13"},{"$f":"IFERROR(--MID(INDEX(Лист1!$A$2:$G$32,$A4,3),ROW()-1+10*(ROW()-2)-IF(A4=1,0,INDEX(Лист1!$A$2:$H$32,$A4-1,4)*11),10),\"\")","v":"2013-03-25"},{"$f":"IFERROR((LEN(INDEX(Лист1!$A$2:$G$32,$A4,3))+1)/11,\"\")","v":10}]
[{"$f":"IFERROR(IF(ROW()=2,1,IF(INDEX(Лист1!$A$2:$I$32,$A4,4)=ROW()-2,IF(ROW()>=MAX(Лист1!D:D)+2,\"\",MAX(A$1:A4)+1),A4)),\"\")","v":1},{"$f":"IFERROR(INDEX(Лист1!$A$2:$G$32,$A5,1),\"\")","v":"В связи с расширением срочно требуются сотрудники в офис, от 35 000 руб. Тел. 201-06-13"},{"$f":"IFERROR(--MID(INDEX(Лист1!$A$2:$G$32,$A5,3),ROW()-1+10*(ROW()-2)-IF(A5=1,0,INDEX(Лист1!$A$2:$H$32,$A5-1,4)*11),10),\"\")","v":"2013-03-26"},{"$f":"IFERROR((LEN(INDEX(Лист1!$A$2:$G$32,$A5,3))+1)/11,\"\")","v":10}]
[{"$f":"IFERROR(IF(ROW()=2,1,IF(INDEX(Лист1!$A$2:$I$32,$A5,4)=ROW()-2,IF(ROW()>=MAX(Лист1!D:D)+2,\"\",MAX(A$1:A5)+1),A5)),\"\")","v":1},{"$f":"IFERROR(INDEX(Лист1!$A$2:$G$32,$A6,1),\"\")","v":"В связи с расширением срочно требуются сотрудники в офис, от 35 000 руб. Тел. 201-06-13"},{"$f":"IFERROR(--MID(INDEX(Лист1!$A$2:$G$32,$A6,3),ROW()-1+10*(ROW()-2)-IF(A6=1,0,INDEX(Лист1!$A$2:$H$32,$A6-1,4)*11),10),\"\")","v":"2013-03-29"},{"$f":"IFERROR((LEN(INDEX(Лист1!$A$2:$G$32,$A6,3))+1)/11,\"\")","v":10}]
[{"$f":"IFERROR(IF(ROW()=2,1,IF(INDEX(Лист1!$A$2:$I$32,$A6,4)=ROW()-2,IF(ROW()>=MAX(Лист1!D:D)+2,\"\",MAX(A$1:A6)+1),A6)),\"\")","v":1},{"$f":"IFERROR(INDEX(Лист1!$A$2:$G$32,$A7,1),\"\")","v":"В связи с расширением срочно требуются сотрудники в офис, от 35 000 руб. Тел. 201-06-13"},{"$f":"IFERROR(--MID(INDEX(Лист1!$A$2:$G$32,$A7,3),ROW()-1+10*(ROW()-2)-IF(A7=1,0,INDEX(Лист1!$A$2:$H$32,$A7-1,4)*11),10),\"\")","v":"2013-03-30"},{"$f":"IFERROR((LEN(INDEX(Лист1!$A$2:$G$32,$A7,3))+1)/11,\"\")","v":10}]
[{"$f":"IFERROR(IF(ROW()=2,1,IF(INDEX(Лист1!$A$2:$I$32,$A7,4)=ROW()-2,IF(ROW()>=MAX(Лист1!D:D)+2,\"\",MAX(A$1:A7)+1),A7)),\"\")","v":1},{"$f":"IFERROR(INDEX(Лист1!$A$2:$G$32,$A8,1),\"\")","v":"В связи с расширением срочно требуются сотрудники в офис, от 35 000 руб. Тел. 201-06-13"},{"$f":"IFERROR(--MID(INDEX(Лист1!$A$2:$G$32,$A8,3),ROW()-1+10*(ROW()-2)-IF(A8=1,0,INDEX(Лист1!$A$2:$H$32,$A8-1,4)*11),10),\"\")","v":"2013-04-02"},{"$f":"IFERROR((LEN(INDEX(Лист1!$A$2:$G$32,$A8,3))+1)/11,\"\")","v":10}]
[{"$f":"IFERROR(IF(ROW()=2,1,IF(INDEX(Лист1!$A$2:$I$32,$A8,4)=ROW()-2,IF(ROW()>=MAX(Лист1!D:D)+2,\"\",MAX(A$1:A8)+1),A8)),\"\")","v":1},{"$f":"IFERROR(INDEX(Лист1!$A$2:$G$32,$A9,1),\"\")","v":"В связи с расширением срочно требуются сотрудники в офис, от 35 000 руб. Тел. 201-06-13"},{"$f":"IFERROR(--MID(INDEX(Лист1!$A$2:$G$32,$A9,3),ROW()-1+10*(ROW()-2)-IF(A9=1,0,INDEX(Лист1!$A$2:$H$32,$A9-1,4)*11),10),\"\")","v":"2013-04-03"},{"$f":"IFERROR((LEN(INDEX(Лист1!$A$2:$G$32,$A9,3))+1)/11,\"\")","v":10}]
[{"$f":"IFERROR(IF(ROW()=2,1,IF(INDEX(Лист1!$A$2:$I$32,$A9,4)=ROW()-2,IF(ROW()>=MAX(Лист1!D:D)+2,\"\",MAX(A$1:A9)+1),A9)),\"\")","v":1},{"$f":"IFERROR(INDEX(Лист1!$A$2:$G$32,$A10,1),\"\")","v":"В связи с расширением срочно требуются сотрудники в офис, от 35 000 руб. Тел. 201-06-13"},{"$f":"IFERROR(--MID(INDEX(Лист1!$A$2:$G$32,$A10,3),ROW()-1+10*(ROW()-2)-IF(A10=1,0,INDEX(Лист1!$A$2:$H$32,$A10-1,4)*11),10),\"\")","v":"2013-04-06"},{"$f":"IFERROR((LEN(INDEX(Лист1!$A$2:$G$32,$A10,3))+1)/11,\"\")","v":10}]
[{"$f":"IFERROR(IF(ROW()=2,1,IF(INDEX(Лист1!$A$2:$I$32,$A10,4)=ROW()-2,IF(ROW()>=MAX(Лист1!D:D)+2,\"\",MAX(A$1:A10)+1),A10)),\"\")","v":1},{"$f":"IFERROR(INDEX(Лист1!$A$2:$G$32,$A11,1),\"\")","v":"В связи с расширением срочно требуются сотрудники в офис, от 35 000 руб. Тел. 201-06-13"},{"$f":"IFERROR(--MID(INDEX(Лист1!$A$2:$G$32,$A11,3),ROW()-1+10*(ROW()-2)-IF(A11=1,0,INDEX(Лист1!$A$2:$H$32,$A11-1,4)*11),10),\"\")","v":"2013-04-07"},{"$f":"IFERROR((LEN(INDEX(Лист1!$A$2:$G$32,$A11,3))+1)/11,\"\")","v":10}]
[{"$f":"IFERROR(IF(ROW()=2,1,IF(INDEX(Лист1!$A$2:$I$32,$A11,4)=ROW()-2,IF(ROW()>=MAX(Лист1!D:D)+2,\"\",MAX(A$1:A11)+1),A11)),\"\")","v":2},{"$f":"IFERROR(INDEX(Лист1!$A$2:$G$32,$A12,1),\"\")","v":"Водители такси на новые Нексии. Выгодные условия. Тел. 207-10-65"},{"$f":"IFERROR(--MID(INDEX(Лист1!$A$2:$G$32,$A12,3),ROW()-1+10*(ROW()-2)-IF(A12=1,0,INDEX(Лист1!$A$2:$H$32,$A12-1,4)*11),10),\"\")","v":"2013-03-21"},{"$f":"IFERROR((LEN(INDEX(Лист1!$A$2:$G$32,$A12,3))+1)/11,\"\")","v":3}]
[{"$f":"IFERROR(IF(ROW()=2,1,IF(INDEX(Лист1!$A$2:$I$32,$A12,4)=ROW()-2,IF(ROW()>=MAX(Лист1!D:D)+2,\"\",MAX(A$1:A12)+1),A12)),\"\")","v":2},{"$f":"IFERROR(INDEX(Лист1!$A$2:$G$32,$A13,1),\"\")","v":"Водители такси на новые Нексии. Выгодные условия. Тел. 207-10-65"},{"$f":"IFERROR(--MID(INDEX(Лист1!$A$2:$G$32,$A13,3),ROW()-1+10*(ROW()-2)-IF(A13=1,0,INDEX(Лист1!$A$2:$H$32,$A13-1,4)*11),10),\"\")","v":"2013-03-22"},{"$f":"IFERROR((LEN(INDEX(Лист1!$A$2:$G$32,$A13,3))+1)/11,\"\")","v":3}]
[{"$f":"IFERROR(IF(ROW()=2,1,IF(INDEX(Лист1!$A$2:$I$32,$A13,4)=ROW()-2,IF(ROW()>=MAX(Лист1!D:D)+2,\"\",MAX(A$1:A13)+1),A13)),\"\")","v":2},{"$f":"IFERROR(INDEX(Лист1!$A$2:$G$32,$A14,1),\"\")","v":"Водители такси на новые Нексии. Выгодные условия. Тел. 207-10-65"},{"$f":"IFERROR(--MID(INDEX(Лист1!$A$2:$G$32,$A14,3),ROW()-1+10*(ROW()-2)-IF(A14=1,0,INDEX(Лист1!$A$2:$H$32,$A14-1,4)*11),10),\"\")","v":"2013-03-23"},{"$f":"IFERROR((LEN(INDEX(Лист1!$A$2:$G$32,$A14,3))+1)/11,\"\")","v":3}]
[{"$f":"IFERROR(IF(ROW()=2,1,IF(INDEX(Лист1!$A$2:$I$32,$A14,4)=ROW()-2,IF(ROW()>=MAX(Лист1!D:D)+2,\"\",MAX(A$1:A14)+1),A14)),\"\")","v":3},{"$f":"IFERROR(INDEX(Лист1!$A$2:$G$32,$A15,1),\"\")","v":"На постоянную работу диспетчер-логист, 2/2. Тел. 219-22-27"},{"$f":"IFERROR(--MID(INDEX(Лист1!$A$2:$G$32,$A15,3),ROW()-1+10*(ROW()-2)-IF(A15=1,0,INDEX(Лист1!$A$2:$H$32,$A15-1,4)*11),10),\"\")","v":"2013-03-21"},{"$f":"IFERROR((LEN(INDEX(Лист1!$A$2:$G$32,$A15,3))+1)/11,\"\")","v":3}]
[{"$f":"IFERROR(IF(ROW()=2,1,IF(INDEX(Лист1!$A$2:$I$32,$A15,4)=ROW()-2,IF(ROW()>=MAX(Лист1!D:D)+2,\"\",MAX(A$1:A15)+1),A15)),\"\")","v":3},{"$f":"IFERROR(INDEX(Лист1!$A$2:$G$32,$A16,1),\"\")","v":"На постоянную работу диспетчер-логист, 2/2. Тел. 219-22-27"},{"$f":"IFERROR(--MID(INDEX(Лист1!$A$2:$G$32,$A16,3),ROW()-1+10*(ROW()-2)-IF(A16=1,0,INDEX(Лист1!$A$2:$H$32,$A16-1,4)*11),10),\"\")","v":"2013-03-22"},{"$f":"IFERROR((LEN(INDEX(Лист1!$A$2:$G$32,$A16,3))+1)/11,\"\")","v":3}]
[{"$f":"IFERROR(IF(ROW()=2,1,IF(INDEX(Лист1!$A$2:$I$32,$A16,4)=ROW()-2,IF(ROW()>=MAX(Лист1!D:D)+2,\"\",MAX(A$1:A16)+1),A16)),\"\")","v":3},{"$f":"IFERROR(INDEX(Лист1!$A$2:$G$32,$A17,1),\"\")","v":"На постоянную работу диспетчер-логист, 2/2. Тел. 219-22-27"},{"$f":"IFERROR(--MID(INDEX(Лист1!$A$2:$G$32,$A17,3),ROW()-1+10*(ROW()-2)-IF(A17=1,0,INDEX(Лист1!$A$2:$H$32,$A17-1,4)*11),10),\"\")","v":"2013-03-23"},{"$f":"IFERROR((LEN(INDEX(Лист1!$A$2:$G$32,$A17,3))+1)/11,\"\")","v":3}]
[{"$f":"IFERROR(IF(ROW()=2,1,IF(INDEX(Лист1!$A$2:$I$32,$A17,4)=ROW()-2,IF(ROW()>=MAX(Лист1!D:D)+2,\"\",MAX(A$1:A17)+1),A17)),\"\")","v":4},{"$f":"IFERROR(INDEX(Лист1!$A$2:$G$32,$A18,1),\"\")","v":"Обучение на массажистов, косметологов-эстетистов, медсестер. Трудоустройство. Тел. 202-36-56"},{"$f":"IFERROR(--MID(INDEX(Лист1!$A$2:$G$32,$A18,3),ROW()-1+10*(ROW()-2)-IF(A18=1,0,INDEX(Лист1!$A$2:$H$32,$A18-1,4)*11),10),\"\")","v":"2013-03-21"},{"$f":"IFERROR((LEN(INDEX(Лист1!$A$2:$G$32,$A18,3))+1)/11,\"\")","v":5}]
[{"$f":"IFERROR(IF(ROW()=2,1,IF(INDEX(Лист1!$A$2:$I$32,$A18,4)=ROW()-2,IF(ROW()>=MAX(Лист1!D:D)+2,\"\",MAX(A$1:A18)+1),A18)),\"\")","v":4},{"$f":"IFERROR(INDEX(Лист1!$A$2:$G$32,$A19,1),\"\")","v":"Обучение на массажистов, косметологов-эстетистов, медсестер. Трудоустройство. Тел. 202-36-56"},{"$f":"IFERROR(--MID(INDEX(Лист1!$A$2:$G$32,$A19,3),ROW()-1+10*(ROW()-2)-IF(A19=1,0,INDEX(Лист1!$A$2:$H$32,$A19-1,4)*11),10),\"\")","v":"2013-03-22"},{"$f":"IFERROR((LEN(INDEX(Лист1!$A$2:$G$32,$A19,3))+1)/11,\"\")","v":5}]
[{"$f":"IFERROR(IF(ROW()=2,1,IF(INDEX(Лист1!$A$2:$I$32,$A19,4)=ROW()-2,IF(ROW()>=MAX(Лист1!D:D)+2,\"\",MAX(A$1:A19)+1),A19)),\"\")","v":4},{"$f":"IFERROR(INDEX(Лист1!$A$2:$G$32,$A20,1),\"\")","v":"Обучение на массажистов, косметологов-эстетистов, медсестер. Трудоустройство. Тел. 202-36-56"},{"$f":"IFERROR(--MID(INDEX(Лист1!$A$2:$G$32,$A20,3),ROW()-1+10*(ROW()-2)-IF(A20=1,0,INDEX(Лист1!$A$2:$H$32,$A20-1,4)*11),10),\"\")","v":"2013-03-23"},{"$f":"IFERROR((LEN(INDEX(Лист1!$A$2:$G$32,$A20,3))+1)/11,\"\")","v":5}]
[{"$f":"IFERROR(IF(ROW()=2,1,IF(INDEX(Лист1!$A$2:$I$32,$A20,4)=ROW()-2,IF(ROW()>=MAX(Лист1!D:D)+2,\"\",MAX(A$1:A20)+1),A20)),\"\")","v":4},{"$f":"IFERROR(INDEX(Лист1!$A$2:$G$32,$A21,1),\"\")","v":"Обучение на массажистов, косметологов-эстетистов, медсестер. Трудоустройство. Тел. 202-36-56"},{"$f":"IFERROR(--MID(INDEX(Лист1!$A$2:$G$32,$A21,3),ROW()-1+10*(ROW()-2)-IF(A21=1,0,INDEX(Лист1!$A$2:$H$32,$A21-1,4)*11),10),\"\")","v":"2013-03-24"},{"$f":"IFERROR((LEN(INDEX(Лист1!$A$2:$G$32,$A21,3))+1)/11,\"\")","v":5}]
[{"$f":"IFERROR(IF(ROW()=2,1,IF(INDEX(Лист1!$A$2:$I$32,$A21,4)=ROW()-2,IF(ROW()>=MAX(Лист1!D:D)+2,\"\",MAX(A$1:A21)+1),A21)),\"\")","v":4},{"$f":"IFERROR(INDEX(Лист1!$A$2:$G$32,$A22,1),\"\")","v":"Обучение на массажистов, косметологов-эстетистов, медсестер. Трудоустройство. Тел. 202-36-56"},{"$f":"IFERROR(--MID(INDEX(Лист1!$A$2:$G$32,$A22,3),ROW()-1+10*(ROW()-2)-IF(A22=1,0,INDEX(Лист1!$A$2:$H$32,$A22-1,4)*11),10),\"\")","v":"2013-03-25"},{"$f":"IFERROR((LEN(INDEX(Лист1!$A$2:$G$32,$A22,3))+1)/11,\"\")","v":5}]
[{"$f":"IFERROR(IF(ROW()=2,1,IF(INDEX(Лист1!$A$2:$I$32,$A22,4)=ROW()-2,IF(ROW()>=MAX(Лист1!D:D)+2,\"\",MAX(A$1:A22)+1),A22)),\"\")","v":5},{"$f":"IFERROR(INDEX(Лист1!$A$2:$G$32,$A23,1),\"\")","v":"Подработка. Тел. 3-611-655"},{"$f":"IFERROR(--MID(INDEX(Лист1!$A$2:$G$32,$A23,3),ROW()-1+10*(ROW()-2)-IF(A23=1,0,INDEX(Лист1!$A$2:$H$32,$A23-1,4)*11),10),\"\")","v":"2013-03-21"},{"$f":"IFERROR((LEN(INDEX(Лист1!$A$2:$G$32,$A23,3))+1)/11,\"\")","v":5}]
[{"$f":"IFERROR(IF(ROW()=2,1,IF(INDEX(Лист1!$A$2:$I$32,$A23,4)=ROW()-2,IF(ROW()>=MAX(Лист1!D:D)+2,\"\",MAX(A$1:A23)+1),A23)),\"\")","v":5},{"$f":"IFERROR(INDEX(Лист1!$A$2:$G$32,$A24,1),\"\")","v":"Подработка. Тел. 3-611-655"},{"$f":"IFERROR(--MID(INDEX(Лист1!$A$2:$G$32,$A24,3),ROW()-1+10*(ROW()-2)-IF(A24=1,0,INDEX(Лист1!$A$2:$H$32,$A24-1,4)*11),10),\"\")","v":"2013-03-24"},{"$f":"IFERROR((LEN(INDEX(Лист1!$A$2:$G$32,$A24,3))+1)/11,\"\")","v":5}]
[{"$f":"IFERROR(IF(ROW()=2,1,IF(INDEX(Лист1!$A$2:$I$32,$A24,4)=ROW()-2,IF(ROW()>=MAX(Лист1!D:D)+2,\"\",MAX(A$1:A24)+1),A24)),\"\")","v":5},{"$f":"IFERROR(INDEX(Лист1!$A$2:$G$32,$A25,1),\"\")","v":"Подработка. Тел. 3-611-655"},{"$f":"IFERROR(--MID(INDEX(Лист1!$A$2:$G$32,$A25,3),ROW()-1+10*(ROW()-2)-IF(A25=1,0,INDEX(Лист1!$A$2:$H$32,$A25-1,4)*11),10),\"\")","v":"2013-03-25"},{"$f":"IFERROR((LEN(INDEX(Лист1!$A$2:$G$32,$A25,3))+1)/11,\"\")","v":5}]
[{"$f":"IFERROR(IF(ROW()=2,1,IF(INDEX(Лист1!$A$2:$I$32,$A25,4)=ROW()-2,IF(ROW()>=MAX(Лист1!D:D)+2,\"\",MAX(A$1:A25)+1),A25)),\"\")","v":5},{"$f":"IFERROR(INDEX(Лист1!$A$2:$G$32,$A26,1),\"\")","v":"Подработка. Тел. 3-611-655"},{"$f":"IFERROR(--MID(INDEX(Лист1!$A$2:$G$32,$A26,3),ROW()-1+10*(ROW()-2)-IF(A26=1,0,INDEX(Лист1!$A$2:$H$32,$A26-1,4)*11),10),\"\")","v":"2013-03-26"},{"$f":"IFERROR((LEN(INDEX(Лист1!$A$2:$G$32,$A26,3))+1)/11,\"\")","v":5}]
[{"$f":"IFERROR(IF(ROW()=2,1,IF(INDEX(Лист1!$A$2:$I$32,$A26,4)=ROW()-2,IF(ROW()>=MAX(Лист1!D:D)+2,\"\",MAX(A$1:A26)+1),A26)),\"\")","v":5},{"$f":"IFERROR(INDEX(Лист1!$A$2:$G$32,$A27,1),\"\")","v":"Подработка. Тел. 3-611-655"},{"$f":"IFERROR(--MID(INDEX(Лист1!$A$2:$G$32,$A27,3),ROW()-1+10*(ROW()-2)-IF(A27=1,0,INDEX(Лист1!$A$2:$H$32,$A27-1,4)*11),10),\"\")","v":"2013-03-27"},{"$f":"IFERROR((LEN(INDEX(Лист1!$A$2:$G$32,$A27,3))+1)/11,\"\")","v":5}]
[{"$f":"IFERROR(IF(ROW()=2,1,IF(INDEX(Лист1!$A$2:$I$32,$A27,4)=ROW()-2,IF(ROW()>=MAX(Лист1!D:D)+2,\"\",MAX(A$1:A27)+1),A27)),\"\")","v":6},{"$f":"IFERROR(INDEX(Лист1!$A$2:$G$32,$A28,1),\"\")","v":"Приглашаем комплектовщиков, приемосдатчиков, грузчиков, упаковщицу, складского логиста. Официальное трудоустройство, питание, доставка. Тел. 216-28-48"},{"$f":"IFERROR(--MID(INDEX(Лист1!$A$2:$G$32,$A28,3),ROW()-1+10*(ROW()-2)-IF(A28=1,0,INDEX(Лист1!$A$2:$H$32,$A28-1,4)*11),10),\"\")","v":"2013-03-21"},{"$f":"IFERROR((LEN(INDEX(Лист1!$A$2:$G$32,$A28,3))+1)/11,\"\")","v":5}]
[{"$f":"IFERROR(IF(ROW()=2,1,IF(INDEX(Лист1!$A$2:$I$32,$A28,4)=ROW()-2,IF(ROW()>=MAX(Лист1!D:D)+2,\"\",MAX(A$1:A28)+1),A28)),\"\")","v":6},{"$f":"IFERROR(INDEX(Лист1!$A$2:$G$32,$A29,1),\"\")","v":"Приглашаем комплектовщиков, приемосдатчиков, грузчиков, упаковщицу, складского логиста. Официальное трудоустройство, питание, доставка. Тел. 216-28-48"},{"$f":"IFERROR(--MID(INDEX(Лист1!$A$2:$G$32,$A29,3),ROW()-1+10*(ROW()-2)-IF(A29=1,0,INDEX(Лист1!$A$2:$H$32,$A29-1,4)*11),10),\"\")","v":"2013-03-24"},{"$f":"IFERROR((LEN(INDEX(Лист1!$A$2:$G$32,$A29,3))+1)/11,\"\")","v":5}]
[{"$f":"IFERROR(IF(ROW()=2,1,IF(INDEX(Лист1!$A$2:$I$32,$A29,4)=ROW()-2,IF(ROW()>=MAX(Лист1!D:D)+2,\"\",MAX(A$1:A29)+1),A29)),\"\")","v":6},{"$f":"IFERROR(INDEX(Лист1!$A$2:$G$32,$A30,1),\"\")","v":"Приглашаем комплектовщиков, приемосдатчиков, грузчиков, упаковщицу, складского логиста. Официальное трудоустройство, питание, доставка. Тел. 216-28-48"},{"$f":"IFERROR(--MID(INDEX(Лист1!$A$2:$G$32,$A30,3),ROW()-1+10*(ROW()-2)-IF(A30=1,0,INDEX(Лист1!$A$2:$H$32,$A30-1,4)*11),10),\"\")","v":"2013-03-25"},{"$f":"IFERROR((LEN(INDEX(Лист1!$A$2:$G$32,$A30,3))+1)/11,\"\")","v":5}]
[{"$f":"IFERROR(IF(ROW()=2,1,IF(INDEX(Лист1!$A$2:$I$32,$A30,4)=ROW()-2,IF(ROW()>=MAX(Лист1!D:D)+2,\"\",MAX(A$1:A30)+1),A30)),\"\")","v":6},{"$f":"IFERROR(INDEX(Лист1!$A$2:$G$32,$A31,1),\"\")","v":"Приглашаем комплектовщиков, приемосдатчиков, грузчиков, упаковщицу, складского логиста. Официальное трудоустройство, питание, доставка. Тел. 216-28-48"},{"$f":"IFERROR(--MID(INDEX(Лист1!$A$2:$G$32,$A31,3),ROW()-1+10*(ROW()-2)-IF(A31=1,0,INDEX(Лист1!$A$2:$H$32,$A31-1,4)*11),10),\"\")","v":"2013-03-26"},{"$f":"IFERROR((LEN(INDEX(Лист1!$A$2:$G$32,$A31,3))+1)/11,\"\")","v":5}]
[{"$f":"IFERROR(IF(ROW()=2,1,IF(INDEX(Лист1!$A$2:$I$32,$A31,4)=ROW()-2,IF(ROW()>=MAX(Лист1!D:D)+2,\"\",MAX(A$1:A31)+1),A31)),\"\")","v":6},{"$f":"IFERROR(INDEX(Лист1!$A$2:$G$32,$A32,1),\"\")","v":"Приглашаем комплектовщиков, приемосдатчиков, грузчиков, упаковщицу, складского логиста. Официальное трудоустройство, питание, доставка. Тел. 216-28-48"},{"$f":"IFERROR(--MID(INDEX(Лист1!$A$2:$G$32,$A32,3),ROW()-1+10*(ROW()-2)-IF(A32=1,0,INDEX(Лист1!$A$2:$H$32,$A32-1,4)*11),10),\"\")","v":"2013-03-27"},{"$f":"IFERROR((LEN(INDEX(Лист1!$A$2:$G$32,$A32,3))+1)/11,\"\")","v":5}]
[{"$f":"IFERROR(IF(ROW()=2,1,IF(INDEX(Лист1!$A$2:$I$32,$A32,4)=ROW()-2,IF(ROW()>=MAX(Лист1!D:D)+2,\"\",MAX(A$1:A32)+1),A32)),\"\")","v":7},{"$f":"IFERROR(INDEX(Лист1!$A$2:$G$32,$A33,1),\"\")","v":"Работа на дому. Тел. 201-05-47"},{"$f":"IFERROR(--MID(INDEX(Лист1!$A$2:$G$32,$A33,3),ROW()-1+10*(ROW()-2)-IF(A33=1,0,INDEX(Лист1!$A$2:$H$32,$A33-1,4)*11),10),\"\")","v":"2013-03-21"},{"$f":"IFERROR((LEN(INDEX(Лист1!$A$2:$G$32,$A33,3))+1)/11,\"\")","v":10}]
[{"$f":"IFERROR(IF(ROW()=2,1,IF(INDEX(Лист1!$A$2:$I$32,$A33,4)=ROW()-2,IF(ROW()>=MAX(Лист1!D:D)+2,\"\",MAX(A$1:A33)+1),A33)),\"\")","v":7},{"$f":"IFERROR(INDEX(Лист1!$A$2:$G$32,$A34,1),\"\")","v":"Работа на дому. Тел. 201-05-47"},{"$f":"IFERROR(--MID(INDEX(Лист1!$A$2:$G$32,$A34,3),ROW()-1+10*(ROW()-2)-IF(A34=1,0,INDEX(Лист1!$A$2:$H$32,$A34-1,4)*11),10),\"\")","v":"2013-03-22"},{"$f":"IFERROR((LEN(INDEX(Лист1!$A$2:$G$32,$A34,3))+1)/11,\"\")","v":10}]
[{"$f":"IFERROR(IF(ROW()=2,1,IF(INDEX(Лист1!$A$2:$I$32,$A34,4)=ROW()-2,IF(ROW()>=MAX(Лист1!D:D)+2,\"\",MAX(A$1:A34)+1),A34)),\"\")","v":7},{"$f":"IFERROR(INDEX(Лист1!$A$2:$G$32,$A35,1),\"\")","v":"Работа на дому. Тел. 201-05-47"},{"$f":"IFERROR(--MID(INDEX(Лист1!$A$2:$G$32,$A35,3),ROW()-1+10*(ROW()-2)-IF(A35=1,0,INDEX(Лист1!$A$2:$H$32,$A35-1,4)*11),10),\"\")","v":"2013-03-25"},{"$f":"IFERROR((LEN(INDEX(Лист1!$A$2:$G$32,$A35,3))+1)/11,\"\")","v":10}]
[{"$f":"IFERROR(IF(ROW()=2,1,IF(INDEX(Лист1!$A$2:$I$32,$A35,4)=ROW()-2,IF(ROW()>=MAX(Лист1!D:D)+2,\"\",MAX(A$1:A35)+1),A35)),\"\")","v":7},{"$f":"IFERROR(INDEX(Лист1!$A$2:$G$32,$A36,1),\"\")","v":"Работа на дому. Тел. 201-05-47"},{"$f":"IFERROR(--MID(INDEX(Лист1!$A$2:$G$32,$A36,3),ROW()-1+10*(ROW()-2)-IF(A36=1,0,INDEX(Лист1!$A$2:$H$32,$A36-1,4)*11),10),\"\")","v":"2013-03-26"},{"$f":"IFERROR((LEN(INDEX(Лист1!$A$2:$G$32,$A36,3))+1)/11,\"\")","v":10}]
[{"$f":"IFERROR(IF(ROW()=2,1,IF(INDEX(Лист1!$A$2:$I$32,$A36,4)=ROW()-2,IF(ROW()>=MAX(Лист1!D:D)+2,\"\",MAX(A$1:A36)+1),A36)),\"\")","v":7},{"$f":"IFERROR(INDEX(Лист1!$A$2:$G$32,$A37,1),\"\")","v":"Работа на дому. Тел. 201-05-47"},{"$f":"IFERROR(--MID(INDEX(Лист1!$A$2:$G$32,$A37,3),ROW()-1+10*(ROW()-2)-IF(A37=1,0,INDEX(Лист1!$A$2:$H$32,$A37-1,4)*11),10),\"\")","v":"2013-03-29"},{"$f":"IFERROR((LEN(INDEX(Лист1!$A$2:$G$32,$A37,3))+1)/11,\"\")","v":10}]
[{"$f":"IFERROR(IF(ROW()=2,1,IF(INDEX(Лист1!$A$2:$I$32,$A37,4)=ROW()-2,IF(ROW()>=MAX(Лист1!D:D)+2,\"\",MAX(A$1:A37)+1),A37)),\"\")","v":7},{"$f":"IFERROR(INDEX(Лист1!$A$2:$G$32,$A38,1),\"\")","v":"Работа на дому. Тел. 201-05-47"},{"$f":"IFERROR(--MID(INDEX(Лист1!$A$2:$G$32,$A38,3),ROW()-1+10*(ROW()-2)-IF(A38=1,0,INDEX(Лист1!$A$2:$H$32,$A38-1,4)*11),10),\"\")","v":"2013-03-30"},{"$f":"IFERROR((LEN(INDEX(Лист1!$A$2:$G$32,$A38,3))+1)/11,\"\")","v":10}]
[{"$f":"IFERROR(IF(ROW()=2,1,IF(INDEX(Лист1!$A$2:$I$32,$A38,4)=ROW()-2,IF(ROW()>=MAX(Лист1!D:D)+2,\"\",MAX(A$1:A38)+1),A38)),\"\")","v":7},{"$f":"IFERROR(INDEX(Лист1!$A$2:$G$32,$A39,1),\"\")","v":"Работа на дому. Тел. 201-05-47"},{"$f":"IFERROR(--MID(INDEX(Лист1!$A$2:$G$32,$A39,3),ROW()-1+10*(ROW()-2)-IF(A39=1,0,INDEX(Лист1!$A$2:$H$32,$A39-1,4)*11),10),\"\")","v":"2013-04-02"},{"$f":"IFERROR((LEN(INDEX(Лист1!$A$2:$G$32,$A39,3))+1)/11,\"\")","v":10}]
[{"$f":"IFERROR(IF(ROW()=2,1,IF(INDEX(Лист1!$A$2:$I$32,$A39,4)=ROW()-2,IF(ROW()>=MAX(Лист1!D:D)+2,\"\",MAX(A$1:A39)+1),A39)),\"\")","v":7},{"$f":"IFERROR(INDEX(Лист1!$A$2:$G$32,$A40,1),\"\")","v":"Работа на дому. Тел. 201-05-47"},{"$f":"IFERROR(--MID(INDEX(Лист1!$A$2:$G$32,$A40,3),ROW()-1+10*(ROW()-2)-IF(A40=1,0,INDEX(Лист1!$A$2:$H$32,$A40-1,4)*11),10),\"\")","v":"2013-04-03"},{"$f":"IFERROR((LEN(INDEX(Лист1!$A$2:$G$32,$A40,3))+1)/11,\"\")","v":10}]
[{"$f":"IFERROR(IF(ROW()=2,1,IF(INDEX(Лист1!$A$2:$I$32,$A40,4)=ROW()-2,IF(ROW()>=MAX(Лист1!D:D)+2,\"\",MAX(A$1:A40)+1),A40)),\"\")","v":7},{"$f":"IFERROR(INDEX(Лист1!$A$2:$G$32,$A41,1),\"\")","v":"Работа на дому. Тел. 201-05-47"},{"$f":"IFERROR(--MID(INDEX(Лист1!$A$2:$G$32,$A41,3),ROW()-1+10*(ROW()-2)-IF(A41=1,0,INDEX(Лист1!$A$2:$H$32,$A41-1,4)*11),10),\"\")","v":"2013-04-06"},{"$f":"IFERROR((LEN(INDEX(Лист1!$A$2:$G$32,$A41,3))+1)/11,\"\")","v":10}]
[{"$f":"IFERROR(IF(ROW()=2,1,IF(INDEX(Лист1!$A$2:$I$32,$A41,4)=ROW()-2,IF(ROW()>=MAX(Лист1!D:D)+2,\"\",MAX(A$1:A41)+1),A41)),\"\")","v":7},{"$f":"IFERROR(INDEX(Лист1!$A$2:$G$32,$A42,1),\"\")","v":"Работа на дому. Тел. 201-05-47"},{"$f":"IFERROR(--MID(INDEX(Лист1!$A$2:$G$32,$A42,3),ROW()-1+10*(ROW()-2)-IF(A42=1,0,INDEX(Лист1!$A$2:$H$32,$A42-1,4)*11),10),\"\")","v":"2013-04-07"},{"$f":"IFERROR((LEN(INDEX(Лист1!$A$2:$G$32,$A42,3))+1)/11,\"\")","v":10}]
[{"$f":"IFERROR(IF(ROW()=2,1,IF(INDEX(Лист1!$A$2:$I$32,$A42,4)=ROW()-2,IF(ROW()>=MAX(Лист1!D:D)+2,\"\",MAX(A$1:A42)+1),A42)),\"\")","v":8},{"$f":"IFERROR(INDEX(Лист1!$A$2:$G$32,$A43,1),\"\")","v":"Срочно требуется команда консультантов в новый офис финансовой компании. От 20000 руб, гибкий график. Тел. 200-25-46"},{"$f":"IFERROR(--MID(INDEX(Лист1!$A$2:$G$32,$A43,3),ROW()-1+10*(ROW()-2)-IF(A43=1,0,INDEX(Лист1!$A$2:$H$32,$A43-1,4)*11),10),\"\")","v":"2013-03-21"},{"$f":"IFERROR((LEN(INDEX(Лист1!$A$2:$G$32,$A43,3))+1)/11,\"\")","v":5}]
[{"$f":"IFERROR(IF(ROW()=2,1,IF(INDEX(Лист1!$A$2:$I$32,$A43,4)=ROW()-2,IF(ROW()>=MAX(Лист1!D:D)+2,\"\",MAX(A$1:A43)+1),A43)),\"\")","v":8},{"$f":"IFERROR(INDEX(Лист1!$A$2:$G$32,$A44,1),\"\")","v":"Срочно требуется команда консультантов в новый офис финансовой компании. От 20000 руб, гибкий график. Тел. 200-25-46"},{"$f":"IFERROR(--MID(INDEX(Лист1!$A$2:$G$32,$A44,3),ROW()-1+10*(ROW()-2)-IF(A44=1,0,INDEX(Лист1!$A$2:$H$32,$A44-1,4)*11),10),\"\")","v":"2013-03-22"},{"$f":"IFERROR((LEN(INDEX(Лист1!$A$2:$G$32,$A44,3))+1)/11,\"\")","v":5}]
[{"$f":"IFERROR(IF(ROW()=2,1,IF(INDEX(Лист1!$A$2:$I$32,$A44,4)=ROW()-2,IF(ROW()>=MAX(Лист1!D:D)+2,\"\",MAX(A$1:A44)+1),A44)),\"\")","v":8},{"$f":"IFERROR(INDEX(Лист1!$A$2:$G$32,$A45,1),\"\")","v":"Срочно требуется команда консультантов в новый офис финансовой компании. От 20000 руб, гибкий график. Тел. 200-25-46"},{"$f":"IFERROR(--MID(INDEX(Лист1!$A$2:$G$32,$A45,3),ROW()-1+10*(ROW()-2)-IF(A45=1,0,INDEX(Лист1!$A$2:$H$32,$A45-1,4)*11),10),\"\")","v":"2013-03-23"},{"$f":"IFERROR((LEN(INDEX(Лист1!$A$2:$G$32,$A45,3))+1)/11,\"\")","v":5}]
[{"$f":"IFERROR(IF(ROW()=2,1,IF(INDEX(Лист1!$A$2:$I$32,$A45,4)=ROW()-2,IF(ROW()>=MAX(Лист1!D:D)+2,\"\",MAX(A$1:A45)+1),A45)),\"\")","v":8},{"$f":"IFERROR(INDEX(Лист1!$A$2:$G$32,$A46,1),\"\")","v":"Срочно требуется команда консультантов в новый офис финансовой компании. От 20000 руб, гибкий график. Тел. 200-25-46"},{"$f":"IFERROR(--MID(INDEX(Лист1!$A$2:$G$32,$A46,3),ROW()-1+10*(ROW()-2)-IF(A46=1,0,INDEX(Лист1!$A$2:$H$32,$A46-1,4)*11),10),\"\")","v":"2013-03-24"},{"$f":"IFERROR((LEN(INDEX(Лист1!$A$2:$G$32,$A46,3))+1)/11,\"\")","v":5}]
[{"$f":"IFERROR(IF(ROW()=2,1,IF(INDEX(Лист1!$A$2:$I$32,$A46,4)=ROW()-2,IF(ROW()>=MAX(Лист1!D:D)+2,\"\",MAX(A$1:A46)+1),A46)),\"\")","v":8},{"$f":"IFERROR(INDEX(Лист1!$A$2:$G$32,$A47,1),\"\")","v":"Срочно требуется команда консультантов в новый офис финансовой компании. От 20000 руб, гибкий график. Тел. 200-25-46"},{"$f":"IFERROR(--MID(INDEX(Лист1!$A$2:$G$32,$A47,3),ROW()-1+10*(ROW()-2)-IF(A47=1,0,INDEX(Лист1!$A$2:$H$32,$A47-1,4)*11),10),\"\")","v":"2013-03-25"},{"$f":"IFERROR((LEN(INDEX(Лист1!$A$2:$G$32,$A47,3))+1)/11,\"\")","v":5}]
[{"$f":"IFERROR(IF(ROW()=2,1,IF(INDEX(Лист1!$A$2:$I$32,$A47,4)=ROW()-2,IF(ROW()>=MAX(Лист1!D:D)+2,\"\",MAX(A$1:A47)+1),A47)),\"\")","v":9},{"$f":"IFERROR(INDEX(Лист1!$A$2:$G$32,$A48,1),\"\")","v":"Срочно требуются: продавец в мясной отдел, повар в холодный цех, продавец в колбасный отдел, товаровед с опытом работы, юрист. Тел. 8-912-294-60-06, 8-922-14-33-457"},{"$f":"IFERROR(--MID(INDEX(Лист1!$A$2:$G$32,$A48,3),ROW()-1+10*(ROW()-2)-IF(A48=1,0,INDEX(Лист1!$A$2:$H$32,$A48-1,4)*11),10),\"\")","v":"2013-03-21"},{"$f":"IFERROR((LEN(INDEX(Лист1!$A$2:$G$32,$A48,3))+1)/11,\"\")","v":7}]
[{"$f":"IFERROR(IF(ROW()=2,1,IF(INDEX(Лист1!$A$2:$I$32,$A48,4)=ROW()-2,IF(ROW()>=MAX(Лист1!D:D)+2,\"\",MAX(A$1:A48)+1),A48)),\"\")","v":9},{"$f":"IFERROR(INDEX(Лист1!$A$2:$G$32,$A49,1),\"\")","v":"Срочно требуются: продавец в мясной отдел, повар в холодный цех, продавец в колбасный отдел, товаровед с опытом работы, юрист. Тел. 8-912-294-60-06, 8-922-14-33-457"},{"$f":"IFERROR(--MID(INDEX(Лист1!$A$2:$G$32,$A49,3),ROW()-1+10*(ROW()-2)-IF(A49=1,0,INDEX(Лист1!$A$2:$H$32,$A49-1,4)*11),10),\"\")","v":"2013-03-25"},{"$f":"IFERROR((LEN(INDEX(Лист1!$A$2:$G$32,$A49,3))+1)/11,\"\")","v":7}]
[{"$f":"IFERROR(IF(ROW()=2,1,IF(INDEX(Лист1!$A$2:$I$32,$A49,4)=ROW()-2,IF(ROW()>=MAX(Лист1!D:D)+2,\"\",MAX(A$1:A49)+1),A49)),\"\")","v":9},{"$f":"IFERROR(INDEX(Лист1!$A$2:$G$32,$A50,1),\"\")","v":"Срочно требуются: продавец в мясной отдел, повар в холодный цех, продавец в колбасный отдел, товаровед с опытом работы, юрист. Тел. 8-912-294-60-06, 8-922-14-33-457"},{"$f":"IFERROR(--MID(INDEX(Лист1!$A$2:$G$32,$A50,3),ROW()-1+10*(ROW()-2)-IF(A50=1,0,INDEX(Лист1!$A$2:$H$32,$A50-1,4)*11),10),\"\")","v":"2013-03-27"},{"$f":"IFERROR((LEN(INDEX(Лист1!$A$2:$G$32,$A50,3))+1)/11,\"\")","v":7}]
[{"$f":"IFERROR(IF(ROW()=2,1,IF(INDEX(Лист1!$A$2:$I$32,$A50,4)=ROW()-2,IF(ROW()>=MAX(Лист1!D:D)+2,\"\",MAX(A$1:A50)+1),A50)),\"\")","v":9},{"$f":"IFERROR(INDEX(Лист1!$A$2:$G$32,$A51,1),\"\")","v":"Срочно требуются: продавец в мясной отдел, повар в холодный цех, продавец в колбасный отдел, товаровед с опытом работы, юрист. Тел. 8-912-294-60-06, 8-922-14-33-457"},{"$f":"IFERROR(--MID(INDEX(Лист1!$A$2:$G$32,$A51,3),ROW()-1+10*(ROW()-2)-IF(A51=1,0,INDEX(Лист1!$A$2:$H$32,$A51-1,4)*11),10),\"\")","v":"2013-03-29"},{"$f":"IFERROR((LEN(INDEX(Лист1!$A$2:$G$32,$A51,3))+1)/11,\"\")","v":7}]
[{"$f":"IFERROR(IF(ROW()=2,1,IF(INDEX(Лист1!$A$2:$I$32,$A51,4)=ROW()-2,IF(ROW()>=MAX(Лист1!D:D)+2,\"\",MAX(A$1:A51)+1),A51)),\"\")","v":9},{"$f":"IFERROR(INDEX(Лист1!$A$2:$G$32,$A52,1),\"\")","v":"Срочно требуются: продавец в мясной отдел, повар в холодный цех, продавец в колбасный отдел, товаровед с опытом работы, юрист. Тел. 8-912-294-60-06, 8-922-14-33-457"},{"$f":"IFERROR(--MID(INDEX(Лист1!$A$2:$G$32,$A52,3),ROW()-1+10*(ROW()-2)-IF(A52=1,0,INDEX(Лист1!$A$2:$H$32,$A52-1,4)*11),10),\"\")","v":"2013-03-31"},{"$f":"IFERROR((LEN(INDEX(Лист1!$A$2:$G$32,$A52,3))+1)/11,\"\")","v":7}]
[{"$f":"IFERROR(IF(ROW()=2,1,IF(INDEX(Лист1!$A$2:$I$32,$A52,4)=ROW()-2,IF(ROW()>=MAX(Лист1!D:D)+2,\"\",MAX(A$1:A52)+1),A52)),\"\")","v":9},{"$f":"IFERROR(INDEX(Лист1!$A$2:$G$32,$A53,1),\"\")","v":"Срочно требуются: продавец в мясной отдел, повар в холодный цех, продавец в колбасный отдел, товаровед с опытом работы, юрист. Тел. 8-912-294-60-06, 8-922-14-33-457"},{"$f":"IFERROR(--MID(INDEX(Лист1!$A$2:$G$32,$A53,3),ROW()-1+10*(ROW()-2)-IF(A53=1,0,INDEX(Лист1!$A$2:$H$32,$A53-1,4)*11),10),\"\")","v":"2013-04-02"},{"$f":"IFERROR((LEN(INDEX(Лист1!$A$2:$G$32,$A53,3))+1)/11,\"\")","v":7}]
[{"$f":"IFERROR(IF(ROW()=2,1,IF(INDEX(Лист1!$A$2:$I$32,$A53,4)=ROW()-2,IF(ROW()>=MAX(Лист1!D:D)+2,\"\",MAX(A$1:A53)+1),A53)),\"\")","v":9},{"$f":"IFERROR(INDEX(Лист1!$A$2:$G$32,$A54,1),\"\")","v":"Срочно требуются: продавец в мясной отдел, повар в холодный цех, продавец в колбасный отдел, товаровед с опытом работы, юрист. Тел. 8-912-294-60-06, 8-922-14-33-457"},{"$f":"IFERROR(--MID(INDEX(Лист1!$A$2:$G$32,$A54,3),ROW()-1+10*(ROW()-2)-IF(A54=1,0,INDEX(Лист1!$A$2:$H$32,$A54-1,4)*11),10),\"\")","v":"2013-04-04"},{"$f":"IFERROR((LEN(INDEX(Лист1!$A$2:$G$32,$A54,3))+1)/11,\"\")","v":7}]
[{"$f":"IFERROR(IF(ROW()=2,1,IF(INDEX(Лист1!$A$2:$I$32,$A54,4)=ROW()-2,IF(ROW()>=MAX(Лист1!D:D)+2,\"\",MAX(A$1:A54)+1),A54)),\"\")","v":10},{"$f":"IFERROR(INDEX(Лист1!$A$2:$G$32,$A55,1),\"\")","v":"Срочно! Требуются экспедиторы. Официальное трудоустройство. Тел. 216-28-49"},{"$f":"IFERROR(--MID(INDEX(Лист1!$A$2:$G$32,$A55,3),ROW()-1+10*(ROW()-2)-IF(A55=1,0,INDEX(Лист1!$A$2:$H$32,$A55-1,4)*11),10),\"\")","v":"2013-03-21"},{"$f":"IFERROR((LEN(INDEX(Лист1!$A$2:$G$32,$A55,3))+1)/11,\"\")","v":5}]
[{"$f":"IFERROR(IF(ROW()=2,1,IF(INDEX(Лист1!$A$2:$I$32,$A55,4)=ROW()-2,IF(ROW()>=MAX(Лист1!D:D)+2,\"\",MAX(A$1:A55)+1),A55)),\"\")","v":10},{"$f":"IFERROR(INDEX(Лист1!$A$2:$G$32,$A56,1),\"\")","v":"Срочно! Требуются экспедиторы. Официальное трудоустройство. Тел. 216-28-49"},{"$f":"IFERROR(--MID(INDEX(Лист1!$A$2:$G$32,$A56,3),ROW()-1+10*(ROW()-2)-IF(A56=1,0,INDEX(Лист1!$A$2:$H$32,$A56-1,4)*11),10),\"\")","v":"2013-03-24"},{"$f":"IFERROR((LEN(INDEX(Лист1!$A$2:$G$32,$A56,3))+1)/11,\"\")","v":5}]
[{"$f":"IFERROR(IF(ROW()=2,1,IF(INDEX(Лист1!$A$2:$I$32,$A56,4)=ROW()-2,IF(ROW()>=MAX(Лист1!D:D)+2,\"\",MAX(A$1:A56)+1),A56)),\"\")","v":10},{"$f":"IFERROR(INDEX(Лист1!$A$2:$G$32,$A57,1),\"\")","v":"Срочно! Требуются экспедиторы. Официальное трудоустройство. Тел. 216-28-49"},{"$f":"IFERROR(--MID(INDEX(Лист1!$A$2:$G$32,$A57,3),ROW()-1+10*(ROW()-2)-IF(A57=1,0,INDEX(Лист1!$A$2:$H$32,$A57-1,4)*11),10),\"\")","v":"2013-03-25"},{"$f":"IFERROR((LEN(INDEX(Лист1!$A$2:$G$32,$A57,3))+1)/11,\"\")","v":5}]
[{"$f":"IFERROR(IF(ROW()=2,1,IF(INDEX(Лист1!$A$2:$I$32,$A57,4)=ROW()-2,IF(ROW()>=MAX(Лист1!D:D)+2,\"\",MAX(A$1:A57)+1),A57)),\"\")","v":10},{"$f":"IFERROR(INDEX(Лист1!$A$2:$G$32,$A58,1),\"\")","v":"Срочно! Требуются экспедиторы. Официальное трудоустройство. Тел. 216-28-49"},{"$f":"IFERROR(--MID(INDEX(Лист1!$A$2:$G$32,$A58,3),ROW()-1+10*(ROW()-2)-IF(A58=1,0,INDEX(Лист1!$A$2:$H$32,$A58-1,4)*11),10),\"\")","v":"2013-03-26"},{"$f":"IFERROR((LEN(INDEX(Лист1!$A$2:$G$32,$A58,3))+1)/11,\"\")","v":5}]
[{"$f":"IFERROR(IF(ROW()=2,1,IF(INDEX(Лист1!$A$2:$I$32,$A58,4)=ROW()-2,IF(ROW()>=MAX(Лист1!D:D)+2,\"\",MAX(A$1:A58)+1),A58)),\"\")","v":10},{"$f":"IFERROR(INDEX(Лист1!$A$2:$G$32,$A59,1),\"\")","v":"Срочно! Требуются экспедиторы. Официальное трудоустройство. Тел. 216-28-49"},{"$f":"IFERROR(--MID(INDEX(Лист1!$A$2:$G$32,$A59,3),ROW()-1+10*(ROW()-2)-IF(A59=1,0,INDEX(Лист1!$A$2:$H$32,$A59-1,4)*11),10),\"\")","v":"2013-03-27"},{"$f":"IFERROR((LEN(INDEX(Лист1!$A$2:$G$32,$A59,3))+1)/11,\"\")","v":5}]
[{"$f":"IFERROR(IF(ROW()=2,1,IF(INDEX(Лист1!$A$2:$I$32,$A59,4)=ROW()-2,IF(ROW()>=MAX(Лист1!D:D)+2,\"\",MAX(A$1:A59)+1),A59)),\"\")","v":11},{"$f":"IFERROR(INDEX(Лист1!$A$2:$G$32,$A60,1),\"\")","v":"Требуется администратор зала, 28 000 руб. Тел. 200-93-67"},{"$f":"IFERROR(--MID(INDEX(Лист1!$A$2:$G$32,$A60,3),ROW()-1+10*(ROW()-2)-IF(A60=1,0,INDEX(Лист1!$A$2:$H$32,$A60-1,4)*11),10),\"\")","v":"2013-03-21"},{"$f":"IFERROR((LEN(INDEX(Лист1!$A$2:$G$32,$A60,3))+1)/11,\"\")","v":10}]
[{"$f":"IFERROR(IF(ROW()=2,1,IF(INDEX(Лист1!$A$2:$I$32,$A60,4)=ROW()-2,IF(ROW()>=MAX(Лист1!D:D)+2,\"\",MAX(A$1:A60)+1),A60)),\"\")","v":11},{"$f":"IFERROR(INDEX(Лист1!$A$2:$G$32,$A61,1),\"\")","v":"Требуется администратор зала, 28 000 руб. Тел. 200-93-67"},{"$f":"IFERROR(--MID(INDEX(Лист1!$A$2:$G$32,$A61,3),ROW()-1+10*(ROW()-2)-IF(A61=1,0,INDEX(Лист1!$A$2:$H$32,$A61-1,4)*11),10),\"\")","v":"2013-03-22"},{"$f":"IFERROR((LEN(INDEX(Лист1!$A$2:$G$32,$A61,3))+1)/11,\"\")","v":10}]
[{"$f":"IFERROR(IF(ROW()=2,1,IF(INDEX(Лист1!$A$2:$I$32,$A61,4)=ROW()-2,IF(ROW()>=MAX(Лист1!D:D)+2,\"\",MAX(A$1:A61)+1),A61)),\"\")","v":11},{"$f":"IFERROR(INDEX(Лист1!$A$2:$G$32,$A62,1),\"\")","v":"Требуется администратор зала, 28 000 руб. Тел. 200-93-67"},{"$f":"IFERROR(--MID(INDEX(Лист1!$A$2:$G$32,$A62,3),ROW()-1+10*(ROW()-2)-IF(A62=1,0,INDEX(Лист1!$A$2:$H$32,$A62-1,4)*11),10),\"\")","v":"2013-03-25"},{"$f":"IFERROR((LEN(INDEX(Лист1!$A$2:$G$32,$A62,3))+1)/11,\"\")","v":10}]
[{"$f":"IFERROR(IF(ROW()=2,1,IF(INDEX(Лист1!$A$2:$I$32,$A62,4)=ROW()-2,IF(ROW()>=MAX(Лист1!D:D)+2,\"\",MAX(A$1:A62)+1),A62)),\"\")","v":11},{"$f":"IFERROR(INDEX(Лист1!$A$2:$G$32,$A63,1),\"\")","v":"Требуется администратор зала, 28 000 руб. Тел. 200-93-67"},{"$f":"IFERROR(--MID(INDEX(Лист1!$A$2:$G$32,$A63,3),ROW()-1+10*(ROW()-2)-IF(A63=1,0,INDEX(Лист1!$A$2:$H$32,$A63-1,4)*11),10),\"\")","v":"2013-03-26"},{"$f":"IFERROR((LEN(INDEX(Лист1!$A$2:$G$32,$A63,3))+1)/11,\"\")","v":10}]
[{"$f":"IFERROR(IF(ROW()=2,1,IF(INDEX(Лист1!$A$2:$I$32,$A63,4)=ROW()-2,IF(ROW()>=MAX(Лист1!D:D)+2,\"\",MAX(A$1:A63)+1),A63)),\"\")","v":11},{"$f":"IFERROR(INDEX(Лист1!$A$2:$G$32,$A64,1),\"\")","v":"Требуется администратор зала, 28 000 руб. Тел. 200-93-67"},{"$f":"IFERROR(--MID(INDEX(Лист1!$A$2:$G$32,$A64,3),ROW()-1+10*(ROW()-2)-IF(A64=1,0,INDEX(Лист1!$A$2:$H$32,$A64-1,4)*11),10),\"\")","v":"2013-03-29"},{"$f":"IFERROR((LEN(INDEX(Лист1!$A$2:$G$32,$A64,3))+1)/11,\"\")","v":10}]
[{"$f":"IFERROR(IF(ROW()=2,1,IF(INDEX(Лист1!$A$2:$I$32,$A64,4)=ROW()-2,IF(ROW()>=MAX(Лист1!D:D)+2,\"\",MAX(A$1:A64)+1),A64)),\"\")","v":11},{"$f":"IFERROR(INDEX(Лист1!$A$2:$G$32,$A65,1),\"\")","v":"Требуется администратор зала, 28 000 руб. Тел. 200-93-67"},{"$f":"IFERROR(--MID(INDEX(Лист1!$A$2:$G$32,$A65,3),ROW()-1+10*(ROW()-2)-IF(A65=1,0,INDEX(Лист1!$A$2:$H$32,$A65-1,4)*11),10),\"\")","v":"2013-03-30"},{"$f":"IFERROR((LEN(INDEX(Лист1!$A$2:$G$32,$A65,3))+1)/11,\"\")","v":10}]
[{"$f":"IFERROR(IF(ROW()=2,1,IF(INDEX(Лист1!$A$2:$I$32,$A65,4)=ROW()-2,IF(ROW()>=MAX(Лист1!D:D)+2,\"\",MAX(A$1:A65)+1),A65)),\"\")","v":11},{"$f":"IFERROR(INDEX(Лист1!$A$2:$G$32,$A66,1),\"\")","v":"Требуется администратор зала, 28 000 руб. Тел. 200-93-67"},{"$f":"IFERROR(--MID(INDEX(Лист1!$A$2:$G$32,$A66,3),ROW()-1+10*(ROW()-2)-IF(A66=1,0,INDEX(Лист1!$A$2:$H$32,$A66-1,4)*11),10),\"\")","v":"2013-04-02"},{"$f":"IFERROR((LEN(INDEX(Лист1!$A$2:$G$32,$A66,3))+1)/11,\"\")","v":10}]
[{"$f":"IFERROR(IF(ROW()=2,1,IF(INDEX(Лист1!$A$2:$I$32,$A66,4)=ROW()-2,IF(ROW()>=MAX(Лист1!D:D)+2,\"\",MAX(A$1:A66)+1),A66)),\"\")","v":11},{"$f":"IFERROR(INDEX(Лист1!$A$2:$G$32,$A67,1),\"\")","v":"Требуется администратор зала, 28 000 руб. Тел. 200-93-67"},{"$f":"IFERROR(--MID(INDEX(Лист1!$A$2:$G$32,$A67,3),ROW()-1+10*(ROW()-2)-IF(A67=1,0,INDEX(Лист1!$A$2:$H$32,$A67-1,4)*11),10),\"\")","v":"2013-04-03"},{"$f":"IFERROR((LEN(INDEX(Лист1!$A$2:$G$32,$A67,3))+1)/11,\"\")","v":10}]
[{"$f":"IFERROR(IF(ROW()=2,1,IF(INDEX(Лист1!$A$2:$I$32,$A67,4)=ROW()-2,IF(ROW()>=MAX(Лист1!D:D)+2,\"\",MAX(A$1:A67)+1),A67)),\"\")","v":11},{"$f":"IFERROR(INDEX(Лист1!$A$2:$G$32,$A68,1),\"\")","v":"Требуется администратор зала, 28 000 руб. Тел. 200-93-67"},{"$f":"IFERROR(--MID(INDEX(Лист1!$A$2:$G$32,$A68,3),ROW()-1+10*(ROW()-2)-IF(A68=1,0,INDEX(Лист1!$A$2:$H$32,$A68-1,4)*11),10),\"\")","v":"2013-04-06"},{"$f":"IFERROR((LEN(INDEX(Лист1!$A$2:$G$32,$A68,3))+1)/11,\"\")","v":10}]
[{"$f":"IFERROR(IF(ROW()=2,1,IF(INDEX(Лист1!$A$2:$I$32,$A68,4)=ROW()-2,IF(ROW()>=MAX(Лист1!D:D)+2,\"\",MAX(A$1:A68)+1),A68)),\"\")","v":11},{"$f":"IFERROR(INDEX(Лист1!$A$2:$G$32,$A69,1),\"\")","v":"Требуется администратор зала, 28 000 руб. Тел. 200-93-67"},{"$f":"IFERROR(--MID(INDEX(Лист1!$A$2:$G$32,$A69,3),ROW()-1+10*(ROW()-2)-IF(A69=1,0,INDEX(Лист1!$A$2:$H$32,$A69-1,4)*11),10),\"\")","v":"2013-04-07"},{"$f":"IFERROR((LEN(INDEX(Лист1!$A$2:$G$32,$A69,3))+1)/11,\"\")","v":10}]
[{"$f":"IFERROR(IF(ROW()=2,1,IF(INDEX(Лист1!$A$2:$I$32,$A69,4)=ROW()-2,IF(ROW()>=MAX(Лист1!D:D)+2,\"\",MAX(A$1:A69)+1),A69)),\"\")","v":12},{"$f":"IFERROR(INDEX(Лист1!$A$2:$G$32,$A70,1),\"\")","v":"Требуется администратор, от 25000 руб. Тел. 213-35-60"},{"$f":"IFERROR(--MID(INDEX(Лист1!$A$2:$G$32,$A70,3),ROW()-1+10*(ROW()-2)-IF(A70=1,0,INDEX(Лист1!$A$2:$H$32,$A70-1,4)*11),10),\"\")","v":"2013-03-21"},{"$f":"IFERROR((LEN(INDEX(Лист1!$A$2:$G$32,$A70,3))+1)/11,\"\")","v":10}]
[{"$f":"IFERROR(IF(ROW()=2,1,IF(INDEX(Лист1!$A$2:$I$32,$A70,4)=ROW()-2,IF(ROW()>=MAX(Лист1!D:D)+2,\"\",MAX(A$1:A70)+1),A70)),\"\")","v":12},{"$f":"IFERROR(INDEX(Лист1!$A$2:$G$32,$A71,1),\"\")","v":"Требуется администратор, от 25000 руб. Тел. 213-35-60"},{"$f":"IFERROR(--MID(INDEX(Лист1!$A$2:$G$32,$A71,3),ROW()-1+10*(ROW()-2)-IF(A71=1,0,INDEX(Лист1!$A$2:$H$32,$A71-1,4)*11),10),\"\")","v":"2013-03-22"},{"$f":"IFERROR((LEN(INDEX(Лист1!$A$2:$G$32,$A71,3))+1)/11,\"\")","v":10}]
[{"$f":"IFERROR(IF(ROW()=2,1,IF(INDEX(Лист1!$A$2:$I$32,$A71,4)=ROW()-2,IF(ROW()>=MAX(Лист1!D:D)+2,\"\",MAX(A$1:A71)+1),A71)),\"\")","v":12},{"$f":"IFERROR(INDEX(Лист1!$A$2:$G$32,$A72,1),\"\")","v":"Требуется администратор, от 25000 руб. Тел. 213-35-60"},{"$f":"IFERROR(--MID(INDEX(Лист1!$A$2:$G$32,$A72,3),ROW()-1+10*(ROW()-2)-IF(A72=1,0,INDEX(Лист1!$A$2:$H$32,$A72-1,4)*11),10),\"\")","v":"2013-03-26"},{"$f":"IFERROR((LEN(INDEX(Лист1!$A$2:$G$32,$A72,3))+1)/11,\"\")","v":10}]
[{"$f":"IFERROR(IF(ROW()=2,1,IF(INDEX(Лист1!$A$2:$I$32,$A72,4)=ROW()-2,IF(ROW()>=MAX(Лист1!D:D)+2,\"\",MAX(A$1:A72)+1),A72)),\"\")","v":12},{"$f":"IFERROR(INDEX(Лист1!$A$2:$G$32,$A73,1),\"\")","v":"Требуется администратор, от 25000 руб. Тел. 213-35-60"},{"$f":"IFERROR(--MID(INDEX(Лист1!$A$2:$G$32,$A73,3),ROW()-1+10*(ROW()-2)-IF(A73=1,0,INDEX(Лист1!$A$2:$H$32,$A73-1,4)*11),10),\"\")","v":"2013-03-27"},{"$f":"IFERROR((LEN(INDEX(Лист1!$A$2:$G$32,$A73,3))+1)/11,\"\")","v":10}]
[{"$f":"IFERROR(IF(ROW()=2,1,IF(INDEX(Лист1!$A$2:$I$32,$A73,4)=ROW()-2,IF(ROW()>=MAX(Лист1!D:D)+2,\"\",MAX(A$1:A73)+1),A73)),\"\")","v":12},{"$f":"IFERROR(INDEX(Лист1!$A$2:$G$32,$A74,1),\"\")","v":"Требуется администратор, от 25000 руб. Тел. 213-35-60"},{"$f":"IFERROR(--MID(INDEX(Лист1!$A$2:$G$32,$A74,3),ROW()-1+10*(ROW()-2)-IF(A74=1,0,INDEX(Лист1!$A$2:$H$32,$A74-1,4)*11),10),\"\")","v":"2013-03-29"},{"$f":"IFERROR((LEN(INDEX(Лист1!$A$2:$G$32,$A74,3))+1)/11,\"\")","v":10}]
[{"$f":"IFERROR(IF(ROW()=2,1,IF(INDEX(Лист1!$A$2:$I$32,$A74,4)=ROW()-2,IF(ROW()>=MAX(Лист1!D:D)+2,\"\",MAX(A$1:A74)+1),A74)),\"\")","v":12},{"$f":"IFERROR(INDEX(Лист1!$A$2:$G$32,$A75,1),\"\")","v":"Требуется администратор, от 25000 руб. Тел. 213-35-60"},{"$f":"IFERROR(--MID(INDEX(Лист1!$A$2:$G$32,$A75,3),ROW()-1+10*(ROW()-2)-IF(A75=1,0,INDEX(Лист1!$A$2:$H$32,$A75-1,4)*11),10),\"\")","v":"2013-03-30"},{"$f":"IFERROR((LEN(INDEX(Лист1!$A$2:$G$32,$A75,3))+1)/11,\"\")","v":10}]
[{"$f":"IFERROR(IF(ROW()=2,1,IF(INDEX(Лист1!$A$2:$I$32,$A75,4)=ROW()-2,IF(ROW()>=MAX(Лист1!D:D)+2,\"\",MAX(A$1:A75)+1),A75)),\"\")","v":12},{"$f":"IFERROR(INDEX(Лист1!$A$2:$G$32,$A76,1),\"\")","v":"Требуется администратор, от 25000 руб. Тел. 213-35-60"},{"$f":"IFERROR(--MID(INDEX(Лист1!$A$2:$G$32,$A76,3),ROW()-1+10*(ROW()-2)-IF(A76=1,0,INDEX(Лист1!$A$2:$H$32,$A76-1,4)*11),10),\"\")","v":"2013-04-02"},{"$f":"IFERROR((LEN(INDEX(Лист1!$A$2:$G$32,$A76,3))+1)/11,\"\")","v":10}]
[{"$f":"IFERROR(IF(ROW()=2,1,IF(INDEX(Лист1!$A$2:$I$32,$A76,4)=ROW()-2,IF(ROW()>=MAX(Лист1!D:D)+2,\"\",MAX(A$1:A76)+1),A76)),\"\")","v":12},{"$f":"IFERROR(INDEX(Лист1!$A$2:$G$32,$A77,1),\"\")","v":"Требуется администратор, от 25000 руб. Тел. 213-35-60"},{"$f":"IFERROR(--MID(INDEX(Лист1!$A$2:$G$32,$A77,3),ROW()-1+10*(ROW()-2)-IF(A77=1,0,INDEX(Лист1!$A$2:$H$32,$A77-1,4)*11),10),\"\")","v":"2013-04-03"},{"$f":"IFERROR((LEN(INDEX(Лист1!$A$2:$G$32,$A77,3))+1)/11,\"\")","v":10}]
[{"$f":"IFERROR(IF(ROW()=2,1,IF(INDEX(Лист1!$A$2:$I$32,$A77,4)=ROW()-2,IF(ROW()>=MAX(Лист1!D:D)+2,\"\",MAX(A$1:A77)+1),A77)),\"\")","v":12},{"$f":"IFERROR(INDEX(Лист1!$A$2:$G$32,$A78,1),\"\")","v":"Требуется администратор, от 25000 руб. Тел. 213-35-60"},{"$f":"IFERROR(--MID(INDEX(Лист1!$A$2:$G$32,$A78,3),ROW()-1+10*(ROW()-2)-IF(A78=1,0,INDEX(Лист1!$A$2:$H$32,$A78-1,4)*11),10),\"\")","v":"2013-04-06"},{"$f":"IFERROR((LEN(INDEX(Лист1!$A$2:$G$32,$A78,3))+1)/11,\"\")","v":10}]
[{"$f":"IFERROR(IF(ROW()=2,1,IF(INDEX(Лист1!$A$2:$I$32,$A78,4)=ROW()-2,IF(ROW()>=MAX(Лист1!D:D)+2,\"\",MAX(A$1:A78)+1),A78)),\"\")","v":12},{"$f":"IFERROR(INDEX(Лист1!$A$2:$G$32,$A79,1),\"\")","v":"Требуется администратор, от 25000 руб. Тел. 213-35-60"},{"$f":"IFERROR(--MID(INDEX(Лист1!$A$2:$G$32,$A79,3),ROW()-1+10*(ROW()-2)-IF(A79=1,0,INDEX(Лист1!$A$2:$H$32,$A79-1,4)*11),10),\"\")","v":"2013-04-07"},{"$f":"IFERROR((LEN(INDEX(Лист1!$A$2:$G$32,$A79,3))+1)/11,\"\")","v":10}]
[{"$f":"IFERROR(IF(ROW()=2,1,IF(INDEX(Лист1!$A$2:$I$32,$A79,4)=ROW()-2,IF(ROW()>=MAX(Лист1!D:D)+2,\"\",MAX(A$1:A79)+1),A79)),\"\")","v":13},{"$f":"IFERROR(INDEX(Лист1!$A$2:$G$32,$A80,1),\"\")","v":"Требуется ведущий консультант. Работа с вип клиентами. Консультирование по продуктам компании, заключение договоров. От 50000 руб. Тел. 200-25-46"},{"$f":"IFERROR(--MID(INDEX(Лист1!$A$2:$G$32,$A80,3),ROW()-1+10*(ROW()-2)-IF(A80=1,0,INDEX(Лист1!$A$2:$H$32,$A80-1,4)*11),10),\"\")","v":"2013-03-21"},{"$f":"IFERROR((LEN(INDEX(Лист1!$A$2:$G$32,$A80,3))+1)/11,\"\")","v":5}]
[{"$f":"IFERROR(IF(ROW()=2,1,IF(INDEX(Лист1!$A$2:$I$32,$A80,4)=ROW()-2,IF(ROW()>=MAX(Лист1!D:D)+2,\"\",MAX(A$1:A80)+1),A80)),\"\")","v":13},{"$f":"IFERROR(INDEX(Лист1!$A$2:$G$32,$A81,1),\"\")","v":"Требуется ведущий консультант. Работа с вип клиентами. Консультирование по продуктам компании, заключение договоров. От 50000 руб. Тел. 200-25-46"},{"$f":"IFERROR(--MID(INDEX(Лист1!$A$2:$G$32,$A81,3),ROW()-1+10*(ROW()-2)-IF(A81=1,0,INDEX(Лист1!$A$2:$H$32,$A81-1,4)*11),10),\"\")","v":"2013-03-22"},{"$f":"IFERROR((LEN(INDEX(Лист1!$A$2:$G$32,$A81,3))+1)/11,\"\")","v":5}]
[{"$f":"IFERROR(IF(ROW()=2,1,IF(INDEX(Лист1!$A$2:$I$32,$A81,4)=ROW()-2,IF(ROW()>=MAX(Лист1!D:D)+2,\"\",MAX(A$1:A81)+1),A81)),\"\")","v":13},{"$f":"IFERROR(INDEX(Лист1!$A$2:$G$32,$A82,1),\"\")","v":"Требуется ведущий консультант. Работа с вип клиентами. Консультирование по продуктам компании, заключение договоров. От 50000 руб. Тел. 200-25-46"},{"$f":"IFERROR(--MID(INDEX(Лист1!$A$2:$G$32,$A82,3),ROW()-1+10*(ROW()-2)-IF(A82=1,0,INDEX(Лист1!$A$2:$H$32,$A82-1,4)*11),10),\"\")","v":"2013-03-23"},{"$f":"IFERROR((LEN(INDEX(Лист1!$A$2:$G$32,$A82,3))+1)/11,\"\")","v":5}]
[{"$f":"IFERROR(IF(ROW()=2,1,IF(INDEX(Лист1!$A$2:$I$32,$A82,4)=ROW()-2,IF(ROW()>=MAX(Лист1!D:D)+2,\"\",MAX(A$1:A82)+1),A82)),\"\")","v":13},{"$f":"IFERROR(INDEX(Лист1!$A$2:$G$32,$A83,1),\"\")","v":"Требуется ведущий консультант. Работа с вип клиентами. Консультирование по продуктам компании, заключение договоров. От 50000 руб. Тел. 200-25-46"},{"$f":"IFERROR(--MID(INDEX(Лист1!$A$2:$G$32,$A83,3),ROW()-1+10*(ROW()-2)-IF(A83=1,0,INDEX(Лист1!$A$2:$H$32,$A83-1,4)*11),10),\"\")","v":"2013-03-24"},{"$f":"IFERROR((LEN(INDEX(Лист1!$A$2:$G$32,$A83,3))+1)/11,\"\")","v":5}]
[{"$f":"IFERROR(IF(ROW()=2,1,IF(INDEX(Лист1!$A$2:$I$32,$A83,4)=ROW()-2,IF(ROW()>=MAX(Лист1!D:D)+2,\"\",MAX(A$1:A83)+1),A83)),\"\")","v":13},{"$f":"IFERROR(INDEX(Лист1!$A$2:$G$32,$A84,1),\"\")","v":"Требуется ведущий консультант. Работа с вип клиентами. Консультирование по продуктам компании, заключение договоров. От 50000 руб. Тел. 200-25-46"},{"$f":"IFERROR(--MID(INDEX(Лист1!$A$2:$G$32,$A84,3),ROW()-1+10*(ROW()-2)-IF(A84=1,0,INDEX(Лист1!$A$2:$H$32,$A84-1,4)*11),10),\"\")","v":"2013-03-25"},{"$f":"IFERROR((LEN(INDEX(Лист1!$A$2:$G$32,$A84,3))+1)/11,\"\")","v":5}]
[{"$f":"IFERROR(IF(ROW()=2,1,IF(INDEX(Лист1!$A$2:$I$32,$A84,4)=ROW()-2,IF(ROW()>=MAX(Лист1!D:D)+2,\"\",MAX(A$1:A84)+1),A84)),\"\")","v":14},{"$f":"IFERROR(INDEX(Лист1!$A$2:$G$32,$A85,1),\"\")","v":"Требуется водитель на маршрут. Тел. 8-922-028-57-64"},{"$f":"IFERROR(--MID(INDEX(Лист1!$A$2:$G$32,$A85,3),ROW()-1+10*(ROW()-2)-IF(A85=1,0,INDEX(Лист1!$A$2:$H$32,$A85-1,4)*11),10),\"\")","v":"2013-03-21"},{"$f":"IFERROR((LEN(INDEX(Лист1!$A$2:$G$32,$A85,3))+1)/11,\"\")","v":1}]
[{"$f":"IFERROR(IF(ROW()=2,1,IF(INDEX(Лист1!$A$2:$I$32,$A85,4)=ROW()-2,IF(ROW()>=MAX(Лист1!D:D)+2,\"\",MAX(A$1:A85)+1),A85)),\"\")","v":15},{"$f":"IFERROR(INDEX(Лист1!$A$2:$G$32,$A86,1),\"\")","v":"Требуется водитель погрузчика, машинист экскаватора, слесарь по ремонту погрузчиков. Тел. 295-62-18, 295-71-51"},{"$f":"IFERROR(--MID(INDEX(Лист1!$A$2:$G$32,$A86,3),ROW()-1+10*(ROW()-2)-IF(A86=1,0,INDEX(Лист1!$A$2:$H$32,$A86-1,4)*11),10),\"\")","v":"2013-03-21"},{"$f":"IFERROR((LEN(INDEX(Лист1!$A$2:$G$32,$A86,3))+1)/11,\"\")","v":3}]
[{"$f":"IFERROR(IF(ROW()=2,1,IF(INDEX(Лист1!$A$2:$I$32,$A86,4)=ROW()-2,IF(ROW()>=MAX(Лист1!D:D)+2,\"\",MAX(A$1:A86)+1),A86)),\"\")","v":15},{"$f":"IFERROR(INDEX(Лист1!$A$2:$G$32,$A87,1),\"\")","v":"Требуется водитель погрузчика, машинист экскаватора, слесарь по ремонту погрузчиков. Тел. 295-62-18, 295-71-51"},{"$f":"IFERROR(--MID(INDEX(Лист1!$A$2:$G$32,$A87,3),ROW()-1+10*(ROW()-2)-IF(A87=1,0,INDEX(Лист1!$A$2:$H$32,$A87-1,4)*11),10),\"\")","v":"2013-03-22"},{"$f":"IFERROR((LEN(INDEX(Лист1!$A$2:$G$32,$A87,3))+1)/11,\"\")","v":3}]
[{"$f":"IFERROR(IF(ROW()=2,1,IF(INDEX(Лист1!$A$2:$I$32,$A87,4)=ROW()-2,IF(ROW()>=MAX(Лист1!D:D)+2,\"\",MAX(A$1:A87)+1),A87)),\"\")","v":15},{"$f":"IFERROR(INDEX(Лист1!$A$2:$G$32,$A88,1),\"\")","v":"Требуется водитель погрузчика, машинист экскаватора, слесарь по ремонту погрузчиков. Тел. 295-62-18, 295-71-51"},{"$f":"IFERROR(--MID(INDEX(Лист1!$A$2:$G$32,$A88,3),ROW()-1+10*(ROW()-2)-IF(A88=1,0,INDEX(Лист1!$A$2:$H$32,$A88-1,4)*11),10),\"\")","v":"2013-03-23"},{"$f":"IFERROR((LEN(INDEX(Лист1!$A$2:$G$32,$A88,3))+1)/11,\"\")","v":3}]
[{"$f":"IFERROR(IF(ROW()=2,1,IF(INDEX(Лист1!$A$2:$I$32,$A88,4)=ROW()-2,IF(ROW()>=MAX(Лист1!D:D)+2,\"\",MAX(A$1:A88)+1),A88)),\"\")","v":16},{"$f":"IFERROR(INDEX(Лист1!$A$2:$G$32,$A89,1),\"\")","v":"Требуется менеджер корпоративных продаж, от 35 000 руб. Тел. 200-21-78"},{"$f":"IFERROR(--MID(INDEX(Лист1!$A$2:$G$32,$A89,3),ROW()-1+10*(ROW()-2)-IF(A89=1,0,INDEX(Лист1!$A$2:$H$32,$A89-1,4)*11),10),\"\")","v":"2013-03-21"},{"$f":"IFERROR((LEN(INDEX(Лист1!$A$2:$G$32,$A89,3))+1)/11,\"\")","v":10}]
[{"$f":"IFERROR(IF(ROW()=2,1,IF(INDEX(Лист1!$A$2:$I$32,$A89,4)=ROW()-2,IF(ROW()>=MAX(Лист1!D:D)+2,\"\",MAX(A$1:A89)+1),A89)),\"\")","v":16},{"$f":"IFERROR(INDEX(Лист1!$A$2:$G$32,$A90,1),\"\")","v":"Требуется менеджер корпоративных продаж, от 35 000 руб. Тел. 200-21-78"},{"$f":"IFERROR(--MID(INDEX(Лист1!$A$2:$G$32,$A90,3),ROW()-1+10*(ROW()-2)-IF(A90=1,0,INDEX(Лист1!$A$2:$H$32,$A90-1,4)*11),10),\"\")","v":"2013-03-22"},{"$f":"IFERROR((LEN(INDEX(Лист1!$A$2:$G$32,$A90,3))+1)/11,\"\")","v":10}]
[{"$f":"IFERROR(IF(ROW()=2,1,IF(INDEX(Лист1!$A$2:$I$32,$A90,4)=ROW()-2,IF(ROW()>=MAX(Лист1!D:D)+2,\"\",MAX(A$1:A90)+1),A90)),\"\")","v":16},{"$f":"IFERROR(INDEX(Лист1!$A$2:$G$32,$A91,1),\"\")","v":"Требуется менеджер корпоративных продаж, от 35 000 руб. Тел. 200-21-78"},{"$f":"IFERROR(--MID(INDEX(Лист1!$A$2:$G$32,$A91,3),ROW()-1+10*(ROW()-2)-IF(A91=1,0,INDEX(Лист1!$A$2:$H$32,$A91-1,4)*11),10),\"\")","v":"2013-03-25"},{"$f":"IFERROR((LEN(INDEX(Лист1!$A$2:$G$32,$A91,3))+1)/11,\"\")","v":10}]
[{"$f":"IFERROR(IF(ROW()=2,1,IF(INDEX(Лист1!$A$2:$I$32,$A91,4)=ROW()-2,IF(ROW()>=MAX(Лист1!D:D)+2,\"\",MAX(A$1:A91)+1),A91)),\"\")","v":16},{"$f":"IFERROR(INDEX(Лист1!$A$2:$G$32,$A92,1),\"\")","v":"Требуется менеджер корпоративных продаж, от 35 000 руб. Тел. 200-21-78"},{"$f":"IFERROR(--MID(INDEX(Лист1!$A$2:$G$32,$A92,3),ROW()-1+10*(ROW()-2)-IF(A92=1,0,INDEX(Лист1!$A$2:$H$32,$A92-1,4)*11),10),\"\")","v":"2013-03-26"},{"$f":"IFERROR((LEN(INDEX(Лист1!$A$2:$G$32,$A92,3))+1)/11,\"\")","v":10}]
[{"$f":"IFERROR(IF(ROW()=2,1,IF(INDEX(Лист1!$A$2:$I$32,$A92,4)=ROW()-2,IF(ROW()>=MAX(Лист1!D:D)+2,\"\",MAX(A$1:A92)+1),A92)),\"\")","v":16},{"$f":"IFERROR(INDEX(Лист1!$A$2:$G$32,$A93,1),\"\")","v":"Требуется менеджер корпоративных продаж, от 35 000 руб. Тел. 200-21-78"},{"$f":"IFERROR(--MID(INDEX(Лист1!$A$2:$G$32,$A93,3),ROW()-1+10*(ROW()-2)-IF(A93=1,0,INDEX(Лист1!$A$2:$H$32,$A93-1,4)*11),10),\"\")","v":"2013-03-29"},{"$f":"IFERROR((LEN(INDEX(Лист1!$A$2:$G$32,$A93,3))+1)/11,\"\")","v":10}]
[{"$f":"IFERROR(IF(ROW()=2,1,IF(INDEX(Лист1!$A$2:$I$32,$A93,4)=ROW()-2,IF(ROW()>=MAX(Лист1!D:D)+2,\"\",MAX(A$1:A93)+1),A93)),\"\")","v":16},{"$f":"IFERROR(INDEX(Лист1!$A$2:$G$32,$A94,1),\"\")","v":"Требуется менеджер корпоративных продаж, от 35 000 руб. Тел. 200-21-78"},{"$f":"IFERROR(--MID(INDEX(Лист1!$A$2:$G$32,$A94,3),ROW()-1+10*(ROW()-2)-IF(A94=1,0,INDEX(Лист1!$A$2:$H$32,$A94-1,4)*11),10),\"\")","v":"2013-03-30"},{"$f":"IFERROR((LEN(INDEX(Лист1!$A$2:$G$32,$A94,3))+1)/11,\"\")","v":10}]
[{"$f":"IFERROR(IF(ROW()=2,1,IF(INDEX(Лист1!$A$2:$I$32,$A94,4)=ROW()-2,IF(ROW()>=MAX(Лист1!D:D)+2,\"\",MAX(A$1:A94)+1),A94)),\"\")","v":16},{"$f":"IFERROR(INDEX(Лист1!$A$2:$G$32,$A95,1),\"\")","v":"Требуется менеджер корпоративных продаж, от 35 000 руб. Тел. 200-21-78"},{"$f":"IFERROR(--MID(INDEX(Лист1!$A$2:$G$32,$A95,3),ROW()-1+10*(ROW()-2)-IF(A95=1,0,INDEX(Лист1!$A$2:$H$32,$A95-1,4)*11),10),\"\")","v":"2013-04-02"},{"$f":"IFERROR((LEN(INDEX(Лист1!$A$2:$G$32,$A95,3))+1)/11,\"\")","v":10}]
[{"$f":"IFERROR(IF(ROW()=2,1,IF(INDEX(Лист1!$A$2:$I$32,$A95,4)=ROW()-2,IF(ROW()>=MAX(Лист1!D:D)+2,\"\",MAX(A$1:A95)+1),A95)),\"\")","v":16},{"$f":"IFERROR(INDEX(Лист1!$A$2:$G$32,$A96,1),\"\")","v":"Требуется менеджер корпоративных продаж, от 35 000 руб. Тел. 200-21-78"},{"$f":"IFERROR(--MID(INDEX(Лист1!$A$2:$G$32,$A96,3),ROW()-1+10*(ROW()-2)-IF(A96=1,0,INDEX(Лист1!$A$2:$H$32,$A96-1,4)*11),10),\"\")","v":"2013-04-03"},{"$f":"IFERROR((LEN(INDEX(Лист1!$A$2:$G$32,$A96,3))+1)/11,\"\")","v":10}]
[{"$f":"IFERROR(IF(ROW()=2,1,IF(INDEX(Лист1!$A$2:$I$32,$A96,4)=ROW()-2,IF(ROW()>=MAX(Лист1!D:D)+2,\"\",MAX(A$1:A96)+1),A96)),\"\")","v":16},{"$f":"IFERROR(INDEX(Лист1!$A$2:$G$32,$A97,1),\"\")","v":"Требуется менеджер корпоративных продаж, от 35 000 руб. Тел. 200-21-78"},{"$f":"IFERROR(--MID(INDEX(Лист1!$A$2:$G$32,$A97,3),ROW()-1+10*(ROW()-2)-IF(A97=1,0,INDEX(Лист1!$A$2:$H$32,$A97-1,4)*11),10),\"\")","v":"2013-04-06"},{"$f":"IFERROR((LEN(INDEX(Лист1!$A$2:$G$32,$A97,3))+1)/11,\"\")","v":10}]
[{"$f":"IFERROR(IF(ROW()=2,1,IF(INDEX(Лист1!$A$2:$I$32,$A97,4)=ROW()-2,IF(ROW()>=MAX(Лист1!D:D)+2,\"\",MAX(A$1:A97)+1),A97)),\"\")","v":16},{"$f":"IFERROR(INDEX(Лист1!$A$2:$G$32,$A98,1),\"\")","v":"Требуется менеджер корпоративных продаж, от 35 000 руб. Тел. 200-21-78"},{"$f":"IFERROR(--MID(INDEX(Лист1!$A$2:$G$32,$A98,3),ROW()-1+10*(ROW()-2)-IF(A98=1,0,INDEX(Лист1!$A$2:$H$32,$A98-1,4)*11),10),\"\")","v":"2013-04-07"},{"$f":"IFERROR((LEN(INDEX(Лист1!$A$2:$G$32,$A98,3))+1)/11,\"\")","v":10}]
[{"$f":"IFERROR(IF(ROW()=2,1,IF(INDEX(Лист1!$A$2:$I$32,$A98,4)=ROW()-2,IF(ROW()>=MAX(Лист1!D:D)+2,\"\",MAX(A$1:A98)+1),A98)),\"\")","v":17},{"$f":"IFERROR(INDEX(Лист1!$A$2:$G$32,$A99,1),\"\")","v":"Требуется менеджер по продажам. От 25000 руб. Тел. 200-25-46"},{"$f":"IFERROR(--MID(INDEX(Лист1!$A$2:$G$32,$A99,3),ROW()-1+10*(ROW()-2)-IF(A99=1,0,INDEX(Лист1!$A$2:$H$32,$A99-1,4)*11),10),\"\")","v":"2013-03-21"},{"$f":"IFERROR((LEN(INDEX(Лист1!$A$2:$G$32,$A99,3))+1)/11,\"\")","v":5}]
[{"$f":"IFERROR(IF(ROW()=2,1,IF(INDEX(Лист1!$A$2:$I$32,$A99,4)=ROW()-2,IF(ROW()>=MAX(Лист1!D:D)+2,\"\",MAX(A$1:A99)+1),A99)),\"\")","v":17},{"$f":"IFERROR(INDEX(Лист1!$A$2:$G$32,$A100,1),\"\")","v":"Требуется менеджер по продажам. От 25000 руб. Тел. 200-25-46"},{"$f":"IFERROR(--MID(INDEX(Лист1!$A$2:$G$32,$A100,3),ROW()-1+10*(ROW()-2)-IF(A100=1,0,INDEX(Лист1!$A$2:$H$32,$A100-1,4)*11),10),\"\")","v":"2013-03-22"},{"$f":"IFERROR((LEN(INDEX(Лист1!$A$2:$G$32,$A100,3))+1)/11,\"\")","v":5}]
[{"$f":"IFERROR(IF(ROW()=2,1,IF(INDEX(Лист1!$A$2:$I$32,$A100,4)=ROW()-2,IF(ROW()>=MAX(Лист1!D:D)+2,\"\",MAX(A$1:A100)+1),A100)),\"\")","v":17},{"$f":"IFERROR(INDEX(Лист1!$A$2:$G$32,$A101,1),\"\")","v":"Требуется менеджер по продажам. От 25000 руб. Тел. 200-25-46"},{"$f":"IFERROR(--MID(INDEX(Лист1!$A$2:$G$32,$A101,3),ROW()-1+10*(ROW()-2)-IF(A101=1,0,INDEX(Лист1!$A$2:$H$32,$A101-1,4)*11),10),\"\")","v":"2013-03-23"},{"$f":"IFERROR((LEN(INDEX(Лист1!$A$2:$G$32,$A101,3))+1)/11,\"\")","v":5}]
[{"$f":"IFERROR(IF(ROW()=2,1,IF(INDEX(Лист1!$A$2:$I$32,$A101,4)=ROW()-2,IF(ROW()>=MAX(Лист1!D:D)+2,\"\",MAX(A$1:A101)+1),A101)),\"\")","v":17},{"$f":"IFERROR(INDEX(Лист1!$A$2:$G$32,$A102,1),\"\")","v":"Требуется менеджер по продажам. От 25000 руб. Тел. 200-25-46"},{"$f":"IFERROR(--MID(INDEX(Лист1!$A$2:$G$32,$A102,3),ROW()-1+10*(ROW()-2)-IF(A102=1,0,INDEX(Лист1!$A$2:$H$32,$A102-1,4)*11),10),\"\")","v":"2013-03-24"},{"$f":"IFERROR((LEN(INDEX(Лист1!$A$2:$G$32,$A102,3))+1)/11,\"\")","v":5}]
[{"$f":"IFERROR(IF(ROW()=2,1,IF(INDEX(Лист1!$A$2:$I$32,$A102,4)=ROW()-2,IF(ROW()>=MAX(Лист1!D:D)+2,\"\",MAX(A$1:A102)+1),A102)),\"\")","v":17},{"$f":"IFERROR(INDEX(Лист1!$A$2:$G$32,$A103,1),\"\")","v":"Требуется менеджер по продажам. От 25000 руб. Тел. 200-25-46"},{"$f":"IFERROR(--MID(INDEX(Лист1!$A$2:$G$32,$A103,3),ROW()-1+10*(ROW()-2)-IF(A103=1,0,INDEX(Лист1!$A$2:$H$32,$A103-1,4)*11),10),\"\")","v":"2013-03-25"},{"$f":"IFERROR((LEN(INDEX(Лист1!$A$2:$G$32,$A103,3))+1)/11,\"\")","v":5}]
[{"$f":"IFERROR(IF(ROW()=2,1,IF(INDEX(Лист1!$A$2:$I$32,$A103,4)=ROW()-2,IF(ROW()>=MAX(Лист1!D:D)+2,\"\",MAX(A$1:A103)+1),A103)),\"\")","v":18},{"$f":"IFERROR(INDEX(Лист1!$A$2:$G$32,$A104,1),\"\")","v":"Требуется токарь, слесарь-ремонтник. Тел. 295-62-18, 295-71-51"},{"$f":"IFERROR(--MID(INDEX(Лист1!$A$2:$G$32,$A104,3),ROW()-1+10*(ROW()-2)-IF(A104=1,0,INDEX(Лист1!$A$2:$H$32,$A104-1,4)*11),10),\"\")","v":"2013-03-21"},{"$f":"IFERROR((LEN(INDEX(Лист1!$A$2:$G$32,$A104,3))+1)/11,\"\")","v":3}]
[{"$f":"IFERROR(IF(ROW()=2,1,IF(INDEX(Лист1!$A$2:$I$32,$A104,4)=ROW()-2,IF(ROW()>=MAX(Лист1!D:D)+2,\"\",MAX(A$1:A104)+1),A104)),\"\")","v":18},{"$f":"IFERROR(INDEX(Лист1!$A$2:$G$32,$A105,1),\"\")","v":"Требуется токарь, слесарь-ремонтник. Тел. 295-62-18, 295-71-51"},{"$f":"IFERROR(--MID(INDEX(Лист1!$A$2:$G$32,$A105,3),ROW()-1+10*(ROW()-2)-IF(A105=1,0,INDEX(Лист1!$A$2:$H$32,$A105-1,4)*11),10),\"\")","v":"2013-03-22"},{"$f":"IFERROR((LEN(INDEX(Лист1!$A$2:$G$32,$A105,3))+1)/11,\"\")","v":3}]
[{"$f":"IFERROR(IF(ROW()=2,1,IF(INDEX(Лист1!$A$2:$I$32,$A105,4)=ROW()-2,IF(ROW()>=MAX(Лист1!D:D)+2,\"\",MAX(A$1:A105)+1),A105)),\"\")","v":18},{"$f":"IFERROR(INDEX(Лист1!$A$2:$G$32,$A106,1),\"\")","v":"Требуется токарь, слесарь-ремонтник. Тел. 295-62-18, 295-71-51"},{"$f":"IFERROR(--MID(INDEX(Лист1!$A$2:$G$32,$A106,3),ROW()-1+10*(ROW()-2)-IF(A106=1,0,INDEX(Лист1!$A$2:$H$32,$A106-1,4)*11),10),\"\")","v":"2013-03-23"},{"$f":"IFERROR((LEN(INDEX(Лист1!$A$2:$G$32,$A106,3))+1)/11,\"\")","v":3}]
[{"$f":"IFERROR(IF(ROW()=2,1,IF(INDEX(Лист1!$A$2:$I$32,$A106,4)=ROW()-2,IF(ROW()>=MAX(Лист1!D:D)+2,\"\",MAX(A$1:A106)+1),A106)),\"\")","v":19},{"$f":"IFERROR(INDEX(Лист1!$A$2:$G$32,$A107,1),\"\")","v":"Требуется электрогазосварщик. Тел. 287-02-47"},{"$f":"IFERROR(--MID(INDEX(Лист1!$A$2:$G$32,$A107,3),ROW()-1+10*(ROW()-2)-IF(A107=1,0,INDEX(Лист1!$A$2:$H$32,$A107-1,4)*11),10),\"\")","v":"2013-03-21"},{"$f":"IFERROR((LEN(INDEX(Лист1!$A$2:$G$32,$A107,3))+1)/11,\"\")","v":1}]
[{"$f":"IFERROR(IF(ROW()=2,1,IF(INDEX(Лист1!$A$2:$I$32,$A107,4)=ROW()-2,IF(ROW()>=MAX(Лист1!D:D)+2,\"\",MAX(A$1:A107)+1),A107)),\"\")","v":20},{"$f":"IFERROR(INDEX(Лист1!$A$2:$G$32,$A108,1),\"\")","v":"Требуются водители штабелера. Зарплата от 28000 руб. Официальное трудоустройство, питание, доставка. Тел. 216-28-48"},{"$f":"IFERROR(--MID(INDEX(Лист1!$A$2:$G$32,$A108,3),ROW()-1+10*(ROW()-2)-IF(A108=1,0,INDEX(Лист1!$A$2:$H$32,$A108-1,4)*11),10),\"\")","v":"2013-03-21"},{"$f":"IFERROR((LEN(INDEX(Лист1!$A$2:$G$32,$A108,3))+1)/11,\"\")","v":5}]
[{"$f":"IFERROR(IF(ROW()=2,1,IF(INDEX(Лист1!$A$2:$I$32,$A108,4)=ROW()-2,IF(ROW()>=MAX(Лист1!D:D)+2,\"\",MAX(A$1:A108)+1),A108)),\"\")","v":20},{"$f":"IFERROR(INDEX(Лист1!$A$2:$G$32,$A109,1),\"\")","v":"Требуются водители штабелера. Зарплата от 28000 руб. Официальное трудоустройство, питание, доставка. Тел. 216-28-48"},{"$f":"IFERROR(--MID(INDEX(Лист1!$A$2:$G$32,$A109,3),ROW()-1+10*(ROW()-2)-IF(A109=1,0,INDEX(Лист1!$A$2:$H$32,$A109-1,4)*11),10),\"\")","v":"2013-03-24"},{"$f":"IFERROR((LEN(INDEX(Лист1!$A$2:$G$32,$A109,3))+1)/11,\"\")","v":5}]
[{"$f":"IFERROR(IF(ROW()=2,1,IF(INDEX(Лист1!$A$2:$I$32,$A109,4)=ROW()-2,IF(ROW()>=MAX(Лист1!D:D)+2,\"\",MAX(A$1:A109)+1),A109)),\"\")","v":20},{"$f":"IFERROR(INDEX(Лист1!$A$2:$G$32,$A110,1),\"\")","v":"Требуются водители штабелера. Зарплата от 28000 руб. Официальное трудоустройство, питание, доставка. Тел. 216-28-48"},{"$f":"IFERROR(--MID(INDEX(Лист1!$A$2:$G$32,$A110,3),ROW()-1+10*(ROW()-2)-IF(A110=1,0,INDEX(Лист1!$A$2:$H$32,$A110-1,4)*11),10),\"\")","v":"2013-03-25"},{"$f":"IFERROR((LEN(INDEX(Лист1!$A$2:$G$32,$A110,3))+1)/11,\"\")","v":5}]
[{"$f":"IFERROR(IF(ROW()=2,1,IF(INDEX(Лист1!$A$2:$I$32,$A110,4)=ROW()-2,IF(ROW()>=MAX(Лист1!D:D)+2,\"\",MAX(A$1:A110)+1),A110)),\"\")","v":20},{"$f":"IFERROR(INDEX(Лист1!$A$2:$G$32,$A111,1),\"\")","v":"Требуются водители штабелера. Зарплата от 28000 руб. Официальное трудоустройство, питание, доставка. Тел. 216-28-48"},{"$f":"IFERROR(--MID(INDEX(Лист1!$A$2:$G$32,$A111,3),ROW()-1+10*(ROW()-2)-IF(A111=1,0,INDEX(Лист1!$A$2:$H$32,$A111-1,4)*11),10),\"\")","v":"2013-03-26"},{"$f":"IFERROR((LEN(INDEX(Лист1!$A$2:$G$32,$A111,3))+1)/11,\"\")","v":5}]
[{"$f":"IFERROR(IF(ROW()=2,1,IF(INDEX(Лист1!$A$2:$I$32,$A111,4)=ROW()-2,IF(ROW()>=MAX(Лист1!D:D)+2,\"\",MAX(A$1:A111)+1),A111)),\"\")","v":20},{"$f":"IFERROR(INDEX(Лист1!$A$2:$G$32,$A112,1),\"\")","v":"Требуются водители штабелера. Зарплата от 28000 руб. Официальное трудоустройство, питание, доставка. Тел. 216-28-48"},{"$f":"IFERROR(--MID(INDEX(Лист1!$A$2:$G$32,$A112,3),ROW()-1+10*(ROW()-2)-IF(A112=1,0,INDEX(Лист1!$A$2:$H$32,$A112-1,4)*11),10),\"\")","v":"2013-03-27"},{"$f":"IFERROR((LEN(INDEX(Лист1!$A$2:$G$32,$A112,3))+1)/11,\"\")","v":5}]
[{"$f":"IFERROR(IF(ROW()=2,1,IF(INDEX(Лист1!$A$2:$I$32,$A112,4)=ROW()-2,IF(ROW()>=MAX(Лист1!D:D)+2,\"\",MAX(A$1:A112)+1),A112)),\"\")","v":21},{"$f":"IFERROR(INDEX(Лист1!$A$2:$G$32,$A113,1),\"\")","v":"Требуются менеджеры по туризму. Работа в офисе. Тел. 379-76-50, 379-76-50"},{"$f":"IFERROR(--MID(INDEX(Лист1!$A$2:$G$32,$A113,3),ROW()-1+10*(ROW()-2)-IF(A113=1,0,INDEX(Лист1!$A$2:$H$32,$A113-1,4)*11),10),\"\")","v":"2013-03-21"},{"$f":"IFERROR((LEN(INDEX(Лист1!$A$2:$G$32,$A113,3))+1)/11,\"\")","v":4}]
[{"$f":"IFERROR(IF(ROW()=2,1,IF(INDEX(Лист1!$A$2:$I$32,$A113,4)=ROW()-2,IF(ROW()>=MAX(Лист1!D:D)+2,\"\",MAX(A$1:A113)+1),A113)),\"\")","v":21},{"$f":"IFERROR(INDEX(Лист1!$A$2:$G$32,$A114,1),\"\")","v":"Требуются менеджеры по туризму. Работа в офисе. Тел. 379-76-50, 379-76-50"},{"$f":"IFERROR(--MID(INDEX(Лист1!$A$2:$G$32,$A114,3),ROW()-1+10*(ROW()-2)-IF(A114=1,0,INDEX(Лист1!$A$2:$H$32,$A114-1,4)*11),10),\"\")","v":"2013-03-22"},{"$f":"IFERROR((LEN(INDEX(Лист1!$A$2:$G$32,$A114,3))+1)/11,\"\")","v":4}]
[{"$f":"IFERROR(IF(ROW()=2,1,IF(INDEX(Лист1!$A$2:$I$32,$A114,4)=ROW()-2,IF(ROW()>=MAX(Лист1!D:D)+2,\"\",MAX(A$1:A114)+1),A114)),\"\")","v":21},{"$f":"IFERROR(INDEX(Лист1!$A$2:$G$32,$A115,1),\"\")","v":"Требуются менеджеры по туризму. Работа в офисе. Тел. 379-76-50, 379-76-50"},{"$f":"IFERROR(--MID(INDEX(Лист1!$A$2:$G$32,$A115,3),ROW()-1+10*(ROW()-2)-IF(A115=1,0,INDEX(Лист1!$A$2:$H$32,$A115-1,4)*11),10),\"\")","v":"2013-03-23"},{"$f":"IFERROR((LEN(INDEX(Лист1!$A$2:$G$32,$A115,3))+1)/11,\"\")","v":4}]
[{"$f":"IFERROR(IF(ROW()=2,1,IF(INDEX(Лист1!$A$2:$I$32,$A115,4)=ROW()-2,IF(ROW()>=MAX(Лист1!D:D)+2,\"\",MAX(A$1:A115)+1),A115)),\"\")","v":21},{"$f":"IFERROR(INDEX(Лист1!$A$2:$G$32,$A116,1),\"\")","v":"Требуются менеджеры по туризму. Работа в офисе. Тел. 379-76-50, 379-76-50"},{"$f":"IFERROR(--MID(INDEX(Лист1!$A$2:$G$32,$A116,3),ROW()-1+10*(ROW()-2)-IF(A116=1,0,INDEX(Лист1!$A$2:$H$32,$A116-1,4)*11),10),\"\")","v":"2013-03-24"},{"$f":"IFERROR((LEN(INDEX(Лист1!$A$2:$G$32,$A116,3))+1)/11,\"\")","v":4}]
[{"$f":"IFERROR(IF(ROW()=2,1,IF(INDEX(Лист1!$A$2:$I$32,$A116,4)=ROW()-2,IF(ROW()>=MAX(Лист1!D:D)+2,\"\",MAX(A$1:A116)+1),A116)),\"\")","v":22},{"$f":"IFERROR(INDEX(Лист1!$A$2:$G$32,$A117,1),\"\")","v":"Требуются продавцы-консультанты, грузчики, фасовщицы. ЖБИ, Эльмаш, Центр, Сортировка. Тел. 290-16-48, 8-922-030-72-22"},{"$f":"IFERROR(--MID(INDEX(Лист1!$A$2:$G$32,$A117,3),ROW()-1+10*(ROW()-2)-IF(A117=1,0,INDEX(Лист1!$A$2:$H$32,$A117-1,4)*11),10),\"\")","v":"2013-03-21"},{"$f":"IFERROR((LEN(INDEX(Лист1!$A$2:$G$32,$A117,3))+1)/11,\"\")","v":5}]
[{"$f":"IFERROR(IF(ROW()=2,1,IF(INDEX(Лист1!$A$2:$I$32,$A117,4)=ROW()-2,IF(ROW()>=MAX(Лист1!D:D)+2,\"\",MAX(A$1:A117)+1),A117)),\"\")","v":22},{"$f":"IFERROR(INDEX(Лист1!$A$2:$G$32,$A118,1),\"\")","v":"Требуются продавцы-консультанты, грузчики, фасовщицы. ЖБИ, Эльмаш, Центр, Сортировка. Тел. 290-16-48, 8-922-030-72-22"},{"$f":"IFERROR(--MID(INDEX(Лист1!$A$2:$G$32,$A118,3),ROW()-1+10*(ROW()-2)-IF(A118=1,0,INDEX(Лист1!$A$2:$H$32,$A118-1,4)*11),10),\"\")","v":"2013-03-24"},{"$f":"IFERROR((LEN(INDEX(Лист1!$A$2:$G$32,$A118,3))+1)/11,\"\")","v":5}]
[{"$f":"IFERROR(IF(ROW()=2,1,IF(INDEX(Лист1!$A$2:$I$32,$A118,4)=ROW()-2,IF(ROW()>=MAX(Лист1!D:D)+2,\"\",MAX(A$1:A118)+1),A118)),\"\")","v":22},{"$f":"IFERROR(INDEX(Лист1!$A$2:$G$32,$A119,1),\"\")","v":"Требуются продавцы-консультанты, грузчики, фасовщицы. ЖБИ, Эльмаш, Центр, Сортировка. Тел. 290-16-48, 8-922-030-72-22"},{"$f":"IFERROR(--MID(INDEX(Лист1!$A$2:$G$32,$A119,3),ROW()-1+10*(ROW()-2)-IF(A119=1,0,INDEX(Лист1!$A$2:$H$32,$A119-1,4)*11),10),\"\")","v":"2013-03-27"},{"$f":"IFERROR((LEN(INDEX(Лист1!$A$2:$G$32,$A119,3))+1)/11,\"\")","v":5}]
[{"$f":"IFERROR(IF(ROW()=2,1,IF(INDEX(Лист1!$A$2:$I$32,$A119,4)=ROW()-2,IF(ROW()>=MAX(Лист1!D:D)+2,\"\",MAX(A$1:A119)+1),A119)),\"\")","v":22},{"$f":"IFERROR(INDEX(Лист1!$A$2:$G$32,$A120,1),\"\")","v":"Требуются продавцы-консультанты, грузчики, фасовщицы. ЖБИ, Эльмаш, Центр, Сортировка. Тел. 290-16-48, 8-922-030-72-22"},{"$f":"IFERROR(--MID(INDEX(Лист1!$A$2:$G$32,$A120,3),ROW()-1+10*(ROW()-2)-IF(A120=1,0,INDEX(Лист1!$A$2:$H$32,$A120-1,4)*11),10),\"\")","v":"2013-03-30"},{"$f":"IFERROR((LEN(INDEX(Лист1!$A$2:$G$32,$A120,3))+1)/11,\"\")","v":5}]
[{"$f":"IFERROR(IF(ROW()=2,1,IF(INDEX(Лист1!$A$2:$I$32,$A120,4)=ROW()-2,IF(ROW()>=MAX(Лист1!D:D)+2,\"\",MAX(A$1:A120)+1),A120)),\"\")","v":22},{"$f":"IFERROR(INDEX(Лист1!$A$2:$G$32,$A121,1),\"\")","v":"Требуются продавцы-консультанты, грузчики, фасовщицы. ЖБИ, Эльмаш, Центр, Сортировка. Тел. 290-16-48, 8-922-030-72-22"},{"$f":"IFERROR(--MID(INDEX(Лист1!$A$2:$G$32,$A121,3),ROW()-1+10*(ROW()-2)-IF(A121=1,0,INDEX(Лист1!$A$2:$H$32,$A121-1,4)*11),10),\"\")","v":"2013-04-02"},{"$f":"IFERROR((LEN(INDEX(Лист1!$A$2:$G$32,$A121,3))+1)/11,\"\")","v":5}]
[{"$f":"IFERROR(IF(ROW()=2,1,IF(INDEX(Лист1!$A$2:$I$32,$A121,4)=ROW()-2,IF(ROW()>=MAX(Лист1!D:D)+2,\"\",MAX(A$1:A121)+1),A121)),\"\")","v":23},{"$f":"IFERROR(INDEX(Лист1!$A$2:$G$32,$A122,1),\"\")","v":"Требуются сотрудники в отдел продаж, оклад 30 000 руб + %. Тел. 200-21-78"},{"$f":"IFERROR(--MID(INDEX(Лист1!$A$2:$G$32,$A122,3),ROW()-1+10*(ROW()-2)-IF(A122=1,0,INDEX(Лист1!$A$2:$H$32,$A122-1,4)*11),10),\"\")","v":"2013-03-21"},{"$f":"IFERROR((LEN(INDEX(Лист1!$A$2:$G$32,$A122,3))+1)/11,\"\")","v":10}]
[{"$f":"IFERROR(IF(ROW()=2,1,IF(INDEX(Лист1!$A$2:$I$32,$A122,4)=ROW()-2,IF(ROW()>=MAX(Лист1!D:D)+2,\"\",MAX(A$1:A122)+1),A122)),\"\")","v":23},{"$f":"IFERROR(INDEX(Лист1!$A$2:$G$32,$A123,1),\"\")","v":"Требуются сотрудники в отдел продаж, оклад 30 000 руб + %. Тел. 200-21-78"},{"$f":"IFERROR(--MID(INDEX(Лист1!$A$2:$G$32,$A123,3),ROW()-1+10*(ROW()-2)-IF(A123=1,0,INDEX(Лист1!$A$2:$H$32,$A123-1,4)*11),10),\"\")","v":"2013-03-22"},{"$f":"IFERROR((LEN(INDEX(Лист1!$A$2:$G$32,$A123,3))+1)/11,\"\")","v":10}]
[{"$f":"IFERROR(IF(ROW()=2,1,IF(INDEX(Лист1!$A$2:$I$32,$A123,4)=ROW()-2,IF(ROW()>=MAX(Лист1!D:D)+2,\"\",MAX(A$1:A123)+1),A123)),\"\")","v":23},{"$f":"IFERROR(INDEX(Лист1!$A$2:$G$32,$A124,1),\"\")","v":"Требуются сотрудники в отдел продаж, оклад 30 000 руб + %. Тел. 200-21-78"},{"$f":"IFERROR(--MID(INDEX(Лист1!$A$2:$G$32,$A124,3),ROW()-1+10*(ROW()-2)-IF(A124=1,0,INDEX(Лист1!$A$2:$H$32,$A124-1,4)*11),10),\"\")","v":"2013-03-25"},{"$f":"IFERROR((LEN(INDEX(Лист1!$A$2:$G$32,$A124,3))+1)/11,\"\")","v":10}]
[{"$f":"IFERROR(IF(ROW()=2,1,IF(INDEX(Лист1!$A$2:$I$32,$A124,4)=ROW()-2,IF(ROW()>=MAX(Лист1!D:D)+2,\"\",MAX(A$1:A124)+1),A124)),\"\")","v":23},{"$f":"IFERROR(INDEX(Лист1!$A$2:$G$32,$A125,1),\"\")","v":"Требуются сотрудники в отдел продаж, оклад 30 000 руб + %. Тел. 200-21-78"},{"$f":"IFERROR(--MID(INDEX(Лист1!$A$2:$G$32,$A125,3),ROW()-1+10*(ROW()-2)-IF(A125=1,0,INDEX(Лист1!$A$2:$H$32,$A125-1,4)*11),10),\"\")","v":"2013-03-26"},{"$f":"IFERROR((LEN(INDEX(Лист1!$A$2:$G$32,$A125,3))+1)/11,\"\")","v":10}]
[{"$f":"IFERROR(IF(ROW()=2,1,IF(INDEX(Лист1!$A$2:$I$32,$A125,4)=ROW()-2,IF(ROW()>=MAX(Лист1!D:D)+2,\"\",MAX(A$1:A125)+1),A125)),\"\")","v":23},{"$f":"IFERROR(INDEX(Лист1!$A$2:$G$32,$A126,1),\"\")","v":"Требуются сотрудники в отдел продаж, оклад 30 000 руб + %. Тел. 200-21-78"},{"$f":"IFERROR(--MID(INDEX(Лист1!$A$2:$G$32,$A126,3),ROW()-1+10*(ROW()-2)-IF(A126=1,0,INDEX(Лист1!$A$2:$H$32,$A126-1,4)*11),10),\"\")","v":"2013-03-29"},{"$f":"IFERROR((LEN(INDEX(Лист1!$A$2:$G$32,$A126,3))+1)/11,\"\")","v":10}]
[{"$f":"IFERROR(IF(ROW()=2,1,IF(INDEX(Лист1!$A$2:$I$32,$A126,4)=ROW()-2,IF(ROW()>=MAX(Лист1!D:D)+2,\"\",MAX(A$1:A126)+1),A126)),\"\")","v":23},{"$f":"IFERROR(INDEX(Лист1!$A$2:$G$32,$A127,1),\"\")","v":"Требуются сотрудники в отдел продаж, оклад 30 000 руб + %. Тел. 200-21-78"},{"$f":"IFERROR(--MID(INDEX(Лист1!$A$2:$G$32,$A127,3),ROW()-1+10*(ROW()-2)-IF(A127=1,0,INDEX(Лист1!$A$2:$H$32,$A127-1,4)*11),10),\"\")","v":"2013-03-30"},{"$f":"IFERROR((LEN(INDEX(Лист1!$A$2:$G$32,$A127,3))+1)/11,\"\")","v":10}]
[{"$f":"IFERROR(IF(ROW()=2,1,IF(INDEX(Лист1!$A$2:$I$32,$A127,4)=ROW()-2,IF(ROW()>=MAX(Лист1!D:D)+2,\"\",MAX(A$1:A127)+1),A127)),\"\")","v":23},{"$f":"IFERROR(INDEX(Лист1!$A$2:$G$32,$A128,1),\"\")","v":"Требуются сотрудники в отдел продаж, оклад 30 000 руб + %. Тел. 200-21-78"},{"$f":"IFERROR(--MID(INDEX(Лист1!$A$2:$G$32,$A128,3),ROW()-1+10*(ROW()-2)-IF(A128=1,0,INDEX(Лист1!$A$2:$H$32,$A128-1,4)*11),10),\"\")","v":"2013-04-02"},{"$f":"IFERROR((LEN(INDEX(Лист1!$A$2:$G$32,$A128,3))+1)/11,\"\")","v":10}]
[{"$f":"IFERROR(IF(ROW()=2,1,IF(INDEX(Лист1!$A$2:$I$32,$A128,4)=ROW()-2,IF(ROW()>=MAX(Лист1!D:D)+2,\"\",MAX(A$1:A128)+1),A128)),\"\")","v":23},{"$f":"IFERROR(INDEX(Лист1!$A$2:$G$32,$A129,1),\"\")","v":"Требуются сотрудники в отдел продаж, оклад 30 000 руб + %. Тел. 200-21-78"},{"$f":"IFERROR(--MID(INDEX(Лист1!$A$2:$G$32,$A129,3),ROW()-1+10*(ROW()-2)-IF(A129=1,0,INDEX(Лист1!$A$2:$H$32,$A129-1,4)*11),10),\"\")","v":"2013-04-03"},{"$f":"IFERROR((LEN(INDEX(Лист1!$A$2:$G$32,$A129,3))+1)/11,\"\")","v":10}]
[{"$f":"IFERROR(IF(ROW()=2,1,IF(INDEX(Лист1!$A$2:$I$32,$A129,4)=ROW()-2,IF(ROW()>=MAX(Лист1!D:D)+2,\"\",MAX(A$1:A129)+1),A129)),\"\")","v":23},{"$f":"IFERROR(INDEX(Лист1!$A$2:$G$32,$A130,1),\"\")","v":"Требуются сотрудники в отдел продаж, оклад 30 000 руб + %. Тел. 200-21-78"},{"$f":"IFERROR(--MID(INDEX(Лист1!$A$2:$G$32,$A130,3),ROW()-1+10*(ROW()-2)-IF(A130=1,0,INDEX(Лист1!$A$2:$H$32,$A130-1,4)*11),10),\"\")","v":"2013-04-06"},{"$f":"IFERROR((LEN(INDEX(Лист1!$A$2:$G$32,$A130,3))+1)/11,\"\")","v":10}]
[{"$f":"IFERROR(IF(ROW()=2,1,IF(INDEX(Лист1!$A$2:$I$32,$A130,4)=ROW()-2,IF(ROW()>=MAX(Лист1!D:D)+2,\"\",MAX(A$1:A130)+1),A130)),\"\")","v":23},{"$f":"IFERROR(INDEX(Лист1!$A$2:$G$32,$A131,1),\"\")","v":"Требуются сотрудники в отдел продаж, оклад 30 000 руб + %. Тел. 200-21-78"},{"$f":"IFERROR(--MID(INDEX(Лист1!$A$2:$G$32,$A131,3),ROW()-1+10*(ROW()-2)-IF(A131=1,0,INDEX(Лист1!$A$2:$H$32,$A131-1,4)*11),10),\"\")","v":"2013-04-07"},{"$f":"IFERROR((LEN(INDEX(Лист1!$A$2:$G$32,$A131,3))+1)/11,\"\")","v":10}]
[{"$f":"IFERROR(IF(ROW()=2,1,IF(INDEX(Лист1!$A$2:$I$32,$A131,4)=ROW()-2,IF(ROW()>=MAX(Лист1!D:D)+2,\"\",MAX(A$1:A131)+1),A131)),\"\")","v":""},{"$f":"IFERROR(INDEX(Лист1!$A$2:$G$32,$A132,1),\"\")","v":""},{"$f":"IFERROR(--MID(INDEX(Лист1!$A$2:$G$32,$A132,3),ROW()-1+10*(ROW()-2)-IF(A132=1,0,INDEX(Лист1!$A$2:$H$32,$A132-1,4)*11),10),\"\")","v":""},{"$f":"IFERROR((LEN(INDEX(Лист1!$A$2:$G$32,$A132,3))+1)/11,\"\")","v":""}]
[{"$f":"IFERROR(IF(ROW()=2,1,IF(INDEX(Лист1!$A$2:$I$32,$A132,4)=ROW()-2,IF(ROW()>=MAX(Лист1!D:D)+2,\"\",MAX(A$1:A132)+1),A132)),\"\")","v":""},{"$f":"IFERROR(INDEX(Лист1!$A$2:$G$32,$A133,1),\"\")","v":""},{"$f":"IFERROR(--MID(INDEX(Лист1!$A$2:$G$32,$A133,3),ROW()-1+10*(ROW()-2)-IF(A133=1,0,INDEX(Лист1!$A$2:$H$32,$A133-1,4)*11),10),\"\")","v":""},{"$f":"IFERROR((LEN(INDEX(Лист1!$A$2:$G$32,$A133,3))+1)/11,\"\")","v":""}]
[{"$f":"IFERROR(IF(ROW()=2,1,IF(INDEX(Лист1!$A$2:$I$32,$A133,4)=ROW()-2,IF(ROW()>=MAX(Лист1!D:D)+2,\"\",MAX(A$1:A133)+1),A133)),\"\")","v":""},{"$f":"IFERROR(INDEX(Лист1!$A$2:$G$32,$A134,1),\"\")","v":""},{"$f":"IFERROR(--MID(INDEX(Лист1!$A$2:$G$32,$A134,3),ROW()-1+10*(ROW()-2)-IF(A134=1,0,INDEX(Лист1!$A$2:$H$32,$A134-1,4)*11),10),\"\")","v":""},{"$f":"IFERROR((LEN(INDEX(Лист1!$A$2:$G$32,$A134,3))+1)/11,\"\")","v":""}]
[{"$f":"IFERROR(IF(ROW()=2,1,IF(INDEX(Лист1!$A$2:$I$32,$A134,4)=ROW()-2,IF(ROW()>=MAX(Лист1!D:D)+2,\"\",MAX(A$1:A134)+1),A134)),\"\")","v":""},{"$f":"IFERROR(INDEX(Лист1!$A$2:$G$32,$A135,1),\"\")","v":""},{"$f":"IFERROR(--MID(INDEX(Лист1!$A$2:$G$32,$A135,3),ROW()-1+10*(ROW()-2)-IF(A135=1,0,INDEX(Лист1!$A$2:$H$32,$A135-1,4)*11),10),\"\")","v":""},{"$f":"IFERROR((LEN(INDEX(Лист1!$A$2:$G$32,$A135,3))+1)/11,\"\")","v":""}]
[{"$f":"IFERROR(IF(ROW()=2,1,IF(INDEX(Лист1!$A$2:$I$32,$A135,4)=ROW()-2,IF(ROW()>=MAX(Лист1!D:D)+2,\"\",MAX(A$1:A135)+1),A135)),\"\")","v":""},{"$f":"IFERROR(INDEX(Лист1!$A$2:$G$32,$A136,1),\"\")","v":""},{"$f":"IFERROR(--MID(INDEX(Лист1!$A$2:$G$32,$A136,3),ROW()-1+10*(ROW()-2)-IF(A136=1,0,INDEX(Лист1!$A$2:$H$32,$A136-1,4)*11),10),\"\")","v":""},{"$f":"IFERROR((LEN(INDEX(Лист1!$A$2:$G$32,$A136,3))+1)/11,\"\")","v":""}]
[{"$f":"IFERROR(IF(ROW()=2,1,IF(INDEX(Лист1!$A$2:$I$32,$A136,4)=ROW()-2,IF(ROW()>=MAX(Лист1!D:D)+2,\"\",MAX(A$1:A136)+1),A136)),\"\")","v":""},{"$f":"IFERROR(INDEX(Лист1!$A$2:$G$32,$A137,1),\"\")","v":""},{"$f":"IFERROR(--MID(INDEX(Лист1!$A$2:$G$32,$A137,3),ROW()-1+10*(ROW()-2)-IF(A137=1,0,INDEX(Лист1!$A$2:$H$32,$A137-1,4)*11),10),\"\")","v":""},{"$f":"IFERROR((LEN(INDEX(Лист1!$A$2:$G$32,$A137,3))+1)/11,\"\")","v":""}]
[{"$f":"IFERROR(IF(ROW()=2,1,IF(INDEX(Лист1!$A$2:$I$32,$A137,4)=ROW()-2,IF(ROW()>=MAX(Лист1!D:D)+2,\"\",MAX(A$1:A137)+1),A137)),\"\")","v":""},{"$f":"IFERROR(INDEX(Лист1!$A$2:$G$32,$A138,1),\"\")","v":""},{"$f":"IFERROR(--MID(INDEX(Лист1!$A$2:$G$32,$A138,3),ROW()-1+10*(ROW()-2)-IF(A138=1,0,INDEX(Лист1!$A$2:$H$32,$A138-1,4)*11),10),\"\")","v":""},{"$f":"IFERROR((LEN(INDEX(Лист1!$A$2:$G$32,$A138,3))+1)/11,\"\")","v":""}]
[{"$f":"IFERROR(IF(ROW()=2,1,IF(INDEX(Лист1!$A$2:$I$32,$A138,4)=ROW()-2,IF(ROW()>=MAX(Лист1!D:D)+2,\"\",MAX(A$1:A138)+1),A138)),\"\")","v":""},{"$f":"IFERROR(INDEX(Лист1!$A$2:$G$32,$A139,1),\"\")","v":""},{"$f":"IFERROR(--MID(INDEX(Лист1!$A$2:$G$32,$A139,3),ROW()-1+10*(ROW()-2)-IF(A139=1,0,INDEX(Лист1!$A$2:$H$32,$A139-1,4)*11),10),\"\")","v":""},{"$f":"IFERROR((LEN(INDEX(Лист1!$A$2:$G$32,$A139,3))+1)/11,\"\")","v":""}]
[{"$f":"IFERROR(IF(ROW()=2,1,IF(INDEX(Лист1!$A$2:$I$32,$A139,4)=ROW()-2,IF(ROW()>=MAX(Лист1!D:D)+2,\"\",MAX(A$1:A139)+1),A139)),\"\")","v":""},{"$f":"IFERROR(INDEX(Лист1!$A$2:$G$32,$A140,1),\"\")","v":""},{"$f":"IFERROR(--MID(INDEX(Лист1!$A$2:$G$32,$A140,3),ROW()-1+10*(ROW()-2)-IF(A140=1,0,INDEX(Лист1!$A$2:$H$32,$A140-1,4)*11),10),\"\")","v":""},{"$f":"IFERROR((LEN(INDEX(Лист1!$A$2:$G$32,$A140,3))+1)/11,\"\")","v":""}]
[{"$f":"IFERROR(IF(ROW()=2,1,IF(INDEX(Лист1!$A$2:$I$32,$A140,4)=ROW()-2,IF(ROW()>=MAX(Лист1!D:D)+2,\"\",MAX(A$1:A140)+1),A140)),\"\")","v":""},{"$f":"IFERROR(INDEX(Лист1!$A$2:$G$32,$A141,1),\"\")","v":""},{"$f":"IFERROR(--MID(INDEX(Лист1!$A$2:$G$32,$A141,3),ROW()-1+10*(ROW()-2)-IF(A141=1,0,INDEX(Лист1!$A$2:$H$32,$A141-1,4)*11),10),\"\")","v":""},{"$f":"IFERROR((LEN(INDEX(Лист1!$A$2:$G$32,$A141,3))+1)/11,\"\")","v":""}]
[{"$f":"IFERROR(IF(ROW()=2,1,IF(INDEX(Лист1!$A$2:$I$32,$A141,4)=ROW()-2,IF(ROW()>=MAX(Лист1!D:D)+2,\"\",MAX(A$1:A141)+1),A141)),\"\")","v":""},{"$f":"IFERROR(INDEX(Лист1!$A$2:$G$32,$A142,1),\"\")","v":""},{"$f":"IFERROR(--MID(INDEX(Лист1!$A$2:$G$32,$A142,3),ROW()-1+10*(ROW()-2)-IF(A142=1,0,INDEX(Лист1!$A$2:$H$32,$A142-1,4)*11),10),\"\")","v":""},{"$f":"IFERROR((LEN(INDEX(Лист1!$A$2:$G$32,$A142,3))+1)/11,\"\")","v":""}]
[{"$f":"IFERROR(IF(ROW()=2,1,IF(INDEX(Лист1!$A$2:$I$32,$A142,4)=ROW()-2,IF(ROW()>=MAX(Лист1!D:D)+2,\"\",MAX(A$1:A142)+1),A142)),\"\")","v":""},{"$f":"IFERROR(INDEX(Лист1!$A$2:$G$32,$A143,1),\"\")","v":""},{"$f":"IFERROR(--MID(INDEX(Лист1!$A$2:$G$32,$A143,3),ROW()-1+10*(ROW()-2)-IF(A143=1,0,INDEX(Лист1!$A$2:$H$32,$A143-1,4)*11),10),\"\")","v":""},{"$f":"IFERROR((LEN(INDEX(Лист1!$A$2:$G$32,$A143,3))+1)/11,\"\")","v":""}]
[{"$f":"IFERROR(IF(ROW()=2,1,IF(INDEX(Лист1!$A$2:$I$32,$A143,4)=ROW()-2,IF(ROW()>=MAX(Лист1!D:D)+2,\"\",MAX(A$1:A143)+1),A143)),\"\")","v":""},{"$f":"IFERROR(INDEX(Лист1!$A$2:$G$32,$A144,1),\"\")","v":""},{"$f":"IFERROR(--MID(INDEX(Лист1!$A$2:$G$32,$A144,3),ROW()-1+10*(ROW()-2)-IF(A144=1,0,INDEX(Лист1!$A$2:$H$32,$A144-1,4)*11),10),\"\")","v":""},{"$f":"IFERROR((LEN(INDEX(Лист1!$A$2:$G$32,$A144,3))+1)/11,\"\")","v":""}]
[{"$f":"IFERROR(IF(ROW()=2,1,IF(INDEX(Лист1!$A$2:$I$32,$A144,4)=ROW()-2,IF(ROW()>=MAX(Лист1!D:D)+2,\"\",MAX(A$1:A144)+1),A144)),\"\")","v":""},{"$f":"IFERROR(INDEX(Лист1!$A$2:$G$32,$A145,1),\"\")","v":""},{"$f":"IFERROR(--MID(INDEX(Лист1!$A$2:$G$32,$A145,3),ROW()-1+10*(ROW()-2)-IF(A145=1,0,INDEX(Лист1!$A$2:$H$32,$A145-1,4)*11),10),\"\")","v":""},{"$f":"IFERROR((LEN(INDEX(Лист1!$A$2:$G$32,$A145,3))+1)/11,\"\")","v":""}]
[{"$f":"IFERROR(IF(ROW()=2,1,IF(INDEX(Лист1!$A$2:$I$32,$A145,4)=ROW()-2,IF(ROW()>=MAX(Лист1!D:D)+2,\"\",MAX(A$1:A145)+1),A145)),\"\")","v":""},{"$f":"IFERROR(INDEX(Лист1!$A$2:$G$32,$A146,1),\"\")","v":""},{"$f":"IFERROR(--MID(INDEX(Лист1!$A$2:$G$32,$A146,3),ROW()-1+10*(ROW()-2)-IF(A146=1,0,INDEX(Лист1!$A$2:$H$32,$A146-1,4)*11),10),\"\")","v":""},{"$f":"IFERROR((LEN(INDEX(Лист1!$A$2:$G$32,$A146,3))+1)/11,\"\")","v":""}]
[{"$f":"IFERROR(IF(ROW()=2,1,IF(INDEX(Лист1!$A$2:$I$32,$A146,4)=ROW()-2,IF(ROW()>=MAX(Лист1!D:D)+2,\"\",MAX(A$1:A146)+1),A146)),\"\")","v":""},{"$f":"IFERROR(INDEX(Лист1!$A$2:$G$32,$A147,1),\"\")","v":""},{"$f":"IFERROR(--MID(INDEX(Лист1!$A$2:$G$32,$A147,3),ROW()-1+10*(ROW()-2)-IF(A147=1,0,INDEX(Лист1!$A$2:$H$32,$A147-1,4)*11),10),\"\")","v":""},{"$f":"IFERROR((LEN(INDEX(Лист1!$A$2:$G$32,$A147,3))+1)/11,\"\")","v":""}]
[{"$f":"IFERROR(IF(ROW()=2,1,IF(INDEX(Лист1!$A$2:$I$32,$A147,4)=ROW()-2,IF(ROW()>=MAX(Лист1!D:D)+2,\"\",MAX(A$1:A147)+1),A147)),\"\")","v":""},{"$f":"IFERROR(INDEX(Лист1!$A$2:$G$32,$A148,1),\"\")","v":""},{"$f":"IFERROR(--MID(INDEX(Лист1!$A$2:$G$32,$A148,3),ROW()-1+10*(ROW()-2)-IF(A148=1,0,INDEX(Лист1!$A$2:$H$32,$A148-1,4)*11),10),\"\")","v":""},{"$f":"IFERROR((LEN(INDEX(Лист1!$A$2:$G$32,$A148,3))+1)/11,\"\")","v":""}]
[{"$f":"IFERROR(IF(ROW()=2,1,IF(INDEX(Лист1!$A$2:$I$32,$A148,4)=ROW()-2,IF(ROW()>=MAX(Лист1!D:D)+2,\"\",MAX(A$1:A148)+1),A148)),\"\")","v":""},{"$f":"IFERROR(INDEX(Лист1!$A$2:$G$32,$A149,1),\"\")","v":""},{"$f":"IFERROR(--MID(INDEX(Лист1!$A$2:$G$32,$A149,3),ROW()-1+10*(ROW()-2)-IF(A149=1,0,INDEX(Лист1!$A$2:$H$32,$A149-1,4)*11),10),\"\")","v":""},{"$f":"IFERROR((LEN(INDEX(Лист1!$A$2:$G$32,$A149,3))+1)/11,\"\")","v":""}]
[{"$f":"IFERROR(IF(ROW()=2,1,IF(INDEX(Лист1!$A$2:$I$32,$A149,4)=ROW()-2,IF(ROW()>=MAX(Лист1!D:D)+2,\"\",MAX(A$1:A149)+1),A149)),\"\")","v":""},{"$f":"IFERROR(INDEX(Лист1!$A$2:$G$32,$A150,1),\"\")","v":""},{"$f":"IFERROR(--MID(INDEX(Лист1!$A$2:$G$32,$A150,3),ROW()-1+10*(ROW()-2)-IF(A150=1,0,INDEX(Лист1!$A$2:$H$32,$A150-1,4)*11),10),\"\")","v":""},{"$f":"IFERROR((LEN(INDEX(Лист1!$A$2:$G$32,$A150,3))+1)/11,\"\")","v":""}]
[{"$f":"IFERROR(IF(ROW()=2,1,IF(INDEX(Лист1!$A$2:$I$32,$A150,4)=ROW()-2,IF(ROW()>=MAX(Лист1!D:D)+2,\"\",MAX(A$1:A150)+1),A150)),\"\")","v":""},{"$f":"IFERROR(INDEX(Лист1!$A$2:$G$32,$A151,1),\"\")","v":""},{"$f":"IFERROR(--MID(INDEX(Лист1!$A$2:$G$32,$A151,3),ROW()-1+10*(ROW()-2)-IF(A151=1,0,INDEX(Лист1!$A$2:$H$32,$A151-1,4)*11),10),\"\")","v":""},{"$f":"IFERROR((LEN(INDEX(Лист1!$A$2:$G$32,$A151,3))+1)/11,\"\")","v":""}]
[{"$f":"IFERROR(IF(ROW()=2,1,IF(INDEX(Лист1!$A$2:$I$32,$A151,4)=ROW()-2,IF(ROW()>=MAX(Лист1!D:D)+2,\"\",MAX(A$1:A151)+1),A151)),\"\")","v":""},{"$f":"IFERROR(INDEX(Лист1!$A$2:$G$32,$A152,1),\"\")","v":""},{"$f":"IFERROR(--MID(INDEX(Лист1!$A$2:$G$32,$A152,3),ROW()-1+10*(ROW()-2)-IF(A152=1,0,INDEX(Лист1!$A$2:$H$32,$A152-1,4)*11),10),\"\")","v":""},{"$f":"IFERROR((LEN(INDEX(Лист1!$A$2:$G$32,$A152,3))+1)/11,\"\")","v":""}]
[{"$f":"IFERROR(IF(ROW()=2,1,IF(INDEX(Лист1!$A$2:$I$32,$A152,4)=ROW()-2,IF(ROW()>=MAX(Лист1!D:D)+2,\"\",MAX(A$1:A152)+1),A152)),\"\")","v":""},{"$f":"IFERROR(INDEX(Лист1!$A$2:$G$32,$A153,1),\"\")","v":""},{"$f":"IFERROR(--MID(INDEX(Лист1!$A$2:$G$32,$A153,3),ROW()-1+10*(ROW()-2)-IF(A153=1,0,INDEX(Лист1!$A$2:$H$32,$A153-1,4)*11),10),\"\")","v":""},{"$f":"IFERROR((LEN(INDEX(Лист1!$A$2:$G$32,$A153,3))+1)/11,\"\")","v":""}]
[{"$f":"IFERROR(IF(ROW()=2,1,IF(INDEX(Лист1!$A$2:$I$32,$A153,4)=ROW()-2,IF(ROW()>=MAX(Лист1!D:D)+2,\"\",MAX(A$1:A153)+1),A153)),\"\")","v":""},{"$f":"IFERROR(INDEX(Лист1!$A$2:$G$32,$A154,1),\"\")","v":""},{"$f":"IFERROR(--MID(INDEX(Лист1!$A$2:$G$32,$A154,3),ROW()-1+10*(ROW()-2)-IF(A154=1,0,INDEX(Лист1!$A$2:$H$32,$A154-1,4)*11),10),\"\")","v":""},{"$f":"IFERROR((LEN(INDEX(Лист1!$A$2:$G$32,$A154,3))+1)/11,\"\")","v":""}]
[{"$f":"IFERROR(IF(ROW()=2,1,IF(INDEX(Лист1!$A$2:$I$32,$A154,4)=ROW()-2,IF(ROW()>=MAX(Лист1!D:D)+2,\"\",MAX(A$1:A154)+1),A154)),\"\")","v":""},{"$f":"IFERROR(INDEX(Лист1!$A$2:$G$32,$A155,1),\"\")","v":""},{"$f":"IFERROR(--MID(INDEX(Лист1!$A$2:$G$32,$A155,3),ROW()-1+10*(ROW()-2)-IF(A155=1,0,INDEX(Лист1!$A$2:$H$32,$A155-1,4)*11),10),\"\")","v":""},{"$f":"IFERROR((LEN(INDEX(Лист1!$A$2:$G$32,$A155,3))+1)/11,\"\")","v":""}]
[{"$f":"IFERROR(IF(ROW()=2,1,IF(INDEX(Лист1!$A$2:$I$32,$A155,4)=ROW()-2,IF(ROW()>=MAX(Лист1!D:D)+2,\"\",MAX(A$1:A155)+1),A155)),\"\")","v":""},{"$f":"IFERROR(INDEX(Лист1!$A$2:$G$32,$A156,1),\"\")","v":""},{"$f":"IFERROR(--MID(INDEX(Лист1!$A$2:$G$32,$A156,3),ROW()-1+10*(ROW()-2)-IF(A156=1,0,INDEX(Лист1!$A$2:$H$32,$A156-1,4)*11),10),\"\")","v":""},{"$f":"IFERROR((LEN(INDEX(Лист1!$A$2:$G$32,$A156,3))+1)/11,\"\")","v":""}]
[{"$f":"IFERROR(IF(ROW()=2,1,IF(INDEX(Лист1!$A$2:$I$32,$A156,4)=ROW()-2,IF(ROW()>=MAX(Лист1!D:D)+2,\"\",MAX(A$1:A156)+1),A156)),\"\")","v":""},{"$f":"IFERROR(INDEX(Лист1!$A$2:$G$32,$A157,1),\"\")","v":""},{"$f":"IFERROR(--MID(INDEX(Лист1!$A$2:$G$32,$A157,3),ROW()-1+10*(ROW()-2)-IF(A157=1,0,INDEX(Лист1!$A$2:$H$32,$A157-1,4)*11),10),\"\")","v":""},{"$f":"IFERROR((LEN(INDEX(Лист1!$A$2:$G$32,$A157,3))+1)/11,\"\")","v":""}]
[{"$f":"IFERROR(IF(ROW()=2,1,IF(INDEX(Лист1!$A$2:$I$32,$A157,4)=ROW()-2,IF(ROW()>=MAX(Лист1!D:D)+2,\"\",MAX(A$1:A157)+1),A157)),\"\")","v":""},{"$f":"IFERROR(INDEX(Лист1!$A$2:$G$32,$A158,1),\"\")","v":""},{"$f":"IFERROR(--MID(INDEX(Лист1!$A$2:$G$32,$A158,3),ROW()-1+10*(ROW()-2)-IF(A158=1,0,INDEX(Лист1!$A$2:$H$32,$A158-1,4)*11),10),\"\")","v":""},{"$f":"IFERROR((LEN(INDEX(Лист1!$A$2:$G$32,$A158,3))+1)/11,\"\")","v":""}]
[{"$f":"IFERROR(IF(ROW()=2,1,IF(INDEX(Лист1!$A$2:$I$32,$A158,4)=ROW()-2,IF(ROW()>=MAX(Лист1!D:D)+2,\"\",MAX(A$1:A158)+1),A158)),\"\")","v":""},{"$f":"IFERROR(INDEX(Лист1!$A$2:$G$32,$A159,1),\"\")","v":""},{"$f":"IFERROR(--MID(INDEX(Лист1!$A$2:$G$32,$A159,3),ROW()-1+10*(ROW()-2)-IF(A159=1,0,INDEX(Лист1!$A$2:$H$32,$A159-1,4)*11),10),\"\")","v":""},{"$f":"IFERROR((LEN(INDEX(Лист1!$A$2:$G$32,$A159,3))+1)/11,\"\")","v":""}]
[{"$f":"IFERROR(IF(ROW()=2,1,IF(INDEX(Лист1!$A$2:$I$32,$A159,4)=ROW()-2,IF(ROW()>=MAX(Лист1!D:D)+2,\"\",MAX(A$1:A159)+1),A159)),\"\")","v":""},{"$f":"IFERROR(INDEX(Лист1!$A$2:$G$32,$A160,1),\"\")","v":""},{"$f":"IFERROR(--MID(INDEX(Лист1!$A$2:$G$32,$A160,3),ROW()-1+10*(ROW()-2)-IF(A160=1,0,INDEX(Лист1!$A$2:$H$32,$A160-1,4)*11),10),\"\")","v":""},{"$f":"IFERROR((LEN(INDEX(Лист1!$A$2:$G$32,$A160,3))+1)/11,\"\")","v":""}]
[{"$f":"IFERROR(IF(ROW()=2,1,IF(INDEX(Лист1!$A$2:$I$32,$A160,4)=ROW()-2,IF(ROW()>=MAX(Лист1!D:D)+2,\"\",MAX(A$1:A160)+1),A160)),\"\")","v":""},{"$f":"IFERROR(INDEX(Лист1!$A$2:$G$32,$A161,1),\"\")","v":""},{"$f":"IFERROR(--MID(INDEX(Лист1!$A$2:$G$32,$A161,3),ROW()-1+10*(ROW()-2)-IF(A161=1,0,INDEX(Лист1!$A$2:$H$32,$A161-1,4)*11),10),\"\")","v":""},{"$f":"IFERROR((LEN(INDEX(Лист1!$A$2:$G$32,$A161,3))+1)/11,\"\")","v":""}]
[{"$f":"IFERROR(IF(ROW()=2,1,IF(INDEX(Лист1!$A$2:$I$32,$A161,4)=ROW()-2,IF(ROW()>=MAX(Лист1!D:D)+2,\"\",MAX(A$1:A161)+1),A161)),\"\")","v":""},{"$f":"IFERROR(INDEX(Лист1!$A$2:$G$32,$A162,1),\"\")","v":""},{"$f":"IFERROR(--MID(INDEX(Лист1!$A$2:$G$32,$A162,3),ROW()-1+10*(ROW()-2)-IF(A162=1,0,INDEX(Лист1!$A$2:$H$32,$A162-1,4)*11),10),\"\")","v":""},{"$f":"IFERROR((LEN(INDEX(Лист1!$A$2:$G$32,$A162,3))+1)/11,\"\")","v":""}]
[{"$f":"IFERROR(IF(ROW()=2,1,IF(INDEX(Лист1!$A$2:$I$32,$A162,4)=ROW()-2,IF(ROW()>=MAX(Лист1!D:D)+2,\"\",MAX(A$1:A162)+1),A162)),\"\")","v":""},{"$f":"IFERROR(INDEX(Лист1!$A$2:$G$32,$A163,1),\"\")","v":""},{"$f":"IFERROR(--MID(INDEX(Лист1!$A$2:$G$32,$A163,3),ROW()-1+10*(ROW()-2)-IF(A163=1,0,INDEX(Лист1!$A$2:$H$32,$A163-1,4)*11),10),\"\")","v":""},{"$f":"IFERROR((LEN(INDEX(Лист1!$A$2:$G$32,$A163,3))+1)/11,\"\")","v":""}]
[{"$f":"IFERROR(IF(ROW()=2,1,IF(INDEX(Лист1!$A$2:$I$32,$A163,4)=ROW()-2,IF(ROW()>=MAX(Лист1!D:D)+2,\"\",MAX(A$1:A163)+1),A163)),\"\")","v":""},{"$f":"IFERROR(INDEX(Лист1!$A$2:$G$32,$A164,1),\"\")","v":""},{"$f":"IFERROR(--MID(INDEX(Лист1!$A$2:$G$32,$A164,3),ROW()-1+10*(ROW()-2)-IF(A164=1,0,INDEX(Лист1!$A$2:$H$32,$A164-1,4)*11),10),\"\")","v":""},{"$f":"IFERROR((LEN(INDEX(Лист1!$A$2:$G$32,$A164,3))+1)/11,\"\")","v":""}]
[{"$f":"IFERROR(IF(ROW()=2,1,IF(INDEX(Лист1!$A$2:$I$32,$A164,4)=ROW()-2,IF(ROW()>=MAX(Лист1!D:D)+2,\"\",MAX(A$1:A164)+1),A164)),\"\")","v":""},{"$f":"IFERROR(INDEX(Лист1!$A$2:$G$32,$A165,1),\"\")","v":""},{"$f":"IFERROR(--MID(INDEX(Лист1!$A$2:$G$32,$A165,3),ROW()-1+10*(ROW()-2)-IF(A165=1,0,INDEX(Лист1!$A$2:$H$32,$A165-1,4)*11),10),\"\")","v":""},{"$f":"IFERROR((LEN(INDEX(Лист1!$A$2:$G$32,$A165,3))+1)/11,\"\")","v":""}]
[{"$f":"IFERROR(IF(ROW()=2,1,IF(INDEX(Лист1!$A$2:$I$32,$A165,4)=ROW()-2,IF(ROW()>=MAX(Лист1!D:D)+2,\"\",MAX(A$1:A165)+1),A165)),\"\")","v":""},{"$f":"IFERROR(INDEX(Лист1!$A$2:$G$32,$A166,1),\"\")","v":""},{"$f":"IFERROR(--MID(INDEX(Лист1!$A$2:$G$32,$A166,3),ROW()-1+10*(ROW()-2)-IF(A166=1,0,INDEX(Лист1!$A$2:$H$32,$A166-1,4)*11),10),\"\")","v":""},{"$f":"IFERROR((LEN(INDEX(Лист1!$A$2:$G$32,$A166,3))+1)/11,\"\")","v":""}]
[{"$f":"IFERROR(IF(ROW()=2,1,IF(INDEX(Лист1!$A$2:$I$32,$A166,4)=ROW()-2,IF(ROW()>=MAX(Лист1!D:D)+2,\"\",MAX(A$1:A166)+1),A166)),\"\")","v":""},{"$f":"IFERROR(INDEX(Лист1!$A$2:$G$32,$A167,1),\"\")","v":""},{"$f":"IFERROR(--MID(INDEX(Лист1!$A$2:$G$32,$A167,3),ROW()-1+10*(ROW()-2)-IF(A167=1,0,INDEX(Лист1!$A$2:$H$32,$A167-1,4)*11),10),\"\")","v":""},{"$f":"IFERROR((LEN(INDEX(Лист1!$A$2:$G$32,$A167,3))+1)/11,\"\")","v":""}]
[{"$f":"IFERROR(IF(ROW()=2,1,IF(INDEX(Лист1!$A$2:$I$32,$A167,4)=ROW()-2,IF(ROW()>=MAX(Лист1!D:D)+2,\"\",MAX(A$1:A167)+1),A167)),\"\")","v":""},{"$f":"IFERROR(INDEX(Лист1!$A$2:$G$32,$A168,1),\"\")","v":""},{"$f":"IFERROR(--MID(INDEX(Лист1!$A$2:$G$32,$A168,3),ROW()-1+10*(ROW()-2)-IF(A168=1,0,INDEX(Лист1!$A$2:$H$32,$A168-1,4)*11),10),\"\")","v":""},{"$f":"IFERROR((LEN(INDEX(Лист1!$A$2:$G$32,$A168,3))+1)/11,\"\")","v":""}]
[{"$f":"IFERROR(IF(ROW()=2,1,IF(INDEX(Лист1!$A$2:$I$32,$A168,4)=ROW()-2,IF(ROW()>=MAX(Лист1!D:D)+2,\"\",MAX(A$1:A168)+1),A168)),\"\")","v":""},{"$f":"IFERROR(INDEX(Лист1!$A$2:$G$32,$A169,1),\"\")","v":""},{"$f":"IFERROR(--MID(INDEX(Лист1!$A$2:$G$32,$A169,3),ROW()-1+10*(ROW()-2)-IF(A169=1,0,INDEX(Лист1!$A$2:$H$32,$A169-1,4)*11),10),\"\")","v":""},{"$f":"IFERROR((LEN(INDEX(Лист1!$A$2:$G$32,$A169,3))+1)/11,\"\")","v":""}]
[{"$f":"IFERROR(IF(ROW()=2,1,IF(INDEX(Лист1!$A$2:$I$32,$A169,4)=ROW()-2,IF(ROW()>=MAX(Лист1!D:D)+2,\"\",MAX(A$1:A169)+1),A169)),\"\")","v":""},{"$f":"IFERROR(INDEX(Лист1!$A$2:$G$32,$A170,1),\"\")","v":""},{"$f":"IFERROR(--MID(INDEX(Лист1!$A$2:$G$32,$A170,3),ROW()-1+10*(ROW()-2)-IF(A170=1,0,INDEX(Лист1!$A$2:$H$32,$A170-1,4)*11),10),\"\")","v":""},{"$f":"IFERROR((LEN(INDEX(Лист1!$A$2:$G$32,$A170,3))+1)/11,\"\")","v":""}]
[{"$f":"IFERROR(IF(ROW()=2,1,IF(INDEX(Лист1!$A$2:$I$32,$A170,4)=ROW()-2,IF(ROW()>=MAX(Лист1!D:D)+2,\"\",MAX(A$1:A170)+1),A170)),\"\")","v":""},{"$f":"IFERROR(INDEX(Лист1!$A$2:$G$32,$A171,1),\"\")","v":""},{"$f":"IFERROR(--MID(INDEX(Лист1!$A$2:$G$32,$A171,3),ROW()-1+10*(ROW()-2)-IF(A171=1,0,INDEX(Лист1!$A$2:$H$32,$A171-1,4)*11),10),\"\")","v":""},{"$f":"IFERROR((LEN(INDEX(Лист1!$A$2:$G$32,$A171,3))+1)/11,\"\")","v":""}]
[{"$f":"IFERROR(IF(ROW()=2,1,IF(INDEX(Лист1!$A$2:$I$32,$A171,4)=ROW()-2,IF(ROW()>=MAX(Лист1!D:D)+2,\"\",MAX(A$1:A171)+1),A171)),\"\")","v":""},{"$f":"IFERROR(INDEX(Лист1!$A$2:$G$32,$A172,1),\"\")","v":""},{"$f":"IFERROR(--MID(INDEX(Лист1!$A$2:$G$32,$A172,3),ROW()-1+10*(ROW()-2)-IF(A172=1,0,INDEX(Лист1!$A$2:$H$32,$A172-1,4)*11),10),\"\")","v":""},{"$f":"IFERROR((LEN(INDEX(Лист1!$A$2:$G$32,$A172,3))+1)/11,\"\")","v":""}]
[{"$f":"IFERROR(IF(ROW()=2,1,IF(INDEX(Лист1!$A$2:$I$32,$A172,4)=ROW()-2,IF(ROW()>=MAX(Лист1!D:D)+2,\"\",MAX(A$1:A172)+1),A172)),\"\")","v":""},{"$f":"IFERROR(INDEX(Лист1!$A$2:$G$32,$A173,1),\"\")","v":""},{"$f":"IFERROR(--MID(INDEX(Лист1!$A$2:$G$32,$A173,3),ROW()-1+10*(ROW()-2)-IF(A173=1,0,INDEX(Лист1!$A$2:$H$32,$A173-1,4)*11),10),\"\")","v":""},{"$f":"IFERROR((LEN(INDEX(Лист1!$A$2:$G$32,$A173,3))+1)/11,\"\")","v":""}]
[{"$f":"IFERROR(IF(ROW()=2,1,IF(INDEX(Лист1!$A$2:$I$32,$A173,4)=ROW()-2,IF(ROW()>=MAX(Лист1!D:D)+2,\"\",MAX(A$1:A173)+1),A173)),\"\")","v":""},{"$f":"IFERROR(INDEX(Лист1!$A$2:$G$32,$A174,1),\"\")","v":""},{"$f":"IFERROR(--MID(INDEX(Лист1!$A$2:$G$32,$A174,3),ROW()-1+10*(ROW()-2)-IF(A174=1,0,INDEX(Лист1!$A$2:$H$32,$A174-1,4)*11),10),\"\")","v":""},{"$f":"IFERROR((LEN(INDEX(Лист1!$A$2:$G$32,$A174,3))+1)/11,\"\")","v":""}]
[{"$f":"IFERROR(IF(ROW()=2,1,IF(INDEX(Лист1!$A$2:$I$32,$A174,4)=ROW()-2,IF(ROW()>=MAX(Лист1!D:D)+2,\"\",MAX(A$1:A174)+1),A174)),\"\")","v":""},{"$f":"IFERROR(INDEX(Лист1!$A$2:$G$32,$A175,1),\"\")","v":""},{"$f":"IFERROR(--MID(INDEX(Лист1!$A$2:$G$32,$A175,3),ROW()-1+10*(ROW()-2)-IF(A175=1,0,INDEX(Лист1!$A$2:$H$32,$A175-1,4)*11),10),\"\")","v":""},{"$f":"IFERROR((LEN(INDEX(Лист1!$A$2:$G$32,$A175,3))+1)/11,\"\")","v":""}]
[{"$f":"IFERROR(IF(ROW()=2,1,IF(INDEX(Лист1!$A$2:$I$32,$A175,4)=ROW()-2,IF(ROW()>=MAX(Лист1!D:D)+2,\"\",MAX(A$1:A175)+1),A175)),\"\")","v":""},{"$f":"IFERROR(INDEX(Лист1!$A$2:$G$32,$A176,1),\"\")","v":""},{"$f":"IFERROR(--MID(INDEX(Лист1!$A$2:$G$32,$A176,3),ROW()-1+10*(ROW()-2)-IF(A176=1,0,INDEX(Лист1!$A$2:$H$32,$A176-1,4)*11),10),\"\")","v":""},{"$f":"IFERROR((LEN(INDEX(Лист1!$A$2:$G$32,$A176,3))+1)/11,\"\")","v":""}]
[{"$f":"IFERROR(IF(ROW()=2,1,IF(INDEX(Лист1!$A$2:$I$32,$A176,4)=ROW()-2,IF(ROW()>=MAX(Лист1!D:D)+2,\"\",MAX(A$1:A176)+1),A176)),\"\")","v":""},{"$f":"IFERROR(INDEX(Лист1!$A$2:$G$32,$A177,1),\"\")","v":""},{"$f":"IFERROR(--MID(INDEX(Лист1!$A$2:$G$32,$A177,3),ROW()-1+10*(ROW()-2)-IF(A177=1,0,INDEX(Лист1!$A$2:$H$32,$A177-1,4)*11),10),\"\")","v":""},{"$f":"IFERROR((LEN(INDEX(Лист1!$A$2:$G$32,$A177,3))+1)/11,\"\")","v":""}]
[{"$f":"IFERROR(IF(ROW()=2,1,IF(INDEX(Лист1!$A$2:$I$32,$A177,4)=ROW()-2,IF(ROW()>=MAX(Лист1!D:D)+2,\"\",MAX(A$1:A177)+1),A177)),\"\")","v":""},{"$f":"IFERROR(INDEX(Лист1!$A$2:$G$32,$A178,1),\"\")","v":""},{"$f":"IFERROR(--MID(INDEX(Лист1!$A$2:$G$32,$A178,3),ROW()-1+10*(ROW()-2)-IF(A178=1,0,INDEX(Лист1!$A$2:$H$32,$A178-1,4)*11),10),\"\")","v":""},{"$f":"IFERROR((LEN(INDEX(Лист1!$A$2:$G$32,$A178,3))+1)/11,\"\")","v":""}]
[{"$f":"IFERROR(IF(ROW()=2,1,IF(INDEX(Лист1!$A$2:$I$32,$A178,4)=ROW()-2,IF(ROW()>=MAX(Лист1!D:D)+2,\"\",MAX(A$1:A178)+1),A178)),\"\")","v":""},{"$f":"IFERROR(INDEX(Лист1!$A$2:$G$32,$A179,1),\"\")","v":""},{"$f":"IFERROR(--MID(INDEX(Лист1!$A$2:$G$32,$A179,3),ROW()-1+10*(ROW()-2)-IF(A179=1,0,INDEX(Лист1!$A$2:$H$32,$A179-1,4)*11),10),\"\")","v":""},{"$f":"IFERROR((LEN(INDEX(Лист1!$A$2:$G$32,$A179,3))+1)/11,\"\")","v":""}]
[{"$f":"IFERROR(IF(ROW()=2,1,IF(INDEX(Лист1!$A$2:$I$32,$A179,4)=ROW()-2,IF(ROW()>=MAX(Лист1!D:D)+2,\"\",MAX(A$1:A179)+1),A179)),\"\")","v":""},{"$f":"IFERROR(INDEX(Лист1!$A$2:$G$32,$A180,1),\"\")","v":""},{"$f":"IFERROR(--MID(INDEX(Лист1!$A$2:$G$32,$A180,3),ROW()-1+10*(ROW()-2)-IF(A180=1,0,INDEX(Лист1!$A$2:$H$32,$A180-1,4)*11),10),\"\")","v":""},{"$f":"IFERROR((LEN(INDEX(Лист1!$A$2:$G$32,$A180,3))+1)/11,\"\")","v":""}]
[{"$f":"IFERROR(IF(ROW()=2,1,IF(INDEX(Лист1!$A$2:$I$32,$A180,4)=ROW()-2,IF(ROW()>=MAX(Лист1!D:D)+2,\"\",MAX(A$1:A180)+1),A180)),\"\")","v":""},{"$f":"IFERROR(INDEX(Лист1!$A$2:$G$32,$A181,1),\"\")","v":""},{"$f":"IFERROR(--MID(INDEX(Лист1!$A$2:$G$32,$A181,3),ROW()-1+10*(ROW()-2)-IF(A181=1,0,INDEX(Лист1!$A$2:$H$32,$A181-1,4)*11),10),\"\")","v":""},{"$f":"IFERROR((LEN(INDEX(Лист1!$A$2:$G$32,$A181,3))+1)/11,\"\")","v":""}]
[{"$f":"IFERROR(IF(ROW()=2,1,IF(INDEX(Лист1!$A$2:$I$32,$A181,4)=ROW()-2,IF(ROW()>=MAX(Лист1!D:D)+2,\"\",MAX(A$1:A181)+1),A181)),\"\")","v":""},{"$f":"IFERROR(INDEX(Лист1!$A$2:$G$32,$A182,1),\"\")","v":""},{"$f":"IFERROR(--MID(INDEX(Лист1!$A$2:$G$32,$A182,3),ROW()-1+10*(ROW()-2)-IF(A182=1,0,INDEX(Лист1!$A$2:$H$32,$A182-1,4)*11),10),\"\")","v":""},{"$f":"IFERROR((LEN(INDEX(Лист1!$A$2:$G$32,$A182,3))+1)/11,\"\")","v":""}]
[{"$f":"IFERROR(IF(ROW()=2,1,IF(INDEX(Лист1!$A$2:$I$32,$A182,4)=ROW()-2,IF(ROW()>=MAX(Лист1!D:D)+2,\"\",MAX(A$1:A182)+1),A182)),\"\")","v":""},{"$f":"IFERROR(INDEX(Лист1!$A$2:$G$32,$A183,1),\"\")","v":""},{"$f":"IFERROR(--MID(INDEX(Лист1!$A$2:$G$32,$A183,3),ROW()-1+10*(ROW()-2)-IF(A183=1,0,INDEX(Лист1!$A$2:$H$32,$A183-1,4)*11),10),\"\")","v":""},{"$f":"IFERROR((LEN(INDEX(Лист1!$A$2:$G$32,$A183,3))+1)/11,\"\")","v":""}]
[{"$f":"IFERROR(IF(ROW()=2,1,IF(INDEX(Лист1!$A$2:$I$32,$A183,4)=ROW()-2,IF(ROW()>=MAX(Лист1!D:D)+2,\"\",MAX(A$1:A183)+1),A183)),\"\")","v":""},{"$f":"IFERROR(INDEX(Лист1!$A$2:$G$32,$A184,1),\"\")","v":""},{"$f":"IFERROR(--MID(INDEX(Лист1!$A$2:$G$32,$A184,3),ROW()-1+10*(ROW()-2)-IF(A184=1,0,INDEX(Лист1!$A$2:$H$32,$A184-1,4)*11),10),\"\")","v":""},{"$f":"IFERROR((LEN(INDEX(Лист1!$A$2:$G$32,$A184,3))+1)/11,\"\")","v":""}]
[{"$f":"IFERROR(IF(ROW()=2,1,IF(INDEX(Лист1!$A$2:$I$32,$A184,4)=ROW()-2,IF(ROW()>=MAX(Лист1!D:D)+2,\"\",MAX(A$1:A184)+1),A184)),\"\")","v":""},{"$f":"IFERROR(INDEX(Лист1!$A$2:$G$32,$A185,1),\"\")","v":""},{"$f":"IFERROR(--MID(INDEX(Лист1!$A$2:$G$32,$A185,3),ROW()-1+10*(ROW()-2)-IF(A185=1,0,INDEX(Лист1!$A$2:$H$32,$A185-1,4)*11),10),\"\")","v":""},{"$f":"IFERROR((LEN(INDEX(Лист1!$A$2:$G$32,$A185,3))+1)/11,\"\")","v":""}]
[{"$f":"IFERROR(IF(ROW()=2,1,IF(INDEX(Лист1!$A$2:$I$32,$A185,4)=ROW()-2,IF(ROW()>=MAX(Лист1!D:D)+2,\"\",MAX(A$1:A185)+1),A185)),\"\")","v":""},{"$f":"IFERROR(INDEX(Лист1!$A$2:$G$32,$A186,1),\"\")","v":""},{"$f":"IFERROR(--MID(INDEX(Лист1!$A$2:$G$32,$A186,3),ROW()-1+10*(ROW()-2)-IF(A186=1,0,INDEX(Лист1!$A$2:$H$32,$A186-1,4)*11),10),\"\")","v":""},{"$f":"IFERROR((LEN(INDEX(Лист1!$A$2:$G$32,$A186,3))+1)/11,\"\")","v":""}]
[{"$f":"IFERROR(IF(ROW()=2,1,IF(INDEX(Лист1!$A$2:$I$32,$A186,4)=ROW()-2,IF(ROW()>=MAX(Лист1!D:D)+2,\"\",MAX(A$1:A186)+1),A186)),\"\")","v":""},{"$f":"IFERROR(INDEX(Лист1!$A$2:$G$32,$A187,1),\"\")","v":""},{"$f":"IFERROR(--MID(INDEX(Лист1!$A$2:$G$32,$A187,3),ROW()-1+10*(ROW()-2)-IF(A187=1,0,INDEX(Лист1!$A$2:$H$32,$A187-1,4)*11),10),\"\")","v":""},{"$f":"IFERROR((LEN(INDEX(Лист1!$A$2:$G$32,$A187,3))+1)/11,\"\")","v":""}]
[{"$f":"IFERROR(IF(ROW()=2,1,IF(INDEX(Лист1!$A$2:$I$32,$A187,4)=ROW()-2,IF(ROW()>=MAX(Лист1!D:D)+2,\"\",MAX(A$1:A187)+1),A187)),\"\")","v":""},{"$f":"IFERROR(INDEX(Лист1!$A$2:$G$32,$A188,1),\"\")","v":""},{"$f":"IFERROR(--MID(INDEX(Лист1!$A$2:$G$32,$A188,3),ROW()-1+10*(ROW()-2)-IF(A188=1,0,INDEX(Лист1!$A$2:$H$32,$A188-1,4)*11),10),\"\")","v":""},{"$f":"IFERROR((LEN(INDEX(Лист1!$A$2:$G$32,$A188,3))+1)/11,\"\")","v":""}]
[{"$f":"IFERROR(IF(ROW()=2,1,IF(INDEX(Лист1!$A$2:$I$32,$A188,4)=ROW()-2,IF(ROW()>=MAX(Лист1!D:D)+2,\"\",MAX(A$1:A188)+1),A188)),\"\")","v":""},{"$f":"IFERROR(INDEX(Лист1!$A$2:$G$32,$A189,1),\"\")","v":""},{"$f":"IFERROR(--MID(INDEX(Лист1!$A$2:$G$32,$A189,3),ROW()-1+10*(ROW()-2)-IF(A189=1,0,INDEX(Лист1!$A$2:$H$32,$A189-1,4)*11),10),\"\")","v":""},{"$f":"IFERROR((LEN(INDEX(Лист1!$A$2:$G$32,$A189,3))+1)/11,\"\")","v":""}]
[{"$f":"IFERROR(IF(ROW()=2,1,IF(INDEX(Лист1!$A$2:$I$32,$A189,4)=ROW()-2,IF(ROW()>=MAX(Лист1!D:D)+2,\"\",MAX(A$1:A189)+1),A189)),\"\")","v":""},{"$f":"IFERROR(INDEX(Лист1!$A$2:$G$32,$A190,1),\"\")","v":""},{"$f":"IFERROR(--MID(INDEX(Лист1!$A$2:$G$32,$A190,3),ROW()-1+10*(ROW()-2)-IF(A190=1,0,INDEX(Лист1!$A$2:$H$32,$A190-1,4)*11),10),\"\")","v":""},{"$f":"IFERROR((LEN(INDEX(Лист1!$A$2:$G$32,$A190,3))+1)/11,\"\")","v":""}]
[{"$f":"IFERROR(IF(ROW()=2,1,IF(INDEX(Лист1!$A$2:$I$32,$A190,4)=ROW()-2,IF(ROW()>=MAX(Лист1!D:D)+2,\"\",MAX(A$1:A190)+1),A190)),\"\")","v":""},{"$f":"IFERROR(INDEX(Лист1!$A$2:$G$32,$A191,1),\"\")","v":""},{"$f":"IFERROR(--MID(INDEX(Лист1!$A$2:$G$32,$A191,3),ROW()-1+10*(ROW()-2)-IF(A191=1,0,INDEX(Лист1!$A$2:$H$32,$A191-1,4)*11),10),\"\")","v":""},{"$f":"IFERROR((LEN(INDEX(Лист1!$A$2:$G$32,$A191,3))+1)/11,\"\")","v":""}]
[{"$f":"IFERROR(IF(ROW()=2,1,IF(INDEX(Лист1!$A$2:$I$32,$A191,4)=ROW()-2,IF(ROW()>=MAX(Лист1!D:D)+2,\"\",MAX(A$1:A191)+1),A191)),\"\")","v":""},{"$f":"IFERROR(INDEX(Лист1!$A$2:$G$32,$A192,1),\"\")","v":""},{"$f":"IFERROR(--MID(INDEX(Лист1!$A$2:$G$32,$A192,3),ROW()-1+10*(ROW()-2)-IF(A192=1,0,INDEX(Лист1!$A$2:$H$32,$A192-1,4)*11),10),\"\")","v":""},{"$f":"IFERROR((LEN(INDEX(Лист1!$A$2:$G$32,$A192,3))+1)/11,\"\")","v":""}]
[{"$f":"IFERROR(IF(ROW()=2,1,IF(INDEX(Лист1!$A$2:$I$32,$A192,4)=ROW()-2,IF(ROW()>=MAX(Лист1!D:D)+2,\"\",MAX(A$1:A192)+1),A192)),\"\")","v":""},{"$f":"IFERROR(INDEX(Лист1!$A$2:$G$32,$A193,1),\"\")","v":""},{"$f":"IFERROR(--MID(INDEX(Лист1!$A$2:$G$32,$A193,3),ROW()-1+10*(ROW()-2)-IF(A193=1,0,INDEX(Лист1!$A$2:$H$32,$A193-1,4)*11),10),\"\")","v":""},{"$f":"IFERROR((LEN(INDEX(Лист1!$A$2:$G$32,$A193,3))+1)/11,\"\")","v":""}]
[{"$f":"IFERROR(IF(ROW()=2,1,IF(INDEX(Лист1!$A$2:$I$32,$A193,4)=ROW()-2,IF(ROW()>=MAX(Лист1!D:D)+2,\"\",MAX(A$1:A193)+1),A193)),\"\")","v":""},{"$f":"IFERROR(INDEX(Лист1!$A$2:$G$32,$A194,1),\"\")","v":""},{"$f":"IFERROR(--MID(INDEX(Лист1!$A$2:$G$32,$A194,3),ROW()-1+10*(ROW()-2)-IF(A194=1,0,INDEX(Лист1!$A$2:$H$32,$A194-1,4)*11),10),\"\")","v":""},{"$f":"IFERROR((LEN(INDEX(Лист1!$A$2:$G$32,$A194,3))+1)/11,\"\")","v":""}]
[{"$f":"IFERROR(IF(ROW()=2,1,IF(INDEX(Лист1!$A$2:$I$32,$A194,4)=ROW()-2,IF(ROW()>=MAX(Лист1!D:D)+2,\"\",MAX(A$1:A194)+1),A194)),\"\")","v":""},{"$f":"IFERROR(INDEX(Лист1!$A$2:$G$32,$A195,1),\"\")","v":""},{"$f":"IFERROR(--MID(INDEX(Лист1!$A$2:$G$32,$A195,3),ROW()-1+10*(ROW()-2)-IF(A195=1,0,INDEX(Лист1!$A$2:$H$32,$A195-1,4)*11),10),\"\")","v":""},{"$f":"IFERROR((LEN(INDEX(Лист1!$A$2:$G$32,$A195,3))+1)/11,\"\")","v":""}]
[{"$f":"IFERROR(IF(ROW()=2,1,IF(INDEX(Лист1!$A$2:$I$32,$A195,4)=ROW()-2,IF(ROW()>=MAX(Лист1!D:D)+2,\"\",MAX(A$1:A195)+1),A195)),\"\")","v":""},{"$f":"IFERROR(INDEX(Лист1!$A$2:$G$32,$A196,1),\"\")","v":""},{"$f":"IFERROR(--MID(INDEX(Лист1!$A$2:$G$32,$A196,3),ROW()-1+10*(ROW()-2)-IF(A196=1,0,INDEX(Лист1!$A$2:$H$32,$A196-1,4)*11),10),\"\")","v":""},{"$f":"IFERROR((LEN(INDEX(Лист1!$A$2:$G$32,$A196,3))+1)/11,\"\")","v":""}]
[{"$f":"IFERROR(IF(ROW()=2,1,IF(INDEX(Лист1!$A$2:$I$32,$A196,4)=ROW()-2,IF(ROW()>=MAX(Лист1!D:D)+2,\"\",MAX(A$1:A196)+1),A196)),\"\")","v":""},{"$f":"IFERROR(INDEX(Лист1!$A$2:$G$32,$A197,1),\"\")","v":""},{"$f":"IFERROR(--MID(INDEX(Лист1!$A$2:$G$32,$A197,3),ROW()-1+10*(ROW()-2)-IF(A197=1,0,INDEX(Лист1!$A$2:$H$32,$A197-1,4)*11),10),\"\")","v":""},{"$f":"IFERROR((LEN(INDEX(Лист1!$A$2:$G$32,$A197,3))+1)/11,\"\")","v":""}]
[{"$f":"IFERROR(IF(ROW()=2,1,IF(INDEX(Лист1!$A$2:$I$32,$A197,4)=ROW()-2,IF(ROW()>=MAX(Лист1!D:D)+2,\"\",MAX(A$1:A197)+1),A197)),\"\")","v":""},{"$f":"IFERROR(INDEX(Лист1!$A$2:$G$32,$A198,1),\"\")","v":""},{"$f":"IFERROR(--MID(INDEX(Лист1!$A$2:$G$32,$A198,3),ROW()-1+10*(ROW()-2)-IF(A198=1,0,INDEX(Лист1!$A$2:$H$32,$A198-1,4)*11),10),\"\")","v":""},{"$f":"IFERROR((LEN(INDEX(Лист1!$A$2:$G$32,$A198,3))+1)/11,\"\")","v":""}]
[{"$f":"IFERROR(IF(ROW()=2,1,IF(INDEX(Лист1!$A$2:$I$32,$A198,4)=ROW()-2,IF(ROW()>=MAX(Лист1!D:D)+2,\"\",MAX(A$1:A198)+1),A198)),\"\")","v":""},{"$f":"IFERROR(INDEX(Лист1!$A$2:$G$32,$A199,1),\"\")","v":""},{"$f":"IFERROR(--MID(INDEX(Лист1!$A$2:$G$32,$A199,3),ROW()-1+10*(ROW()-2)-IF(A199=1,0,INDEX(Лист1!$A$2:$H$32,$A199-1,4)*11),10),\"\")","v":""},{"$f":"IFERROR((LEN(INDEX(Лист1!$A$2:$G$32,$A199,3))+1)/11,\"\")","v":""}]
[{"$f":"IFERROR(IF(ROW()=2,1,IF(INDEX(Лист1!$A$2:$I$32,$A199,4)=ROW()-2,IF(ROW()>=MAX(Лист1!D:D)+2,\"\",MAX(A$1:A199)+1),A199)),\"\")","v":""},{"$f":"IFERROR(INDEX(Лист1!$A$2:$G$32,$A200,1),\"\")","v":""},{"$f":"IFERROR(--MID(INDEX(Лист1!$A$2:$G$32,$A200,3),ROW()-1+10*(ROW()-2)-IF(A200=1,0,INDEX(Лист1!$A$2:$H$32,$A200-1,4)*11),10),\"\")","v":""},{"$f":"IFERROR((LEN(INDEX(Лист1!$A$2:$G$32,$A200,3))+1)/11,\"\")","v":""}]
[{"$f":"IFERROR(IF(ROW()=2,1,IF(INDEX(Лист1!$A$2:$I$32,$A200,4)=ROW()-2,IF(ROW()>=MAX(Лист1!D:D)+2,\"\",MAX(A$1:A200)+1),A200)),\"\")","v":""},{"$f":"IFERROR(INDEX(Лист1!$A$2:$G$32,$A201,1),\"\")","v":""},{"$f":"IFERROR(--MID(INDEX(Лист1!$A$2:$G$32,$A201,3),ROW()-1+10*(ROW()-2)-IF(A201=1,0,INDEX(Лист1!$A$2:$H$32,$A201-1,4)*11),10),\"\")","v":""},{"$f":"IFERROR((LEN(INDEX(Лист1!$A$2:$G$32,$A201,3))+1)/11,\"\")","v":""}]
[{"$f":"IFERROR(IF(ROW()=2,1,IF(INDEX(Лист1!$A$2:$I$32,$A201,4)=ROW()-2,IF(ROW()>=MAX(Лист1!D:D)+2,\"\",MAX(A$1:A201)+1),A201)),\"\")","v":""},{"$f":"IFERROR(INDEX(Лист1!$A$2:$G$32,$A202,1),\"\")","v":""},{"$f":"IFERROR(--MID(INDEX(Лист1!$A$2:$G$32,$A202,3),ROW()-1+10*(ROW()-2)-IF(A202=1,0,INDEX(Лист1!$A$2:$H$32,$A202-1,4)*11),10),\"\")","v":""},{"$f":"IFERROR((LEN(INDEX(Лист1!$A$2:$G$32,$A202,3))+1)/11,\"\")","v":""}]
[{"$f":"IFERROR(IF(ROW()=2,1,IF(INDEX(Лист1!$A$2:$I$32,$A202,4)=ROW()-2,IF(ROW()>=MAX(Лист1!D:D)+2,\"\",MAX(A$1:A202)+1),A202)),\"\")","v":""},{"$f":"IFERROR(INDEX(Лист1!$A$2:$G$32,$A203,1),\"\")","v":""},{"$f":"IFERROR(--MID(INDEX(Лист1!$A$2:$G$32,$A203,3),ROW()-1+10*(ROW()-2)-IF(A203=1,0,INDEX(Лист1!$A$2:$H$32,$A203-1,4)*11),10),\"\")","v":""},{"$f":"IFERROR((LEN(INDEX(Лист1!$A$2:$G$32,$A203,3))+1)/11,\"\")","v":""}]
[{"$f":"IFERROR(IF(ROW()=2,1,IF(INDEX(Лист1!$A$2:$I$32,$A203,4)=ROW()-2,IF(ROW()>=MAX(Лист1!D:D)+2,\"\",MAX(A$1:A203)+1),A203)),\"\")","v":""},{"$f":"IFERROR(INDEX(Лист1!$A$2:$G$32,$A204,1),\"\")","v":""},{"$f":"IFERROR(--MID(INDEX(Лист1!$A$2:$G$32,$A204,3),ROW()-1+10*(ROW()-2)-IF(A204=1,0,INDEX(Лист1!$A$2:$H$32,$A204-1,4)*11),10),\"\")","v":""},{"$f":"IFERROR((LEN(INDEX(Лист1!$A$2:$G$32,$A204,3))+1)/11,\"\")","v":""}]
[{"$f":"IFERROR(IF(ROW()=2,1,IF(INDEX(Лист1!$A$2:$I$32,$A204,4)=ROW()-2,IF(ROW()>=MAX(Лист1!D:D)+2,\"\",MAX(A$1:A204)+1),A204)),\"\")","v":""},{"$f":"IFERROR(INDEX(Лист1!$A$2:$G$32,$A205,1),\"\")","v":""},{"$f":"IFERROR(--MID(INDEX(Лист1!$A$2:$G$32,$A205,3),ROW()-1+10*(ROW()-2)-IF(A205=1,0,INDEX(Лист1!$A$2:$H$32,$A205-1,4)*11),10),\"\")","v":""},{"$f":"IFERROR((LEN(INDEX(Лист1!$A$2:$G$32,$A205,3))+1)/11,\"\")","v":""}]
[{"$f":"IFERROR(IF(ROW()=2,1,IF(INDEX(Лист1!$A$2:$I$32,$A205,4)=ROW()-2,IF(ROW()>=MAX(Лист1!D:D)+2,\"\",MAX(A$1:A205)+1),A205)),\"\")","v":""},{"$f":"IFERROR(INDEX(Лист1!$A$2:$G$32,$A206,1),\"\")","v":""},{"$f":"IFERROR(--MID(INDEX(Лист1!$A$2:$G$32,$A206,3),ROW()-1+10*(ROW()-2)-IF(A206=1,0,INDEX(Лист1!$A$2:$H$32,$A206-1,4)*11),10),\"\")","v":""},{"$f":"IFERROR((LEN(INDEX(Лист1!$A$2:$G$32,$A206,3))+1)/11,\"\")","v":""}]
[{"$f":"IFERROR(IF(ROW()=2,1,IF(INDEX(Лист1!$A$2:$I$32,$A206,4)=ROW()-2,IF(ROW()>=MAX(Лист1!D:D)+2,\"\",MAX(A$1:A206)+1),A206)),\"\")","v":""},{"$f":"IFERROR(INDEX(Лист1!$A$2:$G$32,$A207,1),\"\")","v":""},{"$f":"IFERROR(--MID(INDEX(Лист1!$A$2:$G$32,$A207,3),ROW()-1+10*(ROW()-2)-IF(A207=1,0,INDEX(Лист1!$A$2:$H$32,$A207-1,4)*11),10),\"\")","v":""},{"$f":"IFERROR((LEN(INDEX(Лист1!$A$2:$G$32,$A207,3))+1)/11,\"\")","v":""}]
[{"$f":"IFERROR(IF(ROW()=2,1,IF(INDEX(Лист1!$A$2:$I$32,$A207,4)=ROW()-2,IF(ROW()>=MAX(Лист1!D:D)+2,\"\",MAX(A$1:A207)+1),A207)),\"\")","v":""},{"$f":"IFERROR(INDEX(Лист1!$A$2:$G$32,$A208,1),\"\")","v":""},{"$f":"IFERROR(--MID(INDEX(Лист1!$A$2:$G$32,$A208,3),ROW()-1+10*(ROW()-2)-IF(A208=1,0,INDEX(Лист1!$A$2:$H$32,$A208-1,4)*11),10),\"\")","v":""},{"$f":"IFERROR((LEN(INDEX(Лист1!$A$2:$G$32,$A208,3))+1)/11,\"\")","v":""}]
[{"$f":"IFERROR(IF(ROW()=2,1,IF(INDEX(Лист1!$A$2:$I$32,$A208,4)=ROW()-2,IF(ROW()>=MAX(Лист1!D:D)+2,\"\",MAX(A$1:A208)+1),A208)),\"\")","v":""},{"$f":"IFERROR(INDEX(Лист1!$A$2:$G$32,$A209,1),\"\")","v":""},{"$f":"IFERROR(--MID(INDEX(Лист1!$A$2:$G$32,$A209,3),ROW()-1+10*(ROW()-2)-IF(A209=1,0,INDEX(Лист1!$A$2:$H$32,$A209-1,4)*11),10),\"\")","v":""},{"$f":"IFERROR((LEN(INDEX(Лист1!$A$2:$G$32,$A209,3))+1)/11,\"\")","v":""}]
[{"$f":"IFERROR(IF(ROW()=2,1,IF(INDEX(Лист1!$A$2:$I$32,$A209,4)=ROW()-2,IF(ROW()>=MAX(Лист1!D:D)+2,\"\",MAX(A$1:A209)+1),A209)),\"\")","v":""},{"$f":"IFERROR(INDEX(Лист1!$A$2:$G$32,$A210,1),\"\")","v":""},{"$f":"IFERROR(--MID(INDEX(Лист1!$A$2:$G$32,$A210,3),ROW()-1+10*(ROW()-2)-IF(A210=1,0,INDEX(Лист1!$A$2:$H$32,$A210-1,4)*11),10),\"\")","v":""},{"$f":"IFERROR((LEN(INDEX(Лист1!$A$2:$G$32,$A210,3))+1)/11,\"\")","v":""}]
[{"$f":"IFERROR(IF(ROW()=2,1,IF(INDEX(Лист1!$A$2:$I$32,$A210,4)=ROW()-2,IF(ROW()>=MAX(Лист1!D:D)+2,\"\",MAX(A$1:A210)+1),A210)),\"\")","v":""},{"$f":"IFERROR(INDEX(Лист1!$A$2:$G$32,$A211,1),\"\")","v":""},{"$f":"IFERROR(--MID(INDEX(Лист1!$A$2:$G$32,$A211,3),ROW()-1+10*(ROW()-2)-IF(A211=1,0,INDEX(Лист1!$A$2:$H$32,$A211-1,4)*11),10),\"\")","v":""},{"$f":"IFERROR((LEN(INDEX(Лист1!$A$2:$G$32,$A211,3))+1)/11,\"\")","v":""}]
[{"$f":"IFERROR(IF(ROW()=2,1,IF(INDEX(Лист1!$A$2:$I$32,$A211,4)=ROW()-2,IF(ROW()>=MAX(Лист1!D:D)+2,\"\",MAX(A$1:A211)+1),A211)),\"\")","v":""},{"$f":"IFERROR(INDEX(Лист1!$A$2:$G$32,$A212,1),\"\")","v":""},{"$f":"IFERROR(--MID(INDEX(Лист1!$A$2:$G$32,$A212,3),ROW()-1+10*(ROW()-2)-IF(A212=1,0,INDEX(Лист1!$A$2:$H$32,$A212-1,4)*11),10),\"\")","v":""},{"$f":"IFERROR((LEN(INDEX(Лист1!$A$2:$G$32,$A212,3))+1)/11,\"\")","v":""}]
[{"$f":"IFERROR(IF(ROW()=2,1,IF(INDEX(Лист1!$A$2:$I$32,$A212,4)=ROW()-2,IF(ROW()>=MAX(Лист1!D:D)+2,\"\",MAX(A$1:A212)+1),A212)),\"\")","v":""},{"$f":"IFERROR(INDEX(Лист1!$A$2:$G$32,$A213,1),\"\")","v":""},{"$f":"IFERROR(--MID(INDEX(Лист1!$A$2:$G$32,$A213,3),ROW()-1+10*(ROW()-2)-IF(A213=1,0,INDEX(Лист1!$A$2:$H$32,$A213-1,4)*11),10),\"\")","v":""},{"$f":"IFERROR((LEN(INDEX(Лист1!$A$2:$G$32,$A213,3))+1)/11,\"\")","v":""}]
[{"$f":"IFERROR(IF(ROW()=2,1,IF(INDEX(Лист1!$A$2:$I$32,$A213,4)=ROW()-2,IF(ROW()>=MAX(Лист1!D:D)+2,\"\",MAX(A$1:A213)+1),A213)),\"\")","v":""},{"$f":"IFERROR(INDEX(Лист1!$A$2:$G$32,$A214,1),\"\")","v":""},{"$f":"IFERROR(--MID(INDEX(Лист1!$A$2:$G$32,$A214,3),ROW()-1+10*(ROW()-2)-IF(A214=1,0,INDEX(Лист1!$A$2:$H$32,$A214-1,4)*11),10),\"\")","v":""},{"$f":"IFERROR((LEN(INDEX(Лист1!$A$2:$G$32,$A214,3))+1)/11,\"\")","v":""}]
[{"$f":"IFERROR(IF(ROW()=2,1,IF(INDEX(Лист1!$A$2:$I$32,$A214,4)=ROW()-2,IF(ROW()>=MAX(Лист1!D:D)+2,\"\",MAX(A$1:A214)+1),A214)),\"\")","v":""},{"$f":"IFERROR(INDEX(Лист1!$A$2:$G$32,$A215,1),\"\")","v":""},{"$f":"IFERROR(--MID(INDEX(Лист1!$A$2:$G$32,$A215,3),ROW()-1+10*(ROW()-2)-IF(A215=1,0,INDEX(Лист1!$A$2:$H$32,$A215-1,4)*11),10),\"\")","v":""},{"$f":"IFERROR((LEN(INDEX(Лист1!$A$2:$G$32,$A215,3))+1)/11,\"\")","v":""}]
[{"$f":"IFERROR(IF(ROW()=2,1,IF(INDEX(Лист1!$A$2:$I$32,$A215,4)=ROW()-2,IF(ROW()>=MAX(Лист1!D:D)+2,\"\",MAX(A$1:A215)+1),A215)),\"\")","v":""},{"$f":"IFERROR(INDEX(Лист1!$A$2:$G$32,$A216,1),\"\")","v":""},{"$f":"IFERROR(--MID(INDEX(Лист1!$A$2:$G$32,$A216,3),ROW()-1+10*(ROW()-2)-IF(A216=1,0,INDEX(Лист1!$A$2:$H$32,$A216-1,4)*11),10),\"\")","v":""},{"$f":"IFERROR((LEN(INDEX(Лист1!$A$2:$G$32,$A216,3))+1)/11,\"\")","v":""}]
[{"$f":"IFERROR(IF(ROW()=2,1,IF(INDEX(Лист1!$A$2:$I$32,$A216,4)=ROW()-2,IF(ROW()>=MAX(Лист1!D:D)+2,\"\",MAX(A$1:A216)+1),A216)),\"\")","v":""},{"$f":"IFERROR(INDEX(Лист1!$A$2:$G$32,$A217,1),\"\")","v":""},{"$f":"IFERROR(--MID(INDEX(Лист1!$A$2:$G$32,$A217,3),ROW()-1+10*(ROW()-2)-IF(A217=1,0,INDEX(Лист1!$A$2:$H$32,$A217-1,4)*11),10),\"\")","v":""},{"$f":"IFERROR((LEN(INDEX(Лист1!$A$2:$G$32,$A217,3))+1)/11,\"\")","v":""}]
[{"$f":"IFERROR(IF(ROW()=2,1,IF(INDEX(Лист1!$A$2:$I$32,$A217,4)=ROW()-2,IF(ROW()>=MAX(Лист1!D:D)+2,\"\",MAX(A$1:A217)+1),A217)),\"\")","v":""},{"$f":"IFERROR(INDEX(Лист1!$A$2:$G$32,$A218,1),\"\")","v":""},{"$f":"IFERROR(--MID(INDEX(Лист1!$A$2:$G$32,$A218,3),ROW()-1+10*(ROW()-2)-IF(A218=1,0,INDEX(Лист1!$A$2:$H$32,$A218-1,4)*11),10),\"\")","v":""},{"$f":"IFERROR((LEN(INDEX(Лист1!$A$2:$G$32,$A218,3))+1)/11,\"\")","v":""}]
[{"$f":"IFERROR(IF(ROW()=2,1,IF(INDEX(Лист1!$A$2:$I$32,$A218,4)=ROW()-2,IF(ROW()>=MAX(Лист1!D:D)+2,\"\",MAX(A$1:A218)+1),A218)),\"\")","v":""},{"$f":"IFERROR(INDEX(Лист1!$A$2:$G$32,$A219,1),\"\")","v":""},{"$f":"IFERROR(--MID(INDEX(Лист1!$A$2:$G$32,$A219,3),ROW()-1+10*(ROW()-2)-IF(A219=1,0,INDEX(Лист1!$A$2:$H$32,$A219-1,4)*11),10),\"\")","v":""},{"$f":"IFERROR((LEN(INDEX(Лист1!$A$2:$G$32,$A219,3))+1)/11,\"\")","v":""}]
[{"$f":"IFERROR(IF(ROW()=2,1,IF(INDEX(Лист1!$A$2:$I$32,$A219,4)=ROW()-2,IF(ROW()>=MAX(Лист1!D:D)+2,\"\",MAX(A$1:A219)+1),A219)),\"\")","v":""},{"$f":"IFERROR(INDEX(Лист1!$A$2:$G$32,$A220,1),\"\")","v":""},{"$f":"IFERROR(--MID(INDEX(Лист1!$A$2:$G$32,$A220,3),ROW()-1+10*(ROW()-2)-IF(A220=1,0,INDEX(Лист1!$A$2:$H$32,$A220-1,4)*11),10),\"\")","v":""},{"$f":"IFERROR((LEN(INDEX(Лист1!$A$2:$G$32,$A220,3))+1)/11,\"\")","v":""}]
[{"$f":"IFERROR(IF(ROW()=2,1,IF(INDEX(Лист1!$A$2:$I$32,$A220,4)=ROW()-2,IF(ROW()>=MAX(Лист1!D:D)+2,\"\",MAX(A$1:A220)+1),A220)),\"\")","v":""},{"$f":"IFERROR(INDEX(Лист1!$A$2:$G$32,$A221,1),\"\")","v":""},{"$f":"IFERROR(--MID(INDEX(Лист1!$A$2:$G$32,$A221,3),ROW()-1+10*(ROW()-2)-IF(A221=1,0,INDEX(Лист1!$A$2:$H$32,$A221-1,4)*11),10),\"\")","v":""},{"$f":"IFERROR((LEN(INDEX(Лист1!$A$2:$G$32,$A221,3))+1)/11,\"\")","v":""}]
[{"$f":"IFERROR(IF(ROW()=2,1,IF(INDEX(Лист1!$A$2:$I$32,$A221,4)=ROW()-2,IF(ROW()>=MAX(Лист1!D:D)+2,\"\",MAX(A$1:A221)+1),A221)),\"\")","v":""},{"$f":"IFERROR(INDEX(Лист1!$A$2:$G$32,$A222,1),\"\")","v":""},{"$f":"IFERROR(--MID(INDEX(Лист1!$A$2:$G$32,$A222,3),ROW()-1+10*(ROW()-2)-IF(A222=1,0,INDEX(Лист1!$A$2:$H$32,$A222-1,4)*11),10),\"\")","v":""},{"$f":"IFERROR((LEN(INDEX(Лист1!$A$2:$G$32,$A222,3))+1)/11,\"\")","v":""}]
[{"$f":"IFERROR(IF(ROW()=2,1,IF(INDEX(Лист1!$A$2:$I$32,$A222,4)=ROW()-2,IF(ROW()>=MAX(Лист1!D:D)+2,\"\",MAX(A$1:A222)+1),A222)),\"\")","v":""},{"$f":"IFERROR(INDEX(Лист1!$A$2:$G$32,$A223,1),\"\")","v":""},{"$f":"IFERROR(--MID(INDEX(Лист1!$A$2:$G$32,$A223,3),ROW()-1+10*(ROW()-2)-IF(A223=1,0,INDEX(Лист1!$A$2:$H$32,$A223-1,4)*11),10),\"\")","v":""},{"$f":"IFERROR((LEN(INDEX(Лист1!$A$2:$G$32,$A223,3))+1)/11,\"\")","v":""}]
[{"$f":"IFERROR(IF(ROW()=2,1,IF(INDEX(Лист1!$A$2:$I$32,$A223,4)=ROW()-2,IF(ROW()>=MAX(Лист1!D:D)+2,\"\",MAX(A$1:A223)+1),A223)),\"\")","v":""},{"$f":"IFERROR(INDEX(Лист1!$A$2:$G$32,$A224,1),\"\")","v":""},{"$f":"IFERROR(--MID(INDEX(Лист1!$A$2:$G$32,$A224,3),ROW()-1+10*(ROW()-2)-IF(A224=1,0,INDEX(Лист1!$A$2:$H$32,$A224-1,4)*11),10),\"\")","v":""},{"$f":"IFERROR((LEN(INDEX(Лист1!$A$2:$G$32,$A224,3))+1)/11,\"\")","v":""}]
[{"$f":"IFERROR(IF(ROW()=2,1,IF(INDEX(Лист1!$A$2:$I$32,$A224,4)=ROW()-2,IF(ROW()>=MAX(Лист1!D:D)+2,\"\",MAX(A$1:A224)+1),A224)),\"\")","v":""},{"$f":"IFERROR(INDEX(Лист1!$A$2:$G$32,$A225,1),\"\")","v":""},{"$f":"IFERROR(--MID(INDEX(Лист1!$A$2:$G$32,$A225,3),ROW()-1+10*(ROW()-2)-IF(A225=1,0,INDEX(Лист1!$A$2:$H$32,$A225-1,4)*11),10),\"\")","v":""},{"$f":"IFERROR((LEN(INDEX(Лист1!$A$2:$G$32,$A225,3))+1)/11,\"\")","v":""}]
[{"$f":"IFERROR(IF(ROW()=2,1,IF(INDEX(Лист1!$A$2:$I$32,$A225,4)=ROW()-2,IF(ROW()>=MAX(Лист1!D:D)+2,\"\",MAX(A$1:A225)+1),A225)),\"\")","v":""},{"$f":"IFERROR(INDEX(Лист1!$A$2:$G$32,$A226,1),\"\")","v":""},{"$f":"IFERROR(--MID(INDEX(Лист1!$A$2:$G$32,$A226,3),ROW()-1+10*(ROW()-2)-IF(A226=1,0,INDEX(Лист1!$A$2:$H$32,$A226-1,4)*11),10),\"\")","v":""},{"$f":"IFERROR((LEN(INDEX(Лист1!$A$2:$G$32,$A226,3))+1)/11,\"\")","v":""}]
[{"$f":"IFERROR(IF(ROW()=2,1,IF(INDEX(Лист1!$A$2:$I$32,$A226,4)=ROW()-2,IF(ROW()>=MAX(Лист1!D:D)+2,\"\",MAX(A$1:A226)+1),A226)),\"\")","v":""},{"$f":"IFERROR(INDEX(Лист1!$A$2:$G$32,$A227,1),\"\")","v":""},{"$f":"IFERROR(--MID(INDEX(Лист1!$A$2:$G$32,$A227,3),ROW()-1+10*(ROW()-2)-IF(A227=1,0,INDEX(Лист1!$A$2:$H$32,$A227-1,4)*11),10),\"\")","v":""},{"$f":"IFERROR((LEN(INDEX(Лист1!$A$2:$G$32,$A227,3))+1)/11,\"\")","v":""}]
[{"$f":"IFERROR(IF(ROW()=2,1,IF(INDEX(Лист1!$A$2:$I$32,$A227,4)=ROW()-2,IF(ROW()>=MAX(Лист1!D:D)+2,\"\",MAX(A$1:A227)+1),A227)),\"\")","v":""},{"$f":"IFERROR(INDEX(Лист1!$A$2:$G$32,$A228,1),\"\")","v":""},{"$f":"IFERROR(--MID(INDEX(Лист1!$A$2:$G$32,$A228,3),ROW()-1+10*(ROW()-2)-IF(A228=1,0,INDEX(Лист1!$A$2:$H$32,$A228-1,4)*11),10),\"\")","v":""},{"$f":"IFERROR((LEN(INDEX(Лист1!$A$2:$G$32,$A228,3))+1)/11,\"\")","v":""}]
[{"$f":"IFERROR(IF(ROW()=2,1,IF(INDEX(Лист1!$A$2:$I$32,$A228,4)=ROW()-2,IF(ROW()>=MAX(Лист1!D:D)+2,\"\",MAX(A$1:A228)+1),A228)),\"\")","v":""},{"$f":"IFERROR(INDEX(Лист1!$A$2:$G$32,$A229,1),\"\")","v":""},{"$f":"IFERROR(--MID(INDEX(Лист1!$A$2:$G$32,$A229,3),ROW()-1+10*(ROW()-2)-IF(A229=1,0,INDEX(Лист1!$A$2:$H$32,$A229-1,4)*11),10),\"\")","v":""},{"$f":"IFERROR((LEN(INDEX(Лист1!$A$2:$G$32,$A229,3))+1)/11,\"\")","v":""}]
[{"$f":"IFERROR(IF(ROW()=2,1,IF(INDEX(Лист1!$A$2:$I$32,$A229,4)=ROW()-2,IF(ROW()>=MAX(Лист1!D:D)+2,\"\",MAX(A$1:A229)+1),A229)),\"\")","v":""},{"$f":"IFERROR(INDEX(Лист1!$A$2:$G$32,$A230,1),\"\")","v":""},{"$f":"IFERROR(--MID(INDEX(Лист1!$A$2:$G$32,$A230,3),ROW()-1+10*(ROW()-2)-IF(A230=1,0,INDEX(Лист1!$A$2:$H$32,$A230-1,4)*11),10),\"\")","v":""},{"$f":"IFERROR((LEN(INDEX(Лист1!$A$2:$G$32,$A230,3))+1)/11,\"\")","v":""}]
[{"$f":"IFERROR(IF(ROW()=2,1,IF(INDEX(Лист1!$A$2:$I$32,$A230,4)=ROW()-2,IF(ROW()>=MAX(Лист1!D:D)+2,\"\",MAX(A$1:A230)+1),A230)),\"\")","v":""},{"$f":"IFERROR(INDEX(Лист1!$A$2:$G$32,$A231,1),\"\")","v":""},{"$f":"IFERROR(--MID(INDEX(Лист1!$A$2:$G$32,$A231,3),ROW()-1+10*(ROW()-2)-IF(A231=1,0,INDEX(Лист1!$A$2:$H$32,$A231-1,4)*11),10),\"\")","v":""},{"$f":"IFERROR((LEN(INDEX(Лист1!$A$2:$G$32,$A231,3))+1)/11,\"\")","v":""}]
[{"$f":"IFERROR(IF(ROW()=2,1,IF(INDEX(Лист1!$A$2:$I$32,$A231,4)=ROW()-2,IF(ROW()>=MAX(Лист1!D:D)+2,\"\",MAX(A$1:A231)+1),A231)),\"\")","v":""},{"$f":"IFERROR(INDEX(Лист1!$A$2:$G$32,$A232,1),\"\")","v":""},{"$f":"IFERROR(--MID(INDEX(Лист1!$A$2:$G$32,$A232,3),ROW()-1+10*(ROW()-2)-IF(A232=1,0,INDEX(Лист1!$A$2:$H$32,$A232-1,4)*11),10),\"\")","v":""},{"$f":"IFERROR((LEN(INDEX(Лист1!$A$2:$G$32,$A232,3))+1)/11,\"\")","v":""}]
[{"$f":"IFERROR(IF(ROW()=2,1,IF(INDEX(Лист1!$A$2:$I$32,$A232,4)=ROW()-2,IF(ROW()>=MAX(Лист1!D:D)+2,\"\",MAX(A$1:A232)+1),A232)),\"\")","v":""},{"$f":"IFERROR(INDEX(Лист1!$A$2:$G$32,$A233,1),\"\")","v":""},{"$f":"IFERROR(--MID(INDEX(Лист1!$A$2:$G$32,$A233,3),ROW()-1+10*(ROW()-2)-IF(A233=1,0,INDEX(Лист1!$A$2:$H$32,$A233-1,4)*11),10),\"\")","v":""},{"$f":"IFERROR((LEN(INDEX(Лист1!$A$2:$G$32,$A233,3))+1)/11,\"\")","v":""}]
[{"$f":"IFERROR(IF(ROW()=2,1,IF(INDEX(Лист1!$A$2:$I$32,$A233,4)=ROW()-2,IF(ROW()>=MAX(Лист1!D:D)+2,\"\",MAX(A$1:A233)+1),A233)),\"\")","v":""},{"$f":"IFERROR(INDEX(Лист1!$A$2:$G$32,$A234,1),\"\")","v":""},{"$f":"IFERROR(--MID(INDEX(Лист1!$A$2:$G$32,$A234,3),ROW()-1+10*(ROW()-2)-IF(A234=1,0,INDEX(Лист1!$A$2:$H$32,$A234-1,4)*11),10),\"\")","v":""},{"$f":"IFERROR((LEN(INDEX(Лист1!$A$2:$G$32,$A234,3))+1)/11,\"\")","v":""}]
[{"$f":"IFERROR(IF(ROW()=2,1,IF(INDEX(Лист1!$A$2:$I$32,$A234,4)=ROW()-2,IF(ROW()>=MAX(Лист1!D:D)+2,\"\",MAX(A$1:A234)+1),A234)),\"\")","v":""},{"$f":"IFERROR(INDEX(Лист1!$A$2:$G$32,$A235,1),\"\")","v":""},{"$f":"IFERROR(--MID(INDEX(Лист1!$A$2:$G$32,$A235,3),ROW()-1+10*(ROW()-2)-IF(A235=1,0,INDEX(Лист1!$A$2:$H$32,$A235-1,4)*11),10),\"\")","v":""},{"$f":"IFERROR((LEN(INDEX(Лист1!$A$2:$G$32,$A235,3))+1)/11,\"\")","v":""}]
[{"$f":"IFERROR(IF(ROW()=2,1,IF(INDEX(Лист1!$A$2:$I$32,$A235,4)=ROW()-2,IF(ROW()>=MAX(Лист1!D:D)+2,\"\",MAX(A$1:A235)+1),A235)),\"\")","v":""},{"$f":"IFERROR(INDEX(Лист1!$A$2:$G$32,$A236,1),\"\")","v":""},{"$f":"IFERROR(--MID(INDEX(Лист1!$A$2:$G$32,$A236,3),ROW()-1+10*(ROW()-2)-IF(A236=1,0,INDEX(Лист1!$A$2:$H$32,$A236-1,4)*11),10),\"\")","v":""},{"$f":"IFERROR((LEN(INDEX(Лист1!$A$2:$G$32,$A236,3))+1)/11,\"\")","v":""}]
[{"$f":"IFERROR(IF(ROW()=2,1,IF(INDEX(Лист1!$A$2:$I$32,$A236,4)=ROW()-2,IF(ROW()>=MAX(Лист1!D:D)+2,\"\",MAX(A$1:A236)+1),A236)),\"\")","v":""},{"$f":"IFERROR(INDEX(Лист1!$A$2:$G$32,$A237,1),\"\")","v":""},{"$f":"IFERROR(--MID(INDEX(Лист1!$A$2:$G$32,$A237,3),ROW()-1+10*(ROW()-2)-IF(A237=1,0,INDEX(Лист1!$A$2:$H$32,$A237-1,4)*11),10),\"\")","v":""},{"$f":"IFERROR((LEN(INDEX(Лист1!$A$2:$G$32,$A237,3))+1)/11,\"\")","v":""}]
[{"$f":"IFERROR(IF(ROW()=2,1,IF(INDEX(Лист1!$A$2:$I$32,$A237,4)=ROW()-2,IF(ROW()>=MAX(Лист1!D:D)+2,\"\",MAX(A$1:A237)+1),A237)),\"\")","v":""},{"$f":"IFERROR(INDEX(Лист1!$A$2:$G$32,$A238,1),\"\")","v":""},{"$f":"IFERROR(--MID(INDEX(Лист1!$A$2:$G$32,$A238,3),ROW()-1+10*(ROW()-2)-IF(A238=1,0,INDEX(Лист1!$A$2:$H$32,$A238-1,4)*11),10),\"\")","v":""},{"$f":"IFERROR((LEN(INDEX(Лист1!$A$2:$G$32,$A238,3))+1)/11,\"\")","v":""}]
[{"$f":"IFERROR(IF(ROW()=2,1,IF(INDEX(Лист1!$A$2:$I$32,$A238,4)=ROW()-2,IF(ROW()>=MAX(Лист1!D:D)+2,\"\",MAX(A$1:A238)+1),A238)),\"\")","v":""},{"$f":"IFERROR(INDEX(Лист1!$A$2:$G$32,$A239,1),\"\")","v":""},{"$f":"IFERROR(--MID(INDEX(Лист1!$A$2:$G$32,$A239,3),ROW()-1+10*(ROW()-2)-IF(A239=1,0,INDEX(Лист1!$A$2:$H$32,$A239-1,4)*11),10),\"\")","v":""},{"$f":"IFERROR((LEN(INDEX(Лист1!$A$2:$G$32,$A239,3))+1)/11,\"\")","v":""}]
[{"$f":"IFERROR(IF(ROW()=2,1,IF(INDEX(Лист1!$A$2:$I$32,$A239,4)=ROW()-2,IF(ROW()>=MAX(Лист1!D:D)+2,\"\",MAX(A$1:A239)+1),A239)),\"\")","v":""},{"$f":"IFERROR(INDEX(Лист1!$A$2:$G$32,$A240,1),\"\")","v":""},{"$f":"IFERROR(--MID(INDEX(Лист1!$A$2:$G$32,$A240,3),ROW()-1+10*(ROW()-2)-IF(A240=1,0,INDEX(Лист1!$A$2:$H$32,$A240-1,4)*11),10),\"\")","v":""},{"$f":"IFERROR((LEN(INDEX(Лист1!$A$2:$G$32,$A240,3))+1)/11,\"\")","v":""}]
[{"$f":"IFERROR(IF(ROW()=2,1,IF(INDEX(Лист1!$A$2:$I$32,$A240,4)=ROW()-2,IF(ROW()>=MAX(Лист1!D:D)+2,\"\",MAX(A$1:A240)+1),A240)),\"\")","v":""},{"$f":"IFERROR(INDEX(Лист1!$A$2:$G$32,$A241,1),\"\")","v":""},{"$f":"IFERROR(--MID(INDEX(Лист1!$A$2:$G$32,$A241,3),ROW()-1+10*(ROW()-2)-IF(A241=1,0,INDEX(Лист1!$A$2:$H$32,$A241-1,4)*11),10),\"\")","v":""},{"$f":"IFERROR((LEN(INDEX(Лист1!$A$2:$G$32,$A241,3))+1)/11,\"\")","v":""}]
[{"$f":"IFERROR(IF(ROW()=2,1,IF(INDEX(Лист1!$A$2:$I$32,$A241,4)=ROW()-2,IF(ROW()>=MAX(Лист1!D:D)+2,\"\",MAX(A$1:A241)+1),A241)),\"\")","v":""},{"$f":"IFERROR(INDEX(Лист1!$A$2:$G$32,$A242,1),\"\")","v":""},{"$f":"IFERROR(--MID(INDEX(Лист1!$A$2:$G$32,$A242,3),ROW()-1+10*(ROW()-2)-IF(A242=1,0,INDEX(Лист1!$A$2:$H$32,$A242-1,4)*11),10),\"\")","v":""},{"$f":"IFERROR((LEN(INDEX(Лист1!$A$2:$G$32,$A242,3))+1)/11,\"\")","v":""}]
[{"$f":"IFERROR(IF(ROW()=2,1,IF(INDEX(Лист1!$A$2:$I$32,$A242,4)=ROW()-2,IF(ROW()>=MAX(Лист1!D:D)+2,\"\",MAX(A$1:A242)+1),A242)),\"\")","v":""},{"$f":"IFERROR(INDEX(Лист1!$A$2:$G$32,$A243,1),\"\")","v":""},{"$f":"IFERROR(--MID(INDEX(Лист1!$A$2:$G$32,$A243,3),ROW()-1+10*(ROW()-2)-IF(A243=1,0,INDEX(Лист1!$A$2:$H$32,$A243-1,4)*11),10),\"\")","v":""},{"$f":"IFERROR((LEN(INDEX(Лист1!$A$2:$G$32,$A243,3))+1)/11,\"\")","v":""}]
[{"$f":"IFERROR(IF(ROW()=2,1,IF(INDEX(Лист1!$A$2:$I$32,$A243,4)=ROW()-2,IF(ROW()>=MAX(Лист1!D:D)+2,\"\",MAX(A$1:A243)+1),A243)),\"\")","v":""},{"$f":"IFERROR(INDEX(Лист1!$A$2:$G$32,$A244,1),\"\")","v":""},{"$f":"IFERROR(--MID(INDEX(Лист1!$A$2:$G$32,$A244,3),ROW()-1+10*(ROW()-2)-IF(A244=1,0,INDEX(Лист1!$A$2:$H$32,$A244-1,4)*11),10),\"\")","v":""},{"$f":"IFERROR((LEN(INDEX(Лист1!$A$2:$G$32,$A244,3))+1)/11,\"\")","v":""}]
[{"$f":"IFERROR(IF(ROW()=2,1,IF(INDEX(Лист1!$A$2:$I$32,$A244,4)=ROW()-2,IF(ROW()>=MAX(Лист1!D:D)+2,\"\",MAX(A$1:A244)+1),A244)),\"\")","v":""},{"$f":"IFERROR(INDEX(Лист1!$A$2:$G$32,$A245,1),\"\")","v":""},{"$f":"IFERROR(--MID(INDEX(Лист1!$A$2:$G$32,$A245,3),ROW()-1+10*(ROW()-2)-IF(A245=1,0,INDEX(Лист1!$A$2:$H$32,$A245-1,4)*11),10),\"\")","v":""},{"$f":"IFERROR((LEN(INDEX(Лист1!$A$2:$G$32,$A245,3))+1)/11,\"\")","v":""}]
[{"$f":"IFERROR(IF(ROW()=2,1,IF(INDEX(Лист1!$A$2:$I$32,$A245,4)=ROW()-2,IF(ROW()>=MAX(Лист1!D:D)+2,\"\",MAX(A$1:A245)+1),A245)),\"\")","v":""},{"$f":"IFERROR(INDEX(Лист1!$A$2:$G$32,$A246,1),\"\")","v":""},{"$f":"IFERROR(--MID(INDEX(Лист1!$A$2:$G$32,$A246,3),ROW()-1+10*(ROW()-2)-IF(A246=1,0,INDEX(Лист1!$A$2:$H$32,$A246-1,4)*11),10),\"\")","v":""},{"$f":"IFERROR((LEN(INDEX(Лист1!$A$2:$G$32,$A246,3))+1)/11,\"\")","v":""}]
[{"$f":"IFERROR(IF(ROW()=2,1,IF(INDEX(Лист1!$A$2:$I$32,$A246,4)=ROW()-2,IF(ROW()>=MAX(Лист1!D:D)+2,\"\",MAX(A$1:A246)+1),A246)),\"\")","v":""},{"$f":"IFERROR(INDEX(Лист1!$A$2:$G$32,$A247,1),\"\")","v":""},{"$f":"IFERROR(--MID(INDEX(Лист1!$A$2:$G$32,$A247,3),ROW()-1+10*(ROW()-2)-IF(A247=1,0,INDEX(Лист1!$A$2:$H$32,$A247-1,4)*11),10),\"\")","v":""},{"$f":"IFERROR((LEN(INDEX(Лист1!$A$2:$G$32,$A247,3))+1)/11,\"\")","v":""}]
[{"$f":"IFERROR(IF(ROW()=2,1,IF(INDEX(Лист1!$A$2:$I$32,$A247,4)=ROW()-2,IF(ROW()>=MAX(Лист1!D:D)+2,\"\",MAX(A$1:A247)+1),A247)),\"\")","v":""},{"$f":"IFERROR(INDEX(Лист1!$A$2:$G$32,$A248,1),\"\")","v":""},{"$f":"IFERROR(--MID(INDEX(Лист1!$A$2:$G$32,$A248,3),ROW()-1+10*(ROW()-2)-IF(A248=1,0,INDEX(Лист1!$A$2:$H$32,$A248-1,4)*11),10),\"\")","v":""},{"$f":"IFERROR((LEN(INDEX(Лист1!$A$2:$G$32,$A248,3))+1)/11,\"\")","v":""}]
[{"$f":"IFERROR(IF(ROW()=2,1,IF(INDEX(Лист1!$A$2:$I$32,$A248,4)=ROW()-2,IF(ROW()>=MAX(Лист1!D:D)+2,\"\",MAX(A$1:A248)+1),A248)),\"\")","v":""},{"$f":"IFERROR(INDEX(Лист1!$A$2:$G$32,$A249,1),\"\")","v":""},{"$f":"IFERROR(--MID(INDEX(Лист1!$A$2:$G$32,$A249,3),ROW()-1+10*(ROW()-2)-IF(A249=1,0,INDEX(Лист1!$A$2:$H$32,$A249-1,4)*11),10),\"\")","v":""},{"$f":"IFERROR((LEN(INDEX(Лист1!$A$2:$G$32,$A249,3))+1)/11,\"\")","v":""}]
[{"$f":"IFERROR(IF(ROW()=2,1,IF(INDEX(Лист1!$A$2:$I$32,$A249,4)=ROW()-2,IF(ROW()>=MAX(Лист1!D:D)+2,\"\",MAX(A$1:A249)+1),A249)),\"\")","v":""},{"$f":"IFERROR(INDEX(Лист1!$A$2:$G$32,$A250,1),\"\")","v":""},{"$f":"IFERROR(--MID(INDEX(Лист1!$A$2:$G$32,$A250,3),ROW()-1+10*(ROW()-2)-IF(A250=1,0,INDEX(Лист1!$A$2:$H$32,$A250-1,4)*11),10),\"\")","v":""},{"$f":"IFERROR((LEN(INDEX(Лист1!$A$2:$G$32,$A250,3))+1)/11,\"\")","v":""}]
[{"$f":"IFERROR(IF(ROW()=2,1,IF(INDEX(Лист1!$A$2:$I$32,$A250,4)=ROW()-2,IF(ROW()>=MAX(Лист1!D:D)+2,\"\",MAX(A$1:A250)+1),A250)),\"\")","v":""},{"$f":"IFERROR(INDEX(Лист1!$A$2:$G$32,$A251,1),\"\")","v":""},{"$f":"IFERROR(--MID(INDEX(Лист1!$A$2:$G$32,$A251,3),ROW()-1+10*(ROW()-2)-IF(A251=1,0,INDEX(Лист1!$A$2:$H$32,$A251-1,4)*11),10),\"\")","v":""},{"$f":"IFERROR((LEN(INDEX(Лист1!$A$2:$G$32,$A251,3))+1)/11,\"\")","v":""}]
[{"$f":"IFERROR(IF(ROW()=2,1,IF(INDEX(Лист1!$A$2:$I$32,$A251,4)=ROW()-2,IF(ROW()>=MAX(Лист1!D:D)+2,\"\",MAX(A$1:A251)+1),A251)),\"\")","v":""},{"$f":"IFERROR(INDEX(Лист1!$A$2:$G$32,$A252,1),\"\")","v":""},{"$f":"IFERROR(--MID(INDEX(Лист1!$A$2:$G$32,$A252,3),ROW()-1+10*(ROW()-2)-IF(A252=1,0,INDEX(Лист1!$A$2:$H$32,$A252-1,4)*11),10),\"\")","v":""},{"$f":"IFERROR((LEN(INDEX(Лист1!$A$2:$G$32,$A252,3))+1)/11,\"\")","v":""}]
[{"$f":"IFERROR(IF(ROW()=2,1,IF(INDEX(Лист1!$A$2:$I$32,$A252,4)=ROW()-2,IF(ROW()>=MAX(Лист1!D:D)+2,\"\",MAX(A$1:A252)+1),A252)),\"\")","v":""},{"$f":"IFERROR(INDEX(Лист1!$A$2:$G$32,$A253,1),\"\")","v":""},{"$f":"IFERROR(--MID(INDEX(Лист1!$A$2:$G$32,$A253,3),ROW()-1+10*(ROW()-2)-IF(A253=1,0,INDEX(Лист1!$A$2:$H$32,$A253-1,4)*11),10),\"\")","v":""},{"$f":"IFERROR((LEN(INDEX(Лист1!$A$2:$G$32,$A253,3))+1)/11,\"\")","v":""}]
[{"$f":"IFERROR(IF(ROW()=2,1,IF(INDEX(Лист1!$A$2:$I$32,$A253,4)=ROW()-2,IF(ROW()>=MAX(Лист1!D:D)+2,\"\",MAX(A$1:A253)+1),A253)),\"\")","v":""},{"$f":"IFERROR(INDEX(Лист1!$A$2:$G$32,$A254,1),\"\")","v":""},{"$f":"IFERROR(--MID(INDEX(Лист1!$A$2:$G$32,$A254,3),ROW()-1+10*(ROW()-2)-IF(A254=1,0,INDEX(Лист1!$A$2:$H$32,$A254-1,4)*11),10),\"\")","v":""},{"$f":"IFERROR((LEN(INDEX(Лист1!$A$2:$G$32,$A254,3))+1)/11,\"\")","v":""}]
[{"$f":"IFERROR(IF(ROW()=2,1,IF(INDEX(Лист1!$A$2:$I$32,$A254,4)=ROW()-2,IF(ROW()>=MAX(Лист1!D:D)+2,\"\",MAX(A$1:A254)+1),A254)),\"\")","v":""},{"$f":"IFERROR(INDEX(Лист1!$A$2:$G$32,$A255,1),\"\")","v":""},{"$f":"IFERROR(--MID(INDEX(Лист1!$A$2:$G$32,$A255,3),ROW()-1+10*(ROW()-2)-IF(A255=1,0,INDEX(Лист1!$A$2:$H$32,$A255-1,4)*11),10),\"\")","v":""},{"$f":"IFERROR((LEN(INDEX(Лист1!$A$2:$G$32,$A255,3))+1)/11,\"\")","v":""}]
[{"$f":"IFERROR(IF(ROW()=2,1,IF(INDEX(Лист1!$A$2:$I$32,$A255,4)=ROW()-2,IF(ROW()>=MAX(Лист1!D:D)+2,\"\",MAX(A$1:A255)+1),A255)),\"\")","v":""},{"$f":"IFERROR(INDEX(Лист1!$A$2:$G$32,$A256,1),\"\")","v":""},{"$f":"IFERROR(--MID(INDEX(Лист1!$A$2:$G$32,$A256,3),ROW()-1+10*(ROW()-2)-IF(A256=1,0,INDEX(Лист1!$A$2:$H$32,$A256-1,4)*11),10),\"\")","v":""},{"$f":"IFERROR((LEN(INDEX(Лист1!$A$2:$G$32,$A256,3))+1)/11,\"\")","v":""}]
[{"$f":"IFERROR(IF(ROW()=2,1,IF(INDEX(Лист1!$A$2:$I$32,$A256,4)=ROW()-2,IF(ROW()>=MAX(Лист1!D:D)+2,\"\",MAX(A$1:A256)+1),A256)),\"\")","v":""},{"$f":"IFERROR(INDEX(Лист1!$A$2:$G$32,$A257,1),\"\")","v":""},{"$f":"IFERROR(--MID(INDEX(Лист1!$A$2:$G$32,$A257,3),ROW()-1+10*(ROW()-2)-IF(A257=1,0,INDEX(Лист1!$A$2:$H$32,$A257-1,4)*11),10),\"\")","v":""},{"$f":"IFERROR((LEN(INDEX(Лист1!$A$2:$G$32,$A257,3))+1)/11,\"\")","v":""}]
[{"$f":"IFERROR(IF(ROW()=2,1,IF(INDEX(Лист1!$A$2:$I$32,$A257,4)=ROW()-2,IF(ROW()>=MAX(Лист1!D:D)+2,\"\",MAX(A$1:A257)+1),A257)),\"\")","v":""},{"$f":"IFERROR(INDEX(Лист1!$A$2:$G$32,$A258,1),\"\")","v":""},{"$f":"IFERROR(--MID(INDEX(Лист1!$A$2:$G$32,$A258,3),ROW()-1+10*(ROW()-2)-IF(A258=1,0,INDEX(Лист1!$A$2:$H$32,$A258-1,4)*11),10),\"\")","v":""},{"$f":"IFERROR((LEN(INDEX(Лист1!$A$2:$G$32,$A258,3))+1)/11,\"\")","v":""}]
[{"$f":"IFERROR(IF(ROW()=2,1,IF(INDEX(Лист1!$A$2:$I$32,$A258,4)=ROW()-2,IF(ROW()>=MAX(Лист1!D:D)+2,\"\",MAX(A$1:A258)+1),A258)),\"\")","v":""},{"$f":"IFERROR(INDEX(Лист1!$A$2:$G$32,$A259,1),\"\")","v":""},{"$f":"IFERROR(--MID(INDEX(Лист1!$A$2:$G$32,$A259,3),ROW()-1+10*(ROW()-2)-IF(A259=1,0,INDEX(Лист1!$A$2:$H$32,$A259-1,4)*11),10),\"\")","v":""},{"$f":"IFERROR((LEN(INDEX(Лист1!$A$2:$G$32,$A259,3))+1)/11,\"\")","v":""}]
[{"$f":"IFERROR(IF(ROW()=2,1,IF(INDEX(Лист1!$A$2:$I$32,$A259,4)=ROW()-2,IF(ROW()>=MAX(Лист1!D:D)+2,\"\",MAX(A$1:A259)+1),A259)),\"\")","v":""},{"$f":"IFERROR(INDEX(Лист1!$A$2:$G$32,$A260,1),\"\")","v":""},{"$f":"IFERROR(--MID(INDEX(Лист1!$A$2:$G$32,$A260,3),ROW()-1+10*(ROW()-2)-IF(A260=1,0,INDEX(Лист1!$A$2:$H$32,$A260-1,4)*11),10),\"\")","v":""},{"$f":"IFERROR((LEN(INDEX(Лист1!$A$2:$G$32,$A260,3))+1)/11,\"\")","v":""}]
[{"$f":"IFERROR(IF(ROW()=2,1,IF(INDEX(Лист1!$A$2:$I$32,$A260,4)=ROW()-2,IF(ROW()>=MAX(Лист1!D:D)+2,\"\",MAX(A$1:A260)+1),A260)),\"\")","v":""},{"$f":"IFERROR(INDEX(Лист1!$A$2:$G$32,$A261,1),\"\")","v":""},{"$f":"IFERROR(--MID(INDEX(Лист1!$A$2:$G$32,$A261,3),ROW()-1+10*(ROW()-2)-IF(A261=1,0,INDEX(Лист1!$A$2:$H$32,$A261-1,4)*11),10),\"\")","v":""},{"$f":"IFERROR((LEN(INDEX(Лист1!$A$2:$G$32,$A261,3))+1)/11,\"\")","v":""}]
[{"$f":"IFERROR(IF(ROW()=2,1,IF(INDEX(Лист1!$A$2:$I$32,$A261,4)=ROW()-2,IF(ROW()>=MAX(Лист1!D:D)+2,\"\",MAX(A$1:A261)+1),A261)),\"\")","v":""},{"$f":"IFERROR(INDEX(Лист1!$A$2:$G$32,$A262,1),\"\")","v":""},{"$f":"IFERROR(--MID(INDEX(Лист1!$A$2:$G$32,$A262,3),ROW()-1+10*(ROW()-2)-IF(A262=1,0,INDEX(Лист1!$A$2:$H$32,$A262-1,4)*11),10),\"\")","v":""},{"$f":"IFERROR((LEN(INDEX(Лист1!$A$2:$G$32,$A262,3))+1)/11,\"\")","v":""}]
[{"$f":"IFERROR(IF(ROW()=2,1,IF(INDEX(Лист1!$A$2:$I$32,$A262,4)=ROW()-2,IF(ROW()>=MAX(Лист1!D:D)+2,\"\",MAX(A$1:A262)+1),A262)),\"\")","v":""},{"$f":"IFERROR(INDEX(Лист1!$A$2:$G$32,$A263,1),\"\")","v":""},{"$f":"IFERROR(--MID(INDEX(Лист1!$A$2:$G$32,$A263,3),ROW()-1+10*(ROW()-2)-IF(A263=1,0,INDEX(Лист1!$A$2:$H$32,$A263-1,4)*11),10),\"\")","v":""},{"$f":"IFERROR((LEN(INDEX(Лист1!$A$2:$G$32,$A263,3))+1)/11,\"\")","v":""}]
[{"$f":"IFERROR(IF(ROW()=2,1,IF(INDEX(Лист1!$A$2:$I$32,$A263,4)=ROW()-2,IF(ROW()>=MAX(Лист1!D:D)+2,\"\",MAX(A$1:A263)+1),A263)),\"\")","v":""},{"$f":"IFERROR(INDEX(Лист1!$A$2:$G$32,$A264,1),\"\")","v":""},{"$f":"IFERROR(--MID(INDEX(Лист1!$A$2:$G$32,$A264,3),ROW()-1+10*(ROW()-2)-IF(A264=1,0,INDEX(Лист1!$A$2:$H$32,$A264-1,4)*11),10),\"\")","v":""},{"$f":"IFERROR((LEN(INDEX(Лист1!$A$2:$G$32,$A264,3))+1)/11,\"\")","v":""}]
[{"$f":"IFERROR(IF(ROW()=2,1,IF(INDEX(Лист1!$A$2:$I$32,$A264,4)=ROW()-2,IF(ROW()>=MAX(Лист1!D:D)+2,\"\",MAX(A$1:A264)+1),A264)),\"\")","v":""},{"$f":"IFERROR(INDEX(Лист1!$A$2:$G$32,$A265,1),\"\")","v":""},{"$f":"IFERROR(--MID(INDEX(Лист1!$A$2:$G$32,$A265,3),ROW()-1+10*(ROW()-2)-IF(A265=1,0,INDEX(Лист1!$A$2:$H$32,$A265-1,4)*11),10),\"\")","v":""},{"$f":"IFERROR((LEN(INDEX(Лист1!$A$2:$G$32,$A265,3))+1)/11,\"\")","v":""}]
[{"$f":"IFERROR(IF(ROW()=2,1,IF(INDEX(Лист1!$A$2:$I$32,$A265,4)=ROW()-2,IF(ROW()>=MAX(Лист1!D:D)+2,\"\",MAX(A$1:A265)+1),A265)),\"\")","v":""},{"$f":"IFERROR(INDEX(Лист1!$A$2:$G$32,$A266,1),\"\")","v":""},{"$f":"IFERROR(--MID(INDEX(Лист1!$A$2:$G$32,$A266,3),ROW()-1+10*(ROW()-2)-IF(A266=1,0,INDEX(Лист1!$A$2:$H$32,$A266-1,4)*11),10),\"\")","v":""},{"$f":"IFERROR((LEN(INDEX(Лист1!$A$2:$G$32,$A266,3))+1)/11,\"\")","v":""}]
[{"$f":"IFERROR(IF(ROW()=2,1,IF(INDEX(Лист1!$A$2:$I$32,$A266,4)=ROW()-2,IF(ROW()>=MAX(Лист1!D:D)+2,\"\",MAX(A$1:A266)+1),A266)),\"\")","v":""},{"$f":"IFERROR(INDEX(Лист1!$A$2:$G$32,$A267,1),\"\")","v":""},{"$f":"IFERROR(--MID(INDEX(Лист1!$A$2:$G$32,$A267,3),ROW()-1+10*(ROW()-2)-IF(A267=1,0,INDEX(Лист1!$A$2:$H$32,$A267-1,4)*11),10),\"\")","v":""},{"$f":"IFERROR((LEN(INDEX(Лист1!$A$2:$G$32,$A267,3))+1)/11,\"\")","v":""}]
[{"$f":"IFERROR(IF(ROW()=2,1,IF(INDEX(Лист1!$A$2:$I$32,$A267,4)=ROW()-2,IF(ROW()>=MAX(Лист1!D:D)+2,\"\",MAX(A$1:A267)+1),A267)),\"\")","v":""},{"$f":"IFERROR(INDEX(Лист1!$A$2:$G$32,$A268,1),\"\")","v":""},{"$f":"IFERROR(--MID(INDEX(Лист1!$A$2:$G$32,$A268,3),ROW()-1+10*(ROW()-2)-IF(A268=1,0,INDEX(Лист1!$A$2:$H$32,$A268-1,4)*11),10),\"\")","v":""},{"$f":"IFERROR((LEN(INDEX(Лист1!$A$2:$G$32,$A268,3))+1)/11,\"\")","v":""}]
[{"$f":"IFERROR(IF(ROW()=2,1,IF(INDEX(Лист1!$A$2:$I$32,$A268,4)=ROW()-2,IF(ROW()>=MAX(Лист1!D:D)+2,\"\",MAX(A$1:A268)+1),A268)),\"\")","v":""},{"$f":"IFERROR(INDEX(Лист1!$A$2:$G$32,$A269,1),\"\")","v":""},{"$f":"IFERROR(--MID(INDEX(Лист1!$A$2:$G$32,$A269,3),ROW()-1+10*(ROW()-2)-IF(A269=1,0,INDEX(Лист1!$A$2:$H$32,$A269-1,4)*11),10),\"\")","v":""},{"$f":"IFERROR((LEN(INDEX(Лист1!$A$2:$G$32,$A269,3))+1)/11,\"\")","v":""}]
[{"$f":"IFERROR(IF(ROW()=2,1,IF(INDEX(Лист1!$A$2:$I$32,$A269,4)=ROW()-2,IF(ROW()>=MAX(Лист1!D:D)+2,\"\",MAX(A$1:A269)+1),A269)),\"\")","v":""},{"$f":"IFERROR(INDEX(Лист1!$A$2:$G$32,$A270,1),\"\")","v":""},{"$f":"IFERROR(--MID(INDEX(Лист1!$A$2:$G$32,$A270,3),ROW()-1+10*(ROW()-2)-IF(A270=1,0,INDEX(Лист1!$A$2:$H$32,$A270-1,4)*11),10),\"\")","v":""},{"$f":"IFERROR((LEN(INDEX(Лист1!$A$2:$G$32,$A270,3))+1)/11,\"\")","v":""}]
[{"$f":"IFERROR(IF(ROW()=2,1,IF(INDEX(Лист1!$A$2:$I$32,$A270,4)=ROW()-2,IF(ROW()>=MAX(Лист1!D:D)+2,\"\",MAX(A$1:A270)+1),A270)),\"\")","v":""},{"$f":"IFERROR(INDEX(Лист1!$A$2:$G$32,$A271,1),\"\")","v":""},{"$f":"IFERROR(--MID(INDEX(Лист1!$A$2:$G$32,$A271,3),ROW()-1+10*(ROW()-2)-IF(A271=1,0,INDEX(Лист1!$A$2:$H$32,$A271-1,4)*11),10),\"\")","v":""},{"$f":"IFERROR((LEN(INDEX(Лист1!$A$2:$G$32,$A271,3))+1)/11,\"\")","v":""}]
[{"$f":"IFERROR(IF(ROW()=2,1,IF(INDEX(Лист1!$A$2:$I$32,$A271,4)=ROW()-2,IF(ROW()>=MAX(Лист1!D:D)+2,\"\",MAX(A$1:A271)+1),A271)),\"\")","v":""},{"$f":"IFERROR(INDEX(Лист1!$A$2:$G$32,$A272,1),\"\")","v":""},{"$f":"IFERROR(--MID(INDEX(Лист1!$A$2:$G$32,$A272,3),ROW()-1+10*(ROW()-2)-IF(A272=1,0,INDEX(Лист1!$A$2:$H$32,$A272-1,4)*11),10),\"\")","v":""},{"$f":"IFERROR((LEN(INDEX(Лист1!$A$2:$G$32,$A272,3))+1)/11,\"\")","v":""}]
[{"$f":"IFERROR(IF(ROW()=2,1,IF(INDEX(Лист1!$A$2:$I$32,$A272,4)=ROW()-2,IF(ROW()>=MAX(Лист1!D:D)+2,\"\",MAX(A$1:A272)+1),A272)),\"\")","v":""},{"$f":"IFERROR(INDEX(Лист1!$A$2:$G$32,$A273,1),\"\")","v":""},{"$f":"IFERROR(--MID(INDEX(Лист1!$A$2:$G$32,$A273,3),ROW()-1+10*(ROW()-2)-IF(A273=1,0,INDEX(Лист1!$A$2:$H$32,$A273-1,4)*11),10),\"\")","v":""},{"$f":"IFERROR((LEN(INDEX(Лист1!$A$2:$G$32,$A273,3))+1)/11,\"\")","v":""}]
[{"$f":"IFERROR(IF(ROW()=2,1,IF(INDEX(Лист1!$A$2:$I$32,$A273,4)=ROW()-2,IF(ROW()>=MAX(Лист1!D:D)+2,\"\",MAX(A$1:A273)+1),A273)),\"\")","v":""},{"$f":"IFERROR(INDEX(Лист1!$A$2:$G$32,$A274,1),\"\")","v":""},{"$f":"IFERROR(--MID(INDEX(Лист1!$A$2:$G$32,$A274,3),ROW()-1+10*(ROW()-2)-IF(A274=1,0,INDEX(Лист1!$A$2:$H$32,$A274-1,4)*11),10),\"\")","v":""},{"$f":"IFERROR((LEN(INDEX(Лист1!$A$2:$G$32,$A274,3))+1)/11,\"\")","v":""}]
[{"$f":"IFERROR(IF(ROW()=2,1,IF(INDEX(Лист1!$A$2:$I$32,$A274,4)=ROW()-2,IF(ROW()>=MAX(Лист1!D:D)+2,\"\",MAX(A$1:A274)+1),A274)),\"\")","v":""},{"$f":"IFERROR(INDEX(Лист1!$A$2:$G$32,$A275,1),\"\")","v":""},{"$f":"IFERROR(--MID(INDEX(Лист1!$A$2:$G$32,$A275,3),ROW()-1+10*(ROW()-2)-IF(A275=1,0,INDEX(Лист1!$A$2:$H$32,$A275-1,4)*11),10),\"\")","v":""},{"$f":"IFERROR((LEN(INDEX(Лист1!$A$2:$G$32,$A275,3))+1)/11,\"\")","v":""}]
[{"$f":"IFERROR(IF(ROW()=2,1,IF(INDEX(Лист1!$A$2:$I$32,$A275,4)=ROW()-2,IF(ROW()>=MAX(Лист1!D:D)+2,\"\",MAX(A$1:A275)+1),A275)),\"\")","v":""},{"$f":"IFERROR(INDEX(Лист1!$A$2:$G$32,$A276,1),\"\")","v":""},{"$f":"IFERROR(--MID(INDEX(Лист1!$A$2:$G$32,$A276,3),ROW()-1+10*(ROW()-2)-IF(A276=1,0,INDEX(Лист1!$A$2:$H$32,$A276-1,4)*11),10),\"\")","v":""},{"$f":"IFERROR((LEN(INDEX(Лист1!$A$2:$G$32,$A276,3))+1)/11,\"\")","v":""}]
[{"$f":"IFERROR(IF(ROW()=2,1,IF(INDEX(Лист1!$A$2:$I$32,$A276,4)=ROW()-2,IF(ROW()>=MAX(Лист1!D:D)+2,\"\",MAX(A$1:A276)+1),A276)),\"\")","v":""},{"$f":"IFERROR(INDEX(Лист1!$A$2:$G$32,$A277,1),\"\")","v":""},{"$f":"IFERROR(--MID(INDEX(Лист1!$A$2:$G$32,$A277,3),ROW()-1+10*(ROW()-2)-IF(A277=1,0,INDEX(Лист1!$A$2:$H$32,$A277-1,4)*11),10),\"\")","v":""},{"$f":"IFERROR((LEN(INDEX(Лист1!$A$2:$G$32,$A277,3))+1)/11,\"\")","v":""}]
[{"$f":"IFERROR(IF(ROW()=2,1,IF(INDEX(Лист1!$A$2:$I$32,$A277,4)=ROW()-2,IF(ROW()>=MAX(Лист1!D:D)+2,\"\",MAX(A$1:A277)+1),A277)),\"\")","v":""},{"$f":"IFERROR(INDEX(Лист1!$A$2:$G$32,$A278,1),\"\")","v":""},{"$f":"IFERROR(--MID(INDEX(Лист1!$A$2:$G$32,$A278,3),ROW()-1+10*(ROW()-2)-IF(A278=1,0,INDEX(Лист1!$A$2:$H$32,$A278-1,4)*11),10),\"\")","v":""},{"$f":"IFERROR((LEN(INDEX(Лист1!$A$2:$G$32,$A278,3))+1)/11,\"\")","v":""}]
[{"$f":"IFERROR(IF(ROW()=2,1,IF(INDEX(Лист1!$A$2:$I$32,$A278,4)=ROW()-2,IF(ROW()>=MAX(Лист1!D:D)+2,\"\",MAX(A$1:A278)+1),A278)),\"\")","v":""},{"$f":"IFERROR(INDEX(Лист1!$A$2:$G$32,$A279,1),\"\")","v":""},{"$f":"IFERROR(--MID(INDEX(Лист1!$A$2:$G$32,$A279,3),ROW()-1+10*(ROW()-2)-IF(A279=1,0,INDEX(Лист1!$A$2:$H$32,$A279-1,4)*11),10),\"\")","v":""},{"$f":"IFERROR((LEN(INDEX(Лист1!$A$2:$G$32,$A279,3))+1)/11,\"\")","v":""}]
[{"$f":"IFERROR(IF(ROW()=2,1,IF(INDEX(Лист1!$A$2:$I$32,$A279,4)=ROW()-2,IF(ROW()>=MAX(Лист1!D:D)+2,\"\",MAX(A$1:A279)+1),A279)),\"\")","v":""},{"$f":"IFERROR(INDEX(Лист1!$A$2:$G$32,$A280,1),\"\")","v":""},{"$f":"IFERROR(--MID(INDEX(Лист1!$A$2:$G$32,$A280,3),ROW()-1+10*(ROW()-2)-IF(A280=1,0,INDEX(Лист1!$A$2:$H$32,$A280-1,4)*11),10),\"\")","v":""},{"$f":"IFERROR((LEN(INDEX(Лист1!$A$2:$G$32,$A280,3))+1)/11,\"\")","v":""}]
[{"$f":"IFERROR(IF(ROW()=2,1,IF(INDEX(Лист1!$A$2:$I$32,$A280,4)=ROW()-2,IF(ROW()>=MAX(Лист1!D:D)+2,\"\",MAX(A$1:A280)+1),A280)),\"\")","v":""},{"$f":"IFERROR(INDEX(Лист1!$A$2:$G$32,$A281,1),\"\")","v":""},{"$f":"IFERROR(--MID(INDEX(Лист1!$A$2:$G$32,$A281,3),ROW()-1+10*(ROW()-2)-IF(A281=1,0,INDEX(Лист1!$A$2:$H$32,$A281-1,4)*11),10),\"\")","v":""},{"$f":"IFERROR((LEN(INDEX(Лист1!$A$2:$G$32,$A281,3))+1)/11,\"\")","v":""}]
[{"$f":"IFERROR(IF(ROW()=2,1,IF(INDEX(Лист1!$A$2:$I$32,$A281,4)=ROW()-2,IF(ROW()>=MAX(Лист1!D:D)+2,\"\",MAX(A$1:A281)+1),A281)),\"\")","v":""},{"$f":"IFERROR(INDEX(Лист1!$A$2:$G$32,$A282,1),\"\")","v":""},{"$f":"IFERROR(--MID(INDEX(Лист1!$A$2:$G$32,$A282,3),ROW()-1+10*(ROW()-2)-IF(A282=1,0,INDEX(Лист1!$A$2:$H$32,$A282-1,4)*11),10),\"\")","v":""},{"$f":"IFERROR((LEN(INDEX(Лист1!$A$2:$G$32,$A282,3))+1)/11,\"\")","v":""}]
[{"$f":"IFERROR(IF(ROW()=2,1,IF(INDEX(Лист1!$A$2:$I$32,$A282,4)=ROW()-2,IF(ROW()>=MAX(Лист1!D:D)+2,\"\",MAX(A$1:A282)+1),A282)),\"\")","v":""},{"$f":"IFERROR(INDEX(Лист1!$A$2:$G$32,$A283,1),\"\")","v":""},{"$f":"IFERROR(--MID(INDEX(Лист1!$A$2:$G$32,$A283,3),ROW()-1+10*(ROW()-2)-IF(A283=1,0,INDEX(Лист1!$A$2:$H$32,$A283-1,4)*11),10),\"\")","v":""},{"$f":"IFERROR((LEN(INDEX(Лист1!$A$2:$G$32,$A283,3))+1)/11,\"\")","v":""}]
[{"$f":"IFERROR(IF(ROW()=2,1,IF(INDEX(Лист1!$A$2:$I$32,$A283,4)=ROW()-2,IF(ROW()>=MAX(Лист1!D:D)+2,\"\",MAX(A$1:A283)+1),A283)),\"\")","v":""},{"$f":"IFERROR(INDEX(Лист1!$A$2:$G$32,$A284,1),\"\")","v":""},{"$f":"IFERROR(--MID(INDEX(Лист1!$A$2:$G$32,$A284,3),ROW()-1+10*(ROW()-2)-IF(A284=1,0,INDEX(Лист1!$A$2:$H$32,$A284-1,4)*11),10),\"\")","v":""},{"$f":"IFERROR((LEN(INDEX(Лист1!$A$2:$G$32,$A284,3))+1)/11,\"\")","v":""}]
[{"$f":"IFERROR(IF(ROW()=2,1,IF(INDEX(Лист1!$A$2:$I$32,$A284,4)=ROW()-2,IF(ROW()>=MAX(Лист1!D:D)+2,\"\",MAX(A$1:A284)+1),A284)),\"\")","v":""},{"$f":"IFERROR(INDEX(Лист1!$A$2:$G$32,$A285,1),\"\")","v":""},{"$f":"IFERROR(--MID(INDEX(Лист1!$A$2:$G$32,$A285,3),ROW()-1+10*(ROW()-2)-IF(A285=1,0,INDEX(Лист1!$A$2:$H$32,$A285-1,4)*11),10),\"\")","v":""},{"$f":"IFERROR((LEN(INDEX(Лист1!$A$2:$G$32,$A285,3))+1)/11,\"\")","v":""}]
[{"$f":"IFERROR(IF(ROW()=2,1,IF(INDEX(Лист1!$A$2:$I$32,$A285,4)=ROW()-2,IF(ROW()>=MAX(Лист1!D:D)+2,\"\",MAX(A$1:A285)+1),A285)),\"\")","v":""},{"$f":"IFERROR(INDEX(Лист1!$A$2:$G$32,$A286,1),\"\")","v":""},{"$f":"IFERROR(--MID(INDEX(Лист1!$A$2:$G$32,$A286,3),ROW()-1+10*(ROW()-2)-IF(A286=1,0,INDEX(Лист1!$A$2:$H$32,$A286-1,4)*11),10),\"\")","v":""},{"$f":"IFERROR((LEN(INDEX(Лист1!$A$2:$G$32,$A286,3))+1)/11,\"\")","v":""}]
[{"$f":"IFERROR(IF(ROW()=2,1,IF(INDEX(Лист1!$A$2:$I$32,$A286,4)=ROW()-2,IF(ROW()>=MAX(Лист1!D:D)+2,\"\",MAX(A$1:A286)+1),A286)),\"\")","v":""},{"$f":"IFERROR(INDEX(Лист1!$A$2:$G$32,$A287,1),\"\")","v":""},{"$f":"IFERROR(--MID(INDEX(Лист1!$A$2:$G$32,$A287,3),ROW()-1+10*(ROW()-2)-IF(A287=1,0,INDEX(Лист1!$A$2:$H$32,$A287-1,4)*11),10),\"\")","v":""},{"$f":"IFERROR((LEN(INDEX(Лист1!$A$2:$G$32,$A287,3))+1)/11,\"\")","v":""}]
[{"$f":"IFERROR(IF(ROW()=2,1,IF(INDEX(Лист1!$A$2:$I$32,$A287,4)=ROW()-2,IF(ROW()>=MAX(Лист1!D:D)+2,\"\",MAX(A$1:A287)+1),A287)),\"\")","v":""},{"$f":"IFERROR(INDEX(Лист1!$A$2:$G$32,$A288,1),\"\")","v":""},{"$f":"IFERROR(--MID(INDEX(Лист1!$A$2:$G$32,$A288,3),ROW()-1+10*(ROW()-2)-IF(A288=1,0,INDEX(Лист1!$A$2:$H$32,$A288-1,4)*11),10),\"\")","v":""},{"$f":"IFERROR((LEN(INDEX(Лист1!$A$2:$G$32,$A288,3))+1)/11,\"\")","v":""}]
[{"$f":"IFERROR(IF(ROW()=2,1,IF(INDEX(Лист1!$A$2:$I$32,$A288,4)=ROW()-2,IF(ROW()>=MAX(Лист1!D:D)+2,\"\",MAX(A$1:A288)+1),A288)),\"\")","v":""},{"$f":"IFERROR(INDEX(Лист1!$A$2:$G$32,$A289,1),\"\")","v":""},{"$f":"IFERROR(--MID(INDEX(Лист1!$A$2:$G$32,$A289,3),ROW()-1+10*(ROW()-2)-IF(A289=1,0,INDEX(Лист1!$A$2:$H$32,$A289-1,4)*11),10),\"\")","v":""},{"$f":"IFERROR((LEN(INDEX(Лист1!$A$2:$G$32,$A289,3))+1)/11,\"\")","v":""}]
[{"$f":"IFERROR(IF(ROW()=2,1,IF(INDEX(Лист1!$A$2:$I$32,$A289,4)=ROW()-2,IF(ROW()>=MAX(Лист1!D:D)+2,\"\",MAX(A$1:A289)+1),A289)),\"\")","v":""},{"$f":"IFERROR(INDEX(Лист1!$A$2:$G$32,$A290,1),\"\")","v":""},{"$f":"IFERROR(--MID(INDEX(Лист1!$A$2:$G$32,$A290,3),ROW()-1+10*(ROW()-2)-IF(A290=1,0,INDEX(Лист1!$A$2:$H$32,$A290-1,4)*11),10),\"\")","v":""},{"$f":"IFERROR((LEN(INDEX(Лист1!$A$2:$G$32,$A290,3))+1)/11,\"\")","v":""}]
[{"$f":"IFERROR(IF(ROW()=2,1,IF(INDEX(Лист1!$A$2:$I$32,$A290,4)=ROW()-2,IF(ROW()>=MAX(Лист1!D:D)+2,\"\",MAX(A$1:A290)+1),A290)),\"\")","v":""},{"$f":"IFERROR(INDEX(Лист1!$A$2:$G$32,$A291,1),\"\")","v":""},{"$f":"IFERROR(--MID(INDEX(Лист1!$A$2:$G$32,$A291,3),ROW()-1+10*(ROW()-2)-IF(A291=1,0,INDEX(Лист1!$A$2:$H$32,$A291-1,4)*11),10),\"\")","v":""},{"$f":"IFERROR((LEN(INDEX(Лист1!$A$2:$G$32,$A291,3))+1)/11,\"\")","v":""}]
[{"$f":"IFERROR(IF(ROW()=2,1,IF(INDEX(Лист1!$A$2:$I$32,$A291,4)=ROW()-2,IF(ROW()>=MAX(Лист1!D:D)+2,\"\",MAX(A$1:A291)+1),A291)),\"\")","v":""},{"$f":"IFERROR(INDEX(Лист1!$A$2:$G$32,$A292,1),\"\")","v":""},{"$f":"IFERROR(--MID(INDEX(Лист1!$A$2:$G$32,$A292,3),ROW()-1+10*(ROW()-2)-IF(A292=1,0,INDEX(Лист1!$A$2:$H$32,$A292-1,4)*11),10),\"\")","v":""},{"$f":"IFERROR((LEN(INDEX(Лист1!$A$2:$G$32,$A292,3))+1)/11,\"\")","v":""}]
[{"$f":"IFERROR(IF(ROW()=2,1,IF(INDEX(Лист1!$A$2:$I$32,$A292,4)=ROW()-2,IF(ROW()>=MAX(Лист1!D:D)+2,\"\",MAX(A$1:A292)+1),A292)),\"\")","v":""},{"$f":"IFERROR(INDEX(Лист1!$A$2:$G$32,$A293,1),\"\")","v":""},{"$f":"IFERROR(--MID(INDEX(Лист1!$A$2:$G$32,$A293,3),ROW()-1+10*(ROW()-2)-IF(A293=1,0,INDEX(Лист1!$A$2:$H$32,$A293-1,4)*11),10),\"\")","v":""},{"$f":"IFERROR((LEN(INDEX(Лист1!$A$2:$G$32,$A293,3))+1)/11,\"\")","v":""}]
[{"$f":"IFERROR(IF(ROW()=2,1,IF(INDEX(Лист1!$A$2:$I$32,$A293,4)=ROW()-2,IF(ROW()>=MAX(Лист1!D:D)+2,\"\",MAX(A$1:A293)+1),A293)),\"\")","v":""},{"$f":"IFERROR(INDEX(Лист1!$A$2:$G$32,$A294,1),\"\")","v":""},{"$f":"IFERROR(--MID(INDEX(Лист1!$A$2:$G$32,$A294,3),ROW()-1+10*(ROW()-2)-IF(A294=1,0,INDEX(Лист1!$A$2:$H$32,$A294-1,4)*11),10),\"\")","v":""},{"$f":"IFERROR((LEN(INDEX(Лист1!$A$2:$G$32,$A294,3))+1)/11,\"\")","v":""}]
[{"$f":"IFERROR(IF(ROW()=2,1,IF(INDEX(Лист1!$A$2:$I$32,$A294,4)=ROW()-2,IF(ROW()>=MAX(Лист1!D:D)+2,\"\",MAX(A$1:A294)+1),A294)),\"\")","v":""},{"$f":"IFERROR(INDEX(Лист1!$A$2:$G$32,$A295,1),\"\")","v":""},{"$f":"IFERROR(--MID(INDEX(Лист1!$A$2:$G$32,$A295,3),ROW()-1+10*(ROW()-2)-IF(A295=1,0,INDEX(Лист1!$A$2:$H$32,$A295-1,4)*11),10),\"\")","v":""},{"$f":"IFERROR((LEN(INDEX(Лист1!$A$2:$G$32,$A295,3))+1)/11,\"\")","v":""}]
[{"$f":"IFERROR(IF(ROW()=2,1,IF(INDEX(Лист1!$A$2:$I$32,$A295,4)=ROW()-2,IF(ROW()>=MAX(Лист1!D:D)+2,\"\",MAX(A$1:A295)+1),A295)),\"\")","v":""},{"$f":"IFERROR(INDEX(Лист1!$A$2:$G$32,$A296,1),\"\")","v":""},{"$f":"IFERROR(--MID(INDEX(Лист1!$A$2:$G$32,$A296,3),ROW()-1+10*(ROW()-2)-IF(A296=1,0,INDEX(Лист1!$A$2:$H$32,$A296-1,4)*11),10),\"\")","v":""},{"$f":"IFERROR((LEN(INDEX(Лист1!$A$2:$G$32,$A296,3))+1)/11,\"\")","v":""}]
[{"$f":"IFERROR(IF(ROW()=2,1,IF(INDEX(Лист1!$A$2:$I$32,$A296,4)=ROW()-2,IF(ROW()>=MAX(Лист1!D:D)+2,\"\",MAX(A$1:A296)+1),A296)),\"\")","v":""},{"$f":"IFERROR(INDEX(Лист1!$A$2:$G$32,$A297,1),\"\")","v":""},{"$f":"IFERROR(--MID(INDEX(Лист1!$A$2:$G$32,$A297,3),ROW()-1+10*(ROW()-2)-IF(A297=1,0,INDEX(Лист1!$A$2:$H$32,$A297-1,4)*11),10),\"\")","v":""},{"$f":"IFERROR((LEN(INDEX(Лист1!$A$2:$G$32,$A297,3))+1)/11,\"\")","v":""}]
[{"$f":"IFERROR(IF(ROW()=2,1,IF(INDEX(Лист1!$A$2:$I$32,$A297,4)=ROW()-2,IF(ROW()>=MAX(Лист1!D:D)+2,\"\",MAX(A$1:A297)+1),A297)),\"\")","v":""},{"$f":"IFERROR(INDEX(Лист1!$A$2:$G$32,$A298,1),\"\")","v":""},{"$f":"IFERROR(--MID(INDEX(Лист1!$A$2:$G$32,$A298,3),ROW()-1+10*(ROW()-2)-IF(A298=1,0,INDEX(Лист1!$A$2:$H$32,$A298-1,4)*11),10),\"\")","v":""},{"$f":"IFERROR((LEN(INDEX(Лист1!$A$2:$G$32,$A298,3))+1)/11,\"\")","v":""}]
[{"$f":"IFERROR(IF(ROW()=2,1,IF(INDEX(Лист1!$A$2:$I$32,$A298,4)=ROW()-2,IF(ROW()>=MAX(Лист1!D:D)+2,\"\",MAX(A$1:A298)+1),A298)),\"\")","v":""},{"$f":"IFERROR(INDEX(Лист1!$A$2:$G$32,$A299,1),\"\")","v":""},{"$f":"IFERROR(--MID(INDEX(Лист1!$A$2:$G$32,$A299,3),ROW()-1+10*(ROW()-2)-IF(A299=1,0,INDEX(Лист1!$A$2:$H$32,$A299-1,4)*11),10),\"\")","v":""},{"$f":"IFERROR((LEN(INDEX(Лист1!$A$2:$G$32,$A299,3))+1)/11,\"\")","v":""}]
[{"$f":"IFERROR(IF(ROW()=2,1,IF(INDEX(Лист1!$A$2:$I$32,$A299,4)=ROW()-2,IF(ROW()>=MAX(Лист1!D:D)+2,\"\",MAX(A$1:A299)+1),A299)),\"\")","v":""},{"$f":"IFERROR(INDEX(Лист1!$A$2:$G$32,$A300,1),\"\")","v":""},{"$f":"IFERROR(--MID(INDEX(Лист1!$A$2:$G$32,$A300,3),ROW()-1+10*(ROW()-2)-IF(A300=1,0,INDEX(Лист1!$A$2:$H$32,$A300-1,4)*11),10),\"\")","v":""},{"$f":"IFERROR((LEN(INDEX(Лист1!$A$2:$G$32,$A300,3))+1)/11,\"\")","v":""}]
[{"$f":"IFERROR(IF(ROW()=2,1,IF(INDEX(Лист1!$A$2:$I$32,$A300,4)=ROW()-2,IF(ROW()>=MAX(Лист1!D:D)+2,\"\",MAX(A$1:A300)+1),A300)),\"\")","v":""},{"$f":"IFERROR(INDEX(Лист1!$A$2:$G$32,$A301,1),\"\")","v":""},{"$f":"IFERROR(--MID(INDEX(Лист1!$A$2:$G$32,$A301,3),ROW()-1+10*(ROW()-2)-IF(A301=1,0,INDEX(Лист1!$A$2:$H$32,$A301-1,4)*11),10),\"\")","v":""},{"$f":"IFERROR((LEN(INDEX(Лист1!$A$2:$G$32,$A301,3))+1)/11,\"\")","v":""}]
[{"$f":"IFERROR(IF(ROW()=2,1,IF(INDEX(Лист1!$A$2:$I$32,$A301,4)=ROW()-2,IF(ROW()>=MAX(Лист1!D:D)+2,\"\",MAX(A$1:A301)+1),A301)),\"\")","v":""},{"$f":"IFERROR(INDEX(Лист1!$A$2:$G$32,$A302,1),\"\")","v":""},{"$f":"IFERROR(--MID(INDEX(Лист1!$A$2:$G$32,$A302,3),ROW()-1+10*(ROW()-2)-IF(A302=1,0,INDEX(Лист1!$A$2:$H$32,$A302-1,4)*11),10),\"\")","v":""},{"$f":"IFERROR((LEN(INDEX(Лист1!$A$2:$G$32,$A302,3))+1)/11,\"\")","v":""}]
[{"$f":"IFERROR(IF(ROW()=2,1,IF(INDEX(Лист1!$A$2:$I$32,$A302,4)=ROW()-2,IF(ROW()>=MAX(Лист1!D:D)+2,\"\",MAX(A$1:A302)+1),A302)),\"\")","v":""},{"$f":"IFERROR(INDEX(Лист1!$A$2:$G$32,$A303,1),\"\")","v":""},{"$f":"IFERROR(--MID(INDEX(Лист1!$A$2:$G$32,$A303,3),ROW()-1+10*(ROW()-2)-IF(A303=1,0,INDEX(Лист1!$A$2:$H$32,$A303-1,4)*11),10),\"\")","v":""},{"$f":"IFERROR((LEN(INDEX(Лист1!$A$2:$G$32,$A303,3))+1)/11,\"\")","v":""}]
[{"$f":"IFERROR(IF(ROW()=2,1,IF(INDEX(Лист1!$A$2:$I$32,$A303,4)=ROW()-2,IF(ROW()>=MAX(Лист1!D:D)+2,\"\",MAX(A$1:A303)+1),A303)),\"\")","v":""},{"$f":"IFERROR(INDEX(Лист1!$A$2:$G$32,$A304,1),\"\")","v":""},{"$f":"IFERROR(--MID(INDEX(Лист1!$A$2:$G$32,$A304,3),ROW()-1+10*(ROW()-2)-IF(A304=1,0,INDEX(Лист1!$A$2:$H$32,$A304-1,4)*11),10),\"\")","v":""},{"$f":"IFERROR((LEN(INDEX(Лист1!$A$2:$G$32,$A304,3))+1)/11,\"\")","v":""}]
[{"$f":"IFERROR(IF(ROW()=2,1,IF(INDEX(Лист1!$A$2:$I$32,$A304,4)=ROW()-2,IF(ROW()>=MAX(Лист1!D:D)+2,\"\",MAX(A$1:A304)+1),A304)),\"\")","v":""},{"$f":"IFERROR(INDEX(Лист1!$A$2:$G$32,$A305,1),\"\")","v":""},{"$f":"IFERROR(--MID(INDEX(Лист1!$A$2:$G$32,$A305,3),ROW()-1+10*(ROW()-2)-IF(A305=1,0,INDEX(Лист1!$A$2:$H$32,$A305-1,4)*11),10),\"\")","v":""},{"$f":"IFERROR((LEN(INDEX(Лист1!$A$2:$G$32,$A305,3))+1)/11,\"\")","v":""}]
[{"$f":"IFERROR(IF(ROW()=2,1,IF(INDEX(Лист1!$A$2:$I$32,$A305,4)=ROW()-2,IF(ROW()>=MAX(Лист1!D:D)+2,\"\",MAX(A$1:A305)+1),A305)),\"\")","v":""},{"$f":"IFERROR(INDEX(Лист1!$A$2:$G$32,$A306,1),\"\")","v":""},{"$f":"IFERROR(--MID(INDEX(Лист1!$A$2:$G$32,$A306,3),ROW()-1+10*(ROW()-2)-IF(A306=1,0,INDEX(Лист1!$A$2:$H$32,$A306-1,4)*11),10),\"\")","v":""},{"$f":"IFERROR((LEN(INDEX(Лист1!$A$2:$G$32,$A306,3))+1)/11,\"\")","v":""}]
[{"$f":"IFERROR(IF(ROW()=2,1,IF(INDEX(Лист1!$A$2:$I$32,$A306,4)=ROW()-2,IF(ROW()>=MAX(Лист1!D:D)+2,\"\",MAX(A$1:A306)+1),A306)),\"\")","v":""},{"$f":"IFERROR(INDEX(Лист1!$A$2:$G$32,$A307,1),\"\")","v":""},{"$f":"IFERROR(--MID(INDEX(Лист1!$A$2:$G$32,$A307,3),ROW()-1+10*(ROW()-2)-IF(A307=1,0,INDEX(Лист1!$A$2:$H$32,$A307-1,4)*11),10),\"\")","v":""},{"$f":"IFERROR((LEN(INDEX(Лист1!$A$2:$G$32,$A307,3))+1)/11,\"\")","v":""}]
[{"$f":"IFERROR(IF(ROW()=2,1,IF(INDEX(Лист1!$A$2:$I$32,$A307,4)=ROW()-2,IF(ROW()>=MAX(Лист1!D:D)+2,\"\",MAX(A$1:A307)+1),A307)),\"\")","v":""},{"$f":"IFERROR(INDEX(Лист1!$A$2:$G$32,$A308,1),\"\")","v":""},{"$f":"IFERROR(--MID(INDEX(Лист1!$A$2:$G$32,$A308,3),ROW()-1+10*(ROW()-2)-IF(A308=1,0,INDEX(Лист1!$A$2:$H$32,$A308-1,4)*11),10),\"\")","v":""},{"$f":"IFERROR((LEN(INDEX(Лист1!$A$2:$G$32,$A308,3))+1)/11,\"\")","v":""}]
[{"$f":"IFERROR(IF(ROW()=2,1,IF(INDEX(Лист1!$A$2:$I$32,$A308,4)=ROW()-2,IF(ROW()>=MAX(Лист1!D:D)+2,\"\",MAX(A$1:A308)+1),A308)),\"\")","v":""},{"$f":"IFERROR(INDEX(Лист1!$A$2:$G$32,$A309,1),\"\")","v":""},{"$f":"IFERROR(--MID(INDEX(Лист1!$A$2:$G$32,$A309,3),ROW()-1+10*(ROW()-2)-IF(A309=1,0,INDEX(Лист1!$A$2:$H$32,$A309-1,4)*11),10),\"\")","v":""},{"$f":"IFERROR((LEN(INDEX(Лист1!$A$2:$G$32,$A309,3))+1)/11,\"\")","v":""}]
[{"$f":"IFERROR(IF(ROW()=2,1,IF(INDEX(Лист1!$A$2:$I$32,$A309,4)=ROW()-2,IF(ROW()>=MAX(Лист1!D:D)+2,\"\",MAX(A$1:A309)+1),A309)),\"\")","v":""},{"$f":"IFERROR(INDEX(Лист1!$A$2:$G$32,$A310,1),\"\")","v":""},{"$f":"IFERROR(--MID(INDEX(Лист1!$A$2:$G$32,$A310,3),ROW()-1+10*(ROW()-2)-IF(A310=1,0,INDEX(Лист1!$A$2:$H$32,$A310-1,4)*11),10),\"\")","v":""},{"$f":"IFERROR((LEN(INDEX(Лист1!$A$2:$G$32,$A310,3))+1)/11,\"\")","v":""}]
[{"$f":"IFERROR(IF(ROW()=2,1,IF(INDEX(Лист1!$A$2:$I$32,$A310,4)=ROW()-2,IF(ROW()>=MAX(Лист1!D:D)+2,\"\",MAX(A$1:A310)+1),A310)),\"\")","v":""},{"$f":"IFERROR(INDEX(Лист1!$A$2:$G$32,$A311,1),\"\")","v":""},{"$f":"IFERROR(--MID(INDEX(Лист1!$A$2:$G$32,$A311,3),ROW()-1+10*(ROW()-2)-IF(A311=1,0,INDEX(Лист1!$A$2:$H$32,$A311-1,4)*11),10),\"\")","v":""},{"$f":"IFERROR((LEN(INDEX(Лист1!$A$2:$G$32,$A311,3))+1)/11,\"\")","v":""}]
[{"$f":"IFERROR(IF(ROW()=2,1,IF(INDEX(Лист1!$A$2:$I$32,$A311,4)=ROW()-2,IF(ROW()>=MAX(Лист1!D:D)+2,\"\",MAX(A$1:A311)+1),A311)),\"\")","v":""},{"$f":"IFERROR(INDEX(Лист1!$A$2:$G$32,$A312,1),\"\")","v":""},{"$f":"IFERROR(--MID(INDEX(Лист1!$A$2:$G$32,$A312,3),ROW()-1+10*(ROW()-2)-IF(A312=1,0,INDEX(Лист1!$A$2:$H$32,$A312-1,4)*11),10),\"\")","v":""},{"$f":"IFERROR((LEN(INDEX(Лист1!$A$2:$G$32,$A312,3))+1)/11,\"\")","v":""}]
[{"$f":"IFERROR(IF(ROW()=2,1,IF(INDEX(Лист1!$A$2:$I$32,$A312,4)=ROW()-2,IF(ROW()>=MAX(Лист1!D:D)+2,\"\",MAX(A$1:A312)+1),A312)),\"\")","v":""},{"$f":"IFERROR(INDEX(Лист1!$A$2:$G$32,$A313,1),\"\")","v":""},{"$f":"IFERROR(--MID(INDEX(Лист1!$A$2:$G$32,$A313,3),ROW()-1+10*(ROW()-2)-IF(A313=1,0,INDEX(Лист1!$A$2:$H$32,$A313-1,4)*11),10),\"\")","v":""},{"$f":"IFERROR((LEN(INDEX(Лист1!$A$2:$G$32,$A313,3))+1)/11,\"\")","v":""}]
[{"$f":"IFERROR(IF(ROW()=2,1,IF(INDEX(Лист1!$A$2:$I$32,$A313,4)=ROW()-2,IF(ROW()>=MAX(Лист1!D:D)+2,\"\",MAX(A$1:A313)+1),A313)),\"\")","v":""},{"$f":"IFERROR(INDEX(Лист1!$A$2:$G$32,$A314,1),\"\")","v":""},{"$f":"IFERROR(--MID(INDEX(Лист1!$A$2:$G$32,$A314,3),ROW()-1+10*(ROW()-2)-IF(A314=1,0,INDEX(Лист1!$A$2:$H$32,$A314-1,4)*11),10),\"\")","v":""},{"$f":"IFERROR((LEN(INDEX(Лист1!$A$2:$G$32,$A314,3))+1)/11,\"\")","v":""}]
[{"$f":"IFERROR(IF(ROW()=2,1,IF(INDEX(Лист1!$A$2:$I$32,$A314,4)=ROW()-2,IF(ROW()>=MAX(Лист1!D:D)+2,\"\",MAX(A$1:A314)+1),A314)),\"\")","v":""},{"$f":"IFERROR(INDEX(Лист1!$A$2:$G$32,$A315,1),\"\")","v":""},{"$f":"IFERROR(--MID(INDEX(Лист1!$A$2:$G$32,$A315,3),ROW()-1+10*(ROW()-2)-IF(A315=1,0,INDEX(Лист1!$A$2:$H$32,$A315-1,4)*11),10),\"\")","v":""},{"$f":"IFERROR((LEN(INDEX(Лист1!$A$2:$G$32,$A315,3))+1)/11,\"\")","v":""}]
[{"$f":"IFERROR(IF(ROW()=2,1,IF(INDEX(Лист1!$A$2:$I$32,$A315,4)=ROW()-2,IF(ROW()>=MAX(Лист1!D:D)+2,\"\",MAX(A$1:A315)+1),A315)),\"\")","v":""},{"$f":"IFERROR(INDEX(Лист1!$A$2:$G$32,$A316,1),\"\")","v":""},{"$f":"IFERROR(--MID(INDEX(Лист1!$A$2:$G$32,$A316,3),ROW()-1+10*(ROW()-2)-IF(A316=1,0,INDEX(Лист1!$A$2:$H$32,$A316-1,4)*11),10),\"\")","v":""},{"$f":"IFERROR((LEN(INDEX(Лист1!$A$2:$G$32,$A316,3))+1)/11,\"\")","v":""}]
[{"$f":"IFERROR(IF(ROW()=2,1,IF(INDEX(Лист1!$A$2:$I$32,$A316,4)=ROW()-2,IF(ROW()>=MAX(Лист1!D:D)+2,\"\",MAX(A$1:A316)+1),A316)),\"\")","v":""},{"$f":"IFERROR(INDEX(Лист1!$A$2:$G$32,$A317,1),\"\")","v":""},{"$f":"IFERROR(--MID(INDEX(Лист1!$A$2:$G$32,$A317,3),ROW()-1+10*(ROW()-2)-IF(A317=1,0,INDEX(Лист1!$A$2:$H$32,$A317-1,4)*11),10),\"\")","v":""},{"$f":"IFERROR((LEN(INDEX(Лист1!$A$2:$G$32,$A317,3))+1)/11,\"\")","v":""}]
[{"$f":"IFERROR(IF(ROW()=2,1,IF(INDEX(Лист1!$A$2:$I$32,$A317,4)=ROW()-2,IF(ROW()>=MAX(Лист1!D:D)+2,\"\",MAX(A$1:A317)+1),A317)),\"\")","v":""},{"$f":"IFERROR(INDEX(Лист1!$A$2:$G$32,$A318,1),\"\")","v":""},{"$f":"IFERROR(--MID(INDEX(Лист1!$A$2:$G$32,$A318,3),ROW()-1+10*(ROW()-2)-IF(A318=1,0,INDEX(Лист1!$A$2:$H$32,$A318-1,4)*11),10),\"\")","v":""},{"$f":"IFERROR((LEN(INDEX(Лист1!$A$2:$G$32,$A318,3))+1)/11,\"\")","v":""}]
[{"$f":"IFERROR(IF(ROW()=2,1,IF(INDEX(Лист1!$A$2:$I$32,$A318,4)=ROW()-2,IF(ROW()>=MAX(Лист1!D:D)+2,\"\",MAX(A$1:A318)+1),A318)),\"\")","v":""},{"$f":"IFERROR(INDEX(Лист1!$A$2:$G$32,$A319,1),\"\")","v":""},{"$f":"IFERROR(--MID(INDEX(Лист1!$A$2:$G$32,$A319,3),ROW()-1+10*(ROW()-2)-IF(A319=1,0,INDEX(Лист1!$A$2:$H$32,$A319-1,4)*11),10),\"\")","v":""},{"$f":"IFERROR((LEN(INDEX(Лист1!$A$2:$G$32,$A319,3))+1)/11,\"\")","v":""}]
[{"$f":"IFERROR(IF(ROW()=2,1,IF(INDEX(Лист1!$A$2:$I$32,$A319,4)=ROW()-2,IF(ROW()>=MAX(Лист1!D:D)+2,\"\",MAX(A$1:A319)+1),A319)),\"\")","v":""},{"$f":"IFERROR(INDEX(Лист1!$A$2:$G$32,$A320,1),\"\")","v":""},{"$f":"IFERROR(--MID(INDEX(Лист1!$A$2:$G$32,$A320,3),ROW()-1+10*(ROW()-2)-IF(A320=1,0,INDEX(Лист1!$A$2:$H$32,$A320-1,4)*11),10),\"\")","v":""},{"$f":"IFERROR((LEN(INDEX(Лист1!$A$2:$G$32,$A320,3))+1)/11,\"\")","v":""}]
[{"$f":"IFERROR(IF(ROW()=2,1,IF(INDEX(Лист1!$A$2:$I$32,$A320,4)=ROW()-2,IF(ROW()>=MAX(Лист1!D:D)+2,\"\",MAX(A$1:A320)+1),A320)),\"\")","v":""},{"$f":"IFERROR(INDEX(Лист1!$A$2:$G$32,$A321,1),\"\")","v":""},{"$f":"IFERROR(--MID(INDEX(Лист1!$A$2:$G$32,$A321,3),ROW()-1+10*(ROW()-2)-IF(A321=1,0,INDEX(Лист1!$A$2:$H$32,$A321-1,4)*11),10),\"\")","v":""},{"$f":"IFERROR((LEN(INDEX(Лист1!$A$2:$G$32,$A321,3))+1)/11,\"\")","v":""}]
[{"$f":"IFERROR(IF(ROW()=2,1,IF(INDEX(Лист1!$A$2:$I$32,$A321,4)=ROW()-2,IF(ROW()>=MAX(Лист1!D:D)+2,\"\",MAX(A$1:A321)+1),A321)),\"\")","v":""},{"$f":"IFERROR(INDEX(Лист1!$A$2:$G$32,$A322,1),\"\")","v":""},{"$f":"IFERROR(--MID(INDEX(Лист1!$A$2:$G$32,$A322,3),ROW()-1+10*(ROW()-2)-IF(A322=1,0,INDEX(Лист1!$A$2:$H$32,$A322-1,4)*11),10),\"\")","v":""},{"$f":"IFERROR((LEN(INDEX(Лист1!$A$2:$G$32,$A322,3))+1)/11,\"\")","v":""}]
[{"$f":"IFERROR(IF(ROW()=2,1,IF(INDEX(Лист1!$A$2:$I$32,$A322,4)=ROW()-2,IF(ROW()>=MAX(Лист1!D:D)+2,\"\",MAX(A$1:A322)+1),A322)),\"\")","v":""},{"$f":"IFERROR(INDEX(Лист1!$A$2:$G$32,$A323,1),\"\")","v":""},{"$f":"IFERROR(--MID(INDEX(Лист1!$A$2:$G$32,$A323,3),ROW()-1+10*(ROW()-2)-IF(A323=1,0,INDEX(Лист1!$A$2:$H$32,$A323-1,4)*11),10),\"\")","v":""},{"$f":"IFERROR((LEN(INDEX(Лист1!$A$2:$G$32,$A323,3))+1)/11,\"\")","v":""}]
[{"$f":"IFERROR(IF(ROW()=2,1,IF(INDEX(Лист1!$A$2:$I$32,$A323,4)=ROW()-2,IF(ROW()>=MAX(Лист1!D:D)+2,\"\",MAX(A$1:A323)+1),A323)),\"\")","v":""},{"$f":"IFERROR(INDEX(Лист1!$A$2:$G$32,$A324,1),\"\")","v":""},{"$f":"IFERROR(--MID(INDEX(Лист1!$A$2:$G$32,$A324,3),ROW()-1+10*(ROW()-2)-IF(A324=1,0,INDEX(Лист1!$A$2:$H$32,$A324-1,4)*11),10),\"\")","v":""},{"$f":"IFERROR((LEN(INDEX(Лист1!$A$2:$G$32,$A324,3))+1)/11,\"\")","v":""}]
[{"$f":"IFERROR(IF(ROW()=2,1,IF(INDEX(Лист1!$A$2:$I$32,$A324,4)=ROW()-2,IF(ROW()>=MAX(Лист1!D:D)+2,\"\",MAX(A$1:A324)+1),A324)),\"\")","v":""},{"$f":"IFERROR(INDEX(Лист1!$A$2:$G$32,$A325,1),\"\")","v":""},{"$f":"IFERROR(--MID(INDEX(Лист1!$A$2:$G$32,$A325,3),ROW()-1+10*(ROW()-2)-IF(A325=1,0,INDEX(Лист1!$A$2:$H$32,$A325-1,4)*11),10),\"\")","v":""},{"$f":"IFERROR((LEN(INDEX(Лист1!$A$2:$G$32,$A325,3))+1)/11,\"\")","v":""}]
[{"$f":"IFERROR(IF(ROW()=2,1,IF(INDEX(Лист1!$A$2:$I$32,$A325,4)=ROW()-2,IF(ROW()>=MAX(Лист1!D:D)+2,\"\",MAX(A$1:A325)+1),A325)),\"\")","v":""},{"$f":"IFERROR(INDEX(Лист1!$A$2:$G$32,$A326,1),\"\")","v":""},{"$f":"IFERROR(--MID(INDEX(Лист1!$A$2:$G$32,$A326,3),ROW()-1+10*(ROW()-2)-IF(A326=1,0,INDEX(Лист1!$A$2:$H$32,$A326-1,4)*11),10),\"\")","v":""},{"$f":"IFERROR((LEN(INDEX(Лист1!$A$2:$G$32,$A326,3))+1)/11,\"\")","v":""}]
[{"$f":"IFERROR(IF(ROW()=2,1,IF(INDEX(Лист1!$A$2:$I$32,$A326,4)=ROW()-2,IF(ROW()>=MAX(Лист1!D:D)+2,\"\",MAX(A$1:A326)+1),A326)),\"\")","v":""},{"$f":"IFERROR(INDEX(Лист1!$A$2:$G$32,$A327,1),\"\")","v":""},{"$f":"IFERROR(--MID(INDEX(Лист1!$A$2:$G$32,$A327,3),ROW()-1+10*(ROW()-2)-IF(A327=1,0,INDEX(Лист1!$A$2:$H$32,$A327-1,4)*11),10),\"\")","v":""},{"$f":"IFERROR((LEN(INDEX(Лист1!$A$2:$G$32,$A327,3))+1)/11,\"\")","v":""}]
[{"$f":"IFERROR(IF(ROW()=2,1,IF(INDEX(Лист1!$A$2:$I$32,$A327,4)=ROW()-2,IF(ROW()>=MAX(Лист1!D:D)+2,\"\",MAX(A$1:A327)+1),A327)),\"\")","v":""},{"$f":"IFERROR(INDEX(Лист1!$A$2:$G$32,$A328,1),\"\")","v":""},{"$f":"IFERROR(--MID(INDEX(Лист1!$A$2:$G$32,$A328,3),ROW()-1+10*(ROW()-2)-IF(A328=1,0,INDEX(Лист1!$A$2:$H$32,$A328-1,4)*11),10),\"\")","v":""},{"$f":"IFERROR((LEN(INDEX(Лист1!$A$2:$G$32,$A328,3))+1)/11,\"\")","v":""}]
[{"$f":"IFERROR(IF(ROW()=2,1,IF(INDEX(Лист1!$A$2:$I$32,$A328,4)=ROW()-2,IF(ROW()>=MAX(Лист1!D:D)+2,\"\",MAX(A$1:A328)+1),A328)),\"\")","v":""},{"$f":"IFERROR(INDEX(Лист1!$A$2:$G$32,$A329,1),\"\")","v":""},{"$f":"IFERROR(--MID(INDEX(Лист1!$A$2:$G$32,$A329,3),ROW()-1+10*(ROW()-2)-IF(A329=1,0,INDEX(Лист1!$A$2:$H$32,$A329-1,4)*11),10),\"\")","v":""},{"$f":"IFERROR((LEN(INDEX(Лист1!$A$2:$G$32,$A329,3))+1)/11,\"\")","v":""}]
[{"$f":"IFERROR(IF(ROW()=2,1,IF(INDEX(Лист1!$A$2:$I$32,$A329,4)=ROW()-2,IF(ROW()>=MAX(Лист1!D:D)+2,\"\",MAX(A$1:A329)+1),A329)),\"\")","v":""},{"$f":"IFERROR(INDEX(Лист1!$A$2:$G$32,$A330,1),\"\")","v":""},{"$f":"IFERROR(--MID(INDEX(Лист1!$A$2:$G$32,$A330,3),ROW()-1+10*(ROW()-2)-IF(A330=1,0,INDEX(Лист1!$A$2:$H$32,$A330-1,4)*11),10),\"\")","v":""},{"$f":"IFERROR((LEN(INDEX(Лист1!$A$2:$G$32,$A330,3))+1)/11,\"\")","v":""}]

{"sheet":"Сводная таблица","index":2,"n_rows":27,"n_cols":1,"rows_kept":27,"cut":false,"hidden":false,"merged":[]}
[]
[]
["Названия строк"]
["2013-03-21"]
["2013-03-22"]
["2013-03-23"]
["2013-03-24"]
["2013-03-25"]
["2013-03-26"]
["2013-03-27"]
["2013-03-29"]
["2013-03-30"]
["2013-03-31"]
["Срочно требуются: продавец в мясной отдел, повар в холодный цех, продавец в колбасный отдел, товаровед с опытом работы, юрист. Тел. 8-912-294-60-06, 8-922-14-33-457"]
["2013-04-02"]
["В связи с расширением срочно требуются сотрудники в офис, от 35 000 руб. Тел. 201-06-13"]
["Работа на дому. Тел. 201-05-47"]
["Срочно требуются: продавец в мясной отдел, повар в холодный цех, продавец в колбасный отдел, товаровед с опытом работы, юрист. Тел. 8-912-294-60-06, 8-922-14-33-457"]
["Требуется администратор зала, 28 000 руб. Тел. 200-93-67"]
["Требуется администратор, от 25000 руб. Тел. 213-35-60"]
["Требуется менеджер корпоративных продаж, от 35 000 руб. Тел. 200-21-78"]
["Требуются продавцы-консультанты, грузчики, фасовщицы. ЖБИ, Эльмаш, Центр, Сортировка. Тел. 290-16-48, 8-922-030-72-22"]
["Требуются сотрудники в отдел продаж, оклад 30 000 руб + %. Тел. 200-21-78"]
["2013-04-03"]
["2013-04-04"]
["2013-04-06"]
["2013-04-07"]