{"text_format":"1","workbook":"xlsx","n_sheets":7,"sheets":["Расчет","Лист6","магазин-1","магазин-2","...","магазин-62","CurShop"],"not_rendered":{"charts":0,"images":0,"macros":1,"external_links":0,"defined_names":0,"comments":0,"pivot_tables":0},"unopened":[],"bounds":{"document_bytes":16777216,"sheet_cells":100000,"rows_first":2000,"rows_last":500,"rows_between":2000,"halvings":0,"cell_chars":16384,"cell_head_chars":4096},"cells_cut":0,"cells_raw":0,"read":"whole","date_system":"1900"}

{"sheet":"Расчет","index":0,"n_rows":17,"n_cols":15,"rows_kept":17,"cut":false,"hidden":false,"merged":[]}
[]
[]
[null,"Показатель"]
[null,"единица-2"]
[]
[null,"Магазин"]
[null,"магазин-62"]
[]
[null,null,null,null,null,{"$f":"IF(B4=\"единица-1\",CurShop!F1,CurShop!U1)","v":"Показатель 2"}]
[null,null,"январь","февраль","март","апрель","май","июнь","июль","август","сентябрь","октябрь","ноябрь","декабрь","…"]
[null,1,{"$f":"IF($B$4=\"единица-1\",CurShop!C3,CurShop!O3)","v":20},{"$f":"IF($B$4=\"единица-1\",CurShop!D3,CurShop!P3)","v":20},{"$f":"IF($B$4=\"единица-1\",CurShop!E3,CurShop!Q3)","v":20},{"$f":"IF($B$4=\"единица-1\",CurShop!F3,CurShop!R3)","v":20},{"$f":"IF($B$4=\"единица-1\",CurShop!G3,CurShop!S3)","v":20},{"$f":"IF($B$4=\"единица-1\",CurShop!H3,CurShop!T3)","v":20},{"$f":"IF($B$4=\"единица-1\",CurShop!I3,CurShop!U3)","v":19},{"$f":"IF($B$4=\"единица-1\",CurShop!J3,CurShop!V3)","v":20},{"$f":"IF($B$4=\"единица-1\",CurShop!K3,CurShop!W3)","v":24},{"$f":"IF($B$4=\"единица-1\",CurShop!L3,CurShop!X3)","v":22},{"$f":"IF($B$4=\"единица-1\",CurShop!M3,CurShop!Y3)","v":23},{"$f":"IF($B$4=\"единица-1\",CurShop!N3,CurShop!Z3)","v":24}]
[null,2,{"$f":"IF($B$4=\"единица-1\",CurShop!C4,CurShop!O4)","v":20},{"$f":"IF($B$4=\"единица-1\",CurShop!D4,CurShop!P4)","v":20},{"$f":"IF($B$4=\"единица-1\",CurShop!E4,CurShop!Q4)","v":20},{"$f":"IF($B$4=\"единица-1\",CurShop!F4,CurShop!R4)","v":20},{"$f":"IF($B$4=\"единица-1\",CurShop!G4,CurShop!S4)","v":20},{"$f":"IF($B$4=\"единица-1\",CurShop!H4,CurShop!T4)","v":20},{"$f":"IF($B$4=\"единица-1\",CurShop!I4,CurShop!U4)","v":19},{"$f":"IF($B$4=\"единица-1\",CurShop!J4,CurShop!V4)","v":20},{"$f":"IF($B$4=\"единица-1\",CurShop!K4,CurShop!W4)","v":24},{"$f":"IF($B$4=\"единица-1\",CurShop!L4,CurShop!X4)","v":22},{"$f":"IF($B$4=\"единица-1\",CurShop!M4,CurShop!Y4)","v":23},{"$f":"IF($B$4=\"единица-1\",CurShop!N4,CurShop!Z4)","v":24}]
[null,3,{"$f":"IF($B$4=\"единица-1\",CurShop!C5,CurShop!O5)","v":20},{"$f":"IF($B$4=\"единица-1\",CurShop!D5,CurShop!P5)","v":20},{"$f":"IF($B$4=\"единица-1\",CurShop!E5,CurShop!Q5)","v":20},{"$f":"IF($B$4=\"единица-1\",CurShop!F5,CurShop!R5)","v":20},{"$f":"IF($B$4=\"единица-1\",CurShop!G5,CurShop!S5)","v":20},{"$f":"IF($B$4=\"единица-1\",CurShop!H5,CurShop!T5)","v":20},{"$f":"IF($B$4=\"единица-1\",CurShop!I5,CurShop!U5)","v":19},{"$f":"IF($B$4=\"единица-1\",CurShop!J5,CurShop!V5)","v":20},{"$f":"IF($B$4=\"единица-1\",CurShop!K5,CurShop!W5)","v":24},{"$f":"IF($B$4=\"единица-1\",CurShop!L5,CurShop!X5)","v":22},{"$f":"IF($B$4=\"единица-1\",CurShop!M5,CurShop!Y5)","v":23},{"$f":"IF($B$4=\"единица-1\",CurShop!N5,CurShop!Z5)","v":24}]
[null,4,{"$f":"IF($B$4=\"единица-1\",CurShop!C6,CurShop!O6)","v":20},{"$f":"IF($B$4=\"единица-1\",CurShop!D6,CurShop!P6)","v":20},{"$f":"IF($B$4=\"единица-1\",CurShop!E6,CurShop!Q6)","v":20},{"$f":"IF($B$4=\"единица-1\",CurShop!F6,CurShop!R6)","v":20},{"$f":"IF($B$4=\"единица-1\",CurShop!G6,CurShop!S6)","v":20},{"$f":"IF($B$4=\"единица-1\",CurShop!H6,CurShop!T6)","v":20},{"$f":"IF($B$4=\"единица-1\",CurShop!I6,CurShop!U6)","v":19},{"$f":"IF($B$4=\"единица-1\",CurShop!J6,CurShop!V6)","v":20},{"$f":"IF($B$4=\"единица-1\",CurShop!K6,CurShop!W6)","v":24},{"$f":"IF($B$4=\"единица-1\",CurShop!L6,CurShop!X6)","v":22},{"$f":"IF($B$4=\"единица-1\",CurShop!M6,CurShop!Y6)","v":23},{"$f":"IF($B$4=\"единица-1\",CurShop!N6,CurShop!Z6)","v":24}]
[null,5,{"$f":"IF($B$4=\"единица-1\",CurShop!C7,CurShop!O7)","v":20},{"$f":"IF($B$4=\"единица-1\",CurShop!D7,CurShop!P7)","v":20},{"$f":"IF($B$4=\"единица-1\",CurShop!E7,CurShop!Q7)","v":20},{"$f":"IF($B$4=\"единица-1\",CurShop!F7,CurShop!R7)","v":20},{"$f":"IF($B$4=\"единица-1\",CurShop!G7,CurShop!S7)","v":20},{"$f":"IF($B$4=\"единица-1\",CurShop!H7,CurShop!T7)","v":20},{"$f":"IF($B$4=\"единица-1\",CurShop!I7,CurShop!U7)","v":19},{"$f":"IF($B$4=\"единица-1\",CurShop!J7,CurShop!V7)","v":20},{"$f":"IF($B$4=\"единица-1\",CurShop!K7,CurShop!W7)","v":24},{"$f":"IF($B$4=\"единица-1\",CurShop!L7,CurShop!X7)","v":22},{"$f":"IF($B$4=\"единица-1\",CurShop!M7,CurShop!Y7)","v":23},{"$f":"IF($B$4=\"единица-1\",CurShop!N7,CurShop!Z7)","v":24}]
[null,"….",{"$f":"IF($B$4=\"единица-1\",CurShop!C8,CurShop!O8)","v":20},{"$f":"IF($B$4=\"единица-1\",CurShop!D8,CurShop!P8)","v":20},{"$f":"IF($B$4=\"единица-1\",CurShop!E8,CurShop!Q8)","v":20},{"$f":"IF($B$4=\"единица-1\",CurShop!F8,CurShop!R8)","v":20},{"$f":"IF($B$4=\"единица-1\",CurShop!G8,CurShop!S8)","v":20},{"$f":"IF($B$4=\"единица-1\",CurShop!H8,CurShop!T8)","v":20},{"$f":"IF($B$4=\"единица-1\",CurShop!I8,CurShop!U8)","v":19},{"$f":"IF($B$4=\"единица-1\",CurShop!J8,CurShop!V8)","v":20},{"$f":"IF($B$4=\"единица-1\",CurShop!K8,CurShop!W8)","v":24},{"$f":"IF($B$4=\"единица-1\",CurShop!L8,CurShop!X8)","v":22},{"$f":"IF($B$4=\"единица-1\",CurShop!M8,CurShop!Y8)","v":23},{"$f":"IF($B$4=\"единица-1\",CurShop!N8,CurShop!Z8)","v":24}]
[null,4000,{"$f":"IF($B$4=\"единица-1\",CurShop!C9,CurShop!O9)","v":20},{"$f":"IF($B$4=\"единица-1\",CurShop!D9,CurShop!P9)","v":20},{"$f":"IF($B$4=\"единица-1\",CurShop!E9,CurShop!Q9)","v":20},{"$f":"IF($B$4=\"единица-1\",CurShop!F9,CurShop!R9)","v":20},{"$f":"IF($B$4=\"единица-1\",CurShop!G9,CurShop!S9)","v":20},{"$f":"IF($B$4=\"единица-1\",CurShop!H9,CurShop!T9)","v":20},{"$f":"IF($B$4=\"единица-1\",CurShop!I9,CurShop!U9)","v":19},{"$f":"IF($B$4=\"единица-1\",CurShop!J9,CurShop!V9)","v":20},{"$f":"IF($B$4=\"единица-1\",CurShop!K9,CurShop!W9)","v":24},{"$f":"IF($B$4=\"единица-1\",CurShop!L9,CurShop!X9)","v":22},{"$f":"IF($B$4=\"единица-1\",CurShop!M9,CurShop!Y9)","v":23},{"$f":"IF($B$4=\"единица-1\",CurShop!N9,CurShop!Z9)","v":24}]

{"sheet":"Лист6","index":1,"n_rows":4,"n_cols":4,"rows_kept":4,"cut":false,"hidden":true,"merged":[]}
[]
[null,"магазин-1",null,"единица-1"]
[null,"магазин-2",null,"единица-2"]
[null,"магазин-62"]

{"sheet":"магазин-1","index":2,"n_rows":9,"n_cols":29,"rows_kept":9,"cut":false,"hidden":false,"merged":[]}
[null,null,null,null,null,"Показатель 1",null,null,null,null,null,null,null,null,null,null,null,null,null,null,"Показатель 1"]
[null,null,"январь","февраль","март","апрель","май","июнь","июль","август","сентябрь","октябрь","ноябрь","декабрь","январь","февраль","март","апрель","май","июнь","июль","август","сентябрь","октябрь","ноябрь","декабрь","январь","февраль","…"]
[null,1,5,5,5,5,5,5,5,5,5,5,5,5,13,14,15,16,17,18,19,20,21,22,23,24,25,26]
[null,2,5,5,5,5,5,5,5,5,5,5,5,5,13,14,15,16,17,18,19,20,21,22,23,24,25,26]
[null,3,5,5,5,5,5,5,5,5,5,5,5,5,13,14,15,16,17,18,19,20,21,22,23,24,25,26]
[null,4,5,5,5,5,5,5,5,5,5,5,5,5,13,14,15,16,17,18,19,20,21,22,23,24,25,26]
[null,5,5,5,5,5,5,5,5,5,5,5,5,5,13,14,15,16,17,18,19,20,21,22,23,24,25,26]
[null,"….",5,5,5,5,5,5,5,5,5,5,5,5,13,14,15,16,17,18,19,20,21,22,23,24,25,26]
[null,4000,5,5,5,5,5,5,5,5,5,5,5,5,13,14,15,16,17,18,19,20,21,22,23,24,25,26]

{"sheet":"магазин-2","index":3,"n_rows":9,"n_cols":29,"rows_kept":9,"cut":false,"hidden":false,"merged":[]}
[null,null,null,null,null,"Показатель 1",null,null,null,null,null,null,null,null,null,null,null,null,null,null,"Показатель 1"]
[null,null,"январь","февраль","март","апрель","май","июнь","июль","август","сентябрь","октябрь","ноябрь","декабрь","январь","февраль","март","апрель","май","июнь","июль","август","сентябрь","октябрь","ноябрь","декабрь","январь","февраль","…"]
[null,1,3,3,3,3,3,3,3,3,3,3,3,3,16,16,16,16,16,16,16,16,16,16,16,16,16,16]
[null,2,3,3,3,3,3,3,3,3,3,3,3,3,16,16,16,16,16,16,16,16,16,16,16,16,16,16]
[null,3,3,3,3,3,3,3,3,3,3,3,3,3,16,16,16,16,16,16,16,16,16,16,16,16,16,16]
[null,4,3,3,3,3,3,3,3,3,3,3,3,3,16,16,16,16,16,16,16,16,16,16,16,16,16,16]
[null,5,3,3,3,3,3,3,3,3,3,3,3,3,16,16,16,16,16,16,16,16,16,16,16,16,16,16]
[null,"….",3,3,3,3,3,3,3,3,3,3,3,3,16,16,16,16,16,16,16,16,16,16,16,16,16,16]
[null,4000,3,3,3,3,3,3,3,3,3,3,3,3,16,16,16,16,16,16,16,16,16,16,16,16,16,16]

{"sheet":"...","index":4,"n_rows":0,"n_cols":0,"rows_kept":0,"cut":false,"hidden":false,"merged":[]}

{"sheet":"магазин-62","index":5,"n_rows":9,"n_cols":29,"rows_kept":9,"cut":false,"hidden":false,"merged":[]}
[null,null,null,null,null,"Показатель 1",null,null,null,null,null,null,null,null,null,null,null,null,null,null,"Показатель 1"]
[null,null,"январь","февраль","март","апрель","май","июнь","июль","август","сентябрь","октябрь","ноябрь","декабрь","январь","февраль","март","апрель","май","июнь","июль","август","сентябрь","октябрь","ноябрь","декабрь","январь","февраль","…"]
[null,1,6,6,6,6,6,6,6,6,6,6,6,6,20,20,20,20,20,20,19,20,24,22,23,24,25,26]
[null,2,6,6,6,6,6,6,6,6,6,6,6,6,20,20,20,20,20,20,19,20,24,22,23,24,25,26]
[null,3,6,6,6,6,6,6,6,6,6,6,6,6,20,20,20,20,20,20,19,20,24,22,23,24,25,26]
[null,4,6,6,6,6,6,6,6,6,6,6,6,6,20,20,20,20,20,20,19,20,24,22,23,24,25,26]
[null,5,6,6,6,6,6,6,6,6,6,6,6,6,20,20,20,20,20,20,19,20,24,22,23,24,25,26]
[null,"….",6,6,6,6,6,6,6,6,6,6,6,6,20,20,20,20,20,20,19,20,24,22,23,24,25,26]
[null,4000,6,6,6,6,6,6,6,6,6,6,6,6,20,20,20,20,20,20,19,20,24,22,23,24,25,26]

{"sheet":"CurShop","index":6,"n_rows":9,"n_cols":29,"rows_kept":9,"cut":false,"hidden":false,"merged":[]}
[null,null,null,null,null,"Показатель 1",null,null,null,null,null,null,null,null,null,null,null,null,null,null,"Показатель 2"]
[null,null,"январь","февраль","март","апрель","май","июнь","июль","август","сентябрь","октябрь","ноябрь","декабрь","январь","февраль","март","апрель","май","июнь","июль","август","сентябрь","октябрь","ноябрь","декабрь","январь","февраль","…"]
[null,1,6,6,6,6,6,6,6,6,6,6,6,6,20,20,20,20,20,20,19,20,24,22,23,24,25,26]
[null,2,6,6,6,6,6,6,6,6,6,6,6,6,20,20,20,20,20,20,19,20,24,22,23,24,25,26]
[null,3,6,6,6,6,6,6,6,6,6,6,6,6,20,20,20,20,20,20,19,20,24,22,23,24,25,26]
[null,4,6,6,6,6,6,6,6,6,6,6,6,6,20,20,20,20,20,20,19,20,24,22,23,24,25,26]
[null,5,6,6,6,6,6,6,6,6,6,6,6,6,20,20,20,20,20,20,19,20,24,22,23,24,25,26]
[null,"….",6,6,6,6,6,6,6,6,6,6,6,6,20,20,20,20,20,20,19,20,24,22,23,24,25,26]
[null,4000,6,6,6,6,6,6,6,6,6,6,6,6,20,20,20,20,20,20,19,20,24,22,23,24,25,26]