{"text_format":"1","workbook":"xlsx","n_sheets":13,"sheets":["Spot-price","Spot-price savings","Saving Customs","Saving URFU","Saving Subcontract","FSTEC 2019","Sub_2019","Charts","Total savings 2020","Data","Data_Sub","Список","Список_Sub"],"not_rendered":{"charts":2,"images":0,"macros":1,"external_links":0,"defined_names":2,"comments":0,"pivot_tables":0},"unopened":[],"bounds":{"document_bytes":16777216,"sheet_cells":100000,"rows_first":2000,"rows_last":500,"rows_between":2000,"halvings":0,"cell_chars":16384,"cell_head_chars":4096},"cells_cut":0,"cells_raw":0,"read":"whole","date_system":"1900"}

{"sheet":"Spot-price","index":0,"n_rows":109,"n_cols":14,"rows_kept":109,"cut":false,"hidden":false,"merged":[]}
["Responsible","Date","Ref. for shipment","Shipment terms","\nShipment place, city","Shipment place, country","Delivery terms","Destination place, city","Destination place, country","Type of transport","Supplier","Price, RUB","Price, EURO","Comments"]
["Chuprakov Nikita","2020-07-06",9057666,"DOOR","Серпухов","РФ","DDP","Волгоград","РФ","Auto Euro + 5-10t","ASSTRA",110000,1365.44189453125]
["Chuprakov Nikita","2020-07-06",9057666,"DOOR","Серпухов","РФ","DDP","Волгоград","РФ","Auto Euro + 5-10t","DACHSER",108000,1340.61572265625]
["Chuprakov Nikita","2020-07-06",9057666,"DOOR","Серпухов","РФ","DDP","Волгоград","РФ","Auto Euro + 5-10t","СОВТРАНС",88200,1094.836181640625]
["Chuprakov Nikita","2020-07-06",9057727,"DOOR","Серпухов","РФ","DDP","Казань","РФ","FTL Аuto","ASSTRA",65000,808.35711669921875]
["Chuprakov Nikita","2020-07-06",9057727,"DOOR","Серпухов","РФ","DDP","Казань","РФ","FTL Аuto","DACHSER",60000,746.17584228515625]
["Chuprakov Nikita","2020-07-06",9057727,"DOOR","Серпухов","РФ","DDP","Казань","РФ","FTL Аuto","СОВТРАНС",54600,679.02001953125]
["Chuprakov Nikita","2020-07-03",9066934,"DOOR","Серпухов","РФ","DDP","Вынгапур","РФ","Auto 3t","DACHSER",132000,1641.5867919921875]
["Chuprakov Nikita","2020-07-03",9066934,"DOOR","Серпухов","РФ","DDP","Вынгапур","РФ","Auto 3t","ASSTRA",125000,1554.532958984375]
["Chuprakov Nikita","2020-07-03",9066934,"DOOR","Серпухов","РФ","DDP","Вынгапур","РФ","Auto 3t","СОВТРАНС",118000,1467.4791259765625]
["Chuprakov Nikita","2020-07-02",9061139,"DOOR","Серпухов","РФ","DAP","Новополоцк","РФ","Auto 3t","ASSTRA",32000,397.96044921875]
["Chuprakov Nikita","2020-07-02",9061139,"DOOR","Серпухов","РФ","DAP","Новополоцк","РФ","Auto 3t","DACHSER",31000,385.524169921875]
["Chuprakov Nikita","2020-07-02",9061139,"DOOR","Серпухов","РФ","DAP","Новополоцк","РФ","Auto 3t","СОВТРАНС",16000,198.980224609375]
["Chuprakov Nikita","2020-05-14",9070854,"DOOR","Серпухов","РФ","DDP","Нижнекамск","РФ","Auto Euro","AGILITY",65000,808.35711669921875]
["Chuprakov Nikita","2020-05-14",9070854,"DOOR","Серпухов","РФ","DDP","Нижнекамск","РФ","Auto Euro","DACHSER",62000,771.04833984375]
["Chuprakov Nikita","2020-05-14",9070854,"DOOR","Серпухов","РФ","DDP","Нижнекамск","РФ","Auto Euro","СОВТРАНС",60500,752.3939208984375]
["Chuprakov Nikita","2020-07-14",9068220,"DOOR","Серпухов","РФ","DDP","Пермь","РФ","Auto 3t","ASSTRA",75000,932.71978759765625]
["Chuprakov Nikita","2020-07-14",9068220,"DOOR","Серпухов","РФ","DDP","Пермь","РФ","Auto 3t","DACHSER",65000,808.35711669921875]
["Chuprakov Nikita","2020-07-14",9068220,"DOOR","Серпухов","РФ","DDP","Пермь","РФ","Auto 3t","СОВТРАНС",52983,658.91058349609375]
["Chuprakov Nikita","2020-03-08",9069159,"DOOR","Серпухов","РФ","DAP","Enschede","Netherlands","Auto 3t","NUNNER",72262.3984375,898.67425537109375,"Cargobase"]
["Chuprakov Nikita","2020-03-08",9069159,"DOOR","Серпухов","РФ","DAP","Enschede","Netherlands","Auto 3t","DSV",67000,833.22967529296875,"Cargobase"]
["Chuprakov Nikita","2020-03-08",9069159,"DOOR","Серпухов","РФ","DAP","Enschede","Netherlands","Auto 3t","SAMSKIP",59200,736.226806640625,"Cargobase"]
["Lyscov Alexander","2020-03-11",9067045,"DOOR","Серпухов","РФ","DDP","Ravenna","Italy","Auto 3t","NUNNER",104533,1300,"Cargobase"]
["Lyscov Alexander","2020-03-11",9067045,"DOOR","Серпухов","РФ","DDP","Ravenna","Italy","Auto 3t","DHL",104533,1300,"Cargobase"]
["Lyscov Alexander","2020-03-11",9067045,"DOOR","Серпухов","РФ","DDP","Ravenna","Italy","Auto 3t","SAMSKIP",90863.296875,1129.9998779296875,"Cargobase"]
["Chuprakov Nikita","2020-06-21",9074185,"DOOR","Серпухов","РФ","DAP","Ettlingen","Germany","Auto 3t","DSV",60100,747.41943359375,"Cargobase"]
["Chuprakov Nikita","2020-06-21",9074185,"DOOR","Серпухов","РФ","DAP","Ettlingen","Germany","Auto 3t","NUNNER",51462.3984375,639.99993896484375,"Cargobase"]
["Chuprakov Nikita","2020-06-21",9074185,"DOOR","Серпухов","РФ","DAP","Ettlingen","Germany","Auto 3t","M&M",51060.3515625,635,"Cargobase"]
["Chuprakov Nikita","2020-06-16","CTRU HW 118","FCA","Мумбай","Индия","FCA","Серпухов","РФ","Air + Auto","SAMSKIP",105432.5,1313.473388671875,"Cargobase"]
["Chuprakov Nikita","2020-06-16","CTRU HW 118","FCA","Мумбай","Индия","FCA","Серпухов","РФ","Air + Auto","INTERRAIL",97346.4765625,1212.738037109375,"Cargobase"]
["Chuprakov Nikita","2020-06-16","CTRU HW 118","FCA","Мумбай","Индия","FCA","Серпухов","РФ","Air + Auto","ACEX",92266.2890625,1149.44921875,"Cargobase"]
["Kuznetsova Sofia","2020-07-13",9071154,"FCA","Mumbai","India","DOOR","Серпухов","РФ","Air + Auto","DACHSER",1505333,18621.140625]
["Kuznetsova Sofia","2020-07-13",9071154,"FCA","Mumbai","India","DOOR","Серпухов","РФ","Air + Auto","M&M",1199352,14836.12109375]
["Kuznetsova Sofia","2020-07-13",9071154,"FCA","Mumbai","India","DOOR","Серпухов","РФ","Air + Auto","ACEX",1155936,14299.060546875]
["Kuznetsova Sofia","2020-07-16",9063869,"DOOR","Серпухов","РФ","DAP","п. Газ-сале ,Тазовский район ЯНАО ","Россия","Auto Euro","DACHSER",350000,4308.7529296875]
["Kuznetsova Sofia","2020-07-16",9063869,"DOOR","Серпухов","РФ","DAP","п. Газ-сале ,Тазовский район ЯНАО ","Россия","Auto Euro","ASSTRA",345000,4247.19921875]
["Kuznetsova Sofia","2020-07-16",9063869,"DOOR","Серпухов","РФ","DAP","п. Газ-сале ,Тазовский район ЯНАО ","Россия","Auto Euro","СОВТРАНС",341000,4197.9560546875]
["Chuprakov Nikita","2020-07-17","9066787 & 9072456","DOOR","Серпухов","РФ","DAP","Казань","РФ","Auto Euro","ASSTRA",65000,800.19696044921875]
["Chuprakov Nikita","2020-07-17","9066787 & 9072456","DOOR","Серпухов","РФ","DAP","Казань","РФ","Auto Euro","DACHSER",60000,738.643310546875]
["Chuprakov Nikita","2020-07-17","9066787 & 9072456","DOOR","Серпухов","РФ","DAP","Казань","РФ","Auto Euro","СОВТРАНС",54600,672.1654052734375]
["Kuznetsova Sofia","2020-05-04","P-53/20/0359","EXW","Wangi","Switzerland","DOOR","Серпухов","РФ","Air + Auto","SAMSKIP",244762.5,2996.6025390625]
["Kuznetsova Sofia","2020-05-04","P-53/20/0359","EXW","Wangi","Switzerland","DOOR","Серпухов","РФ","Air + Auto","AGILITY",233901.796875,2863.635986328125]
["Kuznetsova Sofia","2020-05-04","P-53/20/0359","EXW","Wangi","Switzerland","DOOR","Серпухов","РФ","Air + Auto","ACEX",160844.40625,1969.2017822265625]
["Kuznetsova Sofia","2020-06-21",9073825,"FCA","Mumbai","India","DOOR","Серпухов","РФ","Air + Auto","SAMSKIP",262730.5,3216.5830078125]
["Kuznetsova Sofia","2020-06-21",9073825,"FCA","Mumbai","India","DOOR","Серпухов","РФ","Air + Auto","M&M",259620.09375,3178.502685546875]
["Kuznetsova Sofia","2020-06-21",9073825,"FCA","Mumbai","India","DOOR","Серпухов","РФ","Air + Auto","ACEX",208797.09375,2556.28173828125]
["Bolushevskaya Tatyana","2020-06-22",612,"DOOR","Wuxi Lotus Import and Export Co.Ltd., China","China","FCA","Серпухов","РФ","Rail + Auto","DACHSER",232486,2846.302734375,"Cargobase"]
["Bolushevskaya Tatyana","2020-06-22",612,"DOOR","Wuxi Lotus Import and Export Co.Ltd., China","China","FCA","Серпухов","РФ","Rail + Auto","INTERRAIL",225638.5,2762.469482421875,"Cargobase"]
["Bolushevskaya Tatyana","2020-06-22",612,"DOOR","Wuxi Lotus Import and Export Co.Ltd., China","China","FCA","Серпухов","РФ","Rail + Auto","M&M",207849.40625,2544.67919921875,"Cargobase"]
["Bolushevskaya Tatyana","2020-07-15","491;526","DOOR","Wuxi Lotus Import and Export Co.Ltd., China","China","FCA","Серпухов","РФ","Rail + Auto","DACHSER",458636.90625,5615.04541015625,"Cargobase"]
["Bolushevskaya Tatyana","2020-07-15","491;526","DOOR","Wuxi Lotus Import and Export Co.Ltd., China","China","FCA","Серпухов","РФ","Rail + Auto","INTERRAIL",430492.40625,5270.47509765625,"Cargobase"]
["Bolushevskaya Tatyana","2020-07-15","491;526","DOOR","Wuxi Lotus Import and Export Co.Ltd., China","China","FCA","Серпухов","РФ","Rail + Auto","M&M",380349.90625,4656.58544921875,"Cargobase"]
["Bolushevskaya Tatyana","2020-05-07",385456,"DOOR","Wuxi Lotus Import and Export Co.Ltd., China","China","EXW","Серпухов","РФ","Rail + Auto","DSV",862500.875,10559.5107421875,"Cargobase"]
["Bolushevskaya Tatyana","2020-05-07",385456,"DOOR","Wuxi Lotus Import and Export Co.Ltd., China","China","EXW","Серпухов","РФ","Rail + Auto","INTERRAIL",729983.625,8937.1162109375,"Cargobase"]
["Bolushevskaya Tatyana","2020-05-07",385456,"DOOR","Wuxi Lotus Import and Export Co.Ltd., China","China","EXW","Серпухов","РФ","Rail + Auto","M&M",586814.375,7184.30908203125,"Cargobase"]
["Bolushevskaya Tatyana","2020-05-17",614,"DOOR","Sestri Levante","Italy","EXW","Серпухов","РФ","FTL Auto","DSV",260700,3191.723876953125,"Cargobase"]
["Bolushevskaya Tatyana","2020-05-17",614,"DOOR","Sestri Levante","Italy","EXW","Серпухов","РФ","FTL Auto","DACHSER",253072.59375,3098.34228515625,"Cargobase"]
["Bolushevskaya Tatyana","2020-05-17",614,"DOOR","Sestri Levante","Italy","EXW","Серпухов","РФ","FTL Auto","M&M",241392.296875,2955.341552734375,"Cargobase"]
["Bolushevskaya Tatyana","2020-05-17",455,"DOOR","Sestri Levante","Italy","EXW","Серпухов","РФ","FTL Auto","NUNNER",296927.8125,3635.25732421875,"Cargobase"]
["Bolushevskaya Tatyana","2020-05-17",455,"DOOR","Sestri Levante","Italy","EXW","Серпухов","РФ","FTL Auto","AGILITY",259712.796875,3179.637451171875,"Cargobase"]
["Bolushevskaya Tatyana","2020-05-17",455,"DOOR","Sestri Levante","Italy","EXW","Серпухов","РФ","FTL Auto","SAMSKIP",249419.296875,3053.615234375,"Cargobase"]
["Lyscov Alexander","2020-07-16",2162689,"DOOR","Серпухов","РФ","DAP","Нижнекамск","РФ","Auto 3t","DACHSER",66000,808.03131103515625]
["Lyscov Alexander","2020-07-16",2162689,"DOOR","Серпухов","РФ","DAP","Нижнекамск","РФ","Auto 3t","AGILITY",62000,759.05975341796875]
["Lyscov Alexander","2020-07-16",2162689,"DOOR","Серпухов","РФ","DAP","Нижнекамск","РФ","Auto 3t","СОВТРАНС",61500,752.93829345703125]
["Bolushevskaya Tatyana","2020-04-22",9067940,"FCA","Mumbai","India","DOOR","Серпухов","Россия","Air + Auto","SAMSKIP",243803.796875,2984.865234375]
["Bolushevskaya Tatyana","2020-04-22",9067940,"FCA","Mumbai","India","DOOR","Серпухов","Россия","Air + Auto","DACHSER",179907,2202.583251953125]
["Bolushevskaya Tatyana","2020-04-22",9067940,"FCA","Mumbai","India","DOOR","Серпухов","Россия","Air + Auto","ACEX",148103.5,1813.2161865234375]
["Lyscov Alexander","2020-06-21",9078183,"DOOR","Серпухов","РФ","DAP","Самара","РФ","Auto 3t","AGILITY",45000,550.93048095703125]
["Lyscov Alexander","2020-06-21",9078183,"DOOR","Серпухов","РФ","DAP","Самара","РФ","Auto 3t","DACHSER",42000,514.2017822265625]
["Lyscov Alexander","2020-06-21",9078183,"DOOR","Серпухов","РФ","DAP","Самара","РФ","Auto 3t","СОВТРАНС",35000,428.50146484375]
["Bolushevskaya Tatyana","2020-06-10",9066934,"DOOR","Mumbai","India","FCA","Серпухов","Россия","Air + Auto","DACHSER",295258.5,3614.820068359375]
["Bolushevskaya Tatyana","2020-06-10",9066934,"DOOR","Mumbai","India","FCA","Серпухов","Россия","Air + Auto","INTERRAIL",254153.203125,3111.572021484375]
["Bolushevskaya Tatyana","2020-06-10",9066934,"DOOR","Mumbai","India","FCA","Серпухов","Россия","Air + Auto","ACEX",227350.703125,2783.431640625]
["Bolushevskaya Tatyana","2020-06-27",9069646,"DOOR","Shanghai","China","DDP","Velikij Novgorod","RF","Air + Auto","M&M",632198.8125,7739.9462890625]
["Bolushevskaya Tatyana","2020-06-27",9069646,"DOOR","Shanghai","China","DDP","Velikij Novgorod","RF","Air + Auto","DACHSER",615686.8125,7537.79150390625]
["Bolushevskaya Tatyana","2020-06-27",9069646,"DOOR","Shanghai","China","DDP","Velikij Novgorod","RF","Air + Auto","ACEX",563096.8125,6893.9375]
["Lyscov Alexander","2020-06-02",9078502,"DOOR","Серпухов","РФ","DAP","Ярославль","РФ","Auto 3t","AGILITY",34000,416.25857543945313]
["Lyscov Alexander","2020-06-02",9078502,"DOOR","Серпухов","РФ","DAP","Ярославль","РФ","Auto 3t","DACHSER",33000,404.01565551757813]
["Lyscov Alexander","2020-06-02",9078502,"DOOR","Серпухов","РФ","DAP","Ярославль","РФ","Auto 3t","СОВТРАНС",32000,391.77276611328125]
["Kuznetsova Sofia","2020-06-10","9072470+9067113","DOOR","Маарду","Эстония","FCA","Серпухов","Россия","LTL Auto","SAMSKIP",37898.921875,459.99420166015625,"Cargobase"]
["Kuznetsova Sofia","2020-06-10","9072470+9067113","DOOR","Маарду","Эстония","FCA","Серпухов","Россия","LTL Auto","NUNNER",28912.580078125,350.92343139648438,"Cargobase"]
["Kuznetsova Sofia","2020-06-10","9072470+9067113","DOOR","Маарду","Эстония","FCA","Серпухов","Россия","LTL Auto","M&M",26959.029296875,327.21240234375,"Cargobase"]
["Kuznetsova Sofia","2020-03-25","CPC INOX 0317 ","DOOR","Gessate","Italy","EXW","Серпухов","РФ","LTL Auto","DHL",175135.09375,2125.683837890625,"Cargobase"]
["Kuznetsova Sofia","2020-03-25","CPC INOX 0317 ","DOOR","Gessate","Italy","EXW","Серпухов","РФ","LTL Auto","NUNNER",162867.203125,1976.78369140625,"Cargobase"]
["Kuznetsova Sofia","2020-03-25","CPC INOX 0317 ","DOOR","Gessate","Italy","EXW","Серпухов","РФ","LTL Auto","SAMSKIP",142138.59375,1725.1922607421875,"Cargobase"]
["Lyscov Alexander","2020-07-06","P-90/20/0594","DOOR","Мумбаи","Индия","FCA","Серпухов","РФ","Air + Auto","INTERRAIL",107597,1305.9473876953125,"Cargobase"]
["Lyscov Alexander","2020-07-06","P-90/20/0594","DOOR","Мумбаи","Индия","FCA","Серпухов","РФ","Air + Auto","DSV",102356,1242.335205078125,"Cargobase"]
["Lyscov Alexander","2020-07-06","P-90/20/0594","DOOR","Мумбаи","Индия","FCA","Серпухов","РФ","Air + Auto","M&M",88200,1070.518310546875,"Cargobase"]
["Bolushevskaya Tatyana","2020-07-22",32107560,"FCA","Immenstaad","Germany","DOOR","Серпухов","Россия","Air + Auto","DACHSER",49834.26953125,606.330078125]
["Bolushevskaya Tatyana","2020-07-22",32107560,"FCA","Immenstaad","Germany","DOOR","Серпухов","Россия","Air + Auto","DHL",47505.8203125,578]
["Bolushevskaya Tatyana","2020-07-22",32107560,"FCA","Immenstaad","Germany","DOOR","Серпухов","Россия","Air + Auto","ACEX",40273.1015625,490]
["Kuznetsova Sofia","2020-07-31",9077629,"DOOR","Серпухов","РФ","DAP","173012 Великий Новгород","Россия","Auto Euro","AGILITY",26000,297.85772705078125]
["Kuznetsova Sofia","2020-07-31",9077629,"DOOR","Серпухов","РФ","DAP","173012 Великий Новгород","Россия","Auto Euro","DACHSER",24000,274.94558715820313]
["Kuznetsova Sofia","2020-07-31",9077629,"DOOR","Серпухов","РФ","DAP","173012 Великий Новгород","Россия","Auto Euro","СОВТРАНС",22800,261.19830322265625]
["Chuprakov Nikita","2020-08-18",9078346,"DOOR","Серпухов","РФ","DDP","Нижнекамск","РФ","Auto 3t","DACHSER",48000,555.1058349609375]
["Chuprakov Nikita","2020-08-18",9078346,"DOOR","Серпухов","РФ","DDP","Нижнекамск","РФ","Auto 3t","ASSTRA",35000,404.7646484375]
["Chuprakov Nikita","2020-08-18",9078346,"DOOR","Серпухов","РФ","DDP","Нижнекамск","РФ","Auto 3t","СОВТРАНС",34713,401.44558715820313]
["Chuprakov Nikita","2020-03-04",9076986,"DOOR","Серпухов","РФ","DDP","Калужская обл.","РФ","Auto 3t","DACHSER",13000,148.18191528320313]
["Chuprakov Nikita","2020-03-04",9076986,"DOOR","Серпухов","РФ","DDP","Калужская обл.","РФ","Auto 3t","ASSTRA",12000,136.78330993652344]
["Chuprakov Nikita","2020-03-04",9076986,"DOOR","Серпухов","РФ","DDP","Калужская обл.","РФ","Auto 3t","IP ASTAPENKO",8000,91.188873291015625]
["Chuprakov Nikita","2020-03-09",9063274,"DOOR","Серпухов","РФ","DDP","Москва","РФ","Auto 3t","DACHSER",12000,136.78330993652344]
["Chuprakov Nikita","2020-03-09",9063274,"DOOR","Серпухов","РФ","DDP","Москва","РФ","Auto 3t","ASSTRA",11000,125.38469696044922]
["Chuprakov Nikita","2020-03-09",9063274,"DOOR","Серпухов","РФ","DDP","Москва","РФ","Auto 3t","IP ASTAPENKO",8500,96.888175964355469]
["Chuprakov Nikita","2020-03-17",9070660,"DOOR","Серпухов","РФ","DDP","Тула","РФ","Auto 3t","DACHSER",14000,159.58052062988281]
["Chuprakov Nikita","2020-03-17",9070660,"DOOR","Серпухов","РФ","DDP","Тула","РФ","Auto 3t","ASSTRA",12000,136.78330993652344]
["Chuprakov Nikita","2020-03-17",9070660,"DOOR","Серпухов","РФ","DDP","Тула","РФ","Auto 3t","IP ASTAPENKO",9000,102.58747863769531]
["Chuprakov Nikita","2020-03-23",9061063,"DOOR","Серпухов","РФ","DDP","Королев","РФ","Auto 3t","DACHSER",12000,136.78330993652344]
["Chuprakov Nikita","2020-03-23",9061063,"DOOR","Серпухов","РФ","DDP","Королев","РФ","Auto 3t","ASSTRA",10000,113.98609161376953]
["Chuprakov Nikita","2020-03-23",9061063,"DOOR","Серпухов","РФ","DDP","Королев","РФ","Auto 3t","IP ASTAPENKO",9000,102.58747863769531]

{"sheet":"Spot-price savings","index":1,"n_rows":38,"n_cols":14,"rows_kept":38,"cut":false,"hidden":false,"merged":[]}
["Date","Ref. for shipment","Saving based on tender, RUB","Saving based on tender, EURO","Savings %","Comments","Saving type"]
["2020-07-06",9057666,21800,270.60577392578125,19.818181991577099,"СОВТРАНС","New Supplier",null,null,null,"New Supplier"]
["2020-07-06",9057727,10400,129.33714294433594,16,"СОВТРАНС","New Supplier",null,null,null,"New Route"]
["2020-07-03",9066934,14000,174.10769653320313,10.606060981750488,"СОВТРАНС","New Supplier"]
["2020-07-03",9066934,14000,174.10769653320313,10.606060981750488,"СОВТРАНС","New Supplier"]
["2020-07-02",9061139,16000,198.980224609375,50,"СОВТРАНС","New Supplier"]
["2020-05-14",9070854,4500,55.963184356689453,6.9230771064758301,"СОВТРАНС","New Supplier"]
["2020-07-14",9068220,22017,273.8092041015625,29.356000900268555,"СОВТРАНС","New Supplier"]
["2020-03-08",9069159,13062.3984375,162.44743347167969,18.07634162902832,"SAMSKIP","New Supplier"]
["2020-03-11",9067045,13669.703125,170.00003051757813,13.076926231384277,"SAMSKIP","New Supplier"]
["2020-06-21",9074185,9039.6484375,112.41944885253906,15.041012763977051,"M&M","New Supplier"]
["2020-06-16","CTRU HW 118",13166.2109375,164.02406311035156,12.487811088562012,"ACEX","New Supplier"]
["2020-07-13",9071154,349397,4322.0810546875,23.210611343383789,"ACEX","New Supplier",null,null,null,null,null,"EUR",{"$f":"ЦБР(M13)","v":88.058999999999997}]
["2020-07-16",9063869,9000,110.79650115966797,2.5714285373687744,"СОВТРАНС","New Supplier"]
["2020-07-17","9066787 & 9072456",10400,128.03150939941406,16,"СОВТРАНС","New Supplier"]
["2020-05-04","P-53/20/0359",83918.09375,1027.4007568359375,34.285518646240234,"ACEX","New Supplier"]
["2020-06-21",9073825,53933.40625,660.30126953125,20.528034210205078,"ACEX","New Supplier"]
["2020-06-22",612,24636.59375,301.62332153320313,10.59702205657959,"M&M","New Supplier"]
["2020-07-15","491;526",78287,958.4598388671875,17.069494247436523,"M&M","New Supplier"]
["2020-05-07",385456,275686.5,3375.201904296875,31.963619232177734,"M&M","New Supplier"]
["2020-05-17",614,19307.703125,236.38226318359375,7.4061002731323242,"M&M","New Supplier"]
["2020-05-17",455,47508.515625,581.6419677734375,16.000022888183594,"SAMSKIP","New Supplier"]
["2020-07-16",2162689,4500,55.093044281005859,6.8181819915771484,"СОВТРАНС","New Supplier"]
["2020-04-22",9067940,95700.296875,1171.6490478515625,39.252998352050781,"ACEX","New Supplier"]
["2020-06-21",9078183,10000,122.42899322509766,22.222221374511719,"СОВТРАНС","New Supplier"]
["2020-06-10",9066934,67907.796875,831.3883056640625,22.999439239501953,"ACEX","New Supplier"]
["2020-06-27",9069646,69102,846.0087890625,10.930421829223633,"ACEX","New Supplier"]
["2020-06-02",9078502,2000,24.485797882080078,5.8823528289794922,"СОВТРАНС","New Supplier"]
["2020-06-10","9072470+9067113",10939.892578125,132.78179931640625,28.865972518920898,"M&M","New Supplier"]
["2020-03-25","CPC INOX 0317 ",32996.5,400.4915771484375,18.840599060058594,"SAMSKIP","New Supplier"]
["2020-07-06","P-90/20/0594",19397,235.42906188964844,18.027454376220703,"M&M","New Supplier"]
["2020-07-22",32107560,9561.16796875,116.33006286621094,19.185930252075195,"ACEX","New Supplier"]
["2020-07-31",9077629,3200,36.659412384033203,12.307692527770996,"СОВТРАНС","New Supplier"]
["2020-08-18",9078346,13287,153.66023254394531,27.681249618530273,"СОВТРАНС","New Supplier"]
["2020-03-04",9076986,5000,56.993045806884766,38.461540222167969,"IP ASTAPENKO","New Supplier"]
["2020-03-09",9063274,3500,39.895130157470703,29.166666030883789,"IP ASTAPENKO","New Supplier"]
["2020-03-17",9070660,5000,56.993045806884766,35.714286804199219,"IP ASTAPENKO","New Supplier"]
["2020-03-23",9061063,3000,34.195827484130859,25,"IP ASTAPENKO","New Supplier"]

{"sheet":"Saving Customs","index":2,"n_rows":81,"n_cols":38,"rows_kept":81,"cut":false,"hidden":false,"merged":[]}
["Name of project","Route","Forwarder","Name of customs","The cost of brokerage services ","The cost of brokerage services forwarder broker","Date","Saving","Saving %",null,null,null,null,"MAPS","МОТ",6000,null,null,null,null,null,null,null,null,null,null,null,null,null,null,"Dachser","МОТ",11500,null,"DSV","МОТ",12000]
["WUXI P-60-20-0385","Импорт","ТБК","МОТ",{"$f":"IFERROR(IFERROR(VLOOKUP(B2&D2,$Q$12:$Q$19&$O$12:$P$19,3,),VLOOKUP(D2,$O$12:$P$19,2,)),)","v":4000},{"$f":"IFERROR(VLOOKUP($D2,$O$1:$P$7,2,),)","v":6000},"2020-07-17",{"$f":"F2-E2","v":2000},{"$f":"100-(E2/F2)*100","v":33.333333333333343},null,null,null,null,"DHL","Балтийская",11500,null,null,null,null,null,null,null,null,null,null,null,null,null,null,"Dachser","Балтийская",11500,null,"DSV","Балтийская",12000]
["WUXI P-83-20-0526","Импорт","ТБК","МОТ",{"$f":"IFERROR(IFERROR(VLOOKUP(B3&D3,$Q$12:$Q$19&$O$12:$P$19,3,),VLOOKUP(D3,$O$12:$P$19,2,)),)","v":4000},{"$f":"IFERROR(VLOOKUP($D3,$O$1:$P$7,2,),)","v":6000},"2020-07-17",{"$f":"F3-E3","v":2000},{"$f":"100-(E3/F3)*100","v":33.333333333333343},null,null,null,null,"DACHSER","Калужская",5000,null,null,null,null,null,null,null,null,null,null,null,null,null,null,"Dachser","Калужская",11500,null,"DSV","Калужская",12000]
["WUXI P-94-20-0612","Импорт","ТБК","МОТ",{"$f":"IFERROR(IFERROR(VLOOKUP(B4&D4,$Q$12:$Q$19&$O$12:$P$19,3,),VLOOKUP(D4,$O$12:$P$19,2,)),)","v":4000},6000,"2020-07-17",{"$f":"F4-E4","v":2000},33.333333333333343,null,null,null,null,"DHL","Владивосток",11500,null,null,null,null,null,null,null,null,null,null,null,null,null,null,"Dachser","Владивосток",11500,null,"DSV","Владивосток",12000]
["TNT","Импорт","Sulzer","МОТ",{"$f":"IFERROR(IFERROR(VLOOKUP(B5&D5,$N$12:$N$21&$O$12:$P$21,3,),VLOOKUP(D5,$O$12:$P$21,2,)),)","v":4000},{"$f":"IFERROR(VLOOKUP($D5,$O$1:$P$8,2,),)","v":6000},null,{"$f":"F5-E5","v":2000},{"$f":"IF(H2:H300=0,\"\",100-(E5/F5)*100)","v":33.333333333333343},null,null,null,null,"DHL","Новороссийск",11500,null,null,null,null,null,null,null,null,null,null,null,null,null,null,"Dachser","Новороссийск",11500,null,"DSV","Новороссийск",12000]
[null,null,null,null,{"$f":"IFERROR(IFERROR(VLOOKUP(B6&D6,$Q$12:$Q$19&$O$12:$P$19,3,),VLOOKUP(D6,$O$12:$P$19,2,)),)","v":0},0,null,{"$f":"F6-E6","v":0},{"$f":"IF(H3:H301=0,\"\",100-(E6/F6)*100)","v":""},null,null,null,null,"DHL","Смоленская",11500,null,null,null,null,null,null,null,null,null,null,null,null,null,null,"Dachser","Смоленская",11500,null,"DSV","Смоленская",12000]
[null,null,null,null,{"$f":"IFERROR(IFERROR(VLOOKUP(B7&D7,$Q$12:$Q$19&$O$12:$P$19,3,),VLOOKUP(D7,$O$12:$P$19,2,)),)","v":0},0,null,0,"",null,null,null,null,"DHL","Авиационная",11500,null,null,null,null,null,null,null,null,null,null,null,null,null,null,"Dachser","Авиационная",11500,null,"DSV","Авиационная",12000]
[null,null,null,null,{"$f":"IFERROR(IFERROR(VLOOKUP(B8&D8,$Q$12:$Q$19&$O$12:$P$19,3,),VLOOKUP(D8,$O$12:$P$19,2,)),)","v":0},0,null,0,"",null,null,null,null,"TNT","Авиационная",11500]
[null,null,null,null,{"$f":"IFERROR(IFERROR(VLOOKUP(B9&D9,$Q$12:$Q$19&$O$12:$P$19,3,),VLOOKUP(D9,$O$12:$P$19,2,)),)","v":0},0,null,0,""]
[null,null,null,null,{"$f":"IFERROR(IFERROR(VLOOKUP(B10&D10,$Q$12:$Q$19&$O$12:$P$19,3,),VLOOKUP(D10,$O$12:$P$19,2,)),)","v":0},0,null,0,"",null,null,null,null,null,null,null,null,null,null,null,null,null,null,null,null,null,null,null,null,null,"DHL","МОТ",11500,null,"ACEX","Авиационная",15000]
[null,null,null,null,{"$f":"IFERROR(IFERROR(VLOOKUP(B11&D11,$Q$12:$Q$19&$O$12:$P$19,3,),VLOOKUP(D11,$O$12:$P$19,2,)),)","v":0},0,null,0,"",null,null,null,null,null,null,null,null,null,null,null,null,null,null,null,null,null,null,null,null,null,"DHL","Балтийская",11500]
[null,null,null,null,{"$f":"IFERROR(IFERROR(VLOOKUP(B12&D12,$Q$12:$Q$19&$O$12:$P$19,3,),VLOOKUP(D12,$O$12:$P$19,2,)),)","v":0},0,null,0,"",null,null,null,null,"ТБК","МОТ",4000,"Экспорт",null,null,null,null,null,null,null,null,null,null,null,null,null,"DHL","Калужская",11500,null,"MAPS5","MOT",12000,"импорт"]
[null,null,null,null,{"$f":"IFERROR(IFERROR(VLOOKUP(B13&D13,$Q$12:$Q$19&$O$12:$P$19,3,),VLOOKUP(D13,$O$12:$P$19,2,)),)","v":0},0,null,0,"",null,null,null,null,"ТБК","МОТ",5000,"Импорт",null,null,null,null,null,null,null,null,null,null,null,null,null,"DHL","Владивосток",11500,null,"MAPS5","МОТ",6000,"экспорт"]
[null,null,null,null,{"$f":"IFERROR(IFERROR(VLOOKUP(B14&D14,$Q$12:$Q$19&$O$12:$P$19,3,),VLOOKUP(D14,$O$12:$P$19,2,)),)","v":0},0,null,0,"",null,null,null,null,"ТБК","Балтийская",7000,null,null,null,null,null,null,null,null,null,null,null,null,null,null,"DHL","Новороссийск",11500]
[null,null,null,null,{"$f":"IFERROR(IFERROR(VLOOKUP(B15&D15,$Q$12:$Q$19&$O$12:$P$19,3,),VLOOKUP(D15,$O$12:$P$19,2,)),)","v":0},0,null,0,"",null,null,null,null,"ТБК","Калужская",5000,null,null,null,null,null,null,null,null,null,null,null,null,null,null,"DHL","Смоленская",11500]
[null,null,null,null,{"$f":"IFERROR(IFERROR(VLOOKUP(B16&D16,$Q$12:$Q$19&$O$12:$P$19,3,),VLOOKUP(D16,$O$12:$P$19,2,)),)","v":0},0,null,0,"",null,null,null,null,"ТБК","Владивосток",null,null,null,null,null,null,null,null,null,null,null,null,null,null,null,"DHL","Авиационная",11500]
[null,null,null,null,{"$f":"IFERROR(IFERROR(VLOOKUP(B17&D17,$Q$12:$Q$19&$O$12:$P$19,3,),VLOOKUP(D17,$O$12:$P$19,2,)),)","v":0},0,null,0,"",null,null,null,null,"ТБК","Новороссийск"]
[null,null,null,null,{"$f":"IFERROR(IFERROR(VLOOKUP(B18&D18,$Q$12:$Q$19&$O$12:$P$19,3,),VLOOKUP(D18,$O$12:$P$19,2,)),)","v":0},0,null,0,"",null,null,null,null,"ТБК","Смоленская"]
[null,null,null,null,{"$f":"IFERROR(IFERROR(VLOOKUP(B19&D19,$Q$12:$Q$19&$O$12:$P$19,3,),VLOOKUP(D19,$O$12:$P$19,2,)),)","v":0},0,null,0,"",null,null,null,null,"ТБК","Авиационная",15000,null,null,null,null,null,null,null,null,null,null,null,null,null,null,"M&M","МОТ",9000,null,"AGILITY","МОТ"]
[null,null,null,null,{"$f":"IFERROR(IFERROR(VLOOKUP(B20&D20,$Q$12:$Q$19&$O$12:$P$19,3,),VLOOKUP(D20,$O$12:$P$19,2,)),)","v":0},0,null,0,"",null,null,null,null,"Sulzer","Авиационная",0,null,null,null,null,null,null,null,null,null,null,null,null,null,null,null,"Балтийская",11000,null,"AGILITY","Балтийская",14000]
[null,null,null,null,{"$f":"IFERROR(IFERROR(VLOOKUP(B21&D21,$Q$12:$Q$19&$O$12:$P$19,3,),VLOOKUP(D21,$O$12:$P$19,2,)),)","v":0},0,null,0,"",null,null,null,null,"Sulzer","МОТ",0,null,null,null,null,null,null,null,null,null,null,null,null,null,null,null,"Калужская",11500,null,"AGILITY","Калужская",12000]
[null,null,null,null,{"$f":"IFERROR(IFERROR(VLOOKUP(B22&D22,$Q$12:$Q$19&$O$12:$P$19,3,),VLOOKUP(D22,$O$12:$P$19,2,)),)","v":0},0,null,0,"",null,null,null,null,null,null,null,null,null,null,null,null,null,null,null,null,null,null,null,null,null,null,"Владивосток",null,null,"AGILITY","Владивосток"]
[null,null,null,null,{"$f":"IFERROR(IFERROR(VLOOKUP(B23&D23,$Q$12:$Q$19&$O$12:$P$19,3,),VLOOKUP(D23,$O$12:$P$19,2,)),)","v":0},0,null,0,"",null,null,null,null,null,null,null,null,null,null,null,null,null,null,null,null,null,null,null,null,null,null,"Новороссийск",null,null,"AGILITY","Новороссийск"]
[null,null,null,null,{"$f":"IFERROR(IFERROR(VLOOKUP(B24&D24,$Q$12:$Q$19&$O$12:$P$19,3,),VLOOKUP(D24,$O$12:$P$19,2,)),)","v":0},0,null,0,"",null,null,null,null,null,null,null,null,null,null,null,null,null,null,null,null,null,null,null,null,null,null,"Смоленская",null,null,"AGILITY","Смоленская"]
[null,null,null,null,{"$f":"IFERROR(IFERROR(VLOOKUP(B25&D25,$Q$12:$Q$19&$O$12:$P$19,3,),VLOOKUP(D25,$O$12:$P$19,2,)),)","v":0},0,null,0,"",null,null,null,null,null,null,null,null,null,null,null,null,null,null,null,null,null,null,null,null,null,null,"Авиационная",11500,null,"AGILITY","Авиационная",13200]
[null,null,null,null,{"$f":"IFERROR(IFERROR(VLOOKUP(B26&D26,$Q$12:$Q$19&$O$12:$P$19,3,),VLOOKUP(D26,$O$12:$P$19,2,)),)","v":0},0,null,0,""]
[null,null,null,null,{"$f":"IFERROR(IFERROR(VLOOKUP(B27&D27,$Q$12:$Q$19&$O$12:$P$19,3,),VLOOKUP(D27,$O$12:$P$19,2,)),)","v":0},0,null,0,""]
[null,null,null,null,{"$f":"IFERROR(IFERROR(VLOOKUP(B28&D28,$Q$12:$Q$19&$O$12:$P$19,3,),VLOOKUP(D28,$O$12:$P$19,2,)),)","v":0},0,null,0]
[null,null,null,null,{"$f":"IFERROR(IFERROR(VLOOKUP(B29&D29,$Q$12:$Q$19&$O$12:$P$19,3,),VLOOKUP(D29,$O$12:$P$19,2,)),)","v":0},0,null,0]
[null,null,null,null,{"$f":"IFERROR(IFERROR(VLOOKUP(B30&D30,$Q$12:$Q$19&$O$12:$P$19,3,),VLOOKUP(D30,$O$12:$P$19,2,)),)","v":0},0,null,0]
[null,null,null,null,{"$f":"IFERROR(IFERROR(VLOOKUP(B31&D31,$Q$12:$Q$19&$O$12:$P$19,3,),VLOOKUP(D31,$O$12:$P$19,2,)),)","v":0},0,null,0]
[null,null,null,null,{"$f":"IFERROR(IFERROR(VLOOKUP(B32&D32,$Q$12:$Q$19&$O$12:$P$19,3,),VLOOKUP(D32,$O$12:$P$19,2,)),)","v":0},0,null,0]
[null,null,null,null,null,null,null,0]
[null,null,null,null,null,null,null,0]
[null,null,null,null,null,null,null,0]
[null,null,null,null,null,null,null,0]
[null,null,null,null,null,null,null,0]
[null,null,null,null,null,null,null,0]
[null,null,null,null,null,null,null,0]
[null,null,null,null,null,null,null,0]
[null,null,null,null,null,null,null,0]
[null,null,null,null,null,null,null,0]
[null,null,null,null,null,null,null,0]
[null,null,null,null,null,null,null,0]
[null,null,null,null,null,null,null,0]
[null,null,null,null,null,null,null,0]
[null,null,null,null,null,null,null,0]
[null,null,null,null,null,null,null,0]
[null,null,null,null,null,null,null,0]
[null,null,null,null,null,null,null,0]
[null,null,null,null,null,null,null,0]
[null,null,null,null,null,null,null,0]
[null,null,null,null,null,null,null,0]
[null,null,null,null,null,null,null,0]
[null,null,null,null,null,null,null,0]
[null,null,null,null,null,null,null,0]
[null,null,null,null,null,null,null,0]
[null,null,null,null,null,null,null,0]
[null,null,null,null,null,null,null,0]
[null,null,null,null,null,null,null,0]
[null,null,null,null,null,null,null,0]
[null,null,null,null,null,null,null,0]
[null,null,null,null,null,null,null,0]
[null,null,null,null,null,null,null,0]
[null,null,null,null,null,null,null,0]
[null,null,null,null,null,null,null,0]
[null,null,null,null,null,null,null,0]
[null,null,null,null,null,null,null,0]
[null,null,null,null,null,null,null,0]
[null,null,null,null,null,null,null,{"$f":"F70-E70","v":0}]
[null,null,null,null,null,null,null,0]
[null,null,null,null,null,null,null,0]
[null,null,null,null,null,null,null,0]
[null,null,null,null,null,null,null,0]
[null,null,null,null,null,null,null,0]
[null,null,null,null,null,null,null,0]
[null,null,null,null,null,null,null,0]
[null,null,null,null,null,null,null,0]
[null,null,null,null,null,null,null,0]
[null,null,null,null,null,null,null,0]
[null,null,null,null,null,null,null,0]

{"sheet":"Saving URFU","index":3,"n_rows":999,"n_cols":17,"rows_kept":999,"cut":false,"hidden":false,"merged":[[0,13,0,15]]}
["Name of project","Conclusion \nor License?","Urgent \nor not?","Forwarder","Date","Saving","Cost of Excont forwarder","Final saving",{"$f":"SUM(F:F)","v":473500},"Conclusion","Urgent","Excont",null,"Excont",null,null,"%"]
["ORLEVDU3-1 9069807","Conclusion","Not","Excont","2020-01-01",{"$f":"IFERROR(VLOOKUP(CONCATENATE(B2,\"_\",C2,\"_\",D2),Список!A:B,2,0),\"\")","v":0},null,"%  Reduction",{"$f":"I1/SUM(Data!B3:M3)","v":0.46398369442729614},"License","Not","URFU",null,"Conclusion","Not",14790,{"$f":"F10/P2","v":0.45909398242055444}]
["FUELALC-TAS-4 9068753","Conclusion","Not","Excont","2020-01-01",{"$f":"IFERROR(VLOOKUP(CONCATENATE(B3,\"_\",C3,\"_\",D3),Список!A:B,2,0),\"\")","v":0},null,null,null,null,null,null,null,null,"Urgent",22185,{"$f":"F15/G15","v":0.4455713319810683}]
["SHEPOILSTRIP 9065456","Conclusion","Not","Excont","2020-01-01",{"$f":"IFERROR(VLOOKUP(CONCATENATE(B4,\"_\",C4,\"_\",D4),Список!A:B,2,0),\"\")","v":0},null,null,null,null,null,null,null,"License","Not",25025]
["POR-VAC VDU3 9069505","Conclusion","Not","Excont","2020-01-01",{"$f":"IFERROR(VLOOKUP(CONCATENATE(B5,\"_\",C5,\"_\",D5),Список!A:B,2,0),\"\")","v":0},null,null,null,null,null,null,null,null,"Urgent",25025]
["PENTA_SCRUBBER_PACK_9067119","Conclusion","Not","Excont","2020-01-01",{"$f":"IFERROR(VLOOKUP(CONCATENATE(B6,\"_\",C6,\"_\",D6),Список!A:B,2,0),\"\")","v":0}]
["DOSTI-3 9069321","License","Not","Excont","2020-01-01",{"$f":"IFERROR(VLOOKUP(CONCATENATE(B7,\"_\",C7,\"_\",D7),Список!A:B,2,0),\"\")","v":0}]
["SHEMMEOD 9070038","Conclusion","Not","Excont","2020-01-01",{"$f":"IFERROR(VLOOKUP(CONCATENATE(B8,\"_\",C8,\"_\",D8),Список!A:B,2,0),\"\")","v":0}]
["ZOLDA2_9072770","Conclusion","Not","Excont","2020-01-01",{"$f":"IFERROR(VLOOKUP(CONCATENATE(B9,\"_\",C9,\"_\",D9),Список!A:B,2,0),\"\")","v":0}]
["GAZABS-DH5 9063733","Conclusion","Not","URFU","2020-02-01",{"$f":"IFERROR(VLOOKUP(CONCATENATE(B10,\"_\",C10,\"_\",D10),Список!A:B,2,0),\"\")","v":6790},{"$f":"IF(OR(D10=\"Excont\",D10=\"\"),\"\",IF(D10=\"URFU\",IF(AND(B10=$N$2,C10=$O$2),$P$2,IF(AND(B10=$N$2,C10=$O$3),$P$3,IF(AND(B10=$N$4,C10=$O$2),$P$4,IF(AND(B10=N4,C10=$O$3),$P$5,0))))))","v":14790}]
["DEDIETHA_9069753","Conclusion","Not","Excont","2020-02-01",{"$f":"IFERROR(VLOOKUP(CONCATENATE(B11,\"_\",C11,\"_\",D11),Список!A:B,2,0),\"\")","v":0},{"$f":"IF(OR(D11=\"Excont\",D11=\"\"),\"\",IF(D11=\"URFU\",IF(AND(B11=$N$2,C11=$O$2),$P$2,IF(AND(B11=$N$2,C11=$O$3),$P$3,IF(AND(B11=$N$4,C11=$O$2),$P$4,IF(AND(B11=N5,C11=$O$3),$P$5,0))))))","v":""}]
["CATOSTRIP_9069551","Conclusion","Not","Excont","2020-02-01",{"$f":"IFERROR(VLOOKUP(CONCATENATE(B12,\"_\",C12,\"_\",D12),Список!A:B,2,0),\"\")","v":0},{"$f":"IF(OR(D12=\"Excont\",D12=\"\"),\"\",IF(D12=\"URFU\",IF(AND(B12=$N$2,C12=$O$2),$P$2,IF(AND(B12=$N$2,C12=$O$3),$P$3,IF(AND(B12=$N$4,C12=$O$2),$P$4,IF(AND(B12=#REF!,C12=$O$3),$P$5,0))))))","v":""}]
["LABMA_2_9072465","Conclusion","Not","URFU","2020-02-01",{"$f":"IFERROR(VLOOKUP(CONCATENATE(B13,\"_\",C13,\"_\",D13),Список!A:B,2,0),\"\")","v":6790},{"$f":"IF(OR(D13=\"Excont\",D13=\"\"),\"\",IF(D13=\"URFU\",IF(AND(B13=$N$2,C13=$O$2),$P$2,IF(AND(B13=$N$2,C13=$O$3),$P$3,IF(AND(B13=$N$4,C13=$O$2),$P$4,IF(AND(B13=N6,C13=$O$3),$P$5,0))))))","v":14790}]
["RUEMELL-3_9060553","Conclusion","Not","Excont","2020-02-01",{"$f":"IFERROR(VLOOKUP(CONCATENATE(B14,\"_\",C14,\"_\",D14),Список!A:B,2,0),\"\")","v":0},{"$f":"IF(OR(D14=\"Excont\",D14=\"\"),\"\",IF(D14=\"URFU\",IF(AND(B14=$N$2,C14=$O$2),$P$2,IF(AND(B14=$N$2,C14=$O$3),$P$3,IF(AND(B14=$N$4,C14=$O$2),$P$4,IF(AND(B14=N7,C14=$O$3),$P$5,0))))))","v":""}]
["CDU-VI-OREVAMP 9060727","Conclusion","Urgent","URFU","2020-02-01",{"$f":"IFERROR(VLOOKUP(CONCATENATE(B15,\"_\",C15,\"_\",D15),Список!A:B,2,0),\"\")","v":9885},{"$f":"IF(OR(D15=\"Excont\",D15=\"\"),\"\",IF(D15=\"URFU\",IF(AND(B15=$N$2,C15=$O$2),$P$2,IF(AND(B15=$N$2,C15=$O$3),$P$3,IF(AND(B15=$N$4,C15=$O$2),$P$4,IF(AND(B15=#REF!,C15=$O$3),$P$5,0))))))","v":22185}]
["SITSOL 9071262","Conclusion","Urgent","URFU","2020-02-01",{"$f":"IFERROR(VLOOKUP(CONCATENATE(B16,\"_\",C16,\"_\",D16),Список!A:B,2,0),\"\")","v":9885},{"$f":"IF(OR(D16=\"Excont\",D16=\"\"),\"\",IF(D16=\"URFU\",IF(AND(B16=$N$2,C16=$O$2),$P$2,IF(AND(B16=$N$2,C16=$O$3),$P$3,IF(AND(B16=$N$4,C16=$O$2),$P$4,IF(AND(B16=Data!A4,C16=$O$3),$P$5,0))))))","v":22185}]
["GEAONGASS 9069159.07","Conclusion","Not","URFU","2020-03-01",{"$f":"IFERROR(VLOOKUP(CONCATENATE(B17,\"_\",C17,\"_\",D17),Список!A:B,2,0),\"\")","v":6790},{"$f":"IF(OR(D17=\"Excont\",D17=\"\"),\"\",IF(D17=\"URFU\",IF(AND(B17=$N$2,C17=$O$2),$P$2,IF(AND(B17=$N$2,C17=$O$3),$P$3,IF(AND(B17=$N$4,C17=$O$2),$P$4,IF(AND(B17=Data!B1,C17=$O$3),$P$5,0))))))","v":14790}]
["MELLAZON 9041895","Conclusion","Not","URFU","2020-03-01",{"$f":"IFERROR(VLOOKUP(CONCATENATE(B18,\"_\",C18,\"_\",D18),Список!A:B,2,0),\"\")","v":6790},{"$f":"IF(OR(D18=\"Excont\",D18=\"\"),\"\",IF(D18=\"URFU\",IF(AND(B18=$N$2,C18=$O$2),$P$2,IF(AND(B18=$N$2,C18=$O$3),$P$3,IF(AND(B18=$N$4,C18=$O$2),$P$4,IF(AND(B18=Data!C1,C18=$O$3),$P$5,0))))))","v":14790}]
["ALGEDEM-1_ 9060264","Conclusion","Not","URFU","2020-03-01",{"$f":"IFERROR(VLOOKUP(CONCATENATE(B19,\"_\",C19,\"_\",D19),Список!A:B,2,0),\"\")","v":6790},{"$f":"IF(OR(D19=\"Excont\",D19=\"\"),\"\",IF(D19=\"URFU\",IF(AND(B19=$N$2,C19=$O$2),$P$2,IF(AND(B19=$N$2,C19=$O$3),$P$3,IF(AND(B19=$N$4,C19=$O$2),$P$4,IF(AND(B19=Data!D1,C19=$O$3),$P$5,0))))))","v":14790}]
["BRAIPO 9068038","Conclusion","Not","URFU","2020-03-01",{"$f":"IFERROR(VLOOKUP(CONCATENATE(B20,\"_\",C20,\"_\",D20),Список!A:B,2,0),\"\")","v":6790},{"$f":"IF(OR(D20=\"Excont\",D20=\"\"),\"\",IF(D20=\"URFU\",IF(AND(B20=$N$2,C20=$O$2),$P$2,IF(AND(B20=$N$2,C20=$O$3),$P$3,IF(AND(B20=$N$4,C20=$O$2),$P$4,IF(AND(B20=Data!E1,C20=$O$3),$P$5,0))))))","v":14790}]
["CAMPAK7_9067045","Conclusion","Not","URFU","2020-03-01",{"$f":"IFERROR(VLOOKUP(CONCATENATE(B21,\"_\",C21,\"_\",D21),Список!A:B,2,0),\"\")","v":6790},{"$f":"IF(OR(D21=\"Excont\",D21=\"\"),\"\",IF(D21=\"URFU\",IF(AND(B21=$N$2,C21=$O$2),$P$2,IF(AND(B21=$N$2,C21=$O$3),$P$3,IF(AND(B21=$N$4,C21=$O$2),$P$4,IF(AND(B21=Data!F1,C21=$O$3),$P$5,0))))))","v":14790}]
["LAM-CA4_9072233","Conclusion","Not","URFU","2020-03-01",{"$f":"IFERROR(VLOOKUP(CONCATENATE(B22,\"_\",C22,\"_\",D22),Список!A:B,2,0),\"\")","v":6790},{"$f":"IF(OR(D22=\"Excont\",D22=\"\"),\"\",IF(D22=\"URFU\",IF(AND(B22=$N$2,C22=$O$2),$P$2,IF(AND(B22=$N$2,C22=$O$3),$P$3,IF(AND(B22=$N$4,C22=$O$2),$P$4,IF(AND(B22=Data!G1,C22=$O$3),$P$5,0))))))","v":14790}]
["ALGEDEM-2 907482803","Conclusion","Not","URFU","2020-03-01",{"$f":"IFERROR(VLOOKUP(CONCATENATE(B23,\"_\",C23,\"_\",D23),Список!A:B,2,0),\"\")","v":6790},{"$f":"IF(OR(D23=\"Excont\",D23=\"\"),\"\",IF(D23=\"URFU\",IF(AND(B23=$N$2,C23=$O$2),$P$2,IF(AND(B23=$N$2,C23=$O$3),$P$3,IF(AND(B23=$N$4,C23=$O$2),$P$4,IF(AND(B23=Data!H1,C23=$O$3),$P$5,0))))))","v":14790}]
["FORTALPHATEG","Conclusion","Not","URFU","2020-03-01",{"$f":"IFERROR(VLOOKUP(CONCATENATE(B24,\"_\",C24,\"_\",D24),Список!A:B,2,0),\"\")","v":6790},{"$f":"IF(OR(D24=\"Excont\",D24=\"\"),\"\",IF(D24=\"URFU\",IF(AND(B24=$N$2,C24=$O$2),$P$2,IF(AND(B24=$N$2,C24=$O$3),$P$3,IF(AND(B24=$N$4,C24=$O$2),$P$4,IF(AND(B24=Data!I1,C24=$O$3),$P$5,0))))))","v":14790}]
["TKFERT_ANWIL-9066521","Conclusion","Urgent","URFU","2020-03-01",{"$f":"IFERROR(VLOOKUP(CONCATENATE(B25,\"_\",C25,\"_\",D25),Список!A:B,2,0),\"\")","v":9885},{"$f":"IF(OR(D25=\"Excont\",D25=\"\"),\"\",IF(D25=\"URFU\",IF(AND(B25=$N$2,C25=$O$2),$P$2,IF(AND(B25=$N$2,C25=$O$3),$P$3,IF(AND(B25=$N$4,C25=$O$2),$P$4,IF(AND(B25=Data!J1,C25=$O$3),$P$5,0))))))","v":22185}]
["BUTATAS_907350114","Conclusion","Not","URFU","2020-03-01",{"$f":"IFERROR(VLOOKUP(CONCATENATE(B26,\"_\",C26,\"_\",D26),Список!A:B,2,0),\"\")","v":6790},{"$f":"IF(OR(D26=\"Excont\",D26=\"\"),\"\",IF(D26=\"URFU\",IF(AND(B26=$N$2,C26=$O$2),$P$2,IF(AND(B26=$N$2,C26=$O$3),$P$3,IF(AND(B26=$N$4,C26=$O$2),$P$4,IF(AND(B26=Data!K1,C26=$O$3),$P$5,0))))))","v":14790}]
["OSISEP-4_9074613","Conclusion","Urgent","URFU","2020-03-01",{"$f":"IFERROR(VLOOKUP(CONCATENATE(B27,\"_\",C27,\"_\",D27),Список!A:B,2,0),\"\")","v":9885},{"$f":"IF(OR(D27=\"Excont\",D27=\"\"),\"\",IF(D27=\"URFU\",IF(AND(B27=$N$2,C27=$O$2),$P$2,IF(AND(B27=$N$2,C27=$O$3),$P$3,IF(AND(B27=$N$4,C27=$O$2),$P$4,IF(AND(B27=Data!L1,C27=$O$3),$P$5,0))))))","v":22185}]
["SPOLVIN_5 9071550","License","Not","Excont","2020-03-01",{"$f":"IFERROR(VLOOKUP(CONCATENATE(B28,\"_\",C28,\"_\",D28),Список!A:B,2,0),\"\")","v":0},{"$f":"IF(OR(D28=\"Excont\",D28=\"\"),\"\",IF(D28=\"URFU\",IF(AND(B28=$N$2,C28=$O$2),$P$2,IF(AND(B28=$N$2,C28=$O$3),$P$3,IF(AND(B28=$N$4,C28=$O$2),$P$4,IF(AND(B28=Data!L2,C28=$O$3),$P$5,0))))))","v":""}]
["CERTITAN","License","Not","Excont","2020-03-01",{"$f":"IFERROR(VLOOKUP(CONCATENATE(B29,\"_\",C29,\"_\",D29),Список!A:B,2,0),\"\")","v":0},{"$f":"IF(OR(D29=\"Excont\",D29=\"\"),\"\",IF(D29=\"URFU\",IF(AND(B29=$N$2,C29=$O$2),$P$2,IF(AND(B29=$N$2,C29=$O$3),$P$3,IF(AND(B29=$N$4,C29=$O$2),$P$4,IF(AND(B29=Data!A24,C29=$O$3),$P$5,0))))))","v":""}]
["SPOLVIN_5 9071550","License","Not","Excont","2020-03-01",{"$f":"IFERROR(VLOOKUP(CONCATENATE(B30,\"_\",C30,\"_\",D30),Список!A:B,2,0),\"\")","v":0},{"$f":"IF(OR(D30=\"Excont\",D30=\"\"),\"\",IF(D30=\"URFU\",IF(AND(B30=$N$2,C30=$O$2),$P$2,IF(AND(B30=$N$2,C30=$O$3),$P$3,IF(AND(B30=$N$4,C30=$O$2),$P$4,IF(AND(B30=Data!A34,C30=$O$3),$P$5,0))))))","v":""}]
["SIAD-OX2-TAS 9068159","Conclusion","Not","URFU","2020-04-01",{"$f":"IFERROR(VLOOKUP(CONCATENATE(B31,\"_\",C31,\"_\",D31),Список!A:B,2,0),\"\")","v":6790},{"$f":"IF(OR(D31=\"Excont\",D31=\"\"),\"\",IF(D31=\"URFU\",IF(AND(B31=$N$2,C31=$O$2),$P$2,IF(AND(B31=$N$2,C31=$O$3),$P$3,IF(AND(B31=$N$4,C31=$O$2),$P$4,IF(AND(B31=Data!A18,C31=$O$3),$P$5,0))))))","v":14790}]
["DODEHUL-11 9075817","Conclusion","Not","URFU","2020-04-01",{"$f":"IFERROR(VLOOKUP(CONCATENATE(B32,\"_\",C32,\"_\",D32),Список!A:B,2,0),\"\")","v":6790},{"$f":"IF(OR(D32=\"Excont\",D32=\"\"),\"\",IF(D32=\"URFU\",IF(AND(B32=$N$2,C32=$O$2),$P$2,IF(AND(B32=$N$2,C32=$O$3),$P$3,IF(AND(B32=$N$4,C32=$O$2),$P$4,IF(AND(B32=Data!A19,C32=$O$3),$P$5,0))))))","v":14790}]
["KRUAPI-35_907188405","Conclusion","Not","URFU","2020-04-01",{"$f":"IFERROR(VLOOKUP(CONCATENATE(B33,\"_\",C33,\"_\",D33),Список!A:B,2,0),\"\")","v":6790},{"$f":"IF(OR(D33=\"Excont\",D33=\"\"),\"\",IF(D33=\"URFU\",IF(AND(B33=$N$2,C33=$O$2),$P$2,IF(AND(B33=$N$2,C33=$O$3),$P$3,IF(AND(B33=$N$4,C33=$O$2),$P$4,IF(AND(B33=Data!A20,C33=$O$3),$P$5,0))))))","v":14790}]
["GEAPROP_9068534","Conclusion","Urgent","URFU","2020-04-01",{"$f":"IFERROR(VLOOKUP(CONCATENATE(B34,\"_\",C34,\"_\",D34),Список!A:B,2,0),\"\")","v":9885},{"$f":"IF(OR(D34=\"Excont\",D34=\"\"),\"\",IF(D34=\"URFU\",IF(AND(B34=$N$2,C34=$O$2),$P$2,IF(AND(B34=$N$2,C34=$O$3),$P$3,IF(AND(B34=$N$4,C34=$O$2),$P$4,IF(AND(B34=Data!A21,C34=$O$3),$P$5,0))))))","v":22185}]
["ELG_TARPACK_9073471","Conclusion","Not","URFU","2020-04-01",{"$f":"IFERROR(VLOOKUP(CONCATENATE(B35,\"_\",C35,\"_\",D35),Список!A:B,2,0),\"\")","v":6790},{"$f":"IF(OR(D35=\"Excont\",D35=\"\"),\"\",IF(D35=\"URFU\",IF(AND(B35=$N$2,C35=$O$2),$P$2,IF(AND(B35=$N$2,C35=$O$3),$P$3,IF(AND(B35=$N$4,C35=$O$2),$P$4,IF(AND(B35=Data!A22,C35=$O$3),$P$5,0))))))","v":14790}]
["BASDAMPF-2_9069374","Conclusion","Not","URFU","2020-04-01",{"$f":"IFERROR(VLOOKUP(CONCATENATE(B36,\"_\",C36,\"_\",D36),Список!A:B,2,0),\"\")","v":6790},{"$f":"IF(OR(D36=\"Excont\",D36=\"\"),\"\",IF(D36=\"URFU\",IF(AND(B36=$N$2,C36=$O$2),$P$2,IF(AND(B36=$N$2,C36=$O$3),$P$3,IF(AND(B36=$N$4,C36=$O$2),$P$4,IF(AND(B36=Data!A25,C36=$O$3),$P$5,0))))))","v":14790}]
["BP_DORMAGENTAS_9071679","Conclusion","Not","URFU","2020-04-01",{"$f":"IFERROR(VLOOKUP(CONCATENATE(B37,\"_\",C37,\"_\",D37),Список!A:B,2,0),\"\")","v":6790},{"$f":"IF(OR(D37=\"Excont\",D37=\"\"),\"\",IF(D37=\"URFU\",IF(AND(B37=$N$2,C37=$O$2),$P$2,IF(AND(B37=$N$2,C37=$O$3),$P$3,IF(AND(B37=$N$4,C37=$O$2),$P$4,IF(AND(B37=Data!A26,C37=$O$3),$P$5,0))))))","v":14790}]
["BIOPARG_9075556","Conclusion","Not","URFU","2020-04-01",{"$f":"IFERROR(VLOOKUP(CONCATENATE(B38,\"_\",C38,\"_\",D38),Список!A:B,2,0),\"\")","v":6790},{"$f":"IF(OR(D38=\"Excont\",D38=\"\"),\"\",IF(D38=\"URFU\",IF(AND(B38=$N$2,C38=$O$2),$P$2,IF(AND(B38=$N$2,C38=$O$3),$P$3,IF(AND(B38=$N$4,C38=$O$2),$P$4,IF(AND(B38=Data!A32,C38=$O$3),$P$5,0))))))","v":14790}]
["PDSABS_9067314","Conclusion","Not","URFU","2020-05-01",{"$f":"IFERROR(VLOOKUP(CONCATENATE(B39,\"_\",C39,\"_\",D39),Список!A:B,2,0),\"\")","v":6790},{"$f":"IF(OR(D39=\"Excont\",D39=\"\"),\"\",IF(D39=\"URFU\",IF(AND(B39=$N$2,C39=$O$2),$P$2,IF(AND(B39=$N$2,C39=$O$3),$P$3,IF(AND(B39=$N$4,C39=$O$2),$P$4,IF(AND(B39=Data!A27,C39=$O$3),$P$5,0))))))","v":14790}]
["ENVIBEER_9070515","Conclusion","Not","URFU","2020-05-01",{"$f":"IFERROR(VLOOKUP(CONCATENATE(B40,\"_\",C40,\"_\",D40),Список!A:B,2,0),\"\")","v":6790},{"$f":"IF(OR(D40=\"Excont\",D40=\"\"),\"\",IF(D40=\"URFU\",IF(AND(B40=$N$2,C40=$O$2),$P$2,IF(AND(B40=$N$2,C40=$O$3),$P$3,IF(AND(B40=$N$4,C40=$O$2),$P$4,IF(AND(B40=Data!A28,C40=$O$3),$P$5,0))))))","v":14790}]
["TOTALME-2_9068470","Conclusion","Not","URFU","2020-05-01",{"$f":"IFERROR(VLOOKUP(CONCATENATE(B41,\"_\",C41,\"_\",D41),Список!A:B,2,0),\"\")","v":6790},{"$f":"IF(OR(D41=\"Excont\",D41=\"\"),\"\",IF(D41=\"URFU\",IF(AND(B41=$N$2,C41=$O$2),$P$2,IF(AND(B41=$N$2,C41=$O$3),$P$3,IF(AND(B41=$N$4,C41=$O$2),$P$4,IF(AND(B41=Data!A29,C41=$O$3),$P$5,0))))))","v":14790}]
["AKSLUR-21_9050391","Conclusion","Not","URFU","2020-05-01",{"$f":"IFERROR(VLOOKUP(CONCATENATE(B42,\"_\",C42,\"_\",D42),Список!A:B,2,0),\"\")","v":6790},{"$f":"IF(OR(D42=\"Excont\",D42=\"\"),\"\",IF(D42=\"URFU\",IF(AND(B42=$N$2,C42=$O$2),$P$2,IF(AND(B42=$N$2,C42=$O$3),$P$3,IF(AND(B42=$N$4,C42=$O$2),$P$4,IF(AND(B42=Data!A30,C42=$O$3),$P$5,0))))))","v":14790}]
["NEST_TARGRID1_907434806","Conclusion","Not","URFU","2020-05-01",{"$f":"IFERROR(VLOOKUP(CONCATENATE(B43,\"_\",C43,\"_\",D43),Список!A:B,2,0),\"\")","v":6790},{"$f":"IF(OR(D43=\"Excont\",D43=\"\"),\"\",IF(D43=\"URFU\",IF(AND(B43=$N$2,C43=$O$2),$P$2,IF(AND(B43=$N$2,C43=$O$3),$P$3,IF(AND(B43=$N$4,C43=$O$2),$P$4,IF(AND(B43=Data!A31,C43=$O$3),$P$5,0))))))","v":14790}]
["ISAB_9069764","Conclusion","Not","URFU","2020-05-01",{"$f":"IFERROR(VLOOKUP(CONCATENATE(B44,\"_\",C44,\"_\",D44),Список!A:B,2,0),\"\")","v":6790},{"$f":"IF(OR(D44=\"Excont\",D44=\"\"),\"\",IF(D44=\"URFU\",IF(AND(B44=$N$2,C44=$O$2),$P$2,IF(AND(B44=$N$2,C44=$O$3),$P$3,IF(AND(B44=$N$4,C44=$O$2),$P$4,IF(AND(B44=Data!A33,C44=$O$3),$P$5,0))))))","v":14790}]
["FATTYSTRI2_9052047","Conclusion","Not","URFU","2020-05-01",{"$f":"IFERROR(VLOOKUP(CONCATENATE(B45,\"_\",C45,\"_\",D45),Список!A:B,2,0),\"\")","v":6790},{"$f":"IF(OR(D45=\"Excont\",D45=\"\"),\"\",IF(D45=\"URFU\",IF(AND(B45=$N$2,C45=$O$2),$P$2,IF(AND(B45=$N$2,C45=$O$3),$P$3,IF(AND(B45=$N$4,C45=$O$2),$P$4,IF(AND(B45=Data!A35,C45=$O$3),$P$5,0))))))","v":14790}]
["GEOPAK_9072310","Conclusion","Not","URFU","2020-05-01",{"$f":"IFERROR(VLOOKUP(CONCATENATE(B46,\"_\",C46,\"_\",D46),Список!A:B,2,0),\"\")","v":6790},{"$f":"IF(OR(D46=\"Excont\",D46=\"\"),\"\",IF(D46=\"URFU\",IF(AND(B46=$N$2,C46=$O$2),$P$2,IF(AND(B46=$N$2,C46=$O$3),$P$3,IF(AND(B46=$N$4,C46=$O$2),$P$4,IF(AND(B46=Data!A36,C46=$O$3),$P$5,0))))))","v":14790}]
["YARALOAD_9040429","Conclusion","Not","URFU","2020-05-01",{"$f":"IFERROR(VLOOKUP(CONCATENATE(B47,\"_\",C47,\"_\",D47),Список!A:B,2,0),\"\")","v":6790},{"$f":"IF(OR(D47=\"Excont\",D47=\"\"),\"\",IF(D47=\"URFU\",IF(AND(B47=$N$2,C47=$O$2),$P$2,IF(AND(B47=$N$2,C47=$O$3),$P$3,IF(AND(B47=$N$4,C47=$O$2),$P$4,IF(AND(B47=Data!A37,C47=$O$3),$P$5,0))))))","v":14790}]
["GUNVACWASH_9073521","Conclusion","Not","URFU","2020-05-01",{"$f":"IFERROR(VLOOKUP(CONCATENATE(B48,\"_\",C48,\"_\",D48),Список!A:B,2,0),\"\")","v":6790},{"$f":"IF(OR(D48=\"Excont\",D48=\"\"),\"\",IF(D48=\"URFU\",IF(AND(B48=$N$2,C48=$O$2),$P$2,IF(AND(B48=$N$2,C48=$O$3),$P$3,IF(AND(B48=$N$4,C48=$O$2),$P$4,IF(AND(B48=Data!A38,C48=$O$3),$P$5,0))))))","v":14790}]
[" SANCHEZ_2_9044427","Conclusion","Not","URFU","2020-06-01",{"$f":"IFERROR(VLOOKUP(CONCATENATE(B49,\"_\",C49,\"_\",D49),Список!A:B,2,0),\"\")","v":6790},{"$f":"IF(OR(D49=\"Excont\",D49=\"\"),\"\",IF(D49=\"URFU\",IF(AND(B49=$N$2,C49=$O$2),$P$2,IF(AND(B49=$N$2,C49=$O$3),$P$3,IF(AND(B49=$N$4,C49=$O$2),$P$4,IF(AND(B49=Data!A39,C49=$O$3),$P$5,0))))))","v":14790}]
[" TOUR-COL_907385208","Conclusion","Not","URFU","2020-06-01",{"$f":"IFERROR(VLOOKUP(CONCATENATE(B50,\"_\",C50,\"_\",D50),Список!A:B,2,0),\"\")","v":6790},{"$f":"IF(OR(D50=\"Excont\",D50=\"\"),\"\",IF(D50=\"URFU\",IF(AND(B50=$N$2,C50=$O$2),$P$2,IF(AND(B50=$N$2,C50=$O$3),$P$3,IF(AND(B50=$N$4,C50=$O$2),$P$4,IF(AND(B50=Data!A40,C50=$O$3),$P$5,0))))))","v":14790}]
["BIOPACK2 9065528","Conclusion","Not","URFU","2020-06-01",{"$f":"IFERROR(VLOOKUP(CONCATENATE(B51,\"_\",C51,\"_\",D51),Список!A:B,2,0),\"\")","v":6790},{"$f":"IF(OR(D51=\"Excont\",D51=\"\"),\"\",IF(D51=\"URFU\",IF(AND(B51=$N$2,C51=$O$2),$P$2,IF(AND(B51=$N$2,C51=$O$3),$P$3,IF(AND(B51=$N$4,C51=$O$2),$P$4,IF(AND(B51=Data!A41,C51=$O$3),$P$5,0))))))","v":14790}]
["SENSIENTPLUS_11 9069607","Conclusion","Not","URFU","2020-06-01",{"$f":"IFERROR(VLOOKUP(CONCATENATE(B52,\"_\",C52,\"_\",D52),Список!A:B,2,0),\"\")","v":6790},{"$f":"IF(OR(D52=\"Excont\",D52=\"\"),\"\",IF(D52=\"URFU\",IF(AND(B52=$N$2,C52=$O$2),$P$2,IF(AND(B52=$N$2,C52=$O$3),$P$3,IF(AND(B52=$N$4,C52=$O$2),$P$4,IF(AND(B52=Data!A42,C52=$O$3),$P$5,0))))))","v":14790}]
["GEOPAK 9072310","Conclusion","Not","URFU","2020-06-01",{"$f":"IFERROR(VLOOKUP(CONCATENATE(B53,\"_\",C53,\"_\",D53),Список!A:B,2,0),\"\")","v":6790},{"$f":"IF(OR(D53=\"Excont\",D53=\"\"),\"\",IF(D53=\"URFU\",IF(AND(B53=$N$2,C53=$O$2),$P$2,IF(AND(B53=$N$2,C53=$O$3),$P$3,IF(AND(B53=$N$4,C53=$O$2),$P$4,IF(AND(B53=Data!A43,C53=$O$3),$P$5,0))))))","v":14790}]
["GEATRAY 9074185","Conclusion","Urgent","URFU","2020-06-01",{"$f":"IFERROR(VLOOKUP(CONCATENATE(B54,\"_\",C54,\"_\",D54),Список!A:B,2,0),\"\")","v":9885},{"$f":"IF(OR(D54=\"Excont\",D54=\"\"),\"\",IF(D54=\"URFU\",IF(AND(B54=$N$2,C54=$O$2),$P$2,IF(AND(B54=$N$2,C54=$O$3),$P$3,IF(AND(B54=$N$4,C54=$O$2),$P$4,IF(AND(B54=Data!A44,C54=$O$3),$P$5,0))))))","v":22185}]
["BPHAST-1  9072645","Conclusion","Not","URFU","2020-06-01",{"$f":"IFERROR(VLOOKUP(CONCATENATE(B55,\"_\",C55,\"_\",D55),Список!A:B,2,0),\"\")","v":6790},{"$f":"IF(OR(D55=\"Excont\",D55=\"\"),\"\",IF(D55=\"URFU\",IF(AND(B55=$N$2,C55=$O$2),$P$2,IF(AND(B55=$N$2,C55=$O$3),$P$3,IF(AND(B55=$N$4,C55=$O$2),$P$4,IF(AND(B55=Data!A45,C55=$O$3),$P$5,0))))))","v":14790}]
["CEPSAPAK 9074410 ","Conclusion","Not","URFU","2020-06-01",{"$f":"IFERROR(VLOOKUP(CONCATENATE(B56,\"_\",C56,\"_\",D56),Список!A:B,2,0),\"\")","v":6790},{"$f":"IF(OR(D56=\"Excont\",D56=\"\"),\"\",IF(D56=\"URFU\",IF(AND(B56=$N$2,C56=$O$2),$P$2,IF(AND(B56=$N$2,C56=$O$3),$P$3,IF(AND(B56=$N$4,C56=$O$2),$P$4,IF(AND(B56=Data!A46,C56=$O$3),$P$5,0))))))","v":14790}]
["BORSOANIL-3 9067559 ","Conclusion","Not","URFU","2020-06-01",{"$f":"IFERROR(VLOOKUP(CONCATENATE(B57,\"_\",C57,\"_\",D57),Список!A:B,2,0),\"\")","v":6790},{"$f":"IF(OR(D57=\"Excont\",D57=\"\"),\"\",IF(D57=\"URFU\",IF(AND(B57=$N$2,C57=$O$2),$P$2,IF(AND(B57=$N$2,C57=$O$3),$P$3,IF(AND(B57=$N$4,C57=$O$2),$P$4,IF(AND(B57=Data!A47,C57=$O$3),$P$5,0))))))","v":14790}]
["BORSODMDI-3 9073577 ","Conclusion","Not","URFU","2020-06-01",{"$f":"IFERROR(VLOOKUP(CONCATENATE(B58,\"_\",C58,\"_\",D58),Список!A:B,2,0),\"\")","v":6790},{"$f":"IF(OR(D58=\"Excont\",D58=\"\"),\"\",IF(D58=\"URFU\",IF(AND(B58=$N$2,C58=$O$2),$P$2,IF(AND(B58=$N$2,C58=$O$3),$P$3,IF(AND(B58=$N$4,C58=$O$2),$P$4,IF(AND(B58=Data!A48,C58=$O$3),$P$5,0))))))","v":14790}]
["ACHABS-ALKON","Conclusion","Not","URFU","2020-06-01",{"$f":"IFERROR(VLOOKUP(CONCATENATE(B59,\"_\",C59,\"_\",D59),Список!A:B,2,0),\"\")","v":6790},{"$f":"IF(OR(D59=\"Excont\",D59=\"\"),\"\",IF(D59=\"URFU\",IF(AND(B59=$N$2,C59=$O$2),$P$2,IF(AND(B59=$N$2,C59=$O$3),$P$3,IF(AND(B59=$N$4,C59=$O$2),$P$4,IF(AND(B59=Data!A49,C59=$O$3),$P$5,0))))))","v":14790}]
["BORSODI-11","Conclusion","Not","URFU","2020-06-01",{"$f":"IFERROR(VLOOKUP(CONCATENATE(B60,\"_\",C60,\"_\",D60),Список!A:B,2,0),\"\")","v":6790},{"$f":"IF(OR(D60=\"Excont\",D60=\"\"),\"\",IF(D60=\"URFU\",IF(AND(B60=$N$2,C60=$O$2),$P$2,IF(AND(B60=$N$2,C60=$O$3),$P$3,IF(AND(B60=$N$4,C60=$O$2),$P$4,IF(AND(B60=Data!A50,C60=$O$3),$P$5,0))))))","v":14790}]
["BPHAST-1 9072645","Conclusion","Not","URFU","2020-06-01",{"$f":"IFERROR(VLOOKUP(CONCATENATE(B61,\"_\",C61,\"_\",D61),Список!A:B,2,0),\"\")","v":6790},{"$f":"IF(OR(D61=\"Excont\",D61=\"\"),\"\",IF(D61=\"URFU\",IF(AND(B61=$N$2,C61=$O$2),$P$2,IF(AND(B61=$N$2,C61=$O$3),$P$3,IF(AND(B61=$N$4,C61=$O$2),$P$4,IF(AND(B61=Data!A51,C61=$O$3),$P$5,0))))))","v":14790}]
["NOBELSPORT 9074141","Conclusion","Not","URFU","2020-06-01",{"$f":"IFERROR(VLOOKUP(CONCATENATE(B62,\"_\",C62,\"_\",D62),Список!A:B,2,0),\"\")","v":6790}]
["MIXER_NCOC","Conclusion","Not","URFU","2020-07-01",{"$f":"IFERROR(VLOOKUP(CONCATENATE(B63,\"_\",C63,\"_\",D63),Список!A:B,2,0),\"\")","v":6790},{"$f":"IF(OR(D63=\"Excont\",D63=\"\"),\"\",IF(D63=\"URFU\",IF(AND(B63=$N$2,C63=$O$2),$P$2,IF(AND(B63=$N$2,C63=$O$3),$P$3,IF(AND(B63=$N$4,C63=$O$2),$P$4,IF(AND(B63=Data!A53,C63=$O$3),$P$5,0))))))","v":14790}]
["FREIBAS REHDEN","Conclusion","Not","URFU","2020-07-01",{"$f":"IFERROR(VLOOKUP(CONCATENATE(B64,\"_\",C64,\"_\",D64),Список!A:B,2,0),\"\")","v":6790},{"$f":"IF(OR(D64=\"Excont\",D64=\"\"),\"\",IF(D64=\"URFU\",IF(AND(B64=$N$2,C64=$O$2),$P$2,IF(AND(B64=$N$2,C64=$O$3),$P$3,IF(AND(B64=$N$4,C64=$O$2),$P$4,IF(AND(B64=Data!A54,C64=$O$3),$P$5,0))))))","v":14790}]
["9070606_LEURESCH","Conclusion","Not","URFU","2020-07-01",6790,{"$f":"IF(OR(D65=\"Excont\",D65=\"\"),\"\",IF(D65=\"URFU\",IF(AND(B65=$N$2,C65=$O$2),$P$2,IF(AND(B65=$N$2,C65=$O$3),$P$3,IF(AND(B65=$N$4,C65=$O$2),$P$4,IF(AND(B65=Data!A55,C65=$O$3),$P$5,0))))))","v":14790}]
["BUNGESOY","Conclusion","Not","URFU","2020-07-01",{"$f":"IFERROR(VLOOKUP(CONCATENATE(B66,\"_\",C66,\"_\",D66),Список!A:B,2,0),\"\")","v":6790},{"$f":"IF(OR(D66=\"Excont\",D66=\"\"),\"\",IF(D66=\"URFU\",IF(AND(B66=$N$2,C66=$O$2),$P$2,IF(AND(B66=$N$2,C66=$O$3),$P$3,IF(AND(B66=$N$4,C66=$O$2),$P$4,IF(AND(B66=Data!A56,C66=$O$3),$P$5,0))))))","v":14790}]
["KOLLSNESS_T1T2_REVAMP","Conclusion","Not","URFU","2020-08-01",{"$f":"IFERROR(VLOOKUP(CONCATENATE(B67,\"_\",C67,\"_\",D67),Список!A:B,2,0),\"\")","v":6790},{"$f":"IF(OR(D67=\"Excont\",D67=\"\"),\"\",IF(D67=\"URFU\",IF(AND(B67=$N$2,C67=$O$2),$P$2,IF(AND(B67=$N$2,C67=$O$3),$P$3,IF(AND(B67=$N$4,C67=$O$2),$P$4,IF(AND(B67=Data!A57,C67=$O$3),$P$5,0))))))","v":14790}]
["CHRISTOF_LL Lot-1","Conclusion","Not","URFU","2020-08-01",{"$f":"IFERROR(VLOOKUP(CONCATENATE(B68,\"_\",C68,\"_\",D68),Список!A:B,2,0),\"\")","v":6790},{"$f":"IF(OR(D68=\"Excont\",D68=\"\"),\"\",IF(D68=\"URFU\",IF(AND(B68=$N$2,C68=$O$2),$P$2,IF(AND(B68=$N$2,C68=$O$3),$P$3,IF(AND(B68=$N$4,C68=$O$2),$P$4,IF(AND(B68=Data!A58,C68=$O$3),$P$5,0))))))","v":14790}]
["CHRISTOF_LL Lot-2","Conclusion","Not","URFU","2020-08-01",{"$f":"IFERROR(VLOOKUP(CONCATENATE(B69,\"_\",C69,\"_\",D69),Список!A:B,2,0),\"\")","v":6790},{"$f":"IF(OR(D69=\"Excont\",D69=\"\"),\"\",IF(D69=\"URFU\",IF(AND(B69=$N$2,C69=$O$2),$P$2,IF(AND(B69=$N$2,C69=$O$3),$P$3,IF(AND(B69=$N$4,C69=$O$2),$P$4,IF(AND(B69=Data!A59,C69=$O$3),$P$5,0))))))","v":14790}]
["BORSOMNB","Conclusion","Not","URFU","2020-08-01",{"$f":"IFERROR(VLOOKUP(CONCATENATE(B70,\"_\",C70,\"_\",D70),Список!A:B,2,0),\"\")","v":6790},{"$f":"IF(OR(D70=\"Excont\",D70=\"\"),\"\",IF(D70=\"URFU\",IF(AND(B70=$N$2,C70=$O$2),$P$2,IF(AND(B70=$N$2,C70=$O$3),$P$3,IF(AND(B70=$N$4,C70=$O$2),$P$4,IF(AND(B70=Data!A60,C70=$O$3),$P$5,0))))))","v":14790}]
["CARGWORM","Conclusion","Not","URFU","2020-08-01",{"$f":"IFERROR(VLOOKUP(CONCATENATE(B71,\"_\",C71,\"_\",D71),Список!A:B,2,0),\"\")","v":6790},{"$f":"IF(OR(D71=\"Excont\",D71=\"\"),\"\",IF(D71=\"URFU\",IF(AND(B71=$N$2,C71=$O$2),$P$2,IF(AND(B71=$N$2,C71=$O$3),$P$3,IF(AND(B71=$N$4,C71=$O$2),$P$4,IF(AND(B71=Data!A61,C71=$O$3),$P$5,0))))))","v":14790}]
["STOFI 9075947","Conclusion","Not","URFU","2020-08-01",{"$f":"IFERROR(VLOOKUP(CONCATENATE(B72,\"_\",C72,\"_\",D72),Список!A:B,2,0),\"\")","v":6790},{"$f":"IF(OR(D72=\"Excont\",D72=\"\"),\"\",IF(D72=\"URFU\",IF(AND(B72=$N$2,C72=$O$2),$P$2,IF(AND(B72=$N$2,C72=$O$3),$P$3,IF(AND(B72=$N$4,C72=$O$2),$P$4,IF(AND(B72=Data!A62,C72=$O$3),$P$5,0))))))","v":14790}]
["WACKABS-K450-TAS_9077726","Conclusion","Not","URFU","2020-08-01",{"$f":"IFERROR(VLOOKUP(CONCATENATE(B73,\"_\",C73,\"_\",D73),Список!A:B,2,0),\"\")","v":6790},{"$f":"IF(OR(D73=\"Excont\",D73=\"\"),\"\",IF(D73=\"URFU\",IF(AND(B73=$N$2,C73=$O$2),$P$2,IF(AND(B73=$N$2,C73=$O$3),$P$3,IF(AND(B73=$N$4,C73=$O$2),$P$4,IF(AND(B73=Data!A63,C73=$O$3),$P$5,0))))))","v":14790}]
["DONAPAK-B 9077897 ","Conclusion","Not","URFU","2020-08-01",{"$f":"IFERROR(VLOOKUP(CONCATENATE(B74,\"_\",C74,\"_\",D74),Список!A:B,2,0),\"\")","v":6790},{"$f":"IF(OR(D74=\"Excont\",D74=\"\"),\"\",IF(D74=\"URFU\",IF(AND(B74=$N$2,C74=$O$2),$P$2,IF(AND(B74=$N$2,C74=$O$3),$P$3,IF(AND(B74=$N$4,C74=$O$2),$P$4,IF(AND(B74=Data!A64,C74=$O$3),$P$5,0))))))","v":14790}]
["TAQAPLATE","Conclusion","Not","URFU","2020-07-01",{"$f":"IFERROR(VLOOKUP(CONCATENATE(B75,\"_\",C75,\"_\",D75),Список!A:B,2,0),\"\")","v":6790},{"$f":"IF(OR(D75=\"Excont\",D75=\"\"),\"\",IF(D75=\"URFU\",IF(AND(B75=$N$2,C75=$O$2),$P$2,IF(AND(B75=$N$2,C75=$O$3),$P$3,IF(AND(B75=$N$4,C75=$O$2),$P$4,IF(AND(B75=Data!A65,C75=$O$3),$P$5,0))))))","v":14790}]
["TOMSADIS","Conclusion","Not","URFU","2020-07-01",{"$f":"IFERROR(VLOOKUP(CONCATENATE(B76,\"_\",C76,\"_\",D76),Список!A:B,2,0),\"\")","v":6790},{"$f":"IF(OR(D76=\"Excont\",D76=\"\"),\"\",IF(D76=\"URFU\",IF(AND(B76=$N$2,C76=$O$2),$P$2,IF(AND(B76=$N$2,C76=$O$3),$P$3,IF(AND(B76=$N$4,C76=$O$2),$P$4,IF(AND(B76=Data!A66,C76=$O$3),$P$5,0))))))","v":14790}]
["HUNPAK-22","Conclusion","Not","URFU","2020-07-01",{"$f":"IFERROR(VLOOKUP(CONCATENATE(B77,\"_\",C77,\"_\",D77),Список!A:B,2,0),\"\")","v":6790},{"$f":"IF(OR(D77=\"Excont\",D77=\"\"),\"\",IF(D77=\"URFU\",IF(AND(B77=$N$2,C77=$O$2),$P$2,IF(AND(B77=$N$2,C77=$O$3),$P$3,IF(AND(B77=$N$4,C77=$O$2),$P$4,IF(AND(B77=Data!A67,C77=$O$3),$P$5,0))))))","v":14790}]
["MONPRODNEW","Conclusion","Not","URFU","2020-08-01",{"$f":"IFERROR(VLOOKUP(CONCATENATE(B78,\"_\",C78,\"_\",D78),Список!A:B,2,0),\"\")","v":6790},{"$f":"IF(OR(D78=\"Excont\",D78=\"\"),\"\",IF(D78=\"URFU\",IF(AND(B78=$N$2,C78=$O$2),$P$2,IF(AND(B78=$N$2,C78=$O$3),$P$3,IF(AND(B78=$N$4,C78=$O$2),$P$4,IF(AND(B78=Data!A68,C78=$O$3),$P$5,0))))))","v":14790}]
[" EXX710004","Conclusion","Not","URFU","2020-08-01",{"$f":"IFERROR(VLOOKUP(CONCATENATE(B79,\"_\",C79,\"_\",D79),Список!A:B,2,0),\"\")","v":6790},{"$f":"IF(OR(D79=\"Excont\",D79=\"\"),\"\",IF(D79=\"URFU\",IF(AND(B79=$N$2,C79=$O$2),$P$2,IF(AND(B79=$N$2,C79=$O$3),$P$3,IF(AND(B79=$N$4,C79=$O$2),$P$4,IF(AND(B79=Data!A69,C79=$O$3),$P$5,0))))))","v":14790}]
["CAMPTUR","Conclusion","Not","URFU","2020-08-01",{"$f":"IFERROR(VLOOKUP(CONCATENATE(B80,\"_\",C80,\"_\",D80),Список!A:B,2,0),\"\")","v":6790},{"$f":"IF(OR(D80=\"Excont\",D80=\"\"),\"\",IF(D80=\"URFU\",IF(AND(B80=$N$2,C80=$O$2),$P$2,IF(AND(B80=$N$2,C80=$O$3),$P$3,IF(AND(B80=$N$4,C80=$O$2),$P$4,IF(AND(B80=Data!A70,C80=$O$3),$P$5,0))))))","v":14790}]
["MAZBREAKER-10","Conclusion","Not","URFU","2020-08-01",{"$f":"IFERROR(VLOOKUP(CONCATENATE(B81,\"_\",C81,\"_\",D81),Список!A:B,2,0),\"\")","v":6790},{"$f":"IF(OR(D81=\"Excont\",D81=\"\"),\"\",IF(D81=\"URFU\",IF(AND(B81=$N$2,C81=$O$2),$P$2,IF(AND(B81=$N$2,C81=$O$3),$P$3,IF(AND(B81=$N$4,C81=$O$2),$P$4,IF(AND(B81=Data!A71,C81=$O$3),$P$5,0))))))","v":14790}]
["LAM-DX5DX6","Conclusion","Not","URFU","2020-09-01",{"$f":"IFERROR(VLOOKUP(CONCATENATE(B82,\"_\",C82,\"_\",D82),Список!A:B,2,0),\"\")","v":6790},{"$f":"IF(OR(D82=\"Excont\",D82=\"\"),\"\",IF(D82=\"URFU\",IF(AND(B82=$N$2,C82=$O$2),$P$2,IF(AND(B82=$N$2,C82=$O$3),$P$3,IF(AND(B82=$N$4,C82=$O$2),$P$4,IF(AND(B82=Data!A72,C82=$O$3),$P$5,0))))))","v":14790}]
[null,null,null,null,"",{"$f":"IFERROR(VLOOKUP(CONCATENATE(B83,\"_\",C83,\"_\",D83),Список!A:B,2,0),\"\")","v":""},{"$f":"IF(OR(D83=\"Excont\",D83=\"\"),\"\",IF(D83=\"URFU\",IF(AND(B83=$N$2,C83=$O$2),$P$2,IF(AND(B83=$N$2,C83=$O$3),$P$3,IF(AND(B83=$N$4,C83=$O$2),$P$4,IF(AND(B83=Data!A73,C83=$O$3),$P$5,0))))))","v":""}]
[null,null,null,null,"",{"$f":"IFERROR(VLOOKUP(CONCATENATE(B84,\"_\",C84,\"_\",D84),Список!A:B,2,0),\"\")","v":""},{"$f":"IF(OR(D84=\"Excont\",D84=\"\"),\"\",IF(D84=\"URFU\",IF(AND(B84=$N$2,C84=$O$2),$P$2,IF(AND(B84=$N$2,C84=$O$3),$P$3,IF(AND(B84=$N$4,C84=$O$2),$P$4,IF(AND(B84=Data!A74,C84=$O$3),$P$5,0))))))","v":""}]
[null,null,null,null,"",{"$f":"IFERROR(VLOOKUP(CONCATENATE(B85,\"_\",C85,\"_\",D85),Список!A:B,2,0),\"\")","v":""},{"$f":"IF(OR(D85=\"Excont\",D85=\"\"),\"\",IF(D85=\"URFU\",IF(AND(B85=$N$2,C85=$O$2),$P$2,IF(AND(B85=$N$2,C85=$O$3),$P$3,IF(AND(B85=$N$4,C85=$O$2),$P$4,IF(AND(B85=Data!A75,C85=$O$3),$P$5,0))))))","v":""}]
[null,null,null,null,"",{"$f":"IFERROR(VLOOKUP(CONCATENATE(B86,\"_\",C86,\"_\",D86),Список!A:B,2,0),\"\")","v":""},{"$f":"IF(OR(D86=\"Excont\",D86=\"\"),\"\",IF(D86=\"URFU\",IF(AND(B86=$N$2,C86=$O$2),$P$2,IF(AND(B86=$N$2,C86=$O$3),$P$3,IF(AND(B86=$N$4,C86=$O$2),$P$4,IF(AND(B86=Data!A76,C86=$O$3),$P$5,0))))))","v":""}]
[null,null,null,null,"",{"$f":"IFERROR(VLOOKUP(CONCATENATE(B87,\"_\",C87,\"_\",D87),Список!A:B,2,0),\"\")","v":""},{"$f":"IF(OR(D87=\"Excont\",D87=\"\"),\"\",IF(D87=\"URFU\",IF(AND(B87=$N$2,C87=$O$2),$P$2,IF(AND(B87=$N$2,C87=$O$3),$P$3,IF(AND(B87=$N$4,C87=$O$2),$P$4,IF(AND(B87=Data!A77,C87=$O$3),$P$5,0))))))","v":""}]
[null,null,null,null,"",{"$f":"IFERROR(VLOOKUP(CONCATENATE(B88,\"_\",C88,\"_\",D88),Список!A:B,2,0),\"\")","v":""},{"$f":"IF(OR(D88=\"Excont\",D88=\"\"),\"\",IF(D88=\"URFU\",IF(AND(B88=$N$2,C88=$O$2),$P$2,IF(AND(B88=$N$2,C88=$O$3),$P$3,IF(AND(B88=$N$4,C88=$O$2),$P$4,IF(AND(B88=Data!A78,C88=$O$3),$P$5,0))))))","v":""}]
[null,null,null,null,"",{"$f":"IFERROR(VLOOKUP(CONCATENATE(B89,\"_\",C89,\"_\",D89),Список!A:B,2,0),\"\")","v":""},{"$f":"IF(OR(D89=\"Excont\",D89=\"\"),\"\",IF(D89=\"URFU\",IF(AND(B89=$N$2,C89=$O$2),$P$2,IF(AND(B89=$N$2,C89=$O$3),$P$3,IF(AND(B89=$N$4,C89=$O$2),$P$4,IF(AND(B89=Data!A79,C89=$O$3),$P$5,0))))))","v":""}]
[null,null,null,null,"",{"$f":"IFERROR(VLOOKUP(CONCATENATE(B90,\"_\",C90,\"_\",D90),Список!A:B,2,0),\"\")","v":""},{"$f":"IF(OR(D90=\"Excont\",D90=\"\"),\"\",IF(D90=\"URFU\",IF(AND(B90=$N$2,C90=$O$2),$P$2,IF(AND(B90=$N$2,C90=$O$3),$P$3,IF(AND(B90=$N$4,C90=$O$2),$P$4,IF(AND(B90=Data!A80,C90=$O$3),$P$5,0))))))","v":""}]
[null,null,null,null,"",{"$f":"IFERROR(VLOOKUP(CONCATENATE(B91,\"_\",C91,\"_\",D91),Список!A:B,2,0),\"\")","v":""},{"$f":"IF(OR(D91=\"Excont\",D91=\"\"),\"\",IF(D91=\"URFU\",IF(AND(B91=$N$2,C91=$O$2),$P$2,IF(AND(B91=$N$2,C91=$O$3),$P$3,IF(AND(B91=$N$4,C91=$O$2),$P$4,IF(AND(B91=Data!A81,C91=$O$3),$P$5,0))))))","v":""}]
[null,null,null,null,"",{"$f":"IFERROR(VLOOKUP(CONCATENATE(B92,\"_\",C92,\"_\",D92),Список!A:B,2,0),\"\")","v":""},{"$f":"IF(OR(D92=\"Excont\",D92=\"\"),\"\",IF(D92=\"URFU\",IF(AND(B92=$N$2,C92=$O$2),$P$2,IF(AND(B92=$N$2,C92=$O$3),$P$3,IF(AND(B92=$N$4,C92=$O$2),$P$4,IF(AND(B92=Data!A82,C92=$O$3),$P$5,0))))))","v":""}]
[null,null,null,null,"",{"$f":"IFERROR(VLOOKUP(CONCATENATE(B93,\"_\",C93,\"_\",D93),Список!A:B,2,0),\"\")","v":""},{"$f":"IF(OR(D93=\"Excont\",D93=\"\"),\"\",IF(D93=\"URFU\",IF(AND(B93=$N$2,C93=$O$2),$P$2,IF(AND(B93=$N$2,C93=$O$3),$P$3,IF(AND(B93=$N$4,C93=$O$2),$P$4,IF(AND(B93=Data!A83,C93=$O$3),$P$5,0))))))","v":""}]
[null,null,null,null,"",{"$f":"IFERROR(VLOOKUP(CONCATENATE(B94,\"_\",C94,\"_\",D94),Список!A:B,2,0),\"\")","v":""},{"$f":"IF(OR(D94=\"Excont\",D94=\"\"),\"\",IF(D94=\"URFU\",IF(AND(B94=$N$2,C94=$O$2),$P$2,IF(AND(B94=$N$2,C94=$O$3),$P$3,IF(AND(B94=$N$4,C94=$O$2),$P$4,IF(AND(B94=Data!A84,C94=$O$3),$P$5,0))))))","v":""}]
[null,null,null,null,"",{"$f":"IFERROR(VLOOKUP(CONCATENATE(B95,\"_\",C95,\"_\",D95),Список!A:B,2,0),\"\")","v":""},{"$f":"IF(OR(D95=\"Excont\",D95=\"\"),\"\",IF(D95=\"URFU\",IF(AND(B95=$N$2,C95=$O$2),$P$2,IF(AND(B95=$N$2,C95=$O$3),$P$3,IF(AND(B95=$N$4,C95=$O$2),$P$4,IF(AND(B95=Data!A85,C95=$O$3),$P$5,0))))))","v":""}]
[null,null,null,null,"",{"$f":"IFERROR(VLOOKUP(CONCATENATE(B96,\"_\",C96,\"_\",D96),Список!A:B,2,0),\"\")","v":""},{"$f":"IF(OR(D96=\"Excont\",D96=\"\"),\"\",IF(D96=\"URFU\",IF(AND(B96=$N$2,C96=$O$2),$P$2,IF(AND(B96=$N$2,C96=$O$3),$P$3,IF(AND(B96=$N$4,C96=$O$2),$P$4,IF(AND(B96=Data!A86,C96=$O$3),$P$5,0))))))","v":""}]
[null,null,null,null,"",{"$f":"IFERROR(VLOOKUP(CONCATENATE(B97,\"_\",C97,\"_\",D97),Список!A:B,2,0),\"\")","v":""},{"$f":"IF(OR(D97=\"Excont\",D97=\"\"),\"\",IF(D97=\"URFU\",IF(AND(B97=$N$2,C97=$O$2),$P$2,IF(AND(B97=$N$2,C97=$O$3),$P$3,IF(AND(B97=$N$4,C97=$O$2),$P$4,IF(AND(B97=Data!A87,C97=$O$3),$P$5,0))))))","v":""}]
[null,null,null,null,"",{"$f":"IFERROR(VLOOKUP(CONCATENATE(B98,\"_\",C98,\"_\",D98),Список!A:B,2,0),\"\")","v":""},{"$f":"IF(OR(D98=\"Excont\",D98=\"\"),\"\",IF(D98=\"URFU\",IF(AND(B98=$N$2,C98=$O$2),$P$2,IF(AND(B98=$N$2,C98=$O$3),$P$3,IF(AND(B98=$N$4,C98=$O$2),$P$4,IF(AND(B98=Data!A88,C98=$O$3),$P$5,0))))))","v":""}]
[null,null,null,null,"",{"$f":"IFERROR(VLOOKUP(CONCATENATE(B99,\"_\",C99,\"_\",D99),Список!A:B,2,0),\"\")","v":""},{"$f":"IF(OR(D99=\"Excont\",D99=\"\"),\"\",IF(D99=\"URFU\",IF(AND(B99=$N$2,C99=$O$2),$P$2,IF(AND(B99=$N$2,C99=$O$3),$P$3,IF(AND(B99=$N$4,C99=$O$2),$P$4,IF(AND(B99=Data!A89,C99=$O$3),$P$5,0))))))","v":""}]
[null,null,null,null,"",{"$f":"IFERROR(VLOOKUP(CONCATENATE(B100,\"_\",C100,\"_\",D100),Список!A:B,2,0),\"\")","v":""},{"$f":"IF(OR(D100=\"Excont\",D100=\"\"),\"\",IF(D100=\"URFU\",IF(AND(B100=$N$2,C100=$O$2),$P$2,IF(AND(B100=$N$2,C100=$O$3),$P$3,IF(AND(B100=$N$4,C100=$O$2),$P$4,IF(AND(B100=Data!A90,C100=$O$3),$P$5,0))))))","v":""}]
[null,null,null,null,"",{"$f":"IFERROR(VLOOKUP(CONCATENATE(B101,\"_\",C101,\"_\",D101),Список!A:B,2,0),\"\")","v":""},{"$f":"IF(OR(D101=\"Excont\",D101=\"\"),\"\",IF(D101=\"URFU\",IF(AND(B101=$N$2,C101=$O$2),$P$2,IF(AND(B101=$N$2,C101=$O$3),$P$3,IF(AND(B101=$N$4,C101=$O$2),$P$4,IF(AND(B101=Data!A91,C101=$O$3),$P$5,0))))))","v":""}]
[null,null,null,null,"",{"$f":"IFERROR(VLOOKUP(CONCATENATE(B102,\"_\",C102,\"_\",D102),Список!A:B,2,0),\"\")","v":""},{"$f":"IF(OR(D102=\"Excont\",D102=\"\"),\"\",IF(D102=\"URFU\",IF(AND(B102=$N$2,C102=$O$2),$P$2,IF(AND(B102=$N$2,C102=$O$3),$P$3,IF(AND(B102=$N$4,C102=$O$2),$P$4,IF(AND(B102=Data!A92,C102=$O$3),$P$5,0))))))","v":""}]
[null,null,null,null,"",{"$f":"IFERROR(VLOOKUP(CONCATENATE(B103,\"_\",C103,\"_\",D103),Список!A:B,2,0),\"\")","v":""},{"$f":"IF(OR(D103=\"Excont\",D103=\"\"),\"\",IF(D103=\"URFU\",IF(AND(B103=$N$2,C103=$O$2),$P$2,IF(AND(B103=$N$2,C103=$O$3),$P$3,IF(AND(B103=$N$4,C103=$O$2),$P$4,IF(AND(B103=Data!A93,C103=$O$3),$P$5,0))))))","v":""}]
[null,null,null,null,"",{"$f":"IFERROR(VLOOKUP(CONCATENATE(B104,\"_\",C104,\"_\",D104),Список!A:B,2,0),\"\")","v":""},{"$f":"IF(OR(D104=\"Excont\",D104=\"\"),\"\",IF(D104=\"URFU\",IF(AND(B104=$N$2,C104=$O$2),$P$2,IF(AND(B104=$N$2,C104=$O$3),$P$3,IF(AND(B104=$N$4,C104=$O$2),$P$4,IF(AND(B104=Data!A94,C104=$O$3),$P$5,0))))))","v":""}]
[null,null,null,null,"",{"$f":"IFERROR(VLOOKUP(CONCATENATE(B105,\"_\",C105,\"_\",D105),Список!A:B,2,0),\"\")","v":""},{"$f":"IF(OR(D105=\"Excont\",D105=\"\"),\"\",IF(D105=\"URFU\",IF(AND(B105=$N$2,C105=$O$2),$P$2,IF(AND(B105=$N$2,C105=$O$3),$P$3,IF(AND(B105=$N$4,C105=$O$2),$P$4,IF(AND(B105=Data!A95,C105=$O$3),$P$5,0))))))","v":""}]
[null,null,null,null,"",{"$f":"IFERROR(VLOOKUP(CONCATENATE(B106,\"_\",C106,\"_\",D106),Список!A:B,2,0),\"\")","v":""},{"$f":"IF(OR(D106=\"Excont\",D106=\"\"),\"\",IF(D106=\"URFU\",IF(AND(B106=$N$2,C106=$O$2),$P$2,IF(AND(B106=$N$2,C106=$O$3),$P$3,IF(AND(B106=$N$4,C106=$O$2),$P$4,IF(AND(B106=Data!A96,C106=$O$3),$P$5,0))))))","v":""}]
[null,null,null,null,"",{"$f":"IFERROR(VLOOKUP(CONCATENATE(B107,\"_\",C107,\"_\",D107),Список!A:B,2,0),\"\")","v":""},{"$f":"IF(OR(D107=\"Excont\",D107=\"\"),\"\",IF(D107=\"URFU\",IF(AND(B107=$N$2,C107=$O$2),$P$2,IF(AND(B107=$N$2,C107=$O$3),$P$3,IF(AND(B107=$N$4,C107=$O$2),$P$4,IF(AND(B107=Data!A97,C107=$O$3),$P$5,0))))))","v":""}]
[null,null,null,null,"",{"$f":"IFERROR(VLOOKUP(CONCATENATE(B108,\"_\",C108,\"_\",D108),Список!A:B,2,0),\"\")","v":""},{"$f":"IF(OR(D108=\"Excont\",D108=\"\"),\"\",IF(D108=\"URFU\",IF(AND(B108=$N$2,C108=$O$2),$P$2,IF(AND(B108=$N$2,C108=$O$3),$P$3,IF(AND(B108=$N$4,C108=$O$2),$P$4,IF(AND(B108=Data!A98,C108=$O$3),$P$5,0))))))","v":""}]
[null,null,null,null,"",{"$f":"IFERROR(VLOOKUP(CONCATENATE(B109,\"_\",C109,\"_\",D109),Список!A:B,2,0),\"\")","v":""},{"$f":"IF(OR(D109=\"Excont\",D109=\"\"),\"\",IF(D109=\"URFU\",IF(AND(B109=$N$2,C109=$O$2),$P$2,IF(AND(B109=$N$2,C109=$O$3),$P$3,IF(AND(B109=$N$4,C109=$O$2),$P$4,IF(AND(B109=Data!A99,C109=$O$3),$P$5,0))))))","v":""}]
[null,null,null,null,"",{"$f":"IFERROR(VLOOKUP(CONCATENATE(B110,\"_\",C110,\"_\",D110),Список!A:B,2,0),\"\")","v":""},{"$f":"IF(OR(D110=\"Excont\",D110=\"\"),\"\",IF(D110=\"URFU\",IF(AND(B110=$N$2,C110=$O$2),$P$2,IF(AND(B110=$N$2,C110=$O$3),$P$3,IF(AND(B110=$N$4,C110=$O$2),$P$4,IF(AND(B110=Data!A100,C110=$O$3),$P$5,0))))))","v":""}]
[null,null,null,null,"",{"$f":"IFERROR(VLOOKUP(CONCATENATE(B111,\"_\",C111,\"_\",D111),Список!A:B,2,0),\"\")","v":""},{"$f":"IF(OR(D111=\"Excont\",D111=\"\"),\"\",IF(D111=\"URFU\",IF(AND(B111=$N$2,C111=$O$2),$P$2,IF(AND(B111=$N$2,C111=$O$3),$P$3,IF(AND(B111=$N$4,C111=$O$2),$P$4,IF(AND(B111=Data!A101,C111=$O$3),$P$5,0))))))","v":""}]
[null,null,null,null,"",{"$f":"IFERROR(VLOOKUP(CONCATENATE(B112,\"_\",C112,\"_\",D112),Список!A:B,2,0),\"\")","v":""},{"$f":"IF(OR(D112=\"Excont\",D112=\"\"),\"\",IF(D112=\"URFU\",IF(AND(B112=$N$2,C112=$O$2),$P$2,IF(AND(B112=$N$2,C112=$O$3),$P$3,IF(AND(B112=$N$4,C112=$O$2),$P$4,IF(AND(B112=Data!A102,C112=$O$3),$P$5,0))))))","v":""}]
[null,null,null,null,"",{"$f":"IFERROR(VLOOKUP(CONCATENATE(B113,\"_\",C113,\"_\",D113),Список!A:B,2,0),\"\")","v":""},{"$f":"IF(OR(D113=\"Excont\",D113=\"\"),\"\",IF(D113=\"URFU\",IF(AND(B113=$N$2,C113=$O$2),$P$2,IF(AND(B113=$N$2,C113=$O$3),$P$3,IF(AND(B113=$N$4,C113=$O$2),$P$4,IF(AND(B113=Data!A103,C113=$O$3),$P$5,0))))))","v":""}]
[null,null,null,null,"",{"$f":"IFERROR(VLOOKUP(CONCATENATE(B114,\"_\",C114,\"_\",D114),Список!A:B,2,0),\"\")","v":""},{"$f":"IF(OR(D114=\"Excont\",D114=\"\"),\"\",IF(D114=\"URFU\",IF(AND(B114=$N$2,C114=$O$2),$P$2,IF(AND(B114=$N$2,C114=$O$3),$P$3,IF(AND(B114=$N$4,C114=$O$2),$P$4,IF(AND(B114=Data!A104,C114=$O$3),$P$5,0))))))","v":""}]
[null,null,null,null,"",{"$f":"IFERROR(VLOOKUP(CONCATENATE(B115,\"_\",C115,\"_\",D115),Список!A:B,2,0),\"\")","v":""},{"$f":"IF(OR(D115=\"Excont\",D115=\"\"),\"\",IF(D115=\"URFU\",IF(AND(B115=$N$2,C115=$O$2),$P$2,IF(AND(B115=$N$2,C115=$O$3),$P$3,IF(AND(B115=$N$4,C115=$O$2),$P$4,IF(AND(B115=Data!A105,C115=$O$3),$P$5,0))))))","v":""}]
[null,null,null,null,"",{"$f":"IFERROR(VLOOKUP(CONCATENATE(B116,\"_\",C116,\"_\",D116),Список!A:B,2,0),\"\")","v":""},{"$f":"IF(OR(D116=\"Excont\",D116=\"\"),\"\",IF(D116=\"URFU\",IF(AND(B116=$N$2,C116=$O$2),$P$2,IF(AND(B116=$N$2,C116=$O$3),$P$3,IF(AND(B116=$N$4,C116=$O$2),$P$4,IF(AND(B116=Data!A106,C116=$O$3),$P$5,0))))))","v":""}]
[null,null,null,null,"",{"$f":"IFERROR(VLOOKUP(CONCATENATE(B117,\"_\",C117,\"_\",D117),Список!A:B,2,0),\"\")","v":""},{"$f":"IF(OR(D117=\"Excont\",D117=\"\"),\"\",IF(D117=\"URFU\",IF(AND(B117=$N$2,C117=$O$2),$P$2,IF(AND(B117=$N$2,C117=$O$3),$P$3,IF(AND(B117=$N$4,C117=$O$2),$P$4,IF(AND(B117=Data!A107,C117=$O$3),$P$5,0))))))","v":""}]
[null,null,null,null,"",{"$f":"IFERROR(VLOOKUP(CONCATENATE(B118,\"_\",C118,\"_\",D118),Список!A:B,2,0),\"\")","v":""},{"$f":"IF(OR(D118=\"Excont\",D118=\"\"),\"\",IF(D118=\"URFU\",IF(AND(B118=$N$2,C118=$O$2),$P$2,IF(AND(B118=$N$2,C118=$O$3),$P$3,IF(AND(B118=$N$4,C118=$O$2),$P$4,IF(AND(B118=Data!A108,C118=$O$3),$P$5,0))))))","v":""}]
[null,null,null,null,"",{"$f":"IFERROR(VLOOKUP(CONCATENATE(B119,\"_\",C119,\"_\",D119),Список!A:B,2,0),\"\")","v":""},{"$f":"IF(OR(D119=\"Excont\",D119=\"\"),\"\",IF(D119=\"URFU\",IF(AND(B119=$N$2,C119=$O$2),$P$2,IF(AND(B119=$N$2,C119=$O$3),$P$3,IF(AND(B119=$N$4,C119=$O$2),$P$4,IF(AND(B119=Data!A109,C119=$O$3),$P$5,0))))))","v":""}]
[null,null,null,null,"",{"$f":"IFERROR(VLOOKUP(CONCATENATE(B120,\"_\",C120,\"_\",D120),Список!A:B,2,0),\"\")","v":""},{"$f":"IF(OR(D120=\"Excont\",D120=\"\"),\"\",IF(D120=\"URFU\",IF(AND(B120=$N$2,C120=$O$2),$P$2,IF(AND(B120=$N$2,C120=$O$3),$P$3,IF(AND(B120=$N$4,C120=$O$2),$P$4,IF(AND(B120=Data!A110,C120=$O$3),$P$5,0))))))","v":""}]
[null,null,null,null,"",{"$f":"IFERROR(VLOOKUP(CONCATENATE(B121,\"_\",C121,\"_\",D121),Список!A:B,2,0),\"\")","v":""},{"$f":"IF(OR(D121=\"Excont\",D121=\"\"),\"\",IF(D121=\"URFU\",IF(AND(B121=$N$2,C121=$O$2),$P$2,IF(AND(B121=$N$2,C121=$O$3),$P$3,IF(AND(B121=$N$4,C121=$O$2),$P$4,IF(AND(B121=Data!A111,C121=$O$3),$P$5,0))))))","v":""}]
[null,null,null,null,"",{"$f":"IFERROR(VLOOKUP(CONCATENATE(B122,\"_\",C122,\"_\",D122),Список!A:B,2,0),\"\")","v":""},{"$f":"IF(OR(D122=\"Excont\",D122=\"\"),\"\",IF(D122=\"URFU\",IF(AND(B122=$N$2,C122=$O$2),$P$2,IF(AND(B122=$N$2,C122=$O$3),$P$3,IF(AND(B122=$N$4,C122=$O$2),$P$4,IF(AND(B122=Data!A112,C122=$O$3),$P$5,0))))))","v":""}]
[null,null,null,null,"",{"$f":"IFERROR(VLOOKUP(CONCATENATE(B123,\"_\",C123,\"_\",D123),Список!A:B,2,0),\"\")","v":""},{"$f":"IF(OR(D123=\"Excont\",D123=\"\"),\"\",IF(D123=\"URFU\",IF(AND(B123=$N$2,C123=$O$2),$P$2,IF(AND(B123=$N$2,C123=$O$3),$P$3,IF(AND(B123=$N$4,C123=$O$2),$P$4,IF(AND(B123=Data!A113,C123=$O$3),$P$5,0))))))","v":""}]
[null,null,null,null,"",{"$f":"IFERROR(VLOOKUP(CONCATENATE(B124,\"_\",C124,\"_\",D124),Список!A:B,2,0),\"\")","v":""},{"$f":"IF(OR(D124=\"Excont\",D124=\"\"),\"\",IF(D124=\"URFU\",IF(AND(B124=$N$2,C124=$O$2),$P$2,IF(AND(B124=$N$2,C124=$O$3),$P$3,IF(AND(B124=$N$4,C124=$O$2),$P$4,IF(AND(B124=Data!A114,C124=$O$3),$P$5,0))))))","v":""}]
[null,null,null,null,"",{"$f":"IFERROR(VLOOKUP(CONCATENATE(B125,\"_\",C125,\"_\",D125),Список!A:B,2,0),\"\")","v":""},{"$f":"IF(OR(D125=\"Excont\",D125=\"\"),\"\",IF(D125=\"URFU\",IF(AND(B125=$N$2,C125=$O$2),$P$2,IF(AND(B125=$N$2,C125=$O$3),$P$3,IF(AND(B125=$N$4,C125=$O$2),$P$4,IF(AND(B125=Data!A115,C125=$O$3),$P$5,0))))))","v":""}]
[null,null,null,null,"",{"$f":"IFERROR(VLOOKUP(CONCATENATE(B126,\"_\",C126,\"_\",D126),Список!A:B,2,0),\"\")","v":""},{"$f":"IF(OR(D126=\"Excont\",D126=\"\"),\"\",IF(D126=\"URFU\",IF(AND(B126=$N$2,C126=$O$2),$P$2,IF(AND(B126=$N$2,C126=$O$3),$P$3,IF(AND(B126=$N$4,C126=$O$2),$P$4,IF(AND(B126=Data!A116,C126=$O$3),$P$5,0))))))","v":""}]
[null,null,null,null,"",{"$f":"IFERROR(VLOOKUP(CONCATENATE(B127,\"_\",C127,\"_\",D127),Список!A:B,2,0),\"\")","v":""},{"$f":"IF(OR(D127=\"Excont\",D127=\"\"),\"\",IF(D127=\"URFU\",IF(AND(B127=$N$2,C127=$O$2),$P$2,IF(AND(B127=$N$2,C127=$O$3),$P$3,IF(AND(B127=$N$4,C127=$O$2),$P$4,IF(AND(B127=Data!A117,C127=$O$3),$P$5,0))))))","v":""}]
[null,null,null,null,"",{"$f":"IFERROR(VLOOKUP(CONCATENATE(B128,\"_\",C128,\"_\",D128),Список!A:B,2,0),\"\")","v":""},{"$f":"IF(OR(D128=\"Excont\",D128=\"\"),\"\",IF(D128=\"URFU\",IF(AND(B128=$N$2,C128=$O$2),$P$2,IF(AND(B128=$N$2,C128=$O$3),$P$3,IF(AND(B128=$N$4,C128=$O$2),$P$4,IF(AND(B128=Data!A118,C128=$O$3),$P$5,0))))))","v":""}]
[null,null,null,null,"",{"$f":"IFERROR(VLOOKUP(CONCATENATE(B129,\"_\",C129,\"_\",D129),Список!A:B,2,0),\"\")","v":""},{"$f":"IF(OR(D129=\"Excont\",D129=\"\"),\"\",IF(D129=\"URFU\",IF(AND(B129=$N$2,C129=$O$2),$P$2,IF(AND(B129=$N$2,C129=$O$3),$P$3,IF(AND(B129=$N$4,C129=$O$2),$P$4,IF(AND(B129=Data!A119,C129=$O$3),$P$5,0))))))","v":""}]
[null,null,null,null,"",{"$f":"IFERROR(VLOOKUP(CONCATENATE(B130,\"_\",C130,\"_\",D130),Список!A:B,2,0),\"\")","v":""},{"$f":"IF(OR(D130=\"Excont\",D130=\"\"),\"\",IF(D130=\"URFU\",IF(AND(B130=$N$2,C130=$O$2),$P$2,IF(AND(B130=$N$2,C130=$O$3),$P$3,IF(AND(B130=$N$4,C130=$O$2),$P$4,IF(AND(B130=Data!A120,C130=$O$3),$P$5,0))))))","v":""}]
[null,null,null,null,"",{"$f":"IFERROR(VLOOKUP(CONCATENATE(B131,\"_\",C131,\"_\",D131),Список!A:B,2,0),\"\")","v":""},{"$f":"IF(OR(D131=\"Excont\",D131=\"\"),\"\",IF(D131=\"URFU\",IF(AND(B131=$N$2,C131=$O$2),$P$2,IF(AND(B131=$N$2,C131=$O$3),$P$3,IF(AND(B131=$N$4,C131=$O$2),$P$4,IF(AND(B131=Data!A121,C131=$O$3),$P$5,0))))))","v":""}]
[null,null,null,null,"",{"$f":"IFERROR(VLOOKUP(CONCATENATE(B132,\"_\",C132,\"_\",D132),Список!A:B,2,0),\"\")","v":""},{"$f":"IF(OR(D132=\"Excont\",D132=\"\"),\"\",IF(D132=\"URFU\",IF(AND(B132=$N$2,C132=$O$2),$P$2,IF(AND(B132=$N$2,C132=$O$3),$P$3,IF(AND(B132=$N$4,C132=$O$2),$P$4,IF(AND(B132=Data!A122,C132=$O$3),$P$5,0))))))","v":""}]
[null,null,null,null,"",{"$f":"IFERROR(VLOOKUP(CONCATENATE(B133,\"_\",C133,\"_\",D133),Список!A:B,2,0),\"\")","v":""},{"$f":"IF(OR(D133=\"Excont\",D133=\"\"),\"\",IF(D133=\"URFU\",IF(AND(B133=$N$2,C133=$O$2),$P$2,IF(AND(B133=$N$2,C133=$O$3),$P$3,IF(AND(B133=$N$4,C133=$O$2),$P$4,IF(AND(B133=Data!A123,C133=$O$3),$P$5,0))))))","v":""}]
[null,null,null,null,"",{"$f":"IFERROR(VLOOKUP(CONCATENATE(B134,\"_\",C134,\"_\",D134),Список!A:B,2,0),\"\")","v":""},{"$f":"IF(OR(D134=\"Excont\",D134=\"\"),\"\",IF(D134=\"URFU\",IF(AND(B134=$N$2,C134=$O$2),$P$2,IF(AND(B134=$N$2,C134=$O$3),$P$3,IF(AND(B134=$N$4,C134=$O$2),$P$4,IF(AND(B134=Data!A124,C134=$O$3),$P$5,0))))))","v":""}]
[null,null,null,null,"",{"$f":"IFERROR(VLOOKUP(CONCATENATE(B135,\"_\",C135,\"_\",D135),Список!A:B,2,0),\"\")","v":""},{"$f":"IF(OR(D135=\"Excont\",D135=\"\"),\"\",IF(D135=\"URFU\",IF(AND(B135=$N$2,C135=$O$2),$P$2,IF(AND(B135=$N$2,C135=$O$3),$P$3,IF(AND(B135=$N$4,C135=$O$2),$P$4,IF(AND(B135=Data!A125,C135=$O$3),$P$5,0))))))","v":""}]
[null,null,null,null,"",{"$f":"IFERROR(VLOOKUP(CONCATENATE(B136,\"_\",C136,\"_\",D136),Список!A:B,2,0),\"\")","v":""},{"$f":"IF(OR(D136=\"Excont\",D136=\"\"),\"\",IF(D136=\"URFU\",IF(AND(B136=$N$2,C136=$O$2),$P$2,IF(AND(B136=$N$2,C136=$O$3),$P$3,IF(AND(B136=$N$4,C136=$O$2),$P$4,IF(AND(B136=Data!A126,C136=$O$3),$P$5,0))))))","v":""}]
[null,null,null,null,"",{"$f":"IFERROR(VLOOKUP(CONCATENATE(B137,\"_\",C137,\"_\",D137),Список!A:B,2,0),\"\")","v":""},{"$f":"IF(OR(D137=\"Excont\",D137=\"\"),\"\",IF(D137=\"URFU\",IF(AND(B137=$N$2,C137=$O$2),$P$2,IF(AND(B137=$N$2,C137=$O$3),$P$3,IF(AND(B137=$N$4,C137=$O$2),$P$4,IF(AND(B137=Data!A127,C137=$O$3),$P$5,0))))))","v":""}]
[null,null,null,null,"",{"$f":"IFERROR(VLOOKUP(CONCATENATE(B138,\"_\",C138,\"_\",D138),Список!A:B,2,0),\"\")","v":""},{"$f":"IF(OR(D138=\"Excont\",D138=\"\"),\"\",IF(D138=\"URFU\",IF(AND(B138=$N$2,C138=$O$2),$P$2,IF(AND(B138=$N$2,C138=$O$3),$P$3,IF(AND(B138=$N$4,C138=$O$2),$P$4,IF(AND(B138=Data!A128,C138=$O$3),$P$5,0))))))","v":""}]
[null,null,null,null,null,null,{"$f":"IF(OR(D139=\"Excont\",D139=\"\"),\"\",IF(D139=\"URFU\",IF(AND(B139=$N$2,C139=$O$2),$P$2,IF(AND(B139=$N$2,C139=$O$3),$P$3,IF(AND(B139=$N$4,C139=$O$2),$P$4,IF(AND(B139=Data!A129,C139=$O$3),$P$5,0))))))","v":""}]
[null,null,null,null,null,null,{"$f":"IF(OR(D140=\"Excont\",D140=\"\"),\"\",IF(D140=\"URFU\",IF(AND(B140=$N$2,C140=$O$2),$P$2,IF(AND(B140=$N$2,C140=$O$3),$P$3,IF(AND(B140=$N$4,C140=$O$2),$P$4,IF(AND(B140=Data!A130,C140=$O$3),$P$5,0))))))","v":""}]
[null,null,null,null,null,null,{"$f":"IF(OR(D141=\"Excont\",D141=\"\"),\"\",IF(D141=\"URFU\",IF(AND(B141=$N$2,C141=$O$2),$P$2,IF(AND(B141=$N$2,C141=$O$3),$P$3,IF(AND(B141=$N$4,C141=$O$2),$P$4,IF(AND(B141=Data!A131,C141=$O$3),$P$5,0))))))","v":""}]
[null,null,null,null,null,null,{"$f":"IF(OR(D142=\"Excont\",D142=\"\"),\"\",IF(D142=\"URFU\",IF(AND(B142=$N$2,C142=$O$2),$P$2,IF(AND(B142=$N$2,C142=$O$3),$P$3,IF(AND(B142=$N$4,C142=$O$2),$P$4,IF(AND(B142=Data!A132,C142=$O$3),$P$5,0))))))","v":""}]
[null,null,null,null,null,null,{"$f":"IF(OR(D143=\"Excont\",D143=\"\"),\"\",IF(D143=\"URFU\",IF(AND(B143=$N$2,C143=$O$2),$P$2,IF(AND(B143=$N$2,C143=$O$3),$P$3,IF(AND(B143=$N$4,C143=$O$2),$P$4,IF(AND(B143=Data!A133,C143=$O$3),$P$5,0))))))","v":""}]
[null,null,null,null,null,null,{"$f":"IF(OR(D144=\"Excont\",D144=\"\"),\"\",IF(D144=\"URFU\",IF(AND(B144=$N$2,C144=$O$2),$P$2,IF(AND(B144=$N$2,C144=$O$3),$P$3,IF(AND(B144=$N$4,C144=$O$2),$P$4,IF(AND(B144=Data!A134,C144=$O$3),$P$5,0))))))","v":""}]
[null,null,null,null,null,null,{"$f":"IF(OR(D145=\"Excont\",D145=\"\"),\"\",IF(D145=\"URFU\",IF(AND(B145=$N$2,C145=$O$2),$P$2,IF(AND(B145=$N$2,C145=$O$3),$P$3,IF(AND(B145=$N$4,C145=$O$2),$P$4,IF(AND(B145=Data!A135,C145=$O$3),$P$5,0))))))","v":""}]
[null,null,null,null,null,null,{"$f":"IF(OR(D146=\"Excont\",D146=\"\"),\"\",IF(D146=\"URFU\",IF(AND(B146=$N$2,C146=$O$2),$P$2,IF(AND(B146=$N$2,C146=$O$3),$P$3,IF(AND(B146=$N$4,C146=$O$2),$P$4,IF(AND(B146=Data!A136,C146=$O$3),$P$5,0))))))","v":""}]
[null,null,null,null,null,null,{"$f":"IF(OR(D147=\"Excont\",D147=\"\"),\"\",IF(D147=\"URFU\",IF(AND(B147=$N$2,C147=$O$2),$P$2,IF(AND(B147=$N$2,C147=$O$3),$P$3,IF(AND(B147=$N$4,C147=$O$2),$P$4,IF(AND(B147=Data!A137,C147=$O$3),$P$5,0))))))","v":""}]
[null,null,null,null,null,null,{"$f":"IF(OR(D148=\"Excont\",D148=\"\"),\"\",IF(D148=\"URFU\",IF(AND(B148=$N$2,C148=$O$2),$P$2,IF(AND(B148=$N$2,C148=$O$3),$P$3,IF(AND(B148=$N$4,C148=$O$2),$P$4,IF(AND(B148=Data!A138,C148=$O$3),$P$5,0))))))","v":""}]
[null,null,null,null,null,null,{"$f":"IF(OR(D149=\"Excont\",D149=\"\"),\"\",IF(D149=\"URFU\",IF(AND(B149=$N$2,C149=$O$2),$P$2,IF(AND(B149=$N$2,C149=$O$3),$P$3,IF(AND(B149=$N$4,C149=$O$2),$P$4,IF(AND(B149=Data!A139,C149=$O$3),$P$5,0))))))","v":""}]
[null,null,null,null,null,null,{"$f":"IF(OR(D150=\"Excont\",D150=\"\"),\"\",IF(D150=\"URFU\",IF(AND(B150=$N$2,C150=$O$2),$P$2,IF(AND(B150=$N$2,C150=$O$3),$P$3,IF(AND(B150=$N$4,C150=$O$2),$P$4,IF(AND(B150=Data!A140,C150=$O$3),$P$5,0))))))","v":""}]
[null,null,null,null,null,null,{"$f":"IF(OR(D151=\"Excont\",D151=\"\"),\"\",IF(D151=\"URFU\",IF(AND(B151=$N$2,C151=$O$2),$P$2,IF(AND(B151=$N$2,C151=$O$3),$P$3,IF(AND(B151=$N$4,C151=$O$2),$P$4,IF(AND(B151=Data!A141,C151=$O$3),$P$5,0))))))","v":""}]
[null,null,null,null,null,null,{"$f":"IF(OR(D152=\"Excont\",D152=\"\"),\"\",IF(D152=\"URFU\",IF(AND(B152=$N$2,C152=$O$2),$P$2,IF(AND(B152=$N$2,C152=$O$3),$P$3,IF(AND(B152=$N$4,C152=$O$2),$P$4,IF(AND(B152=Data!A142,C152=$O$3),$P$5,0))))))","v":""}]
[null,null,null,null,null,null,{"$f":"IF(OR(D153=\"Excont\",D153=\"\"),\"\",IF(D153=\"URFU\",IF(AND(B153=$N$2,C153=$O$2),$P$2,IF(AND(B153=$N$2,C153=$O$3),$P$3,IF(AND(B153=$N$4,C153=$O$2),$P$4,IF(AND(B153=Data!A143,C153=$O$3),$P$5,0))))))","v":""}]
[null,null,null,null,null,null,{"$f":"IF(OR(D154=\"Excont\",D154=\"\"),\"\",IF(D154=\"URFU\",IF(AND(B154=$N$2,C154=$O$2),$P$2,IF(AND(B154=$N$2,C154=$O$3),$P$3,IF(AND(B154=$N$4,C154=$O$2),$P$4,IF(AND(B154=Data!A144,C154=$O$3),$P$5,0))))))","v":""}]
[null,null,null,null,null,null,{"$f":"IF(OR(D155=\"Excont\",D155=\"\"),\"\",IF(D155=\"URFU\",IF(AND(B155=$N$2,C155=$O$2),$P$2,IF(AND(B155=$N$2,C155=$O$3),$P$3,IF(AND(B155=$N$4,C155=$O$2),$P$4,IF(AND(B155=Data!A145,C155=$O$3),$P$5,0))))))","v":""}]
[null,null,null,null,null,null,{"$f":"IF(OR(D156=\"Excont\",D156=\"\"),\"\",IF(D156=\"URFU\",IF(AND(B156=$N$2,C156=$O$2),$P$2,IF(AND(B156=$N$2,C156=$O$3),$P$3,IF(AND(B156=$N$4,C156=$O$2),$P$4,IF(AND(B156=Data!A146,C156=$O$3),$P$5,0))))))","v":""}]
[null,null,null,null,null,null,{"$f":"IF(OR(D157=\"Excont\",D157=\"\"),\"\",IF(D157=\"URFU\",IF(AND(B157=$N$2,C157=$O$2),$P$2,IF(AND(B157=$N$2,C157=$O$3),$P$3,IF(AND(B157=$N$4,C157=$O$2),$P$4,IF(AND(B157=Data!A147,C157=$O$3),$P$5,0))))))","v":""}]
[null,null,null,null,null,null,{"$f":"IF(OR(D158=\"Excont\",D158=\"\"),\"\",IF(D158=\"URFU\",IF(AND(B158=$N$2,C158=$O$2),$P$2,IF(AND(B158=$N$2,C158=$O$3),$P$3,IF(AND(B158=$N$4,C158=$O$2),$P$4,IF(AND(B158=Data!A148,C158=$O$3),$P$5,0))))))","v":""}]
[null,null,null,null,null,null,{"$f":"IF(OR(D159=\"Excont\",D159=\"\"),\"\",IF(D159=\"URFU\",IF(AND(B159=$N$2,C159=$O$2),$P$2,IF(AND(B159=$N$2,C159=$O$3),$P$3,IF(AND(B159=$N$4,C159=$O$2),$P$4,IF(AND(B159=Data!A149,C159=$O$3),$P$5,0))))))","v":""}]
[null,null,null,null,null,null,{"$f":"IF(OR(D160=\"Excont\",D160=\"\"),\"\",IF(D160=\"URFU\",IF(AND(B160=$N$2,C160=$O$2),$P$2,IF(AND(B160=$N$2,C160=$O$3),$P$3,IF(AND(B160=$N$4,C160=$O$2),$P$4,IF(AND(B160=Data!A150,C160=$O$3),$P$5,0))))))","v":""}]
[null,null,null,null,null,null,{"$f":"IF(OR(D161=\"Excont\",D161=\"\"),\"\",IF(D161=\"URFU\",IF(AND(B161=$N$2,C161=$O$2),$P$2,IF(AND(B161=$N$2,C161=$O$3),$P$3,IF(AND(B161=$N$4,C161=$O$2),$P$4,IF(AND(B161=Data!A151,C161=$O$3),$P$5,0))))))","v":""}]
[null,null,null,null,null,null,{"$f":"IF(OR(D162=\"Excont\",D162=\"\"),\"\",IF(D162=\"URFU\",IF(AND(B162=$N$2,C162=$O$2),$P$2,IF(AND(B162=$N$2,C162=$O$3),$P$3,IF(AND(B162=$N$4,C162=$O$2),$P$4,IF(AND(B162=Data!A152,C162=$O$3),$P$5,0))))))","v":""}]
[null,null,null,null,null,null,{"$f":"IF(OR(D163=\"Excont\",D163=\"\"),\"\",IF(D163=\"URFU\",IF(AND(B163=$N$2,C163=$O$2),$P$2,IF(AND(B163=$N$2,C163=$O$3),$P$3,IF(AND(B163=$N$4,C163=$O$2),$P$4,IF(AND(B163=Data!A153,C163=$O$3),$P$5,0))))))","v":""}]
[null,null,null,null,null,null,{"$f":"IF(OR(D164=\"Excont\",D164=\"\"),\"\",IF(D164=\"URFU\",IF(AND(B164=$N$2,C164=$O$2),$P$2,IF(AND(B164=$N$2,C164=$O$3),$P$3,IF(AND(B164=$N$4,C164=$O$2),$P$4,IF(AND(B164=Data!A154,C164=$O$3),$P$5,0))))))","v":""}]
[null,null,null,null,null,null,{"$f":"IF(OR(D165=\"Excont\",D165=\"\"),\"\",IF(D165=\"URFU\",IF(AND(B165=$N$2,C165=$O$2),$P$2,IF(AND(B165=$N$2,C165=$O$3),$P$3,IF(AND(B165=$N$4,C165=$O$2),$P$4,IF(AND(B165=Data!A155,C165=$O$3),$P$5,0))))))","v":""}]
[null,null,null,null,null,null,{"$f":"IF(OR(D166=\"Excont\",D166=\"\"),\"\",IF(D166=\"URFU\",IF(AND(B166=$N$2,C166=$O$2),$P$2,IF(AND(B166=$N$2,C166=$O$3),$P$3,IF(AND(B166=$N$4,C166=$O$2),$P$4,IF(AND(B166=Data!A156,C166=$O$3),$P$5,0))))))","v":""}]
[null,null,null,null,null,null,{"$f":"IF(OR(D167=\"Excont\",D167=\"\"),\"\",IF(D167=\"URFU\",IF(AND(B167=$N$2,C167=$O$2),$P$2,IF(AND(B167=$N$2,C167=$O$3),$P$3,IF(AND(B167=$N$4,C167=$O$2),$P$4,IF(AND(B167=Data!A157,C167=$O$3),$P$5,0))))))","v":""}]
[null,null,null,null,null,null,{"$f":"IF(OR(D168=\"Excont\",D168=\"\"),\"\",IF(D168=\"URFU\",IF(AND(B168=$N$2,C168=$O$2),$P$2,IF(AND(B168=$N$2,C168=$O$3),$P$3,IF(AND(B168=$N$4,C168=$O$2),$P$4,IF(AND(B168=Data!A158,C168=$O$3),$P$5,0))))))","v":""}]
[null,null,null,null,null,null,{"$f":"IF(OR(D169=\"Excont\",D169=\"\"),\"\",IF(D169=\"URFU\",IF(AND(B169=$N$2,C169=$O$2),$P$2,IF(AND(B169=$N$2,C169=$O$3),$P$3,IF(AND(B169=$N$4,C169=$O$2),$P$4,IF(AND(B169=Data!A159,C169=$O$3),$P$5,0))))))","v":""}]
[null,null,null,null,null,null,{"$f":"IF(OR(D170=\"Excont\",D170=\"\"),\"\",IF(D170=\"URFU\",IF(AND(B170=$N$2,C170=$O$2),$P$2,IF(AND(B170=$N$2,C170=$O$3),$P$3,IF(AND(B170=$N$4,C170=$O$2),$P$4,IF(AND(B170=Data!A160,C170=$O$3),$P$5,0))))))","v":""}]
[null,null,null,null,null,null,{"$f":"IF(OR(D171=\"Excont\",D171=\"\"),\"\",IF(D171=\"URFU\",IF(AND(B171=$N$2,C171=$O$2),$P$2,IF(AND(B171=$N$2,C171=$O$3),$P$3,IF(AND(B171=$N$4,C171=$O$2),$P$4,IF(AND(B171=Data!A161,C171=$O$3),$P$5,0))))))","v":""}]
[null,null,null,null,null,null,{"$f":"IF(OR(D172=\"Excont\",D172=\"\"),\"\",IF(D172=\"URFU\",IF(AND(B172=$N$2,C172=$O$2),$P$2,IF(AND(B172=$N$2,C172=$O$3),$P$3,IF(AND(B172=$N$4,C172=$O$2),$P$4,IF(AND(B172=Data!A162,C172=$O$3),$P$5,0))))))","v":""}]
[null,null,null,null,null,null,{"$f":"IF(OR(D173=\"Excont\",D173=\"\"),\"\",IF(D173=\"URFU\",IF(AND(B173=$N$2,C173=$O$2),$P$2,IF(AND(B173=$N$2,C173=$O$3),$P$3,IF(AND(B173=$N$4,C173=$O$2),$P$4,IF(AND(B173=Data!A163,C173=$O$3),$P$5,0))))))","v":""}]
[null,null,null,null,null,null,{"$f":"IF(OR(D174=\"Excont\",D174=\"\"),\"\",IF(D174=\"URFU\",IF(AND(B174=$N$2,C174=$O$2),$P$2,IF(AND(B174=$N$2,C174=$O$3),$P$3,IF(AND(B174=$N$4,C174=$O$2),$P$4,IF(AND(B174=Data!A164,C174=$O$3),$P$5,0))))))","v":""}]
[null,null,null,null,null,null,{"$f":"IF(OR(D175=\"Excont\",D175=\"\"),\"\",IF(D175=\"URFU\",IF(AND(B175=$N$2,C175=$O$2),$P$2,IF(AND(B175=$N$2,C175=$O$3),$P$3,IF(AND(B175=$N$4,C175=$O$2),$P$4,IF(AND(B175=Data!A165,C175=$O$3),$P$5,0))))))","v":""}]
[null,null,null,null,null,null,{"$f":"IF(OR(D176=\"Excont\",D176=\"\"),\"\",IF(D176=\"URFU\",IF(AND(B176=$N$2,C176=$O$2),$P$2,IF(AND(B176=$N$2,C176=$O$3),$P$3,IF(AND(B176=$N$4,C176=$O$2),$P$4,IF(AND(B176=Data!A166,C176=$O$3),$P$5,0))))))","v":""}]
[null,null,null,null,null,null,{"$f":"IF(OR(D177=\"Excont\",D177=\"\"),\"\",IF(D177=\"URFU\",IF(AND(B177=$N$2,C177=$O$2),$P$2,IF(AND(B177=$N$2,C177=$O$3),$P$3,IF(AND(B177=$N$4,C177=$O$2),$P$4,IF(AND(B177=Data!A167,C177=$O$3),$P$5,0))))))","v":""}]
[null,null,null,null,null,null,{"$f":"IF(OR(D178=\"Excont\",D178=\"\"),\"\",IF(D178=\"URFU\",IF(AND(B178=$N$2,C178=$O$2),$P$2,IF(AND(B178=$N$2,C178=$O$3),$P$3,IF(AND(B178=$N$4,C178=$O$2),$P$4,IF(AND(B178=Data!A168,C178=$O$3),$P$5,0))))))","v":""}]
[null,null,null,null,null,null,{"$f":"IF(OR(D179=\"Excont\",D179=\"\"),\"\",IF(D179=\"URFU\",IF(AND(B179=$N$2,C179=$O$2),$P$2,IF(AND(B179=$N$2,C179=$O$3),$P$3,IF(AND(B179=$N$4,C179=$O$2),$P$4,IF(AND(B179=Data!A169,C179=$O$3),$P$5,0))))))","v":""}]
[null,null,null,null,null,null,{"$f":"IF(OR(D180=\"Excont\",D180=\"\"),\"\",IF(D180=\"URFU\",IF(AND(B180=$N$2,C180=$O$2),$P$2,IF(AND(B180=$N$2,C180=$O$3),$P$3,IF(AND(B180=$N$4,C180=$O$2),$P$4,IF(AND(B180=Data!A170,C180=$O$3),$P$5,0))))))","v":""}]
[null,null,null,null,null,null,{"$f":"IF(OR(D181=\"Excont\",D181=\"\"),\"\",IF(D181=\"URFU\",IF(AND(B181=$N$2,C181=$O$2),$P$2,IF(AND(B181=$N$2,C181=$O$3),$P$3,IF(AND(B181=$N$4,C181=$O$2),$P$4,IF(AND(B181=Data!A171,C181=$O$3),$P$5,0))))))","v":""}]
[null,null,null,null,null,null,{"$f":"IF(OR(D182=\"Excont\",D182=\"\"),\"\",IF(D182=\"URFU\",IF(AND(B182=$N$2,C182=$O$2),$P$2,IF(AND(B182=$N$2,C182=$O$3),$P$3,IF(AND(B182=$N$4,C182=$O$2),$P$4,IF(AND(B182=Data!A172,C182=$O$3),$P$5,0))))))","v":""}]
[null,null,null,null,null,null,{"$f":"IF(OR(D183=\"Excont\",D183=\"\"),\"\",IF(D183=\"URFU\",IF(AND(B183=$N$2,C183=$O$2),$P$2,IF(AND(B183=$N$2,C183=$O$3),$P$3,IF(AND(B183=$N$4,C183=$O$2),$P$4,IF(AND(B183=Data!A173,C183=$O$3),$P$5,0))))))","v":""}]
[null,null,null,null,null,null,{"$f":"IF(OR(D184=\"Excont\",D184=\"\"),\"\",IF(D184=\"URFU\",IF(AND(B184=$N$2,C184=$O$2),$P$2,IF(AND(B184=$N$2,C184=$O$3),$P$3,IF(AND(B184=$N$4,C184=$O$2),$P$4,IF(AND(B184=Data!A174,C184=$O$3),$P$5,0))))))","v":""}]
[null,null,null,null,null,null,{"$f":"IF(OR(D185=\"Excont\",D185=\"\"),\"\",IF(D185=\"URFU\",IF(AND(B185=$N$2,C185=$O$2),$P$2,IF(AND(B185=$N$2,C185=$O$3),$P$3,IF(AND(B185=$N$4,C185=$O$2),$P$4,IF(AND(B185=Data!A175,C185=$O$3),$P$5,0))))))","v":""}]
[null,null,null,null,null,null,{"$f":"IF(OR(D186=\"Excont\",D186=\"\"),\"\",IF(D186=\"URFU\",IF(AND(B186=$N$2,C186=$O$2),$P$2,IF(AND(B186=$N$2,C186=$O$3),$P$3,IF(AND(B186=$N$4,C186=$O$2),$P$4,IF(AND(B186=Data!A176,C186=$O$3),$P$5,0))))))","v":""}]
[null,null,null,null,null,null,{"$f":"IF(OR(D187=\"Excont\",D187=\"\"),\"\",IF(D187=\"URFU\",IF(AND(B187=$N$2,C187=$O$2),$P$2,IF(AND(B187=$N$2,C187=$O$3),$P$3,IF(AND(B187=$N$4,C187=$O$2),$P$4,IF(AND(B187=Data!A177,C187=$O$3),$P$5,0))))))","v":""}]
[null,null,null,null,null,null,{"$f":"IF(OR(D188=\"Excont\",D188=\"\"),\"\",IF(D188=\"URFU\",IF(AND(B188=$N$2,C188=$O$2),$P$2,IF(AND(B188=$N$2,C188=$O$3),$P$3,IF(AND(B188=$N$4,C188=$O$2),$P$4,IF(AND(B188=Data!A178,C188=$O$3),$P$5,0))))))","v":""}]
[null,null,null,null,null,null,{"$f":"IF(OR(D189=\"Excont\",D189=\"\"),\"\",IF(D189=\"URFU\",IF(AND(B189=$N$2,C189=$O$2),$P$2,IF(AND(B189=$N$2,C189=$O$3),$P$3,IF(AND(B189=$N$4,C189=$O$2),$P$4,IF(AND(B189=Data!A179,C189=$O$3),$P$5,0))))))","v":""}]
[null,null,null,null,null,null,{"$f":"IF(OR(D190=\"Excont\",D190=\"\"),\"\",IF(D190=\"URFU\",IF(AND(B190=$N$2,C190=$O$2),$P$2,IF(AND(B190=$N$2,C190=$O$3),$P$3,IF(AND(B190=$N$4,C190=$O$2),$P$4,IF(AND(B190=Data!A180,C190=$O$3),$P$5,0))))))","v":""}]
[null,null,null,null,null,null,{"$f":"IF(OR(D191=\"Excont\",D191=\"\"),\"\",IF(D191=\"URFU\",IF(AND(B191=$N$2,C191=$O$2),$P$2,IF(AND(B191=$N$2,C191=$O$3),$P$3,IF(AND(B191=$N$4,C191=$O$2),$P$4,IF(AND(B191=Data!A181,C191=$O$3),$P$5,0))))))","v":""}]
[null,null,null,null,null,null,{"$f":"IF(OR(D192=\"Excont\",D192=\"\"),\"\",IF(D192=\"URFU\",IF(AND(B192=$N$2,C192=$O$2),$P$2,IF(AND(B192=$N$2,C192=$O$3),$P$3,IF(AND(B192=$N$4,C192=$O$2),$P$4,IF(AND(B192=Data!A182,C192=$O$3),$P$5,0))))))","v":""}]
[null,null,null,null,null,null,{"$f":"IF(OR(D193=\"Excont\",D193=\"\"),\"\",IF(D193=\"URFU\",IF(AND(B193=$N$2,C193=$O$2),$P$2,IF(AND(B193=$N$2,C193=$O$3),$P$3,IF(AND(B193=$N$4,C193=$O$2),$P$4,IF(AND(B193=Data!A183,C193=$O$3),$P$5,0))))))","v":""}]
[null,null,null,null,null,null,{"$f":"IF(OR(D194=\"Excont\",D194=\"\"),\"\",IF(D194=\"URFU\",IF(AND(B194=$N$2,C194=$O$2),$P$2,IF(AND(B194=$N$2,C194=$O$3),$P$3,IF(AND(B194=$N$4,C194=$O$2),$P$4,IF(AND(B194=Data!A184,C194=$O$3),$P$5,0))))))","v":""}]
[null,null,null,null,null,null,{"$f":"IF(OR(D195=\"Excont\",D195=\"\"),\"\",IF(D195=\"URFU\",IF(AND(B195=$N$2,C195=$O$2),$P$2,IF(AND(B195=$N$2,C195=$O$3),$P$3,IF(AND(B195=$N$4,C195=$O$2),$P$4,IF(AND(B195=Data!A185,C195=$O$3),$P$5,0))))))","v":""}]
[null,null,null,null,null,null,{"$f":"IF(OR(D196=\"Excont\",D196=\"\"),\"\",IF(D196=\"URFU\",IF(AND(B196=$N$2,C196=$O$2),$P$2,IF(AND(B196=$N$2,C196=$O$3),$P$3,IF(AND(B196=$N$4,C196=$O$2),$P$4,IF(AND(B196=Data!A186,C196=$O$3),$P$5,0))))))","v":""}]
[null,null,null,null,null,null,{"$f":"IF(OR(D197=\"Excont\",D197=\"\"),\"\",IF(D197=\"URFU\",IF(AND(B197=$N$2,C197=$O$2),$P$2,IF(AND(B197=$N$2,C197=$O$3),$P$3,IF(AND(B197=$N$4,C197=$O$2),$P$4,IF(AND(B197=Data!A187,C197=$O$3),$P$5,0))))))","v":""}]
[null,null,null,null,null,null,{"$f":"IF(OR(D198=\"Excont\",D198=\"\"),\"\",IF(D198=\"URFU\",IF(AND(B198=$N$2,C198=$O$2),$P$2,IF(AND(B198=$N$2,C198=$O$3),$P$3,IF(AND(B198=$N$4,C198=$O$2),$P$4,IF(AND(B198=Data!A188,C198=$O$3),$P$5,0))))))","v":""}]
[null,null,null,null,null,null,{"$f":"IF(OR(D199=\"Excont\",D199=\"\"),\"\",IF(D199=\"URFU\",IF(AND(B199=$N$2,C199=$O$2),$P$2,IF(AND(B199=$N$2,C199=$O$3),$P$3,IF(AND(B199=$N$4,C199=$O$2),$P$4,IF(AND(B199=Data!A189,C199=$O$3),$P$5,0))))))","v":""}]
[null,null,null,null,null,null,{"$f":"IF(OR(D200=\"Excont\",D200=\"\"),\"\",IF(D200=\"URFU\",IF(AND(B200=$N$2,C200=$O$2),$P$2,IF(AND(B200=$N$2,C200=$O$3),$P$3,IF(AND(B200=$N$4,C200=$O$2),$P$4,IF(AND(B200=Data!A190,C200=$O$3),$P$5,0))))))","v":""}]
[null,null,null,null,null,null,{"$f":"IF(OR(D201=\"Excont\",D201=\"\"),\"\",IF(D201=\"URFU\",IF(AND(B201=$N$2,C201=$O$2),$P$2,IF(AND(B201=$N$2,C201=$O$3),$P$3,IF(AND(B201=$N$4,C201=$O$2),$P$4,IF(AND(B201=Data!A191,C201=$O$3),$P$5,0))))))","v":""}]
[null,null,null,null,null,null,{"$f":"IF(OR(D202=\"Excont\",D202=\"\"),\"\",IF(D202=\"URFU\",IF(AND(B202=$N$2,C202=$O$2),$P$2,IF(AND(B202=$N$2,C202=$O$3),$P$3,IF(AND(B202=$N$4,C202=$O$2),$P$4,IF(AND(B202=Data!A192,C202=$O$3),$P$5,0))))))","v":""}]
[null,null,null,null,null,null,{"$f":"IF(OR(D203=\"Excont\",D203=\"\"),\"\",IF(D203=\"URFU\",IF(AND(B203=$N$2,C203=$O$2),$P$2,IF(AND(B203=$N$2,C203=$O$3),$P$3,IF(AND(B203=$N$4,C203=$O$2),$P$4,IF(AND(B203=Data!A193,C203=$O$3),$P$5,0))))))","v":""}]
[null,null,null,null,null,null,{"$f":"IF(OR(D204=\"Excont\",D204=\"\"),\"\",IF(D204=\"URFU\",IF(AND(B204=$N$2,C204=$O$2),$P$2,IF(AND(B204=$N$2,C204=$O$3),$P$3,IF(AND(B204=$N$4,C204=$O$2),$P$4,IF(AND(B204=Data!A194,C204=$O$3),$P$5,0))))))","v":""}]
[null,null,null,null,null,null,{"$f":"IF(OR(D205=\"Excont\",D205=\"\"),\"\",IF(D205=\"URFU\",IF(AND(B205=$N$2,C205=$O$2),$P$2,IF(AND(B205=$N$2,C205=$O$3),$P$3,IF(AND(B205=$N$4,C205=$O$2),$P$4,IF(AND(B205=Data!A195,C205=$O$3),$P$5,0))))))","v":""}]
[null,null,null,null,null,null,{"$f":"IF(OR(D206=\"Excont\",D206=\"\"),\"\",IF(D206=\"URFU\",IF(AND(B206=$N$2,C206=$O$2),$P$2,IF(AND(B206=$N$2,C206=$O$3),$P$3,IF(AND(B206=$N$4,C206=$O$2),$P$4,IF(AND(B206=Data!A196,C206=$O$3),$P$5,0))))))","v":""}]
[null,null,null,null,null,null,{"$f":"IF(OR(D207=\"Excont\",D207=\"\"),\"\",IF(D207=\"URFU\",IF(AND(B207=$N$2,C207=$O$2),$P$2,IF(AND(B207=$N$2,C207=$O$3),$P$3,IF(AND(B207=$N$4,C207=$O$2),$P$4,IF(AND(B207=Data!A197,C207=$O$3),$P$5,0))))))","v":""}]
[null,null,null,null,null,null,{"$f":"IF(OR(D208=\"Excont\",D208=\"\"),\"\",IF(D208=\"URFU\",IF(AND(B208=$N$2,C208=$O$2),$P$2,IF(AND(B208=$N$2,C208=$O$3),$P$3,IF(AND(B208=$N$4,C208=$O$2),$P$4,IF(AND(B208=Data!A198,C208=$O$3),$P$5,0))))))","v":""}]
[null,null,null,null,null,null,{"$f":"IF(OR(D209=\"Excont\",D209=\"\"),\"\",IF(D209=\"URFU\",IF(AND(B209=$N$2,C209=$O$2),$P$2,IF(AND(B209=$N$2,C209=$O$3),$P$3,IF(AND(B209=$N$4,C209=$O$2),$P$4,IF(AND(B209=Data!A199,C209=$O$3),$P$5,0))))))","v":""}]
[null,null,null,null,null,null,{"$f":"IF(OR(D210=\"Excont\",D210=\"\"),\"\",IF(D210=\"URFU\",IF(AND(B210=$N$2,C210=$O$2),$P$2,IF(AND(B210=$N$2,C210=$O$3),$P$3,IF(AND(B210=$N$4,C210=$O$2),$P$4,IF(AND(B210=Data!A200,C210=$O$3),$P$5,0))))))","v":""}]
[null,null,null,null,null,null,{"$f":"IF(OR(D211=\"Excont\",D211=\"\"),\"\",IF(D211=\"URFU\",IF(AND(B211=$N$2,C211=$O$2),$P$2,IF(AND(B211=$N$2,C211=$O$3),$P$3,IF(AND(B211=$N$4,C211=$O$2),$P$4,IF(AND(B211=Data!A201,C211=$O$3),$P$5,0))))))","v":""}]
[null,null,null,null,null,null,{"$f":"IF(OR(D212=\"Excont\",D212=\"\"),\"\",IF(D212=\"URFU\",IF(AND(B212=$N$2,C212=$O$2),$P$2,IF(AND(B212=$N$2,C212=$O$3),$P$3,IF(AND(B212=$N$4,C212=$O$2),$P$4,IF(AND(B212=Data!A202,C212=$O$3),$P$5,0))))))","v":""}]
[null,null,null,null,null,null,{"$f":"IF(OR(D213=\"Excont\",D213=\"\"),\"\",IF(D213=\"URFU\",IF(AND(B213=$N$2,C213=$O$2),$P$2,IF(AND(B213=$N$2,C213=$O$3),$P$3,IF(AND(B213=$N$4,C213=$O$2),$P$4,IF(AND(B213=Data!A203,C213=$O$3),$P$5,0))))))","v":""}]
[null,null,null,null,null,null,{"$f":"IF(OR(D214=\"Excont\",D214=\"\"),\"\",IF(D214=\"URFU\",IF(AND(B214=$N$2,C214=$O$2),$P$2,IF(AND(B214=$N$2,C214=$O$3),$P$3,IF(AND(B214=$N$4,C214=$O$2),$P$4,IF(AND(B214=Data!A204,C214=$O$3),$P$5,0))))))","v":""}]
[null,null,null,null,null,null,{"$f":"IF(OR(D215=\"Excont\",D215=\"\"),\"\",IF(D215=\"URFU\",IF(AND(B215=$N$2,C215=$O$2),$P$2,IF(AND(B215=$N$2,C215=$O$3),$P$3,IF(AND(B215=$N$4,C215=$O$2),$P$4,IF(AND(B215=Data!A205,C215=$O$3),$P$5,0))))))","v":""}]
[null,null,null,null,null,null,{"$f":"IF(OR(D216=\"Excont\",D216=\"\"),\"\",IF(D216=\"URFU\",IF(AND(B216=$N$2,C216=$O$2),$P$2,IF(AND(B216=$N$2,C216=$O$3),$P$3,IF(AND(B216=$N$4,C216=$O$2),$P$4,IF(AND(B216=Data!A206,C216=$O$3),$P$5,0))))))","v":""}]
[null,null,null,null,null,null,{"$f":"IF(OR(D217=\"Excont\",D217=\"\"),\"\",IF(D217=\"URFU\",IF(AND(B217=$N$2,C217=$O$2),$P$2,IF(AND(B217=$N$2,C217=$O$3),$P$3,IF(AND(B217=$N$4,C217=$O$2),$P$4,IF(AND(B217=Data!A207,C217=$O$3),$P$5,0))))))","v":""}]
[null,null,null,null,null,null,{"$f":"IF(OR(D218=\"Excont\",D218=\"\"),\"\",IF(D218=\"URFU\",IF(AND(B218=$N$2,C218=$O$2),$P$2,IF(AND(B218=$N$2,C218=$O$3),$P$3,IF(AND(B218=$N$4,C218=$O$2),$P$4,IF(AND(B218=Data!A208,C218=$O$3),$P$5,0))))))","v":""}]
[null,null,null,null,null,null,{"$f":"IF(OR(D219=\"Excont\",D219=\"\"),\"\",IF(D219=\"URFU\",IF(AND(B219=$N$2,C219=$O$2),$P$2,IF(AND(B219=$N$2,C219=$O$3),$P$3,IF(AND(B219=$N$4,C219=$O$2),$P$4,IF(AND(B219=Data!A209,C219=$O$3),$P$5,0))))))","v":""}]
[null,null,null,null,null,null,{"$f":"IF(OR(D220=\"Excont\",D220=\"\"),\"\",IF(D220=\"URFU\",IF(AND(B220=$N$2,C220=$O$2),$P$2,IF(AND(B220=$N$2,C220=$O$3),$P$3,IF(AND(B220=$N$4,C220=$O$2),$P$4,IF(AND(B220=Data!A210,C220=$O$3),$P$5,0))))))","v":""}]
[null,null,null,null,null,null,{"$f":"IF(OR(D221=\"Excont\",D221=\"\"),\"\",IF(D221=\"URFU\",IF(AND(B221=$N$2,C221=$O$2),$P$2,IF(AND(B221=$N$2,C221=$O$3),$P$3,IF(AND(B221=$N$4,C221=$O$2),$P$4,IF(AND(B221=Data!A211,C221=$O$3),$P$5,0))))))","v":""}]
[null,null,null,null,null,null,{"$f":"IF(OR(D222=\"Excont\",D222=\"\"),\"\",IF(D222=\"URFU\",IF(AND(B222=$N$2,C222=$O$2),$P$2,IF(AND(B222=$N$2,C222=$O$3),$P$3,IF(AND(B222=$N$4,C222=$O$2),$P$4,IF(AND(B222=Data!A212,C222=$O$3),$P$5,0))))))","v":""}]
[null,null,null,null,null,null,{"$f":"IF(OR(D223=\"Excont\",D223=\"\"),\"\",IF(D223=\"URFU\",IF(AND(B223=$N$2,C223=$O$2),$P$2,IF(AND(B223=$N$2,C223=$O$3),$P$3,IF(AND(B223=$N$4,C223=$O$2),$P$4,IF(AND(B223=Data!A213,C223=$O$3),$P$5,0))))))","v":""}]
[null,null,null,null,null,null,{"$f":"IF(OR(D224=\"Excont\",D224=\"\"),\"\",IF(D224=\"URFU\",IF(AND(B224=$N$2,C224=$O$2),$P$2,IF(AND(B224=$N$2,C224=$O$3),$P$3,IF(AND(B224=$N$4,C224=$O$2),$P$4,IF(AND(B224=Data!A214,C224=$O$3),$P$5,0))))))","v":""}]
[null,null,null,null,null,null,{"$f":"IF(OR(D225=\"Excont\",D225=\"\"),\"\",IF(D225=\"URFU\",IF(AND(B225=$N$2,C225=$O$2),$P$2,IF(AND(B225=$N$2,C225=$O$3),$P$3,IF(AND(B225=$N$4,C225=$O$2),$P$4,IF(AND(B225=Data!A215,C225=$O$3),$P$5,0))))))","v":""}]
[null,null,null,null,null,null,{"$f":"IF(OR(D226=\"Excont\",D226=\"\"),\"\",IF(D226=\"URFU\",IF(AND(B226=$N$2,C226=$O$2),$P$2,IF(AND(B226=$N$2,C226=$O$3),$P$3,IF(AND(B226=$N$4,C226=$O$2),$P$4,IF(AND(B226=Data!A216,C226=$O$3),$P$5,0))))))","v":""}]
[null,null,null,null,null,null,{"$f":"IF(OR(D227=\"Excont\",D227=\"\"),\"\",IF(D227=\"URFU\",IF(AND(B227=$N$2,C227=$O$2),$P$2,IF(AND(B227=$N$2,C227=$O$3),$P$3,IF(AND(B227=$N$4,C227=$O$2),$P$4,IF(AND(B227=Data!A217,C227=$O$3),$P$5,0))))))","v":""}]
[null,null,null,null,null,null,{"$f":"IF(OR(D228=\"Excont\",D228=\"\"),\"\",IF(D228=\"URFU\",IF(AND(B228=$N$2,C228=$O$2),$P$2,IF(AND(B228=$N$2,C228=$O$3),$P$3,IF(AND(B228=$N$4,C228=$O$2),$P$4,IF(AND(B228=Data!A218,C228=$O$3),$P$5,0))))))","v":""}]
[null,null,null,null,null,null,{"$f":"IF(OR(D229=\"Excont\",D229=\"\"),\"\",IF(D229=\"URFU\",IF(AND(B229=$N$2,C229=$O$2),$P$2,IF(AND(B229=$N$2,C229=$O$3),$P$3,IF(AND(B229=$N$4,C229=$O$2),$P$4,IF(AND(B229=Data!A219,C229=$O$3),$P$5,0))))))","v":""}]
[null,null,null,null,null,null,{"$f":"IF(OR(D230=\"Excont\",D230=\"\"),\"\",IF(D230=\"URFU\",IF(AND(B230=$N$2,C230=$O$2),$P$2,IF(AND(B230=$N$2,C230=$O$3),$P$3,IF(AND(B230=$N$4,C230=$O$2),$P$4,IF(AND(B230=Data!A220,C230=$O$3),$P$5,0))))))","v":""}]
[null,null,null,null,null,null,{"$f":"IF(OR(D231=\"Excont\",D231=\"\"),\"\",IF(D231=\"URFU\",IF(AND(B231=$N$2,C231=$O$2),$P$2,IF(AND(B231=$N$2,C231=$O$3),$P$3,IF(AND(B231=$N$4,C231=$O$2),$P$4,IF(AND(B231=Data!A221,C231=$O$3),$P$5,0))))))","v":""}]
[null,null,null,null,null,null,{"$f":"IF(OR(D232=\"Excont\",D232=\"\"),\"\",IF(D232=\"URFU\",IF(AND(B232=$N$2,C232=$O$2),$P$2,IF(AND(B232=$N$2,C232=$O$3),$P$3,IF(AND(B232=$N$4,C232=$O$2),$P$4,IF(AND(B232=Data!A222,C232=$O$3),$P$5,0))))))","v":""}]
[null,null,null,null,null,null,{"$f":"IF(OR(D233=\"Excont\",D233=\"\"),\"\",IF(D233=\"URFU\",IF(AND(B233=$N$2,C233=$O$2),$P$2,IF(AND(B233=$N$2,C233=$O$3),$P$3,IF(AND(B233=$N$4,C233=$O$2),$P$4,IF(AND(B233=Data!A223,C233=$O$3),$P$5,0))))))","v":""}]
[null,null,null,null,null,null,{"$f":"IF(OR(D234=\"Excont\",D234=\"\"),\"\",IF(D234=\"URFU\",IF(AND(B234=$N$2,C234=$O$2),$P$2,IF(AND(B234=$N$2,C234=$O$3),$P$3,IF(AND(B234=$N$4,C234=$O$2),$P$4,IF(AND(B234=Data!A224,C234=$O$3),$P$5,0))))))","v":""}]
[null,null,null,null,null,null,{"$f":"IF(OR(D235=\"Excont\",D235=\"\"),\"\",IF(D235=\"URFU\",IF(AND(B235=$N$2,C235=$O$2),$P$2,IF(AND(B235=$N$2,C235=$O$3),$P$3,IF(AND(B235=$N$4,C235=$O$2),$P$4,IF(AND(B235=Data!A225,C235=$O$3),$P$5,0))))))","v":""}]
[null,null,null,null,null,null,{"$f":"IF(OR(D236=\"Excont\",D236=\"\"),\"\",IF(D236=\"URFU\",IF(AND(B236=$N$2,C236=$O$2),$P$2,IF(AND(B236=$N$2,C236=$O$3),$P$3,IF(AND(B236=$N$4,C236=$O$2),$P$4,IF(AND(B236=Data!A226,C236=$O$3),$P$5,0))))))","v":""}]
[null,null,null,null,null,null,{"$f":"IF(OR(D237=\"Excont\",D237=\"\"),\"\",IF(D237=\"URFU\",IF(AND(B237=$N$2,C237=$O$2),$P$2,IF(AND(B237=$N$2,C237=$O$3),$P$3,IF(AND(B237=$N$4,C237=$O$2),$P$4,IF(AND(B237=Data!A227,C237=$O$3),$P$5,0))))))","v":""}]
[null,null,null,null,null,null,{"$f":"IF(OR(D238=\"Excont\",D238=\"\"),\"\",IF(D238=\"URFU\",IF(AND(B238=$N$2,C238=$O$2),$P$2,IF(AND(B238=$N$2,C238=$O$3),$P$3,IF(AND(B238=$N$4,C238=$O$2),$P$4,IF(AND(B238=Data!A228,C238=$O$3),$P$5,0))))))","v":""}]
[null,null,null,null,null,null,{"$f":"IF(OR(D239=\"Excont\",D239=\"\"),\"\",IF(D239=\"URFU\",IF(AND(B239=$N$2,C239=$O$2),$P$2,IF(AND(B239=$N$2,C239=$O$3),$P$3,IF(AND(B239=$N$4,C239=$O$2),$P$4,IF(AND(B239=Data!A229,C239=$O$3),$P$5,0))))))","v":""}]
[null,null,null,null,null,null,{"$f":"IF(OR(D240=\"Excont\",D240=\"\"),\"\",IF(D240=\"URFU\",IF(AND(B240=$N$2,C240=$O$2),$P$2,IF(AND(B240=$N$2,C240=$O$3),$P$3,IF(AND(B240=$N$4,C240=$O$2),$P$4,IF(AND(B240=Data!A230,C240=$O$3),$P$5,0))))))","v":""}]
[null,null,null,null,null,null,{"$f":"IF(OR(D241=\"Excont\",D241=\"\"),\"\",IF(D241=\"URFU\",IF(AND(B241=$N$2,C241=$O$2),$P$2,IF(AND(B241=$N$2,C241=$O$3),$P$3,IF(AND(B241=$N$4,C241=$O$2),$P$4,IF(AND(B241=Data!A231,C241=$O$3),$P$5,0))))))","v":""}]
[null,null,null,null,null,null,{"$f":"IF(OR(D242=\"Excont\",D242=\"\"),\"\",IF(D242=\"URFU\",IF(AND(B242=$N$2,C242=$O$2),$P$2,IF(AND(B242=$N$2,C242=$O$3),$P$3,IF(AND(B242=$N$4,C242=$O$2),$P$4,IF(AND(B242=Data!A232,C242=$O$3),$P$5,0))))))","v":""}]
[null,null,null,null,null,null,{"$f":"IF(OR(D243=\"Excont\",D243=\"\"),\"\",IF(D243=\"URFU\",IF(AND(B243=$N$2,C243=$O$2),$P$2,IF(AND(B243=$N$2,C243=$O$3),$P$3,IF(AND(B243=$N$4,C243=$O$2),$P$4,IF(AND(B243=Data!A233,C243=$O$3),$P$5,0))))))","v":""}]
[null,null,null,null,null,null,{"$f":"IF(OR(D244=\"Excont\",D244=\"\"),\"\",IF(D244=\"URFU\",IF(AND(B244=$N$2,C244=$O$2),$P$2,IF(AND(B244=$N$2,C244=$O$3),$P$3,IF(AND(B244=$N$4,C244=$O$2),$P$4,IF(AND(B244=Data!A234,C244=$O$3),$P$5,0))))))","v":""}]
[null,null,null,null,null,null,{"$f":"IF(OR(D245=\"Excont\",D245=\"\"),\"\",IF(D245=\"URFU\",IF(AND(B245=$N$2,C245=$O$2),$P$2,IF(AND(B245=$N$2,C245=$O$3),$P$3,IF(AND(B245=$N$4,C245=$O$2),$P$4,IF(AND(B245=Data!A235,C245=$O$3),$P$5,0))))))","v":""}]
[null,null,null,null,null,null,{"$f":"IF(OR(D246=\"Excont\",D246=\"\"),\"\",IF(D246=\"URFU\",IF(AND(B246=$N$2,C246=$O$2),$P$2,IF(AND(B246=$N$2,C246=$O$3),$P$3,IF(AND(B246=$N$4,C246=$O$2),$P$4,IF(AND(B246=Data!A236,C246=$O$3),$P$5,0))))))","v":""}]
[null,null,null,null,null,null,{"$f":"IF(OR(D247=\"Excont\",D247=\"\"),\"\",IF(D247=\"URFU\",IF(AND(B247=$N$2,C247=$O$2),$P$2,IF(AND(B247=$N$2,C247=$O$3),$P$3,IF(AND(B247=$N$4,C247=$O$2),$P$4,IF(AND(B247=Data!A237,C247=$O$3),$P$5,0))))))","v":""}]
[null,null,null,null,null,null,{"$f":"IF(OR(D248=\"Excont\",D248=\"\"),\"\",IF(D248=\"URFU\",IF(AND(B248=$N$2,C248=$O$2),$P$2,IF(AND(B248=$N$2,C248=$O$3),$P$3,IF(AND(B248=$N$4,C248=$O$2),$P$4,IF(AND(B248=Data!A238,C248=$O$3),$P$5,0))))))","v":""}]
[null,null,null,null,null,null,{"$f":"IF(OR(D249=\"Excont\",D249=\"\"),\"\",IF(D249=\"URFU\",IF(AND(B249=$N$2,C249=$O$2),$P$2,IF(AND(B249=$N$2,C249=$O$3),$P$3,IF(AND(B249=$N$4,C249=$O$2),$P$4,IF(AND(B249=Data!A239,C249=$O$3),$P$5,0))))))","v":""}]
[null,null,null,null,null,null,{"$f":"IF(OR(D250=\"Excont\",D250=\"\"),\"\",IF(D250=\"URFU\",IF(AND(B250=$N$2,C250=$O$2),$P$2,IF(AND(B250=$N$2,C250=$O$3),$P$3,IF(AND(B250=$N$4,C250=$O$2),$P$4,IF(AND(B250=Data!A240,C250=$O$3),$P$5,0))))))","v":""}]
[null,null,null,null,null,null,{"$f":"IF(OR(D251=\"Excont\",D251=\"\"),\"\",IF(D251=\"URFU\",IF(AND(B251=$N$2,C251=$O$2),$P$2,IF(AND(B251=$N$2,C251=$O$3),$P$3,IF(AND(B251=$N$4,C251=$O$2),$P$4,IF(AND(B251=Data!A241,C251=$O$3),$P$5,0))))))","v":""}]
[null,null,null,null,null,null,{"$f":"IF(OR(D252=\"Excont\",D252=\"\"),\"\",IF(D252=\"URFU\",IF(AND(B252=$N$2,C252=$O$2),$P$2,IF(AND(B252=$N$2,C252=$O$3),$P$3,IF(AND(B252=$N$4,C252=$O$2),$P$4,IF(AND(B252=Data!A242,C252=$O$3),$P$5,0))))))","v":""}]
[null,null,null,null,null,null,{"$f":"IF(OR(D253=\"Excont\",D253=\"\"),\"\",IF(D253=\"URFU\",IF(AND(B253=$N$2,C253=$O$2),$P$2,IF(AND(B253=$N$2,C253=$O$3),$P$3,IF(AND(B253=$N$4,C253=$O$2),$P$4,IF(AND(B253=Data!A243,C253=$O$3),$P$5,0))))))","v":""}]
[null,null,null,null,null,null,{"$f":"IF(OR(D254=\"Excont\",D254=\"\"),\"\",IF(D254=\"URFU\",IF(AND(B254=$N$2,C254=$O$2),$P$2,IF(AND(B254=$N$2,C254=$O$3),$P$3,IF(AND(B254=$N$4,C254=$O$2),$P$4,IF(AND(B254=Data!A244,C254=$O$3),$P$5,0))))))","v":""}]
[null,null,null,null,null,null,{"$f":"IF(OR(D255=\"Excont\",D255=\"\"),\"\",IF(D255=\"URFU\",IF(AND(B255=$N$2,C255=$O$2),$P$2,IF(AND(B255=$N$2,C255=$O$3),$P$3,IF(AND(B255=$N$4,C255=$O$2),$P$4,IF(AND(B255=Data!A245,C255=$O$3),$P$5,0))))))","v":""}]
[null,null,null,null,null,null,{"$f":"IF(OR(D256=\"Excont\",D256=\"\"),\"\",IF(D256=\"URFU\",IF(AND(B256=$N$2,C256=$O$2),$P$2,IF(AND(B256=$N$2,C256=$O$3),$P$3,IF(AND(B256=$N$4,C256=$O$2),$P$4,IF(AND(B256=Data!A246,C256=$O$3),$P$5,0))))))","v":""}]
[null,null,null,null,null,null,{"$f":"IF(OR(D257=\"Excont\",D257=\"\"),\"\",IF(D257=\"URFU\",IF(AND(B257=$N$2,C257=$O$2),$P$2,IF(AND(B257=$N$2,C257=$O$3),$P$3,IF(AND(B257=$N$4,C257=$O$2),$P$4,IF(AND(B257=Data!A247,C257=$O$3),$P$5,0))))))","v":""}]
[null,null,null,null,null,null,{"$f":"IF(OR(D258=\"Excont\",D258=\"\"),\"\",IF(D258=\"URFU\",IF(AND(B258=$N$2,C258=$O$2),$P$2,IF(AND(B258=$N$2,C258=$O$3),$P$3,IF(AND(B258=$N$4,C258=$O$2),$P$4,IF(AND(B258=Data!A248,C258=$O$3),$P$5,0))))))","v":""}]
[null,null,null,null,null,null,{"$f":"IF(OR(D259=\"Excont\",D259=\"\"),\"\",IF(D259=\"URFU\",IF(AND(B259=$N$2,C259=$O$2),$P$2,IF(AND(B259=$N$2,C259=$O$3),$P$3,IF(AND(B259=$N$4,C259=$O$2),$P$4,IF(AND(B259=Data!A249,C259=$O$3),$P$5,0))))))","v":""}]
[null,null,null,null,null,null,{"$f":"IF(OR(D260=\"Excont\",D260=\"\"),\"\",IF(D260=\"URFU\",IF(AND(B260=$N$2,C260=$O$2),$P$2,IF(AND(B260=$N$2,C260=$O$3),$P$3,IF(AND(B260=$N$4,C260=$O$2),$P$4,IF(AND(B260=Data!A250,C260=$O$3),$P$5,0))))))","v":""}]
[null,null,null,null,null,null,{"$f":"IF(OR(D261=\"Excont\",D261=\"\"),\"\",IF(D261=\"URFU\",IF(AND(B261=$N$2,C261=$O$2),$P$2,IF(AND(B261=$N$2,C261=$O$3),$P$3,IF(AND(B261=$N$4,C261=$O$2),$P$4,IF(AND(B261=Data!A251,C261=$O$3),$P$5,0))))))","v":""}]
[null,null,null,null,null,null,{"$f":"IF(OR(D262=\"Excont\",D262=\"\"),\"\",IF(D262=\"URFU\",IF(AND(B262=$N$2,C262=$O$2),$P$2,IF(AND(B262=$N$2,C262=$O$3),$P$3,IF(AND(B262=$N$4,C262=$O$2),$P$4,IF(AND(B262=Data!A252,C262=$O$3),$P$5,0))))))","v":""}]
[null,null,null,null,null,null,{"$f":"IF(OR(D263=\"Excont\",D263=\"\"),\"\",IF(D263=\"URFU\",IF(AND(B263=$N$2,C263=$O$2),$P$2,IF(AND(B263=$N$2,C263=$O$3),$P$3,IF(AND(B263=$N$4,C263=$O$2),$P$4,IF(AND(B263=Data!A253,C263=$O$3),$P$5,0))))))","v":""}]
[null,null,null,null,null,null,{"$f":"IF(OR(D264=\"Excont\",D264=\"\"),\"\",IF(D264=\"URFU\",IF(AND(B264=$N$2,C264=$O$2),$P$2,IF(AND(B264=$N$2,C264=$O$3),$P$3,IF(AND(B264=$N$4,C264=$O$2),$P$4,IF(AND(B264=Data!A254,C264=$O$3),$P$5,0))))))","v":""}]
[null,null,null,null,null,null,{"$f":"IF(OR(D265=\"Excont\",D265=\"\"),\"\",IF(D265=\"URFU\",IF(AND(B265=$N$2,C265=$O$2),$P$2,IF(AND(B265=$N$2,C265=$O$3),$P$3,IF(AND(B265=$N$4,C265=$O$2),$P$4,IF(AND(B265=Data!A255,C265=$O$3),$P$5,0))))))","v":""}]
[null,null,null,null,null,null,{"$f":"IF(OR(D266=\"Excont\",D266=\"\"),\"\",IF(D266=\"URFU\",IF(AND(B266=$N$2,C266=$O$2),$P$2,IF(AND(B266=$N$2,C266=$O$3),$P$3,IF(AND(B266=$N$4,C266=$O$2),$P$4,IF(AND(B266=Data!A256,C266=$O$3),$P$5,0))))))","v":""}]
[null,null,null,null,null,null,{"$f":"IF(OR(D267=\"Excont\",D267=\"\"),\"\",IF(D267=\"URFU\",IF(AND(B267=$N$2,C267=$O$2),$P$2,IF(AND(B267=$N$2,C267=$O$3),$P$3,IF(AND(B267=$N$4,C267=$O$2),$P$4,IF(AND(B267=Data!A257,C267=$O$3),$P$5,0))))))","v":""}]
[null,null,null,null,null,null,{"$f":"IF(OR(D268=\"Excont\",D268=\"\"),\"\",IF(D268=\"URFU\",IF(AND(B268=$N$2,C268=$O$2),$P$2,IF(AND(B268=$N$2,C268=$O$3),$P$3,IF(AND(B268=$N$4,C268=$O$2),$P$4,IF(AND(B268=Data!A258,C268=$O$3),$P$5,0))))))","v":""}]
[null,null,null,null,null,null,{"$f":"IF(OR(D269=\"Excont\",D269=\"\"),\"\",IF(D269=\"URFU\",IF(AND(B269=$N$2,C269=$O$2),$P$2,IF(AND(B269=$N$2,C269=$O$3),$P$3,IF(AND(B269=$N$4,C269=$O$2),$P$4,IF(AND(B269=Data!A259,C269=$O$3),$P$5,0))))))","v":""}]
[null,null,null,null,null,null,{"$f":"IF(OR(D270=\"Excont\",D270=\"\"),\"\",IF(D270=\"URFU\",IF(AND(B270=$N$2,C270=$O$2),$P$2,IF(AND(B270=$N$2,C270=$O$3),$P$3,IF(AND(B270=$N$4,C270=$O$2),$P$4,IF(AND(B270=Data!A260,C270=$O$3),$P$5,0))))))","v":""}]
[null,null,null,null,null,null,{"$f":"IF(OR(D271=\"Excont\",D271=\"\"),\"\",IF(D271=\"URFU\",IF(AND(B271=$N$2,C271=$O$2),$P$2,IF(AND(B271=$N$2,C271=$O$3),$P$3,IF(AND(B271=$N$4,C271=$O$2),$P$4,IF(AND(B271=Data!A261,C271=$O$3),$P$5,0))))))","v":""}]
[null,null,null,null,null,null,{"$f":"IF(OR(D272=\"Excont\",D272=\"\"),\"\",IF(D272=\"URFU\",IF(AND(B272=$N$2,C272=$O$2),$P$2,IF(AND(B272=$N$2,C272=$O$3),$P$3,IF(AND(B272=$N$4,C272=$O$2),$P$4,IF(AND(B272=Data!A262,C272=$O$3),$P$5,0))))))","v":""}]
[null,null,null,null,null,null,{"$f":"IF(OR(D273=\"Excont\",D273=\"\"),\"\",IF(D273=\"URFU\",IF(AND(B273=$N$2,C273=$O$2),$P$2,IF(AND(B273=$N$2,C273=$O$3),$P$3,IF(AND(B273=$N$4,C273=$O$2),$P$4,IF(AND(B273=Data!A263,C273=$O$3),$P$5,0))))))","v":""}]
[null,null,null,null,null,null,{"$f":"IF(OR(D274=\"Excont\",D274=\"\"),\"\",IF(D274=\"URFU\",IF(AND(B274=$N$2,C274=$O$2),$P$2,IF(AND(B274=$N$2,C274=$O$3),$P$3,IF(AND(B274=$N$4,C274=$O$2),$P$4,IF(AND(B274=Data!A264,C274=$O$3),$P$5,0))))))","v":""}]
[null,null,null,null,null,null,{"$f":"IF(OR(D275=\"Excont\",D275=\"\"),\"\",IF(D275=\"URFU\",IF(AND(B275=$N$2,C275=$O$2),$P$2,IF(AND(B275=$N$2,C275=$O$3),$P$3,IF(AND(B275=$N$4,C275=$O$2),$P$4,IF(AND(B275=Data!A265,C275=$O$3),$P$5,0))))))","v":""}]
[null,null,null,null,null,null,{"$f":"IF(OR(D276=\"Excont\",D276=\"\"),\"\",IF(D276=\"URFU\",IF(AND(B276=$N$2,C276=$O$2),$P$2,IF(AND(B276=$N$2,C276=$O$3),$P$3,IF(AND(B276=$N$4,C276=$O$2),$P$4,IF(AND(B276=Data!A266,C276=$O$3),$P$5,0))))))","v":""}]
[null,null,null,null,null,null,{"$f":"IF(OR(D277=\"Excont\",D277=\"\"),\"\",IF(D277=\"URFU\",IF(AND(B277=$N$2,C277=$O$2),$P$2,IF(AND(B277=$N$2,C277=$O$3),$P$3,IF(AND(B277=$N$4,C277=$O$2),$P$4,IF(AND(B277=Data!A267,C277=$O$3),$P$5,0))))))","v":""}]
[null,null,null,null,null,null,{"$f":"IF(OR(D278=\"Excont\",D278=\"\"),\"\",IF(D278=\"URFU\",IF(AND(B278=$N$2,C278=$O$2),$P$2,IF(AND(B278=$N$2,C278=$O$3),$P$3,IF(AND(B278=$N$4,C278=$O$2),$P$4,IF(AND(B278=Data!A268,C278=$O$3),$P$5,0))))))","v":""}]
[null,null,null,null,null,null,{"$f":"IF(OR(D279=\"Excont\",D279=\"\"),\"\",IF(D279=\"URFU\",IF(AND(B279=$N$2,C279=$O$2),$P$2,IF(AND(B279=$N$2,C279=$O$3),$P$3,IF(AND(B279=$N$4,C279=$O$2),$P$4,IF(AND(B279=Data!A269,C279=$O$3),$P$5,0))))))","v":""}]
[null,null,null,null,null,null,{"$f":"IF(OR(D280=\"Excont\",D280=\"\"),\"\",IF(D280=\"URFU\",IF(AND(B280=$N$2,C280=$O$2),$P$2,IF(AND(B280=$N$2,C280=$O$3),$P$3,IF(AND(B280=$N$4,C280=$O$2),$P$4,IF(AND(B280=Data!A270,C280=$O$3),$P$5,0))))))","v":""}]
[null,null,null,null,null,null,{"$f":"IF(OR(D281=\"Excont\",D281=\"\"),\"\",IF(D281=\"URFU\",IF(AND(B281=$N$2,C281=$O$2),$P$2,IF(AND(B281=$N$2,C281=$O$3),$P$3,IF(AND(B281=$N$4,C281=$O$2),$P$4,IF(AND(B281=Data!A271,C281=$O$3),$P$5,0))))))","v":""}]
[null,null,null,null,null,null,{"$f":"IF(OR(D282=\"Excont\",D282=\"\"),\"\",IF(D282=\"URFU\",IF(AND(B282=$N$2,C282=$O$2),$P$2,IF(AND(B282=$N$2,C282=$O$3),$P$3,IF(AND(B282=$N$4,C282=$O$2),$P$4,IF(AND(B282=Data!A272,C282=$O$3),$P$5,0))))))","v":""}]
[null,null,null,null,null,null,{"$f":"IF(OR(D283=\"Excont\",D283=\"\"),\"\",IF(D283=\"URFU\",IF(AND(B283=$N$2,C283=$O$2),$P$2,IF(AND(B283=$N$2,C283=$O$3),$P$3,IF(AND(B283=$N$4,C283=$O$2),$P$4,IF(AND(B283=Data!A273,C283=$O$3),$P$5,0))))))","v":""}]
[null,null,null,null,null,null,{"$f":"IF(OR(D284=\"Excont\",D284=\"\"),\"\",IF(D284=\"URFU\",IF(AND(B284=$N$2,C284=$O$2),$P$2,IF(AND(B284=$N$2,C284=$O$3),$P$3,IF(AND(B284=$N$4,C284=$O$2),$P$4,IF(AND(B284=Data!A274,C284=$O$3),$P$5,0))))))","v":""}]
[null,null,null,null,null,null,{"$f":"IF(OR(D285=\"Excont\",D285=\"\"),\"\",IF(D285=\"URFU\",IF(AND(B285=$N$2,C285=$O$2),$P$2,IF(AND(B285=$N$2,C285=$O$3),$P$3,IF(AND(B285=$N$4,C285=$O$2),$P$4,IF(AND(B285=Data!A275,C285=$O$3),$P$5,0))))))","v":""}]
[null,null,null,null,null,null,{"$f":"IF(OR(D286=\"Excont\",D286=\"\"),\"\",IF(D286=\"URFU\",IF(AND(B286=$N$2,C286=$O$2),$P$2,IF(AND(B286=$N$2,C286=$O$3),$P$3,IF(AND(B286=$N$4,C286=$O$2),$P$4,IF(AND(B286=Data!A276,C286=$O$3),$P$5,0))))))","v":""}]
[null,null,null,null,null,null,{"$f":"IF(OR(D287=\"Excont\",D287=\"\"),\"\",IF(D287=\"URFU\",IF(AND(B287=$N$2,C287=$O$2),$P$2,IF(AND(B287=$N$2,C287=$O$3),$P$3,IF(AND(B287=$N$4,C287=$O$2),$P$4,IF(AND(B287=Data!A277,C287=$O$3),$P$5,0))))))","v":""}]
[null,null,null,null,null,null,{"$f":"IF(OR(D288=\"Excont\",D288=\"\"),\"\",IF(D288=\"URFU\",IF(AND(B288=$N$2,C288=$O$2),$P$2,IF(AND(B288=$N$2,C288=$O$3),$P$3,IF(AND(B288=$N$4,C288=$O$2),$P$4,IF(AND(B288=Data!A278,C288=$O$3),$P$5,0))))))","v":""}]
[null,null,null,null,null,null,{"$f":"IF(OR(D289=\"Excont\",D289=\"\"),\"\",IF(D289=\"URFU\",IF(AND(B289=$N$2,C289=$O$2),$P$2,IF(AND(B289=$N$2,C289=$O$3),$P$3,IF(AND(B289=$N$4,C289=$O$2),$P$4,IF(AND(B289=Data!A279,C289=$O$3),$P$5,0))))))","v":""}]
[null,null,null,null,null,null,{"$f":"IF(OR(D290=\"Excont\",D290=\"\"),\"\",IF(D290=\"URFU\",IF(AND(B290=$N$2,C290=$O$2),$P$2,IF(AND(B290=$N$2,C290=$O$3),$P$3,IF(AND(B290=$N$4,C290=$O$2),$P$4,IF(AND(B290=Data!A280,C290=$O$3),$P$5,0))))))","v":""}]
[null,null,null,null,null,null,{"$f":"IF(OR(D291=\"Excont\",D291=\"\"),\"\",IF(D291=\"URFU\",IF(AND(B291=$N$2,C291=$O$2),$P$2,IF(AND(B291=$N$2,C291=$O$3),$P$3,IF(AND(B291=$N$4,C291=$O$2),$P$4,IF(AND(B291=Data!A281,C291=$O$3),$P$5,0))))))","v":""}]
[null,null,null,null,null,null,{"$f":"IF(OR(D292=\"Excont\",D292=\"\"),\"\",IF(D292=\"URFU\",IF(AND(B292=$N$2,C292=$O$2),$P$2,IF(AND(B292=$N$2,C292=$O$3),$P$3,IF(AND(B292=$N$4,C292=$O$2),$P$4,IF(AND(B292=Data!A282,C292=$O$3),$P$5,0))))))","v":""}]
[null,null,null,null,null,null,{"$f":"IF(OR(D293=\"Excont\",D293=\"\"),\"\",IF(D293=\"URFU\",IF(AND(B293=$N$2,C293=$O$2),$P$2,IF(AND(B293=$N$2,C293=$O$3),$P$3,IF(AND(B293=$N$4,C293=$O$2),$P$4,IF(AND(B293=Data!A283,C293=$O$3),$P$5,0))))))","v":""}]
[null,null,null,null,null,null,{"$f":"IF(OR(D294=\"Excont\",D294=\"\"),\"\",IF(D294=\"URFU\",IF(AND(B294=$N$2,C294=$O$2),$P$2,IF(AND(B294=$N$2,C294=$O$3),$P$3,IF(AND(B294=$N$4,C294=$O$2),$P$4,IF(AND(B294=Data!A284,C294=$O$3),$P$5,0))))))","v":""}]
[null,null,null,null,null,null,{"$f":"IF(OR(D295=\"Excont\",D295=\"\"),\"\",IF(D295=\"URFU\",IF(AND(B295=$N$2,C295=$O$2),$P$2,IF(AND(B295=$N$2,C295=$O$3),$P$3,IF(AND(B295=$N$4,C295=$O$2),$P$4,IF(AND(B295=Data!A285,C295=$O$3),$P$5,0))))))","v":""}]
[null,null,null,null,null,null,{"$f":"IF(OR(D296=\"Excont\",D296=\"\"),\"\",IF(D296=\"URFU\",IF(AND(B296=$N$2,C296=$O$2),$P$2,IF(AND(B296=$N$2,C296=$O$3),$P$3,IF(AND(B296=$N$4,C296=$O$2),$P$4,IF(AND(B296=Data!A286,C296=$O$3),$P$5,0))))))","v":""}]
[null,null,null,null,null,null,{"$f":"IF(OR(D297=\"Excont\",D297=\"\"),\"\",IF(D297=\"URFU\",IF(AND(B297=$N$2,C297=$O$2),$P$2,IF(AND(B297=$N$2,C297=$O$3),$P$3,IF(AND(B297=$N$4,C297=$O$2),$P$4,IF(AND(B297=Data!A287,C297=$O$3),$P$5,0))))))","v":""}]
[null,null,null,null,null,null,{"$f":"IF(OR(D298=\"Excont\",D298=\"\"),\"\",IF(D298=\"URFU\",IF(AND(B298=$N$2,C298=$O$2),$P$2,IF(AND(B298=$N$2,C298=$O$3),$P$3,IF(AND(B298=$N$4,C298=$O$2),$P$4,IF(AND(B298=Data!A288,C298=$O$3),$P$5,0))))))","v":""}]
[null,null,null,null,null,null,{"$f":"IF(OR(D299=\"Excont\",D299=\"\"),\"\",IF(D299=\"URFU\",IF(AND(B299=$N$2,C299=$O$2),$P$2,IF(AND(B299=$N$2,C299=$O$3),$P$3,IF(AND(B299=$N$4,C299=$O$2),$P$4,IF(AND(B299=Data!A289,C299=$O$3),$P$5,0))))))","v":""}]
[null,null,null,null,null,null,{"$f":"IF(OR(D300=\"Excont\",D300=\"\"),\"\",IF(D300=\"URFU\",IF(AND(B300=$N$2,C300=$O$2),$P$2,IF(AND(B300=$N$2,C300=$O$3),$P$3,IF(AND(B300=$N$4,C300=$O$2),$P$4,IF(AND(B300=Data!A290,C300=$O$3),$P$5,0))))))","v":""}]
[null,null,null,null,null,null,{"$f":"IF(OR(D301=\"Excont\",D301=\"\"),\"\",IF(D301=\"URFU\",IF(AND(B301=$N$2,C301=$O$2),$P$2,IF(AND(B301=$N$2,C301=$O$3),$P$3,IF(AND(B301=$N$4,C301=$O$2),$P$4,IF(AND(B301=Data!A291,C301=$O$3),$P$5,0))))))","v":""}]
[null,null,null,null,null,null,{"$f":"IF(OR(D302=\"Excont\",D302=\"\"),\"\",IF(D302=\"URFU\",IF(AND(B302=$N$2,C302=$O$2),$P$2,IF(AND(B302=$N$2,C302=$O$3),$P$3,IF(AND(B302=$N$4,C302=$O$2),$P$4,IF(AND(B302=Data!A292,C302=$O$3),$P$5,0))))))","v":""}]
[null,null,null,null,null,null,{"$f":"IF(OR(D303=\"Excont\",D303=\"\"),\"\",IF(D303=\"URFU\",IF(AND(B303=$N$2,C303=$O$2),$P$2,IF(AND(B303=$N$2,C303=$O$3),$P$3,IF(AND(B303=$N$4,C303=$O$2),$P$4,IF(AND(B303=Data!A293,C303=$O$3),$P$5,0))))))","v":""}]
[null,null,null,null,null,null,{"$f":"IF(OR(D304=\"Excont\",D304=\"\"),\"\",IF(D304=\"URFU\",IF(AND(B304=$N$2,C304=$O$2),$P$2,IF(AND(B304=$N$2,C304=$O$3),$P$3,IF(AND(B304=$N$4,C304=$O$2),$P$4,IF(AND(B304=Data!A294,C304=$O$3),$P$5,0))))))","v":""}]
[null,null,null,null,null,null,{"$f":"IF(OR(D305=\"Excont\",D305=\"\"),\"\",IF(D305=\"URFU\",IF(AND(B305=$N$2,C305=$O$2),$P$2,IF(AND(B305=$N$2,C305=$O$3),$P$3,IF(AND(B305=$N$4,C305=$O$2),$P$4,IF(AND(B305=Data!A295,C305=$O$3),$P$5,0))))))","v":""}]
[null,null,null,null,null,null,{"$f":"IF(OR(D306=\"Excont\",D306=\"\"),\"\",IF(D306=\"URFU\",IF(AND(B306=$N$2,C306=$O$2),$P$2,IF(AND(B306=$N$2,C306=$O$3),$P$3,IF(AND(B306=$N$4,C306=$O$2),$P$4,IF(AND(B306=Data!A296,C306=$O$3),$P$5,0))))))","v":""}]
[null,null,null,null,null,null,{"$f":"IF(OR(D307=\"Excont\",D307=\"\"),\"\",IF(D307=\"URFU\",IF(AND(B307=$N$2,C307=$O$2),$P$2,IF(AND(B307=$N$2,C307=$O$3),$P$3,IF(AND(B307=$N$4,C307=$O$2),$P$4,IF(AND(B307=Data!A297,C307=$O$3),$P$5,0))))))","v":""}]
[null,null,null,null,null,null,{"$f":"IF(OR(D308=\"Excont\",D308=\"\"),\"\",IF(D308=\"URFU\",IF(AND(B308=$N$2,C308=$O$2),$P$2,IF(AND(B308=$N$2,C308=$O$3),$P$3,IF(AND(B308=$N$4,C308=$O$2),$P$4,IF(AND(B308=Data!A298,C308=$O$3),$P$5,0))))))","v":""}]
[null,null,null,null,null,null,{"$f":"IF(OR(D309=\"Excont\",D309=\"\"),\"\",IF(D309=\"URFU\",IF(AND(B309=$N$2,C309=$O$2),$P$2,IF(AND(B309=$N$2,C309=$O$3),$P$3,IF(AND(B309=$N$4,C309=$O$2),$P$4,IF(AND(B309=Data!A299,C309=$O$3),$P$5,0))))))","v":""}]
[null,null,null,null,null,null,{"$f":"IF(OR(D310=\"Excont\",D310=\"\"),\"\",IF(D310=\"URFU\",IF(AND(B310=$N$2,C310=$O$2),$P$2,IF(AND(B310=$N$2,C310=$O$3),$P$3,IF(AND(B310=$N$4,C310=$O$2),$P$4,IF(AND(B310=Data!A300,C310=$O$3),$P$5,0))))))","v":""}]
[null,null,null,null,null,null,{"$f":"IF(OR(D311=\"Excont\",D311=\"\"),\"\",IF(D311=\"URFU\",IF(AND(B311=$N$2,C311=$O$2),$P$2,IF(AND(B311=$N$2,C311=$O$3),$P$3,IF(AND(B311=$N$4,C311=$O$2),$P$4,IF(AND(B311=Data!A301,C311=$O$3),$P$5,0))))))","v":""}]
[null,null,null,null,null,null,{"$f":"IF(OR(D312=\"Excont\",D312=\"\"),\"\",IF(D312=\"URFU\",IF(AND(B312=$N$2,C312=$O$2),$P$2,IF(AND(B312=$N$2,C312=$O$3),$P$3,IF(AND(B312=$N$4,C312=$O$2),$P$4,IF(AND(B312=Data!A302,C312=$O$3),$P$5,0))))))","v":""}]
[null,null,null,null,null,null,{"$f":"IF(OR(D313=\"Excont\",D313=\"\"),\"\",IF(D313=\"URFU\",IF(AND(B313=$N$2,C313=$O$2),$P$2,IF(AND(B313=$N$2,C313=$O$3),$P$3,IF(AND(B313=$N$4,C313=$O$2),$P$4,IF(AND(B313=Data!A303,C313=$O$3),$P$5,0))))))","v":""}]
[null,null,null,null,null,null,{"$f":"IF(OR(D314=\"Excont\",D314=\"\"),\"\",IF(D314=\"URFU\",IF(AND(B314=$N$2,C314=$O$2),$P$2,IF(AND(B314=$N$2,C314=$O$3),$P$3,IF(AND(B314=$N$4,C314=$O$2),$P$4,IF(AND(B314=Data!A304,C314=$O$3),$P$5,0))))))","v":""}]
[null,null,null,null,null,null,{"$f":"IF(OR(D315=\"Excont\",D315=\"\"),\"\",IF(D315=\"URFU\",IF(AND(B315=$N$2,C315=$O$2),$P$2,IF(AND(B315=$N$2,C315=$O$3),$P$3,IF(AND(B315=$N$4,C315=$O$2),$P$4,IF(AND(B315=Data!A305,C315=$O$3),$P$5,0))))))","v":""}]
[null,null,null,null,null,null,{"$f":"IF(OR(D316=\"Excont\",D316=\"\"),\"\",IF(D316=\"URFU\",IF(AND(B316=$N$2,C316=$O$2),$P$2,IF(AND(B316=$N$2,C316=$O$3),$P$3,IF(AND(B316=$N$4,C316=$O$2),$P$4,IF(AND(B316=Data!A306,C316=$O$3),$P$5,0))))))","v":""}]
[null,null,null,null,null,null,{"$f":"IF(OR(D317=\"Excont\",D317=\"\"),\"\",IF(D317=\"URFU\",IF(AND(B317=$N$2,C317=$O$2),$P$2,IF(AND(B317=$N$2,C317=$O$3),$P$3,IF(AND(B317=$N$4,C317=$O$2),$P$4,IF(AND(B317=Data!A307,C317=$O$3),$P$5,0))))))","v":""}]
[null,null,null,null,null,null,{"$f":"IF(OR(D318=\"Excont\",D318=\"\"),\"\",IF(D318=\"URFU\",IF(AND(B318=$N$2,C318=$O$2),$P$2,IF(AND(B318=$N$2,C318=$O$3),$P$3,IF(AND(B318=$N$4,C318=$O$2),$P$4,IF(AND(B318=Data!A308,C318=$O$3),$P$5,0))))))","v":""}]
[null,null,null,null,null,null,{"$f":"IF(OR(D319=\"Excont\",D319=\"\"),\"\",IF(D319=\"URFU\",IF(AND(B319=$N$2,C319=$O$2),$P$2,IF(AND(B319=$N$2,C319=$O$3),$P$3,IF(AND(B319=$N$4,C319=$O$2),$P$4,IF(AND(B319=Data!A309,C319=$O$3),$P$5,0))))))","v":""}]
[null,null,null,null,null,null,{"$f":"IF(OR(D320=\"Excont\",D320=\"\"),\"\",IF(D320=\"URFU\",IF(AND(B320=$N$2,C320=$O$2),$P$2,IF(AND(B320=$N$2,C320=$O$3),$P$3,IF(AND(B320=$N$4,C320=$O$2),$P$4,IF(AND(B320=Data!A310,C320=$O$3),$P$5,0))))))","v":""}]
[null,null,null,null,null,null,{"$f":"IF(OR(D321=\"Excont\",D321=\"\"),\"\",IF(D321=\"URFU\",IF(AND(B321=$N$2,C321=$O$2),$P$2,IF(AND(B321=$N$2,C321=$O$3),$P$3,IF(AND(B321=$N$4,C321=$O$2),$P$4,IF(AND(B321=Data!A311,C321=$O$3),$P$5,0))))))","v":""}]
[null,null,null,null,null,null,{"$f":"IF(OR(D322=\"Excont\",D322=\"\"),\"\",IF(D322=\"URFU\",IF(AND(B322=$N$2,C322=$O$2),$P$2,IF(AND(B322=$N$2,C322=$O$3),$P$3,IF(AND(B322=$N$4,C322=$O$2),$P$4,IF(AND(B322=Data!A312,C322=$O$3),$P$5,0))))))","v":""}]
[null,null,null,null,null,null,{"$f":"IF(OR(D323=\"Excont\",D323=\"\"),\"\",IF(D323=\"URFU\",IF(AND(B323=$N$2,C323=$O$2),$P$2,IF(AND(B323=$N$2,C323=$O$3),$P$3,IF(AND(B323=$N$4,C323=$O$2),$P$4,IF(AND(B323=Data!A313,C323=$O$3),$P$5,0))))))","v":""}]
[null,null,null,null,null,null,{"$f":"IF(OR(D324=\"Excont\",D324=\"\"),\"\",IF(D324=\"URFU\",IF(AND(B324=$N$2,C324=$O$2),$P$2,IF(AND(B324=$N$2,C324=$O$3),$P$3,IF(AND(B324=$N$4,C324=$O$2),$P$4,IF(AND(B324=Data!A314,C324=$O$3),$P$5,0))))))","v":""}]
[null,null,null,null,null,null,{"$f":"IF(OR(D325=\"Excont\",D325=\"\"),\"\",IF(D325=\"URFU\",IF(AND(B325=$N$2,C325=$O$2),$P$2,IF(AND(B325=$N$2,C325=$O$3),$P$3,IF(AND(B325=$N$4,C325=$O$2),$P$4,IF(AND(B325=Data!A315,C325=$O$3),$P$5,0))))))","v":""}]
[null,null,null,null,null,null,{"$f":"IF(OR(D326=\"Excont\",D326=\"\"),\"\",IF(D326=\"URFU\",IF(AND(B326=$N$2,C326=$O$2),$P$2,IF(AND(B326=$N$2,C326=$O$3),$P$3,IF(AND(B326=$N$4,C326=$O$2),$P$4,IF(AND(B326=Data!A316,C326=$O$3),$P$5,0))))))","v":""}]
[null,null,null,null,null,null,{"$f":"IF(OR(D327=\"Excont\",D327=\"\"),\"\",IF(D327=\"URFU\",IF(AND(B327=$N$2,C327=$O$2),$P$2,IF(AND(B327=$N$2,C327=$O$3),$P$3,IF(AND(B327=$N$4,C327=$O$2),$P$4,IF(AND(B327=Data!A317,C327=$O$3),$P$5,0))))))","v":""}]
[null,null,null,null,null,null,{"$f":"IF(OR(D328=\"Excont\",D328=\"\"),\"\",IF(D328=\"URFU\",IF(AND(B328=$N$2,C328=$O$2),$P$2,IF(AND(B328=$N$2,C328=$O$3),$P$3,IF(AND(B328=$N$4,C328=$O$2),$P$4,IF(AND(B328=Data!A318,C328=$O$3),$P$5,0))))))","v":""}]
[null,null,null,null,null,null,{"$f":"IF(OR(D329=\"Excont\",D329=\"\"),\"\",IF(D329=\"URFU\",IF(AND(B329=$N$2,C329=$O$2),$P$2,IF(AND(B329=$N$2,C329=$O$3),$P$3,IF(AND(B329=$N$4,C329=$O$2),$P$4,IF(AND(B329=Data!A319,C329=$O$3),$P$5,0))))))","v":""}]
[null,null,null,null,null,null,{"$f":"IF(OR(D330=\"Excont\",D330=\"\"),\"\",IF(D330=\"URFU\",IF(AND(B330=$N$2,C330=$O$2),$P$2,IF(AND(B330=$N$2,C330=$O$3),$P$3,IF(AND(B330=$N$4,C330=$O$2),$P$4,IF(AND(B330=Data!A320,C330=$O$3),$P$5,0))))))","v":""}]
[null,null,null,null,null,null,{"$f":"IF(OR(D331=\"Excont\",D331=\"\"),\"\",IF(D331=\"URFU\",IF(AND(B331=$N$2,C331=$O$2),$P$2,IF(AND(B331=$N$2,C331=$O$3),$P$3,IF(AND(B331=$N$4,C331=$O$2),$P$4,IF(AND(B331=Data!A321,C331=$O$3),$P$5,0))))))","v":""}]
[null,null,null,null,null,null,{"$f":"IF(OR(D332=\"Excont\",D332=\"\"),\"\",IF(D332=\"URFU\",IF(AND(B332=$N$2,C332=$O$2),$P$2,IF(AND(B332=$N$2,C332=$O$3),$P$3,IF(AND(B332=$N$4,C332=$O$2),$P$4,IF(AND(B332=Data!A322,C332=$O$3),$P$5,0))))))","v":""}]
[null,null,null,null,null,null,{"$f":"IF(OR(D333=\"Excont\",D333=\"\"),\"\",IF(D333=\"URFU\",IF(AND(B333=$N$2,C333=$O$2),$P$2,IF(AND(B333=$N$2,C333=$O$3),$P$3,IF(AND(B333=$N$4,C333=$O$2),$P$4,IF(AND(B333=Data!A323,C333=$O$3),$P$5,0))))))","v":""}]
[null,null,null,null,null,null,{"$f":"IF(OR(D334=\"Excont\",D334=\"\"),\"\",IF(D334=\"URFU\",IF(AND(B334=$N$2,C334=$O$2),$P$2,IF(AND(B334=$N$2,C334=$O$3),$P$3,IF(AND(B334=$N$4,C334=$O$2),$P$4,IF(AND(B334=Data!A324,C334=$O$3),$P$5,0))))))","v":""}]
[null,null,null,null,null,null,{"$f":"IF(OR(D335=\"Excont\",D335=\"\"),\"\",IF(D335=\"URFU\",IF(AND(B335=$N$2,C335=$O$2),$P$2,IF(AND(B335=$N$2,C335=$O$3),$P$3,IF(AND(B335=$N$4,C335=$O$2),$P$4,IF(AND(B335=Data!A325,C335=$O$3),$P$5,0))))))","v":""}]
[null,null,null,null,null,null,{"$f":"IF(OR(D336=\"Excont\",D336=\"\"),\"\",IF(D336=\"URFU\",IF(AND(B336=$N$2,C336=$O$2),$P$2,IF(AND(B336=$N$2,C336=$O$3),$P$3,IF(AND(B336=$N$4,C336=$O$2),$P$4,IF(AND(B336=Data!A326,C336=$O$3),$P$5,0))))))","v":""}]
[null,null,null,null,null,null,{"$f":"IF(OR(D337=\"Excont\",D337=\"\"),\"\",IF(D337=\"URFU\",IF(AND(B337=$N$2,C337=$O$2),$P$2,IF(AND(B337=$N$2,C337=$O$3),$P$3,IF(AND(B337=$N$4,C337=$O$2),$P$4,IF(AND(B337=Data!A327,C337=$O$3),$P$5,0))))))","v":""}]
[null,null,null,null,null,null,{"$f":"IF(OR(D338=\"Excont\",D338=\"\"),\"\",IF(D338=\"URFU\",IF(AND(B338=$N$2,C338=$O$2),$P$2,IF(AND(B338=$N$2,C338=$O$3),$P$3,IF(AND(B338=$N$4,C338=$O$2),$P$4,IF(AND(B338=Data!A328,C338=$O$3),$P$5,0))))))","v":""}]
[null,null,null,null,null,null,{"$f":"IF(OR(D339=\"Excont\",D339=\"\"),\"\",IF(D339=\"URFU\",IF(AND(B339=$N$2,C339=$O$2),$P$2,IF(AND(B339=$N$2,C339=$O$3),$P$3,IF(AND(B339=$N$4,C339=$O$2),$P$4,IF(AND(B339=Data!A329,C339=$O$3),$P$5,0))))))","v":""}]
[null,null,null,null,null,null,{"$f":"IF(OR(D340=\"Excont\",D340=\"\"),\"\",IF(D340=\"URFU\",IF(AND(B340=$N$2,C340=$O$2),$P$2,IF(AND(B340=$N$2,C340=$O$3),$P$3,IF(AND(B340=$N$4,C340=$O$2),$P$4,IF(AND(B340=Data!A330,C340=$O$3),$P$5,0))))))","v":""}]
[null,null,null,null,null,null,{"$f":"IF(OR(D341=\"Excont\",D341=\"\"),\"\",IF(D341=\"URFU\",IF(AND(B341=$N$2,C341=$O$2),$P$2,IF(AND(B341=$N$2,C341=$O$3),$P$3,IF(AND(B341=$N$4,C341=$O$2),$P$4,IF(AND(B341=Data!A331,C341=$O$3),$P$5,0))))))","v":""}]
[null,null,null,null,null,null,{"$f":"IF(OR(D342=\"Excont\",D342=\"\"),\"\",IF(D342=\"URFU\",IF(AND(B342=$N$2,C342=$O$2),$P$2,IF(AND(B342=$N$2,C342=$O$3),$P$3,IF(AND(B342=$N$4,C342=$O$2),$P$4,IF(AND(B342=Data!A332,C342=$O$3),$P$5,0))))))","v":""}]
[null,null,null,null,null,null,{"$f":"IF(OR(D343=\"Excont\",D343=\"\"),\"\",IF(D343=\"URFU\",IF(AND(B343=$N$2,C343=$O$2),$P$2,IF(AND(B343=$N$2,C343=$O$3),$P$3,IF(AND(B343=$N$4,C343=$O$2),$P$4,IF(AND(B343=Data!A333,C343=$O$3),$P$5,0))))))","v":""}]
[null,null,null,null,null,null,{"$f":"IF(OR(D344=\"Excont\",D344=\"\"),\"\",IF(D344=\"URFU\",IF(AND(B344=$N$2,C344=$O$2),$P$2,IF(AND(B344=$N$2,C344=$O$3),$P$3,IF(AND(B344=$N$4,C344=$O$2),$P$4,IF(AND(B344=Data!A334,C344=$O$3),$P$5,0))))))","v":""}]
[null,null,null,null,null,null,{"$f":"IF(OR(D345=\"Excont\",D345=\"\"),\"\",IF(D345=\"URFU\",IF(AND(B345=$N$2,C345=$O$2),$P$2,IF(AND(B345=$N$2,C345=$O$3),$P$3,IF(AND(B345=$N$4,C345=$O$2),$P$4,IF(AND(B345=Data!A335,C345=$O$3),$P$5,0))))))","v":""}]
[null,null,null,null,null,null,{"$f":"IF(OR(D346=\"Excont\",D346=\"\"),\"\",IF(D346=\"URFU\",IF(AND(B346=$N$2,C346=$O$2),$P$2,IF(AND(B346=$N$2,C346=$O$3),$P$3,IF(AND(B346=$N$4,C346=$O$2),$P$4,IF(AND(B346=Data!A336,C346=$O$3),$P$5,0))))))","v":""}]
[null,null,null,null,null,null,{"$f":"IF(OR(D347=\"Excont\",D347=\"\"),\"\",IF(D347=\"URFU\",IF(AND(B347=$N$2,C347=$O$2),$P$2,IF(AND(B347=$N$2,C347=$O$3),$P$3,IF(AND(B347=$N$4,C347=$O$2),$P$4,IF(AND(B347=Data!A337,C347=$O$3),$P$5,0))))))","v":""}]
[null,null,null,null,null,null,{"$f":"IF(OR(D348=\"Excont\",D348=\"\"),\"\",IF(D348=\"URFU\",IF(AND(B348=$N$2,C348=$O$2),$P$2,IF(AND(B348=$N$2,C348=$O$3),$P$3,IF(AND(B348=$N$4,C348=$O$2),$P$4,IF(AND(B348=Data!A338,C348=$O$3),$P$5,0))))))","v":""}]
[null,null,null,null,null,null,{"$f":"IF(OR(D349=\"Excont\",D349=\"\"),\"\",IF(D349=\"URFU\",IF(AND(B349=$N$2,C349=$O$2),$P$2,IF(AND(B349=$N$2,C349=$O$3),$P$3,IF(AND(B349=$N$4,C349=$O$2),$P$4,IF(AND(B349=Data!A339,C349=$O$3),$P$5,0))))))","v":""}]
[null,null,null,null,null,null,{"$f":"IF(OR(D350=\"Excont\",D350=\"\"),\"\",IF(D350=\"URFU\",IF(AND(B350=$N$2,C350=$O$2),$P$2,IF(AND(B350=$N$2,C350=$O$3),$P$3,IF(AND(B350=$N$4,C350=$O$2),$P$4,IF(AND(B350=Data!A340,C350=$O$3),$P$5,0))))))","v":""}]
[null,null,null,null,null,null,{"$f":"IF(OR(D351=\"Excont\",D351=\"\"),\"\",IF(D351=\"URFU\",IF(AND(B351=$N$2,C351=$O$2),$P$2,IF(AND(B351=$N$2,C351=$O$3),$P$3,IF(AND(B351=$N$4,C351=$O$2),$P$4,IF(AND(B351=Data!A341,C351=$O$3),$P$5,0))))))","v":""}]
[null,null,null,null,null,null,{"$f":"IF(OR(D352=\"Excont\",D352=\"\"),\"\",IF(D352=\"URFU\",IF(AND(B352=$N$2,C352=$O$2),$P$2,IF(AND(B352=$N$2,C352=$O$3),$P$3,IF(AND(B352=$N$4,C352=$O$2),$P$4,IF(AND(B352=Data!A342,C352=$O$3),$P$5,0))))))","v":""}]
[null,null,null,null,null,null,{"$f":"IF(OR(D353=\"Excont\",D353=\"\"),\"\",IF(D353=\"URFU\",IF(AND(B353=$N$2,C353=$O$2),$P$2,IF(AND(B353=$N$2,C353=$O$3),$P$3,IF(AND(B353=$N$4,C353=$O$2),$P$4,IF(AND(B353=Data!A343,C353=$O$3),$P$5,0))))))","v":""}]
[null,null,null,null,null,null,{"$f":"IF(OR(D354=\"Excont\",D354=\"\"),\"\",IF(D354=\"URFU\",IF(AND(B354=$N$2,C354=$O$2),$P$2,IF(AND(B354=$N$2,C354=$O$3),$P$3,IF(AND(B354=$N$4,C354=$O$2),$P$4,IF(AND(B354=Data!A344,C354=$O$3),$P$5,0))))))","v":""}]
[null,null,null,null,null,null,{"$f":"IF(OR(D355=\"Excont\",D355=\"\"),\"\",IF(D355=\"URFU\",IF(AND(B355=$N$2,C355=$O$2),$P$2,IF(AND(B355=$N$2,C355=$O$3),$P$3,IF(AND(B355=$N$4,C355=$O$2),$P$4,IF(AND(B355=Data!A345,C355=$O$3),$P$5,0))))))","v":""}]
[null,null,null,null,null,null,{"$f":"IF(OR(D356=\"Excont\",D356=\"\"),\"\",IF(D356=\"URFU\",IF(AND(B356=$N$2,C356=$O$2),$P$2,IF(AND(B356=$N$2,C356=$O$3),$P$3,IF(AND(B356=$N$4,C356=$O$2),$P$4,IF(AND(B356=Data!A346,C356=$O$3),$P$5,0))))))","v":""}]
[null,null,null,null,null,null,{"$f":"IF(OR(D357=\"Excont\",D357=\"\"),\"\",IF(D357=\"URFU\",IF(AND(B357=$N$2,C357=$O$2),$P$2,IF(AND(B357=$N$2,C357=$O$3),$P$3,IF(AND(B357=$N$4,C357=$O$2),$P$4,IF(AND(B357=Data!A347,C357=$O$3),$P$5,0))))))","v":""}]
[null,null,null,null,null,null,{"$f":"IF(OR(D358=\"Excont\",D358=\"\"),\"\",IF(D358=\"URFU\",IF(AND(B358=$N$2,C358=$O$2),$P$2,IF(AND(B358=$N$2,C358=$O$3),$P$3,IF(AND(B358=$N$4,C358=$O$2),$P$4,IF(AND(B358=Data!A348,C358=$O$3),$P$5,0))))))","v":""}]
[null,null,null,null,null,null,{"$f":"IF(OR(D359=\"Excont\",D359=\"\"),\"\",IF(D359=\"URFU\",IF(AND(B359=$N$2,C359=$O$2),$P$2,IF(AND(B359=$N$2,C359=$O$3),$P$3,IF(AND(B359=$N$4,C359=$O$2),$P$4,IF(AND(B359=Data!A349,C359=$O$3),$P$5,0))))))","v":""}]
[null,null,null,null,null,null,{"$f":"IF(OR(D360=\"Excont\",D360=\"\"),\"\",IF(D360=\"URFU\",IF(AND(B360=$N$2,C360=$O$2),$P$2,IF(AND(B360=$N$2,C360=$O$3),$P$3,IF(AND(B360=$N$4,C360=$O$2),$P$4,IF(AND(B360=Data!A350,C360=$O$3),$P$5,0))))))","v":""}]
[null,null,null,null,null,null,{"$f":"IF(OR(D361=\"Excont\",D361=\"\"),\"\",IF(D361=\"URFU\",IF(AND(B361=$N$2,C361=$O$2),$P$2,IF(AND(B361=$N$2,C361=$O$3),$P$3,IF(AND(B361=$N$4,C361=$O$2),$P$4,IF(AND(B361=Data!A351,C361=$O$3),$P$5,0))))))","v":""}]
[null,null,null,null,null,null,{"$f":"IF(OR(D362=\"Excont\",D362=\"\"),\"\",IF(D362=\"URFU\",IF(AND(B362=$N$2,C362=$O$2),$P$2,IF(AND(B362=$N$2,C362=$O$3),$P$3,IF(AND(B362=$N$4,C362=$O$2),$P$4,IF(AND(B362=Data!A352,C362=$O$3),$P$5,0))))))","v":""}]
[null,null,null,null,null,null,{"$f":"IF(OR(D363=\"Excont\",D363=\"\"),\"\",IF(D363=\"URFU\",IF(AND(B363=$N$2,C363=$O$2),$P$2,IF(AND(B363=$N$2,C363=$O$3),$P$3,IF(AND(B363=$N$4,C363=$O$2),$P$4,IF(AND(B363=Data!A353,C363=$O$3),$P$5,0))))))","v":""}]
[null,null,null,null,null,null,{"$f":"IF(OR(D364=\"Excont\",D364=\"\"),\"\",IF(D364=\"URFU\",IF(AND(B364=$N$2,C364=$O$2),$P$2,IF(AND(B364=$N$2,C364=$O$3),$P$3,IF(AND(B364=$N$4,C364=$O$2),$P$4,IF(AND(B364=Data!A354,C364=$O$3),$P$5,0))))))","v":""}]
[null,null,null,null,null,null,{"$f":"IF(OR(D365=\"Excont\",D365=\"\"),\"\",IF(D365=\"URFU\",IF(AND(B365=$N$2,C365=$O$2),$P$2,IF(AND(B365=$N$2,C365=$O$3),$P$3,IF(AND(B365=$N$4,C365=$O$2),$P$4,IF(AND(B365=Data!A355,C365=$O$3),$P$5,0))))))","v":""}]
[null,null,null,null,null,null,{"$f":"IF(OR(D366=\"Excont\",D366=\"\"),\"\",IF(D366=\"URFU\",IF(AND(B366=$N$2,C366=$O$2),$P$2,IF(AND(B366=$N$2,C366=$O$3),$P$3,IF(AND(B366=$N$4,C366=$O$2),$P$4,IF(AND(B366=Data!A356,C366=$O$3),$P$5,0))))))","v":""}]
[null,null,null,null,null,null,{"$f":"IF(OR(D367=\"Excont\",D367=\"\"),\"\",IF(D367=\"URFU\",IF(AND(B367=$N$2,C367=$O$2),$P$2,IF(AND(B367=$N$2,C367=$O$3),$P$3,IF(AND(B367=$N$4,C367=$O$2),$P$4,IF(AND(B367=Data!A357,C367=$O$3),$P$5,0))))))","v":""}]
[null,null,null,null,null,null,{"$f":"IF(OR(D368=\"Excont\",D368=\"\"),\"\",IF(D368=\"URFU\",IF(AND(B368=$N$2,C368=$O$2),$P$2,IF(AND(B368=$N$2,C368=$O$3),$P$3,IF(AND(B368=$N$4,C368=$O$2),$P$4,IF(AND(B368=Data!A358,C368=$O$3),$P$5,0))))))","v":""}]
[null,null,null,null,null,null,{"$f":"IF(OR(D369=\"Excont\",D369=\"\"),\"\",IF(D369=\"URFU\",IF(AND(B369=$N$2,C369=$O$2),$P$2,IF(AND(B369=$N$2,C369=$O$3),$P$3,IF(AND(B369=$N$4,C369=$O$2),$P$4,IF(AND(B369=Data!A359,C369=$O$3),$P$5,0))))))","v":""}]
[null,null,null,null,null,null,{"$f":"IF(OR(D370=\"Excont\",D370=\"\"),\"\",IF(D370=\"URFU\",IF(AND(B370=$N$2,C370=$O$2),$P$2,IF(AND(B370=$N$2,C370=$O$3),$P$3,IF(AND(B370=$N$4,C370=$O$2),$P$4,IF(AND(B370=Data!A360,C370=$O$3),$P$5,0))))))","v":""}]
[null,null,null,null,null,null,{"$f":"IF(OR(D371=\"Excont\",D371=\"\"),\"\",IF(D371=\"URFU\",IF(AND(B371=$N$2,C371=$O$2),$P$2,IF(AND(B371=$N$2,C371=$O$3),$P$3,IF(AND(B371=$N$4,C371=$O$2),$P$4,IF(AND(B371=Data!A361,C371=$O$3),$P$5,0))))))","v":""}]
[null,null,null,null,null,null,{"$f":"IF(OR(D372=\"Excont\",D372=\"\"),\"\",IF(D372=\"URFU\",IF(AND(B372=$N$2,C372=$O$2),$P$2,IF(AND(B372=$N$2,C372=$O$3),$P$3,IF(AND(B372=$N$4,C372=$O$2),$P$4,IF(AND(B372=Data!A362,C372=$O$3),$P$5,0))))))","v":""}]
[null,null,null,null,null,null,{"$f":"IF(OR(D373=\"Excont\",D373=\"\"),\"\",IF(D373=\"URFU\",IF(AND(B373=$N$2,C373=$O$2),$P$2,IF(AND(B373=$N$2,C373=$O$3),$P$3,IF(AND(B373=$N$4,C373=$O$2),$P$4,IF(AND(B373=Data!A363,C373=$O$3),$P$5,0))))))","v":""}]
[null,null,null,null,null,null,{"$f":"IF(OR(D374=\"Excont\",D374=\"\"),\"\",IF(D374=\"URFU\",IF(AND(B374=$N$2,C374=$O$2),$P$2,IF(AND(B374=$N$2,C374=$O$3),$P$3,IF(AND(B374=$N$4,C374=$O$2),$P$4,IF(AND(B374=Data!A364,C374=$O$3),$P$5,0))))))","v":""}]
[null,null,null,null,null,null,{"$f":"IF(OR(D375=\"Excont\",D375=\"\"),\"\",IF(D375=\"URFU\",IF(AND(B375=$N$2,C375=$O$2),$P$2,IF(AND(B375=$N$2,C375=$O$3),$P$3,IF(AND(B375=$N$4,C375=$O$2),$P$4,IF(AND(B375=Data!A365,C375=$O$3),$P$5,0))))))","v":""}]
[null,null,null,null,null,null,{"$f":"IF(OR(D376=\"Excont\",D376=\"\"),\"\",IF(D376=\"URFU\",IF(AND(B376=$N$2,C376=$O$2),$P$2,IF(AND(B376=$N$2,C376=$O$3),$P$3,IF(AND(B376=$N$4,C376=$O$2),$P$4,IF(AND(B376=Data!A366,C376=$O$3),$P$5,0))))))","v":""}]
[null,null,null,null,null,null,{"$f":"IF(OR(D377=\"Excont\",D377=\"\"),\"\",IF(D377=\"URFU\",IF(AND(B377=$N$2,C377=$O$2),$P$2,IF(AND(B377=$N$2,C377=$O$3),$P$3,IF(AND(B377=$N$4,C377=$O$2),$P$4,IF(AND(B377=Data!A367,C377=$O$3),$P$5,0))))))","v":""}]
[null,null,null,null,null,null,{"$f":"IF(OR(D378=\"Excont\",D378=\"\"),\"\",IF(D378=\"URFU\",IF(AND(B378=$N$2,C378=$O$2),$P$2,IF(AND(B378=$N$2,C378=$O$3),$P$3,IF(AND(B378=$N$4,C378=$O$2),$P$4,IF(AND(B378=Data!A368,C378=$O$3),$P$5,0))))))","v":""}]
[null,null,null,null,null,null,{"$f":"IF(OR(D379=\"Excont\",D379=\"\"),\"\",IF(D379=\"URFU\",IF(AND(B379=$N$2,C379=$O$2),$P$2,IF(AND(B379=$N$2,C379=$O$3),$P$3,IF(AND(B379=$N$4,C379=$O$2),$P$4,IF(AND(B379=Data!A369,C379=$O$3),$P$5,0))))))","v":""}]
[null,null,null,null,null,null,{"$f":"IF(OR(D380=\"Excont\",D380=\"\"),\"\",IF(D380=\"URFU\",IF(AND(B380=$N$2,C380=$O$2),$P$2,IF(AND(B380=$N$2,C380=$O$3),$P$3,IF(AND(B380=$N$4,C380=$O$2),$P$4,IF(AND(B380=Data!A370,C380=$O$3),$P$5,0))))))","v":""}]
[null,null,null,null,null,null,{"$f":"IF(OR(D381=\"Excont\",D381=\"\"),\"\",IF(D381=\"URFU\",IF(AND(B381=$N$2,C381=$O$2),$P$2,IF(AND(B381=$N$2,C381=$O$3),$P$3,IF(AND(B381=$N$4,C381=$O$2),$P$4,IF(AND(B381=Data!A371,C381=$O$3),$P$5,0))))))","v":""}]
[null,null,null,null,null,null,{"$f":"IF(OR(D382=\"Excont\",D382=\"\"),\"\",IF(D382=\"URFU\",IF(AND(B382=$N$2,C382=$O$2),$P$2,IF(AND(B382=$N$2,C382=$O$3),$P$3,IF(AND(B382=$N$4,C382=$O$2),$P$4,IF(AND(B382=Data!A372,C382=$O$3),$P$5,0))))))","v":""}]
[null,null,null,null,null,null,{"$f":"IF(OR(D383=\"Excont\",D383=\"\"),\"\",IF(D383=\"URFU\",IF(AND(B383=$N$2,C383=$O$2),$P$2,IF(AND(B383=$N$2,C383=$O$3),$P$3,IF(AND(B383=$N$4,C383=$O$2),$P$4,IF(AND(B383=Data!A373,C383=$O$3),$P$5,0))))))","v":""}]
[null,null,null,null,null,null,{"$f":"IF(OR(D384=\"Excont\",D384=\"\"),\"\",IF(D384=\"URFU\",IF(AND(B384=$N$2,C384=$O$2),$P$2,IF(AND(B384=$N$2,C384=$O$3),$P$3,IF(AND(B384=$N$4,C384=$O$2),$P$4,IF(AND(B384=Data!A374,C384=$O$3),$P$5,0))))))","v":""}]
[null,null,null,null,null,null,{"$f":"IF(OR(D385=\"Excont\",D385=\"\"),\"\",IF(D385=\"URFU\",IF(AND(B385=$N$2,C385=$O$2),$P$2,IF(AND(B385=$N$2,C385=$O$3),$P$3,IF(AND(B385=$N$4,C385=$O$2),$P$4,IF(AND(B385=Data!A375,C385=$O$3),$P$5,0))))))","v":""}]
[null,null,null,null,null,null,{"$f":"IF(OR(D386=\"Excont\",D386=\"\"),\"\",IF(D386=\"URFU\",IF(AND(B386=$N$2,C386=$O$2),$P$2,IF(AND(B386=$N$2,C386=$O$3),$P$3,IF(AND(B386=$N$4,C386=$O$2),$P$4,IF(AND(B386=Data!A376,C386=$O$3),$P$5,0))))))","v":""}]
[null,null,null,null,null,null,{"$f":"IF(OR(D387=\"Excont\",D387=\"\"),\"\",IF(D387=\"URFU\",IF(AND(B387=$N$2,C387=$O$2),$P$2,IF(AND(B387=$N$2,C387=$O$3),$P$3,IF(AND(B387=$N$4,C387=$O$2),$P$4,IF(AND(B387=Data!A377,C387=$O$3),$P$5,0))))))","v":""}]
[null,null,null,null,null,null,{"$f":"IF(OR(D388=\"Excont\",D388=\"\"),\"\",IF(D388=\"URFU\",IF(AND(B388=$N$2,C388=$O$2),$P$2,IF(AND(B388=$N$2,C388=$O$3),$P$3,IF(AND(B388=$N$4,C388=$O$2),$P$4,IF(AND(B388=Data!A378,C388=$O$3),$P$5,0))))))","v":""}]
[null,null,null,null,null,null,{"$f":"IF(OR(D389=\"Excont\",D389=\"\"),\"\",IF(D389=\"URFU\",IF(AND(B389=$N$2,C389=$O$2),$P$2,IF(AND(B389=$N$2,C389=$O$3),$P$3,IF(AND(B389=$N$4,C389=$O$2),$P$4,IF(AND(B389=Data!A379,C389=$O$3),$P$5,0))))))","v":""}]
[null,null,null,null,null,null,{"$f":"IF(OR(D390=\"Excont\",D390=\"\"),\"\",IF(D390=\"URFU\",IF(AND(B390=$N$2,C390=$O$2),$P$2,IF(AND(B390=$N$2,C390=$O$3),$P$3,IF(AND(B390=$N$4,C390=$O$2),$P$4,IF(AND(B390=Data!A380,C390=$O$3),$P$5,0))))))","v":""}]
[null,null,null,null,null,null,{"$f":"IF(OR(D391=\"Excont\",D391=\"\"),\"\",IF(D391=\"URFU\",IF(AND(B391=$N$2,C391=$O$2),$P$2,IF(AND(B391=$N$2,C391=$O$3),$P$3,IF(AND(B391=$N$4,C391=$O$2),$P$4,IF(AND(B391=Data!A381,C391=$O$3),$P$5,0))))))","v":""}]
[null,null,null,null,null,null,{"$f":"IF(OR(D392=\"Excont\",D392=\"\"),\"\",IF(D392=\"URFU\",IF(AND(B392=$N$2,C392=$O$2),$P$2,IF(AND(B392=$N$2,C392=$O$3),$P$3,IF(AND(B392=$N$4,C392=$O$2),$P$4,IF(AND(B392=Data!A382,C392=$O$3),$P$5,0))))))","v":""}]
[null,null,null,null,null,null,{"$f":"IF(OR(D393=\"Excont\",D393=\"\"),\"\",IF(D393=\"URFU\",IF(AND(B393=$N$2,C393=$O$2),$P$2,IF(AND(B393=$N$2,C393=$O$3),$P$3,IF(AND(B393=$N$4,C393=$O$2),$P$4,IF(AND(B393=Data!A383,C393=$O$3),$P$5,0))))))","v":""}]
[null,null,null,null,null,null,{"$f":"IF(OR(D394=\"Excont\",D394=\"\"),\"\",IF(D394=\"URFU\",IF(AND(B394=$N$2,C394=$O$2),$P$2,IF(AND(B394=$N$2,C394=$O$3),$P$3,IF(AND(B394=$N$4,C394=$O$2),$P$4,IF(AND(B394=Data!A384,C394=$O$3),$P$5,0))))))","v":""}]
[null,null,null,null,null,null,{"$f":"IF(OR(D395=\"Excont\",D395=\"\"),\"\",IF(D395=\"URFU\",IF(AND(B395=$N$2,C395=$O$2),$P$2,IF(AND(B395=$N$2,C395=$O$3),$P$3,IF(AND(B395=$N$4,C395=$O$2),$P$4,IF(AND(B395=Data!A385,C395=$O$3),$P$5,0))))))","v":""}]
[null,null,null,null,null,null,{"$f":"IF(OR(D396=\"Excont\",D396=\"\"),\"\",IF(D396=\"URFU\",IF(AND(B396=$N$2,C396=$O$2),$P$2,IF(AND(B396=$N$2,C396=$O$3),$P$3,IF(AND(B396=$N$4,C396=$O$2),$P$4,IF(AND(B396=Data!A386,C396=$O$3),$P$5,0))))))","v":""}]
[null,null,null,null,null,null,{"$f":"IF(OR(D397=\"Excont\",D397=\"\"),\"\",IF(D397=\"URFU\",IF(AND(B397=$N$2,C397=$O$2),$P$2,IF(AND(B397=$N$2,C397=$O$3),$P$3,IF(AND(B397=$N$4,C397=$O$2),$P$4,IF(AND(B397=Data!A387,C397=$O$3),$P$5,0))))))","v":""}]
[null,null,null,null,null,null,{"$f":"IF(OR(D398=\"Excont\",D398=\"\"),\"\",IF(D398=\"URFU\",IF(AND(B398=$N$2,C398=$O$2),$P$2,IF(AND(B398=$N$2,C398=$O$3),$P$3,IF(AND(B398=$N$4,C398=$O$2),$P$4,IF(AND(B398=Data!A388,C398=$O$3),$P$5,0))))))","v":""}]
[null,null,null,null,null,null,{"$f":"IF(OR(D399=\"Excont\",D399=\"\"),\"\",IF(D399=\"URFU\",IF(AND(B399=$N$2,C399=$O$2),$P$2,IF(AND(B399=$N$2,C399=$O$3),$P$3,IF(AND(B399=$N$4,C399=$O$2),$P$4,IF(AND(B399=Data!A389,C399=$O$3),$P$5,0))))))","v":""}]
[null,null,null,null,null,null,{"$f":"IF(OR(D400=\"Excont\",D400=\"\"),\"\",IF(D400=\"URFU\",IF(AND(B400=$N$2,C400=$O$2),$P$2,IF(AND(B400=$N$2,C400=$O$3),$P$3,IF(AND(B400=$N$4,C400=$O$2),$P$4,IF(AND(B400=Data!A390,C400=$O$3),$P$5,0))))))","v":""}]
[null,null,null,null,null,null,{"$f":"IF(OR(D401=\"Excont\",D401=\"\"),\"\",IF(D401=\"URFU\",IF(AND(B401=$N$2,C401=$O$2),$P$2,IF(AND(B401=$N$2,C401=$O$3),$P$3,IF(AND(B401=$N$4,C401=$O$2),$P$4,IF(AND(B401=Data!A391,C401=$O$3),$P$5,0))))))","v":""}]
[null,null,null,null,null,null,{"$f":"IF(OR(D402=\"Excont\",D402=\"\"),\"\",IF(D402=\"URFU\",IF(AND(B402=$N$2,C402=$O$2),$P$2,IF(AND(B402=$N$2,C402=$O$3),$P$3,IF(AND(B402=$N$4,C402=$O$2),$P$4,IF(AND(B402=Data!A392,C402=$O$3),$P$5,0))))))","v":""}]
[null,null,null,null,null,null,{"$f":"IF(OR(D403=\"Excont\",D403=\"\"),\"\",IF(D403=\"URFU\",IF(AND(B403=$N$2,C403=$O$2),$P$2,IF(AND(B403=$N$2,C403=$O$3),$P$3,IF(AND(B403=$N$4,C403=$O$2),$P$4,IF(AND(B403=Data!A393,C403=$O$3),$P$5,0))))))","v":""}]
[null,null,null,null,null,null,{"$f":"IF(OR(D404=\"Excont\",D404=\"\"),\"\",IF(D404=\"URFU\",IF(AND(B404=$N$2,C404=$O$2),$P$2,IF(AND(B404=$N$2,C404=$O$3),$P$3,IF(AND(B404=$N$4,C404=$O$2),$P$4,IF(AND(B404=Data!A394,C404=$O$3),$P$5,0))))))","v":""}]
[null,null,null,null,null,null,{"$f":"IF(OR(D405=\"Excont\",D405=\"\"),\"\",IF(D405=\"URFU\",IF(AND(B405=$N$2,C405=$O$2),$P$2,IF(AND(B405=$N$2,C405=$O$3),$P$3,IF(AND(B405=$N$4,C405=$O$2),$P$4,IF(AND(B405=Data!A395,C405=$O$3),$P$5,0))))))","v":""}]
[null,null,null,null,null,null,{"$f":"IF(OR(D406=\"Excont\",D406=\"\"),\"\",IF(D406=\"URFU\",IF(AND(B406=$N$2,C406=$O$2),$P$2,IF(AND(B406=$N$2,C406=$O$3),$P$3,IF(AND(B406=$N$4,C406=$O$2),$P$4,IF(AND(B406=Data!A396,C406=$O$3),$P$5,0))))))","v":""}]
[null,null,null,null,null,null,{"$f":"IF(OR(D407=\"Excont\",D407=\"\"),\"\",IF(D407=\"URFU\",IF(AND(B407=$N$2,C407=$O$2),$P$2,IF(AND(B407=$N$2,C407=$O$3),$P$3,IF(AND(B407=$N$4,C407=$O$2),$P$4,IF(AND(B407=Data!A397,C407=$O$3),$P$5,0))))))","v":""}]
[null,null,null,null,null,null,{"$f":"IF(OR(D408=\"Excont\",D408=\"\"),\"\",IF(D408=\"URFU\",IF(AND(B408=$N$2,C408=$O$2),$P$2,IF(AND(B408=$N$2,C408=$O$3),$P$3,IF(AND(B408=$N$4,C408=$O$2),$P$4,IF(AND(B408=Data!A398,C408=$O$3),$P$5,0))))))","v":""}]
[null,null,null,null,null,null,{"$f":"IF(OR(D409=\"Excont\",D409=\"\"),\"\",IF(D409=\"URFU\",IF(AND(B409=$N$2,C409=$O$2),$P$2,IF(AND(B409=$N$2,C409=$O$3),$P$3,IF(AND(B409=$N$4,C409=$O$2),$P$4,IF(AND(B409=Data!A399,C409=$O$3),$P$5,0))))))","v":""}]
[null,null,null,null,null,null,{"$f":"IF(OR(D410=\"Excont\",D410=\"\"),\"\",IF(D410=\"URFU\",IF(AND(B410=$N$2,C410=$O$2),$P$2,IF(AND(B410=$N$2,C410=$O$3),$P$3,IF(AND(B410=$N$4,C410=$O$2),$P$4,IF(AND(B410=Data!A400,C410=$O$3),$P$5,0))))))","v":""}]
[null,null,null,null,null,null,{"$f":"IF(OR(D411=\"Excont\",D411=\"\"),\"\",IF(D411=\"URFU\",IF(AND(B411=$N$2,C411=$O$2),$P$2,IF(AND(B411=$N$2,C411=$O$3),$P$3,IF(AND(B411=$N$4,C411=$O$2),$P$4,IF(AND(B411=Data!A401,C411=$O$3),$P$5,0))))))","v":""}]
[null,null,null,null,null,null,{"$f":"IF(OR(D412=\"Excont\",D412=\"\"),\"\",IF(D412=\"URFU\",IF(AND(B412=$N$2,C412=$O$2),$P$2,IF(AND(B412=$N$2,C412=$O$3),$P$3,IF(AND(B412=$N$4,C412=$O$2),$P$4,IF(AND(B412=Data!A402,C412=$O$3),$P$5,0))))))","v":""}]
[null,null,null,null,null,null,{"$f":"IF(OR(D413=\"Excont\",D413=\"\"),\"\",IF(D413=\"URFU\",IF(AND(B413=$N$2,C413=$O$2),$P$2,IF(AND(B413=$N$2,C413=$O$3),$P$3,IF(AND(B413=$N$4,C413=$O$2),$P$4,IF(AND(B413=Data!A403,C413=$O$3),$P$5,0))))))","v":""}]
[null,null,null,null,null,null,{"$f":"IF(OR(D414=\"Excont\",D414=\"\"),\"\",IF(D414=\"URFU\",IF(AND(B414=$N$2,C414=$O$2),$P$2,IF(AND(B414=$N$2,C414=$O$3),$P$3,IF(AND(B414=$N$4,C414=$O$2),$P$4,IF(AND(B414=Data!A404,C414=$O$3),$P$5,0))))))","v":""}]
[null,null,null,null,null,null,{"$f":"IF(OR(D415=\"Excont\",D415=\"\"),\"\",IF(D415=\"URFU\",IF(AND(B415=$N$2,C415=$O$2),$P$2,IF(AND(B415=$N$2,C415=$O$3),$P$3,IF(AND(B415=$N$4,C415=$O$2),$P$4,IF(AND(B415=Data!A405,C415=$O$3),$P$5,0))))))","v":""}]
[null,null,null,null,null,null,{"$f":"IF(OR(D416=\"Excont\",D416=\"\"),\"\",IF(D416=\"URFU\",IF(AND(B416=$N$2,C416=$O$2),$P$2,IF(AND(B416=$N$2,C416=$O$3),$P$3,IF(AND(B416=$N$4,C416=$O$2),$P$4,IF(AND(B416=Data!A406,C416=$O$3),$P$5,0))))))","v":""}]
[null,null,null,null,null,null,{"$f":"IF(OR(D417=\"Excont\",D417=\"\"),\"\",IF(D417=\"URFU\",IF(AND(B417=$N$2,C417=$O$2),$P$2,IF(AND(B417=$N$2,C417=$O$3),$P$3,IF(AND(B417=$N$4,C417=$O$2),$P$4,IF(AND(B417=Data!A407,C417=$O$3),$P$5,0))))))","v":""}]
[null,null,null,null,null,null,{"$f":"IF(OR(D418=\"Excont\",D418=\"\"),\"\",IF(D418=\"URFU\",IF(AND(B418=$N$2,C418=$O$2),$P$2,IF(AND(B418=$N$2,C418=$O$3),$P$3,IF(AND(B418=$N$4,C418=$O$2),$P$4,IF(AND(B418=Data!A408,C418=$O$3),$P$5,0))))))","v":""}]
[null,null,null,null,null,null,{"$f":"IF(OR(D419=\"Excont\",D419=\"\"),\"\",IF(D419=\"URFU\",IF(AND(B419=$N$2,C419=$O$2),$P$2,IF(AND(B419=$N$2,C419=$O$3),$P$3,IF(AND(B419=$N$4,C419=$O$2),$P$4,IF(AND(B419=Data!A409,C419=$O$3),$P$5,0))))))","v":""}]
[null,null,null,null,null,null,{"$f":"IF(OR(D420=\"Excont\",D420=\"\"),\"\",IF(D420=\"URFU\",IF(AND(B420=$N$2,C420=$O$2),$P$2,IF(AND(B420=$N$2,C420=$O$3),$P$3,IF(AND(B420=$N$4,C420=$O$2),$P$4,IF(AND(B420=Data!A410,C420=$O$3),$P$5,0))))))","v":""}]
[null,null,null,null,null,null,{"$f":"IF(OR(D421=\"Excont\",D421=\"\"),\"\",IF(D421=\"URFU\",IF(AND(B421=$N$2,C421=$O$2),$P$2,IF(AND(B421=$N$2,C421=$O$3),$P$3,IF(AND(B421=$N$4,C421=$O$2),$P$4,IF(AND(B421=Data!A411,C421=$O$3),$P$5,0))))))","v":""}]
[null,null,null,null,null,null,{"$f":"IF(OR(D422=\"Excont\",D422=\"\"),\"\",IF(D422=\"URFU\",IF(AND(B422=$N$2,C422=$O$2),$P$2,IF(AND(B422=$N$2,C422=$O$3),$P$3,IF(AND(B422=$N$4,C422=$O$2),$P$4,IF(AND(B422=Data!A412,C422=$O$3),$P$5,0))))))","v":""}]
[null,null,null,null,null,null,{"$f":"IF(OR(D423=\"Excont\",D423=\"\"),\"\",IF(D423=\"URFU\",IF(AND(B423=$N$2,C423=$O$2),$P$2,IF(AND(B423=$N$2,C423=$O$3),$P$3,IF(AND(B423=$N$4,C423=$O$2),$P$4,IF(AND(B423=Data!A413,C423=$O$3),$P$5,0))))))","v":""}]
[null,null,null,null,null,null,{"$f":"IF(OR(D424=\"Excont\",D424=\"\"),\"\",IF(D424=\"URFU\",IF(AND(B424=$N$2,C424=$O$2),$P$2,IF(AND(B424=$N$2,C424=$O$3),$P$3,IF(AND(B424=$N$4,C424=$O$2),$P$4,IF(AND(B424=Data!A414,C424=$O$3),$P$5,0))))))","v":""}]
[null,null,null,null,null,null,{"$f":"IF(OR(D425=\"Excont\",D425=\"\"),\"\",IF(D425=\"URFU\",IF(AND(B425=$N$2,C425=$O$2),$P$2,IF(AND(B425=$N$2,C425=$O$3),$P$3,IF(AND(B425=$N$4,C425=$O$2),$P$4,IF(AND(B425=Data!A415,C425=$O$3),$P$5,0))))))","v":""}]
[null,null,null,null,null,null,{"$f":"IF(OR(D426=\"Excont\",D426=\"\"),\"\",IF(D426=\"URFU\",IF(AND(B426=$N$2,C426=$O$2),$P$2,IF(AND(B426=$N$2,C426=$O$3),$P$3,IF(AND(B426=$N$4,C426=$O$2),$P$4,IF(AND(B426=Data!A416,C426=$O$3),$P$5,0))))))","v":""}]
[null,null,null,null,null,null,{"$f":"IF(OR(D427=\"Excont\",D427=\"\"),\"\",IF(D427=\"URFU\",IF(AND(B427=$N$2,C427=$O$2),$P$2,IF(AND(B427=$N$2,C427=$O$3),$P$3,IF(AND(B427=$N$4,C427=$O$2),$P$4,IF(AND(B427=Data!A417,C427=$O$3),$P$5,0))))))","v":""}]
[null,null,null,null,null,null,{"$f":"IF(OR(D428=\"Excont\",D428=\"\"),\"\",IF(D428=\"URFU\",IF(AND(B428=$N$2,C428=$O$2),$P$2,IF(AND(B428=$N$2,C428=$O$3),$P$3,IF(AND(B428=$N$4,C428=$O$2),$P$4,IF(AND(B428=Data!A418,C428=$O$3),$P$5,0))))))","v":""}]
[null,null,null,null,null,null,{"$f":"IF(OR(D429=\"Excont\",D429=\"\"),\"\",IF(D429=\"URFU\",IF(AND(B429=$N$2,C429=$O$2),$P$2,IF(AND(B429=$N$2,C429=$O$3),$P$3,IF(AND(B429=$N$4,C429=$O$2),$P$4,IF(AND(B429=Data!A419,C429=$O$3),$P$5,0))))))","v":""}]
[null,null,null,null,null,null,{"$f":"IF(OR(D430=\"Excont\",D430=\"\"),\"\",IF(D430=\"URFU\",IF(AND(B430=$N$2,C430=$O$2),$P$2,IF(AND(B430=$N$2,C430=$O$3),$P$3,IF(AND(B430=$N$4,C430=$O$2),$P$4,IF(AND(B430=Data!A420,C430=$O$3),$P$5,0))))))","v":""}]
[null,null,null,null,null,null,{"$f":"IF(OR(D431=\"Excont\",D431=\"\"),\"\",IF(D431=\"URFU\",IF(AND(B431=$N$2,C431=$O$2),$P$2,IF(AND(B431=$N$2,C431=$O$3),$P$3,IF(AND(B431=$N$4,C431=$O$2),$P$4,IF(AND(B431=Data!A421,C431=$O$3),$P$5,0))))))","v":""}]
[null,null,null,null,null,null,{"$f":"IF(OR(D432=\"Excont\",D432=\"\"),\"\",IF(D432=\"URFU\",IF(AND(B432=$N$2,C432=$O$2),$P$2,IF(AND(B432=$N$2,C432=$O$3),$P$3,IF(AND(B432=$N$4,C432=$O$2),$P$4,IF(AND(B432=Data!A422,C432=$O$3),$P$5,0))))))","v":""}]
[null,null,null,null,null,null,{"$f":"IF(OR(D433=\"Excont\",D433=\"\"),\"\",IF(D433=\"URFU\",IF(AND(B433=$N$2,C433=$O$2),$P$2,IF(AND(B433=$N$2,C433=$O$3),$P$3,IF(AND(B433=$N$4,C433=$O$2),$P$4,IF(AND(B433=Data!A423,C433=$O$3),$P$5,0))))))","v":""}]
[null,null,null,null,null,null,{"$f":"IF(OR(D434=\"Excont\",D434=\"\"),\"\",IF(D434=\"URFU\",IF(AND(B434=$N$2,C434=$O$2),$P$2,IF(AND(B434=$N$2,C434=$O$3),$P$3,IF(AND(B434=$N$4,C434=$O$2),$P$4,IF(AND(B434=Data!A424,C434=$O$3),$P$5,0))))))","v":""}]
[null,null,null,null,null,null,{"$f":"IF(OR(D435=\"Excont\",D435=\"\"),\"\",IF(D435=\"URFU\",IF(AND(B435=$N$2,C435=$O$2),$P$2,IF(AND(B435=$N$2,C435=$O$3),$P$3,IF(AND(B435=$N$4,C435=$O$2),$P$4,IF(AND(B435=Data!A425,C435=$O$3),$P$5,0))))))","v":""}]
[null,null,null,null,null,null,{"$f":"IF(OR(D436=\"Excont\",D436=\"\"),\"\",IF(D436=\"URFU\",IF(AND(B436=$N$2,C436=$O$2),$P$2,IF(AND(B436=$N$2,C436=$O$3),$P$3,IF(AND(B436=$N$4,C436=$O$2),$P$4,IF(AND(B436=Data!A426,C436=$O$3),$P$5,0))))))","v":""}]
[null,null,null,null,null,null,{"$f":"IF(OR(D437=\"Excont\",D437=\"\"),\"\",IF(D437=\"URFU\",IF(AND(B437=$N$2,C437=$O$2),$P$2,IF(AND(B437=$N$2,C437=$O$3),$P$3,IF(AND(B437=$N$4,C437=$O$2),$P$4,IF(AND(B437=Data!A427,C437=$O$3),$P$5,0))))))","v":""}]
[null,null,null,null,null,null,{"$f":"IF(OR(D438=\"Excont\",D438=\"\"),\"\",IF(D438=\"URFU\",IF(AND(B438=$N$2,C438=$O$2),$P$2,IF(AND(B438=$N$2,C438=$O$3),$P$3,IF(AND(B438=$N$4,C438=$O$2),$P$4,IF(AND(B438=Data!A428,C438=$O$3),$P$5,0))))))","v":""}]
[null,null,null,null,null,null,{"$f":"IF(OR(D439=\"Excont\",D439=\"\"),\"\",IF(D439=\"URFU\",IF(AND(B439=$N$2,C439=$O$2),$P$2,IF(AND(B439=$N$2,C439=$O$3),$P$3,IF(AND(B439=$N$4,C439=$O$2),$P$4,IF(AND(B439=Data!A429,C439=$O$3),$P$5,0))))))","v":""}]
[null,null,null,null,null,null,{"$f":"IF(OR(D440=\"Excont\",D440=\"\"),\"\",IF(D440=\"URFU\",IF(AND(B440=$N$2,C440=$O$2),$P$2,IF(AND(B440=$N$2,C440=$O$3),$P$3,IF(AND(B440=$N$4,C440=$O$2),$P$4,IF(AND(B440=Data!A430,C440=$O$3),$P$5,0))))))","v":""}]
[null,null,null,null,null,null,{"$f":"IF(OR(D441=\"Excont\",D441=\"\"),\"\",IF(D441=\"URFU\",IF(AND(B441=$N$2,C441=$O$2),$P$2,IF(AND(B441=$N$2,C441=$O$3),$P$3,IF(AND(B441=$N$4,C441=$O$2),$P$4,IF(AND(B441=Data!A431,C441=$O$3),$P$5,0))))))","v":""}]
[null,null,null,null,null,null,{"$f":"IF(OR(D442=\"Excont\",D442=\"\"),\"\",IF(D442=\"URFU\",IF(AND(B442=$N$2,C442=$O$2),$P$2,IF(AND(B442=$N$2,C442=$O$3),$P$3,IF(AND(B442=$N$4,C442=$O$2),$P$4,IF(AND(B442=Data!A432,C442=$O$3),$P$5,0))))))","v":""}]
[null,null,null,null,null,null,{"$f":"IF(OR(D443=\"Excont\",D443=\"\"),\"\",IF(D443=\"URFU\",IF(AND(B443=$N$2,C443=$O$2),$P$2,IF(AND(B443=$N$2,C443=$O$3),$P$3,IF(AND(B443=$N$4,C443=$O$2),$P$4,IF(AND(B443=Data!A433,C443=$O$3),$P$5,0))))))","v":""}]
[null,null,null,null,null,null,{"$f":"IF(OR(D444=\"Excont\",D444=\"\"),\"\",IF(D444=\"URFU\",IF(AND(B444=$N$2,C444=$O$2),$P$2,IF(AND(B444=$N$2,C444=$O$3),$P$3,IF(AND(B444=$N$4,C444=$O$2),$P$4,IF(AND(B444=Data!A434,C444=$O$3),$P$5,0))))))","v":""}]
[null,null,null,null,null,null,{"$f":"IF(OR(D445=\"Excont\",D445=\"\"),\"\",IF(D445=\"URFU\",IF(AND(B445=$N$2,C445=$O$2),$P$2,IF(AND(B445=$N$2,C445=$O$3),$P$3,IF(AND(B445=$N$4,C445=$O$2),$P$4,IF(AND(B445=Data!A435,C445=$O$3),$P$5,0))))))","v":""}]
[null,null,null,null,null,null,{"$f":"IF(OR(D446=\"Excont\",D446=\"\"),\"\",IF(D446=\"URFU\",IF(AND(B446=$N$2,C446=$O$2),$P$2,IF(AND(B446=$N$2,C446=$O$3),$P$3,IF(AND(B446=$N$4,C446=$O$2),$P$4,IF(AND(B446=Data!A436,C446=$O$3),$P$5,0))))))","v":""}]
[null,null,null,null,null,null,{"$f":"IF(OR(D447=\"Excont\",D447=\"\"),\"\",IF(D447=\"URFU\",IF(AND(B447=$N$2,C447=$O$2),$P$2,IF(AND(B447=$N$2,C447=$O$3),$P$3,IF(AND(B447=$N$4,C447=$O$2),$P$4,IF(AND(B447=Data!A437,C447=$O$3),$P$5,0))))))","v":""}]
[null,null,null,null,null,null,{"$f":"IF(OR(D448=\"Excont\",D448=\"\"),\"\",IF(D448=\"URFU\",IF(AND(B448=$N$2,C448=$O$2),$P$2,IF(AND(B448=$N$2,C448=$O$3),$P$3,IF(AND(B448=$N$4,C448=$O$2),$P$4,IF(AND(B448=Data!A438,C448=$O$3),$P$5,0))))))","v":""}]
[null,null,null,null,null,null,{"$f":"IF(OR(D449=\"Excont\",D449=\"\"),\"\",IF(D449=\"URFU\",IF(AND(B449=$N$2,C449=$O$2),$P$2,IF(AND(B449=$N$2,C449=$O$3),$P$3,IF(AND(B449=$N$4,C449=$O$2),$P$4,IF(AND(B449=Data!A439,C449=$O$3),$P$5,0))))))","v":""}]
[null,null,null,null,null,null,{"$f":"IF(OR(D450=\"Excont\",D450=\"\"),\"\",IF(D450=\"URFU\",IF(AND(B450=$N$2,C450=$O$2),$P$2,IF(AND(B450=$N$2,C450=$O$3),$P$3,IF(AND(B450=$N$4,C450=$O$2),$P$4,IF(AND(B450=Data!A440,C450=$O$3),$P$5,0))))))","v":""}]
[null,null,null,null,null,null,{"$f":"IF(OR(D451=\"Excont\",D451=\"\"),\"\",IF(D451=\"URFU\",IF(AND(B451=$N$2,C451=$O$2),$P$2,IF(AND(B451=$N$2,C451=$O$3),$P$3,IF(AND(B451=$N$4,C451=$O$2),$P$4,IF(AND(B451=Data!A441,C451=$O$3),$P$5,0))))))","v":""}]
[null,null,null,null,null,null,{"$f":"IF(OR(D452=\"Excont\",D452=\"\"),\"\",IF(D452=\"URFU\",IF(AND(B452=$N$2,C452=$O$2),$P$2,IF(AND(B452=$N$2,C452=$O$3),$P$3,IF(AND(B452=$N$4,C452=$O$2),$P$4,IF(AND(B452=Data!A442,C452=$O$3),$P$5,0))))))","v":""}]
[null,null,null,null,null,null,{"$f":"IF(OR(D453=\"Excont\",D453=\"\"),\"\",IF(D453=\"URFU\",IF(AND(B453=$N$2,C453=$O$2),$P$2,IF(AND(B453=$N$2,C453=$O$3),$P$3,IF(AND(B453=$N$4,C453=$O$2),$P$4,IF(AND(B453=Data!A443,C453=$O$3),$P$5,0))))))","v":""}]
[null,null,null,null,null,null,{"$f":"IF(OR(D454=\"Excont\",D454=\"\"),\"\",IF(D454=\"URFU\",IF(AND(B454=$N$2,C454=$O$2),$P$2,IF(AND(B454=$N$2,C454=$O$3),$P$3,IF(AND(B454=$N$4,C454=$O$2),$P$4,IF(AND(B454=Data!A444,C454=$O$3),$P$5,0))))))","v":""}]
[null,null,null,null,null,null,{"$f":"IF(OR(D455=\"Excont\",D455=\"\"),\"\",IF(D455=\"URFU\",IF(AND(B455=$N$2,C455=$O$2),$P$2,IF(AND(B455=$N$2,C455=$O$3),$P$3,IF(AND(B455=$N$4,C455=$O$2),$P$4,IF(AND(B455=Data!A445,C455=$O$3),$P$5,0))))))","v":""}]
[null,null,null,null,null,null,{"$f":"IF(OR(D456=\"Excont\",D456=\"\"),\"\",IF(D456=\"URFU\",IF(AND(B456=$N$2,C456=$O$2),$P$2,IF(AND(B456=$N$2,C456=$O$3),$P$3,IF(AND(B456=$N$4,C456=$O$2),$P$4,IF(AND(B456=Data!A446,C456=$O$3),$P$5,0))))))","v":""}]
[null,null,null,null,null,null,{"$f":"IF(OR(D457=\"Excont\",D457=\"\"),\"\",IF(D457=\"URFU\",IF(AND(B457=$N$2,C457=$O$2),$P$2,IF(AND(B457=$N$2,C457=$O$3),$P$3,IF(AND(B457=$N$4,C457=$O$2),$P$4,IF(AND(B457=Data!A447,C457=$O$3),$P$5,0))))))","v":""}]
[null,null,null,null,null,null,{"$f":"IF(OR(D458=\"Excont\",D458=\"\"),\"\",IF(D458=\"URFU\",IF(AND(B458=$N$2,C458=$O$2),$P$2,IF(AND(B458=$N$2,C458=$O$3),$P$3,IF(AND(B458=$N$4,C458=$O$2),$P$4,IF(AND(B458=Data!A448,C458=$O$3),$P$5,0))))))","v":""}]
[null,null,null,null,null,null,{"$f":"IF(OR(D459=\"Excont\",D459=\"\"),\"\",IF(D459=\"URFU\",IF(AND(B459=$N$2,C459=$O$2),$P$2,IF(AND(B459=$N$2,C459=$O$3),$P$3,IF(AND(B459=$N$4,C459=$O$2),$P$4,IF(AND(B459=Data!A449,C459=$O$3),$P$5,0))))))","v":""}]
[null,null,null,null,null,null,{"$f":"IF(OR(D460=\"Excont\",D460=\"\"),\"\",IF(D460=\"URFU\",IF(AND(B460=$N$2,C460=$O$2),$P$2,IF(AND(B460=$N$2,C460=$O$3),$P$3,IF(AND(B460=$N$4,C460=$O$2),$P$4,IF(AND(B460=Data!A450,C460=$O$3),$P$5,0))))))","v":""}]
[null,null,null,null,null,null,{"$f":"IF(OR(D461=\"Excont\",D461=\"\"),\"\",IF(D461=\"URFU\",IF(AND(B461=$N$2,C461=$O$2),$P$2,IF(AND(B461=$N$2,C461=$O$3),$P$3,IF(AND(B461=$N$4,C461=$O$2),$P$4,IF(AND(B461=Data!A451,C461=$O$3),$P$5,0))))))","v":""}]
[null,null,null,null,null,null,{"$f":"IF(OR(D462=\"Excont\",D462=\"\"),\"\",IF(D462=\"URFU\",IF(AND(B462=$N$2,C462=$O$2),$P$2,IF(AND(B462=$N$2,C462=$O$3),$P$3,IF(AND(B462=$N$4,C462=$O$2),$P$4,IF(AND(B462=Data!A452,C462=$O$3),$P$5,0))))))","v":""}]
[null,null,null,null,null,null,{"$f":"IF(OR(D463=\"Excont\",D463=\"\"),\"\",IF(D463=\"URFU\",IF(AND(B463=$N$2,C463=$O$2),$P$2,IF(AND(B463=$N$2,C463=$O$3),$P$3,IF(AND(B463=$N$4,C463=$O$2),$P$4,IF(AND(B463=Data!A453,C463=$O$3),$P$5,0))))))","v":""}]
[null,null,null,null,null,null,{"$f":"IF(OR(D464=\"Excont\",D464=\"\"),\"\",IF(D464=\"URFU\",IF(AND(B464=$N$2,C464=$O$2),$P$2,IF(AND(B464=$N$2,C464=$O$3),$P$3,IF(AND(B464=$N$4,C464=$O$2),$P$4,IF(AND(B464=Data!A454,C464=$O$3),$P$5,0))))))","v":""}]
[null,null,null,null,null,null,{"$f":"IF(OR(D465=\"Excont\",D465=\"\"),\"\",IF(D465=\"URFU\",IF(AND(B465=$N$2,C465=$O$2),$P$2,IF(AND(B465=$N$2,C465=$O$3),$P$3,IF(AND(B465=$N$4,C465=$O$2),$P$4,IF(AND(B465=Data!A455,C465=$O$3),$P$5,0))))))","v":""}]
[null,null,null,null,null,null,{"$f":"IF(OR(D466=\"Excont\",D466=\"\"),\"\",IF(D466=\"URFU\",IF(AND(B466=$N$2,C466=$O$2),$P$2,IF(AND(B466=$N$2,C466=$O$3),$P$3,IF(AND(B466=$N$4,C466=$O$2),$P$4,IF(AND(B466=Data!A456,C466=$O$3),$P$5,0))))))","v":""}]
[null,null,null,null,null,null,{"$f":"IF(OR(D467=\"Excont\",D467=\"\"),\"\",IF(D467=\"URFU\",IF(AND(B467=$N$2,C467=$O$2),$P$2,IF(AND(B467=$N$2,C467=$O$3),$P$3,IF(AND(B467=$N$4,C467=$O$2),$P$4,IF(AND(B467=Data!A457,C467=$O$3),$P$5,0))))))","v":""}]
[null,null,null,null,null,null,{"$f":"IF(OR(D468=\"Excont\",D468=\"\"),\"\",IF(D468=\"URFU\",IF(AND(B468=$N$2,C468=$O$2),$P$2,IF(AND(B468=$N$2,C468=$O$3),$P$3,IF(AND(B468=$N$4,C468=$O$2),$P$4,IF(AND(B468=Data!A458,C468=$O$3),$P$5,0))))))","v":""}]
[null,null,null,null,null,null,{"$f":"IF(OR(D469=\"Excont\",D469=\"\"),\"\",IF(D469=\"URFU\",IF(AND(B469=$N$2,C469=$O$2),$P$2,IF(AND(B469=$N$2,C469=$O$3),$P$3,IF(AND(B469=$N$4,C469=$O$2),$P$4,IF(AND(B469=Data!A459,C469=$O$3),$P$5,0))))))","v":""}]
[null,null,null,null,null,null,{"$f":"IF(OR(D470=\"Excont\",D470=\"\"),\"\",IF(D470=\"URFU\",IF(AND(B470=$N$2,C470=$O$2),$P$2,IF(AND(B470=$N$2,C470=$O$3),$P$3,IF(AND(B470=$N$4,C470=$O$2),$P$4,IF(AND(B470=Data!A460,C470=$O$3),$P$5,0))))))","v":""}]
[null,null,null,null,null,null,{"$f":"IF(OR(D471=\"Excont\",D471=\"\"),\"\",IF(D471=\"URFU\",IF(AND(B471=$N$2,C471=$O$2),$P$2,IF(AND(B471=$N$2,C471=$O$3),$P$3,IF(AND(B471=$N$4,C471=$O$2),$P$4,IF(AND(B471=Data!A461,C471=$O$3),$P$5,0))))))","v":""}]
[null,null,null,null,null,null,{"$f":"IF(OR(D472=\"Excont\",D472=\"\"),\"\",IF(D472=\"URFU\",IF(AND(B472=$N$2,C472=$O$2),$P$2,IF(AND(B472=$N$2,C472=$O$3),$P$3,IF(AND(B472=$N$4,C472=$O$2),$P$4,IF(AND(B472=Data!A462,C472=$O$3),$P$5,0))))))","v":""}]
[null,null,null,null,null,null,{"$f":"IF(OR(D473=\"Excont\",D473=\"\"),\"\",IF(D473=\"URFU\",IF(AND(B473=$N$2,C473=$O$2),$P$2,IF(AND(B473=$N$2,C473=$O$3),$P$3,IF(AND(B473=$N$4,C473=$O$2),$P$4,IF(AND(B473=Data!A463,C473=$O$3),$P$5,0))))))","v":""}]
[null,null,null,null,null,null,{"$f":"IF(OR(D474=\"Excont\",D474=\"\"),\"\",IF(D474=\"URFU\",IF(AND(B474=$N$2,C474=$O$2),$P$2,IF(AND(B474=$N$2,C474=$O$3),$P$3,IF(AND(B474=$N$4,C474=$O$2),$P$4,IF(AND(B474=Data!A464,C474=$O$3),$P$5,0))))))","v":""}]
[null,null,null,null,null,null,{"$f":"IF(OR(D475=\"Excont\",D475=\"\"),\"\",IF(D475=\"URFU\",IF(AND(B475=$N$2,C475=$O$2),$P$2,IF(AND(B475=$N$2,C475=$O$3),$P$3,IF(AND(B475=$N$4,C475=$O$2),$P$4,IF(AND(B475=Data!A465,C475=$O$3),$P$5,0))))))","v":""}]
[null,null,null,null,null,null,{"$f":"IF(OR(D476=\"Excont\",D476=\"\"),\"\",IF(D476=\"URFU\",IF(AND(B476=$N$2,C476=$O$2),$P$2,IF(AND(B476=$N$2,C476=$O$3),$P$3,IF(AND(B476=$N$4,C476=$O$2),$P$4,IF(AND(B476=Data!A466,C476=$O$3),$P$5,0))))))","v":""}]
[null,null,null,null,null,null,{"$f":"IF(OR(D477=\"Excont\",D477=\"\"),\"\",IF(D477=\"URFU\",IF(AND(B477=$N$2,C477=$O$2),$P$2,IF(AND(B477=$N$2,C477=$O$3),$P$3,IF(AND(B477=$N$4,C477=$O$2),$P$4,IF(AND(B477=Data!A467,C477=$O$3),$P$5,0))))))","v":""}]
[null,null,null,null,null,null,{"$f":"IF(OR(D478=\"Excont\",D478=\"\"),\"\",IF(D478=\"URFU\",IF(AND(B478=$N$2,C478=$O$2),$P$2,IF(AND(B478=$N$2,C478=$O$3),$P$3,IF(AND(B478=$N$4,C478=$O$2),$P$4,IF(AND(B478=Data!A468,C478=$O$3),$P$5,0))))))","v":""}]
[null,null,null,null,null,null,{"$f":"IF(OR(D479=\"Excont\",D479=\"\"),\"\",IF(D479=\"URFU\",IF(AND(B479=$N$2,C479=$O$2),$P$2,IF(AND(B479=$N$2,C479=$O$3),$P$3,IF(AND(B479=$N$4,C479=$O$2),$P$4,IF(AND(B479=Data!A469,C479=$O$3),$P$5,0))))))","v":""}]
[null,null,null,null,null,null,{"$f":"IF(OR(D480=\"Excont\",D480=\"\"),\"\",IF(D480=\"URFU\",IF(AND(B480=$N$2,C480=$O$2),$P$2,IF(AND(B480=$N$2,C480=$O$3),$P$3,IF(AND(B480=$N$4,C480=$O$2),$P$4,IF(AND(B480=Data!A470,C480=$O$3),$P$5,0))))))","v":""}]
[null,null,null,null,null,null,{"$f":"IF(OR(D481=\"Excont\",D481=\"\"),\"\",IF(D481=\"URFU\",IF(AND(B481=$N$2,C481=$O$2),$P$2,IF(AND(B481=$N$2,C481=$O$3),$P$3,IF(AND(B481=$N$4,C481=$O$2),$P$4,IF(AND(B481=Data!A471,C481=$O$3),$P$5,0))))))","v":""}]
[null,null,null,null,null,null,{"$f":"IF(OR(D482=\"Excont\",D482=\"\"),\"\",IF(D482=\"URFU\",IF(AND(B482=$N$2,C482=$O$2),$P$2,IF(AND(B482=$N$2,C482=$O$3),$P$3,IF(AND(B482=$N$4,C482=$O$2),$P$4,IF(AND(B482=Data!A472,C482=$O$3),$P$5,0))))))","v":""}]
[null,null,null,null,null,null,{"$f":"IF(OR(D483=\"Excont\",D483=\"\"),\"\",IF(D483=\"URFU\",IF(AND(B483=$N$2,C483=$O$2),$P$2,IF(AND(B483=$N$2,C483=$O$3),$P$3,IF(AND(B483=$N$4,C483=$O$2),$P$4,IF(AND(B483=Data!A473,C483=$O$3),$P$5,0))))))","v":""}]
[null,null,null,null,null,null,{"$f":"IF(OR(D484=\"Excont\",D484=\"\"),\"\",IF(D484=\"URFU\",IF(AND(B484=$N$2,C484=$O$2),$P$2,IF(AND(B484=$N$2,C484=$O$3),$P$3,IF(AND(B484=$N$4,C484=$O$2),$P$4,IF(AND(B484=Data!A474,C484=$O$3),$P$5,0))))))","v":""}]
[null,null,null,null,null,null,{"$f":"IF(OR(D485=\"Excont\",D485=\"\"),\"\",IF(D485=\"URFU\",IF(AND(B485=$N$2,C485=$O$2),$P$2,IF(AND(B485=$N$2,C485=$O$3),$P$3,IF(AND(B485=$N$4,C485=$O$2),$P$4,IF(AND(B485=Data!A475,C485=$O$3),$P$5,0))))))","v":""}]
[null,null,null,null,null,null,{"$f":"IF(OR(D486=\"Excont\",D486=\"\"),\"\",IF(D486=\"URFU\",IF(AND(B486=$N$2,C486=$O$2),$P$2,IF(AND(B486=$N$2,C486=$O$3),$P$3,IF(AND(B486=$N$4,C486=$O$2),$P$4,IF(AND(B486=Data!A476,C486=$O$3),$P$5,0))))))","v":""}]
[null,null,null,null,null,null,{"$f":"IF(OR(D487=\"Excont\",D487=\"\"),\"\",IF(D487=\"URFU\",IF(AND(B487=$N$2,C487=$O$2),$P$2,IF(AND(B487=$N$2,C487=$O$3),$P$3,IF(AND(B487=$N$4,C487=$O$2),$P$4,IF(AND(B487=Data!A477,C487=$O$3),$P$5,0))))))","v":""}]
[null,null,null,null,null,null,{"$f":"IF(OR(D488=\"Excont\",D488=\"\"),\"\",IF(D488=\"URFU\",IF(AND(B488=$N$2,C488=$O$2),$P$2,IF(AND(B488=$N$2,C488=$O$3),$P$3,IF(AND(B488=$N$4,C488=$O$2),$P$4,IF(AND(B488=Data!A478,C488=$O$3),$P$5,0))))))","v":""}]
[null,null,null,null,null,null,{"$f":"IF(OR(D489=\"Excont\",D489=\"\"),\"\",IF(D489=\"URFU\",IF(AND(B489=$N$2,C489=$O$2),$P$2,IF(AND(B489=$N$2,C489=$O$3),$P$3,IF(AND(B489=$N$4,C489=$O$2),$P$4,IF(AND(B489=Data!A479,C489=$O$3),$P$5,0))))))","v":""}]
[null,null,null,null,null,null,{"$f":"IF(OR(D490=\"Excont\",D490=\"\"),\"\",IF(D490=\"URFU\",IF(AND(B490=$N$2,C490=$O$2),$P$2,IF(AND(B490=$N$2,C490=$O$3),$P$3,IF(AND(B490=$N$4,C490=$O$2),$P$4,IF(AND(B490=Data!A480,C490=$O$3),$P$5,0))))))","v":""}]
[null,null,null,null,null,null,{"$f":"IF(OR(D491=\"Excont\",D491=\"\"),\"\",IF(D491=\"URFU\",IF(AND(B491=$N$2,C491=$O$2),$P$2,IF(AND(B491=$N$2,C491=$O$3),$P$3,IF(AND(B491=$N$4,C491=$O$2),$P$4,IF(AND(B491=Data!A481,C491=$O$3),$P$5,0))))))","v":""}]
[null,null,null,null,null,null,{"$f":"IF(OR(D492=\"Excont\",D492=\"\"),\"\",IF(D492=\"URFU\",IF(AND(B492=$N$2,C492=$O$2),$P$2,IF(AND(B492=$N$2,C492=$O$3),$P$3,IF(AND(B492=$N$4,C492=$O$2),$P$4,IF(AND(B492=Data!A482,C492=$O$3),$P$5,0))))))","v":""}]
[null,null,null,null,null,null,{"$f":"IF(OR(D493=\"Excont\",D493=\"\"),\"\",IF(D493=\"URFU\",IF(AND(B493=$N$2,C493=$O$2),$P$2,IF(AND(B493=$N$2,C493=$O$3),$P$3,IF(AND(B493=$N$4,C493=$O$2),$P$4,IF(AND(B493=Data!A483,C493=$O$3),$P$5,0))))))","v":""}]
[null,null,null,null,null,null,{"$f":"IF(OR(D494=\"Excont\",D494=\"\"),\"\",IF(D494=\"URFU\",IF(AND(B494=$N$2,C494=$O$2),$P$2,IF(AND(B494=$N$2,C494=$O$3),$P$3,IF(AND(B494=$N$4,C494=$O$2),$P$4,IF(AND(B494=Data!A484,C494=$O$3),$P$5,0))))))","v":""}]
[null,null,null,null,null,null,{"$f":"IF(OR(D495=\"Excont\",D495=\"\"),\"\",IF(D495=\"URFU\",IF(AND(B495=$N$2,C495=$O$2),$P$2,IF(AND(B495=$N$2,C495=$O$3),$P$3,IF(AND(B495=$N$4,C495=$O$2),$P$4,IF(AND(B495=Data!A485,C495=$O$3),$P$5,0))))))","v":""}]
[null,null,null,null,null,null,{"$f":"IF(OR(D496=\"Excont\",D496=\"\"),\"\",IF(D496=\"URFU\",IF(AND(B496=$N$2,C496=$O$2),$P$2,IF(AND(B496=$N$2,C496=$O$3),$P$3,IF(AND(B496=$N$4,C496=$O$2),$P$4,IF(AND(B496=Data!A486,C496=$O$3),$P$5,0))))))","v":""}]
[null,null,null,null,null,null,{"$f":"IF(OR(D497=\"Excont\",D497=\"\"),\"\",IF(D497=\"URFU\",IF(AND(B497=$N$2,C497=$O$2),$P$2,IF(AND(B497=$N$2,C497=$O$3),$P$3,IF(AND(B497=$N$4,C497=$O$2),$P$4,IF(AND(B497=Data!A487,C497=$O$3),$P$5,0))))))","v":""}]
[null,null,null,null,null,null,{"$f":"IF(OR(D498=\"Excont\",D498=\"\"),\"\",IF(D498=\"URFU\",IF(AND(B498=$N$2,C498=$O$2),$P$2,IF(AND(B498=$N$2,C498=$O$3),$P$3,IF(AND(B498=$N$4,C498=$O$2),$P$4,IF(AND(B498=Data!A488,C498=$O$3),$P$5,0))))))","v":""}]
[null,null,null,null,null,null,{"$f":"IF(OR(D499=\"Excont\",D499=\"\"),\"\",IF(D499=\"URFU\",IF(AND(B499=$N$2,C499=$O$2),$P$2,IF(AND(B499=$N$2,C499=$O$3),$P$3,IF(AND(B499=$N$4,C499=$O$2),$P$4,IF(AND(B499=Data!A489,C499=$O$3),$P$5,0))))))","v":""}]
[null,null,null,null,null,null,{"$f":"IF(OR(D500=\"Excont\",D500=\"\"),\"\",IF(D500=\"URFU\",IF(AND(B500=$N$2,C500=$O$2),$P$2,IF(AND(B500=$N$2,C500=$O$3),$P$3,IF(AND(B500=$N$4,C500=$O$2),$P$4,IF(AND(B500=Data!A490,C500=$O$3),$P$5,0))))))","v":""}]
[null,null,null,null,null,null,{"$f":"IF(OR(D501=\"Excont\",D501=\"\"),\"\",IF(D501=\"URFU\",IF(AND(B501=$N$2,C501=$O$2),$P$2,IF(AND(B501=$N$2,C501=$O$3),$P$3,IF(AND(B501=$N$4,C501=$O$2),$P$4,IF(AND(B501=Data!A491,C501=$O$3),$P$5,0))))))","v":""}]
[null,null,null,null,null,null,{"$f":"IF(OR(D502=\"Excont\",D502=\"\"),\"\",IF(D502=\"URFU\",IF(AND(B502=$N$2,C502=$O$2),$P$2,IF(AND(B502=$N$2,C502=$O$3),$P$3,IF(AND(B502=$N$4,C502=$O$2),$P$4,IF(AND(B502=Data!A492,C502=$O$3),$P$5,0))))))","v":""}]
[null,null,null,null,null,null,{"$f":"IF(OR(D503=\"Excont\",D503=\"\"),\"\",IF(D503=\"URFU\",IF(AND(B503=$N$2,C503=$O$2),$P$2,IF(AND(B503=$N$2,C503=$O$3),$P$3,IF(AND(B503=$N$4,C503=$O$2),$P$4,IF(AND(B503=Data!A493,C503=$O$3),$P$5,0))))))","v":""}]
[null,null,null,null,null,null,{"$f":"IF(OR(D504=\"Excont\",D504=\"\"),\"\",IF(D504=\"URFU\",IF(AND(B504=$N$2,C504=$O$2),$P$2,IF(AND(B504=$N$2,C504=$O$3),$P$3,IF(AND(B504=$N$4,C504=$O$2),$P$4,IF(AND(B504=Data!A494,C504=$O$3),$P$5,0))))))","v":""}]
[null,null,null,null,null,null,{"$f":"IF(OR(D505=\"Excont\",D505=\"\"),\"\",IF(D505=\"URFU\",IF(AND(B505=$N$2,C505=$O$2),$P$2,IF(AND(B505=$N$2,C505=$O$3),$P$3,IF(AND(B505=$N$4,C505=$O$2),$P$4,IF(AND(B505=Data!A495,C505=$O$3),$P$5,0))))))","v":""}]
[null,null,null,null,null,null,{"$f":"IF(OR(D506=\"Excont\",D506=\"\"),\"\",IF(D506=\"URFU\",IF(AND(B506=$N$2,C506=$O$2),$P$2,IF(AND(B506=$N$2,C506=$O$3),$P$3,IF(AND(B506=$N$4,C506=$O$2),$P$4,IF(AND(B506=Data!A496,C506=$O$3),$P$5,0))))))","v":""}]
[null,null,null,null,null,null,{"$f":"IF(OR(D507=\"Excont\",D507=\"\"),\"\",IF(D507=\"URFU\",IF(AND(B507=$N$2,C507=$O$2),$P$2,IF(AND(B507=$N$2,C507=$O$3),$P$3,IF(AND(B507=$N$4,C507=$O$2),$P$4,IF(AND(B507=Data!A497,C507=$O$3),$P$5,0))))))","v":""}]
[null,null,null,null,null,null,{"$f":"IF(OR(D508=\"Excont\",D508=\"\"),\"\",IF(D508=\"URFU\",IF(AND(B508=$N$2,C508=$O$2),$P$2,IF(AND(B508=$N$2,C508=$O$3),$P$3,IF(AND(B508=$N$4,C508=$O$2),$P$4,IF(AND(B508=Data!A498,C508=$O$3),$P$5,0))))))","v":""}]
[null,null,null,null,null,null,{"$f":"IF(OR(D509=\"Excont\",D509=\"\"),\"\",IF(D509=\"URFU\",IF(AND(B509=$N$2,C509=$O$2),$P$2,IF(AND(B509=$N$2,C509=$O$3),$P$3,IF(AND(B509=$N$4,C509=$O$2),$P$4,IF(AND(B509=Data!A499,C509=$O$3),$P$5,0))))))","v":""}]
[null,null,null,null,null,null,{"$f":"IF(OR(D510=\"Excont\",D510=\"\"),\"\",IF(D510=\"URFU\",IF(AND(B510=$N$2,C510=$O$2),$P$2,IF(AND(B510=$N$2,C510=$O$3),$P$3,IF(AND(B510=$N$4,C510=$O$2),$P$4,IF(AND(B510=Data!A500,C510=$O$3),$P$5,0))))))","v":""}]
[null,null,null,null,null,null,{"$f":"IF(OR(D511=\"Excont\",D511=\"\"),\"\",IF(D511=\"URFU\",IF(AND(B511=$N$2,C511=$O$2),$P$2,IF(AND(B511=$N$2,C511=$O$3),$P$3,IF(AND(B511=$N$4,C511=$O$2),$P$4,IF(AND(B511=Data!A501,C511=$O$3),$P$5,0))))))","v":""}]
[null,null,null,null,null,null,{"$f":"IF(OR(D512=\"Excont\",D512=\"\"),\"\",IF(D512=\"URFU\",IF(AND(B512=$N$2,C512=$O$2),$P$2,IF(AND(B512=$N$2,C512=$O$3),$P$3,IF(AND(B512=$N$4,C512=$O$2),$P$4,IF(AND(B512=Data!A502,C512=$O$3),$P$5,0))))))","v":""}]
[null,null,null,null,null,null,{"$f":"IF(OR(D513=\"Excont\",D513=\"\"),\"\",IF(D513=\"URFU\",IF(AND(B513=$N$2,C513=$O$2),$P$2,IF(AND(B513=$N$2,C513=$O$3),$P$3,IF(AND(B513=$N$4,C513=$O$2),$P$4,IF(AND(B513=Data!A503,C513=$O$3),$P$5,0))))))","v":""}]
[null,null,null,null,null,null,{"$f":"IF(OR(D514=\"Excont\",D514=\"\"),\"\",IF(D514=\"URFU\",IF(AND(B514=$N$2,C514=$O$2),$P$2,IF(AND(B514=$N$2,C514=$O$3),$P$3,IF(AND(B514=$N$4,C514=$O$2),$P$4,IF(AND(B514=Data!A504,C514=$O$3),$P$5,0))))))","v":""}]
[null,null,null,null,null,null,{"$f":"IF(OR(D515=\"Excont\",D515=\"\"),\"\",IF(D515=\"URFU\",IF(AND(B515=$N$2,C515=$O$2),$P$2,IF(AND(B515=$N$2,C515=$O$3),$P$3,IF(AND(B515=$N$4,C515=$O$2),$P$4,IF(AND(B515=Data!A505,C515=$O$3),$P$5,0))))))","v":""}]
[null,null,null,null,null,null,{"$f":"IF(OR(D516=\"Excont\",D516=\"\"),\"\",IF(D516=\"URFU\",IF(AND(B516=$N$2,C516=$O$2),$P$2,IF(AND(B516=$N$2,C516=$O$3),$P$3,IF(AND(B516=$N$4,C516=$O$2),$P$4,IF(AND(B516=Data!A506,C516=$O$3),$P$5,0))))))","v":""}]
[null,null,null,null,null,null,{"$f":"IF(OR(D517=\"Excont\",D517=\"\"),\"\",IF(D517=\"URFU\",IF(AND(B517=$N$2,C517=$O$2),$P$2,IF(AND(B517=$N$2,C517=$O$3),$P$3,IF(AND(B517=$N$4,C517=$O$2),$P$4,IF(AND(B517=Data!A507,C517=$O$3),$P$5,0))))))","v":""}]
[null,null,null,null,null,null,{"$f":"IF(OR(D518=\"Excont\",D518=\"\"),\"\",IF(D518=\"URFU\",IF(AND(B518=$N$2,C518=$O$2),$P$2,IF(AND(B518=$N$2,C518=$O$3),$P$3,IF(AND(B518=$N$4,C518=$O$2),$P$4,IF(AND(B518=Data!A508,C518=$O$3),$P$5,0))))))","v":""}]
[null,null,null,null,null,null,{"$f":"IF(OR(D519=\"Excont\",D519=\"\"),\"\",IF(D519=\"URFU\",IF(AND(B519=$N$2,C519=$O$2),$P$2,IF(AND(B519=$N$2,C519=$O$3),$P$3,IF(AND(B519=$N$4,C519=$O$2),$P$4,IF(AND(B519=Data!A509,C519=$O$3),$P$5,0))))))","v":""}]
[null,null,null,null,null,null,{"$f":"IF(OR(D520=\"Excont\",D520=\"\"),\"\",IF(D520=\"URFU\",IF(AND(B520=$N$2,C520=$O$2),$P$2,IF(AND(B520=$N$2,C520=$O$3),$P$3,IF(AND(B520=$N$4,C520=$O$2),$P$4,IF(AND(B520=Data!A510,C520=$O$3),$P$5,0))))))","v":""}]
[null,null,null,null,null,null,{"$f":"IF(OR(D521=\"Excont\",D521=\"\"),\"\",IF(D521=\"URFU\",IF(AND(B521=$N$2,C521=$O$2),$P$2,IF(AND(B521=$N$2,C521=$O$3),$P$3,IF(AND(B521=$N$4,C521=$O$2),$P$4,IF(AND(B521=Data!A511,C521=$O$3),$P$5,0))))))","v":""}]
[null,null,null,null,null,null,{"$f":"IF(OR(D522=\"Excont\",D522=\"\"),\"\",IF(D522=\"URFU\",IF(AND(B522=$N$2,C522=$O$2),$P$2,IF(AND(B522=$N$2,C522=$O$3),$P$3,IF(AND(B522=$N$4,C522=$O$2),$P$4,IF(AND(B522=Data!A512,C522=$O$3),$P$5,0))))))","v":""}]
[null,null,null,null,null,null,{"$f":"IF(OR(D523=\"Excont\",D523=\"\"),\"\",IF(D523=\"URFU\",IF(AND(B523=$N$2,C523=$O$2),$P$2,IF(AND(B523=$N$2,C523=$O$3),$P$3,IF(AND(B523=$N$4,C523=$O$2),$P$4,IF(AND(B523=Data!A513,C523=$O$3),$P$5,0))))))","v":""}]
[null,null,null,null,null,null,{"$f":"IF(OR(D524=\"Excont\",D524=\"\"),\"\",IF(D524=\"URFU\",IF(AND(B524=$N$2,C524=$O$2),$P$2,IF(AND(B524=$N$2,C524=$O$3),$P$3,IF(AND(B524=$N$4,C524=$O$2),$P$4,IF(AND(B524=Data!A514,C524=$O$3),$P$5,0))))))","v":""}]
[null,null,null,null,null,null,{"$f":"IF(OR(D525=\"Excont\",D525=\"\"),\"\",IF(D525=\"URFU\",IF(AND(B525=$N$2,C525=$O$2),$P$2,IF(AND(B525=$N$2,C525=$O$3),$P$3,IF(AND(B525=$N$4,C525=$O$2),$P$4,IF(AND(B525=Data!A515,C525=$O$3),$P$5,0))))))","v":""}]
[null,null,null,null,null,null,{"$f":"IF(OR(D526=\"Excont\",D526=\"\"),\"\",IF(D526=\"URFU\",IF(AND(B526=$N$2,C526=$O$2),$P$2,IF(AND(B526=$N$2,C526=$O$3),$P$3,IF(AND(B526=$N$4,C526=$O$2),$P$4,IF(AND(B526=Data!A516,C526=$O$3),$P$5,0))))))","v":""}]
[null,null,null,null,null,null,{"$f":"IF(OR(D527=\"Excont\",D527=\"\"),\"\",IF(D527=\"URFU\",IF(AND(B527=$N$2,C527=$O$2),$P$2,IF(AND(B527=$N$2,C527=$O$3),$P$3,IF(AND(B527=$N$4,C527=$O$2),$P$4,IF(AND(B527=Data!A517,C527=$O$3),$P$5,0))))))","v":""}]
[null,null,null,null,null,null,{"$f":"IF(OR(D528=\"Excont\",D528=\"\"),\"\",IF(D528=\"URFU\",IF(AND(B528=$N$2,C528=$O$2),$P$2,IF(AND(B528=$N$2,C528=$O$3),$P$3,IF(AND(B528=$N$4,C528=$O$2),$P$4,IF(AND(B528=Data!A518,C528=$O$3),$P$5,0))))))","v":""}]
[null,null,null,null,null,null,{"$f":"IF(OR(D529=\"Excont\",D529=\"\"),\"\",IF(D529=\"URFU\",IF(AND(B529=$N$2,C529=$O$2),$P$2,IF(AND(B529=$N$2,C529=$O$3),$P$3,IF(AND(B529=$N$4,C529=$O$2),$P$4,IF(AND(B529=Data!A519,C529=$O$3),$P$5,0))))))","v":""}]
[null,null,null,null,null,null,{"$f":"IF(OR(D530=\"Excont\",D530=\"\"),\"\",IF(D530=\"URFU\",IF(AND(B530=$N$2,C530=$O$2),$P$2,IF(AND(B530=$N$2,C530=$O$3),$P$3,IF(AND(B530=$N$4,C530=$O$2),$P$4,IF(AND(B530=Data!A520,C530=$O$3),$P$5,0))))))","v":""}]
[null,null,null,null,null,null,{"$f":"IF(OR(D531=\"Excont\",D531=\"\"),\"\",IF(D531=\"URFU\",IF(AND(B531=$N$2,C531=$O$2),$P$2,IF(AND(B531=$N$2,C531=$O$3),$P$3,IF(AND(B531=$N$4,C531=$O$2),$P$4,IF(AND(B531=Data!A521,C531=$O$3),$P$5,0))))))","v":""}]
[null,null,null,null,null,null,{"$f":"IF(OR(D532=\"Excont\",D532=\"\"),\"\",IF(D532=\"URFU\",IF(AND(B532=$N$2,C532=$O$2),$P$2,IF(AND(B532=$N$2,C532=$O$3),$P$3,IF(AND(B532=$N$4,C532=$O$2),$P$4,IF(AND(B532=Data!A522,C532=$O$3),$P$5,0))))))","v":""}]
[null,null,null,null,null,null,{"$f":"IF(OR(D533=\"Excont\",D533=\"\"),\"\",IF(D533=\"URFU\",IF(AND(B533=$N$2,C533=$O$2),$P$2,IF(AND(B533=$N$2,C533=$O$3),$P$3,IF(AND(B533=$N$4,C533=$O$2),$P$4,IF(AND(B533=Data!A523,C533=$O$3),$P$5,0))))))","v":""}]
[null,null,null,null,null,null,{"$f":"IF(OR(D534=\"Excont\",D534=\"\"),\"\",IF(D534=\"URFU\",IF(AND(B534=$N$2,C534=$O$2),$P$2,IF(AND(B534=$N$2,C534=$O$3),$P$3,IF(AND(B534=$N$4,C534=$O$2),$P$4,IF(AND(B534=Data!A524,C534=$O$3),$P$5,0))))))","v":""}]
[null,null,null,null,null,null,{"$f":"IF(OR(D535=\"Excont\",D535=\"\"),\"\",IF(D535=\"URFU\",IF(AND(B535=$N$2,C535=$O$2),$P$2,IF(AND(B535=$N$2,C535=$O$3),$P$3,IF(AND(B535=$N$4,C535=$O$2),$P$4,IF(AND(B535=Data!A525,C535=$O$3),$P$5,0))))))","v":""}]
[null,null,null,null,null,null,{"$f":"IF(OR(D536=\"Excont\",D536=\"\"),\"\",IF(D536=\"URFU\",IF(AND(B536=$N$2,C536=$O$2),$P$2,IF(AND(B536=$N$2,C536=$O$3),$P$3,IF(AND(B536=$N$4,C536=$O$2),$P$4,IF(AND(B536=Data!A526,C536=$O$3),$P$5,0))))))","v":""}]
[null,null,null,null,null,null,{"$f":"IF(OR(D537=\"Excont\",D537=\"\"),\"\",IF(D537=\"URFU\",IF(AND(B537=$N$2,C537=$O$2),$P$2,IF(AND(B537=$N$2,C537=$O$3),$P$3,IF(AND(B537=$N$4,C537=$O$2),$P$4,IF(AND(B537=Data!A527,C537=$O$3),$P$5,0))))))","v":""}]
[null,null,null,null,null,null,{"$f":"IF(OR(D538=\"Excont\",D538=\"\"),\"\",IF(D538=\"URFU\",IF(AND(B538=$N$2,C538=$O$2),$P$2,IF(AND(B538=$N$2,C538=$O$3),$P$3,IF(AND(B538=$N$4,C538=$O$2),$P$4,IF(AND(B538=Data!A528,C538=$O$3),$P$5,0))))))","v":""}]
[null,null,null,null,null,null,{"$f":"IF(OR(D539=\"Excont\",D539=\"\"),\"\",IF(D539=\"URFU\",IF(AND(B539=$N$2,C539=$O$2),$P$2,IF(AND(B539=$N$2,C539=$O$3),$P$3,IF(AND(B539=$N$4,C539=$O$2),$P$4,IF(AND(B539=Data!A529,C539=$O$3),$P$5,0))))))","v":""}]
[null,null,null,null,null,null,{"$f":"IF(OR(D540=\"Excont\",D540=\"\"),\"\",IF(D540=\"URFU\",IF(AND(B540=$N$2,C540=$O$2),$P$2,IF(AND(B540=$N$2,C540=$O$3),$P$3,IF(AND(B540=$N$4,C540=$O$2),$P$4,IF(AND(B540=Data!A530,C540=$O$3),$P$5,0))))))","v":""}]
[null,null,null,null,null,null,{"$f":"IF(OR(D541=\"Excont\",D541=\"\"),\"\",IF(D541=\"URFU\",IF(AND(B541=$N$2,C541=$O$2),$P$2,IF(AND(B541=$N$2,C541=$O$3),$P$3,IF(AND(B541=$N$4,C541=$O$2),$P$4,IF(AND(B541=Data!A531,C541=$O$3),$P$5,0))))))","v":""}]
[null,null,null,null,null,null,{"$f":"IF(OR(D542=\"Excont\",D542=\"\"),\"\",IF(D542=\"URFU\",IF(AND(B542=$N$2,C542=$O$2),$P$2,IF(AND(B542=$N$2,C542=$O$3),$P$3,IF(AND(B542=$N$4,C542=$O$2),$P$4,IF(AND(B542=Data!A532,C542=$O$3),$P$5,0))))))","v":""}]
[null,null,null,null,null,null,{"$f":"IF(OR(D543=\"Excont\",D543=\"\"),\"\",IF(D543=\"URFU\",IF(AND(B543=$N$2,C543=$O$2),$P$2,IF(AND(B543=$N$2,C543=$O$3),$P$3,IF(AND(B543=$N$4,C543=$O$2),$P$4,IF(AND(B543=Data!A533,C543=$O$3),$P$5,0))))))","v":""}]
[null,null,null,null,null,null,{"$f":"IF(OR(D544=\"Excont\",D544=\"\"),\"\",IF(D544=\"URFU\",IF(AND(B544=$N$2,C544=$O$2),$P$2,IF(AND(B544=$N$2,C544=$O$3),$P$3,IF(AND(B544=$N$4,C544=$O$2),$P$4,IF(AND(B544=Data!A534,C544=$O$3),$P$5,0))))))","v":""}]
[null,null,null,null,null,null,{"$f":"IF(OR(D545=\"Excont\",D545=\"\"),\"\",IF(D545=\"URFU\",IF(AND(B545=$N$2,C545=$O$2),$P$2,IF(AND(B545=$N$2,C545=$O$3),$P$3,IF(AND(B545=$N$4,C545=$O$2),$P$4,IF(AND(B545=Data!A535,C545=$O$3),$P$5,0))))))","v":""}]
[null,null,null,null,null,null,{"$f":"IF(OR(D546=\"Excont\",D546=\"\"),\"\",IF(D546=\"URFU\",IF(AND(B546=$N$2,C546=$O$2),$P$2,IF(AND(B546=$N$2,C546=$O$3),$P$3,IF(AND(B546=$N$4,C546=$O$2),$P$4,IF(AND(B546=Data!A536,C546=$O$3),$P$5,0))))))","v":""}]
[null,null,null,null,null,null,{"$f":"IF(OR(D547=\"Excont\",D547=\"\"),\"\",IF(D547=\"URFU\",IF(AND(B547=$N$2,C547=$O$2),$P$2,IF(AND(B547=$N$2,C547=$O$3),$P$3,IF(AND(B547=$N$4,C547=$O$2),$P$4,IF(AND(B547=Data!A537,C547=$O$3),$P$5,0))))))","v":""}]
[null,null,null,null,null,null,{"$f":"IF(OR(D548=\"Excont\",D548=\"\"),\"\",IF(D548=\"URFU\",IF(AND(B548=$N$2,C548=$O$2),$P$2,IF(AND(B548=$N$2,C548=$O$3),$P$3,IF(AND(B548=$N$4,C548=$O$2),$P$4,IF(AND(B548=Data!A538,C548=$O$3),$P$5,0))))))","v":""}]
[null,null,null,null,null,null,{"$f":"IF(OR(D549=\"Excont\",D549=\"\"),\"\",IF(D549=\"URFU\",IF(AND(B549=$N$2,C549=$O$2),$P$2,IF(AND(B549=$N$2,C549=$O$3),$P$3,IF(AND(B549=$N$4,C549=$O$2),$P$4,IF(AND(B549=Data!A539,C549=$O$3),$P$5,0))))))","v":""}]
[null,null,null,null,null,null,{"$f":"IF(OR(D550=\"Excont\",D550=\"\"),\"\",IF(D550=\"URFU\",IF(AND(B550=$N$2,C550=$O$2),$P$2,IF(AND(B550=$N$2,C550=$O$3),$P$3,IF(AND(B550=$N$4,C550=$O$2),$P$4,IF(AND(B550=Data!A540,C550=$O$3),$P$5,0))))))","v":""}]
[null,null,null,null,null,null,{"$f":"IF(OR(D551=\"Excont\",D551=\"\"),\"\",IF(D551=\"URFU\",IF(AND(B551=$N$2,C551=$O$2),$P$2,IF(AND(B551=$N$2,C551=$O$3),$P$3,IF(AND(B551=$N$4,C551=$O$2),$P$4,IF(AND(B551=Data!A541,C551=$O$3),$P$5,0))))))","v":""}]
[null,null,null,null,null,null,{"$f":"IF(OR(D552=\"Excont\",D552=\"\"),\"\",IF(D552=\"URFU\",IF(AND(B552=$N$2,C552=$O$2),$P$2,IF(AND(B552=$N$2,C552=$O$3),$P$3,IF(AND(B552=$N$4,C552=$O$2),$P$4,IF(AND(B552=Data!A542,C552=$O$3),$P$5,0))))))","v":""}]
[null,null,null,null,null,null,{"$f":"IF(OR(D553=\"Excont\",D553=\"\"),\"\",IF(D553=\"URFU\",IF(AND(B553=$N$2,C553=$O$2),$P$2,IF(AND(B553=$N$2,C553=$O$3),$P$3,IF(AND(B553=$N$4,C553=$O$2),$P$4,IF(AND(B553=Data!A543,C553=$O$3),$P$5,0))))))","v":""}]
[null,null,null,null,null,null,{"$f":"IF(OR(D554=\"Excont\",D554=\"\"),\"\",IF(D554=\"URFU\",IF(AND(B554=$N$2,C554=$O$2),$P$2,IF(AND(B554=$N$2,C554=$O$3),$P$3,IF(AND(B554=$N$4,C554=$O$2),$P$4,IF(AND(B554=Data!A544,C554=$O$3),$P$5,0))))))","v":""}]
[null,null,null,null,null,null,{"$f":"IF(OR(D555=\"Excont\",D555=\"\"),\"\",IF(D555=\"URFU\",IF(AND(B555=$N$2,C555=$O$2),$P$2,IF(AND(B555=$N$2,C555=$O$3),$P$3,IF(AND(B555=$N$4,C555=$O$2),$P$4,IF(AND(B555=Data!A545,C555=$O$3),$P$5,0))))))","v":""}]
[null,null,null,null,null,null,{"$f":"IF(OR(D556=\"Excont\",D556=\"\"),\"\",IF(D556=\"URFU\",IF(AND(B556=$N$2,C556=$O$2),$P$2,IF(AND(B556=$N$2,C556=$O$3),$P$3,IF(AND(B556=$N$4,C556=$O$2),$P$4,IF(AND(B556=Data!A546,C556=$O$3),$P$5,0))))))","v":""}]
[null,null,null,null,null,null,{"$f":"IF(OR(D557=\"Excont\",D557=\"\"),\"\",IF(D557=\"URFU\",IF(AND(B557=$N$2,C557=$O$2),$P$2,IF(AND(B557=$N$2,C557=$O$3),$P$3,IF(AND(B557=$N$4,C557=$O$2),$P$4,IF(AND(B557=Data!A547,C557=$O$3),$P$5,0))))))","v":""}]
[null,null,null,null,null,null,{"$f":"IF(OR(D558=\"Excont\",D558=\"\"),\"\",IF(D558=\"URFU\",IF(AND(B558=$N$2,C558=$O$2),$P$2,IF(AND(B558=$N$2,C558=$O$3),$P$3,IF(AND(B558=$N$4,C558=$O$2),$P$4,IF(AND(B558=Data!A548,C558=$O$3),$P$5,0))))))","v":""}]
[null,null,null,null,null,null,{"$f":"IF(OR(D559=\"Excont\",D559=\"\"),\"\",IF(D559=\"URFU\",IF(AND(B559=$N$2,C559=$O$2),$P$2,IF(AND(B559=$N$2,C559=$O$3),$P$3,IF(AND(B559=$N$4,C559=$O$2),$P$4,IF(AND(B559=Data!A549,C559=$O$3),$P$5,0))))))","v":""}]
[null,null,null,null,null,null,{"$f":"IF(OR(D560=\"Excont\",D560=\"\"),\"\",IF(D560=\"URFU\",IF(AND(B560=$N$2,C560=$O$2),$P$2,IF(AND(B560=$N$2,C560=$O$3),$P$3,IF(AND(B560=$N$4,C560=$O$2),$P$4,IF(AND(B560=Data!A550,C560=$O$3),$P$5,0))))))","v":""}]
[null,null,null,null,null,null,{"$f":"IF(OR(D561=\"Excont\",D561=\"\"),\"\",IF(D561=\"URFU\",IF(AND(B561=$N$2,C561=$O$2),$P$2,IF(AND(B561=$N$2,C561=$O$3),$P$3,IF(AND(B561=$N$4,C561=$O$2),$P$4,IF(AND(B561=Data!A551,C561=$O$3),$P$5,0))))))","v":""}]
[null,null,null,null,null,null,{"$f":"IF(OR(D562=\"Excont\",D562=\"\"),\"\",IF(D562=\"URFU\",IF(AND(B562=$N$2,C562=$O$2),$P$2,IF(AND(B562=$N$2,C562=$O$3),$P$3,IF(AND(B562=$N$4,C562=$O$2),$P$4,IF(AND(B562=Data!A552,C562=$O$3),$P$5,0))))))","v":""}]
[null,null,null,null,null,null,{"$f":"IF(OR(D563=\"Excont\",D563=\"\"),\"\",IF(D563=\"URFU\",IF(AND(B563=$N$2,C563=$O$2),$P$2,IF(AND(B563=$N$2,C563=$O$3),$P$3,IF(AND(B563=$N$4,C563=$O$2),$P$4,IF(AND(B563=Data!A553,C563=$O$3),$P$5,0))))))","v":""}]
[null,null,null,null,null,null,{"$f":"IF(OR(D564=\"Excont\",D564=\"\"),\"\",IF(D564=\"URFU\",IF(AND(B564=$N$2,C564=$O$2),$P$2,IF(AND(B564=$N$2,C564=$O$3),$P$3,IF(AND(B564=$N$4,C564=$O$2),$P$4,IF(AND(B564=Data!A554,C564=$O$3),$P$5,0))))))","v":""}]
[null,null,null,null,null,null,{"$f":"IF(OR(D565=\"Excont\",D565=\"\"),\"\",IF(D565=\"URFU\",IF(AND(B565=$N$2,C565=$O$2),$P$2,IF(AND(B565=$N$2,C565=$O$3),$P$3,IF(AND(B565=$N$4,C565=$O$2),$P$4,IF(AND(B565=Data!A555,C565=$O$3),$P$5,0))))))","v":""}]
[null,null,null,null,null,null,{"$f":"IF(OR(D566=\"Excont\",D566=\"\"),\"\",IF(D566=\"URFU\",IF(AND(B566=$N$2,C566=$O$2),$P$2,IF(AND(B566=$N$2,C566=$O$3),$P$3,IF(AND(B566=$N$4,C566=$O$2),$P$4,IF(AND(B566=Data!A556,C566=$O$3),$P$5,0))))))","v":""}]
[null,null,null,null,null,null,{"$f":"IF(OR(D567=\"Excont\",D567=\"\"),\"\",IF(D567=\"URFU\",IF(AND(B567=$N$2,C567=$O$2),$P$2,IF(AND(B567=$N$2,C567=$O$3),$P$3,IF(AND(B567=$N$4,C567=$O$2),$P$4,IF(AND(B567=Data!A557,C567=$O$3),$P$5,0))))))","v":""}]
[null,null,null,null,null,null,{"$f":"IF(OR(D568=\"Excont\",D568=\"\"),\"\",IF(D568=\"URFU\",IF(AND(B568=$N$2,C568=$O$2),$P$2,IF(AND(B568=$N$2,C568=$O$3),$P$3,IF(AND(B568=$N$4,C568=$O$2),$P$4,IF(AND(B568=Data!A558,C568=$O$3),$P$5,0))))))","v":""}]
[null,null,null,null,null,null,{"$f":"IF(OR(D569=\"Excont\",D569=\"\"),\"\",IF(D569=\"URFU\",IF(AND(B569=$N$2,C569=$O$2),$P$2,IF(AND(B569=$N$2,C569=$O$3),$P$3,IF(AND(B569=$N$4,C569=$O$2),$P$4,IF(AND(B569=Data!A559,C569=$O$3),$P$5,0))))))","v":""}]
[null,null,null,null,null,null,{"$f":"IF(OR(D570=\"Excont\",D570=\"\"),\"\",IF(D570=\"URFU\",IF(AND(B570=$N$2,C570=$O$2),$P$2,IF(AND(B570=$N$2,C570=$O$3),$P$3,IF(AND(B570=$N$4,C570=$O$2),$P$4,IF(AND(B570=Data!A560,C570=$O$3),$P$5,0))))))","v":""}]
[null,null,null,null,null,null,{"$f":"IF(OR(D571=\"Excont\",D571=\"\"),\"\",IF(D571=\"URFU\",IF(AND(B571=$N$2,C571=$O$2),$P$2,IF(AND(B571=$N$2,C571=$O$3),$P$3,IF(AND(B571=$N$4,C571=$O$2),$P$4,IF(AND(B571=Data!A561,C571=$O$3),$P$5,0))))))","v":""}]
[null,null,null,null,null,null,{"$f":"IF(OR(D572=\"Excont\",D572=\"\"),\"\",IF(D572=\"URFU\",IF(AND(B572=$N$2,C572=$O$2),$P$2,IF(AND(B572=$N$2,C572=$O$3),$P$3,IF(AND(B572=$N$4,C572=$O$2),$P$4,IF(AND(B572=Data!A562,C572=$O$3),$P$5,0))))))","v":""}]
[null,null,null,null,null,null,{"$f":"IF(OR(D573=\"Excont\",D573=\"\"),\"\",IF(D573=\"URFU\",IF(AND(B573=$N$2,C573=$O$2),$P$2,IF(AND(B573=$N$2,C573=$O$3),$P$3,IF(AND(B573=$N$4,C573=$O$2),$P$4,IF(AND(B573=Data!A563,C573=$O$3),$P$5,0))))))","v":""}]
[null,null,null,null,null,null,{"$f":"IF(OR(D574=\"Excont\",D574=\"\"),\"\",IF(D574=\"URFU\",IF(AND(B574=$N$2,C574=$O$2),$P$2,IF(AND(B574=$N$2,C574=$O$3),$P$3,IF(AND(B574=$N$4,C574=$O$2),$P$4,IF(AND(B574=Data!A564,C574=$O$3),$P$5,0))))))","v":""}]
[null,null,null,null,null,null,{"$f":"IF(OR(D575=\"Excont\",D575=\"\"),\"\",IF(D575=\"URFU\",IF(AND(B575=$N$2,C575=$O$2),$P$2,IF(AND(B575=$N$2,C575=$O$3),$P$3,IF(AND(B575=$N$4,C575=$O$2),$P$4,IF(AND(B575=Data!A565,C575=$O$3),$P$5,0))))))","v":""}]
[null,null,null,null,null,null,{"$f":"IF(OR(D576=\"Excont\",D576=\"\"),\"\",IF(D576=\"URFU\",IF(AND(B576=$N$2,C576=$O$2),$P$2,IF(AND(B576=$N$2,C576=$O$3),$P$3,IF(AND(B576=$N$4,C576=$O$2),$P$4,IF(AND(B576=Data!A566,C576=$O$3),$P$5,0))))))","v":""}]
[null,null,null,null,null,null,{"$f":"IF(OR(D577=\"Excont\",D577=\"\"),\"\",IF(D577=\"URFU\",IF(AND(B577=$N$2,C577=$O$2),$P$2,IF(AND(B577=$N$2,C577=$O$3),$P$3,IF(AND(B577=$N$4,C577=$O$2),$P$4,IF(AND(B577=Data!A567,C577=$O$3),$P$5,0))))))","v":""}]
[null,null,null,null,null,null,{"$f":"IF(OR(D578=\"Excont\",D578=\"\"),\"\",IF(D578=\"URFU\",IF(AND(B578=$N$2,C578=$O$2),$P$2,IF(AND(B578=$N$2,C578=$O$3),$P$3,IF(AND(B578=$N$4,C578=$O$2),$P$4,IF(AND(B578=Data!A568,C578=$O$3),$P$5,0))))))","v":""}]
[null,null,null,null,null,null,{"$f":"IF(OR(D579=\"Excont\",D579=\"\"),\"\",IF(D579=\"URFU\",IF(AND(B579=$N$2,C579=$O$2),$P$2,IF(AND(B579=$N$2,C579=$O$3),$P$3,IF(AND(B579=$N$4,C579=$O$2),$P$4,IF(AND(B579=Data!A569,C579=$O$3),$P$5,0))))))","v":""}]
[null,null,null,null,null,null,{"$f":"IF(OR(D580=\"Excont\",D580=\"\"),\"\",IF(D580=\"URFU\",IF(AND(B580=$N$2,C580=$O$2),$P$2,IF(AND(B580=$N$2,C580=$O$3),$P$3,IF(AND(B580=$N$4,C580=$O$2),$P$4,IF(AND(B580=Data!A570,C580=$O$3),$P$5,0))))))","v":""}]
[null,null,null,null,null,null,{"$f":"IF(OR(D581=\"Excont\",D581=\"\"),\"\",IF(D581=\"URFU\",IF(AND(B581=$N$2,C581=$O$2),$P$2,IF(AND(B581=$N$2,C581=$O$3),$P$3,IF(AND(B581=$N$4,C581=$O$2),$P$4,IF(AND(B581=Data!A571,C581=$O$3),$P$5,0))))))","v":""}]
[null,null,null,null,null,null,{"$f":"IF(OR(D582=\"Excont\",D582=\"\"),\"\",IF(D582=\"URFU\",IF(AND(B582=$N$2,C582=$O$2),$P$2,IF(AND(B582=$N$2,C582=$O$3),$P$3,IF(AND(B582=$N$4,C582=$O$2),$P$4,IF(AND(B582=Data!A572,C582=$O$3),$P$5,0))))))","v":""}]
[null,null,null,null,null,null,{"$f":"IF(OR(D583=\"Excont\",D583=\"\"),\"\",IF(D583=\"URFU\",IF(AND(B583=$N$2,C583=$O$2),$P$2,IF(AND(B583=$N$2,C583=$O$3),$P$3,IF(AND(B583=$N$4,C583=$O$2),$P$4,IF(AND(B583=Data!A573,C583=$O$3),$P$5,0))))))","v":""}]
[null,null,null,null,null,null,{"$f":"IF(OR(D584=\"Excont\",D584=\"\"),\"\",IF(D584=\"URFU\",IF(AND(B584=$N$2,C584=$O$2),$P$2,IF(AND(B584=$N$2,C584=$O$3),$P$3,IF(AND(B584=$N$4,C584=$O$2),$P$4,IF(AND(B584=Data!A574,C584=$O$3),$P$5,0))))))","v":""}]
[null,null,null,null,null,null,{"$f":"IF(OR(D585=\"Excont\",D585=\"\"),\"\",IF(D585=\"URFU\",IF(AND(B585=$N$2,C585=$O$2),$P$2,IF(AND(B585=$N$2,C585=$O$3),$P$3,IF(AND(B585=$N$4,C585=$O$2),$P$4,IF(AND(B585=Data!A575,C585=$O$3),$P$5,0))))))","v":""}]
[null,null,null,null,null,null,{"$f":"IF(OR(D586=\"Excont\",D586=\"\"),\"\",IF(D586=\"URFU\",IF(AND(B586=$N$2,C586=$O$2),$P$2,IF(AND(B586=$N$2,C586=$O$3),$P$3,IF(AND(B586=$N$4,C586=$O$2),$P$4,IF(AND(B586=Data!A576,C586=$O$3),$P$5,0))))))","v":""}]
[null,null,null,null,null,null,{"$f":"IF(OR(D587=\"Excont\",D587=\"\"),\"\",IF(D587=\"URFU\",IF(AND(B587=$N$2,C587=$O$2),$P$2,IF(AND(B587=$N$2,C587=$O$3),$P$3,IF(AND(B587=$N$4,C587=$O$2),$P$4,IF(AND(B587=Data!A577,C587=$O$3),$P$5,0))))))","v":""}]
[null,null,null,null,null,null,{"$f":"IF(OR(D588=\"Excont\",D588=\"\"),\"\",IF(D588=\"URFU\",IF(AND(B588=$N$2,C588=$O$2),$P$2,IF(AND(B588=$N$2,C588=$O$3),$P$3,IF(AND(B588=$N$4,C588=$O$2),$P$4,IF(AND(B588=Data!A578,C588=$O$3),$P$5,0))))))","v":""}]
[null,null,null,null,null,null,{"$f":"IF(OR(D589=\"Excont\",D589=\"\"),\"\",IF(D589=\"URFU\",IF(AND(B589=$N$2,C589=$O$2),$P$2,IF(AND(B589=$N$2,C589=$O$3),$P$3,IF(AND(B589=$N$4,C589=$O$2),$P$4,IF(AND(B589=Data!A579,C589=$O$3),$P$5,0))))))","v":""}]
[null,null,null,null,null,null,{"$f":"IF(OR(D590=\"Excont\",D590=\"\"),\"\",IF(D590=\"URFU\",IF(AND(B590=$N$2,C590=$O$2),$P$2,IF(AND(B590=$N$2,C590=$O$3),$P$3,IF(AND(B590=$N$4,C590=$O$2),$P$4,IF(AND(B590=Data!A580,C590=$O$3),$P$5,0))))))","v":""}]
[null,null,null,null,null,null,{"$f":"IF(OR(D591=\"Excont\",D591=\"\"),\"\",IF(D591=\"URFU\",IF(AND(B591=$N$2,C591=$O$2),$P$2,IF(AND(B591=$N$2,C591=$O$3),$P$3,IF(AND(B591=$N$4,C591=$O$2),$P$4,IF(AND(B591=Data!A581,C591=$O$3),$P$5,0))))))","v":""}]
[null,null,null,null,null,null,{"$f":"IF(OR(D592=\"Excont\",D592=\"\"),\"\",IF(D592=\"URFU\",IF(AND(B592=$N$2,C592=$O$2),$P$2,IF(AND(B592=$N$2,C592=$O$3),$P$3,IF(AND(B592=$N$4,C592=$O$2),$P$4,IF(AND(B592=Data!A582,C592=$O$3),$P$5,0))))))","v":""}]
[null,null,null,null,null,null,{"$f":"IF(OR(D593=\"Excont\",D593=\"\"),\"\",IF(D593=\"URFU\",IF(AND(B593=$N$2,C593=$O$2),$P$2,IF(AND(B593=$N$2,C593=$O$3),$P$3,IF(AND(B593=$N$4,C593=$O$2),$P$4,IF(AND(B593=Data!A583,C593=$O$3),$P$5,0))))))","v":""}]
[null,null,null,null,null,null,{"$f":"IF(OR(D594=\"Excont\",D594=\"\"),\"\",IF(D594=\"URFU\",IF(AND(B594=$N$2,C594=$O$2),$P$2,IF(AND(B594=$N$2,C594=$O$3),$P$3,IF(AND(B594=$N$4,C594=$O$2),$P$4,IF(AND(B594=Data!A584,C594=$O$3),$P$5,0))))))","v":""}]
[null,null,null,null,null,null,{"$f":"IF(OR(D595=\"Excont\",D595=\"\"),\"\",IF(D595=\"URFU\",IF(AND(B595=$N$2,C595=$O$2),$P$2,IF(AND(B595=$N$2,C595=$O$3),$P$3,IF(AND(B595=$N$4,C595=$O$2),$P$4,IF(AND(B595=Data!A585,C595=$O$3),$P$5,0))))))","v":""}]
[null,null,null,null,null,null,{"$f":"IF(OR(D596=\"Excont\",D596=\"\"),\"\",IF(D596=\"URFU\",IF(AND(B596=$N$2,C596=$O$2),$P$2,IF(AND(B596=$N$2,C596=$O$3),$P$3,IF(AND(B596=$N$4,C596=$O$2),$P$4,IF(AND(B596=Data!A586,C596=$O$3),$P$5,0))))))","v":""}]
[null,null,null,null,null,null,{"$f":"IF(OR(D597=\"Excont\",D597=\"\"),\"\",IF(D597=\"URFU\",IF(AND(B597=$N$2,C597=$O$2),$P$2,IF(AND(B597=$N$2,C597=$O$3),$P$3,IF(AND(B597=$N$4,C597=$O$2),$P$4,IF(AND(B597=Data!A587,C597=$O$3),$P$5,0))))))","v":""}]
[null,null,null,null,null,null,{"$f":"IF(OR(D598=\"Excont\",D598=\"\"),\"\",IF(D598=\"URFU\",IF(AND(B598=$N$2,C598=$O$2),$P$2,IF(AND(B598=$N$2,C598=$O$3),$P$3,IF(AND(B598=$N$4,C598=$O$2),$P$4,IF(AND(B598=Data!A588,C598=$O$3),$P$5,0))))))","v":""}]
[null,null,null,null,null,null,{"$f":"IF(OR(D599=\"Excont\",D599=\"\"),\"\",IF(D599=\"URFU\",IF(AND(B599=$N$2,C599=$O$2),$P$2,IF(AND(B599=$N$2,C599=$O$3),$P$3,IF(AND(B599=$N$4,C599=$O$2),$P$4,IF(AND(B599=Data!A589,C599=$O$3),$P$5,0))))))","v":""}]
[null,null,null,null,null,null,{"$f":"IF(OR(D600=\"Excont\",D600=\"\"),\"\",IF(D600=\"URFU\",IF(AND(B600=$N$2,C600=$O$2),$P$2,IF(AND(B600=$N$2,C600=$O$3),$P$3,IF(AND(B600=$N$4,C600=$O$2),$P$4,IF(AND(B600=Data!A590,C600=$O$3),$P$5,0))))))","v":""}]
[null,null,null,null,null,null,{"$f":"IF(OR(D601=\"Excont\",D601=\"\"),\"\",IF(D601=\"URFU\",IF(AND(B601=$N$2,C601=$O$2),$P$2,IF(AND(B601=$N$2,C601=$O$3),$P$3,IF(AND(B601=$N$4,C601=$O$2),$P$4,IF(AND(B601=Data!A591,C601=$O$3),$P$5,0))))))","v":""}]
[null,null,null,null,null,null,{"$f":"IF(OR(D602=\"Excont\",D602=\"\"),\"\",IF(D602=\"URFU\",IF(AND(B602=$N$2,C602=$O$2),$P$2,IF(AND(B602=$N$2,C602=$O$3),$P$3,IF(AND(B602=$N$4,C602=$O$2),$P$4,IF(AND(B602=Data!A592,C602=$O$3),$P$5,0))))))","v":""}]
[null,null,null,null,null,null,{"$f":"IF(OR(D603=\"Excont\",D603=\"\"),\"\",IF(D603=\"URFU\",IF(AND(B603=$N$2,C603=$O$2),$P$2,IF(AND(B603=$N$2,C603=$O$3),$P$3,IF(AND(B603=$N$4,C603=$O$2),$P$4,IF(AND(B603=Data!A593,C603=$O$3),$P$5,0))))))","v":""}]
[null,null,null,null,null,null,{"$f":"IF(OR(D604=\"Excont\",D604=\"\"),\"\",IF(D604=\"URFU\",IF(AND(B604=$N$2,C604=$O$2),$P$2,IF(AND(B604=$N$2,C604=$O$3),$P$3,IF(AND(B604=$N$4,C604=$O$2),$P$4,IF(AND(B604=Data!A594,C604=$O$3),$P$5,0))))))","v":""}]
[null,null,null,null,null,null,{"$f":"IF(OR(D605=\"Excont\",D605=\"\"),\"\",IF(D605=\"URFU\",IF(AND(B605=$N$2,C605=$O$2),$P$2,IF(AND(B605=$N$2,C605=$O$3),$P$3,IF(AND(B605=$N$4,C605=$O$2),$P$4,IF(AND(B605=Data!A595,C605=$O$3),$P$5,0))))))","v":""}]
[null,null,null,null,null,null,{"$f":"IF(OR(D606=\"Excont\",D606=\"\"),\"\",IF(D606=\"URFU\",IF(AND(B606=$N$2,C606=$O$2),$P$2,IF(AND(B606=$N$2,C606=$O$3),$P$3,IF(AND(B606=$N$4,C606=$O$2),$P$4,IF(AND(B606=Data!A596,C606=$O$3),$P$5,0))))))","v":""}]
[null,null,null,null,null,null,{"$f":"IF(OR(D607=\"Excont\",D607=\"\"),\"\",IF(D607=\"URFU\",IF(AND(B607=$N$2,C607=$O$2),$P$2,IF(AND(B607=$N$2,C607=$O$3),$P$3,IF(AND(B607=$N$4,C607=$O$2),$P$4,IF(AND(B607=Data!A597,C607=$O$3),$P$5,0))))))","v":""}]
[null,null,null,null,null,null,{"$f":"IF(OR(D608=\"Excont\",D608=\"\"),\"\",IF(D608=\"URFU\",IF(AND(B608=$N$2,C608=$O$2),$P$2,IF(AND(B608=$N$2,C608=$O$3),$P$3,IF(AND(B608=$N$4,C608=$O$2),$P$4,IF(AND(B608=Data!A598,C608=$O$3),$P$5,0))))))","v":""}]
[null,null,null,null,null,null,{"$f":"IF(OR(D609=\"Excont\",D609=\"\"),\"\",IF(D609=\"URFU\",IF(AND(B609=$N$2,C609=$O$2),$P$2,IF(AND(B609=$N$2,C609=$O$3),$P$3,IF(AND(B609=$N$4,C609=$O$2),$P$4,IF(AND(B609=Data!A599,C609=$O$3),$P$5,0))))))","v":""}]
[null,null,null,null,null,null,{"$f":"IF(OR(D610=\"Excont\",D610=\"\"),\"\",IF(D610=\"URFU\",IF(AND(B610=$N$2,C610=$O$2),$P$2,IF(AND(B610=$N$2,C610=$O$3),$P$3,IF(AND(B610=$N$4,C610=$O$2),$P$4,IF(AND(B610=Data!A600,C610=$O$3),$P$5,0))))))","v":""}]
[null,null,null,null,null,null,{"$f":"IF(OR(D611=\"Excont\",D611=\"\"),\"\",IF(D611=\"URFU\",IF(AND(B611=$N$2,C611=$O$2),$P$2,IF(AND(B611=$N$2,C611=$O$3),$P$3,IF(AND(B611=$N$4,C611=$O$2),$P$4,IF(AND(B611=Data!A601,C611=$O$3),$P$5,0))))))","v":""}]
[null,null,null,null,null,null,{"$f":"IF(OR(D612=\"Excont\",D612=\"\"),\"\",IF(D612=\"URFU\",IF(AND(B612=$N$2,C612=$O$2),$P$2,IF(AND(B612=$N$2,C612=$O$3),$P$3,IF(AND(B612=$N$4,C612=$O$2),$P$4,IF(AND(B612=Data!A602,C612=$O$3),$P$5,0))))))","v":""}]
[null,null,null,null,null,null,{"$f":"IF(OR(D613=\"Excont\",D613=\"\"),\"\",IF(D613=\"URFU\",IF(AND(B613=$N$2,C613=$O$2),$P$2,IF(AND(B613=$N$2,C613=$O$3),$P$3,IF(AND(B613=$N$4,C613=$O$2),$P$4,IF(AND(B613=Data!A603,C613=$O$3),$P$5,0))))))","v":""}]
[null,null,null,null,null,null,{"$f":"IF(OR(D614=\"Excont\",D614=\"\"),\"\",IF(D614=\"URFU\",IF(AND(B614=$N$2,C614=$O$2),$P$2,IF(AND(B614=$N$2,C614=$O$3),$P$3,IF(AND(B614=$N$4,C614=$O$2),$P$4,IF(AND(B614=Data!A604,C614=$O$3),$P$5,0))))))","v":""}]
[null,null,null,null,null,null,{"$f":"IF(OR(D615=\"Excont\",D615=\"\"),\"\",IF(D615=\"URFU\",IF(AND(B615=$N$2,C615=$O$2),$P$2,IF(AND(B615=$N$2,C615=$O$3),$P$3,IF(AND(B615=$N$4,C615=$O$2),$P$4,IF(AND(B615=Data!A605,C615=$O$3),$P$5,0))))))","v":""}]
[null,null,null,null,null,null,{"$f":"IF(OR(D616=\"Excont\",D616=\"\"),\"\",IF(D616=\"URFU\",IF(AND(B616=$N$2,C616=$O$2),$P$2,IF(AND(B616=$N$2,C616=$O$3),$P$3,IF(AND(B616=$N$4,C616=$O$2),$P$4,IF(AND(B616=Data!A606,C616=$O$3),$P$5,0))))))","v":""}]
[null,null,null,null,null,null,{"$f":"IF(OR(D617=\"Excont\",D617=\"\"),\"\",IF(D617=\"URFU\",IF(AND(B617=$N$2,C617=$O$2),$P$2,IF(AND(B617=$N$2,C617=$O$3),$P$3,IF(AND(B617=$N$4,C617=$O$2),$P$4,IF(AND(B617=Data!A607,C617=$O$3),$P$5,0))))))","v":""}]
[null,null,null,null,null,null,{"$f":"IF(OR(D618=\"Excont\",D618=\"\"),\"\",IF(D618=\"URFU\",IF(AND(B618=$N$2,C618=$O$2),$P$2,IF(AND(B618=$N$2,C618=$O$3),$P$3,IF(AND(B618=$N$4,C618=$O$2),$P$4,IF(AND(B618=Data!A608,C618=$O$3),$P$5,0))))))","v":""}]
[null,null,null,null,null,null,{"$f":"IF(OR(D619=\"Excont\",D619=\"\"),\"\",IF(D619=\"URFU\",IF(AND(B619=$N$2,C619=$O$2),$P$2,IF(AND(B619=$N$2,C619=$O$3),$P$3,IF(AND(B619=$N$4,C619=$O$2),$P$4,IF(AND(B619=Data!A609,C619=$O$3),$P$5,0))))))","v":""}]
[null,null,null,null,null,null,{"$f":"IF(OR(D620=\"Excont\",D620=\"\"),\"\",IF(D620=\"URFU\",IF(AND(B620=$N$2,C620=$O$2),$P$2,IF(AND(B620=$N$2,C620=$O$3),$P$3,IF(AND(B620=$N$4,C620=$O$2),$P$4,IF(AND(B620=Data!A610,C620=$O$3),$P$5,0))))))","v":""}]
[null,null,null,null,null,null,{"$f":"IF(OR(D621=\"Excont\",D621=\"\"),\"\",IF(D621=\"URFU\",IF(AND(B621=$N$2,C621=$O$2),$P$2,IF(AND(B621=$N$2,C621=$O$3),$P$3,IF(AND(B621=$N$4,C621=$O$2),$P$4,IF(AND(B621=Data!A611,C621=$O$3),$P$5,0))))))","v":""}]
[null,null,null,null,null,null,{"$f":"IF(OR(D622=\"Excont\",D622=\"\"),\"\",IF(D622=\"URFU\",IF(AND(B622=$N$2,C622=$O$2),$P$2,IF(AND(B622=$N$2,C622=$O$3),$P$3,IF(AND(B622=$N$4,C622=$O$2),$P$4,IF(AND(B622=Data!A612,C622=$O$3),$P$5,0))))))","v":""}]
[null,null,null,null,null,null,{"$f":"IF(OR(D623=\"Excont\",D623=\"\"),\"\",IF(D623=\"URFU\",IF(AND(B623=$N$2,C623=$O$2),$P$2,IF(AND(B623=$N$2,C623=$O$3),$P$3,IF(AND(B623=$N$4,C623=$O$2),$P$4,IF(AND(B623=Data!A613,C623=$O$3),$P$5,0))))))","v":""}]
[null,null,null,null,null,null,{"$f":"IF(OR(D624=\"Excont\",D624=\"\"),\"\",IF(D624=\"URFU\",IF(AND(B624=$N$2,C624=$O$2),$P$2,IF(AND(B624=$N$2,C624=$O$3),$P$3,IF(AND(B624=$N$4,C624=$O$2),$P$4,IF(AND(B624=Data!A614,C624=$O$3),$P$5,0))))))","v":""}]
[null,null,null,null,null,null,{"$f":"IF(OR(D625=\"Excont\",D625=\"\"),\"\",IF(D625=\"URFU\",IF(AND(B625=$N$2,C625=$O$2),$P$2,IF(AND(B625=$N$2,C625=$O$3),$P$3,IF(AND(B625=$N$4,C625=$O$2),$P$4,IF(AND(B625=Data!A615,C625=$O$3),$P$5,0))))))","v":""}]
[null,null,null,null,null,null,{"$f":"IF(OR(D626=\"Excont\",D626=\"\"),\"\",IF(D626=\"URFU\",IF(AND(B626=$N$2,C626=$O$2),$P$2,IF(AND(B626=$N$2,C626=$O$3),$P$3,IF(AND(B626=$N$4,C626=$O$2),$P$4,IF(AND(B626=Data!A616,C626=$O$3),$P$5,0))))))","v":""}]
[null,null,null,null,null,null,{"$f":"IF(OR(D627=\"Excont\",D627=\"\"),\"\",IF(D627=\"URFU\",IF(AND(B627=$N$2,C627=$O$2),$P$2,IF(AND(B627=$N$2,C627=$O$3),$P$3,IF(AND(B627=$N$4,C627=$O$2),$P$4,IF(AND(B627=Data!A617,C627=$O$3),$P$5,0))))))","v":""}]
[null,null,null,null,null,null,{"$f":"IF(OR(D628=\"Excont\",D628=\"\"),\"\",IF(D628=\"URFU\",IF(AND(B628=$N$2,C628=$O$2),$P$2,IF(AND(B628=$N$2,C628=$O$3),$P$3,IF(AND(B628=$N$4,C628=$O$2),$P$4,IF(AND(B628=Data!A618,C628=$O$3),$P$5,0))))))","v":""}]
[null,null,null,null,null,null,{"$f":"IF(OR(D629=\"Excont\",D629=\"\"),\"\",IF(D629=\"URFU\",IF(AND(B629=$N$2,C629=$O$2),$P$2,IF(AND(B629=$N$2,C629=$O$3),$P$3,IF(AND(B629=$N$4,C629=$O$2),$P$4,IF(AND(B629=Data!A619,C629=$O$3),$P$5,0))))))","v":""}]
[null,null,null,null,null,null,{"$f":"IF(OR(D630=\"Excont\",D630=\"\"),\"\",IF(D630=\"URFU\",IF(AND(B630=$N$2,C630=$O$2),$P$2,IF(AND(B630=$N$2,C630=$O$3),$P$3,IF(AND(B630=$N$4,C630=$O$2),$P$4,IF(AND(B630=Data!A620,C630=$O$3),$P$5,0))))))","v":""}]
[null,null,null,null,null,null,{"$f":"IF(OR(D631=\"Excont\",D631=\"\"),\"\",IF(D631=\"URFU\",IF(AND(B631=$N$2,C631=$O$2),$P$2,IF(AND(B631=$N$2,C631=$O$3),$P$3,IF(AND(B631=$N$4,C631=$O$2),$P$4,IF(AND(B631=Data!A621,C631=$O$3),$P$5,0))))))","v":""}]
[null,null,null,null,null,null,{"$f":"IF(OR(D632=\"Excont\",D632=\"\"),\"\",IF(D632=\"URFU\",IF(AND(B632=$N$2,C632=$O$2),$P$2,IF(AND(B632=$N$2,C632=$O$3),$P$3,IF(AND(B632=$N$4,C632=$O$2),$P$4,IF(AND(B632=Data!A622,C632=$O$3),$P$5,0))))))","v":""}]
[null,null,null,null,null,null,{"$f":"IF(OR(D633=\"Excont\",D633=\"\"),\"\",IF(D633=\"URFU\",IF(AND(B633=$N$2,C633=$O$2),$P$2,IF(AND(B633=$N$2,C633=$O$3),$P$3,IF(AND(B633=$N$4,C633=$O$2),$P$4,IF(AND(B633=Data!A623,C633=$O$3),$P$5,0))))))","v":""}]
[null,null,null,null,null,null,{"$f":"IF(OR(D634=\"Excont\",D634=\"\"),\"\",IF(D634=\"URFU\",IF(AND(B634=$N$2,C634=$O$2),$P$2,IF(AND(B634=$N$2,C634=$O$3),$P$3,IF(AND(B634=$N$4,C634=$O$2),$P$4,IF(AND(B634=Data!A624,C634=$O$3),$P$5,0))))))","v":""}]
[null,null,null,null,null,null,{"$f":"IF(OR(D635=\"Excont\",D635=\"\"),\"\",IF(D635=\"URFU\",IF(AND(B635=$N$2,C635=$O$2),$P$2,IF(AND(B635=$N$2,C635=$O$3),$P$3,IF(AND(B635=$N$4,C635=$O$2),$P$4,IF(AND(B635=Data!A625,C635=$O$3),$P$5,0))))))","v":""}]
[null,null,null,null,null,null,{"$f":"IF(OR(D636=\"Excont\",D636=\"\"),\"\",IF(D636=\"URFU\",IF(AND(B636=$N$2,C636=$O$2),$P$2,IF(AND(B636=$N$2,C636=$O$3),$P$3,IF(AND(B636=$N$4,C636=$O$2),$P$4,IF(AND(B636=Data!A626,C636=$O$3),$P$5,0))))))","v":""}]
[null,null,null,null,null,null,{"$f":"IF(OR(D637=\"Excont\",D637=\"\"),\"\",IF(D637=\"URFU\",IF(AND(B637=$N$2,C637=$O$2),$P$2,IF(AND(B637=$N$2,C637=$O$3),$P$3,IF(AND(B637=$N$4,C637=$O$2),$P$4,IF(AND(B637=Data!A627,C637=$O$3),$P$5,0))))))","v":""}]
[null,null,null,null,null,null,{"$f":"IF(OR(D638=\"Excont\",D638=\"\"),\"\",IF(D638=\"URFU\",IF(AND(B638=$N$2,C638=$O$2),$P$2,IF(AND(B638=$N$2,C638=$O$3),$P$3,IF(AND(B638=$N$4,C638=$O$2),$P$4,IF(AND(B638=Data!A628,C638=$O$3),$P$5,0))))))","v":""}]
[null,null,null,null,null,null,{"$f":"IF(OR(D639=\"Excont\",D639=\"\"),\"\",IF(D639=\"URFU\",IF(AND(B639=$N$2,C639=$O$2),$P$2,IF(AND(B639=$N$2,C639=$O$3),$P$3,IF(AND(B639=$N$4,C639=$O$2),$P$4,IF(AND(B639=Data!A629,C639=$O$3),$P$5,0))))))","v":""}]
[null,null,null,null,null,null,{"$f":"IF(OR(D640=\"Excont\",D640=\"\"),\"\",IF(D640=\"URFU\",IF(AND(B640=$N$2,C640=$O$2),$P$2,IF(AND(B640=$N$2,C640=$O$3),$P$3,IF(AND(B640=$N$4,C640=$O$2),$P$4,IF(AND(B640=Data!A630,C640=$O$3),$P$5,0))))))","v":""}]
[null,null,null,null,null,null,{"$f":"IF(OR(D641=\"Excont\",D641=\"\"),\"\",IF(D641=\"URFU\",IF(AND(B641=$N$2,C641=$O$2),$P$2,IF(AND(B641=$N$2,C641=$O$3),$P$3,IF(AND(B641=$N$4,C641=$O$2),$P$4,IF(AND(B641=Data!A631,C641=$O$3),$P$5,0))))))","v":""}]
[null,null,null,null,null,null,{"$f":"IF(OR(D642=\"Excont\",D642=\"\"),\"\",IF(D642=\"URFU\",IF(AND(B642=$N$2,C642=$O$2),$P$2,IF(AND(B642=$N$2,C642=$O$3),$P$3,IF(AND(B642=$N$4,C642=$O$2),$P$4,IF(AND(B642=Data!A632,C642=$O$3),$P$5,0))))))","v":""}]
[null,null,null,null,null,null,{"$f":"IF(OR(D643=\"Excont\",D643=\"\"),\"\",IF(D643=\"URFU\",IF(AND(B643=$N$2,C643=$O$2),$P$2,IF(AND(B643=$N$2,C643=$O$3),$P$3,IF(AND(B643=$N$4,C643=$O$2),$P$4,IF(AND(B643=Data!A633,C643=$O$3),$P$5,0))))))","v":""}]
[null,null,null,null,null,null,{"$f":"IF(OR(D644=\"Excont\",D644=\"\"),\"\",IF(D644=\"URFU\",IF(AND(B644=$N$2,C644=$O$2),$P$2,IF(AND(B644=$N$2,C644=$O$3),$P$3,IF(AND(B644=$N$4,C644=$O$2),$P$4,IF(AND(B644=Data!A634,C644=$O$3),$P$5,0))))))","v":""}]
[null,null,null,null,null,null,{"$f":"IF(OR(D645=\"Excont\",D645=\"\"),\"\",IF(D645=\"URFU\",IF(AND(B645=$N$2,C645=$O$2),$P$2,IF(AND(B645=$N$2,C645=$O$3),$P$3,IF(AND(B645=$N$4,C645=$O$2),$P$4,IF(AND(B645=Data!A635,C645=$O$3),$P$5,0))))))","v":""}]
[null,null,null,null,null,null,{"$f":"IF(OR(D646=\"Excont\",D646=\"\"),\"\",IF(D646=\"URFU\",IF(AND(B646=$N$2,C646=$O$2),$P$2,IF(AND(B646=$N$2,C646=$O$3),$P$3,IF(AND(B646=$N$4,C646=$O$2),$P$4,IF(AND(B646=Data!A636,C646=$O$3),$P$5,0))))))","v":""}]
[null,null,null,null,null,null,{"$f":"IF(OR(D647=\"Excont\",D647=\"\"),\"\",IF(D647=\"URFU\",IF(AND(B647=$N$2,C647=$O$2),$P$2,IF(AND(B647=$N$2,C647=$O$3),$P$3,IF(AND(B647=$N$4,C647=$O$2),$P$4,IF(AND(B647=Data!A637,C647=$O$3),$P$5,0))))))","v":""}]
[null,null,null,null,null,null,{"$f":"IF(OR(D648=\"Excont\",D648=\"\"),\"\",IF(D648=\"URFU\",IF(AND(B648=$N$2,C648=$O$2),$P$2,IF(AND(B648=$N$2,C648=$O$3),$P$3,IF(AND(B648=$N$4,C648=$O$2),$P$4,IF(AND(B648=Data!A638,C648=$O$3),$P$5,0))))))","v":""}]
[null,null,null,null,null,null,{"$f":"IF(OR(D649=\"Excont\",D649=\"\"),\"\",IF(D649=\"URFU\",IF(AND(B649=$N$2,C649=$O$2),$P$2,IF(AND(B649=$N$2,C649=$O$3),$P$3,IF(AND(B649=$N$4,C649=$O$2),$P$4,IF(AND(B649=Data!A639,C649=$O$3),$P$5,0))))))","v":""}]
[null,null,null,null,null,null,{"$f":"IF(OR(D650=\"Excont\",D650=\"\"),\"\",IF(D650=\"URFU\",IF(AND(B650=$N$2,C650=$O$2),$P$2,IF(AND(B650=$N$2,C650=$O$3),$P$3,IF(AND(B650=$N$4,C650=$O$2),$P$4,IF(AND(B650=Data!A640,C650=$O$3),$P$5,0))))))","v":""}]
[null,null,null,null,null,null,{"$f":"IF(OR(D651=\"Excont\",D651=\"\"),\"\",IF(D651=\"URFU\",IF(AND(B651=$N$2,C651=$O$2),$P$2,IF(AND(B651=$N$2,C651=$O$3),$P$3,IF(AND(B651=$N$4,C651=$O$2),$P$4,IF(AND(B651=Data!A641,C651=$O$3),$P$5,0))))))","v":""}]
[null,null,null,null,null,null,{"$f":"IF(OR(D652=\"Excont\",D652=\"\"),\"\",IF(D652=\"URFU\",IF(AND(B652=$N$2,C652=$O$2),$P$2,IF(AND(B652=$N$2,C652=$O$3),$P$3,IF(AND(B652=$N$4,C652=$O$2),$P$4,IF(AND(B652=Data!A642,C652=$O$3),$P$5,0))))))","v":""}]
[null,null,null,null,null,null,{"$f":"IF(OR(D653=\"Excont\",D653=\"\"),\"\",IF(D653=\"URFU\",IF(AND(B653=$N$2,C653=$O$2),$P$2,IF(AND(B653=$N$2,C653=$O$3),$P$3,IF(AND(B653=$N$4,C653=$O$2),$P$4,IF(AND(B653=Data!A643,C653=$O$3),$P$5,0))))))","v":""}]
[null,null,null,null,null,null,{"$f":"IF(OR(D654=\"Excont\",D654=\"\"),\"\",IF(D654=\"URFU\",IF(AND(B654=$N$2,C654=$O$2),$P$2,IF(AND(B654=$N$2,C654=$O$3),$P$3,IF(AND(B654=$N$4,C654=$O$2),$P$4,IF(AND(B654=Data!A644,C654=$O$3),$P$5,0))))))","v":""}]
[null,null,null,null,null,null,{"$f":"IF(OR(D655=\"Excont\",D655=\"\"),\"\",IF(D655=\"URFU\",IF(AND(B655=$N$2,C655=$O$2),$P$2,IF(AND(B655=$N$2,C655=$O$3),$P$3,IF(AND(B655=$N$4,C655=$O$2),$P$4,IF(AND(B655=Data!A645,C655=$O$3),$P$5,0))))))","v":""}]
[null,null,null,null,null,null,{"$f":"IF(OR(D656=\"Excont\",D656=\"\"),\"\",IF(D656=\"URFU\",IF(AND(B656=$N$2,C656=$O$2),$P$2,IF(AND(B656=$N$2,C656=$O$3),$P$3,IF(AND(B656=$N$4,C656=$O$2),$P$4,IF(AND(B656=Data!A646,C656=$O$3),$P$5,0))))))","v":""}]
[null,null,null,null,null,null,{"$f":"IF(OR(D657=\"Excont\",D657=\"\"),\"\",IF(D657=\"URFU\",IF(AND(B657=$N$2,C657=$O$2),$P$2,IF(AND(B657=$N$2,C657=$O$3),$P$3,IF(AND(B657=$N$4,C657=$O$2),$P$4,IF(AND(B657=Data!A647,C657=$O$3),$P$5,0))))))","v":""}]
[null,null,null,null,null,null,{"$f":"IF(OR(D658=\"Excont\",D658=\"\"),\"\",IF(D658=\"URFU\",IF(AND(B658=$N$2,C658=$O$2),$P$2,IF(AND(B658=$N$2,C658=$O$3),$P$3,IF(AND(B658=$N$4,C658=$O$2),$P$4,IF(AND(B658=Data!A648,C658=$O$3),$P$5,0))))))","v":""}]
[null,null,null,null,null,null,{"$f":"IF(OR(D659=\"Excont\",D659=\"\"),\"\",IF(D659=\"URFU\",IF(AND(B659=$N$2,C659=$O$2),$P$2,IF(AND(B659=$N$2,C659=$O$3),$P$3,IF(AND(B659=$N$4,C659=$O$2),$P$4,IF(AND(B659=Data!A649,C659=$O$3),$P$5,0))))))","v":""}]
[null,null,null,null,null,null,{"$f":"IF(OR(D660=\"Excont\",D660=\"\"),\"\",IF(D660=\"URFU\",IF(AND(B660=$N$2,C660=$O$2),$P$2,IF(AND(B660=$N$2,C660=$O$3),$P$3,IF(AND(B660=$N$4,C660=$O$2),$P$4,IF(AND(B660=Data!A650,C660=$O$3),$P$5,0))))))","v":""}]
[null,null,null,null,null,null,{"$f":"IF(OR(D661=\"Excont\",D661=\"\"),\"\",IF(D661=\"URFU\",IF(AND(B661=$N$2,C661=$O$2),$P$2,IF(AND(B661=$N$2,C661=$O$3),$P$3,IF(AND(B661=$N$4,C661=$O$2),$P$4,IF(AND(B661=Data!A651,C661=$O$3),$P$5,0))))))","v":""}]
[null,null,null,null,null,null,{"$f":"IF(OR(D662=\"Excont\",D662=\"\"),\"\",IF(D662=\"URFU\",IF(AND(B662=$N$2,C662=$O$2),$P$2,IF(AND(B662=$N$2,C662=$O$3),$P$3,IF(AND(B662=$N$4,C662=$O$2),$P$4,IF(AND(B662=Data!A652,C662=$O$3),$P$5,0))))))","v":""}]
[null,null,null,null,null,null,{"$f":"IF(OR(D663=\"Excont\",D663=\"\"),\"\",IF(D663=\"URFU\",IF(AND(B663=$N$2,C663=$O$2),$P$2,IF(AND(B663=$N$2,C663=$O$3),$P$3,IF(AND(B663=$N$4,C663=$O$2),$P$4,IF(AND(B663=Data!A653,C663=$O$3),$P$5,0))))))","v":""}]
[null,null,null,null,null,null,{"$f":"IF(OR(D664=\"Excont\",D664=\"\"),\"\",IF(D664=\"URFU\",IF(AND(B664=$N$2,C664=$O$2),$P$2,IF(AND(B664=$N$2,C664=$O$3),$P$3,IF(AND(B664=$N$4,C664=$O$2),$P$4,IF(AND(B664=Data!A654,C664=$O$3),$P$5,0))))))","v":""}]
[null,null,null,null,null,null,{"$f":"IF(OR(D665=\"Excont\",D665=\"\"),\"\",IF(D665=\"URFU\",IF(AND(B665=$N$2,C665=$O$2),$P$2,IF(AND(B665=$N$2,C665=$O$3),$P$3,IF(AND(B665=$N$4,C665=$O$2),$P$4,IF(AND(B665=Data!A655,C665=$O$3),$P$5,0))))))","v":""}]
[null,null,null,null,null,null,{"$f":"IF(OR(D666=\"Excont\",D666=\"\"),\"\",IF(D666=\"URFU\",IF(AND(B666=$N$2,C666=$O$2),$P$2,IF(AND(B666=$N$2,C666=$O$3),$P$3,IF(AND(B666=$N$4,C666=$O$2),$P$4,IF(AND(B666=Data!A656,C666=$O$3),$P$5,0))))))","v":""}]
[null,null,null,null,null,null,{"$f":"IF(OR(D667=\"Excont\",D667=\"\"),\"\",IF(D667=\"URFU\",IF(AND(B667=$N$2,C667=$O$2),$P$2,IF(AND(B667=$N$2,C667=$O$3),$P$3,IF(AND(B667=$N$4,C667=$O$2),$P$4,IF(AND(B667=Data!A657,C667=$O$3),$P$5,0))))))","v":""}]
[null,null,null,null,null,null,{"$f":"IF(OR(D668=\"Excont\",D668=\"\"),\"\",IF(D668=\"URFU\",IF(AND(B668=$N$2,C668=$O$2),$P$2,IF(AND(B668=$N$2,C668=$O$3),$P$3,IF(AND(B668=$N$4,C668=$O$2),$P$4,IF(AND(B668=Data!A658,C668=$O$3),$P$5,0))))))","v":""}]
[null,null,null,null,null,null,{"$f":"IF(OR(D669=\"Excont\",D669=\"\"),\"\",IF(D669=\"URFU\",IF(AND(B669=$N$2,C669=$O$2),$P$2,IF(AND(B669=$N$2,C669=$O$3),$P$3,IF(AND(B669=$N$4,C669=$O$2),$P$4,IF(AND(B669=Data!A659,C669=$O$3),$P$5,0))))))","v":""}]
[null,null,null,null,null,null,{"$f":"IF(OR(D670=\"Excont\",D670=\"\"),\"\",IF(D670=\"URFU\",IF(AND(B670=$N$2,C670=$O$2),$P$2,IF(AND(B670=$N$2,C670=$O$3),$P$3,IF(AND(B670=$N$4,C670=$O$2),$P$4,IF(AND(B670=Data!A660,C670=$O$3),$P$5,0))))))","v":""}]
[null,null,null,null,null,null,{"$f":"IF(OR(D671=\"Excont\",D671=\"\"),\"\",IF(D671=\"URFU\",IF(AND(B671=$N$2,C671=$O$2),$P$2,IF(AND(B671=$N$2,C671=$O$3),$P$3,IF(AND(B671=$N$4,C671=$O$2),$P$4,IF(AND(B671=Data!A661,C671=$O$3),$P$5,0))))))","v":""}]
[null,null,null,null,null,null,{"$f":"IF(OR(D672=\"Excont\",D672=\"\"),\"\",IF(D672=\"URFU\",IF(AND(B672=$N$2,C672=$O$2),$P$2,IF(AND(B672=$N$2,C672=$O$3),$P$3,IF(AND(B672=$N$4,C672=$O$2),$P$4,IF(AND(B672=Data!A662,C672=$O$3),$P$5,0))))))","v":""}]
[null,null,null,null,null,null,{"$f":"IF(OR(D673=\"Excont\",D673=\"\"),\"\",IF(D673=\"URFU\",IF(AND(B673=$N$2,C673=$O$2),$P$2,IF(AND(B673=$N$2,C673=$O$3),$P$3,IF(AND(B673=$N$4,C673=$O$2),$P$4,IF(AND(B673=Data!A663,C673=$O$3),$P$5,0))))))","v":""}]
[null,null,null,null,null,null,{"$f":"IF(OR(D674=\"Excont\",D674=\"\"),\"\",IF(D674=\"URFU\",IF(AND(B674=$N$2,C674=$O$2),$P$2,IF(AND(B674=$N$2,C674=$O$3),$P$3,IF(AND(B674=$N$4,C674=$O$2),$P$4,IF(AND(B674=Data!A664,C674=$O$3),$P$5,0))))))","v":""}]
[null,null,null,null,null,null,{"$f":"IF(OR(D675=\"Excont\",D675=\"\"),\"\",IF(D675=\"URFU\",IF(AND(B675=$N$2,C675=$O$2),$P$2,IF(AND(B675=$N$2,C675=$O$3),$P$3,IF(AND(B675=$N$4,C675=$O$2),$P$4,IF(AND(B675=Data!A665,C675=$O$3),$P$5,0))))))","v":""}]
[null,null,null,null,null,null,{"$f":"IF(OR(D676=\"Excont\",D676=\"\"),\"\",IF(D676=\"URFU\",IF(AND(B676=$N$2,C676=$O$2),$P$2,IF(AND(B676=$N$2,C676=$O$3),$P$3,IF(AND(B676=$N$4,C676=$O$2),$P$4,IF(AND(B676=Data!A666,C676=$O$3),$P$5,0))))))","v":""}]
[null,null,null,null,null,null,{"$f":"IF(OR(D677=\"Excont\",D677=\"\"),\"\",IF(D677=\"URFU\",IF(AND(B677=$N$2,C677=$O$2),$P$2,IF(AND(B677=$N$2,C677=$O$3),$P$3,IF(AND(B677=$N$4,C677=$O$2),$P$4,IF(AND(B677=Data!A667,C677=$O$3),$P$5,0))))))","v":""}]
[null,null,null,null,null,null,{"$f":"IF(OR(D678=\"Excont\",D678=\"\"),\"\",IF(D678=\"URFU\",IF(AND(B678=$N$2,C678=$O$2),$P$2,IF(AND(B678=$N$2,C678=$O$3),$P$3,IF(AND(B678=$N$4,C678=$O$2),$P$4,IF(AND(B678=Data!A668,C678=$O$3),$P$5,0))))))","v":""}]
[null,null,null,null,null,null,{"$f":"IF(OR(D679=\"Excont\",D679=\"\"),\"\",IF(D679=\"URFU\",IF(AND(B679=$N$2,C679=$O$2),$P$2,IF(AND(B679=$N$2,C679=$O$3),$P$3,IF(AND(B679=$N$4,C679=$O$2),$P$4,IF(AND(B679=Data!A669,C679=$O$3),$P$5,0))))))","v":""}]
[null,null,null,null,null,null,{"$f":"IF(OR(D680=\"Excont\",D680=\"\"),\"\",IF(D680=\"URFU\",IF(AND(B680=$N$2,C680=$O$2),$P$2,IF(AND(B680=$N$2,C680=$O$3),$P$3,IF(AND(B680=$N$4,C680=$O$2),$P$4,IF(AND(B680=Data!A670,C680=$O$3),$P$5,0))))))","v":""}]
[null,null,null,null,null,null,{"$f":"IF(OR(D681=\"Excont\",D681=\"\"),\"\",IF(D681=\"URFU\",IF(AND(B681=$N$2,C681=$O$2),$P$2,IF(AND(B681=$N$2,C681=$O$3),$P$3,IF(AND(B681=$N$4,C681=$O$2),$P$4,IF(AND(B681=Data!A671,C681=$O$3),$P$5,0))))))","v":""}]
[null,null,null,null,null,null,{"$f":"IF(OR(D682=\"Excont\",D682=\"\"),\"\",IF(D682=\"URFU\",IF(AND(B682=$N$2,C682=$O$2),$P$2,IF(AND(B682=$N$2,C682=$O$3),$P$3,IF(AND(B682=$N$4,C682=$O$2),$P$4,IF(AND(B682=Data!A672,C682=$O$3),$P$5,0))))))","v":""}]
[null,null,null,null,null,null,{"$f":"IF(OR(D683=\"Excont\",D683=\"\"),\"\",IF(D683=\"URFU\",IF(AND(B683=$N$2,C683=$O$2),$P$2,IF(AND(B683=$N$2,C683=$O$3),$P$3,IF(AND(B683=$N$4,C683=$O$2),$P$4,IF(AND(B683=Data!A673,C683=$O$3),$P$5,0))))))","v":""}]
[null,null,null,null,null,null,{"$f":"IF(OR(D684=\"Excont\",D684=\"\"),\"\",IF(D684=\"URFU\",IF(AND(B684=$N$2,C684=$O$2),$P$2,IF(AND(B684=$N$2,C684=$O$3),$P$3,IF(AND(B684=$N$4,C684=$O$2),$P$4,IF(AND(B684=Data!A674,C684=$O$3),$P$5,0))))))","v":""}]
[null,null,null,null,null,null,{"$f":"IF(OR(D685=\"Excont\",D685=\"\"),\"\",IF(D685=\"URFU\",IF(AND(B685=$N$2,C685=$O$2),$P$2,IF(AND(B685=$N$2,C685=$O$3),$P$3,IF(AND(B685=$N$4,C685=$O$2),$P$4,IF(AND(B685=Data!A675,C685=$O$3),$P$5,0))))))","v":""}]
[null,null,null,null,null,null,{"$f":"IF(OR(D686=\"Excont\",D686=\"\"),\"\",IF(D686=\"URFU\",IF(AND(B686=$N$2,C686=$O$2),$P$2,IF(AND(B686=$N$2,C686=$O$3),$P$3,IF(AND(B686=$N$4,C686=$O$2),$P$4,IF(AND(B686=Data!A676,C686=$O$3),$P$5,0))))))","v":""}]
[null,null,null,null,null,null,{"$f":"IF(OR(D687=\"Excont\",D687=\"\"),\"\",IF(D687=\"URFU\",IF(AND(B687=$N$2,C687=$O$2),$P$2,IF(AND(B687=$N$2,C687=$O$3),$P$3,IF(AND(B687=$N$4,C687=$O$2),$P$4,IF(AND(B687=Data!A677,C687=$O$3),$P$5,0))))))","v":""}]
[null,null,null,null,null,null,{"$f":"IF(OR(D688=\"Excont\",D688=\"\"),\"\",IF(D688=\"URFU\",IF(AND(B688=$N$2,C688=$O$2),$P$2,IF(AND(B688=$N$2,C688=$O$3),$P$3,IF(AND(B688=$N$4,C688=$O$2),$P$4,IF(AND(B688=Data!A678,C688=$O$3),$P$5,0))))))","v":""}]
[null,null,null,null,null,null,{"$f":"IF(OR(D689=\"Excont\",D689=\"\"),\"\",IF(D689=\"URFU\",IF(AND(B689=$N$2,C689=$O$2),$P$2,IF(AND(B689=$N$2,C689=$O$3),$P$3,IF(AND(B689=$N$4,C689=$O$2),$P$4,IF(AND(B689=Data!A679,C689=$O$3),$P$5,0))))))","v":""}]
[null,null,null,null,null,null,{"$f":"IF(OR(D690=\"Excont\",D690=\"\"),\"\",IF(D690=\"URFU\",IF(AND(B690=$N$2,C690=$O$2),$P$2,IF(AND(B690=$N$2,C690=$O$3),$P$3,IF(AND(B690=$N$4,C690=$O$2),$P$4,IF(AND(B690=Data!A680,C690=$O$3),$P$5,0))))))","v":""}]
[null,null,null,null,null,null,{"$f":"IF(OR(D691=\"Excont\",D691=\"\"),\"\",IF(D691=\"URFU\",IF(AND(B691=$N$2,C691=$O$2),$P$2,IF(AND(B691=$N$2,C691=$O$3),$P$3,IF(AND(B691=$N$4,C691=$O$2),$P$4,IF(AND(B691=Data!A681,C691=$O$3),$P$5,0))))))","v":""}]
[null,null,null,null,null,null,{"$f":"IF(OR(D692=\"Excont\",D692=\"\"),\"\",IF(D692=\"URFU\",IF(AND(B692=$N$2,C692=$O$2),$P$2,IF(AND(B692=$N$2,C692=$O$3),$P$3,IF(AND(B692=$N$4,C692=$O$2),$P$4,IF(AND(B692=Data!A682,C692=$O$3),$P$5,0))))))","v":""}]
[null,null,null,null,null,null,{"$f":"IF(OR(D693=\"Excont\",D693=\"\"),\"\",IF(D693=\"URFU\",IF(AND(B693=$N$2,C693=$O$2),$P$2,IF(AND(B693=$N$2,C693=$O$3),$P$3,IF(AND(B693=$N$4,C693=$O$2),$P$4,IF(AND(B693=Data!A683,C693=$O$3),$P$5,0))))))","v":""}]
[null,null,null,null,null,null,{"$f":"IF(OR(D694=\"Excont\",D694=\"\"),\"\",IF(D694=\"URFU\",IF(AND(B694=$N$2,C694=$O$2),$P$2,IF(AND(B694=$N$2,C694=$O$3),$P$3,IF(AND(B694=$N$4,C694=$O$2),$P$4,IF(AND(B694=Data!A684,C694=$O$3),$P$5,0))))))","v":""}]
[null,null,null,null,null,null,{"$f":"IF(OR(D695=\"Excont\",D695=\"\"),\"\",IF(D695=\"URFU\",IF(AND(B695=$N$2,C695=$O$2),$P$2,IF(AND(B695=$N$2,C695=$O$3),$P$3,IF(AND(B695=$N$4,C695=$O$2),$P$4,IF(AND(B695=Data!A685,C695=$O$3),$P$5,0))))))","v":""}]
[null,null,null,null,null,null,{"$f":"IF(OR(D696=\"Excont\",D696=\"\"),\"\",IF(D696=\"URFU\",IF(AND(B696=$N$2,C696=$O$2),$P$2,IF(AND(B696=$N$2,C696=$O$3),$P$3,IF(AND(B696=$N$4,C696=$O$2),$P$4,IF(AND(B696=Data!A686,C696=$O$3),$P$5,0))))))","v":""}]
[null,null,null,null,null,null,{"$f":"IF(OR(D697=\"Excont\",D697=\"\"),\"\",IF(D697=\"URFU\",IF(AND(B697=$N$2,C697=$O$2),$P$2,IF(AND(B697=$N$2,C697=$O$3),$P$3,IF(AND(B697=$N$4,C697=$O$2),$P$4,IF(AND(B697=Data!A687,C697=$O$3),$P$5,0))))))","v":""}]
[null,null,null,null,null,null,{"$f":"IF(OR(D698=\"Excont\",D698=\"\"),\"\",IF(D698=\"URFU\",IF(AND(B698=$N$2,C698=$O$2),$P$2,IF(AND(B698=$N$2,C698=$O$3),$P$3,IF(AND(B698=$N$4,C698=$O$2),$P$4,IF(AND(B698=Data!A688,C698=$O$3),$P$5,0))))))","v":""}]
[null,null,null,null,null,null,{"$f":"IF(OR(D699=\"Excont\",D699=\"\"),\"\",IF(D699=\"URFU\",IF(AND(B699=$N$2,C699=$O$2),$P$2,IF(AND(B699=$N$2,C699=$O$3),$P$3,IF(AND(B699=$N$4,C699=$O$2),$P$4,IF(AND(B699=Data!A689,C699=$O$3),$P$5,0))))))","v":""}]
[null,null,null,null,null,null,{"$f":"IF(OR(D700=\"Excont\",D700=\"\"),\"\",IF(D700=\"URFU\",IF(AND(B700=$N$2,C700=$O$2),$P$2,IF(AND(B700=$N$2,C700=$O$3),$P$3,IF(AND(B700=$N$4,C700=$O$2),$P$4,IF(AND(B700=Data!A690,C700=$O$3),$P$5,0))))))","v":""}]
[null,null,null,null,null,null,{"$f":"IF(OR(D701=\"Excont\",D701=\"\"),\"\",IF(D701=\"URFU\",IF(AND(B701=$N$2,C701=$O$2),$P$2,IF(AND(B701=$N$2,C701=$O$3),$P$3,IF(AND(B701=$N$4,C701=$O$2),$P$4,IF(AND(B701=Data!A691,C701=$O$3),$P$5,0))))))","v":""}]
[null,null,null,null,null,null,{"$f":"IF(OR(D702=\"Excont\",D702=\"\"),\"\",IF(D702=\"URFU\",IF(AND(B702=$N$2,C702=$O$2),$P$2,IF(AND(B702=$N$2,C702=$O$3),$P$3,IF(AND(B702=$N$4,C702=$O$2),$P$4,IF(AND(B702=Data!A692,C702=$O$3),$P$5,0))))))","v":""}]
[null,null,null,null,null,null,{"$f":"IF(OR(D703=\"Excont\",D703=\"\"),\"\",IF(D703=\"URFU\",IF(AND(B703=$N$2,C703=$O$2),$P$2,IF(AND(B703=$N$2,C703=$O$3),$P$3,IF(AND(B703=$N$4,C703=$O$2),$P$4,IF(AND(B703=Data!A693,C703=$O$3),$P$5,0))))))","v":""}]
[null,null,null,null,null,null,{"$f":"IF(OR(D704=\"Excont\",D704=\"\"),\"\",IF(D704=\"URFU\",IF(AND(B704=$N$2,C704=$O$2),$P$2,IF(AND(B704=$N$2,C704=$O$3),$P$3,IF(AND(B704=$N$4,C704=$O$2),$P$4,IF(AND(B704=Data!A694,C704=$O$3),$P$5,0))))))","v":""}]
[null,null,null,null,null,null,{"$f":"IF(OR(D705=\"Excont\",D705=\"\"),\"\",IF(D705=\"URFU\",IF(AND(B705=$N$2,C705=$O$2),$P$2,IF(AND(B705=$N$2,C705=$O$3),$P$3,IF(AND(B705=$N$4,C705=$O$2),$P$4,IF(AND(B705=Data!A695,C705=$O$3),$P$5,0))))))","v":""}]
[null,null,null,null,null,null,{"$f":"IF(OR(D706=\"Excont\",D706=\"\"),\"\",IF(D706=\"URFU\",IF(AND(B706=$N$2,C706=$O$2),$P$2,IF(AND(B706=$N$2,C706=$O$3),$P$3,IF(AND(B706=$N$4,C706=$O$2),$P$4,IF(AND(B706=Data!A696,C706=$O$3),$P$5,0))))))","v":""}]
[null,null,null,null,null,null,{"$f":"IF(OR(D707=\"Excont\",D707=\"\"),\"\",IF(D707=\"URFU\",IF(AND(B707=$N$2,C707=$O$2),$P$2,IF(AND(B707=$N$2,C707=$O$3),$P$3,IF(AND(B707=$N$4,C707=$O$2),$P$4,IF(AND(B707=Data!A697,C707=$O$3),$P$5,0))))))","v":""}]
[null,null,null,null,null,null,{"$f":"IF(OR(D708=\"Excont\",D708=\"\"),\"\",IF(D708=\"URFU\",IF(AND(B708=$N$2,C708=$O$2),$P$2,IF(AND(B708=$N$2,C708=$O$3),$P$3,IF(AND(B708=$N$4,C708=$O$2),$P$4,IF(AND(B708=Data!A698,C708=$O$3),$P$5,0))))))","v":""}]
[null,null,null,null,null,null,{"$f":"IF(OR(D709=\"Excont\",D709=\"\"),\"\",IF(D709=\"URFU\",IF(AND(B709=$N$2,C709=$O$2),$P$2,IF(AND(B709=$N$2,C709=$O$3),$P$3,IF(AND(B709=$N$4,C709=$O$2),$P$4,IF(AND(B709=Data!A699,C709=$O$3),$P$5,0))))))","v":""}]
[null,null,null,null,null,null,{"$f":"IF(OR(D710=\"Excont\",D710=\"\"),\"\",IF(D710=\"URFU\",IF(AND(B710=$N$2,C710=$O$2),$P$2,IF(AND(B710=$N$2,C710=$O$3),$P$3,IF(AND(B710=$N$4,C710=$O$2),$P$4,IF(AND(B710=Data!A700,C710=$O$3),$P$5,0))))))","v":""}]
[null,null,null,null,null,null,{"$f":"IF(OR(D711=\"Excont\",D711=\"\"),\"\",IF(D711=\"URFU\",IF(AND(B711=$N$2,C711=$O$2),$P$2,IF(AND(B711=$N$2,C711=$O$3),$P$3,IF(AND(B711=$N$4,C711=$O$2),$P$4,IF(AND(B711=Data!A701,C711=$O$3),$P$5,0))))))","v":""}]
[null,null,null,null,null,null,{"$f":"IF(OR(D712=\"Excont\",D712=\"\"),\"\",IF(D712=\"URFU\",IF(AND(B712=$N$2,C712=$O$2),$P$2,IF(AND(B712=$N$2,C712=$O$3),$P$3,IF(AND(B712=$N$4,C712=$O$2),$P$4,IF(AND(B712=Data!A702,C712=$O$3),$P$5,0))))))","v":""}]
[null,null,null,null,null,null,{"$f":"IF(OR(D713=\"Excont\",D713=\"\"),\"\",IF(D713=\"URFU\",IF(AND(B713=$N$2,C713=$O$2),$P$2,IF(AND(B713=$N$2,C713=$O$3),$P$3,IF(AND(B713=$N$4,C713=$O$2),$P$4,IF(AND(B713=Data!A703,C713=$O$3),$P$5,0))))))","v":""}]
[null,null,null,null,null,null,{"$f":"IF(OR(D714=\"Excont\",D714=\"\"),\"\",IF(D714=\"URFU\",IF(AND(B714=$N$2,C714=$O$2),$P$2,IF(AND(B714=$N$2,C714=$O$3),$P$3,IF(AND(B714=$N$4,C714=$O$2),$P$4,IF(AND(B714=Data!A704,C714=$O$3),$P$5,0))))))","v":""}]
[null,null,null,null,null,null,{"$f":"IF(OR(D715=\"Excont\",D715=\"\"),\"\",IF(D715=\"URFU\",IF(AND(B715=$N$2,C715=$O$2),$P$2,IF(AND(B715=$N$2,C715=$O$3),$P$3,IF(AND(B715=$N$4,C715=$O$2),$P$4,IF(AND(B715=Data!A705,C715=$O$3),$P$5,0))))))","v":""}]
[null,null,null,null,null,null,{"$f":"IF(OR(D716=\"Excont\",D716=\"\"),\"\",IF(D716=\"URFU\",IF(AND(B716=$N$2,C716=$O$2),$P$2,IF(AND(B716=$N$2,C716=$O$3),$P$3,IF(AND(B716=$N$4,C716=$O$2),$P$4,IF(AND(B716=Data!A706,C716=$O$3),$P$5,0))))))","v":""}]
[null,null,null,null,null,null,{"$f":"IF(OR(D717=\"Excont\",D717=\"\"),\"\",IF(D717=\"URFU\",IF(AND(B717=$N$2,C717=$O$2),$P$2,IF(AND(B717=$N$2,C717=$O$3),$P$3,IF(AND(B717=$N$4,C717=$O$2),$P$4,IF(AND(B717=Data!A707,C717=$O$3),$P$5,0))))))","v":""}]
[null,null,null,null,null,null,{"$f":"IF(OR(D718=\"Excont\",D718=\"\"),\"\",IF(D718=\"URFU\",IF(AND(B718=$N$2,C718=$O$2),$P$2,IF(AND(B718=$N$2,C718=$O$3),$P$3,IF(AND(B718=$N$4,C718=$O$2),$P$4,IF(AND(B718=Data!A708,C718=$O$3),$P$5,0))))))","v":""}]
[null,null,null,null,null,null,{"$f":"IF(OR(D719=\"Excont\",D719=\"\"),\"\",IF(D719=\"URFU\",IF(AND(B719=$N$2,C719=$O$2),$P$2,IF(AND(B719=$N$2,C719=$O$3),$P$3,IF(AND(B719=$N$4,C719=$O$2),$P$4,IF(AND(B719=Data!A709,C719=$O$3),$P$5,0))))))","v":""}]
[null,null,null,null,null,null,{"$f":"IF(OR(D720=\"Excont\",D720=\"\"),\"\",IF(D720=\"URFU\",IF(AND(B720=$N$2,C720=$O$2),$P$2,IF(AND(B720=$N$2,C720=$O$3),$P$3,IF(AND(B720=$N$4,C720=$O$2),$P$4,IF(AND(B720=Data!A710,C720=$O$3),$P$5,0))))))","v":""}]
[null,null,null,null,null,null,{"$f":"IF(OR(D721=\"Excont\",D721=\"\"),\"\",IF(D721=\"URFU\",IF(AND(B721=$N$2,C721=$O$2),$P$2,IF(AND(B721=$N$2,C721=$O$3),$P$3,IF(AND(B721=$N$4,C721=$O$2),$P$4,IF(AND(B721=Data!A711,C721=$O$3),$P$5,0))))))","v":""}]
[null,null,null,null,null,null,{"$f":"IF(OR(D722=\"Excont\",D722=\"\"),\"\",IF(D722=\"URFU\",IF(AND(B722=$N$2,C722=$O$2),$P$2,IF(AND(B722=$N$2,C722=$O$3),$P$3,IF(AND(B722=$N$4,C722=$O$2),$P$4,IF(AND(B722=Data!A712,C722=$O$3),$P$5,0))))))","v":""}]
[null,null,null,null,null,null,{"$f":"IF(OR(D723=\"Excont\",D723=\"\"),\"\",IF(D723=\"URFU\",IF(AND(B723=$N$2,C723=$O$2),$P$2,IF(AND(B723=$N$2,C723=$O$3),$P$3,IF(AND(B723=$N$4,C723=$O$2),$P$4,IF(AND(B723=Data!A713,C723=$O$3),$P$5,0))))))","v":""}]
[null,null,null,null,null,null,{"$f":"IF(OR(D724=\"Excont\",D724=\"\"),\"\",IF(D724=\"URFU\",IF(AND(B724=$N$2,C724=$O$2),$P$2,IF(AND(B724=$N$2,C724=$O$3),$P$3,IF(AND(B724=$N$4,C724=$O$2),$P$4,IF(AND(B724=Data!A714,C724=$O$3),$P$5,0))))))","v":""}]
[null,null,null,null,null,null,{"$f":"IF(OR(D725=\"Excont\",D725=\"\"),\"\",IF(D725=\"URFU\",IF(AND(B725=$N$2,C725=$O$2),$P$2,IF(AND(B725=$N$2,C725=$O$3),$P$3,IF(AND(B725=$N$4,C725=$O$2),$P$4,IF(AND(B725=Data!A715,C725=$O$3),$P$5,0))))))","v":""}]
[null,null,null,null,null,null,{"$f":"IF(OR(D726=\"Excont\",D726=\"\"),\"\",IF(D726=\"URFU\",IF(AND(B726=$N$2,C726=$O$2),$P$2,IF(AND(B726=$N$2,C726=$O$3),$P$3,IF(AND(B726=$N$4,C726=$O$2),$P$4,IF(AND(B726=Data!A716,C726=$O$3),$P$5,0))))))","v":""}]
[null,null,null,null,null,null,{"$f":"IF(OR(D727=\"Excont\",D727=\"\"),\"\",IF(D727=\"URFU\",IF(AND(B727=$N$2,C727=$O$2),$P$2,IF(AND(B727=$N$2,C727=$O$3),$P$3,IF(AND(B727=$N$4,C727=$O$2),$P$4,IF(AND(B727=Data!A717,C727=$O$3),$P$5,0))))))","v":""}]
[null,null,null,null,null,null,{"$f":"IF(OR(D728=\"Excont\",D728=\"\"),\"\",IF(D728=\"URFU\",IF(AND(B728=$N$2,C728=$O$2),$P$2,IF(AND(B728=$N$2,C728=$O$3),$P$3,IF(AND(B728=$N$4,C728=$O$2),$P$4,IF(AND(B728=Data!A718,C728=$O$3),$P$5,0))))))","v":""}]
[null,null,null,null,null,null,{"$f":"IF(OR(D729=\"Excont\",D729=\"\"),\"\",IF(D729=\"URFU\",IF(AND(B729=$N$2,C729=$O$2),$P$2,IF(AND(B729=$N$2,C729=$O$3),$P$3,IF(AND(B729=$N$4,C729=$O$2),$P$4,IF(AND(B729=Data!A719,C729=$O$3),$P$5,0))))))","v":""}]
[null,null,null,null,null,null,{"$f":"IF(OR(D730=\"Excont\",D730=\"\"),\"\",IF(D730=\"URFU\",IF(AND(B730=$N$2,C730=$O$2),$P$2,IF(AND(B730=$N$2,C730=$O$3),$P$3,IF(AND(B730=$N$4,C730=$O$2),$P$4,IF(AND(B730=Data!A720,C730=$O$3),$P$5,0))))))","v":""}]
[null,null,null,null,null,null,{"$f":"IF(OR(D731=\"Excont\",D731=\"\"),\"\",IF(D731=\"URFU\",IF(AND(B731=$N$2,C731=$O$2),$P$2,IF(AND(B731=$N$2,C731=$O$3),$P$3,IF(AND(B731=$N$4,C731=$O$2),$P$4,IF(AND(B731=Data!A721,C731=$O$3),$P$5,0))))))","v":""}]
[null,null,null,null,null,null,{"$f":"IF(OR(D732=\"Excont\",D732=\"\"),\"\",IF(D732=\"URFU\",IF(AND(B732=$N$2,C732=$O$2),$P$2,IF(AND(B732=$N$2,C732=$O$3),$P$3,IF(AND(B732=$N$4,C732=$O$2),$P$4,IF(AND(B732=Data!A722,C732=$O$3),$P$5,0))))))","v":""}]
[null,null,null,null,null,null,{"$f":"IF(OR(D733=\"Excont\",D733=\"\"),\"\",IF(D733=\"URFU\",IF(AND(B733=$N$2,C733=$O$2),$P$2,IF(AND(B733=$N$2,C733=$O$3),$P$3,IF(AND(B733=$N$4,C733=$O$2),$P$4,IF(AND(B733=Data!A723,C733=$O$3),$P$5,0))))))","v":""}]
[null,null,null,null,null,null,{"$f":"IF(OR(D734=\"Excont\",D734=\"\"),\"\",IF(D734=\"URFU\",IF(AND(B734=$N$2,C734=$O$2),$P$2,IF(AND(B734=$N$2,C734=$O$3),$P$3,IF(AND(B734=$N$4,C734=$O$2),$P$4,IF(AND(B734=Data!A724,C734=$O$3),$P$5,0))))))","v":""}]
[null,null,null,null,null,null,{"$f":"IF(OR(D735=\"Excont\",D735=\"\"),\"\",IF(D735=\"URFU\",IF(AND(B735=$N$2,C735=$O$2),$P$2,IF(AND(B735=$N$2,C735=$O$3),$P$3,IF(AND(B735=$N$4,C735=$O$2),$P$4,IF(AND(B735=Data!A725,C735=$O$3),$P$5,0))))))","v":""}]
[null,null,null,null,null,null,{"$f":"IF(OR(D736=\"Excont\",D736=\"\"),\"\",IF(D736=\"URFU\",IF(AND(B736=$N$2,C736=$O$2),$P$2,IF(AND(B736=$N$2,C736=$O$3),$P$3,IF(AND(B736=$N$4,C736=$O$2),$P$4,IF(AND(B736=Data!A726,C736=$O$3),$P$5,0))))))","v":""}]
[null,null,null,null,null,null,{"$f":"IF(OR(D737=\"Excont\",D737=\"\"),\"\",IF(D737=\"URFU\",IF(AND(B737=$N$2,C737=$O$2),$P$2,IF(AND(B737=$N$2,C737=$O$3),$P$3,IF(AND(B737=$N$4,C737=$O$2),$P$4,IF(AND(B737=Data!A727,C737=$O$3),$P$5,0))))))","v":""}]
[null,null,null,null,null,null,{"$f":"IF(OR(D738=\"Excont\",D738=\"\"),\"\",IF(D738=\"URFU\",IF(AND(B738=$N$2,C738=$O$2),$P$2,IF(AND(B738=$N$2,C738=$O$3),$P$3,IF(AND(B738=$N$4,C738=$O$2),$P$4,IF(AND(B738=Data!A728,C738=$O$3),$P$5,0))))))","v":""}]
[null,null,null,null,null,null,{"$f":"IF(OR(D739=\"Excont\",D739=\"\"),\"\",IF(D739=\"URFU\",IF(AND(B739=$N$2,C739=$O$2),$P$2,IF(AND(B739=$N$2,C739=$O$3),$P$3,IF(AND(B739=$N$4,C739=$O$2),$P$4,IF(AND(B739=Data!A729,C739=$O$3),$P$5,0))))))","v":""}]
[null,null,null,null,null,null,{"$f":"IF(OR(D740=\"Excont\",D740=\"\"),\"\",IF(D740=\"URFU\",IF(AND(B740=$N$2,C740=$O$2),$P$2,IF(AND(B740=$N$2,C740=$O$3),$P$3,IF(AND(B740=$N$4,C740=$O$2),$P$4,IF(AND(B740=Data!A730,C740=$O$3),$P$5,0))))))","v":""}]
[null,null,null,null,null,null,{"$f":"IF(OR(D741=\"Excont\",D741=\"\"),\"\",IF(D741=\"URFU\",IF(AND(B741=$N$2,C741=$O$2),$P$2,IF(AND(B741=$N$2,C741=$O$3),$P$3,IF(AND(B741=$N$4,C741=$O$2),$P$4,IF(AND(B741=Data!A731,C741=$O$3),$P$5,0))))))","v":""}]
[null,null,null,null,null,null,{"$f":"IF(OR(D742=\"Excont\",D742=\"\"),\"\",IF(D742=\"URFU\",IF(AND(B742=$N$2,C742=$O$2),$P$2,IF(AND(B742=$N$2,C742=$O$3),$P$3,IF(AND(B742=$N$4,C742=$O$2),$P$4,IF(AND(B742=Data!A732,C742=$O$3),$P$5,0))))))","v":""}]
[null,null,null,null,null,null,{"$f":"IF(OR(D743=\"Excont\",D743=\"\"),\"\",IF(D743=\"URFU\",IF(AND(B743=$N$2,C743=$O$2),$P$2,IF(AND(B743=$N$2,C743=$O$3),$P$3,IF(AND(B743=$N$4,C743=$O$2),$P$4,IF(AND(B743=Data!A733,C743=$O$3),$P$5,0))))))","v":""}]
[null,null,null,null,null,null,{"$f":"IF(OR(D744=\"Excont\",D744=\"\"),\"\",IF(D744=\"URFU\",IF(AND(B744=$N$2,C744=$O$2),$P$2,IF(AND(B744=$N$2,C744=$O$3),$P$3,IF(AND(B744=$N$4,C744=$O$2),$P$4,IF(AND(B744=Data!A734,C744=$O$3),$P$5,0))))))","v":""}]
[null,null,null,null,null,null,{"$f":"IF(OR(D745=\"Excont\",D745=\"\"),\"\",IF(D745=\"URFU\",IF(AND(B745=$N$2,C745=$O$2),$P$2,IF(AND(B745=$N$2,C745=$O$3),$P$3,IF(AND(B745=$N$4,C745=$O$2),$P$4,IF(AND(B745=Data!A735,C745=$O$3),$P$5,0))))))","v":""}]
[null,null,null,null,null,null,{"$f":"IF(OR(D746=\"Excont\",D746=\"\"),\"\",IF(D746=\"URFU\",IF(AND(B746=$N$2,C746=$O$2),$P$2,IF(AND(B746=$N$2,C746=$O$3),$P$3,IF(AND(B746=$N$4,C746=$O$2),$P$4,IF(AND(B746=Data!A736,C746=$O$3),$P$5,0))))))","v":""}]
[null,null,null,null,null,null,{"$f":"IF(OR(D747=\"Excont\",D747=\"\"),\"\",IF(D747=\"URFU\",IF(AND(B747=$N$2,C747=$O$2),$P$2,IF(AND(B747=$N$2,C747=$O$3),$P$3,IF(AND(B747=$N$4,C747=$O$2),$P$4,IF(AND(B747=Data!A737,C747=$O$3),$P$5,0))))))","v":""}]
[null,null,null,null,null,null,{"$f":"IF(OR(D748=\"Excont\",D748=\"\"),\"\",IF(D748=\"URFU\",IF(AND(B748=$N$2,C748=$O$2),$P$2,IF(AND(B748=$N$2,C748=$O$3),$P$3,IF(AND(B748=$N$4,C748=$O$2),$P$4,IF(AND(B748=Data!A738,C748=$O$3),$P$5,0))))))","v":""}]
[null,null,null,null,null,null,{"$f":"IF(OR(D749=\"Excont\",D749=\"\"),\"\",IF(D749=\"URFU\",IF(AND(B749=$N$2,C749=$O$2),$P$2,IF(AND(B749=$N$2,C749=$O$3),$P$3,IF(AND(B749=$N$4,C749=$O$2),$P$4,IF(AND(B749=Data!A739,C749=$O$3),$P$5,0))))))","v":""}]
[null,null,null,null,null,null,{"$f":"IF(OR(D750=\"Excont\",D750=\"\"),\"\",IF(D750=\"URFU\",IF(AND(B750=$N$2,C750=$O$2),$P$2,IF(AND(B750=$N$2,C750=$O$3),$P$3,IF(AND(B750=$N$4,C750=$O$2),$P$4,IF(AND(B750=Data!A740,C750=$O$3),$P$5,0))))))","v":""}]
[null,null,null,null,null,null,{"$f":"IF(OR(D751=\"Excont\",D751=\"\"),\"\",IF(D751=\"URFU\",IF(AND(B751=$N$2,C751=$O$2),$P$2,IF(AND(B751=$N$2,C751=$O$3),$P$3,IF(AND(B751=$N$4,C751=$O$2),$P$4,IF(AND(B751=Data!A741,C751=$O$3),$P$5,0))))))","v":""}]
[null,null,null,null,null,null,{"$f":"IF(OR(D752=\"Excont\",D752=\"\"),\"\",IF(D752=\"URFU\",IF(AND(B752=$N$2,C752=$O$2),$P$2,IF(AND(B752=$N$2,C752=$O$3),$P$3,IF(AND(B752=$N$4,C752=$O$2),$P$4,IF(AND(B752=Data!A742,C752=$O$3),$P$5,0))))))","v":""}]
[null,null,null,null,null,null,{"$f":"IF(OR(D753=\"Excont\",D753=\"\"),\"\",IF(D753=\"URFU\",IF(AND(B753=$N$2,C753=$O$2),$P$2,IF(AND(B753=$N$2,C753=$O$3),$P$3,IF(AND(B753=$N$4,C753=$O$2),$P$4,IF(AND(B753=Data!A743,C753=$O$3),$P$5,0))))))","v":""}]
[null,null,null,null,null,null,{"$f":"IF(OR(D754=\"Excont\",D754=\"\"),\"\",IF(D754=\"URFU\",IF(AND(B754=$N$2,C754=$O$2),$P$2,IF(AND(B754=$N$2,C754=$O$3),$P$3,IF(AND(B754=$N$4,C754=$O$2),$P$4,IF(AND(B754=Data!A744,C754=$O$3),$P$5,0))))))","v":""}]
[null,null,null,null,null,null,{"$f":"IF(OR(D755=\"Excont\",D755=\"\"),\"\",IF(D755=\"URFU\",IF(AND(B755=$N$2,C755=$O$2),$P$2,IF(AND(B755=$N$2,C755=$O$3),$P$3,IF(AND(B755=$N$4,C755=$O$2),$P$4,IF(AND(B755=Data!A745,C755=$O$3),$P$5,0))))))","v":""}]
[null,null,null,null,null,null,{"$f":"IF(OR(D756=\"Excont\",D756=\"\"),\"\",IF(D756=\"URFU\",IF(AND(B756=$N$2,C756=$O$2),$P$2,IF(AND(B756=$N$2,C756=$O$3),$P$3,IF(AND(B756=$N$4,C756=$O$2),$P$4,IF(AND(B756=Data!A746,C756=$O$3),$P$5,0))))))","v":""}]
[null,null,null,null,null,null,{"$f":"IF(OR(D757=\"Excont\",D757=\"\"),\"\",IF(D757=\"URFU\",IF(AND(B757=$N$2,C757=$O$2),$P$2,IF(AND(B757=$N$2,C757=$O$3),$P$3,IF(AND(B757=$N$4,C757=$O$2),$P$4,IF(AND(B757=Data!A747,C757=$O$3),$P$5,0))))))","v":""}]
[null,null,null,null,null,null,{"$f":"IF(OR(D758=\"Excont\",D758=\"\"),\"\",IF(D758=\"URFU\",IF(AND(B758=$N$2,C758=$O$2),$P$2,IF(AND(B758=$N$2,C758=$O$3),$P$3,IF(AND(B758=$N$4,C758=$O$2),$P$4,IF(AND(B758=Data!A748,C758=$O$3),$P$5,0))))))","v":""}]
[null,null,null,null,null,null,{"$f":"IF(OR(D759=\"Excont\",D759=\"\"),\"\",IF(D759=\"URFU\",IF(AND(B759=$N$2,C759=$O$2),$P$2,IF(AND(B759=$N$2,C759=$O$3),$P$3,IF(AND(B759=$N$4,C759=$O$2),$P$4,IF(AND(B759=Data!A749,C759=$O$3),$P$5,0))))))","v":""}]
[null,null,null,null,null,null,{"$f":"IF(OR(D760=\"Excont\",D760=\"\"),\"\",IF(D760=\"URFU\",IF(AND(B760=$N$2,C760=$O$2),$P$2,IF(AND(B760=$N$2,C760=$O$3),$P$3,IF(AND(B760=$N$4,C760=$O$2),$P$4,IF(AND(B760=Data!A750,C760=$O$3),$P$5,0))))))","v":""}]
[null,null,null,null,null,null,{"$f":"IF(OR(D761=\"Excont\",D761=\"\"),\"\",IF(D761=\"URFU\",IF(AND(B761=$N$2,C761=$O$2),$P$2,IF(AND(B761=$N$2,C761=$O$3),$P$3,IF(AND(B761=$N$4,C761=$O$2),$P$4,IF(AND(B761=Data!A751,C761=$O$3),$P$5,0))))))","v":""}]
[null,null,null,null,null,null,{"$f":"IF(OR(D762=\"Excont\",D762=\"\"),\"\",IF(D762=\"URFU\",IF(AND(B762=$N$2,C762=$O$2),$P$2,IF(AND(B762=$N$2,C762=$O$3),$P$3,IF(AND(B762=$N$4,C762=$O$2),$P$4,IF(AND(B762=Data!A752,C762=$O$3),$P$5,0))))))","v":""}]
[null,null,null,null,null,null,{"$f":"IF(OR(D763=\"Excont\",D763=\"\"),\"\",IF(D763=\"URFU\",IF(AND(B763=$N$2,C763=$O$2),$P$2,IF(AND(B763=$N$2,C763=$O$3),$P$3,IF(AND(B763=$N$4,C763=$O$2),$P$4,IF(AND(B763=Data!A753,C763=$O$3),$P$5,0))))))","v":""}]
[null,null,null,null,null,null,{"$f":"IF(OR(D764=\"Excont\",D764=\"\"),\"\",IF(D764=\"URFU\",IF(AND(B764=$N$2,C764=$O$2),$P$2,IF(AND(B764=$N$2,C764=$O$3),$P$3,IF(AND(B764=$N$4,C764=$O$2),$P$4,IF(AND(B764=Data!A754,C764=$O$3),$P$5,0))))))","v":""}]
[null,null,null,null,null,null,{"$f":"IF(OR(D765=\"Excont\",D765=\"\"),\"\",IF(D765=\"URFU\",IF(AND(B765=$N$2,C765=$O$2),$P$2,IF(AND(B765=$N$2,C765=$O$3),$P$3,IF(AND(B765=$N$4,C765=$O$2),$P$4,IF(AND(B765=Data!A755,C765=$O$3),$P$5,0))))))","v":""}]
[null,null,null,null,null,null,{"$f":"IF(OR(D766=\"Excont\",D766=\"\"),\"\",IF(D766=\"URFU\",IF(AND(B766=$N$2,C766=$O$2),$P$2,IF(AND(B766=$N$2,C766=$O$3),$P$3,IF(AND(B766=$N$4,C766=$O$2),$P$4,IF(AND(B766=Data!A756,C766=$O$3),$P$5,0))))))","v":""}]
[null,null,null,null,null,null,{"$f":"IF(OR(D767=\"Excont\",D767=\"\"),\"\",IF(D767=\"URFU\",IF(AND(B767=$N$2,C767=$O$2),$P$2,IF(AND(B767=$N$2,C767=$O$3),$P$3,IF(AND(B767=$N$4,C767=$O$2),$P$4,IF(AND(B767=Data!A757,C767=$O$3),$P$5,0))))))","v":""}]
[null,null,null,null,null,null,{"$f":"IF(OR(D768=\"Excont\",D768=\"\"),\"\",IF(D768=\"URFU\",IF(AND(B768=$N$2,C768=$O$2),$P$2,IF(AND(B768=$N$2,C768=$O$3),$P$3,IF(AND(B768=$N$4,C768=$O$2),$P$4,IF(AND(B768=Data!A758,C768=$O$3),$P$5,0))))))","v":""}]
[null,null,null,null,null,null,{"$f":"IF(OR(D769=\"Excont\",D769=\"\"),\"\",IF(D769=\"URFU\",IF(AND(B769=$N$2,C769=$O$2),$P$2,IF(AND(B769=$N$2,C769=$O$3),$P$3,IF(AND(B769=$N$4,C769=$O$2),$P$4,IF(AND(B769=Data!A759,C769=$O$3),$P$5,0))))))","v":""}]
[null,null,null,null,null,null,{"$f":"IF(OR(D770=\"Excont\",D770=\"\"),\"\",IF(D770=\"URFU\",IF(AND(B770=$N$2,C770=$O$2),$P$2,IF(AND(B770=$N$2,C770=$O$3),$P$3,IF(AND(B770=$N$4,C770=$O$2),$P$4,IF(AND(B770=Data!A760,C770=$O$3),$P$5,0))))))","v":""}]
[null,null,null,null,null,null,{"$f":"IF(OR(D771=\"Excont\",D771=\"\"),\"\",IF(D771=\"URFU\",IF(AND(B771=$N$2,C771=$O$2),$P$2,IF(AND(B771=$N$2,C771=$O$3),$P$3,IF(AND(B771=$N$4,C771=$O$2),$P$4,IF(AND(B771=Data!A761,C771=$O$3),$P$5,0))))))","v":""}]
[null,null,null,null,null,null,{"$f":"IF(OR(D772=\"Excont\",D772=\"\"),\"\",IF(D772=\"URFU\",IF(AND(B772=$N$2,C772=$O$2),$P$2,IF(AND(B772=$N$2,C772=$O$3),$P$3,IF(AND(B772=$N$4,C772=$O$2),$P$4,IF(AND(B772=Data!A762,C772=$O$3),$P$5,0))))))","v":""}]
[null,null,null,null,null,null,{"$f":"IF(OR(D773=\"Excont\",D773=\"\"),\"\",IF(D773=\"URFU\",IF(AND(B773=$N$2,C773=$O$2),$P$2,IF(AND(B773=$N$2,C773=$O$3),$P$3,IF(AND(B773=$N$4,C773=$O$2),$P$4,IF(AND(B773=Data!A763,C773=$O$3),$P$5,0))))))","v":""}]
[null,null,null,null,null,null,{"$f":"IF(OR(D774=\"Excont\",D774=\"\"),\"\",IF(D774=\"URFU\",IF(AND(B774=$N$2,C774=$O$2),$P$2,IF(AND(B774=$N$2,C774=$O$3),$P$3,IF(AND(B774=$N$4,C774=$O$2),$P$4,IF(AND(B774=Data!A764,C774=$O$3),$P$5,0))))))","v":""}]
[null,null,null,null,null,null,{"$f":"IF(OR(D775=\"Excont\",D775=\"\"),\"\",IF(D775=\"URFU\",IF(AND(B775=$N$2,C775=$O$2),$P$2,IF(AND(B775=$N$2,C775=$O$3),$P$3,IF(AND(B775=$N$4,C775=$O$2),$P$4,IF(AND(B775=Data!A765,C775=$O$3),$P$5,0))))))","v":""}]
[null,null,null,null,null,null,{"$f":"IF(OR(D776=\"Excont\",D776=\"\"),\"\",IF(D776=\"URFU\",IF(AND(B776=$N$2,C776=$O$2),$P$2,IF(AND(B776=$N$2,C776=$O$3),$P$3,IF(AND(B776=$N$4,C776=$O$2),$P$4,IF(AND(B776=Data!A766,C776=$O$3),$P$5,0))))))","v":""}]
[null,null,null,null,null,null,{"$f":"IF(OR(D777=\"Excont\",D777=\"\"),\"\",IF(D777=\"URFU\",IF(AND(B777=$N$2,C777=$O$2),$P$2,IF(AND(B777=$N$2,C777=$O$3),$P$3,IF(AND(B777=$N$4,C777=$O$2),$P$4,IF(AND(B777=Data!A767,C777=$O$3),$P$5,0))))))","v":""}]
[null,null,null,null,null,null,{"$f":"IF(OR(D778=\"Excont\",D778=\"\"),\"\",IF(D778=\"URFU\",IF(AND(B778=$N$2,C778=$O$2),$P$2,IF(AND(B778=$N$2,C778=$O$3),$P$3,IF(AND(B778=$N$4,C778=$O$2),$P$4,IF(AND(B778=Data!A768,C778=$O$3),$P$5,0))))))","v":""}]
[null,null,null,null,null,null,{"$f":"IF(OR(D779=\"Excont\",D779=\"\"),\"\",IF(D779=\"URFU\",IF(AND(B779=$N$2,C779=$O$2),$P$2,IF(AND(B779=$N$2,C779=$O$3),$P$3,IF(AND(B779=$N$4,C779=$O$2),$P$4,IF(AND(B779=Data!A769,C779=$O$3),$P$5,0))))))","v":""}]
[null,null,null,null,null,null,{"$f":"IF(OR(D780=\"Excont\",D780=\"\"),\"\",IF(D780=\"URFU\",IF(AND(B780=$N$2,C780=$O$2),$P$2,IF(AND(B780=$N$2,C780=$O$3),$P$3,IF(AND(B780=$N$4,C780=$O$2),$P$4,IF(AND(B780=Data!A770,C780=$O$3),$P$5,0))))))","v":""}]
[null,null,null,null,null,null,{"$f":"IF(OR(D781=\"Excont\",D781=\"\"),\"\",IF(D781=\"URFU\",IF(AND(B781=$N$2,C781=$O$2),$P$2,IF(AND(B781=$N$2,C781=$O$3),$P$3,IF(AND(B781=$N$4,C781=$O$2),$P$4,IF(AND(B781=Data!A771,C781=$O$3),$P$5,0))))))","v":""}]
[null,null,null,null,null,null,{"$f":"IF(OR(D782=\"Excont\",D782=\"\"),\"\",IF(D782=\"URFU\",IF(AND(B782=$N$2,C782=$O$2),$P$2,IF(AND(B782=$N$2,C782=$O$3),$P$3,IF(AND(B782=$N$4,C782=$O$2),$P$4,IF(AND(B782=Data!A772,C782=$O$3),$P$5,0))))))","v":""}]
[null,null,null,null,null,null,{"$f":"IF(OR(D783=\"Excont\",D783=\"\"),\"\",IF(D783=\"URFU\",IF(AND(B783=$N$2,C783=$O$2),$P$2,IF(AND(B783=$N$2,C783=$O$3),$P$3,IF(AND(B783=$N$4,C783=$O$2),$P$4,IF(AND(B783=Data!A773,C783=$O$3),$P$5,0))))))","v":""}]
[null,null,null,null,null,null,{"$f":"IF(OR(D784=\"Excont\",D784=\"\"),\"\",IF(D784=\"URFU\",IF(AND(B784=$N$2,C784=$O$2),$P$2,IF(AND(B784=$N$2,C784=$O$3),$P$3,IF(AND(B784=$N$4,C784=$O$2),$P$4,IF(AND(B784=Data!A774,C784=$O$3),$P$5,0))))))","v":""}]
[null,null,null,null,null,null,{"$f":"IF(OR(D785=\"Excont\",D785=\"\"),\"\",IF(D785=\"URFU\",IF(AND(B785=$N$2,C785=$O$2),$P$2,IF(AND(B785=$N$2,C785=$O$3),$P$3,IF(AND(B785=$N$4,C785=$O$2),$P$4,IF(AND(B785=Data!A775,C785=$O$3),$P$5,0))))))","v":""}]
[null,null,null,null,null,null,{"$f":"IF(OR(D786=\"Excont\",D786=\"\"),\"\",IF(D786=\"URFU\",IF(AND(B786=$N$2,C786=$O$2),$P$2,IF(AND(B786=$N$2,C786=$O$3),$P$3,IF(AND(B786=$N$4,C786=$O$2),$P$4,IF(AND(B786=Data!A776,C786=$O$3),$P$5,0))))))","v":""}]
[null,null,null,null,null,null,{"$f":"IF(OR(D787=\"Excont\",D787=\"\"),\"\",IF(D787=\"URFU\",IF(AND(B787=$N$2,C787=$O$2),$P$2,IF(AND(B787=$N$2,C787=$O$3),$P$3,IF(AND(B787=$N$4,C787=$O$2),$P$4,IF(AND(B787=Data!A777,C787=$O$3),$P$5,0))))))","v":""}]
[null,null,null,null,null,null,{"$f":"IF(OR(D788=\"Excont\",D788=\"\"),\"\",IF(D788=\"URFU\",IF(AND(B788=$N$2,C788=$O$2),$P$2,IF(AND(B788=$N$2,C788=$O$3),$P$3,IF(AND(B788=$N$4,C788=$O$2),$P$4,IF(AND(B788=Data!A778,C788=$O$3),$P$5,0))))))","v":""}]
[null,null,null,null,null,null,{"$f":"IF(OR(D789=\"Excont\",D789=\"\"),\"\",IF(D789=\"URFU\",IF(AND(B789=$N$2,C789=$O$2),$P$2,IF(AND(B789=$N$2,C789=$O$3),$P$3,IF(AND(B789=$N$4,C789=$O$2),$P$4,IF(AND(B789=Data!A779,C789=$O$3),$P$5,0))))))","v":""}]
[null,null,null,null,null,null,{"$f":"IF(OR(D790=\"Excont\",D790=\"\"),\"\",IF(D790=\"URFU\",IF(AND(B790=$N$2,C790=$O$2),$P$2,IF(AND(B790=$N$2,C790=$O$3),$P$3,IF(AND(B790=$N$4,C790=$O$2),$P$4,IF(AND(B790=Data!A780,C790=$O$3),$P$5,0))))))","v":""}]
[null,null,null,null,null,null,{"$f":"IF(OR(D791=\"Excont\",D791=\"\"),\"\",IF(D791=\"URFU\",IF(AND(B791=$N$2,C791=$O$2),$P$2,IF(AND(B791=$N$2,C791=$O$3),$P$3,IF(AND(B791=$N$4,C791=$O$2),$P$4,IF(AND(B791=Data!A781,C791=$O$3),$P$5,0))))))","v":""}]
[null,null,null,null,null,null,{"$f":"IF(OR(D792=\"Excont\",D792=\"\"),\"\",IF(D792=\"URFU\",IF(AND(B792=$N$2,C792=$O$2),$P$2,IF(AND(B792=$N$2,C792=$O$3),$P$3,IF(AND(B792=$N$4,C792=$O$2),$P$4,IF(AND(B792=Data!A782,C792=$O$3),$P$5,0))))))","v":""}]
[null,null,null,null,null,null,{"$f":"IF(OR(D793=\"Excont\",D793=\"\"),\"\",IF(D793=\"URFU\",IF(AND(B793=$N$2,C793=$O$2),$P$2,IF(AND(B793=$N$2,C793=$O$3),$P$3,IF(AND(B793=$N$4,C793=$O$2),$P$4,IF(AND(B793=Data!A783,C793=$O$3),$P$5,0))))))","v":""}]
[null,null,null,null,null,null,{"$f":"IF(OR(D794=\"Excont\",D794=\"\"),\"\",IF(D794=\"URFU\",IF(AND(B794=$N$2,C794=$O$2),$P$2,IF(AND(B794=$N$2,C794=$O$3),$P$3,IF(AND(B794=$N$4,C794=$O$2),$P$4,IF(AND(B794=Data!A784,C794=$O$3),$P$5,0))))))","v":""}]
[null,null,null,null,null,null,{"$f":"IF(OR(D795=\"Excont\",D795=\"\"),\"\",IF(D795=\"URFU\",IF(AND(B795=$N$2,C795=$O$2),$P$2,IF(AND(B795=$N$2,C795=$O$3),$P$3,IF(AND(B795=$N$4,C795=$O$2),$P$4,IF(AND(B795=Data!A785,C795=$O$3),$P$5,0))))))","v":""}]
[null,null,null,null,null,null,{"$f":"IF(OR(D796=\"Excont\",D796=\"\"),\"\",IF(D796=\"URFU\",IF(AND(B796=$N$2,C796=$O$2),$P$2,IF(AND(B796=$N$2,C796=$O$3),$P$3,IF(AND(B796=$N$4,C796=$O$2),$P$4,IF(AND(B796=Data!A786,C796=$O$3),$P$5,0))))))","v":""}]
[null,null,null,null,null,null,{"$f":"IF(OR(D797=\"Excont\",D797=\"\"),\"\",IF(D797=\"URFU\",IF(AND(B797=$N$2,C797=$O$2),$P$2,IF(AND(B797=$N$2,C797=$O$3),$P$3,IF(AND(B797=$N$4,C797=$O$2),$P$4,IF(AND(B797=Data!A787,C797=$O$3),$P$5,0))))))","v":""}]
[null,null,null,null,null,null,{"$f":"IF(OR(D798=\"Excont\",D798=\"\"),\"\",IF(D798=\"URFU\",IF(AND(B798=$N$2,C798=$O$2),$P$2,IF(AND(B798=$N$2,C798=$O$3),$P$3,IF(AND(B798=$N$4,C798=$O$2),$P$4,IF(AND(B798=Data!A788,C798=$O$3),$P$5,0))))))","v":""}]
[null,null,null,null,null,null,{"$f":"IF(OR(D799=\"Excont\",D799=\"\"),\"\",IF(D799=\"URFU\",IF(AND(B799=$N$2,C799=$O$2),$P$2,IF(AND(B799=$N$2,C799=$O$3),$P$3,IF(AND(B799=$N$4,C799=$O$2),$P$4,IF(AND(B799=Data!A789,C799=$O$3),$P$5,0))))))","v":""}]
[null,null,null,null,null,null,{"$f":"IF(OR(D800=\"Excont\",D800=\"\"),\"\",IF(D800=\"URFU\",IF(AND(B800=$N$2,C800=$O$2),$P$2,IF(AND(B800=$N$2,C800=$O$3),$P$3,IF(AND(B800=$N$4,C800=$O$2),$P$4,IF(AND(B800=Data!A790,C800=$O$3),$P$5,0))))))","v":""}]
[null,null,null,null,null,null,{"$f":"IF(OR(D801=\"Excont\",D801=\"\"),\"\",IF(D801=\"URFU\",IF(AND(B801=$N$2,C801=$O$2),$P$2,IF(AND(B801=$N$2,C801=$O$3),$P$3,IF(AND(B801=$N$4,C801=$O$2),$P$4,IF(AND(B801=Data!A791,C801=$O$3),$P$5,0))))))","v":""}]
[null,null,null,null,null,null,{"$f":"IF(OR(D802=\"Excont\",D802=\"\"),\"\",IF(D802=\"URFU\",IF(AND(B802=$N$2,C802=$O$2),$P$2,IF(AND(B802=$N$2,C802=$O$3),$P$3,IF(AND(B802=$N$4,C802=$O$2),$P$4,IF(AND(B802=Data!A792,C802=$O$3),$P$5,0))))))","v":""}]
[null,null,null,null,null,null,{"$f":"IF(OR(D803=\"Excont\",D803=\"\"),\"\",IF(D803=\"URFU\",IF(AND(B803=$N$2,C803=$O$2),$P$2,IF(AND(B803=$N$2,C803=$O$3),$P$3,IF(AND(B803=$N$4,C803=$O$2),$P$4,IF(AND(B803=Data!A793,C803=$O$3),$P$5,0))))))","v":""}]
[null,null,null,null,null,null,{"$f":"IF(OR(D804=\"Excont\",D804=\"\"),\"\",IF(D804=\"URFU\",IF(AND(B804=$N$2,C804=$O$2),$P$2,IF(AND(B804=$N$2,C804=$O$3),$P$3,IF(AND(B804=$N$4,C804=$O$2),$P$4,IF(AND(B804=Data!A794,C804=$O$3),$P$5,0))))))","v":""}]
[null,null,null,null,null,null,{"$f":"IF(OR(D805=\"Excont\",D805=\"\"),\"\",IF(D805=\"URFU\",IF(AND(B805=$N$2,C805=$O$2),$P$2,IF(AND(B805=$N$2,C805=$O$3),$P$3,IF(AND(B805=$N$4,C805=$O$2),$P$4,IF(AND(B805=Data!A795,C805=$O$3),$P$5,0))))))","v":""}]
[null,null,null,null,null,null,{"$f":"IF(OR(D806=\"Excont\",D806=\"\"),\"\",IF(D806=\"URFU\",IF(AND(B806=$N$2,C806=$O$2),$P$2,IF(AND(B806=$N$2,C806=$O$3),$P$3,IF(AND(B806=$N$4,C806=$O$2),$P$4,IF(AND(B806=Data!A796,C806=$O$3),$P$5,0))))))","v":""}]
[null,null,null,null,null,null,{"$f":"IF(OR(D807=\"Excont\",D807=\"\"),\"\",IF(D807=\"URFU\",IF(AND(B807=$N$2,C807=$O$2),$P$2,IF(AND(B807=$N$2,C807=$O$3),$P$3,IF(AND(B807=$N$4,C807=$O$2),$P$4,IF(AND(B807=Data!A797,C807=$O$3),$P$5,0))))))","v":""}]
[null,null,null,null,null,null,{"$f":"IF(OR(D808=\"Excont\",D808=\"\"),\"\",IF(D808=\"URFU\",IF(AND(B808=$N$2,C808=$O$2),$P$2,IF(AND(B808=$N$2,C808=$O$3),$P$3,IF(AND(B808=$N$4,C808=$O$2),$P$4,IF(AND(B808=Data!A798,C808=$O$3),$P$5,0))))))","v":""}]
[null,null,null,null,null,null,{"$f":"IF(OR(D809=\"Excont\",D809=\"\"),\"\",IF(D809=\"URFU\",IF(AND(B809=$N$2,C809=$O$2),$P$2,IF(AND(B809=$N$2,C809=$O$3),$P$3,IF(AND(B809=$N$4,C809=$O$2),$P$4,IF(AND(B809=Data!A799,C809=$O$3),$P$5,0))))))","v":""}]
[null,null,null,null,null,null,{"$f":"IF(OR(D810=\"Excont\",D810=\"\"),\"\",IF(D810=\"URFU\",IF(AND(B810=$N$2,C810=$O$2),$P$2,IF(AND(B810=$N$2,C810=$O$3),$P$3,IF(AND(B810=$N$4,C810=$O$2),$P$4,IF(AND(B810=Data!A800,C810=$O$3),$P$5,0))))))","v":""}]
[null,null,null,null,null,null,{"$f":"IF(OR(D811=\"Excont\",D811=\"\"),\"\",IF(D811=\"URFU\",IF(AND(B811=$N$2,C811=$O$2),$P$2,IF(AND(B811=$N$2,C811=$O$3),$P$3,IF(AND(B811=$N$4,C811=$O$2),$P$4,IF(AND(B811=Data!A801,C811=$O$3),$P$5,0))))))","v":""}]
[null,null,null,null,null,null,{"$f":"IF(OR(D812=\"Excont\",D812=\"\"),\"\",IF(D812=\"URFU\",IF(AND(B812=$N$2,C812=$O$2),$P$2,IF(AND(B812=$N$2,C812=$O$3),$P$3,IF(AND(B812=$N$4,C812=$O$2),$P$4,IF(AND(B812=Data!A802,C812=$O$3),$P$5,0))))))","v":""}]
[null,null,null,null,null,null,{"$f":"IF(OR(D813=\"Excont\",D813=\"\"),\"\",IF(D813=\"URFU\",IF(AND(B813=$N$2,C813=$O$2),$P$2,IF(AND(B813=$N$2,C813=$O$3),$P$3,IF(AND(B813=$N$4,C813=$O$2),$P$4,IF(AND(B813=Data!A803,C813=$O$3),$P$5,0))))))","v":""}]
[null,null,null,null,null,null,{"$f":"IF(OR(D814=\"Excont\",D814=\"\"),\"\",IF(D814=\"URFU\",IF(AND(B814=$N$2,C814=$O$2),$P$2,IF(AND(B814=$N$2,C814=$O$3),$P$3,IF(AND(B814=$N$4,C814=$O$2),$P$4,IF(AND(B814=Data!A804,C814=$O$3),$P$5,0))))))","v":""}]
[null,null,null,null,null,null,{"$f":"IF(OR(D815=\"Excont\",D815=\"\"),\"\",IF(D815=\"URFU\",IF(AND(B815=$N$2,C815=$O$2),$P$2,IF(AND(B815=$N$2,C815=$O$3),$P$3,IF(AND(B815=$N$4,C815=$O$2),$P$4,IF(AND(B815=Data!A805,C815=$O$3),$P$5,0))))))","v":""}]
[null,null,null,null,null,null,{"$f":"IF(OR(D816=\"Excont\",D816=\"\"),\"\",IF(D816=\"URFU\",IF(AND(B816=$N$2,C816=$O$2),$P$2,IF(AND(B816=$N$2,C816=$O$3),$P$3,IF(AND(B816=$N$4,C816=$O$2),$P$4,IF(AND(B816=Data!A806,C816=$O$3),$P$5,0))))))","v":""}]
[null,null,null,null,null,null,{"$f":"IF(OR(D817=\"Excont\",D817=\"\"),\"\",IF(D817=\"URFU\",IF(AND(B817=$N$2,C817=$O$2),$P$2,IF(AND(B817=$N$2,C817=$O$3),$P$3,IF(AND(B817=$N$4,C817=$O$2),$P$4,IF(AND(B817=Data!A807,C817=$O$3),$P$5,0))))))","v":""}]
[null,null,null,null,null,null,{"$f":"IF(OR(D818=\"Excont\",D818=\"\"),\"\",IF(D818=\"URFU\",IF(AND(B818=$N$2,C818=$O$2),$P$2,IF(AND(B818=$N$2,C818=$O$3),$P$3,IF(AND(B818=$N$4,C818=$O$2),$P$4,IF(AND(B818=Data!A808,C818=$O$3),$P$5,0))))))","v":""}]
[null,null,null,null,null,null,{"$f":"IF(OR(D819=\"Excont\",D819=\"\"),\"\",IF(D819=\"URFU\",IF(AND(B819=$N$2,C819=$O$2),$P$2,IF(AND(B819=$N$2,C819=$O$3),$P$3,IF(AND(B819=$N$4,C819=$O$2),$P$4,IF(AND(B819=Data!A809,C819=$O$3),$P$5,0))))))","v":""}]
[null,null,null,null,null,null,{"$f":"IF(OR(D820=\"Excont\",D820=\"\"),\"\",IF(D820=\"URFU\",IF(AND(B820=$N$2,C820=$O$2),$P$2,IF(AND(B820=$N$2,C820=$O$3),$P$3,IF(AND(B820=$N$4,C820=$O$2),$P$4,IF(AND(B820=Data!A810,C820=$O$3),$P$5,0))))))","v":""}]
[null,null,null,null,null,null,{"$f":"IF(OR(D821=\"Excont\",D821=\"\"),\"\",IF(D821=\"URFU\",IF(AND(B821=$N$2,C821=$O$2),$P$2,IF(AND(B821=$N$2,C821=$O$3),$P$3,IF(AND(B821=$N$4,C821=$O$2),$P$4,IF(AND(B821=Data!A811,C821=$O$3),$P$5,0))))))","v":""}]
[null,null,null,null,null,null,{"$f":"IF(OR(D822=\"Excont\",D822=\"\"),\"\",IF(D822=\"URFU\",IF(AND(B822=$N$2,C822=$O$2),$P$2,IF(AND(B822=$N$2,C822=$O$3),$P$3,IF(AND(B822=$N$4,C822=$O$2),$P$4,IF(AND(B822=Data!A812,C822=$O$3),$P$5,0))))))","v":""}]
[null,null,null,null,null,null,{"$f":"IF(OR(D823=\"Excont\",D823=\"\"),\"\",IF(D823=\"URFU\",IF(AND(B823=$N$2,C823=$O$2),$P$2,IF(AND(B823=$N$2,C823=$O$3),$P$3,IF(AND(B823=$N$4,C823=$O$2),$P$4,IF(AND(B823=Data!A813,C823=$O$3),$P$5,0))))))","v":""}]
[null,null,null,null,null,null,{"$f":"IF(OR(D824=\"Excont\",D824=\"\"),\"\",IF(D824=\"URFU\",IF(AND(B824=$N$2,C824=$O$2),$P$2,IF(AND(B824=$N$2,C824=$O$3),$P$3,IF(AND(B824=$N$4,C824=$O$2),$P$4,IF(AND(B824=Data!A814,C824=$O$3),$P$5,0))))))","v":""}]
[null,null,null,null,null,null,{"$f":"IF(OR(D825=\"Excont\",D825=\"\"),\"\",IF(D825=\"URFU\",IF(AND(B825=$N$2,C825=$O$2),$P$2,IF(AND(B825=$N$2,C825=$O$3),$P$3,IF(AND(B825=$N$4,C825=$O$2),$P$4,IF(AND(B825=Data!A815,C825=$O$3),$P$5,0))))))","v":""}]
[null,null,null,null,null,null,{"$f":"IF(OR(D826=\"Excont\",D826=\"\"),\"\",IF(D826=\"URFU\",IF(AND(B826=$N$2,C826=$O$2),$P$2,IF(AND(B826=$N$2,C826=$O$3),$P$3,IF(AND(B826=$N$4,C826=$O$2),$P$4,IF(AND(B826=Data!A816,C826=$O$3),$P$5,0))))))","v":""}]
[null,null,null,null,null,null,{"$f":"IF(OR(D827=\"Excont\",D827=\"\"),\"\",IF(D827=\"URFU\",IF(AND(B827=$N$2,C827=$O$2),$P$2,IF(AND(B827=$N$2,C827=$O$3),$P$3,IF(AND(B827=$N$4,C827=$O$2),$P$4,IF(AND(B827=Data!A817,C827=$O$3),$P$5,0))))))","v":""}]
[null,null,null,null,null,null,{"$f":"IF(OR(D828=\"Excont\",D828=\"\"),\"\",IF(D828=\"URFU\",IF(AND(B828=$N$2,C828=$O$2),$P$2,IF(AND(B828=$N$2,C828=$O$3),$P$3,IF(AND(B828=$N$4,C828=$O$2),$P$4,IF(AND(B828=Data!A818,C828=$O$3),$P$5,0))))))","v":""}]
[null,null,null,null,null,null,{"$f":"IF(OR(D829=\"Excont\",D829=\"\"),\"\",IF(D829=\"URFU\",IF(AND(B829=$N$2,C829=$O$2),$P$2,IF(AND(B829=$N$2,C829=$O$3),$P$3,IF(AND(B829=$N$4,C829=$O$2),$P$4,IF(AND(B829=Data!A819,C829=$O$3),$P$5,0))))))","v":""}]
[null,null,null,null,null,null,{"$f":"IF(OR(D830=\"Excont\",D830=\"\"),\"\",IF(D830=\"URFU\",IF(AND(B830=$N$2,C830=$O$2),$P$2,IF(AND(B830=$N$2,C830=$O$3),$P$3,IF(AND(B830=$N$4,C830=$O$2),$P$4,IF(AND(B830=Data!A820,C830=$O$3),$P$5,0))))))","v":""}]
[null,null,null,null,null,null,{"$f":"IF(OR(D831=\"Excont\",D831=\"\"),\"\",IF(D831=\"URFU\",IF(AND(B831=$N$2,C831=$O$2),$P$2,IF(AND(B831=$N$2,C831=$O$3),$P$3,IF(AND(B831=$N$4,C831=$O$2),$P$4,IF(AND(B831=Data!A821,C831=$O$3),$P$5,0))))))","v":""}]
[null,null,null,null,null,null,{"$f":"IF(OR(D832=\"Excont\",D832=\"\"),\"\",IF(D832=\"URFU\",IF(AND(B832=$N$2,C832=$O$2),$P$2,IF(AND(B832=$N$2,C832=$O$3),$P$3,IF(AND(B832=$N$4,C832=$O$2),$P$4,IF(AND(B832=Data!A822,C832=$O$3),$P$5,0))))))","v":""}]
[null,null,null,null,null,null,{"$f":"IF(OR(D833=\"Excont\",D833=\"\"),\"\",IF(D833=\"URFU\",IF(AND(B833=$N$2,C833=$O$2),$P$2,IF(AND(B833=$N$2,C833=$O$3),$P$3,IF(AND(B833=$N$4,C833=$O$2),$P$4,IF(AND(B833=Data!A823,C833=$O$3),$P$5,0))))))","v":""}]
[null,null,null,null,null,null,{"$f":"IF(OR(D834=\"Excont\",D834=\"\"),\"\",IF(D834=\"URFU\",IF(AND(B834=$N$2,C834=$O$2),$P$2,IF(AND(B834=$N$2,C834=$O$3),$P$3,IF(AND(B834=$N$4,C834=$O$2),$P$4,IF(AND(B834=Data!A824,C834=$O$3),$P$5,0))))))","v":""}]
[null,null,null,null,null,null,{"$f":"IF(OR(D835=\"Excont\",D835=\"\"),\"\",IF(D835=\"URFU\",IF(AND(B835=$N$2,C835=$O$2),$P$2,IF(AND(B835=$N$2,C835=$O$3),$P$3,IF(AND(B835=$N$4,C835=$O$2),$P$4,IF(AND(B835=Data!A825,C835=$O$3),$P$5,0))))))","v":""}]
[null,null,null,null,null,null,{"$f":"IF(OR(D836=\"Excont\",D836=\"\"),\"\",IF(D836=\"URFU\",IF(AND(B836=$N$2,C836=$O$2),$P$2,IF(AND(B836=$N$2,C836=$O$3),$P$3,IF(AND(B836=$N$4,C836=$O$2),$P$4,IF(AND(B836=Data!A826,C836=$O$3),$P$5,0))))))","v":""}]
[null,null,null,null,null,null,{"$f":"IF(OR(D837=\"Excont\",D837=\"\"),\"\",IF(D837=\"URFU\",IF(AND(B837=$N$2,C837=$O$2),$P$2,IF(AND(B837=$N$2,C837=$O$3),$P$3,IF(AND(B837=$N$4,C837=$O$2),$P$4,IF(AND(B837=Data!A827,C837=$O$3),$P$5,0))))))","v":""}]
[null,null,null,null,null,null,{"$f":"IF(OR(D838=\"Excont\",D838=\"\"),\"\",IF(D838=\"URFU\",IF(AND(B838=$N$2,C838=$O$2),$P$2,IF(AND(B838=$N$2,C838=$O$3),$P$3,IF(AND(B838=$N$4,C838=$O$2),$P$4,IF(AND(B838=Data!A828,C838=$O$3),$P$5,0))))))","v":""}]
[null,null,null,null,null,null,{"$f":"IF(OR(D839=\"Excont\",D839=\"\"),\"\",IF(D839=\"URFU\",IF(AND(B839=$N$2,C839=$O$2),$P$2,IF(AND(B839=$N$2,C839=$O$3),$P$3,IF(AND(B839=$N$4,C839=$O$2),$P$4,IF(AND(B839=Data!A829,C839=$O$3),$P$5,0))))))","v":""}]
[null,null,null,null,null,null,{"$f":"IF(OR(D840=\"Excont\",D840=\"\"),\"\",IF(D840=\"URFU\",IF(AND(B840=$N$2,C840=$O$2),$P$2,IF(AND(B840=$N$2,C840=$O$3),$P$3,IF(AND(B840=$N$4,C840=$O$2),$P$4,IF(AND(B840=Data!A830,C840=$O$3),$P$5,0))))))","v":""}]
[null,null,null,null,null,null,{"$f":"IF(OR(D841=\"Excont\",D841=\"\"),\"\",IF(D841=\"URFU\",IF(AND(B841=$N$2,C841=$O$2),$P$2,IF(AND(B841=$N$2,C841=$O$3),$P$3,IF(AND(B841=$N$4,C841=$O$2),$P$4,IF(AND(B841=Data!A831,C841=$O$3),$P$5,0))))))","v":""}]
[null,null,null,null,null,null,{"$f":"IF(OR(D842=\"Excont\",D842=\"\"),\"\",IF(D842=\"URFU\",IF(AND(B842=$N$2,C842=$O$2),$P$2,IF(AND(B842=$N$2,C842=$O$3),$P$3,IF(AND(B842=$N$4,C842=$O$2),$P$4,IF(AND(B842=Data!A832,C842=$O$3),$P$5,0))))))","v":""}]
[null,null,null,null,null,null,{"$f":"IF(OR(D843=\"Excont\",D843=\"\"),\"\",IF(D843=\"URFU\",IF(AND(B843=$N$2,C843=$O$2),$P$2,IF(AND(B843=$N$2,C843=$O$3),$P$3,IF(AND(B843=$N$4,C843=$O$2),$P$4,IF(AND(B843=Data!A833,C843=$O$3),$P$5,0))))))","v":""}]
[null,null,null,null,null,null,{"$f":"IF(OR(D844=\"Excont\",D844=\"\"),\"\",IF(D844=\"URFU\",IF(AND(B844=$N$2,C844=$O$2),$P$2,IF(AND(B844=$N$2,C844=$O$3),$P$3,IF(AND(B844=$N$4,C844=$O$2),$P$4,IF(AND(B844=Data!A834,C844=$O$3),$P$5,0))))))","v":""}]
[null,null,null,null,null,null,{"$f":"IF(OR(D845=\"Excont\",D845=\"\"),\"\",IF(D845=\"URFU\",IF(AND(B845=$N$2,C845=$O$2),$P$2,IF(AND(B845=$N$2,C845=$O$3),$P$3,IF(AND(B845=$N$4,C845=$O$2),$P$4,IF(AND(B845=Data!A835,C845=$O$3),$P$5,0))))))","v":""}]
[null,null,null,null,null,null,{"$f":"IF(OR(D846=\"Excont\",D846=\"\"),\"\",IF(D846=\"URFU\",IF(AND(B846=$N$2,C846=$O$2),$P$2,IF(AND(B846=$N$2,C846=$O$3),$P$3,IF(AND(B846=$N$4,C846=$O$2),$P$4,IF(AND(B846=Data!A836,C846=$O$3),$P$5,0))))))","v":""}]
[null,null,null,null,null,null,{"$f":"IF(OR(D847=\"Excont\",D847=\"\"),\"\",IF(D847=\"URFU\",IF(AND(B847=$N$2,C847=$O$2),$P$2,IF(AND(B847=$N$2,C847=$O$3),$P$3,IF(AND(B847=$N$4,C847=$O$2),$P$4,IF(AND(B847=Data!A837,C847=$O$3),$P$5,0))))))","v":""}]
[null,null,null,null,null,null,{"$f":"IF(OR(D848=\"Excont\",D848=\"\"),\"\",IF(D848=\"URFU\",IF(AND(B848=$N$2,C848=$O$2),$P$2,IF(AND(B848=$N$2,C848=$O$3),$P$3,IF(AND(B848=$N$4,C848=$O$2),$P$4,IF(AND(B848=Data!A838,C848=$O$3),$P$5,0))))))","v":""}]
[null,null,null,null,null,null,{"$f":"IF(OR(D849=\"Excont\",D849=\"\"),\"\",IF(D849=\"URFU\",IF(AND(B849=$N$2,C849=$O$2),$P$2,IF(AND(B849=$N$2,C849=$O$3),$P$3,IF(AND(B849=$N$4,C849=$O$2),$P$4,IF(AND(B849=Data!A839,C849=$O$3),$P$5,0))))))","v":""}]
[null,null,null,null,null,null,{"$f":"IF(OR(D850=\"Excont\",D850=\"\"),\"\",IF(D850=\"URFU\",IF(AND(B850=$N$2,C850=$O$2),$P$2,IF(AND(B850=$N$2,C850=$O$3),$P$3,IF(AND(B850=$N$4,C850=$O$2),$P$4,IF(AND(B850=Data!A840,C850=$O$3),$P$5,0))))))","v":""}]
[null,null,null,null,null,null,{"$f":"IF(OR(D851=\"Excont\",D851=\"\"),\"\",IF(D851=\"URFU\",IF(AND(B851=$N$2,C851=$O$2),$P$2,IF(AND(B851=$N$2,C851=$O$3),$P$3,IF(AND(B851=$N$4,C851=$O$2),$P$4,IF(AND(B851=Data!A841,C851=$O$3),$P$5,0))))))","v":""}]
[null,null,null,null,null,null,{"$f":"IF(OR(D852=\"Excont\",D852=\"\"),\"\",IF(D852=\"URFU\",IF(AND(B852=$N$2,C852=$O$2),$P$2,IF(AND(B852=$N$2,C852=$O$3),$P$3,IF(AND(B852=$N$4,C852=$O$2),$P$4,IF(AND(B852=Data!A842,C852=$O$3),$P$5,0))))))","v":""}]
[null,null,null,null,null,null,{"$f":"IF(OR(D853=\"Excont\",D853=\"\"),\"\",IF(D853=\"URFU\",IF(AND(B853=$N$2,C853=$O$2),$P$2,IF(AND(B853=$N$2,C853=$O$3),$P$3,IF(AND(B853=$N$4,C853=$O$2),$P$4,IF(AND(B853=Data!A843,C853=$O$3),$P$5,0))))))","v":""}]
[null,null,null,null,null,null,{"$f":"IF(OR(D854=\"Excont\",D854=\"\"),\"\",IF(D854=\"URFU\",IF(AND(B854=$N$2,C854=$O$2),$P$2,IF(AND(B854=$N$2,C854=$O$3),$P$3,IF(AND(B854=$N$4,C854=$O$2),$P$4,IF(AND(B854=Data!A844,C854=$O$3),$P$5,0))))))","v":""}]
[null,null,null,null,null,null,{"$f":"IF(OR(D855=\"Excont\",D855=\"\"),\"\",IF(D855=\"URFU\",IF(AND(B855=$N$2,C855=$O$2),$P$2,IF(AND(B855=$N$2,C855=$O$3),$P$3,IF(AND(B855=$N$4,C855=$O$2),$P$4,IF(AND(B855=Data!A845,C855=$O$3),$P$5,0))))))","v":""}]
[null,null,null,null,null,null,{"$f":"IF(OR(D856=\"Excont\",D856=\"\"),\"\",IF(D856=\"URFU\",IF(AND(B856=$N$2,C856=$O$2),$P$2,IF(AND(B856=$N$2,C856=$O$3),$P$3,IF(AND(B856=$N$4,C856=$O$2),$P$4,IF(AND(B856=Data!A846,C856=$O$3),$P$5,0))))))","v":""}]
[null,null,null,null,null,null,{"$f":"IF(OR(D857=\"Excont\",D857=\"\"),\"\",IF(D857=\"URFU\",IF(AND(B857=$N$2,C857=$O$2),$P$2,IF(AND(B857=$N$2,C857=$O$3),$P$3,IF(AND(B857=$N$4,C857=$O$2),$P$4,IF(AND(B857=Data!A847,C857=$O$3),$P$5,0))))))","v":""}]
[null,null,null,null,null,null,{"$f":"IF(OR(D858=\"Excont\",D858=\"\"),\"\",IF(D858=\"URFU\",IF(AND(B858=$N$2,C858=$O$2),$P$2,IF(AND(B858=$N$2,C858=$O$3),$P$3,IF(AND(B858=$N$4,C858=$O$2),$P$4,IF(AND(B858=Data!A848,C858=$O$3),$P$5,0))))))","v":""}]
[null,null,null,null,null,null,{"$f":"IF(OR(D859=\"Excont\",D859=\"\"),\"\",IF(D859=\"URFU\",IF(AND(B859=$N$2,C859=$O$2),$P$2,IF(AND(B859=$N$2,C859=$O$3),$P$3,IF(AND(B859=$N$4,C859=$O$2),$P$4,IF(AND(B859=Data!A849,C859=$O$3),$P$5,0))))))","v":""}]
[null,null,null,null,null,null,{"$f":"IF(OR(D860=\"Excont\",D860=\"\"),\"\",IF(D860=\"URFU\",IF(AND(B860=$N$2,C860=$O$2),$P$2,IF(AND(B860=$N$2,C860=$O$3),$P$3,IF(AND(B860=$N$4,C860=$O$2),$P$4,IF(AND(B860=Data!A850,C860=$O$3),$P$5,0))))))","v":""}]
[null,null,null,null,null,null,{"$f":"IF(OR(D861=\"Excont\",D861=\"\"),\"\",IF(D861=\"URFU\",IF(AND(B861=$N$2,C861=$O$2),$P$2,IF(AND(B861=$N$2,C861=$O$3),$P$3,IF(AND(B861=$N$4,C861=$O$2),$P$4,IF(AND(B861=Data!A851,C861=$O$3),$P$5,0))))))","v":""}]
[null,null,null,null,null,null,{"$f":"IF(OR(D862=\"Excont\",D862=\"\"),\"\",IF(D862=\"URFU\",IF(AND(B862=$N$2,C862=$O$2),$P$2,IF(AND(B862=$N$2,C862=$O$3),$P$3,IF(AND(B862=$N$4,C862=$O$2),$P$4,IF(AND(B862=Data!A852,C862=$O$3),$P$5,0))))))","v":""}]
[null,null,null,null,null,null,{"$f":"IF(OR(D863=\"Excont\",D863=\"\"),\"\",IF(D863=\"URFU\",IF(AND(B863=$N$2,C863=$O$2),$P$2,IF(AND(B863=$N$2,C863=$O$3),$P$3,IF(AND(B863=$N$4,C863=$O$2),$P$4,IF(AND(B863=Data!A853,C863=$O$3),$P$5,0))))))","v":""}]
[null,null,null,null,null,null,{"$f":"IF(OR(D864=\"Excont\",D864=\"\"),\"\",IF(D864=\"URFU\",IF(AND(B864=$N$2,C864=$O$2),$P$2,IF(AND(B864=$N$2,C864=$O$3),$P$3,IF(AND(B864=$N$4,C864=$O$2),$P$4,IF(AND(B864=Data!A854,C864=$O$3),$P$5,0))))))","v":""}]
[null,null,null,null,null,null,{"$f":"IF(OR(D865=\"Excont\",D865=\"\"),\"\",IF(D865=\"URFU\",IF(AND(B865=$N$2,C865=$O$2),$P$2,IF(AND(B865=$N$2,C865=$O$3),$P$3,IF(AND(B865=$N$4,C865=$O$2),$P$4,IF(AND(B865=Data!A855,C865=$O$3),$P$5,0))))))","v":""}]
[null,null,null,null,null,null,{"$f":"IF(OR(D866=\"Excont\",D866=\"\"),\"\",IF(D866=\"URFU\",IF(AND(B866=$N$2,C866=$O$2),$P$2,IF(AND(B866=$N$2,C866=$O$3),$P$3,IF(AND(B866=$N$4,C866=$O$2),$P$4,IF(AND(B866=Data!A856,C866=$O$3),$P$5,0))))))","v":""}]
[null,null,null,null,null,null,{"$f":"IF(OR(D867=\"Excont\",D867=\"\"),\"\",IF(D867=\"URFU\",IF(AND(B867=$N$2,C867=$O$2),$P$2,IF(AND(B867=$N$2,C867=$O$3),$P$3,IF(AND(B867=$N$4,C867=$O$2),$P$4,IF(AND(B867=Data!A857,C867=$O$3),$P$5,0))))))","v":""}]
[null,null,null,null,null,null,{"$f":"IF(OR(D868=\"Excont\",D868=\"\"),\"\",IF(D868=\"URFU\",IF(AND(B868=$N$2,C868=$O$2),$P$2,IF(AND(B868=$N$2,C868=$O$3),$P$3,IF(AND(B868=$N$4,C868=$O$2),$P$4,IF(AND(B868=Data!A858,C868=$O$3),$P$5,0))))))","v":""}]
[null,null,null,null,null,null,{"$f":"IF(OR(D869=\"Excont\",D869=\"\"),\"\",IF(D869=\"URFU\",IF(AND(B869=$N$2,C869=$O$2),$P$2,IF(AND(B869=$N$2,C869=$O$3),$P$3,IF(AND(B869=$N$4,C869=$O$2),$P$4,IF(AND(B869=Data!A859,C869=$O$3),$P$5,0))))))","v":""}]
[null,null,null,null,null,null,{"$f":"IF(OR(D870=\"Excont\",D870=\"\"),\"\",IF(D870=\"URFU\",IF(AND(B870=$N$2,C870=$O$2),$P$2,IF(AND(B870=$N$2,C870=$O$3),$P$3,IF(AND(B870=$N$4,C870=$O$2),$P$4,IF(AND(B870=Data!A860,C870=$O$3),$P$5,0))))))","v":""}]
[null,null,null,null,null,null,{"$f":"IF(OR(D871=\"Excont\",D871=\"\"),\"\",IF(D871=\"URFU\",IF(AND(B871=$N$2,C871=$O$2),$P$2,IF(AND(B871=$N$2,C871=$O$3),$P$3,IF(AND(B871=$N$4,C871=$O$2),$P$4,IF(AND(B871=Data!A861,C871=$O$3),$P$5,0))))))","v":""}]
[null,null,null,null,null,null,{"$f":"IF(OR(D872=\"Excont\",D872=\"\"),\"\",IF(D872=\"URFU\",IF(AND(B872=$N$2,C872=$O$2),$P$2,IF(AND(B872=$N$2,C872=$O$3),$P$3,IF(AND(B872=$N$4,C872=$O$2),$P$4,IF(AND(B872=Data!A862,C872=$O$3),$P$5,0))))))","v":""}]
[null,null,null,null,null,null,{"$f":"IF(OR(D873=\"Excont\",D873=\"\"),\"\",IF(D873=\"URFU\",IF(AND(B873=$N$2,C873=$O$2),$P$2,IF(AND(B873=$N$2,C873=$O$3),$P$3,IF(AND(B873=$N$4,C873=$O$2),$P$4,IF(AND(B873=Data!A863,C873=$O$3),$P$5,0))))))","v":""}]
[null,null,null,null,null,null,{"$f":"IF(OR(D874=\"Excont\",D874=\"\"),\"\",IF(D874=\"URFU\",IF(AND(B874=$N$2,C874=$O$2),$P$2,IF(AND(B874=$N$2,C874=$O$3),$P$3,IF(AND(B874=$N$4,C874=$O$2),$P$4,IF(AND(B874=Data!A864,C874=$O$3),$P$5,0))))))","v":""}]
[null,null,null,null,null,null,{"$f":"IF(OR(D875=\"Excont\",D875=\"\"),\"\",IF(D875=\"URFU\",IF(AND(B875=$N$2,C875=$O$2),$P$2,IF(AND(B875=$N$2,C875=$O$3),$P$3,IF(AND(B875=$N$4,C875=$O$2),$P$4,IF(AND(B875=Data!A865,C875=$O$3),$P$5,0))))))","v":""}]
[null,null,null,null,null,null,{"$f":"IF(OR(D876=\"Excont\",D876=\"\"),\"\",IF(D876=\"URFU\",IF(AND(B876=$N$2,C876=$O$2),$P$2,IF(AND(B876=$N$2,C876=$O$3),$P$3,IF(AND(B876=$N$4,C876=$O$2),$P$4,IF(AND(B876=Data!A866,C876=$O$3),$P$5,0))))))","v":""}]
[null,null,null,null,null,null,{"$f":"IF(OR(D877=\"Excont\",D877=\"\"),\"\",IF(D877=\"URFU\",IF(AND(B877=$N$2,C877=$O$2),$P$2,IF(AND(B877=$N$2,C877=$O$3),$P$3,IF(AND(B877=$N$4,C877=$O$2),$P$4,IF(AND(B877=Data!A867,C877=$O$3),$P$5,0))))))","v":""}]
[null,null,null,null,null,null,{"$f":"IF(OR(D878=\"Excont\",D878=\"\"),\"\",IF(D878=\"URFU\",IF(AND(B878=$N$2,C878=$O$2),$P$2,IF(AND(B878=$N$2,C878=$O$3),$P$3,IF(AND(B878=$N$4,C878=$O$2),$P$4,IF(AND(B878=Data!A868,C878=$O$3),$P$5,0))))))","v":""}]
[null,null,null,null,null,null,{"$f":"IF(OR(D879=\"Excont\",D879=\"\"),\"\",IF(D879=\"URFU\",IF(AND(B879=$N$2,C879=$O$2),$P$2,IF(AND(B879=$N$2,C879=$O$3),$P$3,IF(AND(B879=$N$4,C879=$O$2),$P$4,IF(AND(B879=Data!A869,C879=$O$3),$P$5,0))))))","v":""}]
[null,null,null,null,null,null,{"$f":"IF(OR(D880=\"Excont\",D880=\"\"),\"\",IF(D880=\"URFU\",IF(AND(B880=$N$2,C880=$O$2),$P$2,IF(AND(B880=$N$2,C880=$O$3),$P$3,IF(AND(B880=$N$4,C880=$O$2),$P$4,IF(AND(B880=Data!A870,C880=$O$3),$P$5,0))))))","v":""}]
[null,null,null,null,null,null,{"$f":"IF(OR(D881=\"Excont\",D881=\"\"),\"\",IF(D881=\"URFU\",IF(AND(B881=$N$2,C881=$O$2),$P$2,IF(AND(B881=$N$2,C881=$O$3),$P$3,IF(AND(B881=$N$4,C881=$O$2),$P$4,IF(AND(B881=Data!A871,C881=$O$3),$P$5,0))))))","v":""}]
[null,null,null,null,null,null,{"$f":"IF(OR(D882=\"Excont\",D882=\"\"),\"\",IF(D882=\"URFU\",IF(AND(B882=$N$2,C882=$O$2),$P$2,IF(AND(B882=$N$2,C882=$O$3),$P$3,IF(AND(B882=$N$4,C882=$O$2),$P$4,IF(AND(B882=Data!A872,C882=$O$3),$P$5,0))))))","v":""}]
[null,null,null,null,null,null,{"$f":"IF(OR(D883=\"Excont\",D883=\"\"),\"\",IF(D883=\"URFU\",IF(AND(B883=$N$2,C883=$O$2),$P$2,IF(AND(B883=$N$2,C883=$O$3),$P$3,IF(AND(B883=$N$4,C883=$O$2),$P$4,IF(AND(B883=Data!A873,C883=$O$3),$P$5,0))))))","v":""}]
[null,null,null,null,null,null,{"$f":"IF(OR(D884=\"Excont\",D884=\"\"),\"\",IF(D884=\"URFU\",IF(AND(B884=$N$2,C884=$O$2),$P$2,IF(AND(B884=$N$2,C884=$O$3),$P$3,IF(AND(B884=$N$4,C884=$O$2),$P$4,IF(AND(B884=Data!A874,C884=$O$3),$P$5,0))))))","v":""}]
[null,null,null,null,null,null,{"$f":"IF(OR(D885=\"Excont\",D885=\"\"),\"\",IF(D885=\"URFU\",IF(AND(B885=$N$2,C885=$O$2),$P$2,IF(AND(B885=$N$2,C885=$O$3),$P$3,IF(AND(B885=$N$4,C885=$O$2),$P$4,IF(AND(B885=Data!A875,C885=$O$3),$P$5,0))))))","v":""}]
[null,null,null,null,null,null,{"$f":"IF(OR(D886=\"Excont\",D886=\"\"),\"\",IF(D886=\"URFU\",IF(AND(B886=$N$2,C886=$O$2),$P$2,IF(AND(B886=$N$2,C886=$O$3),$P$3,IF(AND(B886=$N$4,C886=$O$2),$P$4,IF(AND(B886=Data!A876,C886=$O$3),$P$5,0))))))","v":""}]
[null,null,null,null,null,null,{"$f":"IF(OR(D887=\"Excont\",D887=\"\"),\"\",IF(D887=\"URFU\",IF(AND(B887=$N$2,C887=$O$2),$P$2,IF(AND(B887=$N$2,C887=$O$3),$P$3,IF(AND(B887=$N$4,C887=$O$2),$P$4,IF(AND(B887=Data!A877,C887=$O$3),$P$5,0))))))","v":""}]
[null,null,null,null,null,null,{"$f":"IF(OR(D888=\"Excont\",D888=\"\"),\"\",IF(D888=\"URFU\",IF(AND(B888=$N$2,C888=$O$2),$P$2,IF(AND(B888=$N$2,C888=$O$3),$P$3,IF(AND(B888=$N$4,C888=$O$2),$P$4,IF(AND(B888=Data!A878,C888=$O$3),$P$5,0))))))","v":""}]
[null,null,null,null,null,null,{"$f":"IF(OR(D889=\"Excont\",D889=\"\"),\"\",IF(D889=\"URFU\",IF(AND(B889=$N$2,C889=$O$2),$P$2,IF(AND(B889=$N$2,C889=$O$3),$P$3,IF(AND(B889=$N$4,C889=$O$2),$P$4,IF(AND(B889=Data!A879,C889=$O$3),$P$5,0))))))","v":""}]
[null,null,null,null,null,null,{"$f":"IF(OR(D890=\"Excont\",D890=\"\"),\"\",IF(D890=\"URFU\",IF(AND(B890=$N$2,C890=$O$2),$P$2,IF(AND(B890=$N$2,C890=$O$3),$P$3,IF(AND(B890=$N$4,C890=$O$2),$P$4,IF(AND(B890=Data!A880,C890=$O$3),$P$5,0))))))","v":""}]
[null,null,null,null,null,null,{"$f":"IF(OR(D891=\"Excont\",D891=\"\"),\"\",IF(D891=\"URFU\",IF(AND(B891=$N$2,C891=$O$2),$P$2,IF(AND(B891=$N$2,C891=$O$3),$P$3,IF(AND(B891=$N$4,C891=$O$2),$P$4,IF(AND(B891=Data!A881,C891=$O$3),$P$5,0))))))","v":""}]
[null,null,null,null,null,null,{"$f":"IF(OR(D892=\"Excont\",D892=\"\"),\"\",IF(D892=\"URFU\",IF(AND(B892=$N$2,C892=$O$2),$P$2,IF(AND(B892=$N$2,C892=$O$3),$P$3,IF(AND(B892=$N$4,C892=$O$2),$P$4,IF(AND(B892=Data!A882,C892=$O$3),$P$5,0))))))","v":""}]
[null,null,null,null,null,null,{"$f":"IF(OR(D893=\"Excont\",D893=\"\"),\"\",IF(D893=\"URFU\",IF(AND(B893=$N$2,C893=$O$2),$P$2,IF(AND(B893=$N$2,C893=$O$3),$P$3,IF(AND(B893=$N$4,C893=$O$2),$P$4,IF(AND(B893=Data!A883,C893=$O$3),$P$5,0))))))","v":""}]
[null,null,null,null,null,null,{"$f":"IF(OR(D894=\"Excont\",D894=\"\"),\"\",IF(D894=\"URFU\",IF(AND(B894=$N$2,C894=$O$2),$P$2,IF(AND(B894=$N$2,C894=$O$3),$P$3,IF(AND(B894=$N$4,C894=$O$2),$P$4,IF(AND(B894=Data!A884,C894=$O$3),$P$5,0))))))","v":""}]
[null,null,null,null,null,null,{"$f":"IF(OR(D895=\"Excont\",D895=\"\"),\"\",IF(D895=\"URFU\",IF(AND(B895=$N$2,C895=$O$2),$P$2,IF(AND(B895=$N$2,C895=$O$3),$P$3,IF(AND(B895=$N$4,C895=$O$2),$P$4,IF(AND(B895=Data!A885,C895=$O$3),$P$5,0))))))","v":""}]
[null,null,null,null,null,null,{"$f":"IF(OR(D896=\"Excont\",D896=\"\"),\"\",IF(D896=\"URFU\",IF(AND(B896=$N$2,C896=$O$2),$P$2,IF(AND(B896=$N$2,C896=$O$3),$P$3,IF(AND(B896=$N$4,C896=$O$2),$P$4,IF(AND(B896=Data!A886,C896=$O$3),$P$5,0))))))","v":""}]
[null,null,null,null,null,null,{"$f":"IF(OR(D897=\"Excont\",D897=\"\"),\"\",IF(D897=\"URFU\",IF(AND(B897=$N$2,C897=$O$2),$P$2,IF(AND(B897=$N$2,C897=$O$3),$P$3,IF(AND(B897=$N$4,C897=$O$2),$P$4,IF(AND(B897=Data!A887,C897=$O$3),$P$5,0))))))","v":""}]
[null,null,null,null,null,null,{"$f":"IF(OR(D898=\"Excont\",D898=\"\"),\"\",IF(D898=\"URFU\",IF(AND(B898=$N$2,C898=$O$2),$P$2,IF(AND(B898=$N$2,C898=$O$3),$P$3,IF(AND(B898=$N$4,C898=$O$2),$P$4,IF(AND(B898=Data!A888,C898=$O$3),$P$5,0))))))","v":""}]
[null,null,null,null,null,null,{"$f":"IF(OR(D899=\"Excont\",D899=\"\"),\"\",IF(D899=\"URFU\",IF(AND(B899=$N$2,C899=$O$2),$P$2,IF(AND(B899=$N$2,C899=$O$3),$P$3,IF(AND(B899=$N$4,C899=$O$2),$P$4,IF(AND(B899=Data!A889,C899=$O$3),$P$5,0))))))","v":""}]
[null,null,null,null,null,null,{"$f":"IF(OR(D900=\"Excont\",D900=\"\"),\"\",IF(D900=\"URFU\",IF(AND(B900=$N$2,C900=$O$2),$P$2,IF(AND(B900=$N$2,C900=$O$3),$P$3,IF(AND(B900=$N$4,C900=$O$2),$P$4,IF(AND(B900=Data!A890,C900=$O$3),$P$5,0))))))","v":""}]
[null,null,null,null,null,null,{"$f":"IF(OR(D901=\"Excont\",D901=\"\"),\"\",IF(D901=\"URFU\",IF(AND(B901=$N$2,C901=$O$2),$P$2,IF(AND(B901=$N$2,C901=$O$3),$P$3,IF(AND(B901=$N$4,C901=$O$2),$P$4,IF(AND(B901=Data!A891,C901=$O$3),$P$5,0))))))","v":""}]
[null,null,null,null,null,null,{"$f":"IF(OR(D902=\"Excont\",D902=\"\"),\"\",IF(D902=\"URFU\",IF(AND(B902=$N$2,C902=$O$2),$P$2,IF(AND(B902=$N$2,C902=$O$3),$P$3,IF(AND(B902=$N$4,C902=$O$2),$P$4,IF(AND(B902=Data!A892,C902=$O$3),$P$5,0))))))","v":""}]
[null,null,null,null,null,null,{"$f":"IF(OR(D903=\"Excont\",D903=\"\"),\"\",IF(D903=\"URFU\",IF(AND(B903=$N$2,C903=$O$2),$P$2,IF(AND(B903=$N$2,C903=$O$3),$P$3,IF(AND(B903=$N$4,C903=$O$2),$P$4,IF(AND(B903=Data!A893,C903=$O$3),$P$5,0))))))","v":""}]
[null,null,null,null,null,null,{"$f":"IF(OR(D904=\"Excont\",D904=\"\"),\"\",IF(D904=\"URFU\",IF(AND(B904=$N$2,C904=$O$2),$P$2,IF(AND(B904=$N$2,C904=$O$3),$P$3,IF(AND(B904=$N$4,C904=$O$2),$P$4,IF(AND(B904=Data!A894,C904=$O$3),$P$5,0))))))","v":""}]
[null,null,null,null,null,null,{"$f":"IF(OR(D905=\"Excont\",D905=\"\"),\"\",IF(D905=\"URFU\",IF(AND(B905=$N$2,C905=$O$2),$P$2,IF(AND(B905=$N$2,C905=$O$3),$P$3,IF(AND(B905=$N$4,C905=$O$2),$P$4,IF(AND(B905=Data!A895,C905=$O$3),$P$5,0))))))","v":""}]
[null,null,null,null,null,null,{"$f":"IF(OR(D906=\"Excont\",D906=\"\"),\"\",IF(D906=\"URFU\",IF(AND(B906=$N$2,C906=$O$2),$P$2,IF(AND(B906=$N$2,C906=$O$3),$P$3,IF(AND(B906=$N$4,C906=$O$2),$P$4,IF(AND(B906=Data!A896,C906=$O$3),$P$5,0))))))","v":""}]
[null,null,null,null,null,null,{"$f":"IF(OR(D907=\"Excont\",D907=\"\"),\"\",IF(D907=\"URFU\",IF(AND(B907=$N$2,C907=$O$2),$P$2,IF(AND(B907=$N$2,C907=$O$3),$P$3,IF(AND(B907=$N$4,C907=$O$2),$P$4,IF(AND(B907=Data!A897,C907=$O$3),$P$5,0))))))","v":""}]
[null,null,null,null,null,null,{"$f":"IF(OR(D908=\"Excont\",D908=\"\"),\"\",IF(D908=\"URFU\",IF(AND(B908=$N$2,C908=$O$2),$P$2,IF(AND(B908=$N$2,C908=$O$3),$P$3,IF(AND(B908=$N$4,C908=$O$2),$P$4,IF(AND(B908=Data!A898,C908=$O$3),$P$5,0))))))","v":""}]
[null,null,null,null,null,null,{"$f":"IF(OR(D909=\"Excont\",D909=\"\"),\"\",IF(D909=\"URFU\",IF(AND(B909=$N$2,C909=$O$2),$P$2,IF(AND(B909=$N$2,C909=$O$3),$P$3,IF(AND(B909=$N$4,C909=$O$2),$P$4,IF(AND(B909=Data!A899,C909=$O$3),$P$5,0))))))","v":""}]
[null,null,null,null,null,null,{"$f":"IF(OR(D910=\"Excont\",D910=\"\"),\"\",IF(D910=\"URFU\",IF(AND(B910=$N$2,C910=$O$2),$P$2,IF(AND(B910=$N$2,C910=$O$3),$P$3,IF(AND(B910=$N$4,C910=$O$2),$P$4,IF(AND(B910=Data!A900,C910=$O$3),$P$5,0))))))","v":""}]
[null,null,null,null,null,null,{"$f":"IF(OR(D911=\"Excont\",D911=\"\"),\"\",IF(D911=\"URFU\",IF(AND(B911=$N$2,C911=$O$2),$P$2,IF(AND(B911=$N$2,C911=$O$3),$P$3,IF(AND(B911=$N$4,C911=$O$2),$P$4,IF(AND(B911=Data!A901,C911=$O$3),$P$5,0))))))","v":""}]
[null,null,null,null,null,null,{"$f":"IF(OR(D912=\"Excont\",D912=\"\"),\"\",IF(D912=\"URFU\",IF(AND(B912=$N$2,C912=$O$2),$P$2,IF(AND(B912=$N$2,C912=$O$3),$P$3,IF(AND(B912=$N$4,C912=$O$2),$P$4,IF(AND(B912=Data!A902,C912=$O$3),$P$5,0))))))","v":""}]
[null,null,null,null,null,null,{"$f":"IF(OR(D913=\"Excont\",D913=\"\"),\"\",IF(D913=\"URFU\",IF(AND(B913=$N$2,C913=$O$2),$P$2,IF(AND(B913=$N$2,C913=$O$3),$P$3,IF(AND(B913=$N$4,C913=$O$2),$P$4,IF(AND(B913=Data!A903,C913=$O$3),$P$5,0))))))","v":""}]
[null,null,null,null,null,null,{"$f":"IF(OR(D914=\"Excont\",D914=\"\"),\"\",IF(D914=\"URFU\",IF(AND(B914=$N$2,C914=$O$2),$P$2,IF(AND(B914=$N$2,C914=$O$3),$P$3,IF(AND(B914=$N$4,C914=$O$2),$P$4,IF(AND(B914=Data!A904,C914=$O$3),$P$5,0))))))","v":""}]
[null,null,null,null,null,null,{"$f":"IF(OR(D915=\"Excont\",D915=\"\"),\"\",IF(D915=\"URFU\",IF(AND(B915=$N$2,C915=$O$2),$P$2,IF(AND(B915=$N$2,C915=$O$3),$P$3,IF(AND(B915=$N$4,C915=$O$2),$P$4,IF(AND(B915=Data!A905,C915=$O$3),$P$5,0))))))","v":""}]
[null,null,null,null,null,null,{"$f":"IF(OR(D916=\"Excont\",D916=\"\"),\"\",IF(D916=\"URFU\",IF(AND(B916=$N$2,C916=$O$2),$P$2,IF(AND(B916=$N$2,C916=$O$3),$P$3,IF(AND(B916=$N$4,C916=$O$2),$P$4,IF(AND(B916=Data!A906,C916=$O$3),$P$5,0))))))","v":""}]
[null,null,null,null,null,null,{"$f":"IF(OR(D917=\"Excont\",D917=\"\"),\"\",IF(D917=\"URFU\",IF(AND(B917=$N$2,C917=$O$2),$P$2,IF(AND(B917=$N$2,C917=$O$3),$P$3,IF(AND(B917=$N$4,C917=$O$2),$P$4,IF(AND(B917=Data!A907,C917=$O$3),$P$5,0))))))","v":""}]
[null,null,null,null,null,null,{"$f":"IF(OR(D918=\"Excont\",D918=\"\"),\"\",IF(D918=\"URFU\",IF(AND(B918=$N$2,C918=$O$2),$P$2,IF(AND(B918=$N$2,C918=$O$3),$P$3,IF(AND(B918=$N$4,C918=$O$2),$P$4,IF(AND(B918=Data!A908,C918=$O$3),$P$5,0))))))","v":""}]
[null,null,null,null,null,null,{"$f":"IF(OR(D919=\"Excont\",D919=\"\"),\"\",IF(D919=\"URFU\",IF(AND(B919=$N$2,C919=$O$2),$P$2,IF(AND(B919=$N$2,C919=$O$3),$P$3,IF(AND(B919=$N$4,C919=$O$2),$P$4,IF(AND(B919=Data!A909,C919=$O$3),$P$5,0))))))","v":""}]
[null,null,null,null,null,null,{"$f":"IF(OR(D920=\"Excont\",D920=\"\"),\"\",IF(D920=\"URFU\",IF(AND(B920=$N$2,C920=$O$2),$P$2,IF(AND(B920=$N$2,C920=$O$3),$P$3,IF(AND(B920=$N$4,C920=$O$2),$P$4,IF(AND(B920=Data!A910,C920=$O$3),$P$5,0))))))","v":""}]
[null,null,null,null,null,null,{"$f":"IF(OR(D921=\"Excont\",D921=\"\"),\"\",IF(D921=\"URFU\",IF(AND(B921=$N$2,C921=$O$2),$P$2,IF(AND(B921=$N$2,C921=$O$3),$P$3,IF(AND(B921=$N$4,C921=$O$2),$P$4,IF(AND(B921=Data!A911,C921=$O$3),$P$5,0))))))","v":""}]
[null,null,null,null,null,null,{"$f":"IF(OR(D922=\"Excont\",D922=\"\"),\"\",IF(D922=\"URFU\",IF(AND(B922=$N$2,C922=$O$2),$P$2,IF(AND(B922=$N$2,C922=$O$3),$P$3,IF(AND(B922=$N$4,C922=$O$2),$P$4,IF(AND(B922=Data!A912,C922=$O$3),$P$5,0))))))","v":""}]
[null,null,null,null,null,null,{"$f":"IF(OR(D923=\"Excont\",D923=\"\"),\"\",IF(D923=\"URFU\",IF(AND(B923=$N$2,C923=$O$2),$P$2,IF(AND(B923=$N$2,C923=$O$3),$P$3,IF(AND(B923=$N$4,C923=$O$2),$P$4,IF(AND(B923=Data!A913,C923=$O$3),$P$5,0))))))","v":""}]
[null,null,null,null,null,null,{"$f":"IF(OR(D924=\"Excont\",D924=\"\"),\"\",IF(D924=\"URFU\",IF(AND(B924=$N$2,C924=$O$2),$P$2,IF(AND(B924=$N$2,C924=$O$3),$P$3,IF(AND(B924=$N$4,C924=$O$2),$P$4,IF(AND(B924=Data!A914,C924=$O$3),$P$5,0))))))","v":""}]
[null,null,null,null,null,null,{"$f":"IF(OR(D925=\"Excont\",D925=\"\"),\"\",IF(D925=\"URFU\",IF(AND(B925=$N$2,C925=$O$2),$P$2,IF(AND(B925=$N$2,C925=$O$3),$P$3,IF(AND(B925=$N$4,C925=$O$2),$P$4,IF(AND(B925=Data!A915,C925=$O$3),$P$5,0))))))","v":""}]
[null,null,null,null,null,null,{"$f":"IF(OR(D926=\"Excont\",D926=\"\"),\"\",IF(D926=\"URFU\",IF(AND(B926=$N$2,C926=$O$2),$P$2,IF(AND(B926=$N$2,C926=$O$3),$P$3,IF(AND(B926=$N$4,C926=$O$2),$P$4,IF(AND(B926=Data!A916,C926=$O$3),$P$5,0))))))","v":""}]
[null,null,null,null,null,null,{"$f":"IF(OR(D927=\"Excont\",D927=\"\"),\"\",IF(D927=\"URFU\",IF(AND(B927=$N$2,C927=$O$2),$P$2,IF(AND(B927=$N$2,C927=$O$3),$P$3,IF(AND(B927=$N$4,C927=$O$2),$P$4,IF(AND(B927=Data!A917,C927=$O$3),$P$5,0))))))","v":""}]
[null,null,null,null,null,null,{"$f":"IF(OR(D928=\"Excont\",D928=\"\"),\"\",IF(D928=\"URFU\",IF(AND(B928=$N$2,C928=$O$2),$P$2,IF(AND(B928=$N$2,C928=$O$3),$P$3,IF(AND(B928=$N$4,C928=$O$2),$P$4,IF(AND(B928=Data!A918,C928=$O$3),$P$5,0))))))","v":""}]
[null,null,null,null,null,null,{"$f":"IF(OR(D929=\"Excont\",D929=\"\"),\"\",IF(D929=\"URFU\",IF(AND(B929=$N$2,C929=$O$2),$P$2,IF(AND(B929=$N$2,C929=$O$3),$P$3,IF(AND(B929=$N$4,C929=$O$2),$P$4,IF(AND(B929=Data!A919,C929=$O$3),$P$5,0))))))","v":""}]
[null,null,null,null,null,null,{"$f":"IF(OR(D930=\"Excont\",D930=\"\"),\"\",IF(D930=\"URFU\",IF(AND(B930=$N$2,C930=$O$2),$P$2,IF(AND(B930=$N$2,C930=$O$3),$P$3,IF(AND(B930=$N$4,C930=$O$2),$P$4,IF(AND(B930=Data!A920,C930=$O$3),$P$5,0))))))","v":""}]
[null,null,null,null,null,null,{"$f":"IF(OR(D931=\"Excont\",D931=\"\"),\"\",IF(D931=\"URFU\",IF(AND(B931=$N$2,C931=$O$2),$P$2,IF(AND(B931=$N$2,C931=$O$3),$P$3,IF(AND(B931=$N$4,C931=$O$2),$P$4,IF(AND(B931=Data!A921,C931=$O$3),$P$5,0))))))","v":""}]
[null,null,null,null,null,null,{"$f":"IF(OR(D932=\"Excont\",D932=\"\"),\"\",IF(D932=\"URFU\",IF(AND(B932=$N$2,C932=$O$2),$P$2,IF(AND(B932=$N$2,C932=$O$3),$P$3,IF(AND(B932=$N$4,C932=$O$2),$P$4,IF(AND(B932=Data!A922,C932=$O$3),$P$5,0))))))","v":""}]
[null,null,null,null,null,null,{"$f":"IF(OR(D933=\"Excont\",D933=\"\"),\"\",IF(D933=\"URFU\",IF(AND(B933=$N$2,C933=$O$2),$P$2,IF(AND(B933=$N$2,C933=$O$3),$P$3,IF(AND(B933=$N$4,C933=$O$2),$P$4,IF(AND(B933=Data!A923,C933=$O$3),$P$5,0))))))","v":""}]
[null,null,null,null,null,null,{"$f":"IF(OR(D934=\"Excont\",D934=\"\"),\"\",IF(D934=\"URFU\",IF(AND(B934=$N$2,C934=$O$2),$P$2,IF(AND(B934=$N$2,C934=$O$3),$P$3,IF(AND(B934=$N$4,C934=$O$2),$P$4,IF(AND(B934=Data!A924,C934=$O$3),$P$5,0))))))","v":""}]
[null,null,null,null,null,null,{"$f":"IF(OR(D935=\"Excont\",D935=\"\"),\"\",IF(D935=\"URFU\",IF(AND(B935=$N$2,C935=$O$2),$P$2,IF(AND(B935=$N$2,C935=$O$3),$P$3,IF(AND(B935=$N$4,C935=$O$2),$P$4,IF(AND(B935=Data!A925,C935=$O$3),$P$5,0))))))","v":""}]
[null,null,null,null,null,null,{"$f":"IF(OR(D936=\"Excont\",D936=\"\"),\"\",IF(D936=\"URFU\",IF(AND(B936=$N$2,C936=$O$2),$P$2,IF(AND(B936=$N$2,C936=$O$3),$P$3,IF(AND(B936=$N$4,C936=$O$2),$P$4,IF(AND(B936=Data!A926,C936=$O$3),$P$5,0))))))","v":""}]
[null,null,null,null,null,null,{"$f":"IF(OR(D937=\"Excont\",D937=\"\"),\"\",IF(D937=\"URFU\",IF(AND(B937=$N$2,C937=$O$2),$P$2,IF(AND(B937=$N$2,C937=$O$3),$P$3,IF(AND(B937=$N$4,C937=$O$2),$P$4,IF(AND(B937=Data!A927,C937=$O$3),$P$5,0))))))","v":""}]
[null,null,null,null,null,null,{"$f":"IF(OR(D938=\"Excont\",D938=\"\"),\"\",IF(D938=\"URFU\",IF(AND(B938=$N$2,C938=$O$2),$P$2,IF(AND(B938=$N$2,C938=$O$3),$P$3,IF(AND(B938=$N$4,C938=$O$2),$P$4,IF(AND(B938=Data!A928,C938=$O$3),$P$5,0))))))","v":""}]
[null,null,null,null,null,null,{"$f":"IF(OR(D939=\"Excont\",D939=\"\"),\"\",IF(D939=\"URFU\",IF(AND(B939=$N$2,C939=$O$2),$P$2,IF(AND(B939=$N$2,C939=$O$3),$P$3,IF(AND(B939=$N$4,C939=$O$2),$P$4,IF(AND(B939=Data!A929,C939=$O$3),$P$5,0))))))","v":""}]
[null,null,null,null,null,null,{"$f":"IF(OR(D940=\"Excont\",D940=\"\"),\"\",IF(D940=\"URFU\",IF(AND(B940=$N$2,C940=$O$2),$P$2,IF(AND(B940=$N$2,C940=$O$3),$P$3,IF(AND(B940=$N$4,C940=$O$2),$P$4,IF(AND(B940=Data!A930,C940=$O$3),$P$5,0))))))","v":""}]
[null,null,null,null,null,null,{"$f":"IF(OR(D941=\"Excont\",D941=\"\"),\"\",IF(D941=\"URFU\",IF(AND(B941=$N$2,C941=$O$2),$P$2,IF(AND(B941=$N$2,C941=$O$3),$P$3,IF(AND(B941=$N$4,C941=$O$2),$P$4,IF(AND(B941=Data!A931,C941=$O$3),$P$5,0))))))","v":""}]
[null,null,null,null,null,null,{"$f":"IF(OR(D942=\"Excont\",D942=\"\"),\"\",IF(D942=\"URFU\",IF(AND(B942=$N$2,C942=$O$2),$P$2,IF(AND(B942=$N$2,C942=$O$3),$P$3,IF(AND(B942=$N$4,C942=$O$2),$P$4,IF(AND(B942=Data!A932,C942=$O$3),$P$5,0))))))","v":""}]
[null,null,null,null,null,null,{"$f":"IF(OR(D943=\"Excont\",D943=\"\"),\"\",IF(D943=\"URFU\",IF(AND(B943=$N$2,C943=$O$2),$P$2,IF(AND(B943=$N$2,C943=$O$3),$P$3,IF(AND(B943=$N$4,C943=$O$2),$P$4,IF(AND(B943=Data!A933,C943=$O$3),$P$5,0))))))","v":""}]
[null,null,null,null,null,null,{"$f":"IF(OR(D944=\"Excont\",D944=\"\"),\"\",IF(D944=\"URFU\",IF(AND(B944=$N$2,C944=$O$2),$P$2,IF(AND(B944=$N$2,C944=$O$3),$P$3,IF(AND(B944=$N$4,C944=$O$2),$P$4,IF(AND(B944=Data!A934,C944=$O$3),$P$5,0))))))","v":""}]
[null,null,null,null,null,null,{"$f":"IF(OR(D945=\"Excont\",D945=\"\"),\"\",IF(D945=\"URFU\",IF(AND(B945=$N$2,C945=$O$2),$P$2,IF(AND(B945=$N$2,C945=$O$3),$P$3,IF(AND(B945=$N$4,C945=$O$2),$P$4,IF(AND(B945=Data!A935,C945=$O$3),$P$5,0))))))","v":""}]
[null,null,null,null,null,null,{"$f":"IF(OR(D946=\"Excont\",D946=\"\"),\"\",IF(D946=\"URFU\",IF(AND(B946=$N$2,C946=$O$2),$P$2,IF(AND(B946=$N$2,C946=$O$3),$P$3,IF(AND(B946=$N$4,C946=$O$2),$P$4,IF(AND(B946=Data!A936,C946=$O$3),$P$5,0))))))","v":""}]
[null,null,null,null,null,null,{"$f":"IF(OR(D947=\"Excont\",D947=\"\"),\"\",IF(D947=\"URFU\",IF(AND(B947=$N$2,C947=$O$2),$P$2,IF(AND(B947=$N$2,C947=$O$3),$P$3,IF(AND(B947=$N$4,C947=$O$2),$P$4,IF(AND(B947=Data!A937,C947=$O$3),$P$5,0))))))","v":""}]
[null,null,null,null,null,null,{"$f":"IF(OR(D948=\"Excont\",D948=\"\"),\"\",IF(D948=\"URFU\",IF(AND(B948=$N$2,C948=$O$2),$P$2,IF(AND(B948=$N$2,C948=$O$3),$P$3,IF(AND(B948=$N$4,C948=$O$2),$P$4,IF(AND(B948=Data!A938,C948=$O$3),$P$5,0))))))","v":""}]
[null,null,null,null,null,null,{"$f":"IF(OR(D949=\"Excont\",D949=\"\"),\"\",IF(D949=\"URFU\",IF(AND(B949=$N$2,C949=$O$2),$P$2,IF(AND(B949=$N$2,C949=$O$3),$P$3,IF(AND(B949=$N$4,C949=$O$2),$P$4,IF(AND(B949=Data!A939,C949=$O$3),$P$5,0))))))","v":""}]
[null,null,null,null,null,null,{"$f":"IF(OR(D950=\"Excont\",D950=\"\"),\"\",IF(D950=\"URFU\",IF(AND(B950=$N$2,C950=$O$2),$P$2,IF(AND(B950=$N$2,C950=$O$3),$P$3,IF(AND(B950=$N$4,C950=$O$2),$P$4,IF(AND(B950=Data!A940,C950=$O$3),$P$5,0))))))","v":""}]
[null,null,null,null,null,null,{"$f":"IF(OR(D951=\"Excont\",D951=\"\"),\"\",IF(D951=\"URFU\",IF(AND(B951=$N$2,C951=$O$2),$P$2,IF(AND(B951=$N$2,C951=$O$3),$P$3,IF(AND(B951=$N$4,C951=$O$2),$P$4,IF(AND(B951=Data!A941,C951=$O$3),$P$5,0))))))","v":""}]
[null,null,null,null,null,null,{"$f":"IF(OR(D952=\"Excont\",D952=\"\"),\"\",IF(D952=\"URFU\",IF(AND(B952=$N$2,C952=$O$2),$P$2,IF(AND(B952=$N$2,C952=$O$3),$P$3,IF(AND(B952=$N$4,C952=$O$2),$P$4,IF(AND(B952=Data!A942,C952=$O$3),$P$5,0))))))","v":""}]
[null,null,null,null,null,null,{"$f":"IF(OR(D953=\"Excont\",D953=\"\"),\"\",IF(D953=\"URFU\",IF(AND(B953=$N$2,C953=$O$2),$P$2,IF(AND(B953=$N$2,C953=$O$3),$P$3,IF(AND(B953=$N$4,C953=$O$2),$P$4,IF(AND(B953=Data!A943,C953=$O$3),$P$5,0))))))","v":""}]
[null,null,null,null,null,null,{"$f":"IF(OR(D954=\"Excont\",D954=\"\"),\"\",IF(D954=\"URFU\",IF(AND(B954=$N$2,C954=$O$2),$P$2,IF(AND(B954=$N$2,C954=$O$3),$P$3,IF(AND(B954=$N$4,C954=$O$2),$P$4,IF(AND(B954=Data!A944,C954=$O$3),$P$5,0))))))","v":""}]
[null,null,null,null,null,null,{"$f":"IF(OR(D955=\"Excont\",D955=\"\"),\"\",IF(D955=\"URFU\",IF(AND(B955=$N$2,C955=$O$2),$P$2,IF(AND(B955=$N$2,C955=$O$3),$P$3,IF(AND(B955=$N$4,C955=$O$2),$P$4,IF(AND(B955=Data!A945,C955=$O$3),$P$5,0))))))","v":""}]
[null,null,null,null,null,null,{"$f":"IF(OR(D956=\"Excont\",D956=\"\"),\"\",IF(D956=\"URFU\",IF(AND(B956=$N$2,C956=$O$2),$P$2,IF(AND(B956=$N$2,C956=$O$3),$P$3,IF(AND(B956=$N$4,C956=$O$2),$P$4,IF(AND(B956=Data!A946,C956=$O$3),$P$5,0))))))","v":""}]
[null,null,null,null,null,null,{"$f":"IF(OR(D957=\"Excont\",D957=\"\"),\"\",IF(D957=\"URFU\",IF(AND(B957=$N$2,C957=$O$2),$P$2,IF(AND(B957=$N$2,C957=$O$3),$P$3,IF(AND(B957=$N$4,C957=$O$2),$P$4,IF(AND(B957=Data!A947,C957=$O$3),$P$5,0))))))","v":""}]
[null,null,null,null,null,null,{"$f":"IF(OR(D958=\"Excont\",D958=\"\"),\"\",IF(D958=\"URFU\",IF(AND(B958=$N$2,C958=$O$2),$P$2,IF(AND(B958=$N$2,C958=$O$3),$P$3,IF(AND(B958=$N$4,C958=$O$2),$P$4,IF(AND(B958=Data!A948,C958=$O$3),$P$5,0))))))","v":""}]
[null,null,null,null,null,null,{"$f":"IF(OR(D959=\"Excont\",D959=\"\"),\"\",IF(D959=\"URFU\",IF(AND(B959=$N$2,C959=$O$2),$P$2,IF(AND(B959=$N$2,C959=$O$3),$P$3,IF(AND(B959=$N$4,C959=$O$2),$P$4,IF(AND(B959=Data!A949,C959=$O$3),$P$5,0))))))","v":""}]
[null,null,null,null,null,null,{"$f":"IF(OR(D960=\"Excont\",D960=\"\"),\"\",IF(D960=\"URFU\",IF(AND(B960=$N$2,C960=$O$2),$P$2,IF(AND(B960=$N$2,C960=$O$3),$P$3,IF(AND(B960=$N$4,C960=$O$2),$P$4,IF(AND(B960=Data!A950,C960=$O$3),$P$5,0))))))","v":""}]
[null,null,null,null,null,null,{"$f":"IF(OR(D961=\"Excont\",D961=\"\"),\"\",IF(D961=\"URFU\",IF(AND(B961=$N$2,C961=$O$2),$P$2,IF(AND(B961=$N$2,C961=$O$3),$P$3,IF(AND(B961=$N$4,C961=$O$2),$P$4,IF(AND(B961=Data!A951,C961=$O$3),$P$5,0))))))","v":""}]
[null,null,null,null,null,null,{"$f":"IF(OR(D962=\"Excont\",D962=\"\"),\"\",IF(D962=\"URFU\",IF(AND(B962=$N$2,C962=$O$2),$P$2,IF(AND(B962=$N$2,C962=$O$3),$P$3,IF(AND(B962=$N$4,C962=$O$2),$P$4,IF(AND(B962=Data!A952,C962=$O$3),$P$5,0))))))","v":""}]
[null,null,null,null,null,null,{"$f":"IF(OR(D963=\"Excont\",D963=\"\"),\"\",IF(D963=\"URFU\",IF(AND(B963=$N$2,C963=$O$2),$P$2,IF(AND(B963=$N$2,C963=$O$3),$P$3,IF(AND(B963=$N$4,C963=$O$2),$P$4,IF(AND(B963=Data!A953,C963=$O$3),$P$5,0))))))","v":""}]
[null,null,null,null,null,null,{"$f":"IF(OR(D964=\"Excont\",D964=\"\"),\"\",IF(D964=\"URFU\",IF(AND(B964=$N$2,C964=$O$2),$P$2,IF(AND(B964=$N$2,C964=$O$3),$P$3,IF(AND(B964=$N$4,C964=$O$2),$P$4,IF(AND(B964=Data!A954,C964=$O$3),$P$5,0))))))","v":""}]
[null,null,null,null,null,null,{"$f":"IF(OR(D965=\"Excont\",D965=\"\"),\"\",IF(D965=\"URFU\",IF(AND(B965=$N$2,C965=$O$2),$P$2,IF(AND(B965=$N$2,C965=$O$3),$P$3,IF(AND(B965=$N$4,C965=$O$2),$P$4,IF(AND(B965=Data!A955,C965=$O$3),$P$5,0))))))","v":""}]
[null,null,null,null,null,null,{"$f":"IF(OR(D966=\"Excont\",D966=\"\"),\"\",IF(D966=\"URFU\",IF(AND(B966=$N$2,C966=$O$2),$P$2,IF(AND(B966=$N$2,C966=$O$3),$P$3,IF(AND(B966=$N$4,C966=$O$2),$P$4,IF(AND(B966=Data!A956,C966=$O$3),$P$5,0))))))","v":""}]
[null,null,null,null,null,null,{"$f":"IF(OR(D967=\"Excont\",D967=\"\"),\"\",IF(D967=\"URFU\",IF(AND(B967=$N$2,C967=$O$2),$P$2,IF(AND(B967=$N$2,C967=$O$3),$P$3,IF(AND(B967=$N$4,C967=$O$2),$P$4,IF(AND(B967=Data!A957,C967=$O$3),$P$5,0))))))","v":""}]
[null,null,null,null,null,null,{"$f":"IF(OR(D968=\"Excont\",D968=\"\"),\"\",IF(D968=\"URFU\",IF(AND(B968=$N$2,C968=$O$2),$P$2,IF(AND(B968=$N$2,C968=$O$3),$P$3,IF(AND(B968=$N$4,C968=$O$2),$P$4,IF(AND(B968=Data!A958,C968=$O$3),$P$5,0))))))","v":""}]
[null,null,null,null,null,null,{"$f":"IF(OR(D969=\"Excont\",D969=\"\"),\"\",IF(D969=\"URFU\",IF(AND(B969=$N$2,C969=$O$2),$P$2,IF(AND(B969=$N$2,C969=$O$3),$P$3,IF(AND(B969=$N$4,C969=$O$2),$P$4,IF(AND(B969=Data!A959,C969=$O$3),$P$5,0))))))","v":""}]
[null,null,null,null,null,null,{"$f":"IF(OR(D970=\"Excont\",D970=\"\"),\"\",IF(D970=\"URFU\",IF(AND(B970=$N$2,C970=$O$2),$P$2,IF(AND(B970=$N$2,C970=$O$3),$P$3,IF(AND(B970=$N$4,C970=$O$2),$P$4,IF(AND(B970=Data!A960,C970=$O$3),$P$5,0))))))","v":""}]
[null,null,null,null,null,null,{"$f":"IF(OR(D971=\"Excont\",D971=\"\"),\"\",IF(D971=\"URFU\",IF(AND(B971=$N$2,C971=$O$2),$P$2,IF(AND(B971=$N$2,C971=$O$3),$P$3,IF(AND(B971=$N$4,C971=$O$2),$P$4,IF(AND(B971=Data!A961,C971=$O$3),$P$5,0))))))","v":""}]
[null,null,null,null,null,null,{"$f":"IF(OR(D972=\"Excont\",D972=\"\"),\"\",IF(D972=\"URFU\",IF(AND(B972=$N$2,C972=$O$2),$P$2,IF(AND(B972=$N$2,C972=$O$3),$P$3,IF(AND(B972=$N$4,C972=$O$2),$P$4,IF(AND(B972=Data!A962,C972=$O$3),$P$5,0))))))","v":""}]
[null,null,null,null,null,null,{"$f":"IF(OR(D973=\"Excont\",D973=\"\"),\"\",IF(D973=\"URFU\",IF(AND(B973=$N$2,C973=$O$2),$P$2,IF(AND(B973=$N$2,C973=$O$3),$P$3,IF(AND(B973=$N$4,C973=$O$2),$P$4,IF(AND(B973=Data!A963,C973=$O$3),$P$5,0))))))","v":""}]
[null,null,null,null,null,null,{"$f":"IF(OR(D974=\"Excont\",D974=\"\"),\"\",IF(D974=\"URFU\",IF(AND(B974=$N$2,C974=$O$2),$P$2,IF(AND(B974=$N$2,C974=$O$3),$P$3,IF(AND(B974=$N$4,C974=$O$2),$P$4,IF(AND(B974=Data!A964,C974=$O$3),$P$5,0))))))","v":""}]
[null,null,null,null,null,null,{"$f":"IF(OR(D975=\"Excont\",D975=\"\"),\"\",IF(D975=\"URFU\",IF(AND(B975=$N$2,C975=$O$2),$P$2,IF(AND(B975=$N$2,C975=$O$3),$P$3,IF(AND(B975=$N$4,C975=$O$2),$P$4,IF(AND(B975=Data!A965,C975=$O$3),$P$5,0))))))","v":""}]
[null,null,null,null,null,null,{"$f":"IF(OR(D976=\"Excont\",D976=\"\"),\"\",IF(D976=\"URFU\",IF(AND(B976=$N$2,C976=$O$2),$P$2,IF(AND(B976=$N$2,C976=$O$3),$P$3,IF(AND(B976=$N$4,C976=$O$2),$P$4,IF(AND(B976=Data!A966,C976=$O$3),$P$5,0))))))","v":""}]
[null,null,null,null,null,null,{"$f":"IF(OR(D977=\"Excont\",D977=\"\"),\"\",IF(D977=\"URFU\",IF(AND(B977=$N$2,C977=$O$2),$P$2,IF(AND(B977=$N$2,C977=$O$3),$P$3,IF(AND(B977=$N$4,C977=$O$2),$P$4,IF(AND(B977=Data!A967,C977=$O$3),$P$5,0))))))","v":""}]
[null,null,null,null,null,null,{"$f":"IF(OR(D978=\"Excont\",D978=\"\"),\"\",IF(D978=\"URFU\",IF(AND(B978=$N$2,C978=$O$2),$P$2,IF(AND(B978=$N$2,C978=$O$3),$P$3,IF(AND(B978=$N$4,C978=$O$2),$P$4,IF(AND(B978=Data!A968,C978=$O$3),$P$5,0))))))","v":""}]
[null,null,null,null,null,null,{"$f":"IF(OR(D979=\"Excont\",D979=\"\"),\"\",IF(D979=\"URFU\",IF(AND(B979=$N$2,C979=$O$2),$P$2,IF(AND(B979=$N$2,C979=$O$3),$P$3,IF(AND(B979=$N$4,C979=$O$2),$P$4,IF(AND(B979=Data!A969,C979=$O$3),$P$5,0))))))","v":""}]
[null,null,null,null,null,null,{"$f":"IF(OR(D980=\"Excont\",D980=\"\"),\"\",IF(D980=\"URFU\",IF(AND(B980=$N$2,C980=$O$2),$P$2,IF(AND(B980=$N$2,C980=$O$3),$P$3,IF(AND(B980=$N$4,C980=$O$2),$P$4,IF(AND(B980=Data!A970,C980=$O$3),$P$5,0))))))","v":""}]
[null,null,null,null,null,null,{"$f":"IF(OR(D981=\"Excont\",D981=\"\"),\"\",IF(D981=\"URFU\",IF(AND(B981=$N$2,C981=$O$2),$P$2,IF(AND(B981=$N$2,C981=$O$3),$P$3,IF(AND(B981=$N$4,C981=$O$2),$P$4,IF(AND(B981=Data!A971,C981=$O$3),$P$5,0))))))","v":""}]
[null,null,null,null,null,null,{"$f":"IF(OR(D982=\"Excont\",D982=\"\"),\"\",IF(D982=\"URFU\",IF(AND(B982=$N$2,C982=$O$2),$P$2,IF(AND(B982=$N$2,C982=$O$3),$P$3,IF(AND(B982=$N$4,C982=$O$2),$P$4,IF(AND(B982=Data!A972,C982=$O$3),$P$5,0))))))","v":""}]
[null,null,null,null,null,null,{"$f":"IF(OR(D983=\"Excont\",D983=\"\"),\"\",IF(D983=\"URFU\",IF(AND(B983=$N$2,C983=$O$2),$P$2,IF(AND(B983=$N$2,C983=$O$3),$P$3,IF(AND(B983=$N$4,C983=$O$2),$P$4,IF(AND(B983=Data!A973,C983=$O$3),$P$5,0))))))","v":""}]
[null,null,null,null,null,null,{"$f":"IF(OR(D984=\"Excont\",D984=\"\"),\"\",IF(D984=\"URFU\",IF(AND(B984=$N$2,C984=$O$2),$P$2,IF(AND(B984=$N$2,C984=$O$3),$P$3,IF(AND(B984=$N$4,C984=$O$2),$P$4,IF(AND(B984=Data!A974,C984=$O$3),$P$5,0))))))","v":""}]
[null,null,null,null,null,null,{"$f":"IF(OR(D985=\"Excont\",D985=\"\"),\"\",IF(D985=\"URFU\",IF(AND(B985=$N$2,C985=$O$2),$P$2,IF(AND(B985=$N$2,C985=$O$3),$P$3,IF(AND(B985=$N$4,C985=$O$2),$P$4,IF(AND(B985=Data!A975,C985=$O$3),$P$5,0))))))","v":""}]
[null,null,null,null,null,null,{"$f":"IF(OR(D986=\"Excont\",D986=\"\"),\"\",IF(D986=\"URFU\",IF(AND(B986=$N$2,C986=$O$2),$P$2,IF(AND(B986=$N$2,C986=$O$3),$P$3,IF(AND(B986=$N$4,C986=$O$2),$P$4,IF(AND(B986=Data!A976,C986=$O$3),$P$5,0))))))","v":""}]
[null,null,null,null,null,null,{"$f":"IF(OR(D987=\"Excont\",D987=\"\"),\"\",IF(D987=\"URFU\",IF(AND(B987=$N$2,C987=$O$2),$P$2,IF(AND(B987=$N$2,C987=$O$3),$P$3,IF(AND(B987=$N$4,C987=$O$2),$P$4,IF(AND(B987=Data!A977,C987=$O$3),$P$5,0))))))","v":""}]
[null,null,null,null,null,null,{"$f":"IF(OR(D988=\"Excont\",D988=\"\"),\"\",IF(D988=\"URFU\",IF(AND(B988=$N$2,C988=$O$2),$P$2,IF(AND(B988=$N$2,C988=$O$3),$P$3,IF(AND(B988=$N$4,C988=$O$2),$P$4,IF(AND(B988=Data!A978,C988=$O$3),$P$5,0))))))","v":""}]
[null,null,null,null,null,null,{"$f":"IF(OR(D989=\"Excont\",D989=\"\"),\"\",IF(D989=\"URFU\",IF(AND(B989=$N$2,C989=$O$2),$P$2,IF(AND(B989=$N$2,C989=$O$3),$P$3,IF(AND(B989=$N$4,C989=$O$2),$P$4,IF(AND(B989=Data!A979,C989=$O$3),$P$5,0))))))","v":""}]
[null,null,null,null,null,null,{"$f":"IF(OR(D990=\"Excont\",D990=\"\"),\"\",IF(D990=\"URFU\",IF(AND(B990=$N$2,C990=$O$2),$P$2,IF(AND(B990=$N$2,C990=$O$3),$P$3,IF(AND(B990=$N$4,C990=$O$2),$P$4,IF(AND(B990=Data!A980,C990=$O$3),$P$5,0))))))","v":""}]
[null,null,null,null,null,null,{"$f":"IF(OR(D991=\"Excont\",D991=\"\"),\"\",IF(D991=\"URFU\",IF(AND(B991=$N$2,C991=$O$2),$P$2,IF(AND(B991=$N$2,C991=$O$3),$P$3,IF(AND(B991=$N$4,C991=$O$2),$P$4,IF(AND(B991=Data!A981,C991=$O$3),$P$5,0))))))","v":""}]
[null,null,null,null,null,null,{"$f":"IF(OR(D992=\"Excont\",D992=\"\"),\"\",IF(D992=\"URFU\",IF(AND(B992=$N$2,C992=$O$2),$P$2,IF(AND(B992=$N$2,C992=$O$3),$P$3,IF(AND(B992=$N$4,C992=$O$2),$P$4,IF(AND(B992=Data!A982,C992=$O$3),$P$5,0))))))","v":""}]
[null,null,null,null,null,null,{"$f":"IF(OR(D993=\"Excont\",D993=\"\"),\"\",IF(D993=\"URFU\",IF(AND(B993=$N$2,C993=$O$2),$P$2,IF(AND(B993=$N$2,C993=$O$3),$P$3,IF(AND(B993=$N$4,C993=$O$2),$P$4,IF(AND(B993=Data!A983,C993=$O$3),$P$5,0))))))","v":""}]
[null,null,null,null,null,null,{"$f":"IF(OR(D994=\"Excont\",D994=\"\"),\"\",IF(D994=\"URFU\",IF(AND(B994=$N$2,C994=$O$2),$P$2,IF(AND(B994=$N$2,C994=$O$3),$P$3,IF(AND(B994=$N$4,C994=$O$2),$P$4,IF(AND(B994=Data!A984,C994=$O$3),$P$5,0))))))","v":""}]
[null,null,null,null,null,null,{"$f":"IF(OR(D995=\"Excont\",D995=\"\"),\"\",IF(D995=\"URFU\",IF(AND(B995=$N$2,C995=$O$2),$P$2,IF(AND(B995=$N$2,C995=$O$3),$P$3,IF(AND(B995=$N$4,C995=$O$2),$P$4,IF(AND(B995=Data!A985,C995=$O$3),$P$5,0))))))","v":""}]
[null,null,null,null,null,null,{"$f":"IF(OR(D996=\"Excont\",D996=\"\"),\"\",IF(D996=\"URFU\",IF(AND(B996=$N$2,C996=$O$2),$P$2,IF(AND(B996=$N$2,C996=$O$3),$P$3,IF(AND(B996=$N$4,C996=$O$2),$P$4,IF(AND(B996=Data!A986,C996=$O$3),$P$5,0))))))","v":""}]
[null,null,null,null,null,null,{"$f":"IF(OR(D997=\"Excont\",D997=\"\"),\"\",IF(D997=\"URFU\",IF(AND(B997=$N$2,C997=$O$2),$P$2,IF(AND(B997=$N$2,C997=$O$3),$P$3,IF(AND(B997=$N$4,C997=$O$2),$P$4,IF(AND(B997=Data!A987,C997=$O$3),$P$5,0))))))","v":""}]
[null,null,null,null,null,null,{"$f":"IF(OR(D998=\"Excont\",D998=\"\"),\"\",IF(D998=\"URFU\",IF(AND(B998=$N$2,C998=$O$2),$P$2,IF(AND(B998=$N$2,C998=$O$3),$P$3,IF(AND(B998=$N$4,C998=$O$2),$P$4,IF(AND(B998=Data!A988,C998=$O$3),$P$5,0))))))","v":""}]
[null,null,null,null,null,null,{"$f":"IF(OR(D999=\"Excont\",D999=\"\"),\"\",IF(D999=\"URFU\",IF(AND(B999=$N$2,C999=$O$2),$P$2,IF(AND(B999=$N$2,C999=$O$3),$P$3,IF(AND(B999=$N$4,C999=$O$2),$P$4,IF(AND(B999=Data!A989,C999=$O$3),$P$5,0))))))","v":""}]

{"sheet":"Saving Subcontract","index":4,"n_rows":1000,"n_cols":20,"rows_kept":1000,"cut":false,"hidden":false,"merged":[[0,13,0,15]]}
["Name of project","Type of transport","Forwarder","Destination city","Date","Saving","Cost of IP KONDRATYEV forwarder","Final saving",{"$f":"SUM(F:F)","v":28000},null,null,null,null,"IP KONDRATYEV",null,null,"%","5t","IP ASTAPENKO","BALASHIHA"]
["Kolsness","5t","IP ASTAPENKO","SERPUKHOV-BALASHIHA","2020-05-01",{"$f":"IFERROR(VLOOKUP(SUBSTITUTE(CONCATENATE(B2,\"_\",D2,\"_\",C2),\" - \",\"_\"),Список_Sub!A:B,2,0),\"\")","v":3000},{"$f":"IF(AND(C2<>\"IP KONDRATYEV\",C2<>\"\"),VLOOKUP(D2,$O$2:$P$13,2,0),\"\")","v":11000},"%  Reduction",{"$f":"I1/SUM(Data_Sub!B3:M3)","v":0.36842105263157893},null,null,null,null,"5t","SERPUKHOV-BALASHIHA",11000,null,null,"IP KONDRATYEV","NOGINSK"]
["Kolsness","5t","IP ASTAPENKO","SERPUKHOV-NOGINSK","2020-05-01",{"$f":"IFERROR(VLOOKUP(SUBSTITUTE(CONCATENATE(B3,\"_\",D3,\"_\",C3),\" - \",\"_\"),Список_Sub!A:B,2,0),\"\")","v":8000},{"$f":"IF(AND(C3<>\"IP KONDRATYEV\",C3<>\"\"),VLOOKUP(D3,$O$2:$P$13,2,0),\"\")","v":16000},null,null,null,null,null,null,"5t","SERPUKHOV-NOGINSK",16000,null,null,null,"PODOLSK"]
["M_STYCHEM","5t","IP ASTAPENKO","SERPUKHOV-BALASHIHA","2020-06-01",{"$f":"IFERROR(VLOOKUP(SUBSTITUTE(CONCATENATE(B4,\"_\",D4,\"_\",C4),\" - \",\"_\"),Список_Sub!A:B,2,0),\"\")","v":3000},11000,null,null,null,null,null,null,"5t","SERPUKHOV-PODOLSK",9000,null,null,null,"SOLNECHNOGORSK"]
["BORSOTDI-11","5t","IP ASTAPENKO","BALASHIHA-SERPUKHOV","2020-06-01",{"$f":"IFERROR(VLOOKUP(SUBSTITUTE(CONCATENATE(B5,\"_\",D5,\"_\",C5),\" - \",\"_\"),Список_Sub!A:B,2,0),\"\")","v":3000},11000,null,null,null,null,null,null,"5t","SERPUKHOV-SOLNECHNOGORSK",16000]
["Kolsness","5t","IP ASTAPENKO","NOGINSK-SERPUKHOV","2020-07-01",{"$f":"IFERROR(VLOOKUP(SUBSTITUTE(CONCATENATE(B6,\"_\",D6,\"_\",C6),\" - \",\"_\"),Список_Sub!A:B,2,0),\"\")","v":8000},16000,null,null,null,null,null,null,"5t","BALASHIHA-SERPUKHOV",11000]
[null,"5t","IP KONDRATYEV","SERPUKHOV-PODOLSK","2020-02-01",{"$f":"IFERROR(VLOOKUP(SUBSTITUTE(CONCATENATE(B7,\"_\",D7,\"_\",C7),\" - \",\"_\"),Список_Sub!A:B,2,0),\"\")","v":0},"",null,null,null,null,null,null,"5t","NOGINSK-SERPUKHOV",16000]
[null,"5t","IP KONDRATYEV","PODOLSK-SERPUKHOV","2020-02-01",{"$f":"IFERROR(VLOOKUP(SUBSTITUTE(CONCATENATE(B8,\"_\",D8,\"_\",C8),\" - \",\"_\"),Список_Sub!A:B,2,0),\"\")","v":0},"",null,null,null,null,null,null,"5t","PODOLSK-SERPUKHOV",9000]
[null,"5t","IP KONDRATYEV","BALASHIHA-SERPUKHOV","2020-04-01",{"$f":"IFERROR(VLOOKUP(SUBSTITUTE(CONCATENATE(B9,\"_\",D9,\"_\",C9),\" - \",\"_\"),Список_Sub!A:B,2,0),\"\")","v":0},"",null,null,null,null,null,null,"5t","SOLNECHNOGORSK-SERPUKHOV",16000]
[null,"5t","IP KONDRATYEV","SERPUKHOV-BALASHIHA","2020-05-01",{"$f":"IFERROR(VLOOKUP(SUBSTITUTE(CONCATENATE(B10,\"_\",D10,\"_\",C10),\" - \",\"_\"),Список_Sub!A:B,2,0),\"\")","v":0},"",null,null,null,null,null,null,"5t","SERPUKHOV-BALASHIHA-SERPUKHOV",19000]
[null,"5t","IP KONDRATYEV","BALASHIHA-SERPUKHOV","2020-06-01",{"$f":"IFERROR(VLOOKUP(SUBSTITUTE(CONCATENATE(B11,\"_\",D11,\"_\",C11),\" - \",\"_\"),Список_Sub!A:B,2,0),\"\")","v":0},"",null,null,null,null,null,null,"5t","SERPUKHOV-NOGINSK-SERPUKHOV",22000]
[null,"5t","IP KONDRATYEV","SERPUKHOV-BALASHIHA","2020-06-01",{"$f":"IFERROR(VLOOKUP(SUBSTITUTE(CONCATENATE(B12,\"_\",D12,\"_\",C12),\" - \",\"_\"),Список_Sub!A:B,2,0),\"\")","v":0},"",null,null,null,null,null,null,"5t","SERPUKHOV-PODOLSK-SERPUKHOV",15000]
[null,"5t","IP KONDRATYEV","SERPUKHOV-PODOLSK","2020-08-01",{"$f":"IFERROR(VLOOKUP(SUBSTITUTE(CONCATENATE(B13,\"_\",D13,\"_\",C13),\" - \",\"_\"),Список_Sub!A:B,2,0),\"\")","v":0},"",null,null,null,null,null,null,"5t","SERPUKHOV-SOLNECHNOGORSK-SERPUKHOV",22000]
["SOLVAMON-5","5t","IP ASTAPENKO","SERPUKHOV-BALASHIHA","2020-09-01",{"$f":"IFERROR(VLOOKUP(SUBSTITUTE(CONCATENATE(B14,\"_\",D14,\"_\",C14),\" - \",\"_\"),Список_Sub!A:B,2,0),\"\")","v":3000},11000]
[null,null,null,null,null,{"$f":"IFERROR(VLOOKUP(SUBSTITUTE(CONCATENATE(B15,\"_\",D15,\"_\",C15),\" - \",\"_\"),Список_Sub!A:B,2,0),\"\")","v":""},""]
[null,null,null,null,null,{"$f":"IFERROR(VLOOKUP(SUBSTITUTE(CONCATENATE(B16,\"_\",D16,\"_\",C16),\" - \",\"_\"),Список_Sub!A:B,2,0),\"\")","v":""},""]
[null,null,null,null,null,{"$f":"IFERROR(VLOOKUP(SUBSTITUTE(CONCATENATE(B17,\"_\",D17,\"_\",C17),\" - \",\"_\"),Список_Sub!A:B,2,0),\"\")","v":""},""]
[null,null,null,null,null,{"$f":"IFERROR(VLOOKUP(SUBSTITUTE(CONCATENATE(B18,\"_\",D18,\"_\",C18),\" - \",\"_\"),Список_Sub!A:B,2,0),\"\")","v":""},""]
[null,null,null,null,null,{"$f":"IFERROR(VLOOKUP(SUBSTITUTE(CONCATENATE(B19,\"_\",D19,\"_\",C19),\" - \",\"_\"),Список_Sub!A:B,2,0),\"\")","v":""},{"$f":"IF(AND(C19<>\"IP KONDRATYEV\",C19<>\"\"),VLOOKUP(D19,$O$2:$P$13,2,0),\"\")","v":""}]
[null,null,null,null,null,{"$f":"IFERROR(VLOOKUP(SUBSTITUTE(CONCATENATE(B20,\"_\",D20,\"_\",C20),\" - \",\"_\"),Список_Sub!A:B,2,0),\"\")","v":""},""]
[null,null,null,null,null,{"$f":"IFERROR(VLOOKUP(SUBSTITUTE(CONCATENATE(B21,\"_\",D21,\"_\",C21),\" - \",\"_\"),Список_Sub!A:B,2,0),\"\")","v":""},""]
[null,null,null,null,null,{"$f":"IFERROR(VLOOKUP(SUBSTITUTE(CONCATENATE(B22,\"_\",D22,\"_\",C22),\" - \",\"_\"),Список_Sub!A:B,2,0),\"\")","v":""},""]
[null,null,null,null,null,{"$f":"IFERROR(VLOOKUP(SUBSTITUTE(CONCATENATE(B23,\"_\",D23,\"_\",C23),\" - \",\"_\"),Список_Sub!A:B,2,0),\"\")","v":""},""]
[null,null,null,null,null,{"$f":"IFERROR(VLOOKUP(SUBSTITUTE(CONCATENATE(B24,\"_\",D24,\"_\",C24),\" - \",\"_\"),Список_Sub!A:B,2,0),\"\")","v":""},""]
[null,null,null,null,null,{"$f":"IFERROR(VLOOKUP(SUBSTITUTE(CONCATENATE(B25,\"_\",D25,\"_\",C25),\" - \",\"_\"),Список_Sub!A:B,2,0),\"\")","v":""},""]
[null,null,null,null,null,{"$f":"IFERROR(VLOOKUP(SUBSTITUTE(CONCATENATE(B26,\"_\",D26,\"_\",C26),\" - \",\"_\"),Список_Sub!A:B,2,0),\"\")","v":""},""]
[null,null,null,null,null,{"$f":"IFERROR(VLOOKUP(SUBSTITUTE(CONCATENATE(B27,\"_\",D27,\"_\",C27),\" - \",\"_\"),Список_Sub!A:B,2,0),\"\")","v":""},""]
[null,null,null,null,null,{"$f":"IFERROR(VLOOKUP(SUBSTITUTE(CONCATENATE(B28,\"_\",D28,\"_\",C28),\" - \",\"_\"),Список_Sub!A:B,2,0),\"\")","v":""},""]
[null,null,null,null,null,{"$f":"IFERROR(VLOOKUP(SUBSTITUTE(CONCATENATE(B29,\"_\",D29,\"_\",C29),\" - \",\"_\"),Список_Sub!A:B,2,0),\"\")","v":""},""]
[null,null,null,null,null,{"$f":"IFERROR(VLOOKUP(SUBSTITUTE(CONCATENATE(B30,\"_\",D30,\"_\",C30),\" - \",\"_\"),Список_Sub!A:B,2,0),\"\")","v":""},""]
[null,null,null,null,null,{"$f":"IFERROR(VLOOKUP(SUBSTITUTE(CONCATENATE(B31,\"_\",D31,\"_\",C31),\" - \",\"_\"),Список_Sub!A:B,2,0),\"\")","v":""},""]
[null,null,null,null,null,{"$f":"IFERROR(VLOOKUP(SUBSTITUTE(CONCATENATE(B32,\"_\",D32,\"_\",C32),\" - \",\"_\"),Список_Sub!A:B,2,0),\"\")","v":""},""]
[null,null,null,null,null,{"$f":"IFERROR(VLOOKUP(SUBSTITUTE(CONCATENATE(B33,\"_\",D33,\"_\",C33),\" - \",\"_\"),Список_Sub!A:B,2,0),\"\")","v":""},""]
[null,null,null,null,null,{"$f":"IFERROR(VLOOKUP(SUBSTITUTE(CONCATENATE(B34,\"_\",D34,\"_\",C34),\" - \",\"_\"),Список_Sub!A:B,2,0),\"\")","v":""},""]
[null,null,null,null,null,{"$f":"IFERROR(VLOOKUP(SUBSTITUTE(CONCATENATE(B35,\"_\",D35,\"_\",C35),\" - \",\"_\"),Список_Sub!A:B,2,0),\"\")","v":""},""]
[null,null,null,null,null,{"$f":"IFERROR(VLOOKUP(SUBSTITUTE(CONCATENATE(B36,\"_\",D36,\"_\",C36),\" - \",\"_\"),Список_Sub!A:B,2,0),\"\")","v":""},""]
[null,null,null,null,null,{"$f":"IFERROR(VLOOKUP(SUBSTITUTE(CONCATENATE(B37,\"_\",D37,\"_\",C37),\" - \",\"_\"),Список_Sub!A:B,2,0),\"\")","v":""},""]
[null,null,null,null,null,{"$f":"IFERROR(VLOOKUP(SUBSTITUTE(CONCATENATE(B38,\"_\",D38,\"_\",C38),\" - \",\"_\"),Список_Sub!A:B,2,0),\"\")","v":""},""]
[null,null,null,null,null,{"$f":"IFERROR(VLOOKUP(SUBSTITUTE(CONCATENATE(B39,\"_\",D39,\"_\",C39),\" - \",\"_\"),Список_Sub!A:B,2,0),\"\")","v":""},""]
[null,null,null,null,null,{"$f":"IFERROR(VLOOKUP(SUBSTITUTE(CONCATENATE(B40,\"_\",D40,\"_\",C40),\" - \",\"_\"),Список_Sub!A:B,2,0),\"\")","v":""},""]
[null,null,null,null,null,{"$f":"IFERROR(VLOOKUP(SUBSTITUTE(CONCATENATE(B41,\"_\",D41,\"_\",C41),\" - \",\"_\"),Список_Sub!A:B,2,0),\"\")","v":""},""]
[null,null,null,null,null,{"$f":"IFERROR(VLOOKUP(SUBSTITUTE(CONCATENATE(B42,\"_\",D42,\"_\",C42),\" - \",\"_\"),Список_Sub!A:B,2,0),\"\")","v":""},""]
[null,null,null,null,null,{"$f":"IFERROR(VLOOKUP(SUBSTITUTE(CONCATENATE(B43,\"_\",D43,\"_\",C43),\" - \",\"_\"),Список_Sub!A:B,2,0),\"\")","v":""},""]
[null,null,null,null,null,{"$f":"IFERROR(VLOOKUP(SUBSTITUTE(CONCATENATE(B44,\"_\",D44,\"_\",C44),\" - \",\"_\"),Список_Sub!A:B,2,0),\"\")","v":""},""]
[null,null,null,null,null,{"$f":"IFERROR(VLOOKUP(SUBSTITUTE(CONCATENATE(B45,\"_\",D45,\"_\",C45),\" - \",\"_\"),Список_Sub!A:B,2,0),\"\")","v":""},""]
[null,null,null,null,null,{"$f":"IFERROR(VLOOKUP(SUBSTITUTE(CONCATENATE(B46,\"_\",D46,\"_\",C46),\" - \",\"_\"),Список_Sub!A:B,2,0),\"\")","v":""},""]
[null,null,null,null,null,{"$f":"IFERROR(VLOOKUP(SUBSTITUTE(CONCATENATE(B47,\"_\",D47,\"_\",C47),\" - \",\"_\"),Список_Sub!A:B,2,0),\"\")","v":""},""]
[null,null,null,null,null,{"$f":"IFERROR(VLOOKUP(SUBSTITUTE(CONCATENATE(B48,\"_\",D48,\"_\",C48),\" - \",\"_\"),Список_Sub!A:B,2,0),\"\")","v":""},""]
[null,null,null,null,null,{"$f":"IFERROR(VLOOKUP(SUBSTITUTE(CONCATENATE(B49,\"_\",D49,\"_\",C49),\" - \",\"_\"),Список_Sub!A:B,2,0),\"\")","v":""},""]
[null,null,null,null,null,{"$f":"IFERROR(VLOOKUP(SUBSTITUTE(CONCATENATE(B50,\"_\",D50,\"_\",C50),\" - \",\"_\"),Список_Sub!A:B,2,0),\"\")","v":""},""]
[null,null,null,null,null,{"$f":"IFERROR(VLOOKUP(SUBSTITUTE(CONCATENATE(B51,\"_\",D51,\"_\",C51),\" - \",\"_\"),Список_Sub!A:B,2,0),\"\")","v":""},""]
[null,null,null,null,null,{"$f":"IFERROR(VLOOKUP(SUBSTITUTE(CONCATENATE(B52,\"_\",D52,\"_\",C52),\" - \",\"_\"),Список_Sub!A:B,2,0),\"\")","v":""},""]
[null,null,null,null,null,{"$f":"IFERROR(VLOOKUP(SUBSTITUTE(CONCATENATE(B53,\"_\",D53,\"_\",C53),\" - \",\"_\"),Список_Sub!A:B,2,0),\"\")","v":""},""]
[null,null,null,null,null,{"$f":"IFERROR(VLOOKUP(SUBSTITUTE(CONCATENATE(B54,\"_\",D54,\"_\",C54),\" - \",\"_\"),Список_Sub!A:B,2,0),\"\")","v":""},""]
[null,null,null,null,null,{"$f":"IFERROR(VLOOKUP(SUBSTITUTE(CONCATENATE(B55,\"_\",D55,\"_\",C55),\" - \",\"_\"),Список_Sub!A:B,2,0),\"\")","v":""},""]
[null,null,null,null,null,{"$f":"IFERROR(VLOOKUP(SUBSTITUTE(CONCATENATE(B56,\"_\",D56,\"_\",C56),\" - \",\"_\"),Список_Sub!A:B,2,0),\"\")","v":""},""]
[null,null,null,null,null,{"$f":"IFERROR(VLOOKUP(SUBSTITUTE(CONCATENATE(B57,\"_\",D57,\"_\",C57),\" - \",\"_\"),Список_Sub!A:B,2,0),\"\")","v":""},""]
[null,null,null,null,null,{"$f":"IFERROR(VLOOKUP(SUBSTITUTE(CONCATENATE(B58,\"_\",D58,\"_\",C58),\" - \",\"_\"),Список_Sub!A:B,2,0),\"\")","v":""},""]
[null,null,null,null,null,{"$f":"IFERROR(VLOOKUP(SUBSTITUTE(CONCATENATE(B59,\"_\",D59,\"_\",C59),\" - \",\"_\"),Список_Sub!A:B,2,0),\"\")","v":""},""]
[null,null,null,null,null,{"$f":"IFERROR(VLOOKUP(SUBSTITUTE(CONCATENATE(B60,\"_\",D60,\"_\",C60),\" - \",\"_\"),Список_Sub!A:B,2,0),\"\")","v":""},""]
[null,null,null,null,null,{"$f":"IFERROR(VLOOKUP(SUBSTITUTE(CONCATENATE(B61,\"_\",D61,\"_\",C61),\" - \",\"_\"),Список_Sub!A:B,2,0),\"\")","v":""},""]
[null,null,null,null,null,{"$f":"IFERROR(VLOOKUP(SUBSTITUTE(CONCATENATE(B62,\"_\",D62,\"_\",C62),\" - \",\"_\"),Список_Sub!A:B,2,0),\"\")","v":""},""]
[null,null,null,null,null,{"$f":"IFERROR(VLOOKUP(SUBSTITUTE(CONCATENATE(B63,\"_\",D63,\"_\",C63),\" - \",\"_\"),Список_Sub!A:B,2,0),\"\")","v":""},""]
[null,null,null,null,null,{"$f":"IFERROR(VLOOKUP(SUBSTITUTE(CONCATENATE(B64,\"_\",D64,\"_\",C64),\" - \",\"_\"),Список_Sub!A:B,2,0),\"\")","v":""},""]
[null,null,null,null,null,{"$f":"IFERROR(VLOOKUP(SUBSTITUTE(CONCATENATE(B65,\"_\",D65,\"_\",C65),\" - \",\"_\"),Список_Sub!A:B,2,0),\"\")","v":""},""]
[null,null,null,null,null,{"$f":"IFERROR(VLOOKUP(SUBSTITUTE(CONCATENATE(B66,\"_\",D66,\"_\",C66),\" - \",\"_\"),Список_Sub!A:B,2,0),\"\")","v":""},""]
[null,null,null,null,null,{"$f":"IFERROR(VLOOKUP(SUBSTITUTE(CONCATENATE(B67,\"_\",D67,\"_\",C67),\" - \",\"_\"),Список_Sub!A:B,2,0),\"\")","v":""},{"$f":"IF(AND(C67<>\"IP KONDRATYEV\",C67<>\"\"),VLOOKUP(D67,$O$2:$P$13,2,0),\"\")","v":""}]
[null,null,null,null,null,{"$f":"IFERROR(VLOOKUP(SUBSTITUTE(CONCATENATE(B68,\"_\",D68,\"_\",C68),\" - \",\"_\"),Список_Sub!A:B,2,0),\"\")","v":""},""]
[null,null,null,null,null,{"$f":"IFERROR(VLOOKUP(SUBSTITUTE(CONCATENATE(B69,\"_\",D69,\"_\",C69),\" - \",\"_\"),Список_Sub!A:B,2,0),\"\")","v":""},""]
[null,null,null,null,null,{"$f":"IFERROR(VLOOKUP(SUBSTITUTE(CONCATENATE(B70,\"_\",D70,\"_\",C70),\" - \",\"_\"),Список_Sub!A:B,2,0),\"\")","v":""},""]
[null,null,null,null,null,{"$f":"IFERROR(VLOOKUP(SUBSTITUTE(CONCATENATE(B71,\"_\",D71,\"_\",C71),\" - \",\"_\"),Список_Sub!A:B,2,0),\"\")","v":""},""]
[null,null,null,null,null,{"$f":"IFERROR(VLOOKUP(SUBSTITUTE(CONCATENATE(B72,\"_\",D72,\"_\",C72),\" - \",\"_\"),Список_Sub!A:B,2,0),\"\")","v":""},""]
[null,null,null,null,null,{"$f":"IFERROR(VLOOKUP(SUBSTITUTE(CONCATENATE(B73,\"_\",D73,\"_\",C73),\" - \",\"_\"),Список_Sub!A:B,2,0),\"\")","v":""},""]
[null,null,null,null,null,{"$f":"IFERROR(VLOOKUP(SUBSTITUTE(CONCATENATE(B74,\"_\",D74,\"_\",C74),\" - \",\"_\"),Список_Sub!A:B,2,0),\"\")","v":""},""]
[null,null,null,null,null,{"$f":"IFERROR(VLOOKUP(SUBSTITUTE(CONCATENATE(B75,\"_\",D75,\"_\",C75),\" - \",\"_\"),Список_Sub!A:B,2,0),\"\")","v":""},""]
[null,null,null,null,null,{"$f":"IFERROR(VLOOKUP(SUBSTITUTE(CONCATENATE(B76,\"_\",D76,\"_\",C76),\" - \",\"_\"),Список_Sub!A:B,2,0),\"\")","v":""},""]
[null,null,null,null,null,{"$f":"IFERROR(VLOOKUP(SUBSTITUTE(CONCATENATE(B77,\"_\",D77,\"_\",C77),\" - \",\"_\"),Список_Sub!A:B,2,0),\"\")","v":""},""]
[null,null,null,null,null,{"$f":"IFERROR(VLOOKUP(SUBSTITUTE(CONCATENATE(B78,\"_\",D78,\"_\",C78),\" - \",\"_\"),Список_Sub!A:B,2,0),\"\")","v":""},""]
[null,null,null,null,null,{"$f":"IFERROR(VLOOKUP(SUBSTITUTE(CONCATENATE(B79,\"_\",D79,\"_\",C79),\" - \",\"_\"),Список_Sub!A:B,2,0),\"\")","v":""},""]
[null,null,null,null,null,{"$f":"IFERROR(VLOOKUP(SUBSTITUTE(CONCATENATE(B80,\"_\",D80,\"_\",C80),\" - \",\"_\"),Список_Sub!A:B,2,0),\"\")","v":""},""]
[null,null,null,null,null,{"$f":"IFERROR(VLOOKUP(SUBSTITUTE(CONCATENATE(B81,\"_\",D81,\"_\",C81),\" - \",\"_\"),Список_Sub!A:B,2,0),\"\")","v":""},""]
[null,null,null,null,null,{"$f":"IFERROR(VLOOKUP(SUBSTITUTE(CONCATENATE(B82,\"_\",D82,\"_\",C82),\" - \",\"_\"),Список_Sub!A:B,2,0),\"\")","v":""},""]
[null,null,null,null,null,{"$f":"IFERROR(VLOOKUP(SUBSTITUTE(CONCATENATE(B83,\"_\",D83,\"_\",C83),\" - \",\"_\"),Список_Sub!A:B,2,0),\"\")","v":""},""]
[null,null,null,null,null,{"$f":"IFERROR(VLOOKUP(SUBSTITUTE(CONCATENATE(B84,\"_\",D84,\"_\",C84),\" - \",\"_\"),Список_Sub!A:B,2,0),\"\")","v":""},""]
[null,null,null,null,null,{"$f":"IFERROR(VLOOKUP(SUBSTITUTE(CONCATENATE(B85,\"_\",D85,\"_\",C85),\" - \",\"_\"),Список_Sub!A:B,2,0),\"\")","v":""},""]
[null,null,null,null,null,{"$f":"IFERROR(VLOOKUP(SUBSTITUTE(CONCATENATE(B86,\"_\",D86,\"_\",C86),\" - \",\"_\"),Список_Sub!A:B,2,0),\"\")","v":""},""]
[null,null,null,null,null,{"$f":"IFERROR(VLOOKUP(SUBSTITUTE(CONCATENATE(B87,\"_\",D87,\"_\",C87),\" - \",\"_\"),Список_Sub!A:B,2,0),\"\")","v":""},""]
[null,null,null,null,null,{"$f":"IFERROR(VLOOKUP(SUBSTITUTE(CONCATENATE(B88,\"_\",D88,\"_\",C88),\" - \",\"_\"),Список_Sub!A:B,2,0),\"\")","v":""},""]
[null,null,null,null,null,{"$f":"IFERROR(VLOOKUP(SUBSTITUTE(CONCATENATE(B89,\"_\",D89,\"_\",C89),\" - \",\"_\"),Список_Sub!A:B,2,0),\"\")","v":""},""]
[null,null,null,null,null,{"$f":"IFERROR(VLOOKUP(SUBSTITUTE(CONCATENATE(B90,\"_\",D90,\"_\",C90),\" - \",\"_\"),Список_Sub!A:B,2,0),\"\")","v":""},""]
[null,null,null,null,null,{"$f":"IFERROR(VLOOKUP(SUBSTITUTE(CONCATENATE(B91,\"_\",D91,\"_\",C91),\" - \",\"_\"),Список_Sub!A:B,2,0),\"\")","v":""},""]
[null,null,null,null,null,{"$f":"IFERROR(VLOOKUP(SUBSTITUTE(CONCATENATE(B92,\"_\",D92,\"_\",C92),\" - \",\"_\"),Список_Sub!A:B,2,0),\"\")","v":""},""]
[null,null,null,null,null,{"$f":"IFERROR(VLOOKUP(SUBSTITUTE(CONCATENATE(B93,\"_\",D93,\"_\",C93),\" - \",\"_\"),Список_Sub!A:B,2,0),\"\")","v":""},""]
[null,null,null,null,null,{"$f":"IFERROR(VLOOKUP(SUBSTITUTE(CONCATENATE(B94,\"_\",D94,\"_\",C94),\" - \",\"_\"),Список_Sub!A:B,2,0),\"\")","v":""},""]
[null,null,null,null,null,{"$f":"IFERROR(VLOOKUP(SUBSTITUTE(CONCATENATE(B95,\"_\",D95,\"_\",C95),\" - \",\"_\"),Список_Sub!A:B,2,0),\"\")","v":""},""]
[null,null,null,null,null,{"$f":"IFERROR(VLOOKUP(SUBSTITUTE(CONCATENATE(B96,\"_\",D96,\"_\",C96),\" - \",\"_\"),Список_Sub!A:B,2,0),\"\")","v":""},""]
[null,null,null,null,null,{"$f":"IFERROR(VLOOKUP(SUBSTITUTE(CONCATENATE(B97,\"_\",D97,\"_\",C97),\" - \",\"_\"),Список_Sub!A:B,2,0),\"\")","v":""},""]
[null,null,null,null,null,{"$f":"IFERROR(VLOOKUP(SUBSTITUTE(CONCATENATE(B98,\"_\",D98,\"_\",C98),\" - \",\"_\"),Список_Sub!A:B,2,0),\"\")","v":""},""]
[null,null,null,null,null,{"$f":"IFERROR(VLOOKUP(SUBSTITUTE(CONCATENATE(B99,\"_\",D99,\"_\",C99),\" - \",\"_\"),Список_Sub!A:B,2,0),\"\")","v":""},""]
[null,null,null,null,null,{"$f":"IFERROR(VLOOKUP(SUBSTITUTE(CONCATENATE(B100,\"_\",D100,\"_\",C100),\" - \",\"_\"),Список_Sub!A:B,2,0),\"\")","v":""},""]
[null,null,null,null,null,{"$f":"IFERROR(VLOOKUP(SUBSTITUTE(CONCATENATE(B101,\"_\",D101,\"_\",C101),\" - \",\"_\"),Список_Sub!A:B,2,0),\"\")","v":""},""]
[null,null,null,null,null,{"$f":"IFERROR(VLOOKUP(SUBSTITUTE(CONCATENATE(B102,\"_\",D102,\"_\",C102),\" - \",\"_\"),Список_Sub!A:B,2,0),\"\")","v":""},""]
[null,null,null,null,null,{"$f":"IFERROR(VLOOKUP(SUBSTITUTE(CONCATENATE(B103,\"_\",D103,\"_\",C103),\" - \",\"_\"),Список_Sub!A:B,2,0),\"\")","v":""},""]
[null,null,null,null,null,{"$f":"IFERROR(VLOOKUP(SUBSTITUTE(CONCATENATE(B104,\"_\",D104,\"_\",C104),\" - \",\"_\"),Список_Sub!A:B,2,0),\"\")","v":""},""]
[null,null,null,null,null,{"$f":"IFERROR(VLOOKUP(SUBSTITUTE(CONCATENATE(B105,\"_\",D105,\"_\",C105),\" - \",\"_\"),Список_Sub!A:B,2,0),\"\")","v":""},""]
[null,null,null,null,null,{"$f":"IFERROR(VLOOKUP(SUBSTITUTE(CONCATENATE(B106,\"_\",D106,\"_\",C106),\" - \",\"_\"),Список_Sub!A:B,2,0),\"\")","v":""},""]
[null,null,null,null,null,{"$f":"IFERROR(VLOOKUP(SUBSTITUTE(CONCATENATE(B107,\"_\",D107,\"_\",C107),\" - \",\"_\"),Список_Sub!A:B,2,0),\"\")","v":""},""]
[null,null,null,null,null,{"$f":"IFERROR(VLOOKUP(SUBSTITUTE(CONCATENATE(B108,\"_\",D108,\"_\",C108),\" - \",\"_\"),Список_Sub!A:B,2,0),\"\")","v":""},""]
[null,null,null,null,null,{"$f":"IFERROR(VLOOKUP(SUBSTITUTE(CONCATENATE(B109,\"_\",D109,\"_\",C109),\" - \",\"_\"),Список_Sub!A:B,2,0),\"\")","v":""},""]
[null,null,null,null,null,{"$f":"IFERROR(VLOOKUP(SUBSTITUTE(CONCATENATE(B110,\"_\",D110,\"_\",C110),\" - \",\"_\"),Список_Sub!A:B,2,0),\"\")","v":""},""]
[null,null,null,null,null,{"$f":"IFERROR(VLOOKUP(SUBSTITUTE(CONCATENATE(B111,\"_\",D111,\"_\",C111),\" - \",\"_\"),Список_Sub!A:B,2,0),\"\")","v":""},""]
[null,null,null,null,null,{"$f":"IFERROR(VLOOKUP(SUBSTITUTE(CONCATENATE(B112,\"_\",D112,\"_\",C112),\" - \",\"_\"),Список_Sub!A:B,2,0),\"\")","v":""},""]
[null,null,null,null,null,{"$f":"IFERROR(VLOOKUP(SUBSTITUTE(CONCATENATE(B113,\"_\",D113,\"_\",C113),\" - \",\"_\"),Список_Sub!A:B,2,0),\"\")","v":""},""]
[null,null,null,null,null,{"$f":"IFERROR(VLOOKUP(SUBSTITUTE(CONCATENATE(B114,\"_\",D114,\"_\",C114),\" - \",\"_\"),Список_Sub!A:B,2,0),\"\")","v":""},""]
[null,null,null,null,null,{"$f":"IFERROR(VLOOKUP(SUBSTITUTE(CONCATENATE(B115,\"_\",D115,\"_\",C115),\" - \",\"_\"),Список_Sub!A:B,2,0),\"\")","v":""},""]
[null,null,null,null,null,{"$f":"IFERROR(VLOOKUP(SUBSTITUTE(CONCATENATE(B116,\"_\",D116,\"_\",C116),\" - \",\"_\"),Список_Sub!A:B,2,0),\"\")","v":""},""]
[null,null,null,null,null,{"$f":"IFERROR(VLOOKUP(SUBSTITUTE(CONCATENATE(B117,\"_\",D117,\"_\",C117),\" - \",\"_\"),Список_Sub!A:B,2,0),\"\")","v":""},""]
[null,null,null,null,null,{"$f":"IFERROR(VLOOKUP(SUBSTITUTE(CONCATENATE(B118,\"_\",D118,\"_\",C118),\" - \",\"_\"),Список_Sub!A:B,2,0),\"\")","v":""},""]
[null,null,null,null,null,{"$f":"IFERROR(VLOOKUP(SUBSTITUTE(CONCATENATE(B119,\"_\",D119,\"_\",C119),\" - \",\"_\"),Список_Sub!A:B,2,0),\"\")","v":""},""]
[null,null,null,null,null,{"$f":"IFERROR(VLOOKUP(SUBSTITUTE(CONCATENATE(B120,\"_\",D120,\"_\",C120),\" - \",\"_\"),Список_Sub!A:B,2,0),\"\")","v":""},""]
[null,null,null,null,null,{"$f":"IFERROR(VLOOKUP(SUBSTITUTE(CONCATENATE(B121,\"_\",D121,\"_\",C121),\" - \",\"_\"),Список_Sub!A:B,2,0),\"\")","v":""},""]
[null,null,null,null,null,{"$f":"IFERROR(VLOOKUP(SUBSTITUTE(CONCATENATE(B122,\"_\",D122,\"_\",C122),\" - \",\"_\"),Список_Sub!A:B,2,0),\"\")","v":""},""]
[null,null,null,null,null,{"$f":"IFERROR(VLOOKUP(SUBSTITUTE(CONCATENATE(B123,\"_\",D123,\"_\",C123),\" - \",\"_\"),Список_Sub!A:B,2,0),\"\")","v":""},""]
[null,null,null,null,null,{"$f":"IFERROR(VLOOKUP(SUBSTITUTE(CONCATENATE(B124,\"_\",D124,\"_\",C124),\" - \",\"_\"),Список_Sub!A:B,2,0),\"\")","v":""},""]
[null,null,null,null,null,{"$f":"IFERROR(VLOOKUP(SUBSTITUTE(CONCATENATE(B125,\"_\",D125,\"_\",C125),\" - \",\"_\"),Список_Sub!A:B,2,0),\"\")","v":""},""]
[null,null,null,null,null,{"$f":"IFERROR(VLOOKUP(SUBSTITUTE(CONCATENATE(B126,\"_\",D126,\"_\",C126),\" - \",\"_\"),Список_Sub!A:B,2,0),\"\")","v":""},""]
[null,null,null,null,null,{"$f":"IFERROR(VLOOKUP(SUBSTITUTE(CONCATENATE(B127,\"_\",D127,\"_\",C127),\" - \",\"_\"),Список_Sub!A:B,2,0),\"\")","v":""},""]
[null,null,null,null,null,{"$f":"IFERROR(VLOOKUP(SUBSTITUTE(CONCATENATE(B128,\"_\",D128,\"_\",C128),\" - \",\"_\"),Список_Sub!A:B,2,0),\"\")","v":""},""]
[null,null,null,null,null,{"$f":"IFERROR(VLOOKUP(SUBSTITUTE(CONCATENATE(B129,\"_\",D129,\"_\",C129),\" - \",\"_\"),Список_Sub!A:B,2,0),\"\")","v":""},""]
[null,null,null,null,null,{"$f":"IFERROR(VLOOKUP(SUBSTITUTE(CONCATENATE(B130,\"_\",D130,\"_\",C130),\" - \",\"_\"),Список_Sub!A:B,2,0),\"\")","v":""},""]
[null,null,null,null,null,{"$f":"IFERROR(VLOOKUP(SUBSTITUTE(CONCATENATE(B131,\"_\",D131,\"_\",C131),\" - \",\"_\"),Список_Sub!A:B,2,0),\"\")","v":""},{"$f":"IF(AND(C131<>\"IP KONDRATYEV\",C131<>\"\"),VLOOKUP(D131,$O$2:$P$13,2,0),\"\")","v":""}]
[null,null,null,null,null,{"$f":"IFERROR(VLOOKUP(SUBSTITUTE(CONCATENATE(B132,\"_\",D132,\"_\",C132),\" - \",\"_\"),Список_Sub!A:B,2,0),\"\")","v":""},""]
[null,null,null,null,null,{"$f":"IFERROR(VLOOKUP(SUBSTITUTE(CONCATENATE(B133,\"_\",D133,\"_\",C133),\" - \",\"_\"),Список_Sub!A:B,2,0),\"\")","v":""},""]
[null,null,null,null,null,{"$f":"IFERROR(VLOOKUP(SUBSTITUTE(CONCATENATE(B134,\"_\",D134,\"_\",C134),\" - \",\"_\"),Список_Sub!A:B,2,0),\"\")","v":""},""]
[null,null,null,null,null,{"$f":"IFERROR(VLOOKUP(SUBSTITUTE(CONCATENATE(B135,\"_\",D135,\"_\",C135),\" - \",\"_\"),Список_Sub!A:B,2,0),\"\")","v":""},""]
[null,null,null,null,null,{"$f":"IFERROR(VLOOKUP(SUBSTITUTE(CONCATENATE(B136,\"_\",D136,\"_\",C136),\" - \",\"_\"),Список_Sub!A:B,2,0),\"\")","v":""},""]
[null,null,null,null,null,{"$f":"IFERROR(VLOOKUP(SUBSTITUTE(CONCATENATE(B137,\"_\",D137,\"_\",C137),\" - \",\"_\"),Список_Sub!A:B,2,0),\"\")","v":""},""]
[null,null,null,null,null,{"$f":"IFERROR(VLOOKUP(SUBSTITUTE(CONCATENATE(B138,\"_\",D138,\"_\",C138),\" - \",\"_\"),Список_Sub!A:B,2,0),\"\")","v":""},""]
[null,null,null,null,null,{"$f":"IFERROR(VLOOKUP(SUBSTITUTE(CONCATENATE(B139,\"_\",D139,\"_\",C139),\" - \",\"_\"),Список_Sub!A:B,2,0),\"\")","v":""},""]
[null,null,null,null,null,{"$f":"IFERROR(VLOOKUP(SUBSTITUTE(CONCATENATE(B140,\"_\",D140,\"_\",C140),\" - \",\"_\"),Список_Sub!A:B,2,0),\"\")","v":""},""]
[null,null,null,null,null,{"$f":"IFERROR(VLOOKUP(SUBSTITUTE(CONCATENATE(B141,\"_\",D141,\"_\",C141),\" - \",\"_\"),Список_Sub!A:B,2,0),\"\")","v":""},""]
[null,null,null,null,null,{"$f":"IFERROR(VLOOKUP(SUBSTITUTE(CONCATENATE(B142,\"_\",D142,\"_\",C142),\" - \",\"_\"),Список_Sub!A:B,2,0),\"\")","v":""},""]
[null,null,null,null,null,{"$f":"IFERROR(VLOOKUP(SUBSTITUTE(CONCATENATE(B143,\"_\",D143,\"_\",C143),\" - \",\"_\"),Список_Sub!A:B,2,0),\"\")","v":""},""]
[null,null,null,null,null,{"$f":"IFERROR(VLOOKUP(SUBSTITUTE(CONCATENATE(B144,\"_\",D144,\"_\",C144),\" - \",\"_\"),Список_Sub!A:B,2,0),\"\")","v":""},""]
[null,null,null,null,null,{"$f":"IFERROR(VLOOKUP(SUBSTITUTE(CONCATENATE(B145,\"_\",D145,\"_\",C145),\" - \",\"_\"),Список_Sub!A:B,2,0),\"\")","v":""},""]
[null,null,null,null,null,{"$f":"IFERROR(VLOOKUP(SUBSTITUTE(CONCATENATE(B146,\"_\",D146,\"_\",C146),\" - \",\"_\"),Список_Sub!A:B,2,0),\"\")","v":""},""]
[null,null,null,null,null,{"$f":"IFERROR(VLOOKUP(SUBSTITUTE(CONCATENATE(B147,\"_\",D147,\"_\",C147),\" - \",\"_\"),Список_Sub!A:B,2,0),\"\")","v":""},""]
[null,null,null,null,null,{"$f":"IFERROR(VLOOKUP(SUBSTITUTE(CONCATENATE(B148,\"_\",D148,\"_\",C148),\" - \",\"_\"),Список_Sub!A:B,2,0),\"\")","v":""},""]
[null,null,null,null,null,{"$f":"IFERROR(VLOOKUP(SUBSTITUTE(CONCATENATE(B149,\"_\",D149,\"_\",C149),\" - \",\"_\"),Список_Sub!A:B,2,0),\"\")","v":""},""]
[null,null,null,null,null,{"$f":"IFERROR(VLOOKUP(SUBSTITUTE(CONCATENATE(B150,\"_\",D150,\"_\",C150),\" - \",\"_\"),Список_Sub!A:B,2,0),\"\")","v":""},""]
[null,null,null,null,null,{"$f":"IFERROR(VLOOKUP(SUBSTITUTE(CONCATENATE(B151,\"_\",D151,\"_\",C151),\" - \",\"_\"),Список_Sub!A:B,2,0),\"\")","v":""},""]
[null,null,null,null,null,{"$f":"IFERROR(VLOOKUP(SUBSTITUTE(CONCATENATE(B152,\"_\",D152,\"_\",C152),\" - \",\"_\"),Список_Sub!A:B,2,0),\"\")","v":""},""]
[null,null,null,null,null,{"$f":"IFERROR(VLOOKUP(SUBSTITUTE(CONCATENATE(B153,\"_\",D153,\"_\",C153),\" - \",\"_\"),Список_Sub!A:B,2,0),\"\")","v":""},""]
[null,null,null,null,null,{"$f":"IFERROR(VLOOKUP(SUBSTITUTE(CONCATENATE(B154,\"_\",D154,\"_\",C154),\" - \",\"_\"),Список_Sub!A:B,2,0),\"\")","v":""},""]
[null,null,null,null,null,{"$f":"IFERROR(VLOOKUP(SUBSTITUTE(CONCATENATE(B155,\"_\",D155,\"_\",C155),\" - \",\"_\"),Список_Sub!A:B,2,0),\"\")","v":""},""]
[null,null,null,null,null,{"$f":"IFERROR(VLOOKUP(SUBSTITUTE(CONCATENATE(B156,\"_\",D156,\"_\",C156),\" - \",\"_\"),Список_Sub!A:B,2,0),\"\")","v":""},""]
[null,null,null,null,null,{"$f":"IFERROR(VLOOKUP(SUBSTITUTE(CONCATENATE(B157,\"_\",D157,\"_\",C157),\" - \",\"_\"),Список_Sub!A:B,2,0),\"\")","v":""},""]
[null,null,null,null,null,{"$f":"IFERROR(VLOOKUP(SUBSTITUTE(CONCATENATE(B158,\"_\",D158,\"_\",C158),\" - \",\"_\"),Список_Sub!A:B,2,0),\"\")","v":""},""]
[null,null,null,null,null,{"$f":"IFERROR(VLOOKUP(SUBSTITUTE(CONCATENATE(B159,\"_\",D159,\"_\",C159),\" - \",\"_\"),Список_Sub!A:B,2,0),\"\")","v":""},""]
[null,null,null,null,null,{"$f":"IFERROR(VLOOKUP(SUBSTITUTE(CONCATENATE(B160,\"_\",D160,\"_\",C160),\" - \",\"_\"),Список_Sub!A:B,2,0),\"\")","v":""},""]
[null,null,null,null,null,{"$f":"IFERROR(VLOOKUP(SUBSTITUTE(CONCATENATE(B161,\"_\",D161,\"_\",C161),\" - \",\"_\"),Список_Sub!A:B,2,0),\"\")","v":""},""]
[null,null,null,null,null,{"$f":"IFERROR(VLOOKUP(SUBSTITUTE(CONCATENATE(B162,\"_\",D162,\"_\",C162),\" - \",\"_\"),Список_Sub!A:B,2,0),\"\")","v":""},""]
[null,null,null,null,null,{"$f":"IFERROR(VLOOKUP(SUBSTITUTE(CONCATENATE(B163,\"_\",D163,\"_\",C163),\" - \",\"_\"),Список_Sub!A:B,2,0),\"\")","v":""},""]
[null,null,null,null,null,{"$f":"IFERROR(VLOOKUP(SUBSTITUTE(CONCATENATE(B164,\"_\",D164,\"_\",C164),\" - \",\"_\"),Список_Sub!A:B,2,0),\"\")","v":""},""]
[null,null,null,null,null,{"$f":"IFERROR(VLOOKUP(SUBSTITUTE(CONCATENATE(B165,\"_\",D165,\"_\",C165),\" - \",\"_\"),Список_Sub!A:B,2,0),\"\")","v":""},""]
[null,null,null,null,null,{"$f":"IFERROR(VLOOKUP(SUBSTITUTE(CONCATENATE(B166,\"_\",D166,\"_\",C166),\" - \",\"_\"),Список_Sub!A:B,2,0),\"\")","v":""},""]
[null,null,null,null,null,{"$f":"IFERROR(VLOOKUP(SUBSTITUTE(CONCATENATE(B167,\"_\",D167,\"_\",C167),\" - \",\"_\"),Список_Sub!A:B,2,0),\"\")","v":""},""]
[null,null,null,null,null,{"$f":"IFERROR(VLOOKUP(SUBSTITUTE(CONCATENATE(B168,\"_\",D168,\"_\",C168),\" - \",\"_\"),Список_Sub!A:B,2,0),\"\")","v":""},""]
[null,null,null,null,null,{"$f":"IFERROR(VLOOKUP(SUBSTITUTE(CONCATENATE(B169,\"_\",D169,\"_\",C169),\" - \",\"_\"),Список_Sub!A:B,2,0),\"\")","v":""},""]
[null,null,null,null,null,{"$f":"IFERROR(VLOOKUP(SUBSTITUTE(CONCATENATE(B170,\"_\",D170,\"_\",C170),\" - \",\"_\"),Список_Sub!A:B,2,0),\"\")","v":""},""]
[null,null,null,null,null,{"$f":"IFERROR(VLOOKUP(SUBSTITUTE(CONCATENATE(B171,\"_\",D171,\"_\",C171),\" - \",\"_\"),Список_Sub!A:B,2,0),\"\")","v":""},""]
[null,null,null,null,null,{"$f":"IFERROR(VLOOKUP(SUBSTITUTE(CONCATENATE(B172,\"_\",D172,\"_\",C172),\" - \",\"_\"),Список_Sub!A:B,2,0),\"\")","v":""},""]
[null,null,null,null,null,{"$f":"IFERROR(VLOOKUP(SUBSTITUTE(CONCATENATE(B173,\"_\",D173,\"_\",C173),\" - \",\"_\"),Список_Sub!A:B,2,0),\"\")","v":""},""]
[null,null,null,null,null,{"$f":"IFERROR(VLOOKUP(SUBSTITUTE(CONCATENATE(B174,\"_\",D174,\"_\",C174),\" - \",\"_\"),Список_Sub!A:B,2,0),\"\")","v":""},""]
[null,null,null,null,null,{"$f":"IFERROR(VLOOKUP(SUBSTITUTE(CONCATENATE(B175,\"_\",D175,\"_\",C175),\" - \",\"_\"),Список_Sub!A:B,2,0),\"\")","v":""},""]
[null,null,null,null,null,{"$f":"IFERROR(VLOOKUP(SUBSTITUTE(CONCATENATE(B176,\"_\",D176,\"_\",C176),\" - \",\"_\"),Список_Sub!A:B,2,0),\"\")","v":""},""]
[null,null,null,null,null,{"$f":"IFERROR(VLOOKUP(SUBSTITUTE(CONCATENATE(B177,\"_\",D177,\"_\",C177),\" - \",\"_\"),Список_Sub!A:B,2,0),\"\")","v":""},""]
[null,null,null,null,null,{"$f":"IFERROR(VLOOKUP(SUBSTITUTE(CONCATENATE(B178,\"_\",D178,\"_\",C178),\" - \",\"_\"),Список_Sub!A:B,2,0),\"\")","v":""},""]
[null,null,null,null,null,{"$f":"IFERROR(VLOOKUP(SUBSTITUTE(CONCATENATE(B179,\"_\",D179,\"_\",C179),\" - \",\"_\"),Список_Sub!A:B,2,0),\"\")","v":""},""]
[null,null,null,null,null,{"$f":"IFERROR(VLOOKUP(SUBSTITUTE(CONCATENATE(B180,\"_\",D180,\"_\",C180),\" - \",\"_\"),Список_Sub!A:B,2,0),\"\")","v":""},""]
[null,null,null,null,null,{"$f":"IFERROR(VLOOKUP(SUBSTITUTE(CONCATENATE(B181,\"_\",D181,\"_\",C181),\" - \",\"_\"),Список_Sub!A:B,2,0),\"\")","v":""},""]
[null,null,null,null,null,{"$f":"IFERROR(VLOOKUP(SUBSTITUTE(CONCATENATE(B182,\"_\",D182,\"_\",C182),\" - \",\"_\"),Список_Sub!A:B,2,0),\"\")","v":""},""]
[null,null,null,null,null,{"$f":"IFERROR(VLOOKUP(SUBSTITUTE(CONCATENATE(B183,\"_\",D183,\"_\",C183),\" - \",\"_\"),Список_Sub!A:B,2,0),\"\")","v":""},""]
[null,null,null,null,null,{"$f":"IFERROR(VLOOKUP(SUBSTITUTE(CONCATENATE(B184,\"_\",D184,\"_\",C184),\" - \",\"_\"),Список_Sub!A:B,2,0),\"\")","v":""},""]
[null,null,null,null,null,{"$f":"IFERROR(VLOOKUP(SUBSTITUTE(CONCATENATE(B185,\"_\",D185,\"_\",C185),\" - \",\"_\"),Список_Sub!A:B,2,0),\"\")","v":""},""]
[null,null,null,null,null,{"$f":"IFERROR(VLOOKUP(SUBSTITUTE(CONCATENATE(B186,\"_\",D186,\"_\",C186),\" - \",\"_\"),Список_Sub!A:B,2,0),\"\")","v":""},""]
[null,null,null,null,null,{"$f":"IFERROR(VLOOKUP(SUBSTITUTE(CONCATENATE(B187,\"_\",D187,\"_\",C187),\" - \",\"_\"),Список_Sub!A:B,2,0),\"\")","v":""},""]
[null,null,null,null,null,{"$f":"IFERROR(VLOOKUP(SUBSTITUTE(CONCATENATE(B188,\"_\",D188,\"_\",C188),\" - \",\"_\"),Список_Sub!A:B,2,0),\"\")","v":""},""]
[null,null,null,null,null,{"$f":"IFERROR(VLOOKUP(SUBSTITUTE(CONCATENATE(B189,\"_\",D189,\"_\",C189),\" - \",\"_\"),Список_Sub!A:B,2,0),\"\")","v":""},""]
[null,null,null,null,null,{"$f":"IFERROR(VLOOKUP(SUBSTITUTE(CONCATENATE(B190,\"_\",D190,\"_\",C190),\" - \",\"_\"),Список_Sub!A:B,2,0),\"\")","v":""},""]
[null,null,null,null,null,{"$f":"IFERROR(VLOOKUP(SUBSTITUTE(CONCATENATE(B191,\"_\",D191,\"_\",C191),\" - \",\"_\"),Список_Sub!A:B,2,0),\"\")","v":""},""]
[null,null,null,null,null,{"$f":"IFERROR(VLOOKUP(SUBSTITUTE(CONCATENATE(B192,\"_\",D192,\"_\",C192),\" - \",\"_\"),Список_Sub!A:B,2,0),\"\")","v":""},""]
[null,null,null,null,null,{"$f":"IFERROR(VLOOKUP(SUBSTITUTE(CONCATENATE(B193,\"_\",D193,\"_\",C193),\" - \",\"_\"),Список_Sub!A:B,2,0),\"\")","v":""},""]
[null,null,null,null,null,{"$f":"IFERROR(VLOOKUP(SUBSTITUTE(CONCATENATE(B194,\"_\",D194,\"_\",C194),\" - \",\"_\"),Список_Sub!A:B,2,0),\"\")","v":""},""]
[null,null,null,null,null,{"$f":"IFERROR(VLOOKUP(SUBSTITUTE(CONCATENATE(B195,\"_\",D195,\"_\",C195),\" - \",\"_\"),Список_Sub!A:B,2,0),\"\")","v":""},{"$f":"IF(AND(C195<>\"IP KONDRATYEV\",C195<>\"\"),VLOOKUP(D195,$O$2:$P$13,2,0),\"\")","v":""}]
[null,null,null,null,null,{"$f":"IFERROR(VLOOKUP(SUBSTITUTE(CONCATENATE(B196,\"_\",D196,\"_\",C196),\" - \",\"_\"),Список_Sub!A:B,2,0),\"\")","v":""},""]
[null,null,null,null,null,{"$f":"IFERROR(VLOOKUP(SUBSTITUTE(CONCATENATE(B197,\"_\",D197,\"_\",C197),\" - \",\"_\"),Список_Sub!A:B,2,0),\"\")","v":""},""]
[null,null,null,null,null,{"$f":"IFERROR(VLOOKUP(SUBSTITUTE(CONCATENATE(B198,\"_\",D198,\"_\",C198),\" - \",\"_\"),Список_Sub!A:B,2,0),\"\")","v":""},""]
[null,null,null,null,null,{"$f":"IFERROR(VLOOKUP(SUBSTITUTE(CONCATENATE(B199,\"_\",D199,\"_\",C199),\" - \",\"_\"),Список_Sub!A:B,2,0),\"\")","v":""},""]
[null,null,null,null,null,{"$f":"IFERROR(VLOOKUP(SUBSTITUTE(CONCATENATE(B200,\"_\",D200,\"_\",C200),\" - \",\"_\"),Список_Sub!A:B,2,0),\"\")","v":""},""]
[null,null,null,null,null,{"$f":"IFERROR(VLOOKUP(SUBSTITUTE(CONCATENATE(B201,\"_\",D201,\"_\",C201),\" - \",\"_\"),Список_Sub!A:B,2,0),\"\")","v":""},""]
[null,null,null,null,null,{"$f":"IFERROR(VLOOKUP(SUBSTITUTE(CONCATENATE(B202,\"_\",D202,\"_\",C202),\" - \",\"_\"),Список_Sub!A:B,2,0),\"\")","v":""},""]
[null,null,null,null,null,{"$f":"IFERROR(VLOOKUP(SUBSTITUTE(CONCATENATE(B203,\"_\",D203,\"_\",C203),\" - \",\"_\"),Список_Sub!A:B,2,0),\"\")","v":""},""]
[null,null,null,null,null,{"$f":"IFERROR(VLOOKUP(SUBSTITUTE(CONCATENATE(B204,\"_\",D204,\"_\",C204),\" - \",\"_\"),Список_Sub!A:B,2,0),\"\")","v":""},""]
[null,null,null,null,null,{"$f":"IFERROR(VLOOKUP(SUBSTITUTE(CONCATENATE(B205,\"_\",D205,\"_\",C205),\" - \",\"_\"),Список_Sub!A:B,2,0),\"\")","v":""},""]
[null,null,null,null,null,{"$f":"IFERROR(VLOOKUP(SUBSTITUTE(CONCATENATE(B206,\"_\",D206,\"_\",C206),\" - \",\"_\"),Список_Sub!A:B,2,0),\"\")","v":""},""]
[null,null,null,null,null,{"$f":"IFERROR(VLOOKUP(SUBSTITUTE(CONCATENATE(B207,\"_\",D207,\"_\",C207),\" - \",\"_\"),Список_Sub!A:B,2,0),\"\")","v":""},""]
[null,null,null,null,null,{"$f":"IFERROR(VLOOKUP(SUBSTITUTE(CONCATENATE(B208,\"_\",D208,\"_\",C208),\" - \",\"_\"),Список_Sub!A:B,2,0),\"\")","v":""},""]
[null,null,null,null,null,{"$f":"IFERROR(VLOOKUP(SUBSTITUTE(CONCATENATE(B209,\"_\",D209,\"_\",C209),\" - \",\"_\"),Список_Sub!A:B,2,0),\"\")","v":""},""]
[null,null,null,null,null,{"$f":"IFERROR(VLOOKUP(SUBSTITUTE(CONCATENATE(B210,\"_\",D210,\"_\",C210),\" - \",\"_\"),Список_Sub!A:B,2,0),\"\")","v":""},""]
[null,null,null,null,null,{"$f":"IFERROR(VLOOKUP(SUBSTITUTE(CONCATENATE(B211,\"_\",D211,\"_\",C211),\" - \",\"_\"),Список_Sub!A:B,2,0),\"\")","v":""},""]
[null,null,null,null,null,{"$f":"IFERROR(VLOOKUP(SUBSTITUTE(CONCATENATE(B212,\"_\",D212,\"_\",C212),\" - \",\"_\"),Список_Sub!A:B,2,0),\"\")","v":""},""]
[null,null,null,null,null,{"$f":"IFERROR(VLOOKUP(SUBSTITUTE(CONCATENATE(B213,\"_\",D213,\"_\",C213),\" - \",\"_\"),Список_Sub!A:B,2,0),\"\")","v":""},""]
[null,null,null,null,null,{"$f":"IFERROR(VLOOKUP(SUBSTITUTE(CONCATENATE(B214,\"_\",D214,\"_\",C214),\" - \",\"_\"),Список_Sub!A:B,2,0),\"\")","v":""},""]
[null,null,null,null,null,{"$f":"IFERROR(VLOOKUP(SUBSTITUTE(CONCATENATE(B215,\"_\",D215,\"_\",C215),\" - \",\"_\"),Список_Sub!A:B,2,0),\"\")","v":""},""]
[null,null,null,null,null,{"$f":"IFERROR(VLOOKUP(SUBSTITUTE(CONCATENATE(B216,\"_\",D216,\"_\",C216),\" - \",\"_\"),Список_Sub!A:B,2,0),\"\")","v":""},""]
[null,null,null,null,null,{"$f":"IFERROR(VLOOKUP(SUBSTITUTE(CONCATENATE(B217,\"_\",D217,\"_\",C217),\" - \",\"_\"),Список_Sub!A:B,2,0),\"\")","v":""},""]
[null,null,null,null,null,{"$f":"IFERROR(VLOOKUP(SUBSTITUTE(CONCATENATE(B218,\"_\",D218,\"_\",C218),\" - \",\"_\"),Список_Sub!A:B,2,0),\"\")","v":""},""]
[null,null,null,null,null,{"$f":"IFERROR(VLOOKUP(SUBSTITUTE(CONCATENATE(B219,\"_\",D219,\"_\",C219),\" - \",\"_\"),Список_Sub!A:B,2,0),\"\")","v":""},""]
[null,null,null,null,null,{"$f":"IFERROR(VLOOKUP(SUBSTITUTE(CONCATENATE(B220,\"_\",D220,\"_\",C220),\" - \",\"_\"),Список_Sub!A:B,2,0),\"\")","v":""},""]
[null,null,null,null,null,{"$f":"IFERROR(VLOOKUP(SUBSTITUTE(CONCATENATE(B221,\"_\",D221,\"_\",C221),\" - \",\"_\"),Список_Sub!A:B,2,0),\"\")","v":""},""]
[null,null,null,null,null,{"$f":"IFERROR(VLOOKUP(SUBSTITUTE(CONCATENATE(B222,\"_\",D222,\"_\",C222),\" - \",\"_\"),Список_Sub!A:B,2,0),\"\")","v":""},""]
[null,null,null,null,null,{"$f":"IFERROR(VLOOKUP(SUBSTITUTE(CONCATENATE(B223,\"_\",D223,\"_\",C223),\" - \",\"_\"),Список_Sub!A:B,2,0),\"\")","v":""},""]
[null,null,null,null,null,{"$f":"IFERROR(VLOOKUP(SUBSTITUTE(CONCATENATE(B224,\"_\",D224,\"_\",C224),\" - \",\"_\"),Список_Sub!A:B,2,0),\"\")","v":""},""]
[null,null,null,null,null,{"$f":"IFERROR(VLOOKUP(SUBSTITUTE(CONCATENATE(B225,\"_\",D225,\"_\",C225),\" - \",\"_\"),Список_Sub!A:B,2,0),\"\")","v":""},""]
[null,null,null,null,null,{"$f":"IFERROR(VLOOKUP(SUBSTITUTE(CONCATENATE(B226,\"_\",D226,\"_\",C226),\" - \",\"_\"),Список_Sub!A:B,2,0),\"\")","v":""},""]
[null,null,null,null,null,{"$f":"IFERROR(VLOOKUP(SUBSTITUTE(CONCATENATE(B227,\"_\",D227,\"_\",C227),\" - \",\"_\"),Список_Sub!A:B,2,0),\"\")","v":""},""]
[null,null,null,null,null,{"$f":"IFERROR(VLOOKUP(SUBSTITUTE(CONCATENATE(B228,\"_\",D228,\"_\",C228),\" - \",\"_\"),Список_Sub!A:B,2,0),\"\")","v":""},""]
[null,null,null,null,null,{"$f":"IFERROR(VLOOKUP(SUBSTITUTE(CONCATENATE(B229,\"_\",D229,\"_\",C229),\" - \",\"_\"),Список_Sub!A:B,2,0),\"\")","v":""},""]
[null,null,null,null,null,{"$f":"IFERROR(VLOOKUP(SUBSTITUTE(CONCATENATE(B230,\"_\",D230,\"_\",C230),\" - \",\"_\"),Список_Sub!A:B,2,0),\"\")","v":""},""]
[null,null,null,null,null,{"$f":"IFERROR(VLOOKUP(SUBSTITUTE(CONCATENATE(B231,\"_\",D231,\"_\",C231),\" - \",\"_\"),Список_Sub!A:B,2,0),\"\")","v":""},""]
[null,null,null,null,null,{"$f":"IFERROR(VLOOKUP(SUBSTITUTE(CONCATENATE(B232,\"_\",D232,\"_\",C232),\" - \",\"_\"),Список_Sub!A:B,2,0),\"\")","v":""},""]
[null,null,null,null,null,{"$f":"IFERROR(VLOOKUP(SUBSTITUTE(CONCATENATE(B233,\"_\",D233,\"_\",C233),\" - \",\"_\"),Список_Sub!A:B,2,0),\"\")","v":""},""]
[null,null,null,null,null,{"$f":"IFERROR(VLOOKUP(SUBSTITUTE(CONCATENATE(B234,\"_\",D234,\"_\",C234),\" - \",\"_\"),Список_Sub!A:B,2,0),\"\")","v":""},""]
[null,null,null,null,null,{"$f":"IFERROR(VLOOKUP(SUBSTITUTE(CONCATENATE(B235,\"_\",D235,\"_\",C235),\" - \",\"_\"),Список_Sub!A:B,2,0),\"\")","v":""},""]
[null,null,null,null,null,{"$f":"IFERROR(VLOOKUP(SUBSTITUTE(CONCATENATE(B236,\"_\",D236,\"_\",C236),\" - \",\"_\"),Список_Sub!A:B,2,0),\"\")","v":""},""]
[null,null,null,null,null,{"$f":"IFERROR(VLOOKUP(SUBSTITUTE(CONCATENATE(B237,\"_\",D237,\"_\",C237),\" - \",\"_\"),Список_Sub!A:B,2,0),\"\")","v":""},""]
[null,null,null,null,null,{"$f":"IFERROR(VLOOKUP(SUBSTITUTE(CONCATENATE(B238,\"_\",D238,\"_\",C238),\" - \",\"_\"),Список_Sub!A:B,2,0),\"\")","v":""},""]
[null,null,null,null,null,{"$f":"IFERROR(VLOOKUP(SUBSTITUTE(CONCATENATE(B239,\"_\",D239,\"_\",C239),\" - \",\"_\"),Список_Sub!A:B,2,0),\"\")","v":""},""]
[null,null,null,null,null,{"$f":"IFERROR(VLOOKUP(SUBSTITUTE(CONCATENATE(B240,\"_\",D240,\"_\",C240),\" - \",\"_\"),Список_Sub!A:B,2,0),\"\")","v":""},""]
[null,null,null,null,null,{"$f":"IFERROR(VLOOKUP(SUBSTITUTE(CONCATENATE(B241,\"_\",D241,\"_\",C241),\" - \",\"_\"),Список_Sub!A:B,2,0),\"\")","v":""},""]
[null,null,null,null,null,{"$f":"IFERROR(VLOOKUP(SUBSTITUTE(CONCATENATE(B242,\"_\",D242,\"_\",C242),\" - \",\"_\"),Список_Sub!A:B,2,0),\"\")","v":""},""]
[null,null,null,null,null,{"$f":"IFERROR(VLOOKUP(SUBSTITUTE(CONCATENATE(B243,\"_\",D243,\"_\",C243),\" - \",\"_\"),Список_Sub!A:B,2,0),\"\")","v":""},""]
[null,null,null,null,null,{"$f":"IFERROR(VLOOKUP(SUBSTITUTE(CONCATENATE(B244,\"_\",D244,\"_\",C244),\" - \",\"_\"),Список_Sub!A:B,2,0),\"\")","v":""},""]
[null,null,null,null,null,{"$f":"IFERROR(VLOOKUP(SUBSTITUTE(CONCATENATE(B245,\"_\",D245,\"_\",C245),\" - \",\"_\"),Список_Sub!A:B,2,0),\"\")","v":""},""]
[null,null,null,null,null,{"$f":"IFERROR(VLOOKUP(SUBSTITUTE(CONCATENATE(B246,\"_\",D246,\"_\",C246),\" - \",\"_\"),Список_Sub!A:B,2,0),\"\")","v":""},""]
[null,null,null,null,null,{"$f":"IFERROR(VLOOKUP(SUBSTITUTE(CONCATENATE(B247,\"_\",D247,\"_\",C247),\" - \",\"_\"),Список_Sub!A:B,2,0),\"\")","v":""},""]
[null,null,null,null,null,{"$f":"IFERROR(VLOOKUP(SUBSTITUTE(CONCATENATE(B248,\"_\",D248,\"_\",C248),\" - \",\"_\"),Список_Sub!A:B,2,0),\"\")","v":""},""]
[null,null,null,null,null,{"$f":"IFERROR(VLOOKUP(SUBSTITUTE(CONCATENATE(B249,\"_\",D249,\"_\",C249),\" - \",\"_\"),Список_Sub!A:B,2,0),\"\")","v":""},""]
[null,null,null,null,null,{"$f":"IFERROR(VLOOKUP(SUBSTITUTE(CONCATENATE(B250,\"_\",D250,\"_\",C250),\" - \",\"_\"),Список_Sub!A:B,2,0),\"\")","v":""},""]
[null,null,null,null,null,{"$f":"IFERROR(VLOOKUP(SUBSTITUTE(CONCATENATE(B251,\"_\",D251,\"_\",C251),\" - \",\"_\"),Список_Sub!A:B,2,0),\"\")","v":""},""]
[null,null,null,null,null,{"$f":"IFERROR(VLOOKUP(SUBSTITUTE(CONCATENATE(B252,\"_\",D252,\"_\",C252),\" - \",\"_\"),Список_Sub!A:B,2,0),\"\")","v":""},""]
[null,null,null,null,null,{"$f":"IFERROR(VLOOKUP(SUBSTITUTE(CONCATENATE(B253,\"_\",D253,\"_\",C253),\" - \",\"_\"),Список_Sub!A:B,2,0),\"\")","v":""},""]
[null,null,null,null,null,{"$f":"IFERROR(VLOOKUP(SUBSTITUTE(CONCATENATE(B254,\"_\",D254,\"_\",C254),\" - \",\"_\"),Список_Sub!A:B,2,0),\"\")","v":""},""]
[null,null,null,null,null,{"$f":"IFERROR(VLOOKUP(SUBSTITUTE(CONCATENATE(B255,\"_\",D255,\"_\",C255),\" - \",\"_\"),Список_Sub!A:B,2,0),\"\")","v":""},""]
[null,null,null,null,null,{"$f":"IFERROR(VLOOKUP(SUBSTITUTE(CONCATENATE(B256,\"_\",D256,\"_\",C256),\" - \",\"_\"),Список_Sub!A:B,2,0),\"\")","v":""},""]
[null,null,null,null,null,{"$f":"IFERROR(VLOOKUP(SUBSTITUTE(CONCATENATE(B257,\"_\",D257,\"_\",C257),\" - \",\"_\"),Список_Sub!A:B,2,0),\"\")","v":""},""]
[null,null,null,null,null,{"$f":"IFERROR(VLOOKUP(SUBSTITUTE(CONCATENATE(B258,\"_\",D258,\"_\",C258),\" - \",\"_\"),Список_Sub!A:B,2,0),\"\")","v":""},""]
[null,null,null,null,null,{"$f":"IFERROR(VLOOKUP(SUBSTITUTE(CONCATENATE(B259,\"_\",D259,\"_\",C259),\" - \",\"_\"),Список_Sub!A:B,2,0),\"\")","v":""},{"$f":"IF(AND(C259<>\"IP KONDRATYEV\",C259<>\"\"),VLOOKUP(D259,$O$2:$P$13,2,0),\"\")","v":""}]
[null,null,null,null,null,{"$f":"IFERROR(VLOOKUP(SUBSTITUTE(CONCATENATE(B260,\"_\",D260,\"_\",C260),\" - \",\"_\"),Список_Sub!A:B,2,0),\"\")","v":""},""]
[null,null,null,null,null,{"$f":"IFERROR(VLOOKUP(SUBSTITUTE(CONCATENATE(B261,\"_\",D261,\"_\",C261),\" - \",\"_\"),Список_Sub!A:B,2,0),\"\")","v":""},""]
[null,null,null,null,null,{"$f":"IFERROR(VLOOKUP(SUBSTITUTE(CONCATENATE(B262,\"_\",D262,\"_\",C262),\" - \",\"_\"),Список_Sub!A:B,2,0),\"\")","v":""},""]
[null,null,null,null,null,{"$f":"IFERROR(VLOOKUP(SUBSTITUTE(CONCATENATE(B263,\"_\",D263,\"_\",C263),\" - \",\"_\"),Список_Sub!A:B,2,0),\"\")","v":""},""]
[null,null,null,null,null,{"$f":"IFERROR(VLOOKUP(SUBSTITUTE(CONCATENATE(B264,\"_\",D264,\"_\",C264),\" - \",\"_\"),Список_Sub!A:B,2,0),\"\")","v":""},""]
[null,null,null,null,null,{"$f":"IFERROR(VLOOKUP(SUBSTITUTE(CONCATENATE(B265,\"_\",D265,\"_\",C265),\" - \",\"_\"),Список_Sub!A:B,2,0),\"\")","v":""},""]
[null,null,null,null,null,{"$f":"IFERROR(VLOOKUP(SUBSTITUTE(CONCATENATE(B266,\"_\",D266,\"_\",C266),\" - \",\"_\"),Список_Sub!A:B,2,0),\"\")","v":""},""]
[null,null,null,null,null,{"$f":"IFERROR(VLOOKUP(SUBSTITUTE(CONCATENATE(B267,\"_\",D267,\"_\",C267),\" - \",\"_\"),Список_Sub!A:B,2,0),\"\")","v":""},""]
[null,null,null,null,null,{"$f":"IFERROR(VLOOKUP(SUBSTITUTE(CONCATENATE(B268,\"_\",D268,\"_\",C268),\" - \",\"_\"),Список_Sub!A:B,2,0),\"\")","v":""},""]
[null,null,null,null,null,{"$f":"IFERROR(VLOOKUP(SUBSTITUTE(CONCATENATE(B269,\"_\",D269,\"_\",C269),\" - \",\"_\"),Список_Sub!A:B,2,0),\"\")","v":""},""]
[null,null,null,null,null,{"$f":"IFERROR(VLOOKUP(SUBSTITUTE(CONCATENATE(B270,\"_\",D270,\"_\",C270),\" - \",\"_\"),Список_Sub!A:B,2,0),\"\")","v":""},""]
[null,null,null,null,null,{"$f":"IFERROR(VLOOKUP(SUBSTITUTE(CONCATENATE(B271,\"_\",D271,\"_\",C271),\" - \",\"_\"),Список_Sub!A:B,2,0),\"\")","v":""},""]
[null,null,null,null,null,{"$f":"IFERROR(VLOOKUP(SUBSTITUTE(CONCATENATE(B272,\"_\",D272,\"_\",C272),\" - \",\"_\"),Список_Sub!A:B,2,0),\"\")","v":""},""]
[null,null,null,null,null,{"$f":"IFERROR(VLOOKUP(SUBSTITUTE(CONCATENATE(B273,\"_\",D273,\"_\",C273),\" - \",\"_\"),Список_Sub!A:B,2,0),\"\")","v":""},""]
[null,null,null,null,null,{"$f":"IFERROR(VLOOKUP(SUBSTITUTE(CONCATENATE(B274,\"_\",D274,\"_\",C274),\" - \",\"_\"),Список_Sub!A:B,2,0),\"\")","v":""},""]
[null,null,null,null,null,{"$f":"IFERROR(VLOOKUP(SUBSTITUTE(CONCATENATE(B275,\"_\",D275,\"_\",C275),\" - \",\"_\"),Список_Sub!A:B,2,0),\"\")","v":""},""]
[null,null,null,null,null,{"$f":"IFERROR(VLOOKUP(SUBSTITUTE(CONCATENATE(B276,\"_\",D276,\"_\",C276),\" - \",\"_\"),Список_Sub!A:B,2,0),\"\")","v":""},""]
[null,null,null,null,null,{"$f":"IFERROR(VLOOKUP(SUBSTITUTE(CONCATENATE(B277,\"_\",D277,\"_\",C277),\" - \",\"_\"),Список_Sub!A:B,2,0),\"\")","v":""},""]
[null,null,null,null,null,{"$f":"IFERROR(VLOOKUP(SUBSTITUTE(CONCATENATE(B278,\"_\",D278,\"_\",C278),\" - \",\"_\"),Список_Sub!A:B,2,0),\"\")","v":""},""]
[null,null,null,null,null,{"$f":"IFERROR(VLOOKUP(SUBSTITUTE(CONCATENATE(B279,\"_\",D279,\"_\",C279),\" - \",\"_\"),Список_Sub!A:B,2,0),\"\")","v":""},""]
[null,null,null,null,null,{"$f":"IFERROR(VLOOKUP(SUBSTITUTE(CONCATENATE(B280,\"_\",D280,\"_\",C280),\" - \",\"_\"),Список_Sub!A:B,2,0),\"\")","v":""},""]
[null,null,null,null,null,{"$f":"IFERROR(VLOOKUP(SUBSTITUTE(CONCATENATE(B281,\"_\",D281,\"_\",C281),\" - \",\"_\"),Список_Sub!A:B,2,0),\"\")","v":""},""]
[null,null,null,null,null,{"$f":"IFERROR(VLOOKUP(SUBSTITUTE(CONCATENATE(B282,\"_\",D282,\"_\",C282),\" - \",\"_\"),Список_Sub!A:B,2,0),\"\")","v":""},""]
[null,null,null,null,null,{"$f":"IFERROR(VLOOKUP(SUBSTITUTE(CONCATENATE(B283,\"_\",D283,\"_\",C283),\" - \",\"_\"),Список_Sub!A:B,2,0),\"\")","v":""},""]
[null,null,null,null,null,{"$f":"IFERROR(VLOOKUP(SUBSTITUTE(CONCATENATE(B284,\"_\",D284,\"_\",C284),\" - \",\"_\"),Список_Sub!A:B,2,0),\"\")","v":""},""]
[null,null,null,null,null,{"$f":"IFERROR(VLOOKUP(SUBSTITUTE(CONCATENATE(B285,\"_\",D285,\"_\",C285),\" - \",\"_\"),Список_Sub!A:B,2,0),\"\")","v":""},""]
[null,null,null,null,null,{"$f":"IFERROR(VLOOKUP(SUBSTITUTE(CONCATENATE(B286,\"_\",D286,\"_\",C286),\" - \",\"_\"),Список_Sub!A:B,2,0),\"\")","v":""},""]
[null,null,null,null,null,{"$f":"IFERROR(VLOOKUP(SUBSTITUTE(CONCATENATE(B287,\"_\",D287,\"_\",C287),\" - \",\"_\"),Список_Sub!A:B,2,0),\"\")","v":""},""]
[null,null,null,null,null,{"$f":"IFERROR(VLOOKUP(SUBSTITUTE(CONCATENATE(B288,\"_\",D288,\"_\",C288),\" - \",\"_\"),Список_Sub!A:B,2,0),\"\")","v":""},""]
[null,null,null,null,null,{"$f":"IFERROR(VLOOKUP(SUBSTITUTE(CONCATENATE(B289,\"_\",D289,\"_\",C289),\" - \",\"_\"),Список_Sub!A:B,2,0),\"\")","v":""},""]
[null,null,null,null,null,{"$f":"IFERROR(VLOOKUP(SUBSTITUTE(CONCATENATE(B290,\"_\",D290,\"_\",C290),\" - \",\"_\"),Список_Sub!A:B,2,0),\"\")","v":""},""]
[null,null,null,null,null,{"$f":"IFERROR(VLOOKUP(SUBSTITUTE(CONCATENATE(B291,\"_\",D291,\"_\",C291),\" - \",\"_\"),Список_Sub!A:B,2,0),\"\")","v":""},""]
[null,null,null,null,null,{"$f":"IFERROR(VLOOKUP(SUBSTITUTE(CONCATENATE(B292,\"_\",D292,\"_\",C292),\" - \",\"_\"),Список_Sub!A:B,2,0),\"\")","v":""},""]
[null,null,null,null,null,{"$f":"IFERROR(VLOOKUP(SUBSTITUTE(CONCATENATE(B293,\"_\",D293,\"_\",C293),\" - \",\"_\"),Список_Sub!A:B,2,0),\"\")","v":""},""]
[null,null,null,null,null,{"$f":"IFERROR(VLOOKUP(SUBSTITUTE(CONCATENATE(B294,\"_\",D294,\"_\",C294),\" - \",\"_\"),Список_Sub!A:B,2,0),\"\")","v":""},""]
[null,null,null,null,null,{"$f":"IFERROR(VLOOKUP(SUBSTITUTE(CONCATENATE(B295,\"_\",D295,\"_\",C295),\" - \",\"_\"),Список_Sub!A:B,2,0),\"\")","v":""},""]
[null,null,null,null,null,{"$f":"IFERROR(VLOOKUP(SUBSTITUTE(CONCATENATE(B296,\"_\",D296,\"_\",C296),\" - \",\"_\"),Список_Sub!A:B,2,0),\"\")","v":""},""]
[null,null,null,null,null,{"$f":"IFERROR(VLOOKUP(SUBSTITUTE(CONCATENATE(B297,\"_\",D297,\"_\",C297),\" - \",\"_\"),Список_Sub!A:B,2,0),\"\")","v":""},""]
[null,null,null,null,null,{"$f":"IFERROR(VLOOKUP(SUBSTITUTE(CONCATENATE(B298,\"_\",D298,\"_\",C298),\" - \",\"_\"),Список_Sub!A:B,2,0),\"\")","v":""},""]
[null,null,null,null,null,{"$f":"IFERROR(VLOOKUP(SUBSTITUTE(CONCATENATE(B299,\"_\",D299,\"_\",C299),\" - \",\"_\"),Список_Sub!A:B,2,0),\"\")","v":""},""]
[null,null,null,null,null,{"$f":"IFERROR(VLOOKUP(SUBSTITUTE(CONCATENATE(B300,\"_\",D300,\"_\",C300),\" - \",\"_\"),Список_Sub!A:B,2,0),\"\")","v":""},""]
[null,null,null,null,null,{"$f":"IFERROR(VLOOKUP(SUBSTITUTE(CONCATENATE(B301,\"_\",D301,\"_\",C301),\" - \",\"_\"),Список_Sub!A:B,2,0),\"\")","v":""},""]
[null,null,null,null,null,{"$f":"IFERROR(VLOOKUP(SUBSTITUTE(CONCATENATE(B302,\"_\",D302,\"_\",C302),\" - \",\"_\"),Список_Sub!A:B,2,0),\"\")","v":""},""]
[null,null,null,null,null,{"$f":"IFERROR(VLOOKUP(SUBSTITUTE(CONCATENATE(B303,\"_\",D303,\"_\",C303),\" - \",\"_\"),Список_Sub!A:B,2,0),\"\")","v":""},""]
[null,null,null,null,null,{"$f":"IFERROR(VLOOKUP(SUBSTITUTE(CONCATENATE(B304,\"_\",D304,\"_\",C304),\" - \",\"_\"),Список_Sub!A:B,2,0),\"\")","v":""},""]
[null,null,null,null,null,{"$f":"IFERROR(VLOOKUP(SUBSTITUTE(CONCATENATE(B305,\"_\",D305,\"_\",C305),\" - \",\"_\"),Список_Sub!A:B,2,0),\"\")","v":""},""]
[null,null,null,null,null,{"$f":"IFERROR(VLOOKUP(SUBSTITUTE(CONCATENATE(B306,\"_\",D306,\"_\",C306),\" - \",\"_\"),Список_Sub!A:B,2,0),\"\")","v":""},""]
[null,null,null,null,null,{"$f":"IFERROR(VLOOKUP(SUBSTITUTE(CONCATENATE(B307,\"_\",D307,\"_\",C307),\" - \",\"_\"),Список_Sub!A:B,2,0),\"\")","v":""},""]
[null,null,null,null,null,{"$f":"IFERROR(VLOOKUP(SUBSTITUTE(CONCATENATE(B308,\"_\",D308,\"_\",C308),\" - \",\"_\"),Список_Sub!A:B,2,0),\"\")","v":""},""]
[null,null,null,null,null,{"$f":"IFERROR(VLOOKUP(SUBSTITUTE(CONCATENATE(B309,\"_\",D309,\"_\",C309),\" - \",\"_\"),Список_Sub!A:B,2,0),\"\")","v":""},""]
[null,null,null,null,null,{"$f":"IFERROR(VLOOKUP(SUBSTITUTE(CONCATENATE(B310,\"_\",D310,\"_\",C310),\" - \",\"_\"),Список_Sub!A:B,2,0),\"\")","v":""},""]
[null,null,null,null,null,{"$f":"IFERROR(VLOOKUP(SUBSTITUTE(CONCATENATE(B311,\"_\",D311,\"_\",C311),\" - \",\"_\"),Список_Sub!A:B,2,0),\"\")","v":""},""]
[null,null,null,null,null,{"$f":"IFERROR(VLOOKUP(SUBSTITUTE(CONCATENATE(B312,\"_\",D312,\"_\",C312),\" - \",\"_\"),Список_Sub!A:B,2,0),\"\")","v":""},""]
[null,null,null,null,null,{"$f":"IFERROR(VLOOKUP(SUBSTITUTE(CONCATENATE(B313,\"_\",D313,\"_\",C313),\" - \",\"_\"),Список_Sub!A:B,2,0),\"\")","v":""},""]
[null,null,null,null,null,{"$f":"IFERROR(VLOOKUP(SUBSTITUTE(CONCATENATE(B314,\"_\",D314,\"_\",C314),\" - \",\"_\"),Список_Sub!A:B,2,0),\"\")","v":""},""]
[null,null,null,null,null,{"$f":"IFERROR(VLOOKUP(SUBSTITUTE(CONCATENATE(B315,\"_\",D315,\"_\",C315),\" - \",\"_\"),Список_Sub!A:B,2,0),\"\")","v":""},""]
[null,null,null,null,null,{"$f":"IFERROR(VLOOKUP(SUBSTITUTE(CONCATENATE(B316,\"_\",D316,\"_\",C316),\" - \",\"_\"),Список_Sub!A:B,2,0),\"\")","v":""},""]
[null,null,null,null,null,{"$f":"IFERROR(VLOOKUP(SUBSTITUTE(CONCATENATE(B317,\"_\",D317,\"_\",C317),\" - \",\"_\"),Список_Sub!A:B,2,0),\"\")","v":""},""]
[null,null,null,null,null,{"$f":"IFERROR(VLOOKUP(SUBSTITUTE(CONCATENATE(B318,\"_\",D318,\"_\",C318),\" - \",\"_\"),Список_Sub!A:B,2,0),\"\")","v":""},""]
[null,null,null,null,null,{"$f":"IFERROR(VLOOKUP(SUBSTITUTE(CONCATENATE(B319,\"_\",D319,\"_\",C319),\" - \",\"_\"),Список_Sub!A:B,2,0),\"\")","v":""},""]
[null,null,null,null,null,{"$f":"IFERROR(VLOOKUP(SUBSTITUTE(CONCATENATE(B320,\"_\",D320,\"_\",C320),\" - \",\"_\"),Список_Sub!A:B,2,0),\"\")","v":""},""]
[null,null,null,null,null,{"$f":"IFERROR(VLOOKUP(SUBSTITUTE(CONCATENATE(B321,\"_\",D321,\"_\",C321),\" - \",\"_\"),Список_Sub!A:B,2,0),\"\")","v":""},""]
[null,null,null,null,null,{"$f":"IFERROR(VLOOKUP(SUBSTITUTE(CONCATENATE(B322,\"_\",D322,\"_\",C322),\" - \",\"_\"),Список_Sub!A:B,2,0),\"\")","v":""},""]
[null,null,null,null,null,{"$f":"IFERROR(VLOOKUP(SUBSTITUTE(CONCATENATE(B323,\"_\",D323,\"_\",C323),\" - \",\"_\"),Список_Sub!A:B,2,0),\"\")","v":""},{"$f":"IF(AND(C323<>\"IP KONDRATYEV\",C323<>\"\"),VLOOKUP(D323,$O$2:$P$13,2,0),\"\")","v":""}]
[null,null,null,null,null,{"$f":"IFERROR(VLOOKUP(SUBSTITUTE(CONCATENATE(B324,\"_\",D324,\"_\",C324),\" - \",\"_\"),Список_Sub!A:B,2,0),\"\")","v":""},""]
[null,null,null,null,null,{"$f":"IFERROR(VLOOKUP(SUBSTITUTE(CONCATENATE(B325,\"_\",D325,\"_\",C325),\" - \",\"_\"),Список_Sub!A:B,2,0),\"\")","v":""},""]
[null,null,null,null,null,{"$f":"IFERROR(VLOOKUP(SUBSTITUTE(CONCATENATE(B326,\"_\",D326,\"_\",C326),\" - \",\"_\"),Список_Sub!A:B,2,0),\"\")","v":""},""]
[null,null,null,null,null,{"$f":"IFERROR(VLOOKUP(SUBSTITUTE(CONCATENATE(B327,\"_\",D327,\"_\",C327),\" - \",\"_\"),Список_Sub!A:B,2,0),\"\")","v":""},""]
[null,null,null,null,null,{"$f":"IFERROR(VLOOKUP(SUBSTITUTE(CONCATENATE(B328,\"_\",D328,\"_\",C328),\" - \",\"_\"),Список_Sub!A:B,2,0),\"\")","v":""},""]
[null,null,null,null,null,{"$f":"IFERROR(VLOOKUP(SUBSTITUTE(CONCATENATE(B329,\"_\",D329,\"_\",C329),\" - \",\"_\"),Список_Sub!A:B,2,0),\"\")","v":""},""]
[null,null,null,null,null,{"$f":"IFERROR(VLOOKUP(SUBSTITUTE(CONCATENATE(B330,\"_\",D330,\"_\",C330),\" - \",\"_\"),Список_Sub!A:B,2,0),\"\")","v":""},""]
[null,null,null,null,null,{"$f":"IFERROR(VLOOKUP(SUBSTITUTE(CONCATENATE(B331,\"_\",D331,\"_\",C331),\" - \",\"_\"),Список_Sub!A:B,2,0),\"\")","v":""},""]
[null,null,null,null,null,{"$f":"IFERROR(VLOOKUP(SUBSTITUTE(CONCATENATE(B332,\"_\",D332,\"_\",C332),\" - \",\"_\"),Список_Sub!A:B,2,0),\"\")","v":""},""]
[null,null,null,null,null,{"$f":"IFERROR(VLOOKUP(SUBSTITUTE(CONCATENATE(B333,\"_\",D333,\"_\",C333),\" - \",\"_\"),Список_Sub!A:B,2,0),\"\")","v":""},""]
[null,null,null,null,null,{"$f":"IFERROR(VLOOKUP(SUBSTITUTE(CONCATENATE(B334,\"_\",D334,\"_\",C334),\" - \",\"_\"),Список_Sub!A:B,2,0),\"\")","v":""},""]
[null,null,null,null,null,{"$f":"IFERROR(VLOOKUP(SUBSTITUTE(CONCATENATE(B335,\"_\",D335,\"_\",C335),\" - \",\"_\"),Список_Sub!A:B,2,0),\"\")","v":""},""]
[null,null,null,null,null,{"$f":"IFERROR(VLOOKUP(SUBSTITUTE(CONCATENATE(B336,\"_\",D336,\"_\",C336),\" - \",\"_\"),Список_Sub!A:B,2,0),\"\")","v":""},""]
[null,null,null,null,null,{"$f":"IFERROR(VLOOKUP(SUBSTITUTE(CONCATENATE(B337,\"_\",D337,\"_\",C337),\" - \",\"_\"),Список_Sub!A:B,2,0),\"\")","v":""},""]
[null,null,null,null,null,{"$f":"IFERROR(VLOOKUP(SUBSTITUTE(CONCATENATE(B338,\"_\",D338,\"_\",C338),\" - \",\"_\"),Список_Sub!A:B,2,0),\"\")","v":""},""]
[null,null,null,null,null,{"$f":"IFERROR(VLOOKUP(SUBSTITUTE(CONCATENATE(B339,\"_\",D339,\"_\",C339),\" - \",\"_\"),Список_Sub!A:B,2,0),\"\")","v":""},""]
[null,null,null,null,null,{"$f":"IFERROR(VLOOKUP(SUBSTITUTE(CONCATENATE(B340,\"_\",D340,\"_\",C340),\" - \",\"_\"),Список_Sub!A:B,2,0),\"\")","v":""},""]
[null,null,null,null,null,{"$f":"IFERROR(VLOOKUP(SUBSTITUTE(CONCATENATE(B341,\"_\",D341,\"_\",C341),\" - \",\"_\"),Список_Sub!A:B,2,0),\"\")","v":""},""]
[null,null,null,null,null,{"$f":"IFERROR(VLOOKUP(SUBSTITUTE(CONCATENATE(B342,\"_\",D342,\"_\",C342),\" - \",\"_\"),Список_Sub!A:B,2,0),\"\")","v":""},""]
[null,null,null,null,null,{"$f":"IFERROR(VLOOKUP(SUBSTITUTE(CONCATENATE(B343,\"_\",D343,\"_\",C343),\" - \",\"_\"),Список_Sub!A:B,2,0),\"\")","v":""},""]
[null,null,null,null,null,{"$f":"IFERROR(VLOOKUP(SUBSTITUTE(CONCATENATE(B344,\"_\",D344,\"_\",C344),\" - \",\"_\"),Список_Sub!A:B,2,0),\"\")","v":""},""]
[null,null,null,null,null,{"$f":"IFERROR(VLOOKUP(SUBSTITUTE(CONCATENATE(B345,\"_\",D345,\"_\",C345),\" - \",\"_\"),Список_Sub!A:B,2,0),\"\")","v":""},""]
[null,null,null,null,null,{"$f":"IFERROR(VLOOKUP(SUBSTITUTE(CONCATENATE(B346,\"_\",D346,\"_\",C346),\" - \",\"_\"),Список_Sub!A:B,2,0),\"\")","v":""},""]
[null,null,null,null,null,{"$f":"IFERROR(VLOOKUP(SUBSTITUTE(CONCATENATE(B347,\"_\",D347,\"_\",C347),\" - \",\"_\"),Список_Sub!A:B,2,0),\"\")","v":""},""]
[null,null,null,null,null,{"$f":"IFERROR(VLOOKUP(SUBSTITUTE(CONCATENATE(B348,\"_\",D348,\"_\",C348),\" - \",\"_\"),Список_Sub!A:B,2,0),\"\")","v":""},""]
[null,null,null,null,null,{"$f":"IFERROR(VLOOKUP(SUBSTITUTE(CONCATENATE(B349,\"_\",D349,\"_\",C349),\" - \",\"_\"),Список_Sub!A:B,2,0),\"\")","v":""},""]
[null,null,null,null,null,{"$f":"IFERROR(VLOOKUP(SUBSTITUTE(CONCATENATE(B350,\"_\",D350,\"_\",C350),\" - \",\"_\"),Список_Sub!A:B,2,0),\"\")","v":""},""]
[null,null,null,null,null,{"$f":"IFERROR(VLOOKUP(SUBSTITUTE(CONCATENATE(B351,\"_\",D351,\"_\",C351),\" - \",\"_\"),Список_Sub!A:B,2,0),\"\")","v":""},""]
[null,null,null,null,null,{"$f":"IFERROR(VLOOKUP(SUBSTITUTE(CONCATENATE(B352,\"_\",D352,\"_\",C352),\" - \",\"_\"),Список_Sub!A:B,2,0),\"\")","v":""},""]
[null,null,null,null,null,{"$f":"IFERROR(VLOOKUP(SUBSTITUTE(CONCATENATE(B353,\"_\",D353,\"_\",C353),\" - \",\"_\"),Список_Sub!A:B,2,0),\"\")","v":""},""]
[null,null,null,null,null,{"$f":"IFERROR(VLOOKUP(SUBSTITUTE(CONCATENATE(B354,\"_\",D354,\"_\",C354),\" - \",\"_\"),Список_Sub!A:B,2,0),\"\")","v":""},""]
[null,null,null,null,null,{"$f":"IFERROR(VLOOKUP(SUBSTITUTE(CONCATENATE(B355,\"_\",D355,\"_\",C355),\" - \",\"_\"),Список_Sub!A:B,2,0),\"\")","v":""},""]
[null,null,null,null,null,{"$f":"IFERROR(VLOOKUP(SUBSTITUTE(CONCATENATE(B356,\"_\",D356,\"_\",C356),\" - \",\"_\"),Список_Sub!A:B,2,0),\"\")","v":""},""]
[null,null,null,null,null,{"$f":"IFERROR(VLOOKUP(SUBSTITUTE(CONCATENATE(B357,\"_\",D357,\"_\",C357),\" - \",\"_\"),Список_Sub!A:B,2,0),\"\")","v":""},""]
[null,null,null,null,null,{"$f":"IFERROR(VLOOKUP(SUBSTITUTE(CONCATENATE(B358,\"_\",D358,\"_\",C358),\" - \",\"_\"),Список_Sub!A:B,2,0),\"\")","v":""},""]
[null,null,null,null,null,{"$f":"IFERROR(VLOOKUP(SUBSTITUTE(CONCATENATE(B359,\"_\",D359,\"_\",C359),\" - \",\"_\"),Список_Sub!A:B,2,0),\"\")","v":""},""]
[null,null,null,null,null,{"$f":"IFERROR(VLOOKUP(SUBSTITUTE(CONCATENATE(B360,\"_\",D360,\"_\",C360),\" - \",\"_\"),Список_Sub!A:B,2,0),\"\")","v":""},""]
[null,null,null,null,null,{"$f":"IFERROR(VLOOKUP(SUBSTITUTE(CONCATENATE(B361,\"_\",D361,\"_\",C361),\" - \",\"_\"),Список_Sub!A:B,2,0),\"\")","v":""},""]
[null,null,null,null,null,{"$f":"IFERROR(VLOOKUP(SUBSTITUTE(CONCATENATE(B362,\"_\",D362,\"_\",C362),\" - \",\"_\"),Список_Sub!A:B,2,0),\"\")","v":""},""]
[null,null,null,null,null,{"$f":"IFERROR(VLOOKUP(SUBSTITUTE(CONCATENATE(B363,\"_\",D363,\"_\",C363),\" - \",\"_\"),Список_Sub!A:B,2,0),\"\")","v":""},""]
[null,null,null,null,null,{"$f":"IFERROR(VLOOKUP(SUBSTITUTE(CONCATENATE(B364,\"_\",D364,\"_\",C364),\" - \",\"_\"),Список_Sub!A:B,2,0),\"\")","v":""},""]
[null,null,null,null,null,{"$f":"IFERROR(VLOOKUP(SUBSTITUTE(CONCATENATE(B365,\"_\",D365,\"_\",C365),\" - \",\"_\"),Список_Sub!A:B,2,0),\"\")","v":""},""]
[null,null,null,null,null,{"$f":"IFERROR(VLOOKUP(SUBSTITUTE(CONCATENATE(B366,\"_\",D366,\"_\",C366),\" - \",\"_\"),Список_Sub!A:B,2,0),\"\")","v":""},""]
[null,null,null,null,null,{"$f":"IFERROR(VLOOKUP(SUBSTITUTE(CONCATENATE(B367,\"_\",D367,\"_\",C367),\" - \",\"_\"),Список_Sub!A:B,2,0),\"\")","v":""},""]
[null,null,null,null,null,{"$f":"IFERROR(VLOOKUP(SUBSTITUTE(CONCATENATE(B368,\"_\",D368,\"_\",C368),\" - \",\"_\"),Список_Sub!A:B,2,0),\"\")","v":""},""]
[null,null,null,null,null,{"$f":"IFERROR(VLOOKUP(SUBSTITUTE(CONCATENATE(B369,\"_\",D369,\"_\",C369),\" - \",\"_\"),Список_Sub!A:B,2,0),\"\")","v":""},""]
[null,null,null,null,null,{"$f":"IFERROR(VLOOKUP(SUBSTITUTE(CONCATENATE(B370,\"_\",D370,\"_\",C370),\" - \",\"_\"),Список_Sub!A:B,2,0),\"\")","v":""},""]
[null,null,null,null,null,{"$f":"IFERROR(VLOOKUP(SUBSTITUTE(CONCATENATE(B371,\"_\",D371,\"_\",C371),\" - \",\"_\"),Список_Sub!A:B,2,0),\"\")","v":""},""]
[null,null,null,null,null,{"$f":"IFERROR(VLOOKUP(SUBSTITUTE(CONCATENATE(B372,\"_\",D372,\"_\",C372),\" - \",\"_\"),Список_Sub!A:B,2,0),\"\")","v":""},""]
[null,null,null,null,null,{"$f":"IFERROR(VLOOKUP(SUBSTITUTE(CONCATENATE(B373,\"_\",D373,\"_\",C373),\" - \",\"_\"),Список_Sub!A:B,2,0),\"\")","v":""},""]
[null,null,null,null,null,{"$f":"IFERROR(VLOOKUP(SUBSTITUTE(CONCATENATE(B374,\"_\",D374,\"_\",C374),\" - \",\"_\"),Список_Sub!A:B,2,0),\"\")","v":""},""]
[null,null,null,null,null,{"$f":"IFERROR(VLOOKUP(SUBSTITUTE(CONCATENATE(B375,\"_\",D375,\"_\",C375),\" - \",\"_\"),Список_Sub!A:B,2,0),\"\")","v":""},""]
[null,null,null,null,null,{"$f":"IFERROR(VLOOKUP(SUBSTITUTE(CONCATENATE(B376,\"_\",D376,\"_\",C376),\" - \",\"_\"),Список_Sub!A:B,2,0),\"\")","v":""},""]
[null,null,null,null,null,{"$f":"IFERROR(VLOOKUP(SUBSTITUTE(CONCATENATE(B377,\"_\",D377,\"_\",C377),\" - \",\"_\"),Список_Sub!A:B,2,0),\"\")","v":""},""]
[null,null,null,null,null,{"$f":"IFERROR(VLOOKUP(SUBSTITUTE(CONCATENATE(B378,\"_\",D378,\"_\",C378),\" - \",\"_\"),Список_Sub!A:B,2,0),\"\")","v":""},""]
[null,null,null,null,null,{"$f":"IFERROR(VLOOKUP(SUBSTITUTE(CONCATENATE(B379,\"_\",D379,\"_\",C379),\" - \",\"_\"),Список_Sub!A:B,2,0),\"\")","v":""},""]
[null,null,null,null,null,{"$f":"IFERROR(VLOOKUP(SUBSTITUTE(CONCATENATE(B380,\"_\",D380,\"_\",C380),\" - \",\"_\"),Список_Sub!A:B,2,0),\"\")","v":""},""]
[null,null,null,null,null,{"$f":"IFERROR(VLOOKUP(SUBSTITUTE(CONCATENATE(B381,\"_\",D381,\"_\",C381),\" - \",\"_\"),Список_Sub!A:B,2,0),\"\")","v":""},""]
[null,null,null,null,null,{"$f":"IFERROR(VLOOKUP(SUBSTITUTE(CONCATENATE(B382,\"_\",D382,\"_\",C382),\" - \",\"_\"),Список_Sub!A:B,2,0),\"\")","v":""},""]
[null,null,null,null,null,{"$f":"IFERROR(VLOOKUP(SUBSTITUTE(CONCATENATE(B383,\"_\",D383,\"_\",C383),\" - \",\"_\"),Список_Sub!A:B,2,0),\"\")","v":""},""]
[null,null,null,null,null,{"$f":"IFERROR(VLOOKUP(SUBSTITUTE(CONCATENATE(B384,\"_\",D384,\"_\",C384),\" - \",\"_\"),Список_Sub!A:B,2,0),\"\")","v":""},""]
[null,null,null,null,null,{"$f":"IFERROR(VLOOKUP(SUBSTITUTE(CONCATENATE(B385,\"_\",D385,\"_\",C385),\" - \",\"_\"),Список_Sub!A:B,2,0),\"\")","v":""},""]
[null,null,null,null,null,{"$f":"IFERROR(VLOOKUP(SUBSTITUTE(CONCATENATE(B386,\"_\",D386,\"_\",C386),\" - \",\"_\"),Список_Sub!A:B,2,0),\"\")","v":""},""]
[null,null,null,null,null,{"$f":"IFERROR(VLOOKUP(SUBSTITUTE(CONCATENATE(B387,\"_\",D387,\"_\",C387),\" - \",\"_\"),Список_Sub!A:B,2,0),\"\")","v":""},{"$f":"IF(AND(C387<>\"IP KONDRATYEV\",C387<>\"\"),VLOOKUP(D387,$O$2:$P$13,2,0),\"\")","v":""}]
[null,null,null,null,null,{"$f":"IFERROR(VLOOKUP(SUBSTITUTE(CONCATENATE(B388,\"_\",D388,\"_\",C388),\" - \",\"_\"),Список_Sub!A:B,2,0),\"\")","v":""},""]
[null,null,null,null,null,{"$f":"IFERROR(VLOOKUP(SUBSTITUTE(CONCATENATE(B389,\"_\",D389,\"_\",C389),\" - \",\"_\"),Список_Sub!A:B,2,0),\"\")","v":""},""]
[null,null,null,null,null,{"$f":"IFERROR(VLOOKUP(SUBSTITUTE(CONCATENATE(B390,\"_\",D390,\"_\",C390),\" - \",\"_\"),Список_Sub!A:B,2,0),\"\")","v":""},""]
[null,null,null,null,null,{"$f":"IFERROR(VLOOKUP(SUBSTITUTE(CONCATENATE(B391,\"_\",D391,\"_\",C391),\" - \",\"_\"),Список_Sub!A:B,2,0),\"\")","v":""},""]
[null,null,null,null,null,{"$f":"IFERROR(VLOOKUP(SUBSTITUTE(CONCATENATE(B392,\"_\",D392,\"_\",C392),\" - \",\"_\"),Список_Sub!A:B,2,0),\"\")","v":""},""]
[null,null,null,null,null,{"$f":"IFERROR(VLOOKUP(SUBSTITUTE(CONCATENATE(B393,\"_\",D393,\"_\",C393),\" - \",\"_\"),Список_Sub!A:B,2,0),\"\")","v":""},""]
[null,null,null,null,null,{"$f":"IFERROR(VLOOKUP(SUBSTITUTE(CONCATENATE(B394,\"_\",D394,\"_\",C394),\" - \",\"_\"),Список_Sub!A:B,2,0),\"\")","v":""},""]
[null,null,null,null,null,{"$f":"IFERROR(VLOOKUP(SUBSTITUTE(CONCATENATE(B395,\"_\",D395,\"_\",C395),\" - \",\"_\"),Список_Sub!A:B,2,0),\"\")","v":""},""]
[null,null,null,null,null,{"$f":"IFERROR(VLOOKUP(SUBSTITUTE(CONCATENATE(B396,\"_\",D396,\"_\",C396),\" - \",\"_\"),Список_Sub!A:B,2,0),\"\")","v":""},""]
[null,null,null,null,null,{"$f":"IFERROR(VLOOKUP(SUBSTITUTE(CONCATENATE(B397,\"_\",D397,\"_\",C397),\" - \",\"_\"),Список_Sub!A:B,2,0),\"\")","v":""},""]
[null,null,null,null,null,{"$f":"IFERROR(VLOOKUP(SUBSTITUTE(CONCATENATE(B398,\"_\",D398,\"_\",C398),\" - \",\"_\"),Список_Sub!A:B,2,0),\"\")","v":""},""]
[null,null,null,null,null,{"$f":"IFERROR(VLOOKUP(SUBSTITUTE(CONCATENATE(B399,\"_\",D399,\"_\",C399),\" - \",\"_\"),Список_Sub!A:B,2,0),\"\")","v":""},""]
[null,null,null,null,null,{"$f":"IFERROR(VLOOKUP(SUBSTITUTE(CONCATENATE(B400,\"_\",D400,\"_\",C400),\" - \",\"_\"),Список_Sub!A:B,2,0),\"\")","v":""},""]
[null,null,null,null,null,{"$f":"IFERROR(VLOOKUP(SUBSTITUTE(CONCATENATE(B401,\"_\",D401,\"_\",C401),\" - \",\"_\"),Список_Sub!A:B,2,0),\"\")","v":""},""]
[null,null,null,null,null,{"$f":"IFERROR(VLOOKUP(SUBSTITUTE(CONCATENATE(B402,\"_\",D402,\"_\",C402),\" - \",\"_\"),Список_Sub!A:B,2,0),\"\")","v":""},""]
[null,null,null,null,null,{"$f":"IFERROR(VLOOKUP(SUBSTITUTE(CONCATENATE(B403,\"_\",D403,\"_\",C403),\" - \",\"_\"),Список_Sub!A:B,2,0),\"\")","v":""},""]
[null,null,null,null,null,{"$f":"IFERROR(VLOOKUP(SUBSTITUTE(CONCATENATE(B404,\"_\",D404,\"_\",C404),\" - \",\"_\"),Список_Sub!A:B,2,0),\"\")","v":""},""]
[null,null,null,null,null,{"$f":"IFERROR(VLOOKUP(SUBSTITUTE(CONCATENATE(B405,\"_\",D405,\"_\",C405),\" - \",\"_\"),Список_Sub!A:B,2,0),\"\")","v":""},""]
[null,null,null,null,null,{"$f":"IFERROR(VLOOKUP(SUBSTITUTE(CONCATENATE(B406,\"_\",D406,\"_\",C406),\" - \",\"_\"),Список_Sub!A:B,2,0),\"\")","v":""},""]
[null,null,null,null,null,{"$f":"IFERROR(VLOOKUP(SUBSTITUTE(CONCATENATE(B407,\"_\",D407,\"_\",C407),\" - \",\"_\"),Список_Sub!A:B,2,0),\"\")","v":""},""]
[null,null,null,null,null,{"$f":"IFERROR(VLOOKUP(SUBSTITUTE(CONCATENATE(B408,\"_\",D408,\"_\",C408),\" - \",\"_\"),Список_Sub!A:B,2,0),\"\")","v":""},""]
[null,null,null,null,null,{"$f":"IFERROR(VLOOKUP(SUBSTITUTE(CONCATENATE(B409,\"_\",D409,\"_\",C409),\" - \",\"_\"),Список_Sub!A:B,2,0),\"\")","v":""},""]
[null,null,null,null,null,{"$f":"IFERROR(VLOOKUP(SUBSTITUTE(CONCATENATE(B410,\"_\",D410,\"_\",C410),\" - \",\"_\"),Список_Sub!A:B,2,0),\"\")","v":""},""]
[null,null,null,null,null,{"$f":"IFERROR(VLOOKUP(SUBSTITUTE(CONCATENATE(B411,\"_\",D411,\"_\",C411),\" - \",\"_\"),Список_Sub!A:B,2,0),\"\")","v":""},""]
[null,null,null,null,null,{"$f":"IFERROR(VLOOKUP(SUBSTITUTE(CONCATENATE(B412,\"_\",D412,\"_\",C412),\" - \",\"_\"),Список_Sub!A:B,2,0),\"\")","v":""},""]
[null,null,null,null,null,{"$f":"IFERROR(VLOOKUP(SUBSTITUTE(CONCATENATE(B413,\"_\",D413,\"_\",C413),\" - \",\"_\"),Список_Sub!A:B,2,0),\"\")","v":""},""]
[null,null,null,null,null,{"$f":"IFERROR(VLOOKUP(SUBSTITUTE(CONCATENATE(B414,\"_\",D414,\"_\",C414),\" - \",\"_\"),Список_Sub!A:B,2,0),\"\")","v":""},""]
[null,null,null,null,null,{"$f":"IFERROR(VLOOKUP(SUBSTITUTE(CONCATENATE(B415,\"_\",D415,\"_\",C415),\" - \",\"_\"),Список_Sub!A:B,2,0),\"\")","v":""},""]
[null,null,null,null,null,{"$f":"IFERROR(VLOOKUP(SUBSTITUTE(CONCATENATE(B416,\"_\",D416,\"_\",C416),\" - \",\"_\"),Список_Sub!A:B,2,0),\"\")","v":""},""]
[null,null,null,null,null,{"$f":"IFERROR(VLOOKUP(SUBSTITUTE(CONCATENATE(B417,\"_\",D417,\"_\",C417),\" - \",\"_\"),Список_Sub!A:B,2,0),\"\")","v":""},""]
[null,null,null,null,null,{"$f":"IFERROR(VLOOKUP(SUBSTITUTE(CONCATENATE(B418,\"_\",D418,\"_\",C418),\" - \",\"_\"),Список_Sub!A:B,2,0),\"\")","v":""},""]
[null,null,null,null,null,{"$f":"IFERROR(VLOOKUP(SUBSTITUTE(CONCATENATE(B419,\"_\",D419,\"_\",C419),\" - \",\"_\"),Список_Sub!A:B,2,0),\"\")","v":""},""]
[null,null,null,null,null,{"$f":"IFERROR(VLOOKUP(SUBSTITUTE(CONCATENATE(B420,\"_\",D420,\"_\",C420),\" - \",\"_\"),Список_Sub!A:B,2,0),\"\")","v":""},""]
[null,null,null,null,null,{"$f":"IFERROR(VLOOKUP(SUBSTITUTE(CONCATENATE(B421,\"_\",D421,\"_\",C421),\" - \",\"_\"),Список_Sub!A:B,2,0),\"\")","v":""},""]
[null,null,null,null,null,{"$f":"IFERROR(VLOOKUP(SUBSTITUTE(CONCATENATE(B422,\"_\",D422,\"_\",C422),\" - \",\"_\"),Список_Sub!A:B,2,0),\"\")","v":""},""]
[null,null,null,null,null,{"$f":"IFERROR(VLOOKUP(SUBSTITUTE(CONCATENATE(B423,\"_\",D423,\"_\",C423),\" - \",\"_\"),Список_Sub!A:B,2,0),\"\")","v":""},""]
[null,null,null,null,null,{"$f":"IFERROR(VLOOKUP(SUBSTITUTE(CONCATENATE(B424,\"_\",D424,\"_\",C424),\" - \",\"_\"),Список_Sub!A:B,2,0),\"\")","v":""},""]
[null,null,null,null,null,{"$f":"IFERROR(VLOOKUP(SUBSTITUTE(CONCATENATE(B425,\"_\",D425,\"_\",C425),\" - \",\"_\"),Список_Sub!A:B,2,0),\"\")","v":""},""]
[null,null,null,null,null,{"$f":"IFERROR(VLOOKUP(SUBSTITUTE(CONCATENATE(B426,\"_\",D426,\"_\",C426),\" - \",\"_\"),Список_Sub!A:B,2,0),\"\")","v":""},""]
[null,null,null,null,null,{"$f":"IFERROR(VLOOKUP(SUBSTITUTE(CONCATENATE(B427,\"_\",D427,\"_\",C427),\" - \",\"_\"),Список_Sub!A:B,2,0),\"\")","v":""},""]
[null,null,null,null,null,{"$f":"IFERROR(VLOOKUP(SUBSTITUTE(CONCATENATE(B428,\"_\",D428,\"_\",C428),\" - \",\"_\"),Список_Sub!A:B,2,0),\"\")","v":""},""]
[null,null,null,null,null,{"$f":"IFERROR(VLOOKUP(SUBSTITUTE(CONCATENATE(B429,\"_\",D429,\"_\",C429),\" - \",\"_\"),Список_Sub!A:B,2,0),\"\")","v":""},""]
[null,null,null,null,null,{"$f":"IFERROR(VLOOKUP(SUBSTITUTE(CONCATENATE(B430,\"_\",D430,\"_\",C430),\" - \",\"_\"),Список_Sub!A:B,2,0),\"\")","v":""},""]
[null,null,null,null,null,{"$f":"IFERROR(VLOOKUP(SUBSTITUTE(CONCATENATE(B431,\"_\",D431,\"_\",C431),\" - \",\"_\"),Список_Sub!A:B,2,0),\"\")","v":""},""]
[null,null,null,null,null,{"$f":"IFERROR(VLOOKUP(SUBSTITUTE(CONCATENATE(B432,\"_\",D432,\"_\",C432),\" - \",\"_\"),Список_Sub!A:B,2,0),\"\")","v":""},""]
[null,null,null,null,null,{"$f":"IFERROR(VLOOKUP(SUBSTITUTE(CONCATENATE(B433,\"_\",D433,\"_\",C433),\" - \",\"_\"),Список_Sub!A:B,2,0),\"\")","v":""},""]
[null,null,null,null,null,{"$f":"IFERROR(VLOOKUP(SUBSTITUTE(CONCATENATE(B434,\"_\",D434,\"_\",C434),\" - \",\"_\"),Список_Sub!A:B,2,0),\"\")","v":""},""]
[null,null,null,null,null,{"$f":"IFERROR(VLOOKUP(SUBSTITUTE(CONCATENATE(B435,\"_\",D435,\"_\",C435),\" - \",\"_\"),Список_Sub!A:B,2,0),\"\")","v":""},""]
[null,null,null,null,null,{"$f":"IFERROR(VLOOKUP(SUBSTITUTE(CONCATENATE(B436,\"_\",D436,\"_\",C436),\" - \",\"_\"),Список_Sub!A:B,2,0),\"\")","v":""},""]
[null,null,null,null,null,{"$f":"IFERROR(VLOOKUP(SUBSTITUTE(CONCATENATE(B437,\"_\",D437,\"_\",C437),\" - \",\"_\"),Список_Sub!A:B,2,0),\"\")","v":""},""]
[null,null,null,null,null,{"$f":"IFERROR(VLOOKUP(SUBSTITUTE(CONCATENATE(B438,\"_\",D438,\"_\",C438),\" - \",\"_\"),Список_Sub!A:B,2,0),\"\")","v":""},""]
[null,null,null,null,null,{"$f":"IFERROR(VLOOKUP(SUBSTITUTE(CONCATENATE(B439,\"_\",D439,\"_\",C439),\" - \",\"_\"),Список_Sub!A:B,2,0),\"\")","v":""},""]
[null,null,null,null,null,{"$f":"IFERROR(VLOOKUP(SUBSTITUTE(CONCATENATE(B440,\"_\",D440,\"_\",C440),\" - \",\"_\"),Список_Sub!A:B,2,0),\"\")","v":""},""]
[null,null,null,null,null,{"$f":"IFERROR(VLOOKUP(SUBSTITUTE(CONCATENATE(B441,\"_\",D441,\"_\",C441),\" - \",\"_\"),Список_Sub!A:B,2,0),\"\")","v":""},""]
[null,null,null,null,null,{"$f":"IFERROR(VLOOKUP(SUBSTITUTE(CONCATENATE(B442,\"_\",D442,\"_\",C442),\" - \",\"_\"),Список_Sub!A:B,2,0),\"\")","v":""},""]
[null,null,null,null,null,{"$f":"IFERROR(VLOOKUP(SUBSTITUTE(CONCATENATE(B443,\"_\",D443,\"_\",C443),\" - \",\"_\"),Список_Sub!A:B,2,0),\"\")","v":""},""]
[null,null,null,null,null,{"$f":"IFERROR(VLOOKUP(SUBSTITUTE(CONCATENATE(B444,\"_\",D444,\"_\",C444),\" - \",\"_\"),Список_Sub!A:B,2,0),\"\")","v":""},""]
[null,null,null,null,null,{"$f":"IFERROR(VLOOKUP(SUBSTITUTE(CONCATENATE(B445,\"_\",D445,\"_\",C445),\" - \",\"_\"),Список_Sub!A:B,2,0),\"\")","v":""},""]
[null,null,null,null,null,{"$f":"IFERROR(VLOOKUP(SUBSTITUTE(CONCATENATE(B446,\"_\",D446,\"_\",C446),\" - \",\"_\"),Список_Sub!A:B,2,0),\"\")","v":""},""]
[null,null,null,null,null,{"$f":"IFERROR(VLOOKUP(SUBSTITUTE(CONCATENATE(B447,\"_\",D447,\"_\",C447),\" - \",\"_\"),Список_Sub!A:B,2,0),\"\")","v":""},""]
[null,null,null,null,null,{"$f":"IFERROR(VLOOKUP(SUBSTITUTE(CONCATENATE(B448,\"_\",D448,\"_\",C448),\" - \",\"_\"),Список_Sub!A:B,2,0),\"\")","v":""},""]
[null,null,null,null,null,{"$f":"IFERROR(VLOOKUP(SUBSTITUTE(CONCATENATE(B449,\"_\",D449,\"_\",C449),\" - \",\"_\"),Список_Sub!A:B,2,0),\"\")","v":""},""]
[null,null,null,null,null,{"$f":"IFERROR(VLOOKUP(SUBSTITUTE(CONCATENATE(B450,\"_\",D450,\"_\",C450),\" - \",\"_\"),Список_Sub!A:B,2,0),\"\")","v":""},""]
[null,null,null,null,null,{"$f":"IFERROR(VLOOKUP(SUBSTITUTE(CONCATENATE(B451,\"_\",D451,\"_\",C451),\" - \",\"_\"),Список_Sub!A:B,2,0),\"\")","v":""},{"$f":"IF(AND(C451<>\"IP KONDRATYEV\",C451<>\"\"),VLOOKUP(D451,$O$2:$P$13,2,0),\"\")","v":""}]
[null,null,null,null,null,{"$f":"IFERROR(VLOOKUP(SUBSTITUTE(CONCATENATE(B452,\"_\",D452,\"_\",C452),\" - \",\"_\"),Список_Sub!A:B,2,0),\"\")","v":""},""]
[null,null,null,null,null,{"$f":"IFERROR(VLOOKUP(SUBSTITUTE(CONCATENATE(B453,\"_\",D453,\"_\",C453),\" - \",\"_\"),Список_Sub!A:B,2,0),\"\")","v":""},""]
[null,null,null,null,null,{"$f":"IFERROR(VLOOKUP(SUBSTITUTE(CONCATENATE(B454,\"_\",D454,\"_\",C454),\" - \",\"_\"),Список_Sub!A:B,2,0),\"\")","v":""},""]
[null,null,null,null,null,{"$f":"IFERROR(VLOOKUP(SUBSTITUTE(CONCATENATE(B455,\"_\",D455,\"_\",C455),\" - \",\"_\"),Список_Sub!A:B,2,0),\"\")","v":""},""]
[null,null,null,null,null,{"$f":"IFERROR(VLOOKUP(SUBSTITUTE(CONCATENATE(B456,\"_\",D456,\"_\",C456),\" - \",\"_\"),Список_Sub!A:B,2,0),\"\")","v":""},""]
[null,null,null,null,null,{"$f":"IFERROR(VLOOKUP(SUBSTITUTE(CONCATENATE(B457,\"_\",D457,\"_\",C457),\" - \",\"_\"),Список_Sub!A:B,2,0),\"\")","v":""},""]
[null,null,null,null,null,{"$f":"IFERROR(VLOOKUP(SUBSTITUTE(CONCATENATE(B458,\"_\",D458,\"_\",C458),\" - \",\"_\"),Список_Sub!A:B,2,0),\"\")","v":""},""]
[null,null,null,null,null,{"$f":"IFERROR(VLOOKUP(SUBSTITUTE(CONCATENATE(B459,\"_\",D459,\"_\",C459),\" - \",\"_\"),Список_Sub!A:B,2,0),\"\")","v":""},""]
[null,null,null,null,null,{"$f":"IFERROR(VLOOKUP(SUBSTITUTE(CONCATENATE(B460,\"_\",D460,\"_\",C460),\" - \",\"_\"),Список_Sub!A:B,2,0),\"\")","v":""},""]
[null,null,null,null,null,{"$f":"IFERROR(VLOOKUP(SUBSTITUTE(CONCATENATE(B461,\"_\",D461,\"_\",C461),\" - \",\"_\"),Список_Sub!A:B,2,0),\"\")","v":""},""]
[null,null,null,null,null,{"$f":"IFERROR(VLOOKUP(SUBSTITUTE(CONCATENATE(B462,\"_\",D462,\"_\",C462),\" - \",\"_\"),Список_Sub!A:B,2,0),\"\")","v":""},""]
[null,null,null,null,null,{"$f":"IFERROR(VLOOKUP(SUBSTITUTE(CONCATENATE(B463,\"_\",D463,\"_\",C463),\" - \",\"_\"),Список_Sub!A:B,2,0),\"\")","v":""},""]
[null,null,null,null,null,{"$f":"IFERROR(VLOOKUP(SUBSTITUTE(CONCATENATE(B464,\"_\",D464,\"_\",C464),\" - \",\"_\"),Список_Sub!A:B,2,0),\"\")","v":""},""]
[null,null,null,null,null,{"$f":"IFERROR(VLOOKUP(SUBSTITUTE(CONCATENATE(B465,\"_\",D465,\"_\",C465),\" - \",\"_\"),Список_Sub!A:B,2,0),\"\")","v":""},""]
[null,null,null,null,null,{"$f":"IFERROR(VLOOKUP(SUBSTITUTE(CONCATENATE(B466,\"_\",D466,\"_\",C466),\" - \",\"_\"),Список_Sub!A:B,2,0),\"\")","v":""},""]
[null,null,null,null,null,{"$f":"IFERROR(VLOOKUP(SUBSTITUTE(CONCATENATE(B467,\"_\",D467,\"_\",C467),\" - \",\"_\"),Список_Sub!A:B,2,0),\"\")","v":""},""]
[null,null,null,null,null,{"$f":"IFERROR(VLOOKUP(SUBSTITUTE(CONCATENATE(B468,\"_\",D468,\"_\",C468),\" - \",\"_\"),Список_Sub!A:B,2,0),\"\")","v":""},""]
[null,null,null,null,null,{"$f":"IFERROR(VLOOKUP(SUBSTITUTE(CONCATENATE(B469,\"_\",D469,\"_\",C469),\" - \",\"_\"),Список_Sub!A:B,2,0),\"\")","v":""},""]
[null,null,null,null,null,{"$f":"IFERROR(VLOOKUP(SUBSTITUTE(CONCATENATE(B470,\"_\",D470,\"_\",C470),\" - \",\"_\"),Список_Sub!A:B,2,0),\"\")","v":""},""]
[null,null,null,null,null,{"$f":"IFERROR(VLOOKUP(SUBSTITUTE(CONCATENATE(B471,\"_\",D471,\"_\",C471),\" - \",\"_\"),Список_Sub!A:B,2,0),\"\")","v":""},""]
[null,null,null,null,null,{"$f":"IFERROR(VLOOKUP(SUBSTITUTE(CONCATENATE(B472,\"_\",D472,\"_\",C472),\" - \",\"_\"),Список_Sub!A:B,2,0),\"\")","v":""},""]
[null,null,null,null,null,{"$f":"IFERROR(VLOOKUP(SUBSTITUTE(CONCATENATE(B473,\"_\",D473,\"_\",C473),\" - \",\"_\"),Список_Sub!A:B,2,0),\"\")","v":""},""]
[null,null,null,null,null,{"$f":"IFERROR(VLOOKUP(SUBSTITUTE(CONCATENATE(B474,\"_\",D474,\"_\",C474),\" - \",\"_\"),Список_Sub!A:B,2,0),\"\")","v":""},""]
[null,null,null,null,null,{"$f":"IFERROR(VLOOKUP(SUBSTITUTE(CONCATENATE(B475,\"_\",D475,\"_\",C475),\" - \",\"_\"),Список_Sub!A:B,2,0),\"\")","v":""},""]
[null,null,null,null,null,{"$f":"IFERROR(VLOOKUP(SUBSTITUTE(CONCATENATE(B476,\"_\",D476,\"_\",C476),\" - \",\"_\"),Список_Sub!A:B,2,0),\"\")","v":""},""]
[null,null,null,null,null,{"$f":"IFERROR(VLOOKUP(SUBSTITUTE(CONCATENATE(B477,\"_\",D477,\"_\",C477),\" - \",\"_\"),Список_Sub!A:B,2,0),\"\")","v":""},""]
[null,null,null,null,null,{"$f":"IFERROR(VLOOKUP(SUBSTITUTE(CONCATENATE(B478,\"_\",D478,\"_\",C478),\" - \",\"_\"),Список_Sub!A:B,2,0),\"\")","v":""},""]
[null,null,null,null,null,{"$f":"IFERROR(VLOOKUP(SUBSTITUTE(CONCATENATE(B479,\"_\",D479,\"_\",C479),\" - \",\"_\"),Список_Sub!A:B,2,0),\"\")","v":""},""]
[null,null,null,null,null,{"$f":"IFERROR(VLOOKUP(SUBSTITUTE(CONCATENATE(B480,\"_\",D480,\"_\",C480),\" - \",\"_\"),Список_Sub!A:B,2,0),\"\")","v":""},""]
[null,null,null,null,null,{"$f":"IFERROR(VLOOKUP(SUBSTITUTE(CONCATENATE(B481,\"_\",D481,\"_\",C481),\" - \",\"_\"),Список_Sub!A:B,2,0),\"\")","v":""},""]
[null,null,null,null,null,{"$f":"IFERROR(VLOOKUP(SUBSTITUTE(CONCATENATE(B482,\"_\",D482,\"_\",C482),\" - \",\"_\"),Список_Sub!A:B,2,0),\"\")","v":""},""]
[null,null,null,null,null,{"$f":"IFERROR(VLOOKUP(SUBSTITUTE(CONCATENATE(B483,\"_\",D483,\"_\",C483),\" - \",\"_\"),Список_Sub!A:B,2,0),\"\")","v":""},""]
[null,null,null,null,null,{"$f":"IFERROR(VLOOKUP(SUBSTITUTE(CONCATENATE(B484,\"_\",D484,\"_\",C484),\" - \",\"_\"),Список_Sub!A:B,2,0),\"\")","v":""},""]
[null,null,null,null,null,{"$f":"IFERROR(VLOOKUP(SUBSTITUTE(CONCATENATE(B485,\"_\",D485,\"_\",C485),\" - \",\"_\"),Список_Sub!A:B,2,0),\"\")","v":""},""]
[null,null,null,null,null,{"$f":"IFERROR(VLOOKUP(SUBSTITUTE(CONCATENATE(B486,\"_\",D486,\"_\",C486),\" - \",\"_\"),Список_Sub!A:B,2,0),\"\")","v":""},""]
[null,null,null,null,null,{"$f":"IFERROR(VLOOKUP(SUBSTITUTE(CONCATENATE(B487,\"_\",D487,\"_\",C487),\" - \",\"_\"),Список_Sub!A:B,2,0),\"\")","v":""},""]
[null,null,null,null,null,{"$f":"IFERROR(VLOOKUP(SUBSTITUTE(CONCATENATE(B488,\"_\",D488,\"_\",C488),\" - \",\"_\"),Список_Sub!A:B,2,0),\"\")","v":""},""]
[null,null,null,null,null,{"$f":"IFERROR(VLOOKUP(SUBSTITUTE(CONCATENATE(B489,\"_\",D489,\"_\",C489),\" - \",\"_\"),Список_Sub!A:B,2,0),\"\")","v":""},""]
[null,null,null,null,null,{"$f":"IFERROR(VLOOKUP(SUBSTITUTE(CONCATENATE(B490,\"_\",D490,\"_\",C490),\" - \",\"_\"),Список_Sub!A:B,2,0),\"\")","v":""},""]
[null,null,null,null,null,{"$f":"IFERROR(VLOOKUP(SUBSTITUTE(CONCATENATE(B491,\"_\",D491,\"_\",C491),\" - \",\"_\"),Список_Sub!A:B,2,0),\"\")","v":""},""]
[null,null,null,null,null,{"$f":"IFERROR(VLOOKUP(SUBSTITUTE(CONCATENATE(B492,\"_\",D492,\"_\",C492),\" - \",\"_\"),Список_Sub!A:B,2,0),\"\")","v":""},""]
[null,null,null,null,null,{"$f":"IFERROR(VLOOKUP(SUBSTITUTE(CONCATENATE(B493,\"_\",D493,\"_\",C493),\" - \",\"_\"),Список_Sub!A:B,2,0),\"\")","v":""},""]
[null,null,null,null,null,{"$f":"IFERROR(VLOOKUP(SUBSTITUTE(CONCATENATE(B494,\"_\",D494,\"_\",C494),\" - \",\"_\"),Список_Sub!A:B,2,0),\"\")","v":""},""]
[null,null,null,null,null,{"$f":"IFERROR(VLOOKUP(SUBSTITUTE(CONCATENATE(B495,\"_\",D495,\"_\",C495),\" - \",\"_\"),Список_Sub!A:B,2,0),\"\")","v":""},""]
[null,null,null,null,null,{"$f":"IFERROR(VLOOKUP(SUBSTITUTE(CONCATENATE(B496,\"_\",D496,\"_\",C496),\" - \",\"_\"),Список_Sub!A:B,2,0),\"\")","v":""},""]
[null,null,null,null,null,{"$f":"IFERROR(VLOOKUP(SUBSTITUTE(CONCATENATE(B497,\"_\",D497,\"_\",C497),\" - \",\"_\"),Список_Sub!A:B,2,0),\"\")","v":""},""]
[null,null,null,null,null,{"$f":"IFERROR(VLOOKUP(SUBSTITUTE(CONCATENATE(B498,\"_\",D498,\"_\",C498),\" - \",\"_\"),Список_Sub!A:B,2,0),\"\")","v":""},""]
[null,null,null,null,null,{"$f":"IFERROR(VLOOKUP(SUBSTITUTE(CONCATENATE(B499,\"_\",D499,\"_\",C499),\" - \",\"_\"),Список_Sub!A:B,2,0),\"\")","v":""},""]
[null,null,null,null,null,{"$f":"IFERROR(VLOOKUP(SUBSTITUTE(CONCATENATE(B500,\"_\",D500,\"_\",C500),\" - \",\"_\"),Список_Sub!A:B,2,0),\"\")","v":""},""]
[null,null,null,null,null,{"$f":"IFERROR(VLOOKUP(SUBSTITUTE(CONCATENATE(B501,\"_\",D501,\"_\",C501),\" - \",\"_\"),Список_Sub!A:B,2,0),\"\")","v":""},""]
[null,null,null,null,null,{"$f":"IFERROR(VLOOKUP(SUBSTITUTE(CONCATENATE(B502,\"_\",D502,\"_\",C502),\" - \",\"_\"),Список_Sub!A:B,2,0),\"\")","v":""},""]
[null,null,null,null,null,{"$f":"IFERROR(VLOOKUP(SUBSTITUTE(CONCATENATE(B503,\"_\",D503,\"_\",C503),\" - \",\"_\"),Список_Sub!A:B,2,0),\"\")","v":""},""]
[null,null,null,null,null,{"$f":"IFERROR(VLOOKUP(SUBSTITUTE(CONCATENATE(B504,\"_\",D504,\"_\",C504),\" - \",\"_\"),Список_Sub!A:B,2,0),\"\")","v":""},""]
[null,null,null,null,null,{"$f":"IFERROR(VLOOKUP(SUBSTITUTE(CONCATENATE(B505,\"_\",D505,\"_\",C505),\" - \",\"_\"),Список_Sub!A:B,2,0),\"\")","v":""},""]
[null,null,null,null,null,{"$f":"IFERROR(VLOOKUP(SUBSTITUTE(CONCATENATE(B506,\"_\",D506,\"_\",C506),\" - \",\"_\"),Список_Sub!A:B,2,0),\"\")","v":""},""]
[null,null,null,null,null,{"$f":"IFERROR(VLOOKUP(SUBSTITUTE(CONCATENATE(B507,\"_\",D507,\"_\",C507),\" - \",\"_\"),Список_Sub!A:B,2,0),\"\")","v":""},""]
[null,null,null,null,null,{"$f":"IFERROR(VLOOKUP(SUBSTITUTE(CONCATENATE(B508,\"_\",D508,\"_\",C508),\" - \",\"_\"),Список_Sub!A:B,2,0),\"\")","v":""},""]
[null,null,null,null,null,{"$f":"IFERROR(VLOOKUP(SUBSTITUTE(CONCATENATE(B509,\"_\",D509,\"_\",C509),\" - \",\"_\"),Список_Sub!A:B,2,0),\"\")","v":""},""]
[null,null,null,null,null,{"$f":"IFERROR(VLOOKUP(SUBSTITUTE(CONCATENATE(B510,\"_\",D510,\"_\",C510),\" - \",\"_\"),Список_Sub!A:B,2,0),\"\")","v":""},""]
[null,null,null,null,null,{"$f":"IFERROR(VLOOKUP(SUBSTITUTE(CONCATENATE(B511,\"_\",D511,\"_\",C511),\" - \",\"_\"),Список_Sub!A:B,2,0),\"\")","v":""},""]
[null,null,null,null,null,{"$f":"IFERROR(VLOOKUP(SUBSTITUTE(CONCATENATE(B512,\"_\",D512,\"_\",C512),\" - \",\"_\"),Список_Sub!A:B,2,0),\"\")","v":""},""]
[null,null,null,null,null,{"$f":"IFERROR(VLOOKUP(SUBSTITUTE(CONCATENATE(B513,\"_\",D513,\"_\",C513),\" - \",\"_\"),Список_Sub!A:B,2,0),\"\")","v":""},""]
[null,null,null,null,null,{"$f":"IFERROR(VLOOKUP(SUBSTITUTE(CONCATENATE(B514,\"_\",D514,\"_\",C514),\" - \",\"_\"),Список_Sub!A:B,2,0),\"\")","v":""},""]
[null,null,null,null,null,{"$f":"IFERROR(VLOOKUP(SUBSTITUTE(CONCATENATE(B515,\"_\",D515,\"_\",C515),\" - \",\"_\"),Список_Sub!A:B,2,0),\"\")","v":""},{"$f":"IF(AND(C515<>\"IP KONDRATYEV\",C515<>\"\"),VLOOKUP(D515,$O$2:$P$13,2,0),\"\")","v":""}]
[null,null,null,null,null,{"$f":"IFERROR(VLOOKUP(SUBSTITUTE(CONCATENATE(B516,\"_\",D516,\"_\",C516),\" - \",\"_\"),Список_Sub!A:B,2,0),\"\")","v":""},""]
[null,null,null,null,null,{"$f":"IFERROR(VLOOKUP(SUBSTITUTE(CONCATENATE(B517,\"_\",D517,\"_\",C517),\" - \",\"_\"),Список_Sub!A:B,2,0),\"\")","v":""},""]
[null,null,null,null,null,{"$f":"IFERROR(VLOOKUP(SUBSTITUTE(CONCATENATE(B518,\"_\",D518,\"_\",C518),\" - \",\"_\"),Список_Sub!A:B,2,0),\"\")","v":""},""]
[null,null,null,null,null,{"$f":"IFERROR(VLOOKUP(SUBSTITUTE(CONCATENATE(B519,\"_\",D519,\"_\",C519),\" - \",\"_\"),Список_Sub!A:B,2,0),\"\")","v":""},""]
[null,null,null,null,null,{"$f":"IFERROR(VLOOKUP(SUBSTITUTE(CONCATENATE(B520,\"_\",D520,\"_\",C520),\" - \",\"_\"),Список_Sub!A:B,2,0),\"\")","v":""},""]
[null,null,null,null,null,{"$f":"IFERROR(VLOOKUP(SUBSTITUTE(CONCATENATE(B521,\"_\",D521,\"_\",C521),\" - \",\"_\"),Список_Sub!A:B,2,0),\"\")","v":""},""]
[null,null,null,null,null,{"$f":"IFERROR(VLOOKUP(SUBSTITUTE(CONCATENATE(B522,\"_\",D522,\"_\",C522),\" - \",\"_\"),Список_Sub!A:B,2,0),\"\")","v":""},""]
[null,null,null,null,null,{"$f":"IFERROR(VLOOKUP(SUBSTITUTE(CONCATENATE(B523,\"_\",D523,\"_\",C523),\" - \",\"_\"),Список_Sub!A:B,2,0),\"\")","v":""},""]
[null,null,null,null,null,{"$f":"IFERROR(VLOOKUP(SUBSTITUTE(CONCATENATE(B524,\"_\",D524,\"_\",C524),\" - \",\"_\"),Список_Sub!A:B,2,0),\"\")","v":""},""]
[null,null,null,null,null,{"$f":"IFERROR(VLOOKUP(SUBSTITUTE(CONCATENATE(B525,\"_\",D525,\"_\",C525),\" - \",\"_\"),Список_Sub!A:B,2,0),\"\")","v":""},""]
[null,null,null,null,null,{"$f":"IFERROR(VLOOKUP(SUBSTITUTE(CONCATENATE(B526,\"_\",D526,\"_\",C526),\" - \",\"_\"),Список_Sub!A:B,2,0),\"\")","v":""},""]
[null,null,null,null,null,{"$f":"IFERROR(VLOOKUP(SUBSTITUTE(CONCATENATE(B527,\"_\",D527,\"_\",C527),\" - \",\"_\"),Список_Sub!A:B,2,0),\"\")","v":""},""]
[null,null,null,null,null,{"$f":"IFERROR(VLOOKUP(SUBSTITUTE(CONCATENATE(B528,\"_\",D528,\"_\",C528),\" - \",\"_\"),Список_Sub!A:B,2,0),\"\")","v":""},""]
[null,null,null,null,null,{"$f":"IFERROR(VLOOKUP(SUBSTITUTE(CONCATENATE(B529,\"_\",D529,\"_\",C529),\" - \",\"_\"),Список_Sub!A:B,2,0),\"\")","v":""},""]
[null,null,null,null,null,{"$f":"IFERROR(VLOOKUP(SUBSTITUTE(CONCATENATE(B530,\"_\",D530,\"_\",C530),\" - \",\"_\"),Список_Sub!A:B,2,0),\"\")","v":""},""]
[null,null,null,null,null,{"$f":"IFERROR(VLOOKUP(SUBSTITUTE(CONCATENATE(B531,\"_\",D531,\"_\",C531),\" - \",\"_\"),Список_Sub!A:B,2,0),\"\")","v":""},""]
[null,null,null,null,null,{"$f":"IFERROR(VLOOKUP(SUBSTITUTE(CONCATENATE(B532,\"_\",D532,\"_\",C532),\" - \",\"_\"),Список_Sub!A:B,2,0),\"\")","v":""},""]
[null,null,null,null,null,{"$f":"IFERROR(VLOOKUP(SUBSTITUTE(CONCATENATE(B533,\"_\",D533,\"_\",C533),\" - \",\"_\"),Список_Sub!A:B,2,0),\"\")","v":""},""]
[null,null,null,null,null,{"$f":"IFERROR(VLOOKUP(SUBSTITUTE(CONCATENATE(B534,\"_\",D534,\"_\",C534),\" - \",\"_\"),Список_Sub!A:B,2,0),\"\")","v":""},""]
[null,null,null,null,null,{"$f":"IFERROR(VLOOKUP(SUBSTITUTE(CONCATENATE(B535,\"_\",D535,\"_\",C535),\" - \",\"_\"),Список_Sub!A:B,2,0),\"\")","v":""},""]
[null,null,null,null,null,{"$f":"IFERROR(VLOOKUP(SUBSTITUTE(CONCATENATE(B536,\"_\",D536,\"_\",C536),\" - \",\"_\"),Список_Sub!A:B,2,0),\"\")","v":""},""]
[null,null,null,null,null,{"$f":"IFERROR(VLOOKUP(SUBSTITUTE(CONCATENATE(B537,\"_\",D537,\"_\",C537),\" - \",\"_\"),Список_Sub!A:B,2,0),\"\")","v":""},""]
[null,null,null,null,null,{"$f":"IFERROR(VLOOKUP(SUBSTITUTE(CONCATENATE(B538,\"_\",D538,\"_\",C538),\" - \",\"_\"),Список_Sub!A:B,2,0),\"\")","v":""},""]
[null,null,null,null,null,{"$f":"IFERROR(VLOOKUP(SUBSTITUTE(CONCATENATE(B539,\"_\",D539,\"_\",C539),\" - \",\"_\"),Список_Sub!A:B,2,0),\"\")","v":""},""]
[null,null,null,null,null,{"$f":"IFERROR(VLOOKUP(SUBSTITUTE(CONCATENATE(B540,\"_\",D540,\"_\",C540),\" - \",\"_\"),Список_Sub!A:B,2,0),\"\")","v":""},""]
[null,null,null,null,null,{"$f":"IFERROR(VLOOKUP(SUBSTITUTE(CONCATENATE(B541,\"_\",D541,\"_\",C541),\" - \",\"_\"),Список_Sub!A:B,2,0),\"\")","v":""},""]
[null,null,null,null,null,{"$f":"IFERROR(VLOOKUP(SUBSTITUTE(CONCATENATE(B542,\"_\",D542,\"_\",C542),\" - \",\"_\"),Список_Sub!A:B,2,0),\"\")","v":""},""]
[null,null,null,null,null,{"$f":"IFERROR(VLOOKUP(SUBSTITUTE(CONCATENATE(B543,\"_\",D543,\"_\",C543),\" - \",\"_\"),Список_Sub!A:B,2,0),\"\")","v":""},""]
[null,null,null,null,null,{"$f":"IFERROR(VLOOKUP(SUBSTITUTE(CONCATENATE(B544,\"_\",D544,\"_\",C544),\" - \",\"_\"),Список_Sub!A:B,2,0),\"\")","v":""},""]
[null,null,null,null,null,{"$f":"IFERROR(VLOOKUP(SUBSTITUTE(CONCATENATE(B545,\"_\",D545,\"_\",C545),\" - \",\"_\"),Список_Sub!A:B,2,0),\"\")","v":""},""]
[null,null,null,null,null,{"$f":"IFERROR(VLOOKUP(SUBSTITUTE(CONCATENATE(B546,\"_\",D546,\"_\",C546),\" - \",\"_\"),Список_Sub!A:B,2,0),\"\")","v":""},""]
[null,null,null,null,null,{"$f":"IFERROR(VLOOKUP(SUBSTITUTE(CONCATENATE(B547,\"_\",D547,\"_\",C547),\" - \",\"_\"),Список_Sub!A:B,2,0),\"\")","v":""},""]
[null,null,null,null,null,{"$f":"IFERROR(VLOOKUP(SUBSTITUTE(CONCATENATE(B548,\"_\",D548,\"_\",C548),\" - \",\"_\"),Список_Sub!A:B,2,0),\"\")","v":""},""]
[null,null,null,null,null,{"$f":"IFERROR(VLOOKUP(SUBSTITUTE(CONCATENATE(B549,\"_\",D549,\"_\",C549),\" - \",\"_\"),Список_Sub!A:B,2,0),\"\")","v":""},""]
[null,null,null,null,null,{"$f":"IFERROR(VLOOKUP(SUBSTITUTE(CONCATENATE(B550,\"_\",D550,\"_\",C550),\" - \",\"_\"),Список_Sub!A:B,2,0),\"\")","v":""},""]
[null,null,null,null,null,{"$f":"IFERROR(VLOOKUP(SUBSTITUTE(CONCATENATE(B551,\"_\",D551,\"_\",C551),\" - \",\"_\"),Список_Sub!A:B,2,0),\"\")","v":""},""]
[null,null,null,null,null,{"$f":"IFERROR(VLOOKUP(SUBSTITUTE(CONCATENATE(B552,\"_\",D552,\"_\",C552),\" - \",\"_\"),Список_Sub!A:B,2,0),\"\")","v":""},""]
[null,null,null,null,null,{"$f":"IFERROR(VLOOKUP(SUBSTITUTE(CONCATENATE(B553,\"_\",D553,\"_\",C553),\" - \",\"_\"),Список_Sub!A:B,2,0),\"\")","v":""},""]
[null,null,null,null,null,{"$f":"IFERROR(VLOOKUP(SUBSTITUTE(CONCATENATE(B554,\"_\",D554,\"_\",C554),\" - \",\"_\"),Список_Sub!A:B,2,0),\"\")","v":""},""]
[null,null,null,null,null,{"$f":"IFERROR(VLOOKUP(SUBSTITUTE(CONCATENATE(B555,\"_\",D555,\"_\",C555),\" - \",\"_\"),Список_Sub!A:B,2,0),\"\")","v":""},""]
[null,null,null,null,null,{"$f":"IFERROR(VLOOKUP(SUBSTITUTE(CONCATENATE(B556,\"_\",D556,\"_\",C556),\" - \",\"_\"),Список_Sub!A:B,2,0),\"\")","v":""},""]
[null,null,null,null,null,{"$f":"IFERROR(VLOOKUP(SUBSTITUTE(CONCATENATE(B557,\"_\",D557,\"_\",C557),\" - \",\"_\"),Список_Sub!A:B,2,0),\"\")","v":""},""]
[null,null,null,null,null,{"$f":"IFERROR(VLOOKUP(SUBSTITUTE(CONCATENATE(B558,\"_\",D558,\"_\",C558),\" - \",\"_\"),Список_Sub!A:B,2,0),\"\")","v":""},""]
[null,null,null,null,null,{"$f":"IFERROR(VLOOKUP(SUBSTITUTE(CONCATENATE(B559,\"_\",D559,\"_\",C559),\" - \",\"_\"),Список_Sub!A:B,2,0),\"\")","v":""},""]
[null,null,null,null,null,{"$f":"IFERROR(VLOOKUP(SUBSTITUTE(CONCATENATE(B560,\"_\",D560,\"_\",C560),\" - \",\"_\"),Список_Sub!A:B,2,0),\"\")","v":""},""]
[null,null,null,null,null,{"$f":"IFERROR(VLOOKUP(SUBSTITUTE(CONCATENATE(B561,\"_\",D561,\"_\",C561),\" - \",\"_\"),Список_Sub!A:B,2,0),\"\")","v":""},""]
[null,null,null,null,null,{"$f":"IFERROR(VLOOKUP(SUBSTITUTE(CONCATENATE(B562,\"_\",D562,\"_\",C562),\" - \",\"_\"),Список_Sub!A:B,2,0),\"\")","v":""},""]
[null,null,null,null,null,{"$f":"IFERROR(VLOOKUP(SUBSTITUTE(CONCATENATE(B563,\"_\",D563,\"_\",C563),\" - \",\"_\"),Список_Sub!A:B,2,0),\"\")","v":""},""]
[null,null,null,null,null,{"$f":"IFERROR(VLOOKUP(SUBSTITUTE(CONCATENATE(B564,\"_\",D564,\"_\",C564),\" - \",\"_\"),Список_Sub!A:B,2,0),\"\")","v":""},""]
[null,null,null,null,null,{"$f":"IFERROR(VLOOKUP(SUBSTITUTE(CONCATENATE(B565,\"_\",D565,\"_\",C565),\" - \",\"_\"),Список_Sub!A:B,2,0),\"\")","v":""},""]
[null,null,null,null,null,{"$f":"IFERROR(VLOOKUP(SUBSTITUTE(CONCATENATE(B566,\"_\",D566,\"_\",C566),\" - \",\"_\"),Список_Sub!A:B,2,0),\"\")","v":""},""]
[null,null,null,null,null,{"$f":"IFERROR(VLOOKUP(SUBSTITUTE(CONCATENATE(B567,\"_\",D567,\"_\",C567),\" - \",\"_\"),Список_Sub!A:B,2,0),\"\")","v":""},""]
[null,null,null,null,null,{"$f":"IFERROR(VLOOKUP(SUBSTITUTE(CONCATENATE(B568,\"_\",D568,\"_\",C568),\" - \",\"_\"),Список_Sub!A:B,2,0),\"\")","v":""},""]
[null,null,null,null,null,{"$f":"IFERROR(VLOOKUP(SUBSTITUTE(CONCATENATE(B569,\"_\",D569,\"_\",C569),\" - \",\"_\"),Список_Sub!A:B,2,0),\"\")","v":""},""]
[null,null,null,null,null,{"$f":"IFERROR(VLOOKUP(SUBSTITUTE(CONCATENATE(B570,\"_\",D570,\"_\",C570),\" - \",\"_\"),Список_Sub!A:B,2,0),\"\")","v":""},""]
[null,null,null,null,null,{"$f":"IFERROR(VLOOKUP(SUBSTITUTE(CONCATENATE(B571,\"_\",D571,\"_\",C571),\" - \",\"_\"),Список_Sub!A:B,2,0),\"\")","v":""},""]
[null,null,null,null,null,{"$f":"IFERROR(VLOOKUP(SUBSTITUTE(CONCATENATE(B572,\"_\",D572,\"_\",C572),\" - \",\"_\"),Список_Sub!A:B,2,0),\"\")","v":""},""]
[null,null,null,null,null,{"$f":"IFERROR(VLOOKUP(SUBSTITUTE(CONCATENATE(B573,\"_\",D573,\"_\",C573),\" - \",\"_\"),Список_Sub!A:B,2,0),\"\")","v":""},""]
[null,null,null,null,null,{"$f":"IFERROR(VLOOKUP(SUBSTITUTE(CONCATENATE(B574,\"_\",D574,\"_\",C574),\" - \",\"_\"),Список_Sub!A:B,2,0),\"\")","v":""},""]
[null,null,null,null,null,{"$f":"IFERROR(VLOOKUP(SUBSTITUTE(CONCATENATE(B575,\"_\",D575,\"_\",C575),\" - \",\"_\"),Список_Sub!A:B,2,0),\"\")","v":""},""]
[null,null,null,null,null,{"$f":"IFERROR(VLOOKUP(SUBSTITUTE(CONCATENATE(B576,\"_\",D576,\"_\",C576),\" - \",\"_\"),Список_Sub!A:B,2,0),\"\")","v":""},""]
[null,null,null,null,null,{"$f":"IFERROR(VLOOKUP(SUBSTITUTE(CONCATENATE(B577,\"_\",D577,\"_\",C577),\" - \",\"_\"),Список_Sub!A:B,2,0),\"\")","v":""},""]
[null,null,null,null,null,{"$f":"IFERROR(VLOOKUP(SUBSTITUTE(CONCATENATE(B578,\"_\",D578,\"_\",C578),\" - \",\"_\"),Список_Sub!A:B,2,0),\"\")","v":""},""]
[null,null,null,null,null,{"$f":"IFERROR(VLOOKUP(SUBSTITUTE(CONCATENATE(B579,\"_\",D579,\"_\",C579),\" - \",\"_\"),Список_Sub!A:B,2,0),\"\")","v":""},{"$f":"IF(AND(C579<>\"IP KONDRATYEV\",C579<>\"\"),VLOOKUP(D579,$O$2:$P$13,2,0),\"\")","v":""}]
[null,null,null,null,null,{"$f":"IFERROR(VLOOKUP(SUBSTITUTE(CONCATENATE(B580,\"_\",D580,\"_\",C580),\" - \",\"_\"),Список_Sub!A:B,2,0),\"\")","v":""},""]
[null,null,null,null,null,{"$f":"IFERROR(VLOOKUP(SUBSTITUTE(CONCATENATE(B581,\"_\",D581,\"_\",C581),\" - \",\"_\"),Список_Sub!A:B,2,0),\"\")","v":""},""]
[null,null,null,null,null,{"$f":"IFERROR(VLOOKUP(SUBSTITUTE(CONCATENATE(B582,\"_\",D582,\"_\",C582),\" - \",\"_\"),Список_Sub!A:B,2,0),\"\")","v":""},""]
[null,null,null,null,null,{"$f":"IFERROR(VLOOKUP(SUBSTITUTE(CONCATENATE(B583,\"_\",D583,\"_\",C583),\" - \",\"_\"),Список_Sub!A:B,2,0),\"\")","v":""},""]
[null,null,null,null,null,{"$f":"IFERROR(VLOOKUP(SUBSTITUTE(CONCATENATE(B584,\"_\",D584,\"_\",C584),\" - \",\"_\"),Список_Sub!A:B,2,0),\"\")","v":""},""]
[null,null,null,null,null,{"$f":"IFERROR(VLOOKUP(SUBSTITUTE(CONCATENATE(B585,\"_\",D585,\"_\",C585),\" - \",\"_\"),Список_Sub!A:B,2,0),\"\")","v":""},""]
[null,null,null,null,null,{"$f":"IFERROR(VLOOKUP(SUBSTITUTE(CONCATENATE(B586,\"_\",D586,\"_\",C586),\" - \",\"_\"),Список_Sub!A:B,2,0),\"\")","v":""},""]
[null,null,null,null,null,{"$f":"IFERROR(VLOOKUP(SUBSTITUTE(CONCATENATE(B587,\"_\",D587,\"_\",C587),\" - \",\"_\"),Список_Sub!A:B,2,0),\"\")","v":""},""]
[null,null,null,null,null,{"$f":"IFERROR(VLOOKUP(SUBSTITUTE(CONCATENATE(B588,\"_\",D588,\"_\",C588),\" - \",\"_\"),Список_Sub!A:B,2,0),\"\")","v":""},""]
[null,null,null,null,null,{"$f":"IFERROR(VLOOKUP(SUBSTITUTE(CONCATENATE(B589,\"_\",D589,\"_\",C589),\" - \",\"_\"),Список_Sub!A:B,2,0),\"\")","v":""},""]
[null,null,null,null,null,{"$f":"IFERROR(VLOOKUP(SUBSTITUTE(CONCATENATE(B590,\"_\",D590,\"_\",C590),\" - \",\"_\"),Список_Sub!A:B,2,0),\"\")","v":""},""]
[null,null,null,null,null,{"$f":"IFERROR(VLOOKUP(SUBSTITUTE(CONCATENATE(B591,\"_\",D591,\"_\",C591),\" - \",\"_\"),Список_Sub!A:B,2,0),\"\")","v":""},""]
[null,null,null,null,null,{"$f":"IFERROR(VLOOKUP(SUBSTITUTE(CONCATENATE(B592,\"_\",D592,\"_\",C592),\" - \",\"_\"),Список_Sub!A:B,2,0),\"\")","v":""},""]
[null,null,null,null,null,{"$f":"IFERROR(VLOOKUP(SUBSTITUTE(CONCATENATE(B593,\"_\",D593,\"_\",C593),\" - \",\"_\"),Список_Sub!A:B,2,0),\"\")","v":""},""]
[null,null,null,null,null,{"$f":"IFERROR(VLOOKUP(SUBSTITUTE(CONCATENATE(B594,\"_\",D594,\"_\",C594),\" - \",\"_\"),Список_Sub!A:B,2,0),\"\")","v":""},""]
[null,null,null,null,null,{"$f":"IFERROR(VLOOKUP(SUBSTITUTE(CONCATENATE(B595,\"_\",D595,\"_\",C595),\" - \",\"_\"),Список_Sub!A:B,2,0),\"\")","v":""},""]
[null,null,null,null,null,{"$f":"IFERROR(VLOOKUP(SUBSTITUTE(CONCATENATE(B596,\"_\",D596,\"_\",C596),\" - \",\"_\"),Список_Sub!A:B,2,0),\"\")","v":""},""]
[null,null,null,null,null,{"$f":"IFERROR(VLOOKUP(SUBSTITUTE(CONCATENATE(B597,\"_\",D597,\"_\",C597),\" - \",\"_\"),Список_Sub!A:B,2,0),\"\")","v":""},""]
[null,null,null,null,null,{"$f":"IFERROR(VLOOKUP(SUBSTITUTE(CONCATENATE(B598,\"_\",D598,\"_\",C598),\" - \",\"_\"),Список_Sub!A:B,2,0),\"\")","v":""},""]
[null,null,null,null,null,{"$f":"IFERROR(VLOOKUP(SUBSTITUTE(CONCATENATE(B599,\"_\",D599,\"_\",C599),\" - \",\"_\"),Список_Sub!A:B,2,0),\"\")","v":""},""]
[null,null,null,null,null,{"$f":"IFERROR(VLOOKUP(SUBSTITUTE(CONCATENATE(B600,\"_\",D600,\"_\",C600),\" - \",\"_\"),Список_Sub!A:B,2,0),\"\")","v":""},""]
[null,null,null,null,null,{"$f":"IFERROR(VLOOKUP(SUBSTITUTE(CONCATENATE(B601,\"_\",D601,\"_\",C601),\" - \",\"_\"),Список_Sub!A:B,2,0),\"\")","v":""},""]
[null,null,null,null,null,{"$f":"IFERROR(VLOOKUP(SUBSTITUTE(CONCATENATE(B602,\"_\",D602,\"_\",C602),\" - \",\"_\"),Список_Sub!A:B,2,0),\"\")","v":""},""]
[null,null,null,null,null,{"$f":"IFERROR(VLOOKUP(SUBSTITUTE(CONCATENATE(B603,\"_\",D603,\"_\",C603),\" - \",\"_\"),Список_Sub!A:B,2,0),\"\")","v":""},""]
[null,null,null,null,null,{"$f":"IFERROR(VLOOKUP(SUBSTITUTE(CONCATENATE(B604,\"_\",D604,\"_\",C604),\" - \",\"_\"),Список_Sub!A:B,2,0),\"\")","v":""},""]
[null,null,null,null,null,{"$f":"IFERROR(VLOOKUP(SUBSTITUTE(CONCATENATE(B605,\"_\",D605,\"_\",C605),\" - \",\"_\"),Список_Sub!A:B,2,0),\"\")","v":""},""]
[null,null,null,null,null,{"$f":"IFERROR(VLOOKUP(SUBSTITUTE(CONCATENATE(B606,\"_\",D606,\"_\",C606),\" - \",\"_\"),Список_Sub!A:B,2,0),\"\")","v":""},""]
[null,null,null,null,null,{"$f":"IFERROR(VLOOKUP(SUBSTITUTE(CONCATENATE(B607,\"_\",D607,\"_\",C607),\" - \",\"_\"),Список_Sub!A:B,2,0),\"\")","v":""},""]
[null,null,null,null,null,{"$f":"IFERROR(VLOOKUP(SUBSTITUTE(CONCATENATE(B608,\"_\",D608,\"_\",C608),\" - \",\"_\"),Список_Sub!A:B,2,0),\"\")","v":""},""]
[null,null,null,null,null,{"$f":"IFERROR(VLOOKUP(SUBSTITUTE(CONCATENATE(B609,\"_\",D609,\"_\",C609),\" - \",\"_\"),Список_Sub!A:B,2,0),\"\")","v":""},""]
[null,null,null,null,null,{"$f":"IFERROR(VLOOKUP(SUBSTITUTE(CONCATENATE(B610,\"_\",D610,\"_\",C610),\" - \",\"_\"),Список_Sub!A:B,2,0),\"\")","v":""},""]
[null,null,null,null,null,{"$f":"IFERROR(VLOOKUP(SUBSTITUTE(CONCATENATE(B611,\"_\",D611,\"_\",C611),\" - \",\"_\"),Список_Sub!A:B,2,0),\"\")","v":""},""]
[null,null,null,null,null,{"$f":"IFERROR(VLOOKUP(SUBSTITUTE(CONCATENATE(B612,\"_\",D612,\"_\",C612),\" - \",\"_\"),Список_Sub!A:B,2,0),\"\")","v":""},""]
[null,null,null,null,null,{"$f":"IFERROR(VLOOKUP(SUBSTITUTE(CONCATENATE(B613,\"_\",D613,\"_\",C613),\" - \",\"_\"),Список_Sub!A:B,2,0),\"\")","v":""},""]
[null,null,null,null,null,{"$f":"IFERROR(VLOOKUP(SUBSTITUTE(CONCATENATE(B614,\"_\",D614,\"_\",C614),\" - \",\"_\"),Список_Sub!A:B,2,0),\"\")","v":""},""]
[null,null,null,null,null,{"$f":"IFERROR(VLOOKUP(SUBSTITUTE(CONCATENATE(B615,\"_\",D615,\"_\",C615),\" - \",\"_\"),Список_Sub!A:B,2,0),\"\")","v":""},""]
[null,null,null,null,null,{"$f":"IFERROR(VLOOKUP(SUBSTITUTE(CONCATENATE(B616,\"_\",D616,\"_\",C616),\" - \",\"_\"),Список_Sub!A:B,2,0),\"\")","v":""},""]
[null,null,null,null,null,{"$f":"IFERROR(VLOOKUP(SUBSTITUTE(CONCATENATE(B617,\"_\",D617,\"_\",C617),\" - \",\"_\"),Список_Sub!A:B,2,0),\"\")","v":""},""]
[null,null,null,null,null,{"$f":"IFERROR(VLOOKUP(SUBSTITUTE(CONCATENATE(B618,\"_\",D618,\"_\",C618),\" - \",\"_\"),Список_Sub!A:B,2,0),\"\")","v":""},""]
[null,null,null,null,null,{"$f":"IFERROR(VLOOKUP(SUBSTITUTE(CONCATENATE(B619,\"_\",D619,\"_\",C619),\" - \",\"_\"),Список_Sub!A:B,2,0),\"\")","v":""},""]
[null,null,null,null,null,{"$f":"IFERROR(VLOOKUP(SUBSTITUTE(CONCATENATE(B620,\"_\",D620,\"_\",C620),\" - \",\"_\"),Список_Sub!A:B,2,0),\"\")","v":""},""]
[null,null,null,null,null,{"$f":"IFERROR(VLOOKUP(SUBSTITUTE(CONCATENATE(B621,\"_\",D621,\"_\",C621),\" - \",\"_\"),Список_Sub!A:B,2,0),\"\")","v":""},""]
[null,null,null,null,null,{"$f":"IFERROR(VLOOKUP(SUBSTITUTE(CONCATENATE(B622,\"_\",D622,\"_\",C622),\" - \",\"_\"),Список_Sub!A:B,2,0),\"\")","v":""},""]
[null,null,null,null,null,{"$f":"IFERROR(VLOOKUP(SUBSTITUTE(CONCATENATE(B623,\"_\",D623,\"_\",C623),\" - \",\"_\"),Список_Sub!A:B,2,0),\"\")","v":""},""]
[null,null,null,null,null,{"$f":"IFERROR(VLOOKUP(SUBSTITUTE(CONCATENATE(B624,\"_\",D624,\"_\",C624),\" - \",\"_\"),Список_Sub!A:B,2,0),\"\")","v":""},""]
[null,null,null,null,null,{"$f":"IFERROR(VLOOKUP(SUBSTITUTE(CONCATENATE(B625,\"_\",D625,\"_\",C625),\" - \",\"_\"),Список_Sub!A:B,2,0),\"\")","v":""},""]
[null,null,null,null,null,{"$f":"IFERROR(VLOOKUP(SUBSTITUTE(CONCATENATE(B626,\"_\",D626,\"_\",C626),\" - \",\"_\"),Список_Sub!A:B,2,0),\"\")","v":""},""]
[null,null,null,null,null,{"$f":"IFERROR(VLOOKUP(SUBSTITUTE(CONCATENATE(B627,\"_\",D627,\"_\",C627),\" - \",\"_\"),Список_Sub!A:B,2,0),\"\")","v":""},""]
[null,null,null,null,null,{"$f":"IFERROR(VLOOKUP(SUBSTITUTE(CONCATENATE(B628,\"_\",D628,\"_\",C628),\" - \",\"_\"),Список_Sub!A:B,2,0),\"\")","v":""},""]
[null,null,null,null,null,{"$f":"IFERROR(VLOOKUP(SUBSTITUTE(CONCATENATE(B629,\"_\",D629,\"_\",C629),\" - \",\"_\"),Список_Sub!A:B,2,0),\"\")","v":""},""]
[null,null,null,null,null,{"$f":"IFERROR(VLOOKUP(SUBSTITUTE(CONCATENATE(B630,\"_\",D630,\"_\",C630),\" - \",\"_\"),Список_Sub!A:B,2,0),\"\")","v":""},""]
[null,null,null,null,null,{"$f":"IFERROR(VLOOKUP(SUBSTITUTE(CONCATENATE(B631,\"_\",D631,\"_\",C631),\" - \",\"_\"),Список_Sub!A:B,2,0),\"\")","v":""},""]
[null,null,null,null,null,{"$f":"IFERROR(VLOOKUP(SUBSTITUTE(CONCATENATE(B632,\"_\",D632,\"_\",C632),\" - \",\"_\"),Список_Sub!A:B,2,0),\"\")","v":""},""]
[null,null,null,null,null,{"$f":"IFERROR(VLOOKUP(SUBSTITUTE(CONCATENATE(B633,\"_\",D633,\"_\",C633),\" - \",\"_\"),Список_Sub!A:B,2,0),\"\")","v":""},""]
[null,null,null,null,null,{"$f":"IFERROR(VLOOKUP(SUBSTITUTE(CONCATENATE(B634,\"_\",D634,\"_\",C634),\" - \",\"_\"),Список_Sub!A:B,2,0),\"\")","v":""},""]
[null,null,null,null,null,{"$f":"IFERROR(VLOOKUP(SUBSTITUTE(CONCATENATE(B635,\"_\",D635,\"_\",C635),\" - \",\"_\"),Список_Sub!A:B,2,0),\"\")","v":""},""]
[null,null,null,null,null,{"$f":"IFERROR(VLOOKUP(SUBSTITUTE(CONCATENATE(B636,\"_\",D636,\"_\",C636),\" - \",\"_\"),Список_Sub!A:B,2,0),\"\")","v":""},""]
[null,null,null,null,null,{"$f":"IFERROR(VLOOKUP(SUBSTITUTE(CONCATENATE(B637,\"_\",D637,\"_\",C637),\" - \",\"_\"),Список_Sub!A:B,2,0),\"\")","v":""},""]
[null,null,null,null,null,{"$f":"IFERROR(VLOOKUP(SUBSTITUTE(CONCATENATE(B638,\"_\",D638,\"_\",C638),\" - \",\"_\"),Список_Sub!A:B,2,0),\"\")","v":""},""]
[null,null,null,null,null,{"$f":"IFERROR(VLOOKUP(SUBSTITUTE(CONCATENATE(B639,\"_\",D639,\"_\",C639),\" - \",\"_\"),Список_Sub!A:B,2,0),\"\")","v":""},""]
[null,null,null,null,null,{"$f":"IFERROR(VLOOKUP(SUBSTITUTE(CONCATENATE(B640,\"_\",D640,\"_\",C640),\" - \",\"_\"),Список_Sub!A:B,2,0),\"\")","v":""},""]
[null,null,null,null,null,{"$f":"IFERROR(VLOOKUP(SUBSTITUTE(CONCATENATE(B641,\"_\",D641,\"_\",C641),\" - \",\"_\"),Список_Sub!A:B,2,0),\"\")","v":""},""]
[null,null,null,null,null,{"$f":"IFERROR(VLOOKUP(SUBSTITUTE(CONCATENATE(B642,\"_\",D642,\"_\",C642),\" - \",\"_\"),Список_Sub!A:B,2,0),\"\")","v":""},""]
[null,null,null,null,null,{"$f":"IFERROR(VLOOKUP(SUBSTITUTE(CONCATENATE(B643,\"_\",D643,\"_\",C643),\" - \",\"_\"),Список_Sub!A:B,2,0),\"\")","v":""},{"$f":"IF(AND(C643<>\"IP KONDRATYEV\",C643<>\"\"),VLOOKUP(D643,$O$2:$P$13,2,0),\"\")","v":""}]
[null,null,null,null,null,{"$f":"IFERROR(VLOOKUP(SUBSTITUTE(CONCATENATE(B644,\"_\",D644,\"_\",C644),\" - \",\"_\"),Список_Sub!A:B,2,0),\"\")","v":""},""]
[null,null,null,null,null,{"$f":"IFERROR(VLOOKUP(SUBSTITUTE(CONCATENATE(B645,\"_\",D645,\"_\",C645),\" - \",\"_\"),Список_Sub!A:B,2,0),\"\")","v":""},""]
[null,null,null,null,null,{"$f":"IFERROR(VLOOKUP(SUBSTITUTE(CONCATENATE(B646,\"_\",D646,\"_\",C646),\" - \",\"_\"),Список_Sub!A:B,2,0),\"\")","v":""},""]
[null,null,null,null,null,{"$f":"IFERROR(VLOOKUP(SUBSTITUTE(CONCATENATE(B647,\"_\",D647,\"_\",C647),\" - \",\"_\"),Список_Sub!A:B,2,0),\"\")","v":""},""]
[null,null,null,null,null,{"$f":"IFERROR(VLOOKUP(SUBSTITUTE(CONCATENATE(B648,\"_\",D648,\"_\",C648),\" - \",\"_\"),Список_Sub!A:B,2,0),\"\")","v":""},""]
[null,null,null,null,null,{"$f":"IFERROR(VLOOKUP(SUBSTITUTE(CONCATENATE(B649,\"_\",D649,\"_\",C649),\" - \",\"_\"),Список_Sub!A:B,2,0),\"\")","v":""},""]
[null,null,null,null,null,{"$f":"IFERROR(VLOOKUP(SUBSTITUTE(CONCATENATE(B650,\"_\",D650,\"_\",C650),\" - \",\"_\"),Список_Sub!A:B,2,0),\"\")","v":""},""]
[null,null,null,null,null,{"$f":"IFERROR(VLOOKUP(SUBSTITUTE(CONCATENATE(B651,\"_\",D651,\"_\",C651),\" - \",\"_\"),Список_Sub!A:B,2,0),\"\")","v":""},""]
[null,null,null,null,null,{"$f":"IFERROR(VLOOKUP(SUBSTITUTE(CONCATENATE(B652,\"_\",D652,\"_\",C652),\" - \",\"_\"),Список_Sub!A:B,2,0),\"\")","v":""},""]
[null,null,null,null,null,{"$f":"IFERROR(VLOOKUP(SUBSTITUTE(CONCATENATE(B653,\"_\",D653,\"_\",C653),\" - \",\"_\"),Список_Sub!A:B,2,0),\"\")","v":""},""]
[null,null,null,null,null,{"$f":"IFERROR(VLOOKUP(SUBSTITUTE(CONCATENATE(B654,\"_\",D654,\"_\",C654),\" - \",\"_\"),Список_Sub!A:B,2,0),\"\")","v":""},""]
[null,null,null,null,null,{"$f":"IFERROR(VLOOKUP(SUBSTITUTE(CONCATENATE(B655,\"_\",D655,\"_\",C655),\" - \",\"_\"),Список_Sub!A:B,2,0),\"\")","v":""},""]
[null,null,null,null,null,{"$f":"IFERROR(VLOOKUP(SUBSTITUTE(CONCATENATE(B656,\"_\",D656,\"_\",C656),\" - \",\"_\"),Список_Sub!A:B,2,0),\"\")","v":""},""]
[null,null,null,null,null,{"$f":"IFERROR(VLOOKUP(SUBSTITUTE(CONCATENATE(B657,\"_\",D657,\"_\",C657),\" - \",\"_\"),Список_Sub!A:B,2,0),\"\")","v":""},""]
[null,null,null,null,null,{"$f":"IFERROR(VLOOKUP(SUBSTITUTE(CONCATENATE(B658,\"_\",D658,\"_\",C658),\" - \",\"_\"),Список_Sub!A:B,2,0),\"\")","v":""},""]
[null,null,null,null,null,{"$f":"IFERROR(VLOOKUP(SUBSTITUTE(CONCATENATE(B659,\"_\",D659,\"_\",C659),\" - \",\"_\"),Список_Sub!A:B,2,0),\"\")","v":""},""]
[null,null,null,null,null,{"$f":"IFERROR(VLOOKUP(SUBSTITUTE(CONCATENATE(B660,\"_\",D660,\"_\",C660),\" - \",\"_\"),Список_Sub!A:B,2,0),\"\")","v":""},""]
[null,null,null,null,null,{"$f":"IFERROR(VLOOKUP(SUBSTITUTE(CONCATENATE(B661,\"_\",D661,\"_\",C661),\" - \",\"_\"),Список_Sub!A:B,2,0),\"\")","v":""},""]
[null,null,null,null,null,{"$f":"IFERROR(VLOOKUP(SUBSTITUTE(CONCATENATE(B662,\"_\",D662,\"_\",C662),\" - \",\"_\"),Список_Sub!A:B,2,0),\"\")","v":""},""]
[null,null,null,null,null,{"$f":"IFERROR(VLOOKUP(SUBSTITUTE(CONCATENATE(B663,\"_\",D663,\"_\",C663),\" - \",\"_\"),Список_Sub!A:B,2,0),\"\")","v":""},""]
[null,null,null,null,null,{"$f":"IFERROR(VLOOKUP(SUBSTITUTE(CONCATENATE(B664,\"_\",D664,\"_\",C664),\" - \",\"_\"),Список_Sub!A:B,2,0),\"\")","v":""},""]
[null,null,null,null,null,{"$f":"IFERROR(VLOOKUP(SUBSTITUTE(CONCATENATE(B665,\"_\",D665,\"_\",C665),\" - \",\"_\"),Список_Sub!A:B,2,0),\"\")","v":""},""]
[null,null,null,null,null,{"$f":"IFERROR(VLOOKUP(SUBSTITUTE(CONCATENATE(B666,\"_\",D666,\"_\",C666),\" - \",\"_\"),Список_Sub!A:B,2,0),\"\")","v":""},""]
[null,null,null,null,null,{"$f":"IFERROR(VLOOKUP(SUBSTITUTE(CONCATENATE(B667,\"_\",D667,\"_\",C667),\" - \",\"_\"),Список_Sub!A:B,2,0),\"\")","v":""},""]
[null,null,null,null,null,{"$f":"IFERROR(VLOOKUP(SUBSTITUTE(CONCATENATE(B668,\"_\",D668,\"_\",C668),\" - \",\"_\"),Список_Sub!A:B,2,0),\"\")","v":""},""]
[null,null,null,null,null,{"$f":"IFERROR(VLOOKUP(SUBSTITUTE(CONCATENATE(B669,\"_\",D669,\"_\",C669),\" - \",\"_\"),Список_Sub!A:B,2,0),\"\")","v":""},""]
[null,null,null,null,null,{"$f":"IFERROR(VLOOKUP(SUBSTITUTE(CONCATENATE(B670,\"_\",D670,\"_\",C670),\" - \",\"_\"),Список_Sub!A:B,2,0),\"\")","v":""},""]
[null,null,null,null,null,{"$f":"IFERROR(VLOOKUP(SUBSTITUTE(CONCATENATE(B671,\"_\",D671,\"_\",C671),\" - \",\"_\"),Список_Sub!A:B,2,0),\"\")","v":""},""]
[null,null,null,null,null,{"$f":"IFERROR(VLOOKUP(SUBSTITUTE(CONCATENATE(B672,\"_\",D672,\"_\",C672),\" - \",\"_\"),Список_Sub!A:B,2,0),\"\")","v":""},""]
[null,null,null,null,null,{"$f":"IFERROR(VLOOKUP(SUBSTITUTE(CONCATENATE(B673,\"_\",D673,\"_\",C673),\" - \",\"_\"),Список_Sub!A:B,2,0),\"\")","v":""},""]
[null,null,null,null,null,{"$f":"IFERROR(VLOOKUP(SUBSTITUTE(CONCATENATE(B674,\"_\",D674,\"_\",C674),\" - \",\"_\"),Список_Sub!A:B,2,0),\"\")","v":""},""]
[null,null,null,null,null,{"$f":"IFERROR(VLOOKUP(SUBSTITUTE(CONCATENATE(B675,\"_\",D675,\"_\",C675),\" - \",\"_\"),Список_Sub!A:B,2,0),\"\")","v":""},""]
[null,null,null,null,null,{"$f":"IFERROR(VLOOKUP(SUBSTITUTE(CONCATENATE(B676,\"_\",D676,\"_\",C676),\" - \",\"_\"),Список_Sub!A:B,2,0),\"\")","v":""},""]
[null,null,null,null,null,{"$f":"IFERROR(VLOOKUP(SUBSTITUTE(CONCATENATE(B677,\"_\",D677,\"_\",C677),\" - \",\"_\"),Список_Sub!A:B,2,0),\"\")","v":""},""]
[null,null,null,null,null,{"$f":"IFERROR(VLOOKUP(SUBSTITUTE(CONCATENATE(B678,\"_\",D678,\"_\",C678),\" - \",\"_\"),Список_Sub!A:B,2,0),\"\")","v":""},""]
[null,null,null,null,null,{"$f":"IFERROR(VLOOKUP(SUBSTITUTE(CONCATENATE(B679,\"_\",D679,\"_\",C679),\" - \",\"_\"),Список_Sub!A:B,2,0),\"\")","v":""},""]
[null,null,null,null,null,{"$f":"IFERROR(VLOOKUP(SUBSTITUTE(CONCATENATE(B680,\"_\",D680,\"_\",C680),\" - \",\"_\"),Список_Sub!A:B,2,0),\"\")","v":""},""]
[null,null,null,null,null,{"$f":"IFERROR(VLOOKUP(SUBSTITUTE(CONCATENATE(B681,\"_\",D681,\"_\",C681),\" - \",\"_\"),Список_Sub!A:B,2,0),\"\")","v":""},""]
[null,null,null,null,null,{"$f":"IFERROR(VLOOKUP(SUBSTITUTE(CONCATENATE(B682,\"_\",D682,\"_\",C682),\" - \",\"_\"),Список_Sub!A:B,2,0),\"\")","v":""},""]
[null,null,null,null,null,{"$f":"IFERROR(VLOOKUP(SUBSTITUTE(CONCATENATE(B683,\"_\",D683,\"_\",C683),\" - \",\"_\"),Список_Sub!A:B,2,0),\"\")","v":""},""]
[null,null,null,null,null,{"$f":"IFERROR(VLOOKUP(SUBSTITUTE(CONCATENATE(B684,\"_\",D684,\"_\",C684),\" - \",\"_\"),Список_Sub!A:B,2,0),\"\")","v":""},""]
[null,null,null,null,null,{"$f":"IFERROR(VLOOKUP(SUBSTITUTE(CONCATENATE(B685,\"_\",D685,\"_\",C685),\" - \",\"_\"),Список_Sub!A:B,2,0),\"\")","v":""},""]
[null,null,null,null,null,{"$f":"IFERROR(VLOOKUP(SUBSTITUTE(CONCATENATE(B686,\"_\",D686,\"_\",C686),\" - \",\"_\"),Список_Sub!A:B,2,0),\"\")","v":""},""]
[null,null,null,null,null,{"$f":"IFERROR(VLOOKUP(SUBSTITUTE(CONCATENATE(B687,\"_\",D687,\"_\",C687),\" - \",\"_\"),Список_Sub!A:B,2,0),\"\")","v":""},""]
[null,null,null,null,null,{"$f":"IFERROR(VLOOKUP(SUBSTITUTE(CONCATENATE(B688,\"_\",D688,\"_\",C688),\" - \",\"_\"),Список_Sub!A:B,2,0),\"\")","v":""},""]
[null,null,null,null,null,{"$f":"IFERROR(VLOOKUP(SUBSTITUTE(CONCATENATE(B689,\"_\",D689,\"_\",C689),\" - \",\"_\"),Список_Sub!A:B,2,0),\"\")","v":""},""]
[null,null,null,null,null,{"$f":"IFERROR(VLOOKUP(SUBSTITUTE(CONCATENATE(B690,\"_\",D690,\"_\",C690),\" - \",\"_\"),Список_Sub!A:B,2,0),\"\")","v":""},""]
[null,null,null,null,null,{"$f":"IFERROR(VLOOKUP(SUBSTITUTE(CONCATENATE(B691,\"_\",D691,\"_\",C691),\" - \",\"_\"),Список_Sub!A:B,2,0),\"\")","v":""},""]
[null,null,null,null,null,{"$f":"IFERROR(VLOOKUP(SUBSTITUTE(CONCATENATE(B692,\"_\",D692,\"_\",C692),\" - \",\"_\"),Список_Sub!A:B,2,0),\"\")","v":""},""]
[null,null,null,null,null,{"$f":"IFERROR(VLOOKUP(SUBSTITUTE(CONCATENATE(B693,\"_\",D693,\"_\",C693),\" - \",\"_\"),Список_Sub!A:B,2,0),\"\")","v":""},""]
[null,null,null,null,null,{"$f":"IFERROR(VLOOKUP(SUBSTITUTE(CONCATENATE(B694,\"_\",D694,\"_\",C694),\" - \",\"_\"),Список_Sub!A:B,2,0),\"\")","v":""},""]
[null,null,null,null,null,{"$f":"IFERROR(VLOOKUP(SUBSTITUTE(CONCATENATE(B695,\"_\",D695,\"_\",C695),\" - \",\"_\"),Список_Sub!A:B,2,0),\"\")","v":""},""]
[null,null,null,null,null,{"$f":"IFERROR(VLOOKUP(SUBSTITUTE(CONCATENATE(B696,\"_\",D696,\"_\",C696),\" - \",\"_\"),Список_Sub!A:B,2,0),\"\")","v":""},""]
[null,null,null,null,null,{"$f":"IFERROR(VLOOKUP(SUBSTITUTE(CONCATENATE(B697,\"_\",D697,\"_\",C697),\" - \",\"_\"),Список_Sub!A:B,2,0),\"\")","v":""},""]
[null,null,null,null,null,{"$f":"IFERROR(VLOOKUP(SUBSTITUTE(CONCATENATE(B698,\"_\",D698,\"_\",C698),\" - \",\"_\"),Список_Sub!A:B,2,0),\"\")","v":""},""]
[null,null,null,null,null,{"$f":"IFERROR(VLOOKUP(SUBSTITUTE(CONCATENATE(B699,\"_\",D699,\"_\",C699),\" - \",\"_\"),Список_Sub!A:B,2,0),\"\")","v":""},""]
[null,null,null,null,null,{"$f":"IFERROR(VLOOKUP(SUBSTITUTE(CONCATENATE(B700,\"_\",D700,\"_\",C700),\" - \",\"_\"),Список_Sub!A:B,2,0),\"\")","v":""},""]
[null,null,null,null,null,{"$f":"IFERROR(VLOOKUP(SUBSTITUTE(CONCATENATE(B701,\"_\",D701,\"_\",C701),\" - \",\"_\"),Список_Sub!A:B,2,0),\"\")","v":""},""]
[null,null,null,null,null,{"$f":"IFERROR(VLOOKUP(SUBSTITUTE(CONCATENATE(B702,\"_\",D702,\"_\",C702),\" - \",\"_\"),Список_Sub!A:B,2,0),\"\")","v":""},""]
[null,null,null,null,null,{"$f":"IFERROR(VLOOKUP(SUBSTITUTE(CONCATENATE(B703,\"_\",D703,\"_\",C703),\" - \",\"_\"),Список_Sub!A:B,2,0),\"\")","v":""},""]
[null,null,null,null,null,{"$f":"IFERROR(VLOOKUP(SUBSTITUTE(CONCATENATE(B704,\"_\",D704,\"_\",C704),\" - \",\"_\"),Список_Sub!A:B,2,0),\"\")","v":""},""]
[null,null,null,null,null,{"$f":"IFERROR(VLOOKUP(SUBSTITUTE(CONCATENATE(B705,\"_\",D705,\"_\",C705),\" - \",\"_\"),Список_Sub!A:B,2,0),\"\")","v":""},""]
[null,null,null,null,null,{"$f":"IFERROR(VLOOKUP(SUBSTITUTE(CONCATENATE(B706,\"_\",D706,\"_\",C706),\" - \",\"_\"),Список_Sub!A:B,2,0),\"\")","v":""},""]
[null,null,null,null,null,{"$f":"IFERROR(VLOOKUP(SUBSTITUTE(CONCATENATE(B707,\"_\",D707,\"_\",C707),\" - \",\"_\"),Список_Sub!A:B,2,0),\"\")","v":""},{"$f":"IF(AND(C707<>\"IP KONDRATYEV\",C707<>\"\"),VLOOKUP(D707,$O$2:$P$13,2,0),\"\")","v":""}]
[null,null,null,null,null,{"$f":"IFERROR(VLOOKUP(SUBSTITUTE(CONCATENATE(B708,\"_\",D708,\"_\",C708),\" - \",\"_\"),Список_Sub!A:B,2,0),\"\")","v":""},""]
[null,null,null,null,null,{"$f":"IFERROR(VLOOKUP(SUBSTITUTE(CONCATENATE(B709,\"_\",D709,\"_\",C709),\" - \",\"_\"),Список_Sub!A:B,2,0),\"\")","v":""},""]
[null,null,null,null,null,{"$f":"IFERROR(VLOOKUP(SUBSTITUTE(CONCATENATE(B710,\"_\",D710,\"_\",C710),\" - \",\"_\"),Список_Sub!A:B,2,0),\"\")","v":""},""]
[null,null,null,null,null,{"$f":"IFERROR(VLOOKUP(SUBSTITUTE(CONCATENATE(B711,\"_\",D711,\"_\",C711),\" - \",\"_\"),Список_Sub!A:B,2,0),\"\")","v":""},""]
[null,null,null,null,null,{"$f":"IFERROR(VLOOKUP(SUBSTITUTE(CONCATENATE(B712,\"_\",D712,\"_\",C712),\" - \",\"_\"),Список_Sub!A:B,2,0),\"\")","v":""},""]
[null,null,null,null,null,{"$f":"IFERROR(VLOOKUP(SUBSTITUTE(CONCATENATE(B713,\"_\",D713,\"_\",C713),\" - \",\"_\"),Список_Sub!A:B,2,0),\"\")","v":""},""]
[null,null,null,null,null,{"$f":"IFERROR(VLOOKUP(SUBSTITUTE(CONCATENATE(B714,\"_\",D714,\"_\",C714),\" - \",\"_\"),Список_Sub!A:B,2,0),\"\")","v":""},""]
[null,null,null,null,null,{"$f":"IFERROR(VLOOKUP(SUBSTITUTE(CONCATENATE(B715,\"_\",D715,\"_\",C715),\" - \",\"_\"),Список_Sub!A:B,2,0),\"\")","v":""},""]
[null,null,null,null,null,{"$f":"IFERROR(VLOOKUP(SUBSTITUTE(CONCATENATE(B716,\"_\",D716,\"_\",C716),\" - \",\"_\"),Список_Sub!A:B,2,0),\"\")","v":""},""]
[null,null,null,null,null,{"$f":"IFERROR(VLOOKUP(SUBSTITUTE(CONCATENATE(B717,\"_\",D717,\"_\",C717),\" - \",\"_\"),Список_Sub!A:B,2,0),\"\")","v":""},""]
[null,null,null,null,null,{"$f":"IFERROR(VLOOKUP(SUBSTITUTE(CONCATENATE(B718,\"_\",D718,\"_\",C718),\" - \",\"_\"),Список_Sub!A:B,2,0),\"\")","v":""},""]
[null,null,null,null,null,{"$f":"IFERROR(VLOOKUP(SUBSTITUTE(CONCATENATE(B719,\"_\",D719,\"_\",C719),\" - \",\"_\"),Список_Sub!A:B,2,0),\"\")","v":""},""]
[null,null,null,null,null,{"$f":"IFERROR(VLOOKUP(SUBSTITUTE(CONCATENATE(B720,\"_\",D720,\"_\",C720),\" - \",\"_\"),Список_Sub!A:B,2,0),\"\")","v":""},""]
[null,null,null,null,null,{"$f":"IFERROR(VLOOKUP(SUBSTITUTE(CONCATENATE(B721,\"_\",D721,\"_\",C721),\" - \",\"_\"),Список_Sub!A:B,2,0),\"\")","v":""},""]
[null,null,null,null,null,{"$f":"IFERROR(VLOOKUP(SUBSTITUTE(CONCATENATE(B722,\"_\",D722,\"_\",C722),\" - \",\"_\"),Список_Sub!A:B,2,0),\"\")","v":""},""]
[null,null,null,null,null,{"$f":"IFERROR(VLOOKUP(SUBSTITUTE(CONCATENATE(B723,\"_\",D723,\"_\",C723),\" - \",\"_\"),Список_Sub!A:B,2,0),\"\")","v":""},""]
[null,null,null,null,null,{"$f":"IFERROR(VLOOKUP(SUBSTITUTE(CONCATENATE(B724,\"_\",D724,\"_\",C724),\" - \",\"_\"),Список_Sub!A:B,2,0),\"\")","v":""},""]
[null,null,null,null,null,{"$f":"IFERROR(VLOOKUP(SUBSTITUTE(CONCATENATE(B725,\"_\",D725,\"_\",C725),\" - \",\"_\"),Список_Sub!A:B,2,0),\"\")","v":""},""]
[null,null,null,null,null,{"$f":"IFERROR(VLOOKUP(SUBSTITUTE(CONCATENATE(B726,\"_\",D726,\"_\",C726),\" - \",\"_\"),Список_Sub!A:B,2,0),\"\")","v":""},""]
[null,null,null,null,null,{"$f":"IFERROR(VLOOKUP(SUBSTITUTE(CONCATENATE(B727,\"_\",D727,\"_\",C727),\" - \",\"_\"),Список_Sub!A:B,2,0),\"\")","v":""},""]
[null,null,null,null,null,{"$f":"IFERROR(VLOOKUP(SUBSTITUTE(CONCATENATE(B728,\"_\",D728,\"_\",C728),\" - \",\"_\"),Список_Sub!A:B,2,0),\"\")","v":""},""]
[null,null,null,null,null,{"$f":"IFERROR(VLOOKUP(SUBSTITUTE(CONCATENATE(B729,\"_\",D729,\"_\",C729),\" - \",\"_\"),Список_Sub!A:B,2,0),\"\")","v":""},""]
[null,null,null,null,null,{"$f":"IFERROR(VLOOKUP(SUBSTITUTE(CONCATENATE(B730,\"_\",D730,\"_\",C730),\" - \",\"_\"),Список_Sub!A:B,2,0),\"\")","v":""},""]
[null,null,null,null,null,{"$f":"IFERROR(VLOOKUP(SUBSTITUTE(CONCATENATE(B731,\"_\",D731,\"_\",C731),\" - \",\"_\"),Список_Sub!A:B,2,0),\"\")","v":""},""]
[null,null,null,null,null,{"$f":"IFERROR(VLOOKUP(SUBSTITUTE(CONCATENATE(B732,\"_\",D732,\"_\",C732),\" - \",\"_\"),Список_Sub!A:B,2,0),\"\")","v":""},""]
[null,null,null,null,null,{"$f":"IFERROR(VLOOKUP(SUBSTITUTE(CONCATENATE(B733,\"_\",D733,\"_\",C733),\" - \",\"_\"),Список_Sub!A:B,2,0),\"\")","v":""},""]
[null,null,null,null,null,{"$f":"IFERROR(VLOOKUP(SUBSTITUTE(CONCATENATE(B734,\"_\",D734,\"_\",C734),\" - \",\"_\"),Список_Sub!A:B,2,0),\"\")","v":""},""]
[null,null,null,null,null,{"$f":"IFERROR(VLOOKUP(SUBSTITUTE(CONCATENATE(B735,\"_\",D735,\"_\",C735),\" - \",\"_\"),Список_Sub!A:B,2,0),\"\")","v":""},""]
[null,null,null,null,null,{"$f":"IFERROR(VLOOKUP(SUBSTITUTE(CONCATENATE(B736,\"_\",D736,\"_\",C736),\" - \",\"_\"),Список_Sub!A:B,2,0),\"\")","v":""},""]
[null,null,null,null,null,{"$f":"IFERROR(VLOOKUP(SUBSTITUTE(CONCATENATE(B737,\"_\",D737,\"_\",C737),\" - \",\"_\"),Список_Sub!A:B,2,0),\"\")","v":""},""]
[null,null,null,null,null,{"$f":"IFERROR(VLOOKUP(SUBSTITUTE(CONCATENATE(B738,\"_\",D738,\"_\",C738),\" - \",\"_\"),Список_Sub!A:B,2,0),\"\")","v":""},""]
[null,null,null,null,null,{"$f":"IFERROR(VLOOKUP(SUBSTITUTE(CONCATENATE(B739,\"_\",D739,\"_\",C739),\" - \",\"_\"),Список_Sub!A:B,2,0),\"\")","v":""},""]
[null,null,null,null,null,{"$f":"IFERROR(VLOOKUP(SUBSTITUTE(CONCATENATE(B740,\"_\",D740,\"_\",C740),\" - \",\"_\"),Список_Sub!A:B,2,0),\"\")","v":""},""]
[null,null,null,null,null,{"$f":"IFERROR(VLOOKUP(SUBSTITUTE(CONCATENATE(B741,\"_\",D741,\"_\",C741),\" - \",\"_\"),Список_Sub!A:B,2,0),\"\")","v":""},""]
[null,null,null,null,null,{"$f":"IFERROR(VLOOKUP(SUBSTITUTE(CONCATENATE(B742,\"_\",D742,\"_\",C742),\" - \",\"_\"),Список_Sub!A:B,2,0),\"\")","v":""},""]
[null,null,null,null,null,{"$f":"IFERROR(VLOOKUP(SUBSTITUTE(CONCATENATE(B743,\"_\",D743,\"_\",C743),\" - \",\"_\"),Список_Sub!A:B,2,0),\"\")","v":""},""]
[null,null,null,null,null,{"$f":"IFERROR(VLOOKUP(SUBSTITUTE(CONCATENATE(B744,\"_\",D744,\"_\",C744),\" - \",\"_\"),Список_Sub!A:B,2,0),\"\")","v":""},""]
[null,null,null,null,null,{"$f":"IFERROR(VLOOKUP(SUBSTITUTE(CONCATENATE(B745,\"_\",D745,\"_\",C745),\" - \",\"_\"),Список_Sub!A:B,2,0),\"\")","v":""},""]
[null,null,null,null,null,{"$f":"IFERROR(VLOOKUP(SUBSTITUTE(CONCATENATE(B746,\"_\",D746,\"_\",C746),\" - \",\"_\"),Список_Sub!A:B,2,0),\"\")","v":""},""]
[null,null,null,null,null,{"$f":"IFERROR(VLOOKUP(SUBSTITUTE(CONCATENATE(B747,\"_\",D747,\"_\",C747),\" - \",\"_\"),Список_Sub!A:B,2,0),\"\")","v":""},""]
[null,null,null,null,null,{"$f":"IFERROR(VLOOKUP(SUBSTITUTE(CONCATENATE(B748,\"_\",D748,\"_\",C748),\" - \",\"_\"),Список_Sub!A:B,2,0),\"\")","v":""},""]
[null,null,null,null,null,{"$f":"IFERROR(VLOOKUP(SUBSTITUTE(CONCATENATE(B749,\"_\",D749,\"_\",C749),\" - \",\"_\"),Список_Sub!A:B,2,0),\"\")","v":""},""]
[null,null,null,null,null,{"$f":"IFERROR(VLOOKUP(SUBSTITUTE(CONCATENATE(B750,\"_\",D750,\"_\",C750),\" - \",\"_\"),Список_Sub!A:B,2,0),\"\")","v":""},""]
[null,null,null,null,null,{"$f":"IFERROR(VLOOKUP(SUBSTITUTE(CONCATENATE(B751,\"_\",D751,\"_\",C751),\" - \",\"_\"),Список_Sub!A:B,2,0),\"\")","v":""},""]
[null,null,null,null,null,{"$f":"IFERROR(VLOOKUP(SUBSTITUTE(CONCATENATE(B752,\"_\",D752,\"_\",C752),\" - \",\"_\"),Список_Sub!A:B,2,0),\"\")","v":""},""]
[null,null,null,null,null,{"$f":"IFERROR(VLOOKUP(SUBSTITUTE(CONCATENATE(B753,\"_\",D753,\"_\",C753),\" - \",\"_\"),Список_Sub!A:B,2,0),\"\")","v":""},""]
[null,null,null,null,null,{"$f":"IFERROR(VLOOKUP(SUBSTITUTE(CONCATENATE(B754,\"_\",D754,\"_\",C754),\" - \",\"_\"),Список_Sub!A:B,2,0),\"\")","v":""},""]
[null,null,null,null,null,{"$f":"IFERROR(VLOOKUP(SUBSTITUTE(CONCATENATE(B755,\"_\",D755,\"_\",C755),\" - \",\"_\"),Список_Sub!A:B,2,0),\"\")","v":""},""]
[null,null,null,null,null,{"$f":"IFERROR(VLOOKUP(SUBSTITUTE(CONCATENATE(B756,\"_\",D756,\"_\",C756),\" - \",\"_\"),Список_Sub!A:B,2,0),\"\")","v":""},""]
[null,null,null,null,null,{"$f":"IFERROR(VLOOKUP(SUBSTITUTE(CONCATENATE(B757,\"_\",D757,\"_\",C757),\" - \",\"_\"),Список_Sub!A:B,2,0),\"\")","v":""},""]
[null,null,null,null,null,{"$f":"IFERROR(VLOOKUP(SUBSTITUTE(CONCATENATE(B758,\"_\",D758,\"_\",C758),\" - \",\"_\"),Список_Sub!A:B,2,0),\"\")","v":""},""]
[null,null,null,null,null,{"$f":"IFERROR(VLOOKUP(SUBSTITUTE(CONCATENATE(B759,\"_\",D759,\"_\",C759),\" - \",\"_\"),Список_Sub!A:B,2,0),\"\")","v":""},""]
[null,null,null,null,null,{"$f":"IFERROR(VLOOKUP(SUBSTITUTE(CONCATENATE(B760,\"_\",D760,\"_\",C760),\" - \",\"_\"),Список_Sub!A:B,2,0),\"\")","v":""},""]
[null,null,null,null,null,{"$f":"IFERROR(VLOOKUP(SUBSTITUTE(CONCATENATE(B761,\"_\",D761,\"_\",C761),\" - \",\"_\"),Список_Sub!A:B,2,0),\"\")","v":""},""]
[null,null,null,null,null,{"$f":"IFERROR(VLOOKUP(SUBSTITUTE(CONCATENATE(B762,\"_\",D762,\"_\",C762),\" - \",\"_\"),Список_Sub!A:B,2,0),\"\")","v":""},""]
[null,null,null,null,null,{"$f":"IFERROR(VLOOKUP(SUBSTITUTE(CONCATENATE(B763,\"_\",D763,\"_\",C763),\" - \",\"_\"),Список_Sub!A:B,2,0),\"\")","v":""},""]
[null,null,null,null,null,{"$f":"IFERROR(VLOOKUP(SUBSTITUTE(CONCATENATE(B764,\"_\",D764,\"_\",C764),\" - \",\"_\"),Список_Sub!A:B,2,0),\"\")","v":""},""]
[null,null,null,null,null,{"$f":"IFERROR(VLOOKUP(SUBSTITUTE(CONCATENATE(B765,\"_\",D765,\"_\",C765),\" - \",\"_\"),Список_Sub!A:B,2,0),\"\")","v":""},""]
[null,null,null,null,null,{"$f":"IFERROR(VLOOKUP(SUBSTITUTE(CONCATENATE(B766,\"_\",D766,\"_\",C766),\" - \",\"_\"),Список_Sub!A:B,2,0),\"\")","v":""},""]
[null,null,null,null,null,{"$f":"IFERROR(VLOOKUP(SUBSTITUTE(CONCATENATE(B767,\"_\",D767,\"_\",C767),\" - \",\"_\"),Список_Sub!A:B,2,0),\"\")","v":""},""]
[null,null,null,null,null,{"$f":"IFERROR(VLOOKUP(SUBSTITUTE(CONCATENATE(B768,\"_\",D768,\"_\",C768),\" - \",\"_\"),Список_Sub!A:B,2,0),\"\")","v":""},""]
[null,null,null,null,null,{"$f":"IFERROR(VLOOKUP(SUBSTITUTE(CONCATENATE(B769,\"_\",D769,\"_\",C769),\" - \",\"_\"),Список_Sub!A:B,2,0),\"\")","v":""},""]
[null,null,null,null,null,{"$f":"IFERROR(VLOOKUP(SUBSTITUTE(CONCATENATE(B770,\"_\",D770,\"_\",C770),\" - \",\"_\"),Список_Sub!A:B,2,0),\"\")","v":""},""]
[null,null,null,null,null,{"$f":"IFERROR(VLOOKUP(SUBSTITUTE(CONCATENATE(B771,\"_\",D771,\"_\",C771),\" - \",\"_\"),Список_Sub!A:B,2,0),\"\")","v":""},{"$f":"IF(AND(C771<>\"IP KONDRATYEV\",C771<>\"\"),VLOOKUP(D771,$O$2:$P$13,2,0),\"\")","v":""}]
[null,null,null,null,null,{"$f":"IFERROR(VLOOKUP(SUBSTITUTE(CONCATENATE(B772,\"_\",D772,\"_\",C772),\" - \",\"_\"),Список_Sub!A:B,2,0),\"\")","v":""},""]
[null,null,null,null,null,{"$f":"IFERROR(VLOOKUP(SUBSTITUTE(CONCATENATE(B773,\"_\",D773,\"_\",C773),\" - \",\"_\"),Список_Sub!A:B,2,0),\"\")","v":""},""]
[null,null,null,null,null,{"$f":"IFERROR(VLOOKUP(SUBSTITUTE(CONCATENATE(B774,\"_\",D774,\"_\",C774),\" - \",\"_\"),Список_Sub!A:B,2,0),\"\")","v":""},""]
[null,null,null,null,null,{"$f":"IFERROR(VLOOKUP(SUBSTITUTE(CONCATENATE(B775,\"_\",D775,\"_\",C775),\" - \",\"_\"),Список_Sub!A:B,2,0),\"\")","v":""},""]
[null,null,null,null,null,{"$f":"IFERROR(VLOOKUP(SUBSTITUTE(CONCATENATE(B776,\"_\",D776,\"_\",C776),\" - \",\"_\"),Список_Sub!A:B,2,0),\"\")","v":""},""]
[null,null,null,null,null,{"$f":"IFERROR(VLOOKUP(SUBSTITUTE(CONCATENATE(B777,\"_\",D777,\"_\",C777),\" - \",\"_\"),Список_Sub!A:B,2,0),\"\")","v":""},""]
[null,null,null,null,null,{"$f":"IFERROR(VLOOKUP(SUBSTITUTE(CONCATENATE(B778,\"_\",D778,\"_\",C778),\" - \",\"_\"),Список_Sub!A:B,2,0),\"\")","v":""},""]
[null,null,null,null,null,{"$f":"IFERROR(VLOOKUP(SUBSTITUTE(CONCATENATE(B779,\"_\",D779,\"_\",C779),\" - \",\"_\"),Список_Sub!A:B,2,0),\"\")","v":""},""]
[null,null,null,null,null,{"$f":"IFERROR(VLOOKUP(SUBSTITUTE(CONCATENATE(B780,\"_\",D780,\"_\",C780),\" - \",\"_\"),Список_Sub!A:B,2,0),\"\")","v":""},""]
[null,null,null,null,null,{"$f":"IFERROR(VLOOKUP(SUBSTITUTE(CONCATENATE(B781,\"_\",D781,\"_\",C781),\" - \",\"_\"),Список_Sub!A:B,2,0),\"\")","v":""},""]
[null,null,null,null,null,{"$f":"IFERROR(VLOOKUP(SUBSTITUTE(CONCATENATE(B782,\"_\",D782,\"_\",C782),\" - \",\"_\"),Список_Sub!A:B,2,0),\"\")","v":""},""]
[null,null,null,null,null,{"$f":"IFERROR(VLOOKUP(SUBSTITUTE(CONCATENATE(B783,\"_\",D783,\"_\",C783),\" - \",\"_\"),Список_Sub!A:B,2,0),\"\")","v":""},""]
[null,null,null,null,null,{"$f":"IFERROR(VLOOKUP(SUBSTITUTE(CONCATENATE(B784,\"_\",D784,\"_\",C784),\" - \",\"_\"),Список_Sub!A:B,2,0),\"\")","v":""},""]
[null,null,null,null,null,{"$f":"IFERROR(VLOOKUP(SUBSTITUTE(CONCATENATE(B785,\"_\",D785,\"_\",C785),\" - \",\"_\"),Список_Sub!A:B,2,0),\"\")","v":""},""]
[null,null,null,null,null,{"$f":"IFERROR(VLOOKUP(SUBSTITUTE(CONCATENATE(B786,\"_\",D786,\"_\",C786),\" - \",\"_\"),Список_Sub!A:B,2,0),\"\")","v":""},""]
[null,null,null,null,null,{"$f":"IFERROR(VLOOKUP(SUBSTITUTE(CONCATENATE(B787,\"_\",D787,\"_\",C787),\" - \",\"_\"),Список_Sub!A:B,2,0),\"\")","v":""},""]
[null,null,null,null,null,{"$f":"IFERROR(VLOOKUP(SUBSTITUTE(CONCATENATE(B788,\"_\",D788,\"_\",C788),\" - \",\"_\"),Список_Sub!A:B,2,0),\"\")","v":""},""]
[null,null,null,null,null,{"$f":"IFERROR(VLOOKUP(SUBSTITUTE(CONCATENATE(B789,\"_\",D789,\"_\",C789),\" - \",\"_\"),Список_Sub!A:B,2,0),\"\")","v":""},""]
[null,null,null,null,null,{"$f":"IFERROR(VLOOKUP(SUBSTITUTE(CONCATENATE(B790,\"_\",D790,\"_\",C790),\" - \",\"_\"),Список_Sub!A:B,2,0),\"\")","v":""},""]
[null,null,null,null,null,{"$f":"IFERROR(VLOOKUP(SUBSTITUTE(CONCATENATE(B791,\"_\",D791,\"_\",C791),\" - \",\"_\"),Список_Sub!A:B,2,0),\"\")","v":""},""]
[null,null,null,null,null,{"$f":"IFERROR(VLOOKUP(SUBSTITUTE(CONCATENATE(B792,\"_\",D792,\"_\",C792),\" - \",\"_\"),Список_Sub!A:B,2,0),\"\")","v":""},""]
[null,null,null,null,null,{"$f":"IFERROR(VLOOKUP(SUBSTITUTE(CONCATENATE(B793,\"_\",D793,\"_\",C793),\" - \",\"_\"),Список_Sub!A:B,2,0),\"\")","v":""},""]
[null,null,null,null,null,{"$f":"IFERROR(VLOOKUP(SUBSTITUTE(CONCATENATE(B794,\"_\",D794,\"_\",C794),\" - \",\"_\"),Список_Sub!A:B,2,0),\"\")","v":""},""]
[null,null,null,null,null,{"$f":"IFERROR(VLOOKUP(SUBSTITUTE(CONCATENATE(B795,\"_\",D795,\"_\",C795),\" - \",\"_\"),Список_Sub!A:B,2,0),\"\")","v":""},""]
[null,null,null,null,null,{"$f":"IFERROR(VLOOKUP(SUBSTITUTE(CONCATENATE(B796,\"_\",D796,\"_\",C796),\" - \",\"_\"),Список_Sub!A:B,2,0),\"\")","v":""},""]
[null,null,null,null,null,{"$f":"IFERROR(VLOOKUP(SUBSTITUTE(CONCATENATE(B797,\"_\",D797,\"_\",C797),\" - \",\"_\"),Список_Sub!A:B,2,0),\"\")","v":""},""]
[null,null,null,null,null,{"$f":"IFERROR(VLOOKUP(SUBSTITUTE(CONCATENATE(B798,\"_\",D798,\"_\",C798),\" - \",\"_\"),Список_Sub!A:B,2,0),\"\")","v":""},""]
[null,null,null,null,null,{"$f":"IFERROR(VLOOKUP(SUBSTITUTE(CONCATENATE(B799,\"_\",D799,\"_\",C799),\" - \",\"_\"),Список_Sub!A:B,2,0),\"\")","v":""},""]
[null,null,null,null,null,{"$f":"IFERROR(VLOOKUP(SUBSTITUTE(CONCATENATE(B800,\"_\",D800,\"_\",C800),\" - \",\"_\"),Список_Sub!A:B,2,0),\"\")","v":""},""]
[null,null,null,null,null,{"$f":"IFERROR(VLOOKUP(SUBSTITUTE(CONCATENATE(B801,\"_\",D801,\"_\",C801),\" - \",\"_\"),Список_Sub!A:B,2,0),\"\")","v":""},""]
[null,null,null,null,null,{"$f":"IFERROR(VLOOKUP(SUBSTITUTE(CONCATENATE(B802,\"_\",D802,\"_\",C802),\" - \",\"_\"),Список_Sub!A:B,2,0),\"\")","v":""},""]
[null,null,null,null,null,{"$f":"IFERROR(VLOOKUP(SUBSTITUTE(CONCATENATE(B803,\"_\",D803,\"_\",C803),\" - \",\"_\"),Список_Sub!A:B,2,0),\"\")","v":""},""]
[null,null,null,null,null,{"$f":"IFERROR(VLOOKUP(SUBSTITUTE(CONCATENATE(B804,\"_\",D804,\"_\",C804),\" - \",\"_\"),Список_Sub!A:B,2,0),\"\")","v":""},""]
[null,null,null,null,null,{"$f":"IFERROR(VLOOKUP(SUBSTITUTE(CONCATENATE(B805,\"_\",D805,\"_\",C805),\" - \",\"_\"),Список_Sub!A:B,2,0),\"\")","v":""},""]
[null,null,null,null,null,{"$f":"IFERROR(VLOOKUP(SUBSTITUTE(CONCATENATE(B806,\"_\",D806,\"_\",C806),\" - \",\"_\"),Список_Sub!A:B,2,0),\"\")","v":""},""]
[null,null,null,null,null,{"$f":"IFERROR(VLOOKUP(SUBSTITUTE(CONCATENATE(B807,\"_\",D807,\"_\",C807),\" - \",\"_\"),Список_Sub!A:B,2,0),\"\")","v":""},""]
[null,null,null,null,null,{"$f":"IFERROR(VLOOKUP(SUBSTITUTE(CONCATENATE(B808,\"_\",D808,\"_\",C808),\" - \",\"_\"),Список_Sub!A:B,2,0),\"\")","v":""},""]
[null,null,null,null,null,{"$f":"IFERROR(VLOOKUP(SUBSTITUTE(CONCATENATE(B809,\"_\",D809,\"_\",C809),\" - \",\"_\"),Список_Sub!A:B,2,0),\"\")","v":""},""]
[null,null,null,null,null,{"$f":"IFERROR(VLOOKUP(SUBSTITUTE(CONCATENATE(B810,\"_\",D810,\"_\",C810),\" - \",\"_\"),Список_Sub!A:B,2,0),\"\")","v":""},""]
[null,null,null,null,null,{"$f":"IFERROR(VLOOKUP(SUBSTITUTE(CONCATENATE(B811,\"_\",D811,\"_\",C811),\" - \",\"_\"),Список_Sub!A:B,2,0),\"\")","v":""},""]
[null,null,null,null,null,{"$f":"IFERROR(VLOOKUP(SUBSTITUTE(CONCATENATE(B812,\"_\",D812,\"_\",C812),\" - \",\"_\"),Список_Sub!A:B,2,0),\"\")","v":""},""]
[null,null,null,null,null,{"$f":"IFERROR(VLOOKUP(SUBSTITUTE(CONCATENATE(B813,\"_\",D813,\"_\",C813),\" - \",\"_\"),Список_Sub!A:B,2,0),\"\")","v":""},""]
[null,null,null,null,null,{"$f":"IFERROR(VLOOKUP(SUBSTITUTE(CONCATENATE(B814,\"_\",D814,\"_\",C814),\" - \",\"_\"),Список_Sub!A:B,2,0),\"\")","v":""},""]
[null,null,null,null,null,{"$f":"IFERROR(VLOOKUP(SUBSTITUTE(CONCATENATE(B815,\"_\",D815,\"_\",C815),\" - \",\"_\"),Список_Sub!A:B,2,0),\"\")","v":""},""]
[null,null,null,null,null,{"$f":"IFERROR(VLOOKUP(SUBSTITUTE(CONCATENATE(B816,\"_\",D816,\"_\",C816),\" - \",\"_\"),Список_Sub!A:B,2,0),\"\")","v":""},""]
[null,null,null,null,null,{"$f":"IFERROR(VLOOKUP(SUBSTITUTE(CONCATENATE(B817,\"_\",D817,\"_\",C817),\" - \",\"_\"),Список_Sub!A:B,2,0),\"\")","v":""},""]
[null,null,null,null,null,{"$f":"IFERROR(VLOOKUP(SUBSTITUTE(CONCATENATE(B818,\"_\",D818,\"_\",C818),\" - \",\"_\"),Список_Sub!A:B,2,0),\"\")","v":""},""]
[null,null,null,null,null,{"$f":"IFERROR(VLOOKUP(SUBSTITUTE(CONCATENATE(B819,\"_\",D819,\"_\",C819),\" - \",\"_\"),Список_Sub!A:B,2,0),\"\")","v":""},""]
[null,null,null,null,null,{"$f":"IFERROR(VLOOKUP(SUBSTITUTE(CONCATENATE(B820,\"_\",D820,\"_\",C820),\" - \",\"_\"),Список_Sub!A:B,2,0),\"\")","v":""},""]
[null,null,null,null,null,{"$f":"IFERROR(VLOOKUP(SUBSTITUTE(CONCATENATE(B821,\"_\",D821,\"_\",C821),\" - \",\"_\"),Список_Sub!A:B,2,0),\"\")","v":""},""]
[null,null,null,null,null,{"$f":"IFERROR(VLOOKUP(SUBSTITUTE(CONCATENATE(B822,\"_\",D822,\"_\",C822),\" - \",\"_\"),Список_Sub!A:B,2,0),\"\")","v":""},""]
[null,null,null,null,null,{"$f":"IFERROR(VLOOKUP(SUBSTITUTE(CONCATENATE(B823,\"_\",D823,\"_\",C823),\" - \",\"_\"),Список_Sub!A:B,2,0),\"\")","v":""},""]
[null,null,null,null,null,{"$f":"IFERROR(VLOOKUP(SUBSTITUTE(CONCATENATE(B824,\"_\",D824,\"_\",C824),\" - \",\"_\"),Список_Sub!A:B,2,0),\"\")","v":""},""]
[null,null,null,null,null,{"$f":"IFERROR(VLOOKUP(SUBSTITUTE(CONCATENATE(B825,\"_\",D825,\"_\",C825),\" - \",\"_\"),Список_Sub!A:B,2,0),\"\")","v":""},""]
[null,null,null,null,null,{"$f":"IFERROR(VLOOKUP(SUBSTITUTE(CONCATENATE(B826,\"_\",D826,\"_\",C826),\" - \",\"_\"),Список_Sub!A:B,2,0),\"\")","v":""},""]
[null,null,null,null,null,{"$f":"IFERROR(VLOOKUP(SUBSTITUTE(CONCATENATE(B827,\"_\",D827,\"_\",C827),\" - \",\"_\"),Список_Sub!A:B,2,0),\"\")","v":""},""]
[null,null,null,null,null,{"$f":"IFERROR(VLOOKUP(SUBSTITUTE(CONCATENATE(B828,\"_\",D828,\"_\",C828),\" - \",\"_\"),Список_Sub!A:B,2,0),\"\")","v":""},""]
[null,null,null,null,null,{"$f":"IFERROR(VLOOKUP(SUBSTITUTE(CONCATENATE(B829,\"_\",D829,\"_\",C829),\" - \",\"_\"),Список_Sub!A:B,2,0),\"\")","v":""},""]
[null,null,null,null,null,{"$f":"IFERROR(VLOOKUP(SUBSTITUTE(CONCATENATE(B830,\"_\",D830,\"_\",C830),\" - \",\"_\"),Список_Sub!A:B,2,0),\"\")","v":""},""]
[null,null,null,null,null,{"$f":"IFERROR(VLOOKUP(SUBSTITUTE(CONCATENATE(B831,\"_\",D831,\"_\",C831),\" - \",\"_\"),Список_Sub!A:B,2,0),\"\")","v":""},""]
[null,null,null,null,null,{"$f":"IFERROR(VLOOKUP(SUBSTITUTE(CONCATENATE(B832,\"_\",D832,\"_\",C832),\" - \",\"_\"),Список_Sub!A:B,2,0),\"\")","v":""},""]
[null,null,null,null,null,{"$f":"IFERROR(VLOOKUP(SUBSTITUTE(CONCATENATE(B833,\"_\",D833,\"_\",C833),\" - \",\"_\"),Список_Sub!A:B,2,0),\"\")","v":""},""]
[null,null,null,null,null,{"$f":"IFERROR(VLOOKUP(SUBSTITUTE(CONCATENATE(B834,\"_\",D834,\"_\",C834),\" - \",\"_\"),Список_Sub!A:B,2,0),\"\")","v":""},""]
[null,null,null,null,null,{"$f":"IFERROR(VLOOKUP(SUBSTITUTE(CONCATENATE(B835,\"_\",D835,\"_\",C835),\" - \",\"_\"),Список_Sub!A:B,2,0),\"\")","v":""},{"$f":"IF(AND(C835<>\"IP KONDRATYEV\",C835<>\"\"),VLOOKUP(D835,$O$2:$P$13,2,0),\"\")","v":""}]
[null,null,null,null,null,{"$f":"IFERROR(VLOOKUP(SUBSTITUTE(CONCATENATE(B836,\"_\",D836,\"_\",C836),\" - \",\"_\"),Список_Sub!A:B,2,0),\"\")","v":""},""]
[null,null,null,null,null,{"$f":"IFERROR(VLOOKUP(SUBSTITUTE(CONCATENATE(B837,\"_\",D837,\"_\",C837),\" - \",\"_\"),Список_Sub!A:B,2,0),\"\")","v":""},""]
[null,null,null,null,null,{"$f":"IFERROR(VLOOKUP(SUBSTITUTE(CONCATENATE(B838,\"_\",D838,\"_\",C838),\" - \",\"_\"),Список_Sub!A:B,2,0),\"\")","v":""},""]
[null,null,null,null,null,{"$f":"IFERROR(VLOOKUP(SUBSTITUTE(CONCATENATE(B839,\"_\",D839,\"_\",C839),\" - \",\"_\"),Список_Sub!A:B,2,0),\"\")","v":""},""]
[null,null,null,null,null,{"$f":"IFERROR(VLOOKUP(SUBSTITUTE(CONCATENATE(B840,\"_\",D840,\"_\",C840),\" - \",\"_\"),Список_Sub!A:B,2,0),\"\")","v":""},""]
[null,null,null,null,null,{"$f":"IFERROR(VLOOKUP(SUBSTITUTE(CONCATENATE(B841,\"_\",D841,\"_\",C841),\" - \",\"_\"),Список_Sub!A:B,2,0),\"\")","v":""},""]
[null,null,null,null,null,{"$f":"IFERROR(VLOOKUP(SUBSTITUTE(CONCATENATE(B842,\"_\",D842,\"_\",C842),\" - \",\"_\"),Список_Sub!A:B,2,0),\"\")","v":""},""]
[null,null,null,null,null,{"$f":"IFERROR(VLOOKUP(SUBSTITUTE(CONCATENATE(B843,\"_\",D843,\"_\",C843),\" - \",\"_\"),Список_Sub!A:B,2,0),\"\")","v":""},""]
[null,null,null,null,null,{"$f":"IFERROR(VLOOKUP(SUBSTITUTE(CONCATENATE(B844,\"_\",D844,\"_\",C844),\" - \",\"_\"),Список_Sub!A:B,2,0),\"\")","v":""},""]
[null,null,null,null,null,{"$f":"IFERROR(VLOOKUP(SUBSTITUTE(CONCATENATE(B845,\"_\",D845,\"_\",C845),\" - \",\"_\"),Список_Sub!A:B,2,0),\"\")","v":""},""]
[null,null,null,null,null,{"$f":"IFERROR(VLOOKUP(SUBSTITUTE(CONCATENATE(B846,\"_\",D846,\"_\",C846),\" - \",\"_\"),Список_Sub!A:B,2,0),\"\")","v":""},""]
[null,null,null,null,null,{"$f":"IFERROR(VLOOKUP(SUBSTITUTE(CONCATENATE(B847,\"_\",D847,\"_\",C847),\" - \",\"_\"),Список_Sub!A:B,2,0),\"\")","v":""},""]
[null,null,null,null,null,{"$f":"IFERROR(VLOOKUP(SUBSTITUTE(CONCATENATE(B848,\"_\",D848,\"_\",C848),\" - \",\"_\"),Список_Sub!A:B,2,0),\"\")","v":""},""]
[null,null,null,null,null,{"$f":"IFERROR(VLOOKUP(SUBSTITUTE(CONCATENATE(B849,\"_\",D849,\"_\",C849),\" - \",\"_\"),Список_Sub!A:B,2,0),\"\")","v":""},""]
[null,null,null,null,null,{"$f":"IFERROR(VLOOKUP(SUBSTITUTE(CONCATENATE(B850,\"_\",D850,\"_\",C850),\" - \",\"_\"),Список_Sub!A:B,2,0),\"\")","v":""},""]
[null,null,null,null,null,{"$f":"IFERROR(VLOOKUP(SUBSTITUTE(CONCATENATE(B851,\"_\",D851,\"_\",C851),\" - \",\"_\"),Список_Sub!A:B,2,0),\"\")","v":""},""]
[null,null,null,null,null,{"$f":"IFERROR(VLOOKUP(SUBSTITUTE(CONCATENATE(B852,\"_\",D852,\"_\",C852),\" - \",\"_\"),Список_Sub!A:B,2,0),\"\")","v":""},""]
[null,null,null,null,null,{"$f":"IFERROR(VLOOKUP(SUBSTITUTE(CONCATENATE(B853,\"_\",D853,\"_\",C853),\" - \",\"_\"),Список_Sub!A:B,2,0),\"\")","v":""},""]
[null,null,null,null,null,{"$f":"IFERROR(VLOOKUP(SUBSTITUTE(CONCATENATE(B854,\"_\",D854,\"_\",C854),\" - \",\"_\"),Список_Sub!A:B,2,0),\"\")","v":""},""]
[null,null,null,null,null,{"$f":"IFERROR(VLOOKUP(SUBSTITUTE(CONCATENATE(B855,\"_\",D855,\"_\",C855),\" - \",\"_\"),Список_Sub!A:B,2,0),\"\")","v":""},""]
[null,null,null,null,null,{"$f":"IFERROR(VLOOKUP(SUBSTITUTE(CONCATENATE(B856,\"_\",D856,\"_\",C856),\" - \",\"_\"),Список_Sub!A:B,2,0),\"\")","v":""},""]
[null,null,null,null,null,{"$f":"IFERROR(VLOOKUP(SUBSTITUTE(CONCATENATE(B857,\"_\",D857,\"_\",C857),\" - \",\"_\"),Список_Sub!A:B,2,0),\"\")","v":""},""]
[null,null,null,null,null,{"$f":"IFERROR(VLOOKUP(SUBSTITUTE(CONCATENATE(B858,\"_\",D858,\"_\",C858),\" - \",\"_\"),Список_Sub!A:B,2,0),\"\")","v":""},""]
[null,null,null,null,null,{"$f":"IFERROR(VLOOKUP(SUBSTITUTE(CONCATENATE(B859,\"_\",D859,\"_\",C859),\" - \",\"_\"),Список_Sub!A:B,2,0),\"\")","v":""},""]
[null,null,null,null,null,{"$f":"IFERROR(VLOOKUP(SUBSTITUTE(CONCATENATE(B860,\"_\",D860,\"_\",C860),\" - \",\"_\"),Список_Sub!A:B,2,0),\"\")","v":""},""]
[null,null,null,null,null,{"$f":"IFERROR(VLOOKUP(SUBSTITUTE(CONCATENATE(B861,\"_\",D861,\"_\",C861),\" - \",\"_\"),Список_Sub!A:B,2,0),\"\")","v":""},""]
[null,null,null,null,null,{"$f":"IFERROR(VLOOKUP(SUBSTITUTE(CONCATENATE(B862,\"_\",D862,\"_\",C862),\" - \",\"_\"),Список_Sub!A:B,2,0),\"\")","v":""},""]
[null,null,null,null,null,{"$f":"IFERROR(VLOOKUP(SUBSTITUTE(CONCATENATE(B863,\"_\",D863,\"_\",C863),\" - \",\"_\"),Список_Sub!A:B,2,0),\"\")","v":""},""]
[null,null,null,null,null,{"$f":"IFERROR(VLOOKUP(SUBSTITUTE(CONCATENATE(B864,\"_\",D864,\"_\",C864),\" - \",\"_\"),Список_Sub!A:B,2,0),\"\")","v":""},""]
[null,null,null,null,null,{"$f":"IFERROR(VLOOKUP(SUBSTITUTE(CONCATENATE(B865,\"_\",D865,\"_\",C865),\" - \",\"_\"),Список_Sub!A:B,2,0),\"\")","v":""},""]
[null,null,null,null,null,{"$f":"IFERROR(VLOOKUP(SUBSTITUTE(CONCATENATE(B866,\"_\",D866,\"_\",C866),\" - \",\"_\"),Список_Sub!A:B,2,0),\"\")","v":""},""]
[null,null,null,null,null,{"$f":"IFERROR(VLOOKUP(SUBSTITUTE(CONCATENATE(B867,\"_\",D867,\"_\",C867),\" - \",\"_\"),Список_Sub!A:B,2,0),\"\")","v":""},""]
[null,null,null,null,null,{"$f":"IFERROR(VLOOKUP(SUBSTITUTE(CONCATENATE(B868,\"_\",D868,\"_\",C868),\" - \",\"_\"),Список_Sub!A:B,2,0),\"\")","v":""},""]
[null,null,null,null,null,{"$f":"IFERROR(VLOOKUP(SUBSTITUTE(CONCATENATE(B869,\"_\",D869,\"_\",C869),\" - \",\"_\"),Список_Sub!A:B,2,0),\"\")","v":""},""]
[null,null,null,null,null,{"$f":"IFERROR(VLOOKUP(SUBSTITUTE(CONCATENATE(B870,\"_\",D870,\"_\",C870),\" - \",\"_\"),Список_Sub!A:B,2,0),\"\")","v":""},""]
[null,null,null,null,null,{"$f":"IFERROR(VLOOKUP(SUBSTITUTE(CONCATENATE(B871,\"_\",D871,\"_\",C871),\" - \",\"_\"),Список_Sub!A:B,2,0),\"\")","v":""},""]
[null,null,null,null,null,{"$f":"IFERROR(VLOOKUP(SUBSTITUTE(CONCATENATE(B872,\"_\",D872,\"_\",C872),\" - \",\"_\"),Список_Sub!A:B,2,0),\"\")","v":""},""]
[null,null,null,null,null,{"$f":"IFERROR(VLOOKUP(SUBSTITUTE(CONCATENATE(B873,\"_\",D873,\"_\",C873),\" - \",\"_\"),Список_Sub!A:B,2,0),\"\")","v":""},""]
[null,null,null,null,null,{"$f":"IFERROR(VLOOKUP(SUBSTITUTE(CONCATENATE(B874,\"_\",D874,\"_\",C874),\" - \",\"_\"),Список_Sub!A:B,2,0),\"\")","v":""},""]
[null,null,null,null,null,{"$f":"IFERROR(VLOOKUP(SUBSTITUTE(CONCATENATE(B875,\"_\",D875,\"_\",C875),\" - \",\"_\"),Список_Sub!A:B,2,0),\"\")","v":""},""]
[null,null,null,null,null,{"$f":"IFERROR(VLOOKUP(SUBSTITUTE(CONCATENATE(B876,\"_\",D876,\"_\",C876),\" - \",\"_\"),Список_Sub!A:B,2,0),\"\")","v":""},""]
[null,null,null,null,null,{"$f":"IFERROR(VLOOKUP(SUBSTITUTE(CONCATENATE(B877,\"_\",D877,\"_\",C877),\" - \",\"_\"),Список_Sub!A:B,2,0),\"\")","v":""},""]
[null,null,null,null,null,{"$f":"IFERROR(VLOOKUP(SUBSTITUTE(CONCATENATE(B878,\"_\",D878,\"_\",C878),\" - \",\"_\"),Список_Sub!A:B,2,0),\"\")","v":""},""]
[null,null,null,null,null,{"$f":"IFERROR(VLOOKUP(SUBSTITUTE(CONCATENATE(B879,\"_\",D879,\"_\",C879),\" - \",\"_\"),Список_Sub!A:B,2,0),\"\")","v":""},""]
[null,null,null,null,null,{"$f":"IFERROR(VLOOKUP(SUBSTITUTE(CONCATENATE(B880,\"_\",D880,\"_\",C880),\" - \",\"_\"),Список_Sub!A:B,2,0),\"\")","v":""},""]
[null,null,null,null,null,{"$f":"IFERROR(VLOOKUP(SUBSTITUTE(CONCATENATE(B881,\"_\",D881,\"_\",C881),\" - \",\"_\"),Список_Sub!A:B,2,0),\"\")","v":""},""]
[null,null,null,null,null,{"$f":"IFERROR(VLOOKUP(SUBSTITUTE(CONCATENATE(B882,\"_\",D882,\"_\",C882),\" - \",\"_\"),Список_Sub!A:B,2,0),\"\")","v":""},""]
[null,null,null,null,null,{"$f":"IFERROR(VLOOKUP(SUBSTITUTE(CONCATENATE(B883,\"_\",D883,\"_\",C883),\" - \",\"_\"),Список_Sub!A:B,2,0),\"\")","v":""},""]
[null,null,null,null,null,{"$f":"IFERROR(VLOOKUP(SUBSTITUTE(CONCATENATE(B884,\"_\",D884,\"_\",C884),\" - \",\"_\"),Список_Sub!A:B,2,0),\"\")","v":""},""]
[null,null,null,null,null,{"$f":"IFERROR(VLOOKUP(SUBSTITUTE(CONCATENATE(B885,\"_\",D885,\"_\",C885),\" - \",\"_\"),Список_Sub!A:B,2,0),\"\")","v":""},""]
[null,null,null,null,null,{"$f":"IFERROR(VLOOKUP(SUBSTITUTE(CONCATENATE(B886,\"_\",D886,\"_\",C886),\" - \",\"_\"),Список_Sub!A:B,2,0),\"\")","v":""},""]
[null,null,null,null,null,{"$f":"IFERROR(VLOOKUP(SUBSTITUTE(CONCATENATE(B887,\"_\",D887,\"_\",C887),\" - \",\"_\"),Список_Sub!A:B,2,0),\"\")","v":""},""]
[null,null,null,null,null,{"$f":"IFERROR(VLOOKUP(SUBSTITUTE(CONCATENATE(B888,\"_\",D888,\"_\",C888),\" - \",\"_\"),Список_Sub!A:B,2,0),\"\")","v":""},""]
[null,null,null,null,null,{"$f":"IFERROR(VLOOKUP(SUBSTITUTE(CONCATENATE(B889,\"_\",D889,\"_\",C889),\" - \",\"_\"),Список_Sub!A:B,2,0),\"\")","v":""},""]
[null,null,null,null,null,{"$f":"IFERROR(VLOOKUP(SUBSTITUTE(CONCATENATE(B890,\"_\",D890,\"_\",C890),\" - \",\"_\"),Список_Sub!A:B,2,0),\"\")","v":""},""]
[null,null,null,null,null,{"$f":"IFERROR(VLOOKUP(SUBSTITUTE(CONCATENATE(B891,\"_\",D891,\"_\",C891),\" - \",\"_\"),Список_Sub!A:B,2,0),\"\")","v":""},""]
[null,null,null,null,null,{"$f":"IFERROR(VLOOKUP(SUBSTITUTE(CONCATENATE(B892,\"_\",D892,\"_\",C892),\" - \",\"_\"),Список_Sub!A:B,2,0),\"\")","v":""},""]
[null,null,null,null,null,{"$f":"IFERROR(VLOOKUP(SUBSTITUTE(CONCATENATE(B893,\"_\",D893,\"_\",C893),\" - \",\"_\"),Список_Sub!A:B,2,0),\"\")","v":""},""]
[null,null,null,null,null,{"$f":"IFERROR(VLOOKUP(SUBSTITUTE(CONCATENATE(B894,\"_\",D894,\"_\",C894),\" - \",\"_\"),Список_Sub!A:B,2,0),\"\")","v":""},""]
[null,null,null,null,null,{"$f":"IFERROR(VLOOKUP(SUBSTITUTE(CONCATENATE(B895,\"_\",D895,\"_\",C895),\" - \",\"_\"),Список_Sub!A:B,2,0),\"\")","v":""},""]
[null,null,null,null,null,{"$f":"IFERROR(VLOOKUP(SUBSTITUTE(CONCATENATE(B896,\"_\",D896,\"_\",C896),\" - \",\"_\"),Список_Sub!A:B,2,0),\"\")","v":""},""]
[null,null,null,null,null,{"$f":"IFERROR(VLOOKUP(SUBSTITUTE(CONCATENATE(B897,\"_\",D897,\"_\",C897),\" - \",\"_\"),Список_Sub!A:B,2,0),\"\")","v":""},""]
[null,null,null,null,null,{"$f":"IFERROR(VLOOKUP(SUBSTITUTE(CONCATENATE(B898,\"_\",D898,\"_\",C898),\" - \",\"_\"),Список_Sub!A:B,2,0),\"\")","v":""},""]
[null,null,null,null,null,{"$f":"IFERROR(VLOOKUP(SUBSTITUTE(CONCATENATE(B899,\"_\",D899,\"_\",C899),\" - \",\"_\"),Список_Sub!A:B,2,0),\"\")","v":""},{"$f":"IF(AND(C899<>\"IP KONDRATYEV\",C899<>\"\"),VLOOKUP(D899,$O$2:$P$13,2,0),\"\")","v":""}]
[null,null,null,null,null,{"$f":"IFERROR(VLOOKUP(SUBSTITUTE(CONCATENATE(B900,\"_\",D900,\"_\",C900),\" - \",\"_\"),Список_Sub!A:B,2,0),\"\")","v":""},""]
[null,null,null,null,null,{"$f":"IFERROR(VLOOKUP(SUBSTITUTE(CONCATENATE(B901,\"_\",D901,\"_\",C901),\" - \",\"_\"),Список_Sub!A:B,2,0),\"\")","v":""},""]
[null,null,null,null,null,{"$f":"IFERROR(VLOOKUP(SUBSTITUTE(CONCATENATE(B902,\"_\",D902,\"_\",C902),\" - \",\"_\"),Список_Sub!A:B,2,0),\"\")","v":""},""]
[null,null,null,null,null,{"$f":"IFERROR(VLOOKUP(SUBSTITUTE(CONCATENATE(B903,\"_\",D903,\"_\",C903),\" - \",\"_\"),Список_Sub!A:B,2,0),\"\")","v":""},""]
[null,null,null,null,null,{"$f":"IFERROR(VLOOKUP(SUBSTITUTE(CONCATENATE(B904,\"_\",D904,\"_\",C904),\" - \",\"_\"),Список_Sub!A:B,2,0),\"\")","v":""},""]
[null,null,null,null,null,{"$f":"IFERROR(VLOOKUP(SUBSTITUTE(CONCATENATE(B905,\"_\",D905,\"_\",C905),\" - \",\"_\"),Список_Sub!A:B,2,0),\"\")","v":""},""]
[null,null,null,null,null,{"$f":"IFERROR(VLOOKUP(SUBSTITUTE(CONCATENATE(B906,\"_\",D906,\"_\",C906),\" - \",\"_\"),Список_Sub!A:B,2,0),\"\")","v":""},""]
[null,null,null,null,null,{"$f":"IFERROR(VLOOKUP(SUBSTITUTE(CONCATENATE(B907,\"_\",D907,\"_\",C907),\" - \",\"_\"),Список_Sub!A:B,2,0),\"\")","v":""},""]
[null,null,null,null,null,{"$f":"IFERROR(VLOOKUP(SUBSTITUTE(CONCATENATE(B908,\"_\",D908,\"_\",C908),\" - \",\"_\"),Список_Sub!A:B,2,0),\"\")","v":""},""]
[null,null,null,null,null,{"$f":"IFERROR(VLOOKUP(SUBSTITUTE(CONCATENATE(B909,\"_\",D909,\"_\",C909),\" - \",\"_\"),Список_Sub!A:B,2,0),\"\")","v":""},""]
[null,null,null,null,null,{"$f":"IFERROR(VLOOKUP(SUBSTITUTE(CONCATENATE(B910,\"_\",D910,\"_\",C910),\" - \",\"_\"),Список_Sub!A:B,2,0),\"\")","v":""},""]
[null,null,null,null,null,{"$f":"IFERROR(VLOOKUP(SUBSTITUTE(CONCATENATE(B911,\"_\",D911,\"_\",C911),\" - \",\"_\"),Список_Sub!A:B,2,0),\"\")","v":""},""]
[null,null,null,null,null,{"$f":"IFERROR(VLOOKUP(SUBSTITUTE(CONCATENATE(B912,\"_\",D912,\"_\",C912),\" - \",\"_\"),Список_Sub!A:B,2,0),\"\")","v":""},""]
[null,null,null,null,null,{"$f":"IFERROR(VLOOKUP(SUBSTITUTE(CONCATENATE(B913,\"_\",D913,\"_\",C913),\" - \",\"_\"),Список_Sub!A:B,2,0),\"\")","v":""},""]
[null,null,null,null,null,{"$f":"IFERROR(VLOOKUP(SUBSTITUTE(CONCATENATE(B914,\"_\",D914,\"_\",C914),\" - \",\"_\"),Список_Sub!A:B,2,0),\"\")","v":""},""]
[null,null,null,null,null,{"$f":"IFERROR(VLOOKUP(SUBSTITUTE(CONCATENATE(B915,\"_\",D915,\"_\",C915),\" - \",\"_\"),Список_Sub!A:B,2,0),\"\")","v":""},""]
[null,null,null,null,null,{"$f":"IFERROR(VLOOKUP(SUBSTITUTE(CONCATENATE(B916,\"_\",D916,\"_\",C916),\" - \",\"_\"),Список_Sub!A:B,2,0),\"\")","v":""},""]
[null,null,null,null,null,{"$f":"IFERROR(VLOOKUP(SUBSTITUTE(CONCATENATE(B917,\"_\",D917,\"_\",C917),\" - \",\"_\"),Список_Sub!A:B,2,0),\"\")","v":""},""]
[null,null,null,null,null,{"$f":"IFERROR(VLOOKUP(SUBSTITUTE(CONCATENATE(B918,\"_\",D918,\"_\",C918),\" - \",\"_\"),Список_Sub!A:B,2,0),\"\")","v":""},""]
[null,null,null,null,null,{"$f":"IFERROR(VLOOKUP(SUBSTITUTE(CONCATENATE(B919,\"_\",D919,\"_\",C919),\" - \",\"_\"),Список_Sub!A:B,2,0),\"\")","v":""},""]
[null,null,null,null,null,{"$f":"IFERROR(VLOOKUP(SUBSTITUTE(CONCATENATE(B920,\"_\",D920,\"_\",C920),\" - \",\"_\"),Список_Sub!A:B,2,0),\"\")","v":""},""]
[null,null,null,null,null,{"$f":"IFERROR(VLOOKUP(SUBSTITUTE(CONCATENATE(B921,\"_\",D921,\"_\",C921),\" - \",\"_\"),Список_Sub!A:B,2,0),\"\")","v":""},""]
[null,null,null,null,null,{"$f":"IFERROR(VLOOKUP(SUBSTITUTE(CONCATENATE(B922,\"_\",D922,\"_\",C922),\" - \",\"_\"),Список_Sub!A:B,2,0),\"\")","v":""},""]
[null,null,null,null,null,{"$f":"IFERROR(VLOOKUP(SUBSTITUTE(CONCATENATE(B923,\"_\",D923,\"_\",C923),\" - \",\"_\"),Список_Sub!A:B,2,0),\"\")","v":""},""]
[null,null,null,null,null,{"$f":"IFERROR(VLOOKUP(SUBSTITUTE(CONCATENATE(B924,\"_\",D924,\"_\",C924),\" - \",\"_\"),Список_Sub!A:B,2,0),\"\")","v":""},""]
[null,null,null,null,null,{"$f":"IFERROR(VLOOKUP(SUBSTITUTE(CONCATENATE(B925,\"_\",D925,\"_\",C925),\" - \",\"_\"),Список_Sub!A:B,2,0),\"\")","v":""},""]
[null,null,null,null,null,{"$f":"IFERROR(VLOOKUP(SUBSTITUTE(CONCATENATE(B926,\"_\",D926,\"_\",C926),\" - \",\"_\"),Список_Sub!A:B,2,0),\"\")","v":""},""]
[null,null,null,null,null,{"$f":"IFERROR(VLOOKUP(SUBSTITUTE(CONCATENATE(B927,\"_\",D927,\"_\",C927),\" - \",\"_\"),Список_Sub!A:B,2,0),\"\")","v":""},""]
[null,null,null,null,null,{"$f":"IFERROR(VLOOKUP(SUBSTITUTE(CONCATENATE(B928,\"_\",D928,\"_\",C928),\" - \",\"_\"),Список_Sub!A:B,2,0),\"\")","v":""},""]
[null,null,null,null,null,{"$f":"IFERROR(VLOOKUP(SUBSTITUTE(CONCATENATE(B929,\"_\",D929,\"_\",C929),\" - \",\"_\"),Список_Sub!A:B,2,0),\"\")","v":""},""]
[null,null,null,null,null,{"$f":"IFERROR(VLOOKUP(SUBSTITUTE(CONCATENATE(B930,\"_\",D930,\"_\",C930),\" - \",\"_\"),Список_Sub!A:B,2,0),\"\")","v":""},""]
[null,null,null,null,null,{"$f":"IFERROR(VLOOKUP(SUBSTITUTE(CONCATENATE(B931,\"_\",D931,\"_\",C931),\" - \",\"_\"),Список_Sub!A:B,2,0),\"\")","v":""},""]
[null,null,null,null,null,{"$f":"IFERROR(VLOOKUP(SUBSTITUTE(CONCATENATE(B932,\"_\",D932,\"_\",C932),\" - \",\"_\"),Список_Sub!A:B,2,0),\"\")","v":""},""]
[null,null,null,null,null,{"$f":"IFERROR(VLOOKUP(SUBSTITUTE(CONCATENATE(B933,\"_\",D933,\"_\",C933),\" - \",\"_\"),Список_Sub!A:B,2,0),\"\")","v":""},""]
[null,null,null,null,null,{"$f":"IFERROR(VLOOKUP(SUBSTITUTE(CONCATENATE(B934,\"_\",D934,\"_\",C934),\" - \",\"_\"),Список_Sub!A:B,2,0),\"\")","v":""},""]
[null,null,null,null,null,{"$f":"IFERROR(VLOOKUP(SUBSTITUTE(CONCATENATE(B935,\"_\",D935,\"_\",C935),\" - \",\"_\"),Список_Sub!A:B,2,0),\"\")","v":""},""]
[null,null,null,null,null,{"$f":"IFERROR(VLOOKUP(SUBSTITUTE(CONCATENATE(B936,\"_\",D936,\"_\",C936),\" - \",\"_\"),Список_Sub!A:B,2,0),\"\")","v":""},""]
[null,null,null,null,null,{"$f":"IFERROR(VLOOKUP(SUBSTITUTE(CONCATENATE(B937,\"_\",D937,\"_\",C937),\" - \",\"_\"),Список_Sub!A:B,2,0),\"\")","v":""},""]
[null,null,null,null,null,{"$f":"IFERROR(VLOOKUP(SUBSTITUTE(CONCATENATE(B938,\"_\",D938,\"_\",C938),\" - \",\"_\"),Список_Sub!A:B,2,0),\"\")","v":""},""]
[null,null,null,null,null,{"$f":"IFERROR(VLOOKUP(SUBSTITUTE(CONCATENATE(B939,\"_\",D939,\"_\",C939),\" - \",\"_\"),Список_Sub!A:B,2,0),\"\")","v":""},""]
[null,null,null,null,null,{"$f":"IFERROR(VLOOKUP(SUBSTITUTE(CONCATENATE(B940,\"_\",D940,\"_\",C940),\" - \",\"_\"),Список_Sub!A:B,2,0),\"\")","v":""},""]
[null,null,null,null,null,{"$f":"IFERROR(VLOOKUP(SUBSTITUTE(CONCATENATE(B941,\"_\",D941,\"_\",C941),\" - \",\"_\"),Список_Sub!A:B,2,0),\"\")","v":""},""]
[null,null,null,null,null,{"$f":"IFERROR(VLOOKUP(SUBSTITUTE(CONCATENATE(B942,\"_\",D942,\"_\",C942),\" - \",\"_\"),Список_Sub!A:B,2,0),\"\")","v":""},""]
[null,null,null,null,null,{"$f":"IFERROR(VLOOKUP(SUBSTITUTE(CONCATENATE(B943,\"_\",D943,\"_\",C943),\" - \",\"_\"),Список_Sub!A:B,2,0),\"\")","v":""},""]
[null,null,null,null,null,{"$f":"IFERROR(VLOOKUP(SUBSTITUTE(CONCATENATE(B944,\"_\",D944,\"_\",C944),\" - \",\"_\"),Список_Sub!A:B,2,0),\"\")","v":""},""]
[null,null,null,null,null,{"$f":"IFERROR(VLOOKUP(SUBSTITUTE(CONCATENATE(B945,\"_\",D945,\"_\",C945),\" - \",\"_\"),Список_Sub!A:B,2,0),\"\")","v":""},""]
[null,null,null,null,null,{"$f":"IFERROR(VLOOKUP(SUBSTITUTE(CONCATENATE(B946,\"_\",D946,\"_\",C946),\" - \",\"_\"),Список_Sub!A:B,2,0),\"\")","v":""},""]
[null,null,null,null,null,{"$f":"IFERROR(VLOOKUP(SUBSTITUTE(CONCATENATE(B947,\"_\",D947,\"_\",C947),\" - \",\"_\"),Список_Sub!A:B,2,0),\"\")","v":""},""]
[null,null,null,null,null,{"$f":"IFERROR(VLOOKUP(SUBSTITUTE(CONCATENATE(B948,\"_\",D948,\"_\",C948),\" - \",\"_\"),Список_Sub!A:B,2,0),\"\")","v":""},""]
[null,null,null,null,null,{"$f":"IFERROR(VLOOKUP(SUBSTITUTE(CONCATENATE(B949,\"_\",D949,\"_\",C949),\" - \",\"_\"),Список_Sub!A:B,2,0),\"\")","v":""},""]
[null,null,null,null,null,{"$f":"IFERROR(VLOOKUP(SUBSTITUTE(CONCATENATE(B950,\"_\",D950,\"_\",C950),\" - \",\"_\"),Список_Sub!A:B,2,0),\"\")","v":""},""]
[null,null,null,null,null,{"$f":"IFERROR(VLOOKUP(SUBSTITUTE(CONCATENATE(B951,\"_\",D951,\"_\",C951),\" - \",\"_\"),Список_Sub!A:B,2,0),\"\")","v":""},""]
[null,null,null,null,null,{"$f":"IFERROR(VLOOKUP(SUBSTITUTE(CONCATENATE(B952,\"_\",D952,\"_\",C952),\" - \",\"_\"),Список_Sub!A:B,2,0),\"\")","v":""},""]
[null,null,null,null,null,{"$f":"IFERROR(VLOOKUP(SUBSTITUTE(CONCATENATE(B953,\"_\",D953,\"_\",C953),\" - \",\"_\"),Список_Sub!A:B,2,0),\"\")","v":""},""]
[null,null,null,null,null,{"$f":"IFERROR(VLOOKUP(SUBSTITUTE(CONCATENATE(B954,\"_\",D954,\"_\",C954),\" - \",\"_\"),Список_Sub!A:B,2,0),\"\")","v":""},""]
[null,null,null,null,null,{"$f":"IFERROR(VLOOKUP(SUBSTITUTE(CONCATENATE(B955,\"_\",D955,\"_\",C955),\" - \",\"_\"),Список_Sub!A:B,2,0),\"\")","v":""},""]
[null,null,null,null,null,{"$f":"IFERROR(VLOOKUP(SUBSTITUTE(CONCATENATE(B956,\"_\",D956,\"_\",C956),\" - \",\"_\"),Список_Sub!A:B,2,0),\"\")","v":""},""]
[null,null,null,null,null,{"$f":"IFERROR(VLOOKUP(SUBSTITUTE(CONCATENATE(B957,\"_\",D957,\"_\",C957),\" - \",\"_\"),Список_Sub!A:B,2,0),\"\")","v":""},""]
[null,null,null,null,null,{"$f":"IFERROR(VLOOKUP(SUBSTITUTE(CONCATENATE(B958,\"_\",D958,\"_\",C958),\" - \",\"_\"),Список_Sub!A:B,2,0),\"\")","v":""},""]
[null,null,null,null,null,{"$f":"IFERROR(VLOOKUP(SUBSTITUTE(CONCATENATE(B959,\"_\",D959,\"_\",C959),\" - \",\"_\"),Список_Sub!A:B,2,0),\"\")","v":""},""]
[null,null,null,null,null,{"$f":"IFERROR(VLOOKUP(SUBSTITUTE(CONCATENATE(B960,\"_\",D960,\"_\",C960),\" - \",\"_\"),Список_Sub!A:B,2,0),\"\")","v":""},""]
[null,null,null,null,null,{"$f":"IFERROR(VLOOKUP(SUBSTITUTE(CONCATENATE(B961,\"_\",D961,\"_\",C961),\" - \",\"_\"),Список_Sub!A:B,2,0),\"\")","v":""},""]
[null,null,null,null,null,{"$f":"IFERROR(VLOOKUP(SUBSTITUTE(CONCATENATE(B962,\"_\",D962,\"_\",C962),\" - \",\"_\"),Список_Sub!A:B,2,0),\"\")","v":""},""]
[null,null,null,null,null,{"$f":"IFERROR(VLOOKUP(SUBSTITUTE(CONCATENATE(B963,\"_\",D963,\"_\",C963),\" - \",\"_\"),Список_Sub!A:B,2,0),\"\")","v":""},{"$f":"IF(AND(C963<>\"IP KONDRATYEV\",C963<>\"\"),VLOOKUP(D963,$O$2:$P$13,2,0),\"\")","v":""}]
[null,null,null,null,null,{"$f":"IFERROR(VLOOKUP(SUBSTITUTE(CONCATENATE(B964,\"_\",D964,\"_\",C964),\" - \",\"_\"),Список_Sub!A:B,2,0),\"\")","v":""},""]
[null,null,null,null,null,{"$f":"IFERROR(VLOOKUP(SUBSTITUTE(CONCATENATE(B965,\"_\",D965,\"_\",C965),\" - \",\"_\"),Список_Sub!A:B,2,0),\"\")","v":""},""]
[null,null,null,null,null,{"$f":"IFERROR(VLOOKUP(SUBSTITUTE(CONCATENATE(B966,\"_\",D966,\"_\",C966),\" - \",\"_\"),Список_Sub!A:B,2,0),\"\")","v":""},""]
[null,null,null,null,null,{"$f":"IFERROR(VLOOKUP(SUBSTITUTE(CONCATENATE(B967,\"_\",D967,\"_\",C967),\" - \",\"_\"),Список_Sub!A:B,2,0),\"\")","v":""},""]
[null,null,null,null,null,{"$f":"IFERROR(VLOOKUP(SUBSTITUTE(CONCATENATE(B968,\"_\",D968,\"_\",C968),\" - \",\"_\"),Список_Sub!A:B,2,0),\"\")","v":""},""]
[null,null,null,null,null,{"$f":"IFERROR(VLOOKUP(SUBSTITUTE(CONCATENATE(B969,\"_\",D969,\"_\",C969),\" - \",\"_\"),Список_Sub!A:B,2,0),\"\")","v":""},""]
[null,null,null,null,null,{"$f":"IFERROR(VLOOKUP(SUBSTITUTE(CONCATENATE(B970,\"_\",D970,\"_\",C970),\" - \",\"_\"),Список_Sub!A:B,2,0),\"\")","v":""},""]
[null,null,null,null,null,{"$f":"IFERROR(VLOOKUP(SUBSTITUTE(CONCATENATE(B971,\"_\",D971,\"_\",C971),\" - \",\"_\"),Список_Sub!A:B,2,0),\"\")","v":""},""]
[null,null,null,null,null,{"$f":"IFERROR(VLOOKUP(SUBSTITUTE(CONCATENATE(B972,\"_\",D972,\"_\",C972),\" - \",\"_\"),Список_Sub!A:B,2,0),\"\")","v":""},""]
[null,null,null,null,null,{"$f":"IFERROR(VLOOKUP(SUBSTITUTE(CONCATENATE(B973,\"_\",D973,\"_\",C973),\" - \",\"_\"),Список_Sub!A:B,2,0),\"\")","v":""},""]
[null,null,null,null,null,{"$f":"IFERROR(VLOOKUP(SUBSTITUTE(CONCATENATE(B974,\"_\",D974,\"_\",C974),\" - \",\"_\"),Список_Sub!A:B,2,0),\"\")","v":""},""]
[null,null,null,null,null,{"$f":"IFERROR(VLOOKUP(SUBSTITUTE(CONCATENATE(B975,\"_\",D975,\"_\",C975),\" - \",\"_\"),Список_Sub!A:B,2,0),\"\")","v":""},""]
[null,null,null,null,null,{"$f":"IFERROR(VLOOKUP(SUBSTITUTE(CONCATENATE(B976,\"_\",D976,\"_\",C976),\" - \",\"_\"),Список_Sub!A:B,2,0),\"\")","v":""},""]
[null,null,null,null,null,{"$f":"IFERROR(VLOOKUP(SUBSTITUTE(CONCATENATE(B977,\"_\",D977,\"_\",C977),\" - \",\"_\"),Список_Sub!A:B,2,0),\"\")","v":""},""]
[null,null,null,null,null,{"$f":"IFERROR(VLOOKUP(SUBSTITUTE(CONCATENATE(B978,\"_\",D978,\"_\",C978),\" - \",\"_\"),Список_Sub!A:B,2,0),\"\")","v":""},""]
[null,null,null,null,null,{"$f":"IFERROR(VLOOKUP(SUBSTITUTE(CONCATENATE(B979,\"_\",D979,\"_\",C979),\" - \",\"_\"),Список_Sub!A:B,2,0),\"\")","v":""},""]
[null,null,null,null,null,{"$f":"IFERROR(VLOOKUP(SUBSTITUTE(CONCATENATE(B980,\"_\",D980,\"_\",C980),\" - \",\"_\"),Список_Sub!A:B,2,0),\"\")","v":""},""]
[null,null,null,null,null,{"$f":"IFERROR(VLOOKUP(SUBSTITUTE(CONCATENATE(B981,\"_\",D981,\"_\",C981),\" - \",\"_\"),Список_Sub!A:B,2,0),\"\")","v":""},""]
[null,null,null,null,null,{"$f":"IFERROR(VLOOKUP(SUBSTITUTE(CONCATENATE(B982,\"_\",D982,\"_\",C982),\" - \",\"_\"),Список_Sub!A:B,2,0),\"\")","v":""},""]
[null,null,null,null,null,{"$f":"IFERROR(VLOOKUP(SUBSTITUTE(CONCATENATE(B983,\"_\",D983,\"_\",C983),\" - \",\"_\"),Список_Sub!A:B,2,0),\"\")","v":""},""]
[null,null,null,null,null,{"$f":"IFERROR(VLOOKUP(SUBSTITUTE(CONCATENATE(B984,\"_\",D984,\"_\",C984),\" - \",\"_\"),Список_Sub!A:B,2,0),\"\")","v":""},""]
[null,null,null,null,null,{"$f":"IFERROR(VLOOKUP(SUBSTITUTE(CONCATENATE(B985,\"_\",D985,\"_\",C985),\" - \",\"_\"),Список_Sub!A:B,2,0),\"\")","v":""},""]
[null,null,null,null,null,{"$f":"IFERROR(VLOOKUP(SUBSTITUTE(CONCATENATE(B986,\"_\",D986,\"_\",C986),\" - \",\"_\"),Список_Sub!A:B,2,0),\"\")","v":""},""]
[null,null,null,null,null,{"$f":"IFERROR(VLOOKUP(SUBSTITUTE(CONCATENATE(B987,\"_\",D987,\"_\",C987),\" - \",\"_\"),Список_Sub!A:B,2,0),\"\")","v":""},""]
[null,null,null,null,null,{"$f":"IFERROR(VLOOKUP(SUBSTITUTE(CONCATENATE(B988,\"_\",D988,\"_\",C988),\" - \",\"_\"),Список_Sub!A:B,2,0),\"\")","v":""},""]
[null,null,null,null,null,{"$f":"IFERROR(VLOOKUP(SUBSTITUTE(CONCATENATE(B989,\"_\",D989,\"_\",C989),\" - \",\"_\"),Список_Sub!A:B,2,0),\"\")","v":""},""]
[null,null,null,null,null,{"$f":"IFERROR(VLOOKUP(SUBSTITUTE(CONCATENATE(B990,\"_\",D990,\"_\",C990),\" - \",\"_\"),Список_Sub!A:B,2,0),\"\")","v":""},""]
[null,null,null,null,null,{"$f":"IFERROR(VLOOKUP(SUBSTITUTE(CONCATENATE(B991,\"_\",D991,\"_\",C991),\" - \",\"_\"),Список_Sub!A:B,2,0),\"\")","v":""},""]
[null,null,null,null,null,{"$f":"IFERROR(VLOOKUP(SUBSTITUTE(CONCATENATE(B992,\"_\",D992,\"_\",C992),\" - \",\"_\"),Список_Sub!A:B,2,0),\"\")","v":""},""]
[null,null,null,null,null,{"$f":"IFERROR(VLOOKUP(SUBSTITUTE(CONCATENATE(B993,\"_\",D993,\"_\",C993),\" - \",\"_\"),Список_Sub!A:B,2,0),\"\")","v":""},""]
[null,null,null,null,null,{"$f":"IFERROR(VLOOKUP(SUBSTITUTE(CONCATENATE(B994,\"_\",D994,\"_\",C994),\" - \",\"_\"),Список_Sub!A:B,2,0),\"\")","v":""},""]
[null,null,null,null,null,{"$f":"IFERROR(VLOOKUP(SUBSTITUTE(CONCATENATE(B995,\"_\",D995,\"_\",C995),\" - \",\"_\"),Список_Sub!A:B,2,0),\"\")","v":""},""]
[null,null,null,null,null,{"$f":"IFERROR(VLOOKUP(SUBSTITUTE(CONCATENATE(B996,\"_\",D996,\"_\",C996),\" - \",\"_\"),Список_Sub!A:B,2,0),\"\")","v":""},""]
[null,null,null,null,null,{"$f":"IFERROR(VLOOKUP(SUBSTITUTE(CONCATENATE(B997,\"_\",D997,\"_\",C997),\" - \",\"_\"),Список_Sub!A:B,2,0),\"\")","v":""},""]
[null,null,null,null,null,{"$f":"IFERROR(VLOOKUP(SUBSTITUTE(CONCATENATE(B998,\"_\",D998,\"_\",C998),\" - \",\"_\"),Список_Sub!A:B,2,0),\"\")","v":""},""]
[null,null,null,null,null,{"$f":"IFERROR(VLOOKUP(SUBSTITUTE(CONCATENATE(B999,\"_\",D999,\"_\",C999),\" - \",\"_\"),Список_Sub!A:B,2,0),\"\")","v":""},""]
[null,null,null,null,null,{"$f":"IFERROR(VLOOKUP(SUBSTITUTE(CONCATENATE(B1000,\"_\",D1000,\"_\",C1000),\" - \",\"_\"),Список_Sub!A:B,2,0),\"\")","v":""},""]

{"sheet":"FSTEC 2019","index":5,"n_rows":120,"n_cols":9,"rows_kept":120,"cut":false,"hidden":true,"merged":[]}
["Name of project","Conclusion \nor License?","Urgent \nor not?","Forwarder","Date","Saving",null,"Final saving",{"$f":"SUM(F:F)","v":0}]
["NAPH-GOT ST1-3_9053863","Conclusion","Not","Excont","2019-01-01",{"$f":"IFERROR(VLOOKUP(CONCATENATE(B2,\"_\",C2,\"_\",D2),Список!A:B,2,0),\"\")","v":0}]
["RUSSIAPACK_9057008","Conclusion","Not","Excont","2019-02-01",{"$f":"IFERROR(VLOOKUP(CONCATENATE(B3,\"_\",C3,\"_\",D3),Список!A:B,2,0),\"\")","v":0}]
["SASOLTRAYTAS_9057969","Conclusion","Not","Excont","2019-02-01",{"$f":"IFERROR(VLOOKUP(CONCATENATE(B4,\"_\",C4,\"_\",D4),Список!A:B,2,0),\"\")","v":0}]
["ST1-C2302_9048918","Conclusion","Not","Excont","2019-02-01",{"$f":"IFERROR(VLOOKUP(CONCATENATE(B5,\"_\",C5,\"_\",D5),Список!A:B,2,0),\"\")","v":0}]
["BIOWASH_9051267","Conclusion","Not","Excont","2019-02-01",{"$f":"IFERROR(VLOOKUP(CONCATENATE(B6,\"_\",C6,\"_\",D6),Список!A:B,2,0),\"\")","v":0}]
["ORLEVDU4-2_9054782","Conclusion","Not","Excont","2019-02-01",{"$f":"IFERROR(VLOOKUP(CONCATENATE(B7,\"_\",C7,\"_\",D7),Список!A:B,2,0),\"\")","v":0}]
["SOLINOL_1 9032109","Conclusion","Not","Excont","2019-02-01",{"$f":"IFERROR(VLOOKUP(CONCATENATE(B8,\"_\",C8,\"_\",D8),Список!A:B,2,0),\"\")","v":0}]
["TOZEAN 905598807","Conclusion","Not","Excont","2019-02-01",{"$f":"IFERROR(VLOOKUP(CONCATENATE(B9,\"_\",C9,\"_\",D9),Список!A:B,2,0),\"\")","v":0}]
["GIGTRI-7_9055882","Conclusion","Not","Excont","2019-02-01",{"$f":"IFERROR(VLOOKUP(CONCATENATE(B10,\"_\",C10,\"_\",D10),Список!A:B,2,0),\"\")","v":0}]
["Chevron_Oronite_2_9044804","Conclusion","Not","Excont","2019-02-01",{"$f":"IFERROR(VLOOKUP(CONCATENATE(B11,\"_\",C11,\"_\",D11),Список!A:B,2,0),\"\")","v":0}]
["NAMSEP_2_9057982","Conclusion","Not","Excont","2019-02-01",{"$f":"IFERROR(VLOOKUP(CONCATENATE(B12,\"_\",C12,\"_\",D12),Список!A:B,2,0),\"\")","v":0}]
["OIL_DEM 9057271","Conclusion","Not","Excont","2019-03-01",{"$f":"IFERROR(VLOOKUP(CONCATENATE(B13,\"_\",C13,\"_\",D13),Список!A:B,2,0),\"\")","v":0}]
["SOWABTAS-1_9043070","Conclusion","Not","Excont","2019-03-01",{"$f":"IFERROR(VLOOKUP(CONCATENATE(B14,\"_\",C14,\"_\",D14),Список!A:B,2,0),\"\")","v":0}]
["TAKABPLUS-5  906158006","Conclusion","Not","Excont","2019-03-01",{"$f":"IFERROR(VLOOKUP(CONCATENATE(B15,\"_\",C15,\"_\",D15),Список!A:B,2,0),\"\")","v":0}]
["ROPOX-6_9050721","Conclusion","Urgent","Excont","2019-03-01",{"$f":"IFERROR(VLOOKUP(CONCATENATE(B16,\"_\",C16,\"_\",D16),Список!A:B,2,0),\"\")","v":0}]
["ABSACHEMA_9048622","Conclusion","Not","Excont","2019-03-01",{"$f":"IFERROR(VLOOKUP(CONCATENATE(B17,\"_\",C17,\"_\",D17),Список!A:B,2,0),\"\")","v":0}]
["SHEMMSPO1C605_9051266","Conclusion","Not","Excont","2019-03-01",{"$f":"IFERROR(VLOOKUP(CONCATENATE(B18,\"_\",C18,\"_\",D18),Список!A:B,2,0),\"\")","v":0}]
["YARAPOR 905815414","License","Not","Excont","2019-03-01",{"$f":"IFERROR(VLOOKUP(CONCATENATE(B19,\"_\",C19,\"_\",D19),Список!A:B,2,0),\"\")","v":0}]
["PREEMGIVS 9060019","Conclusion","Not","Excont","2019-03-01",{"$f":"IFERROR(VLOOKUP(CONCATENATE(B20,\"_\",C20,\"_\",D20),Список!A:B,2,0),\"\")","v":0}]
["CAMPAK5","Conclusion","Not","Excont","2019-04-01",{"$f":"IFERROR(VLOOKUP(CONCATENATE(B21,\"_\",C21,\"_\",D21),Список!A:B,2,0),\"\")","v":0}]
["COOLSORP","Conclusion","Not","Excont","2019-04-01",{"$f":"IFERROR(VLOOKUP(CONCATENATE(B22,\"_\",C22,\"_\",D22),Список!A:B,2,0),\"\")","v":0}]
["ACHABS-ITA-TAS_9062362","Conclusion","Not","Excont","2019-04-01",{"$f":"IFERROR(VLOOKUP(CONCATENATE(B23,\"_\",C23,\"_\",D23),Список!A:B,2,0),\"\")","v":0}]
["DONAPAK2 9062499","Conclusion","Not","Excont","2019-04-01",{"$f":"IFERROR(VLOOKUP(CONCATENATE(B24,\"_\",C24,\"_\",D24),Список!A:B,2,0),\"\")","v":0}]
["INTECHTAS-1_9058855","Conclusion","Not","Excont","2019-04-01",{"$f":"IFERROR(VLOOKUP(CONCATENATE(B25,\"_\",C25,\"_\",D25),Список!A:B,2,0),\"\")","v":0}]
["ESSOBOX_9061946","Conclusion","Urgent","Excont","2019-04-01",{"$f":"IFERROR(VLOOKUP(CONCATENATE(B26,\"_\",C26,\"_\",D26),Список!A:B,2,0),\"\")","v":0}]
["ROKCOL-1_9052035","Conclusion","Not","Excont","2019-04-01",{"$f":"IFERROR(VLOOKUP(CONCATENATE(B27,\"_\",C27,\"_\",D27),Список!A:B,2,0),\"\")","v":0}]
["AQUANE2 905882402","Conclusion","Not","Excont","2019-04-01",{"$f":"IFERROR(VLOOKUP(CONCATENATE(B28,\"_\",C28,\"_\",D28),Список!A:B,2,0),\"\")","v":0}]
["SHELLSCHOEP-V7566","Conclusion","Not","Excont","2019-04-01",{"$f":"IFERROR(VLOOKUP(CONCATENATE(B29,\"_\",C29,\"_\",D29),Список!A:B,2,0),\"\")","v":0}]
["KAOPLUS_1_9048907","Conclusion","Not","Excont","2019-04-01",{"$f":"IFERROR(VLOOKUP(CONCATENATE(B30,\"_\",C30,\"_\",D30),Список!A:B,2,0),\"\")","v":0}]
["SPS_PACK 9058917","Conclusion","Not","Excont","2019-04-01",{"$f":"IFERROR(VLOOKUP(CONCATENATE(B31,\"_\",C31,\"_\",D31),Список!A:B,2,0),\"\")","v":0}]
["LINGETEG-4 9058436","Conclusion","Not","Excont","2019-05-01",{"$f":"IFERROR(VLOOKUP(CONCATENATE(B32,\"_\",C32,\"_\",D32),Список!A:B,2,0),\"\")","v":0}]
["PREEM_PAK_9054060","Conclusion","Not","Excont","2019-05-01",{"$f":"IFERROR(VLOOKUP(CONCATENATE(B33,\"_\",C33,\"_\",D33),Список!A:B,2,0),\"\")","v":0}]
["SOLVAMON_2 9056261","License","Not","Excont","2019-05-01",{"$f":"IFERROR(VLOOKUP(CONCATENATE(B34,\"_\",C34,\"_\",D34),Список!A:B,2,0),\"\")","v":0}]
["COSTRI_9059756","Conclusion","Not","Excont","2019-05-01",{"$f":"IFERROR(VLOOKUP(CONCATENATE(B35,\"_\",C35,\"_\",D35),Список!A:B,2,0),\"\")","v":0}]
["KRUAPI-33_9059362","Conclusion","Not","Excont","2019-05-01",{"$f":"IFERROR(VLOOKUP(CONCATENATE(B36,\"_\",C36,\"_\",D36),Список!A:B,2,0),\"\")","v":0}]
["WACKABS-K450_9058954","Conclusion","Not","Excont","2019-05-01",{"$f":"IFERROR(VLOOKUP(CONCATENATE(B37,\"_\",C37,\"_\",D37),Список!A:B,2,0),\"\")","v":0}]
["Chevron_Oronite_1","Conclusion","Not","Excont","2019-05-01",{"$f":"IFERROR(VLOOKUP(CONCATENATE(B38,\"_\",C38,\"_\",D38),Список!A:B,2,0),\"\")","v":0}]
["LABMA-1.5_9061282","Conclusion","Not","Excont","2019-05-01",{"$f":"IFERROR(VLOOKUP(CONCATENATE(B39,\"_\",C39,\"_\",D39),Список!A:B,2,0),\"\")","v":0}]
["HAIBAZ-4_ 9060314","Conclusion","Not","Excont","2019-06-01",{"$f":"IFERROR(VLOOKUP(CONCATENATE(B40,\"_\",C40,\"_\",D40),Список!A:B,2,0),\"\")","v":0}]
["FORTDELTEG 9060743","Conclusion","Not","Excont","2019-06-01",{"$f":"IFERROR(VLOOKUP(CONCATENATE(B41,\"_\",C41,\"_\",D41),Список!A:B,2,0),\"\")","v":0}]
["N_DESUMAC_9062038","Conclusion","Not","Excont","2019-06-01",{"$f":"IFERROR(VLOOKUP(CONCATENATE(B42,\"_\",C42,\"_\",D42),Список!A:B,2,0),\"\")","v":0}]
["BAYDORTDI3-TAS-1 906038004","Conclusion","Not","Excont","2019-06-01",{"$f":"IFERROR(VLOOKUP(CONCATENATE(B43,\"_\",C43,\"_\",D43),Список!A:B,2,0),\"\")","v":0}]
["ALLTRAY_90589826","Conclusion","Not","Excont","2019-06-01",{"$f":"IFERROR(VLOOKUP(CONCATENATE(B44,\"_\",C44,\"_\",D44),Список!A:B,2,0),\"\")","v":0}]
["PENGUINSEP 9012962","Conclusion","Not","Excont","2019-06-01",{"$f":"IFERROR(VLOOKUP(CONCATENATE(B45,\"_\",C45,\"_\",D45),Список!A:B,2,0),\"\")","v":0}]
["ENGLY_906205303","Conclusion","Not","Excont","2019-06-01",{"$f":"IFERROR(VLOOKUP(CONCATENATE(B46,\"_\",C46,\"_\",D46),Список!A:B,2,0),\"\")","v":0}]
["SERVIERDEST_9063043","Conclusion","Not","Excont","2019-06-01",{"$f":"IFERROR(VLOOKUP(CONCATENATE(B47,\"_\",C47,\"_\",D47),Список!A:B,2,0),\"\")","v":0}]
["MCIBX-2 9062962","Conclusion","Not","Excont","2019-06-01",{"$f":"IFERROR(VLOOKUP(CONCATENATE(B48,\"_\",C48,\"_\",D48),Список!A:B,2,0),\"\")","v":0}]
["BASIXTEEN-10_9063936","Conclusion","Not","Excont","2019-06-01",{"$f":"IFERROR(VLOOKUP(CONCATENATE(B49,\"_\",C49,\"_\",D49),Список!A:B,2,0),\"\")","v":0}]
["DIETRIMELLA 9063091","Conclusion","Not","Excont","2019-07-01",{"$f":"IFERROR(VLOOKUP(CONCATENATE(B50,\"_\",C50,\"_\",D50),Список!A:B,2,0),\"\")","v":0}]
["RESCAPIL-6_9063544","Conclusion","Not","Excont","2019-07-01",{"$f":"IFERROR(VLOOKUP(CONCATENATE(B51,\"_\",C51,\"_\",D51),Список!A:B,2,0),\"\")","v":0}]
["PACKINRESIN_9063446","Conclusion","Not","Excont","2019-07-01",{"$f":"IFERROR(VLOOKUP(CONCATENATE(B52,\"_\",C52,\"_\",D52),Список!A:B,2,0),\"\")","v":0}]
["INNAMMPACK-1 - 906585507","Conclusion","Not","Excont","2019-07-01",{"$f":"IFERROR(VLOOKUP(CONCATENATE(B53,\"_\",C53,\"_\",D53),Список!A:B,2,0),\"\")","v":0}]
["BIOPACK_ 9064657","Conclusion","Not","Excont","2019-07-01",{"$f":"IFERROR(VLOOKUP(CONCATENATE(B54,\"_\",C54,\"_\",D54),Список!A:B,2,0),\"\")","v":0}]
["KOLLSNES_DPC_SEP_9058283","Conclusion","Not","Excont","2019-07-01",{"$f":"IFERROR(VLOOKUP(CONCATENATE(B55,\"_\",C55,\"_\",D55),Список!A:B,2,0),\"\")","v":0}]
["GALSIN-7_9062048","Conclusion","Not","Excont","2019-07-01",{"$f":"IFERROR(VLOOKUP(CONCATENATE(B56,\"_\",C56,\"_\",D56),Список!A:B,2,0),\"\")","v":0}]
["MAZBREAKER-8_9064883","Conclusion","Not","Excont","2019-07-01",{"$f":"IFERROR(VLOOKUP(CONCATENATE(B57,\"_\",C57,\"_\",D57),Список!A:B,2,0),\"\")","v":0}]
["TECHALC4 9057443","Conclusion","Not","Excont","2019-07-01",{"$f":"IFERROR(VLOOKUP(CONCATENATE(B58,\"_\",C58,\"_\",D58),Список!A:B,2,0),\"\")","v":0}]
["SHELLWESS-1_9062602","Conclusion","Not","Excont","2019-07-01",{"$f":"IFERROR(VLOOKUP(CONCATENATE(B59,\"_\",C59,\"_\",D59),Список!A:B,2,0),\"\")","v":0}]
["BENVINONA3_9058997","Conclusion","Not","Excont","2019-08-01",{"$f":"IFERROR(VLOOKUP(CONCATENATE(B60,\"_\",C60,\"_\",D60),Список!A:B,2,0),\"\")","v":0}]
["REPCAR_906421204","Conclusion","Not","Excont","2019-08-01",{"$f":"IFERROR(VLOOKUP(CONCATENATE(B61,\"_\",C61,\"_\",D61),Список!A:B,2,0),\"\")","v":0}]
["HUNTMDI_9058637","Conclusion","Not","Excont","2019-08-01",{"$f":"IFERROR(VLOOKUP(CONCATENATE(B62,\"_\",C62,\"_\",D62),Список!A:B,2,0),\"\")","v":0}]
["VISCO-6 9064778","Conclusion","Not","Excont","2019-08-01",{"$f":"IFERROR(VLOOKUP(CONCATENATE(B63,\"_\",C63,\"_\",D63),Список!A:B,2,0),\"\")","v":0}]
["FATTYSTRI + 9061477","Conclusion","Not","Excont","2019-08-01",{"$f":"IFERROR(VLOOKUP(CONCATENATE(B64,\"_\",C64,\"_\",D64),Список!A:B,2,0),\"\")","v":0}]
["FIBPREDIS_ 9067512","Conclusion","Not","Excont","2019-08-01",{"$f":"IFERROR(VLOOKUP(CONCATENATE(B65,\"_\",C65,\"_\",D65),Список!A:B,2,0),\"\")","v":0}]
["CAMPAK-6_9065635","Conclusion","Not","Excont","2019-08-01",{"$f":"IFERROR(VLOOKUP(CONCATENATE(B66,\"_\",C66,\"_\",D66),Список!A:B,2,0),\"\")","v":0}]
["CFSARD2_9068432","Conclusion","Not","Excont","2019-09-01",{"$f":"IFERROR(VLOOKUP(CONCATENATE(B67,\"_\",C67,\"_\",D67),Список!A:B,2,0),\"\")","v":0}]
["LYONEURO 906546212","Conclusion","Not","Excont","2019-09-01",{"$f":"IFERROR(VLOOKUP(CONCATENATE(B68,\"_\",C68,\"_\",D68),Список!A:B,2,0),\"\")","v":0}]
["DEZANTRACARBA-5_ 906379414","Conclusion","Not","Excont","2019-09-01",{"$f":"IFERROR(VLOOKUP(CONCATENATE(B69,\"_\",C69,\"_\",D69),Список!A:B,2,0),\"\")","v":0}]
["SOLVSEP_9063256","Conclusion","Not","Excont","2019-09-01",{"$f":"IFERROR(VLOOKUP(CONCATENATE(B70,\"_\",C70,\"_\",D70),Список!A:B,2,0),\"\")","v":0}]
["ACCSYSPACK 9068672","Conclusion","Not","Excont","2019-09-01",{"$f":"IFERROR(VLOOKUP(CONCATENATE(B71,\"_\",C71,\"_\",D71),Список!A:B,2,0),\"\")","v":0}]
["CHEMNAP-2","Conclusion","Not","Excont","2019-09-01",{"$f":"IFERROR(VLOOKUP(CONCATENATE(B72,\"_\",C72,\"_\",D72),Список!A:B,2,0),\"\")","v":0}]
["SHEPHV5MELL_9067199","Conclusion","Not","Excont","2019-09-01",{"$f":"IFERROR(VLOOKUP(CONCATENATE(B73,\"_\",C73,\"_\",D73),Список!A:B,2,0),\"\")","v":0}]
["SOLPLATE_2 9066732","Conclusion","Not","Excont","2019-09-01",{"$f":"IFERROR(VLOOKUP(CONCATENATE(B74,\"_\",C74,\"_\",D74),Список!A:B,2,0),\"\")","v":0}]
["CDS Noram 9064590","Conclusion","Not","Excont","2019-09-01",{"$f":"IFERROR(VLOOKUP(CONCATENATE(B75,\"_\",C75,\"_\",D75),Список!A:B,2,0),\"\")","v":0}]
["N_PEGAGA-TEG 9032784","Conclusion","Not","Excont","2019-10-01",{"$f":"IFERROR(VLOOKUP(CONCATENATE(B76,\"_\",C76,\"_\",D76),Список!A:B,2,0),\"\")","v":0}]
["PETROSCRUB 9068001","Conclusion","Not","Excont","2019-10-01",{"$f":"IFERROR(VLOOKUP(CONCATENATE(B77,\"_\",C77,\"_\",D77),Список!A:B,2,0),\"\")","v":0}]
["PLANTRAY-8 9061862","Conclusion","Not","Excont","2019-10-01",{"$f":"IFERROR(VLOOKUP(CONCATENATE(B78,\"_\",C78,\"_\",D78),Список!A:B,2,0),\"\")","v":0}]
["DECPA30 9069705","Conclusion","Not","Excont","2019-10-01",{"$f":"IFERROR(VLOOKUP(CONCATENATE(B79,\"_\",C79,\"_\",D79),Список!A:B,2,0),\"\")","v":0}]
["KURAPI-34_9070197_","Conclusion","Not","Excont","2019-10-01",{"$f":"IFERROR(VLOOKUP(CONCATENATE(B80,\"_\",C80,\"_\",D80),Список!A:B,2,0),\"\")","v":0}]
["ESIMPACK-5_9068384","Conclusion","Not","Excont","2019-10-01",{"$f":"IFERROR(VLOOKUP(CONCATENATE(B81,\"_\",C81,\"_\",D81),Список!A:B,2,0),\"\")","v":0}]
["FERDEMISTERBERIA_9069991_","Conclusion","Not","Excont","2019-10-01",{"$f":"IFERROR(VLOOKUP(CONCATENATE(B82,\"_\",C82,\"_\",D82),Список!A:B,2,0),\"\")","v":0}]
["MAKIPACK 9069497","Conclusion","Not","Excont","2019-10-01",{"$f":"IFERROR(VLOOKUP(CONCATENATE(B83,\"_\",C83,\"_\",D83),Список!A:B,2,0),\"\")","v":0}]
["DESMEGER4 9069060","Conclusion","Not","Excont","2019-11-01",{"$f":"IFERROR(VLOOKUP(CONCATENATE(B84,\"_\",C84,\"_\",D84),Список!A:B,2,0),\"\")","v":0}]
["NANT_VAC2_9069278","Conclusion","Not","Excont","2019-11-01",{"$f":"IFERROR(VLOOKUP(CONCATENATE(B85,\"_\",C85,\"_\",D85),Список!A:B,2,0),\"\")","v":0}]
["SAFPACK_9064339","Conclusion","Not","Excont","2019-11-01",{"$f":"IFERROR(VLOOKUP(CONCATENATE(B86,\"_\",C86,\"_\",D86),Список!A:B,2,0),\"\")","v":0}]
["TOURPACK_9066567","Conclusion","Not","Excont","2019-11-01",{"$f":"IFERROR(VLOOKUP(CONCATENATE(B87,\"_\",C87,\"_\",D87),Список!A:B,2,0),\"\")","v":0}]
["BALCHEMPACK_9070210","Conclusion","Not","Excont","2019-11-01",{"$f":"IFERROR(VLOOKUP(CONCATENATE(B88,\"_\",C88,\"_\",D88),Список!A:B,2,0),\"\")","v":0}]
["CAR_TRAY2 9069938","Conclusion","Not","Excont","2019-11-01",{"$f":"IFERROR(VLOOKUP(CONCATENATE(B89,\"_\",C89,\"_\",D89),Список!A:B,2,0),\"\")","v":0}]
["DAW_SCO_9026909","Conclusion","Not","Excont","2019-11-01",{"$f":"IFERROR(VLOOKUP(CONCATENATE(B90,\"_\",C90,\"_\",D90),Список!A:B,2,0),\"\")","v":0}]
["MAZBREAKER-9 9067517","Conclusion","Not","Excont","2019-11-01",{"$f":"IFERROR(VLOOKUP(CONCATENATE(B91,\"_\",C91,\"_\",D91),Список!A:B,2,0),\"\")","v":0}]
["KNUTSENSEP 9065701","Conclusion","Not","Excont","2019-11-01",{"$f":"IFERROR(VLOOKUP(CONCATENATE(B92,\"_\",C92,\"_\",D92),Список!A:B,2,0),\"\")","v":0}]
["IFFBXPLUS_40_9066463","Conclusion","Not","Excont","2019-11-01",{"$f":"IFERROR(VLOOKUP(CONCATENATE(B93,\"_\",C93,\"_\",D93),Список!A:B,2,0),\"\")","v":0}]
["SITPAC_C7770_9069867.04","Conclusion","Not","Excont","2019-11-01",{"$f":"IFERROR(VLOOKUP(CONCATENATE(B94,\"_\",C94,\"_\",D94),Список!A:B,2,0),\"\")","v":0}]
["GUNAMIN_9063633","Conclusion","Not","Excont","2019-12-01",{"$f":"IFERROR(VLOOKUP(CONCATENATE(B95,\"_\",C95,\"_\",D95),Список!A:B,2,0),\"\")","v":0}]
["ROKPOL-3 9069496","Conclusion","Not","Excont","2019-12-01",{"$f":"IFERROR(VLOOKUP(CONCATENATE(B96,\"_\",C96,\"_\",D96),Список!A:B,2,0),\"\")","v":0}]
["ROMPTAS - 1 9064349","Conclusion","Not","Excont","2019-12-01",{"$f":"IFERROR(VLOOKUP(CONCATENATE(B97,\"_\",C97,\"_\",D97),Список!A:B,2,0),\"\")","v":0}]
["ROMPTAS 9063193","Conclusion","Not","Excont","2019-12-01",{"$f":"IFERROR(VLOOKUP(CONCATENATE(B98,\"_\",C98,\"_\",D98),Список!A:B,2,0),\"\")","v":0}]
["HOEM-ERSATZ-4_9057242","Conclusion","Not","Excont","2019-12-01",{"$f":"IFERROR(VLOOKUP(CONCATENATE(B99,\"_\",C99,\"_\",D99),Список!A:B,2,0),\"\")","v":0}]
["SADEREV 9065366","Conclusion","Not","Excont","2019-12-01",{"$f":"IFERROR(VLOOKUP(CONCATENATE(B100,\"_\",C100,\"_\",D100),Список!A:B,2,0),\"\")","v":0}]
["AQUASEP_9069549","Conclusion","Not","Excont","2019-12-01",{"$f":"IFERROR(VLOOKUP(CONCATENATE(B101,\"_\",C101,\"_\",D101),Список!A:B,2,0),\"\")","v":0}]
["PETROH2 9070888","Conclusion","Not","Excont","2019-12-01",{"$f":"IFERROR(VLOOKUP(CONCATENATE(B102,\"_\",C102,\"_\",D102),Список!A:B,2,0),\"\")","v":0}]
["PTANILIN-2_9067563","Conclusion","Not","Excont","2019-12-01",{"$f":"IFERROR(VLOOKUP(CONCATENATE(B103,\"_\",C103,\"_\",D103),Список!A:B,2,0),\"\")","v":0}]
["PENGUINTEG 9024040","License","Not","Excont","2019-06-01",{"$f":"IFERROR(VLOOKUP(CONCATENATE(B104,\"_\",C104,\"_\",D104),Список!A:B,2,0),\"\")","v":0}]
["BASEODIST_9059569","Conclusion","Not","Excont","2019-03-01",{"$f":"IFERROR(VLOOKUP(CONCATENATE(B105,\"_\",C105,\"_\",D105),Список!A:B,2,0),\"\")","v":0}]
["BPCHIRAG_FlashDrum_905315904","Conclusion","Not","Excont","2019-02-01",{"$f":"IFERROR(VLOOKUP(CONCATENATE(B106,\"_\",C106,\"_\",D106),Список!A:B,2,0),\"\")","v":0}]
["DOWBOW-1_9050559","Conclusion","Not","Excont","2019-07-01",{"$f":"IFERROR(VLOOKUP(CONCATENATE(B107,\"_\",C107,\"_\",D107),Список!A:B,2,0),\"\")","v":0}]
["DOWBOW-3_9060127","Conclusion","Not","Excont","2019-12-01",{"$f":"IFERROR(VLOOKUP(CONCATENATE(B108,\"_\",C108,\"_\",D108),Список!A:B,2,0),\"\")","v":0}]
["FATTYSTRI10_9066523","Conclusion","Not","Excont","2019-12-01",{"$f":"IFERROR(VLOOKUP(CONCATENATE(B109,\"_\",C109,\"_\",D109),Список!A:B,2,0),\"\")","v":0}]
["HTC-GREEN_9051362","Conclusion","Not","Excont","2019-12-01",{"$f":"IFERROR(VLOOKUP(CONCATENATE(B110,\"_\",C110,\"_\",D110),Список!A:B,2,0),\"\")","v":0}]
["LANXBAY-7_9059122","Conclusion","Not","Excont","2019-03-01",{"$f":"IFERROR(VLOOKUP(CONCATENATE(B111,\"_\",C111,\"_\",D111),Список!A:B,2,0),\"\")","v":0}]
["LAVEO-1 NCR","Conclusion","Not","Excont","2019-03-01",{"$f":"IFERROR(VLOOKUP(CONCATENATE(B112,\"_\",C112,\"_\",D112),Список!A:B,2,0),\"\")","v":0}]
["LAVEO-1_9066819","Conclusion","Not","Excont","2019-03-01",{"$f":"IFERROR(VLOOKUP(CONCATENATE(B113,\"_\",C113,\"_\",D113),Список!A:B,2,0),\"\")","v":0}]
["MESTA_9068953","Conclusion","Not","Excont","2019-07-01",{"$f":"IFERROR(VLOOKUP(CONCATENATE(B114,\"_\",C114,\"_\",D114),Список!A:B,2,0),\"\")","v":0}]
["ORLEO-11_9060872","Conclusion","Not","Excont","2019-07-01",{"$f":"IFERROR(VLOOKUP(CONCATENATE(B115,\"_\",C115,\"_\",D115),Список!A:B,2,0),\"\")","v":0}]
["ROSSDIS_ 906215002","Conclusion","Not","Excont","2019-07-01",{"$f":"IFERROR(VLOOKUP(CONCATENATE(B116,\"_\",C116,\"_\",D116),Список!A:B,2,0),\"\")","v":0}]
["SHELLDEBO-4401_9047048.07","Conclusion","Not","Excont","2019-07-01",{"$f":"IFERROR(VLOOKUP(CONCATENATE(B117,\"_\",C117,\"_\",D117),Список!A:B,2,0),\"\")","v":0}]
[null,null,null,null,"",{"$f":"IFERROR(VLOOKUP(CONCATENATE(B118,\"_\",C118,\"_\",D118),Список!A:B,2,0),\"\")","v":""}]
[null,null,null,null,"",{"$f":"IFERROR(VLOOKUP(CONCATENATE(B119,\"_\",C119,\"_\",D119),Список!A:B,2,0),\"\")","v":""}]
[null,null,null,null,"",{"$f":"IFERROR(VLOOKUP(CONCATENATE(B120,\"_\",C120,\"_\",D120),Список!A:B,2,0),\"\")","v":""}]

{"sheet":"Sub_2019","index":6,"n_rows":31,"n_cols":6,"rows_kept":31,"cut":false,"hidden":true,"merged":[]}
["Name of project","Type of transport","Forwarder","Destination city","Date","Saving"]
["SHEMMSPO1C605","5t","IP KONDRATYEV","SERPUKHOV-BALASHIHA","2019-03-01",{"$f":"IFERROR(VLOOKUP(SUBSTITUTE(CONCATENATE(B2,\"_\",D2,\"_\",C2),\" - \",\"_\"),Список_Sub!A:B,2,0),\"\")","v":0}]
["ROPOX-6 (9050721)","5t","IP KONDRATYEV","SERPUKHOV-BALASHIHA","2019-03-01",{"$f":"IFERROR(VLOOKUP(SUBSTITUTE(CONCATENATE(B3,\"_\",D3,\"_\",C3),\" - \",\"_\"),Список_Sub!A:B,2,0),\"\")","v":0}]
["SHEMMSPO1C605","5t","IP KONDRATYEV","BALASHIHA-SERPUKHOV","2019-03-01",{"$f":"IFERROR(VLOOKUP(SUBSTITUTE(CONCATENATE(B4,\"_\",D4,\"_\",C4),\" - \",\"_\"),Список_Sub!A:B,2,0),\"\")","v":0}]
["SHEMMSPO1C605","5t","IP KONDRATYEV","BALASHIHA-SERPUKHOV","2019-03-01",{"$f":"IFERROR(VLOOKUP(SUBSTITUTE(CONCATENATE(B5,\"_\",D5,\"_\",C5),\" - \",\"_\"),Список_Sub!A:B,2,0),\"\")","v":0}]
["SUNPINE-2","5t","IP KONDRATYEV","SERPUKHOV-BALASHIHA","2019-04-01",{"$f":"IFERROR(VLOOKUP(SUBSTITUTE(CONCATENATE(B6,\"_\",D6,\"_\",C6),\" - \",\"_\"),Список_Sub!A:B,2,0),\"\")","v":0}]
["SUNPINE-2","5t","IP KONDRATYEV","SERPUKHOV-BALASHIHA","2019-04-01",{"$f":"IFERROR(VLOOKUP(SUBSTITUTE(CONCATENATE(B7,\"_\",D7,\"_\",C7),\" - \",\"_\"),Список_Sub!A:B,2,0),\"\")","v":0}]
["AQUANE2","5t","IP KONDRATYEV","BALASHIHA-SERPUKHOV","2019-04-01",{"$f":"IFERROR(VLOOKUP(SUBSTITUTE(CONCATENATE(B8,\"_\",D8,\"_\",C8),\" - \",\"_\"),Список_Sub!A:B,2,0),\"\")","v":0}]
["SUNPINE-2","5t","IP KONDRATYEV","BALASHIHA-SERPUKHOV","2019-04-01",{"$f":"IFERROR(VLOOKUP(SUBSTITUTE(CONCATENATE(B9,\"_\",D9,\"_\",C9),\" - \",\"_\"),Список_Sub!A:B,2,0),\"\")","v":0}]
["SUNPINE-2","5t","IP KONDRATYEV","BALASHIHA-SERPUKHOV","2019-04-01",{"$f":"IFERROR(VLOOKUP(SUBSTITUTE(CONCATENATE(B10,\"_\",D10,\"_\",C10),\" - \",\"_\"),Список_Sub!A:B,2,0),\"\")","v":0}]
["PENGUINSEP","5t","IP KONDRATYEV","SERPUKHOV-BALASHIHA","2019-05-01",{"$f":"IFERROR(VLOOKUP(SUBSTITUTE(CONCATENATE(B11,\"_\",D11,\"_\",C11),\" - \",\"_\"),Список_Sub!A:B,2,0),\"\")","v":0}]
["YAROPOR","5t","IP KONDRATYEV","BALASHIHA-SERPUKHOV","2019-05-01",{"$f":"IFERROR(VLOOKUP(SUBSTITUTE(CONCATENATE(B12,\"_\",D12,\"_\",C12),\" - \",\"_\"),Список_Sub!A:B,2,0),\"\")","v":0}]
["PENGUINESEP","5t","IP KONDRATYEV","BALASHIHA-SERPUKHOV","2019-05-01",{"$f":"IFERROR(VLOOKUP(SUBSTITUTE(CONCATENATE(B13,\"_\",D13,\"_\",C13),\" - \",\"_\"),Список_Sub!A:B,2,0),\"\")","v":0}]
["PENGUINESEP","5t","IP KONDRATYEV","SERPUKHOV-BALASHIHA","2019-05-01",{"$f":"IFERROR(VLOOKUP(SUBSTITUTE(CONCATENATE(B14,\"_\",D14,\"_\",C14),\" - \",\"_\"),Список_Sub!A:B,2,0),\"\")","v":0}]
["PENGUINESEP","5t","IP KONDRATYEV","SERPUKHOV-BALASHIHA","2019-05-01",{"$f":"IFERROR(VLOOKUP(SUBSTITUTE(CONCATENATE(B15,\"_\",D15,\"_\",C15),\" - \",\"_\"),Список_Sub!A:B,2,0),\"\")","v":0}]
["PENGUINESEP","5t","IP KONDRATYEV","BALASHIHA-SERPUKHOV","2019-05-01",{"$f":"IFERROR(VLOOKUP(SUBSTITUTE(CONCATENATE(B16,\"_\",D16,\"_\",C16),\" - \",\"_\"),Список_Sub!A:B,2,0),\"\")","v":0}]
[null,"5t","IP KONDRATYEV","BALASHIHA-SERPUKHOV","2019-06-01",{"$f":"IFERROR(VLOOKUP(SUBSTITUTE(CONCATENATE(B17,\"_\",D17,\"_\",C17),\" - \",\"_\"),Список_Sub!A:B,2,0),\"\")","v":0}]
["HUNTMDI","5t","IP KONDRATYEV","BALASHIHA-SERPUKHOV","2019-07-01",{"$f":"IFERROR(VLOOKUP(SUBSTITUTE(CONCATENATE(B18,\"_\",D18,\"_\",C18),\" - \",\"_\"),Список_Sub!A:B,2,0),\"\")","v":0}]
["LAVEO1","5t","IP KONDRATYEV","SERPUKHOV-BALASHIHA","2019-10-01",{"$f":"IFERROR(VLOOKUP(SUBSTITUTE(CONCATENATE(B19,\"_\",D19,\"_\",C19),\" - \",\"_\"),Список_Sub!A:B,2,0),\"\")","v":0}]
[null,"5t","IP KONDRATYEV","SERPUKHOV-BALASHIHA","2019-10-01",{"$f":"IFERROR(VLOOKUP(SUBSTITUTE(CONCATENATE(B20,\"_\",D20,\"_\",C20),\" - \",\"_\"),Список_Sub!A:B,2,0),\"\")","v":0}]
[null,"5t","IP KONDRATYEV","BALASHIHA-SERPUKHOV","2019-10-01",{"$f":"IFERROR(VLOOKUP(SUBSTITUTE(CONCATENATE(B21,\"_\",D21,\"_\",C21),\" - \",\"_\"),Список_Sub!A:B,2,0),\"\")","v":0}]
[null,"5t","IP KONDRATYEV","SERPUKHOV-BALASHIHA","2019-11-01",{"$f":"IFERROR(VLOOKUP(SUBSTITUTE(CONCATENATE(B22,\"_\",D22,\"_\",C22),\" - \",\"_\"),Список_Sub!A:B,2,0),\"\")","v":0}]
[null,"5t","IP KONDRATYEV","BALASHIHA-SERPUKHOV","2019-11-01",{"$f":"IFERROR(VLOOKUP(SUBSTITUTE(CONCATENATE(B23,\"_\",D23,\"_\",C23),\" - \",\"_\"),Список_Sub!A:B,2,0),\"\")","v":0}]
[null,"5t","IP KONDRATYEV","SERPUKHOV-BALASHIHA","2019-11-01",{"$f":"IFERROR(VLOOKUP(SUBSTITUTE(CONCATENATE(B24,\"_\",D24,\"_\",C24),\" - \",\"_\"),Список_Sub!A:B,2,0),\"\")","v":0}]
[null,"5t","IP KONDRATYEV","BALASHIHA-SERPUKHOV","2019-11-01",{"$f":"IFERROR(VLOOKUP(SUBSTITUTE(CONCATENATE(B25,\"_\",D25,\"_\",C25),\" - \",\"_\"),Список_Sub!A:B,2,0),\"\")","v":0}]
[null,"5t","IP KONDRATYEV","SERPUKHOV-BALASHIHA","2019-11-01",{"$f":"IFERROR(VLOOKUP(SUBSTITUTE(CONCATENATE(B26,\"_\",D26,\"_\",C26),\" - \",\"_\"),Список_Sub!A:B,2,0),\"\")","v":0}]
[null,"5t","IP KONDRATYEV","BALASHIHA-SERPUKHOV","2019-11-01",{"$f":"IFERROR(VLOOKUP(SUBSTITUTE(CONCATENATE(B27,\"_\",D27,\"_\",C27),\" - \",\"_\"),Список_Sub!A:B,2,0),\"\")","v":0}]
[null,"5t","IP KONDRATYEV","SERPUKHOV-BALASHIHA","2019-12-01",{"$f":"IFERROR(VLOOKUP(SUBSTITUTE(CONCATENATE(B28,\"_\",D28,\"_\",C28),\" - \",\"_\"),Список_Sub!A:B,2,0),\"\")","v":0}]
[null,"5t","IP KONDRATYEV","BALASHIHA-SERPUKHOV","2019-12-01",{"$f":"IFERROR(VLOOKUP(SUBSTITUTE(CONCATENATE(B29,\"_\",D29,\"_\",C29),\" - \",\"_\"),Список_Sub!A:B,2,0),\"\")","v":0}]
[null,"5t","IP KONDRATYEV","SERPUKHOV-BALASHIHA","2019-12-01",{"$f":"IFERROR(VLOOKUP(SUBSTITUTE(CONCATENATE(B30,\"_\",D30,\"_\",C30),\" - \",\"_\"),Список_Sub!A:B,2,0),\"\")","v":0}]
[null,"5t","IP KONDRATYEV","BALASHIHA-SERPUKHOV","2019-12-01",{"$f":"IFERROR(VLOOKUP(SUBSTITUTE(CONCATENATE(B31,\"_\",D31,\"_\",C31),\" - \",\"_\"),Список_Sub!A:B,2,0),\"\")","v":0}]

{"sheet":"Charts","index":7,"n_rows":0,"n_cols":0,"rows_kept":0,"cut":false,"hidden":true,"merged":[]}

{"sheet":"Total savings 2020","index":8,"n_rows":7,"n_cols":25,"rows_kept":7,"cut":false,"hidden":false,"merged":[]}
["#","Savings Type","Logistics Category","Actual Savings 2020 euro","Actual Savings %","Jan-2020\neuro","Feb-2020\neuro","Mar-2020\neuro","Apr-2020\neuro","May-2020\neuro","Jun-2020\neuro","Jul-2020\neuro","Aug-2020\neuro","Sep-2020\neuro","Oct-2020\neuro","Nov-2020\neuro","Dec-2020\neuro",null,null,null,"EUR",{"$f":"ЦБР(U1)","v":89.135300000000001},null,null,{"$f":"SUM(F7:Q7)","v":314.12919460640171}]
[1,"Spot-Price Savings (New Supplier)","Transportation",{"$f":"SUM(SUMIF('Spot-price savings'!G2:G240,\"New Supplier\",'Spot-price savings'!D2:D240),'Saving Subcontract'!$I$1/$V$1)","v":18216.334654201128},{"$f":"AVERAGE(AVERAGE('Spot-price savings'!E2:E240)/100,'Saving Subcontract'!$I$2)","v":0.28461327390175623},{"$f":"SUMIFS('Spot-price savings'!$D$2:$D$240,'Spot-price savings'!$A$2:$A$240, \">=\" & DATE(2020,MATCH(F$1,$F$1:$Q$1,0),1),'Spot-price savings'!$A$2:$A$240, \"<=\" &EOMONTH(DATE(2020,MATCH(F$1,$F$1:$Q$1,0),1),0),'Spot-price savings'!$G$2:$G$240,\"New Supplier\")+SUMIFS('Saving Subcontract'!$F$2:$F$293,'Saving Subcontract'!$E$2:$E$293,\">=\"&DATE(2020,MATCH(F$1,$F$1:$Q$1,0),1),'Saving Subcontract'!$E$2:$E$293,\"<=\"&EOMONTH(DATE(2020,MATCH(F$1,$F$1:$Q$1,0),1),0))/$V$1","v":0},{"$f":"SUMIFS('Spot-price savings'!$D$2:$D$240,'Spot-price savings'!$A$2:$A$240, \">=\" & DATE(2020,MATCH(G$1,$F$1:$Q$1,0),1),'Spot-price savings'!$A$2:$A$240, \"<=\" &EOMONTH(DATE(2020,MATCH(G$1,$F$1:$Q$1,0),1),0),'Spot-price savings'!$G$2:$G$240,\"New Supplier\")+SUMIFS('Saving Subcontract'!$F$2:$F$293,'Saving Subcontract'!$E$2:$E$293,\">=\"&DATE(2020,MATCH(G$1,$F$1:$Q$1,0),1),'Saving Subcontract'!$E$2:$E$293,\"<=\"&EOMONTH(DATE(2020,MATCH(G$1,$F$1:$Q$1,0),1),0))/$V$1","v":0},{"$f":"SUMIFS('Spot-price savings'!$D$2:$D$240,'Spot-price savings'!$A$2:$A$240, \">=\" & DATE(2020,MATCH(H$1,$F$1:$Q$1,0),1),'Spot-price savings'!$A$2:$A$240, \"<=\" &EOMONTH(DATE(2020,MATCH(H$1,$F$1:$Q$1,0),1),0),'Spot-price savings'!$G$2:$G$240,\"New Supplier\")+SUMIFS('Saving Subcontract'!$F$2:$F$293,'Saving Subcontract'!$E$2:$E$293,\">=\"&DATE(2020,MATCH(H$1,$F$1:$Q$1,0),1),'Saving Subcontract'!$E$2:$E$293,\"<=\"&EOMONTH(DATE(2020,MATCH(H$1,$F$1:$Q$1,0),1),0))/$V$1","v":921.01609039306641},{"$f":"SUMIFS('Spot-price savings'!$D$2:$D$240,'Spot-price savings'!$A$2:$A$240, \">=\" & DATE(2020,MATCH(I$1,$F$1:$Q$1,0),1),'Spot-price savings'!$A$2:$A$240, \"<=\" &EOMONTH(DATE(2020,MATCH(I$1,$F$1:$Q$1,0),1),0),'Spot-price savings'!$G$2:$G$240,\"New Supplier\")+SUMIFS('Saving Subcontract'!$F$2:$F$293,'Saving Subcontract'!$E$2:$E$293,\">=\"&DATE(2020,MATCH(I$1,$F$1:$Q$1,0),1),'Saving Subcontract'!$E$2:$E$293,\"<=\"&EOMONTH(DATE(2020,MATCH(I$1,$F$1:$Q$1,0),1),0))/$V$1","v":1171.6490478515625},{"$f":"SUMIFS('Spot-price savings'!$D$2:$D$240,'Spot-price savings'!$A$2:$A$240, \">=\" & DATE(2020,MATCH(J$1,$F$1:$Q$1,0),1),'Spot-price savings'!$A$2:$A$240, \"<=\" &EOMONTH(DATE(2020,MATCH(J$1,$F$1:$Q$1,0),1),0),'Spot-price savings'!$G$2:$G$240,\"New Supplier\")+SUMIFS('Saving Subcontract'!$F$2:$F$293,'Saving Subcontract'!$E$2:$E$293,\">=\"&DATE(2020,MATCH(J$1,$F$1:$Q$1,0),1),'Saving Subcontract'!$E$2:$E$293,\"<=\"&EOMONTH(DATE(2020,MATCH(J$1,$F$1:$Q$1,0),1),0))/$V$1","v":5399.9979743276199},{"$f":"SUMIFS('Spot-price savings'!$D$2:$D$240,'Spot-price savings'!$A$2:$A$240, \">=\" & DATE(2020,MATCH(K$1,$F$1:$Q$1,0),1),'Spot-price savings'!$A$2:$A$240, \"<=\" &EOMONTH(DATE(2020,MATCH(K$1,$F$1:$Q$1,0),1),0),'Spot-price savings'!$G$2:$G$240,\"New Supplier\")+SUMIFS('Saving Subcontract'!$F$2:$F$293,'Saving Subcontract'!$E$2:$E$293,\">=\"&DATE(2020,MATCH(K$1,$F$1:$Q$1,0),1),'Saving Subcontract'!$E$2:$E$293,\"<=\"&EOMONTH(DATE(2020,MATCH(K$1,$F$1:$Q$1,0),1),0))/$V$1","v":3262.7751870217194},{"$f":"SUMIFS('Spot-price savings'!$D$2:$D$240,'Spot-price savings'!$A$2:$A$240, \">=\" & DATE(2020,MATCH(L$1,$F$1:$Q$1,0),1),'Spot-price savings'!$A$2:$A$240, \"<=\" &EOMONTH(DATE(2020,MATCH(L$1,$F$1:$Q$1,0),1),0),'Spot-price savings'!$G$2:$G$240,\"New Supplier\")+SUMIFS('Saving Subcontract'!$F$2:$F$293,'Saving Subcontract'!$E$2:$E$293,\">=\"&DATE(2020,MATCH(L$1,$F$1:$Q$1,0),1),'Saving Subcontract'!$E$2:$E$293,\"<=\"&EOMONTH(DATE(2020,MATCH(L$1,$F$1:$Q$1,0),1),0))/$V$1","v":7273.5794226411008},{"$f":"SUMIFS('Spot-price savings'!$D$2:$D$240,'Spot-price savings'!$A$2:$A$240, \">=\" & DATE(2020,MATCH(M$1,$F$1:$Q$1,0),1),'Spot-price savings'!$A$2:$A$240, \"<=\" &EOMONTH(DATE(2020,MATCH(M$1,$F$1:$Q$1,0),1),0),'Spot-price savings'!$G$2:$G$240,\"New Supplier\")+SUMIFS('Saving Subcontract'!$F$2:$F$293,'Saving Subcontract'!$E$2:$E$293,\">=\"&DATE(2020,MATCH(M$1,$F$1:$Q$1,0),1),'Saving Subcontract'!$E$2:$E$293,\"<=\"&EOMONTH(DATE(2020,MATCH(M$1,$F$1:$Q$1,0),1),0))/$V$1","v":153.66023254394531},{"$f":"SUMIFS('Spot-price savings'!$D$2:$D$240,'Spot-price savings'!$A$2:$A$240, \">=\" & DATE(2020,MATCH(N$1,$F$1:$Q$1,0),1),'Spot-price savings'!$A$2:$A$240, \"<=\" &EOMONTH(DATE(2020,MATCH(N$1,$F$1:$Q$1,0),1),0),'Spot-price savings'!$G$2:$G$240,\"New Supplier\")+SUMIFS('Saving Subcontract'!$F$2:$F$293,'Saving Subcontract'!$E$2:$E$293,\">=\"&DATE(2020,MATCH(N$1,$F$1:$Q$1,0),1),'Saving Subcontract'!$E$2:$E$293,\"<=\"&EOMONTH(DATE(2020,MATCH(N$1,$F$1:$Q$1,0),1),0))/$V$1","v":33.656699422114471},{"$f":"SUMIFS('Spot-price savings'!$D$2:$D$240,'Spot-price savings'!$A$2:$A$240, \">=\" & DATE(2020,MATCH(O$1,$F$1:$Q$1,0),1),'Spot-price savings'!$A$2:$A$240, \"<=\" &EOMONTH(DATE(2020,MATCH(O$1,$F$1:$Q$1,0),1),0),'Spot-price savings'!$G$2:$G$240,\"New Supplier\")+SUMIFS('Saving Subcontract'!$F$2:$F$293,'Saving Subcontract'!$E$2:$E$293,\">=\"&DATE(2020,MATCH(O$1,$F$1:$Q$1,0),1),'Saving Subcontract'!$E$2:$E$293,\"<=\"&EOMONTH(DATE(2020,MATCH(O$1,$F$1:$Q$1,0),1),0))/$V$1","v":0},{"$f":"SUMIFS('Spot-price savings'!$D$2:$D$240,'Spot-price savings'!$A$2:$A$240, \">=\" & DATE(2020,MATCH(P$1,$F$1:$Q$1,0),1),'Spot-price savings'!$A$2:$A$240, \"<=\" &EOMONTH(DATE(2020,MATCH(P$1,$F$1:$Q$1,0),1),0),'Spot-price savings'!$G$2:$G$240,\"New Supplier\")+SUMIFS('Saving Subcontract'!$F$2:$F$293,'Saving Subcontract'!$E$2:$E$293,\">=\"&DATE(2020,MATCH(P$1,$F$1:$Q$1,0),1),'Saving Subcontract'!$E$2:$E$293,\"<=\"&EOMONTH(DATE(2020,MATCH(P$1,$F$1:$Q$1,0),1),0))/$V$1","v":0},{"$f":"SUMIFS('Spot-price savings'!$D$2:$D$240,'Spot-price savings'!$A$2:$A$240, \">=\" & DATE(2020,MATCH(Q$1,$F$1:$Q$1,0),1),'Spot-price savings'!$A$2:$A$240, \"<=\" &EOMONTH(DATE(2020,MATCH(Q$1,$F$1:$Q$1,0),1),0),'Spot-price savings'!$G$2:$G$240,\"New Supplier\")+SUMIFS('Saving Subcontract'!$F$2:$F$293,'Saving Subcontract'!$E$2:$E$293,\">=\"&DATE(2020,MATCH(Q$1,$F$1:$Q$1,0),1),'Saving Subcontract'!$E$2:$E$293,\"<=\"&EOMONTH(DATE(2020,MATCH(Q$1,$F$1:$Q$1,0),1),0))/$V$1","v":0}]
[2,"Spot-Price Savings (New Route)","Transportation",{"$f":"SUMIF('Spot-price savings'!G2:G240,\"New Route\",'Spot-price savings'!D2:D240)","v":0},0,{"$f":"SUMIFS('Spot-price savings'!$D$2:$D$240,'Spot-price savings'!$A$2:$A$240, \">=\" & DATE(2020,MATCH(F$1,$F$1:$Q$1,0),1),'Spot-price savings'!$A$2:$A$240, \"<=\" &EOMONTH(DATE(2020,MATCH(F$1,$F$1:$Q$1,0),1),0),'Spot-price savings'!$G$2:$G$240,\"New Route\")","v":0},{"$f":"SUMIFS('Spot-price savings'!$D$2:$D$240,'Spot-price savings'!$A$2:$A$240, \">=\" & DATE(2020,MATCH(G$1,$F$1:$Q$1,0),1),'Spot-price savings'!$A$2:$A$240, \"<=\" &EOMONTH(DATE(2020,MATCH(G$1,$F$1:$Q$1,0),1),0),'Spot-price savings'!$G$2:$G$240,\"New Route\")","v":0},{"$f":"SUMIFS('Spot-price savings'!$D$2:$D$240,'Spot-price savings'!$A$2:$A$240, \">=\" & DATE(2020,MATCH(H$1,$F$1:$Q$1,0),1),'Spot-price savings'!$A$2:$A$240, \"<=\" &EOMONTH(DATE(2020,MATCH(H$1,$F$1:$Q$1,0),1),0),'Spot-price savings'!$G$2:$G$240,\"New Route\")","v":0},{"$f":"SUMIFS('Spot-price savings'!$D$2:$D$240,'Spot-price savings'!$A$2:$A$240, \">=\" & DATE(2020,MATCH(I$1,$F$1:$Q$1,0),1),'Spot-price savings'!$A$2:$A$240, \"<=\" &EOMONTH(DATE(2020,MATCH(I$1,$F$1:$Q$1,0),1),0),'Spot-price savings'!$G$2:$G$240,\"New Route\")","v":0},{"$f":"SUMIFS('Spot-price savings'!$D$2:$D$240,'Spot-price savings'!$A$2:$A$240, \">=\" & DATE(2020,MATCH(J$1,$F$1:$Q$1,0),1),'Spot-price savings'!$A$2:$A$240, \"<=\" &EOMONTH(DATE(2020,MATCH(J$1,$F$1:$Q$1,0),1),0),'Spot-price savings'!$G$2:$G$240,\"New Route\")","v":0},{"$f":"SUMIFS('Spot-price savings'!$D$2:$D$240,'Spot-price savings'!$A$2:$A$240, \">=\" & DATE(2020,MATCH(K$1,$F$1:$Q$1,0),1),'Spot-price savings'!$A$2:$A$240, \"<=\" &EOMONTH(DATE(2020,MATCH(K$1,$F$1:$Q$1,0),1),0),'Spot-price savings'!$G$2:$G$240,\"New Route\")","v":0},{"$f":"SUMIFS('Spot-price savings'!$D$2:$D$240,'Spot-price savings'!$A$2:$A$240, \">=\" & DATE(2020,MATCH(L$1,$F$1:$Q$1,0),1),'Spot-price savings'!$A$2:$A$240, \"<=\" &EOMONTH(DATE(2020,MATCH(L$1,$F$1:$Q$1,0),1),0),'Spot-price savings'!$G$2:$G$240,\"New Route\")","v":0},{"$f":"SUMIFS('Spot-price savings'!$D$2:$D$240,'Spot-price savings'!$A$2:$A$240, \">=\" & DATE(2020,MATCH(M$1,$F$1:$Q$1,0),1),'Spot-price savings'!$A$2:$A$240, \"<=\" &EOMONTH(DATE(2020,MATCH(M$1,$F$1:$Q$1,0),1),0),'Spot-price savings'!$G$2:$G$240,\"New Route\")","v":0},{"$f":"SUMIFS('Spot-price savings'!$D$2:$D$240,'Spot-price savings'!$A$2:$A$240, \">=\" & DATE(2020,MATCH(N$1,$F$1:$Q$1,0),1),'Spot-price savings'!$A$2:$A$240, \"<=\" &EOMONTH(DATE(2020,MATCH(N$1,$F$1:$Q$1,0),1),0),'Spot-price savings'!$G$2:$G$240,\"New Route\")","v":0},{"$f":"SUMIFS('Spot-price savings'!$D$2:$D$240,'Spot-price savings'!$A$2:$A$240, \">=\" & DATE(2020,MATCH(O$1,$F$1:$Q$1,0),1),'Spot-price savings'!$A$2:$A$240, \"<=\" &EOMONTH(DATE(2020,MATCH(O$1,$F$1:$Q$1,0),1),0),'Spot-price savings'!$G$2:$G$240,\"New Route\")","v":0},{"$f":"SUMIFS('Spot-price savings'!$D$2:$D$240,'Spot-price savings'!$A$2:$A$240, \">=\" & DATE(2020,MATCH(P$1,$F$1:$Q$1,0),1),'Spot-price savings'!$A$2:$A$240, \"<=\" &EOMONTH(DATE(2020,MATCH(P$1,$F$1:$Q$1,0),1),0),'Spot-price savings'!$G$2:$G$240,\"New Route\")","v":0},{"$f":"SUMIFS('Spot-price savings'!$D$2:$D$240,'Spot-price savings'!$A$2:$A$240, \">=\" & DATE(2020,MATCH(Q$1,$F$1:$Q$1,0),1),'Spot-price savings'!$A$2:$A$240, \"<=\" &EOMONTH(DATE(2020,MATCH(Q$1,$F$1:$Q$1,0),1),0),'Spot-price savings'!$G$2:$G$240,\"New Route\")","v":0}]
[3,"New Supplier","Export Control",{"$f":"'Saving URFU'!I1/V1","v":5312.1490587904009},{"$f":"'Saving URFU'!I2","v":0.46398369442729614},{"$f":"SUMIFS('Saving URFU'!$F$2:$F$293,'Saving URFU'!$E$2:$E$293,\">=\"&DATE(2020,MATCH(F$1,$F$1:$Q$1,0),1),'Saving URFU'!$E$2:$E$293,\"<=\"&EOMONTH(DATE(2020,MATCH(F$1,$F$1:$Q$1,0),1),0))/V1","v":0},{"$f":"SUMIFS('Saving URFU'!$F$2:$F$293,'Saving URFU'!$E$2:$E$293,\">=\"&DATE(2020,MATCH(G$1,$F$1:$Q$1,0),1),'Saving URFU'!$E$2:$E$293,\"<=\"&EOMONTH(DATE(2020,MATCH(G$1,$F$1:$Q$1,0),1),0))/V1","v":374.15030857583918},{"$f":"SUMIFS('Saving URFU'!$F$2:$F$293,'Saving URFU'!$E$2:$E$293,\">=\"&DATE(2020,MATCH(H$1,$F$1:$Q$1,0),1),'Saving URFU'!$E$2:$E$293,\"<=\"&EOMONTH(DATE(2020,MATCH(H$1,$F$1:$Q$1,0),1),0))/V1","v":907.38461642020616},{"$f":"SUMIFS('Saving URFU'!$F$2:$F$293,'Saving URFU'!$E$2:$E$293,\">=\"&DATE(2020,MATCH(I$1,$F$1:$Q$1,0),1),'Saving URFU'!$E$2:$E$293,\"<=\"&EOMONTH(DATE(2020,MATCH(I$1,$F$1:$Q$1,0),1),0))/V1","v":644.13313244023414},{"$f":"SUMIFS('Saving URFU'!$F$2:$F$293,'Saving URFU'!$E$2:$E$293,\">=\"&DATE(2020,MATCH(J$1,$F$1:$Q$1,0),1),'Saving URFU'!$E$2:$E$293,\"<=\"&EOMONTH(DATE(2020,MATCH(J$1,$F$1:$Q$1,0),1),0))/V1","v":761.76329692052423},{"$f":"SUMIFS('Saving URFU'!$F$2:$F$293,'Saving URFU'!$E$2:$E$293,\">=\"&DATE(2020,MATCH(K$1,$F$1:$Q$1,0),1),'Saving URFU'!$E$2:$E$293,\"<=\"&EOMONTH(DATE(2020,MATCH(K$1,$F$1:$Q$1,0),1),0))/V1","v":1101.1911105925485},{"$f":"SUMIFS('Saving URFU'!$F$2:$F$293,'Saving URFU'!$E$2:$E$293,\">=\"&DATE(2020,MATCH(L$1,$F$1:$Q$1,0),1),'Saving URFU'!$E$2:$E$293,\"<=\"&EOMONTH(DATE(2020,MATCH(L$1,$F$1:$Q$1,0),1),0))/V1","v":533.23430784436698},{"$f":"SUMIFS('Saving URFU'!$F$2:$F$293,'Saving URFU'!$E$2:$E$293,\">=\"&DATE(2020,MATCH(M$1,$F$1:$Q$1,0),1),'Saving URFU'!$E$2:$E$293,\"<=\"&EOMONTH(DATE(2020,MATCH(M$1,$F$1:$Q$1,0),1),0))/V1","v":914.11595630462898},{"$f":"SUMIFS('Saving URFU'!$F$2:$F$293,'Saving URFU'!$E$2:$E$293,\">=\"&DATE(2020,MATCH(N$1,$F$1:$Q$1,0),1),'Saving URFU'!$E$2:$E$293,\"<=\"&EOMONTH(DATE(2020,MATCH(N$1,$F$1:$Q$1,0),1),0))/V1","v":76.17632969205242},{"$f":"SUMIFS('Saving URFU'!$F$2:$F$293,'Saving URFU'!$E$2:$E$293,\">=\"&DATE(2020,MATCH(O$1,$F$1:$Q$1,0),1),'Saving URFU'!$E$2:$E$293,\"<=\"&EOMONTH(DATE(2020,MATCH(O$1,$F$1:$Q$1,0),1),0))/V1","v":0},{"$f":"SUMIFS('Saving URFU'!$F$2:$F$293,'Saving URFU'!$E$2:$E$293,\">=\"&DATE(2020,MATCH(P$1,$F$1:$Q$1,0),1),'Saving URFU'!$E$2:$E$293,\"<=\"&EOMONTH(DATE(2020,MATCH(P$1,$F$1:$Q$1,0),1),0))/V1","v":0},{"$f":"SUMIFS('Saving URFU'!$F$2:$F$293,'Saving URFU'!$E$2:$E$293,\">=\"&DATE(2020,MATCH(Q$1,$F$1:$Q$1,0),1),'Saving URFU'!$E$2:$E$293,\"<=\"&EOMONTH(DATE(2020,MATCH(Q$1,$F$1:$Q$1,0),1),0))/V1","v":0}]
[4,"New Supplier","Customs clearance",{"$f":"SUM('Saving Customs'!H2:H300)/V1","v":89.751198458971928},{"$f":"AVERAGE('Saving Customs'!I2:I4)/100","v":0.33333333333333343},{"$f":"SUMIFS('Saving Customs'!$H$2:$H$300,'Saving Customs'!$G$2:$G$300,\">=\"&DATE(2020,MATCH(F$1,$F$1:$Q$1,0),1),'Saving Customs'!$G$2:$G$300,\"<=\"&EOMONTH(DATE(2020,MATCH(F$1,$F$1:$Q$1,0),1),0))/$V$1","v":0},{"$f":"SUMIFS('Saving Customs'!$H$2:$H$300,'Saving Customs'!$G$2:$G$300,\">=\"&DATE(2020,MATCH(G$1,$F$1:$Q$1,0),1),'Saving Customs'!$G$2:$G$300,\"<=\"&EOMONTH(DATE(2020,MATCH(G$1,$F$1:$Q$1,0),1),0))/$V$1","v":0},{"$f":"SUMIFS('Saving Customs'!$H$2:$H$300,'Saving Customs'!$G$2:$G$300,\">=\"&DATE(2020,MATCH(H$1,$F$1:$Q$1,0),1),'Saving Customs'!$G$2:$G$300,\"<=\"&EOMONTH(DATE(2020,MATCH(H$1,$F$1:$Q$1,0),1),0))/$V$1","v":0},{"$f":"SUMIFS('Saving Customs'!$H$2:$H$300,'Saving Customs'!$G$2:$G$300,\">=\"&DATE(2020,MATCH(I$1,$F$1:$Q$1,0),1),'Saving Customs'!$G$2:$G$300,\"<=\"&EOMONTH(DATE(2020,MATCH(I$1,$F$1:$Q$1,0),1),0))/$V$1","v":0},{"$f":"SUMIFS('Saving Customs'!$H$2:$H$300,'Saving Customs'!$G$2:$G$300,\">=\"&DATE(2020,MATCH(J$1,$F$1:$Q$1,0),1),'Saving Customs'!$G$2:$G$300,\"<=\"&EOMONTH(DATE(2020,MATCH(J$1,$F$1:$Q$1,0),1),0))/$V$1","v":0},{"$f":"SUMIFS('Saving Customs'!$H$2:$H$300,'Saving Customs'!$G$2:$G$300,\">=\"&DATE(2020,MATCH(K$1,$F$1:$Q$1,0),1),'Saving Customs'!$G$2:$G$300,\"<=\"&EOMONTH(DATE(2020,MATCH(K$1,$F$1:$Q$1,0),1),0))/$V$1","v":0},{"$f":"SUMIFS('Saving Customs'!$H$2:$H$300,'Saving Customs'!$G$2:$G$300,\">=\"&DATE(2020,MATCH(L$1,$F$1:$Q$1,0),1),'Saving Customs'!$G$2:$G$300,\"<=\"&EOMONTH(DATE(2020,MATCH(L$1,$F$1:$Q$1,0),1),0))/$V$1","v":67.313398844228942},{"$f":"SUMIFS('Saving Customs'!$H$2:$H$300,'Saving Customs'!$G$2:$G$300,\">=\"&DATE(2020,MATCH(M$1,$F$1:$Q$1,0),1),'Saving Customs'!$G$2:$G$300,\"<=\"&EOMONTH(DATE(2020,MATCH(M$1,$F$1:$Q$1,0),1),0))/$V$1","v":0},{"$f":"SUMIFS('Saving Customs'!$H$2:$H$300,'Saving Customs'!$G$2:$G$300,\">=\"&DATE(2020,MATCH(N$1,$F$1:$Q$1,0),1),'Saving Customs'!$G$2:$G$300,\"<=\"&EOMONTH(DATE(2020,MATCH(N$1,$F$1:$Q$1,0),1),0))/$V$1","v":0},{"$f":"SUMIFS('Saving Customs'!$H$2:$H$300,'Saving Customs'!$G$2:$G$300,\">=\"&DATE(2020,MATCH(O$1,$F$1:$Q$1,0),1),'Saving Customs'!$G$2:$G$300,\"<=\"&EOMONTH(DATE(2020,MATCH(O$1,$F$1:$Q$1,0),1),0))/$V$1","v":0},{"$f":"SUMIFS('Saving Customs'!$H$2:$H$300,'Saving Customs'!$G$2:$G$300,\">=\"&DATE(2020,MATCH(P$1,$F$1:$Q$1,0),1),'Saving Customs'!$G$2:$G$300,\"<=\"&EOMONTH(DATE(2020,MATCH(P$1,$F$1:$Q$1,0),1),0))/$V$1","v":0},{"$f":"SUMIFS('Saving Customs'!$H$2:$H$300,'Saving Customs'!$G$2:$G$300,\">=\"&DATE(2020,MATCH(Q$1,$F$1:$Q$1,0),1),'Saving Customs'!$G$2:$G$300,\"<=\"&EOMONTH(DATE(2020,MATCH(Q$1,$F$1:$Q$1,0),1),0))/$V$1","v":0}]
[5,"Self e-declaration (import)","Customs clearance"]
[null,null,null,null,null,{"$f":"SUMIFS('Saving Subcontract'!$F$2:$F$293,'Saving Subcontract'!$E$2:$E$293,\">=\"&DATE(2020,MATCH(F$1,$F$1:$Q$1,0),1),'Saving Subcontract'!$E$2:$E$293,\"<=\"&EOMONTH(DATE(2020,MATCH(F$1,$F$1:$Q$1,0),1),0))/V1","v":0},{"$f":"SUMIFS('Saving Subcontract'!$F$2:$F$293,'Saving Subcontract'!$E$2:$E$293,\">=\"&DATE(2020,MATCH(G$1,$F$1:$Q$1,0),1),'Saving Subcontract'!$E$2:$E$293,\"<=\"&EOMONTH(DATE(2020,MATCH(G$1,$F$1:$Q$1,0),1),0))/V1","v":0},{"$f":"SUMIFS('Saving Subcontract'!$F$2:$F$293,'Saving Subcontract'!$E$2:$E$293,\">=\"&DATE(2020,MATCH(H$1,$F$1:$Q$1,0),1),'Saving Subcontract'!$E$2:$E$293,\"<=\"&EOMONTH(DATE(2020,MATCH(H$1,$F$1:$Q$1,0),1),0))/V1","v":0},{"$f":"SUMIFS('Saving Subcontract'!$F$2:$F$293,'Saving Subcontract'!$E$2:$E$293,\">=\"&DATE(2020,MATCH(I$1,$F$1:$Q$1,0),1),'Saving Subcontract'!$E$2:$E$293,\"<=\"&EOMONTH(DATE(2020,MATCH(I$1,$F$1:$Q$1,0),1),0))/V1","v":0},{"$f":"SUMIFS('Saving Subcontract'!$F$2:$F$293,'Saving Subcontract'!$E$2:$E$293,\">=\"&DATE(2020,MATCH(J$1,$F$1:$Q$1,0),1),'Saving Subcontract'!$E$2:$E$293,\"<=\"&EOMONTH(DATE(2020,MATCH(J$1,$F$1:$Q$1,0),1),0))/V1","v":123.4078978810864},{"$f":"SUMIFS('Saving Subcontract'!$F$2:$F$293,'Saving Subcontract'!$E$2:$E$293,\">=\"&DATE(2020,MATCH(K$1,$F$1:$Q$1,0),1),'Saving Subcontract'!$E$2:$E$293,\"<=\"&EOMONTH(DATE(2020,MATCH(K$1,$F$1:$Q$1,0),1),0))/V1","v":67.313398844228942},{"$f":"SUMIFS('Saving Subcontract'!$F$2:$F$293,'Saving Subcontract'!$E$2:$E$293,\">=\"&DATE(2020,MATCH(L$1,$F$1:$Q$1,0),1),'Saving Subcontract'!$E$2:$E$293,\"<=\"&EOMONTH(DATE(2020,MATCH(L$1,$F$1:$Q$1,0),1),0))/V1","v":89.751198458971928},{"$f":"SUMIFS('Saving Subcontract'!$F$2:$F$293,'Saving Subcontract'!$E$2:$E$293,\">=\"&DATE(2020,MATCH(M$1,$F$1:$Q$1,0),1),'Saving Subcontract'!$E$2:$E$293,\"<=\"&EOMONTH(DATE(2020,MATCH(M$1,$F$1:$Q$1,0),1),0))/V1","v":0},{"$f":"SUMIFS('Saving Subcontract'!$F$2:$F$293,'Saving Subcontract'!$E$2:$E$293,\">=\"&DATE(2020,MATCH(N$1,$F$1:$Q$1,0),1),'Saving Subcontract'!$E$2:$E$293,\"<=\"&EOMONTH(DATE(2020,MATCH(N$1,$F$1:$Q$1,0),1),0))/V1","v":33.656699422114471},{"$f":"SUMIFS('Saving Subcontract'!$F$2:$F$293,'Saving Subcontract'!$E$2:$E$293,\">=\"&DATE(2020,MATCH(O$1,$F$1:$Q$1,0),1),'Saving Subcontract'!$E$2:$E$293,\"<=\"&EOMONTH(DATE(2020,MATCH(O$1,$F$1:$Q$1,0),1),0))/V1","v":0},{"$f":"SUMIFS('Saving Subcontract'!$F$2:$F$293,'Saving Subcontract'!$E$2:$E$293,\">=\"&DATE(2020,MATCH(P$1,$F$1:$Q$1,0),1),'Saving Subcontract'!$E$2:$E$293,\"<=\"&EOMONTH(DATE(2020,MATCH(P$1,$F$1:$Q$1,0),1),0))/V1","v":0},{"$f":"SUMIFS('Saving Subcontract'!$F$2:$F$293,'Saving Subcontract'!$E$2:$E$293,\">=\"&DATE(2020,MATCH(Q$1,$F$1:$Q$1,0),1),'Saving Subcontract'!$E$2:$E$293,\"<=\"&EOMONTH(DATE(2020,MATCH(Q$1,$F$1:$Q$1,0),1),0))/V1","v":0}]

{"sheet":"Data","index":9,"n_rows":4,"n_cols":14,"rows_kept":4,"cut":false,"hidden":true,"merged":[]}
[2020,"Январь","Февраль","Март","Апрель","Май","Июнь","Июль","Август","Сентябрь","Октябрь","Ноябрь","Декабрь","Итого"]
["Final saving",{"$f":"SUMIF('Saving URFU'!$E$2:$E$1000,CONCATENATE(B1&\" \"&$A$1),'Saving URFU'!$F$2:$F$1000)","v":0},{"$f":"SUMIF('Saving URFU'!$E$2:$E$1000,CONCATENATE(C1&\" \"&$A$1),'Saving URFU'!$F$2:$F$1000)","v":33350},{"$f":"SUMIF('Saving URFU'!$E$2:$E$1000,CONCATENATE(D1&\" \"&$A$1),'Saving URFU'!$F$2:$F$1000)","v":80880},{"$f":"SUMIF('Saving URFU'!$E$2:$E$1000,CONCATENATE(E1&\" \"&$A$1),'Saving URFU'!$F$2:$F$1000)","v":57415},{"$f":"SUMIF('Saving URFU'!$E$2:$E$1000,CONCATENATE(F1&\" \"&$A$1),'Saving URFU'!$F$2:$F$1000)","v":67900},{"$f":"SUMIF('Saving URFU'!$E$2:$E$1000,CONCATENATE(G1&\" \"&$A$1),'Saving URFU'!$F$2:$F$1000)","v":98155},{"$f":"SUMIF('Saving URFU'!$E$2:$E$1000,CONCATENATE(H1&\" \"&$A$1),'Saving URFU'!$F$2:$F$1000)","v":47530},{"$f":"SUMIF('Saving URFU'!$E$2:$E$1000,CONCATENATE(I1&\" \"&$A$1),'Saving URFU'!$F$2:$F$1000)","v":81480},{"$f":"SUMIF('Saving URFU'!$E$2:$E$1000,CONCATENATE(J1&\" \"&$A$1),'Saving URFU'!$F$2:$F$1000)","v":6790},{"$f":"SUMIF('Saving URFU'!$E$2:$E$1000,CONCATENATE(K1&\" \"&$A$1),'Saving URFU'!$F$2:$F$1000)","v":0},{"$f":"SUMIF('Saving URFU'!$E$2:$E$1000,CONCATENATE(L1&\" \"&$A$1),'Saving URFU'!$F$2:$F$1000)","v":0},{"$f":"SUMIF('Saving URFU'!$E$2:$E$1000,CONCATENATE(M1&\" \"&$A$1),'Saving URFU'!$F$2:$F$1000)","v":0},{"$f":"SUM(B2:M2)","v":473500}]
["Excont",{"$f":"SUMIF('Saving URFU'!$E$2:$E$1000,CONCATENATE(B1&\" \"&$A$1),'Saving URFU'!$G$2:$G$1000)","v":0},{"$f":"SUMIF('Saving URFU'!$E$2:$E$1000,CONCATENATE(C1&\" \"&$A$1),'Saving URFU'!$G$2:$G$1000)","v":73950},{"$f":"SUMIF('Saving URFU'!$E$2:$E$1000,CONCATENATE(D1&\" \"&$A$1),'Saving URFU'!$G$2:$G$1000)","v":177480},{"$f":"SUMIF('Saving URFU'!$E$2:$E$1000,CONCATENATE(E1&\" \"&$A$1),'Saving URFU'!$G$2:$G$1000)","v":125715},{"$f":"SUMIF('Saving URFU'!$E$2:$E$1000,CONCATENATE(F1&\" \"&$A$1),'Saving URFU'!$G$2:$G$1000)","v":147900},{"$f":"SUMIF('Saving URFU'!$E$2:$E$1000,CONCATENATE(G1&\" \"&$A$1),'Saving URFU'!$G$2:$G$1000)","v":199665},{"$f":"SUMIF('Saving URFU'!$E$2:$E$1000,CONCATENATE(H1&\" \"&$A$1),'Saving URFU'!$G$2:$G$1000)","v":103530},{"$f":"SUMIF('Saving URFU'!$E$2:$E$1000,CONCATENATE(I1&\" \"&$A$1),'Saving URFU'!$G$2:$G$1000)","v":177480},{"$f":"SUMIF('Saving URFU'!$E$2:$E$1000,CONCATENATE(J1&\" \"&$A$1),'Saving URFU'!$G$2:$G$1000)","v":14790},{"$f":"SUMIF('Saving URFU'!$E$2:$E$1000,CONCATENATE(K1&\" \"&$A$1),'Saving URFU'!$G$2:$G$1000)","v":0},{"$f":"SUMIF('Saving URFU'!$E$2:$E$1000,CONCATENATE(L1&\" \"&$A$1),'Saving URFU'!$G$2:$G$1000)","v":0},{"$f":"SUMIF('Saving URFU'!$E$2:$E$1000,CONCATENATE(M1&\" \"&$A$1),'Saving URFU'!$G$2:$G$1000)","v":0}]
["Saving(%)",{"$f":"IFERROR(B2/B3,\"\")","v":""},0.45098039215686275,0.45571331981068292,0.45670763234299805,0.45909398242055444,0.49159842736583775,0.45909398242055444,0.45909398242055444,0.45909398242055444,"","","",{"$f":"'Saving URFU'!I2","v":0.46398369442729614}]

{"sheet":"Data_Sub","index":10,"n_rows":4,"n_cols":14,"rows_kept":4,"cut":false,"hidden":true,"merged":[]}
[2020,"Январь","Февраль","Март","Апрель","Май","Июнь","Июль","Август","Сентябрь","Октябрь","Ноябрь","Декабрь","Итого"]
["Final saving",{"$f":"SUMIF('Saving Subcontract'!$E$2:$E$1000,CONCATENATE(B1&\" \"&$A$1),'Saving Subcontract'!$F$2:$F$1000)","v":0},{"$f":"SUMIF('Saving Subcontract'!$E$2:$E$1000,CONCATENATE(C1&\" \"&$A$1),'Saving Subcontract'!$F$2:$F$1000)","v":0},{"$f":"SUMIF('Saving Subcontract'!$E$2:$E$1000,CONCATENATE(D1&\" \"&$A$1),'Saving Subcontract'!$F$2:$F$1000)","v":0},{"$f":"SUMIF('Saving Subcontract'!$E$2:$E$1000,CONCATENATE(E1&\" \"&$A$1),'Saving Subcontract'!$F$2:$F$1000)","v":0},{"$f":"SUMIF('Saving Subcontract'!$E$2:$E$1000,CONCATENATE(F1&\" \"&$A$1),'Saving Subcontract'!$F$2:$F$1000)","v":11000},{"$f":"SUMIF('Saving Subcontract'!$E$2:$E$1000,CONCATENATE(G1&\" \"&$A$1),'Saving Subcontract'!$F$2:$F$1000)","v":6000},{"$f":"SUMIF('Saving Subcontract'!$E$2:$E$1000,CONCATENATE(H1&\" \"&$A$1),'Saving Subcontract'!$F$2:$F$1000)","v":8000},{"$f":"SUMIF('Saving Subcontract'!$E$2:$E$1000,CONCATENATE(I1&\" \"&$A$1),'Saving Subcontract'!$F$2:$F$1000)","v":0},{"$f":"SUMIF('Saving Subcontract'!$E$2:$E$1000,CONCATENATE(J1&\" \"&$A$1),'Saving Subcontract'!$F$2:$F$1000)","v":3000},{"$f":"SUMIF('Saving Subcontract'!$E$2:$E$1000,CONCATENATE(K1&\" \"&$A$1),'Saving Subcontract'!$F$2:$F$1000)","v":0},{"$f":"SUMIF('Saving Subcontract'!$E$2:$E$1000,CONCATENATE(L1&\" \"&$A$1),'Saving Subcontract'!$F$2:$F$1000)","v":0},{"$f":"SUMIF('Saving Subcontract'!$E$2:$E$1000,CONCATENATE(M1&\" \"&$A$1),'Saving Subcontract'!$F$2:$F$1000)","v":0},{"$f":"SUM(B2:M2)","v":28000}]
["IP KONDRATYEV",{"$f":"SUMIF('Saving Subcontract'!$E$2:$E$1000,CONCATENATE(B1&\" \"&$A$1),'Saving Subcontract'!$G$2:$G$1000)","v":0},{"$f":"SUMIF('Saving Subcontract'!$E$2:$E$1000,CONCATENATE(C1&\" \"&$A$1),'Saving Subcontract'!$G$2:$G$1000)","v":0},{"$f":"SUMIF('Saving Subcontract'!$E$2:$E$1000,CONCATENATE(D1&\" \"&$A$1),'Saving Subcontract'!$G$2:$G$1000)","v":0},{"$f":"SUMIF('Saving Subcontract'!$E$2:$E$1000,CONCATENATE(E1&\" \"&$A$1),'Saving Subcontract'!$G$2:$G$1000)","v":0},{"$f":"SUMIF('Saving Subcontract'!$E$2:$E$1000,CONCATENATE(F1&\" \"&$A$1),'Saving Subcontract'!$G$2:$G$1000)","v":27000},{"$f":"SUMIF('Saving Subcontract'!$E$2:$E$1000,CONCATENATE(G1&\" \"&$A$1),'Saving Subcontract'!$G$2:$G$1000)","v":22000},{"$f":"SUMIF('Saving Subcontract'!$E$2:$E$1000,CONCATENATE(H1&\" \"&$A$1),'Saving Subcontract'!$G$2:$G$1000)","v":16000},{"$f":"SUMIF('Saving Subcontract'!$E$2:$E$1000,CONCATENATE(I1&\" \"&$A$1),'Saving Subcontract'!$G$2:$G$1000)","v":0},{"$f":"SUMIF('Saving Subcontract'!$E$2:$E$1000,CONCATENATE(J1&\" \"&$A$1),'Saving Subcontract'!$G$2:$G$1000)","v":11000},{"$f":"SUMIF('Saving Subcontract'!$E$2:$E$1000,CONCATENATE(K1&\" \"&$A$1),'Saving Subcontract'!$G$2:$G$1000)","v":0},{"$f":"SUMIF('Saving Subcontract'!$E$2:$E$1000,CONCATENATE(L1&\" \"&$A$1),'Saving Subcontract'!$G$2:$G$1000)","v":0},{"$f":"SUMIF('Saving Subcontract'!$E$2:$E$1000,CONCATENATE(M1&\" \"&$A$1),'Saving Subcontract'!$G$2:$G$1000)","v":0}]
["Saving(%)",{"$f":"IFERROR(B2/B3,\"\")","v":""},"","","",0.40740740740740738,0.27272727272727271,0.5,"",0.27272727272727271,"","","",{"$f":"'Saving Subcontract'!I2","v":0.36842105263157893}]

{"sheet":"Список","index":11,"n_rows":8,"n_cols":2,"rows_kept":8,"cut":false,"hidden":true,"merged":[]}
["Conclusion_Not_URFU",6790]
["Conclusion_Urgent_URFU",9885]
["Conclusion_Not_Excont",0]
["Conclusion_Urgent_Excont",0]
["License_Not_URFU",10025]
["License_Urgent_URFU",10025]
["License_Not_Excont",0]
["License_Urgent_Excont",0]

{"sheet":"Список_Sub","index":12,"n_rows":24,"n_cols":9,"rows_kept":24,"cut":false,"hidden":true,"merged":[]}
["5t_SERPUKHOV-BALASHIHA_IP ASTAPENKO",3000,null,null,"5t_SERPUKHOV-BALASHIHA_IP ASTAPENKO",null,null,null,{"$f":"E1=A1","v":true}]
["5t_SERPUKHOV-BALASHIHA_IP KONDRATYEV",0]
["5t_SERPUKHOV-NOGINSK_IP ASTAPENKO",8000]
["5t_SERPUKHOV-NOGINSK_IP KONDRATYEV",0]
["5t_SERPUKHOV-PODOLSK_IP ASTAPENKO",2000]
["5t_SERPUKHOV-PODOLSK_IP KONDRATYEV",0]
["5t_SERPUKHOV-SOLNECHNOGORSK_IP ASTAPENKO",7500]
["5t_SERPUKHOV-SOLNECHNOGORSK_IP KONDRATYEV",0]
["5t_BALASHIHA-SERPUKHOV_IP ASTAPENKO",3000]
["5t_BALASHIHA-SERPUKHOV_IP KONDRATYEV",0]
["5t_NOGINSK-SERPUKHOV_IP ASTAPENKO",8000]
["5t_NOGINSK-SERPUKHOV_IP KONDRATYEV",0]
["5t_PODOLSK-SERPUKHOV_IP ASTAPENKO",2000]
["5t_PODOLSK-SERPUKHOV_IP KONDRATYEV",0]
["5t_SOLNECHNOGORSK-SERPUKHOV_IP ASTAPENKO",7500]
["5t_SOLNECHNOGORSK-SERPUKHOV_IP KONDRATYEV",0]
["5t_SERPUKHOV-BALASHIHA-SERPUKHOV_IP ASTAPENKO",7000]
["5t_SERPUKHOV_BALASHIHA_SERPUKHOV_IP KONDRATYEV",0]
["5t_SERPUKHOV-NOGINSK-SERPUKHOV_IP ASTAPENKO",10000]
["5t_SERPUKHOV-NOGINSK-SERPUKHOV_IP KONDRATYEV",0]
["5t_SERPUKHOV-PODOLSK-SERPUKHOV_IP ASTAPENKO",5000]
["5t_SERPUKHOV-PODOLSK-SERPUKHOV_IP KONDRATYEV",0]
["5t_SERPUKHOV-SOLNECHNOGORSK-SERPUKHOV_IP ASTAPENKO",9500]
["5t_SERPUKHOV-SOLNECHNOGORSK-SERPUKHOV_IP KONDRATYEV",0]