{"text_format":"1","workbook":"xlsx","n_sheets":2,"sheets":["Лист1","Иванов"],"not_rendered":{"charts":0,"images":0,"macros":1,"external_links":0,"defined_names":1,"comments":0,"pivot_tables":0},"unopened":[],"bounds":{"document_bytes":16777216,"sheet_cells":100000,"rows_first":2000,"rows_last":500,"rows_between":2000,"halvings":0,"cell_chars":16384,"cell_head_chars":4096},"cells_cut":0,"cells_raw":0,"read":"whole","date_system":"1900"}

{"sheet":"Лист1","index":0,"n_rows":15,"n_cols":19,"rows_kept":15,"cut":false,"hidden":false,"merged":[[12,8,12,10],[13,8,13,10],[14,8,14,10],[5,14,9,14],[3,13,4,14],[10,13,11,14],[5,18,9,18],[3,17,4,18],[10,17,11,18],[5,8,9,8],[3,7,3,9],[11,8,11,10]]}
[]
[]
[]
[null,null,null,null,null,null,null,"Скрытие не нужных дней",null,null,null,null,null,"Выбор месяца",null,null,null,"Выбор года"]
[]
[null,null,null,null,null,null,null,null,{"$f":"MOD(DAY(DATE(S6,O6,31)),31)","v":0},null,null,null,null,null,10,null,null,null,2021]
[]
[]
[]
[]
[null,null,null,null,null,null,null,null,null,null,null,null,null,{"$f":"IF($O$6=1,\"Январь\",IF($O$6=2,\"Февраль\",IF($O$6=3,\"Март\",IF($O$6=4,\"Апрель\",IF($O$6=5,\"Май\",IF($O$6=6,\"Июнь\",IF($O$6=7,\"Июль\",IF($O$6=8,\"Август\",IF($O$6=9,\"Сентябрь\",IF($O$6=10,\"Октябрь\",IF($O$6=11,\"Ноябрь\",IF($O$6=12,\"Декабрь\"))))))))))))","v":"Октябрь"}]
[null,null,null,null,null,null,null,0,"Возвращает все дни"]
[null,null,null,null,null,null,null,1,"Убирает 31 день"]
[null,null,null,null,null,null,null,2,"Убирает 30 и 31 день"]
[null,null,null,null,null,null,null,3,"Убирает 29, 30 и 31 день"]

{"sheet":"Иванов","index":1,"n_rows":20,"n_cols":38,"rows_kept":20,"cut":false,"hidden":false,"merged":[[17,0,17,1],[17,35,17,36],[19,12,19,23],[16,0,16,1],[8,37,10,37],[12,37,14,37],[0,35,0,36],[1,3,2,3],[1,35,1,36],[0,30,0,34],[4,37,6,37],[0,0,0,1],[1,2,2,2],[1,0,1,1],[0,2,0,21],[0,22,0,29]]}
["Социальный работник                               ",null,"График работы социального работника ",null,null,null,null,null,null,null,null,null,null,null,null,null,null,null,null,null,null,null,{"$f":"IF(Лист1!$O$6=1,\"Январь\",IF(Лист1!$O$6=2,\"Февраль\",IF(Лист1!$O$6=3,\"Март\",IF(Лист1!$O$6=4,\"Апрель\",IF(Лист1!$O$6=5,\"Май\",IF(Лист1!$O$6=6,\"Июнь\",IF(Лист1!$O$6=7,\"Июль\",IF(Лист1!$O$6=8,\"Август\",IF(Лист1!$O$6=9,\"Сентябрь\",IF(Лист1!$O$6=10,\"Октябрь\",IF(Лист1!$O$6=11,\"Ноябрь\",IF(Лист1!$O$6=12,\"Декабрь\"))))))))))))","v":"Октябрь"},null,null,null,null,null,null,null,{"$f":"Лист1!S6","v":2021}]
[null,null,"время ","период",{"$f":"IFERROR(DATEVALUE(COLUMN()-COLUMN($D$2)&\".\"&Лист1!$O$6&\".\"&Лист1!$S$6),\" \")","v":"2021-10-01"},{"$f":"IFERROR(DATEVALUE(COLUMN()-COLUMN($D$2)&\".\"&Лист1!$O$6&\".\"&Лист1!$S$6),\" \")","v":"2021-10-02"},{"$f":"IFERROR(DATEVALUE(COLUMN()-COLUMN($D$2)&\".\"&Лист1!$O$6&\".\"&Лист1!$S$6),\" \")","v":"2021-10-03"},{"$f":"IFERROR(DATEVALUE(COLUMN()-COLUMN($D$2)&\".\"&Лист1!$O$6&\".\"&Лист1!$S$6),\" \")","v":"2021-10-04"},{"$f":"IFERROR(DATEVALUE(COLUMN()-COLUMN($D$2)&\".\"&Лист1!$O$6&\".\"&Лист1!$S$6),\" \")","v":"2021-10-05"},{"$f":"IFERROR(DATEVALUE(COLUMN()-COLUMN($D$2)&\".\"&Лист1!$O$6&\".\"&Лист1!$S$6),\" \")","v":"2021-10-06"},{"$f":"IFERROR(DATEVALUE(COLUMN()-COLUMN($D$2)&\".\"&Лист1!$O$6&\".\"&Лист1!$S$6),\" \")","v":"2021-10-07"},{"$f":"IFERROR(DATEVALUE(COLUMN()-COLUMN($D$2)&\".\"&Лист1!$O$6&\".\"&Лист1!$S$6),\" \")","v":"2021-10-08"},{"$f":"IFERROR(DATEVALUE(COLUMN()-COLUMN($D$2)&\".\"&Лист1!$O$6&\".\"&Лист1!$S$6),\" \")","v":"2021-10-09"},{"$f":"IFERROR(DATEVALUE(COLUMN()-COLUMN($D$2)&\".\"&Лист1!$O$6&\".\"&Лист1!$S$6),\" \")","v":"2021-10-10"},{"$f":"IFERROR(DATEVALUE(COLUMN()-COLUMN($D$2)&\".\"&Лист1!$O$6&\".\"&Лист1!$S$6),\" \")","v":"2021-10-11"},{"$f":"IFERROR(DATEVALUE(COLUMN()-COLUMN($D$2)&\".\"&Лист1!$O$6&\".\"&Лист1!$S$6),\" \")","v":"2021-10-12"},{"$f":"IFERROR(DATEVALUE(COLUMN()-COLUMN($D$2)&\".\"&Лист1!$O$6&\".\"&Лист1!$S$6),\" \")","v":"2021-10-13"},{"$f":"IFERROR(DATEVALUE(COLUMN()-COLUMN($D$2)&\".\"&Лист1!$O$6&\".\"&Лист1!$S$6),\" \")","v":"2021-10-14"},{"$f":"IFERROR(DATEVALUE(COLUMN()-COLUMN($D$2)&\".\"&Лист1!$O$6&\".\"&Лист1!$S$6),\" \")","v":"2021-10-15"},{"$f":"IFERROR(DATEVALUE(COLUMN()-COLUMN($D$2)&\".\"&Лист1!$O$6&\".\"&Лист1!$S$6),\" \")","v":"2021-10-16"},{"$f":"IFERROR(DATEVALUE(COLUMN()-COLUMN($D$2)&\".\"&Лист1!$O$6&\".\"&Лист1!$S$6),\" \")","v":"2021-10-17"},{"$f":"IFERROR(DATEVALUE(COLUMN()-COLUMN($D$2)&\".\"&Лист1!$O$6&\".\"&Лист1!$S$6),\" \")","v":"2021-10-18"},{"$f":"IFERROR(DATEVALUE(COLUMN()-COLUMN($D$2)&\".\"&Лист1!$O$6&\".\"&Лист1!$S$6),\" \")","v":"2021-10-19"},{"$f":"IFERROR(DATEVALUE(COLUMN()-COLUMN($D$2)&\".\"&Лист1!$O$6&\".\"&Лист1!$S$6),\" \")","v":"2021-10-20"},{"$f":"IFERROR(DATEVALUE(COLUMN()-COLUMN($D$2)&\".\"&Лист1!$O$6&\".\"&Лист1!$S$6),\" \")","v":"2021-10-21"},{"$f":"IFERROR(DATEVALUE(COLUMN()-COLUMN($D$2)&\".\"&Лист1!$O$6&\".\"&Лист1!$S$6),\" \")","v":"2021-10-22"},{"$f":"IFERROR(DATEVALUE(COLUMN()-COLUMN($D$2)&\".\"&Лист1!$O$6&\".\"&Лист1!$S$6),\" \")","v":"2021-10-23"},{"$f":"IFERROR(DATEVALUE(COLUMN()-COLUMN($D$2)&\".\"&Лист1!$O$6&\".\"&Лист1!$S$6),\" \")","v":"2021-10-24"},{"$f":"IFERROR(DATEVALUE(COLUMN()-COLUMN($D$2)&\".\"&Лист1!$O$6&\".\"&Лист1!$S$6),\" \")","v":"2021-10-25"},{"$f":"IFERROR(DATEVALUE(COLUMN()-COLUMN($D$2)&\".\"&Лист1!$O$6&\".\"&Лист1!$S$6),\" \")","v":"2021-10-26"},{"$f":"IFERROR(DATEVALUE(COLUMN()-COLUMN($D$2)&\".\"&Лист1!$O$6&\".\"&Лист1!$S$6),\" \")","v":"2021-10-27"},{"$f":"IFERROR(DATEVALUE(COLUMN()-COLUMN($D$2)&\".\"&Лист1!$O$6&\".\"&Лист1!$S$6),\" \")","v":"2021-10-28"},{"$f":"IFERROR(DATEVALUE(COLUMN()-COLUMN($D$2)&\".\"&Лист1!$O$6&\".\"&Лист1!$S$6),\" \")","v":"2021-10-29"},{"$f":"IFERROR(DATEVALUE(COLUMN()-COLUMN($D$2)&\".\"&Лист1!$O$6&\".\"&Лист1!$S$6),\" \")","v":"2021-10-30"},{"$f":"IFERROR(DATEVALUE(COLUMN()-COLUMN($D$2)&\".\"&Лист1!$O$6&\".\"&Лист1!$S$6),\" \")","v":"2021-10-31"},null,null,"Всего"]
["Дни посещений","Услуги",null,null,{"$f":"TEXT(E2,\"ддд\")","v":"Пт"},{"$f":"TEXT(F2,\"ддд\")","v":"Сб"},"Вс","Пн","Вт","Ср","Чт",{"$f":"TEXT(L2,\"ддд\")","v":"Пт"},"Сб","Вс","Пн","Вт","Ср","Чт","Пт","Сб","Вс","Пн","Вт","Ср","Чт","Пт","Сб","Вс","Пн","Вт","Ср","Чт","Пт","Сб","Вс","минут","услуг","услуг"]
["Иванов ","1 группа"]
["вт, чт","покупка продуктов",35,"2р/н",{"$f":"IF(IF(ISNUMBER(-MID(\" \"&$A5,SEARCH(E$3,\" \"&$A5)-2,1)),MID(\" \"&$A5,SEARCH(E$3,\" \"&$A5)-2,4)=COUNTIF($E$3:E$3,E$3)&\" \"&E$3,ISNUMBER(SEARCH(E$3,$A5))),$C5,\"\")","v":""},{"$f":"IF(IF(ISNUMBER(-MID(\" \"&$A5,SEARCH(F$3,\" \"&$A5)-2,1)),MID(\" \"&$A5,SEARCH(F$3,\" \"&$A5)-2,4)=COUNTIF($E$3:F$3,F$3)&\" \"&F$3,ISNUMBER(SEARCH(F$3,$A5))),$C5,\"\")","v":""},{"$f":"IF(IF(ISNUMBER(-MID(\" \"&$A5,SEARCH(G$3,\" \"&$A5)-2,1)),MID(\" \"&$A5,SEARCH(G$3,\" \"&$A5)-2,4)=COUNTIF($E$3:G$3,G$3)&\" \"&G$3,ISNUMBER(SEARCH(G$3,$A5))),$C5,\"\")","v":""},{"$f":"IF(IF(ISNUMBER(-MID(\" \"&$A5,SEARCH(H$3,\" \"&$A5)-2,1)),MID(\" \"&$A5,SEARCH(H$3,\" \"&$A5)-2,4)=COUNTIF($E$3:H$3,H$3)&\" \"&H$3,ISNUMBER(SEARCH(H$3,$A5))),$C5,\"\")","v":""},{"$f":"IF(IF(ISNUMBER(-MID(\" \"&$A5,SEARCH(I$3,\" \"&$A5)-2,1)),MID(\" \"&$A5,SEARCH(I$3,\" \"&$A5)-2,4)=COUNTIF($E$3:I$3,I$3)&\" \"&I$3,ISNUMBER(SEARCH(I$3,$A5))),$C5,\"\")","v":35},{"$f":"IF(IF(ISNUMBER(-MID(\" \"&$A5,SEARCH(J$3,\" \"&$A5)-2,1)),MID(\" \"&$A5,SEARCH(J$3,\" \"&$A5)-2,4)=COUNTIF($E$3:J$3,J$3)&\" \"&J$3,ISNUMBER(SEARCH(J$3,$A5))),$C5,\"\")","v":""},{"$f":"IF(IF(ISNUMBER(-MID(\" \"&$A5,SEARCH(K$3,\" \"&$A5)-2,1)),MID(\" \"&$A5,SEARCH(K$3,\" \"&$A5)-2,4)=COUNTIF($E$3:K$3,K$3)&\" \"&K$3,ISNUMBER(SEARCH(K$3,$A5))),$C5,\"\")","v":35},{"$f":"IF(IF(ISNUMBER(-MID(\" \"&$A5,SEARCH(L$3,\" \"&$A5)-2,1)),MID(\" \"&$A5,SEARCH(L$3,\" \"&$A5)-2,4)=COUNTIF($E$3:L$3,L$3)&\" \"&L$3,ISNUMBER(SEARCH(L$3,$A5))),$C5,\"\")","v":""},{"$f":"IF(IF(ISNUMBER(-MID(\" \"&$A5,SEARCH(M$3,\" \"&$A5)-2,1)),MID(\" \"&$A5,SEARCH(M$3,\" \"&$A5)-2,4)=COUNTIF($E$3:M$3,M$3)&\" \"&M$3,ISNUMBER(SEARCH(M$3,$A5))),$C5,\"\")","v":""},{"$f":"IF(IF(ISNUMBER(-MID(\" \"&$A5,SEARCH(N$3,\" \"&$A5)-2,1)),MID(\" \"&$A5,SEARCH(N$3,\" \"&$A5)-2,4)=COUNTIF($E$3:N$3,N$3)&\" \"&N$3,ISNUMBER(SEARCH(N$3,$A5))),$C5,\"\")","v":""},{"$f":"IF(IF(ISNUMBER(-MID(\" \"&$A5,SEARCH(O$3,\" \"&$A5)-2,1)),MID(\" \"&$A5,SEARCH(O$3,\" \"&$A5)-2,4)=COUNTIF($E$3:O$3,O$3)&\" \"&O$3,ISNUMBER(SEARCH(O$3,$A5))),$C5,\"\")","v":""},{"$f":"IF(IF(ISNUMBER(-MID(\" \"&$A5,SEARCH(P$3,\" \"&$A5)-2,1)),MID(\" \"&$A5,SEARCH(P$3,\" \"&$A5)-2,4)=COUNTIF($E$3:P$3,P$3)&\" \"&P$3,ISNUMBER(SEARCH(P$3,$A5))),$C5,\"\")","v":35},{"$f":"IF(IF(ISNUMBER(-MID(\" \"&$A5,SEARCH(Q$3,\" \"&$A5)-2,1)),MID(\" \"&$A5,SEARCH(Q$3,\" \"&$A5)-2,4)=COUNTIF($E$3:Q$3,Q$3)&\" \"&Q$3,ISNUMBER(SEARCH(Q$3,$A5))),$C5,\"\")","v":""},{"$f":"IF(IF(ISNUMBER(-MID(\" \"&$A5,SEARCH(R$3,\" \"&$A5)-2,1)),MID(\" \"&$A5,SEARCH(R$3,\" \"&$A5)-2,4)=COUNTIF($E$3:R$3,R$3)&\" \"&R$3,ISNUMBER(SEARCH(R$3,$A5))),$C5,\"\")","v":35},{"$f":"IF(IF(ISNUMBER(-MID(\" \"&$A5,SEARCH(S$3,\" \"&$A5)-2,1)),MID(\" \"&$A5,SEARCH(S$3,\" \"&$A5)-2,4)=COUNTIF($E$3:S$3,S$3)&\" \"&S$3,ISNUMBER(SEARCH(S$3,$A5))),$C5,\"\")","v":""},{"$f":"IF(IF(ISNUMBER(-MID(\" \"&$A5,SEARCH(T$3,\" \"&$A5)-2,1)),MID(\" \"&$A5,SEARCH(T$3,\" \"&$A5)-2,4)=COUNTIF($E$3:T$3,T$3)&\" \"&T$3,ISNUMBER(SEARCH(T$3,$A5))),$C5,\"\")","v":""},{"$f":"IF(IF(ISNUMBER(-MID(\" \"&$A5,SEARCH(U$3,\" \"&$A5)-2,1)),MID(\" \"&$A5,SEARCH(U$3,\" \"&$A5)-2,4)=COUNTIF($E$3:U$3,U$3)&\" \"&U$3,ISNUMBER(SEARCH(U$3,$A5))),$C5,\"\")","v":""},{"$f":"IF(IF(ISNUMBER(-MID(\" \"&$A5,SEARCH(V$3,\" \"&$A5)-2,1)),MID(\" \"&$A5,SEARCH(V$3,\" \"&$A5)-2,4)=COUNTIF($E$3:V$3,V$3)&\" \"&V$3,ISNUMBER(SEARCH(V$3,$A5))),$C5,\"\")","v":""},{"$f":"IF(IF(ISNUMBER(-MID(\" \"&$A5,SEARCH(W$3,\" \"&$A5)-2,1)),MID(\" \"&$A5,SEARCH(W$3,\" \"&$A5)-2,4)=COUNTIF($E$3:W$3,W$3)&\" \"&W$3,ISNUMBER(SEARCH(W$3,$A5))),$C5,\"\")","v":35},{"$f":"IF(IF(ISNUMBER(-MID(\" \"&$A5,SEARCH(X$3,\" \"&$A5)-2,1)),MID(\" \"&$A5,SEARCH(X$3,\" \"&$A5)-2,4)=COUNTIF($E$3:X$3,X$3)&\" \"&X$3,ISNUMBER(SEARCH(X$3,$A5))),$C5,\"\")","v":""},{"$f":"IF(IF(ISNUMBER(-MID(\" \"&$A5,SEARCH(Y$3,\" \"&$A5)-2,1)),MID(\" \"&$A5,SEARCH(Y$3,\" \"&$A5)-2,4)=COUNTIF($E$3:Y$3,Y$3)&\" \"&Y$3,ISNUMBER(SEARCH(Y$3,$A5))),$C5,\"\")","v":35},{"$f":"IF(IF(ISNUMBER(-MID(\" \"&$A5,SEARCH(Z$3,\" \"&$A5)-2,1)),MID(\" \"&$A5,SEARCH(Z$3,\" \"&$A5)-2,4)=COUNTIF($E$3:Z$3,Z$3)&\" \"&Z$3,ISNUMBER(SEARCH(Z$3,$A5))),$C5,\"\")","v":""},{"$f":"IF(IF(ISNUMBER(-MID(\" \"&$A5,SEARCH(AA$3,\" \"&$A5)-2,1)),MID(\" \"&$A5,SEARCH(AA$3,\" \"&$A5)-2,4)=COUNTIF($E$3:AA$3,AA$3)&\" \"&AA$3,ISNUMBER(SEARCH(AA$3,$A5))),$C5,\"\")","v":""},{"$f":"IF(IF(ISNUMBER(-MID(\" \"&$A5,SEARCH(AB$3,\" \"&$A5)-2,1)),MID(\" \"&$A5,SEARCH(AB$3,\" \"&$A5)-2,4)=COUNTIF($E$3:AB$3,AB$3)&\" \"&AB$3,ISNUMBER(SEARCH(AB$3,$A5))),$C5,\"\")","v":""},{"$f":"IF(IF(ISNUMBER(-MID(\" \"&$A5,SEARCH(AC$3,\" \"&$A5)-2,1)),MID(\" \"&$A5,SEARCH(AC$3,\" \"&$A5)-2,4)=COUNTIF($E$3:AC$3,AC$3)&\" \"&AC$3,ISNUMBER(SEARCH(AC$3,$A5))),$C5,\"\")","v":""},{"$f":"IF(IF(ISNUMBER(-MID(\" \"&$A5,SEARCH(AD$3,\" \"&$A5)-2,1)),MID(\" \"&$A5,SEARCH(AD$3,\" \"&$A5)-2,4)=COUNTIF($E$3:AD$3,AD$3)&\" \"&AD$3,ISNUMBER(SEARCH(AD$3,$A5))),$C5,\"\")","v":35},{"$f":"IF(IF(ISNUMBER(-MID(\" \"&$A5,SEARCH(AE$3,\" \"&$A5)-2,1)),MID(\" \"&$A5,SEARCH(AE$3,\" \"&$A5)-2,4)=COUNTIF($E$3:AE$3,AE$3)&\" \"&AE$3,ISNUMBER(SEARCH(AE$3,$A5))),$C5,\"\")","v":""},{"$f":"IF(IF(ISNUMBER(-MID(\" \"&$A5,SEARCH(AF$3,\" \"&$A5)-2,1)),MID(\" \"&$A5,SEARCH(AF$3,\" \"&$A5)-2,4)=COUNTIF($E$3:AF$3,AF$3)&\" \"&AF$3,ISNUMBER(SEARCH(AF$3,$A5))),$C5,\"\")","v":35},{"$f":"IF(IF(ISNUMBER(-MID(\" \"&$A5,SEARCH(AG$3,\" \"&$A5)-2,1)),MID(\" \"&$A5,SEARCH(AG$3,\" \"&$A5)-2,4)=COUNTIF($E$3:AG$3,AG$3)&\" \"&AG$3,ISNUMBER(SEARCH(AG$3,$A5))),$C5,\"\")","v":""},{"$f":"IF(IF(ISNUMBER(-MID(\" \"&$A5,SEARCH(AH$3,\" \"&$A5)-2,1)),MID(\" \"&$A5,SEARCH(AH$3,\" \"&$A5)-2,4)=COUNTIF($E$3:AH$3,AH$3)&\" \"&AH$3,ISNUMBER(SEARCH(AH$3,$A5))),$C5,\"\")","v":""},{"$f":"IF(IF(ISNUMBER(-MID(\" \"&$A5,SEARCH(AI$3,\" \"&$A5)-2,1)),MID(\" \"&$A5,SEARCH(AI$3,\" \"&$A5)-2,4)=COUNTIF($E$3:AI$3,AI$3)&\" \"&AI$3,ISNUMBER(SEARCH(AI$3,$A5))),$C5,\"\")","v":""},{"$f":"SUM(E5:INDEX(E5:AI5,31-Лист1!$I$6))","v":280},{"$f":"COUNT(E5:INDEX(E5:AI5,31-Лист1!$I$6))","v":8},{"$f":"SUM(AK5:AK7)","v":22}]
["пн, ср, пт"," помощь в приготовлении пищи",20,"2р/н",{"$f":"IF(IF(ISNUMBER(-MID(\" \"&$A6,SEARCH(E$3,\" \"&$A6)-2,1)),MID(\" \"&$A6,SEARCH(E$3,\" \"&$A6)-2,4)=COUNTIF($E$3:E$3,E$3)&\" \"&E$3,ISNUMBER(SEARCH(E$3,$A6))),$C6,\"\")","v":20},{"$f":"IF(IF(ISNUMBER(-MID(\" \"&$A6,SEARCH(F$3,\" \"&$A6)-2,1)),MID(\" \"&$A6,SEARCH(F$3,\" \"&$A6)-2,4)=COUNTIF($E$3:F$3,F$3)&\" \"&F$3,ISNUMBER(SEARCH(F$3,$A6))),$C6,\"\")","v":""},{"$f":"IF(IF(ISNUMBER(-MID(\" \"&$A6,SEARCH(G$3,\" \"&$A6)-2,1)),MID(\" \"&$A6,SEARCH(G$3,\" \"&$A6)-2,4)=COUNTIF($E$3:G$3,G$3)&\" \"&G$3,ISNUMBER(SEARCH(G$3,$A6))),$C6,\"\")","v":""},{"$f":"IF(IF(ISNUMBER(-MID(\" \"&$A6,SEARCH(H$3,\" \"&$A6)-2,1)),MID(\" \"&$A6,SEARCH(H$3,\" \"&$A6)-2,4)=COUNTIF($E$3:H$3,H$3)&\" \"&H$3,ISNUMBER(SEARCH(H$3,$A6))),$C6,\"\")","v":20},{"$f":"IF(IF(ISNUMBER(-MID(\" \"&$A6,SEARCH(I$3,\" \"&$A6)-2,1)),MID(\" \"&$A6,SEARCH(I$3,\" \"&$A6)-2,4)=COUNTIF($E$3:I$3,I$3)&\" \"&I$3,ISNUMBER(SEARCH(I$3,$A6))),$C6,\"\")","v":""},{"$f":"IF(IF(ISNUMBER(-MID(\" \"&$A6,SEARCH(J$3,\" \"&$A6)-2,1)),MID(\" \"&$A6,SEARCH(J$3,\" \"&$A6)-2,4)=COUNTIF($E$3:J$3,J$3)&\" \"&J$3,ISNUMBER(SEARCH(J$3,$A6))),$C6,\"\")","v":20},{"$f":"IF(IF(ISNUMBER(-MID(\" \"&$A6,SEARCH(K$3,\" \"&$A6)-2,1)),MID(\" \"&$A6,SEARCH(K$3,\" \"&$A6)-2,4)=COUNTIF($E$3:K$3,K$3)&\" \"&K$3,ISNUMBER(SEARCH(K$3,$A6))),$C6,\"\")","v":""},{"$f":"IF(IF(ISNUMBER(-MID(\" \"&$A6,SEARCH(L$3,\" \"&$A6)-2,1)),MID(\" \"&$A6,SEARCH(L$3,\" \"&$A6)-2,4)=COUNTIF($E$3:L$3,L$3)&\" \"&L$3,ISNUMBER(SEARCH(L$3,$A6))),$C6,\"\")","v":20},{"$f":"IF(IF(ISNUMBER(-MID(\" \"&$A6,SEARCH(M$3,\" \"&$A6)-2,1)),MID(\" \"&$A6,SEARCH(M$3,\" \"&$A6)-2,4)=COUNTIF($E$3:M$3,M$3)&\" \"&M$3,ISNUMBER(SEARCH(M$3,$A6))),$C6,\"\")","v":""},{"$f":"IF(IF(ISNUMBER(-MID(\" \"&$A6,SEARCH(N$3,\" \"&$A6)-2,1)),MID(\" \"&$A6,SEARCH(N$3,\" \"&$A6)-2,4)=COUNTIF($E$3:N$3,N$3)&\" \"&N$3,ISNUMBER(SEARCH(N$3,$A6))),$C6,\"\")","v":""},{"$f":"IF(IF(ISNUMBER(-MID(\" \"&$A6,SEARCH(O$3,\" \"&$A6)-2,1)),MID(\" \"&$A6,SEARCH(O$3,\" \"&$A6)-2,4)=COUNTIF($E$3:O$3,O$3)&\" \"&O$3,ISNUMBER(SEARCH(O$3,$A6))),$C6,\"\")","v":20},{"$f":"IF(IF(ISNUMBER(-MID(\" \"&$A6,SEARCH(P$3,\" \"&$A6)-2,1)),MID(\" \"&$A6,SEARCH(P$3,\" \"&$A6)-2,4)=COUNTIF($E$3:P$3,P$3)&\" \"&P$3,ISNUMBER(SEARCH(P$3,$A6))),$C6,\"\")","v":""},{"$f":"IF(IF(ISNUMBER(-MID(\" \"&$A6,SEARCH(Q$3,\" \"&$A6)-2,1)),MID(\" \"&$A6,SEARCH(Q$3,\" \"&$A6)-2,4)=COUNTIF($E$3:Q$3,Q$3)&\" \"&Q$3,ISNUMBER(SEARCH(Q$3,$A6))),$C6,\"\")","v":20},{"$f":"IF(IF(ISNUMBER(-MID(\" \"&$A6,SEARCH(R$3,\" \"&$A6)-2,1)),MID(\" \"&$A6,SEARCH(R$3,\" \"&$A6)-2,4)=COUNTIF($E$3:R$3,R$3)&\" \"&R$3,ISNUMBER(SEARCH(R$3,$A6))),$C6,\"\")","v":""},{"$f":"IF(IF(ISNUMBER(-MID(\" \"&$A6,SEARCH(S$3,\" \"&$A6)-2,1)),MID(\" \"&$A6,SEARCH(S$3,\" \"&$A6)-2,4)=COUNTIF($E$3:S$3,S$3)&\" \"&S$3,ISNUMBER(SEARCH(S$3,$A6))),$C6,\"\")","v":20},{"$f":"IF(IF(ISNUMBER(-MID(\" \"&$A6,SEARCH(T$3,\" \"&$A6)-2,1)),MID(\" \"&$A6,SEARCH(T$3,\" \"&$A6)-2,4)=COUNTIF($E$3:T$3,T$3)&\" \"&T$3,ISNUMBER(SEARCH(T$3,$A6))),$C6,\"\")","v":""},{"$f":"IF(IF(ISNUMBER(-MID(\" \"&$A6,SEARCH(U$3,\" \"&$A6)-2,1)),MID(\" \"&$A6,SEARCH(U$3,\" \"&$A6)-2,4)=COUNTIF($E$3:U$3,U$3)&\" \"&U$3,ISNUMBER(SEARCH(U$3,$A6))),$C6,\"\")","v":""},{"$f":"IF(IF(ISNUMBER(-MID(\" \"&$A6,SEARCH(V$3,\" \"&$A6)-2,1)),MID(\" \"&$A6,SEARCH(V$3,\" \"&$A6)-2,4)=COUNTIF($E$3:V$3,V$3)&\" \"&V$3,ISNUMBER(SEARCH(V$3,$A6))),$C6,\"\")","v":20},{"$f":"IF(IF(ISNUMBER(-MID(\" \"&$A6,SEARCH(W$3,\" \"&$A6)-2,1)),MID(\" \"&$A6,SEARCH(W$3,\" \"&$A6)-2,4)=COUNTIF($E$3:W$3,W$3)&\" \"&W$3,ISNUMBER(SEARCH(W$3,$A6))),$C6,\"\")","v":""},{"$f":"IF(IF(ISNUMBER(-MID(\" \"&$A6,SEARCH(X$3,\" \"&$A6)-2,1)),MID(\" \"&$A6,SEARCH(X$3,\" \"&$A6)-2,4)=COUNTIF($E$3:X$3,X$3)&\" \"&X$3,ISNUMBER(SEARCH(X$3,$A6))),$C6,\"\")","v":20},{"$f":"IF(IF(ISNUMBER(-MID(\" \"&$A6,SEARCH(Y$3,\" \"&$A6)-2,1)),MID(\" \"&$A6,SEARCH(Y$3,\" \"&$A6)-2,4)=COUNTIF($E$3:Y$3,Y$3)&\" \"&Y$3,ISNUMBER(SEARCH(Y$3,$A6))),$C6,\"\")","v":""},{"$f":"IF(IF(ISNUMBER(-MID(\" \"&$A6,SEARCH(Z$3,\" \"&$A6)-2,1)),MID(\" \"&$A6,SEARCH(Z$3,\" \"&$A6)-2,4)=COUNTIF($E$3:Z$3,Z$3)&\" \"&Z$3,ISNUMBER(SEARCH(Z$3,$A6))),$C6,\"\")","v":20},{"$f":"IF(IF(ISNUMBER(-MID(\" \"&$A6,SEARCH(AA$3,\" \"&$A6)-2,1)),MID(\" \"&$A6,SEARCH(AA$3,\" \"&$A6)-2,4)=COUNTIF($E$3:AA$3,AA$3)&\" \"&AA$3,ISNUMBER(SEARCH(AA$3,$A6))),$C6,\"\")","v":""},{"$f":"IF(IF(ISNUMBER(-MID(\" \"&$A6,SEARCH(AB$3,\" \"&$A6)-2,1)),MID(\" \"&$A6,SEARCH(AB$3,\" \"&$A6)-2,4)=COUNTIF($E$3:AB$3,AB$3)&\" \"&AB$3,ISNUMBER(SEARCH(AB$3,$A6))),$C6,\"\")","v":""},{"$f":"IF(IF(ISNUMBER(-MID(\" \"&$A6,SEARCH(AC$3,\" \"&$A6)-2,1)),MID(\" \"&$A6,SEARCH(AC$3,\" \"&$A6)-2,4)=COUNTIF($E$3:AC$3,AC$3)&\" \"&AC$3,ISNUMBER(SEARCH(AC$3,$A6))),$C6,\"\")","v":20},{"$f":"IF(IF(ISNUMBER(-MID(\" \"&$A6,SEARCH(AD$3,\" \"&$A6)-2,1)),MID(\" \"&$A6,SEARCH(AD$3,\" \"&$A6)-2,4)=COUNTIF($E$3:AD$3,AD$3)&\" \"&AD$3,ISNUMBER(SEARCH(AD$3,$A6))),$C6,\"\")","v":""},{"$f":"IF(IF(ISNUMBER(-MID(\" \"&$A6,SEARCH(AE$3,\" \"&$A6)-2,1)),MID(\" \"&$A6,SEARCH(AE$3,\" \"&$A6)-2,4)=COUNTIF($E$3:AE$3,AE$3)&\" \"&AE$3,ISNUMBER(SEARCH(AE$3,$A6))),$C6,\"\")","v":20},{"$f":"IF(IF(ISNUMBER(-MID(\" \"&$A6,SEARCH(AF$3,\" \"&$A6)-2,1)),MID(\" \"&$A6,SEARCH(AF$3,\" \"&$A6)-2,4)=COUNTIF($E$3:AF$3,AF$3)&\" \"&AF$3,ISNUMBER(SEARCH(AF$3,$A6))),$C6,\"\")","v":""},{"$f":"IF(IF(ISNUMBER(-MID(\" \"&$A6,SEARCH(AG$3,\" \"&$A6)-2,1)),MID(\" \"&$A6,SEARCH(AG$3,\" \"&$A6)-2,4)=COUNTIF($E$3:AG$3,AG$3)&\" \"&AG$3,ISNUMBER(SEARCH(AG$3,$A6))),$C6,\"\")","v":20},{"$f":"IF(IF(ISNUMBER(-MID(\" \"&$A6,SEARCH(AH$3,\" \"&$A6)-2,1)),MID(\" \"&$A6,SEARCH(AH$3,\" \"&$A6)-2,4)=COUNTIF($E$3:AH$3,AH$3)&\" \"&AH$3,ISNUMBER(SEARCH(AH$3,$A6))),$C6,\"\")","v":""},{"$f":"IF(IF(ISNUMBER(-MID(\" \"&$A6,SEARCH(AI$3,\" \"&$A6)-2,1)),MID(\" \"&$A6,SEARCH(AI$3,\" \"&$A6)-2,4)=COUNTIF($E$3:AI$3,AI$3)&\" \"&AI$3,ISNUMBER(SEARCH(AI$3,$A6))),$C6,\"\")","v":""},{"$f":"SUM(E6:INDEX(E6:AI6,31-Лист1!$I$6))","v":260},{"$f":"COUNT(E6:INDEX(E6:AI6,31-Лист1!$I$6))","v":13}]
["1 пн","оплата ЖКУ ",15,"1р/м",{"$f":"IF(IF(ISNUMBER(-MID(\" \"&$A7,SEARCH(E$3,\" \"&$A7)-2,1)),MID(\" \"&$A7,SEARCH(E$3,\" \"&$A7)-2,4)=COUNTIF($E$3:E$3,E$3)&\" \"&E$3,ISNUMBER(SEARCH(E$3,$A7))),$C7,\"\")","v":""},{"$f":"IF(IF(ISNUMBER(-MID(\" \"&$A7,SEARCH(F$3,\" \"&$A7)-2,1)),MID(\" \"&$A7,SEARCH(F$3,\" \"&$A7)-2,4)=COUNTIF($E$3:F$3,F$3)&\" \"&F$3,ISNUMBER(SEARCH(F$3,$A7))),$C7,\"\")","v":""},{"$f":"IF(IF(ISNUMBER(-MID(\" \"&$A7,SEARCH(G$3,\" \"&$A7)-2,1)),MID(\" \"&$A7,SEARCH(G$3,\" \"&$A7)-2,4)=COUNTIF($E$3:G$3,G$3)&\" \"&G$3,ISNUMBER(SEARCH(G$3,$A7))),$C7,\"\")","v":""},{"$f":"IF(IF(ISNUMBER(-MID(\" \"&$A7,SEARCH(H$3,\" \"&$A7)-2,1)),MID(\" \"&$A7,SEARCH(H$3,\" \"&$A7)-2,4)=COUNTIF($E$3:H$3,H$3)&\" \"&H$3,ISNUMBER(SEARCH(H$3,$A7))),$C7,\"\")","v":15},{"$f":"IF(IF(ISNUMBER(-MID(\" \"&$A7,SEARCH(I$3,\" \"&$A7)-2,1)),MID(\" \"&$A7,SEARCH(I$3,\" \"&$A7)-2,4)=COUNTIF($E$3:I$3,I$3)&\" \"&I$3,ISNUMBER(SEARCH(I$3,$A7))),$C7,\"\")","v":""},{"$f":"IF(IF(ISNUMBER(-MID(\" \"&$A7,SEARCH(J$3,\" \"&$A7)-2,1)),MID(\" \"&$A7,SEARCH(J$3,\" \"&$A7)-2,4)=COUNTIF($E$3:J$3,J$3)&\" \"&J$3,ISNUMBER(SEARCH(J$3,$A7))),$C7,\"\")","v":""},{"$f":"IF(IF(ISNUMBER(-MID(\" \"&$A7,SEARCH(K$3,\" \"&$A7)-2,1)),MID(\" \"&$A7,SEARCH(K$3,\" \"&$A7)-2,4)=COUNTIF($E$3:K$3,K$3)&\" \"&K$3,ISNUMBER(SEARCH(K$3,$A7))),$C7,\"\")","v":""},{"$f":"IF(IF(ISNUMBER(-MID(\" \"&$A7,SEARCH(L$3,\" \"&$A7)-2,1)),MID(\" \"&$A7,SEARCH(L$3,\" \"&$A7)-2,4)=COUNTIF($E$3:L$3,L$3)&\" \"&L$3,ISNUMBER(SEARCH(L$3,$A7))),$C7,\"\")","v":""},{"$f":"IF(IF(ISNUMBER(-MID(\" \"&$A7,SEARCH(M$3,\" \"&$A7)-2,1)),MID(\" \"&$A7,SEARCH(M$3,\" \"&$A7)-2,4)=COUNTIF($E$3:M$3,M$3)&\" \"&M$3,ISNUMBER(SEARCH(M$3,$A7))),$C7,\"\")","v":""},{"$f":"IF(IF(ISNUMBER(-MID(\" \"&$A7,SEARCH(N$3,\" \"&$A7)-2,1)),MID(\" \"&$A7,SEARCH(N$3,\" \"&$A7)-2,4)=COUNTIF($E$3:N$3,N$3)&\" \"&N$3,ISNUMBER(SEARCH(N$3,$A7))),$C7,\"\")","v":""},{"$f":"IF(IF(ISNUMBER(-MID(\" \"&$A7,SEARCH(O$3,\" \"&$A7)-2,1)),MID(\" \"&$A7,SEARCH(O$3,\" \"&$A7)-2,4)=COUNTIF($E$3:O$3,O$3)&\" \"&O$3,ISNUMBER(SEARCH(O$3,$A7))),$C7,\"\")","v":""},{"$f":"IF(IF(ISNUMBER(-MID(\" \"&$A7,SEARCH(P$3,\" \"&$A7)-2,1)),MID(\" \"&$A7,SEARCH(P$3,\" \"&$A7)-2,4)=COUNTIF($E$3:P$3,P$3)&\" \"&P$3,ISNUMBER(SEARCH(P$3,$A7))),$C7,\"\")","v":""},{"$f":"IF(IF(ISNUMBER(-MID(\" \"&$A7,SEARCH(Q$3,\" \"&$A7)-2,1)),MID(\" \"&$A7,SEARCH(Q$3,\" \"&$A7)-2,4)=COUNTIF($E$3:Q$3,Q$3)&\" \"&Q$3,ISNUMBER(SEARCH(Q$3,$A7))),$C7,\"\")","v":""},{"$f":"IF(IF(ISNUMBER(-MID(\" \"&$A7,SEARCH(R$3,\" \"&$A7)-2,1)),MID(\" \"&$A7,SEARCH(R$3,\" \"&$A7)-2,4)=COUNTIF($E$3:R$3,R$3)&\" \"&R$3,ISNUMBER(SEARCH(R$3,$A7))),$C7,\"\")","v":""},{"$f":"IF(IF(ISNUMBER(-MID(\" \"&$A7,SEARCH(S$3,\" \"&$A7)-2,1)),MID(\" \"&$A7,SEARCH(S$3,\" \"&$A7)-2,4)=COUNTIF($E$3:S$3,S$3)&\" \"&S$3,ISNUMBER(SEARCH(S$3,$A7))),$C7,\"\")","v":""},{"$f":"IF(IF(ISNUMBER(-MID(\" \"&$A7,SEARCH(T$3,\" \"&$A7)-2,1)),MID(\" \"&$A7,SEARCH(T$3,\" \"&$A7)-2,4)=COUNTIF($E$3:T$3,T$3)&\" \"&T$3,ISNUMBER(SEARCH(T$3,$A7))),$C7,\"\")","v":""},{"$f":"IF(IF(ISNUMBER(-MID(\" \"&$A7,SEARCH(U$3,\" \"&$A7)-2,1)),MID(\" \"&$A7,SEARCH(U$3,\" \"&$A7)-2,4)=COUNTIF($E$3:U$3,U$3)&\" \"&U$3,ISNUMBER(SEARCH(U$3,$A7))),$C7,\"\")","v":""},{"$f":"IF(IF(ISNUMBER(-MID(\" \"&$A7,SEARCH(V$3,\" \"&$A7)-2,1)),MID(\" \"&$A7,SEARCH(V$3,\" \"&$A7)-2,4)=COUNTIF($E$3:V$3,V$3)&\" \"&V$3,ISNUMBER(SEARCH(V$3,$A7))),$C7,\"\")","v":""},{"$f":"IF(IF(ISNUMBER(-MID(\" \"&$A7,SEARCH(W$3,\" \"&$A7)-2,1)),MID(\" \"&$A7,SEARCH(W$3,\" \"&$A7)-2,4)=COUNTIF($E$3:W$3,W$3)&\" \"&W$3,ISNUMBER(SEARCH(W$3,$A7))),$C7,\"\")","v":""},{"$f":"IF(IF(ISNUMBER(-MID(\" \"&$A7,SEARCH(X$3,\" \"&$A7)-2,1)),MID(\" \"&$A7,SEARCH(X$3,\" \"&$A7)-2,4)=COUNTIF($E$3:X$3,X$3)&\" \"&X$3,ISNUMBER(SEARCH(X$3,$A7))),$C7,\"\")","v":""},{"$f":"IF(IF(ISNUMBER(-MID(\" \"&$A7,SEARCH(Y$3,\" \"&$A7)-2,1)),MID(\" \"&$A7,SEARCH(Y$3,\" \"&$A7)-2,4)=COUNTIF($E$3:Y$3,Y$3)&\" \"&Y$3,ISNUMBER(SEARCH(Y$3,$A7))),$C7,\"\")","v":""},{"$f":"IF(IF(ISNUMBER(-MID(\" \"&$A7,SEARCH(Z$3,\" \"&$A7)-2,1)),MID(\" \"&$A7,SEARCH(Z$3,\" \"&$A7)-2,4)=COUNTIF($E$3:Z$3,Z$3)&\" \"&Z$3,ISNUMBER(SEARCH(Z$3,$A7))),$C7,\"\")","v":""},{"$f":"IF(IF(ISNUMBER(-MID(\" \"&$A7,SEARCH(AA$3,\" \"&$A7)-2,1)),MID(\" \"&$A7,SEARCH(AA$3,\" \"&$A7)-2,4)=COUNTIF($E$3:AA$3,AA$3)&\" \"&AA$3,ISNUMBER(SEARCH(AA$3,$A7))),$C7,\"\")","v":""},{"$f":"IF(IF(ISNUMBER(-MID(\" \"&$A7,SEARCH(AB$3,\" \"&$A7)-2,1)),MID(\" \"&$A7,SEARCH(AB$3,\" \"&$A7)-2,4)=COUNTIF($E$3:AB$3,AB$3)&\" \"&AB$3,ISNUMBER(SEARCH(AB$3,$A7))),$C7,\"\")","v":""},{"$f":"IF(IF(ISNUMBER(-MID(\" \"&$A7,SEARCH(AC$3,\" \"&$A7)-2,1)),MID(\" \"&$A7,SEARCH(AC$3,\" \"&$A7)-2,4)=COUNTIF($E$3:AC$3,AC$3)&\" \"&AC$3,ISNUMBER(SEARCH(AC$3,$A7))),$C7,\"\")","v":""},{"$f":"IF(IF(ISNUMBER(-MID(\" \"&$A7,SEARCH(AD$3,\" \"&$A7)-2,1)),MID(\" \"&$A7,SEARCH(AD$3,\" \"&$A7)-2,4)=COUNTIF($E$3:AD$3,AD$3)&\" \"&AD$3,ISNUMBER(SEARCH(AD$3,$A7))),$C7,\"\")","v":""},{"$f":"IF(IF(ISNUMBER(-MID(\" \"&$A7,SEARCH(AE$3,\" \"&$A7)-2,1)),MID(\" \"&$A7,SEARCH(AE$3,\" \"&$A7)-2,4)=COUNTIF($E$3:AE$3,AE$3)&\" \"&AE$3,ISNUMBER(SEARCH(AE$3,$A7))),$C7,\"\")","v":""},{"$f":"IF(IF(ISNUMBER(-MID(\" \"&$A7,SEARCH(AF$3,\" \"&$A7)-2,1)),MID(\" \"&$A7,SEARCH(AF$3,\" \"&$A7)-2,4)=COUNTIF($E$3:AF$3,AF$3)&\" \"&AF$3,ISNUMBER(SEARCH(AF$3,$A7))),$C7,\"\")","v":""},{"$f":"IF(IF(ISNUMBER(-MID(\" \"&$A7,SEARCH(AG$3,\" \"&$A7)-2,1)),MID(\" \"&$A7,SEARCH(AG$3,\" \"&$A7)-2,4)=COUNTIF($E$3:AG$3,AG$3)&\" \"&AG$3,ISNUMBER(SEARCH(AG$3,$A7))),$C7,\"\")","v":""},{"$f":"IF(IF(ISNUMBER(-MID(\" \"&$A7,SEARCH(AH$3,\" \"&$A7)-2,1)),MID(\" \"&$A7,SEARCH(AH$3,\" \"&$A7)-2,4)=COUNTIF($E$3:AH$3,AH$3)&\" \"&AH$3,ISNUMBER(SEARCH(AH$3,$A7))),$C7,\"\")","v":""},{"$f":"IF(IF(ISNUMBER(-MID(\" \"&$A7,SEARCH(AI$3,\" \"&$A7)-2,1)),MID(\" \"&$A7,SEARCH(AI$3,\" \"&$A7)-2,4)=COUNTIF($E$3:AI$3,AI$3)&\" \"&AI$3,ISNUMBER(SEARCH(AI$3,$A7))),$C7,\"\")","v":""},{"$f":"SUM(E7:INDEX(E7:AI7,31-Лист1!$I$6))","v":15},{"$f":"COUNT(E7:INDEX(E7:AI7,31-Лист1!$I$6))","v":1}]
["Петров","2 группа"]
["пн, чт","покупка продуктов",35,"2р/н",{"$f":"IF(IF(ISNUMBER(-MID(\" \"&$A9,SEARCH(E$3,\" \"&$A9)-2,1)),MID(\" \"&$A9,SEARCH(E$3,\" \"&$A9)-2,4)=COUNTIF($E$3:E$3,E$3)&\" \"&E$3,ISNUMBER(SEARCH(E$3,$A9))),$C9,\"\")","v":""},{"$f":"IF(IF(ISNUMBER(-MID(\" \"&$A9,SEARCH(F$3,\" \"&$A9)-2,1)),MID(\" \"&$A9,SEARCH(F$3,\" \"&$A9)-2,4)=COUNTIF($E$3:F$3,F$3)&\" \"&F$3,ISNUMBER(SEARCH(F$3,$A9))),$C9,\"\")","v":""},{"$f":"IF(IF(ISNUMBER(-MID(\" \"&$A9,SEARCH(G$3,\" \"&$A9)-2,1)),MID(\" \"&$A9,SEARCH(G$3,\" \"&$A9)-2,4)=COUNTIF($E$3:G$3,G$3)&\" \"&G$3,ISNUMBER(SEARCH(G$3,$A9))),$C9,\"\")","v":""},{"$f":"IF(IF(ISNUMBER(-MID(\" \"&$A9,SEARCH(H$3,\" \"&$A9)-2,1)),MID(\" \"&$A9,SEARCH(H$3,\" \"&$A9)-2,4)=COUNTIF($E$3:H$3,H$3)&\" \"&H$3,ISNUMBER(SEARCH(H$3,$A9))),$C9,\"\")","v":35},{"$f":"IF(IF(ISNUMBER(-MID(\" \"&$A9,SEARCH(I$3,\" \"&$A9)-2,1)),MID(\" \"&$A9,SEARCH(I$3,\" \"&$A9)-2,4)=COUNTIF($E$3:I$3,I$3)&\" \"&I$3,ISNUMBER(SEARCH(I$3,$A9))),$C9,\"\")","v":""},{"$f":"IF(IF(ISNUMBER(-MID(\" \"&$A9,SEARCH(J$3,\" \"&$A9)-2,1)),MID(\" \"&$A9,SEARCH(J$3,\" \"&$A9)-2,4)=COUNTIF($E$3:J$3,J$3)&\" \"&J$3,ISNUMBER(SEARCH(J$3,$A9))),$C9,\"\")","v":""},{"$f":"IF(IF(ISNUMBER(-MID(\" \"&$A9,SEARCH(K$3,\" \"&$A9)-2,1)),MID(\" \"&$A9,SEARCH(K$3,\" \"&$A9)-2,4)=COUNTIF($E$3:K$3,K$3)&\" \"&K$3,ISNUMBER(SEARCH(K$3,$A9))),$C9,\"\")","v":35},{"$f":"IF(IF(ISNUMBER(-MID(\" \"&$A9,SEARCH(L$3,\" \"&$A9)-2,1)),MID(\" \"&$A9,SEARCH(L$3,\" \"&$A9)-2,4)=COUNTIF($E$3:L$3,L$3)&\" \"&L$3,ISNUMBER(SEARCH(L$3,$A9))),$C9,\"\")","v":""},{"$f":"IF(IF(ISNUMBER(-MID(\" \"&$A9,SEARCH(M$3,\" \"&$A9)-2,1)),MID(\" \"&$A9,SEARCH(M$3,\" \"&$A9)-2,4)=COUNTIF($E$3:M$3,M$3)&\" \"&M$3,ISNUMBER(SEARCH(M$3,$A9))),$C9,\"\")","v":""},{"$f":"IF(IF(ISNUMBER(-MID(\" \"&$A9,SEARCH(N$3,\" \"&$A9)-2,1)),MID(\" \"&$A9,SEARCH(N$3,\" \"&$A9)-2,4)=COUNTIF($E$3:N$3,N$3)&\" \"&N$3,ISNUMBER(SEARCH(N$3,$A9))),$C9,\"\")","v":""},{"$f":"IF(IF(ISNUMBER(-MID(\" \"&$A9,SEARCH(O$3,\" \"&$A9)-2,1)),MID(\" \"&$A9,SEARCH(O$3,\" \"&$A9)-2,4)=COUNTIF($E$3:O$3,O$3)&\" \"&O$3,ISNUMBER(SEARCH(O$3,$A9))),$C9,\"\")","v":35},{"$f":"IF(IF(ISNUMBER(-MID(\" \"&$A9,SEARCH(P$3,\" \"&$A9)-2,1)),MID(\" \"&$A9,SEARCH(P$3,\" \"&$A9)-2,4)=COUNTIF($E$3:P$3,P$3)&\" \"&P$3,ISNUMBER(SEARCH(P$3,$A9))),$C9,\"\")","v":""},{"$f":"IF(IF(ISNUMBER(-MID(\" \"&$A9,SEARCH(Q$3,\" \"&$A9)-2,1)),MID(\" \"&$A9,SEARCH(Q$3,\" \"&$A9)-2,4)=COUNTIF($E$3:Q$3,Q$3)&\" \"&Q$3,ISNUMBER(SEARCH(Q$3,$A9))),$C9,\"\")","v":""},{"$f":"IF(IF(ISNUMBER(-MID(\" \"&$A9,SEARCH(R$3,\" \"&$A9)-2,1)),MID(\" \"&$A9,SEARCH(R$3,\" \"&$A9)-2,4)=COUNTIF($E$3:R$3,R$3)&\" \"&R$3,ISNUMBER(SEARCH(R$3,$A9))),$C9,\"\")","v":35},{"$f":"IF(IF(ISNUMBER(-MID(\" \"&$A9,SEARCH(S$3,\" \"&$A9)-2,1)),MID(\" \"&$A9,SEARCH(S$3,\" \"&$A9)-2,4)=COUNTIF($E$3:S$3,S$3)&\" \"&S$3,ISNUMBER(SEARCH(S$3,$A9))),$C9,\"\")","v":""},{"$f":"IF(IF(ISNUMBER(-MID(\" \"&$A9,SEARCH(T$3,\" \"&$A9)-2,1)),MID(\" \"&$A9,SEARCH(T$3,\" \"&$A9)-2,4)=COUNTIF($E$3:T$3,T$3)&\" \"&T$3,ISNUMBER(SEARCH(T$3,$A9))),$C9,\"\")","v":""},{"$f":"IF(IF(ISNUMBER(-MID(\" \"&$A9,SEARCH(U$3,\" \"&$A9)-2,1)),MID(\" \"&$A9,SEARCH(U$3,\" \"&$A9)-2,4)=COUNTIF($E$3:U$3,U$3)&\" \"&U$3,ISNUMBER(SEARCH(U$3,$A9))),$C9,\"\")","v":""},{"$f":"IF(IF(ISNUMBER(-MID(\" \"&$A9,SEARCH(V$3,\" \"&$A9)-2,1)),MID(\" \"&$A9,SEARCH(V$3,\" \"&$A9)-2,4)=COUNTIF($E$3:V$3,V$3)&\" \"&V$3,ISNUMBER(SEARCH(V$3,$A9))),$C9,\"\")","v":35},{"$f":"IF(IF(ISNUMBER(-MID(\" \"&$A9,SEARCH(W$3,\" \"&$A9)-2,1)),MID(\" \"&$A9,SEARCH(W$3,\" \"&$A9)-2,4)=COUNTIF($E$3:W$3,W$3)&\" \"&W$3,ISNUMBER(SEARCH(W$3,$A9))),$C9,\"\")","v":""},{"$f":"IF(IF(ISNUMBER(-MID(\" \"&$A9,SEARCH(X$3,\" \"&$A9)-2,1)),MID(\" \"&$A9,SEARCH(X$3,\" \"&$A9)-2,4)=COUNTIF($E$3:X$3,X$3)&\" \"&X$3,ISNUMBER(SEARCH(X$3,$A9))),$C9,\"\")","v":""},{"$f":"IF(IF(ISNUMBER(-MID(\" \"&$A9,SEARCH(Y$3,\" \"&$A9)-2,1)),MID(\" \"&$A9,SEARCH(Y$3,\" \"&$A9)-2,4)=COUNTIF($E$3:Y$3,Y$3)&\" \"&Y$3,ISNUMBER(SEARCH(Y$3,$A9))),$C9,\"\")","v":35},{"$f":"IF(IF(ISNUMBER(-MID(\" \"&$A9,SEARCH(Z$3,\" \"&$A9)-2,1)),MID(\" \"&$A9,SEARCH(Z$3,\" \"&$A9)-2,4)=COUNTIF($E$3:Z$3,Z$3)&\" \"&Z$3,ISNUMBER(SEARCH(Z$3,$A9))),$C9,\"\")","v":""},{"$f":"IF(IF(ISNUMBER(-MID(\" \"&$A9,SEARCH(AA$3,\" \"&$A9)-2,1)),MID(\" \"&$A9,SEARCH(AA$3,\" \"&$A9)-2,4)=COUNTIF($E$3:AA$3,AA$3)&\" \"&AA$3,ISNUMBER(SEARCH(AA$3,$A9))),$C9,\"\")","v":""},{"$f":"IF(IF(ISNUMBER(-MID(\" \"&$A9,SEARCH(AB$3,\" \"&$A9)-2,1)),MID(\" \"&$A9,SEARCH(AB$3,\" \"&$A9)-2,4)=COUNTIF($E$3:AB$3,AB$3)&\" \"&AB$3,ISNUMBER(SEARCH(AB$3,$A9))),$C9,\"\")","v":""},{"$f":"IF(IF(ISNUMBER(-MID(\" \"&$A9,SEARCH(AC$3,\" \"&$A9)-2,1)),MID(\" \"&$A9,SEARCH(AC$3,\" \"&$A9)-2,4)=COUNTIF($E$3:AC$3,AC$3)&\" \"&AC$3,ISNUMBER(SEARCH(AC$3,$A9))),$C9,\"\")","v":35},{"$f":"IF(IF(ISNUMBER(-MID(\" \"&$A9,SEARCH(AD$3,\" \"&$A9)-2,1)),MID(\" \"&$A9,SEARCH(AD$3,\" \"&$A9)-2,4)=COUNTIF($E$3:AD$3,AD$3)&\" \"&AD$3,ISNUMBER(SEARCH(AD$3,$A9))),$C9,\"\")","v":""},{"$f":"IF(IF(ISNUMBER(-MID(\" \"&$A9,SEARCH(AE$3,\" \"&$A9)-2,1)),MID(\" \"&$A9,SEARCH(AE$3,\" \"&$A9)-2,4)=COUNTIF($E$3:AE$3,AE$3)&\" \"&AE$3,ISNUMBER(SEARCH(AE$3,$A9))),$C9,\"\")","v":""},{"$f":"IF(IF(ISNUMBER(-MID(\" \"&$A9,SEARCH(AF$3,\" \"&$A9)-2,1)),MID(\" \"&$A9,SEARCH(AF$3,\" \"&$A9)-2,4)=COUNTIF($E$3:AF$3,AF$3)&\" \"&AF$3,ISNUMBER(SEARCH(AF$3,$A9))),$C9,\"\")","v":35},{"$f":"IF(IF(ISNUMBER(-MID(\" \"&$A9,SEARCH(AG$3,\" \"&$A9)-2,1)),MID(\" \"&$A9,SEARCH(AG$3,\" \"&$A9)-2,4)=COUNTIF($E$3:AG$3,AG$3)&\" \"&AG$3,ISNUMBER(SEARCH(AG$3,$A9))),$C9,\"\")","v":""},{"$f":"IF(IF(ISNUMBER(-MID(\" \"&$A9,SEARCH(AH$3,\" \"&$A9)-2,1)),MID(\" \"&$A9,SEARCH(AH$3,\" \"&$A9)-2,4)=COUNTIF($E$3:AH$3,AH$3)&\" \"&AH$3,ISNUMBER(SEARCH(AH$3,$A9))),$C9,\"\")","v":""},{"$f":"IF(IF(ISNUMBER(-MID(\" \"&$A9,SEARCH(AI$3,\" \"&$A9)-2,1)),MID(\" \"&$A9,SEARCH(AI$3,\" \"&$A9)-2,4)=COUNTIF($E$3:AI$3,AI$3)&\" \"&AI$3,ISNUMBER(SEARCH(AI$3,$A9))),$C9,\"\")","v":""},{"$f":"SUM(E9:INDEX(E9:AI9,31-Лист1!$I$6))","v":280},{"$f":"COUNT(E9:INDEX(E9:AI9,31-Лист1!$I$6))","v":8},{"$f":"SUM(AK9:AK11)","v":21}]
["вт,ср,чт"," помощь в приготовлении пищи",20,"2р/н",{"$f":"IF(IF(ISNUMBER(-MID(\" \"&$A10,SEARCH(E$3,\" \"&$A10)-2,1)),MID(\" \"&$A10,SEARCH(E$3,\" \"&$A10)-2,4)=COUNTIF($E$3:E$3,E$3)&\" \"&E$3,ISNUMBER(SEARCH(E$3,$A10))),$C10,\"\")","v":""},{"$f":"IF(IF(ISNUMBER(-MID(\" \"&$A10,SEARCH(F$3,\" \"&$A10)-2,1)),MID(\" \"&$A10,SEARCH(F$3,\" \"&$A10)-2,4)=COUNTIF($E$3:F$3,F$3)&\" \"&F$3,ISNUMBER(SEARCH(F$3,$A10))),$C10,\"\")","v":""},{"$f":"IF(IF(ISNUMBER(-MID(\" \"&$A10,SEARCH(G$3,\" \"&$A10)-2,1)),MID(\" \"&$A10,SEARCH(G$3,\" \"&$A10)-2,4)=COUNTIF($E$3:G$3,G$3)&\" \"&G$3,ISNUMBER(SEARCH(G$3,$A10))),$C10,\"\")","v":""},{"$f":"IF(IF(ISNUMBER(-MID(\" \"&$A10,SEARCH(H$3,\" \"&$A10)-2,1)),MID(\" \"&$A10,SEARCH(H$3,\" \"&$A10)-2,4)=COUNTIF($E$3:H$3,H$3)&\" \"&H$3,ISNUMBER(SEARCH(H$3,$A10))),$C10,\"\")","v":""},{"$f":"IF(IF(ISNUMBER(-MID(\" \"&$A10,SEARCH(I$3,\" \"&$A10)-2,1)),MID(\" \"&$A10,SEARCH(I$3,\" \"&$A10)-2,4)=COUNTIF($E$3:I$3,I$3)&\" \"&I$3,ISNUMBER(SEARCH(I$3,$A10))),$C10,\"\")","v":20},{"$f":"IF(IF(ISNUMBER(-MID(\" \"&$A10,SEARCH(J$3,\" \"&$A10)-2,1)),MID(\" \"&$A10,SEARCH(J$3,\" \"&$A10)-2,4)=COUNTIF($E$3:J$3,J$3)&\" \"&J$3,ISNUMBER(SEARCH(J$3,$A10))),$C10,\"\")","v":20},{"$f":"IF(IF(ISNUMBER(-MID(\" \"&$A10,SEARCH(K$3,\" \"&$A10)-2,1)),MID(\" \"&$A10,SEARCH(K$3,\" \"&$A10)-2,4)=COUNTIF($E$3:K$3,K$3)&\" \"&K$3,ISNUMBER(SEARCH(K$3,$A10))),$C10,\"\")","v":20},{"$f":"IF(IF(ISNUMBER(-MID(\" \"&$A10,SEARCH(L$3,\" \"&$A10)-2,1)),MID(\" \"&$A10,SEARCH(L$3,\" \"&$A10)-2,4)=COUNTIF($E$3:L$3,L$3)&\" \"&L$3,ISNUMBER(SEARCH(L$3,$A10))),$C10,\"\")","v":""},{"$f":"IF(IF(ISNUMBER(-MID(\" \"&$A10,SEARCH(M$3,\" \"&$A10)-2,1)),MID(\" \"&$A10,SEARCH(M$3,\" \"&$A10)-2,4)=COUNTIF($E$3:M$3,M$3)&\" \"&M$3,ISNUMBER(SEARCH(M$3,$A10))),$C10,\"\")","v":""},{"$f":"IF(IF(ISNUMBER(-MID(\" \"&$A10,SEARCH(N$3,\" \"&$A10)-2,1)),MID(\" \"&$A10,SEARCH(N$3,\" \"&$A10)-2,4)=COUNTIF($E$3:N$3,N$3)&\" \"&N$3,ISNUMBER(SEARCH(N$3,$A10))),$C10,\"\")","v":""},{"$f":"IF(IF(ISNUMBER(-MID(\" \"&$A10,SEARCH(O$3,\" \"&$A10)-2,1)),MID(\" \"&$A10,SEARCH(O$3,\" \"&$A10)-2,4)=COUNTIF($E$3:O$3,O$3)&\" \"&O$3,ISNUMBER(SEARCH(O$3,$A10))),$C10,\"\")","v":""},{"$f":"IF(IF(ISNUMBER(-MID(\" \"&$A10,SEARCH(P$3,\" \"&$A10)-2,1)),MID(\" \"&$A10,SEARCH(P$3,\" \"&$A10)-2,4)=COUNTIF($E$3:P$3,P$3)&\" \"&P$3,ISNUMBER(SEARCH(P$3,$A10))),$C10,\"\")","v":20},{"$f":"IF(IF(ISNUMBER(-MID(\" \"&$A10,SEARCH(Q$3,\" \"&$A10)-2,1)),MID(\" \"&$A10,SEARCH(Q$3,\" \"&$A10)-2,4)=COUNTIF($E$3:Q$3,Q$3)&\" \"&Q$3,ISNUMBER(SEARCH(Q$3,$A10))),$C10,\"\")","v":20},{"$f":"IF(IF(ISNUMBER(-MID(\" \"&$A10,SEARCH(R$3,\" \"&$A10)-2,1)),MID(\" \"&$A10,SEARCH(R$3,\" \"&$A10)-2,4)=COUNTIF($E$3:R$3,R$3)&\" \"&R$3,ISNUMBER(SEARCH(R$3,$A10))),$C10,\"\")","v":20},{"$f":"IF(IF(ISNUMBER(-MID(\" \"&$A10,SEARCH(S$3,\" \"&$A10)-2,1)),MID(\" \"&$A10,SEARCH(S$3,\" \"&$A10)-2,4)=COUNTIF($E$3:S$3,S$3)&\" \"&S$3,ISNUMBER(SEARCH(S$3,$A10))),$C10,\"\")","v":""},{"$f":"IF(IF(ISNUMBER(-MID(\" \"&$A10,SEARCH(T$3,\" \"&$A10)-2,1)),MID(\" \"&$A10,SEARCH(T$3,\" \"&$A10)-2,4)=COUNTIF($E$3:T$3,T$3)&\" \"&T$3,ISNUMBER(SEARCH(T$3,$A10))),$C10,\"\")","v":""},{"$f":"IF(IF(ISNUMBER(-MID(\" \"&$A10,SEARCH(U$3,\" \"&$A10)-2,1)),MID(\" \"&$A10,SEARCH(U$3,\" \"&$A10)-2,4)=COUNTIF($E$3:U$3,U$3)&\" \"&U$3,ISNUMBER(SEARCH(U$3,$A10))),$C10,\"\")","v":""},{"$f":"IF(IF(ISNUMBER(-MID(\" \"&$A10,SEARCH(V$3,\" \"&$A10)-2,1)),MID(\" \"&$A10,SEARCH(V$3,\" \"&$A10)-2,4)=COUNTIF($E$3:V$3,V$3)&\" \"&V$3,ISNUMBER(SEARCH(V$3,$A10))),$C10,\"\")","v":""},{"$f":"IF(IF(ISNUMBER(-MID(\" \"&$A10,SEARCH(W$3,\" \"&$A10)-2,1)),MID(\" \"&$A10,SEARCH(W$3,\" \"&$A10)-2,4)=COUNTIF($E$3:W$3,W$3)&\" \"&W$3,ISNUMBER(SEARCH(W$3,$A10))),$C10,\"\")","v":20},{"$f":"IF(IF(ISNUMBER(-MID(\" \"&$A10,SEARCH(X$3,\" \"&$A10)-2,1)),MID(\" \"&$A10,SEARCH(X$3,\" \"&$A10)-2,4)=COUNTIF($E$3:X$3,X$3)&\" \"&X$3,ISNUMBER(SEARCH(X$3,$A10))),$C10,\"\")","v":20},{"$f":"IF(IF(ISNUMBER(-MID(\" \"&$A10,SEARCH(Y$3,\" \"&$A10)-2,1)),MID(\" \"&$A10,SEARCH(Y$3,\" \"&$A10)-2,4)=COUNTIF($E$3:Y$3,Y$3)&\" \"&Y$3,ISNUMBER(SEARCH(Y$3,$A10))),$C10,\"\")","v":20},{"$f":"IF(IF(ISNUMBER(-MID(\" \"&$A10,SEARCH(Z$3,\" \"&$A10)-2,1)),MID(\" \"&$A10,SEARCH(Z$3,\" \"&$A10)-2,4)=COUNTIF($E$3:Z$3,Z$3)&\" \"&Z$3,ISNUMBER(SEARCH(Z$3,$A10))),$C10,\"\")","v":""},{"$f":"IF(IF(ISNUMBER(-MID(\" \"&$A10,SEARCH(AA$3,\" \"&$A10)-2,1)),MID(\" \"&$A10,SEARCH(AA$3,\" \"&$A10)-2,4)=COUNTIF($E$3:AA$3,AA$3)&\" \"&AA$3,ISNUMBER(SEARCH(AA$3,$A10))),$C10,\"\")","v":""},{"$f":"IF(IF(ISNUMBER(-MID(\" \"&$A10,SEARCH(AB$3,\" \"&$A10)-2,1)),MID(\" \"&$A10,SEARCH(AB$3,\" \"&$A10)-2,4)=COUNTIF($E$3:AB$3,AB$3)&\" \"&AB$3,ISNUMBER(SEARCH(AB$3,$A10))),$C10,\"\")","v":""},{"$f":"IF(IF(ISNUMBER(-MID(\" \"&$A10,SEARCH(AC$3,\" \"&$A10)-2,1)),MID(\" \"&$A10,SEARCH(AC$3,\" \"&$A10)-2,4)=COUNTIF($E$3:AC$3,AC$3)&\" \"&AC$3,ISNUMBER(SEARCH(AC$3,$A10))),$C10,\"\")","v":""},{"$f":"IF(IF(ISNUMBER(-MID(\" \"&$A10,SEARCH(AD$3,\" \"&$A10)-2,1)),MID(\" \"&$A10,SEARCH(AD$3,\" \"&$A10)-2,4)=COUNTIF($E$3:AD$3,AD$3)&\" \"&AD$3,ISNUMBER(SEARCH(AD$3,$A10))),$C10,\"\")","v":20},{"$f":"IF(IF(ISNUMBER(-MID(\" \"&$A10,SEARCH(AE$3,\" \"&$A10)-2,1)),MID(\" \"&$A10,SEARCH(AE$3,\" \"&$A10)-2,4)=COUNTIF($E$3:AE$3,AE$3)&\" \"&AE$3,ISNUMBER(SEARCH(AE$3,$A10))),$C10,\"\")","v":20},{"$f":"IF(IF(ISNUMBER(-MID(\" \"&$A10,SEARCH(AF$3,\" \"&$A10)-2,1)),MID(\" \"&$A10,SEARCH(AF$3,\" \"&$A10)-2,4)=COUNTIF($E$3:AF$3,AF$3)&\" \"&AF$3,ISNUMBER(SEARCH(AF$3,$A10))),$C10,\"\")","v":20},{"$f":"IF(IF(ISNUMBER(-MID(\" \"&$A10,SEARCH(AG$3,\" \"&$A10)-2,1)),MID(\" \"&$A10,SEARCH(AG$3,\" \"&$A10)-2,4)=COUNTIF($E$3:AG$3,AG$3)&\" \"&AG$3,ISNUMBER(SEARCH(AG$3,$A10))),$C10,\"\")","v":""},{"$f":"IF(IF(ISNUMBER(-MID(\" \"&$A10,SEARCH(AH$3,\" \"&$A10)-2,1)),MID(\" \"&$A10,SEARCH(AH$3,\" \"&$A10)-2,4)=COUNTIF($E$3:AH$3,AH$3)&\" \"&AH$3,ISNUMBER(SEARCH(AH$3,$A10))),$C10,\"\")","v":""},{"$f":"IF(IF(ISNUMBER(-MID(\" \"&$A10,SEARCH(AI$3,\" \"&$A10)-2,1)),MID(\" \"&$A10,SEARCH(AI$3,\" \"&$A10)-2,4)=COUNTIF($E$3:AI$3,AI$3)&\" \"&AI$3,ISNUMBER(SEARCH(AI$3,$A10))),$C10,\"\")","v":""},{"$f":"SUM(E10:INDEX(E10:AI10,31-Лист1!$I$6))","v":240},{"$f":"COUNT(E10:INDEX(E10:AI10,31-Лист1!$I$6))","v":12}]
["4 чт","оплата ЖКУ ",15,"1р/м",{"$f":"IF(IF(ISNUMBER(-MID(\" \"&$A11,SEARCH(E$3,\" \"&$A11)-2,1)),MID(\" \"&$A11,SEARCH(E$3,\" \"&$A11)-2,4)=COUNTIF($E$3:E$3,E$3)&\" \"&E$3,ISNUMBER(SEARCH(E$3,$A11))),$C11,\"\")","v":""},{"$f":"IF(IF(ISNUMBER(-MID(\" \"&$A11,SEARCH(F$3,\" \"&$A11)-2,1)),MID(\" \"&$A11,SEARCH(F$3,\" \"&$A11)-2,4)=COUNTIF($E$3:F$3,F$3)&\" \"&F$3,ISNUMBER(SEARCH(F$3,$A11))),$C11,\"\")","v":""},{"$f":"IF(IF(ISNUMBER(-MID(\" \"&$A11,SEARCH(G$3,\" \"&$A11)-2,1)),MID(\" \"&$A11,SEARCH(G$3,\" \"&$A11)-2,4)=COUNTIF($E$3:G$3,G$3)&\" \"&G$3,ISNUMBER(SEARCH(G$3,$A11))),$C11,\"\")","v":""},{"$f":"IF(IF(ISNUMBER(-MID(\" \"&$A11,SEARCH(H$3,\" \"&$A11)-2,1)),MID(\" \"&$A11,SEARCH(H$3,\" \"&$A11)-2,4)=COUNTIF($E$3:H$3,H$3)&\" \"&H$3,ISNUMBER(SEARCH(H$3,$A11))),$C11,\"\")","v":""},{"$f":"IF(IF(ISNUMBER(-MID(\" \"&$A11,SEARCH(I$3,\" \"&$A11)-2,1)),MID(\" \"&$A11,SEARCH(I$3,\" \"&$A11)-2,4)=COUNTIF($E$3:I$3,I$3)&\" \"&I$3,ISNUMBER(SEARCH(I$3,$A11))),$C11,\"\")","v":""},{"$f":"IF(IF(ISNUMBER(-MID(\" \"&$A11,SEARCH(J$3,\" \"&$A11)-2,1)),MID(\" \"&$A11,SEARCH(J$3,\" \"&$A11)-2,4)=COUNTIF($E$3:J$3,J$3)&\" \"&J$3,ISNUMBER(SEARCH(J$3,$A11))),$C11,\"\")","v":""},{"$f":"IF(IF(ISNUMBER(-MID(\" \"&$A11,SEARCH(K$3,\" \"&$A11)-2,1)),MID(\" \"&$A11,SEARCH(K$3,\" \"&$A11)-2,4)=COUNTIF($E$3:K$3,K$3)&\" \"&K$3,ISNUMBER(SEARCH(K$3,$A11))),$C11,\"\")","v":""},{"$f":"IF(IF(ISNUMBER(-MID(\" \"&$A11,SEARCH(L$3,\" \"&$A11)-2,1)),MID(\" \"&$A11,SEARCH(L$3,\" \"&$A11)-2,4)=COUNTIF($E$3:L$3,L$3)&\" \"&L$3,ISNUMBER(SEARCH(L$3,$A11))),$C11,\"\")","v":""},{"$f":"IF(IF(ISNUMBER(-MID(\" \"&$A11,SEARCH(M$3,\" \"&$A11)-2,1)),MID(\" \"&$A11,SEARCH(M$3,\" \"&$A11)-2,4)=COUNTIF($E$3:M$3,M$3)&\" \"&M$3,ISNUMBER(SEARCH(M$3,$A11))),$C11,\"\")","v":""},{"$f":"IF(IF(ISNUMBER(-MID(\" \"&$A11,SEARCH(N$3,\" \"&$A11)-2,1)),MID(\" \"&$A11,SEARCH(N$3,\" \"&$A11)-2,4)=COUNTIF($E$3:N$3,N$3)&\" \"&N$3,ISNUMBER(SEARCH(N$3,$A11))),$C11,\"\")","v":""},{"$f":"IF(IF(ISNUMBER(-MID(\" \"&$A11,SEARCH(O$3,\" \"&$A11)-2,1)),MID(\" \"&$A11,SEARCH(O$3,\" \"&$A11)-2,4)=COUNTIF($E$3:O$3,O$3)&\" \"&O$3,ISNUMBER(SEARCH(O$3,$A11))),$C11,\"\")","v":""},{"$f":"IF(IF(ISNUMBER(-MID(\" \"&$A11,SEARCH(P$3,\" \"&$A11)-2,1)),MID(\" \"&$A11,SEARCH(P$3,\" \"&$A11)-2,4)=COUNTIF($E$3:P$3,P$3)&\" \"&P$3,ISNUMBER(SEARCH(P$3,$A11))),$C11,\"\")","v":""},{"$f":"IF(IF(ISNUMBER(-MID(\" \"&$A11,SEARCH(Q$3,\" \"&$A11)-2,1)),MID(\" \"&$A11,SEARCH(Q$3,\" \"&$A11)-2,4)=COUNTIF($E$3:Q$3,Q$3)&\" \"&Q$3,ISNUMBER(SEARCH(Q$3,$A11))),$C11,\"\")","v":""},{"$f":"IF(IF(ISNUMBER(-MID(\" \"&$A11,SEARCH(R$3,\" \"&$A11)-2,1)),MID(\" \"&$A11,SEARCH(R$3,\" \"&$A11)-2,4)=COUNTIF($E$3:R$3,R$3)&\" \"&R$3,ISNUMBER(SEARCH(R$3,$A11))),$C11,\"\")","v":""},{"$f":"IF(IF(ISNUMBER(-MID(\" \"&$A11,SEARCH(S$3,\" \"&$A11)-2,1)),MID(\" \"&$A11,SEARCH(S$3,\" \"&$A11)-2,4)=COUNTIF($E$3:S$3,S$3)&\" \"&S$3,ISNUMBER(SEARCH(S$3,$A11))),$C11,\"\")","v":""},{"$f":"IF(IF(ISNUMBER(-MID(\" \"&$A11,SEARCH(T$3,\" \"&$A11)-2,1)),MID(\" \"&$A11,SEARCH(T$3,\" \"&$A11)-2,4)=COUNTIF($E$3:T$3,T$3)&\" \"&T$3,ISNUMBER(SEARCH(T$3,$A11))),$C11,\"\")","v":""},{"$f":"IF(IF(ISNUMBER(-MID(\" \"&$A11,SEARCH(U$3,\" \"&$A11)-2,1)),MID(\" \"&$A11,SEARCH(U$3,\" \"&$A11)-2,4)=COUNTIF($E$3:U$3,U$3)&\" \"&U$3,ISNUMBER(SEARCH(U$3,$A11))),$C11,\"\")","v":""},{"$f":"IF(IF(ISNUMBER(-MID(\" \"&$A11,SEARCH(V$3,\" \"&$A11)-2,1)),MID(\" \"&$A11,SEARCH(V$3,\" \"&$A11)-2,4)=COUNTIF($E$3:V$3,V$3)&\" \"&V$3,ISNUMBER(SEARCH(V$3,$A11))),$C11,\"\")","v":""},{"$f":"IF(IF(ISNUMBER(-MID(\" \"&$A11,SEARCH(W$3,\" \"&$A11)-2,1)),MID(\" \"&$A11,SEARCH(W$3,\" \"&$A11)-2,4)=COUNTIF($E$3:W$3,W$3)&\" \"&W$3,ISNUMBER(SEARCH(W$3,$A11))),$C11,\"\")","v":""},{"$f":"IF(IF(ISNUMBER(-MID(\" \"&$A11,SEARCH(X$3,\" \"&$A11)-2,1)),MID(\" \"&$A11,SEARCH(X$3,\" \"&$A11)-2,4)=COUNTIF($E$3:X$3,X$3)&\" \"&X$3,ISNUMBER(SEARCH(X$3,$A11))),$C11,\"\")","v":""},{"$f":"IF(IF(ISNUMBER(-MID(\" \"&$A11,SEARCH(Y$3,\" \"&$A11)-2,1)),MID(\" \"&$A11,SEARCH(Y$3,\" \"&$A11)-2,4)=COUNTIF($E$3:Y$3,Y$3)&\" \"&Y$3,ISNUMBER(SEARCH(Y$3,$A11))),$C11,\"\")","v":""},{"$f":"IF(IF(ISNUMBER(-MID(\" \"&$A11,SEARCH(Z$3,\" \"&$A11)-2,1)),MID(\" \"&$A11,SEARCH(Z$3,\" \"&$A11)-2,4)=COUNTIF($E$3:Z$3,Z$3)&\" \"&Z$3,ISNUMBER(SEARCH(Z$3,$A11))),$C11,\"\")","v":""},{"$f":"IF(IF(ISNUMBER(-MID(\" \"&$A11,SEARCH(AA$3,\" \"&$A11)-2,1)),MID(\" \"&$A11,SEARCH(AA$3,\" \"&$A11)-2,4)=COUNTIF($E$3:AA$3,AA$3)&\" \"&AA$3,ISNUMBER(SEARCH(AA$3,$A11))),$C11,\"\")","v":""},{"$f":"IF(IF(ISNUMBER(-MID(\" \"&$A11,SEARCH(AB$3,\" \"&$A11)-2,1)),MID(\" \"&$A11,SEARCH(AB$3,\" \"&$A11)-2,4)=COUNTIF($E$3:AB$3,AB$3)&\" \"&AB$3,ISNUMBER(SEARCH(AB$3,$A11))),$C11,\"\")","v":""},{"$f":"IF(IF(ISNUMBER(-MID(\" \"&$A11,SEARCH(AC$3,\" \"&$A11)-2,1)),MID(\" \"&$A11,SEARCH(AC$3,\" \"&$A11)-2,4)=COUNTIF($E$3:AC$3,AC$3)&\" \"&AC$3,ISNUMBER(SEARCH(AC$3,$A11))),$C11,\"\")","v":""},{"$f":"IF(IF(ISNUMBER(-MID(\" \"&$A11,SEARCH(AD$3,\" \"&$A11)-2,1)),MID(\" \"&$A11,SEARCH(AD$3,\" \"&$A11)-2,4)=COUNTIF($E$3:AD$3,AD$3)&\" \"&AD$3,ISNUMBER(SEARCH(AD$3,$A11))),$C11,\"\")","v":""},{"$f":"IF(IF(ISNUMBER(-MID(\" \"&$A11,SEARCH(AE$3,\" \"&$A11)-2,1)),MID(\" \"&$A11,SEARCH(AE$3,\" \"&$A11)-2,4)=COUNTIF($E$3:AE$3,AE$3)&\" \"&AE$3,ISNUMBER(SEARCH(AE$3,$A11))),$C11,\"\")","v":""},{"$f":"IF(IF(ISNUMBER(-MID(\" \"&$A11,SEARCH(AF$3,\" \"&$A11)-2,1)),MID(\" \"&$A11,SEARCH(AF$3,\" \"&$A11)-2,4)=COUNTIF($E$3:AF$3,AF$3)&\" \"&AF$3,ISNUMBER(SEARCH(AF$3,$A11))),$C11,\"\")","v":15},{"$f":"IF(IF(ISNUMBER(-MID(\" \"&$A11,SEARCH(AG$3,\" \"&$A11)-2,1)),MID(\" \"&$A11,SEARCH(AG$3,\" \"&$A11)-2,4)=COUNTIF($E$3:AG$3,AG$3)&\" \"&AG$3,ISNUMBER(SEARCH(AG$3,$A11))),$C11,\"\")","v":""},{"$f":"IF(IF(ISNUMBER(-MID(\" \"&$A11,SEARCH(AH$3,\" \"&$A11)-2,1)),MID(\" \"&$A11,SEARCH(AH$3,\" \"&$A11)-2,4)=COUNTIF($E$3:AH$3,AH$3)&\" \"&AH$3,ISNUMBER(SEARCH(AH$3,$A11))),$C11,\"\")","v":""},{"$f":"IF(IF(ISNUMBER(-MID(\" \"&$A11,SEARCH(AI$3,\" \"&$A11)-2,1)),MID(\" \"&$A11,SEARCH(AI$3,\" \"&$A11)-2,4)=COUNTIF($E$3:AI$3,AI$3)&\" \"&AI$3,ISNUMBER(SEARCH(AI$3,$A11))),$C11,\"\")","v":""},{"$f":"SUM(E11:INDEX(E11:AI11,31-Лист1!$I$6))","v":15},{"$f":"COUNT(E11:INDEX(E11:AI11,31-Лист1!$I$6))","v":1}]
["Сидоров","3 группа"]
["пн,ср","покупка продуктов",35,"2р/н",{"$f":"IF(IF(ISNUMBER(-MID(\" \"&$A13,SEARCH(E$3,\" \"&$A13)-2,1)),MID(\" \"&$A13,SEARCH(E$3,\" \"&$A13)-2,4)=COUNTIF($E$3:E$3,E$3)&\" \"&E$3,ISNUMBER(SEARCH(E$3,$A13))),$C13,\"\")","v":""},{"$f":"IF(IF(ISNUMBER(-MID(\" \"&$A13,SEARCH(F$3,\" \"&$A13)-2,1)),MID(\" \"&$A13,SEARCH(F$3,\" \"&$A13)-2,4)=COUNTIF($E$3:F$3,F$3)&\" \"&F$3,ISNUMBER(SEARCH(F$3,$A13))),$C13,\"\")","v":""},{"$f":"IF(IF(ISNUMBER(-MID(\" \"&$A13,SEARCH(G$3,\" \"&$A13)-2,1)),MID(\" \"&$A13,SEARCH(G$3,\" \"&$A13)-2,4)=COUNTIF($E$3:G$3,G$3)&\" \"&G$3,ISNUMBER(SEARCH(G$3,$A13))),$C13,\"\")","v":""},{"$f":"IF(IF(ISNUMBER(-MID(\" \"&$A13,SEARCH(H$3,\" \"&$A13)-2,1)),MID(\" \"&$A13,SEARCH(H$3,\" \"&$A13)-2,4)=COUNTIF($E$3:H$3,H$3)&\" \"&H$3,ISNUMBER(SEARCH(H$3,$A13))),$C13,\"\")","v":35},{"$f":"IF(IF(ISNUMBER(-MID(\" \"&$A13,SEARCH(I$3,\" \"&$A13)-2,1)),MID(\" \"&$A13,SEARCH(I$3,\" \"&$A13)-2,4)=COUNTIF($E$3:I$3,I$3)&\" \"&I$3,ISNUMBER(SEARCH(I$3,$A13))),$C13,\"\")","v":""},{"$f":"IF(IF(ISNUMBER(-MID(\" \"&$A13,SEARCH(J$3,\" \"&$A13)-2,1)),MID(\" \"&$A13,SEARCH(J$3,\" \"&$A13)-2,4)=COUNTIF($E$3:J$3,J$3)&\" \"&J$3,ISNUMBER(SEARCH(J$3,$A13))),$C13,\"\")","v":35},{"$f":"IF(IF(ISNUMBER(-MID(\" \"&$A13,SEARCH(K$3,\" \"&$A13)-2,1)),MID(\" \"&$A13,SEARCH(K$3,\" \"&$A13)-2,4)=COUNTIF($E$3:K$3,K$3)&\" \"&K$3,ISNUMBER(SEARCH(K$3,$A13))),$C13,\"\")","v":""},{"$f":"IF(IF(ISNUMBER(-MID(\" \"&$A13,SEARCH(L$3,\" \"&$A13)-2,1)),MID(\" \"&$A13,SEARCH(L$3,\" \"&$A13)-2,4)=COUNTIF($E$3:L$3,L$3)&\" \"&L$3,ISNUMBER(SEARCH(L$3,$A13))),$C13,\"\")","v":""},{"$f":"IF(IF(ISNUMBER(-MID(\" \"&$A13,SEARCH(M$3,\" \"&$A13)-2,1)),MID(\" \"&$A13,SEARCH(M$3,\" \"&$A13)-2,4)=COUNTIF($E$3:M$3,M$3)&\" \"&M$3,ISNUMBER(SEARCH(M$3,$A13))),$C13,\"\")","v":""},{"$f":"IF(IF(ISNUMBER(-MID(\" \"&$A13,SEARCH(N$3,\" \"&$A13)-2,1)),MID(\" \"&$A13,SEARCH(N$3,\" \"&$A13)-2,4)=COUNTIF($E$3:N$3,N$3)&\" \"&N$3,ISNUMBER(SEARCH(N$3,$A13))),$C13,\"\")","v":""},{"$f":"IF(IF(ISNUMBER(-MID(\" \"&$A13,SEARCH(O$3,\" \"&$A13)-2,1)),MID(\" \"&$A13,SEARCH(O$3,\" \"&$A13)-2,4)=COUNTIF($E$3:O$3,O$3)&\" \"&O$3,ISNUMBER(SEARCH(O$3,$A13))),$C13,\"\")","v":35},{"$f":"IF(IF(ISNUMBER(-MID(\" \"&$A13,SEARCH(P$3,\" \"&$A13)-2,1)),MID(\" \"&$A13,SEARCH(P$3,\" \"&$A13)-2,4)=COUNTIF($E$3:P$3,P$3)&\" \"&P$3,ISNUMBER(SEARCH(P$3,$A13))),$C13,\"\")","v":""},{"$f":"IF(IF(ISNUMBER(-MID(\" \"&$A13,SEARCH(Q$3,\" \"&$A13)-2,1)),MID(\" \"&$A13,SEARCH(Q$3,\" \"&$A13)-2,4)=COUNTIF($E$3:Q$3,Q$3)&\" \"&Q$3,ISNUMBER(SEARCH(Q$3,$A13))),$C13,\"\")","v":35},{"$f":"IF(IF(ISNUMBER(-MID(\" \"&$A13,SEARCH(R$3,\" \"&$A13)-2,1)),MID(\" \"&$A13,SEARCH(R$3,\" \"&$A13)-2,4)=COUNTIF($E$3:R$3,R$3)&\" \"&R$3,ISNUMBER(SEARCH(R$3,$A13))),$C13,\"\")","v":""},{"$f":"IF(IF(ISNUMBER(-MID(\" \"&$A13,SEARCH(S$3,\" \"&$A13)-2,1)),MID(\" \"&$A13,SEARCH(S$3,\" \"&$A13)-2,4)=COUNTIF($E$3:S$3,S$3)&\" \"&S$3,ISNUMBER(SEARCH(S$3,$A13))),$C13,\"\")","v":""},{"$f":"IF(IF(ISNUMBER(-MID(\" \"&$A13,SEARCH(T$3,\" \"&$A13)-2,1)),MID(\" \"&$A13,SEARCH(T$3,\" \"&$A13)-2,4)=COUNTIF($E$3:T$3,T$3)&\" \"&T$3,ISNUMBER(SEARCH(T$3,$A13))),$C13,\"\")","v":""},{"$f":"IF(IF(ISNUMBER(-MID(\" \"&$A13,SEARCH(U$3,\" \"&$A13)-2,1)),MID(\" \"&$A13,SEARCH(U$3,\" \"&$A13)-2,4)=COUNTIF($E$3:U$3,U$3)&\" \"&U$3,ISNUMBER(SEARCH(U$3,$A13))),$C13,\"\")","v":""},{"$f":"IF(IF(ISNUMBER(-MID(\" \"&$A13,SEARCH(V$3,\" \"&$A13)-2,1)),MID(\" \"&$A13,SEARCH(V$3,\" \"&$A13)-2,4)=COUNTIF($E$3:V$3,V$3)&\" \"&V$3,ISNUMBER(SEARCH(V$3,$A13))),$C13,\"\")","v":35},{"$f":"IF(IF(ISNUMBER(-MID(\" \"&$A13,SEARCH(W$3,\" \"&$A13)-2,1)),MID(\" \"&$A13,SEARCH(W$3,\" \"&$A13)-2,4)=COUNTIF($E$3:W$3,W$3)&\" \"&W$3,ISNUMBER(SEARCH(W$3,$A13))),$C13,\"\")","v":""},{"$f":"IF(IF(ISNUMBER(-MID(\" \"&$A13,SEARCH(X$3,\" \"&$A13)-2,1)),MID(\" \"&$A13,SEARCH(X$3,\" \"&$A13)-2,4)=COUNTIF($E$3:X$3,X$3)&\" \"&X$3,ISNUMBER(SEARCH(X$3,$A13))),$C13,\"\")","v":35},{"$f":"IF(IF(ISNUMBER(-MID(\" \"&$A13,SEARCH(Y$3,\" \"&$A13)-2,1)),MID(\" \"&$A13,SEARCH(Y$3,\" \"&$A13)-2,4)=COUNTIF($E$3:Y$3,Y$3)&\" \"&Y$3,ISNUMBER(SEARCH(Y$3,$A13))),$C13,\"\")","v":""},{"$f":"IF(IF(ISNUMBER(-MID(\" \"&$A13,SEARCH(Z$3,\" \"&$A13)-2,1)),MID(\" \"&$A13,SEARCH(Z$3,\" \"&$A13)-2,4)=COUNTIF($E$3:Z$3,Z$3)&\" \"&Z$3,ISNUMBER(SEARCH(Z$3,$A13))),$C13,\"\")","v":""},{"$f":"IF(IF(ISNUMBER(-MID(\" \"&$A13,SEARCH(AA$3,\" \"&$A13)-2,1)),MID(\" \"&$A13,SEARCH(AA$3,\" \"&$A13)-2,4)=COUNTIF($E$3:AA$3,AA$3)&\" \"&AA$3,ISNUMBER(SEARCH(AA$3,$A13))),$C13,\"\")","v":""},{"$f":"IF(IF(ISNUMBER(-MID(\" \"&$A13,SEARCH(AB$3,\" \"&$A13)-2,1)),MID(\" \"&$A13,SEARCH(AB$3,\" \"&$A13)-2,4)=COUNTIF($E$3:AB$3,AB$3)&\" \"&AB$3,ISNUMBER(SEARCH(AB$3,$A13))),$C13,\"\")","v":""},{"$f":"IF(IF(ISNUMBER(-MID(\" \"&$A13,SEARCH(AC$3,\" \"&$A13)-2,1)),MID(\" \"&$A13,SEARCH(AC$3,\" \"&$A13)-2,4)=COUNTIF($E$3:AC$3,AC$3)&\" \"&AC$3,ISNUMBER(SEARCH(AC$3,$A13))),$C13,\"\")","v":35},{"$f":"IF(IF(ISNUMBER(-MID(\" \"&$A13,SEARCH(AD$3,\" \"&$A13)-2,1)),MID(\" \"&$A13,SEARCH(AD$3,\" \"&$A13)-2,4)=COUNTIF($E$3:AD$3,AD$3)&\" \"&AD$3,ISNUMBER(SEARCH(AD$3,$A13))),$C13,\"\")","v":""},{"$f":"IF(IF(ISNUMBER(-MID(\" \"&$A13,SEARCH(AE$3,\" \"&$A13)-2,1)),MID(\" \"&$A13,SEARCH(AE$3,\" \"&$A13)-2,4)=COUNTIF($E$3:AE$3,AE$3)&\" \"&AE$3,ISNUMBER(SEARCH(AE$3,$A13))),$C13,\"\")","v":35},{"$f":"IF(IF(ISNUMBER(-MID(\" \"&$A13,SEARCH(AF$3,\" \"&$A13)-2,1)),MID(\" \"&$A13,SEARCH(AF$3,\" \"&$A13)-2,4)=COUNTIF($E$3:AF$3,AF$3)&\" \"&AF$3,ISNUMBER(SEARCH(AF$3,$A13))),$C13,\"\")","v":""},{"$f":"IF(IF(ISNUMBER(-MID(\" \"&$A13,SEARCH(AG$3,\" \"&$A13)-2,1)),MID(\" \"&$A13,SEARCH(AG$3,\" \"&$A13)-2,4)=COUNTIF($E$3:AG$3,AG$3)&\" \"&AG$3,ISNUMBER(SEARCH(AG$3,$A13))),$C13,\"\")","v":""},{"$f":"IF(IF(ISNUMBER(-MID(\" \"&$A13,SEARCH(AH$3,\" \"&$A13)-2,1)),MID(\" \"&$A13,SEARCH(AH$3,\" \"&$A13)-2,4)=COUNTIF($E$3:AH$3,AH$3)&\" \"&AH$3,ISNUMBER(SEARCH(AH$3,$A13))),$C13,\"\")","v":""},{"$f":"IF(IF(ISNUMBER(-MID(\" \"&$A13,SEARCH(AI$3,\" \"&$A13)-2,1)),MID(\" \"&$A13,SEARCH(AI$3,\" \"&$A13)-2,4)=COUNTIF($E$3:AI$3,AI$3)&\" \"&AI$3,ISNUMBER(SEARCH(AI$3,$A13))),$C13,\"\")","v":""},{"$f":"SUM(E13:INDEX(E13:AI13,31-Лист1!$I$6))","v":280},{"$f":"COUNT(E13:INDEX(E13:AI13,31-Лист1!$I$6))","v":8},{"$f":"SUM(AK13:AK15)","v":22}]
["вт,чт,пт"," помощь в приготовлении пищи",20,"2р/н",{"$f":"IF(IF(ISNUMBER(-MID(\" \"&$A14,SEARCH(E$3,\" \"&$A14)-2,1)),MID(\" \"&$A14,SEARCH(E$3,\" \"&$A14)-2,4)=COUNTIF($E$3:E$3,E$3)&\" \"&E$3,ISNUMBER(SEARCH(E$3,$A14))),$C14,\"\")","v":20},{"$f":"IF(IF(ISNUMBER(-MID(\" \"&$A14,SEARCH(F$3,\" \"&$A14)-2,1)),MID(\" \"&$A14,SEARCH(F$3,\" \"&$A14)-2,4)=COUNTIF($E$3:F$3,F$3)&\" \"&F$3,ISNUMBER(SEARCH(F$3,$A14))),$C14,\"\")","v":""},{"$f":"IF(IF(ISNUMBER(-MID(\" \"&$A14,SEARCH(G$3,\" \"&$A14)-2,1)),MID(\" \"&$A14,SEARCH(G$3,\" \"&$A14)-2,4)=COUNTIF($E$3:G$3,G$3)&\" \"&G$3,ISNUMBER(SEARCH(G$3,$A14))),$C14,\"\")","v":""},{"$f":"IF(IF(ISNUMBER(-MID(\" \"&$A14,SEARCH(H$3,\" \"&$A14)-2,1)),MID(\" \"&$A14,SEARCH(H$3,\" \"&$A14)-2,4)=COUNTIF($E$3:H$3,H$3)&\" \"&H$3,ISNUMBER(SEARCH(H$3,$A14))),$C14,\"\")","v":""},{"$f":"IF(IF(ISNUMBER(-MID(\" \"&$A14,SEARCH(I$3,\" \"&$A14)-2,1)),MID(\" \"&$A14,SEARCH(I$3,\" \"&$A14)-2,4)=COUNTIF($E$3:I$3,I$3)&\" \"&I$3,ISNUMBER(SEARCH(I$3,$A14))),$C14,\"\")","v":20},{"$f":"IF(IF(ISNUMBER(-MID(\" \"&$A14,SEARCH(J$3,\" \"&$A14)-2,1)),MID(\" \"&$A14,SEARCH(J$3,\" \"&$A14)-2,4)=COUNTIF($E$3:J$3,J$3)&\" \"&J$3,ISNUMBER(SEARCH(J$3,$A14))),$C14,\"\")","v":""},{"$f":"IF(IF(ISNUMBER(-MID(\" \"&$A14,SEARCH(K$3,\" \"&$A14)-2,1)),MID(\" \"&$A14,SEARCH(K$3,\" \"&$A14)-2,4)=COUNTIF($E$3:K$3,K$3)&\" \"&K$3,ISNUMBER(SEARCH(K$3,$A14))),$C14,\"\")","v":20},{"$f":"IF(IF(ISNUMBER(-MID(\" \"&$A14,SEARCH(L$3,\" \"&$A14)-2,1)),MID(\" \"&$A14,SEARCH(L$3,\" \"&$A14)-2,4)=COUNTIF($E$3:L$3,L$3)&\" \"&L$3,ISNUMBER(SEARCH(L$3,$A14))),$C14,\"\")","v":20},{"$f":"IF(IF(ISNUMBER(-MID(\" \"&$A14,SEARCH(M$3,\" \"&$A14)-2,1)),MID(\" \"&$A14,SEARCH(M$3,\" \"&$A14)-2,4)=COUNTIF($E$3:M$3,M$3)&\" \"&M$3,ISNUMBER(SEARCH(M$3,$A14))),$C14,\"\")","v":""},{"$f":"IF(IF(ISNUMBER(-MID(\" \"&$A14,SEARCH(N$3,\" \"&$A14)-2,1)),MID(\" \"&$A14,SEARCH(N$3,\" \"&$A14)-2,4)=COUNTIF($E$3:N$3,N$3)&\" \"&N$3,ISNUMBER(SEARCH(N$3,$A14))),$C14,\"\")","v":""},{"$f":"IF(IF(ISNUMBER(-MID(\" \"&$A14,SEARCH(O$3,\" \"&$A14)-2,1)),MID(\" \"&$A14,SEARCH(O$3,\" \"&$A14)-2,4)=COUNTIF($E$3:O$3,O$3)&\" \"&O$3,ISNUMBER(SEARCH(O$3,$A14))),$C14,\"\")","v":""},{"$f":"IF(IF(ISNUMBER(-MID(\" \"&$A14,SEARCH(P$3,\" \"&$A14)-2,1)),MID(\" \"&$A14,SEARCH(P$3,\" \"&$A14)-2,4)=COUNTIF($E$3:P$3,P$3)&\" \"&P$3,ISNUMBER(SEARCH(P$3,$A14))),$C14,\"\")","v":20},{"$f":"IF(IF(ISNUMBER(-MID(\" \"&$A14,SEARCH(Q$3,\" \"&$A14)-2,1)),MID(\" \"&$A14,SEARCH(Q$3,\" \"&$A14)-2,4)=COUNTIF($E$3:Q$3,Q$3)&\" \"&Q$3,ISNUMBER(SEARCH(Q$3,$A14))),$C14,\"\")","v":""},{"$f":"IF(IF(ISNUMBER(-MID(\" \"&$A14,SEARCH(R$3,\" \"&$A14)-2,1)),MID(\" \"&$A14,SEARCH(R$3,\" \"&$A14)-2,4)=COUNTIF($E$3:R$3,R$3)&\" \"&R$3,ISNUMBER(SEARCH(R$3,$A14))),$C14,\"\")","v":20},{"$f":"IF(IF(ISNUMBER(-MID(\" \"&$A14,SEARCH(S$3,\" \"&$A14)-2,1)),MID(\" \"&$A14,SEARCH(S$3,\" \"&$A14)-2,4)=COUNTIF($E$3:S$3,S$3)&\" \"&S$3,ISNUMBER(SEARCH(S$3,$A14))),$C14,\"\")","v":20},{"$f":"IF(IF(ISNUMBER(-MID(\" \"&$A14,SEARCH(T$3,\" \"&$A14)-2,1)),MID(\" \"&$A14,SEARCH(T$3,\" \"&$A14)-2,4)=COUNTIF($E$3:T$3,T$3)&\" \"&T$3,ISNUMBER(SEARCH(T$3,$A14))),$C14,\"\")","v":""},{"$f":"IF(IF(ISNUMBER(-MID(\" \"&$A14,SEARCH(U$3,\" \"&$A14)-2,1)),MID(\" \"&$A14,SEARCH(U$3,\" \"&$A14)-2,4)=COUNTIF($E$3:U$3,U$3)&\" \"&U$3,ISNUMBER(SEARCH(U$3,$A14))),$C14,\"\")","v":""},{"$f":"IF(IF(ISNUMBER(-MID(\" \"&$A14,SEARCH(V$3,\" \"&$A14)-2,1)),MID(\" \"&$A14,SEARCH(V$3,\" \"&$A14)-2,4)=COUNTIF($E$3:V$3,V$3)&\" \"&V$3,ISNUMBER(SEARCH(V$3,$A14))),$C14,\"\")","v":""},{"$f":"IF(IF(ISNUMBER(-MID(\" \"&$A14,SEARCH(W$3,\" \"&$A14)-2,1)),MID(\" \"&$A14,SEARCH(W$3,\" \"&$A14)-2,4)=COUNTIF($E$3:W$3,W$3)&\" \"&W$3,ISNUMBER(SEARCH(W$3,$A14))),$C14,\"\")","v":20},{"$f":"IF(IF(ISNUMBER(-MID(\" \"&$A14,SEARCH(X$3,\" \"&$A14)-2,1)),MID(\" \"&$A14,SEARCH(X$3,\" \"&$A14)-2,4)=COUNTIF($E$3:X$3,X$3)&\" \"&X$3,ISNUMBER(SEARCH(X$3,$A14))),$C14,\"\")","v":""},{"$f":"IF(IF(ISNUMBER(-MID(\" \"&$A14,SEARCH(Y$3,\" \"&$A14)-2,1)),MID(\" \"&$A14,SEARCH(Y$3,\" \"&$A14)-2,4)=COUNTIF($E$3:Y$3,Y$3)&\" \"&Y$3,ISNUMBER(SEARCH(Y$3,$A14))),$C14,\"\")","v":20},{"$f":"IF(IF(ISNUMBER(-MID(\" \"&$A14,SEARCH(Z$3,\" \"&$A14)-2,1)),MID(\" \"&$A14,SEARCH(Z$3,\" \"&$A14)-2,4)=COUNTIF($E$3:Z$3,Z$3)&\" \"&Z$3,ISNUMBER(SEARCH(Z$3,$A14))),$C14,\"\")","v":20},{"$f":"IF(IF(ISNUMBER(-MID(\" \"&$A14,SEARCH(AA$3,\" \"&$A14)-2,1)),MID(\" \"&$A14,SEARCH(AA$3,\" \"&$A14)-2,4)=COUNTIF($E$3:AA$3,AA$3)&\" \"&AA$3,ISNUMBER(SEARCH(AA$3,$A14))),$C14,\"\")","v":""},{"$f":"IF(IF(ISNUMBER(-MID(\" \"&$A14,SEARCH(AB$3,\" \"&$A14)-2,1)),MID(\" \"&$A14,SEARCH(AB$3,\" \"&$A14)-2,4)=COUNTIF($E$3:AB$3,AB$3)&\" \"&AB$3,ISNUMBER(SEARCH(AB$3,$A14))),$C14,\"\")","v":""},{"$f":"IF(IF(ISNUMBER(-MID(\" \"&$A14,SEARCH(AC$3,\" \"&$A14)-2,1)),MID(\" \"&$A14,SEARCH(AC$3,\" \"&$A14)-2,4)=COUNTIF($E$3:AC$3,AC$3)&\" \"&AC$3,ISNUMBER(SEARCH(AC$3,$A14))),$C14,\"\")","v":""},{"$f":"IF(IF(ISNUMBER(-MID(\" \"&$A14,SEARCH(AD$3,\" \"&$A14)-2,1)),MID(\" \"&$A14,SEARCH(AD$3,\" \"&$A14)-2,4)=COUNTIF($E$3:AD$3,AD$3)&\" \"&AD$3,ISNUMBER(SEARCH(AD$3,$A14))),$C14,\"\")","v":20},{"$f":"IF(IF(ISNUMBER(-MID(\" \"&$A14,SEARCH(AE$3,\" \"&$A14)-2,1)),MID(\" \"&$A14,SEARCH(AE$3,\" \"&$A14)-2,4)=COUNTIF($E$3:AE$3,AE$3)&\" \"&AE$3,ISNUMBER(SEARCH(AE$3,$A14))),$C14,\"\")","v":""},{"$f":"IF(IF(ISNUMBER(-MID(\" \"&$A14,SEARCH(AF$3,\" \"&$A14)-2,1)),MID(\" \"&$A14,SEARCH(AF$3,\" \"&$A14)-2,4)=COUNTIF($E$3:AF$3,AF$3)&\" \"&AF$3,ISNUMBER(SEARCH(AF$3,$A14))),$C14,\"\")","v":20},{"$f":"IF(IF(ISNUMBER(-MID(\" \"&$A14,SEARCH(AG$3,\" \"&$A14)-2,1)),MID(\" \"&$A14,SEARCH(AG$3,\" \"&$A14)-2,4)=COUNTIF($E$3:AG$3,AG$3)&\" \"&AG$3,ISNUMBER(SEARCH(AG$3,$A14))),$C14,\"\")","v":20},{"$f":"IF(IF(ISNUMBER(-MID(\" \"&$A14,SEARCH(AH$3,\" \"&$A14)-2,1)),MID(\" \"&$A14,SEARCH(AH$3,\" \"&$A14)-2,4)=COUNTIF($E$3:AH$3,AH$3)&\" \"&AH$3,ISNUMBER(SEARCH(AH$3,$A14))),$C14,\"\")","v":""},{"$f":"IF(IF(ISNUMBER(-MID(\" \"&$A14,SEARCH(AI$3,\" \"&$A14)-2,1)),MID(\" \"&$A14,SEARCH(AI$3,\" \"&$A14)-2,4)=COUNTIF($E$3:AI$3,AI$3)&\" \"&AI$3,ISNUMBER(SEARCH(AI$3,$A14))),$C14,\"\")","v":""},{"$f":"SUM(E14:INDEX(E14:AI14,31-Лист1!$I$6))","v":260},{"$f":"COUNT(E14:INDEX(E14:AI14,31-Лист1!$I$6))","v":13}]
["2 ср","оплата ЖКУ ",15,"1р/м",{"$f":"IF(IF(ISNUMBER(-MID(\" \"&$A15,SEARCH(E$3,\" \"&$A15)-2,1)),MID(\" \"&$A15,SEARCH(E$3,\" \"&$A15)-2,4)=COUNTIF($E$3:E$3,E$3)&\" \"&E$3,ISNUMBER(SEARCH(E$3,$A15))),$C15,\"\")","v":""},{"$f":"IF(IF(ISNUMBER(-MID(\" \"&$A15,SEARCH(F$3,\" \"&$A15)-2,1)),MID(\" \"&$A15,SEARCH(F$3,\" \"&$A15)-2,4)=COUNTIF($E$3:F$3,F$3)&\" \"&F$3,ISNUMBER(SEARCH(F$3,$A15))),$C15,\"\")","v":""},{"$f":"IF(IF(ISNUMBER(-MID(\" \"&$A15,SEARCH(G$3,\" \"&$A15)-2,1)),MID(\" \"&$A15,SEARCH(G$3,\" \"&$A15)-2,4)=COUNTIF($E$3:G$3,G$3)&\" \"&G$3,ISNUMBER(SEARCH(G$3,$A15))),$C15,\"\")","v":""},{"$f":"IF(IF(ISNUMBER(-MID(\" \"&$A15,SEARCH(H$3,\" \"&$A15)-2,1)),MID(\" \"&$A15,SEARCH(H$3,\" \"&$A15)-2,4)=COUNTIF($E$3:H$3,H$3)&\" \"&H$3,ISNUMBER(SEARCH(H$3,$A15))),$C15,\"\")","v":""},{"$f":"IF(IF(ISNUMBER(-MID(\" \"&$A15,SEARCH(I$3,\" \"&$A15)-2,1)),MID(\" \"&$A15,SEARCH(I$3,\" \"&$A15)-2,4)=COUNTIF($E$3:I$3,I$3)&\" \"&I$3,ISNUMBER(SEARCH(I$3,$A15))),$C15,\"\")","v":""},{"$f":"IF(IF(ISNUMBER(-MID(\" \"&$A15,SEARCH(J$3,\" \"&$A15)-2,1)),MID(\" \"&$A15,SEARCH(J$3,\" \"&$A15)-2,4)=COUNTIF($E$3:J$3,J$3)&\" \"&J$3,ISNUMBER(SEARCH(J$3,$A15))),$C15,\"\")","v":""},{"$f":"IF(IF(ISNUMBER(-MID(\" \"&$A15,SEARCH(K$3,\" \"&$A15)-2,1)),MID(\" \"&$A15,SEARCH(K$3,\" \"&$A15)-2,4)=COUNTIF($E$3:K$3,K$3)&\" \"&K$3,ISNUMBER(SEARCH(K$3,$A15))),$C15,\"\")","v":""},{"$f":"IF(IF(ISNUMBER(-MID(\" \"&$A15,SEARCH(L$3,\" \"&$A15)-2,1)),MID(\" \"&$A15,SEARCH(L$3,\" \"&$A15)-2,4)=COUNTIF($E$3:L$3,L$3)&\" \"&L$3,ISNUMBER(SEARCH(L$3,$A15))),$C15,\"\")","v":""},{"$f":"IF(IF(ISNUMBER(-MID(\" \"&$A15,SEARCH(M$3,\" \"&$A15)-2,1)),MID(\" \"&$A15,SEARCH(M$3,\" \"&$A15)-2,4)=COUNTIF($E$3:M$3,M$3)&\" \"&M$3,ISNUMBER(SEARCH(M$3,$A15))),$C15,\"\")","v":""},{"$f":"IF(IF(ISNUMBER(-MID(\" \"&$A15,SEARCH(N$3,\" \"&$A15)-2,1)),MID(\" \"&$A15,SEARCH(N$3,\" \"&$A15)-2,4)=COUNTIF($E$3:N$3,N$3)&\" \"&N$3,ISNUMBER(SEARCH(N$3,$A15))),$C15,\"\")","v":""},{"$f":"IF(IF(ISNUMBER(-MID(\" \"&$A15,SEARCH(O$3,\" \"&$A15)-2,1)),MID(\" \"&$A15,SEARCH(O$3,\" \"&$A15)-2,4)=COUNTIF($E$3:O$3,O$3)&\" \"&O$3,ISNUMBER(SEARCH(O$3,$A15))),$C15,\"\")","v":""},{"$f":"IF(IF(ISNUMBER(-MID(\" \"&$A15,SEARCH(P$3,\" \"&$A15)-2,1)),MID(\" \"&$A15,SEARCH(P$3,\" \"&$A15)-2,4)=COUNTIF($E$3:P$3,P$3)&\" \"&P$3,ISNUMBER(SEARCH(P$3,$A15))),$C15,\"\")","v":""},{"$f":"IF(IF(ISNUMBER(-MID(\" \"&$A15,SEARCH(Q$3,\" \"&$A15)-2,1)),MID(\" \"&$A15,SEARCH(Q$3,\" \"&$A15)-2,4)=COUNTIF($E$3:Q$3,Q$3)&\" \"&Q$3,ISNUMBER(SEARCH(Q$3,$A15))),$C15,\"\")","v":15},{"$f":"IF(IF(ISNUMBER(-MID(\" \"&$A15,SEARCH(R$3,\" \"&$A15)-2,1)),MID(\" \"&$A15,SEARCH(R$3,\" \"&$A15)-2,4)=COUNTIF($E$3:R$3,R$3)&\" \"&R$3,ISNUMBER(SEARCH(R$3,$A15))),$C15,\"\")","v":""},{"$f":"IF(IF(ISNUMBER(-MID(\" \"&$A15,SEARCH(S$3,\" \"&$A15)-2,1)),MID(\" \"&$A15,SEARCH(S$3,\" \"&$A15)-2,4)=COUNTIF($E$3:S$3,S$3)&\" \"&S$3,ISNUMBER(SEARCH(S$3,$A15))),$C15,\"\")","v":""},{"$f":"IF(IF(ISNUMBER(-MID(\" \"&$A15,SEARCH(T$3,\" \"&$A15)-2,1)),MID(\" \"&$A15,SEARCH(T$3,\" \"&$A15)-2,4)=COUNTIF($E$3:T$3,T$3)&\" \"&T$3,ISNUMBER(SEARCH(T$3,$A15))),$C15,\"\")","v":""},{"$f":"IF(IF(ISNUMBER(-MID(\" \"&$A15,SEARCH(U$3,\" \"&$A15)-2,1)),MID(\" \"&$A15,SEARCH(U$3,\" \"&$A15)-2,4)=COUNTIF($E$3:U$3,U$3)&\" \"&U$3,ISNUMBER(SEARCH(U$3,$A15))),$C15,\"\")","v":""},{"$f":"IF(IF(ISNUMBER(-MID(\" \"&$A15,SEARCH(V$3,\" \"&$A15)-2,1)),MID(\" \"&$A15,SEARCH(V$3,\" \"&$A15)-2,4)=COUNTIF($E$3:V$3,V$3)&\" \"&V$3,ISNUMBER(SEARCH(V$3,$A15))),$C15,\"\")","v":""},{"$f":"IF(IF(ISNUMBER(-MID(\" \"&$A15,SEARCH(W$3,\" \"&$A15)-2,1)),MID(\" \"&$A15,SEARCH(W$3,\" \"&$A15)-2,4)=COUNTIF($E$3:W$3,W$3)&\" \"&W$3,ISNUMBER(SEARCH(W$3,$A15))),$C15,\"\")","v":""},{"$f":"IF(IF(ISNUMBER(-MID(\" \"&$A15,SEARCH(X$3,\" \"&$A15)-2,1)),MID(\" \"&$A15,SEARCH(X$3,\" \"&$A15)-2,4)=COUNTIF($E$3:X$3,X$3)&\" \"&X$3,ISNUMBER(SEARCH(X$3,$A15))),$C15,\"\")","v":""},{"$f":"IF(IF(ISNUMBER(-MID(\" \"&$A15,SEARCH(Y$3,\" \"&$A15)-2,1)),MID(\" \"&$A15,SEARCH(Y$3,\" \"&$A15)-2,4)=COUNTIF($E$3:Y$3,Y$3)&\" \"&Y$3,ISNUMBER(SEARCH(Y$3,$A15))),$C15,\"\")","v":""},{"$f":"IF(IF(ISNUMBER(-MID(\" \"&$A15,SEARCH(Z$3,\" \"&$A15)-2,1)),MID(\" \"&$A15,SEARCH(Z$3,\" \"&$A15)-2,4)=COUNTIF($E$3:Z$3,Z$3)&\" \"&Z$3,ISNUMBER(SEARCH(Z$3,$A15))),$C15,\"\")","v":""},{"$f":"IF(IF(ISNUMBER(-MID(\" \"&$A15,SEARCH(AA$3,\" \"&$A15)-2,1)),MID(\" \"&$A15,SEARCH(AA$3,\" \"&$A15)-2,4)=COUNTIF($E$3:AA$3,AA$3)&\" \"&AA$3,ISNUMBER(SEARCH(AA$3,$A15))),$C15,\"\")","v":""},{"$f":"IF(IF(ISNUMBER(-MID(\" \"&$A15,SEARCH(AB$3,\" \"&$A15)-2,1)),MID(\" \"&$A15,SEARCH(AB$3,\" \"&$A15)-2,4)=COUNTIF($E$3:AB$3,AB$3)&\" \"&AB$3,ISNUMBER(SEARCH(AB$3,$A15))),$C15,\"\")","v":""},{"$f":"IF(IF(ISNUMBER(-MID(\" \"&$A15,SEARCH(AC$3,\" \"&$A15)-2,1)),MID(\" \"&$A15,SEARCH(AC$3,\" \"&$A15)-2,4)=COUNTIF($E$3:AC$3,AC$3)&\" \"&AC$3,ISNUMBER(SEARCH(AC$3,$A15))),$C15,\"\")","v":""},{"$f":"IF(IF(ISNUMBER(-MID(\" \"&$A15,SEARCH(AD$3,\" \"&$A15)-2,1)),MID(\" \"&$A15,SEARCH(AD$3,\" \"&$A15)-2,4)=COUNTIF($E$3:AD$3,AD$3)&\" \"&AD$3,ISNUMBER(SEARCH(AD$3,$A15))),$C15,\"\")","v":""},{"$f":"IF(IF(ISNUMBER(-MID(\" \"&$A15,SEARCH(AE$3,\" \"&$A15)-2,1)),MID(\" \"&$A15,SEARCH(AE$3,\" \"&$A15)-2,4)=COUNTIF($E$3:AE$3,AE$3)&\" \"&AE$3,ISNUMBER(SEARCH(AE$3,$A15))),$C15,\"\")","v":""},{"$f":"IF(IF(ISNUMBER(-MID(\" \"&$A15,SEARCH(AF$3,\" \"&$A15)-2,1)),MID(\" \"&$A15,SEARCH(AF$3,\" \"&$A15)-2,4)=COUNTIF($E$3:AF$3,AF$3)&\" \"&AF$3,ISNUMBER(SEARCH(AF$3,$A15))),$C15,\"\")","v":""},{"$f":"IF(IF(ISNUMBER(-MID(\" \"&$A15,SEARCH(AG$3,\" \"&$A15)-2,1)),MID(\" \"&$A15,SEARCH(AG$3,\" \"&$A15)-2,4)=COUNTIF($E$3:AG$3,AG$3)&\" \"&AG$3,ISNUMBER(SEARCH(AG$3,$A15))),$C15,\"\")","v":""},{"$f":"IF(IF(ISNUMBER(-MID(\" \"&$A15,SEARCH(AH$3,\" \"&$A15)-2,1)),MID(\" \"&$A15,SEARCH(AH$3,\" \"&$A15)-2,4)=COUNTIF($E$3:AH$3,AH$3)&\" \"&AH$3,ISNUMBER(SEARCH(AH$3,$A15))),$C15,\"\")","v":""},{"$f":"IF(IF(ISNUMBER(-MID(\" \"&$A15,SEARCH(AI$3,\" \"&$A15)-2,1)),MID(\" \"&$A15,SEARCH(AI$3,\" \"&$A15)-2,4)=COUNTIF($E$3:AI$3,AI$3)&\" \"&AI$3,ISNUMBER(SEARCH(AI$3,$A15))),$C15,\"\")","v":""},{"$f":"SUM(E15:INDEX(E15:AI15,31-Лист1!$I$6))","v":15},{"$f":"COUNT(E15:INDEX(E15:AI15,31-Лист1!$I$6))","v":1}]
[]
["Всего затрачено времени (мин)",null,null,null,{"$f":"SUM(E5:E14)","v":40},0,0,105,75,75,110,40,0,0,90,75,75,110,40,0,0,90,75,75,110,40,0,0,90,75,75,125,40,0,0,1630,64]
["Всего затрачено времени (час)",null,null,null,{"$f":"E17/1440","v":"00:40:00"},{"$f":"F17/1440","v":"00:00:00"},"00:00:00","01:45:00","01:15:00","01:15:00","01:50:00","00:40:00","00:00:00","00:00:00","01:30:00","01:15:00","01:15:00","01:50:00","00:40:00","00:00:00","00:00:00","01:30:00","01:15:00","01:15:00","01:50:00","00:40:00","00:00:00","00:00:00","01:30:00","01:15:00","01:15:00","02:05:00","00:40:00","00:00:00","00:00:00",{"$f":"SUM(E18:AI18)","v":1.1319444444444444}]
[]
[null,null,null,null,null,null,null,null,null,null,null,null,"Социальный работник    ______________      "]