{"text_format":"1","workbook":"xlsx","n_sheets":2,"sheets":["Диаграмма","GLB Ts+dSST"],"not_rendered":{"charts":2,"images":0,"macros":0,"external_links":1,"defined_names":2,"comments":1,"pivot_tables":0},"unopened":[],"bounds":{"document_bytes":16777216,"sheet_cells":100000,"rows_first":2000,"rows_last":500,"rows_between":2000,"halvings":0,"cell_chars":16384,"cell_head_chars":4096},"cells_cut":0,"cells_raw":0,"read":"whole","date_system":"1900"}

{"sheet":"Диаграмма","index":0,"n_rows":7,"n_cols":14,"rows_kept":7,"cut":false,"hidden":false,"merged":[]}
[]
[]
[]
[null,null,null,null,null,"Динамика температуры"]
[null,null,{"$f":"MATCH($N$7,'GLB Ts+dSST'!$A:$A,0)","v":2}]
[null,"янв","фев","мар","апр","май","июн","июл","авг","сен","окт","ноя","дек","Выбрать год"]
[null,{"$f":"IFERROR(INDEX(GLB_Ts_dSST[],MATCH($N$7,'GLB Ts+dSST'!$A:$A,0)-1,COLUMN()),\"\")","v":-17},{"$f":"IFERROR(INDEX(GLB_Ts_dSST[],MATCH($N$7,'GLB Ts+dSST'!$A:$A,0)-1,COLUMN()),\"\")","v":-23},{"$f":"IFERROR(INDEX(GLB_Ts_dSST[],MATCH($N$7,'GLB Ts+dSST'!$A:$A,0)-1,COLUMN()),\"\")","v":-8},{"$f":"IFERROR(INDEX(GLB_Ts_dSST[],MATCH($N$7,'GLB Ts+dSST'!$A:$A,0)-1,COLUMN()),\"\")","v":-15},{"$f":"IFERROR(INDEX(GLB_Ts_dSST[],MATCH($N$7,'GLB Ts+dSST'!$A:$A,0)-1,COLUMN()),\"\")","v":-9},{"$f":"IFERROR(INDEX(GLB_Ts_dSST[],MATCH($N$7,'GLB Ts+dSST'!$A:$A,0)-1,COLUMN()),\"\")","v":-20},{"$f":"IFERROR(INDEX(GLB_Ts_dSST[],MATCH($N$7,'GLB Ts+dSST'!$A:$A,0)-1,COLUMN()),\"\")","v":-17},{"$f":"IFERROR(INDEX(GLB_Ts_dSST[],MATCH($N$7,'GLB Ts+dSST'!$A:$A,0)-1,COLUMN()),\"\")","v":-9},{"$f":"IFERROR(INDEX(GLB_Ts_dSST[],MATCH($N$7,'GLB Ts+dSST'!$A:$A,0)-1,COLUMN()),\"\")","v":-13},{"$f":"IFERROR(INDEX(GLB_Ts_dSST[],MATCH($N$7,'GLB Ts+dSST'!$A:$A,0)-1,COLUMN()),\"\")","v":-23},{"$f":"IFERROR(INDEX(GLB_Ts_dSST[],MATCH($N$7,'GLB Ts+dSST'!$A:$A,0)-1,COLUMN()),\"\")","v":-21},{"$f":"IFERROR(INDEX(GLB_Ts_dSST[],MATCH($N$7,'GLB Ts+dSST'!$A:$A,0)-1,COLUMN()),\"\")","v":""},1880]

{"sheet":"GLB Ts+dSST","index":1,"n_rows":143,"n_cols":14,"rows_kept":143,"cut":false,"hidden":false,"merged":[]}
["Год","Янв","Фев","Мар","Апр","Май","Июн","Июл","Авг","Сен","Окт","Ноя","MIN","MAX"]
[1880,-17,-23,-8,-15,-9,-20,-17,-9,-13,-23,-21,{"$f":"MIN(GLB_Ts_dSST[[#This Row],[Янв]:[Ноя]])","v":-23},{"$f":"MAX(GLB_Ts_dSST[[#This Row],[Янв]:[Ноя]])","v":-8}]
[1881,-18,-13,4,6,7,-18,1,-2,-14,-20,-17,{"$f":"MIN(GLB_Ts_dSST[[#This Row],[Янв]:[Ноя]])","v":-20},{"$f":"MAX(GLB_Ts_dSST[[#This Row],[Янв]:[Ноя]])","v":7}]
[1882,17,15,5,-16,-13,-22,-15,-6,-14,-23,-16,{"$f":"MIN(GLB_Ts_dSST[[#This Row],[Янв]:[Ноя]])","v":-23},{"$f":"MAX(GLB_Ts_dSST[[#This Row],[Янв]:[Ноя]])","v":17}]
[1883,-28,-36,-12,-18,-17,-6,-6,-13,-21,-11,-23,{"$f":"MIN(GLB_Ts_dSST[[#This Row],[Янв]:[Ноя]])","v":-36},{"$f":"MAX(GLB_Ts_dSST[[#This Row],[Янв]:[Ноя]])","v":-6}]
[1884,-12,-7,-36,-39,-33,-34,-32,-27,-26,-24,-32,{"$f":"MIN(GLB_Ts_dSST[[#This Row],[Янв]:[Ноя]])","v":-39},{"$f":"MAX(GLB_Ts_dSST[[#This Row],[Янв]:[Ноя]])","v":-7}]
[1885,-58,-33,-26,-41,-45,-43,-33,-31,-28,-23,-23,{"$f":"MIN(GLB_Ts_dSST[[#This Row],[Янв]:[Ноя]])","v":-58},{"$f":"MAX(GLB_Ts_dSST[[#This Row],[Янв]:[Ноя]])","v":-23}]
[1886,-43,-50,-43,-27,-24,-34,-17,-30,-23,-27,-27,{"$f":"MIN(GLB_Ts_dSST[[#This Row],[Янв]:[Ноя]])","v":-50},{"$f":"MAX(GLB_Ts_dSST[[#This Row],[Янв]:[Ноя]])","v":-17}]
[1887,-71,-56,-35,-34,-30,-24,-25,-35,-25,-35,-26,{"$f":"MIN(GLB_Ts_dSST[[#This Row],[Янв]:[Ноя]])","v":-71},{"$f":"MAX(GLB_Ts_dSST[[#This Row],[Янв]:[Ноя]])","v":-24}]
[1888,-33,-35,-41,-20,-21,-17,-10,-15,-11,2,3,{"$f":"MIN(GLB_Ts_dSST[[#This Row],[Янв]:[Ноя]])","v":-41},{"$f":"MAX(GLB_Ts_dSST[[#This Row],[Янв]:[Ноя]])","v":3}]
[1889,-8,17,7,10,0,-10,-7,-20,-23,-25,-33,{"$f":"MIN(GLB_Ts_dSST[[#This Row],[Янв]:[Ноя]])","v":-33},{"$f":"MAX(GLB_Ts_dSST[[#This Row],[Янв]:[Ноя]])","v":17}]
[1890,-41,-44,-40,-29,-39,-24,-27,-39,-36,-25,-43,{"$f":"MIN(GLB_Ts_dSST[[#This Row],[Янв]:[Ноя]])","v":-44},{"$f":"MAX(GLB_Ts_dSST[[#This Row],[Янв]:[Ноя]])","v":-24}]
[1891,-33,-47,-18,-27,-16,-20,-17,-17,-15,-21,-31,{"$f":"MIN(GLB_Ts_dSST[[#This Row],[Янв]:[Ноя]])","v":-47},{"$f":"MAX(GLB_Ts_dSST[[#This Row],[Янв]:[Ноя]])","v":-15}]
[1892,-28,-10,-40,-33,-23,-22,-31,-27,-16,-14,-41,{"$f":"MIN(GLB_Ts_dSST[[#This Row],[Янв]:[Ноя]])","v":-41},{"$f":"MAX(GLB_Ts_dSST[[#This Row],[Янв]:[Ноя]])","v":-10}]
[1893,-81,-56,-22,-27,-33,-25,-13,-24,-21,-18,-18,{"$f":"MIN(GLB_Ts_dSST[[#This Row],[Янв]:[Ноя]])","v":-81},{"$f":"MAX(GLB_Ts_dSST[[#This Row],[Янв]:[Ноя]])","v":-13}]
[1894,-52,-28,-23,-44,-30,-40,-23,-23,-27,-23,-25,{"$f":"MIN(GLB_Ts_dSST[[#This Row],[Янв]:[Ноя]])","v":-52},{"$f":"MAX(GLB_Ts_dSST[[#This Row],[Янв]:[Ноя]])","v":-23}]
[1895,-40,-42,-32,-21,-27,-21,-16,-17,-12,-11,-17,{"$f":"MIN(GLB_Ts_dSST[[#This Row],[Янв]:[Ноя]])","v":-42},{"$f":"MAX(GLB_Ts_dSST[[#This Row],[Янв]:[Ноя]])","v":-11}]
[1896,-22,-12,-26,-30,-15,-11,-2,-5,-7,6,-4,{"$f":"MIN(GLB_Ts_dSST[[#This Row],[Янв]:[Ноя]])","v":-30},{"$f":"MAX(GLB_Ts_dSST[[#This Row],[Янв]:[Ноя]])","v":6}]
[1897,-15,-16,-13,-2,-1,-11,-2,-9,-8,-12,-18,{"$f":"MIN(GLB_Ts_dSST[[#This Row],[Янв]:[Ноя]])","v":-18},{"$f":"MAX(GLB_Ts_dSST[[#This Row],[Янв]:[Ноя]])","v":-1}]
[1898,-1,-30,-50,-30,-29,-18,-21,-26,-21,-34,-38,{"$f":"MIN(GLB_Ts_dSST[[#This Row],[Янв]:[Ноя]])","v":-50},{"$f":"MAX(GLB_Ts_dSST[[#This Row],[Янв]:[Ноя]])","v":-1}]
[1899,-16,-38,-35,-20,-22,-31,-16,-8,-5,-4,13,{"$f":"MIN(GLB_Ts_dSST[[#This Row],[Янв]:[Ноя]])","v":-38},{"$f":"MAX(GLB_Ts_dSST[[#This Row],[Янв]:[Ноя]])","v":13}]
[1900,-35,-5,1,-8,-8,-9,-13,-9,-5,10,-6,{"$f":"MIN(GLB_Ts_dSST[[#This Row],[Янв]:[Ноя]])","v":-35},{"$f":"MAX(GLB_Ts_dSST[[#This Row],[Янв]:[Ноя]])","v":10}]
[1901,-21,-10,7,-2,-15,-12,-14,-20,-22,-29,-17,{"$f":"MIN(GLB_Ts_dSST[[#This Row],[Янв]:[Ноя]])","v":-29},{"$f":"MAX(GLB_Ts_dSST[[#This Row],[Янв]:[Ноя]])","v":7}]
[1902,-17,-6,-27,-28,-32,-29,-27,-29,-28,-28,-35,{"$f":"MIN(GLB_Ts_dSST[[#This Row],[Янв]:[Ноя]])","v":-35},{"$f":"MAX(GLB_Ts_dSST[[#This Row],[Янв]:[Ноя]])","v":-6}]
[1903,-23,-5,-22,-40,-39,-42,-35,-45,-49,-48,-42,{"$f":"MIN(GLB_Ts_dSST[[#This Row],[Янв]:[Ноя]])","v":-49},{"$f":"MAX(GLB_Ts_dSST[[#This Row],[Янв]:[Ноя]])","v":-5}]
[1904,-63,-57,-48,-50,-51,-48,-50,-48,-55,-38,-17,{"$f":"MIN(GLB_Ts_dSST[[#This Row],[Янв]:[Ноя]])","v":-63},{"$f":"MAX(GLB_Ts_dSST[[#This Row],[Янв]:[Ноя]])","v":-17}]
[1905,-34,-58,-21,-33,-29,-28,-26,-20,-18,-24,-6,{"$f":"MIN(GLB_Ts_dSST[[#This Row],[Янв]:[Ноя]])","v":-58},{"$f":"MAX(GLB_Ts_dSST[[#This Row],[Янв]:[Ноя]])","v":-6}]
[1906,-28,-29,-18,-4,-25,-19,-22,-19,-28,-20,-37,{"$f":"MIN(GLB_Ts_dSST[[#This Row],[Янв]:[Ноя]])","v":-37},{"$f":"MAX(GLB_Ts_dSST[[#This Row],[Янв]:[Ноя]])","v":-4}]
[1907,-43,-51,-27,-36,-46,-41,-34,-33,-34,-22,-46,{"$f":"MIN(GLB_Ts_dSST[[#This Row],[Янв]:[Ноя]])","v":-51},{"$f":"MAX(GLB_Ts_dSST[[#This Row],[Янв]:[Ноя]])","v":-22}]
[1908,-44,-32,-55,-44,-37,-38,-35,-46,-35,-43,-51,{"$f":"MIN(GLB_Ts_dSST[[#This Row],[Янв]:[Ноя]])","v":-55},{"$f":"MAX(GLB_Ts_dSST[[#This Row],[Янв]:[Ноя]])","v":-32}]
[1909,-72,-45,-54,-58,-54,-51,-45,-33,-38,-39,-31,{"$f":"MIN(GLB_Ts_dSST[[#This Row],[Янв]:[Ноя]])","v":-72},{"$f":"MAX(GLB_Ts_dSST[[#This Row],[Янв]:[Ноя]])","v":-31}]
[1910,-41,-41,-50,-42,-34,-39,-34,-36,-39,-41,-55,{"$f":"MIN(GLB_Ts_dSST[[#This Row],[Янв]:[Ноя]])","v":-55},{"$f":"MAX(GLB_Ts_dSST[[#This Row],[Янв]:[Ноя]])","v":-34}]
[1911,-62,-57,-61,-53,-51,-50,-41,-44,-40,-26,-20,{"$f":"MIN(GLB_Ts_dSST[[#This Row],[Янв]:[Ноя]])","v":-62},{"$f":"MAX(GLB_Ts_dSST[[#This Row],[Янв]:[Ноя]])","v":-20}]
[1912,-25,-14,-37,-17,-21,-23,-42,-54,-58,-57,-38,{"$f":"MIN(GLB_Ts_dSST[[#This Row],[Янв]:[Ноя]])","v":-58},{"$f":"MAX(GLB_Ts_dSST[[#This Row],[Янв]:[Ноя]])","v":-14}]
[1913,-40,-44,-42,-39,-43,-45,-36,-34,-34,-32,-19,{"$f":"MIN(GLB_Ts_dSST[[#This Row],[Янв]:[Ноя]])","v":-45},{"$f":"MAX(GLB_Ts_dSST[[#This Row],[Янв]:[Ноя]])","v":-19}]
[1914,5,-9,-24,-29,-21,-26,-23,-16,-17,-3,-15,{"$f":"MIN(GLB_Ts_dSST[[#This Row],[Янв]:[Ноя]])","v":-29},{"$f":"MAX(GLB_Ts_dSST[[#This Row],[Янв]:[Ноя]])","v":5}]
[1915,-20,-3,-10,7,-6,-22,-13,-22,-21,-24,-13,{"$f":"MIN(GLB_Ts_dSST[[#This Row],[Янв]:[Ноя]])","v":-24},{"$f":"MAX(GLB_Ts_dSST[[#This Row],[Янв]:[Ноя]])","v":7}]
[1916,-12,-14,-28,-30,-34,-50,-37,-29,-36,-33,-46,{"$f":"MIN(GLB_Ts_dSST[[#This Row],[Янв]:[Ноя]])","v":-50},{"$f":"MAX(GLB_Ts_dSST[[#This Row],[Янв]:[Ноя]])","v":-12}]
[1917,-58,-63,-64,-55,-55,-44,-25,-22,-23,-44,-33,{"$f":"MIN(GLB_Ts_dSST[[#This Row],[Янв]:[Ноя]])","v":-64},{"$f":"MAX(GLB_Ts_dSST[[#This Row],[Янв]:[Ноя]])","v":-22}]
[1918,-47,-34,-24,-43,-42,-36,-31,-31,-17,-6,-11,{"$f":"MIN(GLB_Ts_dSST[[#This Row],[Янв]:[Ноя]])","v":-47},{"$f":"MAX(GLB_Ts_dSST[[#This Row],[Янв]:[Ноя]])","v":-6}]
[1919,-20,-24,-21,-12,-28,-36,-29,-33,-25,-20,-41,{"$f":"MIN(GLB_Ts_dSST[[#This Row],[Янв]:[Ноя]])","v":-41},{"$f":"MAX(GLB_Ts_dSST[[#This Row],[Янв]:[Ноя]])","v":-12}]
[1920,-24,-26,-12,-24,-27,-36,-30,-26,-22,-26,-26,{"$f":"MIN(GLB_Ts_dSST[[#This Row],[Янв]:[Ноя]])","v":-36},{"$f":"MAX(GLB_Ts_dSST[[#This Row],[Янв]:[Ноя]])","v":-12}]
[1921,-4,-17,-23,-30,-30,-27,-15,-26,-19,-4,-13,{"$f":"MIN(GLB_Ts_dSST[[#This Row],[Янв]:[Ноя]])","v":-30},{"$f":"MAX(GLB_Ts_dSST[[#This Row],[Янв]:[Ноя]])","v":-4}]
[1922,-33,-44,-15,-23,-34,-31,-27,-33,-36,-33,-15,{"$f":"MIN(GLB_Ts_dSST[[#This Row],[Янв]:[Ноя]])","v":-44},{"$f":"MAX(GLB_Ts_dSST[[#This Row],[Янв]:[Ноя]])","v":-15}]
[1923,-28,-39,-34,-41,-33,-29,-31,-33,-31,-14,-2,{"$f":"MIN(GLB_Ts_dSST[[#This Row],[Янв]:[Ноя]])","v":-41},{"$f":"MAX(GLB_Ts_dSST[[#This Row],[Янв]:[Ноя]])","v":-2}]
[1924,-23,-24,-8,-31,-18,-26,-29,-36,-32,-35,-21,{"$f":"MIN(GLB_Ts_dSST[[#This Row],[Янв]:[Ноя]])","v":-36},{"$f":"MAX(GLB_Ts_dSST[[#This Row],[Янв]:[Ноя]])","v":-8}]
[1925,-38,-40,-28,-25,-29,-32,-26,-20,-20,-17,5,{"$f":"MIN(GLB_Ts_dSST[[#This Row],[Янв]:[Ноя]])","v":-40},{"$f":"MAX(GLB_Ts_dSST[[#This Row],[Янв]:[Ноя]])","v":5}]
[1926,21,3,11,-12,-23,-26,-27,-13,-14,-11,-6,{"$f":"MIN(GLB_Ts_dSST[[#This Row],[Янв]:[Ноя]])","v":-27},{"$f":"MAX(GLB_Ts_dSST[[#This Row],[Янв]:[Ноя]])","v":21}]
[1927,-27,-18,-38,-30,-25,-27,-18,-24,-13,-1,-6,{"$f":"MIN(GLB_Ts_dSST[[#This Row],[Янв]:[Ноя]])","v":-38},{"$f":"MAX(GLB_Ts_dSST[[#This Row],[Янв]:[Ноя]])","v":-1}]
[1928,-2,-9,-25,-28,-30,-39,-19,-22,-21,-19,-9,{"$f":"MIN(GLB_Ts_dSST[[#This Row],[Янв]:[Ноя]])","v":-39},{"$f":"MAX(GLB_Ts_dSST[[#This Row],[Янв]:[Ноя]])","v":-2}]
[1929,-45,-58,-32,-41,-38,-43,-36,-32,-25,-14,-11,{"$f":"MIN(GLB_Ts_dSST[[#This Row],[Янв]:[Ноя]])","v":-58},{"$f":"MAX(GLB_Ts_dSST[[#This Row],[Янв]:[Ноя]])","v":-11}]
[1930,-29,-26,-11,-24,-23,-22,-21,-15,-15,-12,18,{"$f":"MIN(GLB_Ts_dSST[[#This Row],[Янв]:[Ноя]])","v":-29},{"$f":"MAX(GLB_Ts_dSST[[#This Row],[Янв]:[Ноя]])","v":18}]
[1931,-10,-21,-10,-23,-19,-8,-4,-4,-7,5,-5,{"$f":"MIN(GLB_Ts_dSST[[#This Row],[Янв]:[Ноя]])","v":-23},{"$f":"MAX(GLB_Ts_dSST[[#This Row],[Янв]:[Ноя]])","v":5}]
[1932,15,-17,-18,-5,-17,-29,-24,-22,-11,-9,-27,{"$f":"MIN(GLB_Ts_dSST[[#This Row],[Янв]:[Ноя]])","v":-29},{"$f":"MAX(GLB_Ts_dSST[[#This Row],[Янв]:[Ноя]])","v":15}]
[1933,-23,-29,-29,-24,-29,-34,-21,-24,-29,-25,-31,{"$f":"MIN(GLB_Ts_dSST[[#This Row],[Янв]:[Ноя]])","v":-34},{"$f":"MAX(GLB_Ts_dSST[[#This Row],[Янв]:[Ноя]])","v":-21}]
[1934,-21,-2,-29,-30,-9,-15,-10,-12,-15,-7,3,{"$f":"MIN(GLB_Ts_dSST[[#This Row],[Янв]:[Ноя]])","v":-30},{"$f":"MAX(GLB_Ts_dSST[[#This Row],[Янв]:[Ноя]])","v":3}]
[1935,-33,14,-14,-37,-29,-27,-21,-22,-21,-6,-26,{"$f":"MIN(GLB_Ts_dSST[[#This Row],[Янв]:[Ноя]])","v":-37},{"$f":"MAX(GLB_Ts_dSST[[#This Row],[Янв]:[Ноя]])","v":14}]
[1936,-27,-38,-21,-20,-16,-22,-10,-13,-9,-3,2,{"$f":"MIN(GLB_Ts_dSST[[#This Row],[Янв]:[Ноя]])","v":-38},{"$f":"MAX(GLB_Ts_dSST[[#This Row],[Янв]:[Ноя]])","v":2}]
[1937,-7,4,-20,-15,-5,-5,-3,2,9,9,9,{"$f":"MIN(GLB_Ts_dSST[[#This Row],[Янв]:[Ноя]])","v":-20},{"$f":"MAX(GLB_Ts_dSST[[#This Row],[Янв]:[Ноя]])","v":9}]
[1938,8,4,10,6,-9,-17,-9,-5,0,15,8,{"$f":"MIN(GLB_Ts_dSST[[#This Row],[Янв]:[Ноя]])","v":-17},{"$f":"MAX(GLB_Ts_dSST[[#This Row],[Янв]:[Ноя]])","v":15}]
[1939,-5,-6,-17,-9,-4,-7,-5,-6,-7,-3,7,{"$f":"MIN(GLB_Ts_dSST[[#This Row],[Янв]:[Ноя]])","v":-17},{"$f":"MAX(GLB_Ts_dSST[[#This Row],[Янв]:[Ноя]])","v":7}]
[1940,0,8,9,18,11,11,12,7,15,11,17,{"$f":"MIN(GLB_Ts_dSST[[#This Row],[Янв]:[Ноя]])","v":0},{"$f":"MAX(GLB_Ts_dSST[[#This Row],[Янв]:[Ноя]])","v":18}]
[1941,18,31,10,16,17,13,22,15,2,35,23,{"$f":"MIN(GLB_Ts_dSST[[#This Row],[Янв]:[Ноя]])","v":2},{"$f":"MAX(GLB_Ts_dSST[[#This Row],[Янв]:[Ноя]])","v":35}]
[1942,29,2,5,9,11,5,1,-4,-3,1,10,{"$f":"MIN(GLB_Ts_dSST[[#This Row],[Янв]:[Ноя]])","v":-4},{"$f":"MAX(GLB_Ts_dSST[[#This Row],[Янв]:[Ноя]])","v":29}]
[1943,-1,17,-3,11,7,-5,9,1,5,23,20,{"$f":"MIN(GLB_Ts_dSST[[#This Row],[Янв]:[Ноя]])","v":-5},{"$f":"MAX(GLB_Ts_dSST[[#This Row],[Янв]:[Ноя]])","v":23}]
[1944,36,24,26,19,19,15,18,18,28,26,11,{"$f":"MIN(GLB_Ts_dSST[[#This Row],[Янв]:[Ноя]])","v":11},{"$f":"MAX(GLB_Ts_dSST[[#This Row],[Янв]:[Ноя]])","v":36}]
[1945,10,0,6,19,6,0,3,26,20,18,7,{"$f":"MIN(GLB_Ts_dSST[[#This Row],[Янв]:[Ноя]])","v":0},{"$f":"MAX(GLB_Ts_dSST[[#This Row],[Янв]:[Ноя]])","v":26}]
[1946,15,3,1,5,-7,-21,-12,-20,-8,-7,-5,{"$f":"MIN(GLB_Ts_dSST[[#This Row],[Янв]:[Ноя]])","v":-21},{"$f":"MAX(GLB_Ts_dSST[[#This Row],[Янв]:[Ноя]])","v":15}]
[1947,-6,-8,6,6,-1,-2,-4,-7,-13,7,3,{"$f":"MIN(GLB_Ts_dSST[[#This Row],[Янв]:[Ноя]])","v":-13},{"$f":"MAX(GLB_Ts_dSST[[#This Row],[Янв]:[Ноя]])","v":7}]
[1948,6,-15,-24,-12,-1,-5,-11,-12,-15,-5,-12,{"$f":"MIN(GLB_Ts_dSST[[#This Row],[Янв]:[Ноя]])","v":-24},{"$f":"MAX(GLB_Ts_dSST[[#This Row],[Янв]:[Ноя]])","v":6}]
[1949,7,-14,-2,-11,-10,-27,-13,-13,-15,-7,-10,{"$f":"MIN(GLB_Ts_dSST[[#This Row],[Янв]:[Ноя]])","v":-27},{"$f":"MAX(GLB_Ts_dSST[[#This Row],[Янв]:[Ноя]])","v":7}]
[1950,-26,-27,-8,-21,-11,-5,-9,-16,-11,-20,-34,{"$f":"MIN(GLB_Ts_dSST[[#This Row],[Янв]:[Ноя]])","v":-34},{"$f":"MAX(GLB_Ts_dSST[[#This Row],[Янв]:[Ноя]])","v":-5}]
[1951,-34,-42,-20,-14,0,-7,-1,6,5,8,-1,{"$f":"MIN(GLB_Ts_dSST[[#This Row],[Янв]:[Ноя]])","v":-42},{"$f":"MAX(GLB_Ts_dSST[[#This Row],[Янв]:[Ноя]])","v":8}]
[1952,11,11,-8,3,-3,-3,4,5,7,0,-13,{"$f":"MIN(GLB_Ts_dSST[[#This Row],[Янв]:[Ноя]])","v":-13},{"$f":"MAX(GLB_Ts_dSST[[#This Row],[Янв]:[Ноя]])","v":11}]
[1953,7,15,11,19,11,12,1,5,4,8,-3,{"$f":"MIN(GLB_Ts_dSST[[#This Row],[Янв]:[Ноя]])","v":-3},{"$f":"MAX(GLB_Ts_dSST[[#This Row],[Янв]:[Ноя]])","v":19}]
[1954,-24,-10,-14,-14,-20,-19,-19,-17,-10,-2,8,{"$f":"MIN(GLB_Ts_dSST[[#This Row],[Янв]:[Ноя]])","v":-24},{"$f":"MAX(GLB_Ts_dSST[[#This Row],[Янв]:[Ноя]])","v":8}]
[1955,13,-16,-32,-22,-20,-14,-11,2,-11,-5,-25,{"$f":"MIN(GLB_Ts_dSST[[#This Row],[Янв]:[Ноя]])","v":-32},{"$f":"MAX(GLB_Ts_dSST[[#This Row],[Янв]:[Ноя]])","v":13}]
[1956,-13,-24,-21,-28,-29,-16,-9,-26,-19,-23,-15,{"$f":"MIN(GLB_Ts_dSST[[#This Row],[Янв]:[Ноя]])","v":-29},{"$f":"MAX(GLB_Ts_dSST[[#This Row],[Янв]:[Ноя]])","v":-9}]
[1957,-9,-3,-5,0,9,16,2,15,9,1,8,{"$f":"MIN(GLB_Ts_dSST[[#This Row],[Янв]:[Ноя]])","v":-9},{"$f":"MAX(GLB_Ts_dSST[[#This Row],[Янв]:[Ноя]])","v":16}]
[1958,39,22,8,1,6,-9,5,-5,-2,4,2,{"$f":"MIN(GLB_Ts_dSST[[#This Row],[Янв]:[Ноя]])","v":-9},{"$f":"MAX(GLB_Ts_dSST[[#This Row],[Янв]:[Ноя]])","v":39}]
[1959,8,7,18,16,4,3,3,-1,-6,-7,-8,{"$f":"MIN(GLB_Ts_dSST[[#This Row],[Янв]:[Ноя]])","v":-8},{"$f":"MAX(GLB_Ts_dSST[[#This Row],[Янв]:[Ноя]])","v":18}]
[1960,0,13,-35,-15,-8,-4,-4,2,7,5,-11,{"$f":"MIN(GLB_Ts_dSST[[#This Row],[Янв]:[Ноя]])","v":-35},{"$f":"MAX(GLB_Ts_dSST[[#This Row],[Янв]:[Ноя]])","v":13}]
[1961,7,19,9,13,12,11,1,1,9,0,3,{"$f":"MIN(GLB_Ts_dSST[[#This Row],[Янв]:[Ноя]])","v":0},{"$f":"MAX(GLB_Ts_dSST[[#This Row],[Янв]:[Ноя]])","v":19}]
[1962,5,15,10,5,-6,3,2,-1,0,1,6,{"$f":"MIN(GLB_Ts_dSST[[#This Row],[Янв]:[Ноя]])","v":-6},{"$f":"MAX(GLB_Ts_dSST[[#This Row],[Янв]:[Ноя]])","v":15}]
[1963,-3,18,-14,-7,-6,5,6,22,18,15,15,{"$f":"MIN(GLB_Ts_dSST[[#This Row],[Янв]:[Ноя]])","v":-14},{"$f":"MAX(GLB_Ts_dSST[[#This Row],[Янв]:[Ноя]])","v":22}]
[1964,-9,-10,-21,-32,-25,-4,-4,-22,-29,-32,-21,{"$f":"MIN(GLB_Ts_dSST[[#This Row],[Янв]:[Ноя]])","v":-32},{"$f":"MAX(GLB_Ts_dSST[[#This Row],[Янв]:[Ноя]])","v":-4}]
[1965,-8,-17,-13,-19,-12,-8,-13,-4,-15,-5,-6,{"$f":"MIN(GLB_Ts_dSST[[#This Row],[Янв]:[Ноя]])","v":-19},{"$f":"MAX(GLB_Ts_dSST[[#This Row],[Янв]:[Ноя]])","v":-4}]
[1966,-19,-4,4,-13,-12,1,8,-9,-3,-17,-1,{"$f":"MIN(GLB_Ts_dSST[[#This Row],[Янв]:[Ноя]])","v":-19},{"$f":"MAX(GLB_Ts_dSST[[#This Row],[Янв]:[Ноя]])","v":8}]
[1967,-8,-21,5,-5,12,-8,2,1,-6,9,-5,{"$f":"MIN(GLB_Ts_dSST[[#This Row],[Янв]:[Ноя]])","v":-21},{"$f":"MAX(GLB_Ts_dSST[[#This Row],[Янв]:[Ноя]])","v":12}]
[1968,-25,-14,20,-6,-14,-9,-13,-9,-19,9,-5,{"$f":"MIN(GLB_Ts_dSST[[#This Row],[Янв]:[Ноя]])","v":-25},{"$f":"MAX(GLB_Ts_dSST[[#This Row],[Янв]:[Ноя]])","v":20}]
[1969,-11,-18,1,17,18,3,-4,3,8,9,12,{"$f":"MIN(GLB_Ts_dSST[[#This Row],[Янв]:[Ноя]])","v":-18},{"$f":"MAX(GLB_Ts_dSST[[#This Row],[Янв]:[Ноя]])","v":18}]
[1970,8,22,6,5,-4,-3,1,-10,12,3,2,{"$f":"MIN(GLB_Ts_dSST[[#This Row],[Янв]:[Ноя]])","v":-10},{"$f":"MAX(GLB_Ts_dSST[[#This Row],[Янв]:[Ноя]])","v":22}]
[1971,-3,-16,-18,-7,-5,-17,-8,-1,-6,-4,-7,{"$f":"MIN(GLB_Ts_dSST[[#This Row],[Янв]:[Ноя]])","v":-18},{"$f":"MAX(GLB_Ts_dSST[[#This Row],[Янв]:[Ноя]])","v":-1}]
[1972,-22,-18,2,0,-3,4,1,16,2,8,2,{"$f":"MIN(GLB_Ts_dSST[[#This Row],[Янв]:[Ноя]])","v":-22},{"$f":"MAX(GLB_Ts_dSST[[#This Row],[Янв]:[Ноя]])","v":16}]
[1973,29,32,29,27,23,19,13,5,9,10,5,{"$f":"MIN(GLB_Ts_dSST[[#This Row],[Янв]:[Ноя]])","v":5},{"$f":"MAX(GLB_Ts_dSST[[#This Row],[Янв]:[Ноя]])","v":32}]
[1974,-10,-27,-5,-11,-4,-5,-3,11,-7,-5,-7,{"$f":"MIN(GLB_Ts_dSST[[#This Row],[Янв]:[Ноя]])","v":-27},{"$f":"MAX(GLB_Ts_dSST[[#This Row],[Янв]:[Ноя]])","v":11}]
[1975,10,8,13,4,16,-1,-1,-17,-3,-11,-17,{"$f":"MIN(GLB_Ts_dSST[[#This Row],[Янв]:[Ноя]])","v":-17},{"$f":"MAX(GLB_Ts_dSST[[#This Row],[Янв]:[Ноя]])","v":16}]
[1976,-3,-6,-21,-7,-20,-12,-10,-12,-6,-24,-6,{"$f":"MIN(GLB_Ts_dSST[[#This Row],[Янв]:[Ноя]])","v":-24},{"$f":"MAX(GLB_Ts_dSST[[#This Row],[Янв]:[Ноя]])","v":-3}]
[1977,18,23,24,26,33,27,20,18,2,3,16,{"$f":"MIN(GLB_Ts_dSST[[#This Row],[Янв]:[Ноя]])","v":2},{"$f":"MAX(GLB_Ts_dSST[[#This Row],[Янв]:[Ноя]])","v":33}]
[1978,6,10,19,17,9,-1,4,-13,6,3,14,{"$f":"MIN(GLB_Ts_dSST[[#This Row],[Янв]:[Ноя]])","v":-13},{"$f":"MAX(GLB_Ts_dSST[[#This Row],[Янв]:[Ноя]])","v":19}]
[1979,8,-10,19,15,4,14,4,17,25,26,29,{"$f":"MIN(GLB_Ts_dSST[[#This Row],[Янв]:[Ноя]])","v":-10},{"$f":"MAX(GLB_Ts_dSST[[#This Row],[Янв]:[Ноя]])","v":29}]
[1980,30,40,30,30,35,21,22,19,21,13,30,{"$f":"MIN(GLB_Ts_dSST[[#This Row],[Янв]:[Ноя]])","v":13},{"$f":"MAX(GLB_Ts_dSST[[#This Row],[Янв]:[Ноя]])","v":40}]
[1981,53,42,48,32,25,29,32,35,15,12,23,{"$f":"MIN(GLB_Ts_dSST[[#This Row],[Янв]:[Ноя]])","v":12},{"$f":"MAX(GLB_Ts_dSST[[#This Row],[Янв]:[Ноя]])","v":53}]
[1982,5,16,3,15,18,6,15,4,14,13,18,{"$f":"MIN(GLB_Ts_dSST[[#This Row],[Янв]:[Ноя]])","v":3},{"$f":"MAX(GLB_Ts_dSST[[#This Row],[Янв]:[Ноя]])","v":18}]
[1983,53,43,42,28,34,23,18,36,37,17,30,{"$f":"MIN(GLB_Ts_dSST[[#This Row],[Янв]:[Ноя]])","v":17},{"$f":"MAX(GLB_Ts_dSST[[#This Row],[Янв]:[Ноя]])","v":53}]
[1984,31,14,26,6,33,2,19,20,21,14,7,{"$f":"MIN(GLB_Ts_dSST[[#This Row],[Янв]:[Ноя]])","v":2},{"$f":"MAX(GLB_Ts_dSST[[#This Row],[Янв]:[Ноя]])","v":33}]
[1985,22,-4,18,12,14,15,4,17,13,12,5,{"$f":"MIN(GLB_Ts_dSST[[#This Row],[Янв]:[Ноя]])","v":-4},{"$f":"MAX(GLB_Ts_dSST[[#This Row],[Янв]:[Ноя]])","v":22}]
[1986,26,37,30,22,21,12,11,16,3,16,10,{"$f":"MIN(GLB_Ts_dSST[[#This Row],[Янв]:[Ноя]])","v":3},{"$f":"MAX(GLB_Ts_dSST[[#This Row],[Янв]:[Ноя]])","v":37}]
[1987,32,43,19,25,26,35,41,25,35,33,29,{"$f":"MIN(GLB_Ts_dSST[[#This Row],[Янв]:[Ноя]])","v":19},{"$f":"MAX(GLB_Ts_dSST[[#This Row],[Янв]:[Ноя]])","v":43}]
[1988,57,44,52,43,44,40,33,39,36,38,12,{"$f":"MIN(GLB_Ts_dSST[[#This Row],[Янв]:[Ноя]])","v":12},{"$f":"MAX(GLB_Ts_dSST[[#This Row],[Янв]:[Ноя]])","v":57}]
[1989,12,30,36,29,17,15,34,33,34,29,19,{"$f":"MIN(GLB_Ts_dSST[[#This Row],[Янв]:[Ноя]])","v":12},{"$f":"MAX(GLB_Ts_dSST[[#This Row],[Янв]:[Ноя]])","v":36}]
[1990,41,44,80,56,45,38,46,34,23,45,47,{"$f":"MIN(GLB_Ts_dSST[[#This Row],[Янв]:[Ноя]])","v":23},{"$f":"MAX(GLB_Ts_dSST[[#This Row],[Янв]:[Ноя]])","v":80}]
[1991,43,50,35,51,34,53,47,39,44,29,29,{"$f":"MIN(GLB_Ts_dSST[[#This Row],[Янв]:[Ноя]])","v":29},{"$f":"MAX(GLB_Ts_dSST[[#This Row],[Янв]:[Ноя]])","v":53}]
[1992,47,40,48,27,31,26,8,8,-1,6,2,{"$f":"MIN(GLB_Ts_dSST[[#This Row],[Янв]:[Ноя]])","v":-1},{"$f":"MAX(GLB_Ts_dSST[[#This Row],[Янв]:[Ноя]])","v":48}]
[1993,35,37,36,28,29,23,25,11,12,23,4,{"$f":"MIN(GLB_Ts_dSST[[#This Row],[Янв]:[Ноя]])","v":4},{"$f":"MAX(GLB_Ts_dSST[[#This Row],[Янв]:[Ноя]])","v":37}]
[1994,26,3,29,41,28,44,30,22,32,42,44,{"$f":"MIN(GLB_Ts_dSST[[#This Row],[Янв]:[Ноя]])","v":3},{"$f":"MAX(GLB_Ts_dSST[[#This Row],[Янв]:[Ноя]])","v":44}]
[1995,52,79,47,47,27,43,45,45,34,47,44,{"$f":"MIN(GLB_Ts_dSST[[#This Row],[Янв]:[Ноя]])","v":27},{"$f":"MAX(GLB_Ts_dSST[[#This Row],[Янв]:[Ноя]])","v":79}]
[1996,24,46,33,32,28,25,36,49,25,20,39,{"$f":"MIN(GLB_Ts_dSST[[#This Row],[Янв]:[Ноя]])","v":20},{"$f":"MAX(GLB_Ts_dSST[[#This Row],[Янв]:[Ноя]])","v":49}]
[1997,30,41,52,34,34,54,33,42,52,61,65,{"$f":"MIN(GLB_Ts_dSST[[#This Row],[Янв]:[Ноя]])","v":30},{"$f":"MAX(GLB_Ts_dSST[[#This Row],[Янв]:[Ноя]])","v":65}]
[1998,59,88,63,64,68,77,66,65,42,42,43,{"$f":"MIN(GLB_Ts_dSST[[#This Row],[Янв]:[Ноя]])","v":42},{"$f":"MAX(GLB_Ts_dSST[[#This Row],[Янв]:[Ноя]])","v":88}]
[1999,49,64,32,32,27,36,38,32,38,34,38,{"$f":"MIN(GLB_Ts_dSST[[#This Row],[Янв]:[Ноя]])","v":27},{"$f":"MAX(GLB_Ts_dSST[[#This Row],[Янв]:[Ноя]])","v":64}]
[2000,25,56,55,56,36,40,39,42,38,28,30,{"$f":"MIN(GLB_Ts_dSST[[#This Row],[Янв]:[Ноя]])","v":25},{"$f":"MAX(GLB_Ts_dSST[[#This Row],[Янв]:[Ноя]])","v":56}]
[2001,46,44,56,51,58,52,59,49,52,51,73,{"$f":"MIN(GLB_Ts_dSST[[#This Row],[Янв]:[Ноя]])","v":44},{"$f":"MAX(GLB_Ts_dSST[[#This Row],[Янв]:[Ноя]])","v":73}]
[2002,77,79,88,58,64,53,61,53,63,54,59,{"$f":"MIN(GLB_Ts_dSST[[#This Row],[Янв]:[Ноя]])","v":53},{"$f":"MAX(GLB_Ts_dSST[[#This Row],[Янв]:[Ноя]])","v":88}]
[2003,75,58,60,55,61,48,58,65,62,74,53,{"$f":"MIN(GLB_Ts_dSST[[#This Row],[Янв]:[Ноя]])","v":48},{"$f":"MAX(GLB_Ts_dSST[[#This Row],[Янв]:[Ноя]])","v":75}]
[2004,58,73,63,61,38,44,26,46,50,60,73,{"$f":"MIN(GLB_Ts_dSST[[#This Row],[Янв]:[Ноя]])","v":26},{"$f":"MAX(GLB_Ts_dSST[[#This Row],[Янв]:[Ноя]])","v":73}]
[2005,74,60,74,68,63,64,61,60,71,75,73,{"$f":"MIN(GLB_Ts_dSST[[#This Row],[Янв]:[Ноя]])","v":60},{"$f":"MAX(GLB_Ts_dSST[[#This Row],[Янв]:[Ноя]])","v":75}]
[2006,56,73,63,48,49,65,54,70,65,69,74,{"$f":"MIN(GLB_Ts_dSST[[#This Row],[Янв]:[Ноя]])","v":48},{"$f":"MAX(GLB_Ts_dSST[[#This Row],[Янв]:[Ноя]])","v":74}]
[2007,102,70,73,76,69,61,60,59,59,58,59,{"$f":"MIN(GLB_Ts_dSST[[#This Row],[Янв]:[Ноя]])","v":58},{"$f":"MAX(GLB_Ts_dSST[[#This Row],[Янв]:[Ноя]])","v":102}]
[2008,30,38,74,54,49,49,60,47,61,67,69,{"$f":"MIN(GLB_Ts_dSST[[#This Row],[Янв]:[Ноя]])","v":30},{"$f":"MAX(GLB_Ts_dSST[[#This Row],[Янв]:[Ноя]])","v":74}]
[2009,65,53,54,61,65,65,74,68,72,65,81,{"$f":"MIN(GLB_Ts_dSST[[#This Row],[Янв]:[Ноя]])","v":53},{"$f":"MAX(GLB_Ts_dSST[[#This Row],[Янв]:[Ноя]])","v":81}]
[2010,75,84,92,85,75,67,63,67,63,70,82,{"$f":"MIN(GLB_Ts_dSST[[#This Row],[Янв]:[Ноя]])","v":63},{"$f":"MAX(GLB_Ts_dSST[[#This Row],[Янв]:[Ноя]])","v":92}]
[2011,51,48,65,65,53,62,70,74,56,66,58,{"$f":"MIN(GLB_Ts_dSST[[#This Row],[Янв]:[Ноя]])","v":48},{"$f":"MAX(GLB_Ts_dSST[[#This Row],[Янв]:[Ноя]])","v":74}]
[2012,49,49,58,72,79,64,58,64,72,78,78,{"$f":"MIN(GLB_Ts_dSST[[#This Row],[Янв]:[Ноя]])","v":49},{"$f":"MAX(GLB_Ts_dSST[[#This Row],[Янв]:[Ноя]])","v":79}]
[2013,70,62,67,54,61,69,60,69,77,69,84,{"$f":"MIN(GLB_Ts_dSST[[#This Row],[Янв]:[Ноя]])","v":54},{"$f":"MAX(GLB_Ts_dSST[[#This Row],[Янв]:[Ноя]])","v":84}]
[2014,75,55,78,80,86,67,58,83,87,80,67,{"$f":"MIN(GLB_Ts_dSST[[#This Row],[Янв]:[Ноя]])","v":55},{"$f":"MAX(GLB_Ts_dSST[[#This Row],[Янв]:[Ноя]])","v":87}]
[2015,85,90,96,76,80,81,73,80,85,109,106,{"$f":"MIN(GLB_Ts_dSST[[#This Row],[Янв]:[Ноя]])","v":73},{"$f":"MAX(GLB_Ts_dSST[[#This Row],[Янв]:[Ноя]])","v":109}]
[2016,117,137,136,111,95,80,85,102,90,88,91,{"$f":"MIN(GLB_Ts_dSST[[#This Row],[Янв]:[Ноя]])","v":80},{"$f":"MAX(GLB_Ts_dSST[[#This Row],[Янв]:[Ноя]])","v":137}]
[2017,102,114,116,95,91,72,82,87,77,90,87,{"$f":"MIN(GLB_Ts_dSST[[#This Row],[Янв]:[Ноя]])","v":72},{"$f":"MAX(GLB_Ts_dSST[[#This Row],[Янв]:[Ноя]])","v":116}]
[2018,81,85,89,89,83,78,83,76,80,101,82,{"$f":"MIN(GLB_Ts_dSST[[#This Row],[Янв]:[Ноя]])","v":76},{"$f":"MAX(GLB_Ts_dSST[[#This Row],[Янв]:[Ноя]])","v":101}]
[2019,93,95,117,101,85,91,94,94,92,101,100,{"$f":"MIN(GLB_Ts_dSST[[#This Row],[Янв]:[Ноя]])","v":85},{"$f":"MAX(GLB_Ts_dSST[[#This Row],[Янв]:[Ноя]])","v":117}]
[2020,116,125,117,113,102,92,91,88,99,89,111,{"$f":"MIN(GLB_Ts_dSST[[#This Row],[Янв]:[Ноя]])","v":88},{"$f":"MAX(GLB_Ts_dSST[[#This Row],[Янв]:[Ноя]])","v":125}]
[2021,81,64,89,76,79,85,92,82,92,null,null,{"$f":"MIN(GLB_Ts_dSST[[#This Row],[Янв]:[Ноя]])","v":64},{"$f":"MAX(GLB_Ts_dSST[[#This Row],[Янв]:[Ноя]])","v":92}]