{"text_format":"1","workbook":"xlsx","n_sheets":2,"sheets":["Результат","Ввод"],"not_rendered":{"charts":0,"images":0,"macros":1,"external_links":0,"defined_names":0,"comments":0,"pivot_tables":0},"unopened":[],"bounds":{"document_bytes":16777216,"sheet_cells":100000,"rows_first":2000,"rows_last":500,"rows_between":2000,"halvings":0,"cell_chars":16384,"cell_head_chars":4096},"cells_cut":0,"cells_raw":0,"read":"whole","date_system":"1900"}

{"sheet":"Результат","index":0,"n_rows":1103,"n_cols":7,"rows_kept":1103,"cut":false,"hidden":false,"merged":[]}
[]
[null,"Объект 1","Объект 2","Объект 3","Объект 4","Объект 5"]
[]
[]
[]
[]
[]
["2022-01-01",{"$f":"MyJoin(IF((B$2=Ввод!$C$1:$C$30)*($A8>=Ввод!$E$1:$E$30)*($A8<=Ввод!$F$1:$F$30),Ввод!$D$1:$D$30,\"\"),\" / \")","v":""},{"$f":"MyJoin(IF((C$2=Ввод!$C$1:$C$30)*($A8>=Ввод!$E$1:$E$30)*($A8<=Ввод!$F$1:$F$30),Ввод!$D$1:$D$30,\"\"),\" / \")","v":""},{"$f":"MyJoin(IF((D$2=Ввод!$C$1:$C$30)*($A8>=Ввод!$E$1:$E$30)*($A8<=Ввод!$F$1:$F$30),Ввод!$D$1:$D$30,\"\"),\" / \")","v":""},{"$f":"MyJoin(IF((E$2=Ввод!$C$1:$C$30)*($A8>=Ввод!$E$1:$E$30)*($A8<=Ввод!$F$1:$F$30),Ввод!$D$1:$D$30,\"\"),\" / \")","v":""},{"$f":"MyJoin(IF((F$2=Ввод!$C$1:$C$30)*($A8>=Ввод!$E$1:$E$30)*($A8<=Ввод!$F$1:$F$30),Ввод!$D$1:$D$30,\"\"),\" / \")","v":""},{"$f":"IF(A8=\"\",\"\",A8)","v":"2022-01-01"}]
["2022-01-02",{"$f":"MyJoin(IF((B$2=Ввод!$C$1:$C$30)*($A9>=Ввод!$E$1:$E$30)*($A9<=Ввод!$F$1:$F$30),Ввод!$D$1:$D$30,\"\"),\" / \")","v":""},{"$f":"MyJoin(IF((C$2=Ввод!$C$1:$C$30)*($A9>=Ввод!$E$1:$E$30)*($A9<=Ввод!$F$1:$F$30),Ввод!$D$1:$D$30,\"\"),\" / \")","v":""},{"$f":"MyJoin(IF((D$2=Ввод!$C$1:$C$30)*($A9>=Ввод!$E$1:$E$30)*($A9<=Ввод!$F$1:$F$30),Ввод!$D$1:$D$30,\"\"),\" / \")","v":""},{"$f":"MyJoin(IF((E$2=Ввод!$C$1:$C$30)*($A9>=Ввод!$E$1:$E$30)*($A9<=Ввод!$F$1:$F$30),Ввод!$D$1:$D$30,\"\"),\" / \")","v":""},{"$f":"MyJoin(IF((F$2=Ввод!$C$1:$C$30)*($A9>=Ввод!$E$1:$E$30)*($A9<=Ввод!$F$1:$F$30),Ввод!$D$1:$D$30,\"\"),\" / \")","v":""},{"$f":"IF(A9=\"\",\"\",A9)","v":"2022-01-02"}]
["2022-01-03",{"$f":"MyJoin(IF((B$2=Ввод!$C$1:$C$30)*($A10>=Ввод!$E$1:$E$30)*($A10<=Ввод!$F$1:$F$30),Ввод!$D$1:$D$30,\"\"),\" / \")","v":""},{"$f":"MyJoin(IF((C$2=Ввод!$C$1:$C$30)*($A10>=Ввод!$E$1:$E$30)*($A10<=Ввод!$F$1:$F$30),Ввод!$D$1:$D$30,\"\"),\" / \")","v":""},{"$f":"MyJoin(IF((D$2=Ввод!$C$1:$C$30)*($A10>=Ввод!$E$1:$E$30)*($A10<=Ввод!$F$1:$F$30),Ввод!$D$1:$D$30,\"\"),\" / \")","v":""},{"$f":"MyJoin(IF((E$2=Ввод!$C$1:$C$30)*($A10>=Ввод!$E$1:$E$30)*($A10<=Ввод!$F$1:$F$30),Ввод!$D$1:$D$30,\"\"),\" / \")","v":""},{"$f":"MyJoin(IF((F$2=Ввод!$C$1:$C$30)*($A10>=Ввод!$E$1:$E$30)*($A10<=Ввод!$F$1:$F$30),Ввод!$D$1:$D$30,\"\"),\" / \")","v":""},"2022-01-03"]
["2022-01-04",{"$f":"MyJoin(IF((B$2=Ввод!$C$1:$C$30)*($A11>=Ввод!$E$1:$E$30)*($A11<=Ввод!$F$1:$F$30),Ввод!$D$1:$D$30,\"\"),\" / \")","v":""},{"$f":"MyJoin(IF((C$2=Ввод!$C$1:$C$30)*($A11>=Ввод!$E$1:$E$30)*($A11<=Ввод!$F$1:$F$30),Ввод!$D$1:$D$30,\"\"),\" / \")","v":""},{"$f":"MyJoin(IF((D$2=Ввод!$C$1:$C$30)*($A11>=Ввод!$E$1:$E$30)*($A11<=Ввод!$F$1:$F$30),Ввод!$D$1:$D$30,\"\"),\" / \")","v":""},{"$f":"MyJoin(IF((E$2=Ввод!$C$1:$C$30)*($A11>=Ввод!$E$1:$E$30)*($A11<=Ввод!$F$1:$F$30),Ввод!$D$1:$D$30,\"\"),\" / \")","v":""},{"$f":"MyJoin(IF((F$2=Ввод!$C$1:$C$30)*($A11>=Ввод!$E$1:$E$30)*($A11<=Ввод!$F$1:$F$30),Ввод!$D$1:$D$30,\"\"),\" / \")","v":""},"2022-01-04"]
["2022-01-05",{"$f":"MyJoin(IF((B$2=Ввод!$C$1:$C$30)*($A12>=Ввод!$E$1:$E$30)*($A12<=Ввод!$F$1:$F$30),Ввод!$D$1:$D$30,\"\"),\" / \")","v":""},{"$f":"MyJoin(IF((C$2=Ввод!$C$1:$C$30)*($A12>=Ввод!$E$1:$E$30)*($A12<=Ввод!$F$1:$F$30),Ввод!$D$1:$D$30,\"\"),\" / \")","v":""},{"$f":"MyJoin(IF((D$2=Ввод!$C$1:$C$30)*($A12>=Ввод!$E$1:$E$30)*($A12<=Ввод!$F$1:$F$30),Ввод!$D$1:$D$30,\"\"),\" / \")","v":""},{"$f":"MyJoin(IF((E$2=Ввод!$C$1:$C$30)*($A12>=Ввод!$E$1:$E$30)*($A12<=Ввод!$F$1:$F$30),Ввод!$D$1:$D$30,\"\"),\" / \")","v":""},{"$f":"MyJoin(IF((F$2=Ввод!$C$1:$C$30)*($A12>=Ввод!$E$1:$E$30)*($A12<=Ввод!$F$1:$F$30),Ввод!$D$1:$D$30,\"\"),\" / \")","v":""},"2022-01-05"]
["2022-01-06",{"$f":"MyJoin(IF((B$2=Ввод!$C$1:$C$30)*($A13>=Ввод!$E$1:$E$30)*($A13<=Ввод!$F$1:$F$30),Ввод!$D$1:$D$30,\"\"),\" / \")","v":""},{"$f":"MyJoin(IF((C$2=Ввод!$C$1:$C$30)*($A13>=Ввод!$E$1:$E$30)*($A13<=Ввод!$F$1:$F$30),Ввод!$D$1:$D$30,\"\"),\" / \")","v":""},{"$f":"MyJoin(IF((D$2=Ввод!$C$1:$C$30)*($A13>=Ввод!$E$1:$E$30)*($A13<=Ввод!$F$1:$F$30),Ввод!$D$1:$D$30,\"\"),\" / \")","v":""},{"$f":"MyJoin(IF((E$2=Ввод!$C$1:$C$30)*($A13>=Ввод!$E$1:$E$30)*($A13<=Ввод!$F$1:$F$30),Ввод!$D$1:$D$30,\"\"),\" / \")","v":""},{"$f":"MyJoin(IF((F$2=Ввод!$C$1:$C$30)*($A13>=Ввод!$E$1:$E$30)*($A13<=Ввод!$F$1:$F$30),Ввод!$D$1:$D$30,\"\"),\" / \")","v":""},"2022-01-06"]
["2022-01-07",{"$f":"MyJoin(IF((B$2=Ввод!$C$1:$C$30)*($A14>=Ввод!$E$1:$E$30)*($A14<=Ввод!$F$1:$F$30),Ввод!$D$1:$D$30,\"\"),\" / \")","v":""},{"$f":"MyJoin(IF((C$2=Ввод!$C$1:$C$30)*($A14>=Ввод!$E$1:$E$30)*($A14<=Ввод!$F$1:$F$30),Ввод!$D$1:$D$30,\"\"),\" / \")","v":""},{"$f":"MyJoin(IF((D$2=Ввод!$C$1:$C$30)*($A14>=Ввод!$E$1:$E$30)*($A14<=Ввод!$F$1:$F$30),Ввод!$D$1:$D$30,\"\"),\" / \")","v":""},{"$f":"MyJoin(IF((E$2=Ввод!$C$1:$C$30)*($A14>=Ввод!$E$1:$E$30)*($A14<=Ввод!$F$1:$F$30),Ввод!$D$1:$D$30,\"\"),\" / \")","v":""},{"$f":"MyJoin(IF((F$2=Ввод!$C$1:$C$30)*($A14>=Ввод!$E$1:$E$30)*($A14<=Ввод!$F$1:$F$30),Ввод!$D$1:$D$30,\"\"),\" / \")","v":""},"2022-01-07"]
["2022-01-08",{"$f":"MyJoin(IF((B$2=Ввод!$C$1:$C$30)*($A15>=Ввод!$E$1:$E$30)*($A15<=Ввод!$F$1:$F$30),Ввод!$D$1:$D$30,\"\"),\" / \")","v":""},{"$f":"MyJoin(IF((C$2=Ввод!$C$1:$C$30)*($A15>=Ввод!$E$1:$E$30)*($A15<=Ввод!$F$1:$F$30),Ввод!$D$1:$D$30,\"\"),\" / \")","v":""},{"$f":"MyJoin(IF((D$2=Ввод!$C$1:$C$30)*($A15>=Ввод!$E$1:$E$30)*($A15<=Ввод!$F$1:$F$30),Ввод!$D$1:$D$30,\"\"),\" / \")","v":""},{"$f":"MyJoin(IF((E$2=Ввод!$C$1:$C$30)*($A15>=Ввод!$E$1:$E$30)*($A15<=Ввод!$F$1:$F$30),Ввод!$D$1:$D$30,\"\"),\" / \")","v":""},{"$f":"MyJoin(IF((F$2=Ввод!$C$1:$C$30)*($A15>=Ввод!$E$1:$E$30)*($A15<=Ввод!$F$1:$F$30),Ввод!$D$1:$D$30,\"\"),\" / \")","v":""},"2022-01-08"]
["2022-01-09",{"$f":"MyJoin(IF((B$2=Ввод!$C$1:$C$30)*($A16>=Ввод!$E$1:$E$30)*($A16<=Ввод!$F$1:$F$30),Ввод!$D$1:$D$30,\"\"),\" / \")","v":""},{"$f":"MyJoin(IF((C$2=Ввод!$C$1:$C$30)*($A16>=Ввод!$E$1:$E$30)*($A16<=Ввод!$F$1:$F$30),Ввод!$D$1:$D$30,\"\"),\" / \")","v":""},{"$f":"MyJoin(IF((D$2=Ввод!$C$1:$C$30)*($A16>=Ввод!$E$1:$E$30)*($A16<=Ввод!$F$1:$F$30),Ввод!$D$1:$D$30,\"\"),\" / \")","v":""},{"$f":"MyJoin(IF((E$2=Ввод!$C$1:$C$30)*($A16>=Ввод!$E$1:$E$30)*($A16<=Ввод!$F$1:$F$30),Ввод!$D$1:$D$30,\"\"),\" / \")","v":""},{"$f":"MyJoin(IF((F$2=Ввод!$C$1:$C$30)*($A16>=Ввод!$E$1:$E$30)*($A16<=Ввод!$F$1:$F$30),Ввод!$D$1:$D$30,\"\"),\" / \")","v":""},"2022-01-09"]
["2022-01-10",{"$f":"MyJoin(IF((B$2=Ввод!$C$1:$C$30)*($A17>=Ввод!$E$1:$E$30)*($A17<=Ввод!$F$1:$F$30),Ввод!$D$1:$D$30,\"\"),\" / \")","v":""},{"$f":"MyJoin(IF((C$2=Ввод!$C$1:$C$30)*($A17>=Ввод!$E$1:$E$30)*($A17<=Ввод!$F$1:$F$30),Ввод!$D$1:$D$30,\"\"),\" / \")","v":""},{"$f":"MyJoin(IF((D$2=Ввод!$C$1:$C$30)*($A17>=Ввод!$E$1:$E$30)*($A17<=Ввод!$F$1:$F$30),Ввод!$D$1:$D$30,\"\"),\" / \")","v":""},{"$f":"MyJoin(IF((E$2=Ввод!$C$1:$C$30)*($A17>=Ввод!$E$1:$E$30)*($A17<=Ввод!$F$1:$F$30),Ввод!$D$1:$D$30,\"\"),\" / \")","v":""},{"$f":"MyJoin(IF((F$2=Ввод!$C$1:$C$30)*($A17>=Ввод!$E$1:$E$30)*($A17<=Ввод!$F$1:$F$30),Ввод!$D$1:$D$30,\"\"),\" / \")","v":""},"2022-01-10"]
["2022-01-11",{"$f":"MyJoin(IF((B$2=Ввод!$C$1:$C$30)*($A18>=Ввод!$E$1:$E$30)*($A18<=Ввод!$F$1:$F$30),Ввод!$D$1:$D$30,\"\"),\" / \")","v":""},{"$f":"MyJoin(IF((C$2=Ввод!$C$1:$C$30)*($A18>=Ввод!$E$1:$E$30)*($A18<=Ввод!$F$1:$F$30),Ввод!$D$1:$D$30,\"\"),\" / \")","v":""},{"$f":"MyJoin(IF((D$2=Ввод!$C$1:$C$30)*($A18>=Ввод!$E$1:$E$30)*($A18<=Ввод!$F$1:$F$30),Ввод!$D$1:$D$30,\"\"),\" / \")","v":""},{"$f":"MyJoin(IF((E$2=Ввод!$C$1:$C$30)*($A18>=Ввод!$E$1:$E$30)*($A18<=Ввод!$F$1:$F$30),Ввод!$D$1:$D$30,\"\"),\" / \")","v":""},{"$f":"MyJoin(IF((F$2=Ввод!$C$1:$C$30)*($A18>=Ввод!$E$1:$E$30)*($A18<=Ввод!$F$1:$F$30),Ввод!$D$1:$D$30,\"\"),\" / \")","v":""},"2022-01-11"]
["2022-01-12",{"$f":"MyJoin(IF((B$2=Ввод!$C$1:$C$30)*($A19>=Ввод!$E$1:$E$30)*($A19<=Ввод!$F$1:$F$30),Ввод!$D$1:$D$30,\"\"),\" / \")","v":"Задание 1"},{"$f":"MyJoin(IF((C$2=Ввод!$C$1:$C$30)*($A19>=Ввод!$E$1:$E$30)*($A19<=Ввод!$F$1:$F$30),Ввод!$D$1:$D$30,\"\"),\" / \")","v":""},{"$f":"MyJoin(IF((D$2=Ввод!$C$1:$C$30)*($A19>=Ввод!$E$1:$E$30)*($A19<=Ввод!$F$1:$F$30),Ввод!$D$1:$D$30,\"\"),\" / \")","v":""},{"$f":"MyJoin(IF((E$2=Ввод!$C$1:$C$30)*($A19>=Ввод!$E$1:$E$30)*($A19<=Ввод!$F$1:$F$30),Ввод!$D$1:$D$30,\"\"),\" / \")","v":""},{"$f":"MyJoin(IF((F$2=Ввод!$C$1:$C$30)*($A19>=Ввод!$E$1:$E$30)*($A19<=Ввод!$F$1:$F$30),Ввод!$D$1:$D$30,\"\"),\" / \")","v":""},"2022-01-12"]
["2022-01-13",{"$f":"MyJoin(IF((B$2=Ввод!$C$1:$C$30)*($A20>=Ввод!$E$1:$E$30)*($A20<=Ввод!$F$1:$F$30),Ввод!$D$1:$D$30,\"\"),\" / \")","v":"Задание 1"},{"$f":"MyJoin(IF((C$2=Ввод!$C$1:$C$30)*($A20>=Ввод!$E$1:$E$30)*($A20<=Ввод!$F$1:$F$30),Ввод!$D$1:$D$30,\"\"),\" / \")","v":""},{"$f":"MyJoin(IF((D$2=Ввод!$C$1:$C$30)*($A20>=Ввод!$E$1:$E$30)*($A20<=Ввод!$F$1:$F$30),Ввод!$D$1:$D$30,\"\"),\" / \")","v":""},{"$f":"MyJoin(IF((E$2=Ввод!$C$1:$C$30)*($A20>=Ввод!$E$1:$E$30)*($A20<=Ввод!$F$1:$F$30),Ввод!$D$1:$D$30,\"\"),\" / \")","v":""},{"$f":"MyJoin(IF((F$2=Ввод!$C$1:$C$30)*($A20>=Ввод!$E$1:$E$30)*($A20<=Ввод!$F$1:$F$30),Ввод!$D$1:$D$30,\"\"),\" / \")","v":""},"2022-01-13"]
["2022-01-14",{"$f":"MyJoin(IF((B$2=Ввод!$C$1:$C$30)*($A21>=Ввод!$E$1:$E$30)*($A21<=Ввод!$F$1:$F$30),Ввод!$D$1:$D$30,\"\"),\" / \")","v":"Задание 1"},{"$f":"MyJoin(IF((C$2=Ввод!$C$1:$C$30)*($A21>=Ввод!$E$1:$E$30)*($A21<=Ввод!$F$1:$F$30),Ввод!$D$1:$D$30,\"\"),\" / \")","v":""},{"$f":"MyJoin(IF((D$2=Ввод!$C$1:$C$30)*($A21>=Ввод!$E$1:$E$30)*($A21<=Ввод!$F$1:$F$30),Ввод!$D$1:$D$30,\"\"),\" / \")","v":""},{"$f":"MyJoin(IF((E$2=Ввод!$C$1:$C$30)*($A21>=Ввод!$E$1:$E$30)*($A21<=Ввод!$F$1:$F$30),Ввод!$D$1:$D$30,\"\"),\" / \")","v":""},{"$f":"MyJoin(IF((F$2=Ввод!$C$1:$C$30)*($A21>=Ввод!$E$1:$E$30)*($A21<=Ввод!$F$1:$F$30),Ввод!$D$1:$D$30,\"\"),\" / \")","v":""},"2022-01-14"]
["2022-01-15",{"$f":"MyJoin(IF((B$2=Ввод!$C$1:$C$30)*($A22>=Ввод!$E$1:$E$30)*($A22<=Ввод!$F$1:$F$30),Ввод!$D$1:$D$30,\"\"),\" / \")","v":"Задание 1"},{"$f":"MyJoin(IF((C$2=Ввод!$C$1:$C$30)*($A22>=Ввод!$E$1:$E$30)*($A22<=Ввод!$F$1:$F$30),Ввод!$D$1:$D$30,\"\"),\" / \")","v":""},{"$f":"MyJoin(IF((D$2=Ввод!$C$1:$C$30)*($A22>=Ввод!$E$1:$E$30)*($A22<=Ввод!$F$1:$F$30),Ввод!$D$1:$D$30,\"\"),\" / \")","v":""},{"$f":"MyJoin(IF((E$2=Ввод!$C$1:$C$30)*($A22>=Ввод!$E$1:$E$30)*($A22<=Ввод!$F$1:$F$30),Ввод!$D$1:$D$30,\"\"),\" / \")","v":""},{"$f":"MyJoin(IF((F$2=Ввод!$C$1:$C$30)*($A22>=Ввод!$E$1:$E$30)*($A22<=Ввод!$F$1:$F$30),Ввод!$D$1:$D$30,\"\"),\" / \")","v":""},"2022-01-15"]
["2022-01-16",{"$f":"MyJoin(IF((B$2=Ввод!$C$1:$C$30)*($A23>=Ввод!$E$1:$E$30)*($A23<=Ввод!$F$1:$F$30),Ввод!$D$1:$D$30,\"\"),\" / \")","v":"Задание 1"},{"$f":"MyJoin(IF((C$2=Ввод!$C$1:$C$30)*($A23>=Ввод!$E$1:$E$30)*($A23<=Ввод!$F$1:$F$30),Ввод!$D$1:$D$30,\"\"),\" / \")","v":""},{"$f":"MyJoin(IF((D$2=Ввод!$C$1:$C$30)*($A23>=Ввод!$E$1:$E$30)*($A23<=Ввод!$F$1:$F$30),Ввод!$D$1:$D$30,\"\"),\" / \")","v":""},{"$f":"MyJoin(IF((E$2=Ввод!$C$1:$C$30)*($A23>=Ввод!$E$1:$E$30)*($A23<=Ввод!$F$1:$F$30),Ввод!$D$1:$D$30,\"\"),\" / \")","v":""},{"$f":"MyJoin(IF((F$2=Ввод!$C$1:$C$30)*($A23>=Ввод!$E$1:$E$30)*($A23<=Ввод!$F$1:$F$30),Ввод!$D$1:$D$30,\"\"),\" / \")","v":""},"2022-01-16"]
["2022-01-17",{"$f":"MyJoin(IF((B$2=Ввод!$C$1:$C$30)*($A24>=Ввод!$E$1:$E$30)*($A24<=Ввод!$F$1:$F$30),Ввод!$D$1:$D$30,\"\"),\" / \")","v":"Задание 1"},{"$f":"MyJoin(IF((C$2=Ввод!$C$1:$C$30)*($A24>=Ввод!$E$1:$E$30)*($A24<=Ввод!$F$1:$F$30),Ввод!$D$1:$D$30,\"\"),\" / \")","v":""},{"$f":"MyJoin(IF((D$2=Ввод!$C$1:$C$30)*($A24>=Ввод!$E$1:$E$30)*($A24<=Ввод!$F$1:$F$30),Ввод!$D$1:$D$30,\"\"),\" / \")","v":""},{"$f":"MyJoin(IF((E$2=Ввод!$C$1:$C$30)*($A24>=Ввод!$E$1:$E$30)*($A24<=Ввод!$F$1:$F$30),Ввод!$D$1:$D$30,\"\"),\" / \")","v":""},{"$f":"MyJoin(IF((F$2=Ввод!$C$1:$C$30)*($A24>=Ввод!$E$1:$E$30)*($A24<=Ввод!$F$1:$F$30),Ввод!$D$1:$D$30,\"\"),\" / \")","v":""},"2022-01-17"]
["2022-01-18",{"$f":"MyJoin(IF((B$2=Ввод!$C$1:$C$30)*($A25>=Ввод!$E$1:$E$30)*($A25<=Ввод!$F$1:$F$30),Ввод!$D$1:$D$30,\"\"),\" / \")","v":"Задание 1"},{"$f":"MyJoin(IF((C$2=Ввод!$C$1:$C$30)*($A25>=Ввод!$E$1:$E$30)*($A25<=Ввод!$F$1:$F$30),Ввод!$D$1:$D$30,\"\"),\" / \")","v":""},{"$f":"MyJoin(IF((D$2=Ввод!$C$1:$C$30)*($A25>=Ввод!$E$1:$E$30)*($A25<=Ввод!$F$1:$F$30),Ввод!$D$1:$D$30,\"\"),\" / \")","v":""},{"$f":"MyJoin(IF((E$2=Ввод!$C$1:$C$30)*($A25>=Ввод!$E$1:$E$30)*($A25<=Ввод!$F$1:$F$30),Ввод!$D$1:$D$30,\"\"),\" / \")","v":""},{"$f":"MyJoin(IF((F$2=Ввод!$C$1:$C$30)*($A25>=Ввод!$E$1:$E$30)*($A25<=Ввод!$F$1:$F$30),Ввод!$D$1:$D$30,\"\"),\" / \")","v":""},"2022-01-18"]
["2022-01-19",{"$f":"MyJoin(IF((B$2=Ввод!$C$1:$C$30)*($A26>=Ввод!$E$1:$E$30)*($A26<=Ввод!$F$1:$F$30),Ввод!$D$1:$D$30,\"\"),\" / \")","v":"Задание 1"},{"$f":"MyJoin(IF((C$2=Ввод!$C$1:$C$30)*($A26>=Ввод!$E$1:$E$30)*($A26<=Ввод!$F$1:$F$30),Ввод!$D$1:$D$30,\"\"),\" / \")","v":""},{"$f":"MyJoin(IF((D$2=Ввод!$C$1:$C$30)*($A26>=Ввод!$E$1:$E$30)*($A26<=Ввод!$F$1:$F$30),Ввод!$D$1:$D$30,\"\"),\" / \")","v":""},{"$f":"MyJoin(IF((E$2=Ввод!$C$1:$C$30)*($A26>=Ввод!$E$1:$E$30)*($A26<=Ввод!$F$1:$F$30),Ввод!$D$1:$D$30,\"\"),\" / \")","v":""},{"$f":"MyJoin(IF((F$2=Ввод!$C$1:$C$30)*($A26>=Ввод!$E$1:$E$30)*($A26<=Ввод!$F$1:$F$30),Ввод!$D$1:$D$30,\"\"),\" / \")","v":""},"2022-01-19"]
["2022-01-20",{"$f":"MyJoin(IF((B$2=Ввод!$C$1:$C$30)*($A27>=Ввод!$E$1:$E$30)*($A27<=Ввод!$F$1:$F$30),Ввод!$D$1:$D$30,\"\"),\" / \")","v":"Задание 1"},{"$f":"MyJoin(IF((C$2=Ввод!$C$1:$C$30)*($A27>=Ввод!$E$1:$E$30)*($A27<=Ввод!$F$1:$F$30),Ввод!$D$1:$D$30,\"\"),\" / \")","v":""},{"$f":"MyJoin(IF((D$2=Ввод!$C$1:$C$30)*($A27>=Ввод!$E$1:$E$30)*($A27<=Ввод!$F$1:$F$30),Ввод!$D$1:$D$30,\"\"),\" / \")","v":""},{"$f":"MyJoin(IF((E$2=Ввод!$C$1:$C$30)*($A27>=Ввод!$E$1:$E$30)*($A27<=Ввод!$F$1:$F$30),Ввод!$D$1:$D$30,\"\"),\" / \")","v":""},{"$f":"MyJoin(IF((F$2=Ввод!$C$1:$C$30)*($A27>=Ввод!$E$1:$E$30)*($A27<=Ввод!$F$1:$F$30),Ввод!$D$1:$D$30,\"\"),\" / \")","v":""},"2022-01-20"]
["2022-01-21",{"$f":"MyJoin(IF((B$2=Ввод!$C$1:$C$30)*($A28>=Ввод!$E$1:$E$30)*($A28<=Ввод!$F$1:$F$30),Ввод!$D$1:$D$30,\"\"),\" / \")","v":"Задание 1 / Задание 2 / Задание 3"},{"$f":"MyJoin(IF((C$2=Ввод!$C$1:$C$30)*($A28>=Ввод!$E$1:$E$30)*($A28<=Ввод!$F$1:$F$30),Ввод!$D$1:$D$30,\"\"),\" / \")","v":""},{"$f":"MyJoin(IF((D$2=Ввод!$C$1:$C$30)*($A28>=Ввод!$E$1:$E$30)*($A28<=Ввод!$F$1:$F$30),Ввод!$D$1:$D$30,\"\"),\" / \")","v":""},{"$f":"MyJoin(IF((E$2=Ввод!$C$1:$C$30)*($A28>=Ввод!$E$1:$E$30)*($A28<=Ввод!$F$1:$F$30),Ввод!$D$1:$D$30,\"\"),\" / \")","v":""},{"$f":"MyJoin(IF((F$2=Ввод!$C$1:$C$30)*($A28>=Ввод!$E$1:$E$30)*($A28<=Ввод!$F$1:$F$30),Ввод!$D$1:$D$30,\"\"),\" / \")","v":""},"2022-01-21"]
["2022-01-22",{"$f":"MyJoin(IF((B$2=Ввод!$C$1:$C$30)*($A29>=Ввод!$E$1:$E$30)*($A29<=Ввод!$F$1:$F$30),Ввод!$D$1:$D$30,\"\"),\" / \")","v":"Задание 2"},{"$f":"MyJoin(IF((C$2=Ввод!$C$1:$C$30)*($A29>=Ввод!$E$1:$E$30)*($A29<=Ввод!$F$1:$F$30),Ввод!$D$1:$D$30,\"\"),\" / \")","v":""},{"$f":"MyJoin(IF((D$2=Ввод!$C$1:$C$30)*($A29>=Ввод!$E$1:$E$30)*($A29<=Ввод!$F$1:$F$30),Ввод!$D$1:$D$30,\"\"),\" / \")","v":""},{"$f":"MyJoin(IF((E$2=Ввод!$C$1:$C$30)*($A29>=Ввод!$E$1:$E$30)*($A29<=Ввод!$F$1:$F$30),Ввод!$D$1:$D$30,\"\"),\" / \")","v":""},{"$f":"MyJoin(IF((F$2=Ввод!$C$1:$C$30)*($A29>=Ввод!$E$1:$E$30)*($A29<=Ввод!$F$1:$F$30),Ввод!$D$1:$D$30,\"\"),\" / \")","v":""},"2022-01-22"]
["2022-01-23",{"$f":"MyJoin(IF((B$2=Ввод!$C$1:$C$30)*($A30>=Ввод!$E$1:$E$30)*($A30<=Ввод!$F$1:$F$30),Ввод!$D$1:$D$30,\"\"),\" / \")","v":"Задание 2"},{"$f":"MyJoin(IF((C$2=Ввод!$C$1:$C$30)*($A30>=Ввод!$E$1:$E$30)*($A30<=Ввод!$F$1:$F$30),Ввод!$D$1:$D$30,\"\"),\" / \")","v":""},{"$f":"MyJoin(IF((D$2=Ввод!$C$1:$C$30)*($A30>=Ввод!$E$1:$E$30)*($A30<=Ввод!$F$1:$F$30),Ввод!$D$1:$D$30,\"\"),\" / \")","v":""},{"$f":"MyJoin(IF((E$2=Ввод!$C$1:$C$30)*($A30>=Ввод!$E$1:$E$30)*($A30<=Ввод!$F$1:$F$30),Ввод!$D$1:$D$30,\"\"),\" / \")","v":""},{"$f":"MyJoin(IF((F$2=Ввод!$C$1:$C$30)*($A30>=Ввод!$E$1:$E$30)*($A30<=Ввод!$F$1:$F$30),Ввод!$D$1:$D$30,\"\"),\" / \")","v":""},"2022-01-23"]
["2022-01-24",{"$f":"MyJoin(IF((B$2=Ввод!$C$1:$C$30)*($A31>=Ввод!$E$1:$E$30)*($A31<=Ввод!$F$1:$F$30),Ввод!$D$1:$D$30,\"\"),\" / \")","v":"Задание 2"},{"$f":"MyJoin(IF((C$2=Ввод!$C$1:$C$30)*($A31>=Ввод!$E$1:$E$30)*($A31<=Ввод!$F$1:$F$30),Ввод!$D$1:$D$30,\"\"),\" / \")","v":""},{"$f":"MyJoin(IF((D$2=Ввод!$C$1:$C$30)*($A31>=Ввод!$E$1:$E$30)*($A31<=Ввод!$F$1:$F$30),Ввод!$D$1:$D$30,\"\"),\" / \")","v":""},{"$f":"MyJoin(IF((E$2=Ввод!$C$1:$C$30)*($A31>=Ввод!$E$1:$E$30)*($A31<=Ввод!$F$1:$F$30),Ввод!$D$1:$D$30,\"\"),\" / \")","v":""},{"$f":"MyJoin(IF((F$2=Ввод!$C$1:$C$30)*($A31>=Ввод!$E$1:$E$30)*($A31<=Ввод!$F$1:$F$30),Ввод!$D$1:$D$30,\"\"),\" / \")","v":""},"2022-01-24"]
["2022-01-25",{"$f":"MyJoin(IF((B$2=Ввод!$C$1:$C$30)*($A32>=Ввод!$E$1:$E$30)*($A32<=Ввод!$F$1:$F$30),Ввод!$D$1:$D$30,\"\"),\" / \")","v":""},{"$f":"MyJoin(IF((C$2=Ввод!$C$1:$C$30)*($A32>=Ввод!$E$1:$E$30)*($A32<=Ввод!$F$1:$F$30),Ввод!$D$1:$D$30,\"\"),\" / \")","v":""},{"$f":"MyJoin(IF((D$2=Ввод!$C$1:$C$30)*($A32>=Ввод!$E$1:$E$30)*($A32<=Ввод!$F$1:$F$30),Ввод!$D$1:$D$30,\"\"),\" / \")","v":""},{"$f":"MyJoin(IF((E$2=Ввод!$C$1:$C$30)*($A32>=Ввод!$E$1:$E$30)*($A32<=Ввод!$F$1:$F$30),Ввод!$D$1:$D$30,\"\"),\" / \")","v":""},{"$f":"MyJoin(IF((F$2=Ввод!$C$1:$C$30)*($A32>=Ввод!$E$1:$E$30)*($A32<=Ввод!$F$1:$F$30),Ввод!$D$1:$D$30,\"\"),\" / \")","v":""},"2022-01-25"]
["2022-01-26",{"$f":"MyJoin(IF((B$2=Ввод!$C$1:$C$30)*($A33>=Ввод!$E$1:$E$30)*($A33<=Ввод!$F$1:$F$30),Ввод!$D$1:$D$30,\"\"),\" / \")","v":""},{"$f":"MyJoin(IF((C$2=Ввод!$C$1:$C$30)*($A33>=Ввод!$E$1:$E$30)*($A33<=Ввод!$F$1:$F$30),Ввод!$D$1:$D$30,\"\"),\" / \")","v":""},{"$f":"MyJoin(IF((D$2=Ввод!$C$1:$C$30)*($A33>=Ввод!$E$1:$E$30)*($A33<=Ввод!$F$1:$F$30),Ввод!$D$1:$D$30,\"\"),\" / \")","v":""},{"$f":"MyJoin(IF((E$2=Ввод!$C$1:$C$30)*($A33>=Ввод!$E$1:$E$30)*($A33<=Ввод!$F$1:$F$30),Ввод!$D$1:$D$30,\"\"),\" / \")","v":""},{"$f":"MyJoin(IF((F$2=Ввод!$C$1:$C$30)*($A33>=Ввод!$E$1:$E$30)*($A33<=Ввод!$F$1:$F$30),Ввод!$D$1:$D$30,\"\"),\" / \")","v":""},"2022-01-26"]
["2022-01-27",{"$f":"MyJoin(IF((B$2=Ввод!$C$1:$C$30)*($A34>=Ввод!$E$1:$E$30)*($A34<=Ввод!$F$1:$F$30),Ввод!$D$1:$D$30,\"\"),\" / \")","v":""},{"$f":"MyJoin(IF((C$2=Ввод!$C$1:$C$30)*($A34>=Ввод!$E$1:$E$30)*($A34<=Ввод!$F$1:$F$30),Ввод!$D$1:$D$30,\"\"),\" / \")","v":""},{"$f":"MyJoin(IF((D$2=Ввод!$C$1:$C$30)*($A34>=Ввод!$E$1:$E$30)*($A34<=Ввод!$F$1:$F$30),Ввод!$D$1:$D$30,\"\"),\" / \")","v":""},{"$f":"MyJoin(IF((E$2=Ввод!$C$1:$C$30)*($A34>=Ввод!$E$1:$E$30)*($A34<=Ввод!$F$1:$F$30),Ввод!$D$1:$D$30,\"\"),\" / \")","v":""},{"$f":"MyJoin(IF((F$2=Ввод!$C$1:$C$30)*($A34>=Ввод!$E$1:$E$30)*($A34<=Ввод!$F$1:$F$30),Ввод!$D$1:$D$30,\"\"),\" / \")","v":""},"2022-01-27"]
["2022-01-28",{"$f":"MyJoin(IF((B$2=Ввод!$C$1:$C$30)*($A35>=Ввод!$E$1:$E$30)*($A35<=Ввод!$F$1:$F$30),Ввод!$D$1:$D$30,\"\"),\" / \")","v":""},{"$f":"MyJoin(IF((C$2=Ввод!$C$1:$C$30)*($A35>=Ввод!$E$1:$E$30)*($A35<=Ввод!$F$1:$F$30),Ввод!$D$1:$D$30,\"\"),\" / \")","v":""},{"$f":"MyJoin(IF((D$2=Ввод!$C$1:$C$30)*($A35>=Ввод!$E$1:$E$30)*($A35<=Ввод!$F$1:$F$30),Ввод!$D$1:$D$30,\"\"),\" / \")","v":""},{"$f":"MyJoin(IF((E$2=Ввод!$C$1:$C$30)*($A35>=Ввод!$E$1:$E$30)*($A35<=Ввод!$F$1:$F$30),Ввод!$D$1:$D$30,\"\"),\" / \")","v":""},{"$f":"MyJoin(IF((F$2=Ввод!$C$1:$C$30)*($A35>=Ввод!$E$1:$E$30)*($A35<=Ввод!$F$1:$F$30),Ввод!$D$1:$D$30,\"\"),\" / \")","v":""},"2022-01-28"]
["2022-01-29",{"$f":"MyJoin(IF((B$2=Ввод!$C$1:$C$30)*($A36>=Ввод!$E$1:$E$30)*($A36<=Ввод!$F$1:$F$30),Ввод!$D$1:$D$30,\"\"),\" / \")","v":""},{"$f":"MyJoin(IF((C$2=Ввод!$C$1:$C$30)*($A36>=Ввод!$E$1:$E$30)*($A36<=Ввод!$F$1:$F$30),Ввод!$D$1:$D$30,\"\"),\" / \")","v":""},{"$f":"MyJoin(IF((D$2=Ввод!$C$1:$C$30)*($A36>=Ввод!$E$1:$E$30)*($A36<=Ввод!$F$1:$F$30),Ввод!$D$1:$D$30,\"\"),\" / \")","v":""},{"$f":"MyJoin(IF((E$2=Ввод!$C$1:$C$30)*($A36>=Ввод!$E$1:$E$30)*($A36<=Ввод!$F$1:$F$30),Ввод!$D$1:$D$30,\"\"),\" / \")","v":""},{"$f":"MyJoin(IF((F$2=Ввод!$C$1:$C$30)*($A36>=Ввод!$E$1:$E$30)*($A36<=Ввод!$F$1:$F$30),Ввод!$D$1:$D$30,\"\"),\" / \")","v":""},"2022-01-29"]
["2022-01-30",{"$f":"MyJoin(IF((B$2=Ввод!$C$1:$C$30)*($A37>=Ввод!$E$1:$E$30)*($A37<=Ввод!$F$1:$F$30),Ввод!$D$1:$D$30,\"\"),\" / \")","v":""},{"$f":"MyJoin(IF((C$2=Ввод!$C$1:$C$30)*($A37>=Ввод!$E$1:$E$30)*($A37<=Ввод!$F$1:$F$30),Ввод!$D$1:$D$30,\"\"),\" / \")","v":""},{"$f":"MyJoin(IF((D$2=Ввод!$C$1:$C$30)*($A37>=Ввод!$E$1:$E$30)*($A37<=Ввод!$F$1:$F$30),Ввод!$D$1:$D$30,\"\"),\" / \")","v":""},{"$f":"MyJoin(IF((E$2=Ввод!$C$1:$C$30)*($A37>=Ввод!$E$1:$E$30)*($A37<=Ввод!$F$1:$F$30),Ввод!$D$1:$D$30,\"\"),\" / \")","v":""},{"$f":"MyJoin(IF((F$2=Ввод!$C$1:$C$30)*($A37>=Ввод!$E$1:$E$30)*($A37<=Ввод!$F$1:$F$30),Ввод!$D$1:$D$30,\"\"),\" / \")","v":""},"2022-01-30"]
["2022-01-31",{"$f":"MyJoin(IF((B$2=Ввод!$C$1:$C$30)*($A38>=Ввод!$E$1:$E$30)*($A38<=Ввод!$F$1:$F$30),Ввод!$D$1:$D$30,\"\"),\" / \")","v":""},{"$f":"MyJoin(IF((C$2=Ввод!$C$1:$C$30)*($A38>=Ввод!$E$1:$E$30)*($A38<=Ввод!$F$1:$F$30),Ввод!$D$1:$D$30,\"\"),\" / \")","v":""},{"$f":"MyJoin(IF((D$2=Ввод!$C$1:$C$30)*($A38>=Ввод!$E$1:$E$30)*($A38<=Ввод!$F$1:$F$30),Ввод!$D$1:$D$30,\"\"),\" / \")","v":""},{"$f":"MyJoin(IF((E$2=Ввод!$C$1:$C$30)*($A38>=Ввод!$E$1:$E$30)*($A38<=Ввод!$F$1:$F$30),Ввод!$D$1:$D$30,\"\"),\" / \")","v":""},{"$f":"MyJoin(IF((F$2=Ввод!$C$1:$C$30)*($A38>=Ввод!$E$1:$E$30)*($A38<=Ввод!$F$1:$F$30),Ввод!$D$1:$D$30,\"\"),\" / \")","v":""},"2022-01-31"]
["2022-02-01",{"$f":"MyJoin(IF((B$2=Ввод!$C$1:$C$30)*($A39>=Ввод!$E$1:$E$30)*($A39<=Ввод!$F$1:$F$30),Ввод!$D$1:$D$30,\"\"),\" / \")","v":""},{"$f":"MyJoin(IF((C$2=Ввод!$C$1:$C$30)*($A39>=Ввод!$E$1:$E$30)*($A39<=Ввод!$F$1:$F$30),Ввод!$D$1:$D$30,\"\"),\" / \")","v":""},{"$f":"MyJoin(IF((D$2=Ввод!$C$1:$C$30)*($A39>=Ввод!$E$1:$E$30)*($A39<=Ввод!$F$1:$F$30),Ввод!$D$1:$D$30,\"\"),\" / \")","v":""},{"$f":"MyJoin(IF((E$2=Ввод!$C$1:$C$30)*($A39>=Ввод!$E$1:$E$30)*($A39<=Ввод!$F$1:$F$30),Ввод!$D$1:$D$30,\"\"),\" / \")","v":""},{"$f":"MyJoin(IF((F$2=Ввод!$C$1:$C$30)*($A39>=Ввод!$E$1:$E$30)*($A39<=Ввод!$F$1:$F$30),Ввод!$D$1:$D$30,\"\"),\" / \")","v":""},"2022-02-01"]
["2022-02-02",{"$f":"MyJoin(IF((B$2=Ввод!$C$1:$C$30)*($A40>=Ввод!$E$1:$E$30)*($A40<=Ввод!$F$1:$F$30),Ввод!$D$1:$D$30,\"\"),\" / \")","v":""},{"$f":"MyJoin(IF((C$2=Ввод!$C$1:$C$30)*($A40>=Ввод!$E$1:$E$30)*($A40<=Ввод!$F$1:$F$30),Ввод!$D$1:$D$30,\"\"),\" / \")","v":""},{"$f":"MyJoin(IF((D$2=Ввод!$C$1:$C$30)*($A40>=Ввод!$E$1:$E$30)*($A40<=Ввод!$F$1:$F$30),Ввод!$D$1:$D$30,\"\"),\" / \")","v":""},{"$f":"MyJoin(IF((E$2=Ввод!$C$1:$C$30)*($A40>=Ввод!$E$1:$E$30)*($A40<=Ввод!$F$1:$F$30),Ввод!$D$1:$D$30,\"\"),\" / \")","v":""},{"$f":"MyJoin(IF((F$2=Ввод!$C$1:$C$30)*($A40>=Ввод!$E$1:$E$30)*($A40<=Ввод!$F$1:$F$30),Ввод!$D$1:$D$30,\"\"),\" / \")","v":""},"2022-02-02"]
["2022-02-03",{"$f":"MyJoin(IF((B$2=Ввод!$C$1:$C$30)*($A41>=Ввод!$E$1:$E$30)*($A41<=Ввод!$F$1:$F$30),Ввод!$D$1:$D$30,\"\"),\" / \")","v":""},{"$f":"MyJoin(IF((C$2=Ввод!$C$1:$C$30)*($A41>=Ввод!$E$1:$E$30)*($A41<=Ввод!$F$1:$F$30),Ввод!$D$1:$D$30,\"\"),\" / \")","v":""},{"$f":"MyJoin(IF((D$2=Ввод!$C$1:$C$30)*($A41>=Ввод!$E$1:$E$30)*($A41<=Ввод!$F$1:$F$30),Ввод!$D$1:$D$30,\"\"),\" / \")","v":""},{"$f":"MyJoin(IF((E$2=Ввод!$C$1:$C$30)*($A41>=Ввод!$E$1:$E$30)*($A41<=Ввод!$F$1:$F$30),Ввод!$D$1:$D$30,\"\"),\" / \")","v":""},{"$f":"MyJoin(IF((F$2=Ввод!$C$1:$C$30)*($A41>=Ввод!$E$1:$E$30)*($A41<=Ввод!$F$1:$F$30),Ввод!$D$1:$D$30,\"\"),\" / \")","v":""},"2022-02-03"]
["2022-02-04",{"$f":"MyJoin(IF((B$2=Ввод!$C$1:$C$30)*($A42>=Ввод!$E$1:$E$30)*($A42<=Ввод!$F$1:$F$30),Ввод!$D$1:$D$30,\"\"),\" / \")","v":""},{"$f":"MyJoin(IF((C$2=Ввод!$C$1:$C$30)*($A42>=Ввод!$E$1:$E$30)*($A42<=Ввод!$F$1:$F$30),Ввод!$D$1:$D$30,\"\"),\" / \")","v":""},{"$f":"MyJoin(IF((D$2=Ввод!$C$1:$C$30)*($A42>=Ввод!$E$1:$E$30)*($A42<=Ввод!$F$1:$F$30),Ввод!$D$1:$D$30,\"\"),\" / \")","v":""},{"$f":"MyJoin(IF((E$2=Ввод!$C$1:$C$30)*($A42>=Ввод!$E$1:$E$30)*($A42<=Ввод!$F$1:$F$30),Ввод!$D$1:$D$30,\"\"),\" / \")","v":""},{"$f":"MyJoin(IF((F$2=Ввод!$C$1:$C$30)*($A42>=Ввод!$E$1:$E$30)*($A42<=Ввод!$F$1:$F$30),Ввод!$D$1:$D$30,\"\"),\" / \")","v":""},"2022-02-04"]
["2022-02-05",{"$f":"MyJoin(IF((B$2=Ввод!$C$1:$C$30)*($A43>=Ввод!$E$1:$E$30)*($A43<=Ввод!$F$1:$F$30),Ввод!$D$1:$D$30,\"\"),\" / \")","v":""},{"$f":"MyJoin(IF((C$2=Ввод!$C$1:$C$30)*($A43>=Ввод!$E$1:$E$30)*($A43<=Ввод!$F$1:$F$30),Ввод!$D$1:$D$30,\"\"),\" / \")","v":""},{"$f":"MyJoin(IF((D$2=Ввод!$C$1:$C$30)*($A43>=Ввод!$E$1:$E$30)*($A43<=Ввод!$F$1:$F$30),Ввод!$D$1:$D$30,\"\"),\" / \")","v":""},{"$f":"MyJoin(IF((E$2=Ввод!$C$1:$C$30)*($A43>=Ввод!$E$1:$E$30)*($A43<=Ввод!$F$1:$F$30),Ввод!$D$1:$D$30,\"\"),\" / \")","v":""},{"$f":"MyJoin(IF((F$2=Ввод!$C$1:$C$30)*($A43>=Ввод!$E$1:$E$30)*($A43<=Ввод!$F$1:$F$30),Ввод!$D$1:$D$30,\"\"),\" / \")","v":""},"2022-02-05"]
["2022-02-06",{"$f":"MyJoin(IF((B$2=Ввод!$C$1:$C$30)*($A44>=Ввод!$E$1:$E$30)*($A44<=Ввод!$F$1:$F$30),Ввод!$D$1:$D$30,\"\"),\" / \")","v":""},{"$f":"MyJoin(IF((C$2=Ввод!$C$1:$C$30)*($A44>=Ввод!$E$1:$E$30)*($A44<=Ввод!$F$1:$F$30),Ввод!$D$1:$D$30,\"\"),\" / \")","v":""},{"$f":"MyJoin(IF((D$2=Ввод!$C$1:$C$30)*($A44>=Ввод!$E$1:$E$30)*($A44<=Ввод!$F$1:$F$30),Ввод!$D$1:$D$30,\"\"),\" / \")","v":""},{"$f":"MyJoin(IF((E$2=Ввод!$C$1:$C$30)*($A44>=Ввод!$E$1:$E$30)*($A44<=Ввод!$F$1:$F$30),Ввод!$D$1:$D$30,\"\"),\" / \")","v":""},{"$f":"MyJoin(IF((F$2=Ввод!$C$1:$C$30)*($A44>=Ввод!$E$1:$E$30)*($A44<=Ввод!$F$1:$F$30),Ввод!$D$1:$D$30,\"\"),\" / \")","v":""},"2022-02-06"]
["2022-02-07",{"$f":"MyJoin(IF((B$2=Ввод!$C$1:$C$30)*($A45>=Ввод!$E$1:$E$30)*($A45<=Ввод!$F$1:$F$30),Ввод!$D$1:$D$30,\"\"),\" / \")","v":""},{"$f":"MyJoin(IF((C$2=Ввод!$C$1:$C$30)*($A45>=Ввод!$E$1:$E$30)*($A45<=Ввод!$F$1:$F$30),Ввод!$D$1:$D$30,\"\"),\" / \")","v":""},{"$f":"MyJoin(IF((D$2=Ввод!$C$1:$C$30)*($A45>=Ввод!$E$1:$E$30)*($A45<=Ввод!$F$1:$F$30),Ввод!$D$1:$D$30,\"\"),\" / \")","v":""},{"$f":"MyJoin(IF((E$2=Ввод!$C$1:$C$30)*($A45>=Ввод!$E$1:$E$30)*($A45<=Ввод!$F$1:$F$30),Ввод!$D$1:$D$30,\"\"),\" / \")","v":""},{"$f":"MyJoin(IF((F$2=Ввод!$C$1:$C$30)*($A45>=Ввод!$E$1:$E$30)*($A45<=Ввод!$F$1:$F$30),Ввод!$D$1:$D$30,\"\"),\" / \")","v":""},"2022-02-07"]
["2022-02-08",{"$f":"MyJoin(IF((B$2=Ввод!$C$1:$C$30)*($A46>=Ввод!$E$1:$E$30)*($A46<=Ввод!$F$1:$F$30),Ввод!$D$1:$D$30,\"\"),\" / \")","v":""},{"$f":"MyJoin(IF((C$2=Ввод!$C$1:$C$30)*($A46>=Ввод!$E$1:$E$30)*($A46<=Ввод!$F$1:$F$30),Ввод!$D$1:$D$30,\"\"),\" / \")","v":""},{"$f":"MyJoin(IF((D$2=Ввод!$C$1:$C$30)*($A46>=Ввод!$E$1:$E$30)*($A46<=Ввод!$F$1:$F$30),Ввод!$D$1:$D$30,\"\"),\" / \")","v":""},{"$f":"MyJoin(IF((E$2=Ввод!$C$1:$C$30)*($A46>=Ввод!$E$1:$E$30)*($A46<=Ввод!$F$1:$F$30),Ввод!$D$1:$D$30,\"\"),\" / \")","v":""},{"$f":"MyJoin(IF((F$2=Ввод!$C$1:$C$30)*($A46>=Ввод!$E$1:$E$30)*($A46<=Ввод!$F$1:$F$30),Ввод!$D$1:$D$30,\"\"),\" / \")","v":""},"2022-02-08"]
["2022-02-09",{"$f":"MyJoin(IF((B$2=Ввод!$C$1:$C$30)*($A47>=Ввод!$E$1:$E$30)*($A47<=Ввод!$F$1:$F$30),Ввод!$D$1:$D$30,\"\"),\" / \")","v":""},{"$f":"MyJoin(IF((C$2=Ввод!$C$1:$C$30)*($A47>=Ввод!$E$1:$E$30)*($A47<=Ввод!$F$1:$F$30),Ввод!$D$1:$D$30,\"\"),\" / \")","v":""},{"$f":"MyJoin(IF((D$2=Ввод!$C$1:$C$30)*($A47>=Ввод!$E$1:$E$30)*($A47<=Ввод!$F$1:$F$30),Ввод!$D$1:$D$30,\"\"),\" / \")","v":""},{"$f":"MyJoin(IF((E$2=Ввод!$C$1:$C$30)*($A47>=Ввод!$E$1:$E$30)*($A47<=Ввод!$F$1:$F$30),Ввод!$D$1:$D$30,\"\"),\" / \")","v":""},{"$f":"MyJoin(IF((F$2=Ввод!$C$1:$C$30)*($A47>=Ввод!$E$1:$E$30)*($A47<=Ввод!$F$1:$F$30),Ввод!$D$1:$D$30,\"\"),\" / \")","v":""},"2022-02-09"]
["2022-02-10",{"$f":"MyJoin(IF((B$2=Ввод!$C$1:$C$30)*($A48>=Ввод!$E$1:$E$30)*($A48<=Ввод!$F$1:$F$30),Ввод!$D$1:$D$30,\"\"),\" / \")","v":""},{"$f":"MyJoin(IF((C$2=Ввод!$C$1:$C$30)*($A48>=Ввод!$E$1:$E$30)*($A48<=Ввод!$F$1:$F$30),Ввод!$D$1:$D$30,\"\"),\" / \")","v":""},{"$f":"MyJoin(IF((D$2=Ввод!$C$1:$C$30)*($A48>=Ввод!$E$1:$E$30)*($A48<=Ввод!$F$1:$F$30),Ввод!$D$1:$D$30,\"\"),\" / \")","v":""},{"$f":"MyJoin(IF((E$2=Ввод!$C$1:$C$30)*($A48>=Ввод!$E$1:$E$30)*($A48<=Ввод!$F$1:$F$30),Ввод!$D$1:$D$30,\"\"),\" / \")","v":""},{"$f":"MyJoin(IF((F$2=Ввод!$C$1:$C$30)*($A48>=Ввод!$E$1:$E$30)*($A48<=Ввод!$F$1:$F$30),Ввод!$D$1:$D$30,\"\"),\" / \")","v":""},"2022-02-10"]
["2022-02-11",{"$f":"MyJoin(IF((B$2=Ввод!$C$1:$C$30)*($A49>=Ввод!$E$1:$E$30)*($A49<=Ввод!$F$1:$F$30),Ввод!$D$1:$D$30,\"\"),\" / \")","v":""},{"$f":"MyJoin(IF((C$2=Ввод!$C$1:$C$30)*($A49>=Ввод!$E$1:$E$30)*($A49<=Ввод!$F$1:$F$30),Ввод!$D$1:$D$30,\"\"),\" / \")","v":""},{"$f":"MyJoin(IF((D$2=Ввод!$C$1:$C$30)*($A49>=Ввод!$E$1:$E$30)*($A49<=Ввод!$F$1:$F$30),Ввод!$D$1:$D$30,\"\"),\" / \")","v":""},{"$f":"MyJoin(IF((E$2=Ввод!$C$1:$C$30)*($A49>=Ввод!$E$1:$E$30)*($A49<=Ввод!$F$1:$F$30),Ввод!$D$1:$D$30,\"\"),\" / \")","v":""},{"$f":"MyJoin(IF((F$2=Ввод!$C$1:$C$30)*($A49>=Ввод!$E$1:$E$30)*($A49<=Ввод!$F$1:$F$30),Ввод!$D$1:$D$30,\"\"),\" / \")","v":""},"2022-02-11"]
["2022-02-12",{"$f":"MyJoin(IF((B$2=Ввод!$C$1:$C$30)*($A50>=Ввод!$E$1:$E$30)*($A50<=Ввод!$F$1:$F$30),Ввод!$D$1:$D$30,\"\"),\" / \")","v":""},{"$f":"MyJoin(IF((C$2=Ввод!$C$1:$C$30)*($A50>=Ввод!$E$1:$E$30)*($A50<=Ввод!$F$1:$F$30),Ввод!$D$1:$D$30,\"\"),\" / \")","v":""},{"$f":"MyJoin(IF((D$2=Ввод!$C$1:$C$30)*($A50>=Ввод!$E$1:$E$30)*($A50<=Ввод!$F$1:$F$30),Ввод!$D$1:$D$30,\"\"),\" / \")","v":""},{"$f":"MyJoin(IF((E$2=Ввод!$C$1:$C$30)*($A50>=Ввод!$E$1:$E$30)*($A50<=Ввод!$F$1:$F$30),Ввод!$D$1:$D$30,\"\"),\" / \")","v":""},{"$f":"MyJoin(IF((F$2=Ввод!$C$1:$C$30)*($A50>=Ввод!$E$1:$E$30)*($A50<=Ввод!$F$1:$F$30),Ввод!$D$1:$D$30,\"\"),\" / \")","v":""},"2022-02-12"]
["2022-02-13",{"$f":"MyJoin(IF((B$2=Ввод!$C$1:$C$30)*($A51>=Ввод!$E$1:$E$30)*($A51<=Ввод!$F$1:$F$30),Ввод!$D$1:$D$30,\"\"),\" / \")","v":""},{"$f":"MyJoin(IF((C$2=Ввод!$C$1:$C$30)*($A51>=Ввод!$E$1:$E$30)*($A51<=Ввод!$F$1:$F$30),Ввод!$D$1:$D$30,\"\"),\" / \")","v":""},{"$f":"MyJoin(IF((D$2=Ввод!$C$1:$C$30)*($A51>=Ввод!$E$1:$E$30)*($A51<=Ввод!$F$1:$F$30),Ввод!$D$1:$D$30,\"\"),\" / \")","v":""},{"$f":"MyJoin(IF((E$2=Ввод!$C$1:$C$30)*($A51>=Ввод!$E$1:$E$30)*($A51<=Ввод!$F$1:$F$30),Ввод!$D$1:$D$30,\"\"),\" / \")","v":""},{"$f":"MyJoin(IF((F$2=Ввод!$C$1:$C$30)*($A51>=Ввод!$E$1:$E$30)*($A51<=Ввод!$F$1:$F$30),Ввод!$D$1:$D$30,\"\"),\" / \")","v":""},"2022-02-13"]
["2022-02-14",{"$f":"MyJoin(IF((B$2=Ввод!$C$1:$C$30)*($A52>=Ввод!$E$1:$E$30)*($A52<=Ввод!$F$1:$F$30),Ввод!$D$1:$D$30,\"\"),\" / \")","v":""},{"$f":"MyJoin(IF((C$2=Ввод!$C$1:$C$30)*($A52>=Ввод!$E$1:$E$30)*($A52<=Ввод!$F$1:$F$30),Ввод!$D$1:$D$30,\"\"),\" / \")","v":""},{"$f":"MyJoin(IF((D$2=Ввод!$C$1:$C$30)*($A52>=Ввод!$E$1:$E$30)*($A52<=Ввод!$F$1:$F$30),Ввод!$D$1:$D$30,\"\"),\" / \")","v":""},{"$f":"MyJoin(IF((E$2=Ввод!$C$1:$C$30)*($A52>=Ввод!$E$1:$E$30)*($A52<=Ввод!$F$1:$F$30),Ввод!$D$1:$D$30,\"\"),\" / \")","v":""},{"$f":"MyJoin(IF((F$2=Ввод!$C$1:$C$30)*($A52>=Ввод!$E$1:$E$30)*($A52<=Ввод!$F$1:$F$30),Ввод!$D$1:$D$30,\"\"),\" / \")","v":""},"2022-02-14"]
["2022-02-15",{"$f":"MyJoin(IF((B$2=Ввод!$C$1:$C$30)*($A53>=Ввод!$E$1:$E$30)*($A53<=Ввод!$F$1:$F$30),Ввод!$D$1:$D$30,\"\"),\" / \")","v":""},{"$f":"MyJoin(IF((C$2=Ввод!$C$1:$C$30)*($A53>=Ввод!$E$1:$E$30)*($A53<=Ввод!$F$1:$F$30),Ввод!$D$1:$D$30,\"\"),\" / \")","v":""},{"$f":"MyJoin(IF((D$2=Ввод!$C$1:$C$30)*($A53>=Ввод!$E$1:$E$30)*($A53<=Ввод!$F$1:$F$30),Ввод!$D$1:$D$30,\"\"),\" / \")","v":""},{"$f":"MyJoin(IF((E$2=Ввод!$C$1:$C$30)*($A53>=Ввод!$E$1:$E$30)*($A53<=Ввод!$F$1:$F$30),Ввод!$D$1:$D$30,\"\"),\" / \")","v":""},{"$f":"MyJoin(IF((F$2=Ввод!$C$1:$C$30)*($A53>=Ввод!$E$1:$E$30)*($A53<=Ввод!$F$1:$F$30),Ввод!$D$1:$D$30,\"\"),\" / \")","v":""},"2022-02-15"]
["2022-02-16",{"$f":"MyJoin(IF((B$2=Ввод!$C$1:$C$30)*($A54>=Ввод!$E$1:$E$30)*($A54<=Ввод!$F$1:$F$30),Ввод!$D$1:$D$30,\"\"),\" / \")","v":""},{"$f":"MyJoin(IF((C$2=Ввод!$C$1:$C$30)*($A54>=Ввод!$E$1:$E$30)*($A54<=Ввод!$F$1:$F$30),Ввод!$D$1:$D$30,\"\"),\" / \")","v":""},{"$f":"MyJoin(IF((D$2=Ввод!$C$1:$C$30)*($A54>=Ввод!$E$1:$E$30)*($A54<=Ввод!$F$1:$F$30),Ввод!$D$1:$D$30,\"\"),\" / \")","v":""},{"$f":"MyJoin(IF((E$2=Ввод!$C$1:$C$30)*($A54>=Ввод!$E$1:$E$30)*($A54<=Ввод!$F$1:$F$30),Ввод!$D$1:$D$30,\"\"),\" / \")","v":""},{"$f":"MyJoin(IF((F$2=Ввод!$C$1:$C$30)*($A54>=Ввод!$E$1:$E$30)*($A54<=Ввод!$F$1:$F$30),Ввод!$D$1:$D$30,\"\"),\" / \")","v":""},"2022-02-16"]
["2022-02-17",{"$f":"MyJoin(IF((B$2=Ввод!$C$1:$C$30)*($A55>=Ввод!$E$1:$E$30)*($A55<=Ввод!$F$1:$F$30),Ввод!$D$1:$D$30,\"\"),\" / \")","v":""},{"$f":"MyJoin(IF((C$2=Ввод!$C$1:$C$30)*($A55>=Ввод!$E$1:$E$30)*($A55<=Ввод!$F$1:$F$30),Ввод!$D$1:$D$30,\"\"),\" / \")","v":""},{"$f":"MyJoin(IF((D$2=Ввод!$C$1:$C$30)*($A55>=Ввод!$E$1:$E$30)*($A55<=Ввод!$F$1:$F$30),Ввод!$D$1:$D$30,\"\"),\" / \")","v":""},{"$f":"MyJoin(IF((E$2=Ввод!$C$1:$C$30)*($A55>=Ввод!$E$1:$E$30)*($A55<=Ввод!$F$1:$F$30),Ввод!$D$1:$D$30,\"\"),\" / \")","v":""},{"$f":"MyJoin(IF((F$2=Ввод!$C$1:$C$30)*($A55>=Ввод!$E$1:$E$30)*($A55<=Ввод!$F$1:$F$30),Ввод!$D$1:$D$30,\"\"),\" / \")","v":""},"2022-02-17"]
["2022-02-18",{"$f":"MyJoin(IF((B$2=Ввод!$C$1:$C$30)*($A56>=Ввод!$E$1:$E$30)*($A56<=Ввод!$F$1:$F$30),Ввод!$D$1:$D$30,\"\"),\" / \")","v":""},{"$f":"MyJoin(IF((C$2=Ввод!$C$1:$C$30)*($A56>=Ввод!$E$1:$E$30)*($A56<=Ввод!$F$1:$F$30),Ввод!$D$1:$D$30,\"\"),\" / \")","v":""},{"$f":"MyJoin(IF((D$2=Ввод!$C$1:$C$30)*($A56>=Ввод!$E$1:$E$30)*($A56<=Ввод!$F$1:$F$30),Ввод!$D$1:$D$30,\"\"),\" / \")","v":""},{"$f":"MyJoin(IF((E$2=Ввод!$C$1:$C$30)*($A56>=Ввод!$E$1:$E$30)*($A56<=Ввод!$F$1:$F$30),Ввод!$D$1:$D$30,\"\"),\" / \")","v":""},{"$f":"MyJoin(IF((F$2=Ввод!$C$1:$C$30)*($A56>=Ввод!$E$1:$E$30)*($A56<=Ввод!$F$1:$F$30),Ввод!$D$1:$D$30,\"\"),\" / \")","v":""},"2022-02-18"]
["2022-02-19",{"$f":"MyJoin(IF((B$2=Ввод!$C$1:$C$30)*($A57>=Ввод!$E$1:$E$30)*($A57<=Ввод!$F$1:$F$30),Ввод!$D$1:$D$30,\"\"),\" / \")","v":""},{"$f":"MyJoin(IF((C$2=Ввод!$C$1:$C$30)*($A57>=Ввод!$E$1:$E$30)*($A57<=Ввод!$F$1:$F$30),Ввод!$D$1:$D$30,\"\"),\" / \")","v":""},{"$f":"MyJoin(IF((D$2=Ввод!$C$1:$C$30)*($A57>=Ввод!$E$1:$E$30)*($A57<=Ввод!$F$1:$F$30),Ввод!$D$1:$D$30,\"\"),\" / \")","v":""},{"$f":"MyJoin(IF((E$2=Ввод!$C$1:$C$30)*($A57>=Ввод!$E$1:$E$30)*($A57<=Ввод!$F$1:$F$30),Ввод!$D$1:$D$30,\"\"),\" / \")","v":""},{"$f":"MyJoin(IF((F$2=Ввод!$C$1:$C$30)*($A57>=Ввод!$E$1:$E$30)*($A57<=Ввод!$F$1:$F$30),Ввод!$D$1:$D$30,\"\"),\" / \")","v":""},"2022-02-19"]
["2022-02-20",{"$f":"MyJoin(IF((B$2=Ввод!$C$1:$C$30)*($A58>=Ввод!$E$1:$E$30)*($A58<=Ввод!$F$1:$F$30),Ввод!$D$1:$D$30,\"\"),\" / \")","v":""},{"$f":"MyJoin(IF((C$2=Ввод!$C$1:$C$30)*($A58>=Ввод!$E$1:$E$30)*($A58<=Ввод!$F$1:$F$30),Ввод!$D$1:$D$30,\"\"),\" / \")","v":""},{"$f":"MyJoin(IF((D$2=Ввод!$C$1:$C$30)*($A58>=Ввод!$E$1:$E$30)*($A58<=Ввод!$F$1:$F$30),Ввод!$D$1:$D$30,\"\"),\" / \")","v":""},{"$f":"MyJoin(IF((E$2=Ввод!$C$1:$C$30)*($A58>=Ввод!$E$1:$E$30)*($A58<=Ввод!$F$1:$F$30),Ввод!$D$1:$D$30,\"\"),\" / \")","v":""},{"$f":"MyJoin(IF((F$2=Ввод!$C$1:$C$30)*($A58>=Ввод!$E$1:$E$30)*($A58<=Ввод!$F$1:$F$30),Ввод!$D$1:$D$30,\"\"),\" / \")","v":""},"2022-02-20"]
["2022-02-21",{"$f":"MyJoin(IF((B$2=Ввод!$C$1:$C$30)*($A59>=Ввод!$E$1:$E$30)*($A59<=Ввод!$F$1:$F$30),Ввод!$D$1:$D$30,\"\"),\" / \")","v":""},{"$f":"MyJoin(IF((C$2=Ввод!$C$1:$C$30)*($A59>=Ввод!$E$1:$E$30)*($A59<=Ввод!$F$1:$F$30),Ввод!$D$1:$D$30,\"\"),\" / \")","v":""},{"$f":"MyJoin(IF((D$2=Ввод!$C$1:$C$30)*($A59>=Ввод!$E$1:$E$30)*($A59<=Ввод!$F$1:$F$30),Ввод!$D$1:$D$30,\"\"),\" / \")","v":""},{"$f":"MyJoin(IF((E$2=Ввод!$C$1:$C$30)*($A59>=Ввод!$E$1:$E$30)*($A59<=Ввод!$F$1:$F$30),Ввод!$D$1:$D$30,\"\"),\" / \")","v":""},{"$f":"MyJoin(IF((F$2=Ввод!$C$1:$C$30)*($A59>=Ввод!$E$1:$E$30)*($A59<=Ввод!$F$1:$F$30),Ввод!$D$1:$D$30,\"\"),\" / \")","v":""},"2022-02-21"]
["2022-02-22",{"$f":"MyJoin(IF((B$2=Ввод!$C$1:$C$30)*($A60>=Ввод!$E$1:$E$30)*($A60<=Ввод!$F$1:$F$30),Ввод!$D$1:$D$30,\"\"),\" / \")","v":""},{"$f":"MyJoin(IF((C$2=Ввод!$C$1:$C$30)*($A60>=Ввод!$E$1:$E$30)*($A60<=Ввод!$F$1:$F$30),Ввод!$D$1:$D$30,\"\"),\" / \")","v":""},{"$f":"MyJoin(IF((D$2=Ввод!$C$1:$C$30)*($A60>=Ввод!$E$1:$E$30)*($A60<=Ввод!$F$1:$F$30),Ввод!$D$1:$D$30,\"\"),\" / \")","v":""},{"$f":"MyJoin(IF((E$2=Ввод!$C$1:$C$30)*($A60>=Ввод!$E$1:$E$30)*($A60<=Ввод!$F$1:$F$30),Ввод!$D$1:$D$30,\"\"),\" / \")","v":""},{"$f":"MyJoin(IF((F$2=Ввод!$C$1:$C$30)*($A60>=Ввод!$E$1:$E$30)*($A60<=Ввод!$F$1:$F$30),Ввод!$D$1:$D$30,\"\"),\" / \")","v":""},"2022-02-22"]
["2022-02-23",{"$f":"MyJoin(IF((B$2=Ввод!$C$1:$C$30)*($A61>=Ввод!$E$1:$E$30)*($A61<=Ввод!$F$1:$F$30),Ввод!$D$1:$D$30,\"\"),\" / \")","v":""},{"$f":"MyJoin(IF((C$2=Ввод!$C$1:$C$30)*($A61>=Ввод!$E$1:$E$30)*($A61<=Ввод!$F$1:$F$30),Ввод!$D$1:$D$30,\"\"),\" / \")","v":""},{"$f":"MyJoin(IF((D$2=Ввод!$C$1:$C$30)*($A61>=Ввод!$E$1:$E$30)*($A61<=Ввод!$F$1:$F$30),Ввод!$D$1:$D$30,\"\"),\" / \")","v":""},{"$f":"MyJoin(IF((E$2=Ввод!$C$1:$C$30)*($A61>=Ввод!$E$1:$E$30)*($A61<=Ввод!$F$1:$F$30),Ввод!$D$1:$D$30,\"\"),\" / \")","v":""},{"$f":"MyJoin(IF((F$2=Ввод!$C$1:$C$30)*($A61>=Ввод!$E$1:$E$30)*($A61<=Ввод!$F$1:$F$30),Ввод!$D$1:$D$30,\"\"),\" / \")","v":""},"2022-02-23"]
["2022-02-24",{"$f":"MyJoin(IF((B$2=Ввод!$C$1:$C$30)*($A62>=Ввод!$E$1:$E$30)*($A62<=Ввод!$F$1:$F$30),Ввод!$D$1:$D$30,\"\"),\" / \")","v":""},{"$f":"MyJoin(IF((C$2=Ввод!$C$1:$C$30)*($A62>=Ввод!$E$1:$E$30)*($A62<=Ввод!$F$1:$F$30),Ввод!$D$1:$D$30,\"\"),\" / \")","v":""},{"$f":"MyJoin(IF((D$2=Ввод!$C$1:$C$30)*($A62>=Ввод!$E$1:$E$30)*($A62<=Ввод!$F$1:$F$30),Ввод!$D$1:$D$30,\"\"),\" / \")","v":""},{"$f":"MyJoin(IF((E$2=Ввод!$C$1:$C$30)*($A62>=Ввод!$E$1:$E$30)*($A62<=Ввод!$F$1:$F$30),Ввод!$D$1:$D$30,\"\"),\" / \")","v":""},{"$f":"MyJoin(IF((F$2=Ввод!$C$1:$C$30)*($A62>=Ввод!$E$1:$E$30)*($A62<=Ввод!$F$1:$F$30),Ввод!$D$1:$D$30,\"\"),\" / \")","v":""},"2022-02-24"]
["2022-02-25",{"$f":"MyJoin(IF((B$2=Ввод!$C$1:$C$30)*($A63>=Ввод!$E$1:$E$30)*($A63<=Ввод!$F$1:$F$30),Ввод!$D$1:$D$30,\"\"),\" / \")","v":""},{"$f":"MyJoin(IF((C$2=Ввод!$C$1:$C$30)*($A63>=Ввод!$E$1:$E$30)*($A63<=Ввод!$F$1:$F$30),Ввод!$D$1:$D$30,\"\"),\" / \")","v":""},{"$f":"MyJoin(IF((D$2=Ввод!$C$1:$C$30)*($A63>=Ввод!$E$1:$E$30)*($A63<=Ввод!$F$1:$F$30),Ввод!$D$1:$D$30,\"\"),\" / \")","v":""},{"$f":"MyJoin(IF((E$2=Ввод!$C$1:$C$30)*($A63>=Ввод!$E$1:$E$30)*($A63<=Ввод!$F$1:$F$30),Ввод!$D$1:$D$30,\"\"),\" / \")","v":""},{"$f":"MyJoin(IF((F$2=Ввод!$C$1:$C$30)*($A63>=Ввод!$E$1:$E$30)*($A63<=Ввод!$F$1:$F$30),Ввод!$D$1:$D$30,\"\"),\" / \")","v":""},"2022-02-25"]
["2022-02-26",{"$f":"MyJoin(IF((B$2=Ввод!$C$1:$C$30)*($A64>=Ввод!$E$1:$E$30)*($A64<=Ввод!$F$1:$F$30),Ввод!$D$1:$D$30,\"\"),\" / \")","v":""},{"$f":"MyJoin(IF((C$2=Ввод!$C$1:$C$30)*($A64>=Ввод!$E$1:$E$30)*($A64<=Ввод!$F$1:$F$30),Ввод!$D$1:$D$30,\"\"),\" / \")","v":""},{"$f":"MyJoin(IF((D$2=Ввод!$C$1:$C$30)*($A64>=Ввод!$E$1:$E$30)*($A64<=Ввод!$F$1:$F$30),Ввод!$D$1:$D$30,\"\"),\" / \")","v":""},{"$f":"MyJoin(IF((E$2=Ввод!$C$1:$C$30)*($A64>=Ввод!$E$1:$E$30)*($A64<=Ввод!$F$1:$F$30),Ввод!$D$1:$D$30,\"\"),\" / \")","v":""},{"$f":"MyJoin(IF((F$2=Ввод!$C$1:$C$30)*($A64>=Ввод!$E$1:$E$30)*($A64<=Ввод!$F$1:$F$30),Ввод!$D$1:$D$30,\"\"),\" / \")","v":""},"2022-02-26"]
["2022-02-27",{"$f":"MyJoin(IF((B$2=Ввод!$C$1:$C$30)*($A65>=Ввод!$E$1:$E$30)*($A65<=Ввод!$F$1:$F$30),Ввод!$D$1:$D$30,\"\"),\" / \")","v":""},{"$f":"MyJoin(IF((C$2=Ввод!$C$1:$C$30)*($A65>=Ввод!$E$1:$E$30)*($A65<=Ввод!$F$1:$F$30),Ввод!$D$1:$D$30,\"\"),\" / \")","v":""},{"$f":"MyJoin(IF((D$2=Ввод!$C$1:$C$30)*($A65>=Ввод!$E$1:$E$30)*($A65<=Ввод!$F$1:$F$30),Ввод!$D$1:$D$30,\"\"),\" / \")","v":""},{"$f":"MyJoin(IF((E$2=Ввод!$C$1:$C$30)*($A65>=Ввод!$E$1:$E$30)*($A65<=Ввод!$F$1:$F$30),Ввод!$D$1:$D$30,\"\"),\" / \")","v":""},{"$f":"MyJoin(IF((F$2=Ввод!$C$1:$C$30)*($A65>=Ввод!$E$1:$E$30)*($A65<=Ввод!$F$1:$F$30),Ввод!$D$1:$D$30,\"\"),\" / \")","v":""},"2022-02-27"]
["2022-02-28",{"$f":"MyJoin(IF((B$2=Ввод!$C$1:$C$30)*($A66>=Ввод!$E$1:$E$30)*($A66<=Ввод!$F$1:$F$30),Ввод!$D$1:$D$30,\"\"),\" / \")","v":""},{"$f":"MyJoin(IF((C$2=Ввод!$C$1:$C$30)*($A66>=Ввод!$E$1:$E$30)*($A66<=Ввод!$F$1:$F$30),Ввод!$D$1:$D$30,\"\"),\" / \")","v":""},{"$f":"MyJoin(IF((D$2=Ввод!$C$1:$C$30)*($A66>=Ввод!$E$1:$E$30)*($A66<=Ввод!$F$1:$F$30),Ввод!$D$1:$D$30,\"\"),\" / \")","v":""},{"$f":"MyJoin(IF((E$2=Ввод!$C$1:$C$30)*($A66>=Ввод!$E$1:$E$30)*($A66<=Ввод!$F$1:$F$30),Ввод!$D$1:$D$30,\"\"),\" / \")","v":""},{"$f":"MyJoin(IF((F$2=Ввод!$C$1:$C$30)*($A66>=Ввод!$E$1:$E$30)*($A66<=Ввод!$F$1:$F$30),Ввод!$D$1:$D$30,\"\"),\" / \")","v":""},"2022-02-28"]
["2022-03-01",{"$f":"MyJoin(IF((B$2=Ввод!$C$1:$C$30)*($A67>=Ввод!$E$1:$E$30)*($A67<=Ввод!$F$1:$F$30),Ввод!$D$1:$D$30,\"\"),\" / \")","v":"Задание 4"},{"$f":"MyJoin(IF((C$2=Ввод!$C$1:$C$30)*($A67>=Ввод!$E$1:$E$30)*($A67<=Ввод!$F$1:$F$30),Ввод!$D$1:$D$30,\"\"),\" / \")","v":""},{"$f":"MyJoin(IF((D$2=Ввод!$C$1:$C$30)*($A67>=Ввод!$E$1:$E$30)*($A67<=Ввод!$F$1:$F$30),Ввод!$D$1:$D$30,\"\"),\" / \")","v":""},{"$f":"MyJoin(IF((E$2=Ввод!$C$1:$C$30)*($A67>=Ввод!$E$1:$E$30)*($A67<=Ввод!$F$1:$F$30),Ввод!$D$1:$D$30,\"\"),\" / \")","v":""},{"$f":"MyJoin(IF((F$2=Ввод!$C$1:$C$30)*($A67>=Ввод!$E$1:$E$30)*($A67<=Ввод!$F$1:$F$30),Ввод!$D$1:$D$30,\"\"),\" / \")","v":""},"2022-03-01"]
["2022-03-02",{"$f":"MyJoin(IF((B$2=Ввод!$C$1:$C$30)*($A68>=Ввод!$E$1:$E$30)*($A68<=Ввод!$F$1:$F$30),Ввод!$D$1:$D$30,\"\"),\" / \")","v":"Задание 4"},{"$f":"MyJoin(IF((C$2=Ввод!$C$1:$C$30)*($A68>=Ввод!$E$1:$E$30)*($A68<=Ввод!$F$1:$F$30),Ввод!$D$1:$D$30,\"\"),\" / \")","v":""},{"$f":"MyJoin(IF((D$2=Ввод!$C$1:$C$30)*($A68>=Ввод!$E$1:$E$30)*($A68<=Ввод!$F$1:$F$30),Ввод!$D$1:$D$30,\"\"),\" / \")","v":""},{"$f":"MyJoin(IF((E$2=Ввод!$C$1:$C$30)*($A68>=Ввод!$E$1:$E$30)*($A68<=Ввод!$F$1:$F$30),Ввод!$D$1:$D$30,\"\"),\" / \")","v":""},{"$f":"MyJoin(IF((F$2=Ввод!$C$1:$C$30)*($A68>=Ввод!$E$1:$E$30)*($A68<=Ввод!$F$1:$F$30),Ввод!$D$1:$D$30,\"\"),\" / \")","v":""},"2022-03-02"]
["2022-03-03",{"$f":"MyJoin(IF((B$2=Ввод!$C$1:$C$30)*($A69>=Ввод!$E$1:$E$30)*($A69<=Ввод!$F$1:$F$30),Ввод!$D$1:$D$30,\"\"),\" / \")","v":"Задание 4 / Задание 5"},{"$f":"MyJoin(IF((C$2=Ввод!$C$1:$C$30)*($A69>=Ввод!$E$1:$E$30)*($A69<=Ввод!$F$1:$F$30),Ввод!$D$1:$D$30,\"\"),\" / \")","v":""},{"$f":"MyJoin(IF((D$2=Ввод!$C$1:$C$30)*($A69>=Ввод!$E$1:$E$30)*($A69<=Ввод!$F$1:$F$30),Ввод!$D$1:$D$30,\"\"),\" / \")","v":""},{"$f":"MyJoin(IF((E$2=Ввод!$C$1:$C$30)*($A69>=Ввод!$E$1:$E$30)*($A69<=Ввод!$F$1:$F$30),Ввод!$D$1:$D$30,\"\"),\" / \")","v":""},{"$f":"MyJoin(IF((F$2=Ввод!$C$1:$C$30)*($A69>=Ввод!$E$1:$E$30)*($A69<=Ввод!$F$1:$F$30),Ввод!$D$1:$D$30,\"\"),\" / \")","v":""},"2022-03-03"]
["2022-03-04",{"$f":"MyJoin(IF((B$2=Ввод!$C$1:$C$30)*($A70>=Ввод!$E$1:$E$30)*($A70<=Ввод!$F$1:$F$30),Ввод!$D$1:$D$30,\"\"),\" / \")","v":"Задание 5"},{"$f":"MyJoin(IF((C$2=Ввод!$C$1:$C$30)*($A70>=Ввод!$E$1:$E$30)*($A70<=Ввод!$F$1:$F$30),Ввод!$D$1:$D$30,\"\"),\" / \")","v":""},{"$f":"MyJoin(IF((D$2=Ввод!$C$1:$C$30)*($A70>=Ввод!$E$1:$E$30)*($A70<=Ввод!$F$1:$F$30),Ввод!$D$1:$D$30,\"\"),\" / \")","v":""},{"$f":"MyJoin(IF((E$2=Ввод!$C$1:$C$30)*($A70>=Ввод!$E$1:$E$30)*($A70<=Ввод!$F$1:$F$30),Ввод!$D$1:$D$30,\"\"),\" / \")","v":""},{"$f":"MyJoin(IF((F$2=Ввод!$C$1:$C$30)*($A70>=Ввод!$E$1:$E$30)*($A70<=Ввод!$F$1:$F$30),Ввод!$D$1:$D$30,\"\"),\" / \")","v":""},"2022-03-04"]
["2022-03-05",{"$f":"MyJoin(IF((B$2=Ввод!$C$1:$C$30)*($A71>=Ввод!$E$1:$E$30)*($A71<=Ввод!$F$1:$F$30),Ввод!$D$1:$D$30,\"\"),\" / \")","v":""},{"$f":"MyJoin(IF((C$2=Ввод!$C$1:$C$30)*($A71>=Ввод!$E$1:$E$30)*($A71<=Ввод!$F$1:$F$30),Ввод!$D$1:$D$30,\"\"),\" / \")","v":""},{"$f":"MyJoin(IF((D$2=Ввод!$C$1:$C$30)*($A71>=Ввод!$E$1:$E$30)*($A71<=Ввод!$F$1:$F$30),Ввод!$D$1:$D$30,\"\"),\" / \")","v":""},{"$f":"MyJoin(IF((E$2=Ввод!$C$1:$C$30)*($A71>=Ввод!$E$1:$E$30)*($A71<=Ввод!$F$1:$F$30),Ввод!$D$1:$D$30,\"\"),\" / \")","v":""},{"$f":"MyJoin(IF((F$2=Ввод!$C$1:$C$30)*($A71>=Ввод!$E$1:$E$30)*($A71<=Ввод!$F$1:$F$30),Ввод!$D$1:$D$30,\"\"),\" / \")","v":""},"2022-03-05"]
["2022-03-06",{"$f":"MyJoin(IF((B$2=Ввод!$C$1:$C$30)*($A72>=Ввод!$E$1:$E$30)*($A72<=Ввод!$F$1:$F$30),Ввод!$D$1:$D$30,\"\"),\" / \")","v":""},{"$f":"MyJoin(IF((C$2=Ввод!$C$1:$C$30)*($A72>=Ввод!$E$1:$E$30)*($A72<=Ввод!$F$1:$F$30),Ввод!$D$1:$D$30,\"\"),\" / \")","v":""},{"$f":"MyJoin(IF((D$2=Ввод!$C$1:$C$30)*($A72>=Ввод!$E$1:$E$30)*($A72<=Ввод!$F$1:$F$30),Ввод!$D$1:$D$30,\"\"),\" / \")","v":""},{"$f":"MyJoin(IF((E$2=Ввод!$C$1:$C$30)*($A72>=Ввод!$E$1:$E$30)*($A72<=Ввод!$F$1:$F$30),Ввод!$D$1:$D$30,\"\"),\" / \")","v":""},{"$f":"MyJoin(IF((F$2=Ввод!$C$1:$C$30)*($A72>=Ввод!$E$1:$E$30)*($A72<=Ввод!$F$1:$F$30),Ввод!$D$1:$D$30,\"\"),\" / \")","v":""},"2022-03-06"]
["2022-03-07",{"$f":"MyJoin(IF((B$2=Ввод!$C$1:$C$30)*($A73>=Ввод!$E$1:$E$30)*($A73<=Ввод!$F$1:$F$30),Ввод!$D$1:$D$30,\"\"),\" / \")","v":""},{"$f":"MyJoin(IF((C$2=Ввод!$C$1:$C$30)*($A73>=Ввод!$E$1:$E$30)*($A73<=Ввод!$F$1:$F$30),Ввод!$D$1:$D$30,\"\"),\" / \")","v":""},{"$f":"MyJoin(IF((D$2=Ввод!$C$1:$C$30)*($A73>=Ввод!$E$1:$E$30)*($A73<=Ввод!$F$1:$F$30),Ввод!$D$1:$D$30,\"\"),\" / \")","v":""},{"$f":"MyJoin(IF((E$2=Ввод!$C$1:$C$30)*($A73>=Ввод!$E$1:$E$30)*($A73<=Ввод!$F$1:$F$30),Ввод!$D$1:$D$30,\"\"),\" / \")","v":""},{"$f":"MyJoin(IF((F$2=Ввод!$C$1:$C$30)*($A73>=Ввод!$E$1:$E$30)*($A73<=Ввод!$F$1:$F$30),Ввод!$D$1:$D$30,\"\"),\" / \")","v":""},{"$f":"IF(A73=\"\",\"\",A73)","v":"2022-03-07"}]
["2022-03-08",{"$f":"MyJoin(IF((B$2=Ввод!$C$1:$C$30)*($A74>=Ввод!$E$1:$E$30)*($A74<=Ввод!$F$1:$F$30),Ввод!$D$1:$D$30,\"\"),\" / \")","v":""},{"$f":"MyJoin(IF((C$2=Ввод!$C$1:$C$30)*($A74>=Ввод!$E$1:$E$30)*($A74<=Ввод!$F$1:$F$30),Ввод!$D$1:$D$30,\"\"),\" / \")","v":""},{"$f":"MyJoin(IF((D$2=Ввод!$C$1:$C$30)*($A74>=Ввод!$E$1:$E$30)*($A74<=Ввод!$F$1:$F$30),Ввод!$D$1:$D$30,\"\"),\" / \")","v":""},{"$f":"MyJoin(IF((E$2=Ввод!$C$1:$C$30)*($A74>=Ввод!$E$1:$E$30)*($A74<=Ввод!$F$1:$F$30),Ввод!$D$1:$D$30,\"\"),\" / \")","v":""},{"$f":"MyJoin(IF((F$2=Ввод!$C$1:$C$30)*($A74>=Ввод!$E$1:$E$30)*($A74<=Ввод!$F$1:$F$30),Ввод!$D$1:$D$30,\"\"),\" / \")","v":""},"2022-03-08"]
["2022-03-09",{"$f":"MyJoin(IF((B$2=Ввод!$C$1:$C$30)*($A75>=Ввод!$E$1:$E$30)*($A75<=Ввод!$F$1:$F$30),Ввод!$D$1:$D$30,\"\"),\" / \")","v":""},{"$f":"MyJoin(IF((C$2=Ввод!$C$1:$C$30)*($A75>=Ввод!$E$1:$E$30)*($A75<=Ввод!$F$1:$F$30),Ввод!$D$1:$D$30,\"\"),\" / \")","v":""},{"$f":"MyJoin(IF((D$2=Ввод!$C$1:$C$30)*($A75>=Ввод!$E$1:$E$30)*($A75<=Ввод!$F$1:$F$30),Ввод!$D$1:$D$30,\"\"),\" / \")","v":""},{"$f":"MyJoin(IF((E$2=Ввод!$C$1:$C$30)*($A75>=Ввод!$E$1:$E$30)*($A75<=Ввод!$F$1:$F$30),Ввод!$D$1:$D$30,\"\"),\" / \")","v":""},{"$f":"MyJoin(IF((F$2=Ввод!$C$1:$C$30)*($A75>=Ввод!$E$1:$E$30)*($A75<=Ввод!$F$1:$F$30),Ввод!$D$1:$D$30,\"\"),\" / \")","v":""},"2022-03-09"]
["2022-03-10",{"$f":"MyJoin(IF((B$2=Ввод!$C$1:$C$30)*($A76>=Ввод!$E$1:$E$30)*($A76<=Ввод!$F$1:$F$30),Ввод!$D$1:$D$30,\"\"),\" / \")","v":""},{"$f":"MyJoin(IF((C$2=Ввод!$C$1:$C$30)*($A76>=Ввод!$E$1:$E$30)*($A76<=Ввод!$F$1:$F$30),Ввод!$D$1:$D$30,\"\"),\" / \")","v":""},{"$f":"MyJoin(IF((D$2=Ввод!$C$1:$C$30)*($A76>=Ввод!$E$1:$E$30)*($A76<=Ввод!$F$1:$F$30),Ввод!$D$1:$D$30,\"\"),\" / \")","v":""},{"$f":"MyJoin(IF((E$2=Ввод!$C$1:$C$30)*($A76>=Ввод!$E$1:$E$30)*($A76<=Ввод!$F$1:$F$30),Ввод!$D$1:$D$30,\"\"),\" / \")","v":""},{"$f":"MyJoin(IF((F$2=Ввод!$C$1:$C$30)*($A76>=Ввод!$E$1:$E$30)*($A76<=Ввод!$F$1:$F$30),Ввод!$D$1:$D$30,\"\"),\" / \")","v":""},"2022-03-10"]
["2022-03-11",{"$f":"MyJoin(IF((B$2=Ввод!$C$1:$C$30)*($A77>=Ввод!$E$1:$E$30)*($A77<=Ввод!$F$1:$F$30),Ввод!$D$1:$D$30,\"\"),\" / \")","v":""},{"$f":"MyJoin(IF((C$2=Ввод!$C$1:$C$30)*($A77>=Ввод!$E$1:$E$30)*($A77<=Ввод!$F$1:$F$30),Ввод!$D$1:$D$30,\"\"),\" / \")","v":""},{"$f":"MyJoin(IF((D$2=Ввод!$C$1:$C$30)*($A77>=Ввод!$E$1:$E$30)*($A77<=Ввод!$F$1:$F$30),Ввод!$D$1:$D$30,\"\"),\" / \")","v":""},{"$f":"MyJoin(IF((E$2=Ввод!$C$1:$C$30)*($A77>=Ввод!$E$1:$E$30)*($A77<=Ввод!$F$1:$F$30),Ввод!$D$1:$D$30,\"\"),\" / \")","v":""},{"$f":"MyJoin(IF((F$2=Ввод!$C$1:$C$30)*($A77>=Ввод!$E$1:$E$30)*($A77<=Ввод!$F$1:$F$30),Ввод!$D$1:$D$30,\"\"),\" / \")","v":""},"2022-03-11"]
["2022-03-12",{"$f":"MyJoin(IF((B$2=Ввод!$C$1:$C$30)*($A78>=Ввод!$E$1:$E$30)*($A78<=Ввод!$F$1:$F$30),Ввод!$D$1:$D$30,\"\"),\" / \")","v":""},{"$f":"MyJoin(IF((C$2=Ввод!$C$1:$C$30)*($A78>=Ввод!$E$1:$E$30)*($A78<=Ввод!$F$1:$F$30),Ввод!$D$1:$D$30,\"\"),\" / \")","v":""},{"$f":"MyJoin(IF((D$2=Ввод!$C$1:$C$30)*($A78>=Ввод!$E$1:$E$30)*($A78<=Ввод!$F$1:$F$30),Ввод!$D$1:$D$30,\"\"),\" / \")","v":""},{"$f":"MyJoin(IF((E$2=Ввод!$C$1:$C$30)*($A78>=Ввод!$E$1:$E$30)*($A78<=Ввод!$F$1:$F$30),Ввод!$D$1:$D$30,\"\"),\" / \")","v":""},{"$f":"MyJoin(IF((F$2=Ввод!$C$1:$C$30)*($A78>=Ввод!$E$1:$E$30)*($A78<=Ввод!$F$1:$F$30),Ввод!$D$1:$D$30,\"\"),\" / \")","v":""},"2022-03-12"]
["2022-03-13",{"$f":"MyJoin(IF((B$2=Ввод!$C$1:$C$30)*($A79>=Ввод!$E$1:$E$30)*($A79<=Ввод!$F$1:$F$30),Ввод!$D$1:$D$30,\"\"),\" / \")","v":""},{"$f":"MyJoin(IF((C$2=Ввод!$C$1:$C$30)*($A79>=Ввод!$E$1:$E$30)*($A79<=Ввод!$F$1:$F$30),Ввод!$D$1:$D$30,\"\"),\" / \")","v":""},{"$f":"MyJoin(IF((D$2=Ввод!$C$1:$C$30)*($A79>=Ввод!$E$1:$E$30)*($A79<=Ввод!$F$1:$F$30),Ввод!$D$1:$D$30,\"\"),\" / \")","v":""},{"$f":"MyJoin(IF((E$2=Ввод!$C$1:$C$30)*($A79>=Ввод!$E$1:$E$30)*($A79<=Ввод!$F$1:$F$30),Ввод!$D$1:$D$30,\"\"),\" / \")","v":""},{"$f":"MyJoin(IF((F$2=Ввод!$C$1:$C$30)*($A79>=Ввод!$E$1:$E$30)*($A79<=Ввод!$F$1:$F$30),Ввод!$D$1:$D$30,\"\"),\" / \")","v":""},"2022-03-13"]
["2022-03-14",{"$f":"MyJoin(IF((B$2=Ввод!$C$1:$C$30)*($A80>=Ввод!$E$1:$E$30)*($A80<=Ввод!$F$1:$F$30),Ввод!$D$1:$D$30,\"\"),\" / \")","v":""},{"$f":"MyJoin(IF((C$2=Ввод!$C$1:$C$30)*($A80>=Ввод!$E$1:$E$30)*($A80<=Ввод!$F$1:$F$30),Ввод!$D$1:$D$30,\"\"),\" / \")","v":""},{"$f":"MyJoin(IF((D$2=Ввод!$C$1:$C$30)*($A80>=Ввод!$E$1:$E$30)*($A80<=Ввод!$F$1:$F$30),Ввод!$D$1:$D$30,\"\"),\" / \")","v":""},{"$f":"MyJoin(IF((E$2=Ввод!$C$1:$C$30)*($A80>=Ввод!$E$1:$E$30)*($A80<=Ввод!$F$1:$F$30),Ввод!$D$1:$D$30,\"\"),\" / \")","v":""},{"$f":"MyJoin(IF((F$2=Ввод!$C$1:$C$30)*($A80>=Ввод!$E$1:$E$30)*($A80<=Ввод!$F$1:$F$30),Ввод!$D$1:$D$30,\"\"),\" / \")","v":""},"2022-03-14"]
["2022-03-15",{"$f":"MyJoin(IF((B$2=Ввод!$C$1:$C$30)*($A81>=Ввод!$E$1:$E$30)*($A81<=Ввод!$F$1:$F$30),Ввод!$D$1:$D$30,\"\"),\" / \")","v":""},{"$f":"MyJoin(IF((C$2=Ввод!$C$1:$C$30)*($A81>=Ввод!$E$1:$E$30)*($A81<=Ввод!$F$1:$F$30),Ввод!$D$1:$D$30,\"\"),\" / \")","v":""},{"$f":"MyJoin(IF((D$2=Ввод!$C$1:$C$30)*($A81>=Ввод!$E$1:$E$30)*($A81<=Ввод!$F$1:$F$30),Ввод!$D$1:$D$30,\"\"),\" / \")","v":""},{"$f":"MyJoin(IF((E$2=Ввод!$C$1:$C$30)*($A81>=Ввод!$E$1:$E$30)*($A81<=Ввод!$F$1:$F$30),Ввод!$D$1:$D$30,\"\"),\" / \")","v":""},{"$f":"MyJoin(IF((F$2=Ввод!$C$1:$C$30)*($A81>=Ввод!$E$1:$E$30)*($A81<=Ввод!$F$1:$F$30),Ввод!$D$1:$D$30,\"\"),\" / \")","v":""},"2022-03-15"]
["2022-03-16",{"$f":"MyJoin(IF((B$2=Ввод!$C$1:$C$30)*($A82>=Ввод!$E$1:$E$30)*($A82<=Ввод!$F$1:$F$30),Ввод!$D$1:$D$30,\"\"),\" / \")","v":""},{"$f":"MyJoin(IF((C$2=Ввод!$C$1:$C$30)*($A82>=Ввод!$E$1:$E$30)*($A82<=Ввод!$F$1:$F$30),Ввод!$D$1:$D$30,\"\"),\" / \")","v":""},{"$f":"MyJoin(IF((D$2=Ввод!$C$1:$C$30)*($A82>=Ввод!$E$1:$E$30)*($A82<=Ввод!$F$1:$F$30),Ввод!$D$1:$D$30,\"\"),\" / \")","v":""},{"$f":"MyJoin(IF((E$2=Ввод!$C$1:$C$30)*($A82>=Ввод!$E$1:$E$30)*($A82<=Ввод!$F$1:$F$30),Ввод!$D$1:$D$30,\"\"),\" / \")","v":""},{"$f":"MyJoin(IF((F$2=Ввод!$C$1:$C$30)*($A82>=Ввод!$E$1:$E$30)*($A82<=Ввод!$F$1:$F$30),Ввод!$D$1:$D$30,\"\"),\" / \")","v":""},"2022-03-16"]
["2022-03-17",{"$f":"MyJoin(IF((B$2=Ввод!$C$1:$C$30)*($A83>=Ввод!$E$1:$E$30)*($A83<=Ввод!$F$1:$F$30),Ввод!$D$1:$D$30,\"\"),\" / \")","v":""},{"$f":"MyJoin(IF((C$2=Ввод!$C$1:$C$30)*($A83>=Ввод!$E$1:$E$30)*($A83<=Ввод!$F$1:$F$30),Ввод!$D$1:$D$30,\"\"),\" / \")","v":""},{"$f":"MyJoin(IF((D$2=Ввод!$C$1:$C$30)*($A83>=Ввод!$E$1:$E$30)*($A83<=Ввод!$F$1:$F$30),Ввод!$D$1:$D$30,\"\"),\" / \")","v":""},{"$f":"MyJoin(IF((E$2=Ввод!$C$1:$C$30)*($A83>=Ввод!$E$1:$E$30)*($A83<=Ввод!$F$1:$F$30),Ввод!$D$1:$D$30,\"\"),\" / \")","v":""},{"$f":"MyJoin(IF((F$2=Ввод!$C$1:$C$30)*($A83>=Ввод!$E$1:$E$30)*($A83<=Ввод!$F$1:$F$30),Ввод!$D$1:$D$30,\"\"),\" / \")","v":""},"2022-03-17"]
["2022-03-18",{"$f":"MyJoin(IF((B$2=Ввод!$C$1:$C$30)*($A84>=Ввод!$E$1:$E$30)*($A84<=Ввод!$F$1:$F$30),Ввод!$D$1:$D$30,\"\"),\" / \")","v":""},{"$f":"MyJoin(IF((C$2=Ввод!$C$1:$C$30)*($A84>=Ввод!$E$1:$E$30)*($A84<=Ввод!$F$1:$F$30),Ввод!$D$1:$D$30,\"\"),\" / \")","v":""},{"$f":"MyJoin(IF((D$2=Ввод!$C$1:$C$30)*($A84>=Ввод!$E$1:$E$30)*($A84<=Ввод!$F$1:$F$30),Ввод!$D$1:$D$30,\"\"),\" / \")","v":""},{"$f":"MyJoin(IF((E$2=Ввод!$C$1:$C$30)*($A84>=Ввод!$E$1:$E$30)*($A84<=Ввод!$F$1:$F$30),Ввод!$D$1:$D$30,\"\"),\" / \")","v":""},{"$f":"MyJoin(IF((F$2=Ввод!$C$1:$C$30)*($A84>=Ввод!$E$1:$E$30)*($A84<=Ввод!$F$1:$F$30),Ввод!$D$1:$D$30,\"\"),\" / \")","v":""},"2022-03-18"]
["2022-03-19",{"$f":"MyJoin(IF((B$2=Ввод!$C$1:$C$30)*($A85>=Ввод!$E$1:$E$30)*($A85<=Ввод!$F$1:$F$30),Ввод!$D$1:$D$30,\"\"),\" / \")","v":""},{"$f":"MyJoin(IF((C$2=Ввод!$C$1:$C$30)*($A85>=Ввод!$E$1:$E$30)*($A85<=Ввод!$F$1:$F$30),Ввод!$D$1:$D$30,\"\"),\" / \")","v":""},{"$f":"MyJoin(IF((D$2=Ввод!$C$1:$C$30)*($A85>=Ввод!$E$1:$E$30)*($A85<=Ввод!$F$1:$F$30),Ввод!$D$1:$D$30,\"\"),\" / \")","v":""},{"$f":"MyJoin(IF((E$2=Ввод!$C$1:$C$30)*($A85>=Ввод!$E$1:$E$30)*($A85<=Ввод!$F$1:$F$30),Ввод!$D$1:$D$30,\"\"),\" / \")","v":""},{"$f":"MyJoin(IF((F$2=Ввод!$C$1:$C$30)*($A85>=Ввод!$E$1:$E$30)*($A85<=Ввод!$F$1:$F$30),Ввод!$D$1:$D$30,\"\"),\" / \")","v":""},"2022-03-19"]
["2022-03-20",{"$f":"MyJoin(IF((B$2=Ввод!$C$1:$C$30)*($A86>=Ввод!$E$1:$E$30)*($A86<=Ввод!$F$1:$F$30),Ввод!$D$1:$D$30,\"\"),\" / \")","v":""},{"$f":"MyJoin(IF((C$2=Ввод!$C$1:$C$30)*($A86>=Ввод!$E$1:$E$30)*($A86<=Ввод!$F$1:$F$30),Ввод!$D$1:$D$30,\"\"),\" / \")","v":""},{"$f":"MyJoin(IF((D$2=Ввод!$C$1:$C$30)*($A86>=Ввод!$E$1:$E$30)*($A86<=Ввод!$F$1:$F$30),Ввод!$D$1:$D$30,\"\"),\" / \")","v":""},{"$f":"MyJoin(IF((E$2=Ввод!$C$1:$C$30)*($A86>=Ввод!$E$1:$E$30)*($A86<=Ввод!$F$1:$F$30),Ввод!$D$1:$D$30,\"\"),\" / \")","v":""},{"$f":"MyJoin(IF((F$2=Ввод!$C$1:$C$30)*($A86>=Ввод!$E$1:$E$30)*($A86<=Ввод!$F$1:$F$30),Ввод!$D$1:$D$30,\"\"),\" / \")","v":""},"2022-03-20"]
["2022-03-21",{"$f":"MyJoin(IF((B$2=Ввод!$C$1:$C$30)*($A87>=Ввод!$E$1:$E$30)*($A87<=Ввод!$F$1:$F$30),Ввод!$D$1:$D$30,\"\"),\" / \")","v":""},{"$f":"MyJoin(IF((C$2=Ввод!$C$1:$C$30)*($A87>=Ввод!$E$1:$E$30)*($A87<=Ввод!$F$1:$F$30),Ввод!$D$1:$D$30,\"\"),\" / \")","v":""},{"$f":"MyJoin(IF((D$2=Ввод!$C$1:$C$30)*($A87>=Ввод!$E$1:$E$30)*($A87<=Ввод!$F$1:$F$30),Ввод!$D$1:$D$30,\"\"),\" / \")","v":""},{"$f":"MyJoin(IF((E$2=Ввод!$C$1:$C$30)*($A87>=Ввод!$E$1:$E$30)*($A87<=Ввод!$F$1:$F$30),Ввод!$D$1:$D$30,\"\"),\" / \")","v":""},{"$f":"MyJoin(IF((F$2=Ввод!$C$1:$C$30)*($A87>=Ввод!$E$1:$E$30)*($A87<=Ввод!$F$1:$F$30),Ввод!$D$1:$D$30,\"\"),\" / \")","v":""},"2022-03-21"]
["2022-03-22",{"$f":"MyJoin(IF((B$2=Ввод!$C$1:$C$30)*($A88>=Ввод!$E$1:$E$30)*($A88<=Ввод!$F$1:$F$30),Ввод!$D$1:$D$30,\"\"),\" / \")","v":""},{"$f":"MyJoin(IF((C$2=Ввод!$C$1:$C$30)*($A88>=Ввод!$E$1:$E$30)*($A88<=Ввод!$F$1:$F$30),Ввод!$D$1:$D$30,\"\"),\" / \")","v":""},{"$f":"MyJoin(IF((D$2=Ввод!$C$1:$C$30)*($A88>=Ввод!$E$1:$E$30)*($A88<=Ввод!$F$1:$F$30),Ввод!$D$1:$D$30,\"\"),\" / \")","v":""},{"$f":"MyJoin(IF((E$2=Ввод!$C$1:$C$30)*($A88>=Ввод!$E$1:$E$30)*($A88<=Ввод!$F$1:$F$30),Ввод!$D$1:$D$30,\"\"),\" / \")","v":""},{"$f":"MyJoin(IF((F$2=Ввод!$C$1:$C$30)*($A88>=Ввод!$E$1:$E$30)*($A88<=Ввод!$F$1:$F$30),Ввод!$D$1:$D$30,\"\"),\" / \")","v":""},"2022-03-22"]
["2022-03-23",{"$f":"MyJoin(IF((B$2=Ввод!$C$1:$C$30)*($A89>=Ввод!$E$1:$E$30)*($A89<=Ввод!$F$1:$F$30),Ввод!$D$1:$D$30,\"\"),\" / \")","v":""},{"$f":"MyJoin(IF((C$2=Ввод!$C$1:$C$30)*($A89>=Ввод!$E$1:$E$30)*($A89<=Ввод!$F$1:$F$30),Ввод!$D$1:$D$30,\"\"),\" / \")","v":""},{"$f":"MyJoin(IF((D$2=Ввод!$C$1:$C$30)*($A89>=Ввод!$E$1:$E$30)*($A89<=Ввод!$F$1:$F$30),Ввод!$D$1:$D$30,\"\"),\" / \")","v":""},{"$f":"MyJoin(IF((E$2=Ввод!$C$1:$C$30)*($A89>=Ввод!$E$1:$E$30)*($A89<=Ввод!$F$1:$F$30),Ввод!$D$1:$D$30,\"\"),\" / \")","v":""},{"$f":"MyJoin(IF((F$2=Ввод!$C$1:$C$30)*($A89>=Ввод!$E$1:$E$30)*($A89<=Ввод!$F$1:$F$30),Ввод!$D$1:$D$30,\"\"),\" / \")","v":""},"2022-03-23"]
["2022-03-24",{"$f":"MyJoin(IF((B$2=Ввод!$C$1:$C$30)*($A90>=Ввод!$E$1:$E$30)*($A90<=Ввод!$F$1:$F$30),Ввод!$D$1:$D$30,\"\"),\" / \")","v":""},{"$f":"MyJoin(IF((C$2=Ввод!$C$1:$C$30)*($A90>=Ввод!$E$1:$E$30)*($A90<=Ввод!$F$1:$F$30),Ввод!$D$1:$D$30,\"\"),\" / \")","v":""},{"$f":"MyJoin(IF((D$2=Ввод!$C$1:$C$30)*($A90>=Ввод!$E$1:$E$30)*($A90<=Ввод!$F$1:$F$30),Ввод!$D$1:$D$30,\"\"),\" / \")","v":""},{"$f":"MyJoin(IF((E$2=Ввод!$C$1:$C$30)*($A90>=Ввод!$E$1:$E$30)*($A90<=Ввод!$F$1:$F$30),Ввод!$D$1:$D$30,\"\"),\" / \")","v":""},{"$f":"MyJoin(IF((F$2=Ввод!$C$1:$C$30)*($A90>=Ввод!$E$1:$E$30)*($A90<=Ввод!$F$1:$F$30),Ввод!$D$1:$D$30,\"\"),\" / \")","v":""},"2022-03-24"]
["2022-03-25",{"$f":"MyJoin(IF((B$2=Ввод!$C$1:$C$30)*($A91>=Ввод!$E$1:$E$30)*($A91<=Ввод!$F$1:$F$30),Ввод!$D$1:$D$30,\"\"),\" / \")","v":""},{"$f":"MyJoin(IF((C$2=Ввод!$C$1:$C$30)*($A91>=Ввод!$E$1:$E$30)*($A91<=Ввод!$F$1:$F$30),Ввод!$D$1:$D$30,\"\"),\" / \")","v":""},{"$f":"MyJoin(IF((D$2=Ввод!$C$1:$C$30)*($A91>=Ввод!$E$1:$E$30)*($A91<=Ввод!$F$1:$F$30),Ввод!$D$1:$D$30,\"\"),\" / \")","v":""},{"$f":"MyJoin(IF((E$2=Ввод!$C$1:$C$30)*($A91>=Ввод!$E$1:$E$30)*($A91<=Ввод!$F$1:$F$30),Ввод!$D$1:$D$30,\"\"),\" / \")","v":""},{"$f":"MyJoin(IF((F$2=Ввод!$C$1:$C$30)*($A91>=Ввод!$E$1:$E$30)*($A91<=Ввод!$F$1:$F$30),Ввод!$D$1:$D$30,\"\"),\" / \")","v":""},"2022-03-25"]
["2022-03-26",{"$f":"MyJoin(IF((B$2=Ввод!$C$1:$C$30)*($A92>=Ввод!$E$1:$E$30)*($A92<=Ввод!$F$1:$F$30),Ввод!$D$1:$D$30,\"\"),\" / \")","v":""},{"$f":"MyJoin(IF((C$2=Ввод!$C$1:$C$30)*($A92>=Ввод!$E$1:$E$30)*($A92<=Ввод!$F$1:$F$30),Ввод!$D$1:$D$30,\"\"),\" / \")","v":""},{"$f":"MyJoin(IF((D$2=Ввод!$C$1:$C$30)*($A92>=Ввод!$E$1:$E$30)*($A92<=Ввод!$F$1:$F$30),Ввод!$D$1:$D$30,\"\"),\" / \")","v":""},{"$f":"MyJoin(IF((E$2=Ввод!$C$1:$C$30)*($A92>=Ввод!$E$1:$E$30)*($A92<=Ввод!$F$1:$F$30),Ввод!$D$1:$D$30,\"\"),\" / \")","v":""},{"$f":"MyJoin(IF((F$2=Ввод!$C$1:$C$30)*($A92>=Ввод!$E$1:$E$30)*($A92<=Ввод!$F$1:$F$30),Ввод!$D$1:$D$30,\"\"),\" / \")","v":""},"2022-03-26"]
["2022-03-27",{"$f":"MyJoin(IF((B$2=Ввод!$C$1:$C$30)*($A93>=Ввод!$E$1:$E$30)*($A93<=Ввод!$F$1:$F$30),Ввод!$D$1:$D$30,\"\"),\" / \")","v":""},{"$f":"MyJoin(IF((C$2=Ввод!$C$1:$C$30)*($A93>=Ввод!$E$1:$E$30)*($A93<=Ввод!$F$1:$F$30),Ввод!$D$1:$D$30,\"\"),\" / \")","v":""},{"$f":"MyJoin(IF((D$2=Ввод!$C$1:$C$30)*($A93>=Ввод!$E$1:$E$30)*($A93<=Ввод!$F$1:$F$30),Ввод!$D$1:$D$30,\"\"),\" / \")","v":""},{"$f":"MyJoin(IF((E$2=Ввод!$C$1:$C$30)*($A93>=Ввод!$E$1:$E$30)*($A93<=Ввод!$F$1:$F$30),Ввод!$D$1:$D$30,\"\"),\" / \")","v":""},{"$f":"MyJoin(IF((F$2=Ввод!$C$1:$C$30)*($A93>=Ввод!$E$1:$E$30)*($A93<=Ввод!$F$1:$F$30),Ввод!$D$1:$D$30,\"\"),\" / \")","v":""},"2022-03-27"]
["2022-03-28",{"$f":"MyJoin(IF((B$2=Ввод!$C$1:$C$30)*($A94>=Ввод!$E$1:$E$30)*($A94<=Ввод!$F$1:$F$30),Ввод!$D$1:$D$30,\"\"),\" / \")","v":""},{"$f":"MyJoin(IF((C$2=Ввод!$C$1:$C$30)*($A94>=Ввод!$E$1:$E$30)*($A94<=Ввод!$F$1:$F$30),Ввод!$D$1:$D$30,\"\"),\" / \")","v":""},{"$f":"MyJoin(IF((D$2=Ввод!$C$1:$C$30)*($A94>=Ввод!$E$1:$E$30)*($A94<=Ввод!$F$1:$F$30),Ввод!$D$1:$D$30,\"\"),\" / \")","v":""},{"$f":"MyJoin(IF((E$2=Ввод!$C$1:$C$30)*($A94>=Ввод!$E$1:$E$30)*($A94<=Ввод!$F$1:$F$30),Ввод!$D$1:$D$30,\"\"),\" / \")","v":""},{"$f":"MyJoin(IF((F$2=Ввод!$C$1:$C$30)*($A94>=Ввод!$E$1:$E$30)*($A94<=Ввод!$F$1:$F$30),Ввод!$D$1:$D$30,\"\"),\" / \")","v":""},"2022-03-28"]
["2022-03-29",{"$f":"MyJoin(IF((B$2=Ввод!$C$1:$C$30)*($A95>=Ввод!$E$1:$E$30)*($A95<=Ввод!$F$1:$F$30),Ввод!$D$1:$D$30,\"\"),\" / \")","v":""},{"$f":"MyJoin(IF((C$2=Ввод!$C$1:$C$30)*($A95>=Ввод!$E$1:$E$30)*($A95<=Ввод!$F$1:$F$30),Ввод!$D$1:$D$30,\"\"),\" / \")","v":""},{"$f":"MyJoin(IF((D$2=Ввод!$C$1:$C$30)*($A95>=Ввод!$E$1:$E$30)*($A95<=Ввод!$F$1:$F$30),Ввод!$D$1:$D$30,\"\"),\" / \")","v":""},{"$f":"MyJoin(IF((E$2=Ввод!$C$1:$C$30)*($A95>=Ввод!$E$1:$E$30)*($A95<=Ввод!$F$1:$F$30),Ввод!$D$1:$D$30,\"\"),\" / \")","v":""},{"$f":"MyJoin(IF((F$2=Ввод!$C$1:$C$30)*($A95>=Ввод!$E$1:$E$30)*($A95<=Ввод!$F$1:$F$30),Ввод!$D$1:$D$30,\"\"),\" / \")","v":""},"2022-03-29"]
["2022-03-30",{"$f":"MyJoin(IF((B$2=Ввод!$C$1:$C$30)*($A96>=Ввод!$E$1:$E$30)*($A96<=Ввод!$F$1:$F$30),Ввод!$D$1:$D$30,\"\"),\" / \")","v":""},{"$f":"MyJoin(IF((C$2=Ввод!$C$1:$C$30)*($A96>=Ввод!$E$1:$E$30)*($A96<=Ввод!$F$1:$F$30),Ввод!$D$1:$D$30,\"\"),\" / \")","v":""},{"$f":"MyJoin(IF((D$2=Ввод!$C$1:$C$30)*($A96>=Ввод!$E$1:$E$30)*($A96<=Ввод!$F$1:$F$30),Ввод!$D$1:$D$30,\"\"),\" / \")","v":""},{"$f":"MyJoin(IF((E$2=Ввод!$C$1:$C$30)*($A96>=Ввод!$E$1:$E$30)*($A96<=Ввод!$F$1:$F$30),Ввод!$D$1:$D$30,\"\"),\" / \")","v":""},{"$f":"MyJoin(IF((F$2=Ввод!$C$1:$C$30)*($A96>=Ввод!$E$1:$E$30)*($A96<=Ввод!$F$1:$F$30),Ввод!$D$1:$D$30,\"\"),\" / \")","v":""},"2022-03-30"]
["2022-03-31",{"$f":"MyJoin(IF((B$2=Ввод!$C$1:$C$30)*($A97>=Ввод!$E$1:$E$30)*($A97<=Ввод!$F$1:$F$30),Ввод!$D$1:$D$30,\"\"),\" / \")","v":""},{"$f":"MyJoin(IF((C$2=Ввод!$C$1:$C$30)*($A97>=Ввод!$E$1:$E$30)*($A97<=Ввод!$F$1:$F$30),Ввод!$D$1:$D$30,\"\"),\" / \")","v":""},{"$f":"MyJoin(IF((D$2=Ввод!$C$1:$C$30)*($A97>=Ввод!$E$1:$E$30)*($A97<=Ввод!$F$1:$F$30),Ввод!$D$1:$D$30,\"\"),\" / \")","v":""},{"$f":"MyJoin(IF((E$2=Ввод!$C$1:$C$30)*($A97>=Ввод!$E$1:$E$30)*($A97<=Ввод!$F$1:$F$30),Ввод!$D$1:$D$30,\"\"),\" / \")","v":""},{"$f":"MyJoin(IF((F$2=Ввод!$C$1:$C$30)*($A97>=Ввод!$E$1:$E$30)*($A97<=Ввод!$F$1:$F$30),Ввод!$D$1:$D$30,\"\"),\" / \")","v":""},"2022-03-31"]
["2022-04-01",{"$f":"MyJoin(IF((B$2=Ввод!$C$1:$C$30)*($A98>=Ввод!$E$1:$E$30)*($A98<=Ввод!$F$1:$F$30),Ввод!$D$1:$D$30,\"\"),\" / \")","v":""},{"$f":"MyJoin(IF((C$2=Ввод!$C$1:$C$30)*($A98>=Ввод!$E$1:$E$30)*($A98<=Ввод!$F$1:$F$30),Ввод!$D$1:$D$30,\"\"),\" / \")","v":""},{"$f":"MyJoin(IF((D$2=Ввод!$C$1:$C$30)*($A98>=Ввод!$E$1:$E$30)*($A98<=Ввод!$F$1:$F$30),Ввод!$D$1:$D$30,\"\"),\" / \")","v":""},{"$f":"MyJoin(IF((E$2=Ввод!$C$1:$C$30)*($A98>=Ввод!$E$1:$E$30)*($A98<=Ввод!$F$1:$F$30),Ввод!$D$1:$D$30,\"\"),\" / \")","v":""},{"$f":"MyJoin(IF((F$2=Ввод!$C$1:$C$30)*($A98>=Ввод!$E$1:$E$30)*($A98<=Ввод!$F$1:$F$30),Ввод!$D$1:$D$30,\"\"),\" / \")","v":""},"2022-04-01"]
["2022-04-02",{"$f":"MyJoin(IF((B$2=Ввод!$C$1:$C$30)*($A99>=Ввод!$E$1:$E$30)*($A99<=Ввод!$F$1:$F$30),Ввод!$D$1:$D$30,\"\"),\" / \")","v":""},{"$f":"MyJoin(IF((C$2=Ввод!$C$1:$C$30)*($A99>=Ввод!$E$1:$E$30)*($A99<=Ввод!$F$1:$F$30),Ввод!$D$1:$D$30,\"\"),\" / \")","v":""},{"$f":"MyJoin(IF((D$2=Ввод!$C$1:$C$30)*($A99>=Ввод!$E$1:$E$30)*($A99<=Ввод!$F$1:$F$30),Ввод!$D$1:$D$30,\"\"),\" / \")","v":""},{"$f":"MyJoin(IF((E$2=Ввод!$C$1:$C$30)*($A99>=Ввод!$E$1:$E$30)*($A99<=Ввод!$F$1:$F$30),Ввод!$D$1:$D$30,\"\"),\" / \")","v":""},{"$f":"MyJoin(IF((F$2=Ввод!$C$1:$C$30)*($A99>=Ввод!$E$1:$E$30)*($A99<=Ввод!$F$1:$F$30),Ввод!$D$1:$D$30,\"\"),\" / \")","v":""},"2022-04-02"]
["2022-04-03",{"$f":"MyJoin(IF((B$2=Ввод!$C$1:$C$30)*($A100>=Ввод!$E$1:$E$30)*($A100<=Ввод!$F$1:$F$30),Ввод!$D$1:$D$30,\"\"),\" / \")","v":""},{"$f":"MyJoin(IF((C$2=Ввод!$C$1:$C$30)*($A100>=Ввод!$E$1:$E$30)*($A100<=Ввод!$F$1:$F$30),Ввод!$D$1:$D$30,\"\"),\" / \")","v":""},{"$f":"MyJoin(IF((D$2=Ввод!$C$1:$C$30)*($A100>=Ввод!$E$1:$E$30)*($A100<=Ввод!$F$1:$F$30),Ввод!$D$1:$D$30,\"\"),\" / \")","v":""},{"$f":"MyJoin(IF((E$2=Ввод!$C$1:$C$30)*($A100>=Ввод!$E$1:$E$30)*($A100<=Ввод!$F$1:$F$30),Ввод!$D$1:$D$30,\"\"),\" / \")","v":""},{"$f":"MyJoin(IF((F$2=Ввод!$C$1:$C$30)*($A100>=Ввод!$E$1:$E$30)*($A100<=Ввод!$F$1:$F$30),Ввод!$D$1:$D$30,\"\"),\" / \")","v":""},"2022-04-03"]
["2022-04-04",{"$f":"MyJoin(IF((B$2=Ввод!$C$1:$C$30)*($A101>=Ввод!$E$1:$E$30)*($A101<=Ввод!$F$1:$F$30),Ввод!$D$1:$D$30,\"\"),\" / \")","v":""},{"$f":"MyJoin(IF((C$2=Ввод!$C$1:$C$30)*($A101>=Ввод!$E$1:$E$30)*($A101<=Ввод!$F$1:$F$30),Ввод!$D$1:$D$30,\"\"),\" / \")","v":""},{"$f":"MyJoin(IF((D$2=Ввод!$C$1:$C$30)*($A101>=Ввод!$E$1:$E$30)*($A101<=Ввод!$F$1:$F$30),Ввод!$D$1:$D$30,\"\"),\" / \")","v":""},{"$f":"MyJoin(IF((E$2=Ввод!$C$1:$C$30)*($A101>=Ввод!$E$1:$E$30)*($A101<=Ввод!$F$1:$F$30),Ввод!$D$1:$D$30,\"\"),\" / \")","v":""},{"$f":"MyJoin(IF((F$2=Ввод!$C$1:$C$30)*($A101>=Ввод!$E$1:$E$30)*($A101<=Ввод!$F$1:$F$30),Ввод!$D$1:$D$30,\"\"),\" / \")","v":""},"2022-04-04"]
["2022-04-05",{"$f":"MyJoin(IF((B$2=Ввод!$C$1:$C$30)*($A102>=Ввод!$E$1:$E$30)*($A102<=Ввод!$F$1:$F$30),Ввод!$D$1:$D$30,\"\"),\" / \")","v":""},{"$f":"MyJoin(IF((C$2=Ввод!$C$1:$C$30)*($A102>=Ввод!$E$1:$E$30)*($A102<=Ввод!$F$1:$F$30),Ввод!$D$1:$D$30,\"\"),\" / \")","v":""},{"$f":"MyJoin(IF((D$2=Ввод!$C$1:$C$30)*($A102>=Ввод!$E$1:$E$30)*($A102<=Ввод!$F$1:$F$30),Ввод!$D$1:$D$30,\"\"),\" / \")","v":""},{"$f":"MyJoin(IF((E$2=Ввод!$C$1:$C$30)*($A102>=Ввод!$E$1:$E$30)*($A102<=Ввод!$F$1:$F$30),Ввод!$D$1:$D$30,\"\"),\" / \")","v":""},{"$f":"MyJoin(IF((F$2=Ввод!$C$1:$C$30)*($A102>=Ввод!$E$1:$E$30)*($A102<=Ввод!$F$1:$F$30),Ввод!$D$1:$D$30,\"\"),\" / \")","v":""},"2022-04-05"]
["2022-04-06",{"$f":"MyJoin(IF((B$2=Ввод!$C$1:$C$30)*($A103>=Ввод!$E$1:$E$30)*($A103<=Ввод!$F$1:$F$30),Ввод!$D$1:$D$30,\"\"),\" / \")","v":""},{"$f":"MyJoin(IF((C$2=Ввод!$C$1:$C$30)*($A103>=Ввод!$E$1:$E$30)*($A103<=Ввод!$F$1:$F$30),Ввод!$D$1:$D$30,\"\"),\" / \")","v":""},{"$f":"MyJoin(IF((D$2=Ввод!$C$1:$C$30)*($A103>=Ввод!$E$1:$E$30)*($A103<=Ввод!$F$1:$F$30),Ввод!$D$1:$D$30,\"\"),\" / \")","v":""},{"$f":"MyJoin(IF((E$2=Ввод!$C$1:$C$30)*($A103>=Ввод!$E$1:$E$30)*($A103<=Ввод!$F$1:$F$30),Ввод!$D$1:$D$30,\"\"),\" / \")","v":""},{"$f":"MyJoin(IF((F$2=Ввод!$C$1:$C$30)*($A103>=Ввод!$E$1:$E$30)*($A103<=Ввод!$F$1:$F$30),Ввод!$D$1:$D$30,\"\"),\" / \")","v":""},"2022-04-06"]
["2022-04-07",{"$f":"MyJoin(IF((B$2=Ввод!$C$1:$C$30)*($A104>=Ввод!$E$1:$E$30)*($A104<=Ввод!$F$1:$F$30),Ввод!$D$1:$D$30,\"\"),\" / \")","v":""},{"$f":"MyJoin(IF((C$2=Ввод!$C$1:$C$30)*($A104>=Ввод!$E$1:$E$30)*($A104<=Ввод!$F$1:$F$30),Ввод!$D$1:$D$30,\"\"),\" / \")","v":""},{"$f":"MyJoin(IF((D$2=Ввод!$C$1:$C$30)*($A104>=Ввод!$E$1:$E$30)*($A104<=Ввод!$F$1:$F$30),Ввод!$D$1:$D$30,\"\"),\" / \")","v":""},{"$f":"MyJoin(IF((E$2=Ввод!$C$1:$C$30)*($A104>=Ввод!$E$1:$E$30)*($A104<=Ввод!$F$1:$F$30),Ввод!$D$1:$D$30,\"\"),\" / \")","v":""},{"$f":"MyJoin(IF((F$2=Ввод!$C$1:$C$30)*($A104>=Ввод!$E$1:$E$30)*($A104<=Ввод!$F$1:$F$30),Ввод!$D$1:$D$30,\"\"),\" / \")","v":""},"2022-04-07"]
["2022-04-08",{"$f":"MyJoin(IF((B$2=Ввод!$C$1:$C$30)*($A105>=Ввод!$E$1:$E$30)*($A105<=Ввод!$F$1:$F$30),Ввод!$D$1:$D$30,\"\"),\" / \")","v":""},{"$f":"MyJoin(IF((C$2=Ввод!$C$1:$C$30)*($A105>=Ввод!$E$1:$E$30)*($A105<=Ввод!$F$1:$F$30),Ввод!$D$1:$D$30,\"\"),\" / \")","v":""},{"$f":"MyJoin(IF((D$2=Ввод!$C$1:$C$30)*($A105>=Ввод!$E$1:$E$30)*($A105<=Ввод!$F$1:$F$30),Ввод!$D$1:$D$30,\"\"),\" / \")","v":""},{"$f":"MyJoin(IF((E$2=Ввод!$C$1:$C$30)*($A105>=Ввод!$E$1:$E$30)*($A105<=Ввод!$F$1:$F$30),Ввод!$D$1:$D$30,\"\"),\" / \")","v":""},{"$f":"MyJoin(IF((F$2=Ввод!$C$1:$C$30)*($A105>=Ввод!$E$1:$E$30)*($A105<=Ввод!$F$1:$F$30),Ввод!$D$1:$D$30,\"\"),\" / \")","v":""},"2022-04-08"]
["2022-04-09",{"$f":"MyJoin(IF((B$2=Ввод!$C$1:$C$30)*($A106>=Ввод!$E$1:$E$30)*($A106<=Ввод!$F$1:$F$30),Ввод!$D$1:$D$30,\"\"),\" / \")","v":""},{"$f":"MyJoin(IF((C$2=Ввод!$C$1:$C$30)*($A106>=Ввод!$E$1:$E$30)*($A106<=Ввод!$F$1:$F$30),Ввод!$D$1:$D$30,\"\"),\" / \")","v":""},{"$f":"MyJoin(IF((D$2=Ввод!$C$1:$C$30)*($A106>=Ввод!$E$1:$E$30)*($A106<=Ввод!$F$1:$F$30),Ввод!$D$1:$D$30,\"\"),\" / \")","v":""},{"$f":"MyJoin(IF((E$2=Ввод!$C$1:$C$30)*($A106>=Ввод!$E$1:$E$30)*($A106<=Ввод!$F$1:$F$30),Ввод!$D$1:$D$30,\"\"),\" / \")","v":""},{"$f":"MyJoin(IF((F$2=Ввод!$C$1:$C$30)*($A106>=Ввод!$E$1:$E$30)*($A106<=Ввод!$F$1:$F$30),Ввод!$D$1:$D$30,\"\"),\" / \")","v":""},"2022-04-09"]
["2022-04-10",{"$f":"MyJoin(IF((B$2=Ввод!$C$1:$C$30)*($A107>=Ввод!$E$1:$E$30)*($A107<=Ввод!$F$1:$F$30),Ввод!$D$1:$D$30,\"\"),\" / \")","v":""},{"$f":"MyJoin(IF((C$2=Ввод!$C$1:$C$30)*($A107>=Ввод!$E$1:$E$30)*($A107<=Ввод!$F$1:$F$30),Ввод!$D$1:$D$30,\"\"),\" / \")","v":""},{"$f":"MyJoin(IF((D$2=Ввод!$C$1:$C$30)*($A107>=Ввод!$E$1:$E$30)*($A107<=Ввод!$F$1:$F$30),Ввод!$D$1:$D$30,\"\"),\" / \")","v":""},{"$f":"MyJoin(IF((E$2=Ввод!$C$1:$C$30)*($A107>=Ввод!$E$1:$E$30)*($A107<=Ввод!$F$1:$F$30),Ввод!$D$1:$D$30,\"\"),\" / \")","v":""},{"$f":"MyJoin(IF((F$2=Ввод!$C$1:$C$30)*($A107>=Ввод!$E$1:$E$30)*($A107<=Ввод!$F$1:$F$30),Ввод!$D$1:$D$30,\"\"),\" / \")","v":""},"2022-04-10"]
["2022-04-11",{"$f":"MyJoin(IF((B$2=Ввод!$C$1:$C$30)*($A108>=Ввод!$E$1:$E$30)*($A108<=Ввод!$F$1:$F$30),Ввод!$D$1:$D$30,\"\"),\" / \")","v":""},{"$f":"MyJoin(IF((C$2=Ввод!$C$1:$C$30)*($A108>=Ввод!$E$1:$E$30)*($A108<=Ввод!$F$1:$F$30),Ввод!$D$1:$D$30,\"\"),\" / \")","v":""},{"$f":"MyJoin(IF((D$2=Ввод!$C$1:$C$30)*($A108>=Ввод!$E$1:$E$30)*($A108<=Ввод!$F$1:$F$30),Ввод!$D$1:$D$30,\"\"),\" / \")","v":""},{"$f":"MyJoin(IF((E$2=Ввод!$C$1:$C$30)*($A108>=Ввод!$E$1:$E$30)*($A108<=Ввод!$F$1:$F$30),Ввод!$D$1:$D$30,\"\"),\" / \")","v":""},{"$f":"MyJoin(IF((F$2=Ввод!$C$1:$C$30)*($A108>=Ввод!$E$1:$E$30)*($A108<=Ввод!$F$1:$F$30),Ввод!$D$1:$D$30,\"\"),\" / \")","v":""},"2022-04-11"]
["2022-04-12",{"$f":"MyJoin(IF((B$2=Ввод!$C$1:$C$30)*($A109>=Ввод!$E$1:$E$30)*($A109<=Ввод!$F$1:$F$30),Ввод!$D$1:$D$30,\"\"),\" / \")","v":""},{"$f":"MyJoin(IF((C$2=Ввод!$C$1:$C$30)*($A109>=Ввод!$E$1:$E$30)*($A109<=Ввод!$F$1:$F$30),Ввод!$D$1:$D$30,\"\"),\" / \")","v":""},{"$f":"MyJoin(IF((D$2=Ввод!$C$1:$C$30)*($A109>=Ввод!$E$1:$E$30)*($A109<=Ввод!$F$1:$F$30),Ввод!$D$1:$D$30,\"\"),\" / \")","v":""},{"$f":"MyJoin(IF((E$2=Ввод!$C$1:$C$30)*($A109>=Ввод!$E$1:$E$30)*($A109<=Ввод!$F$1:$F$30),Ввод!$D$1:$D$30,\"\"),\" / \")","v":""},{"$f":"MyJoin(IF((F$2=Ввод!$C$1:$C$30)*($A109>=Ввод!$E$1:$E$30)*($A109<=Ввод!$F$1:$F$30),Ввод!$D$1:$D$30,\"\"),\" / \")","v":""},"2022-04-12"]
["2022-04-13",{"$f":"MyJoin(IF((B$2=Ввод!$C$1:$C$30)*($A110>=Ввод!$E$1:$E$30)*($A110<=Ввод!$F$1:$F$30),Ввод!$D$1:$D$30,\"\"),\" / \")","v":""},{"$f":"MyJoin(IF((C$2=Ввод!$C$1:$C$30)*($A110>=Ввод!$E$1:$E$30)*($A110<=Ввод!$F$1:$F$30),Ввод!$D$1:$D$30,\"\"),\" / \")","v":""},{"$f":"MyJoin(IF((D$2=Ввод!$C$1:$C$30)*($A110>=Ввод!$E$1:$E$30)*($A110<=Ввод!$F$1:$F$30),Ввод!$D$1:$D$30,\"\"),\" / \")","v":""},{"$f":"MyJoin(IF((E$2=Ввод!$C$1:$C$30)*($A110>=Ввод!$E$1:$E$30)*($A110<=Ввод!$F$1:$F$30),Ввод!$D$1:$D$30,\"\"),\" / \")","v":""},{"$f":"MyJoin(IF((F$2=Ввод!$C$1:$C$30)*($A110>=Ввод!$E$1:$E$30)*($A110<=Ввод!$F$1:$F$30),Ввод!$D$1:$D$30,\"\"),\" / \")","v":""},"2022-04-13"]
["2022-04-14",{"$f":"MyJoin(IF((B$2=Ввод!$C$1:$C$30)*($A111>=Ввод!$E$1:$E$30)*($A111<=Ввод!$F$1:$F$30),Ввод!$D$1:$D$30,\"\"),\" / \")","v":""},{"$f":"MyJoin(IF((C$2=Ввод!$C$1:$C$30)*($A111>=Ввод!$E$1:$E$30)*($A111<=Ввод!$F$1:$F$30),Ввод!$D$1:$D$30,\"\"),\" / \")","v":""},{"$f":"MyJoin(IF((D$2=Ввод!$C$1:$C$30)*($A111>=Ввод!$E$1:$E$30)*($A111<=Ввод!$F$1:$F$30),Ввод!$D$1:$D$30,\"\"),\" / \")","v":""},{"$f":"MyJoin(IF((E$2=Ввод!$C$1:$C$30)*($A111>=Ввод!$E$1:$E$30)*($A111<=Ввод!$F$1:$F$30),Ввод!$D$1:$D$30,\"\"),\" / \")","v":""},{"$f":"MyJoin(IF((F$2=Ввод!$C$1:$C$30)*($A111>=Ввод!$E$1:$E$30)*($A111<=Ввод!$F$1:$F$30),Ввод!$D$1:$D$30,\"\"),\" / \")","v":""},"2022-04-14"]
["2022-04-15",{"$f":"MyJoin(IF((B$2=Ввод!$C$1:$C$30)*($A112>=Ввод!$E$1:$E$30)*($A112<=Ввод!$F$1:$F$30),Ввод!$D$1:$D$30,\"\"),\" / \")","v":""},{"$f":"MyJoin(IF((C$2=Ввод!$C$1:$C$30)*($A112>=Ввод!$E$1:$E$30)*($A112<=Ввод!$F$1:$F$30),Ввод!$D$1:$D$30,\"\"),\" / \")","v":""},{"$f":"MyJoin(IF((D$2=Ввод!$C$1:$C$30)*($A112>=Ввод!$E$1:$E$30)*($A112<=Ввод!$F$1:$F$30),Ввод!$D$1:$D$30,\"\"),\" / \")","v":""},{"$f":"MyJoin(IF((E$2=Ввод!$C$1:$C$30)*($A112>=Ввод!$E$1:$E$30)*($A112<=Ввод!$F$1:$F$30),Ввод!$D$1:$D$30,\"\"),\" / \")","v":""},{"$f":"MyJoin(IF((F$2=Ввод!$C$1:$C$30)*($A112>=Ввод!$E$1:$E$30)*($A112<=Ввод!$F$1:$F$30),Ввод!$D$1:$D$30,\"\"),\" / \")","v":""},"2022-04-15"]
["2022-04-16",{"$f":"MyJoin(IF((B$2=Ввод!$C$1:$C$30)*($A113>=Ввод!$E$1:$E$30)*($A113<=Ввод!$F$1:$F$30),Ввод!$D$1:$D$30,\"\"),\" / \")","v":""},{"$f":"MyJoin(IF((C$2=Ввод!$C$1:$C$30)*($A113>=Ввод!$E$1:$E$30)*($A113<=Ввод!$F$1:$F$30),Ввод!$D$1:$D$30,\"\"),\" / \")","v":""},{"$f":"MyJoin(IF((D$2=Ввод!$C$1:$C$30)*($A113>=Ввод!$E$1:$E$30)*($A113<=Ввод!$F$1:$F$30),Ввод!$D$1:$D$30,\"\"),\" / \")","v":""},{"$f":"MyJoin(IF((E$2=Ввод!$C$1:$C$30)*($A113>=Ввод!$E$1:$E$30)*($A113<=Ввод!$F$1:$F$30),Ввод!$D$1:$D$30,\"\"),\" / \")","v":""},{"$f":"MyJoin(IF((F$2=Ввод!$C$1:$C$30)*($A113>=Ввод!$E$1:$E$30)*($A113<=Ввод!$F$1:$F$30),Ввод!$D$1:$D$30,\"\"),\" / \")","v":""},"2022-04-16"]
["2022-04-17",{"$f":"MyJoin(IF((B$2=Ввод!$C$1:$C$30)*($A114>=Ввод!$E$1:$E$30)*($A114<=Ввод!$F$1:$F$30),Ввод!$D$1:$D$30,\"\"),\" / \")","v":""},{"$f":"MyJoin(IF((C$2=Ввод!$C$1:$C$30)*($A114>=Ввод!$E$1:$E$30)*($A114<=Ввод!$F$1:$F$30),Ввод!$D$1:$D$30,\"\"),\" / \")","v":""},{"$f":"MyJoin(IF((D$2=Ввод!$C$1:$C$30)*($A114>=Ввод!$E$1:$E$30)*($A114<=Ввод!$F$1:$F$30),Ввод!$D$1:$D$30,\"\"),\" / \")","v":""},{"$f":"MyJoin(IF((E$2=Ввод!$C$1:$C$30)*($A114>=Ввод!$E$1:$E$30)*($A114<=Ввод!$F$1:$F$30),Ввод!$D$1:$D$30,\"\"),\" / \")","v":""},{"$f":"MyJoin(IF((F$2=Ввод!$C$1:$C$30)*($A114>=Ввод!$E$1:$E$30)*($A114<=Ввод!$F$1:$F$30),Ввод!$D$1:$D$30,\"\"),\" / \")","v":""},"2022-04-17"]
["2022-04-18",{"$f":"MyJoin(IF((B$2=Ввод!$C$1:$C$30)*($A115>=Ввод!$E$1:$E$30)*($A115<=Ввод!$F$1:$F$30),Ввод!$D$1:$D$30,\"\"),\" / \")","v":""},{"$f":"MyJoin(IF((C$2=Ввод!$C$1:$C$30)*($A115>=Ввод!$E$1:$E$30)*($A115<=Ввод!$F$1:$F$30),Ввод!$D$1:$D$30,\"\"),\" / \")","v":""},{"$f":"MyJoin(IF((D$2=Ввод!$C$1:$C$30)*($A115>=Ввод!$E$1:$E$30)*($A115<=Ввод!$F$1:$F$30),Ввод!$D$1:$D$30,\"\"),\" / \")","v":""},{"$f":"MyJoin(IF((E$2=Ввод!$C$1:$C$30)*($A115>=Ввод!$E$1:$E$30)*($A115<=Ввод!$F$1:$F$30),Ввод!$D$1:$D$30,\"\"),\" / \")","v":""},{"$f":"MyJoin(IF((F$2=Ввод!$C$1:$C$30)*($A115>=Ввод!$E$1:$E$30)*($A115<=Ввод!$F$1:$F$30),Ввод!$D$1:$D$30,\"\"),\" / \")","v":""},"2022-04-18"]
["2022-04-19",{"$f":"MyJoin(IF((B$2=Ввод!$C$1:$C$30)*($A116>=Ввод!$E$1:$E$30)*($A116<=Ввод!$F$1:$F$30),Ввод!$D$1:$D$30,\"\"),\" / \")","v":""},{"$f":"MyJoin(IF((C$2=Ввод!$C$1:$C$30)*($A116>=Ввод!$E$1:$E$30)*($A116<=Ввод!$F$1:$F$30),Ввод!$D$1:$D$30,\"\"),\" / \")","v":""},{"$f":"MyJoin(IF((D$2=Ввод!$C$1:$C$30)*($A116>=Ввод!$E$1:$E$30)*($A116<=Ввод!$F$1:$F$30),Ввод!$D$1:$D$30,\"\"),\" / \")","v":""},{"$f":"MyJoin(IF((E$2=Ввод!$C$1:$C$30)*($A116>=Ввод!$E$1:$E$30)*($A116<=Ввод!$F$1:$F$30),Ввод!$D$1:$D$30,\"\"),\" / \")","v":""},{"$f":"MyJoin(IF((F$2=Ввод!$C$1:$C$30)*($A116>=Ввод!$E$1:$E$30)*($A116<=Ввод!$F$1:$F$30),Ввод!$D$1:$D$30,\"\"),\" / \")","v":""},"2022-04-19"]
["2022-04-20",{"$f":"MyJoin(IF((B$2=Ввод!$C$1:$C$30)*($A117>=Ввод!$E$1:$E$30)*($A117<=Ввод!$F$1:$F$30),Ввод!$D$1:$D$30,\"\"),\" / \")","v":""},{"$f":"MyJoin(IF((C$2=Ввод!$C$1:$C$30)*($A117>=Ввод!$E$1:$E$30)*($A117<=Ввод!$F$1:$F$30),Ввод!$D$1:$D$30,\"\"),\" / \")","v":""},{"$f":"MyJoin(IF((D$2=Ввод!$C$1:$C$30)*($A117>=Ввод!$E$1:$E$30)*($A117<=Ввод!$F$1:$F$30),Ввод!$D$1:$D$30,\"\"),\" / \")","v":""},{"$f":"MyJoin(IF((E$2=Ввод!$C$1:$C$30)*($A117>=Ввод!$E$1:$E$30)*($A117<=Ввод!$F$1:$F$30),Ввод!$D$1:$D$30,\"\"),\" / \")","v":""},{"$f":"MyJoin(IF((F$2=Ввод!$C$1:$C$30)*($A117>=Ввод!$E$1:$E$30)*($A117<=Ввод!$F$1:$F$30),Ввод!$D$1:$D$30,\"\"),\" / \")","v":""},"2022-04-20"]
["2022-04-21",{"$f":"MyJoin(IF((B$2=Ввод!$C$1:$C$30)*($A118>=Ввод!$E$1:$E$30)*($A118<=Ввод!$F$1:$F$30),Ввод!$D$1:$D$30,\"\"),\" / \")","v":""},{"$f":"MyJoin(IF((C$2=Ввод!$C$1:$C$30)*($A118>=Ввод!$E$1:$E$30)*($A118<=Ввод!$F$1:$F$30),Ввод!$D$1:$D$30,\"\"),\" / \")","v":""},{"$f":"MyJoin(IF((D$2=Ввод!$C$1:$C$30)*($A118>=Ввод!$E$1:$E$30)*($A118<=Ввод!$F$1:$F$30),Ввод!$D$1:$D$30,\"\"),\" / \")","v":""},{"$f":"MyJoin(IF((E$2=Ввод!$C$1:$C$30)*($A118>=Ввод!$E$1:$E$30)*($A118<=Ввод!$F$1:$F$30),Ввод!$D$1:$D$30,\"\"),\" / \")","v":""},{"$f":"MyJoin(IF((F$2=Ввод!$C$1:$C$30)*($A118>=Ввод!$E$1:$E$30)*($A118<=Ввод!$F$1:$F$30),Ввод!$D$1:$D$30,\"\"),\" / \")","v":""},"2022-04-21"]
["2022-04-22",{"$f":"MyJoin(IF((B$2=Ввод!$C$1:$C$30)*($A119>=Ввод!$E$1:$E$30)*($A119<=Ввод!$F$1:$F$30),Ввод!$D$1:$D$30,\"\"),\" / \")","v":""},{"$f":"MyJoin(IF((C$2=Ввод!$C$1:$C$30)*($A119>=Ввод!$E$1:$E$30)*($A119<=Ввод!$F$1:$F$30),Ввод!$D$1:$D$30,\"\"),\" / \")","v":""},{"$f":"MyJoin(IF((D$2=Ввод!$C$1:$C$30)*($A119>=Ввод!$E$1:$E$30)*($A119<=Ввод!$F$1:$F$30),Ввод!$D$1:$D$30,\"\"),\" / \")","v":""},{"$f":"MyJoin(IF((E$2=Ввод!$C$1:$C$30)*($A119>=Ввод!$E$1:$E$30)*($A119<=Ввод!$F$1:$F$30),Ввод!$D$1:$D$30,\"\"),\" / \")","v":""},{"$f":"MyJoin(IF((F$2=Ввод!$C$1:$C$30)*($A119>=Ввод!$E$1:$E$30)*($A119<=Ввод!$F$1:$F$30),Ввод!$D$1:$D$30,\"\"),\" / \")","v":""},"2022-04-22"]
["2022-04-23",{"$f":"MyJoin(IF((B$2=Ввод!$C$1:$C$30)*($A120>=Ввод!$E$1:$E$30)*($A120<=Ввод!$F$1:$F$30),Ввод!$D$1:$D$30,\"\"),\" / \")","v":""},{"$f":"MyJoin(IF((C$2=Ввод!$C$1:$C$30)*($A120>=Ввод!$E$1:$E$30)*($A120<=Ввод!$F$1:$F$30),Ввод!$D$1:$D$30,\"\"),\" / \")","v":""},{"$f":"MyJoin(IF((D$2=Ввод!$C$1:$C$30)*($A120>=Ввод!$E$1:$E$30)*($A120<=Ввод!$F$1:$F$30),Ввод!$D$1:$D$30,\"\"),\" / \")","v":""},{"$f":"MyJoin(IF((E$2=Ввод!$C$1:$C$30)*($A120>=Ввод!$E$1:$E$30)*($A120<=Ввод!$F$1:$F$30),Ввод!$D$1:$D$30,\"\"),\" / \")","v":""},{"$f":"MyJoin(IF((F$2=Ввод!$C$1:$C$30)*($A120>=Ввод!$E$1:$E$30)*($A120<=Ввод!$F$1:$F$30),Ввод!$D$1:$D$30,\"\"),\" / \")","v":""},"2022-04-23"]
["2022-04-24",{"$f":"MyJoin(IF((B$2=Ввод!$C$1:$C$30)*($A121>=Ввод!$E$1:$E$30)*($A121<=Ввод!$F$1:$F$30),Ввод!$D$1:$D$30,\"\"),\" / \")","v":""},{"$f":"MyJoin(IF((C$2=Ввод!$C$1:$C$30)*($A121>=Ввод!$E$1:$E$30)*($A121<=Ввод!$F$1:$F$30),Ввод!$D$1:$D$30,\"\"),\" / \")","v":""},{"$f":"MyJoin(IF((D$2=Ввод!$C$1:$C$30)*($A121>=Ввод!$E$1:$E$30)*($A121<=Ввод!$F$1:$F$30),Ввод!$D$1:$D$30,\"\"),\" / \")","v":""},{"$f":"MyJoin(IF((E$2=Ввод!$C$1:$C$30)*($A121>=Ввод!$E$1:$E$30)*($A121<=Ввод!$F$1:$F$30),Ввод!$D$1:$D$30,\"\"),\" / \")","v":""},{"$f":"MyJoin(IF((F$2=Ввод!$C$1:$C$30)*($A121>=Ввод!$E$1:$E$30)*($A121<=Ввод!$F$1:$F$30),Ввод!$D$1:$D$30,\"\"),\" / \")","v":""},"2022-04-24"]
["2022-04-25",{"$f":"MyJoin(IF((B$2=Ввод!$C$1:$C$30)*($A122>=Ввод!$E$1:$E$30)*($A122<=Ввод!$F$1:$F$30),Ввод!$D$1:$D$30,\"\"),\" / \")","v":""},{"$f":"MyJoin(IF((C$2=Ввод!$C$1:$C$30)*($A122>=Ввод!$E$1:$E$30)*($A122<=Ввод!$F$1:$F$30),Ввод!$D$1:$D$30,\"\"),\" / \")","v":""},{"$f":"MyJoin(IF((D$2=Ввод!$C$1:$C$30)*($A122>=Ввод!$E$1:$E$30)*($A122<=Ввод!$F$1:$F$30),Ввод!$D$1:$D$30,\"\"),\" / \")","v":""},{"$f":"MyJoin(IF((E$2=Ввод!$C$1:$C$30)*($A122>=Ввод!$E$1:$E$30)*($A122<=Ввод!$F$1:$F$30),Ввод!$D$1:$D$30,\"\"),\" / \")","v":""},{"$f":"MyJoin(IF((F$2=Ввод!$C$1:$C$30)*($A122>=Ввод!$E$1:$E$30)*($A122<=Ввод!$F$1:$F$30),Ввод!$D$1:$D$30,\"\"),\" / \")","v":""},"2022-04-25"]
["2022-04-26",{"$f":"MyJoin(IF((B$2=Ввод!$C$1:$C$30)*($A123>=Ввод!$E$1:$E$30)*($A123<=Ввод!$F$1:$F$30),Ввод!$D$1:$D$30,\"\"),\" / \")","v":""},{"$f":"MyJoin(IF((C$2=Ввод!$C$1:$C$30)*($A123>=Ввод!$E$1:$E$30)*($A123<=Ввод!$F$1:$F$30),Ввод!$D$1:$D$30,\"\"),\" / \")","v":""},{"$f":"MyJoin(IF((D$2=Ввод!$C$1:$C$30)*($A123>=Ввод!$E$1:$E$30)*($A123<=Ввод!$F$1:$F$30),Ввод!$D$1:$D$30,\"\"),\" / \")","v":""},{"$f":"MyJoin(IF((E$2=Ввод!$C$1:$C$30)*($A123>=Ввод!$E$1:$E$30)*($A123<=Ввод!$F$1:$F$30),Ввод!$D$1:$D$30,\"\"),\" / \")","v":""},{"$f":"MyJoin(IF((F$2=Ввод!$C$1:$C$30)*($A123>=Ввод!$E$1:$E$30)*($A123<=Ввод!$F$1:$F$30),Ввод!$D$1:$D$30,\"\"),\" / \")","v":""},"2022-04-26"]
["2022-04-27",{"$f":"MyJoin(IF((B$2=Ввод!$C$1:$C$30)*($A124>=Ввод!$E$1:$E$30)*($A124<=Ввод!$F$1:$F$30),Ввод!$D$1:$D$30,\"\"),\" / \")","v":""},{"$f":"MyJoin(IF((C$2=Ввод!$C$1:$C$30)*($A124>=Ввод!$E$1:$E$30)*($A124<=Ввод!$F$1:$F$30),Ввод!$D$1:$D$30,\"\"),\" / \")","v":""},{"$f":"MyJoin(IF((D$2=Ввод!$C$1:$C$30)*($A124>=Ввод!$E$1:$E$30)*($A124<=Ввод!$F$1:$F$30),Ввод!$D$1:$D$30,\"\"),\" / \")","v":""},{"$f":"MyJoin(IF((E$2=Ввод!$C$1:$C$30)*($A124>=Ввод!$E$1:$E$30)*($A124<=Ввод!$F$1:$F$30),Ввод!$D$1:$D$30,\"\"),\" / \")","v":""},{"$f":"MyJoin(IF((F$2=Ввод!$C$1:$C$30)*($A124>=Ввод!$E$1:$E$30)*($A124<=Ввод!$F$1:$F$30),Ввод!$D$1:$D$30,\"\"),\" / \")","v":""},"2022-04-27"]
["2022-04-28",{"$f":"MyJoin(IF((B$2=Ввод!$C$1:$C$30)*($A125>=Ввод!$E$1:$E$30)*($A125<=Ввод!$F$1:$F$30),Ввод!$D$1:$D$30,\"\"),\" / \")","v":""},{"$f":"MyJoin(IF((C$2=Ввод!$C$1:$C$30)*($A125>=Ввод!$E$1:$E$30)*($A125<=Ввод!$F$1:$F$30),Ввод!$D$1:$D$30,\"\"),\" / \")","v":""},{"$f":"MyJoin(IF((D$2=Ввод!$C$1:$C$30)*($A125>=Ввод!$E$1:$E$30)*($A125<=Ввод!$F$1:$F$30),Ввод!$D$1:$D$30,\"\"),\" / \")","v":""},{"$f":"MyJoin(IF((E$2=Ввод!$C$1:$C$30)*($A125>=Ввод!$E$1:$E$30)*($A125<=Ввод!$F$1:$F$30),Ввод!$D$1:$D$30,\"\"),\" / \")","v":""},{"$f":"MyJoin(IF((F$2=Ввод!$C$1:$C$30)*($A125>=Ввод!$E$1:$E$30)*($A125<=Ввод!$F$1:$F$30),Ввод!$D$1:$D$30,\"\"),\" / \")","v":""},"2022-04-28"]
["2022-04-29",{"$f":"MyJoin(IF((B$2=Ввод!$C$1:$C$30)*($A126>=Ввод!$E$1:$E$30)*($A126<=Ввод!$F$1:$F$30),Ввод!$D$1:$D$30,\"\"),\" / \")","v":""},{"$f":"MyJoin(IF((C$2=Ввод!$C$1:$C$30)*($A126>=Ввод!$E$1:$E$30)*($A126<=Ввод!$F$1:$F$30),Ввод!$D$1:$D$30,\"\"),\" / \")","v":""},{"$f":"MyJoin(IF((D$2=Ввод!$C$1:$C$30)*($A126>=Ввод!$E$1:$E$30)*($A126<=Ввод!$F$1:$F$30),Ввод!$D$1:$D$30,\"\"),\" / \")","v":""},{"$f":"MyJoin(IF((E$2=Ввод!$C$1:$C$30)*($A126>=Ввод!$E$1:$E$30)*($A126<=Ввод!$F$1:$F$30),Ввод!$D$1:$D$30,\"\"),\" / \")","v":""},{"$f":"MyJoin(IF((F$2=Ввод!$C$1:$C$30)*($A126>=Ввод!$E$1:$E$30)*($A126<=Ввод!$F$1:$F$30),Ввод!$D$1:$D$30,\"\"),\" / \")","v":""},"2022-04-29"]
["2022-04-30",{"$f":"MyJoin(IF((B$2=Ввод!$C$1:$C$30)*($A127>=Ввод!$E$1:$E$30)*($A127<=Ввод!$F$1:$F$30),Ввод!$D$1:$D$30,\"\"),\" / \")","v":""},{"$f":"MyJoin(IF((C$2=Ввод!$C$1:$C$30)*($A127>=Ввод!$E$1:$E$30)*($A127<=Ввод!$F$1:$F$30),Ввод!$D$1:$D$30,\"\"),\" / \")","v":""},{"$f":"MyJoin(IF((D$2=Ввод!$C$1:$C$30)*($A127>=Ввод!$E$1:$E$30)*($A127<=Ввод!$F$1:$F$30),Ввод!$D$1:$D$30,\"\"),\" / \")","v":""},{"$f":"MyJoin(IF((E$2=Ввод!$C$1:$C$30)*($A127>=Ввод!$E$1:$E$30)*($A127<=Ввод!$F$1:$F$30),Ввод!$D$1:$D$30,\"\"),\" / \")","v":""},{"$f":"MyJoin(IF((F$2=Ввод!$C$1:$C$30)*($A127>=Ввод!$E$1:$E$30)*($A127<=Ввод!$F$1:$F$30),Ввод!$D$1:$D$30,\"\"),\" / \")","v":""},"2022-04-30"]
["2022-05-01",{"$f":"MyJoin(IF((B$2=Ввод!$C$1:$C$30)*($A128>=Ввод!$E$1:$E$30)*($A128<=Ввод!$F$1:$F$30),Ввод!$D$1:$D$30,\"\"),\" / \")","v":""},{"$f":"MyJoin(IF((C$2=Ввод!$C$1:$C$30)*($A128>=Ввод!$E$1:$E$30)*($A128<=Ввод!$F$1:$F$30),Ввод!$D$1:$D$30,\"\"),\" / \")","v":""},{"$f":"MyJoin(IF((D$2=Ввод!$C$1:$C$30)*($A128>=Ввод!$E$1:$E$30)*($A128<=Ввод!$F$1:$F$30),Ввод!$D$1:$D$30,\"\"),\" / \")","v":""},{"$f":"MyJoin(IF((E$2=Ввод!$C$1:$C$30)*($A128>=Ввод!$E$1:$E$30)*($A128<=Ввод!$F$1:$F$30),Ввод!$D$1:$D$30,\"\"),\" / \")","v":""},{"$f":"MyJoin(IF((F$2=Ввод!$C$1:$C$30)*($A128>=Ввод!$E$1:$E$30)*($A128<=Ввод!$F$1:$F$30),Ввод!$D$1:$D$30,\"\"),\" / \")","v":""},"2022-05-01"]
["2022-05-02",{"$f":"MyJoin(IF((B$2=Ввод!$C$1:$C$30)*($A129>=Ввод!$E$1:$E$30)*($A129<=Ввод!$F$1:$F$30),Ввод!$D$1:$D$30,\"\"),\" / \")","v":""},{"$f":"MyJoin(IF((C$2=Ввод!$C$1:$C$30)*($A129>=Ввод!$E$1:$E$30)*($A129<=Ввод!$F$1:$F$30),Ввод!$D$1:$D$30,\"\"),\" / \")","v":""},{"$f":"MyJoin(IF((D$2=Ввод!$C$1:$C$30)*($A129>=Ввод!$E$1:$E$30)*($A129<=Ввод!$F$1:$F$30),Ввод!$D$1:$D$30,\"\"),\" / \")","v":""},{"$f":"MyJoin(IF((E$2=Ввод!$C$1:$C$30)*($A129>=Ввод!$E$1:$E$30)*($A129<=Ввод!$F$1:$F$30),Ввод!$D$1:$D$30,\"\"),\" / \")","v":""},{"$f":"MyJoin(IF((F$2=Ввод!$C$1:$C$30)*($A129>=Ввод!$E$1:$E$30)*($A129<=Ввод!$F$1:$F$30),Ввод!$D$1:$D$30,\"\"),\" / \")","v":""},"2022-05-02"]
["2022-05-03",{"$f":"MyJoin(IF((B$2=Ввод!$C$1:$C$30)*($A130>=Ввод!$E$1:$E$30)*($A130<=Ввод!$F$1:$F$30),Ввод!$D$1:$D$30,\"\"),\" / \")","v":""},{"$f":"MyJoin(IF((C$2=Ввод!$C$1:$C$30)*($A130>=Ввод!$E$1:$E$30)*($A130<=Ввод!$F$1:$F$30),Ввод!$D$1:$D$30,\"\"),\" / \")","v":""},{"$f":"MyJoin(IF((D$2=Ввод!$C$1:$C$30)*($A130>=Ввод!$E$1:$E$30)*($A130<=Ввод!$F$1:$F$30),Ввод!$D$1:$D$30,\"\"),\" / \")","v":""},{"$f":"MyJoin(IF((E$2=Ввод!$C$1:$C$30)*($A130>=Ввод!$E$1:$E$30)*($A130<=Ввод!$F$1:$F$30),Ввод!$D$1:$D$30,\"\"),\" / \")","v":""},{"$f":"MyJoin(IF((F$2=Ввод!$C$1:$C$30)*($A130>=Ввод!$E$1:$E$30)*($A130<=Ввод!$F$1:$F$30),Ввод!$D$1:$D$30,\"\"),\" / \")","v":""},"2022-05-03"]
["2022-05-04",{"$f":"MyJoin(IF((B$2=Ввод!$C$1:$C$30)*($A131>=Ввод!$E$1:$E$30)*($A131<=Ввод!$F$1:$F$30),Ввод!$D$1:$D$30,\"\"),\" / \")","v":""},{"$f":"MyJoin(IF((C$2=Ввод!$C$1:$C$30)*($A131>=Ввод!$E$1:$E$30)*($A131<=Ввод!$F$1:$F$30),Ввод!$D$1:$D$30,\"\"),\" / \")","v":""},{"$f":"MyJoin(IF((D$2=Ввод!$C$1:$C$30)*($A131>=Ввод!$E$1:$E$30)*($A131<=Ввод!$F$1:$F$30),Ввод!$D$1:$D$30,\"\"),\" / \")","v":""},{"$f":"MyJoin(IF((E$2=Ввод!$C$1:$C$30)*($A131>=Ввод!$E$1:$E$30)*($A131<=Ввод!$F$1:$F$30),Ввод!$D$1:$D$30,\"\"),\" / \")","v":""},{"$f":"MyJoin(IF((F$2=Ввод!$C$1:$C$30)*($A131>=Ввод!$E$1:$E$30)*($A131<=Ввод!$F$1:$F$30),Ввод!$D$1:$D$30,\"\"),\" / \")","v":""},"2022-05-04"]
["2022-05-05",{"$f":"MyJoin(IF((B$2=Ввод!$C$1:$C$30)*($A132>=Ввод!$E$1:$E$30)*($A132<=Ввод!$F$1:$F$30),Ввод!$D$1:$D$30,\"\"),\" / \")","v":""},{"$f":"MyJoin(IF((C$2=Ввод!$C$1:$C$30)*($A132>=Ввод!$E$1:$E$30)*($A132<=Ввод!$F$1:$F$30),Ввод!$D$1:$D$30,\"\"),\" / \")","v":""},{"$f":"MyJoin(IF((D$2=Ввод!$C$1:$C$30)*($A132>=Ввод!$E$1:$E$30)*($A132<=Ввод!$F$1:$F$30),Ввод!$D$1:$D$30,\"\"),\" / \")","v":""},{"$f":"MyJoin(IF((E$2=Ввод!$C$1:$C$30)*($A132>=Ввод!$E$1:$E$30)*($A132<=Ввод!$F$1:$F$30),Ввод!$D$1:$D$30,\"\"),\" / \")","v":""},{"$f":"MyJoin(IF((F$2=Ввод!$C$1:$C$30)*($A132>=Ввод!$E$1:$E$30)*($A132<=Ввод!$F$1:$F$30),Ввод!$D$1:$D$30,\"\"),\" / \")","v":""},"2022-05-05"]
["2022-05-06",{"$f":"MyJoin(IF((B$2=Ввод!$C$1:$C$30)*($A133>=Ввод!$E$1:$E$30)*($A133<=Ввод!$F$1:$F$30),Ввод!$D$1:$D$30,\"\"),\" / \")","v":""},{"$f":"MyJoin(IF((C$2=Ввод!$C$1:$C$30)*($A133>=Ввод!$E$1:$E$30)*($A133<=Ввод!$F$1:$F$30),Ввод!$D$1:$D$30,\"\"),\" / \")","v":""},{"$f":"MyJoin(IF((D$2=Ввод!$C$1:$C$30)*($A133>=Ввод!$E$1:$E$30)*($A133<=Ввод!$F$1:$F$30),Ввод!$D$1:$D$30,\"\"),\" / \")","v":""},{"$f":"MyJoin(IF((E$2=Ввод!$C$1:$C$30)*($A133>=Ввод!$E$1:$E$30)*($A133<=Ввод!$F$1:$F$30),Ввод!$D$1:$D$30,\"\"),\" / \")","v":""},{"$f":"MyJoin(IF((F$2=Ввод!$C$1:$C$30)*($A133>=Ввод!$E$1:$E$30)*($A133<=Ввод!$F$1:$F$30),Ввод!$D$1:$D$30,\"\"),\" / \")","v":""},"2022-05-06"]
["2022-05-07",{"$f":"MyJoin(IF((B$2=Ввод!$C$1:$C$30)*($A134>=Ввод!$E$1:$E$30)*($A134<=Ввод!$F$1:$F$30),Ввод!$D$1:$D$30,\"\"),\" / \")","v":""},{"$f":"MyJoin(IF((C$2=Ввод!$C$1:$C$30)*($A134>=Ввод!$E$1:$E$30)*($A134<=Ввод!$F$1:$F$30),Ввод!$D$1:$D$30,\"\"),\" / \")","v":""},{"$f":"MyJoin(IF((D$2=Ввод!$C$1:$C$30)*($A134>=Ввод!$E$1:$E$30)*($A134<=Ввод!$F$1:$F$30),Ввод!$D$1:$D$30,\"\"),\" / \")","v":""},{"$f":"MyJoin(IF((E$2=Ввод!$C$1:$C$30)*($A134>=Ввод!$E$1:$E$30)*($A134<=Ввод!$F$1:$F$30),Ввод!$D$1:$D$30,\"\"),\" / \")","v":""},{"$f":"MyJoin(IF((F$2=Ввод!$C$1:$C$30)*($A134>=Ввод!$E$1:$E$30)*($A134<=Ввод!$F$1:$F$30),Ввод!$D$1:$D$30,\"\"),\" / \")","v":""},"2022-05-07"]
["2022-05-08",{"$f":"MyJoin(IF((B$2=Ввод!$C$1:$C$30)*($A135>=Ввод!$E$1:$E$30)*($A135<=Ввод!$F$1:$F$30),Ввод!$D$1:$D$30,\"\"),\" / \")","v":""},{"$f":"MyJoin(IF((C$2=Ввод!$C$1:$C$30)*($A135>=Ввод!$E$1:$E$30)*($A135<=Ввод!$F$1:$F$30),Ввод!$D$1:$D$30,\"\"),\" / \")","v":""},{"$f":"MyJoin(IF((D$2=Ввод!$C$1:$C$30)*($A135>=Ввод!$E$1:$E$30)*($A135<=Ввод!$F$1:$F$30),Ввод!$D$1:$D$30,\"\"),\" / \")","v":""},{"$f":"MyJoin(IF((E$2=Ввод!$C$1:$C$30)*($A135>=Ввод!$E$1:$E$30)*($A135<=Ввод!$F$1:$F$30),Ввод!$D$1:$D$30,\"\"),\" / \")","v":""},{"$f":"MyJoin(IF((F$2=Ввод!$C$1:$C$30)*($A135>=Ввод!$E$1:$E$30)*($A135<=Ввод!$F$1:$F$30),Ввод!$D$1:$D$30,\"\"),\" / \")","v":""},"2022-05-08"]
["2022-05-09",{"$f":"MyJoin(IF((B$2=Ввод!$C$1:$C$30)*($A136>=Ввод!$E$1:$E$30)*($A136<=Ввод!$F$1:$F$30),Ввод!$D$1:$D$30,\"\"),\" / \")","v":""},{"$f":"MyJoin(IF((C$2=Ввод!$C$1:$C$30)*($A136>=Ввод!$E$1:$E$30)*($A136<=Ввод!$F$1:$F$30),Ввод!$D$1:$D$30,\"\"),\" / \")","v":""},{"$f":"MyJoin(IF((D$2=Ввод!$C$1:$C$30)*($A136>=Ввод!$E$1:$E$30)*($A136<=Ввод!$F$1:$F$30),Ввод!$D$1:$D$30,\"\"),\" / \")","v":""},{"$f":"MyJoin(IF((E$2=Ввод!$C$1:$C$30)*($A136>=Ввод!$E$1:$E$30)*($A136<=Ввод!$F$1:$F$30),Ввод!$D$1:$D$30,\"\"),\" / \")","v":""},{"$f":"MyJoin(IF((F$2=Ввод!$C$1:$C$30)*($A136>=Ввод!$E$1:$E$30)*($A136<=Ввод!$F$1:$F$30),Ввод!$D$1:$D$30,\"\"),\" / \")","v":""},"2022-05-09"]
["2022-05-10",{"$f":"MyJoin(IF((B$2=Ввод!$C$1:$C$30)*($A137>=Ввод!$E$1:$E$30)*($A137<=Ввод!$F$1:$F$30),Ввод!$D$1:$D$30,\"\"),\" / \")","v":"Задание 6"},{"$f":"MyJoin(IF((C$2=Ввод!$C$1:$C$30)*($A137>=Ввод!$E$1:$E$30)*($A137<=Ввод!$F$1:$F$30),Ввод!$D$1:$D$30,\"\"),\" / \")","v":""},{"$f":"MyJoin(IF((D$2=Ввод!$C$1:$C$30)*($A137>=Ввод!$E$1:$E$30)*($A137<=Ввод!$F$1:$F$30),Ввод!$D$1:$D$30,\"\"),\" / \")","v":""},{"$f":"MyJoin(IF((E$2=Ввод!$C$1:$C$30)*($A137>=Ввод!$E$1:$E$30)*($A137<=Ввод!$F$1:$F$30),Ввод!$D$1:$D$30,\"\"),\" / \")","v":""},{"$f":"MyJoin(IF((F$2=Ввод!$C$1:$C$30)*($A137>=Ввод!$E$1:$E$30)*($A137<=Ввод!$F$1:$F$30),Ввод!$D$1:$D$30,\"\"),\" / \")","v":""},{"$f":"IF(A137=\"\",\"\",A137)","v":"2022-05-10"}]
["2022-05-11",{"$f":"MyJoin(IF((B$2=Ввод!$C$1:$C$30)*($A138>=Ввод!$E$1:$E$30)*($A138<=Ввод!$F$1:$F$30),Ввод!$D$1:$D$30,\"\"),\" / \")","v":"Задание 6"},{"$f":"MyJoin(IF((C$2=Ввод!$C$1:$C$30)*($A138>=Ввод!$E$1:$E$30)*($A138<=Ввод!$F$1:$F$30),Ввод!$D$1:$D$30,\"\"),\" / \")","v":""},{"$f":"MyJoin(IF((D$2=Ввод!$C$1:$C$30)*($A138>=Ввод!$E$1:$E$30)*($A138<=Ввод!$F$1:$F$30),Ввод!$D$1:$D$30,\"\"),\" / \")","v":""},{"$f":"MyJoin(IF((E$2=Ввод!$C$1:$C$30)*($A138>=Ввод!$E$1:$E$30)*($A138<=Ввод!$F$1:$F$30),Ввод!$D$1:$D$30,\"\"),\" / \")","v":""},{"$f":"MyJoin(IF((F$2=Ввод!$C$1:$C$30)*($A138>=Ввод!$E$1:$E$30)*($A138<=Ввод!$F$1:$F$30),Ввод!$D$1:$D$30,\"\"),\" / \")","v":""},"2022-05-11"]
["2022-05-12",{"$f":"MyJoin(IF((B$2=Ввод!$C$1:$C$30)*($A139>=Ввод!$E$1:$E$30)*($A139<=Ввод!$F$1:$F$30),Ввод!$D$1:$D$30,\"\"),\" / \")","v":"Задание 6"},{"$f":"MyJoin(IF((C$2=Ввод!$C$1:$C$30)*($A139>=Ввод!$E$1:$E$30)*($A139<=Ввод!$F$1:$F$30),Ввод!$D$1:$D$30,\"\"),\" / \")","v":""},{"$f":"MyJoin(IF((D$2=Ввод!$C$1:$C$30)*($A139>=Ввод!$E$1:$E$30)*($A139<=Ввод!$F$1:$F$30),Ввод!$D$1:$D$30,\"\"),\" / \")","v":""},{"$f":"MyJoin(IF((E$2=Ввод!$C$1:$C$30)*($A139>=Ввод!$E$1:$E$30)*($A139<=Ввод!$F$1:$F$30),Ввод!$D$1:$D$30,\"\"),\" / \")","v":""},{"$f":"MyJoin(IF((F$2=Ввод!$C$1:$C$30)*($A139>=Ввод!$E$1:$E$30)*($A139<=Ввод!$F$1:$F$30),Ввод!$D$1:$D$30,\"\"),\" / \")","v":""},"2022-05-12"]
["2022-05-13",{"$f":"MyJoin(IF((B$2=Ввод!$C$1:$C$30)*($A140>=Ввод!$E$1:$E$30)*($A140<=Ввод!$F$1:$F$30),Ввод!$D$1:$D$30,\"\"),\" / \")","v":"Задание 6"},{"$f":"MyJoin(IF((C$2=Ввод!$C$1:$C$30)*($A140>=Ввод!$E$1:$E$30)*($A140<=Ввод!$F$1:$F$30),Ввод!$D$1:$D$30,\"\"),\" / \")","v":""},{"$f":"MyJoin(IF((D$2=Ввод!$C$1:$C$30)*($A140>=Ввод!$E$1:$E$30)*($A140<=Ввод!$F$1:$F$30),Ввод!$D$1:$D$30,\"\"),\" / \")","v":""},{"$f":"MyJoin(IF((E$2=Ввод!$C$1:$C$30)*($A140>=Ввод!$E$1:$E$30)*($A140<=Ввод!$F$1:$F$30),Ввод!$D$1:$D$30,\"\"),\" / \")","v":""},{"$f":"MyJoin(IF((F$2=Ввод!$C$1:$C$30)*($A140>=Ввод!$E$1:$E$30)*($A140<=Ввод!$F$1:$F$30),Ввод!$D$1:$D$30,\"\"),\" / \")","v":""},"2022-05-13"]
["2022-05-14",{"$f":"MyJoin(IF((B$2=Ввод!$C$1:$C$30)*($A141>=Ввод!$E$1:$E$30)*($A141<=Ввод!$F$1:$F$30),Ввод!$D$1:$D$30,\"\"),\" / \")","v":"Задание 6 / Задание 7"},{"$f":"MyJoin(IF((C$2=Ввод!$C$1:$C$30)*($A141>=Ввод!$E$1:$E$30)*($A141<=Ввод!$F$1:$F$30),Ввод!$D$1:$D$30,\"\"),\" / \")","v":""},{"$f":"MyJoin(IF((D$2=Ввод!$C$1:$C$30)*($A141>=Ввод!$E$1:$E$30)*($A141<=Ввод!$F$1:$F$30),Ввод!$D$1:$D$30,\"\"),\" / \")","v":""},{"$f":"MyJoin(IF((E$2=Ввод!$C$1:$C$30)*($A141>=Ввод!$E$1:$E$30)*($A141<=Ввод!$F$1:$F$30),Ввод!$D$1:$D$30,\"\"),\" / \")","v":""},{"$f":"MyJoin(IF((F$2=Ввод!$C$1:$C$30)*($A141>=Ввод!$E$1:$E$30)*($A141<=Ввод!$F$1:$F$30),Ввод!$D$1:$D$30,\"\"),\" / \")","v":""},"2022-05-14"]
["2022-05-15",{"$f":"MyJoin(IF((B$2=Ввод!$C$1:$C$30)*($A142>=Ввод!$E$1:$E$30)*($A142<=Ввод!$F$1:$F$30),Ввод!$D$1:$D$30,\"\"),\" / \")","v":"Задание 7"},{"$f":"MyJoin(IF((C$2=Ввод!$C$1:$C$30)*($A142>=Ввод!$E$1:$E$30)*($A142<=Ввод!$F$1:$F$30),Ввод!$D$1:$D$30,\"\"),\" / \")","v":""},{"$f":"MyJoin(IF((D$2=Ввод!$C$1:$C$30)*($A142>=Ввод!$E$1:$E$30)*($A142<=Ввод!$F$1:$F$30),Ввод!$D$1:$D$30,\"\"),\" / \")","v":""},{"$f":"MyJoin(IF((E$2=Ввод!$C$1:$C$30)*($A142>=Ввод!$E$1:$E$30)*($A142<=Ввод!$F$1:$F$30),Ввод!$D$1:$D$30,\"\"),\" / \")","v":""},{"$f":"MyJoin(IF((F$2=Ввод!$C$1:$C$30)*($A142>=Ввод!$E$1:$E$30)*($A142<=Ввод!$F$1:$F$30),Ввод!$D$1:$D$30,\"\"),\" / \")","v":""},"2022-05-15"]
["2022-05-16",{"$f":"MyJoin(IF((B$2=Ввод!$C$1:$C$30)*($A143>=Ввод!$E$1:$E$30)*($A143<=Ввод!$F$1:$F$30),Ввод!$D$1:$D$30,\"\"),\" / \")","v":"Задание 7"},{"$f":"MyJoin(IF((C$2=Ввод!$C$1:$C$30)*($A143>=Ввод!$E$1:$E$30)*($A143<=Ввод!$F$1:$F$30),Ввод!$D$1:$D$30,\"\"),\" / \")","v":""},{"$f":"MyJoin(IF((D$2=Ввод!$C$1:$C$30)*($A143>=Ввод!$E$1:$E$30)*($A143<=Ввод!$F$1:$F$30),Ввод!$D$1:$D$30,\"\"),\" / \")","v":""},{"$f":"MyJoin(IF((E$2=Ввод!$C$1:$C$30)*($A143>=Ввод!$E$1:$E$30)*($A143<=Ввод!$F$1:$F$30),Ввод!$D$1:$D$30,\"\"),\" / \")","v":""},{"$f":"MyJoin(IF((F$2=Ввод!$C$1:$C$30)*($A143>=Ввод!$E$1:$E$30)*($A143<=Ввод!$F$1:$F$30),Ввод!$D$1:$D$30,\"\"),\" / \")","v":""},"2022-05-16"]
["2022-05-17",{"$f":"MyJoin(IF((B$2=Ввод!$C$1:$C$30)*($A144>=Ввод!$E$1:$E$30)*($A144<=Ввод!$F$1:$F$30),Ввод!$D$1:$D$30,\"\"),\" / \")","v":"Задание 7"},{"$f":"MyJoin(IF((C$2=Ввод!$C$1:$C$30)*($A144>=Ввод!$E$1:$E$30)*($A144<=Ввод!$F$1:$F$30),Ввод!$D$1:$D$30,\"\"),\" / \")","v":""},{"$f":"MyJoin(IF((D$2=Ввод!$C$1:$C$30)*($A144>=Ввод!$E$1:$E$30)*($A144<=Ввод!$F$1:$F$30),Ввод!$D$1:$D$30,\"\"),\" / \")","v":""},{"$f":"MyJoin(IF((E$2=Ввод!$C$1:$C$30)*($A144>=Ввод!$E$1:$E$30)*($A144<=Ввод!$F$1:$F$30),Ввод!$D$1:$D$30,\"\"),\" / \")","v":""},{"$f":"MyJoin(IF((F$2=Ввод!$C$1:$C$30)*($A144>=Ввод!$E$1:$E$30)*($A144<=Ввод!$F$1:$F$30),Ввод!$D$1:$D$30,\"\"),\" / \")","v":""},"2022-05-17"]
["2022-05-18",{"$f":"MyJoin(IF((B$2=Ввод!$C$1:$C$30)*($A145>=Ввод!$E$1:$E$30)*($A145<=Ввод!$F$1:$F$30),Ввод!$D$1:$D$30,\"\"),\" / \")","v":"Задание 7"},{"$f":"MyJoin(IF((C$2=Ввод!$C$1:$C$30)*($A145>=Ввод!$E$1:$E$30)*($A145<=Ввод!$F$1:$F$30),Ввод!$D$1:$D$30,\"\"),\" / \")","v":""},{"$f":"MyJoin(IF((D$2=Ввод!$C$1:$C$30)*($A145>=Ввод!$E$1:$E$30)*($A145<=Ввод!$F$1:$F$30),Ввод!$D$1:$D$30,\"\"),\" / \")","v":""},{"$f":"MyJoin(IF((E$2=Ввод!$C$1:$C$30)*($A145>=Ввод!$E$1:$E$30)*($A145<=Ввод!$F$1:$F$30),Ввод!$D$1:$D$30,\"\"),\" / \")","v":""},{"$f":"MyJoin(IF((F$2=Ввод!$C$1:$C$30)*($A145>=Ввод!$E$1:$E$30)*($A145<=Ввод!$F$1:$F$30),Ввод!$D$1:$D$30,\"\"),\" / \")","v":""},"2022-05-18"]
["2022-05-19",{"$f":"MyJoin(IF((B$2=Ввод!$C$1:$C$30)*($A146>=Ввод!$E$1:$E$30)*($A146<=Ввод!$F$1:$F$30),Ввод!$D$1:$D$30,\"\"),\" / \")","v":"Задание 8"},{"$f":"MyJoin(IF((C$2=Ввод!$C$1:$C$30)*($A146>=Ввод!$E$1:$E$30)*($A146<=Ввод!$F$1:$F$30),Ввод!$D$1:$D$30,\"\"),\" / \")","v":"Задание 5"},{"$f":"MyJoin(IF((D$2=Ввод!$C$1:$C$30)*($A146>=Ввод!$E$1:$E$30)*($A146<=Ввод!$F$1:$F$30),Ввод!$D$1:$D$30,\"\"),\" / \")","v":""},{"$f":"MyJoin(IF((E$2=Ввод!$C$1:$C$30)*($A146>=Ввод!$E$1:$E$30)*($A146<=Ввод!$F$1:$F$30),Ввод!$D$1:$D$30,\"\"),\" / \")","v":""},{"$f":"MyJoin(IF((F$2=Ввод!$C$1:$C$30)*($A146>=Ввод!$E$1:$E$30)*($A146<=Ввод!$F$1:$F$30),Ввод!$D$1:$D$30,\"\"),\" / \")","v":""},"2022-05-19"]
["2022-05-20",{"$f":"MyJoin(IF((B$2=Ввод!$C$1:$C$30)*($A147>=Ввод!$E$1:$E$30)*($A147<=Ввод!$F$1:$F$30),Ввод!$D$1:$D$30,\"\"),\" / \")","v":"Задание 8"},{"$f":"MyJoin(IF((C$2=Ввод!$C$1:$C$30)*($A147>=Ввод!$E$1:$E$30)*($A147<=Ввод!$F$1:$F$30),Ввод!$D$1:$D$30,\"\"),\" / \")","v":"Задание 5"},{"$f":"MyJoin(IF((D$2=Ввод!$C$1:$C$30)*($A147>=Ввод!$E$1:$E$30)*($A147<=Ввод!$F$1:$F$30),Ввод!$D$1:$D$30,\"\"),\" / \")","v":""},{"$f":"MyJoin(IF((E$2=Ввод!$C$1:$C$30)*($A147>=Ввод!$E$1:$E$30)*($A147<=Ввод!$F$1:$F$30),Ввод!$D$1:$D$30,\"\"),\" / \")","v":""},{"$f":"MyJoin(IF((F$2=Ввод!$C$1:$C$30)*($A147>=Ввод!$E$1:$E$30)*($A147<=Ввод!$F$1:$F$30),Ввод!$D$1:$D$30,\"\"),\" / \")","v":""},"2022-05-20"]
["2022-05-21",{"$f":"MyJoin(IF((B$2=Ввод!$C$1:$C$30)*($A148>=Ввод!$E$1:$E$30)*($A148<=Ввод!$F$1:$F$30),Ввод!$D$1:$D$30,\"\"),\" / \")","v":"Задание 8"},{"$f":"MyJoin(IF((C$2=Ввод!$C$1:$C$30)*($A148>=Ввод!$E$1:$E$30)*($A148<=Ввод!$F$1:$F$30),Ввод!$D$1:$D$30,\"\"),\" / \")","v":"Задание 5"},{"$f":"MyJoin(IF((D$2=Ввод!$C$1:$C$30)*($A148>=Ввод!$E$1:$E$30)*($A148<=Ввод!$F$1:$F$30),Ввод!$D$1:$D$30,\"\"),\" / \")","v":""},{"$f":"MyJoin(IF((E$2=Ввод!$C$1:$C$30)*($A148>=Ввод!$E$1:$E$30)*($A148<=Ввод!$F$1:$F$30),Ввод!$D$1:$D$30,\"\"),\" / \")","v":""},{"$f":"MyJoin(IF((F$2=Ввод!$C$1:$C$30)*($A148>=Ввод!$E$1:$E$30)*($A148<=Ввод!$F$1:$F$30),Ввод!$D$1:$D$30,\"\"),\" / \")","v":""},"2022-05-21"]
["2022-05-22",{"$f":"MyJoin(IF((B$2=Ввод!$C$1:$C$30)*($A149>=Ввод!$E$1:$E$30)*($A149<=Ввод!$F$1:$F$30),Ввод!$D$1:$D$30,\"\"),\" / \")","v":"Задание 8"},{"$f":"MyJoin(IF((C$2=Ввод!$C$1:$C$30)*($A149>=Ввод!$E$1:$E$30)*($A149<=Ввод!$F$1:$F$30),Ввод!$D$1:$D$30,\"\"),\" / \")","v":"Задание 5"},{"$f":"MyJoin(IF((D$2=Ввод!$C$1:$C$30)*($A149>=Ввод!$E$1:$E$30)*($A149<=Ввод!$F$1:$F$30),Ввод!$D$1:$D$30,\"\"),\" / \")","v":""},{"$f":"MyJoin(IF((E$2=Ввод!$C$1:$C$30)*($A149>=Ввод!$E$1:$E$30)*($A149<=Ввод!$F$1:$F$30),Ввод!$D$1:$D$30,\"\"),\" / \")","v":""},{"$f":"MyJoin(IF((F$2=Ввод!$C$1:$C$30)*($A149>=Ввод!$E$1:$E$30)*($A149<=Ввод!$F$1:$F$30),Ввод!$D$1:$D$30,\"\"),\" / \")","v":""},"2022-05-22"]
["2022-05-23",{"$f":"MyJoin(IF((B$2=Ввод!$C$1:$C$30)*($A150>=Ввод!$E$1:$E$30)*($A150<=Ввод!$F$1:$F$30),Ввод!$D$1:$D$30,\"\"),\" / \")","v":"Задание 8"},{"$f":"MyJoin(IF((C$2=Ввод!$C$1:$C$30)*($A150>=Ввод!$E$1:$E$30)*($A150<=Ввод!$F$1:$F$30),Ввод!$D$1:$D$30,\"\"),\" / \")","v":"Задание 5"},{"$f":"MyJoin(IF((D$2=Ввод!$C$1:$C$30)*($A150>=Ввод!$E$1:$E$30)*($A150<=Ввод!$F$1:$F$30),Ввод!$D$1:$D$30,\"\"),\" / \")","v":""},{"$f":"MyJoin(IF((E$2=Ввод!$C$1:$C$30)*($A150>=Ввод!$E$1:$E$30)*($A150<=Ввод!$F$1:$F$30),Ввод!$D$1:$D$30,\"\"),\" / \")","v":""},{"$f":"MyJoin(IF((F$2=Ввод!$C$1:$C$30)*($A150>=Ввод!$E$1:$E$30)*($A150<=Ввод!$F$1:$F$30),Ввод!$D$1:$D$30,\"\"),\" / \")","v":""},"2022-05-23"]
["2022-05-24",{"$f":"MyJoin(IF((B$2=Ввод!$C$1:$C$30)*($A151>=Ввод!$E$1:$E$30)*($A151<=Ввод!$F$1:$F$30),Ввод!$D$1:$D$30,\"\"),\" / \")","v":"Задание 8"},{"$f":"MyJoin(IF((C$2=Ввод!$C$1:$C$30)*($A151>=Ввод!$E$1:$E$30)*($A151<=Ввод!$F$1:$F$30),Ввод!$D$1:$D$30,\"\"),\" / \")","v":"Задание 5 / Задание 6"},{"$f":"MyJoin(IF((D$2=Ввод!$C$1:$C$30)*($A151>=Ввод!$E$1:$E$30)*($A151<=Ввод!$F$1:$F$30),Ввод!$D$1:$D$30,\"\"),\" / \")","v":""},{"$f":"MyJoin(IF((E$2=Ввод!$C$1:$C$30)*($A151>=Ввод!$E$1:$E$30)*($A151<=Ввод!$F$1:$F$30),Ввод!$D$1:$D$30,\"\"),\" / \")","v":""},{"$f":"MyJoin(IF((F$2=Ввод!$C$1:$C$30)*($A151>=Ввод!$E$1:$E$30)*($A151<=Ввод!$F$1:$F$30),Ввод!$D$1:$D$30,\"\"),\" / \")","v":""},"2022-05-24"]
["2022-05-25",{"$f":"MyJoin(IF((B$2=Ввод!$C$1:$C$30)*($A152>=Ввод!$E$1:$E$30)*($A152<=Ввод!$F$1:$F$30),Ввод!$D$1:$D$30,\"\"),\" / \")","v":"Задание 8"},{"$f":"MyJoin(IF((C$2=Ввод!$C$1:$C$30)*($A152>=Ввод!$E$1:$E$30)*($A152<=Ввод!$F$1:$F$30),Ввод!$D$1:$D$30,\"\"),\" / \")","v":"Задание 5 / Задание 6"},{"$f":"MyJoin(IF((D$2=Ввод!$C$1:$C$30)*($A152>=Ввод!$E$1:$E$30)*($A152<=Ввод!$F$1:$F$30),Ввод!$D$1:$D$30,\"\"),\" / \")","v":""},{"$f":"MyJoin(IF((E$2=Ввод!$C$1:$C$30)*($A152>=Ввод!$E$1:$E$30)*($A152<=Ввод!$F$1:$F$30),Ввод!$D$1:$D$30,\"\"),\" / \")","v":""},{"$f":"MyJoin(IF((F$2=Ввод!$C$1:$C$30)*($A152>=Ввод!$E$1:$E$30)*($A152<=Ввод!$F$1:$F$30),Ввод!$D$1:$D$30,\"\"),\" / \")","v":""},"2022-05-25"]
["2022-05-26",{"$f":"MyJoin(IF((B$2=Ввод!$C$1:$C$30)*($A153>=Ввод!$E$1:$E$30)*($A153<=Ввод!$F$1:$F$30),Ввод!$D$1:$D$30,\"\"),\" / \")","v":"Задание 8"},{"$f":"MyJoin(IF((C$2=Ввод!$C$1:$C$30)*($A153>=Ввод!$E$1:$E$30)*($A153<=Ввод!$F$1:$F$30),Ввод!$D$1:$D$30,\"\"),\" / \")","v":"Задание 5 / Задание 6"},{"$f":"MyJoin(IF((D$2=Ввод!$C$1:$C$30)*($A153>=Ввод!$E$1:$E$30)*($A153<=Ввод!$F$1:$F$30),Ввод!$D$1:$D$30,\"\"),\" / \")","v":""},{"$f":"MyJoin(IF((E$2=Ввод!$C$1:$C$30)*($A153>=Ввод!$E$1:$E$30)*($A153<=Ввод!$F$1:$F$30),Ввод!$D$1:$D$30,\"\"),\" / \")","v":""},{"$f":"MyJoin(IF((F$2=Ввод!$C$1:$C$30)*($A153>=Ввод!$E$1:$E$30)*($A153<=Ввод!$F$1:$F$30),Ввод!$D$1:$D$30,\"\"),\" / \")","v":""},"2022-05-26"]
["2022-05-27",{"$f":"MyJoin(IF((B$2=Ввод!$C$1:$C$30)*($A154>=Ввод!$E$1:$E$30)*($A154<=Ввод!$F$1:$F$30),Ввод!$D$1:$D$30,\"\"),\" / \")","v":"Задание 8"},{"$f":"MyJoin(IF((C$2=Ввод!$C$1:$C$30)*($A154>=Ввод!$E$1:$E$30)*($A154<=Ввод!$F$1:$F$30),Ввод!$D$1:$D$30,\"\"),\" / \")","v":"Задание 5 / Задание 6"},{"$f":"MyJoin(IF((D$2=Ввод!$C$1:$C$30)*($A154>=Ввод!$E$1:$E$30)*($A154<=Ввод!$F$1:$F$30),Ввод!$D$1:$D$30,\"\"),\" / \")","v":""},{"$f":"MyJoin(IF((E$2=Ввод!$C$1:$C$30)*($A154>=Ввод!$E$1:$E$30)*($A154<=Ввод!$F$1:$F$30),Ввод!$D$1:$D$30,\"\"),\" / \")","v":""},{"$f":"MyJoin(IF((F$2=Ввод!$C$1:$C$30)*($A154>=Ввод!$E$1:$E$30)*($A154<=Ввод!$F$1:$F$30),Ввод!$D$1:$D$30,\"\"),\" / \")","v":""},"2022-05-27"]
["2022-05-28",{"$f":"MyJoin(IF((B$2=Ввод!$C$1:$C$30)*($A155>=Ввод!$E$1:$E$30)*($A155<=Ввод!$F$1:$F$30),Ввод!$D$1:$D$30,\"\"),\" / \")","v":""},{"$f":"MyJoin(IF((C$2=Ввод!$C$1:$C$30)*($A155>=Ввод!$E$1:$E$30)*($A155<=Ввод!$F$1:$F$30),Ввод!$D$1:$D$30,\"\"),\" / \")","v":"Задание 5 / Задание 6"},{"$f":"MyJoin(IF((D$2=Ввод!$C$1:$C$30)*($A155>=Ввод!$E$1:$E$30)*($A155<=Ввод!$F$1:$F$30),Ввод!$D$1:$D$30,\"\"),\" / \")","v":""},{"$f":"MyJoin(IF((E$2=Ввод!$C$1:$C$30)*($A155>=Ввод!$E$1:$E$30)*($A155<=Ввод!$F$1:$F$30),Ввод!$D$1:$D$30,\"\"),\" / \")","v":""},{"$f":"MyJoin(IF((F$2=Ввод!$C$1:$C$30)*($A155>=Ввод!$E$1:$E$30)*($A155<=Ввод!$F$1:$F$30),Ввод!$D$1:$D$30,\"\"),\" / \")","v":""},"2022-05-28"]
["2022-05-29",{"$f":"MyJoin(IF((B$2=Ввод!$C$1:$C$30)*($A156>=Ввод!$E$1:$E$30)*($A156<=Ввод!$F$1:$F$30),Ввод!$D$1:$D$30,\"\"),\" / \")","v":""},{"$f":"MyJoin(IF((C$2=Ввод!$C$1:$C$30)*($A156>=Ввод!$E$1:$E$30)*($A156<=Ввод!$F$1:$F$30),Ввод!$D$1:$D$30,\"\"),\" / \")","v":"Задание 5 / Задание 6"},{"$f":"MyJoin(IF((D$2=Ввод!$C$1:$C$30)*($A156>=Ввод!$E$1:$E$30)*($A156<=Ввод!$F$1:$F$30),Ввод!$D$1:$D$30,\"\"),\" / \")","v":""},{"$f":"MyJoin(IF((E$2=Ввод!$C$1:$C$30)*($A156>=Ввод!$E$1:$E$30)*($A156<=Ввод!$F$1:$F$30),Ввод!$D$1:$D$30,\"\"),\" / \")","v":""},{"$f":"MyJoin(IF((F$2=Ввод!$C$1:$C$30)*($A156>=Ввод!$E$1:$E$30)*($A156<=Ввод!$F$1:$F$30),Ввод!$D$1:$D$30,\"\"),\" / \")","v":""},"2022-05-29"]
["2022-05-30",{"$f":"MyJoin(IF((B$2=Ввод!$C$1:$C$30)*($A157>=Ввод!$E$1:$E$30)*($A157<=Ввод!$F$1:$F$30),Ввод!$D$1:$D$30,\"\"),\" / \")","v":""},{"$f":"MyJoin(IF((C$2=Ввод!$C$1:$C$30)*($A157>=Ввод!$E$1:$E$30)*($A157<=Ввод!$F$1:$F$30),Ввод!$D$1:$D$30,\"\"),\" / \")","v":"Задание 5 / Задание 6"},{"$f":"MyJoin(IF((D$2=Ввод!$C$1:$C$30)*($A157>=Ввод!$E$1:$E$30)*($A157<=Ввод!$F$1:$F$30),Ввод!$D$1:$D$30,\"\"),\" / \")","v":""},{"$f":"MyJoin(IF((E$2=Ввод!$C$1:$C$30)*($A157>=Ввод!$E$1:$E$30)*($A157<=Ввод!$F$1:$F$30),Ввод!$D$1:$D$30,\"\"),\" / \")","v":""},{"$f":"MyJoin(IF((F$2=Ввод!$C$1:$C$30)*($A157>=Ввод!$E$1:$E$30)*($A157<=Ввод!$F$1:$F$30),Ввод!$D$1:$D$30,\"\"),\" / \")","v":""},"2022-05-30"]
["2022-05-31",{"$f":"MyJoin(IF((B$2=Ввод!$C$1:$C$30)*($A158>=Ввод!$E$1:$E$30)*($A158<=Ввод!$F$1:$F$30),Ввод!$D$1:$D$30,\"\"),\" / \")","v":""},{"$f":"MyJoin(IF((C$2=Ввод!$C$1:$C$30)*($A158>=Ввод!$E$1:$E$30)*($A158<=Ввод!$F$1:$F$30),Ввод!$D$1:$D$30,\"\"),\" / \")","v":""},{"$f":"MyJoin(IF((D$2=Ввод!$C$1:$C$30)*($A158>=Ввод!$E$1:$E$30)*($A158<=Ввод!$F$1:$F$30),Ввод!$D$1:$D$30,\"\"),\" / \")","v":""},{"$f":"MyJoin(IF((E$2=Ввод!$C$1:$C$30)*($A158>=Ввод!$E$1:$E$30)*($A158<=Ввод!$F$1:$F$30),Ввод!$D$1:$D$30,\"\"),\" / \")","v":""},{"$f":"MyJoin(IF((F$2=Ввод!$C$1:$C$30)*($A158>=Ввод!$E$1:$E$30)*($A158<=Ввод!$F$1:$F$30),Ввод!$D$1:$D$30,\"\"),\" / \")","v":""},"2022-05-31"]
["2022-06-01",{"$f":"MyJoin(IF((B$2=Ввод!$C$1:$C$30)*($A159>=Ввод!$E$1:$E$30)*($A159<=Ввод!$F$1:$F$30),Ввод!$D$1:$D$30,\"\"),\" / \")","v":""},{"$f":"MyJoin(IF((C$2=Ввод!$C$1:$C$30)*($A159>=Ввод!$E$1:$E$30)*($A159<=Ввод!$F$1:$F$30),Ввод!$D$1:$D$30,\"\"),\" / \")","v":""},{"$f":"MyJoin(IF((D$2=Ввод!$C$1:$C$30)*($A159>=Ввод!$E$1:$E$30)*($A159<=Ввод!$F$1:$F$30),Ввод!$D$1:$D$30,\"\"),\" / \")","v":""},{"$f":"MyJoin(IF((E$2=Ввод!$C$1:$C$30)*($A159>=Ввод!$E$1:$E$30)*($A159<=Ввод!$F$1:$F$30),Ввод!$D$1:$D$30,\"\"),\" / \")","v":""},{"$f":"MyJoin(IF((F$2=Ввод!$C$1:$C$30)*($A159>=Ввод!$E$1:$E$30)*($A159<=Ввод!$F$1:$F$30),Ввод!$D$1:$D$30,\"\"),\" / \")","v":""},"2022-06-01"]
["2022-06-02",{"$f":"MyJoin(IF((B$2=Ввод!$C$1:$C$30)*($A160>=Ввод!$E$1:$E$30)*($A160<=Ввод!$F$1:$F$30),Ввод!$D$1:$D$30,\"\"),\" / \")","v":""},{"$f":"MyJoin(IF((C$2=Ввод!$C$1:$C$30)*($A160>=Ввод!$E$1:$E$30)*($A160<=Ввод!$F$1:$F$30),Ввод!$D$1:$D$30,\"\"),\" / \")","v":""},{"$f":"MyJoin(IF((D$2=Ввод!$C$1:$C$30)*($A160>=Ввод!$E$1:$E$30)*($A160<=Ввод!$F$1:$F$30),Ввод!$D$1:$D$30,\"\"),\" / \")","v":""},{"$f":"MyJoin(IF((E$2=Ввод!$C$1:$C$30)*($A160>=Ввод!$E$1:$E$30)*($A160<=Ввод!$F$1:$F$30),Ввод!$D$1:$D$30,\"\"),\" / \")","v":""},{"$f":"MyJoin(IF((F$2=Ввод!$C$1:$C$30)*($A160>=Ввод!$E$1:$E$30)*($A160<=Ввод!$F$1:$F$30),Ввод!$D$1:$D$30,\"\"),\" / \")","v":""},"2022-06-02"]
["2022-06-03",{"$f":"MyJoin(IF((B$2=Ввод!$C$1:$C$30)*($A161>=Ввод!$E$1:$E$30)*($A161<=Ввод!$F$1:$F$30),Ввод!$D$1:$D$30,\"\"),\" / \")","v":""},{"$f":"MyJoin(IF((C$2=Ввод!$C$1:$C$30)*($A161>=Ввод!$E$1:$E$30)*($A161<=Ввод!$F$1:$F$30),Ввод!$D$1:$D$30,\"\"),\" / \")","v":""},{"$f":"MyJoin(IF((D$2=Ввод!$C$1:$C$30)*($A161>=Ввод!$E$1:$E$30)*($A161<=Ввод!$F$1:$F$30),Ввод!$D$1:$D$30,\"\"),\" / \")","v":""},{"$f":"MyJoin(IF((E$2=Ввод!$C$1:$C$30)*($A161>=Ввод!$E$1:$E$30)*($A161<=Ввод!$F$1:$F$30),Ввод!$D$1:$D$30,\"\"),\" / \")","v":""},{"$f":"MyJoin(IF((F$2=Ввод!$C$1:$C$30)*($A161>=Ввод!$E$1:$E$30)*($A161<=Ввод!$F$1:$F$30),Ввод!$D$1:$D$30,\"\"),\" / \")","v":""},"2022-06-03"]
["2022-06-04",{"$f":"MyJoin(IF((B$2=Ввод!$C$1:$C$30)*($A162>=Ввод!$E$1:$E$30)*($A162<=Ввод!$F$1:$F$30),Ввод!$D$1:$D$30,\"\"),\" / \")","v":""},{"$f":"MyJoin(IF((C$2=Ввод!$C$1:$C$30)*($A162>=Ввод!$E$1:$E$30)*($A162<=Ввод!$F$1:$F$30),Ввод!$D$1:$D$30,\"\"),\" / \")","v":""},{"$f":"MyJoin(IF((D$2=Ввод!$C$1:$C$30)*($A162>=Ввод!$E$1:$E$30)*($A162<=Ввод!$F$1:$F$30),Ввод!$D$1:$D$30,\"\"),\" / \")","v":""},{"$f":"MyJoin(IF((E$2=Ввод!$C$1:$C$30)*($A162>=Ввод!$E$1:$E$30)*($A162<=Ввод!$F$1:$F$30),Ввод!$D$1:$D$30,\"\"),\" / \")","v":""},{"$f":"MyJoin(IF((F$2=Ввод!$C$1:$C$30)*($A162>=Ввод!$E$1:$E$30)*($A162<=Ввод!$F$1:$F$30),Ввод!$D$1:$D$30,\"\"),\" / \")","v":""},"2022-06-04"]
["2022-06-05",{"$f":"MyJoin(IF((B$2=Ввод!$C$1:$C$30)*($A163>=Ввод!$E$1:$E$30)*($A163<=Ввод!$F$1:$F$30),Ввод!$D$1:$D$30,\"\"),\" / \")","v":""},{"$f":"MyJoin(IF((C$2=Ввод!$C$1:$C$30)*($A163>=Ввод!$E$1:$E$30)*($A163<=Ввод!$F$1:$F$30),Ввод!$D$1:$D$30,\"\"),\" / \")","v":""},{"$f":"MyJoin(IF((D$2=Ввод!$C$1:$C$30)*($A163>=Ввод!$E$1:$E$30)*($A163<=Ввод!$F$1:$F$30),Ввод!$D$1:$D$30,\"\"),\" / \")","v":""},{"$f":"MyJoin(IF((E$2=Ввод!$C$1:$C$30)*($A163>=Ввод!$E$1:$E$30)*($A163<=Ввод!$F$1:$F$30),Ввод!$D$1:$D$30,\"\"),\" / \")","v":""},{"$f":"MyJoin(IF((F$2=Ввод!$C$1:$C$30)*($A163>=Ввод!$E$1:$E$30)*($A163<=Ввод!$F$1:$F$30),Ввод!$D$1:$D$30,\"\"),\" / \")","v":""},"2022-06-05"]
["2022-06-06",{"$f":"MyJoin(IF((B$2=Ввод!$C$1:$C$30)*($A164>=Ввод!$E$1:$E$30)*($A164<=Ввод!$F$1:$F$30),Ввод!$D$1:$D$30,\"\"),\" / \")","v":""},{"$f":"MyJoin(IF((C$2=Ввод!$C$1:$C$30)*($A164>=Ввод!$E$1:$E$30)*($A164<=Ввод!$F$1:$F$30),Ввод!$D$1:$D$30,\"\"),\" / \")","v":""},{"$f":"MyJoin(IF((D$2=Ввод!$C$1:$C$30)*($A164>=Ввод!$E$1:$E$30)*($A164<=Ввод!$F$1:$F$30),Ввод!$D$1:$D$30,\"\"),\" / \")","v":""},{"$f":"MyJoin(IF((E$2=Ввод!$C$1:$C$30)*($A164>=Ввод!$E$1:$E$30)*($A164<=Ввод!$F$1:$F$30),Ввод!$D$1:$D$30,\"\"),\" / \")","v":""},{"$f":"MyJoin(IF((F$2=Ввод!$C$1:$C$30)*($A164>=Ввод!$E$1:$E$30)*($A164<=Ввод!$F$1:$F$30),Ввод!$D$1:$D$30,\"\"),\" / \")","v":""},"2022-06-06"]
["2022-06-07",{"$f":"MyJoin(IF((B$2=Ввод!$C$1:$C$30)*($A165>=Ввод!$E$1:$E$30)*($A165<=Ввод!$F$1:$F$30),Ввод!$D$1:$D$30,\"\"),\" / \")","v":""},{"$f":"MyJoin(IF((C$2=Ввод!$C$1:$C$30)*($A165>=Ввод!$E$1:$E$30)*($A165<=Ввод!$F$1:$F$30),Ввод!$D$1:$D$30,\"\"),\" / \")","v":""},{"$f":"MyJoin(IF((D$2=Ввод!$C$1:$C$30)*($A165>=Ввод!$E$1:$E$30)*($A165<=Ввод!$F$1:$F$30),Ввод!$D$1:$D$30,\"\"),\" / \")","v":""},{"$f":"MyJoin(IF((E$2=Ввод!$C$1:$C$30)*($A165>=Ввод!$E$1:$E$30)*($A165<=Ввод!$F$1:$F$30),Ввод!$D$1:$D$30,\"\"),\" / \")","v":""},{"$f":"MyJoin(IF((F$2=Ввод!$C$1:$C$30)*($A165>=Ввод!$E$1:$E$30)*($A165<=Ввод!$F$1:$F$30),Ввод!$D$1:$D$30,\"\"),\" / \")","v":""},"2022-06-07"]
["2022-06-08",{"$f":"MyJoin(IF((B$2=Ввод!$C$1:$C$30)*($A166>=Ввод!$E$1:$E$30)*($A166<=Ввод!$F$1:$F$30),Ввод!$D$1:$D$30,\"\"),\" / \")","v":""},{"$f":"MyJoin(IF((C$2=Ввод!$C$1:$C$30)*($A166>=Ввод!$E$1:$E$30)*($A166<=Ввод!$F$1:$F$30),Ввод!$D$1:$D$30,\"\"),\" / \")","v":""},{"$f":"MyJoin(IF((D$2=Ввод!$C$1:$C$30)*($A166>=Ввод!$E$1:$E$30)*($A166<=Ввод!$F$1:$F$30),Ввод!$D$1:$D$30,\"\"),\" / \")","v":""},{"$f":"MyJoin(IF((E$2=Ввод!$C$1:$C$30)*($A166>=Ввод!$E$1:$E$30)*($A166<=Ввод!$F$1:$F$30),Ввод!$D$1:$D$30,\"\"),\" / \")","v":""},{"$f":"MyJoin(IF((F$2=Ввод!$C$1:$C$30)*($A166>=Ввод!$E$1:$E$30)*($A166<=Ввод!$F$1:$F$30),Ввод!$D$1:$D$30,\"\"),\" / \")","v":""},"2022-06-08"]
["2022-06-09",{"$f":"MyJoin(IF((B$2=Ввод!$C$1:$C$30)*($A167>=Ввод!$E$1:$E$30)*($A167<=Ввод!$F$1:$F$30),Ввод!$D$1:$D$30,\"\"),\" / \")","v":""},{"$f":"MyJoin(IF((C$2=Ввод!$C$1:$C$30)*($A167>=Ввод!$E$1:$E$30)*($A167<=Ввод!$F$1:$F$30),Ввод!$D$1:$D$30,\"\"),\" / \")","v":""},{"$f":"MyJoin(IF((D$2=Ввод!$C$1:$C$30)*($A167>=Ввод!$E$1:$E$30)*($A167<=Ввод!$F$1:$F$30),Ввод!$D$1:$D$30,\"\"),\" / \")","v":""},{"$f":"MyJoin(IF((E$2=Ввод!$C$1:$C$30)*($A167>=Ввод!$E$1:$E$30)*($A167<=Ввод!$F$1:$F$30),Ввод!$D$1:$D$30,\"\"),\" / \")","v":""},{"$f":"MyJoin(IF((F$2=Ввод!$C$1:$C$30)*($A167>=Ввод!$E$1:$E$30)*($A167<=Ввод!$F$1:$F$30),Ввод!$D$1:$D$30,\"\"),\" / \")","v":""},"2022-06-09"]
["2022-06-10",{"$f":"MyJoin(IF((B$2=Ввод!$C$1:$C$30)*($A168>=Ввод!$E$1:$E$30)*($A168<=Ввод!$F$1:$F$30),Ввод!$D$1:$D$30,\"\"),\" / \")","v":""},{"$f":"MyJoin(IF((C$2=Ввод!$C$1:$C$30)*($A168>=Ввод!$E$1:$E$30)*($A168<=Ввод!$F$1:$F$30),Ввод!$D$1:$D$30,\"\"),\" / \")","v":""},{"$f":"MyJoin(IF((D$2=Ввод!$C$1:$C$30)*($A168>=Ввод!$E$1:$E$30)*($A168<=Ввод!$F$1:$F$30),Ввод!$D$1:$D$30,\"\"),\" / \")","v":""},{"$f":"MyJoin(IF((E$2=Ввод!$C$1:$C$30)*($A168>=Ввод!$E$1:$E$30)*($A168<=Ввод!$F$1:$F$30),Ввод!$D$1:$D$30,\"\"),\" / \")","v":""},{"$f":"MyJoin(IF((F$2=Ввод!$C$1:$C$30)*($A168>=Ввод!$E$1:$E$30)*($A168<=Ввод!$F$1:$F$30),Ввод!$D$1:$D$30,\"\"),\" / \")","v":""},"2022-06-10"]
["2022-06-11",{"$f":"MyJoin(IF((B$2=Ввод!$C$1:$C$30)*($A169>=Ввод!$E$1:$E$30)*($A169<=Ввод!$F$1:$F$30),Ввод!$D$1:$D$30,\"\"),\" / \")","v":""},{"$f":"MyJoin(IF((C$2=Ввод!$C$1:$C$30)*($A169>=Ввод!$E$1:$E$30)*($A169<=Ввод!$F$1:$F$30),Ввод!$D$1:$D$30,\"\"),\" / \")","v":""},{"$f":"MyJoin(IF((D$2=Ввод!$C$1:$C$30)*($A169>=Ввод!$E$1:$E$30)*($A169<=Ввод!$F$1:$F$30),Ввод!$D$1:$D$30,\"\"),\" / \")","v":""},{"$f":"MyJoin(IF((E$2=Ввод!$C$1:$C$30)*($A169>=Ввод!$E$1:$E$30)*($A169<=Ввод!$F$1:$F$30),Ввод!$D$1:$D$30,\"\"),\" / \")","v":""},{"$f":"MyJoin(IF((F$2=Ввод!$C$1:$C$30)*($A169>=Ввод!$E$1:$E$30)*($A169<=Ввод!$F$1:$F$30),Ввод!$D$1:$D$30,\"\"),\" / \")","v":""},"2022-06-11"]
["2022-06-12",{"$f":"MyJoin(IF((B$2=Ввод!$C$1:$C$30)*($A170>=Ввод!$E$1:$E$30)*($A170<=Ввод!$F$1:$F$30),Ввод!$D$1:$D$30,\"\"),\" / \")","v":""},{"$f":"MyJoin(IF((C$2=Ввод!$C$1:$C$30)*($A170>=Ввод!$E$1:$E$30)*($A170<=Ввод!$F$1:$F$30),Ввод!$D$1:$D$30,\"\"),\" / \")","v":""},{"$f":"MyJoin(IF((D$2=Ввод!$C$1:$C$30)*($A170>=Ввод!$E$1:$E$30)*($A170<=Ввод!$F$1:$F$30),Ввод!$D$1:$D$30,\"\"),\" / \")","v":""},{"$f":"MyJoin(IF((E$2=Ввод!$C$1:$C$30)*($A170>=Ввод!$E$1:$E$30)*($A170<=Ввод!$F$1:$F$30),Ввод!$D$1:$D$30,\"\"),\" / \")","v":""},{"$f":"MyJoin(IF((F$2=Ввод!$C$1:$C$30)*($A170>=Ввод!$E$1:$E$30)*($A170<=Ввод!$F$1:$F$30),Ввод!$D$1:$D$30,\"\"),\" / \")","v":""},"2022-06-12"]
["2022-06-13",{"$f":"MyJoin(IF((B$2=Ввод!$C$1:$C$30)*($A171>=Ввод!$E$1:$E$30)*($A171<=Ввод!$F$1:$F$30),Ввод!$D$1:$D$30,\"\"),\" / \")","v":""},{"$f":"MyJoin(IF((C$2=Ввод!$C$1:$C$30)*($A171>=Ввод!$E$1:$E$30)*($A171<=Ввод!$F$1:$F$30),Ввод!$D$1:$D$30,\"\"),\" / \")","v":""},{"$f":"MyJoin(IF((D$2=Ввод!$C$1:$C$30)*($A171>=Ввод!$E$1:$E$30)*($A171<=Ввод!$F$1:$F$30),Ввод!$D$1:$D$30,\"\"),\" / \")","v":""},{"$f":"MyJoin(IF((E$2=Ввод!$C$1:$C$30)*($A171>=Ввод!$E$1:$E$30)*($A171<=Ввод!$F$1:$F$30),Ввод!$D$1:$D$30,\"\"),\" / \")","v":""},{"$f":"MyJoin(IF((F$2=Ввод!$C$1:$C$30)*($A171>=Ввод!$E$1:$E$30)*($A171<=Ввод!$F$1:$F$30),Ввод!$D$1:$D$30,\"\"),\" / \")","v":""},"2022-06-13"]
["2022-06-14",{"$f":"MyJoin(IF((B$2=Ввод!$C$1:$C$30)*($A172>=Ввод!$E$1:$E$30)*($A172<=Ввод!$F$1:$F$30),Ввод!$D$1:$D$30,\"\"),\" / \")","v":""},{"$f":"MyJoin(IF((C$2=Ввод!$C$1:$C$30)*($A172>=Ввод!$E$1:$E$30)*($A172<=Ввод!$F$1:$F$30),Ввод!$D$1:$D$30,\"\"),\" / \")","v":""},{"$f":"MyJoin(IF((D$2=Ввод!$C$1:$C$30)*($A172>=Ввод!$E$1:$E$30)*($A172<=Ввод!$F$1:$F$30),Ввод!$D$1:$D$30,\"\"),\" / \")","v":""},{"$f":"MyJoin(IF((E$2=Ввод!$C$1:$C$30)*($A172>=Ввод!$E$1:$E$30)*($A172<=Ввод!$F$1:$F$30),Ввод!$D$1:$D$30,\"\"),\" / \")","v":""},{"$f":"MyJoin(IF((F$2=Ввод!$C$1:$C$30)*($A172>=Ввод!$E$1:$E$30)*($A172<=Ввод!$F$1:$F$30),Ввод!$D$1:$D$30,\"\"),\" / \")","v":""},"2022-06-14"]
["2022-06-15",{"$f":"MyJoin(IF((B$2=Ввод!$C$1:$C$30)*($A173>=Ввод!$E$1:$E$30)*($A173<=Ввод!$F$1:$F$30),Ввод!$D$1:$D$30,\"\"),\" / \")","v":""},{"$f":"MyJoin(IF((C$2=Ввод!$C$1:$C$30)*($A173>=Ввод!$E$1:$E$30)*($A173<=Ввод!$F$1:$F$30),Ввод!$D$1:$D$30,\"\"),\" / \")","v":""},{"$f":"MyJoin(IF((D$2=Ввод!$C$1:$C$30)*($A173>=Ввод!$E$1:$E$30)*($A173<=Ввод!$F$1:$F$30),Ввод!$D$1:$D$30,\"\"),\" / \")","v":""},{"$f":"MyJoin(IF((E$2=Ввод!$C$1:$C$30)*($A173>=Ввод!$E$1:$E$30)*($A173<=Ввод!$F$1:$F$30),Ввод!$D$1:$D$30,\"\"),\" / \")","v":""},{"$f":"MyJoin(IF((F$2=Ввод!$C$1:$C$30)*($A173>=Ввод!$E$1:$E$30)*($A173<=Ввод!$F$1:$F$30),Ввод!$D$1:$D$30,\"\"),\" / \")","v":""},"2022-06-15"]
["2022-06-16",{"$f":"MyJoin(IF((B$2=Ввод!$C$1:$C$30)*($A174>=Ввод!$E$1:$E$30)*($A174<=Ввод!$F$1:$F$30),Ввод!$D$1:$D$30,\"\"),\" / \")","v":""},{"$f":"MyJoin(IF((C$2=Ввод!$C$1:$C$30)*($A174>=Ввод!$E$1:$E$30)*($A174<=Ввод!$F$1:$F$30),Ввод!$D$1:$D$30,\"\"),\" / \")","v":""},{"$f":"MyJoin(IF((D$2=Ввод!$C$1:$C$30)*($A174>=Ввод!$E$1:$E$30)*($A174<=Ввод!$F$1:$F$30),Ввод!$D$1:$D$30,\"\"),\" / \")","v":""},{"$f":"MyJoin(IF((E$2=Ввод!$C$1:$C$30)*($A174>=Ввод!$E$1:$E$30)*($A174<=Ввод!$F$1:$F$30),Ввод!$D$1:$D$30,\"\"),\" / \")","v":""},{"$f":"MyJoin(IF((F$2=Ввод!$C$1:$C$30)*($A174>=Ввод!$E$1:$E$30)*($A174<=Ввод!$F$1:$F$30),Ввод!$D$1:$D$30,\"\"),\" / \")","v":""},"2022-06-16"]
["2022-06-17",{"$f":"MyJoin(IF((B$2=Ввод!$C$1:$C$30)*($A175>=Ввод!$E$1:$E$30)*($A175<=Ввод!$F$1:$F$30),Ввод!$D$1:$D$30,\"\"),\" / \")","v":""},{"$f":"MyJoin(IF((C$2=Ввод!$C$1:$C$30)*($A175>=Ввод!$E$1:$E$30)*($A175<=Ввод!$F$1:$F$30),Ввод!$D$1:$D$30,\"\"),\" / \")","v":""},{"$f":"MyJoin(IF((D$2=Ввод!$C$1:$C$30)*($A175>=Ввод!$E$1:$E$30)*($A175<=Ввод!$F$1:$F$30),Ввод!$D$1:$D$30,\"\"),\" / \")","v":""},{"$f":"MyJoin(IF((E$2=Ввод!$C$1:$C$30)*($A175>=Ввод!$E$1:$E$30)*($A175<=Ввод!$F$1:$F$30),Ввод!$D$1:$D$30,\"\"),\" / \")","v":""},{"$f":"MyJoin(IF((F$2=Ввод!$C$1:$C$30)*($A175>=Ввод!$E$1:$E$30)*($A175<=Ввод!$F$1:$F$30),Ввод!$D$1:$D$30,\"\"),\" / \")","v":""},"2022-06-17"]
["2022-06-18",{"$f":"MyJoin(IF((B$2=Ввод!$C$1:$C$30)*($A176>=Ввод!$E$1:$E$30)*($A176<=Ввод!$F$1:$F$30),Ввод!$D$1:$D$30,\"\"),\" / \")","v":""},{"$f":"MyJoin(IF((C$2=Ввод!$C$1:$C$30)*($A176>=Ввод!$E$1:$E$30)*($A176<=Ввод!$F$1:$F$30),Ввод!$D$1:$D$30,\"\"),\" / \")","v":""},{"$f":"MyJoin(IF((D$2=Ввод!$C$1:$C$30)*($A176>=Ввод!$E$1:$E$30)*($A176<=Ввод!$F$1:$F$30),Ввод!$D$1:$D$30,\"\"),\" / \")","v":""},{"$f":"MyJoin(IF((E$2=Ввод!$C$1:$C$30)*($A176>=Ввод!$E$1:$E$30)*($A176<=Ввод!$F$1:$F$30),Ввод!$D$1:$D$30,\"\"),\" / \")","v":""},{"$f":"MyJoin(IF((F$2=Ввод!$C$1:$C$30)*($A176>=Ввод!$E$1:$E$30)*($A176<=Ввод!$F$1:$F$30),Ввод!$D$1:$D$30,\"\"),\" / \")","v":""},"2022-06-18"]
["2022-06-19",{"$f":"MyJoin(IF((B$2=Ввод!$C$1:$C$30)*($A177>=Ввод!$E$1:$E$30)*($A177<=Ввод!$F$1:$F$30),Ввод!$D$1:$D$30,\"\"),\" / \")","v":""},{"$f":"MyJoin(IF((C$2=Ввод!$C$1:$C$30)*($A177>=Ввод!$E$1:$E$30)*($A177<=Ввод!$F$1:$F$30),Ввод!$D$1:$D$30,\"\"),\" / \")","v":""},{"$f":"MyJoin(IF((D$2=Ввод!$C$1:$C$30)*($A177>=Ввод!$E$1:$E$30)*($A177<=Ввод!$F$1:$F$30),Ввод!$D$1:$D$30,\"\"),\" / \")","v":""},{"$f":"MyJoin(IF((E$2=Ввод!$C$1:$C$30)*($A177>=Ввод!$E$1:$E$30)*($A177<=Ввод!$F$1:$F$30),Ввод!$D$1:$D$30,\"\"),\" / \")","v":""},{"$f":"MyJoin(IF((F$2=Ввод!$C$1:$C$30)*($A177>=Ввод!$E$1:$E$30)*($A177<=Ввод!$F$1:$F$30),Ввод!$D$1:$D$30,\"\"),\" / \")","v":""},"2022-06-19"]
["2022-06-20",{"$f":"MyJoin(IF((B$2=Ввод!$C$1:$C$30)*($A178>=Ввод!$E$1:$E$30)*($A178<=Ввод!$F$1:$F$30),Ввод!$D$1:$D$30,\"\"),\" / \")","v":""},{"$f":"MyJoin(IF((C$2=Ввод!$C$1:$C$30)*($A178>=Ввод!$E$1:$E$30)*($A178<=Ввод!$F$1:$F$30),Ввод!$D$1:$D$30,\"\"),\" / \")","v":""},{"$f":"MyJoin(IF((D$2=Ввод!$C$1:$C$30)*($A178>=Ввод!$E$1:$E$30)*($A178<=Ввод!$F$1:$F$30),Ввод!$D$1:$D$30,\"\"),\" / \")","v":""},{"$f":"MyJoin(IF((E$2=Ввод!$C$1:$C$30)*($A178>=Ввод!$E$1:$E$30)*($A178<=Ввод!$F$1:$F$30),Ввод!$D$1:$D$30,\"\"),\" / \")","v":""},{"$f":"MyJoin(IF((F$2=Ввод!$C$1:$C$30)*($A178>=Ввод!$E$1:$E$30)*($A178<=Ввод!$F$1:$F$30),Ввод!$D$1:$D$30,\"\"),\" / \")","v":""},"2022-06-20"]
["2022-06-21",{"$f":"MyJoin(IF((B$2=Ввод!$C$1:$C$30)*($A179>=Ввод!$E$1:$E$30)*($A179<=Ввод!$F$1:$F$30),Ввод!$D$1:$D$30,\"\"),\" / \")","v":""},{"$f":"MyJoin(IF((C$2=Ввод!$C$1:$C$30)*($A179>=Ввод!$E$1:$E$30)*($A179<=Ввод!$F$1:$F$30),Ввод!$D$1:$D$30,\"\"),\" / \")","v":""},{"$f":"MyJoin(IF((D$2=Ввод!$C$1:$C$30)*($A179>=Ввод!$E$1:$E$30)*($A179<=Ввод!$F$1:$F$30),Ввод!$D$1:$D$30,\"\"),\" / \")","v":""},{"$f":"MyJoin(IF((E$2=Ввод!$C$1:$C$30)*($A179>=Ввод!$E$1:$E$30)*($A179<=Ввод!$F$1:$F$30),Ввод!$D$1:$D$30,\"\"),\" / \")","v":""},{"$f":"MyJoin(IF((F$2=Ввод!$C$1:$C$30)*($A179>=Ввод!$E$1:$E$30)*($A179<=Ввод!$F$1:$F$30),Ввод!$D$1:$D$30,\"\"),\" / \")","v":""},"2022-06-21"]
["2022-06-22",{"$f":"MyJoin(IF((B$2=Ввод!$C$1:$C$30)*($A180>=Ввод!$E$1:$E$30)*($A180<=Ввод!$F$1:$F$30),Ввод!$D$1:$D$30,\"\"),\" / \")","v":""},{"$f":"MyJoin(IF((C$2=Ввод!$C$1:$C$30)*($A180>=Ввод!$E$1:$E$30)*($A180<=Ввод!$F$1:$F$30),Ввод!$D$1:$D$30,\"\"),\" / \")","v":""},{"$f":"MyJoin(IF((D$2=Ввод!$C$1:$C$30)*($A180>=Ввод!$E$1:$E$30)*($A180<=Ввод!$F$1:$F$30),Ввод!$D$1:$D$30,\"\"),\" / \")","v":""},{"$f":"MyJoin(IF((E$2=Ввод!$C$1:$C$30)*($A180>=Ввод!$E$1:$E$30)*($A180<=Ввод!$F$1:$F$30),Ввод!$D$1:$D$30,\"\"),\" / \")","v":""},{"$f":"MyJoin(IF((F$2=Ввод!$C$1:$C$30)*($A180>=Ввод!$E$1:$E$30)*($A180<=Ввод!$F$1:$F$30),Ввод!$D$1:$D$30,\"\"),\" / \")","v":""},"2022-06-22"]
["2022-06-23",{"$f":"MyJoin(IF((B$2=Ввод!$C$1:$C$30)*($A181>=Ввод!$E$1:$E$30)*($A181<=Ввод!$F$1:$F$30),Ввод!$D$1:$D$30,\"\"),\" / \")","v":""},{"$f":"MyJoin(IF((C$2=Ввод!$C$1:$C$30)*($A181>=Ввод!$E$1:$E$30)*($A181<=Ввод!$F$1:$F$30),Ввод!$D$1:$D$30,\"\"),\" / \")","v":""},{"$f":"MyJoin(IF((D$2=Ввод!$C$1:$C$30)*($A181>=Ввод!$E$1:$E$30)*($A181<=Ввод!$F$1:$F$30),Ввод!$D$1:$D$30,\"\"),\" / \")","v":""},{"$f":"MyJoin(IF((E$2=Ввод!$C$1:$C$30)*($A181>=Ввод!$E$1:$E$30)*($A181<=Ввод!$F$1:$F$30),Ввод!$D$1:$D$30,\"\"),\" / \")","v":""},{"$f":"MyJoin(IF((F$2=Ввод!$C$1:$C$30)*($A181>=Ввод!$E$1:$E$30)*($A181<=Ввод!$F$1:$F$30),Ввод!$D$1:$D$30,\"\"),\" / \")","v":""},"2022-06-23"]
["2022-06-24",{"$f":"MyJoin(IF((B$2=Ввод!$C$1:$C$30)*($A182>=Ввод!$E$1:$E$30)*($A182<=Ввод!$F$1:$F$30),Ввод!$D$1:$D$30,\"\"),\" / \")","v":""},{"$f":"MyJoin(IF((C$2=Ввод!$C$1:$C$30)*($A182>=Ввод!$E$1:$E$30)*($A182<=Ввод!$F$1:$F$30),Ввод!$D$1:$D$30,\"\"),\" / \")","v":""},{"$f":"MyJoin(IF((D$2=Ввод!$C$1:$C$30)*($A182>=Ввод!$E$1:$E$30)*($A182<=Ввод!$F$1:$F$30),Ввод!$D$1:$D$30,\"\"),\" / \")","v":""},{"$f":"MyJoin(IF((E$2=Ввод!$C$1:$C$30)*($A182>=Ввод!$E$1:$E$30)*($A182<=Ввод!$F$1:$F$30),Ввод!$D$1:$D$30,\"\"),\" / \")","v":""},{"$f":"MyJoin(IF((F$2=Ввод!$C$1:$C$30)*($A182>=Ввод!$E$1:$E$30)*($A182<=Ввод!$F$1:$F$30),Ввод!$D$1:$D$30,\"\"),\" / \")","v":""},"2022-06-24"]
["2022-06-25",{"$f":"MyJoin(IF((B$2=Ввод!$C$1:$C$30)*($A183>=Ввод!$E$1:$E$30)*($A183<=Ввод!$F$1:$F$30),Ввод!$D$1:$D$30,\"\"),\" / \")","v":""},{"$f":"MyJoin(IF((C$2=Ввод!$C$1:$C$30)*($A183>=Ввод!$E$1:$E$30)*($A183<=Ввод!$F$1:$F$30),Ввод!$D$1:$D$30,\"\"),\" / \")","v":""},{"$f":"MyJoin(IF((D$2=Ввод!$C$1:$C$30)*($A183>=Ввод!$E$1:$E$30)*($A183<=Ввод!$F$1:$F$30),Ввод!$D$1:$D$30,\"\"),\" / \")","v":""},{"$f":"MyJoin(IF((E$2=Ввод!$C$1:$C$30)*($A183>=Ввод!$E$1:$E$30)*($A183<=Ввод!$F$1:$F$30),Ввод!$D$1:$D$30,\"\"),\" / \")","v":""},{"$f":"MyJoin(IF((F$2=Ввод!$C$1:$C$30)*($A183>=Ввод!$E$1:$E$30)*($A183<=Ввод!$F$1:$F$30),Ввод!$D$1:$D$30,\"\"),\" / \")","v":""},"2022-06-25"]
["2022-06-26",{"$f":"MyJoin(IF((B$2=Ввод!$C$1:$C$30)*($A184>=Ввод!$E$1:$E$30)*($A184<=Ввод!$F$1:$F$30),Ввод!$D$1:$D$30,\"\"),\" / \")","v":""},{"$f":"MyJoin(IF((C$2=Ввод!$C$1:$C$30)*($A184>=Ввод!$E$1:$E$30)*($A184<=Ввод!$F$1:$F$30),Ввод!$D$1:$D$30,\"\"),\" / \")","v":""},{"$f":"MyJoin(IF((D$2=Ввод!$C$1:$C$30)*($A184>=Ввод!$E$1:$E$30)*($A184<=Ввод!$F$1:$F$30),Ввод!$D$1:$D$30,\"\"),\" / \")","v":""},{"$f":"MyJoin(IF((E$2=Ввод!$C$1:$C$30)*($A184>=Ввод!$E$1:$E$30)*($A184<=Ввод!$F$1:$F$30),Ввод!$D$1:$D$30,\"\"),\" / \")","v":""},{"$f":"MyJoin(IF((F$2=Ввод!$C$1:$C$30)*($A184>=Ввод!$E$1:$E$30)*($A184<=Ввод!$F$1:$F$30),Ввод!$D$1:$D$30,\"\"),\" / \")","v":""},"2022-06-26"]
["2022-06-27",{"$f":"MyJoin(IF((B$2=Ввод!$C$1:$C$30)*($A185>=Ввод!$E$1:$E$30)*($A185<=Ввод!$F$1:$F$30),Ввод!$D$1:$D$30,\"\"),\" / \")","v":""},{"$f":"MyJoin(IF((C$2=Ввод!$C$1:$C$30)*($A185>=Ввод!$E$1:$E$30)*($A185<=Ввод!$F$1:$F$30),Ввод!$D$1:$D$30,\"\"),\" / \")","v":""},{"$f":"MyJoin(IF((D$2=Ввод!$C$1:$C$30)*($A185>=Ввод!$E$1:$E$30)*($A185<=Ввод!$F$1:$F$30),Ввод!$D$1:$D$30,\"\"),\" / \")","v":""},{"$f":"MyJoin(IF((E$2=Ввод!$C$1:$C$30)*($A185>=Ввод!$E$1:$E$30)*($A185<=Ввод!$F$1:$F$30),Ввод!$D$1:$D$30,\"\"),\" / \")","v":""},{"$f":"MyJoin(IF((F$2=Ввод!$C$1:$C$30)*($A185>=Ввод!$E$1:$E$30)*($A185<=Ввод!$F$1:$F$30),Ввод!$D$1:$D$30,\"\"),\" / \")","v":""},"2022-06-27"]
["2022-06-28",{"$f":"MyJoin(IF((B$2=Ввод!$C$1:$C$30)*($A186>=Ввод!$E$1:$E$30)*($A186<=Ввод!$F$1:$F$30),Ввод!$D$1:$D$30,\"\"),\" / \")","v":""},{"$f":"MyJoin(IF((C$2=Ввод!$C$1:$C$30)*($A186>=Ввод!$E$1:$E$30)*($A186<=Ввод!$F$1:$F$30),Ввод!$D$1:$D$30,\"\"),\" / \")","v":""},{"$f":"MyJoin(IF((D$2=Ввод!$C$1:$C$30)*($A186>=Ввод!$E$1:$E$30)*($A186<=Ввод!$F$1:$F$30),Ввод!$D$1:$D$30,\"\"),\" / \")","v":""},{"$f":"MyJoin(IF((E$2=Ввод!$C$1:$C$30)*($A186>=Ввод!$E$1:$E$30)*($A186<=Ввод!$F$1:$F$30),Ввод!$D$1:$D$30,\"\"),\" / \")","v":""},{"$f":"MyJoin(IF((F$2=Ввод!$C$1:$C$30)*($A186>=Ввод!$E$1:$E$30)*($A186<=Ввод!$F$1:$F$30),Ввод!$D$1:$D$30,\"\"),\" / \")","v":""},"2022-06-28"]
["2022-06-29",{"$f":"MyJoin(IF((B$2=Ввод!$C$1:$C$30)*($A187>=Ввод!$E$1:$E$30)*($A187<=Ввод!$F$1:$F$30),Ввод!$D$1:$D$30,\"\"),\" / \")","v":""},{"$f":"MyJoin(IF((C$2=Ввод!$C$1:$C$30)*($A187>=Ввод!$E$1:$E$30)*($A187<=Ввод!$F$1:$F$30),Ввод!$D$1:$D$30,\"\"),\" / \")","v":""},{"$f":"MyJoin(IF((D$2=Ввод!$C$1:$C$30)*($A187>=Ввод!$E$1:$E$30)*($A187<=Ввод!$F$1:$F$30),Ввод!$D$1:$D$30,\"\"),\" / \")","v":""},{"$f":"MyJoin(IF((E$2=Ввод!$C$1:$C$30)*($A187>=Ввод!$E$1:$E$30)*($A187<=Ввод!$F$1:$F$30),Ввод!$D$1:$D$30,\"\"),\" / \")","v":""},{"$f":"MyJoin(IF((F$2=Ввод!$C$1:$C$30)*($A187>=Ввод!$E$1:$E$30)*($A187<=Ввод!$F$1:$F$30),Ввод!$D$1:$D$30,\"\"),\" / \")","v":""},"2022-06-29"]
["2022-06-30",{"$f":"MyJoin(IF((B$2=Ввод!$C$1:$C$30)*($A188>=Ввод!$E$1:$E$30)*($A188<=Ввод!$F$1:$F$30),Ввод!$D$1:$D$30,\"\"),\" / \")","v":""},{"$f":"MyJoin(IF((C$2=Ввод!$C$1:$C$30)*($A188>=Ввод!$E$1:$E$30)*($A188<=Ввод!$F$1:$F$30),Ввод!$D$1:$D$30,\"\"),\" / \")","v":""},{"$f":"MyJoin(IF((D$2=Ввод!$C$1:$C$30)*($A188>=Ввод!$E$1:$E$30)*($A188<=Ввод!$F$1:$F$30),Ввод!$D$1:$D$30,\"\"),\" / \")","v":""},{"$f":"MyJoin(IF((E$2=Ввод!$C$1:$C$30)*($A188>=Ввод!$E$1:$E$30)*($A188<=Ввод!$F$1:$F$30),Ввод!$D$1:$D$30,\"\"),\" / \")","v":""},{"$f":"MyJoin(IF((F$2=Ввод!$C$1:$C$30)*($A188>=Ввод!$E$1:$E$30)*($A188<=Ввод!$F$1:$F$30),Ввод!$D$1:$D$30,\"\"),\" / \")","v":""},"2022-06-30"]
["2022-07-01",{"$f":"MyJoin(IF((B$2=Ввод!$C$1:$C$30)*($A189>=Ввод!$E$1:$E$30)*($A189<=Ввод!$F$1:$F$30),Ввод!$D$1:$D$30,\"\"),\" / \")","v":""},{"$f":"MyJoin(IF((C$2=Ввод!$C$1:$C$30)*($A189>=Ввод!$E$1:$E$30)*($A189<=Ввод!$F$1:$F$30),Ввод!$D$1:$D$30,\"\"),\" / \")","v":""},{"$f":"MyJoin(IF((D$2=Ввод!$C$1:$C$30)*($A189>=Ввод!$E$1:$E$30)*($A189<=Ввод!$F$1:$F$30),Ввод!$D$1:$D$30,\"\"),\" / \")","v":""},{"$f":"MyJoin(IF((E$2=Ввод!$C$1:$C$30)*($A189>=Ввод!$E$1:$E$30)*($A189<=Ввод!$F$1:$F$30),Ввод!$D$1:$D$30,\"\"),\" / \")","v":""},{"$f":"MyJoin(IF((F$2=Ввод!$C$1:$C$30)*($A189>=Ввод!$E$1:$E$30)*($A189<=Ввод!$F$1:$F$30),Ввод!$D$1:$D$30,\"\"),\" / \")","v":""},"2022-07-01"]
["2022-07-02",{"$f":"MyJoin(IF((B$2=Ввод!$C$1:$C$30)*($A190>=Ввод!$E$1:$E$30)*($A190<=Ввод!$F$1:$F$30),Ввод!$D$1:$D$30,\"\"),\" / \")","v":""},{"$f":"MyJoin(IF((C$2=Ввод!$C$1:$C$30)*($A190>=Ввод!$E$1:$E$30)*($A190<=Ввод!$F$1:$F$30),Ввод!$D$1:$D$30,\"\"),\" / \")","v":""},{"$f":"MyJoin(IF((D$2=Ввод!$C$1:$C$30)*($A190>=Ввод!$E$1:$E$30)*($A190<=Ввод!$F$1:$F$30),Ввод!$D$1:$D$30,\"\"),\" / \")","v":""},{"$f":"MyJoin(IF((E$2=Ввод!$C$1:$C$30)*($A190>=Ввод!$E$1:$E$30)*($A190<=Ввод!$F$1:$F$30),Ввод!$D$1:$D$30,\"\"),\" / \")","v":""},{"$f":"MyJoin(IF((F$2=Ввод!$C$1:$C$30)*($A190>=Ввод!$E$1:$E$30)*($A190<=Ввод!$F$1:$F$30),Ввод!$D$1:$D$30,\"\"),\" / \")","v":""},"2022-07-02"]
["2022-07-03",{"$f":"MyJoin(IF((B$2=Ввод!$C$1:$C$30)*($A191>=Ввод!$E$1:$E$30)*($A191<=Ввод!$F$1:$F$30),Ввод!$D$1:$D$30,\"\"),\" / \")","v":""},{"$f":"MyJoin(IF((C$2=Ввод!$C$1:$C$30)*($A191>=Ввод!$E$1:$E$30)*($A191<=Ввод!$F$1:$F$30),Ввод!$D$1:$D$30,\"\"),\" / \")","v":""},{"$f":"MyJoin(IF((D$2=Ввод!$C$1:$C$30)*($A191>=Ввод!$E$1:$E$30)*($A191<=Ввод!$F$1:$F$30),Ввод!$D$1:$D$30,\"\"),\" / \")","v":""},{"$f":"MyJoin(IF((E$2=Ввод!$C$1:$C$30)*($A191>=Ввод!$E$1:$E$30)*($A191<=Ввод!$F$1:$F$30),Ввод!$D$1:$D$30,\"\"),\" / \")","v":""},{"$f":"MyJoin(IF((F$2=Ввод!$C$1:$C$30)*($A191>=Ввод!$E$1:$E$30)*($A191<=Ввод!$F$1:$F$30),Ввод!$D$1:$D$30,\"\"),\" / \")","v":""},"2022-07-03"]
["2022-07-04",{"$f":"MyJoin(IF((B$2=Ввод!$C$1:$C$30)*($A192>=Ввод!$E$1:$E$30)*($A192<=Ввод!$F$1:$F$30),Ввод!$D$1:$D$30,\"\"),\" / \")","v":""},{"$f":"MyJoin(IF((C$2=Ввод!$C$1:$C$30)*($A192>=Ввод!$E$1:$E$30)*($A192<=Ввод!$F$1:$F$30),Ввод!$D$1:$D$30,\"\"),\" / \")","v":""},{"$f":"MyJoin(IF((D$2=Ввод!$C$1:$C$30)*($A192>=Ввод!$E$1:$E$30)*($A192<=Ввод!$F$1:$F$30),Ввод!$D$1:$D$30,\"\"),\" / \")","v":""},{"$f":"MyJoin(IF((E$2=Ввод!$C$1:$C$30)*($A192>=Ввод!$E$1:$E$30)*($A192<=Ввод!$F$1:$F$30),Ввод!$D$1:$D$30,\"\"),\" / \")","v":""},{"$f":"MyJoin(IF((F$2=Ввод!$C$1:$C$30)*($A192>=Ввод!$E$1:$E$30)*($A192<=Ввод!$F$1:$F$30),Ввод!$D$1:$D$30,\"\"),\" / \")","v":""},"2022-07-04"]
["2022-07-05",{"$f":"MyJoin(IF((B$2=Ввод!$C$1:$C$30)*($A193>=Ввод!$E$1:$E$30)*($A193<=Ввод!$F$1:$F$30),Ввод!$D$1:$D$30,\"\"),\" / \")","v":""},{"$f":"MyJoin(IF((C$2=Ввод!$C$1:$C$30)*($A193>=Ввод!$E$1:$E$30)*($A193<=Ввод!$F$1:$F$30),Ввод!$D$1:$D$30,\"\"),\" / \")","v":""},{"$f":"MyJoin(IF((D$2=Ввод!$C$1:$C$30)*($A193>=Ввод!$E$1:$E$30)*($A193<=Ввод!$F$1:$F$30),Ввод!$D$1:$D$30,\"\"),\" / \")","v":""},{"$f":"MyJoin(IF((E$2=Ввод!$C$1:$C$30)*($A193>=Ввод!$E$1:$E$30)*($A193<=Ввод!$F$1:$F$30),Ввод!$D$1:$D$30,\"\"),\" / \")","v":""},{"$f":"MyJoin(IF((F$2=Ввод!$C$1:$C$30)*($A193>=Ввод!$E$1:$E$30)*($A193<=Ввод!$F$1:$F$30),Ввод!$D$1:$D$30,\"\"),\" / \")","v":""},"2022-07-05"]
["2022-07-06",{"$f":"MyJoin(IF((B$2=Ввод!$C$1:$C$30)*($A194>=Ввод!$E$1:$E$30)*($A194<=Ввод!$F$1:$F$30),Ввод!$D$1:$D$30,\"\"),\" / \")","v":""},{"$f":"MyJoin(IF((C$2=Ввод!$C$1:$C$30)*($A194>=Ввод!$E$1:$E$30)*($A194<=Ввод!$F$1:$F$30),Ввод!$D$1:$D$30,\"\"),\" / \")","v":""},{"$f":"MyJoin(IF((D$2=Ввод!$C$1:$C$30)*($A194>=Ввод!$E$1:$E$30)*($A194<=Ввод!$F$1:$F$30),Ввод!$D$1:$D$30,\"\"),\" / \")","v":""},{"$f":"MyJoin(IF((E$2=Ввод!$C$1:$C$30)*($A194>=Ввод!$E$1:$E$30)*($A194<=Ввод!$F$1:$F$30),Ввод!$D$1:$D$30,\"\"),\" / \")","v":""},{"$f":"MyJoin(IF((F$2=Ввод!$C$1:$C$30)*($A194>=Ввод!$E$1:$E$30)*($A194<=Ввод!$F$1:$F$30),Ввод!$D$1:$D$30,\"\"),\" / \")","v":""},"2022-07-06"]
["2022-07-07",{"$f":"MyJoin(IF((B$2=Ввод!$C$1:$C$30)*($A195>=Ввод!$E$1:$E$30)*($A195<=Ввод!$F$1:$F$30),Ввод!$D$1:$D$30,\"\"),\" / \")","v":""},{"$f":"MyJoin(IF((C$2=Ввод!$C$1:$C$30)*($A195>=Ввод!$E$1:$E$30)*($A195<=Ввод!$F$1:$F$30),Ввод!$D$1:$D$30,\"\"),\" / \")","v":""},{"$f":"MyJoin(IF((D$2=Ввод!$C$1:$C$30)*($A195>=Ввод!$E$1:$E$30)*($A195<=Ввод!$F$1:$F$30),Ввод!$D$1:$D$30,\"\"),\" / \")","v":""},{"$f":"MyJoin(IF((E$2=Ввод!$C$1:$C$30)*($A195>=Ввод!$E$1:$E$30)*($A195<=Ввод!$F$1:$F$30),Ввод!$D$1:$D$30,\"\"),\" / \")","v":""},{"$f":"MyJoin(IF((F$2=Ввод!$C$1:$C$30)*($A195>=Ввод!$E$1:$E$30)*($A195<=Ввод!$F$1:$F$30),Ввод!$D$1:$D$30,\"\"),\" / \")","v":""},"2022-07-07"]
["2022-07-08",{"$f":"MyJoin(IF((B$2=Ввод!$C$1:$C$30)*($A196>=Ввод!$E$1:$E$30)*($A196<=Ввод!$F$1:$F$30),Ввод!$D$1:$D$30,\"\"),\" / \")","v":""},{"$f":"MyJoin(IF((C$2=Ввод!$C$1:$C$30)*($A196>=Ввод!$E$1:$E$30)*($A196<=Ввод!$F$1:$F$30),Ввод!$D$1:$D$30,\"\"),\" / \")","v":""},{"$f":"MyJoin(IF((D$2=Ввод!$C$1:$C$30)*($A196>=Ввод!$E$1:$E$30)*($A196<=Ввод!$F$1:$F$30),Ввод!$D$1:$D$30,\"\"),\" / \")","v":""},{"$f":"MyJoin(IF((E$2=Ввод!$C$1:$C$30)*($A196>=Ввод!$E$1:$E$30)*($A196<=Ввод!$F$1:$F$30),Ввод!$D$1:$D$30,\"\"),\" / \")","v":""},{"$f":"MyJoin(IF((F$2=Ввод!$C$1:$C$30)*($A196>=Ввод!$E$1:$E$30)*($A196<=Ввод!$F$1:$F$30),Ввод!$D$1:$D$30,\"\"),\" / \")","v":""},"2022-07-08"]
["2022-07-09",{"$f":"MyJoin(IF((B$2=Ввод!$C$1:$C$30)*($A197>=Ввод!$E$1:$E$30)*($A197<=Ввод!$F$1:$F$30),Ввод!$D$1:$D$30,\"\"),\" / \")","v":""},{"$f":"MyJoin(IF((C$2=Ввод!$C$1:$C$30)*($A197>=Ввод!$E$1:$E$30)*($A197<=Ввод!$F$1:$F$30),Ввод!$D$1:$D$30,\"\"),\" / \")","v":""},{"$f":"MyJoin(IF((D$2=Ввод!$C$1:$C$30)*($A197>=Ввод!$E$1:$E$30)*($A197<=Ввод!$F$1:$F$30),Ввод!$D$1:$D$30,\"\"),\" / \")","v":""},{"$f":"MyJoin(IF((E$2=Ввод!$C$1:$C$30)*($A197>=Ввод!$E$1:$E$30)*($A197<=Ввод!$F$1:$F$30),Ввод!$D$1:$D$30,\"\"),\" / \")","v":""},{"$f":"MyJoin(IF((F$2=Ввод!$C$1:$C$30)*($A197>=Ввод!$E$1:$E$30)*($A197<=Ввод!$F$1:$F$30),Ввод!$D$1:$D$30,\"\"),\" / \")","v":""},"2022-07-09"]
["2022-07-10",{"$f":"MyJoin(IF((B$2=Ввод!$C$1:$C$30)*($A198>=Ввод!$E$1:$E$30)*($A198<=Ввод!$F$1:$F$30),Ввод!$D$1:$D$30,\"\"),\" / \")","v":""},{"$f":"MyJoin(IF((C$2=Ввод!$C$1:$C$30)*($A198>=Ввод!$E$1:$E$30)*($A198<=Ввод!$F$1:$F$30),Ввод!$D$1:$D$30,\"\"),\" / \")","v":""},{"$f":"MyJoin(IF((D$2=Ввод!$C$1:$C$30)*($A198>=Ввод!$E$1:$E$30)*($A198<=Ввод!$F$1:$F$30),Ввод!$D$1:$D$30,\"\"),\" / \")","v":""},{"$f":"MyJoin(IF((E$2=Ввод!$C$1:$C$30)*($A198>=Ввод!$E$1:$E$30)*($A198<=Ввод!$F$1:$F$30),Ввод!$D$1:$D$30,\"\"),\" / \")","v":""},{"$f":"MyJoin(IF((F$2=Ввод!$C$1:$C$30)*($A198>=Ввод!$E$1:$E$30)*($A198<=Ввод!$F$1:$F$30),Ввод!$D$1:$D$30,\"\"),\" / \")","v":""},"2022-07-10"]
["2022-07-11",{"$f":"MyJoin(IF((B$2=Ввод!$C$1:$C$30)*($A199>=Ввод!$E$1:$E$30)*($A199<=Ввод!$F$1:$F$30),Ввод!$D$1:$D$30,\"\"),\" / \")","v":""},{"$f":"MyJoin(IF((C$2=Ввод!$C$1:$C$30)*($A199>=Ввод!$E$1:$E$30)*($A199<=Ввод!$F$1:$F$30),Ввод!$D$1:$D$30,\"\"),\" / \")","v":""},{"$f":"MyJoin(IF((D$2=Ввод!$C$1:$C$30)*($A199>=Ввод!$E$1:$E$30)*($A199<=Ввод!$F$1:$F$30),Ввод!$D$1:$D$30,\"\"),\" / \")","v":""},{"$f":"MyJoin(IF((E$2=Ввод!$C$1:$C$30)*($A199>=Ввод!$E$1:$E$30)*($A199<=Ввод!$F$1:$F$30),Ввод!$D$1:$D$30,\"\"),\" / \")","v":""},{"$f":"MyJoin(IF((F$2=Ввод!$C$1:$C$30)*($A199>=Ввод!$E$1:$E$30)*($A199<=Ввод!$F$1:$F$30),Ввод!$D$1:$D$30,\"\"),\" / \")","v":""},"2022-07-11"]
["2022-07-12",{"$f":"MyJoin(IF((B$2=Ввод!$C$1:$C$30)*($A200>=Ввод!$E$1:$E$30)*($A200<=Ввод!$F$1:$F$30),Ввод!$D$1:$D$30,\"\"),\" / \")","v":""},{"$f":"MyJoin(IF((C$2=Ввод!$C$1:$C$30)*($A200>=Ввод!$E$1:$E$30)*($A200<=Ввод!$F$1:$F$30),Ввод!$D$1:$D$30,\"\"),\" / \")","v":""},{"$f":"MyJoin(IF((D$2=Ввод!$C$1:$C$30)*($A200>=Ввод!$E$1:$E$30)*($A200<=Ввод!$F$1:$F$30),Ввод!$D$1:$D$30,\"\"),\" / \")","v":""},{"$f":"MyJoin(IF((E$2=Ввод!$C$1:$C$30)*($A200>=Ввод!$E$1:$E$30)*($A200<=Ввод!$F$1:$F$30),Ввод!$D$1:$D$30,\"\"),\" / \")","v":""},{"$f":"MyJoin(IF((F$2=Ввод!$C$1:$C$30)*($A200>=Ввод!$E$1:$E$30)*($A200<=Ввод!$F$1:$F$30),Ввод!$D$1:$D$30,\"\"),\" / \")","v":""},"2022-07-12"]
["2022-07-13",{"$f":"MyJoin(IF((B$2=Ввод!$C$1:$C$30)*($A201>=Ввод!$E$1:$E$30)*($A201<=Ввод!$F$1:$F$30),Ввод!$D$1:$D$30,\"\"),\" / \")","v":""},{"$f":"MyJoin(IF((C$2=Ввод!$C$1:$C$30)*($A201>=Ввод!$E$1:$E$30)*($A201<=Ввод!$F$1:$F$30),Ввод!$D$1:$D$30,\"\"),\" / \")","v":""},{"$f":"MyJoin(IF((D$2=Ввод!$C$1:$C$30)*($A201>=Ввод!$E$1:$E$30)*($A201<=Ввод!$F$1:$F$30),Ввод!$D$1:$D$30,\"\"),\" / \")","v":""},{"$f":"MyJoin(IF((E$2=Ввод!$C$1:$C$30)*($A201>=Ввод!$E$1:$E$30)*($A201<=Ввод!$F$1:$F$30),Ввод!$D$1:$D$30,\"\"),\" / \")","v":""},{"$f":"MyJoin(IF((F$2=Ввод!$C$1:$C$30)*($A201>=Ввод!$E$1:$E$30)*($A201<=Ввод!$F$1:$F$30),Ввод!$D$1:$D$30,\"\"),\" / \")","v":""},{"$f":"IF(A201=\"\",\"\",A201)","v":"2022-07-13"}]
["2022-07-14",{"$f":"MyJoin(IF((B$2=Ввод!$C$1:$C$30)*($A202>=Ввод!$E$1:$E$30)*($A202<=Ввод!$F$1:$F$30),Ввод!$D$1:$D$30,\"\"),\" / \")","v":""},{"$f":"MyJoin(IF((C$2=Ввод!$C$1:$C$30)*($A202>=Ввод!$E$1:$E$30)*($A202<=Ввод!$F$1:$F$30),Ввод!$D$1:$D$30,\"\"),\" / \")","v":""},{"$f":"MyJoin(IF((D$2=Ввод!$C$1:$C$30)*($A202>=Ввод!$E$1:$E$30)*($A202<=Ввод!$F$1:$F$30),Ввод!$D$1:$D$30,\"\"),\" / \")","v":""},{"$f":"MyJoin(IF((E$2=Ввод!$C$1:$C$30)*($A202>=Ввод!$E$1:$E$30)*($A202<=Ввод!$F$1:$F$30),Ввод!$D$1:$D$30,\"\"),\" / \")","v":""},{"$f":"MyJoin(IF((F$2=Ввод!$C$1:$C$30)*($A202>=Ввод!$E$1:$E$30)*($A202<=Ввод!$F$1:$F$30),Ввод!$D$1:$D$30,\"\"),\" / \")","v":""},"2022-07-14"]
["2022-07-15",{"$f":"MyJoin(IF((B$2=Ввод!$C$1:$C$30)*($A203>=Ввод!$E$1:$E$30)*($A203<=Ввод!$F$1:$F$30),Ввод!$D$1:$D$30,\"\"),\" / \")","v":""},{"$f":"MyJoin(IF((C$2=Ввод!$C$1:$C$30)*($A203>=Ввод!$E$1:$E$30)*($A203<=Ввод!$F$1:$F$30),Ввод!$D$1:$D$30,\"\"),\" / \")","v":""},{"$f":"MyJoin(IF((D$2=Ввод!$C$1:$C$30)*($A203>=Ввод!$E$1:$E$30)*($A203<=Ввод!$F$1:$F$30),Ввод!$D$1:$D$30,\"\"),\" / \")","v":""},{"$f":"MyJoin(IF((E$2=Ввод!$C$1:$C$30)*($A203>=Ввод!$E$1:$E$30)*($A203<=Ввод!$F$1:$F$30),Ввод!$D$1:$D$30,\"\"),\" / \")","v":""},{"$f":"MyJoin(IF((F$2=Ввод!$C$1:$C$30)*($A203>=Ввод!$E$1:$E$30)*($A203<=Ввод!$F$1:$F$30),Ввод!$D$1:$D$30,\"\"),\" / \")","v":""},"2022-07-15"]
["2022-07-16",{"$f":"MyJoin(IF((B$2=Ввод!$C$1:$C$30)*($A204>=Ввод!$E$1:$E$30)*($A204<=Ввод!$F$1:$F$30),Ввод!$D$1:$D$30,\"\"),\" / \")","v":""},{"$f":"MyJoin(IF((C$2=Ввод!$C$1:$C$30)*($A204>=Ввод!$E$1:$E$30)*($A204<=Ввод!$F$1:$F$30),Ввод!$D$1:$D$30,\"\"),\" / \")","v":"Задание 7 / Задание 8"},{"$f":"MyJoin(IF((D$2=Ввод!$C$1:$C$30)*($A204>=Ввод!$E$1:$E$30)*($A204<=Ввод!$F$1:$F$30),Ввод!$D$1:$D$30,\"\"),\" / \")","v":""},{"$f":"MyJoin(IF((E$2=Ввод!$C$1:$C$30)*($A204>=Ввод!$E$1:$E$30)*($A204<=Ввод!$F$1:$F$30),Ввод!$D$1:$D$30,\"\"),\" / \")","v":""},{"$f":"MyJoin(IF((F$2=Ввод!$C$1:$C$30)*($A204>=Ввод!$E$1:$E$30)*($A204<=Ввод!$F$1:$F$30),Ввод!$D$1:$D$30,\"\"),\" / \")","v":""},"2022-07-16"]
["2022-07-17",{"$f":"MyJoin(IF((B$2=Ввод!$C$1:$C$30)*($A205>=Ввод!$E$1:$E$30)*($A205<=Ввод!$F$1:$F$30),Ввод!$D$1:$D$30,\"\"),\" / \")","v":""},{"$f":"MyJoin(IF((C$2=Ввод!$C$1:$C$30)*($A205>=Ввод!$E$1:$E$30)*($A205<=Ввод!$F$1:$F$30),Ввод!$D$1:$D$30,\"\"),\" / \")","v":"Задание 7 / Задание 8"},{"$f":"MyJoin(IF((D$2=Ввод!$C$1:$C$30)*($A205>=Ввод!$E$1:$E$30)*($A205<=Ввод!$F$1:$F$30),Ввод!$D$1:$D$30,\"\"),\" / \")","v":""},{"$f":"MyJoin(IF((E$2=Ввод!$C$1:$C$30)*($A205>=Ввод!$E$1:$E$30)*($A205<=Ввод!$F$1:$F$30),Ввод!$D$1:$D$30,\"\"),\" / \")","v":""},{"$f":"MyJoin(IF((F$2=Ввод!$C$1:$C$30)*($A205>=Ввод!$E$1:$E$30)*($A205<=Ввод!$F$1:$F$30),Ввод!$D$1:$D$30,\"\"),\" / \")","v":""},"2022-07-17"]
["2022-07-18",{"$f":"MyJoin(IF((B$2=Ввод!$C$1:$C$30)*($A206>=Ввод!$E$1:$E$30)*($A206<=Ввод!$F$1:$F$30),Ввод!$D$1:$D$30,\"\"),\" / \")","v":""},{"$f":"MyJoin(IF((C$2=Ввод!$C$1:$C$30)*($A206>=Ввод!$E$1:$E$30)*($A206<=Ввод!$F$1:$F$30),Ввод!$D$1:$D$30,\"\"),\" / \")","v":"Задание 7 / Задание 8"},{"$f":"MyJoin(IF((D$2=Ввод!$C$1:$C$30)*($A206>=Ввод!$E$1:$E$30)*($A206<=Ввод!$F$1:$F$30),Ввод!$D$1:$D$30,\"\"),\" / \")","v":""},{"$f":"MyJoin(IF((E$2=Ввод!$C$1:$C$30)*($A206>=Ввод!$E$1:$E$30)*($A206<=Ввод!$F$1:$F$30),Ввод!$D$1:$D$30,\"\"),\" / \")","v":""},{"$f":"MyJoin(IF((F$2=Ввод!$C$1:$C$30)*($A206>=Ввод!$E$1:$E$30)*($A206<=Ввод!$F$1:$F$30),Ввод!$D$1:$D$30,\"\"),\" / \")","v":""},"2022-07-18"]
["2022-07-19",{"$f":"MyJoin(IF((B$2=Ввод!$C$1:$C$30)*($A207>=Ввод!$E$1:$E$30)*($A207<=Ввод!$F$1:$F$30),Ввод!$D$1:$D$30,\"\"),\" / \")","v":""},{"$f":"MyJoin(IF((C$2=Ввод!$C$1:$C$30)*($A207>=Ввод!$E$1:$E$30)*($A207<=Ввод!$F$1:$F$30),Ввод!$D$1:$D$30,\"\"),\" / \")","v":"Задание 7 / Задание 8"},{"$f":"MyJoin(IF((D$2=Ввод!$C$1:$C$30)*($A207>=Ввод!$E$1:$E$30)*($A207<=Ввод!$F$1:$F$30),Ввод!$D$1:$D$30,\"\"),\" / \")","v":""},{"$f":"MyJoin(IF((E$2=Ввод!$C$1:$C$30)*($A207>=Ввод!$E$1:$E$30)*($A207<=Ввод!$F$1:$F$30),Ввод!$D$1:$D$30,\"\"),\" / \")","v":""},{"$f":"MyJoin(IF((F$2=Ввод!$C$1:$C$30)*($A207>=Ввод!$E$1:$E$30)*($A207<=Ввод!$F$1:$F$30),Ввод!$D$1:$D$30,\"\"),\" / \")","v":""},"2022-07-19"]
["2022-07-20",{"$f":"MyJoin(IF((B$2=Ввод!$C$1:$C$30)*($A208>=Ввод!$E$1:$E$30)*($A208<=Ввод!$F$1:$F$30),Ввод!$D$1:$D$30,\"\"),\" / \")","v":""},{"$f":"MyJoin(IF((C$2=Ввод!$C$1:$C$30)*($A208>=Ввод!$E$1:$E$30)*($A208<=Ввод!$F$1:$F$30),Ввод!$D$1:$D$30,\"\"),\" / \")","v":"Задание 7 / Задание 8 / Задание 9"},{"$f":"MyJoin(IF((D$2=Ввод!$C$1:$C$30)*($A208>=Ввод!$E$1:$E$30)*($A208<=Ввод!$F$1:$F$30),Ввод!$D$1:$D$30,\"\"),\" / \")","v":""},{"$f":"MyJoin(IF((E$2=Ввод!$C$1:$C$30)*($A208>=Ввод!$E$1:$E$30)*($A208<=Ввод!$F$1:$F$30),Ввод!$D$1:$D$30,\"\"),\" / \")","v":""},{"$f":"MyJoin(IF((F$2=Ввод!$C$1:$C$30)*($A208>=Ввод!$E$1:$E$30)*($A208<=Ввод!$F$1:$F$30),Ввод!$D$1:$D$30,\"\"),\" / \")","v":""},"2022-07-20"]
["2022-07-21",{"$f":"MyJoin(IF((B$2=Ввод!$C$1:$C$30)*($A209>=Ввод!$E$1:$E$30)*($A209<=Ввод!$F$1:$F$30),Ввод!$D$1:$D$30,\"\"),\" / \")","v":""},{"$f":"MyJoin(IF((C$2=Ввод!$C$1:$C$30)*($A209>=Ввод!$E$1:$E$30)*($A209<=Ввод!$F$1:$F$30),Ввод!$D$1:$D$30,\"\"),\" / \")","v":"Задание 8 / Задание 9"},{"$f":"MyJoin(IF((D$2=Ввод!$C$1:$C$30)*($A209>=Ввод!$E$1:$E$30)*($A209<=Ввод!$F$1:$F$30),Ввод!$D$1:$D$30,\"\"),\" / \")","v":""},{"$f":"MyJoin(IF((E$2=Ввод!$C$1:$C$30)*($A209>=Ввод!$E$1:$E$30)*($A209<=Ввод!$F$1:$F$30),Ввод!$D$1:$D$30,\"\"),\" / \")","v":""},{"$f":"MyJoin(IF((F$2=Ввод!$C$1:$C$30)*($A209>=Ввод!$E$1:$E$30)*($A209<=Ввод!$F$1:$F$30),Ввод!$D$1:$D$30,\"\"),\" / \")","v":""},"2022-07-21"]
["2022-07-22",{"$f":"MyJoin(IF((B$2=Ввод!$C$1:$C$30)*($A210>=Ввод!$E$1:$E$30)*($A210<=Ввод!$F$1:$F$30),Ввод!$D$1:$D$30,\"\"),\" / \")","v":""},{"$f":"MyJoin(IF((C$2=Ввод!$C$1:$C$30)*($A210>=Ввод!$E$1:$E$30)*($A210<=Ввод!$F$1:$F$30),Ввод!$D$1:$D$30,\"\"),\" / \")","v":"Задание 8 / Задание 9"},{"$f":"MyJoin(IF((D$2=Ввод!$C$1:$C$30)*($A210>=Ввод!$E$1:$E$30)*($A210<=Ввод!$F$1:$F$30),Ввод!$D$1:$D$30,\"\"),\" / \")","v":""},{"$f":"MyJoin(IF((E$2=Ввод!$C$1:$C$30)*($A210>=Ввод!$E$1:$E$30)*($A210<=Ввод!$F$1:$F$30),Ввод!$D$1:$D$30,\"\"),\" / \")","v":""},{"$f":"MyJoin(IF((F$2=Ввод!$C$1:$C$30)*($A210>=Ввод!$E$1:$E$30)*($A210<=Ввод!$F$1:$F$30),Ввод!$D$1:$D$30,\"\"),\" / \")","v":""},"2022-07-22"]
["2022-07-23",{"$f":"MyJoin(IF((B$2=Ввод!$C$1:$C$30)*($A211>=Ввод!$E$1:$E$30)*($A211<=Ввод!$F$1:$F$30),Ввод!$D$1:$D$30,\"\"),\" / \")","v":""},{"$f":"MyJoin(IF((C$2=Ввод!$C$1:$C$30)*($A211>=Ввод!$E$1:$E$30)*($A211<=Ввод!$F$1:$F$30),Ввод!$D$1:$D$30,\"\"),\" / \")","v":"Задание 8 / Задание 9"},{"$f":"MyJoin(IF((D$2=Ввод!$C$1:$C$30)*($A211>=Ввод!$E$1:$E$30)*($A211<=Ввод!$F$1:$F$30),Ввод!$D$1:$D$30,\"\"),\" / \")","v":""},{"$f":"MyJoin(IF((E$2=Ввод!$C$1:$C$30)*($A211>=Ввод!$E$1:$E$30)*($A211<=Ввод!$F$1:$F$30),Ввод!$D$1:$D$30,\"\"),\" / \")","v":""},{"$f":"MyJoin(IF((F$2=Ввод!$C$1:$C$30)*($A211>=Ввод!$E$1:$E$30)*($A211<=Ввод!$F$1:$F$30),Ввод!$D$1:$D$30,\"\"),\" / \")","v":""},"2022-07-23"]
["2022-07-24",{"$f":"MyJoin(IF((B$2=Ввод!$C$1:$C$30)*($A212>=Ввод!$E$1:$E$30)*($A212<=Ввод!$F$1:$F$30),Ввод!$D$1:$D$30,\"\"),\" / \")","v":""},{"$f":"MyJoin(IF((C$2=Ввод!$C$1:$C$30)*($A212>=Ввод!$E$1:$E$30)*($A212<=Ввод!$F$1:$F$30),Ввод!$D$1:$D$30,\"\"),\" / \")","v":"Задание 8 / Задание 9"},{"$f":"MyJoin(IF((D$2=Ввод!$C$1:$C$30)*($A212>=Ввод!$E$1:$E$30)*($A212<=Ввод!$F$1:$F$30),Ввод!$D$1:$D$30,\"\"),\" / \")","v":""},{"$f":"MyJoin(IF((E$2=Ввод!$C$1:$C$30)*($A212>=Ввод!$E$1:$E$30)*($A212<=Ввод!$F$1:$F$30),Ввод!$D$1:$D$30,\"\"),\" / \")","v":""},{"$f":"MyJoin(IF((F$2=Ввод!$C$1:$C$30)*($A212>=Ввод!$E$1:$E$30)*($A212<=Ввод!$F$1:$F$30),Ввод!$D$1:$D$30,\"\"),\" / \")","v":""},"2022-07-24"]
["2022-07-25",{"$f":"MyJoin(IF((B$2=Ввод!$C$1:$C$30)*($A213>=Ввод!$E$1:$E$30)*($A213<=Ввод!$F$1:$F$30),Ввод!$D$1:$D$30,\"\"),\" / \")","v":""},{"$f":"MyJoin(IF((C$2=Ввод!$C$1:$C$30)*($A213>=Ввод!$E$1:$E$30)*($A213<=Ввод!$F$1:$F$30),Ввод!$D$1:$D$30,\"\"),\" / \")","v":"Задание 8 / Задание 9"},{"$f":"MyJoin(IF((D$2=Ввод!$C$1:$C$30)*($A213>=Ввод!$E$1:$E$30)*($A213<=Ввод!$F$1:$F$30),Ввод!$D$1:$D$30,\"\"),\" / \")","v":""},{"$f":"MyJoin(IF((E$2=Ввод!$C$1:$C$30)*($A213>=Ввод!$E$1:$E$30)*($A213<=Ввод!$F$1:$F$30),Ввод!$D$1:$D$30,\"\"),\" / \")","v":""},{"$f":"MyJoin(IF((F$2=Ввод!$C$1:$C$30)*($A213>=Ввод!$E$1:$E$30)*($A213<=Ввод!$F$1:$F$30),Ввод!$D$1:$D$30,\"\"),\" / \")","v":""},"2022-07-25"]
["2022-07-26",{"$f":"MyJoin(IF((B$2=Ввод!$C$1:$C$30)*($A214>=Ввод!$E$1:$E$30)*($A214<=Ввод!$F$1:$F$30),Ввод!$D$1:$D$30,\"\"),\" / \")","v":""},{"$f":"MyJoin(IF((C$2=Ввод!$C$1:$C$30)*($A214>=Ввод!$E$1:$E$30)*($A214<=Ввод!$F$1:$F$30),Ввод!$D$1:$D$30,\"\"),\" / \")","v":"Задание 8 / Задание 9"},{"$f":"MyJoin(IF((D$2=Ввод!$C$1:$C$30)*($A214>=Ввод!$E$1:$E$30)*($A214<=Ввод!$F$1:$F$30),Ввод!$D$1:$D$30,\"\"),\" / \")","v":""},{"$f":"MyJoin(IF((E$2=Ввод!$C$1:$C$30)*($A214>=Ввод!$E$1:$E$30)*($A214<=Ввод!$F$1:$F$30),Ввод!$D$1:$D$30,\"\"),\" / \")","v":""},{"$f":"MyJoin(IF((F$2=Ввод!$C$1:$C$30)*($A214>=Ввод!$E$1:$E$30)*($A214<=Ввод!$F$1:$F$30),Ввод!$D$1:$D$30,\"\"),\" / \")","v":""},"2022-07-26"]
["2022-07-27",{"$f":"MyJoin(IF((B$2=Ввод!$C$1:$C$30)*($A215>=Ввод!$E$1:$E$30)*($A215<=Ввод!$F$1:$F$30),Ввод!$D$1:$D$30,\"\"),\" / \")","v":""},{"$f":"MyJoin(IF((C$2=Ввод!$C$1:$C$30)*($A215>=Ввод!$E$1:$E$30)*($A215<=Ввод!$F$1:$F$30),Ввод!$D$1:$D$30,\"\"),\" / \")","v":"Задание 8 / Задание 9 / Задание 10"},{"$f":"MyJoin(IF((D$2=Ввод!$C$1:$C$30)*($A215>=Ввод!$E$1:$E$30)*($A215<=Ввод!$F$1:$F$30),Ввод!$D$1:$D$30,\"\"),\" / \")","v":""},{"$f":"MyJoin(IF((E$2=Ввод!$C$1:$C$30)*($A215>=Ввод!$E$1:$E$30)*($A215<=Ввод!$F$1:$F$30),Ввод!$D$1:$D$30,\"\"),\" / \")","v":""},{"$f":"MyJoin(IF((F$2=Ввод!$C$1:$C$30)*($A215>=Ввод!$E$1:$E$30)*($A215<=Ввод!$F$1:$F$30),Ввод!$D$1:$D$30,\"\"),\" / \")","v":""},"2022-07-27"]
["2022-07-28",{"$f":"MyJoin(IF((B$2=Ввод!$C$1:$C$30)*($A216>=Ввод!$E$1:$E$30)*($A216<=Ввод!$F$1:$F$30),Ввод!$D$1:$D$30,\"\"),\" / \")","v":""},{"$f":"MyJoin(IF((C$2=Ввод!$C$1:$C$30)*($A216>=Ввод!$E$1:$E$30)*($A216<=Ввод!$F$1:$F$30),Ввод!$D$1:$D$30,\"\"),\" / \")","v":"Задание 8 / Задание 9 / Задание 10 / Задание 11"},{"$f":"MyJoin(IF((D$2=Ввод!$C$1:$C$30)*($A216>=Ввод!$E$1:$E$30)*($A216<=Ввод!$F$1:$F$30),Ввод!$D$1:$D$30,\"\"),\" / \")","v":""},{"$f":"MyJoin(IF((E$2=Ввод!$C$1:$C$30)*($A216>=Ввод!$E$1:$E$30)*($A216<=Ввод!$F$1:$F$30),Ввод!$D$1:$D$30,\"\"),\" / \")","v":""},{"$f":"MyJoin(IF((F$2=Ввод!$C$1:$C$30)*($A216>=Ввод!$E$1:$E$30)*($A216<=Ввод!$F$1:$F$30),Ввод!$D$1:$D$30,\"\"),\" / \")","v":""},"2022-07-28"]
["2022-07-29",{"$f":"MyJoin(IF((B$2=Ввод!$C$1:$C$30)*($A217>=Ввод!$E$1:$E$30)*($A217<=Ввод!$F$1:$F$30),Ввод!$D$1:$D$30,\"\"),\" / \")","v":""},{"$f":"MyJoin(IF((C$2=Ввод!$C$1:$C$30)*($A217>=Ввод!$E$1:$E$30)*($A217<=Ввод!$F$1:$F$30),Ввод!$D$1:$D$30,\"\"),\" / \")","v":"Задание 8 / Задание 10 / Задание 11"},{"$f":"MyJoin(IF((D$2=Ввод!$C$1:$C$30)*($A217>=Ввод!$E$1:$E$30)*($A217<=Ввод!$F$1:$F$30),Ввод!$D$1:$D$30,\"\"),\" / \")","v":""},{"$f":"MyJoin(IF((E$2=Ввод!$C$1:$C$30)*($A217>=Ввод!$E$1:$E$30)*($A217<=Ввод!$F$1:$F$30),Ввод!$D$1:$D$30,\"\"),\" / \")","v":""},{"$f":"MyJoin(IF((F$2=Ввод!$C$1:$C$30)*($A217>=Ввод!$E$1:$E$30)*($A217<=Ввод!$F$1:$F$30),Ввод!$D$1:$D$30,\"\"),\" / \")","v":""},"2022-07-29"]
["2022-07-30",{"$f":"MyJoin(IF((B$2=Ввод!$C$1:$C$30)*($A218>=Ввод!$E$1:$E$30)*($A218<=Ввод!$F$1:$F$30),Ввод!$D$1:$D$30,\"\"),\" / \")","v":""},{"$f":"MyJoin(IF((C$2=Ввод!$C$1:$C$30)*($A218>=Ввод!$E$1:$E$30)*($A218<=Ввод!$F$1:$F$30),Ввод!$D$1:$D$30,\"\"),\" / \")","v":"Задание 8 / Задание 10 / Задание 11 / Задание 12"},{"$f":"MyJoin(IF((D$2=Ввод!$C$1:$C$30)*($A218>=Ввод!$E$1:$E$30)*($A218<=Ввод!$F$1:$F$30),Ввод!$D$1:$D$30,\"\"),\" / \")","v":""},{"$f":"MyJoin(IF((E$2=Ввод!$C$1:$C$30)*($A218>=Ввод!$E$1:$E$30)*($A218<=Ввод!$F$1:$F$30),Ввод!$D$1:$D$30,\"\"),\" / \")","v":""},{"$f":"MyJoin(IF((F$2=Ввод!$C$1:$C$30)*($A218>=Ввод!$E$1:$E$30)*($A218<=Ввод!$F$1:$F$30),Ввод!$D$1:$D$30,\"\"),\" / \")","v":""},"2022-07-30"]
["2022-07-31",{"$f":"MyJoin(IF((B$2=Ввод!$C$1:$C$30)*($A219>=Ввод!$E$1:$E$30)*($A219<=Ввод!$F$1:$F$30),Ввод!$D$1:$D$30,\"\"),\" / \")","v":""},{"$f":"MyJoin(IF((C$2=Ввод!$C$1:$C$30)*($A219>=Ввод!$E$1:$E$30)*($A219<=Ввод!$F$1:$F$30),Ввод!$D$1:$D$30,\"\"),\" / \")","v":"Задание 10 / Задание 11 / Задание 12"},{"$f":"MyJoin(IF((D$2=Ввод!$C$1:$C$30)*($A219>=Ввод!$E$1:$E$30)*($A219<=Ввод!$F$1:$F$30),Ввод!$D$1:$D$30,\"\"),\" / \")","v":""},{"$f":"MyJoin(IF((E$2=Ввод!$C$1:$C$30)*($A219>=Ввод!$E$1:$E$30)*($A219<=Ввод!$F$1:$F$30),Ввод!$D$1:$D$30,\"\"),\" / \")","v":""},{"$f":"MyJoin(IF((F$2=Ввод!$C$1:$C$30)*($A219>=Ввод!$E$1:$E$30)*($A219<=Ввод!$F$1:$F$30),Ввод!$D$1:$D$30,\"\"),\" / \")","v":""},"2022-07-31"]
["2022-08-01",{"$f":"MyJoin(IF((B$2=Ввод!$C$1:$C$30)*($A220>=Ввод!$E$1:$E$30)*($A220<=Ввод!$F$1:$F$30),Ввод!$D$1:$D$30,\"\"),\" / \")","v":""},{"$f":"MyJoin(IF((C$2=Ввод!$C$1:$C$30)*($A220>=Ввод!$E$1:$E$30)*($A220<=Ввод!$F$1:$F$30),Ввод!$D$1:$D$30,\"\"),\" / \")","v":"Задание 10 / Задание 11 / Задание 12"},{"$f":"MyJoin(IF((D$2=Ввод!$C$1:$C$30)*($A220>=Ввод!$E$1:$E$30)*($A220<=Ввод!$F$1:$F$30),Ввод!$D$1:$D$30,\"\"),\" / \")","v":""},{"$f":"MyJoin(IF((E$2=Ввод!$C$1:$C$30)*($A220>=Ввод!$E$1:$E$30)*($A220<=Ввод!$F$1:$F$30),Ввод!$D$1:$D$30,\"\"),\" / \")","v":""},{"$f":"MyJoin(IF((F$2=Ввод!$C$1:$C$30)*($A220>=Ввод!$E$1:$E$30)*($A220<=Ввод!$F$1:$F$30),Ввод!$D$1:$D$30,\"\"),\" / \")","v":""},"2022-08-01"]
["2022-08-02",{"$f":"MyJoin(IF((B$2=Ввод!$C$1:$C$30)*($A221>=Ввод!$E$1:$E$30)*($A221<=Ввод!$F$1:$F$30),Ввод!$D$1:$D$30,\"\"),\" / \")","v":""},{"$f":"MyJoin(IF((C$2=Ввод!$C$1:$C$30)*($A221>=Ввод!$E$1:$E$30)*($A221<=Ввод!$F$1:$F$30),Ввод!$D$1:$D$30,\"\"),\" / \")","v":"Задание 10 / Задание 11 / Задание 12"},{"$f":"MyJoin(IF((D$2=Ввод!$C$1:$C$30)*($A221>=Ввод!$E$1:$E$30)*($A221<=Ввод!$F$1:$F$30),Ввод!$D$1:$D$30,\"\"),\" / \")","v":""},{"$f":"MyJoin(IF((E$2=Ввод!$C$1:$C$30)*($A221>=Ввод!$E$1:$E$30)*($A221<=Ввод!$F$1:$F$30),Ввод!$D$1:$D$30,\"\"),\" / \")","v":""},{"$f":"MyJoin(IF((F$2=Ввод!$C$1:$C$30)*($A221>=Ввод!$E$1:$E$30)*($A221<=Ввод!$F$1:$F$30),Ввод!$D$1:$D$30,\"\"),\" / \")","v":""},"2022-08-02"]
["2022-08-03",{"$f":"MyJoin(IF((B$2=Ввод!$C$1:$C$30)*($A222>=Ввод!$E$1:$E$30)*($A222<=Ввод!$F$1:$F$30),Ввод!$D$1:$D$30,\"\"),\" / \")","v":""},{"$f":"MyJoin(IF((C$2=Ввод!$C$1:$C$30)*($A222>=Ввод!$E$1:$E$30)*($A222<=Ввод!$F$1:$F$30),Ввод!$D$1:$D$30,\"\"),\" / \")","v":"Задание 10 / Задание 11 / Задание 12"},{"$f":"MyJoin(IF((D$2=Ввод!$C$1:$C$30)*($A222>=Ввод!$E$1:$E$30)*($A222<=Ввод!$F$1:$F$30),Ввод!$D$1:$D$30,\"\"),\" / \")","v":""},{"$f":"MyJoin(IF((E$2=Ввод!$C$1:$C$30)*($A222>=Ввод!$E$1:$E$30)*($A222<=Ввод!$F$1:$F$30),Ввод!$D$1:$D$30,\"\"),\" / \")","v":""},{"$f":"MyJoin(IF((F$2=Ввод!$C$1:$C$30)*($A222>=Ввод!$E$1:$E$30)*($A222<=Ввод!$F$1:$F$30),Ввод!$D$1:$D$30,\"\"),\" / \")","v":""},"2022-08-03"]
["2022-08-04",{"$f":"MyJoin(IF((B$2=Ввод!$C$1:$C$30)*($A223>=Ввод!$E$1:$E$30)*($A223<=Ввод!$F$1:$F$30),Ввод!$D$1:$D$30,\"\"),\" / \")","v":""},{"$f":"MyJoin(IF((C$2=Ввод!$C$1:$C$30)*($A223>=Ввод!$E$1:$E$30)*($A223<=Ввод!$F$1:$F$30),Ввод!$D$1:$D$30,\"\"),\" / \")","v":"Задание 11 / Задание 12"},{"$f":"MyJoin(IF((D$2=Ввод!$C$1:$C$30)*($A223>=Ввод!$E$1:$E$30)*($A223<=Ввод!$F$1:$F$30),Ввод!$D$1:$D$30,\"\"),\" / \")","v":""},{"$f":"MyJoin(IF((E$2=Ввод!$C$1:$C$30)*($A223>=Ввод!$E$1:$E$30)*($A223<=Ввод!$F$1:$F$30),Ввод!$D$1:$D$30,\"\"),\" / \")","v":""},{"$f":"MyJoin(IF((F$2=Ввод!$C$1:$C$30)*($A223>=Ввод!$E$1:$E$30)*($A223<=Ввод!$F$1:$F$30),Ввод!$D$1:$D$30,\"\"),\" / \")","v":""},"2022-08-04"]
["2022-08-05",{"$f":"MyJoin(IF((B$2=Ввод!$C$1:$C$30)*($A224>=Ввод!$E$1:$E$30)*($A224<=Ввод!$F$1:$F$30),Ввод!$D$1:$D$30,\"\"),\" / \")","v":""},{"$f":"MyJoin(IF((C$2=Ввод!$C$1:$C$30)*($A224>=Ввод!$E$1:$E$30)*($A224<=Ввод!$F$1:$F$30),Ввод!$D$1:$D$30,\"\"),\" / \")","v":"Задание 12"},{"$f":"MyJoin(IF((D$2=Ввод!$C$1:$C$30)*($A224>=Ввод!$E$1:$E$30)*($A224<=Ввод!$F$1:$F$30),Ввод!$D$1:$D$30,\"\"),\" / \")","v":""},{"$f":"MyJoin(IF((E$2=Ввод!$C$1:$C$30)*($A224>=Ввод!$E$1:$E$30)*($A224<=Ввод!$F$1:$F$30),Ввод!$D$1:$D$30,\"\"),\" / \")","v":""},{"$f":"MyJoin(IF((F$2=Ввод!$C$1:$C$30)*($A224>=Ввод!$E$1:$E$30)*($A224<=Ввод!$F$1:$F$30),Ввод!$D$1:$D$30,\"\"),\" / \")","v":""},"2022-08-05"]
["2022-08-06",{"$f":"MyJoin(IF((B$2=Ввод!$C$1:$C$30)*($A225>=Ввод!$E$1:$E$30)*($A225<=Ввод!$F$1:$F$30),Ввод!$D$1:$D$30,\"\"),\" / \")","v":""},{"$f":"MyJoin(IF((C$2=Ввод!$C$1:$C$30)*($A225>=Ввод!$E$1:$E$30)*($A225<=Ввод!$F$1:$F$30),Ввод!$D$1:$D$30,\"\"),\" / \")","v":"Задание 12"},{"$f":"MyJoin(IF((D$2=Ввод!$C$1:$C$30)*($A225>=Ввод!$E$1:$E$30)*($A225<=Ввод!$F$1:$F$30),Ввод!$D$1:$D$30,\"\"),\" / \")","v":""},{"$f":"MyJoin(IF((E$2=Ввод!$C$1:$C$30)*($A225>=Ввод!$E$1:$E$30)*($A225<=Ввод!$F$1:$F$30),Ввод!$D$1:$D$30,\"\"),\" / \")","v":""},{"$f":"MyJoin(IF((F$2=Ввод!$C$1:$C$30)*($A225>=Ввод!$E$1:$E$30)*($A225<=Ввод!$F$1:$F$30),Ввод!$D$1:$D$30,\"\"),\" / \")","v":""},"2022-08-06"]
["2022-08-07",{"$f":"MyJoin(IF((B$2=Ввод!$C$1:$C$30)*($A226>=Ввод!$E$1:$E$30)*($A226<=Ввод!$F$1:$F$30),Ввод!$D$1:$D$30,\"\"),\" / \")","v":""},{"$f":"MyJoin(IF((C$2=Ввод!$C$1:$C$30)*($A226>=Ввод!$E$1:$E$30)*($A226<=Ввод!$F$1:$F$30),Ввод!$D$1:$D$30,\"\"),\" / \")","v":""},{"$f":"MyJoin(IF((D$2=Ввод!$C$1:$C$30)*($A226>=Ввод!$E$1:$E$30)*($A226<=Ввод!$F$1:$F$30),Ввод!$D$1:$D$30,\"\"),\" / \")","v":""},{"$f":"MyJoin(IF((E$2=Ввод!$C$1:$C$30)*($A226>=Ввод!$E$1:$E$30)*($A226<=Ввод!$F$1:$F$30),Ввод!$D$1:$D$30,\"\"),\" / \")","v":""},{"$f":"MyJoin(IF((F$2=Ввод!$C$1:$C$30)*($A226>=Ввод!$E$1:$E$30)*($A226<=Ввод!$F$1:$F$30),Ввод!$D$1:$D$30,\"\"),\" / \")","v":""},"2022-08-07"]
["2022-08-08",{"$f":"MyJoin(IF((B$2=Ввод!$C$1:$C$30)*($A227>=Ввод!$E$1:$E$30)*($A227<=Ввод!$F$1:$F$30),Ввод!$D$1:$D$30,\"\"),\" / \")","v":""},{"$f":"MyJoin(IF((C$2=Ввод!$C$1:$C$30)*($A227>=Ввод!$E$1:$E$30)*($A227<=Ввод!$F$1:$F$30),Ввод!$D$1:$D$30,\"\"),\" / \")","v":""},{"$f":"MyJoin(IF((D$2=Ввод!$C$1:$C$30)*($A227>=Ввод!$E$1:$E$30)*($A227<=Ввод!$F$1:$F$30),Ввод!$D$1:$D$30,\"\"),\" / \")","v":""},{"$f":"MyJoin(IF((E$2=Ввод!$C$1:$C$30)*($A227>=Ввод!$E$1:$E$30)*($A227<=Ввод!$F$1:$F$30),Ввод!$D$1:$D$30,\"\"),\" / \")","v":""},{"$f":"MyJoin(IF((F$2=Ввод!$C$1:$C$30)*($A227>=Ввод!$E$1:$E$30)*($A227<=Ввод!$F$1:$F$30),Ввод!$D$1:$D$30,\"\"),\" / \")","v":""},"2022-08-08"]
["2022-08-09",{"$f":"MyJoin(IF((B$2=Ввод!$C$1:$C$30)*($A228>=Ввод!$E$1:$E$30)*($A228<=Ввод!$F$1:$F$30),Ввод!$D$1:$D$30,\"\"),\" / \")","v":""},{"$f":"MyJoin(IF((C$2=Ввод!$C$1:$C$30)*($A228>=Ввод!$E$1:$E$30)*($A228<=Ввод!$F$1:$F$30),Ввод!$D$1:$D$30,\"\"),\" / \")","v":""},{"$f":"MyJoin(IF((D$2=Ввод!$C$1:$C$30)*($A228>=Ввод!$E$1:$E$30)*($A228<=Ввод!$F$1:$F$30),Ввод!$D$1:$D$30,\"\"),\" / \")","v":""},{"$f":"MyJoin(IF((E$2=Ввод!$C$1:$C$30)*($A228>=Ввод!$E$1:$E$30)*($A228<=Ввод!$F$1:$F$30),Ввод!$D$1:$D$30,\"\"),\" / \")","v":""},{"$f":"MyJoin(IF((F$2=Ввод!$C$1:$C$30)*($A228>=Ввод!$E$1:$E$30)*($A228<=Ввод!$F$1:$F$30),Ввод!$D$1:$D$30,\"\"),\" / \")","v":""},"2022-08-09"]
["2022-08-10",{"$f":"MyJoin(IF((B$2=Ввод!$C$1:$C$30)*($A229>=Ввод!$E$1:$E$30)*($A229<=Ввод!$F$1:$F$30),Ввод!$D$1:$D$30,\"\"),\" / \")","v":""},{"$f":"MyJoin(IF((C$2=Ввод!$C$1:$C$30)*($A229>=Ввод!$E$1:$E$30)*($A229<=Ввод!$F$1:$F$30),Ввод!$D$1:$D$30,\"\"),\" / \")","v":""},{"$f":"MyJoin(IF((D$2=Ввод!$C$1:$C$30)*($A229>=Ввод!$E$1:$E$30)*($A229<=Ввод!$F$1:$F$30),Ввод!$D$1:$D$30,\"\"),\" / \")","v":""},{"$f":"MyJoin(IF((E$2=Ввод!$C$1:$C$30)*($A229>=Ввод!$E$1:$E$30)*($A229<=Ввод!$F$1:$F$30),Ввод!$D$1:$D$30,\"\"),\" / \")","v":""},{"$f":"MyJoin(IF((F$2=Ввод!$C$1:$C$30)*($A229>=Ввод!$E$1:$E$30)*($A229<=Ввод!$F$1:$F$30),Ввод!$D$1:$D$30,\"\"),\" / \")","v":""},"2022-08-10"]
["2022-08-11",{"$f":"MyJoin(IF((B$2=Ввод!$C$1:$C$30)*($A230>=Ввод!$E$1:$E$30)*($A230<=Ввод!$F$1:$F$30),Ввод!$D$1:$D$30,\"\"),\" / \")","v":""},{"$f":"MyJoin(IF((C$2=Ввод!$C$1:$C$30)*($A230>=Ввод!$E$1:$E$30)*($A230<=Ввод!$F$1:$F$30),Ввод!$D$1:$D$30,\"\"),\" / \")","v":""},{"$f":"MyJoin(IF((D$2=Ввод!$C$1:$C$30)*($A230>=Ввод!$E$1:$E$30)*($A230<=Ввод!$F$1:$F$30),Ввод!$D$1:$D$30,\"\"),\" / \")","v":""},{"$f":"MyJoin(IF((E$2=Ввод!$C$1:$C$30)*($A230>=Ввод!$E$1:$E$30)*($A230<=Ввод!$F$1:$F$30),Ввод!$D$1:$D$30,\"\"),\" / \")","v":""},{"$f":"MyJoin(IF((F$2=Ввод!$C$1:$C$30)*($A230>=Ввод!$E$1:$E$30)*($A230<=Ввод!$F$1:$F$30),Ввод!$D$1:$D$30,\"\"),\" / \")","v":""},"2022-08-11"]
["2022-08-12",{"$f":"MyJoin(IF((B$2=Ввод!$C$1:$C$30)*($A231>=Ввод!$E$1:$E$30)*($A231<=Ввод!$F$1:$F$30),Ввод!$D$1:$D$30,\"\"),\" / \")","v":""},{"$f":"MyJoin(IF((C$2=Ввод!$C$1:$C$30)*($A231>=Ввод!$E$1:$E$30)*($A231<=Ввод!$F$1:$F$30),Ввод!$D$1:$D$30,\"\"),\" / \")","v":""},{"$f":"MyJoin(IF((D$2=Ввод!$C$1:$C$30)*($A231>=Ввод!$E$1:$E$30)*($A231<=Ввод!$F$1:$F$30),Ввод!$D$1:$D$30,\"\"),\" / \")","v":""},{"$f":"MyJoin(IF((E$2=Ввод!$C$1:$C$30)*($A231>=Ввод!$E$1:$E$30)*($A231<=Ввод!$F$1:$F$30),Ввод!$D$1:$D$30,\"\"),\" / \")","v":""},{"$f":"MyJoin(IF((F$2=Ввод!$C$1:$C$30)*($A231>=Ввод!$E$1:$E$30)*($A231<=Ввод!$F$1:$F$30),Ввод!$D$1:$D$30,\"\"),\" / \")","v":""},"2022-08-12"]
["2022-08-13",{"$f":"MyJoin(IF((B$2=Ввод!$C$1:$C$30)*($A232>=Ввод!$E$1:$E$30)*($A232<=Ввод!$F$1:$F$30),Ввод!$D$1:$D$30,\"\"),\" / \")","v":""},{"$f":"MyJoin(IF((C$2=Ввод!$C$1:$C$30)*($A232>=Ввод!$E$1:$E$30)*($A232<=Ввод!$F$1:$F$30),Ввод!$D$1:$D$30,\"\"),\" / \")","v":""},{"$f":"MyJoin(IF((D$2=Ввод!$C$1:$C$30)*($A232>=Ввод!$E$1:$E$30)*($A232<=Ввод!$F$1:$F$30),Ввод!$D$1:$D$30,\"\"),\" / \")","v":""},{"$f":"MyJoin(IF((E$2=Ввод!$C$1:$C$30)*($A232>=Ввод!$E$1:$E$30)*($A232<=Ввод!$F$1:$F$30),Ввод!$D$1:$D$30,\"\"),\" / \")","v":""},{"$f":"MyJoin(IF((F$2=Ввод!$C$1:$C$30)*($A232>=Ввод!$E$1:$E$30)*($A232<=Ввод!$F$1:$F$30),Ввод!$D$1:$D$30,\"\"),\" / \")","v":""},"2022-08-13"]
["2022-08-14",{"$f":"MyJoin(IF((B$2=Ввод!$C$1:$C$30)*($A233>=Ввод!$E$1:$E$30)*($A233<=Ввод!$F$1:$F$30),Ввод!$D$1:$D$30,\"\"),\" / \")","v":""},{"$f":"MyJoin(IF((C$2=Ввод!$C$1:$C$30)*($A233>=Ввод!$E$1:$E$30)*($A233<=Ввод!$F$1:$F$30),Ввод!$D$1:$D$30,\"\"),\" / \")","v":""},{"$f":"MyJoin(IF((D$2=Ввод!$C$1:$C$30)*($A233>=Ввод!$E$1:$E$30)*($A233<=Ввод!$F$1:$F$30),Ввод!$D$1:$D$30,\"\"),\" / \")","v":""},{"$f":"MyJoin(IF((E$2=Ввод!$C$1:$C$30)*($A233>=Ввод!$E$1:$E$30)*($A233<=Ввод!$F$1:$F$30),Ввод!$D$1:$D$30,\"\"),\" / \")","v":""},{"$f":"MyJoin(IF((F$2=Ввод!$C$1:$C$30)*($A233>=Ввод!$E$1:$E$30)*($A233<=Ввод!$F$1:$F$30),Ввод!$D$1:$D$30,\"\"),\" / \")","v":""},"2022-08-14"]
["2022-08-15",{"$f":"MyJoin(IF((B$2=Ввод!$C$1:$C$30)*($A234>=Ввод!$E$1:$E$30)*($A234<=Ввод!$F$1:$F$30),Ввод!$D$1:$D$30,\"\"),\" / \")","v":""},{"$f":"MyJoin(IF((C$2=Ввод!$C$1:$C$30)*($A234>=Ввод!$E$1:$E$30)*($A234<=Ввод!$F$1:$F$30),Ввод!$D$1:$D$30,\"\"),\" / \")","v":""},{"$f":"MyJoin(IF((D$2=Ввод!$C$1:$C$30)*($A234>=Ввод!$E$1:$E$30)*($A234<=Ввод!$F$1:$F$30),Ввод!$D$1:$D$30,\"\"),\" / \")","v":""},{"$f":"MyJoin(IF((E$2=Ввод!$C$1:$C$30)*($A234>=Ввод!$E$1:$E$30)*($A234<=Ввод!$F$1:$F$30),Ввод!$D$1:$D$30,\"\"),\" / \")","v":""},{"$f":"MyJoin(IF((F$2=Ввод!$C$1:$C$30)*($A234>=Ввод!$E$1:$E$30)*($A234<=Ввод!$F$1:$F$30),Ввод!$D$1:$D$30,\"\"),\" / \")","v":""},"2022-08-15"]
["2022-08-16",{"$f":"MyJoin(IF((B$2=Ввод!$C$1:$C$30)*($A235>=Ввод!$E$1:$E$30)*($A235<=Ввод!$F$1:$F$30),Ввод!$D$1:$D$30,\"\"),\" / \")","v":""},{"$f":"MyJoin(IF((C$2=Ввод!$C$1:$C$30)*($A235>=Ввод!$E$1:$E$30)*($A235<=Ввод!$F$1:$F$30),Ввод!$D$1:$D$30,\"\"),\" / \")","v":""},{"$f":"MyJoin(IF((D$2=Ввод!$C$1:$C$30)*($A235>=Ввод!$E$1:$E$30)*($A235<=Ввод!$F$1:$F$30),Ввод!$D$1:$D$30,\"\"),\" / \")","v":""},{"$f":"MyJoin(IF((E$2=Ввод!$C$1:$C$30)*($A235>=Ввод!$E$1:$E$30)*($A235<=Ввод!$F$1:$F$30),Ввод!$D$1:$D$30,\"\"),\" / \")","v":""},{"$f":"MyJoin(IF((F$2=Ввод!$C$1:$C$30)*($A235>=Ввод!$E$1:$E$30)*($A235<=Ввод!$F$1:$F$30),Ввод!$D$1:$D$30,\"\"),\" / \")","v":""},"2022-08-16"]
["2022-08-17",{"$f":"MyJoin(IF((B$2=Ввод!$C$1:$C$30)*($A236>=Ввод!$E$1:$E$30)*($A236<=Ввод!$F$1:$F$30),Ввод!$D$1:$D$30,\"\"),\" / \")","v":""},{"$f":"MyJoin(IF((C$2=Ввод!$C$1:$C$30)*($A236>=Ввод!$E$1:$E$30)*($A236<=Ввод!$F$1:$F$30),Ввод!$D$1:$D$30,\"\"),\" / \")","v":""},{"$f":"MyJoin(IF((D$2=Ввод!$C$1:$C$30)*($A236>=Ввод!$E$1:$E$30)*($A236<=Ввод!$F$1:$F$30),Ввод!$D$1:$D$30,\"\"),\" / \")","v":""},{"$f":"MyJoin(IF((E$2=Ввод!$C$1:$C$30)*($A236>=Ввод!$E$1:$E$30)*($A236<=Ввод!$F$1:$F$30),Ввод!$D$1:$D$30,\"\"),\" / \")","v":""},{"$f":"MyJoin(IF((F$2=Ввод!$C$1:$C$30)*($A236>=Ввод!$E$1:$E$30)*($A236<=Ввод!$F$1:$F$30),Ввод!$D$1:$D$30,\"\"),\" / \")","v":""},"2022-08-17"]
["2022-08-18",{"$f":"MyJoin(IF((B$2=Ввод!$C$1:$C$30)*($A237>=Ввод!$E$1:$E$30)*($A237<=Ввод!$F$1:$F$30),Ввод!$D$1:$D$30,\"\"),\" / \")","v":""},{"$f":"MyJoin(IF((C$2=Ввод!$C$1:$C$30)*($A237>=Ввод!$E$1:$E$30)*($A237<=Ввод!$F$1:$F$30),Ввод!$D$1:$D$30,\"\"),\" / \")","v":""},{"$f":"MyJoin(IF((D$2=Ввод!$C$1:$C$30)*($A237>=Ввод!$E$1:$E$30)*($A237<=Ввод!$F$1:$F$30),Ввод!$D$1:$D$30,\"\"),\" / \")","v":""},{"$f":"MyJoin(IF((E$2=Ввод!$C$1:$C$30)*($A237>=Ввод!$E$1:$E$30)*($A237<=Ввод!$F$1:$F$30),Ввод!$D$1:$D$30,\"\"),\" / \")","v":""},{"$f":"MyJoin(IF((F$2=Ввод!$C$1:$C$30)*($A237>=Ввод!$E$1:$E$30)*($A237<=Ввод!$F$1:$F$30),Ввод!$D$1:$D$30,\"\"),\" / \")","v":""},"2022-08-18"]
["2022-08-19",{"$f":"MyJoin(IF((B$2=Ввод!$C$1:$C$30)*($A238>=Ввод!$E$1:$E$30)*($A238<=Ввод!$F$1:$F$30),Ввод!$D$1:$D$30,\"\"),\" / \")","v":""},{"$f":"MyJoin(IF((C$2=Ввод!$C$1:$C$30)*($A238>=Ввод!$E$1:$E$30)*($A238<=Ввод!$F$1:$F$30),Ввод!$D$1:$D$30,\"\"),\" / \")","v":""},{"$f":"MyJoin(IF((D$2=Ввод!$C$1:$C$30)*($A238>=Ввод!$E$1:$E$30)*($A238<=Ввод!$F$1:$F$30),Ввод!$D$1:$D$30,\"\"),\" / \")","v":""},{"$f":"MyJoin(IF((E$2=Ввод!$C$1:$C$30)*($A238>=Ввод!$E$1:$E$30)*($A238<=Ввод!$F$1:$F$30),Ввод!$D$1:$D$30,\"\"),\" / \")","v":""},{"$f":"MyJoin(IF((F$2=Ввод!$C$1:$C$30)*($A238>=Ввод!$E$1:$E$30)*($A238<=Ввод!$F$1:$F$30),Ввод!$D$1:$D$30,\"\"),\" / \")","v":""},"2022-08-19"]
["2022-08-20",{"$f":"MyJoin(IF((B$2=Ввод!$C$1:$C$30)*($A239>=Ввод!$E$1:$E$30)*($A239<=Ввод!$F$1:$F$30),Ввод!$D$1:$D$30,\"\"),\" / \")","v":""},{"$f":"MyJoin(IF((C$2=Ввод!$C$1:$C$30)*($A239>=Ввод!$E$1:$E$30)*($A239<=Ввод!$F$1:$F$30),Ввод!$D$1:$D$30,\"\"),\" / \")","v":""},{"$f":"MyJoin(IF((D$2=Ввод!$C$1:$C$30)*($A239>=Ввод!$E$1:$E$30)*($A239<=Ввод!$F$1:$F$30),Ввод!$D$1:$D$30,\"\"),\" / \")","v":""},{"$f":"MyJoin(IF((E$2=Ввод!$C$1:$C$30)*($A239>=Ввод!$E$1:$E$30)*($A239<=Ввод!$F$1:$F$30),Ввод!$D$1:$D$30,\"\"),\" / \")","v":""},{"$f":"MyJoin(IF((F$2=Ввод!$C$1:$C$30)*($A239>=Ввод!$E$1:$E$30)*($A239<=Ввод!$F$1:$F$30),Ввод!$D$1:$D$30,\"\"),\" / \")","v":""},"2022-08-20"]
["2022-08-21",{"$f":"MyJoin(IF((B$2=Ввод!$C$1:$C$30)*($A240>=Ввод!$E$1:$E$30)*($A240<=Ввод!$F$1:$F$30),Ввод!$D$1:$D$30,\"\"),\" / \")","v":""},{"$f":"MyJoin(IF((C$2=Ввод!$C$1:$C$30)*($A240>=Ввод!$E$1:$E$30)*($A240<=Ввод!$F$1:$F$30),Ввод!$D$1:$D$30,\"\"),\" / \")","v":""},{"$f":"MyJoin(IF((D$2=Ввод!$C$1:$C$30)*($A240>=Ввод!$E$1:$E$30)*($A240<=Ввод!$F$1:$F$30),Ввод!$D$1:$D$30,\"\"),\" / \")","v":""},{"$f":"MyJoin(IF((E$2=Ввод!$C$1:$C$30)*($A240>=Ввод!$E$1:$E$30)*($A240<=Ввод!$F$1:$F$30),Ввод!$D$1:$D$30,\"\"),\" / \")","v":""},{"$f":"MyJoin(IF((F$2=Ввод!$C$1:$C$30)*($A240>=Ввод!$E$1:$E$30)*($A240<=Ввод!$F$1:$F$30),Ввод!$D$1:$D$30,\"\"),\" / \")","v":""},"2022-08-21"]
["2022-08-22",{"$f":"MyJoin(IF((B$2=Ввод!$C$1:$C$30)*($A241>=Ввод!$E$1:$E$30)*($A241<=Ввод!$F$1:$F$30),Ввод!$D$1:$D$30,\"\"),\" / \")","v":""},{"$f":"MyJoin(IF((C$2=Ввод!$C$1:$C$30)*($A241>=Ввод!$E$1:$E$30)*($A241<=Ввод!$F$1:$F$30),Ввод!$D$1:$D$30,\"\"),\" / \")","v":""},{"$f":"MyJoin(IF((D$2=Ввод!$C$1:$C$30)*($A241>=Ввод!$E$1:$E$30)*($A241<=Ввод!$F$1:$F$30),Ввод!$D$1:$D$30,\"\"),\" / \")","v":""},{"$f":"MyJoin(IF((E$2=Ввод!$C$1:$C$30)*($A241>=Ввод!$E$1:$E$30)*($A241<=Ввод!$F$1:$F$30),Ввод!$D$1:$D$30,\"\"),\" / \")","v":""},{"$f":"MyJoin(IF((F$2=Ввод!$C$1:$C$30)*($A241>=Ввод!$E$1:$E$30)*($A241<=Ввод!$F$1:$F$30),Ввод!$D$1:$D$30,\"\"),\" / \")","v":""},"2022-08-22"]
["2022-08-23",{"$f":"MyJoin(IF((B$2=Ввод!$C$1:$C$30)*($A242>=Ввод!$E$1:$E$30)*($A242<=Ввод!$F$1:$F$30),Ввод!$D$1:$D$30,\"\"),\" / \")","v":""},{"$f":"MyJoin(IF((C$2=Ввод!$C$1:$C$30)*($A242>=Ввод!$E$1:$E$30)*($A242<=Ввод!$F$1:$F$30),Ввод!$D$1:$D$30,\"\"),\" / \")","v":""},{"$f":"MyJoin(IF((D$2=Ввод!$C$1:$C$30)*($A242>=Ввод!$E$1:$E$30)*($A242<=Ввод!$F$1:$F$30),Ввод!$D$1:$D$30,\"\"),\" / \")","v":""},{"$f":"MyJoin(IF((E$2=Ввод!$C$1:$C$30)*($A242>=Ввод!$E$1:$E$30)*($A242<=Ввод!$F$1:$F$30),Ввод!$D$1:$D$30,\"\"),\" / \")","v":""},{"$f":"MyJoin(IF((F$2=Ввод!$C$1:$C$30)*($A242>=Ввод!$E$1:$E$30)*($A242<=Ввод!$F$1:$F$30),Ввод!$D$1:$D$30,\"\"),\" / \")","v":""},"2022-08-23"]
["2022-08-24",{"$f":"MyJoin(IF((B$2=Ввод!$C$1:$C$30)*($A243>=Ввод!$E$1:$E$30)*($A243<=Ввод!$F$1:$F$30),Ввод!$D$1:$D$30,\"\"),\" / \")","v":""},{"$f":"MyJoin(IF((C$2=Ввод!$C$1:$C$30)*($A243>=Ввод!$E$1:$E$30)*($A243<=Ввод!$F$1:$F$30),Ввод!$D$1:$D$30,\"\"),\" / \")","v":""},{"$f":"MyJoin(IF((D$2=Ввод!$C$1:$C$30)*($A243>=Ввод!$E$1:$E$30)*($A243<=Ввод!$F$1:$F$30),Ввод!$D$1:$D$30,\"\"),\" / \")","v":""},{"$f":"MyJoin(IF((E$2=Ввод!$C$1:$C$30)*($A243>=Ввод!$E$1:$E$30)*($A243<=Ввод!$F$1:$F$30),Ввод!$D$1:$D$30,\"\"),\" / \")","v":""},{"$f":"MyJoin(IF((F$2=Ввод!$C$1:$C$30)*($A243>=Ввод!$E$1:$E$30)*($A243<=Ввод!$F$1:$F$30),Ввод!$D$1:$D$30,\"\"),\" / \")","v":""},"2022-08-24"]
["2022-08-25",{"$f":"MyJoin(IF((B$2=Ввод!$C$1:$C$30)*($A244>=Ввод!$E$1:$E$30)*($A244<=Ввод!$F$1:$F$30),Ввод!$D$1:$D$30,\"\"),\" / \")","v":""},{"$f":"MyJoin(IF((C$2=Ввод!$C$1:$C$30)*($A244>=Ввод!$E$1:$E$30)*($A244<=Ввод!$F$1:$F$30),Ввод!$D$1:$D$30,\"\"),\" / \")","v":""},{"$f":"MyJoin(IF((D$2=Ввод!$C$1:$C$30)*($A244>=Ввод!$E$1:$E$30)*($A244<=Ввод!$F$1:$F$30),Ввод!$D$1:$D$30,\"\"),\" / \")","v":""},{"$f":"MyJoin(IF((E$2=Ввод!$C$1:$C$30)*($A244>=Ввод!$E$1:$E$30)*($A244<=Ввод!$F$1:$F$30),Ввод!$D$1:$D$30,\"\"),\" / \")","v":""},{"$f":"MyJoin(IF((F$2=Ввод!$C$1:$C$30)*($A244>=Ввод!$E$1:$E$30)*($A244<=Ввод!$F$1:$F$30),Ввод!$D$1:$D$30,\"\"),\" / \")","v":""},"2022-08-25"]
["2022-08-26",{"$f":"MyJoin(IF((B$2=Ввод!$C$1:$C$30)*($A245>=Ввод!$E$1:$E$30)*($A245<=Ввод!$F$1:$F$30),Ввод!$D$1:$D$30,\"\"),\" / \")","v":""},{"$f":"MyJoin(IF((C$2=Ввод!$C$1:$C$30)*($A245>=Ввод!$E$1:$E$30)*($A245<=Ввод!$F$1:$F$30),Ввод!$D$1:$D$30,\"\"),\" / \")","v":""},{"$f":"MyJoin(IF((D$2=Ввод!$C$1:$C$30)*($A245>=Ввод!$E$1:$E$30)*($A245<=Ввод!$F$1:$F$30),Ввод!$D$1:$D$30,\"\"),\" / \")","v":""},{"$f":"MyJoin(IF((E$2=Ввод!$C$1:$C$30)*($A245>=Ввод!$E$1:$E$30)*($A245<=Ввод!$F$1:$F$30),Ввод!$D$1:$D$30,\"\"),\" / \")","v":""},{"$f":"MyJoin(IF((F$2=Ввод!$C$1:$C$30)*($A245>=Ввод!$E$1:$E$30)*($A245<=Ввод!$F$1:$F$30),Ввод!$D$1:$D$30,\"\"),\" / \")","v":""},"2022-08-26"]
["2022-08-27",{"$f":"MyJoin(IF((B$2=Ввод!$C$1:$C$30)*($A246>=Ввод!$E$1:$E$30)*($A246<=Ввод!$F$1:$F$30),Ввод!$D$1:$D$30,\"\"),\" / \")","v":""},{"$f":"MyJoin(IF((C$2=Ввод!$C$1:$C$30)*($A246>=Ввод!$E$1:$E$30)*($A246<=Ввод!$F$1:$F$30),Ввод!$D$1:$D$30,\"\"),\" / \")","v":""},{"$f":"MyJoin(IF((D$2=Ввод!$C$1:$C$30)*($A246>=Ввод!$E$1:$E$30)*($A246<=Ввод!$F$1:$F$30),Ввод!$D$1:$D$30,\"\"),\" / \")","v":""},{"$f":"MyJoin(IF((E$2=Ввод!$C$1:$C$30)*($A246>=Ввод!$E$1:$E$30)*($A246<=Ввод!$F$1:$F$30),Ввод!$D$1:$D$30,\"\"),\" / \")","v":""},{"$f":"MyJoin(IF((F$2=Ввод!$C$1:$C$30)*($A246>=Ввод!$E$1:$E$30)*($A246<=Ввод!$F$1:$F$30),Ввод!$D$1:$D$30,\"\"),\" / \")","v":""},"2022-08-27"]
["2022-08-28",{"$f":"MyJoin(IF((B$2=Ввод!$C$1:$C$30)*($A247>=Ввод!$E$1:$E$30)*($A247<=Ввод!$F$1:$F$30),Ввод!$D$1:$D$30,\"\"),\" / \")","v":""},{"$f":"MyJoin(IF((C$2=Ввод!$C$1:$C$30)*($A247>=Ввод!$E$1:$E$30)*($A247<=Ввод!$F$1:$F$30),Ввод!$D$1:$D$30,\"\"),\" / \")","v":""},{"$f":"MyJoin(IF((D$2=Ввод!$C$1:$C$30)*($A247>=Ввод!$E$1:$E$30)*($A247<=Ввод!$F$1:$F$30),Ввод!$D$1:$D$30,\"\"),\" / \")","v":""},{"$f":"MyJoin(IF((E$2=Ввод!$C$1:$C$30)*($A247>=Ввод!$E$1:$E$30)*($A247<=Ввод!$F$1:$F$30),Ввод!$D$1:$D$30,\"\"),\" / \")","v":""},{"$f":"MyJoin(IF((F$2=Ввод!$C$1:$C$30)*($A247>=Ввод!$E$1:$E$30)*($A247<=Ввод!$F$1:$F$30),Ввод!$D$1:$D$30,\"\"),\" / \")","v":""},"2022-08-28"]
["2022-08-29",{"$f":"MyJoin(IF((B$2=Ввод!$C$1:$C$30)*($A248>=Ввод!$E$1:$E$30)*($A248<=Ввод!$F$1:$F$30),Ввод!$D$1:$D$30,\"\"),\" / \")","v":""},{"$f":"MyJoin(IF((C$2=Ввод!$C$1:$C$30)*($A248>=Ввод!$E$1:$E$30)*($A248<=Ввод!$F$1:$F$30),Ввод!$D$1:$D$30,\"\"),\" / \")","v":""},{"$f":"MyJoin(IF((D$2=Ввод!$C$1:$C$30)*($A248>=Ввод!$E$1:$E$30)*($A248<=Ввод!$F$1:$F$30),Ввод!$D$1:$D$30,\"\"),\" / \")","v":""},{"$f":"MyJoin(IF((E$2=Ввод!$C$1:$C$30)*($A248>=Ввод!$E$1:$E$30)*($A248<=Ввод!$F$1:$F$30),Ввод!$D$1:$D$30,\"\"),\" / \")","v":""},{"$f":"MyJoin(IF((F$2=Ввод!$C$1:$C$30)*($A248>=Ввод!$E$1:$E$30)*($A248<=Ввод!$F$1:$F$30),Ввод!$D$1:$D$30,\"\"),\" / \")","v":""},"2022-08-29"]
["2022-08-30",{"$f":"MyJoin(IF((B$2=Ввод!$C$1:$C$30)*($A249>=Ввод!$E$1:$E$30)*($A249<=Ввод!$F$1:$F$30),Ввод!$D$1:$D$30,\"\"),\" / \")","v":""},{"$f":"MyJoin(IF((C$2=Ввод!$C$1:$C$30)*($A249>=Ввод!$E$1:$E$30)*($A249<=Ввод!$F$1:$F$30),Ввод!$D$1:$D$30,\"\"),\" / \")","v":""},{"$f":"MyJoin(IF((D$2=Ввод!$C$1:$C$30)*($A249>=Ввод!$E$1:$E$30)*($A249<=Ввод!$F$1:$F$30),Ввод!$D$1:$D$30,\"\"),\" / \")","v":""},{"$f":"MyJoin(IF((E$2=Ввод!$C$1:$C$30)*($A249>=Ввод!$E$1:$E$30)*($A249<=Ввод!$F$1:$F$30),Ввод!$D$1:$D$30,\"\"),\" / \")","v":""},{"$f":"MyJoin(IF((F$2=Ввод!$C$1:$C$30)*($A249>=Ввод!$E$1:$E$30)*($A249<=Ввод!$F$1:$F$30),Ввод!$D$1:$D$30,\"\"),\" / \")","v":""},"2022-08-30"]
["2022-08-31",{"$f":"MyJoin(IF((B$2=Ввод!$C$1:$C$30)*($A250>=Ввод!$E$1:$E$30)*($A250<=Ввод!$F$1:$F$30),Ввод!$D$1:$D$30,\"\"),\" / \")","v":""},{"$f":"MyJoin(IF((C$2=Ввод!$C$1:$C$30)*($A250>=Ввод!$E$1:$E$30)*($A250<=Ввод!$F$1:$F$30),Ввод!$D$1:$D$30,\"\"),\" / \")","v":"Задание 13"},{"$f":"MyJoin(IF((D$2=Ввод!$C$1:$C$30)*($A250>=Ввод!$E$1:$E$30)*($A250<=Ввод!$F$1:$F$30),Ввод!$D$1:$D$30,\"\"),\" / \")","v":""},{"$f":"MyJoin(IF((E$2=Ввод!$C$1:$C$30)*($A250>=Ввод!$E$1:$E$30)*($A250<=Ввод!$F$1:$F$30),Ввод!$D$1:$D$30,\"\"),\" / \")","v":""},{"$f":"MyJoin(IF((F$2=Ввод!$C$1:$C$30)*($A250>=Ввод!$E$1:$E$30)*($A250<=Ввод!$F$1:$F$30),Ввод!$D$1:$D$30,\"\"),\" / \")","v":""},"2022-08-31"]
["2022-09-01",{"$f":"MyJoin(IF((B$2=Ввод!$C$1:$C$30)*($A251>=Ввод!$E$1:$E$30)*($A251<=Ввод!$F$1:$F$30),Ввод!$D$1:$D$30,\"\"),\" / \")","v":""},{"$f":"MyJoin(IF((C$2=Ввод!$C$1:$C$30)*($A251>=Ввод!$E$1:$E$30)*($A251<=Ввод!$F$1:$F$30),Ввод!$D$1:$D$30,\"\"),\" / \")","v":"Задание 13"},{"$f":"MyJoin(IF((D$2=Ввод!$C$1:$C$30)*($A251>=Ввод!$E$1:$E$30)*($A251<=Ввод!$F$1:$F$30),Ввод!$D$1:$D$30,\"\"),\" / \")","v":""},{"$f":"MyJoin(IF((E$2=Ввод!$C$1:$C$30)*($A251>=Ввод!$E$1:$E$30)*($A251<=Ввод!$F$1:$F$30),Ввод!$D$1:$D$30,\"\"),\" / \")","v":""},{"$f":"MyJoin(IF((F$2=Ввод!$C$1:$C$30)*($A251>=Ввод!$E$1:$E$30)*($A251<=Ввод!$F$1:$F$30),Ввод!$D$1:$D$30,\"\"),\" / \")","v":""},"2022-09-01"]
["2022-09-02",{"$f":"MyJoin(IF((B$2=Ввод!$C$1:$C$30)*($A252>=Ввод!$E$1:$E$30)*($A252<=Ввод!$F$1:$F$30),Ввод!$D$1:$D$30,\"\"),\" / \")","v":""},{"$f":"MyJoin(IF((C$2=Ввод!$C$1:$C$30)*($A252>=Ввод!$E$1:$E$30)*($A252<=Ввод!$F$1:$F$30),Ввод!$D$1:$D$30,\"\"),\" / \")","v":"Задание 13"},{"$f":"MyJoin(IF((D$2=Ввод!$C$1:$C$30)*($A252>=Ввод!$E$1:$E$30)*($A252<=Ввод!$F$1:$F$30),Ввод!$D$1:$D$30,\"\"),\" / \")","v":""},{"$f":"MyJoin(IF((E$2=Ввод!$C$1:$C$30)*($A252>=Ввод!$E$1:$E$30)*($A252<=Ввод!$F$1:$F$30),Ввод!$D$1:$D$30,\"\"),\" / \")","v":"Задание 22"},{"$f":"MyJoin(IF((F$2=Ввод!$C$1:$C$30)*($A252>=Ввод!$E$1:$E$30)*($A252<=Ввод!$F$1:$F$30),Ввод!$D$1:$D$30,\"\"),\" / \")","v":""},"2022-09-02"]
["2022-09-03",{"$f":"MyJoin(IF((B$2=Ввод!$C$1:$C$30)*($A253>=Ввод!$E$1:$E$30)*($A253<=Ввод!$F$1:$F$30),Ввод!$D$1:$D$30,\"\"),\" / \")","v":""},{"$f":"MyJoin(IF((C$2=Ввод!$C$1:$C$30)*($A253>=Ввод!$E$1:$E$30)*($A253<=Ввод!$F$1:$F$30),Ввод!$D$1:$D$30,\"\"),\" / \")","v":""},{"$f":"MyJoin(IF((D$2=Ввод!$C$1:$C$30)*($A253>=Ввод!$E$1:$E$30)*($A253<=Ввод!$F$1:$F$30),Ввод!$D$1:$D$30,\"\"),\" / \")","v":""},{"$f":"MyJoin(IF((E$2=Ввод!$C$1:$C$30)*($A253>=Ввод!$E$1:$E$30)*($A253<=Ввод!$F$1:$F$30),Ввод!$D$1:$D$30,\"\"),\" / \")","v":"Задание 22"},{"$f":"MyJoin(IF((F$2=Ввод!$C$1:$C$30)*($A253>=Ввод!$E$1:$E$30)*($A253<=Ввод!$F$1:$F$30),Ввод!$D$1:$D$30,\"\"),\" / \")","v":""},"2022-09-03"]
["2022-09-04",{"$f":"MyJoin(IF((B$2=Ввод!$C$1:$C$30)*($A254>=Ввод!$E$1:$E$30)*($A254<=Ввод!$F$1:$F$30),Ввод!$D$1:$D$30,\"\"),\" / \")","v":""},{"$f":"MyJoin(IF((C$2=Ввод!$C$1:$C$30)*($A254>=Ввод!$E$1:$E$30)*($A254<=Ввод!$F$1:$F$30),Ввод!$D$1:$D$30,\"\"),\" / \")","v":""},{"$f":"MyJoin(IF((D$2=Ввод!$C$1:$C$30)*($A254>=Ввод!$E$1:$E$30)*($A254<=Ввод!$F$1:$F$30),Ввод!$D$1:$D$30,\"\"),\" / \")","v":""},{"$f":"MyJoin(IF((E$2=Ввод!$C$1:$C$30)*($A254>=Ввод!$E$1:$E$30)*($A254<=Ввод!$F$1:$F$30),Ввод!$D$1:$D$30,\"\"),\" / \")","v":"Задание 22"},{"$f":"MyJoin(IF((F$2=Ввод!$C$1:$C$30)*($A254>=Ввод!$E$1:$E$30)*($A254<=Ввод!$F$1:$F$30),Ввод!$D$1:$D$30,\"\"),\" / \")","v":""},"2022-09-04"]
["2022-09-05",{"$f":"MyJoin(IF((B$2=Ввод!$C$1:$C$30)*($A255>=Ввод!$E$1:$E$30)*($A255<=Ввод!$F$1:$F$30),Ввод!$D$1:$D$30,\"\"),\" / \")","v":""},{"$f":"MyJoin(IF((C$2=Ввод!$C$1:$C$30)*($A255>=Ввод!$E$1:$E$30)*($A255<=Ввод!$F$1:$F$30),Ввод!$D$1:$D$30,\"\"),\" / \")","v":""},{"$f":"MyJoin(IF((D$2=Ввод!$C$1:$C$30)*($A255>=Ввод!$E$1:$E$30)*($A255<=Ввод!$F$1:$F$30),Ввод!$D$1:$D$30,\"\"),\" / \")","v":""},{"$f":"MyJoin(IF((E$2=Ввод!$C$1:$C$30)*($A255>=Ввод!$E$1:$E$30)*($A255<=Ввод!$F$1:$F$30),Ввод!$D$1:$D$30,\"\"),\" / \")","v":""},{"$f":"MyJoin(IF((F$2=Ввод!$C$1:$C$30)*($A255>=Ввод!$E$1:$E$30)*($A255<=Ввод!$F$1:$F$30),Ввод!$D$1:$D$30,\"\"),\" / \")","v":""},"2022-09-05"]
["2022-09-06",{"$f":"MyJoin(IF((B$2=Ввод!$C$1:$C$30)*($A256>=Ввод!$E$1:$E$30)*($A256<=Ввод!$F$1:$F$30),Ввод!$D$1:$D$30,\"\"),\" / \")","v":""},{"$f":"MyJoin(IF((C$2=Ввод!$C$1:$C$30)*($A256>=Ввод!$E$1:$E$30)*($A256<=Ввод!$F$1:$F$30),Ввод!$D$1:$D$30,\"\"),\" / \")","v":""},{"$f":"MyJoin(IF((D$2=Ввод!$C$1:$C$30)*($A256>=Ввод!$E$1:$E$30)*($A256<=Ввод!$F$1:$F$30),Ввод!$D$1:$D$30,\"\"),\" / \")","v":""},{"$f":"MyJoin(IF((E$2=Ввод!$C$1:$C$30)*($A256>=Ввод!$E$1:$E$30)*($A256<=Ввод!$F$1:$F$30),Ввод!$D$1:$D$30,\"\"),\" / \")","v":""},{"$f":"MyJoin(IF((F$2=Ввод!$C$1:$C$30)*($A256>=Ввод!$E$1:$E$30)*($A256<=Ввод!$F$1:$F$30),Ввод!$D$1:$D$30,\"\"),\" / \")","v":""},"2022-09-06"]
["2022-09-07",{"$f":"MyJoin(IF((B$2=Ввод!$C$1:$C$30)*($A257>=Ввод!$E$1:$E$30)*($A257<=Ввод!$F$1:$F$30),Ввод!$D$1:$D$30,\"\"),\" / \")","v":""},{"$f":"MyJoin(IF((C$2=Ввод!$C$1:$C$30)*($A257>=Ввод!$E$1:$E$30)*($A257<=Ввод!$F$1:$F$30),Ввод!$D$1:$D$30,\"\"),\" / \")","v":""},{"$f":"MyJoin(IF((D$2=Ввод!$C$1:$C$30)*($A257>=Ввод!$E$1:$E$30)*($A257<=Ввод!$F$1:$F$30),Ввод!$D$1:$D$30,\"\"),\" / \")","v":""},{"$f":"MyJoin(IF((E$2=Ввод!$C$1:$C$30)*($A257>=Ввод!$E$1:$E$30)*($A257<=Ввод!$F$1:$F$30),Ввод!$D$1:$D$30,\"\"),\" / \")","v":""},{"$f":"MyJoin(IF((F$2=Ввод!$C$1:$C$30)*($A257>=Ввод!$E$1:$E$30)*($A257<=Ввод!$F$1:$F$30),Ввод!$D$1:$D$30,\"\"),\" / \")","v":""},"2022-09-07"]
["2022-09-08",{"$f":"MyJoin(IF((B$2=Ввод!$C$1:$C$30)*($A258>=Ввод!$E$1:$E$30)*($A258<=Ввод!$F$1:$F$30),Ввод!$D$1:$D$30,\"\"),\" / \")","v":""},{"$f":"MyJoin(IF((C$2=Ввод!$C$1:$C$30)*($A258>=Ввод!$E$1:$E$30)*($A258<=Ввод!$F$1:$F$30),Ввод!$D$1:$D$30,\"\"),\" / \")","v":""},{"$f":"MyJoin(IF((D$2=Ввод!$C$1:$C$30)*($A258>=Ввод!$E$1:$E$30)*($A258<=Ввод!$F$1:$F$30),Ввод!$D$1:$D$30,\"\"),\" / \")","v":""},{"$f":"MyJoin(IF((E$2=Ввод!$C$1:$C$30)*($A258>=Ввод!$E$1:$E$30)*($A258<=Ввод!$F$1:$F$30),Ввод!$D$1:$D$30,\"\"),\" / \")","v":""},{"$f":"MyJoin(IF((F$2=Ввод!$C$1:$C$30)*($A258>=Ввод!$E$1:$E$30)*($A258<=Ввод!$F$1:$F$30),Ввод!$D$1:$D$30,\"\"),\" / \")","v":""},"2022-09-08"]
["2022-09-09",{"$f":"MyJoin(IF((B$2=Ввод!$C$1:$C$30)*($A259>=Ввод!$E$1:$E$30)*($A259<=Ввод!$F$1:$F$30),Ввод!$D$1:$D$30,\"\"),\" / \")","v":""},{"$f":"MyJoin(IF((C$2=Ввод!$C$1:$C$30)*($A259>=Ввод!$E$1:$E$30)*($A259<=Ввод!$F$1:$F$30),Ввод!$D$1:$D$30,\"\"),\" / \")","v":""},{"$f":"MyJoin(IF((D$2=Ввод!$C$1:$C$30)*($A259>=Ввод!$E$1:$E$30)*($A259<=Ввод!$F$1:$F$30),Ввод!$D$1:$D$30,\"\"),\" / \")","v":""},{"$f":"MyJoin(IF((E$2=Ввод!$C$1:$C$30)*($A259>=Ввод!$E$1:$E$30)*($A259<=Ввод!$F$1:$F$30),Ввод!$D$1:$D$30,\"\"),\" / \")","v":""},{"$f":"MyJoin(IF((F$2=Ввод!$C$1:$C$30)*($A259>=Ввод!$E$1:$E$30)*($A259<=Ввод!$F$1:$F$30),Ввод!$D$1:$D$30,\"\"),\" / \")","v":""},"2022-09-09"]
["2022-09-10",{"$f":"MyJoin(IF((B$2=Ввод!$C$1:$C$30)*($A260>=Ввод!$E$1:$E$30)*($A260<=Ввод!$F$1:$F$30),Ввод!$D$1:$D$30,\"\"),\" / \")","v":""},{"$f":"MyJoin(IF((C$2=Ввод!$C$1:$C$30)*($A260>=Ввод!$E$1:$E$30)*($A260<=Ввод!$F$1:$F$30),Ввод!$D$1:$D$30,\"\"),\" / \")","v":""},{"$f":"MyJoin(IF((D$2=Ввод!$C$1:$C$30)*($A260>=Ввод!$E$1:$E$30)*($A260<=Ввод!$F$1:$F$30),Ввод!$D$1:$D$30,\"\"),\" / \")","v":""},{"$f":"MyJoin(IF((E$2=Ввод!$C$1:$C$30)*($A260>=Ввод!$E$1:$E$30)*($A260<=Ввод!$F$1:$F$30),Ввод!$D$1:$D$30,\"\"),\" / \")","v":""},{"$f":"MyJoin(IF((F$2=Ввод!$C$1:$C$30)*($A260>=Ввод!$E$1:$E$30)*($A260<=Ввод!$F$1:$F$30),Ввод!$D$1:$D$30,\"\"),\" / \")","v":""},"2022-09-10"]
["2022-09-11",{"$f":"MyJoin(IF((B$2=Ввод!$C$1:$C$30)*($A261>=Ввод!$E$1:$E$30)*($A261<=Ввод!$F$1:$F$30),Ввод!$D$1:$D$30,\"\"),\" / \")","v":""},{"$f":"MyJoin(IF((C$2=Ввод!$C$1:$C$30)*($A261>=Ввод!$E$1:$E$30)*($A261<=Ввод!$F$1:$F$30),Ввод!$D$1:$D$30,\"\"),\" / \")","v":""},{"$f":"MyJoin(IF((D$2=Ввод!$C$1:$C$30)*($A261>=Ввод!$E$1:$E$30)*($A261<=Ввод!$F$1:$F$30),Ввод!$D$1:$D$30,\"\"),\" / \")","v":""},{"$f":"MyJoin(IF((E$2=Ввод!$C$1:$C$30)*($A261>=Ввод!$E$1:$E$30)*($A261<=Ввод!$F$1:$F$30),Ввод!$D$1:$D$30,\"\"),\" / \")","v":""},{"$f":"MyJoin(IF((F$2=Ввод!$C$1:$C$30)*($A261>=Ввод!$E$1:$E$30)*($A261<=Ввод!$F$1:$F$30),Ввод!$D$1:$D$30,\"\"),\" / \")","v":""},"2022-09-11"]
["2022-09-12",{"$f":"MyJoin(IF((B$2=Ввод!$C$1:$C$30)*($A262>=Ввод!$E$1:$E$30)*($A262<=Ввод!$F$1:$F$30),Ввод!$D$1:$D$30,\"\"),\" / \")","v":""},{"$f":"MyJoin(IF((C$2=Ввод!$C$1:$C$30)*($A262>=Ввод!$E$1:$E$30)*($A262<=Ввод!$F$1:$F$30),Ввод!$D$1:$D$30,\"\"),\" / \")","v":""},{"$f":"MyJoin(IF((D$2=Ввод!$C$1:$C$30)*($A262>=Ввод!$E$1:$E$30)*($A262<=Ввод!$F$1:$F$30),Ввод!$D$1:$D$30,\"\"),\" / \")","v":""},{"$f":"MyJoin(IF((E$2=Ввод!$C$1:$C$30)*($A262>=Ввод!$E$1:$E$30)*($A262<=Ввод!$F$1:$F$30),Ввод!$D$1:$D$30,\"\"),\" / \")","v":""},{"$f":"MyJoin(IF((F$2=Ввод!$C$1:$C$30)*($A262>=Ввод!$E$1:$E$30)*($A262<=Ввод!$F$1:$F$30),Ввод!$D$1:$D$30,\"\"),\" / \")","v":""},"2022-09-12"]
["2022-09-13",{"$f":"MyJoin(IF((B$2=Ввод!$C$1:$C$30)*($A263>=Ввод!$E$1:$E$30)*($A263<=Ввод!$F$1:$F$30),Ввод!$D$1:$D$30,\"\"),\" / \")","v":""},{"$f":"MyJoin(IF((C$2=Ввод!$C$1:$C$30)*($A263>=Ввод!$E$1:$E$30)*($A263<=Ввод!$F$1:$F$30),Ввод!$D$1:$D$30,\"\"),\" / \")","v":""},{"$f":"MyJoin(IF((D$2=Ввод!$C$1:$C$30)*($A263>=Ввод!$E$1:$E$30)*($A263<=Ввод!$F$1:$F$30),Ввод!$D$1:$D$30,\"\"),\" / \")","v":""},{"$f":"MyJoin(IF((E$2=Ввод!$C$1:$C$30)*($A263>=Ввод!$E$1:$E$30)*($A263<=Ввод!$F$1:$F$30),Ввод!$D$1:$D$30,\"\"),\" / \")","v":""},{"$f":"MyJoin(IF((F$2=Ввод!$C$1:$C$30)*($A263>=Ввод!$E$1:$E$30)*($A263<=Ввод!$F$1:$F$30),Ввод!$D$1:$D$30,\"\"),\" / \")","v":""},"2022-09-13"]
["2022-09-14",{"$f":"MyJoin(IF((B$2=Ввод!$C$1:$C$30)*($A264>=Ввод!$E$1:$E$30)*($A264<=Ввод!$F$1:$F$30),Ввод!$D$1:$D$30,\"\"),\" / \")","v":""},{"$f":"MyJoin(IF((C$2=Ввод!$C$1:$C$30)*($A264>=Ввод!$E$1:$E$30)*($A264<=Ввод!$F$1:$F$30),Ввод!$D$1:$D$30,\"\"),\" / \")","v":""},{"$f":"MyJoin(IF((D$2=Ввод!$C$1:$C$30)*($A264>=Ввод!$E$1:$E$30)*($A264<=Ввод!$F$1:$F$30),Ввод!$D$1:$D$30,\"\"),\" / \")","v":""},{"$f":"MyJoin(IF((E$2=Ввод!$C$1:$C$30)*($A264>=Ввод!$E$1:$E$30)*($A264<=Ввод!$F$1:$F$30),Ввод!$D$1:$D$30,\"\"),\" / \")","v":""},{"$f":"MyJoin(IF((F$2=Ввод!$C$1:$C$30)*($A264>=Ввод!$E$1:$E$30)*($A264<=Ввод!$F$1:$F$30),Ввод!$D$1:$D$30,\"\"),\" / \")","v":""},"2022-09-14"]
["2022-09-15",{"$f":"MyJoin(IF((B$2=Ввод!$C$1:$C$30)*($A265>=Ввод!$E$1:$E$30)*($A265<=Ввод!$F$1:$F$30),Ввод!$D$1:$D$30,\"\"),\" / \")","v":""},{"$f":"MyJoin(IF((C$2=Ввод!$C$1:$C$30)*($A265>=Ввод!$E$1:$E$30)*($A265<=Ввод!$F$1:$F$30),Ввод!$D$1:$D$30,\"\"),\" / \")","v":""},{"$f":"MyJoin(IF((D$2=Ввод!$C$1:$C$30)*($A265>=Ввод!$E$1:$E$30)*($A265<=Ввод!$F$1:$F$30),Ввод!$D$1:$D$30,\"\"),\" / \")","v":""},{"$f":"MyJoin(IF((E$2=Ввод!$C$1:$C$30)*($A265>=Ввод!$E$1:$E$30)*($A265<=Ввод!$F$1:$F$30),Ввод!$D$1:$D$30,\"\"),\" / \")","v":""},{"$f":"MyJoin(IF((F$2=Ввод!$C$1:$C$30)*($A265>=Ввод!$E$1:$E$30)*($A265<=Ввод!$F$1:$F$30),Ввод!$D$1:$D$30,\"\"),\" / \")","v":""},{"$f":"IF(A265=\"\",\"\",A265)","v":"2022-09-15"}]
["2022-09-16",{"$f":"MyJoin(IF((B$2=Ввод!$C$1:$C$30)*($A266>=Ввод!$E$1:$E$30)*($A266<=Ввод!$F$1:$F$30),Ввод!$D$1:$D$30,\"\"),\" / \")","v":""},{"$f":"MyJoin(IF((C$2=Ввод!$C$1:$C$30)*($A266>=Ввод!$E$1:$E$30)*($A266<=Ввод!$F$1:$F$30),Ввод!$D$1:$D$30,\"\"),\" / \")","v":""},{"$f":"MyJoin(IF((D$2=Ввод!$C$1:$C$30)*($A266>=Ввод!$E$1:$E$30)*($A266<=Ввод!$F$1:$F$30),Ввод!$D$1:$D$30,\"\"),\" / \")","v":""},{"$f":"MyJoin(IF((E$2=Ввод!$C$1:$C$30)*($A266>=Ввод!$E$1:$E$30)*($A266<=Ввод!$F$1:$F$30),Ввод!$D$1:$D$30,\"\"),\" / \")","v":""},{"$f":"MyJoin(IF((F$2=Ввод!$C$1:$C$30)*($A266>=Ввод!$E$1:$E$30)*($A266<=Ввод!$F$1:$F$30),Ввод!$D$1:$D$30,\"\"),\" / \")","v":""},"2022-09-16"]
["2022-09-17",{"$f":"MyJoin(IF((B$2=Ввод!$C$1:$C$30)*($A267>=Ввод!$E$1:$E$30)*($A267<=Ввод!$F$1:$F$30),Ввод!$D$1:$D$30,\"\"),\" / \")","v":""},{"$f":"MyJoin(IF((C$2=Ввод!$C$1:$C$30)*($A267>=Ввод!$E$1:$E$30)*($A267<=Ввод!$F$1:$F$30),Ввод!$D$1:$D$30,\"\"),\" / \")","v":""},{"$f":"MyJoin(IF((D$2=Ввод!$C$1:$C$30)*($A267>=Ввод!$E$1:$E$30)*($A267<=Ввод!$F$1:$F$30),Ввод!$D$1:$D$30,\"\"),\" / \")","v":""},{"$f":"MyJoin(IF((E$2=Ввод!$C$1:$C$30)*($A267>=Ввод!$E$1:$E$30)*($A267<=Ввод!$F$1:$F$30),Ввод!$D$1:$D$30,\"\"),\" / \")","v":""},{"$f":"MyJoin(IF((F$2=Ввод!$C$1:$C$30)*($A267>=Ввод!$E$1:$E$30)*($A267<=Ввод!$F$1:$F$30),Ввод!$D$1:$D$30,\"\"),\" / \")","v":""},"2022-09-17"]
["2022-09-18",{"$f":"MyJoin(IF((B$2=Ввод!$C$1:$C$30)*($A268>=Ввод!$E$1:$E$30)*($A268<=Ввод!$F$1:$F$30),Ввод!$D$1:$D$30,\"\"),\" / \")","v":""},{"$f":"MyJoin(IF((C$2=Ввод!$C$1:$C$30)*($A268>=Ввод!$E$1:$E$30)*($A268<=Ввод!$F$1:$F$30),Ввод!$D$1:$D$30,\"\"),\" / \")","v":""},{"$f":"MyJoin(IF((D$2=Ввод!$C$1:$C$30)*($A268>=Ввод!$E$1:$E$30)*($A268<=Ввод!$F$1:$F$30),Ввод!$D$1:$D$30,\"\"),\" / \")","v":""},{"$f":"MyJoin(IF((E$2=Ввод!$C$1:$C$30)*($A268>=Ввод!$E$1:$E$30)*($A268<=Ввод!$F$1:$F$30),Ввод!$D$1:$D$30,\"\"),\" / \")","v":""},{"$f":"MyJoin(IF((F$2=Ввод!$C$1:$C$30)*($A268>=Ввод!$E$1:$E$30)*($A268<=Ввод!$F$1:$F$30),Ввод!$D$1:$D$30,\"\"),\" / \")","v":""},"2022-09-18"]
["2022-09-19",{"$f":"MyJoin(IF((B$2=Ввод!$C$1:$C$30)*($A269>=Ввод!$E$1:$E$30)*($A269<=Ввод!$F$1:$F$30),Ввод!$D$1:$D$30,\"\"),\" / \")","v":""},{"$f":"MyJoin(IF((C$2=Ввод!$C$1:$C$30)*($A269>=Ввод!$E$1:$E$30)*($A269<=Ввод!$F$1:$F$30),Ввод!$D$1:$D$30,\"\"),\" / \")","v":""},{"$f":"MyJoin(IF((D$2=Ввод!$C$1:$C$30)*($A269>=Ввод!$E$1:$E$30)*($A269<=Ввод!$F$1:$F$30),Ввод!$D$1:$D$30,\"\"),\" / \")","v":""},{"$f":"MyJoin(IF((E$2=Ввод!$C$1:$C$30)*($A269>=Ввод!$E$1:$E$30)*($A269<=Ввод!$F$1:$F$30),Ввод!$D$1:$D$30,\"\"),\" / \")","v":""},{"$f":"MyJoin(IF((F$2=Ввод!$C$1:$C$30)*($A269>=Ввод!$E$1:$E$30)*($A269<=Ввод!$F$1:$F$30),Ввод!$D$1:$D$30,\"\"),\" / \")","v":""},"2022-09-19"]
["2022-09-20",{"$f":"MyJoin(IF((B$2=Ввод!$C$1:$C$30)*($A270>=Ввод!$E$1:$E$30)*($A270<=Ввод!$F$1:$F$30),Ввод!$D$1:$D$30,\"\"),\" / \")","v":""},{"$f":"MyJoin(IF((C$2=Ввод!$C$1:$C$30)*($A270>=Ввод!$E$1:$E$30)*($A270<=Ввод!$F$1:$F$30),Ввод!$D$1:$D$30,\"\"),\" / \")","v":""},{"$f":"MyJoin(IF((D$2=Ввод!$C$1:$C$30)*($A270>=Ввод!$E$1:$E$30)*($A270<=Ввод!$F$1:$F$30),Ввод!$D$1:$D$30,\"\"),\" / \")","v":""},{"$f":"MyJoin(IF((E$2=Ввод!$C$1:$C$30)*($A270>=Ввод!$E$1:$E$30)*($A270<=Ввод!$F$1:$F$30),Ввод!$D$1:$D$30,\"\"),\" / \")","v":""},{"$f":"MyJoin(IF((F$2=Ввод!$C$1:$C$30)*($A270>=Ввод!$E$1:$E$30)*($A270<=Ввод!$F$1:$F$30),Ввод!$D$1:$D$30,\"\"),\" / \")","v":""},"2022-09-20"]
["2022-09-21",{"$f":"MyJoin(IF((B$2=Ввод!$C$1:$C$30)*($A271>=Ввод!$E$1:$E$30)*($A271<=Ввод!$F$1:$F$30),Ввод!$D$1:$D$30,\"\"),\" / \")","v":""},{"$f":"MyJoin(IF((C$2=Ввод!$C$1:$C$30)*($A271>=Ввод!$E$1:$E$30)*($A271<=Ввод!$F$1:$F$30),Ввод!$D$1:$D$30,\"\"),\" / \")","v":""},{"$f":"MyJoin(IF((D$2=Ввод!$C$1:$C$30)*($A271>=Ввод!$E$1:$E$30)*($A271<=Ввод!$F$1:$F$30),Ввод!$D$1:$D$30,\"\"),\" / \")","v":""},{"$f":"MyJoin(IF((E$2=Ввод!$C$1:$C$30)*($A271>=Ввод!$E$1:$E$30)*($A271<=Ввод!$F$1:$F$30),Ввод!$D$1:$D$30,\"\"),\" / \")","v":""},{"$f":"MyJoin(IF((F$2=Ввод!$C$1:$C$30)*($A271>=Ввод!$E$1:$E$30)*($A271<=Ввод!$F$1:$F$30),Ввод!$D$1:$D$30,\"\"),\" / \")","v":""},"2022-09-21"]
["2022-09-22",{"$f":"MyJoin(IF((B$2=Ввод!$C$1:$C$30)*($A272>=Ввод!$E$1:$E$30)*($A272<=Ввод!$F$1:$F$30),Ввод!$D$1:$D$30,\"\"),\" / \")","v":""},{"$f":"MyJoin(IF((C$2=Ввод!$C$1:$C$30)*($A272>=Ввод!$E$1:$E$30)*($A272<=Ввод!$F$1:$F$30),Ввод!$D$1:$D$30,\"\"),\" / \")","v":""},{"$f":"MyJoin(IF((D$2=Ввод!$C$1:$C$30)*($A272>=Ввод!$E$1:$E$30)*($A272<=Ввод!$F$1:$F$30),Ввод!$D$1:$D$30,\"\"),\" / \")","v":""},{"$f":"MyJoin(IF((E$2=Ввод!$C$1:$C$30)*($A272>=Ввод!$E$1:$E$30)*($A272<=Ввод!$F$1:$F$30),Ввод!$D$1:$D$30,\"\"),\" / \")","v":""},{"$f":"MyJoin(IF((F$2=Ввод!$C$1:$C$30)*($A272>=Ввод!$E$1:$E$30)*($A272<=Ввод!$F$1:$F$30),Ввод!$D$1:$D$30,\"\"),\" / \")","v":""},"2022-09-22"]
["2022-09-23",{"$f":"MyJoin(IF((B$2=Ввод!$C$1:$C$30)*($A273>=Ввод!$E$1:$E$30)*($A273<=Ввод!$F$1:$F$30),Ввод!$D$1:$D$30,\"\"),\" / \")","v":""},{"$f":"MyJoin(IF((C$2=Ввод!$C$1:$C$30)*($A273>=Ввод!$E$1:$E$30)*($A273<=Ввод!$F$1:$F$30),Ввод!$D$1:$D$30,\"\"),\" / \")","v":""},{"$f":"MyJoin(IF((D$2=Ввод!$C$1:$C$30)*($A273>=Ввод!$E$1:$E$30)*($A273<=Ввод!$F$1:$F$30),Ввод!$D$1:$D$30,\"\"),\" / \")","v":""},{"$f":"MyJoin(IF((E$2=Ввод!$C$1:$C$30)*($A273>=Ввод!$E$1:$E$30)*($A273<=Ввод!$F$1:$F$30),Ввод!$D$1:$D$30,\"\"),\" / \")","v":""},{"$f":"MyJoin(IF((F$2=Ввод!$C$1:$C$30)*($A273>=Ввод!$E$1:$E$30)*($A273<=Ввод!$F$1:$F$30),Ввод!$D$1:$D$30,\"\"),\" / \")","v":""},"2022-09-23"]
["2022-09-24",{"$f":"MyJoin(IF((B$2=Ввод!$C$1:$C$30)*($A274>=Ввод!$E$1:$E$30)*($A274<=Ввод!$F$1:$F$30),Ввод!$D$1:$D$30,\"\"),\" / \")","v":""},{"$f":"MyJoin(IF((C$2=Ввод!$C$1:$C$30)*($A274>=Ввод!$E$1:$E$30)*($A274<=Ввод!$F$1:$F$30),Ввод!$D$1:$D$30,\"\"),\" / \")","v":""},{"$f":"MyJoin(IF((D$2=Ввод!$C$1:$C$30)*($A274>=Ввод!$E$1:$E$30)*($A274<=Ввод!$F$1:$F$30),Ввод!$D$1:$D$30,\"\"),\" / \")","v":""},{"$f":"MyJoin(IF((E$2=Ввод!$C$1:$C$30)*($A274>=Ввод!$E$1:$E$30)*($A274<=Ввод!$F$1:$F$30),Ввод!$D$1:$D$30,\"\"),\" / \")","v":""},{"$f":"MyJoin(IF((F$2=Ввод!$C$1:$C$30)*($A274>=Ввод!$E$1:$E$30)*($A274<=Ввод!$F$1:$F$30),Ввод!$D$1:$D$30,\"\"),\" / \")","v":""},"2022-09-24"]
["2022-09-25",{"$f":"MyJoin(IF((B$2=Ввод!$C$1:$C$30)*($A275>=Ввод!$E$1:$E$30)*($A275<=Ввод!$F$1:$F$30),Ввод!$D$1:$D$30,\"\"),\" / \")","v":""},{"$f":"MyJoin(IF((C$2=Ввод!$C$1:$C$30)*($A275>=Ввод!$E$1:$E$30)*($A275<=Ввод!$F$1:$F$30),Ввод!$D$1:$D$30,\"\"),\" / \")","v":""},{"$f":"MyJoin(IF((D$2=Ввод!$C$1:$C$30)*($A275>=Ввод!$E$1:$E$30)*($A275<=Ввод!$F$1:$F$30),Ввод!$D$1:$D$30,\"\"),\" / \")","v":""},{"$f":"MyJoin(IF((E$2=Ввод!$C$1:$C$30)*($A275>=Ввод!$E$1:$E$30)*($A275<=Ввод!$F$1:$F$30),Ввод!$D$1:$D$30,\"\"),\" / \")","v":""},{"$f":"MyJoin(IF((F$2=Ввод!$C$1:$C$30)*($A275>=Ввод!$E$1:$E$30)*($A275<=Ввод!$F$1:$F$30),Ввод!$D$1:$D$30,\"\"),\" / \")","v":""},"2022-09-25"]
["2022-09-26",{"$f":"MyJoin(IF((B$2=Ввод!$C$1:$C$30)*($A276>=Ввод!$E$1:$E$30)*($A276<=Ввод!$F$1:$F$30),Ввод!$D$1:$D$30,\"\"),\" / \")","v":""},{"$f":"MyJoin(IF((C$2=Ввод!$C$1:$C$30)*($A276>=Ввод!$E$1:$E$30)*($A276<=Ввод!$F$1:$F$30),Ввод!$D$1:$D$30,\"\"),\" / \")","v":""},{"$f":"MyJoin(IF((D$2=Ввод!$C$1:$C$30)*($A276>=Ввод!$E$1:$E$30)*($A276<=Ввод!$F$1:$F$30),Ввод!$D$1:$D$30,\"\"),\" / \")","v":""},{"$f":"MyJoin(IF((E$2=Ввод!$C$1:$C$30)*($A276>=Ввод!$E$1:$E$30)*($A276<=Ввод!$F$1:$F$30),Ввод!$D$1:$D$30,\"\"),\" / \")","v":""},{"$f":"MyJoin(IF((F$2=Ввод!$C$1:$C$30)*($A276>=Ввод!$E$1:$E$30)*($A276<=Ввод!$F$1:$F$30),Ввод!$D$1:$D$30,\"\"),\" / \")","v":""},"2022-09-26"]
["2022-09-27",{"$f":"MyJoin(IF((B$2=Ввод!$C$1:$C$30)*($A277>=Ввод!$E$1:$E$30)*($A277<=Ввод!$F$1:$F$30),Ввод!$D$1:$D$30,\"\"),\" / \")","v":""},{"$f":"MyJoin(IF((C$2=Ввод!$C$1:$C$30)*($A277>=Ввод!$E$1:$E$30)*($A277<=Ввод!$F$1:$F$30),Ввод!$D$1:$D$30,\"\"),\" / \")","v":""},{"$f":"MyJoin(IF((D$2=Ввод!$C$1:$C$30)*($A277>=Ввод!$E$1:$E$30)*($A277<=Ввод!$F$1:$F$30),Ввод!$D$1:$D$30,\"\"),\" / \")","v":""},{"$f":"MyJoin(IF((E$2=Ввод!$C$1:$C$30)*($A277>=Ввод!$E$1:$E$30)*($A277<=Ввод!$F$1:$F$30),Ввод!$D$1:$D$30,\"\"),\" / \")","v":""},{"$f":"MyJoin(IF((F$2=Ввод!$C$1:$C$30)*($A277>=Ввод!$E$1:$E$30)*($A277<=Ввод!$F$1:$F$30),Ввод!$D$1:$D$30,\"\"),\" / \")","v":""},"2022-09-27"]
["2022-09-28",{"$f":"MyJoin(IF((B$2=Ввод!$C$1:$C$30)*($A278>=Ввод!$E$1:$E$30)*($A278<=Ввод!$F$1:$F$30),Ввод!$D$1:$D$30,\"\"),\" / \")","v":""},{"$f":"MyJoin(IF((C$2=Ввод!$C$1:$C$30)*($A278>=Ввод!$E$1:$E$30)*($A278<=Ввод!$F$1:$F$30),Ввод!$D$1:$D$30,\"\"),\" / \")","v":""},{"$f":"MyJoin(IF((D$2=Ввод!$C$1:$C$30)*($A278>=Ввод!$E$1:$E$30)*($A278<=Ввод!$F$1:$F$30),Ввод!$D$1:$D$30,\"\"),\" / \")","v":""},{"$f":"MyJoin(IF((E$2=Ввод!$C$1:$C$30)*($A278>=Ввод!$E$1:$E$30)*($A278<=Ввод!$F$1:$F$30),Ввод!$D$1:$D$30,\"\"),\" / \")","v":""},{"$f":"MyJoin(IF((F$2=Ввод!$C$1:$C$30)*($A278>=Ввод!$E$1:$E$30)*($A278<=Ввод!$F$1:$F$30),Ввод!$D$1:$D$30,\"\"),\" / \")","v":""},"2022-09-28"]
["2022-09-29",{"$f":"MyJoin(IF((B$2=Ввод!$C$1:$C$30)*($A279>=Ввод!$E$1:$E$30)*($A279<=Ввод!$F$1:$F$30),Ввод!$D$1:$D$30,\"\"),\" / \")","v":""},{"$f":"MyJoin(IF((C$2=Ввод!$C$1:$C$30)*($A279>=Ввод!$E$1:$E$30)*($A279<=Ввод!$F$1:$F$30),Ввод!$D$1:$D$30,\"\"),\" / \")","v":""},{"$f":"MyJoin(IF((D$2=Ввод!$C$1:$C$30)*($A279>=Ввод!$E$1:$E$30)*($A279<=Ввод!$F$1:$F$30),Ввод!$D$1:$D$30,\"\"),\" / \")","v":""},{"$f":"MyJoin(IF((E$2=Ввод!$C$1:$C$30)*($A279>=Ввод!$E$1:$E$30)*($A279<=Ввод!$F$1:$F$30),Ввод!$D$1:$D$30,\"\"),\" / \")","v":""},{"$f":"MyJoin(IF((F$2=Ввод!$C$1:$C$30)*($A279>=Ввод!$E$1:$E$30)*($A279<=Ввод!$F$1:$F$30),Ввод!$D$1:$D$30,\"\"),\" / \")","v":""},"2022-09-29"]
["2022-09-30",{"$f":"MyJoin(IF((B$2=Ввод!$C$1:$C$30)*($A280>=Ввод!$E$1:$E$30)*($A280<=Ввод!$F$1:$F$30),Ввод!$D$1:$D$30,\"\"),\" / \")","v":""},{"$f":"MyJoin(IF((C$2=Ввод!$C$1:$C$30)*($A280>=Ввод!$E$1:$E$30)*($A280<=Ввод!$F$1:$F$30),Ввод!$D$1:$D$30,\"\"),\" / \")","v":""},{"$f":"MyJoin(IF((D$2=Ввод!$C$1:$C$30)*($A280>=Ввод!$E$1:$E$30)*($A280<=Ввод!$F$1:$F$30),Ввод!$D$1:$D$30,\"\"),\" / \")","v":""},{"$f":"MyJoin(IF((E$2=Ввод!$C$1:$C$30)*($A280>=Ввод!$E$1:$E$30)*($A280<=Ввод!$F$1:$F$30),Ввод!$D$1:$D$30,\"\"),\" / \")","v":""},{"$f":"MyJoin(IF((F$2=Ввод!$C$1:$C$30)*($A280>=Ввод!$E$1:$E$30)*($A280<=Ввод!$F$1:$F$30),Ввод!$D$1:$D$30,\"\"),\" / \")","v":""},"2022-09-30"]
["2022-10-01",{"$f":"MyJoin(IF((B$2=Ввод!$C$1:$C$30)*($A281>=Ввод!$E$1:$E$30)*($A281<=Ввод!$F$1:$F$30),Ввод!$D$1:$D$30,\"\"),\" / \")","v":""},{"$f":"MyJoin(IF((C$2=Ввод!$C$1:$C$30)*($A281>=Ввод!$E$1:$E$30)*($A281<=Ввод!$F$1:$F$30),Ввод!$D$1:$D$30,\"\"),\" / \")","v":""},{"$f":"MyJoin(IF((D$2=Ввод!$C$1:$C$30)*($A281>=Ввод!$E$1:$E$30)*($A281<=Ввод!$F$1:$F$30),Ввод!$D$1:$D$30,\"\"),\" / \")","v":""},{"$f":"MyJoin(IF((E$2=Ввод!$C$1:$C$30)*($A281>=Ввод!$E$1:$E$30)*($A281<=Ввод!$F$1:$F$30),Ввод!$D$1:$D$30,\"\"),\" / \")","v":""},{"$f":"MyJoin(IF((F$2=Ввод!$C$1:$C$30)*($A281>=Ввод!$E$1:$E$30)*($A281<=Ввод!$F$1:$F$30),Ввод!$D$1:$D$30,\"\"),\" / \")","v":""},"2022-10-01"]
["2022-10-02",{"$f":"MyJoin(IF((B$2=Ввод!$C$1:$C$30)*($A282>=Ввод!$E$1:$E$30)*($A282<=Ввод!$F$1:$F$30),Ввод!$D$1:$D$30,\"\"),\" / \")","v":""},{"$f":"MyJoin(IF((C$2=Ввод!$C$1:$C$30)*($A282>=Ввод!$E$1:$E$30)*($A282<=Ввод!$F$1:$F$30),Ввод!$D$1:$D$30,\"\"),\" / \")","v":""},{"$f":"MyJoin(IF((D$2=Ввод!$C$1:$C$30)*($A282>=Ввод!$E$1:$E$30)*($A282<=Ввод!$F$1:$F$30),Ввод!$D$1:$D$30,\"\"),\" / \")","v":""},{"$f":"MyJoin(IF((E$2=Ввод!$C$1:$C$30)*($A282>=Ввод!$E$1:$E$30)*($A282<=Ввод!$F$1:$F$30),Ввод!$D$1:$D$30,\"\"),\" / \")","v":""},{"$f":"MyJoin(IF((F$2=Ввод!$C$1:$C$30)*($A282>=Ввод!$E$1:$E$30)*($A282<=Ввод!$F$1:$F$30),Ввод!$D$1:$D$30,\"\"),\" / \")","v":""},"2022-10-02"]
["2022-10-03",{"$f":"MyJoin(IF((B$2=Ввод!$C$1:$C$30)*($A283>=Ввод!$E$1:$E$30)*($A283<=Ввод!$F$1:$F$30),Ввод!$D$1:$D$30,\"\"),\" / \")","v":""},{"$f":"MyJoin(IF((C$2=Ввод!$C$1:$C$30)*($A283>=Ввод!$E$1:$E$30)*($A283<=Ввод!$F$1:$F$30),Ввод!$D$1:$D$30,\"\"),\" / \")","v":""},{"$f":"MyJoin(IF((D$2=Ввод!$C$1:$C$30)*($A283>=Ввод!$E$1:$E$30)*($A283<=Ввод!$F$1:$F$30),Ввод!$D$1:$D$30,\"\"),\" / \")","v":""},{"$f":"MyJoin(IF((E$2=Ввод!$C$1:$C$30)*($A283>=Ввод!$E$1:$E$30)*($A283<=Ввод!$F$1:$F$30),Ввод!$D$1:$D$30,\"\"),\" / \")","v":""},{"$f":"MyJoin(IF((F$2=Ввод!$C$1:$C$30)*($A283>=Ввод!$E$1:$E$30)*($A283<=Ввод!$F$1:$F$30),Ввод!$D$1:$D$30,\"\"),\" / \")","v":""},"2022-10-03"]
["2022-10-04",{"$f":"MyJoin(IF((B$2=Ввод!$C$1:$C$30)*($A284>=Ввод!$E$1:$E$30)*($A284<=Ввод!$F$1:$F$30),Ввод!$D$1:$D$30,\"\"),\" / \")","v":""},{"$f":"MyJoin(IF((C$2=Ввод!$C$1:$C$30)*($A284>=Ввод!$E$1:$E$30)*($A284<=Ввод!$F$1:$F$30),Ввод!$D$1:$D$30,\"\"),\" / \")","v":""},{"$f":"MyJoin(IF((D$2=Ввод!$C$1:$C$30)*($A284>=Ввод!$E$1:$E$30)*($A284<=Ввод!$F$1:$F$30),Ввод!$D$1:$D$30,\"\"),\" / \")","v":""},{"$f":"MyJoin(IF((E$2=Ввод!$C$1:$C$30)*($A284>=Ввод!$E$1:$E$30)*($A284<=Ввод!$F$1:$F$30),Ввод!$D$1:$D$30,\"\"),\" / \")","v":""},{"$f":"MyJoin(IF((F$2=Ввод!$C$1:$C$30)*($A284>=Ввод!$E$1:$E$30)*($A284<=Ввод!$F$1:$F$30),Ввод!$D$1:$D$30,\"\"),\" / \")","v":""},"2022-10-04"]
["2022-10-05",{"$f":"MyJoin(IF((B$2=Ввод!$C$1:$C$30)*($A285>=Ввод!$E$1:$E$30)*($A285<=Ввод!$F$1:$F$30),Ввод!$D$1:$D$30,\"\"),\" / \")","v":""},{"$f":"MyJoin(IF((C$2=Ввод!$C$1:$C$30)*($A285>=Ввод!$E$1:$E$30)*($A285<=Ввод!$F$1:$F$30),Ввод!$D$1:$D$30,\"\"),\" / \")","v":""},{"$f":"MyJoin(IF((D$2=Ввод!$C$1:$C$30)*($A285>=Ввод!$E$1:$E$30)*($A285<=Ввод!$F$1:$F$30),Ввод!$D$1:$D$30,\"\"),\" / \")","v":""},{"$f":"MyJoin(IF((E$2=Ввод!$C$1:$C$30)*($A285>=Ввод!$E$1:$E$30)*($A285<=Ввод!$F$1:$F$30),Ввод!$D$1:$D$30,\"\"),\" / \")","v":""},{"$f":"MyJoin(IF((F$2=Ввод!$C$1:$C$30)*($A285>=Ввод!$E$1:$E$30)*($A285<=Ввод!$F$1:$F$30),Ввод!$D$1:$D$30,\"\"),\" / \")","v":""},"2022-10-05"]
["2022-10-06",{"$f":"MyJoin(IF((B$2=Ввод!$C$1:$C$30)*($A286>=Ввод!$E$1:$E$30)*($A286<=Ввод!$F$1:$F$30),Ввод!$D$1:$D$30,\"\"),\" / \")","v":""},{"$f":"MyJoin(IF((C$2=Ввод!$C$1:$C$30)*($A286>=Ввод!$E$1:$E$30)*($A286<=Ввод!$F$1:$F$30),Ввод!$D$1:$D$30,\"\"),\" / \")","v":""},{"$f":"MyJoin(IF((D$2=Ввод!$C$1:$C$30)*($A286>=Ввод!$E$1:$E$30)*($A286<=Ввод!$F$1:$F$30),Ввод!$D$1:$D$30,\"\"),\" / \")","v":""},{"$f":"MyJoin(IF((E$2=Ввод!$C$1:$C$30)*($A286>=Ввод!$E$1:$E$30)*($A286<=Ввод!$F$1:$F$30),Ввод!$D$1:$D$30,\"\"),\" / \")","v":""},{"$f":"MyJoin(IF((F$2=Ввод!$C$1:$C$30)*($A286>=Ввод!$E$1:$E$30)*($A286<=Ввод!$F$1:$F$30),Ввод!$D$1:$D$30,\"\"),\" / \")","v":""},"2022-10-06"]
["2022-10-07",{"$f":"MyJoin(IF((B$2=Ввод!$C$1:$C$30)*($A287>=Ввод!$E$1:$E$30)*($A287<=Ввод!$F$1:$F$30),Ввод!$D$1:$D$30,\"\"),\" / \")","v":""},{"$f":"MyJoin(IF((C$2=Ввод!$C$1:$C$30)*($A287>=Ввод!$E$1:$E$30)*($A287<=Ввод!$F$1:$F$30),Ввод!$D$1:$D$30,\"\"),\" / \")","v":""},{"$f":"MyJoin(IF((D$2=Ввод!$C$1:$C$30)*($A287>=Ввод!$E$1:$E$30)*($A287<=Ввод!$F$1:$F$30),Ввод!$D$1:$D$30,\"\"),\" / \")","v":""},{"$f":"MyJoin(IF((E$2=Ввод!$C$1:$C$30)*($A287>=Ввод!$E$1:$E$30)*($A287<=Ввод!$F$1:$F$30),Ввод!$D$1:$D$30,\"\"),\" / \")","v":""},{"$f":"MyJoin(IF((F$2=Ввод!$C$1:$C$30)*($A287>=Ввод!$E$1:$E$30)*($A287<=Ввод!$F$1:$F$30),Ввод!$D$1:$D$30,\"\"),\" / \")","v":""},"2022-10-07"]
["2022-10-08",{"$f":"MyJoin(IF((B$2=Ввод!$C$1:$C$30)*($A288>=Ввод!$E$1:$E$30)*($A288<=Ввод!$F$1:$F$30),Ввод!$D$1:$D$30,\"\"),\" / \")","v":""},{"$f":"MyJoin(IF((C$2=Ввод!$C$1:$C$30)*($A288>=Ввод!$E$1:$E$30)*($A288<=Ввод!$F$1:$F$30),Ввод!$D$1:$D$30,\"\"),\" / \")","v":""},{"$f":"MyJoin(IF((D$2=Ввод!$C$1:$C$30)*($A288>=Ввод!$E$1:$E$30)*($A288<=Ввод!$F$1:$F$30),Ввод!$D$1:$D$30,\"\"),\" / \")","v":""},{"$f":"MyJoin(IF((E$2=Ввод!$C$1:$C$30)*($A288>=Ввод!$E$1:$E$30)*($A288<=Ввод!$F$1:$F$30),Ввод!$D$1:$D$30,\"\"),\" / \")","v":""},{"$f":"MyJoin(IF((F$2=Ввод!$C$1:$C$30)*($A288>=Ввод!$E$1:$E$30)*($A288<=Ввод!$F$1:$F$30),Ввод!$D$1:$D$30,\"\"),\" / \")","v":""},"2022-10-08"]
["2022-10-09",{"$f":"MyJoin(IF((B$2=Ввод!$C$1:$C$30)*($A289>=Ввод!$E$1:$E$30)*($A289<=Ввод!$F$1:$F$30),Ввод!$D$1:$D$30,\"\"),\" / \")","v":""},{"$f":"MyJoin(IF((C$2=Ввод!$C$1:$C$30)*($A289>=Ввод!$E$1:$E$30)*($A289<=Ввод!$F$1:$F$30),Ввод!$D$1:$D$30,\"\"),\" / \")","v":""},{"$f":"MyJoin(IF((D$2=Ввод!$C$1:$C$30)*($A289>=Ввод!$E$1:$E$30)*($A289<=Ввод!$F$1:$F$30),Ввод!$D$1:$D$30,\"\"),\" / \")","v":""},{"$f":"MyJoin(IF((E$2=Ввод!$C$1:$C$30)*($A289>=Ввод!$E$1:$E$30)*($A289<=Ввод!$F$1:$F$30),Ввод!$D$1:$D$30,\"\"),\" / \")","v":""},{"$f":"MyJoin(IF((F$2=Ввод!$C$1:$C$30)*($A289>=Ввод!$E$1:$E$30)*($A289<=Ввод!$F$1:$F$30),Ввод!$D$1:$D$30,\"\"),\" / \")","v":""},"2022-10-09"]
["2022-10-10",{"$f":"MyJoin(IF((B$2=Ввод!$C$1:$C$30)*($A290>=Ввод!$E$1:$E$30)*($A290<=Ввод!$F$1:$F$30),Ввод!$D$1:$D$30,\"\"),\" / \")","v":""},{"$f":"MyJoin(IF((C$2=Ввод!$C$1:$C$30)*($A290>=Ввод!$E$1:$E$30)*($A290<=Ввод!$F$1:$F$30),Ввод!$D$1:$D$30,\"\"),\" / \")","v":""},{"$f":"MyJoin(IF((D$2=Ввод!$C$1:$C$30)*($A290>=Ввод!$E$1:$E$30)*($A290<=Ввод!$F$1:$F$30),Ввод!$D$1:$D$30,\"\"),\" / \")","v":""},{"$f":"MyJoin(IF((E$2=Ввод!$C$1:$C$30)*($A290>=Ввод!$E$1:$E$30)*($A290<=Ввод!$F$1:$F$30),Ввод!$D$1:$D$30,\"\"),\" / \")","v":""},{"$f":"MyJoin(IF((F$2=Ввод!$C$1:$C$30)*($A290>=Ввод!$E$1:$E$30)*($A290<=Ввод!$F$1:$F$30),Ввод!$D$1:$D$30,\"\"),\" / \")","v":""},"2022-10-10"]
["2022-10-11",{"$f":"MyJoin(IF((B$2=Ввод!$C$1:$C$30)*($A291>=Ввод!$E$1:$E$30)*($A291<=Ввод!$F$1:$F$30),Ввод!$D$1:$D$30,\"\"),\" / \")","v":""},{"$f":"MyJoin(IF((C$2=Ввод!$C$1:$C$30)*($A291>=Ввод!$E$1:$E$30)*($A291<=Ввод!$F$1:$F$30),Ввод!$D$1:$D$30,\"\"),\" / \")","v":""},{"$f":"MyJoin(IF((D$2=Ввод!$C$1:$C$30)*($A291>=Ввод!$E$1:$E$30)*($A291<=Ввод!$F$1:$F$30),Ввод!$D$1:$D$30,\"\"),\" / \")","v":""},{"$f":"MyJoin(IF((E$2=Ввод!$C$1:$C$30)*($A291>=Ввод!$E$1:$E$30)*($A291<=Ввод!$F$1:$F$30),Ввод!$D$1:$D$30,\"\"),\" / \")","v":""},{"$f":"MyJoin(IF((F$2=Ввод!$C$1:$C$30)*($A291>=Ввод!$E$1:$E$30)*($A291<=Ввод!$F$1:$F$30),Ввод!$D$1:$D$30,\"\"),\" / \")","v":""},"2022-10-11"]
["2022-10-12",{"$f":"MyJoin(IF((B$2=Ввод!$C$1:$C$30)*($A292>=Ввод!$E$1:$E$30)*($A292<=Ввод!$F$1:$F$30),Ввод!$D$1:$D$30,\"\"),\" / \")","v":""},{"$f":"MyJoin(IF((C$2=Ввод!$C$1:$C$30)*($A292>=Ввод!$E$1:$E$30)*($A292<=Ввод!$F$1:$F$30),Ввод!$D$1:$D$30,\"\"),\" / \")","v":""},{"$f":"MyJoin(IF((D$2=Ввод!$C$1:$C$30)*($A292>=Ввод!$E$1:$E$30)*($A292<=Ввод!$F$1:$F$30),Ввод!$D$1:$D$30,\"\"),\" / \")","v":""},{"$f":"MyJoin(IF((E$2=Ввод!$C$1:$C$30)*($A292>=Ввод!$E$1:$E$30)*($A292<=Ввод!$F$1:$F$30),Ввод!$D$1:$D$30,\"\"),\" / \")","v":""},{"$f":"MyJoin(IF((F$2=Ввод!$C$1:$C$30)*($A292>=Ввод!$E$1:$E$30)*($A292<=Ввод!$F$1:$F$30),Ввод!$D$1:$D$30,\"\"),\" / \")","v":""},"2022-10-12"]
["2022-10-13",{"$f":"MyJoin(IF((B$2=Ввод!$C$1:$C$30)*($A293>=Ввод!$E$1:$E$30)*($A293<=Ввод!$F$1:$F$30),Ввод!$D$1:$D$30,\"\"),\" / \")","v":""},{"$f":"MyJoin(IF((C$2=Ввод!$C$1:$C$30)*($A293>=Ввод!$E$1:$E$30)*($A293<=Ввод!$F$1:$F$30),Ввод!$D$1:$D$30,\"\"),\" / \")","v":""},{"$f":"MyJoin(IF((D$2=Ввод!$C$1:$C$30)*($A293>=Ввод!$E$1:$E$30)*($A293<=Ввод!$F$1:$F$30),Ввод!$D$1:$D$30,\"\"),\" / \")","v":""},{"$f":"MyJoin(IF((E$2=Ввод!$C$1:$C$30)*($A293>=Ввод!$E$1:$E$30)*($A293<=Ввод!$F$1:$F$30),Ввод!$D$1:$D$30,\"\"),\" / \")","v":""},{"$f":"MyJoin(IF((F$2=Ввод!$C$1:$C$30)*($A293>=Ввод!$E$1:$E$30)*($A293<=Ввод!$F$1:$F$30),Ввод!$D$1:$D$30,\"\"),\" / \")","v":""},"2022-10-13"]
["2022-10-14",{"$f":"MyJoin(IF((B$2=Ввод!$C$1:$C$30)*($A294>=Ввод!$E$1:$E$30)*($A294<=Ввод!$F$1:$F$30),Ввод!$D$1:$D$30,\"\"),\" / \")","v":""},{"$f":"MyJoin(IF((C$2=Ввод!$C$1:$C$30)*($A294>=Ввод!$E$1:$E$30)*($A294<=Ввод!$F$1:$F$30),Ввод!$D$1:$D$30,\"\"),\" / \")","v":""},{"$f":"MyJoin(IF((D$2=Ввод!$C$1:$C$30)*($A294>=Ввод!$E$1:$E$30)*($A294<=Ввод!$F$1:$F$30),Ввод!$D$1:$D$30,\"\"),\" / \")","v":""},{"$f":"MyJoin(IF((E$2=Ввод!$C$1:$C$30)*($A294>=Ввод!$E$1:$E$30)*($A294<=Ввод!$F$1:$F$30),Ввод!$D$1:$D$30,\"\"),\" / \")","v":""},{"$f":"MyJoin(IF((F$2=Ввод!$C$1:$C$30)*($A294>=Ввод!$E$1:$E$30)*($A294<=Ввод!$F$1:$F$30),Ввод!$D$1:$D$30,\"\"),\" / \")","v":""},"2022-10-14"]
["2022-10-15",{"$f":"MyJoin(IF((B$2=Ввод!$C$1:$C$30)*($A295>=Ввод!$E$1:$E$30)*($A295<=Ввод!$F$1:$F$30),Ввод!$D$1:$D$30,\"\"),\" / \")","v":""},{"$f":"MyJoin(IF((C$2=Ввод!$C$1:$C$30)*($A295>=Ввод!$E$1:$E$30)*($A295<=Ввод!$F$1:$F$30),Ввод!$D$1:$D$30,\"\"),\" / \")","v":""},{"$f":"MyJoin(IF((D$2=Ввод!$C$1:$C$30)*($A295>=Ввод!$E$1:$E$30)*($A295<=Ввод!$F$1:$F$30),Ввод!$D$1:$D$30,\"\"),\" / \")","v":""},{"$f":"MyJoin(IF((E$2=Ввод!$C$1:$C$30)*($A295>=Ввод!$E$1:$E$30)*($A295<=Ввод!$F$1:$F$30),Ввод!$D$1:$D$30,\"\"),\" / \")","v":""},{"$f":"MyJoin(IF((F$2=Ввод!$C$1:$C$30)*($A295>=Ввод!$E$1:$E$30)*($A295<=Ввод!$F$1:$F$30),Ввод!$D$1:$D$30,\"\"),\" / \")","v":""},"2022-10-15"]
["2022-10-16",{"$f":"MyJoin(IF((B$2=Ввод!$C$1:$C$30)*($A296>=Ввод!$E$1:$E$30)*($A296<=Ввод!$F$1:$F$30),Ввод!$D$1:$D$30,\"\"),\" / \")","v":""},{"$f":"MyJoin(IF((C$2=Ввод!$C$1:$C$30)*($A296>=Ввод!$E$1:$E$30)*($A296<=Ввод!$F$1:$F$30),Ввод!$D$1:$D$30,\"\"),\" / \")","v":""},{"$f":"MyJoin(IF((D$2=Ввод!$C$1:$C$30)*($A296>=Ввод!$E$1:$E$30)*($A296<=Ввод!$F$1:$F$30),Ввод!$D$1:$D$30,\"\"),\" / \")","v":""},{"$f":"MyJoin(IF((E$2=Ввод!$C$1:$C$30)*($A296>=Ввод!$E$1:$E$30)*($A296<=Ввод!$F$1:$F$30),Ввод!$D$1:$D$30,\"\"),\" / \")","v":""},{"$f":"MyJoin(IF((F$2=Ввод!$C$1:$C$30)*($A296>=Ввод!$E$1:$E$30)*($A296<=Ввод!$F$1:$F$30),Ввод!$D$1:$D$30,\"\"),\" / \")","v":""},"2022-10-16"]
["2022-10-17",{"$f":"MyJoin(IF((B$2=Ввод!$C$1:$C$30)*($A297>=Ввод!$E$1:$E$30)*($A297<=Ввод!$F$1:$F$30),Ввод!$D$1:$D$30,\"\"),\" / \")","v":""},{"$f":"MyJoin(IF((C$2=Ввод!$C$1:$C$30)*($A297>=Ввод!$E$1:$E$30)*($A297<=Ввод!$F$1:$F$30),Ввод!$D$1:$D$30,\"\"),\" / \")","v":""},{"$f":"MyJoin(IF((D$2=Ввод!$C$1:$C$30)*($A297>=Ввод!$E$1:$E$30)*($A297<=Ввод!$F$1:$F$30),Ввод!$D$1:$D$30,\"\"),\" / \")","v":""},{"$f":"MyJoin(IF((E$2=Ввод!$C$1:$C$30)*($A297>=Ввод!$E$1:$E$30)*($A297<=Ввод!$F$1:$F$30),Ввод!$D$1:$D$30,\"\"),\" / \")","v":""},{"$f":"MyJoin(IF((F$2=Ввод!$C$1:$C$30)*($A297>=Ввод!$E$1:$E$30)*($A297<=Ввод!$F$1:$F$30),Ввод!$D$1:$D$30,\"\"),\" / \")","v":""},"2022-10-17"]
["2022-10-18",{"$f":"MyJoin(IF((B$2=Ввод!$C$1:$C$30)*($A298>=Ввод!$E$1:$E$30)*($A298<=Ввод!$F$1:$F$30),Ввод!$D$1:$D$30,\"\"),\" / \")","v":""},{"$f":"MyJoin(IF((C$2=Ввод!$C$1:$C$30)*($A298>=Ввод!$E$1:$E$30)*($A298<=Ввод!$F$1:$F$30),Ввод!$D$1:$D$30,\"\"),\" / \")","v":""},{"$f":"MyJoin(IF((D$2=Ввод!$C$1:$C$30)*($A298>=Ввод!$E$1:$E$30)*($A298<=Ввод!$F$1:$F$30),Ввод!$D$1:$D$30,\"\"),\" / \")","v":""},{"$f":"MyJoin(IF((E$2=Ввод!$C$1:$C$30)*($A298>=Ввод!$E$1:$E$30)*($A298<=Ввод!$F$1:$F$30),Ввод!$D$1:$D$30,\"\"),\" / \")","v":""},{"$f":"MyJoin(IF((F$2=Ввод!$C$1:$C$30)*($A298>=Ввод!$E$1:$E$30)*($A298<=Ввод!$F$1:$F$30),Ввод!$D$1:$D$30,\"\"),\" / \")","v":""},"2022-10-18"]
["2022-10-19",{"$f":"MyJoin(IF((B$2=Ввод!$C$1:$C$30)*($A299>=Ввод!$E$1:$E$30)*($A299<=Ввод!$F$1:$F$30),Ввод!$D$1:$D$30,\"\"),\" / \")","v":""},{"$f":"MyJoin(IF((C$2=Ввод!$C$1:$C$30)*($A299>=Ввод!$E$1:$E$30)*($A299<=Ввод!$F$1:$F$30),Ввод!$D$1:$D$30,\"\"),\" / \")","v":""},{"$f":"MyJoin(IF((D$2=Ввод!$C$1:$C$30)*($A299>=Ввод!$E$1:$E$30)*($A299<=Ввод!$F$1:$F$30),Ввод!$D$1:$D$30,\"\"),\" / \")","v":""},{"$f":"MyJoin(IF((E$2=Ввод!$C$1:$C$30)*($A299>=Ввод!$E$1:$E$30)*($A299<=Ввод!$F$1:$F$30),Ввод!$D$1:$D$30,\"\"),\" / \")","v":""},{"$f":"MyJoin(IF((F$2=Ввод!$C$1:$C$30)*($A299>=Ввод!$E$1:$E$30)*($A299<=Ввод!$F$1:$F$30),Ввод!$D$1:$D$30,\"\"),\" / \")","v":""},"2022-10-19"]
["2022-10-20",{"$f":"MyJoin(IF((B$2=Ввод!$C$1:$C$30)*($A300>=Ввод!$E$1:$E$30)*($A300<=Ввод!$F$1:$F$30),Ввод!$D$1:$D$30,\"\"),\" / \")","v":""},{"$f":"MyJoin(IF((C$2=Ввод!$C$1:$C$30)*($A300>=Ввод!$E$1:$E$30)*($A300<=Ввод!$F$1:$F$30),Ввод!$D$1:$D$30,\"\"),\" / \")","v":""},{"$f":"MyJoin(IF((D$2=Ввод!$C$1:$C$30)*($A300>=Ввод!$E$1:$E$30)*($A300<=Ввод!$F$1:$F$30),Ввод!$D$1:$D$30,\"\"),\" / \")","v":""},{"$f":"MyJoin(IF((E$2=Ввод!$C$1:$C$30)*($A300>=Ввод!$E$1:$E$30)*($A300<=Ввод!$F$1:$F$30),Ввод!$D$1:$D$30,\"\"),\" / \")","v":""},{"$f":"MyJoin(IF((F$2=Ввод!$C$1:$C$30)*($A300>=Ввод!$E$1:$E$30)*($A300<=Ввод!$F$1:$F$30),Ввод!$D$1:$D$30,\"\"),\" / \")","v":""},"2022-10-20"]
["2022-10-21",{"$f":"MyJoin(IF((B$2=Ввод!$C$1:$C$30)*($A301>=Ввод!$E$1:$E$30)*($A301<=Ввод!$F$1:$F$30),Ввод!$D$1:$D$30,\"\"),\" / \")","v":""},{"$f":"MyJoin(IF((C$2=Ввод!$C$1:$C$30)*($A301>=Ввод!$E$1:$E$30)*($A301<=Ввод!$F$1:$F$30),Ввод!$D$1:$D$30,\"\"),\" / \")","v":""},{"$f":"MyJoin(IF((D$2=Ввод!$C$1:$C$30)*($A301>=Ввод!$E$1:$E$30)*($A301<=Ввод!$F$1:$F$30),Ввод!$D$1:$D$30,\"\"),\" / \")","v":""},{"$f":"MyJoin(IF((E$2=Ввод!$C$1:$C$30)*($A301>=Ввод!$E$1:$E$30)*($A301<=Ввод!$F$1:$F$30),Ввод!$D$1:$D$30,\"\"),\" / \")","v":""},{"$f":"MyJoin(IF((F$2=Ввод!$C$1:$C$30)*($A301>=Ввод!$E$1:$E$30)*($A301<=Ввод!$F$1:$F$30),Ввод!$D$1:$D$30,\"\"),\" / \")","v":""},"2022-10-21"]
["2022-10-22",{"$f":"MyJoin(IF((B$2=Ввод!$C$1:$C$30)*($A302>=Ввод!$E$1:$E$30)*($A302<=Ввод!$F$1:$F$30),Ввод!$D$1:$D$30,\"\"),\" / \")","v":""},{"$f":"MyJoin(IF((C$2=Ввод!$C$1:$C$30)*($A302>=Ввод!$E$1:$E$30)*($A302<=Ввод!$F$1:$F$30),Ввод!$D$1:$D$30,\"\"),\" / \")","v":""},{"$f":"MyJoin(IF((D$2=Ввод!$C$1:$C$30)*($A302>=Ввод!$E$1:$E$30)*($A302<=Ввод!$F$1:$F$30),Ввод!$D$1:$D$30,\"\"),\" / \")","v":""},{"$f":"MyJoin(IF((E$2=Ввод!$C$1:$C$30)*($A302>=Ввод!$E$1:$E$30)*($A302<=Ввод!$F$1:$F$30),Ввод!$D$1:$D$30,\"\"),\" / \")","v":""},{"$f":"MyJoin(IF((F$2=Ввод!$C$1:$C$30)*($A302>=Ввод!$E$1:$E$30)*($A302<=Ввод!$F$1:$F$30),Ввод!$D$1:$D$30,\"\"),\" / \")","v":""},"2022-10-22"]
["2022-10-23",{"$f":"MyJoin(IF((B$2=Ввод!$C$1:$C$30)*($A303>=Ввод!$E$1:$E$30)*($A303<=Ввод!$F$1:$F$30),Ввод!$D$1:$D$30,\"\"),\" / \")","v":""},{"$f":"MyJoin(IF((C$2=Ввод!$C$1:$C$30)*($A303>=Ввод!$E$1:$E$30)*($A303<=Ввод!$F$1:$F$30),Ввод!$D$1:$D$30,\"\"),\" / \")","v":""},{"$f":"MyJoin(IF((D$2=Ввод!$C$1:$C$30)*($A303>=Ввод!$E$1:$E$30)*($A303<=Ввод!$F$1:$F$30),Ввод!$D$1:$D$30,\"\"),\" / \")","v":""},{"$f":"MyJoin(IF((E$2=Ввод!$C$1:$C$30)*($A303>=Ввод!$E$1:$E$30)*($A303<=Ввод!$F$1:$F$30),Ввод!$D$1:$D$30,\"\"),\" / \")","v":""},{"$f":"MyJoin(IF((F$2=Ввод!$C$1:$C$30)*($A303>=Ввод!$E$1:$E$30)*($A303<=Ввод!$F$1:$F$30),Ввод!$D$1:$D$30,\"\"),\" / \")","v":""},"2022-10-23"]
["2022-10-24",{"$f":"MyJoin(IF((B$2=Ввод!$C$1:$C$30)*($A304>=Ввод!$E$1:$E$30)*($A304<=Ввод!$F$1:$F$30),Ввод!$D$1:$D$30,\"\"),\" / \")","v":""},{"$f":"MyJoin(IF((C$2=Ввод!$C$1:$C$30)*($A304>=Ввод!$E$1:$E$30)*($A304<=Ввод!$F$1:$F$30),Ввод!$D$1:$D$30,\"\"),\" / \")","v":""},{"$f":"MyJoin(IF((D$2=Ввод!$C$1:$C$30)*($A304>=Ввод!$E$1:$E$30)*($A304<=Ввод!$F$1:$F$30),Ввод!$D$1:$D$30,\"\"),\" / \")","v":""},{"$f":"MyJoin(IF((E$2=Ввод!$C$1:$C$30)*($A304>=Ввод!$E$1:$E$30)*($A304<=Ввод!$F$1:$F$30),Ввод!$D$1:$D$30,\"\"),\" / \")","v":""},{"$f":"MyJoin(IF((F$2=Ввод!$C$1:$C$30)*($A304>=Ввод!$E$1:$E$30)*($A304<=Ввод!$F$1:$F$30),Ввод!$D$1:$D$30,\"\"),\" / \")","v":""},"2022-10-24"]
["2022-10-25",{"$f":"MyJoin(IF((B$2=Ввод!$C$1:$C$30)*($A305>=Ввод!$E$1:$E$30)*($A305<=Ввод!$F$1:$F$30),Ввод!$D$1:$D$30,\"\"),\" / \")","v":""},{"$f":"MyJoin(IF((C$2=Ввод!$C$1:$C$30)*($A305>=Ввод!$E$1:$E$30)*($A305<=Ввод!$F$1:$F$30),Ввод!$D$1:$D$30,\"\"),\" / \")","v":""},{"$f":"MyJoin(IF((D$2=Ввод!$C$1:$C$30)*($A305>=Ввод!$E$1:$E$30)*($A305<=Ввод!$F$1:$F$30),Ввод!$D$1:$D$30,\"\"),\" / \")","v":""},{"$f":"MyJoin(IF((E$2=Ввод!$C$1:$C$30)*($A305>=Ввод!$E$1:$E$30)*($A305<=Ввод!$F$1:$F$30),Ввод!$D$1:$D$30,\"\"),\" / \")","v":""},{"$f":"MyJoin(IF((F$2=Ввод!$C$1:$C$30)*($A305>=Ввод!$E$1:$E$30)*($A305<=Ввод!$F$1:$F$30),Ввод!$D$1:$D$30,\"\"),\" / \")","v":""},"2022-10-25"]
["2022-10-26",{"$f":"MyJoin(IF((B$2=Ввод!$C$1:$C$30)*($A306>=Ввод!$E$1:$E$30)*($A306<=Ввод!$F$1:$F$30),Ввод!$D$1:$D$30,\"\"),\" / \")","v":""},{"$f":"MyJoin(IF((C$2=Ввод!$C$1:$C$30)*($A306>=Ввод!$E$1:$E$30)*($A306<=Ввод!$F$1:$F$30),Ввод!$D$1:$D$30,\"\"),\" / \")","v":""},{"$f":"MyJoin(IF((D$2=Ввод!$C$1:$C$30)*($A306>=Ввод!$E$1:$E$30)*($A306<=Ввод!$F$1:$F$30),Ввод!$D$1:$D$30,\"\"),\" / \")","v":""},{"$f":"MyJoin(IF((E$2=Ввод!$C$1:$C$30)*($A306>=Ввод!$E$1:$E$30)*($A306<=Ввод!$F$1:$F$30),Ввод!$D$1:$D$30,\"\"),\" / \")","v":""},{"$f":"MyJoin(IF((F$2=Ввод!$C$1:$C$30)*($A306>=Ввод!$E$1:$E$30)*($A306<=Ввод!$F$1:$F$30),Ввод!$D$1:$D$30,\"\"),\" / \")","v":""},"2022-10-26"]
["2022-10-27",{"$f":"MyJoin(IF((B$2=Ввод!$C$1:$C$30)*($A307>=Ввод!$E$1:$E$30)*($A307<=Ввод!$F$1:$F$30),Ввод!$D$1:$D$30,\"\"),\" / \")","v":""},{"$f":"MyJoin(IF((C$2=Ввод!$C$1:$C$30)*($A307>=Ввод!$E$1:$E$30)*($A307<=Ввод!$F$1:$F$30),Ввод!$D$1:$D$30,\"\"),\" / \")","v":""},{"$f":"MyJoin(IF((D$2=Ввод!$C$1:$C$30)*($A307>=Ввод!$E$1:$E$30)*($A307<=Ввод!$F$1:$F$30),Ввод!$D$1:$D$30,\"\"),\" / \")","v":""},{"$f":"MyJoin(IF((E$2=Ввод!$C$1:$C$30)*($A307>=Ввод!$E$1:$E$30)*($A307<=Ввод!$F$1:$F$30),Ввод!$D$1:$D$30,\"\"),\" / \")","v":""},{"$f":"MyJoin(IF((F$2=Ввод!$C$1:$C$30)*($A307>=Ввод!$E$1:$E$30)*($A307<=Ввод!$F$1:$F$30),Ввод!$D$1:$D$30,\"\"),\" / \")","v":""},"2022-10-27"]
["2022-10-28",{"$f":"MyJoin(IF((B$2=Ввод!$C$1:$C$30)*($A308>=Ввод!$E$1:$E$30)*($A308<=Ввод!$F$1:$F$30),Ввод!$D$1:$D$30,\"\"),\" / \")","v":""},{"$f":"MyJoin(IF((C$2=Ввод!$C$1:$C$30)*($A308>=Ввод!$E$1:$E$30)*($A308<=Ввод!$F$1:$F$30),Ввод!$D$1:$D$30,\"\"),\" / \")","v":""},{"$f":"MyJoin(IF((D$2=Ввод!$C$1:$C$30)*($A308>=Ввод!$E$1:$E$30)*($A308<=Ввод!$F$1:$F$30),Ввод!$D$1:$D$30,\"\"),\" / \")","v":""},{"$f":"MyJoin(IF((E$2=Ввод!$C$1:$C$30)*($A308>=Ввод!$E$1:$E$30)*($A308<=Ввод!$F$1:$F$30),Ввод!$D$1:$D$30,\"\"),\" / \")","v":""},{"$f":"MyJoin(IF((F$2=Ввод!$C$1:$C$30)*($A308>=Ввод!$E$1:$E$30)*($A308<=Ввод!$F$1:$F$30),Ввод!$D$1:$D$30,\"\"),\" / \")","v":""},"2022-10-28"]
["2022-10-29",{"$f":"MyJoin(IF((B$2=Ввод!$C$1:$C$30)*($A309>=Ввод!$E$1:$E$30)*($A309<=Ввод!$F$1:$F$30),Ввод!$D$1:$D$30,\"\"),\" / \")","v":""},{"$f":"MyJoin(IF((C$2=Ввод!$C$1:$C$30)*($A309>=Ввод!$E$1:$E$30)*($A309<=Ввод!$F$1:$F$30),Ввод!$D$1:$D$30,\"\"),\" / \")","v":""},{"$f":"MyJoin(IF((D$2=Ввод!$C$1:$C$30)*($A309>=Ввод!$E$1:$E$30)*($A309<=Ввод!$F$1:$F$30),Ввод!$D$1:$D$30,\"\"),\" / \")","v":""},{"$f":"MyJoin(IF((E$2=Ввод!$C$1:$C$30)*($A309>=Ввод!$E$1:$E$30)*($A309<=Ввод!$F$1:$F$30),Ввод!$D$1:$D$30,\"\"),\" / \")","v":""},{"$f":"MyJoin(IF((F$2=Ввод!$C$1:$C$30)*($A309>=Ввод!$E$1:$E$30)*($A309<=Ввод!$F$1:$F$30),Ввод!$D$1:$D$30,\"\"),\" / \")","v":""},"2022-10-29"]
["2022-10-30",{"$f":"MyJoin(IF((B$2=Ввод!$C$1:$C$30)*($A310>=Ввод!$E$1:$E$30)*($A310<=Ввод!$F$1:$F$30),Ввод!$D$1:$D$30,\"\"),\" / \")","v":""},{"$f":"MyJoin(IF((C$2=Ввод!$C$1:$C$30)*($A310>=Ввод!$E$1:$E$30)*($A310<=Ввод!$F$1:$F$30),Ввод!$D$1:$D$30,\"\"),\" / \")","v":""},{"$f":"MyJoin(IF((D$2=Ввод!$C$1:$C$30)*($A310>=Ввод!$E$1:$E$30)*($A310<=Ввод!$F$1:$F$30),Ввод!$D$1:$D$30,\"\"),\" / \")","v":""},{"$f":"MyJoin(IF((E$2=Ввод!$C$1:$C$30)*($A310>=Ввод!$E$1:$E$30)*($A310<=Ввод!$F$1:$F$30),Ввод!$D$1:$D$30,\"\"),\" / \")","v":""},{"$f":"MyJoin(IF((F$2=Ввод!$C$1:$C$30)*($A310>=Ввод!$E$1:$E$30)*($A310<=Ввод!$F$1:$F$30),Ввод!$D$1:$D$30,\"\"),\" / \")","v":""},"2022-10-30"]
["2022-10-31",{"$f":"MyJoin(IF((B$2=Ввод!$C$1:$C$30)*($A311>=Ввод!$E$1:$E$30)*($A311<=Ввод!$F$1:$F$30),Ввод!$D$1:$D$30,\"\"),\" / \")","v":""},{"$f":"MyJoin(IF((C$2=Ввод!$C$1:$C$30)*($A311>=Ввод!$E$1:$E$30)*($A311<=Ввод!$F$1:$F$30),Ввод!$D$1:$D$30,\"\"),\" / \")","v":""},{"$f":"MyJoin(IF((D$2=Ввод!$C$1:$C$30)*($A311>=Ввод!$E$1:$E$30)*($A311<=Ввод!$F$1:$F$30),Ввод!$D$1:$D$30,\"\"),\" / \")","v":""},{"$f":"MyJoin(IF((E$2=Ввод!$C$1:$C$30)*($A311>=Ввод!$E$1:$E$30)*($A311<=Ввод!$F$1:$F$30),Ввод!$D$1:$D$30,\"\"),\" / \")","v":""},{"$f":"MyJoin(IF((F$2=Ввод!$C$1:$C$30)*($A311>=Ввод!$E$1:$E$30)*($A311<=Ввод!$F$1:$F$30),Ввод!$D$1:$D$30,\"\"),\" / \")","v":""},"2022-10-31"]
["2022-11-01",{"$f":"MyJoin(IF((B$2=Ввод!$C$1:$C$30)*($A312>=Ввод!$E$1:$E$30)*($A312<=Ввод!$F$1:$F$30),Ввод!$D$1:$D$30,\"\"),\" / \")","v":""},{"$f":"MyJoin(IF((C$2=Ввод!$C$1:$C$30)*($A312>=Ввод!$E$1:$E$30)*($A312<=Ввод!$F$1:$F$30),Ввод!$D$1:$D$30,\"\"),\" / \")","v":""},{"$f":"MyJoin(IF((D$2=Ввод!$C$1:$C$30)*($A312>=Ввод!$E$1:$E$30)*($A312<=Ввод!$F$1:$F$30),Ввод!$D$1:$D$30,\"\"),\" / \")","v":""},{"$f":"MyJoin(IF((E$2=Ввод!$C$1:$C$30)*($A312>=Ввод!$E$1:$E$30)*($A312<=Ввод!$F$1:$F$30),Ввод!$D$1:$D$30,\"\"),\" / \")","v":""},{"$f":"MyJoin(IF((F$2=Ввод!$C$1:$C$30)*($A312>=Ввод!$E$1:$E$30)*($A312<=Ввод!$F$1:$F$30),Ввод!$D$1:$D$30,\"\"),\" / \")","v":""},"2022-11-01"]
["2022-11-02",{"$f":"MyJoin(IF((B$2=Ввод!$C$1:$C$30)*($A313>=Ввод!$E$1:$E$30)*($A313<=Ввод!$F$1:$F$30),Ввод!$D$1:$D$30,\"\"),\" / \")","v":""},{"$f":"MyJoin(IF((C$2=Ввод!$C$1:$C$30)*($A313>=Ввод!$E$1:$E$30)*($A313<=Ввод!$F$1:$F$30),Ввод!$D$1:$D$30,\"\"),\" / \")","v":""},{"$f":"MyJoin(IF((D$2=Ввод!$C$1:$C$30)*($A313>=Ввод!$E$1:$E$30)*($A313<=Ввод!$F$1:$F$30),Ввод!$D$1:$D$30,\"\"),\" / \")","v":""},{"$f":"MyJoin(IF((E$2=Ввод!$C$1:$C$30)*($A313>=Ввод!$E$1:$E$30)*($A313<=Ввод!$F$1:$F$30),Ввод!$D$1:$D$30,\"\"),\" / \")","v":""},{"$f":"MyJoin(IF((F$2=Ввод!$C$1:$C$30)*($A313>=Ввод!$E$1:$E$30)*($A313<=Ввод!$F$1:$F$30),Ввод!$D$1:$D$30,\"\"),\" / \")","v":""},"2022-11-02"]
["2022-11-03",{"$f":"MyJoin(IF((B$2=Ввод!$C$1:$C$30)*($A314>=Ввод!$E$1:$E$30)*($A314<=Ввод!$F$1:$F$30),Ввод!$D$1:$D$30,\"\"),\" / \")","v":""},{"$f":"MyJoin(IF((C$2=Ввод!$C$1:$C$30)*($A314>=Ввод!$E$1:$E$30)*($A314<=Ввод!$F$1:$F$30),Ввод!$D$1:$D$30,\"\"),\" / \")","v":""},{"$f":"MyJoin(IF((D$2=Ввод!$C$1:$C$30)*($A314>=Ввод!$E$1:$E$30)*($A314<=Ввод!$F$1:$F$30),Ввод!$D$1:$D$30,\"\"),\" / \")","v":""},{"$f":"MyJoin(IF((E$2=Ввод!$C$1:$C$30)*($A314>=Ввод!$E$1:$E$30)*($A314<=Ввод!$F$1:$F$30),Ввод!$D$1:$D$30,\"\"),\" / \")","v":""},{"$f":"MyJoin(IF((F$2=Ввод!$C$1:$C$30)*($A314>=Ввод!$E$1:$E$30)*($A314<=Ввод!$F$1:$F$30),Ввод!$D$1:$D$30,\"\"),\" / \")","v":""},"2022-11-03"]
["2022-11-04",{"$f":"MyJoin(IF((B$2=Ввод!$C$1:$C$30)*($A315>=Ввод!$E$1:$E$30)*($A315<=Ввод!$F$1:$F$30),Ввод!$D$1:$D$30,\"\"),\" / \")","v":""},{"$f":"MyJoin(IF((C$2=Ввод!$C$1:$C$30)*($A315>=Ввод!$E$1:$E$30)*($A315<=Ввод!$F$1:$F$30),Ввод!$D$1:$D$30,\"\"),\" / \")","v":""},{"$f":"MyJoin(IF((D$2=Ввод!$C$1:$C$30)*($A315>=Ввод!$E$1:$E$30)*($A315<=Ввод!$F$1:$F$30),Ввод!$D$1:$D$30,\"\"),\" / \")","v":""},{"$f":"MyJoin(IF((E$2=Ввод!$C$1:$C$30)*($A315>=Ввод!$E$1:$E$30)*($A315<=Ввод!$F$1:$F$30),Ввод!$D$1:$D$30,\"\"),\" / \")","v":""},{"$f":"MyJoin(IF((F$2=Ввод!$C$1:$C$30)*($A315>=Ввод!$E$1:$E$30)*($A315<=Ввод!$F$1:$F$30),Ввод!$D$1:$D$30,\"\"),\" / \")","v":""},"2022-11-04"]
["2022-11-05",{"$f":"MyJoin(IF((B$2=Ввод!$C$1:$C$30)*($A316>=Ввод!$E$1:$E$30)*($A316<=Ввод!$F$1:$F$30),Ввод!$D$1:$D$30,\"\"),\" / \")","v":""},{"$f":"MyJoin(IF((C$2=Ввод!$C$1:$C$30)*($A316>=Ввод!$E$1:$E$30)*($A316<=Ввод!$F$1:$F$30),Ввод!$D$1:$D$30,\"\"),\" / \")","v":""},{"$f":"MyJoin(IF((D$2=Ввод!$C$1:$C$30)*($A316>=Ввод!$E$1:$E$30)*($A316<=Ввод!$F$1:$F$30),Ввод!$D$1:$D$30,\"\"),\" / \")","v":""},{"$f":"MyJoin(IF((E$2=Ввод!$C$1:$C$30)*($A316>=Ввод!$E$1:$E$30)*($A316<=Ввод!$F$1:$F$30),Ввод!$D$1:$D$30,\"\"),\" / \")","v":""},{"$f":"MyJoin(IF((F$2=Ввод!$C$1:$C$30)*($A316>=Ввод!$E$1:$E$30)*($A316<=Ввод!$F$1:$F$30),Ввод!$D$1:$D$30,\"\"),\" / \")","v":""},"2022-11-05"]
["2022-11-06",{"$f":"MyJoin(IF((B$2=Ввод!$C$1:$C$30)*($A317>=Ввод!$E$1:$E$30)*($A317<=Ввод!$F$1:$F$30),Ввод!$D$1:$D$30,\"\"),\" / \")","v":""},{"$f":"MyJoin(IF((C$2=Ввод!$C$1:$C$30)*($A317>=Ввод!$E$1:$E$30)*($A317<=Ввод!$F$1:$F$30),Ввод!$D$1:$D$30,\"\"),\" / \")","v":""},{"$f":"MyJoin(IF((D$2=Ввод!$C$1:$C$30)*($A317>=Ввод!$E$1:$E$30)*($A317<=Ввод!$F$1:$F$30),Ввод!$D$1:$D$30,\"\"),\" / \")","v":""},{"$f":"MyJoin(IF((E$2=Ввод!$C$1:$C$30)*($A317>=Ввод!$E$1:$E$30)*($A317<=Ввод!$F$1:$F$30),Ввод!$D$1:$D$30,\"\"),\" / \")","v":""},{"$f":"MyJoin(IF((F$2=Ввод!$C$1:$C$30)*($A317>=Ввод!$E$1:$E$30)*($A317<=Ввод!$F$1:$F$30),Ввод!$D$1:$D$30,\"\"),\" / \")","v":""},"2022-11-06"]
["2022-11-07",{"$f":"MyJoin(IF((B$2=Ввод!$C$1:$C$30)*($A318>=Ввод!$E$1:$E$30)*($A318<=Ввод!$F$1:$F$30),Ввод!$D$1:$D$30,\"\"),\" / \")","v":""},{"$f":"MyJoin(IF((C$2=Ввод!$C$1:$C$30)*($A318>=Ввод!$E$1:$E$30)*($A318<=Ввод!$F$1:$F$30),Ввод!$D$1:$D$30,\"\"),\" / \")","v":""},{"$f":"MyJoin(IF((D$2=Ввод!$C$1:$C$30)*($A318>=Ввод!$E$1:$E$30)*($A318<=Ввод!$F$1:$F$30),Ввод!$D$1:$D$30,\"\"),\" / \")","v":""},{"$f":"MyJoin(IF((E$2=Ввод!$C$1:$C$30)*($A318>=Ввод!$E$1:$E$30)*($A318<=Ввод!$F$1:$F$30),Ввод!$D$1:$D$30,\"\"),\" / \")","v":""},{"$f":"MyJoin(IF((F$2=Ввод!$C$1:$C$30)*($A318>=Ввод!$E$1:$E$30)*($A318<=Ввод!$F$1:$F$30),Ввод!$D$1:$D$30,\"\"),\" / \")","v":""},"2022-11-07"]
["2022-11-08",{"$f":"MyJoin(IF((B$2=Ввод!$C$1:$C$30)*($A319>=Ввод!$E$1:$E$30)*($A319<=Ввод!$F$1:$F$30),Ввод!$D$1:$D$30,\"\"),\" / \")","v":""},{"$f":"MyJoin(IF((C$2=Ввод!$C$1:$C$30)*($A319>=Ввод!$E$1:$E$30)*($A319<=Ввод!$F$1:$F$30),Ввод!$D$1:$D$30,\"\"),\" / \")","v":""},{"$f":"MyJoin(IF((D$2=Ввод!$C$1:$C$30)*($A319>=Ввод!$E$1:$E$30)*($A319<=Ввод!$F$1:$F$30),Ввод!$D$1:$D$30,\"\"),\" / \")","v":""},{"$f":"MyJoin(IF((E$2=Ввод!$C$1:$C$30)*($A319>=Ввод!$E$1:$E$30)*($A319<=Ввод!$F$1:$F$30),Ввод!$D$1:$D$30,\"\"),\" / \")","v":""},{"$f":"MyJoin(IF((F$2=Ввод!$C$1:$C$30)*($A319>=Ввод!$E$1:$E$30)*($A319<=Ввод!$F$1:$F$30),Ввод!$D$1:$D$30,\"\"),\" / \")","v":""},"2022-11-08"]
["2022-11-09",{"$f":"MyJoin(IF((B$2=Ввод!$C$1:$C$30)*($A320>=Ввод!$E$1:$E$30)*($A320<=Ввод!$F$1:$F$30),Ввод!$D$1:$D$30,\"\"),\" / \")","v":""},{"$f":"MyJoin(IF((C$2=Ввод!$C$1:$C$30)*($A320>=Ввод!$E$1:$E$30)*($A320<=Ввод!$F$1:$F$30),Ввод!$D$1:$D$30,\"\"),\" / \")","v":""},{"$f":"MyJoin(IF((D$2=Ввод!$C$1:$C$30)*($A320>=Ввод!$E$1:$E$30)*($A320<=Ввод!$F$1:$F$30),Ввод!$D$1:$D$30,\"\"),\" / \")","v":""},{"$f":"MyJoin(IF((E$2=Ввод!$C$1:$C$30)*($A320>=Ввод!$E$1:$E$30)*($A320<=Ввод!$F$1:$F$30),Ввод!$D$1:$D$30,\"\"),\" / \")","v":""},{"$f":"MyJoin(IF((F$2=Ввод!$C$1:$C$30)*($A320>=Ввод!$E$1:$E$30)*($A320<=Ввод!$F$1:$F$30),Ввод!$D$1:$D$30,\"\"),\" / \")","v":""},"2022-11-09"]
["2022-11-10",{"$f":"MyJoin(IF((B$2=Ввод!$C$1:$C$30)*($A321>=Ввод!$E$1:$E$30)*($A321<=Ввод!$F$1:$F$30),Ввод!$D$1:$D$30,\"\"),\" / \")","v":""},{"$f":"MyJoin(IF((C$2=Ввод!$C$1:$C$30)*($A321>=Ввод!$E$1:$E$30)*($A321<=Ввод!$F$1:$F$30),Ввод!$D$1:$D$30,\"\"),\" / \")","v":""},{"$f":"MyJoin(IF((D$2=Ввод!$C$1:$C$30)*($A321>=Ввод!$E$1:$E$30)*($A321<=Ввод!$F$1:$F$30),Ввод!$D$1:$D$30,\"\"),\" / \")","v":""},{"$f":"MyJoin(IF((E$2=Ввод!$C$1:$C$30)*($A321>=Ввод!$E$1:$E$30)*($A321<=Ввод!$F$1:$F$30),Ввод!$D$1:$D$30,\"\"),\" / \")","v":""},{"$f":"MyJoin(IF((F$2=Ввод!$C$1:$C$30)*($A321>=Ввод!$E$1:$E$30)*($A321<=Ввод!$F$1:$F$30),Ввод!$D$1:$D$30,\"\"),\" / \")","v":""},"2022-11-10"]
["2022-11-11",{"$f":"MyJoin(IF((B$2=Ввод!$C$1:$C$30)*($A322>=Ввод!$E$1:$E$30)*($A322<=Ввод!$F$1:$F$30),Ввод!$D$1:$D$30,\"\"),\" / \")","v":""},{"$f":"MyJoin(IF((C$2=Ввод!$C$1:$C$30)*($A322>=Ввод!$E$1:$E$30)*($A322<=Ввод!$F$1:$F$30),Ввод!$D$1:$D$30,\"\"),\" / \")","v":""},{"$f":"MyJoin(IF((D$2=Ввод!$C$1:$C$30)*($A322>=Ввод!$E$1:$E$30)*($A322<=Ввод!$F$1:$F$30),Ввод!$D$1:$D$30,\"\"),\" / \")","v":""},{"$f":"MyJoin(IF((E$2=Ввод!$C$1:$C$30)*($A322>=Ввод!$E$1:$E$30)*($A322<=Ввод!$F$1:$F$30),Ввод!$D$1:$D$30,\"\"),\" / \")","v":""},{"$f":"MyJoin(IF((F$2=Ввод!$C$1:$C$30)*($A322>=Ввод!$E$1:$E$30)*($A322<=Ввод!$F$1:$F$30),Ввод!$D$1:$D$30,\"\"),\" / \")","v":""},"2022-11-11"]
["2022-11-12",{"$f":"MyJoin(IF((B$2=Ввод!$C$1:$C$30)*($A323>=Ввод!$E$1:$E$30)*($A323<=Ввод!$F$1:$F$30),Ввод!$D$1:$D$30,\"\"),\" / \")","v":""},{"$f":"MyJoin(IF((C$2=Ввод!$C$1:$C$30)*($A323>=Ввод!$E$1:$E$30)*($A323<=Ввод!$F$1:$F$30),Ввод!$D$1:$D$30,\"\"),\" / \")","v":""},{"$f":"MyJoin(IF((D$2=Ввод!$C$1:$C$30)*($A323>=Ввод!$E$1:$E$30)*($A323<=Ввод!$F$1:$F$30),Ввод!$D$1:$D$30,\"\"),\" / \")","v":""},{"$f":"MyJoin(IF((E$2=Ввод!$C$1:$C$30)*($A323>=Ввод!$E$1:$E$30)*($A323<=Ввод!$F$1:$F$30),Ввод!$D$1:$D$30,\"\"),\" / \")","v":""},{"$f":"MyJoin(IF((F$2=Ввод!$C$1:$C$30)*($A323>=Ввод!$E$1:$E$30)*($A323<=Ввод!$F$1:$F$30),Ввод!$D$1:$D$30,\"\"),\" / \")","v":""},"2022-11-12"]
["2022-11-13",{"$f":"MyJoin(IF((B$2=Ввод!$C$1:$C$30)*($A324>=Ввод!$E$1:$E$30)*($A324<=Ввод!$F$1:$F$30),Ввод!$D$1:$D$30,\"\"),\" / \")","v":""},{"$f":"MyJoin(IF((C$2=Ввод!$C$1:$C$30)*($A324>=Ввод!$E$1:$E$30)*($A324<=Ввод!$F$1:$F$30),Ввод!$D$1:$D$30,\"\"),\" / \")","v":""},{"$f":"MyJoin(IF((D$2=Ввод!$C$1:$C$30)*($A324>=Ввод!$E$1:$E$30)*($A324<=Ввод!$F$1:$F$30),Ввод!$D$1:$D$30,\"\"),\" / \")","v":""},{"$f":"MyJoin(IF((E$2=Ввод!$C$1:$C$30)*($A324>=Ввод!$E$1:$E$30)*($A324<=Ввод!$F$1:$F$30),Ввод!$D$1:$D$30,\"\"),\" / \")","v":""},{"$f":"MyJoin(IF((F$2=Ввод!$C$1:$C$30)*($A324>=Ввод!$E$1:$E$30)*($A324<=Ввод!$F$1:$F$30),Ввод!$D$1:$D$30,\"\"),\" / \")","v":""},"2022-11-13"]
["2022-11-14",{"$f":"MyJoin(IF((B$2=Ввод!$C$1:$C$30)*($A325>=Ввод!$E$1:$E$30)*($A325<=Ввод!$F$1:$F$30),Ввод!$D$1:$D$30,\"\"),\" / \")","v":""},{"$f":"MyJoin(IF((C$2=Ввод!$C$1:$C$30)*($A325>=Ввод!$E$1:$E$30)*($A325<=Ввод!$F$1:$F$30),Ввод!$D$1:$D$30,\"\"),\" / \")","v":""},{"$f":"MyJoin(IF((D$2=Ввод!$C$1:$C$30)*($A325>=Ввод!$E$1:$E$30)*($A325<=Ввод!$F$1:$F$30),Ввод!$D$1:$D$30,\"\"),\" / \")","v":""},{"$f":"MyJoin(IF((E$2=Ввод!$C$1:$C$30)*($A325>=Ввод!$E$1:$E$30)*($A325<=Ввод!$F$1:$F$30),Ввод!$D$1:$D$30,\"\"),\" / \")","v":""},{"$f":"MyJoin(IF((F$2=Ввод!$C$1:$C$30)*($A325>=Ввод!$E$1:$E$30)*($A325<=Ввод!$F$1:$F$30),Ввод!$D$1:$D$30,\"\"),\" / \")","v":""},"2022-11-14"]
["2022-11-15",{"$f":"MyJoin(IF((B$2=Ввод!$C$1:$C$30)*($A326>=Ввод!$E$1:$E$30)*($A326<=Ввод!$F$1:$F$30),Ввод!$D$1:$D$30,\"\"),\" / \")","v":""},{"$f":"MyJoin(IF((C$2=Ввод!$C$1:$C$30)*($A326>=Ввод!$E$1:$E$30)*($A326<=Ввод!$F$1:$F$30),Ввод!$D$1:$D$30,\"\"),\" / \")","v":""},{"$f":"MyJoin(IF((D$2=Ввод!$C$1:$C$30)*($A326>=Ввод!$E$1:$E$30)*($A326<=Ввод!$F$1:$F$30),Ввод!$D$1:$D$30,\"\"),\" / \")","v":""},{"$f":"MyJoin(IF((E$2=Ввод!$C$1:$C$30)*($A326>=Ввод!$E$1:$E$30)*($A326<=Ввод!$F$1:$F$30),Ввод!$D$1:$D$30,\"\"),\" / \")","v":""},{"$f":"MyJoin(IF((F$2=Ввод!$C$1:$C$30)*($A326>=Ввод!$E$1:$E$30)*($A326<=Ввод!$F$1:$F$30),Ввод!$D$1:$D$30,\"\"),\" / \")","v":""},"2022-11-15"]
["2022-11-16",{"$f":"MyJoin(IF((B$2=Ввод!$C$1:$C$30)*($A327>=Ввод!$E$1:$E$30)*($A327<=Ввод!$F$1:$F$30),Ввод!$D$1:$D$30,\"\"),\" / \")","v":""},{"$f":"MyJoin(IF((C$2=Ввод!$C$1:$C$30)*($A327>=Ввод!$E$1:$E$30)*($A327<=Ввод!$F$1:$F$30),Ввод!$D$1:$D$30,\"\"),\" / \")","v":""},{"$f":"MyJoin(IF((D$2=Ввод!$C$1:$C$30)*($A327>=Ввод!$E$1:$E$30)*($A327<=Ввод!$F$1:$F$30),Ввод!$D$1:$D$30,\"\"),\" / \")","v":""},{"$f":"MyJoin(IF((E$2=Ввод!$C$1:$C$30)*($A327>=Ввод!$E$1:$E$30)*($A327<=Ввод!$F$1:$F$30),Ввод!$D$1:$D$30,\"\"),\" / \")","v":""},{"$f":"MyJoin(IF((F$2=Ввод!$C$1:$C$30)*($A327>=Ввод!$E$1:$E$30)*($A327<=Ввод!$F$1:$F$30),Ввод!$D$1:$D$30,\"\"),\" / \")","v":""},"2022-11-16"]
["2022-11-17",{"$f":"MyJoin(IF((B$2=Ввод!$C$1:$C$30)*($A328>=Ввод!$E$1:$E$30)*($A328<=Ввод!$F$1:$F$30),Ввод!$D$1:$D$30,\"\"),\" / \")","v":""},{"$f":"MyJoin(IF((C$2=Ввод!$C$1:$C$30)*($A328>=Ввод!$E$1:$E$30)*($A328<=Ввод!$F$1:$F$30),Ввод!$D$1:$D$30,\"\"),\" / \")","v":""},{"$f":"MyJoin(IF((D$2=Ввод!$C$1:$C$30)*($A328>=Ввод!$E$1:$E$30)*($A328<=Ввод!$F$1:$F$30),Ввод!$D$1:$D$30,\"\"),\" / \")","v":""},{"$f":"MyJoin(IF((E$2=Ввод!$C$1:$C$30)*($A328>=Ввод!$E$1:$E$30)*($A328<=Ввод!$F$1:$F$30),Ввод!$D$1:$D$30,\"\"),\" / \")","v":""},{"$f":"MyJoin(IF((F$2=Ввод!$C$1:$C$30)*($A328>=Ввод!$E$1:$E$30)*($A328<=Ввод!$F$1:$F$30),Ввод!$D$1:$D$30,\"\"),\" / \")","v":""},"2022-11-17"]
["2022-11-18",{"$f":"MyJoin(IF((B$2=Ввод!$C$1:$C$30)*($A329>=Ввод!$E$1:$E$30)*($A329<=Ввод!$F$1:$F$30),Ввод!$D$1:$D$30,\"\"),\" / \")","v":""},{"$f":"MyJoin(IF((C$2=Ввод!$C$1:$C$30)*($A329>=Ввод!$E$1:$E$30)*($A329<=Ввод!$F$1:$F$30),Ввод!$D$1:$D$30,\"\"),\" / \")","v":""},{"$f":"MyJoin(IF((D$2=Ввод!$C$1:$C$30)*($A329>=Ввод!$E$1:$E$30)*($A329<=Ввод!$F$1:$F$30),Ввод!$D$1:$D$30,\"\"),\" / \")","v":""},{"$f":"MyJoin(IF((E$2=Ввод!$C$1:$C$30)*($A329>=Ввод!$E$1:$E$30)*($A329<=Ввод!$F$1:$F$30),Ввод!$D$1:$D$30,\"\"),\" / \")","v":""},{"$f":"MyJoin(IF((F$2=Ввод!$C$1:$C$30)*($A329>=Ввод!$E$1:$E$30)*($A329<=Ввод!$F$1:$F$30),Ввод!$D$1:$D$30,\"\"),\" / \")","v":""},{"$f":"IF(A329=\"\",\"\",A329)","v":"2022-11-18"}]
["2022-11-19",{"$f":"MyJoin(IF((B$2=Ввод!$C$1:$C$30)*($A330>=Ввод!$E$1:$E$30)*($A330<=Ввод!$F$1:$F$30),Ввод!$D$1:$D$30,\"\"),\" / \")","v":""},{"$f":"MyJoin(IF((C$2=Ввод!$C$1:$C$30)*($A330>=Ввод!$E$1:$E$30)*($A330<=Ввод!$F$1:$F$30),Ввод!$D$1:$D$30,\"\"),\" / \")","v":""},{"$f":"MyJoin(IF((D$2=Ввод!$C$1:$C$30)*($A330>=Ввод!$E$1:$E$30)*($A330<=Ввод!$F$1:$F$30),Ввод!$D$1:$D$30,\"\"),\" / \")","v":""},{"$f":"MyJoin(IF((E$2=Ввод!$C$1:$C$30)*($A330>=Ввод!$E$1:$E$30)*($A330<=Ввод!$F$1:$F$30),Ввод!$D$1:$D$30,\"\"),\" / \")","v":""},{"$f":"MyJoin(IF((F$2=Ввод!$C$1:$C$30)*($A330>=Ввод!$E$1:$E$30)*($A330<=Ввод!$F$1:$F$30),Ввод!$D$1:$D$30,\"\"),\" / \")","v":""},"2022-11-19"]
["2022-11-20",{"$f":"MyJoin(IF((B$2=Ввод!$C$1:$C$30)*($A331>=Ввод!$E$1:$E$30)*($A331<=Ввод!$F$1:$F$30),Ввод!$D$1:$D$30,\"\"),\" / \")","v":""},{"$f":"MyJoin(IF((C$2=Ввод!$C$1:$C$30)*($A331>=Ввод!$E$1:$E$30)*($A331<=Ввод!$F$1:$F$30),Ввод!$D$1:$D$30,\"\"),\" / \")","v":""},{"$f":"MyJoin(IF((D$2=Ввод!$C$1:$C$30)*($A331>=Ввод!$E$1:$E$30)*($A331<=Ввод!$F$1:$F$30),Ввод!$D$1:$D$30,\"\"),\" / \")","v":""},{"$f":"MyJoin(IF((E$2=Ввод!$C$1:$C$30)*($A331>=Ввод!$E$1:$E$30)*($A331<=Ввод!$F$1:$F$30),Ввод!$D$1:$D$30,\"\"),\" / \")","v":""},{"$f":"MyJoin(IF((F$2=Ввод!$C$1:$C$30)*($A331>=Ввод!$E$1:$E$30)*($A331<=Ввод!$F$1:$F$30),Ввод!$D$1:$D$30,\"\"),\" / \")","v":""},"2022-11-20"]
["2022-11-21",{"$f":"MyJoin(IF((B$2=Ввод!$C$1:$C$30)*($A332>=Ввод!$E$1:$E$30)*($A332<=Ввод!$F$1:$F$30),Ввод!$D$1:$D$30,\"\"),\" / \")","v":""},{"$f":"MyJoin(IF((C$2=Ввод!$C$1:$C$30)*($A332>=Ввод!$E$1:$E$30)*($A332<=Ввод!$F$1:$F$30),Ввод!$D$1:$D$30,\"\"),\" / \")","v":""},{"$f":"MyJoin(IF((D$2=Ввод!$C$1:$C$30)*($A332>=Ввод!$E$1:$E$30)*($A332<=Ввод!$F$1:$F$30),Ввод!$D$1:$D$30,\"\"),\" / \")","v":""},{"$f":"MyJoin(IF((E$2=Ввод!$C$1:$C$30)*($A332>=Ввод!$E$1:$E$30)*($A332<=Ввод!$F$1:$F$30),Ввод!$D$1:$D$30,\"\"),\" / \")","v":""},{"$f":"MyJoin(IF((F$2=Ввод!$C$1:$C$30)*($A332>=Ввод!$E$1:$E$30)*($A332<=Ввод!$F$1:$F$30),Ввод!$D$1:$D$30,\"\"),\" / \")","v":""},"2022-11-21"]
["2022-11-22",{"$f":"MyJoin(IF((B$2=Ввод!$C$1:$C$30)*($A333>=Ввод!$E$1:$E$30)*($A333<=Ввод!$F$1:$F$30),Ввод!$D$1:$D$30,\"\"),\" / \")","v":""},{"$f":"MyJoin(IF((C$2=Ввод!$C$1:$C$30)*($A333>=Ввод!$E$1:$E$30)*($A333<=Ввод!$F$1:$F$30),Ввод!$D$1:$D$30,\"\"),\" / \")","v":""},{"$f":"MyJoin(IF((D$2=Ввод!$C$1:$C$30)*($A333>=Ввод!$E$1:$E$30)*($A333<=Ввод!$F$1:$F$30),Ввод!$D$1:$D$30,\"\"),\" / \")","v":""},{"$f":"MyJoin(IF((E$2=Ввод!$C$1:$C$30)*($A333>=Ввод!$E$1:$E$30)*($A333<=Ввод!$F$1:$F$30),Ввод!$D$1:$D$30,\"\"),\" / \")","v":""},{"$f":"MyJoin(IF((F$2=Ввод!$C$1:$C$30)*($A333>=Ввод!$E$1:$E$30)*($A333<=Ввод!$F$1:$F$30),Ввод!$D$1:$D$30,\"\"),\" / \")","v":""},"2022-11-22"]
["2022-11-23",{"$f":"MyJoin(IF((B$2=Ввод!$C$1:$C$30)*($A334>=Ввод!$E$1:$E$30)*($A334<=Ввод!$F$1:$F$30),Ввод!$D$1:$D$30,\"\"),\" / \")","v":""},{"$f":"MyJoin(IF((C$2=Ввод!$C$1:$C$30)*($A334>=Ввод!$E$1:$E$30)*($A334<=Ввод!$F$1:$F$30),Ввод!$D$1:$D$30,\"\"),\" / \")","v":""},{"$f":"MyJoin(IF((D$2=Ввод!$C$1:$C$30)*($A334>=Ввод!$E$1:$E$30)*($A334<=Ввод!$F$1:$F$30),Ввод!$D$1:$D$30,\"\"),\" / \")","v":""},{"$f":"MyJoin(IF((E$2=Ввод!$C$1:$C$30)*($A334>=Ввод!$E$1:$E$30)*($A334<=Ввод!$F$1:$F$30),Ввод!$D$1:$D$30,\"\"),\" / \")","v":""},{"$f":"MyJoin(IF((F$2=Ввод!$C$1:$C$30)*($A334>=Ввод!$E$1:$E$30)*($A334<=Ввод!$F$1:$F$30),Ввод!$D$1:$D$30,\"\"),\" / \")","v":""},"2022-11-23"]
["2022-11-24",{"$f":"MyJoin(IF((B$2=Ввод!$C$1:$C$30)*($A335>=Ввод!$E$1:$E$30)*($A335<=Ввод!$F$1:$F$30),Ввод!$D$1:$D$30,\"\"),\" / \")","v":""},{"$f":"MyJoin(IF((C$2=Ввод!$C$1:$C$30)*($A335>=Ввод!$E$1:$E$30)*($A335<=Ввод!$F$1:$F$30),Ввод!$D$1:$D$30,\"\"),\" / \")","v":""},{"$f":"MyJoin(IF((D$2=Ввод!$C$1:$C$30)*($A335>=Ввод!$E$1:$E$30)*($A335<=Ввод!$F$1:$F$30),Ввод!$D$1:$D$30,\"\"),\" / \")","v":""},{"$f":"MyJoin(IF((E$2=Ввод!$C$1:$C$30)*($A335>=Ввод!$E$1:$E$30)*($A335<=Ввод!$F$1:$F$30),Ввод!$D$1:$D$30,\"\"),\" / \")","v":""},{"$f":"MyJoin(IF((F$2=Ввод!$C$1:$C$30)*($A335>=Ввод!$E$1:$E$30)*($A335<=Ввод!$F$1:$F$30),Ввод!$D$1:$D$30,\"\"),\" / \")","v":""},"2022-11-24"]
["2022-11-25",{"$f":"MyJoin(IF((B$2=Ввод!$C$1:$C$30)*($A336>=Ввод!$E$1:$E$30)*($A336<=Ввод!$F$1:$F$30),Ввод!$D$1:$D$30,\"\"),\" / \")","v":""},{"$f":"MyJoin(IF((C$2=Ввод!$C$1:$C$30)*($A336>=Ввод!$E$1:$E$30)*($A336<=Ввод!$F$1:$F$30),Ввод!$D$1:$D$30,\"\"),\" / \")","v":""},{"$f":"MyJoin(IF((D$2=Ввод!$C$1:$C$30)*($A336>=Ввод!$E$1:$E$30)*($A336<=Ввод!$F$1:$F$30),Ввод!$D$1:$D$30,\"\"),\" / \")","v":""},{"$f":"MyJoin(IF((E$2=Ввод!$C$1:$C$30)*($A336>=Ввод!$E$1:$E$30)*($A336<=Ввод!$F$1:$F$30),Ввод!$D$1:$D$30,\"\"),\" / \")","v":""},{"$f":"MyJoin(IF((F$2=Ввод!$C$1:$C$30)*($A336>=Ввод!$E$1:$E$30)*($A336<=Ввод!$F$1:$F$30),Ввод!$D$1:$D$30,\"\"),\" / \")","v":""},"2022-11-25"]
["2022-11-26",{"$f":"MyJoin(IF((B$2=Ввод!$C$1:$C$30)*($A337>=Ввод!$E$1:$E$30)*($A337<=Ввод!$F$1:$F$30),Ввод!$D$1:$D$30,\"\"),\" / \")","v":""},{"$f":"MyJoin(IF((C$2=Ввод!$C$1:$C$30)*($A337>=Ввод!$E$1:$E$30)*($A337<=Ввод!$F$1:$F$30),Ввод!$D$1:$D$30,\"\"),\" / \")","v":""},{"$f":"MyJoin(IF((D$2=Ввод!$C$1:$C$30)*($A337>=Ввод!$E$1:$E$30)*($A337<=Ввод!$F$1:$F$30),Ввод!$D$1:$D$30,\"\"),\" / \")","v":""},{"$f":"MyJoin(IF((E$2=Ввод!$C$1:$C$30)*($A337>=Ввод!$E$1:$E$30)*($A337<=Ввод!$F$1:$F$30),Ввод!$D$1:$D$30,\"\"),\" / \")","v":""},{"$f":"MyJoin(IF((F$2=Ввод!$C$1:$C$30)*($A337>=Ввод!$E$1:$E$30)*($A337<=Ввод!$F$1:$F$30),Ввод!$D$1:$D$30,\"\"),\" / \")","v":""},"2022-11-26"]
["2022-11-27",{"$f":"MyJoin(IF((B$2=Ввод!$C$1:$C$30)*($A338>=Ввод!$E$1:$E$30)*($A338<=Ввод!$F$1:$F$30),Ввод!$D$1:$D$30,\"\"),\" / \")","v":""},{"$f":"MyJoin(IF((C$2=Ввод!$C$1:$C$30)*($A338>=Ввод!$E$1:$E$30)*($A338<=Ввод!$F$1:$F$30),Ввод!$D$1:$D$30,\"\"),\" / \")","v":""},{"$f":"MyJoin(IF((D$2=Ввод!$C$1:$C$30)*($A338>=Ввод!$E$1:$E$30)*($A338<=Ввод!$F$1:$F$30),Ввод!$D$1:$D$30,\"\"),\" / \")","v":""},{"$f":"MyJoin(IF((E$2=Ввод!$C$1:$C$30)*($A338>=Ввод!$E$1:$E$30)*($A338<=Ввод!$F$1:$F$30),Ввод!$D$1:$D$30,\"\"),\" / \")","v":""},{"$f":"MyJoin(IF((F$2=Ввод!$C$1:$C$30)*($A338>=Ввод!$E$1:$E$30)*($A338<=Ввод!$F$1:$F$30),Ввод!$D$1:$D$30,\"\"),\" / \")","v":""},"2022-11-27"]
["2022-11-28",{"$f":"MyJoin(IF((B$2=Ввод!$C$1:$C$30)*($A339>=Ввод!$E$1:$E$30)*($A339<=Ввод!$F$1:$F$30),Ввод!$D$1:$D$30,\"\"),\" / \")","v":""},{"$f":"MyJoin(IF((C$2=Ввод!$C$1:$C$30)*($A339>=Ввод!$E$1:$E$30)*($A339<=Ввод!$F$1:$F$30),Ввод!$D$1:$D$30,\"\"),\" / \")","v":""},{"$f":"MyJoin(IF((D$2=Ввод!$C$1:$C$30)*($A339>=Ввод!$E$1:$E$30)*($A339<=Ввод!$F$1:$F$30),Ввод!$D$1:$D$30,\"\"),\" / \")","v":""},{"$f":"MyJoin(IF((E$2=Ввод!$C$1:$C$30)*($A339>=Ввод!$E$1:$E$30)*($A339<=Ввод!$F$1:$F$30),Ввод!$D$1:$D$30,\"\"),\" / \")","v":""},{"$f":"MyJoin(IF((F$2=Ввод!$C$1:$C$30)*($A339>=Ввод!$E$1:$E$30)*($A339<=Ввод!$F$1:$F$30),Ввод!$D$1:$D$30,\"\"),\" / \")","v":""},"2022-11-28"]
["2022-11-29",{"$f":"MyJoin(IF((B$2=Ввод!$C$1:$C$30)*($A340>=Ввод!$E$1:$E$30)*($A340<=Ввод!$F$1:$F$30),Ввод!$D$1:$D$30,\"\"),\" / \")","v":""},{"$f":"MyJoin(IF((C$2=Ввод!$C$1:$C$30)*($A340>=Ввод!$E$1:$E$30)*($A340<=Ввод!$F$1:$F$30),Ввод!$D$1:$D$30,\"\"),\" / \")","v":""},{"$f":"MyJoin(IF((D$2=Ввод!$C$1:$C$30)*($A340>=Ввод!$E$1:$E$30)*($A340<=Ввод!$F$1:$F$30),Ввод!$D$1:$D$30,\"\"),\" / \")","v":""},{"$f":"MyJoin(IF((E$2=Ввод!$C$1:$C$30)*($A340>=Ввод!$E$1:$E$30)*($A340<=Ввод!$F$1:$F$30),Ввод!$D$1:$D$30,\"\"),\" / \")","v":""},{"$f":"MyJoin(IF((F$2=Ввод!$C$1:$C$30)*($A340>=Ввод!$E$1:$E$30)*($A340<=Ввод!$F$1:$F$30),Ввод!$D$1:$D$30,\"\"),\" / \")","v":""},"2022-11-29"]
["2022-11-30",{"$f":"MyJoin(IF((B$2=Ввод!$C$1:$C$30)*($A341>=Ввод!$E$1:$E$30)*($A341<=Ввод!$F$1:$F$30),Ввод!$D$1:$D$30,\"\"),\" / \")","v":""},{"$f":"MyJoin(IF((C$2=Ввод!$C$1:$C$30)*($A341>=Ввод!$E$1:$E$30)*($A341<=Ввод!$F$1:$F$30),Ввод!$D$1:$D$30,\"\"),\" / \")","v":""},{"$f":"MyJoin(IF((D$2=Ввод!$C$1:$C$30)*($A341>=Ввод!$E$1:$E$30)*($A341<=Ввод!$F$1:$F$30),Ввод!$D$1:$D$30,\"\"),\" / \")","v":""},{"$f":"MyJoin(IF((E$2=Ввод!$C$1:$C$30)*($A341>=Ввод!$E$1:$E$30)*($A341<=Ввод!$F$1:$F$30),Ввод!$D$1:$D$30,\"\"),\" / \")","v":""},{"$f":"MyJoin(IF((F$2=Ввод!$C$1:$C$30)*($A341>=Ввод!$E$1:$E$30)*($A341<=Ввод!$F$1:$F$30),Ввод!$D$1:$D$30,\"\"),\" / \")","v":""},"2022-11-30"]
["2022-12-01",{"$f":"MyJoin(IF((B$2=Ввод!$C$1:$C$30)*($A342>=Ввод!$E$1:$E$30)*($A342<=Ввод!$F$1:$F$30),Ввод!$D$1:$D$30,\"\"),\" / \")","v":""},{"$f":"MyJoin(IF((C$2=Ввод!$C$1:$C$30)*($A342>=Ввод!$E$1:$E$30)*($A342<=Ввод!$F$1:$F$30),Ввод!$D$1:$D$30,\"\"),\" / \")","v":""},{"$f":"MyJoin(IF((D$2=Ввод!$C$1:$C$30)*($A342>=Ввод!$E$1:$E$30)*($A342<=Ввод!$F$1:$F$30),Ввод!$D$1:$D$30,\"\"),\" / \")","v":""},{"$f":"MyJoin(IF((E$2=Ввод!$C$1:$C$30)*($A342>=Ввод!$E$1:$E$30)*($A342<=Ввод!$F$1:$F$30),Ввод!$D$1:$D$30,\"\"),\" / \")","v":""},{"$f":"MyJoin(IF((F$2=Ввод!$C$1:$C$30)*($A342>=Ввод!$E$1:$E$30)*($A342<=Ввод!$F$1:$F$30),Ввод!$D$1:$D$30,\"\"),\" / \")","v":""},"2022-12-01"]
["2022-12-02",{"$f":"MyJoin(IF((B$2=Ввод!$C$1:$C$30)*($A343>=Ввод!$E$1:$E$30)*($A343<=Ввод!$F$1:$F$30),Ввод!$D$1:$D$30,\"\"),\" / \")","v":""},{"$f":"MyJoin(IF((C$2=Ввод!$C$1:$C$30)*($A343>=Ввод!$E$1:$E$30)*($A343<=Ввод!$F$1:$F$30),Ввод!$D$1:$D$30,\"\"),\" / \")","v":""},{"$f":"MyJoin(IF((D$2=Ввод!$C$1:$C$30)*($A343>=Ввод!$E$1:$E$30)*($A343<=Ввод!$F$1:$F$30),Ввод!$D$1:$D$30,\"\"),\" / \")","v":""},{"$f":"MyJoin(IF((E$2=Ввод!$C$1:$C$30)*($A343>=Ввод!$E$1:$E$30)*($A343<=Ввод!$F$1:$F$30),Ввод!$D$1:$D$30,\"\"),\" / \")","v":""},{"$f":"MyJoin(IF((F$2=Ввод!$C$1:$C$30)*($A343>=Ввод!$E$1:$E$30)*($A343<=Ввод!$F$1:$F$30),Ввод!$D$1:$D$30,\"\"),\" / \")","v":""},"2022-12-02"]
["2022-12-03",{"$f":"MyJoin(IF((B$2=Ввод!$C$1:$C$30)*($A344>=Ввод!$E$1:$E$30)*($A344<=Ввод!$F$1:$F$30),Ввод!$D$1:$D$30,\"\"),\" / \")","v":""},{"$f":"MyJoin(IF((C$2=Ввод!$C$1:$C$30)*($A344>=Ввод!$E$1:$E$30)*($A344<=Ввод!$F$1:$F$30),Ввод!$D$1:$D$30,\"\"),\" / \")","v":""},{"$f":"MyJoin(IF((D$2=Ввод!$C$1:$C$30)*($A344>=Ввод!$E$1:$E$30)*($A344<=Ввод!$F$1:$F$30),Ввод!$D$1:$D$30,\"\"),\" / \")","v":""},{"$f":"MyJoin(IF((E$2=Ввод!$C$1:$C$30)*($A344>=Ввод!$E$1:$E$30)*($A344<=Ввод!$F$1:$F$30),Ввод!$D$1:$D$30,\"\"),\" / \")","v":""},{"$f":"MyJoin(IF((F$2=Ввод!$C$1:$C$30)*($A344>=Ввод!$E$1:$E$30)*($A344<=Ввод!$F$1:$F$30),Ввод!$D$1:$D$30,\"\"),\" / \")","v":""},"2022-12-03"]
["2022-12-04",{"$f":"MyJoin(IF((B$2=Ввод!$C$1:$C$30)*($A345>=Ввод!$E$1:$E$30)*($A345<=Ввод!$F$1:$F$30),Ввод!$D$1:$D$30,\"\"),\" / \")","v":""},{"$f":"MyJoin(IF((C$2=Ввод!$C$1:$C$30)*($A345>=Ввод!$E$1:$E$30)*($A345<=Ввод!$F$1:$F$30),Ввод!$D$1:$D$30,\"\"),\" / \")","v":""},{"$f":"MyJoin(IF((D$2=Ввод!$C$1:$C$30)*($A345>=Ввод!$E$1:$E$30)*($A345<=Ввод!$F$1:$F$30),Ввод!$D$1:$D$30,\"\"),\" / \")","v":""},{"$f":"MyJoin(IF((E$2=Ввод!$C$1:$C$30)*($A345>=Ввод!$E$1:$E$30)*($A345<=Ввод!$F$1:$F$30),Ввод!$D$1:$D$30,\"\"),\" / \")","v":""},{"$f":"MyJoin(IF((F$2=Ввод!$C$1:$C$30)*($A345>=Ввод!$E$1:$E$30)*($A345<=Ввод!$F$1:$F$30),Ввод!$D$1:$D$30,\"\"),\" / \")","v":""},"2022-12-04"]
["2022-12-05",{"$f":"MyJoin(IF((B$2=Ввод!$C$1:$C$30)*($A346>=Ввод!$E$1:$E$30)*($A346<=Ввод!$F$1:$F$30),Ввод!$D$1:$D$30,\"\"),\" / \")","v":""},{"$f":"MyJoin(IF((C$2=Ввод!$C$1:$C$30)*($A346>=Ввод!$E$1:$E$30)*($A346<=Ввод!$F$1:$F$30),Ввод!$D$1:$D$30,\"\"),\" / \")","v":""},{"$f":"MyJoin(IF((D$2=Ввод!$C$1:$C$30)*($A346>=Ввод!$E$1:$E$30)*($A346<=Ввод!$F$1:$F$30),Ввод!$D$1:$D$30,\"\"),\" / \")","v":""},{"$f":"MyJoin(IF((E$2=Ввод!$C$1:$C$30)*($A346>=Ввод!$E$1:$E$30)*($A346<=Ввод!$F$1:$F$30),Ввод!$D$1:$D$30,\"\"),\" / \")","v":""},{"$f":"MyJoin(IF((F$2=Ввод!$C$1:$C$30)*($A346>=Ввод!$E$1:$E$30)*($A346<=Ввод!$F$1:$F$30),Ввод!$D$1:$D$30,\"\"),\" / \")","v":""},"2022-12-05"]
["2022-12-06",{"$f":"MyJoin(IF((B$2=Ввод!$C$1:$C$30)*($A347>=Ввод!$E$1:$E$30)*($A347<=Ввод!$F$1:$F$30),Ввод!$D$1:$D$30,\"\"),\" / \")","v":""},{"$f":"MyJoin(IF((C$2=Ввод!$C$1:$C$30)*($A347>=Ввод!$E$1:$E$30)*($A347<=Ввод!$F$1:$F$30),Ввод!$D$1:$D$30,\"\"),\" / \")","v":""},{"$f":"MyJoin(IF((D$2=Ввод!$C$1:$C$30)*($A347>=Ввод!$E$1:$E$30)*($A347<=Ввод!$F$1:$F$30),Ввод!$D$1:$D$30,\"\"),\" / \")","v":""},{"$f":"MyJoin(IF((E$2=Ввод!$C$1:$C$30)*($A347>=Ввод!$E$1:$E$30)*($A347<=Ввод!$F$1:$F$30),Ввод!$D$1:$D$30,\"\"),\" / \")","v":""},{"$f":"MyJoin(IF((F$2=Ввод!$C$1:$C$30)*($A347>=Ввод!$E$1:$E$30)*($A347<=Ввод!$F$1:$F$30),Ввод!$D$1:$D$30,\"\"),\" / \")","v":""},"2022-12-06"]
["2022-12-07",{"$f":"MyJoin(IF((B$2=Ввод!$C$1:$C$30)*($A348>=Ввод!$E$1:$E$30)*($A348<=Ввод!$F$1:$F$30),Ввод!$D$1:$D$30,\"\"),\" / \")","v":""},{"$f":"MyJoin(IF((C$2=Ввод!$C$1:$C$30)*($A348>=Ввод!$E$1:$E$30)*($A348<=Ввод!$F$1:$F$30),Ввод!$D$1:$D$30,\"\"),\" / \")","v":""},{"$f":"MyJoin(IF((D$2=Ввод!$C$1:$C$30)*($A348>=Ввод!$E$1:$E$30)*($A348<=Ввод!$F$1:$F$30),Ввод!$D$1:$D$30,\"\"),\" / \")","v":""},{"$f":"MyJoin(IF((E$2=Ввод!$C$1:$C$30)*($A348>=Ввод!$E$1:$E$30)*($A348<=Ввод!$F$1:$F$30),Ввод!$D$1:$D$30,\"\"),\" / \")","v":"Задание 23"},{"$f":"MyJoin(IF((F$2=Ввод!$C$1:$C$30)*($A348>=Ввод!$E$1:$E$30)*($A348<=Ввод!$F$1:$F$30),Ввод!$D$1:$D$30,\"\"),\" / \")","v":""},"2022-12-07"]
["2022-12-08",{"$f":"MyJoin(IF((B$2=Ввод!$C$1:$C$30)*($A349>=Ввод!$E$1:$E$30)*($A349<=Ввод!$F$1:$F$30),Ввод!$D$1:$D$30,\"\"),\" / \")","v":""},{"$f":"MyJoin(IF((C$2=Ввод!$C$1:$C$30)*($A349>=Ввод!$E$1:$E$30)*($A349<=Ввод!$F$1:$F$30),Ввод!$D$1:$D$30,\"\"),\" / \")","v":""},{"$f":"MyJoin(IF((D$2=Ввод!$C$1:$C$30)*($A349>=Ввод!$E$1:$E$30)*($A349<=Ввод!$F$1:$F$30),Ввод!$D$1:$D$30,\"\"),\" / \")","v":""},{"$f":"MyJoin(IF((E$2=Ввод!$C$1:$C$30)*($A349>=Ввод!$E$1:$E$30)*($A349<=Ввод!$F$1:$F$30),Ввод!$D$1:$D$30,\"\"),\" / \")","v":"Задание 23"},{"$f":"MyJoin(IF((F$2=Ввод!$C$1:$C$30)*($A349>=Ввод!$E$1:$E$30)*($A349<=Ввод!$F$1:$F$30),Ввод!$D$1:$D$30,\"\"),\" / \")","v":""},"2022-12-08"]
["2022-12-09",{"$f":"MyJoin(IF((B$2=Ввод!$C$1:$C$30)*($A350>=Ввод!$E$1:$E$30)*($A350<=Ввод!$F$1:$F$30),Ввод!$D$1:$D$30,\"\"),\" / \")","v":""},{"$f":"MyJoin(IF((C$2=Ввод!$C$1:$C$30)*($A350>=Ввод!$E$1:$E$30)*($A350<=Ввод!$F$1:$F$30),Ввод!$D$1:$D$30,\"\"),\" / \")","v":""},{"$f":"MyJoin(IF((D$2=Ввод!$C$1:$C$30)*($A350>=Ввод!$E$1:$E$30)*($A350<=Ввод!$F$1:$F$30),Ввод!$D$1:$D$30,\"\"),\" / \")","v":""},{"$f":"MyJoin(IF((E$2=Ввод!$C$1:$C$30)*($A350>=Ввод!$E$1:$E$30)*($A350<=Ввод!$F$1:$F$30),Ввод!$D$1:$D$30,\"\"),\" / \")","v":"Задание 23"},{"$f":"MyJoin(IF((F$2=Ввод!$C$1:$C$30)*($A350>=Ввод!$E$1:$E$30)*($A350<=Ввод!$F$1:$F$30),Ввод!$D$1:$D$30,\"\"),\" / \")","v":""},"2022-12-09"]
["2022-12-10",{"$f":"MyJoin(IF((B$2=Ввод!$C$1:$C$30)*($A351>=Ввод!$E$1:$E$30)*($A351<=Ввод!$F$1:$F$30),Ввод!$D$1:$D$30,\"\"),\" / \")","v":""},{"$f":"MyJoin(IF((C$2=Ввод!$C$1:$C$30)*($A351>=Ввод!$E$1:$E$30)*($A351<=Ввод!$F$1:$F$30),Ввод!$D$1:$D$30,\"\"),\" / \")","v":""},{"$f":"MyJoin(IF((D$2=Ввод!$C$1:$C$30)*($A351>=Ввод!$E$1:$E$30)*($A351<=Ввод!$F$1:$F$30),Ввод!$D$1:$D$30,\"\"),\" / \")","v":""},{"$f":"MyJoin(IF((E$2=Ввод!$C$1:$C$30)*($A351>=Ввод!$E$1:$E$30)*($A351<=Ввод!$F$1:$F$30),Ввод!$D$1:$D$30,\"\"),\" / \")","v":"Задание 23"},{"$f":"MyJoin(IF((F$2=Ввод!$C$1:$C$30)*($A351>=Ввод!$E$1:$E$30)*($A351<=Ввод!$F$1:$F$30),Ввод!$D$1:$D$30,\"\"),\" / \")","v":""},"2022-12-10"]
["2022-12-11",{"$f":"MyJoin(IF((B$2=Ввод!$C$1:$C$30)*($A352>=Ввод!$E$1:$E$30)*($A352<=Ввод!$F$1:$F$30),Ввод!$D$1:$D$30,\"\"),\" / \")","v":""},{"$f":"MyJoin(IF((C$2=Ввод!$C$1:$C$30)*($A352>=Ввод!$E$1:$E$30)*($A352<=Ввод!$F$1:$F$30),Ввод!$D$1:$D$30,\"\"),\" / \")","v":""},{"$f":"MyJoin(IF((D$2=Ввод!$C$1:$C$30)*($A352>=Ввод!$E$1:$E$30)*($A352<=Ввод!$F$1:$F$30),Ввод!$D$1:$D$30,\"\"),\" / \")","v":""},{"$f":"MyJoin(IF((E$2=Ввод!$C$1:$C$30)*($A352>=Ввод!$E$1:$E$30)*($A352<=Ввод!$F$1:$F$30),Ввод!$D$1:$D$30,\"\"),\" / \")","v":"Задание 23"},{"$f":"MyJoin(IF((F$2=Ввод!$C$1:$C$30)*($A352>=Ввод!$E$1:$E$30)*($A352<=Ввод!$F$1:$F$30),Ввод!$D$1:$D$30,\"\"),\" / \")","v":""},"2022-12-11"]
["2022-12-12",{"$f":"MyJoin(IF((B$2=Ввод!$C$1:$C$30)*($A353>=Ввод!$E$1:$E$30)*($A353<=Ввод!$F$1:$F$30),Ввод!$D$1:$D$30,\"\"),\" / \")","v":""},{"$f":"MyJoin(IF((C$2=Ввод!$C$1:$C$30)*($A353>=Ввод!$E$1:$E$30)*($A353<=Ввод!$F$1:$F$30),Ввод!$D$1:$D$30,\"\"),\" / \")","v":""},{"$f":"MyJoin(IF((D$2=Ввод!$C$1:$C$30)*($A353>=Ввод!$E$1:$E$30)*($A353<=Ввод!$F$1:$F$30),Ввод!$D$1:$D$30,\"\"),\" / \")","v":""},{"$f":"MyJoin(IF((E$2=Ввод!$C$1:$C$30)*($A353>=Ввод!$E$1:$E$30)*($A353<=Ввод!$F$1:$F$30),Ввод!$D$1:$D$30,\"\"),\" / \")","v":"Задание 23"},{"$f":"MyJoin(IF((F$2=Ввод!$C$1:$C$30)*($A353>=Ввод!$E$1:$E$30)*($A353<=Ввод!$F$1:$F$30),Ввод!$D$1:$D$30,\"\"),\" / \")","v":""},"2022-12-12"]
["2022-12-13",{"$f":"MyJoin(IF((B$2=Ввод!$C$1:$C$30)*($A354>=Ввод!$E$1:$E$30)*($A354<=Ввод!$F$1:$F$30),Ввод!$D$1:$D$30,\"\"),\" / \")","v":""},{"$f":"MyJoin(IF((C$2=Ввод!$C$1:$C$30)*($A354>=Ввод!$E$1:$E$30)*($A354<=Ввод!$F$1:$F$30),Ввод!$D$1:$D$30,\"\"),\" / \")","v":""},{"$f":"MyJoin(IF((D$2=Ввод!$C$1:$C$30)*($A354>=Ввод!$E$1:$E$30)*($A354<=Ввод!$F$1:$F$30),Ввод!$D$1:$D$30,\"\"),\" / \")","v":""},{"$f":"MyJoin(IF((E$2=Ввод!$C$1:$C$30)*($A354>=Ввод!$E$1:$E$30)*($A354<=Ввод!$F$1:$F$30),Ввод!$D$1:$D$30,\"\"),\" / \")","v":"Задание 23"},{"$f":"MyJoin(IF((F$2=Ввод!$C$1:$C$30)*($A354>=Ввод!$E$1:$E$30)*($A354<=Ввод!$F$1:$F$30),Ввод!$D$1:$D$30,\"\"),\" / \")","v":""},"2022-12-13"]
["2022-12-14",{"$f":"MyJoin(IF((B$2=Ввод!$C$1:$C$30)*($A355>=Ввод!$E$1:$E$30)*($A355<=Ввод!$F$1:$F$30),Ввод!$D$1:$D$30,\"\"),\" / \")","v":""},{"$f":"MyJoin(IF((C$2=Ввод!$C$1:$C$30)*($A355>=Ввод!$E$1:$E$30)*($A355<=Ввод!$F$1:$F$30),Ввод!$D$1:$D$30,\"\"),\" / \")","v":""},{"$f":"MyJoin(IF((D$2=Ввод!$C$1:$C$30)*($A355>=Ввод!$E$1:$E$30)*($A355<=Ввод!$F$1:$F$30),Ввод!$D$1:$D$30,\"\"),\" / \")","v":""},{"$f":"MyJoin(IF((E$2=Ввод!$C$1:$C$30)*($A355>=Ввод!$E$1:$E$30)*($A355<=Ввод!$F$1:$F$30),Ввод!$D$1:$D$30,\"\"),\" / \")","v":"Задание 23"},{"$f":"MyJoin(IF((F$2=Ввод!$C$1:$C$30)*($A355>=Ввод!$E$1:$E$30)*($A355<=Ввод!$F$1:$F$30),Ввод!$D$1:$D$30,\"\"),\" / \")","v":""},"2022-12-14"]
["2022-12-15",{"$f":"MyJoin(IF((B$2=Ввод!$C$1:$C$30)*($A356>=Ввод!$E$1:$E$30)*($A356<=Ввод!$F$1:$F$30),Ввод!$D$1:$D$30,\"\"),\" / \")","v":""},{"$f":"MyJoin(IF((C$2=Ввод!$C$1:$C$30)*($A356>=Ввод!$E$1:$E$30)*($A356<=Ввод!$F$1:$F$30),Ввод!$D$1:$D$30,\"\"),\" / \")","v":""},{"$f":"MyJoin(IF((D$2=Ввод!$C$1:$C$30)*($A356>=Ввод!$E$1:$E$30)*($A356<=Ввод!$F$1:$F$30),Ввод!$D$1:$D$30,\"\"),\" / \")","v":""},{"$f":"MyJoin(IF((E$2=Ввод!$C$1:$C$30)*($A356>=Ввод!$E$1:$E$30)*($A356<=Ввод!$F$1:$F$30),Ввод!$D$1:$D$30,\"\"),\" / \")","v":"Задание 23"},{"$f":"MyJoin(IF((F$2=Ввод!$C$1:$C$30)*($A356>=Ввод!$E$1:$E$30)*($A356<=Ввод!$F$1:$F$30),Ввод!$D$1:$D$30,\"\"),\" / \")","v":""},"2022-12-15"]
["2022-12-16",{"$f":"MyJoin(IF((B$2=Ввод!$C$1:$C$30)*($A357>=Ввод!$E$1:$E$30)*($A357<=Ввод!$F$1:$F$30),Ввод!$D$1:$D$30,\"\"),\" / \")","v":""},{"$f":"MyJoin(IF((C$2=Ввод!$C$1:$C$30)*($A357>=Ввод!$E$1:$E$30)*($A357<=Ввод!$F$1:$F$30),Ввод!$D$1:$D$30,\"\"),\" / \")","v":""},{"$f":"MyJoin(IF((D$2=Ввод!$C$1:$C$30)*($A357>=Ввод!$E$1:$E$30)*($A357<=Ввод!$F$1:$F$30),Ввод!$D$1:$D$30,\"\"),\" / \")","v":""},{"$f":"MyJoin(IF((E$2=Ввод!$C$1:$C$30)*($A357>=Ввод!$E$1:$E$30)*($A357<=Ввод!$F$1:$F$30),Ввод!$D$1:$D$30,\"\"),\" / \")","v":"Задание 23"},{"$f":"MyJoin(IF((F$2=Ввод!$C$1:$C$30)*($A357>=Ввод!$E$1:$E$30)*($A357<=Ввод!$F$1:$F$30),Ввод!$D$1:$D$30,\"\"),\" / \")","v":""},"2022-12-16"]
["2022-12-17",{"$f":"MyJoin(IF((B$2=Ввод!$C$1:$C$30)*($A358>=Ввод!$E$1:$E$30)*($A358<=Ввод!$F$1:$F$30),Ввод!$D$1:$D$30,\"\"),\" / \")","v":""},{"$f":"MyJoin(IF((C$2=Ввод!$C$1:$C$30)*($A358>=Ввод!$E$1:$E$30)*($A358<=Ввод!$F$1:$F$30),Ввод!$D$1:$D$30,\"\"),\" / \")","v":""},{"$f":"MyJoin(IF((D$2=Ввод!$C$1:$C$30)*($A358>=Ввод!$E$1:$E$30)*($A358<=Ввод!$F$1:$F$30),Ввод!$D$1:$D$30,\"\"),\" / \")","v":""},{"$f":"MyJoin(IF((E$2=Ввод!$C$1:$C$30)*($A358>=Ввод!$E$1:$E$30)*($A358<=Ввод!$F$1:$F$30),Ввод!$D$1:$D$30,\"\"),\" / \")","v":"Задание 23 / Задание 24"},{"$f":"MyJoin(IF((F$2=Ввод!$C$1:$C$30)*($A358>=Ввод!$E$1:$E$30)*($A358<=Ввод!$F$1:$F$30),Ввод!$D$1:$D$30,\"\"),\" / \")","v":""},"2022-12-17"]
["2022-12-18",{"$f":"MyJoin(IF((B$2=Ввод!$C$1:$C$30)*($A359>=Ввод!$E$1:$E$30)*($A359<=Ввод!$F$1:$F$30),Ввод!$D$1:$D$30,\"\"),\" / \")","v":""},{"$f":"MyJoin(IF((C$2=Ввод!$C$1:$C$30)*($A359>=Ввод!$E$1:$E$30)*($A359<=Ввод!$F$1:$F$30),Ввод!$D$1:$D$30,\"\"),\" / \")","v":""},{"$f":"MyJoin(IF((D$2=Ввод!$C$1:$C$30)*($A359>=Ввод!$E$1:$E$30)*($A359<=Ввод!$F$1:$F$30),Ввод!$D$1:$D$30,\"\"),\" / \")","v":""},{"$f":"MyJoin(IF((E$2=Ввод!$C$1:$C$30)*($A359>=Ввод!$E$1:$E$30)*($A359<=Ввод!$F$1:$F$30),Ввод!$D$1:$D$30,\"\"),\" / \")","v":"Задание 24"},{"$f":"MyJoin(IF((F$2=Ввод!$C$1:$C$30)*($A359>=Ввод!$E$1:$E$30)*($A359<=Ввод!$F$1:$F$30),Ввод!$D$1:$D$30,\"\"),\" / \")","v":""},"2022-12-18"]
["2022-12-19",{"$f":"MyJoin(IF((B$2=Ввод!$C$1:$C$30)*($A360>=Ввод!$E$1:$E$30)*($A360<=Ввод!$F$1:$F$30),Ввод!$D$1:$D$30,\"\"),\" / \")","v":""},{"$f":"MyJoin(IF((C$2=Ввод!$C$1:$C$30)*($A360>=Ввод!$E$1:$E$30)*($A360<=Ввод!$F$1:$F$30),Ввод!$D$1:$D$30,\"\"),\" / \")","v":""},{"$f":"MyJoin(IF((D$2=Ввод!$C$1:$C$30)*($A360>=Ввод!$E$1:$E$30)*($A360<=Ввод!$F$1:$F$30),Ввод!$D$1:$D$30,\"\"),\" / \")","v":""},{"$f":"MyJoin(IF((E$2=Ввод!$C$1:$C$30)*($A360>=Ввод!$E$1:$E$30)*($A360<=Ввод!$F$1:$F$30),Ввод!$D$1:$D$30,\"\"),\" / \")","v":"Задание 24"},{"$f":"MyJoin(IF((F$2=Ввод!$C$1:$C$30)*($A360>=Ввод!$E$1:$E$30)*($A360<=Ввод!$F$1:$F$30),Ввод!$D$1:$D$30,\"\"),\" / \")","v":""},"2022-12-19"]
["2022-12-20",{"$f":"MyJoin(IF((B$2=Ввод!$C$1:$C$30)*($A361>=Ввод!$E$1:$E$30)*($A361<=Ввод!$F$1:$F$30),Ввод!$D$1:$D$30,\"\"),\" / \")","v":""},{"$f":"MyJoin(IF((C$2=Ввод!$C$1:$C$30)*($A361>=Ввод!$E$1:$E$30)*($A361<=Ввод!$F$1:$F$30),Ввод!$D$1:$D$30,\"\"),\" / \")","v":""},{"$f":"MyJoin(IF((D$2=Ввод!$C$1:$C$30)*($A361>=Ввод!$E$1:$E$30)*($A361<=Ввод!$F$1:$F$30),Ввод!$D$1:$D$30,\"\"),\" / \")","v":""},{"$f":"MyJoin(IF((E$2=Ввод!$C$1:$C$30)*($A361>=Ввод!$E$1:$E$30)*($A361<=Ввод!$F$1:$F$30),Ввод!$D$1:$D$30,\"\"),\" / \")","v":"Задание 24"},{"$f":"MyJoin(IF((F$2=Ввод!$C$1:$C$30)*($A361>=Ввод!$E$1:$E$30)*($A361<=Ввод!$F$1:$F$30),Ввод!$D$1:$D$30,\"\"),\" / \")","v":""},"2022-12-20"]
["2022-12-21",{"$f":"MyJoin(IF((B$2=Ввод!$C$1:$C$30)*($A362>=Ввод!$E$1:$E$30)*($A362<=Ввод!$F$1:$F$30),Ввод!$D$1:$D$30,\"\"),\" / \")","v":""},{"$f":"MyJoin(IF((C$2=Ввод!$C$1:$C$30)*($A362>=Ввод!$E$1:$E$30)*($A362<=Ввод!$F$1:$F$30),Ввод!$D$1:$D$30,\"\"),\" / \")","v":""},{"$f":"MyJoin(IF((D$2=Ввод!$C$1:$C$30)*($A362>=Ввод!$E$1:$E$30)*($A362<=Ввод!$F$1:$F$30),Ввод!$D$1:$D$30,\"\"),\" / \")","v":""},{"$f":"MyJoin(IF((E$2=Ввод!$C$1:$C$30)*($A362>=Ввод!$E$1:$E$30)*($A362<=Ввод!$F$1:$F$30),Ввод!$D$1:$D$30,\"\"),\" / \")","v":""},{"$f":"MyJoin(IF((F$2=Ввод!$C$1:$C$30)*($A362>=Ввод!$E$1:$E$30)*($A362<=Ввод!$F$1:$F$30),Ввод!$D$1:$D$30,\"\"),\" / \")","v":""},"2022-12-21"]
["2022-12-22",{"$f":"MyJoin(IF((B$2=Ввод!$C$1:$C$30)*($A363>=Ввод!$E$1:$E$30)*($A363<=Ввод!$F$1:$F$30),Ввод!$D$1:$D$30,\"\"),\" / \")","v":""},{"$f":"MyJoin(IF((C$2=Ввод!$C$1:$C$30)*($A363>=Ввод!$E$1:$E$30)*($A363<=Ввод!$F$1:$F$30),Ввод!$D$1:$D$30,\"\"),\" / \")","v":""},{"$f":"MyJoin(IF((D$2=Ввод!$C$1:$C$30)*($A363>=Ввод!$E$1:$E$30)*($A363<=Ввод!$F$1:$F$30),Ввод!$D$1:$D$30,\"\"),\" / \")","v":""},{"$f":"MyJoin(IF((E$2=Ввод!$C$1:$C$30)*($A363>=Ввод!$E$1:$E$30)*($A363<=Ввод!$F$1:$F$30),Ввод!$D$1:$D$30,\"\"),\" / \")","v":""},{"$f":"MyJoin(IF((F$2=Ввод!$C$1:$C$30)*($A363>=Ввод!$E$1:$E$30)*($A363<=Ввод!$F$1:$F$30),Ввод!$D$1:$D$30,\"\"),\" / \")","v":""},"2022-12-22"]
["2022-12-23",{"$f":"MyJoin(IF((B$2=Ввод!$C$1:$C$30)*($A364>=Ввод!$E$1:$E$30)*($A364<=Ввод!$F$1:$F$30),Ввод!$D$1:$D$30,\"\"),\" / \")","v":""},{"$f":"MyJoin(IF((C$2=Ввод!$C$1:$C$30)*($A364>=Ввод!$E$1:$E$30)*($A364<=Ввод!$F$1:$F$30),Ввод!$D$1:$D$30,\"\"),\" / \")","v":""},{"$f":"MyJoin(IF((D$2=Ввод!$C$1:$C$30)*($A364>=Ввод!$E$1:$E$30)*($A364<=Ввод!$F$1:$F$30),Ввод!$D$1:$D$30,\"\"),\" / \")","v":""},{"$f":"MyJoin(IF((E$2=Ввод!$C$1:$C$30)*($A364>=Ввод!$E$1:$E$30)*($A364<=Ввод!$F$1:$F$30),Ввод!$D$1:$D$30,\"\"),\" / \")","v":""},{"$f":"MyJoin(IF((F$2=Ввод!$C$1:$C$30)*($A364>=Ввод!$E$1:$E$30)*($A364<=Ввод!$F$1:$F$30),Ввод!$D$1:$D$30,\"\"),\" / \")","v":""},"2022-12-23"]
["2022-12-24",{"$f":"MyJoin(IF((B$2=Ввод!$C$1:$C$30)*($A365>=Ввод!$E$1:$E$30)*($A365<=Ввод!$F$1:$F$30),Ввод!$D$1:$D$30,\"\"),\" / \")","v":""},{"$f":"MyJoin(IF((C$2=Ввод!$C$1:$C$30)*($A365>=Ввод!$E$1:$E$30)*($A365<=Ввод!$F$1:$F$30),Ввод!$D$1:$D$30,\"\"),\" / \")","v":""},{"$f":"MyJoin(IF((D$2=Ввод!$C$1:$C$30)*($A365>=Ввод!$E$1:$E$30)*($A365<=Ввод!$F$1:$F$30),Ввод!$D$1:$D$30,\"\"),\" / \")","v":""},{"$f":"MyJoin(IF((E$2=Ввод!$C$1:$C$30)*($A365>=Ввод!$E$1:$E$30)*($A365<=Ввод!$F$1:$F$30),Ввод!$D$1:$D$30,\"\"),\" / \")","v":""},{"$f":"MyJoin(IF((F$2=Ввод!$C$1:$C$30)*($A365>=Ввод!$E$1:$E$30)*($A365<=Ввод!$F$1:$F$30),Ввод!$D$1:$D$30,\"\"),\" / \")","v":""},"2022-12-24"]
["2022-12-25",{"$f":"MyJoin(IF((B$2=Ввод!$C$1:$C$30)*($A366>=Ввод!$E$1:$E$30)*($A366<=Ввод!$F$1:$F$30),Ввод!$D$1:$D$30,\"\"),\" / \")","v":""},{"$f":"MyJoin(IF((C$2=Ввод!$C$1:$C$30)*($A366>=Ввод!$E$1:$E$30)*($A366<=Ввод!$F$1:$F$30),Ввод!$D$1:$D$30,\"\"),\" / \")","v":""},{"$f":"MyJoin(IF((D$2=Ввод!$C$1:$C$30)*($A366>=Ввод!$E$1:$E$30)*($A366<=Ввод!$F$1:$F$30),Ввод!$D$1:$D$30,\"\"),\" / \")","v":""},{"$f":"MyJoin(IF((E$2=Ввод!$C$1:$C$30)*($A366>=Ввод!$E$1:$E$30)*($A366<=Ввод!$F$1:$F$30),Ввод!$D$1:$D$30,\"\"),\" / \")","v":""},{"$f":"MyJoin(IF((F$2=Ввод!$C$1:$C$30)*($A366>=Ввод!$E$1:$E$30)*($A366<=Ввод!$F$1:$F$30),Ввод!$D$1:$D$30,\"\"),\" / \")","v":""},"2022-12-25"]
["2022-12-26",{"$f":"MyJoin(IF((B$2=Ввод!$C$1:$C$30)*($A367>=Ввод!$E$1:$E$30)*($A367<=Ввод!$F$1:$F$30),Ввод!$D$1:$D$30,\"\"),\" / \")","v":""},{"$f":"MyJoin(IF((C$2=Ввод!$C$1:$C$30)*($A367>=Ввод!$E$1:$E$30)*($A367<=Ввод!$F$1:$F$30),Ввод!$D$1:$D$30,\"\"),\" / \")","v":""},{"$f":"MyJoin(IF((D$2=Ввод!$C$1:$C$30)*($A367>=Ввод!$E$1:$E$30)*($A367<=Ввод!$F$1:$F$30),Ввод!$D$1:$D$30,\"\"),\" / \")","v":""},{"$f":"MyJoin(IF((E$2=Ввод!$C$1:$C$30)*($A367>=Ввод!$E$1:$E$30)*($A367<=Ввод!$F$1:$F$30),Ввод!$D$1:$D$30,\"\"),\" / \")","v":""},{"$f":"MyJoin(IF((F$2=Ввод!$C$1:$C$30)*($A367>=Ввод!$E$1:$E$30)*($A367<=Ввод!$F$1:$F$30),Ввод!$D$1:$D$30,\"\"),\" / \")","v":""},"2022-12-26"]
["2022-12-27",{"$f":"MyJoin(IF((B$2=Ввод!$C$1:$C$30)*($A368>=Ввод!$E$1:$E$30)*($A368<=Ввод!$F$1:$F$30),Ввод!$D$1:$D$30,\"\"),\" / \")","v":""},{"$f":"MyJoin(IF((C$2=Ввод!$C$1:$C$30)*($A368>=Ввод!$E$1:$E$30)*($A368<=Ввод!$F$1:$F$30),Ввод!$D$1:$D$30,\"\"),\" / \")","v":""},{"$f":"MyJoin(IF((D$2=Ввод!$C$1:$C$30)*($A368>=Ввод!$E$1:$E$30)*($A368<=Ввод!$F$1:$F$30),Ввод!$D$1:$D$30,\"\"),\" / \")","v":""},{"$f":"MyJoin(IF((E$2=Ввод!$C$1:$C$30)*($A368>=Ввод!$E$1:$E$30)*($A368<=Ввод!$F$1:$F$30),Ввод!$D$1:$D$30,\"\"),\" / \")","v":""},{"$f":"MyJoin(IF((F$2=Ввод!$C$1:$C$30)*($A368>=Ввод!$E$1:$E$30)*($A368<=Ввод!$F$1:$F$30),Ввод!$D$1:$D$30,\"\"),\" / \")","v":""},"2022-12-27"]
["2022-12-28",{"$f":"MyJoin(IF((B$2=Ввод!$C$1:$C$30)*($A369>=Ввод!$E$1:$E$30)*($A369<=Ввод!$F$1:$F$30),Ввод!$D$1:$D$30,\"\"),\" / \")","v":""},{"$f":"MyJoin(IF((C$2=Ввод!$C$1:$C$30)*($A369>=Ввод!$E$1:$E$30)*($A369<=Ввод!$F$1:$F$30),Ввод!$D$1:$D$30,\"\"),\" / \")","v":""},{"$f":"MyJoin(IF((D$2=Ввод!$C$1:$C$30)*($A369>=Ввод!$E$1:$E$30)*($A369<=Ввод!$F$1:$F$30),Ввод!$D$1:$D$30,\"\"),\" / \")","v":""},{"$f":"MyJoin(IF((E$2=Ввод!$C$1:$C$30)*($A369>=Ввод!$E$1:$E$30)*($A369<=Ввод!$F$1:$F$30),Ввод!$D$1:$D$30,\"\"),\" / \")","v":""},{"$f":"MyJoin(IF((F$2=Ввод!$C$1:$C$30)*($A369>=Ввод!$E$1:$E$30)*($A369<=Ввод!$F$1:$F$30),Ввод!$D$1:$D$30,\"\"),\" / \")","v":""},"2022-12-28"]
["2022-12-29",{"$f":"MyJoin(IF((B$2=Ввод!$C$1:$C$30)*($A370>=Ввод!$E$1:$E$30)*($A370<=Ввод!$F$1:$F$30),Ввод!$D$1:$D$30,\"\"),\" / \")","v":""},{"$f":"MyJoin(IF((C$2=Ввод!$C$1:$C$30)*($A370>=Ввод!$E$1:$E$30)*($A370<=Ввод!$F$1:$F$30),Ввод!$D$1:$D$30,\"\"),\" / \")","v":""},{"$f":"MyJoin(IF((D$2=Ввод!$C$1:$C$30)*($A370>=Ввод!$E$1:$E$30)*($A370<=Ввод!$F$1:$F$30),Ввод!$D$1:$D$30,\"\"),\" / \")","v":""},{"$f":"MyJoin(IF((E$2=Ввод!$C$1:$C$30)*($A370>=Ввод!$E$1:$E$30)*($A370<=Ввод!$F$1:$F$30),Ввод!$D$1:$D$30,\"\"),\" / \")","v":""},{"$f":"MyJoin(IF((F$2=Ввод!$C$1:$C$30)*($A370>=Ввод!$E$1:$E$30)*($A370<=Ввод!$F$1:$F$30),Ввод!$D$1:$D$30,\"\"),\" / \")","v":""},"2022-12-29"]
["2022-12-30",{"$f":"MyJoin(IF((B$2=Ввод!$C$1:$C$30)*($A371>=Ввод!$E$1:$E$30)*($A371<=Ввод!$F$1:$F$30),Ввод!$D$1:$D$30,\"\"),\" / \")","v":""},{"$f":"MyJoin(IF((C$2=Ввод!$C$1:$C$30)*($A371>=Ввод!$E$1:$E$30)*($A371<=Ввод!$F$1:$F$30),Ввод!$D$1:$D$30,\"\"),\" / \")","v":""},{"$f":"MyJoin(IF((D$2=Ввод!$C$1:$C$30)*($A371>=Ввод!$E$1:$E$30)*($A371<=Ввод!$F$1:$F$30),Ввод!$D$1:$D$30,\"\"),\" / \")","v":""},{"$f":"MyJoin(IF((E$2=Ввод!$C$1:$C$30)*($A371>=Ввод!$E$1:$E$30)*($A371<=Ввод!$F$1:$F$30),Ввод!$D$1:$D$30,\"\"),\" / \")","v":""},{"$f":"MyJoin(IF((F$2=Ввод!$C$1:$C$30)*($A371>=Ввод!$E$1:$E$30)*($A371<=Ввод!$F$1:$F$30),Ввод!$D$1:$D$30,\"\"),\" / \")","v":""},"2022-12-30"]
["2022-12-31",{"$f":"MyJoin(IF((B$2=Ввод!$C$1:$C$30)*($A372>=Ввод!$E$1:$E$30)*($A372<=Ввод!$F$1:$F$30),Ввод!$D$1:$D$30,\"\"),\" / \")","v":""},{"$f":"MyJoin(IF((C$2=Ввод!$C$1:$C$30)*($A372>=Ввод!$E$1:$E$30)*($A372<=Ввод!$F$1:$F$30),Ввод!$D$1:$D$30,\"\"),\" / \")","v":""},{"$f":"MyJoin(IF((D$2=Ввод!$C$1:$C$30)*($A372>=Ввод!$E$1:$E$30)*($A372<=Ввод!$F$1:$F$30),Ввод!$D$1:$D$30,\"\"),\" / \")","v":""},{"$f":"MyJoin(IF((E$2=Ввод!$C$1:$C$30)*($A372>=Ввод!$E$1:$E$30)*($A372<=Ввод!$F$1:$F$30),Ввод!$D$1:$D$30,\"\"),\" / \")","v":""},{"$f":"MyJoin(IF((F$2=Ввод!$C$1:$C$30)*($A372>=Ввод!$E$1:$E$30)*($A372<=Ввод!$F$1:$F$30),Ввод!$D$1:$D$30,\"\"),\" / \")","v":""},"2022-12-31"]
["2023-01-01",{"$f":"MyJoin(IF((B$2=Ввод!$C$1:$C$30)*($A373>=Ввод!$E$1:$E$30)*($A373<=Ввод!$F$1:$F$30),Ввод!$D$1:$D$30,\"\"),\" / \")","v":""},{"$f":"MyJoin(IF((C$2=Ввод!$C$1:$C$30)*($A373>=Ввод!$E$1:$E$30)*($A373<=Ввод!$F$1:$F$30),Ввод!$D$1:$D$30,\"\"),\" / \")","v":""},{"$f":"MyJoin(IF((D$2=Ввод!$C$1:$C$30)*($A373>=Ввод!$E$1:$E$30)*($A373<=Ввод!$F$1:$F$30),Ввод!$D$1:$D$30,\"\"),\" / \")","v":""},{"$f":"MyJoin(IF((E$2=Ввод!$C$1:$C$30)*($A373>=Ввод!$E$1:$E$30)*($A373<=Ввод!$F$1:$F$30),Ввод!$D$1:$D$30,\"\"),\" / \")","v":""},{"$f":"MyJoin(IF((F$2=Ввод!$C$1:$C$30)*($A373>=Ввод!$E$1:$E$30)*($A373<=Ввод!$F$1:$F$30),Ввод!$D$1:$D$30,\"\"),\" / \")","v":""},"2023-01-01"]
["2023-01-02",{"$f":"MyJoin(IF((B$2=Ввод!$C$1:$C$30)*($A374>=Ввод!$E$1:$E$30)*($A374<=Ввод!$F$1:$F$30),Ввод!$D$1:$D$30,\"\"),\" / \")","v":""},{"$f":"MyJoin(IF((C$2=Ввод!$C$1:$C$30)*($A374>=Ввод!$E$1:$E$30)*($A374<=Ввод!$F$1:$F$30),Ввод!$D$1:$D$30,\"\"),\" / \")","v":""},{"$f":"MyJoin(IF((D$2=Ввод!$C$1:$C$30)*($A374>=Ввод!$E$1:$E$30)*($A374<=Ввод!$F$1:$F$30),Ввод!$D$1:$D$30,\"\"),\" / \")","v":""},{"$f":"MyJoin(IF((E$2=Ввод!$C$1:$C$30)*($A374>=Ввод!$E$1:$E$30)*($A374<=Ввод!$F$1:$F$30),Ввод!$D$1:$D$30,\"\"),\" / \")","v":""},{"$f":"MyJoin(IF((F$2=Ввод!$C$1:$C$30)*($A374>=Ввод!$E$1:$E$30)*($A374<=Ввод!$F$1:$F$30),Ввод!$D$1:$D$30,\"\"),\" / \")","v":""},"2023-01-02"]
["2023-01-03",{"$f":"MyJoin(IF((B$2=Ввод!$C$1:$C$30)*($A375>=Ввод!$E$1:$E$30)*($A375<=Ввод!$F$1:$F$30),Ввод!$D$1:$D$30,\"\"),\" / \")","v":""},{"$f":"MyJoin(IF((C$2=Ввод!$C$1:$C$30)*($A375>=Ввод!$E$1:$E$30)*($A375<=Ввод!$F$1:$F$30),Ввод!$D$1:$D$30,\"\"),\" / \")","v":""},{"$f":"MyJoin(IF((D$2=Ввод!$C$1:$C$30)*($A375>=Ввод!$E$1:$E$30)*($A375<=Ввод!$F$1:$F$30),Ввод!$D$1:$D$30,\"\"),\" / \")","v":""},{"$f":"MyJoin(IF((E$2=Ввод!$C$1:$C$30)*($A375>=Ввод!$E$1:$E$30)*($A375<=Ввод!$F$1:$F$30),Ввод!$D$1:$D$30,\"\"),\" / \")","v":""},{"$f":"MyJoin(IF((F$2=Ввод!$C$1:$C$30)*($A375>=Ввод!$E$1:$E$30)*($A375<=Ввод!$F$1:$F$30),Ввод!$D$1:$D$30,\"\"),\" / \")","v":""},"2023-01-03"]
["2023-01-04",{"$f":"MyJoin(IF((B$2=Ввод!$C$1:$C$30)*($A376>=Ввод!$E$1:$E$30)*($A376<=Ввод!$F$1:$F$30),Ввод!$D$1:$D$30,\"\"),\" / \")","v":""},{"$f":"MyJoin(IF((C$2=Ввод!$C$1:$C$30)*($A376>=Ввод!$E$1:$E$30)*($A376<=Ввод!$F$1:$F$30),Ввод!$D$1:$D$30,\"\"),\" / \")","v":""},{"$f":"MyJoin(IF((D$2=Ввод!$C$1:$C$30)*($A376>=Ввод!$E$1:$E$30)*($A376<=Ввод!$F$1:$F$30),Ввод!$D$1:$D$30,\"\"),\" / \")","v":""},{"$f":"MyJoin(IF((E$2=Ввод!$C$1:$C$30)*($A376>=Ввод!$E$1:$E$30)*($A376<=Ввод!$F$1:$F$30),Ввод!$D$1:$D$30,\"\"),\" / \")","v":""},{"$f":"MyJoin(IF((F$2=Ввод!$C$1:$C$30)*($A376>=Ввод!$E$1:$E$30)*($A376<=Ввод!$F$1:$F$30),Ввод!$D$1:$D$30,\"\"),\" / \")","v":""},"2023-01-04"]
["2023-01-05",{"$f":"MyJoin(IF((B$2=Ввод!$C$1:$C$30)*($A377>=Ввод!$E$1:$E$30)*($A377<=Ввод!$F$1:$F$30),Ввод!$D$1:$D$30,\"\"),\" / \")","v":""},{"$f":"MyJoin(IF((C$2=Ввод!$C$1:$C$30)*($A377>=Ввод!$E$1:$E$30)*($A377<=Ввод!$F$1:$F$30),Ввод!$D$1:$D$30,\"\"),\" / \")","v":""},{"$f":"MyJoin(IF((D$2=Ввод!$C$1:$C$30)*($A377>=Ввод!$E$1:$E$30)*($A377<=Ввод!$F$1:$F$30),Ввод!$D$1:$D$30,\"\"),\" / \")","v":""},{"$f":"MyJoin(IF((E$2=Ввод!$C$1:$C$30)*($A377>=Ввод!$E$1:$E$30)*($A377<=Ввод!$F$1:$F$30),Ввод!$D$1:$D$30,\"\"),\" / \")","v":""},{"$f":"MyJoin(IF((F$2=Ввод!$C$1:$C$30)*($A377>=Ввод!$E$1:$E$30)*($A377<=Ввод!$F$1:$F$30),Ввод!$D$1:$D$30,\"\"),\" / \")","v":""},"2023-01-05"]
["2023-01-06",{"$f":"MyJoin(IF((B$2=Ввод!$C$1:$C$30)*($A378>=Ввод!$E$1:$E$30)*($A378<=Ввод!$F$1:$F$30),Ввод!$D$1:$D$30,\"\"),\" / \")","v":""},{"$f":"MyJoin(IF((C$2=Ввод!$C$1:$C$30)*($A378>=Ввод!$E$1:$E$30)*($A378<=Ввод!$F$1:$F$30),Ввод!$D$1:$D$30,\"\"),\" / \")","v":""},{"$f":"MyJoin(IF((D$2=Ввод!$C$1:$C$30)*($A378>=Ввод!$E$1:$E$30)*($A378<=Ввод!$F$1:$F$30),Ввод!$D$1:$D$30,\"\"),\" / \")","v":""},{"$f":"MyJoin(IF((E$2=Ввод!$C$1:$C$30)*($A378>=Ввод!$E$1:$E$30)*($A378<=Ввод!$F$1:$F$30),Ввод!$D$1:$D$30,\"\"),\" / \")","v":""},{"$f":"MyJoin(IF((F$2=Ввод!$C$1:$C$30)*($A378>=Ввод!$E$1:$E$30)*($A378<=Ввод!$F$1:$F$30),Ввод!$D$1:$D$30,\"\"),\" / \")","v":""},"2023-01-06"]
["2023-01-07",{"$f":"MyJoin(IF((B$2=Ввод!$C$1:$C$30)*($A379>=Ввод!$E$1:$E$30)*($A379<=Ввод!$F$1:$F$30),Ввод!$D$1:$D$30,\"\"),\" / \")","v":""},{"$f":"MyJoin(IF((C$2=Ввод!$C$1:$C$30)*($A379>=Ввод!$E$1:$E$30)*($A379<=Ввод!$F$1:$F$30),Ввод!$D$1:$D$30,\"\"),\" / \")","v":""},{"$f":"MyJoin(IF((D$2=Ввод!$C$1:$C$30)*($A379>=Ввод!$E$1:$E$30)*($A379<=Ввод!$F$1:$F$30),Ввод!$D$1:$D$30,\"\"),\" / \")","v":""},{"$f":"MyJoin(IF((E$2=Ввод!$C$1:$C$30)*($A379>=Ввод!$E$1:$E$30)*($A379<=Ввод!$F$1:$F$30),Ввод!$D$1:$D$30,\"\"),\" / \")","v":""},{"$f":"MyJoin(IF((F$2=Ввод!$C$1:$C$30)*($A379>=Ввод!$E$1:$E$30)*($A379<=Ввод!$F$1:$F$30),Ввод!$D$1:$D$30,\"\"),\" / \")","v":""},"2023-01-07"]
["2023-01-08",{"$f":"MyJoin(IF((B$2=Ввод!$C$1:$C$30)*($A380>=Ввод!$E$1:$E$30)*($A380<=Ввод!$F$1:$F$30),Ввод!$D$1:$D$30,\"\"),\" / \")","v":""},{"$f":"MyJoin(IF((C$2=Ввод!$C$1:$C$30)*($A380>=Ввод!$E$1:$E$30)*($A380<=Ввод!$F$1:$F$30),Ввод!$D$1:$D$30,\"\"),\" / \")","v":""},{"$f":"MyJoin(IF((D$2=Ввод!$C$1:$C$30)*($A380>=Ввод!$E$1:$E$30)*($A380<=Ввод!$F$1:$F$30),Ввод!$D$1:$D$30,\"\"),\" / \")","v":""},{"$f":"MyJoin(IF((E$2=Ввод!$C$1:$C$30)*($A380>=Ввод!$E$1:$E$30)*($A380<=Ввод!$F$1:$F$30),Ввод!$D$1:$D$30,\"\"),\" / \")","v":""},{"$f":"MyJoin(IF((F$2=Ввод!$C$1:$C$30)*($A380>=Ввод!$E$1:$E$30)*($A380<=Ввод!$F$1:$F$30),Ввод!$D$1:$D$30,\"\"),\" / \")","v":""},"2023-01-08"]
["2023-01-09",{"$f":"MyJoin(IF((B$2=Ввод!$C$1:$C$30)*($A381>=Ввод!$E$1:$E$30)*($A381<=Ввод!$F$1:$F$30),Ввод!$D$1:$D$30,\"\"),\" / \")","v":""},{"$f":"MyJoin(IF((C$2=Ввод!$C$1:$C$30)*($A381>=Ввод!$E$1:$E$30)*($A381<=Ввод!$F$1:$F$30),Ввод!$D$1:$D$30,\"\"),\" / \")","v":""},{"$f":"MyJoin(IF((D$2=Ввод!$C$1:$C$30)*($A381>=Ввод!$E$1:$E$30)*($A381<=Ввод!$F$1:$F$30),Ввод!$D$1:$D$30,\"\"),\" / \")","v":""},{"$f":"MyJoin(IF((E$2=Ввод!$C$1:$C$30)*($A381>=Ввод!$E$1:$E$30)*($A381<=Ввод!$F$1:$F$30),Ввод!$D$1:$D$30,\"\"),\" / \")","v":""},{"$f":"MyJoin(IF((F$2=Ввод!$C$1:$C$30)*($A381>=Ввод!$E$1:$E$30)*($A381<=Ввод!$F$1:$F$30),Ввод!$D$1:$D$30,\"\"),\" / \")","v":""},"2023-01-09"]
["2023-01-10",{"$f":"MyJoin(IF((B$2=Ввод!$C$1:$C$30)*($A382>=Ввод!$E$1:$E$30)*($A382<=Ввод!$F$1:$F$30),Ввод!$D$1:$D$30,\"\"),\" / \")","v":""},{"$f":"MyJoin(IF((C$2=Ввод!$C$1:$C$30)*($A382>=Ввод!$E$1:$E$30)*($A382<=Ввод!$F$1:$F$30),Ввод!$D$1:$D$30,\"\"),\" / \")","v":""},{"$f":"MyJoin(IF((D$2=Ввод!$C$1:$C$30)*($A382>=Ввод!$E$1:$E$30)*($A382<=Ввод!$F$1:$F$30),Ввод!$D$1:$D$30,\"\"),\" / \")","v":""},{"$f":"MyJoin(IF((E$2=Ввод!$C$1:$C$30)*($A382>=Ввод!$E$1:$E$30)*($A382<=Ввод!$F$1:$F$30),Ввод!$D$1:$D$30,\"\"),\" / \")","v":""},{"$f":"MyJoin(IF((F$2=Ввод!$C$1:$C$30)*($A382>=Ввод!$E$1:$E$30)*($A382<=Ввод!$F$1:$F$30),Ввод!$D$1:$D$30,\"\"),\" / \")","v":""},"2023-01-10"]
["2023-01-11",{"$f":"MyJoin(IF((B$2=Ввод!$C$1:$C$30)*($A383>=Ввод!$E$1:$E$30)*($A383<=Ввод!$F$1:$F$30),Ввод!$D$1:$D$30,\"\"),\" / \")","v":""},{"$f":"MyJoin(IF((C$2=Ввод!$C$1:$C$30)*($A383>=Ввод!$E$1:$E$30)*($A383<=Ввод!$F$1:$F$30),Ввод!$D$1:$D$30,\"\"),\" / \")","v":""},{"$f":"MyJoin(IF((D$2=Ввод!$C$1:$C$30)*($A383>=Ввод!$E$1:$E$30)*($A383<=Ввод!$F$1:$F$30),Ввод!$D$1:$D$30,\"\"),\" / \")","v":""},{"$f":"MyJoin(IF((E$2=Ввод!$C$1:$C$30)*($A383>=Ввод!$E$1:$E$30)*($A383<=Ввод!$F$1:$F$30),Ввод!$D$1:$D$30,\"\"),\" / \")","v":""},{"$f":"MyJoin(IF((F$2=Ввод!$C$1:$C$30)*($A383>=Ввод!$E$1:$E$30)*($A383<=Ввод!$F$1:$F$30),Ввод!$D$1:$D$30,\"\"),\" / \")","v":""},"2023-01-11"]
["2023-01-12",{"$f":"MyJoin(IF((B$2=Ввод!$C$1:$C$30)*($A384>=Ввод!$E$1:$E$30)*($A384<=Ввод!$F$1:$F$30),Ввод!$D$1:$D$30,\"\"),\" / \")","v":""},{"$f":"MyJoin(IF((C$2=Ввод!$C$1:$C$30)*($A384>=Ввод!$E$1:$E$30)*($A384<=Ввод!$F$1:$F$30),Ввод!$D$1:$D$30,\"\"),\" / \")","v":""},{"$f":"MyJoin(IF((D$2=Ввод!$C$1:$C$30)*($A384>=Ввод!$E$1:$E$30)*($A384<=Ввод!$F$1:$F$30),Ввод!$D$1:$D$30,\"\"),\" / \")","v":""},{"$f":"MyJoin(IF((E$2=Ввод!$C$1:$C$30)*($A384>=Ввод!$E$1:$E$30)*($A384<=Ввод!$F$1:$F$30),Ввод!$D$1:$D$30,\"\"),\" / \")","v":""},{"$f":"MyJoin(IF((F$2=Ввод!$C$1:$C$30)*($A384>=Ввод!$E$1:$E$30)*($A384<=Ввод!$F$1:$F$30),Ввод!$D$1:$D$30,\"\"),\" / \")","v":""},"2023-01-12"]
["2023-01-13",{"$f":"MyJoin(IF((B$2=Ввод!$C$1:$C$30)*($A385>=Ввод!$E$1:$E$30)*($A385<=Ввод!$F$1:$F$30),Ввод!$D$1:$D$30,\"\"),\" / \")","v":""},{"$f":"MyJoin(IF((C$2=Ввод!$C$1:$C$30)*($A385>=Ввод!$E$1:$E$30)*($A385<=Ввод!$F$1:$F$30),Ввод!$D$1:$D$30,\"\"),\" / \")","v":""},{"$f":"MyJoin(IF((D$2=Ввод!$C$1:$C$30)*($A385>=Ввод!$E$1:$E$30)*($A385<=Ввод!$F$1:$F$30),Ввод!$D$1:$D$30,\"\"),\" / \")","v":""},{"$f":"MyJoin(IF((E$2=Ввод!$C$1:$C$30)*($A385>=Ввод!$E$1:$E$30)*($A385<=Ввод!$F$1:$F$30),Ввод!$D$1:$D$30,\"\"),\" / \")","v":""},{"$f":"MyJoin(IF((F$2=Ввод!$C$1:$C$30)*($A385>=Ввод!$E$1:$E$30)*($A385<=Ввод!$F$1:$F$30),Ввод!$D$1:$D$30,\"\"),\" / \")","v":""},"2023-01-13"]
["2023-01-14",{"$f":"MyJoin(IF((B$2=Ввод!$C$1:$C$30)*($A386>=Ввод!$E$1:$E$30)*($A386<=Ввод!$F$1:$F$30),Ввод!$D$1:$D$30,\"\"),\" / \")","v":""},{"$f":"MyJoin(IF((C$2=Ввод!$C$1:$C$30)*($A386>=Ввод!$E$1:$E$30)*($A386<=Ввод!$F$1:$F$30),Ввод!$D$1:$D$30,\"\"),\" / \")","v":""},{"$f":"MyJoin(IF((D$2=Ввод!$C$1:$C$30)*($A386>=Ввод!$E$1:$E$30)*($A386<=Ввод!$F$1:$F$30),Ввод!$D$1:$D$30,\"\"),\" / \")","v":""},{"$f":"MyJoin(IF((E$2=Ввод!$C$1:$C$30)*($A386>=Ввод!$E$1:$E$30)*($A386<=Ввод!$F$1:$F$30),Ввод!$D$1:$D$30,\"\"),\" / \")","v":""},{"$f":"MyJoin(IF((F$2=Ввод!$C$1:$C$30)*($A386>=Ввод!$E$1:$E$30)*($A386<=Ввод!$F$1:$F$30),Ввод!$D$1:$D$30,\"\"),\" / \")","v":""},"2023-01-14"]
["2023-01-15",{"$f":"MyJoin(IF((B$2=Ввод!$C$1:$C$30)*($A387>=Ввод!$E$1:$E$30)*($A387<=Ввод!$F$1:$F$30),Ввод!$D$1:$D$30,\"\"),\" / \")","v":""},{"$f":"MyJoin(IF((C$2=Ввод!$C$1:$C$30)*($A387>=Ввод!$E$1:$E$30)*($A387<=Ввод!$F$1:$F$30),Ввод!$D$1:$D$30,\"\"),\" / \")","v":""},{"$f":"MyJoin(IF((D$2=Ввод!$C$1:$C$30)*($A387>=Ввод!$E$1:$E$30)*($A387<=Ввод!$F$1:$F$30),Ввод!$D$1:$D$30,\"\"),\" / \")","v":""},{"$f":"MyJoin(IF((E$2=Ввод!$C$1:$C$30)*($A387>=Ввод!$E$1:$E$30)*($A387<=Ввод!$F$1:$F$30),Ввод!$D$1:$D$30,\"\"),\" / \")","v":""},{"$f":"MyJoin(IF((F$2=Ввод!$C$1:$C$30)*($A387>=Ввод!$E$1:$E$30)*($A387<=Ввод!$F$1:$F$30),Ввод!$D$1:$D$30,\"\"),\" / \")","v":""},"2023-01-15"]
["2023-01-16",{"$f":"MyJoin(IF((B$2=Ввод!$C$1:$C$30)*($A388>=Ввод!$E$1:$E$30)*($A388<=Ввод!$F$1:$F$30),Ввод!$D$1:$D$30,\"\"),\" / \")","v":""},{"$f":"MyJoin(IF((C$2=Ввод!$C$1:$C$30)*($A388>=Ввод!$E$1:$E$30)*($A388<=Ввод!$F$1:$F$30),Ввод!$D$1:$D$30,\"\"),\" / \")","v":""},{"$f":"MyJoin(IF((D$2=Ввод!$C$1:$C$30)*($A388>=Ввод!$E$1:$E$30)*($A388<=Ввод!$F$1:$F$30),Ввод!$D$1:$D$30,\"\"),\" / \")","v":""},{"$f":"MyJoin(IF((E$2=Ввод!$C$1:$C$30)*($A388>=Ввод!$E$1:$E$30)*($A388<=Ввод!$F$1:$F$30),Ввод!$D$1:$D$30,\"\"),\" / \")","v":""},{"$f":"MyJoin(IF((F$2=Ввод!$C$1:$C$30)*($A388>=Ввод!$E$1:$E$30)*($A388<=Ввод!$F$1:$F$30),Ввод!$D$1:$D$30,\"\"),\" / \")","v":""},"2023-01-16"]
["2023-01-17",{"$f":"MyJoin(IF((B$2=Ввод!$C$1:$C$30)*($A389>=Ввод!$E$1:$E$30)*($A389<=Ввод!$F$1:$F$30),Ввод!$D$1:$D$30,\"\"),\" / \")","v":""},{"$f":"MyJoin(IF((C$2=Ввод!$C$1:$C$30)*($A389>=Ввод!$E$1:$E$30)*($A389<=Ввод!$F$1:$F$30),Ввод!$D$1:$D$30,\"\"),\" / \")","v":""},{"$f":"MyJoin(IF((D$2=Ввод!$C$1:$C$30)*($A389>=Ввод!$E$1:$E$30)*($A389<=Ввод!$F$1:$F$30),Ввод!$D$1:$D$30,\"\"),\" / \")","v":""},{"$f":"MyJoin(IF((E$2=Ввод!$C$1:$C$30)*($A389>=Ввод!$E$1:$E$30)*($A389<=Ввод!$F$1:$F$30),Ввод!$D$1:$D$30,\"\"),\" / \")","v":""},{"$f":"MyJoin(IF((F$2=Ввод!$C$1:$C$30)*($A389>=Ввод!$E$1:$E$30)*($A389<=Ввод!$F$1:$F$30),Ввод!$D$1:$D$30,\"\"),\" / \")","v":""},"2023-01-17"]
["2023-01-18",{"$f":"MyJoin(IF((B$2=Ввод!$C$1:$C$30)*($A390>=Ввод!$E$1:$E$30)*($A390<=Ввод!$F$1:$F$30),Ввод!$D$1:$D$30,\"\"),\" / \")","v":""},{"$f":"MyJoin(IF((C$2=Ввод!$C$1:$C$30)*($A390>=Ввод!$E$1:$E$30)*($A390<=Ввод!$F$1:$F$30),Ввод!$D$1:$D$30,\"\"),\" / \")","v":""},{"$f":"MyJoin(IF((D$2=Ввод!$C$1:$C$30)*($A390>=Ввод!$E$1:$E$30)*($A390<=Ввод!$F$1:$F$30),Ввод!$D$1:$D$30,\"\"),\" / \")","v":""},{"$f":"MyJoin(IF((E$2=Ввод!$C$1:$C$30)*($A390>=Ввод!$E$1:$E$30)*($A390<=Ввод!$F$1:$F$30),Ввод!$D$1:$D$30,\"\"),\" / \")","v":""},{"$f":"MyJoin(IF((F$2=Ввод!$C$1:$C$30)*($A390>=Ввод!$E$1:$E$30)*($A390<=Ввод!$F$1:$F$30),Ввод!$D$1:$D$30,\"\"),\" / \")","v":""},"2023-01-18"]
["2023-01-19",{"$f":"MyJoin(IF((B$2=Ввод!$C$1:$C$30)*($A391>=Ввод!$E$1:$E$30)*($A391<=Ввод!$F$1:$F$30),Ввод!$D$1:$D$30,\"\"),\" / \")","v":""},{"$f":"MyJoin(IF((C$2=Ввод!$C$1:$C$30)*($A391>=Ввод!$E$1:$E$30)*($A391<=Ввод!$F$1:$F$30),Ввод!$D$1:$D$30,\"\"),\" / \")","v":""},{"$f":"MyJoin(IF((D$2=Ввод!$C$1:$C$30)*($A391>=Ввод!$E$1:$E$30)*($A391<=Ввод!$F$1:$F$30),Ввод!$D$1:$D$30,\"\"),\" / \")","v":""},{"$f":"MyJoin(IF((E$2=Ввод!$C$1:$C$30)*($A391>=Ввод!$E$1:$E$30)*($A391<=Ввод!$F$1:$F$30),Ввод!$D$1:$D$30,\"\"),\" / \")","v":""},{"$f":"MyJoin(IF((F$2=Ввод!$C$1:$C$30)*($A391>=Ввод!$E$1:$E$30)*($A391<=Ввод!$F$1:$F$30),Ввод!$D$1:$D$30,\"\"),\" / \")","v":""},"2023-01-19"]
["2023-01-20",{"$f":"MyJoin(IF((B$2=Ввод!$C$1:$C$30)*($A392>=Ввод!$E$1:$E$30)*($A392<=Ввод!$F$1:$F$30),Ввод!$D$1:$D$30,\"\"),\" / \")","v":""},{"$f":"MyJoin(IF((C$2=Ввод!$C$1:$C$30)*($A392>=Ввод!$E$1:$E$30)*($A392<=Ввод!$F$1:$F$30),Ввод!$D$1:$D$30,\"\"),\" / \")","v":""},{"$f":"MyJoin(IF((D$2=Ввод!$C$1:$C$30)*($A392>=Ввод!$E$1:$E$30)*($A392<=Ввод!$F$1:$F$30),Ввод!$D$1:$D$30,\"\"),\" / \")","v":""},{"$f":"MyJoin(IF((E$2=Ввод!$C$1:$C$30)*($A392>=Ввод!$E$1:$E$30)*($A392<=Ввод!$F$1:$F$30),Ввод!$D$1:$D$30,\"\"),\" / \")","v":""},{"$f":"MyJoin(IF((F$2=Ввод!$C$1:$C$30)*($A392>=Ввод!$E$1:$E$30)*($A392<=Ввод!$F$1:$F$30),Ввод!$D$1:$D$30,\"\"),\" / \")","v":""},"2023-01-20"]
["2023-01-21",{"$f":"MyJoin(IF((B$2=Ввод!$C$1:$C$30)*($A393>=Ввод!$E$1:$E$30)*($A393<=Ввод!$F$1:$F$30),Ввод!$D$1:$D$30,\"\"),\" / \")","v":""},{"$f":"MyJoin(IF((C$2=Ввод!$C$1:$C$30)*($A393>=Ввод!$E$1:$E$30)*($A393<=Ввод!$F$1:$F$30),Ввод!$D$1:$D$30,\"\"),\" / \")","v":""},{"$f":"MyJoin(IF((D$2=Ввод!$C$1:$C$30)*($A393>=Ввод!$E$1:$E$30)*($A393<=Ввод!$F$1:$F$30),Ввод!$D$1:$D$30,\"\"),\" / \")","v":""},{"$f":"MyJoin(IF((E$2=Ввод!$C$1:$C$30)*($A393>=Ввод!$E$1:$E$30)*($A393<=Ввод!$F$1:$F$30),Ввод!$D$1:$D$30,\"\"),\" / \")","v":""},{"$f":"MyJoin(IF((F$2=Ввод!$C$1:$C$30)*($A393>=Ввод!$E$1:$E$30)*($A393<=Ввод!$F$1:$F$30),Ввод!$D$1:$D$30,\"\"),\" / \")","v":""},{"$f":"IF(A393=\"\",\"\",A393)","v":"2023-01-21"}]
["2023-01-22",{"$f":"MyJoin(IF((B$2=Ввод!$C$1:$C$30)*($A394>=Ввод!$E$1:$E$30)*($A394<=Ввод!$F$1:$F$30),Ввод!$D$1:$D$30,\"\"),\" / \")","v":""},{"$f":"MyJoin(IF((C$2=Ввод!$C$1:$C$30)*($A394>=Ввод!$E$1:$E$30)*($A394<=Ввод!$F$1:$F$30),Ввод!$D$1:$D$30,\"\"),\" / \")","v":""},{"$f":"MyJoin(IF((D$2=Ввод!$C$1:$C$30)*($A394>=Ввод!$E$1:$E$30)*($A394<=Ввод!$F$1:$F$30),Ввод!$D$1:$D$30,\"\"),\" / \")","v":""},{"$f":"MyJoin(IF((E$2=Ввод!$C$1:$C$30)*($A394>=Ввод!$E$1:$E$30)*($A394<=Ввод!$F$1:$F$30),Ввод!$D$1:$D$30,\"\"),\" / \")","v":""},{"$f":"MyJoin(IF((F$2=Ввод!$C$1:$C$30)*($A394>=Ввод!$E$1:$E$30)*($A394<=Ввод!$F$1:$F$30),Ввод!$D$1:$D$30,\"\"),\" / \")","v":""},"2023-01-22"]
["2023-01-23",{"$f":"MyJoin(IF((B$2=Ввод!$C$1:$C$30)*($A395>=Ввод!$E$1:$E$30)*($A395<=Ввод!$F$1:$F$30),Ввод!$D$1:$D$30,\"\"),\" / \")","v":""},{"$f":"MyJoin(IF((C$2=Ввод!$C$1:$C$30)*($A395>=Ввод!$E$1:$E$30)*($A395<=Ввод!$F$1:$F$30),Ввод!$D$1:$D$30,\"\"),\" / \")","v":""},{"$f":"MyJoin(IF((D$2=Ввод!$C$1:$C$30)*($A395>=Ввод!$E$1:$E$30)*($A395<=Ввод!$F$1:$F$30),Ввод!$D$1:$D$30,\"\"),\" / \")","v":""},{"$f":"MyJoin(IF((E$2=Ввод!$C$1:$C$30)*($A395>=Ввод!$E$1:$E$30)*($A395<=Ввод!$F$1:$F$30),Ввод!$D$1:$D$30,\"\"),\" / \")","v":""},{"$f":"MyJoin(IF((F$2=Ввод!$C$1:$C$30)*($A395>=Ввод!$E$1:$E$30)*($A395<=Ввод!$F$1:$F$30),Ввод!$D$1:$D$30,\"\"),\" / \")","v":""},"2023-01-23"]
["2023-01-24",{"$f":"MyJoin(IF((B$2=Ввод!$C$1:$C$30)*($A396>=Ввод!$E$1:$E$30)*($A396<=Ввод!$F$1:$F$30),Ввод!$D$1:$D$30,\"\"),\" / \")","v":""},{"$f":"MyJoin(IF((C$2=Ввод!$C$1:$C$30)*($A396>=Ввод!$E$1:$E$30)*($A396<=Ввод!$F$1:$F$30),Ввод!$D$1:$D$30,\"\"),\" / \")","v":""},{"$f":"MyJoin(IF((D$2=Ввод!$C$1:$C$30)*($A396>=Ввод!$E$1:$E$30)*($A396<=Ввод!$F$1:$F$30),Ввод!$D$1:$D$30,\"\"),\" / \")","v":""},{"$f":"MyJoin(IF((E$2=Ввод!$C$1:$C$30)*($A396>=Ввод!$E$1:$E$30)*($A396<=Ввод!$F$1:$F$30),Ввод!$D$1:$D$30,\"\"),\" / \")","v":""},{"$f":"MyJoin(IF((F$2=Ввод!$C$1:$C$30)*($A396>=Ввод!$E$1:$E$30)*($A396<=Ввод!$F$1:$F$30),Ввод!$D$1:$D$30,\"\"),\" / \")","v":""},"2023-01-24"]
["2023-01-25",{"$f":"MyJoin(IF((B$2=Ввод!$C$1:$C$30)*($A397>=Ввод!$E$1:$E$30)*($A397<=Ввод!$F$1:$F$30),Ввод!$D$1:$D$30,\"\"),\" / \")","v":""},{"$f":"MyJoin(IF((C$2=Ввод!$C$1:$C$30)*($A397>=Ввод!$E$1:$E$30)*($A397<=Ввод!$F$1:$F$30),Ввод!$D$1:$D$30,\"\"),\" / \")","v":""},{"$f":"MyJoin(IF((D$2=Ввод!$C$1:$C$30)*($A397>=Ввод!$E$1:$E$30)*($A397<=Ввод!$F$1:$F$30),Ввод!$D$1:$D$30,\"\"),\" / \")","v":""},{"$f":"MyJoin(IF((E$2=Ввод!$C$1:$C$30)*($A397>=Ввод!$E$1:$E$30)*($A397<=Ввод!$F$1:$F$30),Ввод!$D$1:$D$30,\"\"),\" / \")","v":""},{"$f":"MyJoin(IF((F$2=Ввод!$C$1:$C$30)*($A397>=Ввод!$E$1:$E$30)*($A397<=Ввод!$F$1:$F$30),Ввод!$D$1:$D$30,\"\"),\" / \")","v":""},"2023-01-25"]
["2023-01-26",{"$f":"MyJoin(IF((B$2=Ввод!$C$1:$C$30)*($A398>=Ввод!$E$1:$E$30)*($A398<=Ввод!$F$1:$F$30),Ввод!$D$1:$D$30,\"\"),\" / \")","v":""},{"$f":"MyJoin(IF((C$2=Ввод!$C$1:$C$30)*($A398>=Ввод!$E$1:$E$30)*($A398<=Ввод!$F$1:$F$30),Ввод!$D$1:$D$30,\"\"),\" / \")","v":""},{"$f":"MyJoin(IF((D$2=Ввод!$C$1:$C$30)*($A398>=Ввод!$E$1:$E$30)*($A398<=Ввод!$F$1:$F$30),Ввод!$D$1:$D$30,\"\"),\" / \")","v":""},{"$f":"MyJoin(IF((E$2=Ввод!$C$1:$C$30)*($A398>=Ввод!$E$1:$E$30)*($A398<=Ввод!$F$1:$F$30),Ввод!$D$1:$D$30,\"\"),\" / \")","v":""},{"$f":"MyJoin(IF((F$2=Ввод!$C$1:$C$30)*($A398>=Ввод!$E$1:$E$30)*($A398<=Ввод!$F$1:$F$30),Ввод!$D$1:$D$30,\"\"),\" / \")","v":""},"2023-01-26"]
["2023-01-27",{"$f":"MyJoin(IF((B$2=Ввод!$C$1:$C$30)*($A399>=Ввод!$E$1:$E$30)*($A399<=Ввод!$F$1:$F$30),Ввод!$D$1:$D$30,\"\"),\" / \")","v":""},{"$f":"MyJoin(IF((C$2=Ввод!$C$1:$C$30)*($A399>=Ввод!$E$1:$E$30)*($A399<=Ввод!$F$1:$F$30),Ввод!$D$1:$D$30,\"\"),\" / \")","v":""},{"$f":"MyJoin(IF((D$2=Ввод!$C$1:$C$30)*($A399>=Ввод!$E$1:$E$30)*($A399<=Ввод!$F$1:$F$30),Ввод!$D$1:$D$30,\"\"),\" / \")","v":""},{"$f":"MyJoin(IF((E$2=Ввод!$C$1:$C$30)*($A399>=Ввод!$E$1:$E$30)*($A399<=Ввод!$F$1:$F$30),Ввод!$D$1:$D$30,\"\"),\" / \")","v":""},{"$f":"MyJoin(IF((F$2=Ввод!$C$1:$C$30)*($A399>=Ввод!$E$1:$E$30)*($A399<=Ввод!$F$1:$F$30),Ввод!$D$1:$D$30,\"\"),\" / \")","v":""},"2023-01-27"]
["2023-01-28",{"$f":"MyJoin(IF((B$2=Ввод!$C$1:$C$30)*($A400>=Ввод!$E$1:$E$30)*($A400<=Ввод!$F$1:$F$30),Ввод!$D$1:$D$30,\"\"),\" / \")","v":""},{"$f":"MyJoin(IF((C$2=Ввод!$C$1:$C$30)*($A400>=Ввод!$E$1:$E$30)*($A400<=Ввод!$F$1:$F$30),Ввод!$D$1:$D$30,\"\"),\" / \")","v":""},{"$f":"MyJoin(IF((D$2=Ввод!$C$1:$C$30)*($A400>=Ввод!$E$1:$E$30)*($A400<=Ввод!$F$1:$F$30),Ввод!$D$1:$D$30,\"\"),\" / \")","v":""},{"$f":"MyJoin(IF((E$2=Ввод!$C$1:$C$30)*($A400>=Ввод!$E$1:$E$30)*($A400<=Ввод!$F$1:$F$30),Ввод!$D$1:$D$30,\"\"),\" / \")","v":""},{"$f":"MyJoin(IF((F$2=Ввод!$C$1:$C$30)*($A400>=Ввод!$E$1:$E$30)*($A400<=Ввод!$F$1:$F$30),Ввод!$D$1:$D$30,\"\"),\" / \")","v":""},"2023-01-28"]
["2023-01-29",{"$f":"MyJoin(IF((B$2=Ввод!$C$1:$C$30)*($A401>=Ввод!$E$1:$E$30)*($A401<=Ввод!$F$1:$F$30),Ввод!$D$1:$D$30,\"\"),\" / \")","v":""},{"$f":"MyJoin(IF((C$2=Ввод!$C$1:$C$30)*($A401>=Ввод!$E$1:$E$30)*($A401<=Ввод!$F$1:$F$30),Ввод!$D$1:$D$30,\"\"),\" / \")","v":""},{"$f":"MyJoin(IF((D$2=Ввод!$C$1:$C$30)*($A401>=Ввод!$E$1:$E$30)*($A401<=Ввод!$F$1:$F$30),Ввод!$D$1:$D$30,\"\"),\" / \")","v":""},{"$f":"MyJoin(IF((E$2=Ввод!$C$1:$C$30)*($A401>=Ввод!$E$1:$E$30)*($A401<=Ввод!$F$1:$F$30),Ввод!$D$1:$D$30,\"\"),\" / \")","v":""},{"$f":"MyJoin(IF((F$2=Ввод!$C$1:$C$30)*($A401>=Ввод!$E$1:$E$30)*($A401<=Ввод!$F$1:$F$30),Ввод!$D$1:$D$30,\"\"),\" / \")","v":""},"2023-01-29"]
["2023-01-30",{"$f":"MyJoin(IF((B$2=Ввод!$C$1:$C$30)*($A402>=Ввод!$E$1:$E$30)*($A402<=Ввод!$F$1:$F$30),Ввод!$D$1:$D$30,\"\"),\" / \")","v":""},{"$f":"MyJoin(IF((C$2=Ввод!$C$1:$C$30)*($A402>=Ввод!$E$1:$E$30)*($A402<=Ввод!$F$1:$F$30),Ввод!$D$1:$D$30,\"\"),\" / \")","v":""},{"$f":"MyJoin(IF((D$2=Ввод!$C$1:$C$30)*($A402>=Ввод!$E$1:$E$30)*($A402<=Ввод!$F$1:$F$30),Ввод!$D$1:$D$30,\"\"),\" / \")","v":""},{"$f":"MyJoin(IF((E$2=Ввод!$C$1:$C$30)*($A402>=Ввод!$E$1:$E$30)*($A402<=Ввод!$F$1:$F$30),Ввод!$D$1:$D$30,\"\"),\" / \")","v":""},{"$f":"MyJoin(IF((F$2=Ввод!$C$1:$C$30)*($A402>=Ввод!$E$1:$E$30)*($A402<=Ввод!$F$1:$F$30),Ввод!$D$1:$D$30,\"\"),\" / \")","v":""},"2023-01-30"]
["2023-01-31",{"$f":"MyJoin(IF((B$2=Ввод!$C$1:$C$30)*($A403>=Ввод!$E$1:$E$30)*($A403<=Ввод!$F$1:$F$30),Ввод!$D$1:$D$30,\"\"),\" / \")","v":""},{"$f":"MyJoin(IF((C$2=Ввод!$C$1:$C$30)*($A403>=Ввод!$E$1:$E$30)*($A403<=Ввод!$F$1:$F$30),Ввод!$D$1:$D$30,\"\"),\" / \")","v":""},{"$f":"MyJoin(IF((D$2=Ввод!$C$1:$C$30)*($A403>=Ввод!$E$1:$E$30)*($A403<=Ввод!$F$1:$F$30),Ввод!$D$1:$D$30,\"\"),\" / \")","v":""},{"$f":"MyJoin(IF((E$2=Ввод!$C$1:$C$30)*($A403>=Ввод!$E$1:$E$30)*($A403<=Ввод!$F$1:$F$30),Ввод!$D$1:$D$30,\"\"),\" / \")","v":""},{"$f":"MyJoin(IF((F$2=Ввод!$C$1:$C$30)*($A403>=Ввод!$E$1:$E$30)*($A403<=Ввод!$F$1:$F$30),Ввод!$D$1:$D$30,\"\"),\" / \")","v":""},"2023-01-31"]
["2023-02-01",{"$f":"MyJoin(IF((B$2=Ввод!$C$1:$C$30)*($A404>=Ввод!$E$1:$E$30)*($A404<=Ввод!$F$1:$F$30),Ввод!$D$1:$D$30,\"\"),\" / \")","v":""},{"$f":"MyJoin(IF((C$2=Ввод!$C$1:$C$30)*($A404>=Ввод!$E$1:$E$30)*($A404<=Ввод!$F$1:$F$30),Ввод!$D$1:$D$30,\"\"),\" / \")","v":""},{"$f":"MyJoin(IF((D$2=Ввод!$C$1:$C$30)*($A404>=Ввод!$E$1:$E$30)*($A404<=Ввод!$F$1:$F$30),Ввод!$D$1:$D$30,\"\"),\" / \")","v":""},{"$f":"MyJoin(IF((E$2=Ввод!$C$1:$C$30)*($A404>=Ввод!$E$1:$E$30)*($A404<=Ввод!$F$1:$F$30),Ввод!$D$1:$D$30,\"\"),\" / \")","v":""},{"$f":"MyJoin(IF((F$2=Ввод!$C$1:$C$30)*($A404>=Ввод!$E$1:$E$30)*($A404<=Ввод!$F$1:$F$30),Ввод!$D$1:$D$30,\"\"),\" / \")","v":""},"2023-02-01"]
["2023-02-02",{"$f":"MyJoin(IF((B$2=Ввод!$C$1:$C$30)*($A405>=Ввод!$E$1:$E$30)*($A405<=Ввод!$F$1:$F$30),Ввод!$D$1:$D$30,\"\"),\" / \")","v":""},{"$f":"MyJoin(IF((C$2=Ввод!$C$1:$C$30)*($A405>=Ввод!$E$1:$E$30)*($A405<=Ввод!$F$1:$F$30),Ввод!$D$1:$D$30,\"\"),\" / \")","v":""},{"$f":"MyJoin(IF((D$2=Ввод!$C$1:$C$30)*($A405>=Ввод!$E$1:$E$30)*($A405<=Ввод!$F$1:$F$30),Ввод!$D$1:$D$30,\"\"),\" / \")","v":""},{"$f":"MyJoin(IF((E$2=Ввод!$C$1:$C$30)*($A405>=Ввод!$E$1:$E$30)*($A405<=Ввод!$F$1:$F$30),Ввод!$D$1:$D$30,\"\"),\" / \")","v":""},{"$f":"MyJoin(IF((F$2=Ввод!$C$1:$C$30)*($A405>=Ввод!$E$1:$E$30)*($A405<=Ввод!$F$1:$F$30),Ввод!$D$1:$D$30,\"\"),\" / \")","v":""},"2023-02-02"]
["2023-02-03",{"$f":"MyJoin(IF((B$2=Ввод!$C$1:$C$30)*($A406>=Ввод!$E$1:$E$30)*($A406<=Ввод!$F$1:$F$30),Ввод!$D$1:$D$30,\"\"),\" / \")","v":""},{"$f":"MyJoin(IF((C$2=Ввод!$C$1:$C$30)*($A406>=Ввод!$E$1:$E$30)*($A406<=Ввод!$F$1:$F$30),Ввод!$D$1:$D$30,\"\"),\" / \")","v":""},{"$f":"MyJoin(IF((D$2=Ввод!$C$1:$C$30)*($A406>=Ввод!$E$1:$E$30)*($A406<=Ввод!$F$1:$F$30),Ввод!$D$1:$D$30,\"\"),\" / \")","v":""},{"$f":"MyJoin(IF((E$2=Ввод!$C$1:$C$30)*($A406>=Ввод!$E$1:$E$30)*($A406<=Ввод!$F$1:$F$30),Ввод!$D$1:$D$30,\"\"),\" / \")","v":""},{"$f":"MyJoin(IF((F$2=Ввод!$C$1:$C$30)*($A406>=Ввод!$E$1:$E$30)*($A406<=Ввод!$F$1:$F$30),Ввод!$D$1:$D$30,\"\"),\" / \")","v":""},"2023-02-03"]
["2023-02-04",{"$f":"MyJoin(IF((B$2=Ввод!$C$1:$C$30)*($A407>=Ввод!$E$1:$E$30)*($A407<=Ввод!$F$1:$F$30),Ввод!$D$1:$D$30,\"\"),\" / \")","v":""},{"$f":"MyJoin(IF((C$2=Ввод!$C$1:$C$30)*($A407>=Ввод!$E$1:$E$30)*($A407<=Ввод!$F$1:$F$30),Ввод!$D$1:$D$30,\"\"),\" / \")","v":""},{"$f":"MyJoin(IF((D$2=Ввод!$C$1:$C$30)*($A407>=Ввод!$E$1:$E$30)*($A407<=Ввод!$F$1:$F$30),Ввод!$D$1:$D$30,\"\"),\" / \")","v":""},{"$f":"MyJoin(IF((E$2=Ввод!$C$1:$C$30)*($A407>=Ввод!$E$1:$E$30)*($A407<=Ввод!$F$1:$F$30),Ввод!$D$1:$D$30,\"\"),\" / \")","v":""},{"$f":"MyJoin(IF((F$2=Ввод!$C$1:$C$30)*($A407>=Ввод!$E$1:$E$30)*($A407<=Ввод!$F$1:$F$30),Ввод!$D$1:$D$30,\"\"),\" / \")","v":""},"2023-02-04"]
["2023-02-05",{"$f":"MyJoin(IF((B$2=Ввод!$C$1:$C$30)*($A408>=Ввод!$E$1:$E$30)*($A408<=Ввод!$F$1:$F$30),Ввод!$D$1:$D$30,\"\"),\" / \")","v":""},{"$f":"MyJoin(IF((C$2=Ввод!$C$1:$C$30)*($A408>=Ввод!$E$1:$E$30)*($A408<=Ввод!$F$1:$F$30),Ввод!$D$1:$D$30,\"\"),\" / \")","v":""},{"$f":"MyJoin(IF((D$2=Ввод!$C$1:$C$30)*($A408>=Ввод!$E$1:$E$30)*($A408<=Ввод!$F$1:$F$30),Ввод!$D$1:$D$30,\"\"),\" / \")","v":""},{"$f":"MyJoin(IF((E$2=Ввод!$C$1:$C$30)*($A408>=Ввод!$E$1:$E$30)*($A408<=Ввод!$F$1:$F$30),Ввод!$D$1:$D$30,\"\"),\" / \")","v":""},{"$f":"MyJoin(IF((F$2=Ввод!$C$1:$C$30)*($A408>=Ввод!$E$1:$E$30)*($A408<=Ввод!$F$1:$F$30),Ввод!$D$1:$D$30,\"\"),\" / \")","v":""},"2023-02-05"]
["2023-02-06",{"$f":"MyJoin(IF((B$2=Ввод!$C$1:$C$30)*($A409>=Ввод!$E$1:$E$30)*($A409<=Ввод!$F$1:$F$30),Ввод!$D$1:$D$30,\"\"),\" / \")","v":""},{"$f":"MyJoin(IF((C$2=Ввод!$C$1:$C$30)*($A409>=Ввод!$E$1:$E$30)*($A409<=Ввод!$F$1:$F$30),Ввод!$D$1:$D$30,\"\"),\" / \")","v":""},{"$f":"MyJoin(IF((D$2=Ввод!$C$1:$C$30)*($A409>=Ввод!$E$1:$E$30)*($A409<=Ввод!$F$1:$F$30),Ввод!$D$1:$D$30,\"\"),\" / \")","v":""},{"$f":"MyJoin(IF((E$2=Ввод!$C$1:$C$30)*($A409>=Ввод!$E$1:$E$30)*($A409<=Ввод!$F$1:$F$30),Ввод!$D$1:$D$30,\"\"),\" / \")","v":""},{"$f":"MyJoin(IF((F$2=Ввод!$C$1:$C$30)*($A409>=Ввод!$E$1:$E$30)*($A409<=Ввод!$F$1:$F$30),Ввод!$D$1:$D$30,\"\"),\" / \")","v":""},"2023-02-06"]
["2023-02-07",{"$f":"MyJoin(IF((B$2=Ввод!$C$1:$C$30)*($A410>=Ввод!$E$1:$E$30)*($A410<=Ввод!$F$1:$F$30),Ввод!$D$1:$D$30,\"\"),\" / \")","v":""},{"$f":"MyJoin(IF((C$2=Ввод!$C$1:$C$30)*($A410>=Ввод!$E$1:$E$30)*($A410<=Ввод!$F$1:$F$30),Ввод!$D$1:$D$30,\"\"),\" / \")","v":""},{"$f":"MyJoin(IF((D$2=Ввод!$C$1:$C$30)*($A410>=Ввод!$E$1:$E$30)*($A410<=Ввод!$F$1:$F$30),Ввод!$D$1:$D$30,\"\"),\" / \")","v":""},{"$f":"MyJoin(IF((E$2=Ввод!$C$1:$C$30)*($A410>=Ввод!$E$1:$E$30)*($A410<=Ввод!$F$1:$F$30),Ввод!$D$1:$D$30,\"\"),\" / \")","v":""},{"$f":"MyJoin(IF((F$2=Ввод!$C$1:$C$30)*($A410>=Ввод!$E$1:$E$30)*($A410<=Ввод!$F$1:$F$30),Ввод!$D$1:$D$30,\"\"),\" / \")","v":""},"2023-02-07"]
["2023-02-08",{"$f":"MyJoin(IF((B$2=Ввод!$C$1:$C$30)*($A411>=Ввод!$E$1:$E$30)*($A411<=Ввод!$F$1:$F$30),Ввод!$D$1:$D$30,\"\"),\" / \")","v":""},{"$f":"MyJoin(IF((C$2=Ввод!$C$1:$C$30)*($A411>=Ввод!$E$1:$E$30)*($A411<=Ввод!$F$1:$F$30),Ввод!$D$1:$D$30,\"\"),\" / \")","v":""},{"$f":"MyJoin(IF((D$2=Ввод!$C$1:$C$30)*($A411>=Ввод!$E$1:$E$30)*($A411<=Ввод!$F$1:$F$30),Ввод!$D$1:$D$30,\"\"),\" / \")","v":""},{"$f":"MyJoin(IF((E$2=Ввод!$C$1:$C$30)*($A411>=Ввод!$E$1:$E$30)*($A411<=Ввод!$F$1:$F$30),Ввод!$D$1:$D$30,\"\"),\" / \")","v":""},{"$f":"MyJoin(IF((F$2=Ввод!$C$1:$C$30)*($A411>=Ввод!$E$1:$E$30)*($A411<=Ввод!$F$1:$F$30),Ввод!$D$1:$D$30,\"\"),\" / \")","v":""},"2023-02-08"]
["2023-02-09",{"$f":"MyJoin(IF((B$2=Ввод!$C$1:$C$30)*($A412>=Ввод!$E$1:$E$30)*($A412<=Ввод!$F$1:$F$30),Ввод!$D$1:$D$30,\"\"),\" / \")","v":""},{"$f":"MyJoin(IF((C$2=Ввод!$C$1:$C$30)*($A412>=Ввод!$E$1:$E$30)*($A412<=Ввод!$F$1:$F$30),Ввод!$D$1:$D$30,\"\"),\" / \")","v":""},{"$f":"MyJoin(IF((D$2=Ввод!$C$1:$C$30)*($A412>=Ввод!$E$1:$E$30)*($A412<=Ввод!$F$1:$F$30),Ввод!$D$1:$D$30,\"\"),\" / \")","v":""},{"$f":"MyJoin(IF((E$2=Ввод!$C$1:$C$30)*($A412>=Ввод!$E$1:$E$30)*($A412<=Ввод!$F$1:$F$30),Ввод!$D$1:$D$30,\"\"),\" / \")","v":""},{"$f":"MyJoin(IF((F$2=Ввод!$C$1:$C$30)*($A412>=Ввод!$E$1:$E$30)*($A412<=Ввод!$F$1:$F$30),Ввод!$D$1:$D$30,\"\"),\" / \")","v":""},"2023-02-09"]
["2023-02-10",{"$f":"MyJoin(IF((B$2=Ввод!$C$1:$C$30)*($A413>=Ввод!$E$1:$E$30)*($A413<=Ввод!$F$1:$F$30),Ввод!$D$1:$D$30,\"\"),\" / \")","v":""},{"$f":"MyJoin(IF((C$2=Ввод!$C$1:$C$30)*($A413>=Ввод!$E$1:$E$30)*($A413<=Ввод!$F$1:$F$30),Ввод!$D$1:$D$30,\"\"),\" / \")","v":""},{"$f":"MyJoin(IF((D$2=Ввод!$C$1:$C$30)*($A413>=Ввод!$E$1:$E$30)*($A413<=Ввод!$F$1:$F$30),Ввод!$D$1:$D$30,\"\"),\" / \")","v":""},{"$f":"MyJoin(IF((E$2=Ввод!$C$1:$C$30)*($A413>=Ввод!$E$1:$E$30)*($A413<=Ввод!$F$1:$F$30),Ввод!$D$1:$D$30,\"\"),\" / \")","v":""},{"$f":"MyJoin(IF((F$2=Ввод!$C$1:$C$30)*($A413>=Ввод!$E$1:$E$30)*($A413<=Ввод!$F$1:$F$30),Ввод!$D$1:$D$30,\"\"),\" / \")","v":""},"2023-02-10"]
["2023-02-11",{"$f":"MyJoin(IF((B$2=Ввод!$C$1:$C$30)*($A414>=Ввод!$E$1:$E$30)*($A414<=Ввод!$F$1:$F$30),Ввод!$D$1:$D$30,\"\"),\" / \")","v":""},{"$f":"MyJoin(IF((C$2=Ввод!$C$1:$C$30)*($A414>=Ввод!$E$1:$E$30)*($A414<=Ввод!$F$1:$F$30),Ввод!$D$1:$D$30,\"\"),\" / \")","v":""},{"$f":"MyJoin(IF((D$2=Ввод!$C$1:$C$30)*($A414>=Ввод!$E$1:$E$30)*($A414<=Ввод!$F$1:$F$30),Ввод!$D$1:$D$30,\"\"),\" / \")","v":""},{"$f":"MyJoin(IF((E$2=Ввод!$C$1:$C$30)*($A414>=Ввод!$E$1:$E$30)*($A414<=Ввод!$F$1:$F$30),Ввод!$D$1:$D$30,\"\"),\" / \")","v":""},{"$f":"MyJoin(IF((F$2=Ввод!$C$1:$C$30)*($A414>=Ввод!$E$1:$E$30)*($A414<=Ввод!$F$1:$F$30),Ввод!$D$1:$D$30,\"\"),\" / \")","v":""},"2023-02-11"]
["2023-02-12",{"$f":"MyJoin(IF((B$2=Ввод!$C$1:$C$30)*($A415>=Ввод!$E$1:$E$30)*($A415<=Ввод!$F$1:$F$30),Ввод!$D$1:$D$30,\"\"),\" / \")","v":""},{"$f":"MyJoin(IF((C$2=Ввод!$C$1:$C$30)*($A415>=Ввод!$E$1:$E$30)*($A415<=Ввод!$F$1:$F$30),Ввод!$D$1:$D$30,\"\"),\" / \")","v":""},{"$f":"MyJoin(IF((D$2=Ввод!$C$1:$C$30)*($A415>=Ввод!$E$1:$E$30)*($A415<=Ввод!$F$1:$F$30),Ввод!$D$1:$D$30,\"\"),\" / \")","v":""},{"$f":"MyJoin(IF((E$2=Ввод!$C$1:$C$30)*($A415>=Ввод!$E$1:$E$30)*($A415<=Ввод!$F$1:$F$30),Ввод!$D$1:$D$30,\"\"),\" / \")","v":""},{"$f":"MyJoin(IF((F$2=Ввод!$C$1:$C$30)*($A415>=Ввод!$E$1:$E$30)*($A415<=Ввод!$F$1:$F$30),Ввод!$D$1:$D$30,\"\"),\" / \")","v":""},"2023-02-12"]
["2023-02-13",{"$f":"MyJoin(IF((B$2=Ввод!$C$1:$C$30)*($A416>=Ввод!$E$1:$E$30)*($A416<=Ввод!$F$1:$F$30),Ввод!$D$1:$D$30,\"\"),\" / \")","v":""},{"$f":"MyJoin(IF((C$2=Ввод!$C$1:$C$30)*($A416>=Ввод!$E$1:$E$30)*($A416<=Ввод!$F$1:$F$30),Ввод!$D$1:$D$30,\"\"),\" / \")","v":""},{"$f":"MyJoin(IF((D$2=Ввод!$C$1:$C$30)*($A416>=Ввод!$E$1:$E$30)*($A416<=Ввод!$F$1:$F$30),Ввод!$D$1:$D$30,\"\"),\" / \")","v":""},{"$f":"MyJoin(IF((E$2=Ввод!$C$1:$C$30)*($A416>=Ввод!$E$1:$E$30)*($A416<=Ввод!$F$1:$F$30),Ввод!$D$1:$D$30,\"\"),\" / \")","v":""},{"$f":"MyJoin(IF((F$2=Ввод!$C$1:$C$30)*($A416>=Ввод!$E$1:$E$30)*($A416<=Ввод!$F$1:$F$30),Ввод!$D$1:$D$30,\"\"),\" / \")","v":""},"2023-02-13"]
["2023-02-14",{"$f":"MyJoin(IF((B$2=Ввод!$C$1:$C$30)*($A417>=Ввод!$E$1:$E$30)*($A417<=Ввод!$F$1:$F$30),Ввод!$D$1:$D$30,\"\"),\" / \")","v":""},{"$f":"MyJoin(IF((C$2=Ввод!$C$1:$C$30)*($A417>=Ввод!$E$1:$E$30)*($A417<=Ввод!$F$1:$F$30),Ввод!$D$1:$D$30,\"\"),\" / \")","v":""},{"$f":"MyJoin(IF((D$2=Ввод!$C$1:$C$30)*($A417>=Ввод!$E$1:$E$30)*($A417<=Ввод!$F$1:$F$30),Ввод!$D$1:$D$30,\"\"),\" / \")","v":""},{"$f":"MyJoin(IF((E$2=Ввод!$C$1:$C$30)*($A417>=Ввод!$E$1:$E$30)*($A417<=Ввод!$F$1:$F$30),Ввод!$D$1:$D$30,\"\"),\" / \")","v":""},{"$f":"MyJoin(IF((F$2=Ввод!$C$1:$C$30)*($A417>=Ввод!$E$1:$E$30)*($A417<=Ввод!$F$1:$F$30),Ввод!$D$1:$D$30,\"\"),\" / \")","v":""},"2023-02-14"]
["2023-02-15",{"$f":"MyJoin(IF((B$2=Ввод!$C$1:$C$30)*($A418>=Ввод!$E$1:$E$30)*($A418<=Ввод!$F$1:$F$30),Ввод!$D$1:$D$30,\"\"),\" / \")","v":""},{"$f":"MyJoin(IF((C$2=Ввод!$C$1:$C$30)*($A418>=Ввод!$E$1:$E$30)*($A418<=Ввод!$F$1:$F$30),Ввод!$D$1:$D$30,\"\"),\" / \")","v":""},{"$f":"MyJoin(IF((D$2=Ввод!$C$1:$C$30)*($A418>=Ввод!$E$1:$E$30)*($A418<=Ввод!$F$1:$F$30),Ввод!$D$1:$D$30,\"\"),\" / \")","v":""},{"$f":"MyJoin(IF((E$2=Ввод!$C$1:$C$30)*($A418>=Ввод!$E$1:$E$30)*($A418<=Ввод!$F$1:$F$30),Ввод!$D$1:$D$30,\"\"),\" / \")","v":""},{"$f":"MyJoin(IF((F$2=Ввод!$C$1:$C$30)*($A418>=Ввод!$E$1:$E$30)*($A418<=Ввод!$F$1:$F$30),Ввод!$D$1:$D$30,\"\"),\" / \")","v":""},"2023-02-15"]
["2023-02-16",{"$f":"MyJoin(IF((B$2=Ввод!$C$1:$C$30)*($A419>=Ввод!$E$1:$E$30)*($A419<=Ввод!$F$1:$F$30),Ввод!$D$1:$D$30,\"\"),\" / \")","v":""},{"$f":"MyJoin(IF((C$2=Ввод!$C$1:$C$30)*($A419>=Ввод!$E$1:$E$30)*($A419<=Ввод!$F$1:$F$30),Ввод!$D$1:$D$30,\"\"),\" / \")","v":""},{"$f":"MyJoin(IF((D$2=Ввод!$C$1:$C$30)*($A419>=Ввод!$E$1:$E$30)*($A419<=Ввод!$F$1:$F$30),Ввод!$D$1:$D$30,\"\"),\" / \")","v":""},{"$f":"MyJoin(IF((E$2=Ввод!$C$1:$C$30)*($A419>=Ввод!$E$1:$E$30)*($A419<=Ввод!$F$1:$F$30),Ввод!$D$1:$D$30,\"\"),\" / \")","v":""},{"$f":"MyJoin(IF((F$2=Ввод!$C$1:$C$30)*($A419>=Ввод!$E$1:$E$30)*($A419<=Ввод!$F$1:$F$30),Ввод!$D$1:$D$30,\"\"),\" / \")","v":""},"2023-02-16"]
["2023-02-17",{"$f":"MyJoin(IF((B$2=Ввод!$C$1:$C$30)*($A420>=Ввод!$E$1:$E$30)*($A420<=Ввод!$F$1:$F$30),Ввод!$D$1:$D$30,\"\"),\" / \")","v":""},{"$f":"MyJoin(IF((C$2=Ввод!$C$1:$C$30)*($A420>=Ввод!$E$1:$E$30)*($A420<=Ввод!$F$1:$F$30),Ввод!$D$1:$D$30,\"\"),\" / \")","v":""},{"$f":"MyJoin(IF((D$2=Ввод!$C$1:$C$30)*($A420>=Ввод!$E$1:$E$30)*($A420<=Ввод!$F$1:$F$30),Ввод!$D$1:$D$30,\"\"),\" / \")","v":""},{"$f":"MyJoin(IF((E$2=Ввод!$C$1:$C$30)*($A420>=Ввод!$E$1:$E$30)*($A420<=Ввод!$F$1:$F$30),Ввод!$D$1:$D$30,\"\"),\" / \")","v":""},{"$f":"MyJoin(IF((F$2=Ввод!$C$1:$C$30)*($A420>=Ввод!$E$1:$E$30)*($A420<=Ввод!$F$1:$F$30),Ввод!$D$1:$D$30,\"\"),\" / \")","v":""},"2023-02-17"]
["2023-02-18",{"$f":"MyJoin(IF((B$2=Ввод!$C$1:$C$30)*($A421>=Ввод!$E$1:$E$30)*($A421<=Ввод!$F$1:$F$30),Ввод!$D$1:$D$30,\"\"),\" / \")","v":""},{"$f":"MyJoin(IF((C$2=Ввод!$C$1:$C$30)*($A421>=Ввод!$E$1:$E$30)*($A421<=Ввод!$F$1:$F$30),Ввод!$D$1:$D$30,\"\"),\" / \")","v":""},{"$f":"MyJoin(IF((D$2=Ввод!$C$1:$C$30)*($A421>=Ввод!$E$1:$E$30)*($A421<=Ввод!$F$1:$F$30),Ввод!$D$1:$D$30,\"\"),\" / \")","v":""},{"$f":"MyJoin(IF((E$2=Ввод!$C$1:$C$30)*($A421>=Ввод!$E$1:$E$30)*($A421<=Ввод!$F$1:$F$30),Ввод!$D$1:$D$30,\"\"),\" / \")","v":""},{"$f":"MyJoin(IF((F$2=Ввод!$C$1:$C$30)*($A421>=Ввод!$E$1:$E$30)*($A421<=Ввод!$F$1:$F$30),Ввод!$D$1:$D$30,\"\"),\" / \")","v":""},"2023-02-18"]
["2023-02-19",{"$f":"MyJoin(IF((B$2=Ввод!$C$1:$C$30)*($A422>=Ввод!$E$1:$E$30)*($A422<=Ввод!$F$1:$F$30),Ввод!$D$1:$D$30,\"\"),\" / \")","v":""},{"$f":"MyJoin(IF((C$2=Ввод!$C$1:$C$30)*($A422>=Ввод!$E$1:$E$30)*($A422<=Ввод!$F$1:$F$30),Ввод!$D$1:$D$30,\"\"),\" / \")","v":""},{"$f":"MyJoin(IF((D$2=Ввод!$C$1:$C$30)*($A422>=Ввод!$E$1:$E$30)*($A422<=Ввод!$F$1:$F$30),Ввод!$D$1:$D$30,\"\"),\" / \")","v":""},{"$f":"MyJoin(IF((E$2=Ввод!$C$1:$C$30)*($A422>=Ввод!$E$1:$E$30)*($A422<=Ввод!$F$1:$F$30),Ввод!$D$1:$D$30,\"\"),\" / \")","v":""},{"$f":"MyJoin(IF((F$2=Ввод!$C$1:$C$30)*($A422>=Ввод!$E$1:$E$30)*($A422<=Ввод!$F$1:$F$30),Ввод!$D$1:$D$30,\"\"),\" / \")","v":""},"2023-02-19"]
["2023-02-20",{"$f":"MyJoin(IF((B$2=Ввод!$C$1:$C$30)*($A423>=Ввод!$E$1:$E$30)*($A423<=Ввод!$F$1:$F$30),Ввод!$D$1:$D$30,\"\"),\" / \")","v":""},{"$f":"MyJoin(IF((C$2=Ввод!$C$1:$C$30)*($A423>=Ввод!$E$1:$E$30)*($A423<=Ввод!$F$1:$F$30),Ввод!$D$1:$D$30,\"\"),\" / \")","v":""},{"$f":"MyJoin(IF((D$2=Ввод!$C$1:$C$30)*($A423>=Ввод!$E$1:$E$30)*($A423<=Ввод!$F$1:$F$30),Ввод!$D$1:$D$30,\"\"),\" / \")","v":""},{"$f":"MyJoin(IF((E$2=Ввод!$C$1:$C$30)*($A423>=Ввод!$E$1:$E$30)*($A423<=Ввод!$F$1:$F$30),Ввод!$D$1:$D$30,\"\"),\" / \")","v":""},{"$f":"MyJoin(IF((F$2=Ввод!$C$1:$C$30)*($A423>=Ввод!$E$1:$E$30)*($A423<=Ввод!$F$1:$F$30),Ввод!$D$1:$D$30,\"\"),\" / \")","v":""},"2023-02-20"]
["2023-02-21",{"$f":"MyJoin(IF((B$2=Ввод!$C$1:$C$30)*($A424>=Ввод!$E$1:$E$30)*($A424<=Ввод!$F$1:$F$30),Ввод!$D$1:$D$30,\"\"),\" / \")","v":""},{"$f":"MyJoin(IF((C$2=Ввод!$C$1:$C$30)*($A424>=Ввод!$E$1:$E$30)*($A424<=Ввод!$F$1:$F$30),Ввод!$D$1:$D$30,\"\"),\" / \")","v":""},{"$f":"MyJoin(IF((D$2=Ввод!$C$1:$C$30)*($A424>=Ввод!$E$1:$E$30)*($A424<=Ввод!$F$1:$F$30),Ввод!$D$1:$D$30,\"\"),\" / \")","v":""},{"$f":"MyJoin(IF((E$2=Ввод!$C$1:$C$30)*($A424>=Ввод!$E$1:$E$30)*($A424<=Ввод!$F$1:$F$30),Ввод!$D$1:$D$30,\"\"),\" / \")","v":""},{"$f":"MyJoin(IF((F$2=Ввод!$C$1:$C$30)*($A424>=Ввод!$E$1:$E$30)*($A424<=Ввод!$F$1:$F$30),Ввод!$D$1:$D$30,\"\"),\" / \")","v":""},"2023-02-21"]
["2023-02-22",{"$f":"MyJoin(IF((B$2=Ввод!$C$1:$C$30)*($A425>=Ввод!$E$1:$E$30)*($A425<=Ввод!$F$1:$F$30),Ввод!$D$1:$D$30,\"\"),\" / \")","v":""},{"$f":"MyJoin(IF((C$2=Ввод!$C$1:$C$30)*($A425>=Ввод!$E$1:$E$30)*($A425<=Ввод!$F$1:$F$30),Ввод!$D$1:$D$30,\"\"),\" / \")","v":""},{"$f":"MyJoin(IF((D$2=Ввод!$C$1:$C$30)*($A425>=Ввод!$E$1:$E$30)*($A425<=Ввод!$F$1:$F$30),Ввод!$D$1:$D$30,\"\"),\" / \")","v":""},{"$f":"MyJoin(IF((E$2=Ввод!$C$1:$C$30)*($A425>=Ввод!$E$1:$E$30)*($A425<=Ввод!$F$1:$F$30),Ввод!$D$1:$D$30,\"\"),\" / \")","v":""},{"$f":"MyJoin(IF((F$2=Ввод!$C$1:$C$30)*($A425>=Ввод!$E$1:$E$30)*($A425<=Ввод!$F$1:$F$30),Ввод!$D$1:$D$30,\"\"),\" / \")","v":""},"2023-02-22"]
["2023-02-23",{"$f":"MyJoin(IF((B$2=Ввод!$C$1:$C$30)*($A426>=Ввод!$E$1:$E$30)*($A426<=Ввод!$F$1:$F$30),Ввод!$D$1:$D$30,\"\"),\" / \")","v":""},{"$f":"MyJoin(IF((C$2=Ввод!$C$1:$C$30)*($A426>=Ввод!$E$1:$E$30)*($A426<=Ввод!$F$1:$F$30),Ввод!$D$1:$D$30,\"\"),\" / \")","v":""},{"$f":"MyJoin(IF((D$2=Ввод!$C$1:$C$30)*($A426>=Ввод!$E$1:$E$30)*($A426<=Ввод!$F$1:$F$30),Ввод!$D$1:$D$30,\"\"),\" / \")","v":""},{"$f":"MyJoin(IF((E$2=Ввод!$C$1:$C$30)*($A426>=Ввод!$E$1:$E$30)*($A426<=Ввод!$F$1:$F$30),Ввод!$D$1:$D$30,\"\"),\" / \")","v":""},{"$f":"MyJoin(IF((F$2=Ввод!$C$1:$C$30)*($A426>=Ввод!$E$1:$E$30)*($A426<=Ввод!$F$1:$F$30),Ввод!$D$1:$D$30,\"\"),\" / \")","v":""},"2023-02-23"]
["2023-02-24",{"$f":"MyJoin(IF((B$2=Ввод!$C$1:$C$30)*($A427>=Ввод!$E$1:$E$30)*($A427<=Ввод!$F$1:$F$30),Ввод!$D$1:$D$30,\"\"),\" / \")","v":""},{"$f":"MyJoin(IF((C$2=Ввод!$C$1:$C$30)*($A427>=Ввод!$E$1:$E$30)*($A427<=Ввод!$F$1:$F$30),Ввод!$D$1:$D$30,\"\"),\" / \")","v":""},{"$f":"MyJoin(IF((D$2=Ввод!$C$1:$C$30)*($A427>=Ввод!$E$1:$E$30)*($A427<=Ввод!$F$1:$F$30),Ввод!$D$1:$D$30,\"\"),\" / \")","v":""},{"$f":"MyJoin(IF((E$2=Ввод!$C$1:$C$30)*($A427>=Ввод!$E$1:$E$30)*($A427<=Ввод!$F$1:$F$30),Ввод!$D$1:$D$30,\"\"),\" / \")","v":""},{"$f":"MyJoin(IF((F$2=Ввод!$C$1:$C$30)*($A427>=Ввод!$E$1:$E$30)*($A427<=Ввод!$F$1:$F$30),Ввод!$D$1:$D$30,\"\"),\" / \")","v":""},"2023-02-24"]
["2023-02-25",{"$f":"MyJoin(IF((B$2=Ввод!$C$1:$C$30)*($A428>=Ввод!$E$1:$E$30)*($A428<=Ввод!$F$1:$F$30),Ввод!$D$1:$D$30,\"\"),\" / \")","v":""},{"$f":"MyJoin(IF((C$2=Ввод!$C$1:$C$30)*($A428>=Ввод!$E$1:$E$30)*($A428<=Ввод!$F$1:$F$30),Ввод!$D$1:$D$30,\"\"),\" / \")","v":""},{"$f":"MyJoin(IF((D$2=Ввод!$C$1:$C$30)*($A428>=Ввод!$E$1:$E$30)*($A428<=Ввод!$F$1:$F$30),Ввод!$D$1:$D$30,\"\"),\" / \")","v":""},{"$f":"MyJoin(IF((E$2=Ввод!$C$1:$C$30)*($A428>=Ввод!$E$1:$E$30)*($A428<=Ввод!$F$1:$F$30),Ввод!$D$1:$D$30,\"\"),\" / \")","v":""},{"$f":"MyJoin(IF((F$2=Ввод!$C$1:$C$30)*($A428>=Ввод!$E$1:$E$30)*($A428<=Ввод!$F$1:$F$30),Ввод!$D$1:$D$30,\"\"),\" / \")","v":""},"2023-02-25"]
["2023-02-26",{"$f":"MyJoin(IF((B$2=Ввод!$C$1:$C$30)*($A429>=Ввод!$E$1:$E$30)*($A429<=Ввод!$F$1:$F$30),Ввод!$D$1:$D$30,\"\"),\" / \")","v":""},{"$f":"MyJoin(IF((C$2=Ввод!$C$1:$C$30)*($A429>=Ввод!$E$1:$E$30)*($A429<=Ввод!$F$1:$F$30),Ввод!$D$1:$D$30,\"\"),\" / \")","v":""},{"$f":"MyJoin(IF((D$2=Ввод!$C$1:$C$30)*($A429>=Ввод!$E$1:$E$30)*($A429<=Ввод!$F$1:$F$30),Ввод!$D$1:$D$30,\"\"),\" / \")","v":""},{"$f":"MyJoin(IF((E$2=Ввод!$C$1:$C$30)*($A429>=Ввод!$E$1:$E$30)*($A429<=Ввод!$F$1:$F$30),Ввод!$D$1:$D$30,\"\"),\" / \")","v":""},{"$f":"MyJoin(IF((F$2=Ввод!$C$1:$C$30)*($A429>=Ввод!$E$1:$E$30)*($A429<=Ввод!$F$1:$F$30),Ввод!$D$1:$D$30,\"\"),\" / \")","v":""},"2023-02-26"]
["2023-02-27",{"$f":"MyJoin(IF((B$2=Ввод!$C$1:$C$30)*($A430>=Ввод!$E$1:$E$30)*($A430<=Ввод!$F$1:$F$30),Ввод!$D$1:$D$30,\"\"),\" / \")","v":""},{"$f":"MyJoin(IF((C$2=Ввод!$C$1:$C$30)*($A430>=Ввод!$E$1:$E$30)*($A430<=Ввод!$F$1:$F$30),Ввод!$D$1:$D$30,\"\"),\" / \")","v":""},{"$f":"MyJoin(IF((D$2=Ввод!$C$1:$C$30)*($A430>=Ввод!$E$1:$E$30)*($A430<=Ввод!$F$1:$F$30),Ввод!$D$1:$D$30,\"\"),\" / \")","v":""},{"$f":"MyJoin(IF((E$2=Ввод!$C$1:$C$30)*($A430>=Ввод!$E$1:$E$30)*($A430<=Ввод!$F$1:$F$30),Ввод!$D$1:$D$30,\"\"),\" / \")","v":""},{"$f":"MyJoin(IF((F$2=Ввод!$C$1:$C$30)*($A430>=Ввод!$E$1:$E$30)*($A430<=Ввод!$F$1:$F$30),Ввод!$D$1:$D$30,\"\"),\" / \")","v":""},"2023-02-27"]
["2023-02-28",{"$f":"MyJoin(IF((B$2=Ввод!$C$1:$C$30)*($A431>=Ввод!$E$1:$E$30)*($A431<=Ввод!$F$1:$F$30),Ввод!$D$1:$D$30,\"\"),\" / \")","v":""},{"$f":"MyJoin(IF((C$2=Ввод!$C$1:$C$30)*($A431>=Ввод!$E$1:$E$30)*($A431<=Ввод!$F$1:$F$30),Ввод!$D$1:$D$30,\"\"),\" / \")","v":""},{"$f":"MyJoin(IF((D$2=Ввод!$C$1:$C$30)*($A431>=Ввод!$E$1:$E$30)*($A431<=Ввод!$F$1:$F$30),Ввод!$D$1:$D$30,\"\"),\" / \")","v":""},{"$f":"MyJoin(IF((E$2=Ввод!$C$1:$C$30)*($A431>=Ввод!$E$1:$E$30)*($A431<=Ввод!$F$1:$F$30),Ввод!$D$1:$D$30,\"\"),\" / \")","v":""},{"$f":"MyJoin(IF((F$2=Ввод!$C$1:$C$30)*($A431>=Ввод!$E$1:$E$30)*($A431<=Ввод!$F$1:$F$30),Ввод!$D$1:$D$30,\"\"),\" / \")","v":""},"2023-02-28"]
["2023-03-01",{"$f":"MyJoin(IF((B$2=Ввод!$C$1:$C$30)*($A432>=Ввод!$E$1:$E$30)*($A432<=Ввод!$F$1:$F$30),Ввод!$D$1:$D$30,\"\"),\" / \")","v":""},{"$f":"MyJoin(IF((C$2=Ввод!$C$1:$C$30)*($A432>=Ввод!$E$1:$E$30)*($A432<=Ввод!$F$1:$F$30),Ввод!$D$1:$D$30,\"\"),\" / \")","v":""},{"$f":"MyJoin(IF((D$2=Ввод!$C$1:$C$30)*($A432>=Ввод!$E$1:$E$30)*($A432<=Ввод!$F$1:$F$30),Ввод!$D$1:$D$30,\"\"),\" / \")","v":""},{"$f":"MyJoin(IF((E$2=Ввод!$C$1:$C$30)*($A432>=Ввод!$E$1:$E$30)*($A432<=Ввод!$F$1:$F$30),Ввод!$D$1:$D$30,\"\"),\" / \")","v":""},{"$f":"MyJoin(IF((F$2=Ввод!$C$1:$C$30)*($A432>=Ввод!$E$1:$E$30)*($A432<=Ввод!$F$1:$F$30),Ввод!$D$1:$D$30,\"\"),\" / \")","v":""},"2023-03-01"]
["2023-03-02",{"$f":"MyJoin(IF((B$2=Ввод!$C$1:$C$30)*($A433>=Ввод!$E$1:$E$30)*($A433<=Ввод!$F$1:$F$30),Ввод!$D$1:$D$30,\"\"),\" / \")","v":""},{"$f":"MyJoin(IF((C$2=Ввод!$C$1:$C$30)*($A433>=Ввод!$E$1:$E$30)*($A433<=Ввод!$F$1:$F$30),Ввод!$D$1:$D$30,\"\"),\" / \")","v":""},{"$f":"MyJoin(IF((D$2=Ввод!$C$1:$C$30)*($A433>=Ввод!$E$1:$E$30)*($A433<=Ввод!$F$1:$F$30),Ввод!$D$1:$D$30,\"\"),\" / \")","v":""},{"$f":"MyJoin(IF((E$2=Ввод!$C$1:$C$30)*($A433>=Ввод!$E$1:$E$30)*($A433<=Ввод!$F$1:$F$30),Ввод!$D$1:$D$30,\"\"),\" / \")","v":""},{"$f":"MyJoin(IF((F$2=Ввод!$C$1:$C$30)*($A433>=Ввод!$E$1:$E$30)*($A433<=Ввод!$F$1:$F$30),Ввод!$D$1:$D$30,\"\"),\" / \")","v":""},"2023-03-02"]
["2023-03-03",{"$f":"MyJoin(IF((B$2=Ввод!$C$1:$C$30)*($A434>=Ввод!$E$1:$E$30)*($A434<=Ввод!$F$1:$F$30),Ввод!$D$1:$D$30,\"\"),\" / \")","v":""},{"$f":"MyJoin(IF((C$2=Ввод!$C$1:$C$30)*($A434>=Ввод!$E$1:$E$30)*($A434<=Ввод!$F$1:$F$30),Ввод!$D$1:$D$30,\"\"),\" / \")","v":""},{"$f":"MyJoin(IF((D$2=Ввод!$C$1:$C$30)*($A434>=Ввод!$E$1:$E$30)*($A434<=Ввод!$F$1:$F$30),Ввод!$D$1:$D$30,\"\"),\" / \")","v":""},{"$f":"MyJoin(IF((E$2=Ввод!$C$1:$C$30)*($A434>=Ввод!$E$1:$E$30)*($A434<=Ввод!$F$1:$F$30),Ввод!$D$1:$D$30,\"\"),\" / \")","v":""},{"$f":"MyJoin(IF((F$2=Ввод!$C$1:$C$30)*($A434>=Ввод!$E$1:$E$30)*($A434<=Ввод!$F$1:$F$30),Ввод!$D$1:$D$30,\"\"),\" / \")","v":""},"2023-03-03"]
["2023-03-04",{"$f":"MyJoin(IF((B$2=Ввод!$C$1:$C$30)*($A435>=Ввод!$E$1:$E$30)*($A435<=Ввод!$F$1:$F$30),Ввод!$D$1:$D$30,\"\"),\" / \")","v":""},{"$f":"MyJoin(IF((C$2=Ввод!$C$1:$C$30)*($A435>=Ввод!$E$1:$E$30)*($A435<=Ввод!$F$1:$F$30),Ввод!$D$1:$D$30,\"\"),\" / \")","v":""},{"$f":"MyJoin(IF((D$2=Ввод!$C$1:$C$30)*($A435>=Ввод!$E$1:$E$30)*($A435<=Ввод!$F$1:$F$30),Ввод!$D$1:$D$30,\"\"),\" / \")","v":""},{"$f":"MyJoin(IF((E$2=Ввод!$C$1:$C$30)*($A435>=Ввод!$E$1:$E$30)*($A435<=Ввод!$F$1:$F$30),Ввод!$D$1:$D$30,\"\"),\" / \")","v":""},{"$f":"MyJoin(IF((F$2=Ввод!$C$1:$C$30)*($A435>=Ввод!$E$1:$E$30)*($A435<=Ввод!$F$1:$F$30),Ввод!$D$1:$D$30,\"\"),\" / \")","v":""},"2023-03-04"]
["2023-03-05",{"$f":"MyJoin(IF((B$2=Ввод!$C$1:$C$30)*($A436>=Ввод!$E$1:$E$30)*($A436<=Ввод!$F$1:$F$30),Ввод!$D$1:$D$30,\"\"),\" / \")","v":""},{"$f":"MyJoin(IF((C$2=Ввод!$C$1:$C$30)*($A436>=Ввод!$E$1:$E$30)*($A436<=Ввод!$F$1:$F$30),Ввод!$D$1:$D$30,\"\"),\" / \")","v":""},{"$f":"MyJoin(IF((D$2=Ввод!$C$1:$C$30)*($A436>=Ввод!$E$1:$E$30)*($A436<=Ввод!$F$1:$F$30),Ввод!$D$1:$D$30,\"\"),\" / \")","v":""},{"$f":"MyJoin(IF((E$2=Ввод!$C$1:$C$30)*($A436>=Ввод!$E$1:$E$30)*($A436<=Ввод!$F$1:$F$30),Ввод!$D$1:$D$30,\"\"),\" / \")","v":""},{"$f":"MyJoin(IF((F$2=Ввод!$C$1:$C$30)*($A436>=Ввод!$E$1:$E$30)*($A436<=Ввод!$F$1:$F$30),Ввод!$D$1:$D$30,\"\"),\" / \")","v":""},"2023-03-05"]
["2023-03-06",{"$f":"MyJoin(IF((B$2=Ввод!$C$1:$C$30)*($A437>=Ввод!$E$1:$E$30)*($A437<=Ввод!$F$1:$F$30),Ввод!$D$1:$D$30,\"\"),\" / \")","v":""},{"$f":"MyJoin(IF((C$2=Ввод!$C$1:$C$30)*($A437>=Ввод!$E$1:$E$30)*($A437<=Ввод!$F$1:$F$30),Ввод!$D$1:$D$30,\"\"),\" / \")","v":""},{"$f":"MyJoin(IF((D$2=Ввод!$C$1:$C$30)*($A437>=Ввод!$E$1:$E$30)*($A437<=Ввод!$F$1:$F$30),Ввод!$D$1:$D$30,\"\"),\" / \")","v":""},{"$f":"MyJoin(IF((E$2=Ввод!$C$1:$C$30)*($A437>=Ввод!$E$1:$E$30)*($A437<=Ввод!$F$1:$F$30),Ввод!$D$1:$D$30,\"\"),\" / \")","v":""},{"$f":"MyJoin(IF((F$2=Ввод!$C$1:$C$30)*($A437>=Ввод!$E$1:$E$30)*($A437<=Ввод!$F$1:$F$30),Ввод!$D$1:$D$30,\"\"),\" / \")","v":""},"2023-03-06"]
["2023-03-07",{"$f":"MyJoin(IF((B$2=Ввод!$C$1:$C$30)*($A438>=Ввод!$E$1:$E$30)*($A438<=Ввод!$F$1:$F$30),Ввод!$D$1:$D$30,\"\"),\" / \")","v":""},{"$f":"MyJoin(IF((C$2=Ввод!$C$1:$C$30)*($A438>=Ввод!$E$1:$E$30)*($A438<=Ввод!$F$1:$F$30),Ввод!$D$1:$D$30,\"\"),\" / \")","v":""},{"$f":"MyJoin(IF((D$2=Ввод!$C$1:$C$30)*($A438>=Ввод!$E$1:$E$30)*($A438<=Ввод!$F$1:$F$30),Ввод!$D$1:$D$30,\"\"),\" / \")","v":""},{"$f":"MyJoin(IF((E$2=Ввод!$C$1:$C$30)*($A438>=Ввод!$E$1:$E$30)*($A438<=Ввод!$F$1:$F$30),Ввод!$D$1:$D$30,\"\"),\" / \")","v":""},{"$f":"MyJoin(IF((F$2=Ввод!$C$1:$C$30)*($A438>=Ввод!$E$1:$E$30)*($A438<=Ввод!$F$1:$F$30),Ввод!$D$1:$D$30,\"\"),\" / \")","v":""},"2023-03-07"]
["2023-03-08",{"$f":"MyJoin(IF((B$2=Ввод!$C$1:$C$30)*($A439>=Ввод!$E$1:$E$30)*($A439<=Ввод!$F$1:$F$30),Ввод!$D$1:$D$30,\"\"),\" / \")","v":""},{"$f":"MyJoin(IF((C$2=Ввод!$C$1:$C$30)*($A439>=Ввод!$E$1:$E$30)*($A439<=Ввод!$F$1:$F$30),Ввод!$D$1:$D$30,\"\"),\" / \")","v":""},{"$f":"MyJoin(IF((D$2=Ввод!$C$1:$C$30)*($A439>=Ввод!$E$1:$E$30)*($A439<=Ввод!$F$1:$F$30),Ввод!$D$1:$D$30,\"\"),\" / \")","v":""},{"$f":"MyJoin(IF((E$2=Ввод!$C$1:$C$30)*($A439>=Ввод!$E$1:$E$30)*($A439<=Ввод!$F$1:$F$30),Ввод!$D$1:$D$30,\"\"),\" / \")","v":""},{"$f":"MyJoin(IF((F$2=Ввод!$C$1:$C$30)*($A439>=Ввод!$E$1:$E$30)*($A439<=Ввод!$F$1:$F$30),Ввод!$D$1:$D$30,\"\"),\" / \")","v":""},"2023-03-08"]
["2023-03-09",{"$f":"MyJoin(IF((B$2=Ввод!$C$1:$C$30)*($A440>=Ввод!$E$1:$E$30)*($A440<=Ввод!$F$1:$F$30),Ввод!$D$1:$D$30,\"\"),\" / \")","v":""},{"$f":"MyJoin(IF((C$2=Ввод!$C$1:$C$30)*($A440>=Ввод!$E$1:$E$30)*($A440<=Ввод!$F$1:$F$30),Ввод!$D$1:$D$30,\"\"),\" / \")","v":""},{"$f":"MyJoin(IF((D$2=Ввод!$C$1:$C$30)*($A440>=Ввод!$E$1:$E$30)*($A440<=Ввод!$F$1:$F$30),Ввод!$D$1:$D$30,\"\"),\" / \")","v":""},{"$f":"MyJoin(IF((E$2=Ввод!$C$1:$C$30)*($A440>=Ввод!$E$1:$E$30)*($A440<=Ввод!$F$1:$F$30),Ввод!$D$1:$D$30,\"\"),\" / \")","v":""},{"$f":"MyJoin(IF((F$2=Ввод!$C$1:$C$30)*($A440>=Ввод!$E$1:$E$30)*($A440<=Ввод!$F$1:$F$30),Ввод!$D$1:$D$30,\"\"),\" / \")","v":""},"2023-03-09"]
["2023-03-10",{"$f":"MyJoin(IF((B$2=Ввод!$C$1:$C$30)*($A441>=Ввод!$E$1:$E$30)*($A441<=Ввод!$F$1:$F$30),Ввод!$D$1:$D$30,\"\"),\" / \")","v":""},{"$f":"MyJoin(IF((C$2=Ввод!$C$1:$C$30)*($A441>=Ввод!$E$1:$E$30)*($A441<=Ввод!$F$1:$F$30),Ввод!$D$1:$D$30,\"\"),\" / \")","v":""},{"$f":"MyJoin(IF((D$2=Ввод!$C$1:$C$30)*($A441>=Ввод!$E$1:$E$30)*($A441<=Ввод!$F$1:$F$30),Ввод!$D$1:$D$30,\"\"),\" / \")","v":""},{"$f":"MyJoin(IF((E$2=Ввод!$C$1:$C$30)*($A441>=Ввод!$E$1:$E$30)*($A441<=Ввод!$F$1:$F$30),Ввод!$D$1:$D$30,\"\"),\" / \")","v":""},{"$f":"MyJoin(IF((F$2=Ввод!$C$1:$C$30)*($A441>=Ввод!$E$1:$E$30)*($A441<=Ввод!$F$1:$F$30),Ввод!$D$1:$D$30,\"\"),\" / \")","v":""},"2023-03-10"]
["2023-03-11",{"$f":"MyJoin(IF((B$2=Ввод!$C$1:$C$30)*($A442>=Ввод!$E$1:$E$30)*($A442<=Ввод!$F$1:$F$30),Ввод!$D$1:$D$30,\"\"),\" / \")","v":""},{"$f":"MyJoin(IF((C$2=Ввод!$C$1:$C$30)*($A442>=Ввод!$E$1:$E$30)*($A442<=Ввод!$F$1:$F$30),Ввод!$D$1:$D$30,\"\"),\" / \")","v":""},{"$f":"MyJoin(IF((D$2=Ввод!$C$1:$C$30)*($A442>=Ввод!$E$1:$E$30)*($A442<=Ввод!$F$1:$F$30),Ввод!$D$1:$D$30,\"\"),\" / \")","v":""},{"$f":"MyJoin(IF((E$2=Ввод!$C$1:$C$30)*($A442>=Ввод!$E$1:$E$30)*($A442<=Ввод!$F$1:$F$30),Ввод!$D$1:$D$30,\"\"),\" / \")","v":""},{"$f":"MyJoin(IF((F$2=Ввод!$C$1:$C$30)*($A442>=Ввод!$E$1:$E$30)*($A442<=Ввод!$F$1:$F$30),Ввод!$D$1:$D$30,\"\"),\" / \")","v":""},"2023-03-11"]
["2023-03-12",{"$f":"MyJoin(IF((B$2=Ввод!$C$1:$C$30)*($A443>=Ввод!$E$1:$E$30)*($A443<=Ввод!$F$1:$F$30),Ввод!$D$1:$D$30,\"\"),\" / \")","v":""},{"$f":"MyJoin(IF((C$2=Ввод!$C$1:$C$30)*($A443>=Ввод!$E$1:$E$30)*($A443<=Ввод!$F$1:$F$30),Ввод!$D$1:$D$30,\"\"),\" / \")","v":""},{"$f":"MyJoin(IF((D$2=Ввод!$C$1:$C$30)*($A443>=Ввод!$E$1:$E$30)*($A443<=Ввод!$F$1:$F$30),Ввод!$D$1:$D$30,\"\"),\" / \")","v":""},{"$f":"MyJoin(IF((E$2=Ввод!$C$1:$C$30)*($A443>=Ввод!$E$1:$E$30)*($A443<=Ввод!$F$1:$F$30),Ввод!$D$1:$D$30,\"\"),\" / \")","v":""},{"$f":"MyJoin(IF((F$2=Ввод!$C$1:$C$30)*($A443>=Ввод!$E$1:$E$30)*($A443<=Ввод!$F$1:$F$30),Ввод!$D$1:$D$30,\"\"),\" / \")","v":""},"2023-03-12"]
["2023-03-13",{"$f":"MyJoin(IF((B$2=Ввод!$C$1:$C$30)*($A444>=Ввод!$E$1:$E$30)*($A444<=Ввод!$F$1:$F$30),Ввод!$D$1:$D$30,\"\"),\" / \")","v":""},{"$f":"MyJoin(IF((C$2=Ввод!$C$1:$C$30)*($A444>=Ввод!$E$1:$E$30)*($A444<=Ввод!$F$1:$F$30),Ввод!$D$1:$D$30,\"\"),\" / \")","v":""},{"$f":"MyJoin(IF((D$2=Ввод!$C$1:$C$30)*($A444>=Ввод!$E$1:$E$30)*($A444<=Ввод!$F$1:$F$30),Ввод!$D$1:$D$30,\"\"),\" / \")","v":""},{"$f":"MyJoin(IF((E$2=Ввод!$C$1:$C$30)*($A444>=Ввод!$E$1:$E$30)*($A444<=Ввод!$F$1:$F$30),Ввод!$D$1:$D$30,\"\"),\" / \")","v":""},{"$f":"MyJoin(IF((F$2=Ввод!$C$1:$C$30)*($A444>=Ввод!$E$1:$E$30)*($A444<=Ввод!$F$1:$F$30),Ввод!$D$1:$D$30,\"\"),\" / \")","v":""},"2023-03-13"]
["2023-03-14",{"$f":"MyJoin(IF((B$2=Ввод!$C$1:$C$30)*($A445>=Ввод!$E$1:$E$30)*($A445<=Ввод!$F$1:$F$30),Ввод!$D$1:$D$30,\"\"),\" / \")","v":""},{"$f":"MyJoin(IF((C$2=Ввод!$C$1:$C$30)*($A445>=Ввод!$E$1:$E$30)*($A445<=Ввод!$F$1:$F$30),Ввод!$D$1:$D$30,\"\"),\" / \")","v":""},{"$f":"MyJoin(IF((D$2=Ввод!$C$1:$C$30)*($A445>=Ввод!$E$1:$E$30)*($A445<=Ввод!$F$1:$F$30),Ввод!$D$1:$D$30,\"\"),\" / \")","v":""},{"$f":"MyJoin(IF((E$2=Ввод!$C$1:$C$30)*($A445>=Ввод!$E$1:$E$30)*($A445<=Ввод!$F$1:$F$30),Ввод!$D$1:$D$30,\"\"),\" / \")","v":""},{"$f":"MyJoin(IF((F$2=Ввод!$C$1:$C$30)*($A445>=Ввод!$E$1:$E$30)*($A445<=Ввод!$F$1:$F$30),Ввод!$D$1:$D$30,\"\"),\" / \")","v":""},"2023-03-14"]
["2023-03-15",{"$f":"MyJoin(IF((B$2=Ввод!$C$1:$C$30)*($A446>=Ввод!$E$1:$E$30)*($A446<=Ввод!$F$1:$F$30),Ввод!$D$1:$D$30,\"\"),\" / \")","v":""},{"$f":"MyJoin(IF((C$2=Ввод!$C$1:$C$30)*($A446>=Ввод!$E$1:$E$30)*($A446<=Ввод!$F$1:$F$30),Ввод!$D$1:$D$30,\"\"),\" / \")","v":""},{"$f":"MyJoin(IF((D$2=Ввод!$C$1:$C$30)*($A446>=Ввод!$E$1:$E$30)*($A446<=Ввод!$F$1:$F$30),Ввод!$D$1:$D$30,\"\"),\" / \")","v":""},{"$f":"MyJoin(IF((E$2=Ввод!$C$1:$C$30)*($A446>=Ввод!$E$1:$E$30)*($A446<=Ввод!$F$1:$F$30),Ввод!$D$1:$D$30,\"\"),\" / \")","v":""},{"$f":"MyJoin(IF((F$2=Ввод!$C$1:$C$30)*($A446>=Ввод!$E$1:$E$30)*($A446<=Ввод!$F$1:$F$30),Ввод!$D$1:$D$30,\"\"),\" / \")","v":""},"2023-03-15"]
["2023-03-16",{"$f":"MyJoin(IF((B$2=Ввод!$C$1:$C$30)*($A447>=Ввод!$E$1:$E$30)*($A447<=Ввод!$F$1:$F$30),Ввод!$D$1:$D$30,\"\"),\" / \")","v":""},{"$f":"MyJoin(IF((C$2=Ввод!$C$1:$C$30)*($A447>=Ввод!$E$1:$E$30)*($A447<=Ввод!$F$1:$F$30),Ввод!$D$1:$D$30,\"\"),\" / \")","v":""},{"$f":"MyJoin(IF((D$2=Ввод!$C$1:$C$30)*($A447>=Ввод!$E$1:$E$30)*($A447<=Ввод!$F$1:$F$30),Ввод!$D$1:$D$30,\"\"),\" / \")","v":""},{"$f":"MyJoin(IF((E$2=Ввод!$C$1:$C$30)*($A447>=Ввод!$E$1:$E$30)*($A447<=Ввод!$F$1:$F$30),Ввод!$D$1:$D$30,\"\"),\" / \")","v":""},{"$f":"MyJoin(IF((F$2=Ввод!$C$1:$C$30)*($A447>=Ввод!$E$1:$E$30)*($A447<=Ввод!$F$1:$F$30),Ввод!$D$1:$D$30,\"\"),\" / \")","v":""},"2023-03-16"]
["2023-03-17",{"$f":"MyJoin(IF((B$2=Ввод!$C$1:$C$30)*($A448>=Ввод!$E$1:$E$30)*($A448<=Ввод!$F$1:$F$30),Ввод!$D$1:$D$30,\"\"),\" / \")","v":""},{"$f":"MyJoin(IF((C$2=Ввод!$C$1:$C$30)*($A448>=Ввод!$E$1:$E$30)*($A448<=Ввод!$F$1:$F$30),Ввод!$D$1:$D$30,\"\"),\" / \")","v":""},{"$f":"MyJoin(IF((D$2=Ввод!$C$1:$C$30)*($A448>=Ввод!$E$1:$E$30)*($A448<=Ввод!$F$1:$F$30),Ввод!$D$1:$D$30,\"\"),\" / \")","v":""},{"$f":"MyJoin(IF((E$2=Ввод!$C$1:$C$30)*($A448>=Ввод!$E$1:$E$30)*($A448<=Ввод!$F$1:$F$30),Ввод!$D$1:$D$30,\"\"),\" / \")","v":"Задание 25"},{"$f":"MyJoin(IF((F$2=Ввод!$C$1:$C$30)*($A448>=Ввод!$E$1:$E$30)*($A448<=Ввод!$F$1:$F$30),Ввод!$D$1:$D$30,\"\"),\" / \")","v":""},"2023-03-17"]
["2023-03-18",{"$f":"MyJoin(IF((B$2=Ввод!$C$1:$C$30)*($A449>=Ввод!$E$1:$E$30)*($A449<=Ввод!$F$1:$F$30),Ввод!$D$1:$D$30,\"\"),\" / \")","v":""},{"$f":"MyJoin(IF((C$2=Ввод!$C$1:$C$30)*($A449>=Ввод!$E$1:$E$30)*($A449<=Ввод!$F$1:$F$30),Ввод!$D$1:$D$30,\"\"),\" / \")","v":""},{"$f":"MyJoin(IF((D$2=Ввод!$C$1:$C$30)*($A449>=Ввод!$E$1:$E$30)*($A449<=Ввод!$F$1:$F$30),Ввод!$D$1:$D$30,\"\"),\" / \")","v":""},{"$f":"MyJoin(IF((E$2=Ввод!$C$1:$C$30)*($A449>=Ввод!$E$1:$E$30)*($A449<=Ввод!$F$1:$F$30),Ввод!$D$1:$D$30,\"\"),\" / \")","v":"Задание 25"},{"$f":"MyJoin(IF((F$2=Ввод!$C$1:$C$30)*($A449>=Ввод!$E$1:$E$30)*($A449<=Ввод!$F$1:$F$30),Ввод!$D$1:$D$30,\"\"),\" / \")","v":""},"2023-03-18"]
["2023-03-19",{"$f":"MyJoin(IF((B$2=Ввод!$C$1:$C$30)*($A450>=Ввод!$E$1:$E$30)*($A450<=Ввод!$F$1:$F$30),Ввод!$D$1:$D$30,\"\"),\" / \")","v":""},{"$f":"MyJoin(IF((C$2=Ввод!$C$1:$C$30)*($A450>=Ввод!$E$1:$E$30)*($A450<=Ввод!$F$1:$F$30),Ввод!$D$1:$D$30,\"\"),\" / \")","v":""},{"$f":"MyJoin(IF((D$2=Ввод!$C$1:$C$30)*($A450>=Ввод!$E$1:$E$30)*($A450<=Ввод!$F$1:$F$30),Ввод!$D$1:$D$30,\"\"),\" / \")","v":""},{"$f":"MyJoin(IF((E$2=Ввод!$C$1:$C$30)*($A450>=Ввод!$E$1:$E$30)*($A450<=Ввод!$F$1:$F$30),Ввод!$D$1:$D$30,\"\"),\" / \")","v":"Задание 25 / Задание 26"},{"$f":"MyJoin(IF((F$2=Ввод!$C$1:$C$30)*($A450>=Ввод!$E$1:$E$30)*($A450<=Ввод!$F$1:$F$30),Ввод!$D$1:$D$30,\"\"),\" / \")","v":""},"2023-03-19"]
["2023-03-20",{"$f":"MyJoin(IF((B$2=Ввод!$C$1:$C$30)*($A451>=Ввод!$E$1:$E$30)*($A451<=Ввод!$F$1:$F$30),Ввод!$D$1:$D$30,\"\"),\" / \")","v":""},{"$f":"MyJoin(IF((C$2=Ввод!$C$1:$C$30)*($A451>=Ввод!$E$1:$E$30)*($A451<=Ввод!$F$1:$F$30),Ввод!$D$1:$D$30,\"\"),\" / \")","v":""},{"$f":"MyJoin(IF((D$2=Ввод!$C$1:$C$30)*($A451>=Ввод!$E$1:$E$30)*($A451<=Ввод!$F$1:$F$30),Ввод!$D$1:$D$30,\"\"),\" / \")","v":""},{"$f":"MyJoin(IF((E$2=Ввод!$C$1:$C$30)*($A451>=Ввод!$E$1:$E$30)*($A451<=Ввод!$F$1:$F$30),Ввод!$D$1:$D$30,\"\"),\" / \")","v":"Задание 26"},{"$f":"MyJoin(IF((F$2=Ввод!$C$1:$C$30)*($A451>=Ввод!$E$1:$E$30)*($A451<=Ввод!$F$1:$F$30),Ввод!$D$1:$D$30,\"\"),\" / \")","v":""},"2023-03-20"]
["2023-03-21",{"$f":"MyJoin(IF((B$2=Ввод!$C$1:$C$30)*($A452>=Ввод!$E$1:$E$30)*($A452<=Ввод!$F$1:$F$30),Ввод!$D$1:$D$30,\"\"),\" / \")","v":""},{"$f":"MyJoin(IF((C$2=Ввод!$C$1:$C$30)*($A452>=Ввод!$E$1:$E$30)*($A452<=Ввод!$F$1:$F$30),Ввод!$D$1:$D$30,\"\"),\" / \")","v":""},{"$f":"MyJoin(IF((D$2=Ввод!$C$1:$C$30)*($A452>=Ввод!$E$1:$E$30)*($A452<=Ввод!$F$1:$F$30),Ввод!$D$1:$D$30,\"\"),\" / \")","v":""},{"$f":"MyJoin(IF((E$2=Ввод!$C$1:$C$30)*($A452>=Ввод!$E$1:$E$30)*($A452<=Ввод!$F$1:$F$30),Ввод!$D$1:$D$30,\"\"),\" / \")","v":"Задание 26 / Задание 27"},{"$f":"MyJoin(IF((F$2=Ввод!$C$1:$C$30)*($A452>=Ввод!$E$1:$E$30)*($A452<=Ввод!$F$1:$F$30),Ввод!$D$1:$D$30,\"\"),\" / \")","v":""},"2023-03-21"]
["2023-03-22",{"$f":"MyJoin(IF((B$2=Ввод!$C$1:$C$30)*($A453>=Ввод!$E$1:$E$30)*($A453<=Ввод!$F$1:$F$30),Ввод!$D$1:$D$30,\"\"),\" / \")","v":""},{"$f":"MyJoin(IF((C$2=Ввод!$C$1:$C$30)*($A453>=Ввод!$E$1:$E$30)*($A453<=Ввод!$F$1:$F$30),Ввод!$D$1:$D$30,\"\"),\" / \")","v":""},{"$f":"MyJoin(IF((D$2=Ввод!$C$1:$C$30)*($A453>=Ввод!$E$1:$E$30)*($A453<=Ввод!$F$1:$F$30),Ввод!$D$1:$D$30,\"\"),\" / \")","v":""},{"$f":"MyJoin(IF((E$2=Ввод!$C$1:$C$30)*($A453>=Ввод!$E$1:$E$30)*($A453<=Ввод!$F$1:$F$30),Ввод!$D$1:$D$30,\"\"),\" / \")","v":"Задание 27"},{"$f":"MyJoin(IF((F$2=Ввод!$C$1:$C$30)*($A453>=Ввод!$E$1:$E$30)*($A453<=Ввод!$F$1:$F$30),Ввод!$D$1:$D$30,\"\"),\" / \")","v":""},"2023-03-22"]
["2023-03-23",{"$f":"MyJoin(IF((B$2=Ввод!$C$1:$C$30)*($A454>=Ввод!$E$1:$E$30)*($A454<=Ввод!$F$1:$F$30),Ввод!$D$1:$D$30,\"\"),\" / \")","v":""},{"$f":"MyJoin(IF((C$2=Ввод!$C$1:$C$30)*($A454>=Ввод!$E$1:$E$30)*($A454<=Ввод!$F$1:$F$30),Ввод!$D$1:$D$30,\"\"),\" / \")","v":""},{"$f":"MyJoin(IF((D$2=Ввод!$C$1:$C$30)*($A454>=Ввод!$E$1:$E$30)*($A454<=Ввод!$F$1:$F$30),Ввод!$D$1:$D$30,\"\"),\" / \")","v":""},{"$f":"MyJoin(IF((E$2=Ввод!$C$1:$C$30)*($A454>=Ввод!$E$1:$E$30)*($A454<=Ввод!$F$1:$F$30),Ввод!$D$1:$D$30,\"\"),\" / \")","v":"Задание 27 / Задание 28"},{"$f":"MyJoin(IF((F$2=Ввод!$C$1:$C$30)*($A454>=Ввод!$E$1:$E$30)*($A454<=Ввод!$F$1:$F$30),Ввод!$D$1:$D$30,\"\"),\" / \")","v":""},"2023-03-23"]
["2023-03-24",{"$f":"MyJoin(IF((B$2=Ввод!$C$1:$C$30)*($A455>=Ввод!$E$1:$E$30)*($A455<=Ввод!$F$1:$F$30),Ввод!$D$1:$D$30,\"\"),\" / \")","v":""},{"$f":"MyJoin(IF((C$2=Ввод!$C$1:$C$30)*($A455>=Ввод!$E$1:$E$30)*($A455<=Ввод!$F$1:$F$30),Ввод!$D$1:$D$30,\"\"),\" / \")","v":""},{"$f":"MyJoin(IF((D$2=Ввод!$C$1:$C$30)*($A455>=Ввод!$E$1:$E$30)*($A455<=Ввод!$F$1:$F$30),Ввод!$D$1:$D$30,\"\"),\" / \")","v":""},{"$f":"MyJoin(IF((E$2=Ввод!$C$1:$C$30)*($A455>=Ввод!$E$1:$E$30)*($A455<=Ввод!$F$1:$F$30),Ввод!$D$1:$D$30,\"\"),\" / \")","v":"Задание 27 / Задание 28"},{"$f":"MyJoin(IF((F$2=Ввод!$C$1:$C$30)*($A455>=Ввод!$E$1:$E$30)*($A455<=Ввод!$F$1:$F$30),Ввод!$D$1:$D$30,\"\"),\" / \")","v":""},"2023-03-24"]
["2023-03-25",{"$f":"MyJoin(IF((B$2=Ввод!$C$1:$C$30)*($A456>=Ввод!$E$1:$E$30)*($A456<=Ввод!$F$1:$F$30),Ввод!$D$1:$D$30,\"\"),\" / \")","v":""},{"$f":"MyJoin(IF((C$2=Ввод!$C$1:$C$30)*($A456>=Ввод!$E$1:$E$30)*($A456<=Ввод!$F$1:$F$30),Ввод!$D$1:$D$30,\"\"),\" / \")","v":""},{"$f":"MyJoin(IF((D$2=Ввод!$C$1:$C$30)*($A456>=Ввод!$E$1:$E$30)*($A456<=Ввод!$F$1:$F$30),Ввод!$D$1:$D$30,\"\"),\" / \")","v":""},{"$f":"MyJoin(IF((E$2=Ввод!$C$1:$C$30)*($A456>=Ввод!$E$1:$E$30)*($A456<=Ввод!$F$1:$F$30),Ввод!$D$1:$D$30,\"\"),\" / \")","v":"Задание 27 / Задание 28 / Задание 29"},{"$f":"MyJoin(IF((F$2=Ввод!$C$1:$C$30)*($A456>=Ввод!$E$1:$E$30)*($A456<=Ввод!$F$1:$F$30),Ввод!$D$1:$D$30,\"\"),\" / \")","v":""},"2023-03-25"]
["2023-03-26",{"$f":"MyJoin(IF((B$2=Ввод!$C$1:$C$30)*($A457>=Ввод!$E$1:$E$30)*($A457<=Ввод!$F$1:$F$30),Ввод!$D$1:$D$30,\"\"),\" / \")","v":""},{"$f":"MyJoin(IF((C$2=Ввод!$C$1:$C$30)*($A457>=Ввод!$E$1:$E$30)*($A457<=Ввод!$F$1:$F$30),Ввод!$D$1:$D$30,\"\"),\" / \")","v":""},{"$f":"MyJoin(IF((D$2=Ввод!$C$1:$C$30)*($A457>=Ввод!$E$1:$E$30)*($A457<=Ввод!$F$1:$F$30),Ввод!$D$1:$D$30,\"\"),\" / \")","v":""},{"$f":"MyJoin(IF((E$2=Ввод!$C$1:$C$30)*($A457>=Ввод!$E$1:$E$30)*($A457<=Ввод!$F$1:$F$30),Ввод!$D$1:$D$30,\"\"),\" / \")","v":"Задание 27 / Задание 28 / Задание 29"},{"$f":"MyJoin(IF((F$2=Ввод!$C$1:$C$30)*($A457>=Ввод!$E$1:$E$30)*($A457<=Ввод!$F$1:$F$30),Ввод!$D$1:$D$30,\"\"),\" / \")","v":""},{"$f":"IF(A457=\"\",\"\",A457)","v":"2023-03-26"}]
["2023-03-27",{"$f":"MyJoin(IF((B$2=Ввод!$C$1:$C$30)*($A458>=Ввод!$E$1:$E$30)*($A458<=Ввод!$F$1:$F$30),Ввод!$D$1:$D$30,\"\"),\" / \")","v":""},{"$f":"MyJoin(IF((C$2=Ввод!$C$1:$C$30)*($A458>=Ввод!$E$1:$E$30)*($A458<=Ввод!$F$1:$F$30),Ввод!$D$1:$D$30,\"\"),\" / \")","v":""},{"$f":"MyJoin(IF((D$2=Ввод!$C$1:$C$30)*($A458>=Ввод!$E$1:$E$30)*($A458<=Ввод!$F$1:$F$30),Ввод!$D$1:$D$30,\"\"),\" / \")","v":""},{"$f":"MyJoin(IF((E$2=Ввод!$C$1:$C$30)*($A458>=Ввод!$E$1:$E$30)*($A458<=Ввод!$F$1:$F$30),Ввод!$D$1:$D$30,\"\"),\" / \")","v":"Задание 27 / Задание 28 / Задание 29"},{"$f":"MyJoin(IF((F$2=Ввод!$C$1:$C$30)*($A458>=Ввод!$E$1:$E$30)*($A458<=Ввод!$F$1:$F$30),Ввод!$D$1:$D$30,\"\"),\" / \")","v":""},"2023-03-27"]
["2023-03-28",{"$f":"MyJoin(IF((B$2=Ввод!$C$1:$C$30)*($A459>=Ввод!$E$1:$E$30)*($A459<=Ввод!$F$1:$F$30),Ввод!$D$1:$D$30,\"\"),\" / \")","v":""},{"$f":"MyJoin(IF((C$2=Ввод!$C$1:$C$30)*($A459>=Ввод!$E$1:$E$30)*($A459<=Ввод!$F$1:$F$30),Ввод!$D$1:$D$30,\"\"),\" / \")","v":""},{"$f":"MyJoin(IF((D$2=Ввод!$C$1:$C$30)*($A459>=Ввод!$E$1:$E$30)*($A459<=Ввод!$F$1:$F$30),Ввод!$D$1:$D$30,\"\"),\" / \")","v":""},{"$f":"MyJoin(IF((E$2=Ввод!$C$1:$C$30)*($A459>=Ввод!$E$1:$E$30)*($A459<=Ввод!$F$1:$F$30),Ввод!$D$1:$D$30,\"\"),\" / \")","v":"Задание 27 / Задание 28 / Задание 29"},{"$f":"MyJoin(IF((F$2=Ввод!$C$1:$C$30)*($A459>=Ввод!$E$1:$E$30)*($A459<=Ввод!$F$1:$F$30),Ввод!$D$1:$D$30,\"\"),\" / \")","v":""},"2023-03-28"]
["2023-03-29",{"$f":"MyJoin(IF((B$2=Ввод!$C$1:$C$30)*($A460>=Ввод!$E$1:$E$30)*($A460<=Ввод!$F$1:$F$30),Ввод!$D$1:$D$30,\"\"),\" / \")","v":""},{"$f":"MyJoin(IF((C$2=Ввод!$C$1:$C$30)*($A460>=Ввод!$E$1:$E$30)*($A460<=Ввод!$F$1:$F$30),Ввод!$D$1:$D$30,\"\"),\" / \")","v":""},{"$f":"MyJoin(IF((D$2=Ввод!$C$1:$C$30)*($A460>=Ввод!$E$1:$E$30)*($A460<=Ввод!$F$1:$F$30),Ввод!$D$1:$D$30,\"\"),\" / \")","v":""},{"$f":"MyJoin(IF((E$2=Ввод!$C$1:$C$30)*($A460>=Ввод!$E$1:$E$30)*($A460<=Ввод!$F$1:$F$30),Ввод!$D$1:$D$30,\"\"),\" / \")","v":"Задание 28 / Задание 29"},{"$f":"MyJoin(IF((F$2=Ввод!$C$1:$C$30)*($A460>=Ввод!$E$1:$E$30)*($A460<=Ввод!$F$1:$F$30),Ввод!$D$1:$D$30,\"\"),\" / \")","v":""},"2023-03-29"]
["2023-03-30",{"$f":"MyJoin(IF((B$2=Ввод!$C$1:$C$30)*($A461>=Ввод!$E$1:$E$30)*($A461<=Ввод!$F$1:$F$30),Ввод!$D$1:$D$30,\"\"),\" / \")","v":""},{"$f":"MyJoin(IF((C$2=Ввод!$C$1:$C$30)*($A461>=Ввод!$E$1:$E$30)*($A461<=Ввод!$F$1:$F$30),Ввод!$D$1:$D$30,\"\"),\" / \")","v":""},{"$f":"MyJoin(IF((D$2=Ввод!$C$1:$C$30)*($A461>=Ввод!$E$1:$E$30)*($A461<=Ввод!$F$1:$F$30),Ввод!$D$1:$D$30,\"\"),\" / \")","v":""},{"$f":"MyJoin(IF((E$2=Ввод!$C$1:$C$30)*($A461>=Ввод!$E$1:$E$30)*($A461<=Ввод!$F$1:$F$30),Ввод!$D$1:$D$30,\"\"),\" / \")","v":"Задание 28 / Задание 29"},{"$f":"MyJoin(IF((F$2=Ввод!$C$1:$C$30)*($A461>=Ввод!$E$1:$E$30)*($A461<=Ввод!$F$1:$F$30),Ввод!$D$1:$D$30,\"\"),\" / \")","v":""},"2023-03-30"]
["2023-03-31",{"$f":"MyJoin(IF((B$2=Ввод!$C$1:$C$30)*($A462>=Ввод!$E$1:$E$30)*($A462<=Ввод!$F$1:$F$30),Ввод!$D$1:$D$30,\"\"),\" / \")","v":""},{"$f":"MyJoin(IF((C$2=Ввод!$C$1:$C$30)*($A462>=Ввод!$E$1:$E$30)*($A462<=Ввод!$F$1:$F$30),Ввод!$D$1:$D$30,\"\"),\" / \")","v":""},{"$f":"MyJoin(IF((D$2=Ввод!$C$1:$C$30)*($A462>=Ввод!$E$1:$E$30)*($A462<=Ввод!$F$1:$F$30),Ввод!$D$1:$D$30,\"\"),\" / \")","v":""},{"$f":"MyJoin(IF((E$2=Ввод!$C$1:$C$30)*($A462>=Ввод!$E$1:$E$30)*($A462<=Ввод!$F$1:$F$30),Ввод!$D$1:$D$30,\"\"),\" / \")","v":"Задание 29"},{"$f":"MyJoin(IF((F$2=Ввод!$C$1:$C$30)*($A462>=Ввод!$E$1:$E$30)*($A462<=Ввод!$F$1:$F$30),Ввод!$D$1:$D$30,\"\"),\" / \")","v":""},"2023-03-31"]
["2023-04-01",{"$f":"MyJoin(IF((B$2=Ввод!$C$1:$C$30)*($A463>=Ввод!$E$1:$E$30)*($A463<=Ввод!$F$1:$F$30),Ввод!$D$1:$D$30,\"\"),\" / \")","v":""},{"$f":"MyJoin(IF((C$2=Ввод!$C$1:$C$30)*($A463>=Ввод!$E$1:$E$30)*($A463<=Ввод!$F$1:$F$30),Ввод!$D$1:$D$30,\"\"),\" / \")","v":""},{"$f":"MyJoin(IF((D$2=Ввод!$C$1:$C$30)*($A463>=Ввод!$E$1:$E$30)*($A463<=Ввод!$F$1:$F$30),Ввод!$D$1:$D$30,\"\"),\" / \")","v":""},{"$f":"MyJoin(IF((E$2=Ввод!$C$1:$C$30)*($A463>=Ввод!$E$1:$E$30)*($A463<=Ввод!$F$1:$F$30),Ввод!$D$1:$D$30,\"\"),\" / \")","v":"Задание 29"},{"$f":"MyJoin(IF((F$2=Ввод!$C$1:$C$30)*($A463>=Ввод!$E$1:$E$30)*($A463<=Ввод!$F$1:$F$30),Ввод!$D$1:$D$30,\"\"),\" / \")","v":""},"2023-04-01"]
["2023-04-02",{"$f":"MyJoin(IF((B$2=Ввод!$C$1:$C$30)*($A464>=Ввод!$E$1:$E$30)*($A464<=Ввод!$F$1:$F$30),Ввод!$D$1:$D$30,\"\"),\" / \")","v":""},{"$f":"MyJoin(IF((C$2=Ввод!$C$1:$C$30)*($A464>=Ввод!$E$1:$E$30)*($A464<=Ввод!$F$1:$F$30),Ввод!$D$1:$D$30,\"\"),\" / \")","v":""},{"$f":"MyJoin(IF((D$2=Ввод!$C$1:$C$30)*($A464>=Ввод!$E$1:$E$30)*($A464<=Ввод!$F$1:$F$30),Ввод!$D$1:$D$30,\"\"),\" / \")","v":""},{"$f":"MyJoin(IF((E$2=Ввод!$C$1:$C$30)*($A464>=Ввод!$E$1:$E$30)*($A464<=Ввод!$F$1:$F$30),Ввод!$D$1:$D$30,\"\"),\" / \")","v":""},{"$f":"MyJoin(IF((F$2=Ввод!$C$1:$C$30)*($A464>=Ввод!$E$1:$E$30)*($A464<=Ввод!$F$1:$F$30),Ввод!$D$1:$D$30,\"\"),\" / \")","v":""},"2023-04-02"]
["2023-04-03",{"$f":"MyJoin(IF((B$2=Ввод!$C$1:$C$30)*($A465>=Ввод!$E$1:$E$30)*($A465<=Ввод!$F$1:$F$30),Ввод!$D$1:$D$30,\"\"),\" / \")","v":""},{"$f":"MyJoin(IF((C$2=Ввод!$C$1:$C$30)*($A465>=Ввод!$E$1:$E$30)*($A465<=Ввод!$F$1:$F$30),Ввод!$D$1:$D$30,\"\"),\" / \")","v":""},{"$f":"MyJoin(IF((D$2=Ввод!$C$1:$C$30)*($A465>=Ввод!$E$1:$E$30)*($A465<=Ввод!$F$1:$F$30),Ввод!$D$1:$D$30,\"\"),\" / \")","v":""},{"$f":"MyJoin(IF((E$2=Ввод!$C$1:$C$30)*($A465>=Ввод!$E$1:$E$30)*($A465<=Ввод!$F$1:$F$30),Ввод!$D$1:$D$30,\"\"),\" / \")","v":""},{"$f":"MyJoin(IF((F$2=Ввод!$C$1:$C$30)*($A465>=Ввод!$E$1:$E$30)*($A465<=Ввод!$F$1:$F$30),Ввод!$D$1:$D$30,\"\"),\" / \")","v":""},"2023-04-03"]
["2023-04-04",{"$f":"MyJoin(IF((B$2=Ввод!$C$1:$C$30)*($A466>=Ввод!$E$1:$E$30)*($A466<=Ввод!$F$1:$F$30),Ввод!$D$1:$D$30,\"\"),\" / \")","v":""},{"$f":"MyJoin(IF((C$2=Ввод!$C$1:$C$30)*($A466>=Ввод!$E$1:$E$30)*($A466<=Ввод!$F$1:$F$30),Ввод!$D$1:$D$30,\"\"),\" / \")","v":""},{"$f":"MyJoin(IF((D$2=Ввод!$C$1:$C$30)*($A466>=Ввод!$E$1:$E$30)*($A466<=Ввод!$F$1:$F$30),Ввод!$D$1:$D$30,\"\"),\" / \")","v":""},{"$f":"MyJoin(IF((E$2=Ввод!$C$1:$C$30)*($A466>=Ввод!$E$1:$E$30)*($A466<=Ввод!$F$1:$F$30),Ввод!$D$1:$D$30,\"\"),\" / \")","v":""},{"$f":"MyJoin(IF((F$2=Ввод!$C$1:$C$30)*($A466>=Ввод!$E$1:$E$30)*($A466<=Ввод!$F$1:$F$30),Ввод!$D$1:$D$30,\"\"),\" / \")","v":""},"2023-04-04"]
["2023-04-05",{"$f":"MyJoin(IF((B$2=Ввод!$C$1:$C$30)*($A467>=Ввод!$E$1:$E$30)*($A467<=Ввод!$F$1:$F$30),Ввод!$D$1:$D$30,\"\"),\" / \")","v":""},{"$f":"MyJoin(IF((C$2=Ввод!$C$1:$C$30)*($A467>=Ввод!$E$1:$E$30)*($A467<=Ввод!$F$1:$F$30),Ввод!$D$1:$D$30,\"\"),\" / \")","v":""},{"$f":"MyJoin(IF((D$2=Ввод!$C$1:$C$30)*($A467>=Ввод!$E$1:$E$30)*($A467<=Ввод!$F$1:$F$30),Ввод!$D$1:$D$30,\"\"),\" / \")","v":""},{"$f":"MyJoin(IF((E$2=Ввод!$C$1:$C$30)*($A467>=Ввод!$E$1:$E$30)*($A467<=Ввод!$F$1:$F$30),Ввод!$D$1:$D$30,\"\"),\" / \")","v":""},{"$f":"MyJoin(IF((F$2=Ввод!$C$1:$C$30)*($A467>=Ввод!$E$1:$E$30)*($A467<=Ввод!$F$1:$F$30),Ввод!$D$1:$D$30,\"\"),\" / \")","v":""},"2023-04-05"]
["2023-04-06",{"$f":"MyJoin(IF((B$2=Ввод!$C$1:$C$30)*($A468>=Ввод!$E$1:$E$30)*($A468<=Ввод!$F$1:$F$30),Ввод!$D$1:$D$30,\"\"),\" / \")","v":""},{"$f":"MyJoin(IF((C$2=Ввод!$C$1:$C$30)*($A468>=Ввод!$E$1:$E$30)*($A468<=Ввод!$F$1:$F$30),Ввод!$D$1:$D$30,\"\"),\" / \")","v":""},{"$f":"MyJoin(IF((D$2=Ввод!$C$1:$C$30)*($A468>=Ввод!$E$1:$E$30)*($A468<=Ввод!$F$1:$F$30),Ввод!$D$1:$D$30,\"\"),\" / \")","v":""},{"$f":"MyJoin(IF((E$2=Ввод!$C$1:$C$30)*($A468>=Ввод!$E$1:$E$30)*($A468<=Ввод!$F$1:$F$30),Ввод!$D$1:$D$30,\"\"),\" / \")","v":""},{"$f":"MyJoin(IF((F$2=Ввод!$C$1:$C$30)*($A468>=Ввод!$E$1:$E$30)*($A468<=Ввод!$F$1:$F$30),Ввод!$D$1:$D$30,\"\"),\" / \")","v":""},"2023-04-06"]
["2023-04-07",{"$f":"MyJoin(IF((B$2=Ввод!$C$1:$C$30)*($A469>=Ввод!$E$1:$E$30)*($A469<=Ввод!$F$1:$F$30),Ввод!$D$1:$D$30,\"\"),\" / \")","v":""},{"$f":"MyJoin(IF((C$2=Ввод!$C$1:$C$30)*($A469>=Ввод!$E$1:$E$30)*($A469<=Ввод!$F$1:$F$30),Ввод!$D$1:$D$30,\"\"),\" / \")","v":""},{"$f":"MyJoin(IF((D$2=Ввод!$C$1:$C$30)*($A469>=Ввод!$E$1:$E$30)*($A469<=Ввод!$F$1:$F$30),Ввод!$D$1:$D$30,\"\"),\" / \")","v":""},{"$f":"MyJoin(IF((E$2=Ввод!$C$1:$C$30)*($A469>=Ввод!$E$1:$E$30)*($A469<=Ввод!$F$1:$F$30),Ввод!$D$1:$D$30,\"\"),\" / \")","v":""},{"$f":"MyJoin(IF((F$2=Ввод!$C$1:$C$30)*($A469>=Ввод!$E$1:$E$30)*($A469<=Ввод!$F$1:$F$30),Ввод!$D$1:$D$30,\"\"),\" / \")","v":""},"2023-04-07"]
["2023-04-08",{"$f":"MyJoin(IF((B$2=Ввод!$C$1:$C$30)*($A470>=Ввод!$E$1:$E$30)*($A470<=Ввод!$F$1:$F$30),Ввод!$D$1:$D$30,\"\"),\" / \")","v":""},{"$f":"MyJoin(IF((C$2=Ввод!$C$1:$C$30)*($A470>=Ввод!$E$1:$E$30)*($A470<=Ввод!$F$1:$F$30),Ввод!$D$1:$D$30,\"\"),\" / \")","v":""},{"$f":"MyJoin(IF((D$2=Ввод!$C$1:$C$30)*($A470>=Ввод!$E$1:$E$30)*($A470<=Ввод!$F$1:$F$30),Ввод!$D$1:$D$30,\"\"),\" / \")","v":""},{"$f":"MyJoin(IF((E$2=Ввод!$C$1:$C$30)*($A470>=Ввод!$E$1:$E$30)*($A470<=Ввод!$F$1:$F$30),Ввод!$D$1:$D$30,\"\"),\" / \")","v":""},{"$f":"MyJoin(IF((F$2=Ввод!$C$1:$C$30)*($A470>=Ввод!$E$1:$E$30)*($A470<=Ввод!$F$1:$F$30),Ввод!$D$1:$D$30,\"\"),\" / \")","v":""},"2023-04-08"]
["2023-04-09",{"$f":"MyJoin(IF((B$2=Ввод!$C$1:$C$30)*($A471>=Ввод!$E$1:$E$30)*($A471<=Ввод!$F$1:$F$30),Ввод!$D$1:$D$30,\"\"),\" / \")","v":""},{"$f":"MyJoin(IF((C$2=Ввод!$C$1:$C$30)*($A471>=Ввод!$E$1:$E$30)*($A471<=Ввод!$F$1:$F$30),Ввод!$D$1:$D$30,\"\"),\" / \")","v":""},{"$f":"MyJoin(IF((D$2=Ввод!$C$1:$C$30)*($A471>=Ввод!$E$1:$E$30)*($A471<=Ввод!$F$1:$F$30),Ввод!$D$1:$D$30,\"\"),\" / \")","v":""},{"$f":"MyJoin(IF((E$2=Ввод!$C$1:$C$30)*($A471>=Ввод!$E$1:$E$30)*($A471<=Ввод!$F$1:$F$30),Ввод!$D$1:$D$30,\"\"),\" / \")","v":""},{"$f":"MyJoin(IF((F$2=Ввод!$C$1:$C$30)*($A471>=Ввод!$E$1:$E$30)*($A471<=Ввод!$F$1:$F$30),Ввод!$D$1:$D$30,\"\"),\" / \")","v":""},"2023-04-09"]
["2023-04-10",{"$f":"MyJoin(IF((B$2=Ввод!$C$1:$C$30)*($A472>=Ввод!$E$1:$E$30)*($A472<=Ввод!$F$1:$F$30),Ввод!$D$1:$D$30,\"\"),\" / \")","v":""},{"$f":"MyJoin(IF((C$2=Ввод!$C$1:$C$30)*($A472>=Ввод!$E$1:$E$30)*($A472<=Ввод!$F$1:$F$30),Ввод!$D$1:$D$30,\"\"),\" / \")","v":""},{"$f":"MyJoin(IF((D$2=Ввод!$C$1:$C$30)*($A472>=Ввод!$E$1:$E$30)*($A472<=Ввод!$F$1:$F$30),Ввод!$D$1:$D$30,\"\"),\" / \")","v":""},{"$f":"MyJoin(IF((E$2=Ввод!$C$1:$C$30)*($A472>=Ввод!$E$1:$E$30)*($A472<=Ввод!$F$1:$F$30),Ввод!$D$1:$D$30,\"\"),\" / \")","v":""},{"$f":"MyJoin(IF((F$2=Ввод!$C$1:$C$30)*($A472>=Ввод!$E$1:$E$30)*($A472<=Ввод!$F$1:$F$30),Ввод!$D$1:$D$30,\"\"),\" / \")","v":""},"2023-04-10"]
["2023-04-11",{"$f":"MyJoin(IF((B$2=Ввод!$C$1:$C$30)*($A473>=Ввод!$E$1:$E$30)*($A473<=Ввод!$F$1:$F$30),Ввод!$D$1:$D$30,\"\"),\" / \")","v":""},{"$f":"MyJoin(IF((C$2=Ввод!$C$1:$C$30)*($A473>=Ввод!$E$1:$E$30)*($A473<=Ввод!$F$1:$F$30),Ввод!$D$1:$D$30,\"\"),\" / \")","v":""},{"$f":"MyJoin(IF((D$2=Ввод!$C$1:$C$30)*($A473>=Ввод!$E$1:$E$30)*($A473<=Ввод!$F$1:$F$30),Ввод!$D$1:$D$30,\"\"),\" / \")","v":""},{"$f":"MyJoin(IF((E$2=Ввод!$C$1:$C$30)*($A473>=Ввод!$E$1:$E$30)*($A473<=Ввод!$F$1:$F$30),Ввод!$D$1:$D$30,\"\"),\" / \")","v":""},{"$f":"MyJoin(IF((F$2=Ввод!$C$1:$C$30)*($A473>=Ввод!$E$1:$E$30)*($A473<=Ввод!$F$1:$F$30),Ввод!$D$1:$D$30,\"\"),\" / \")","v":""},"2023-04-11"]
["2023-04-12",{"$f":"MyJoin(IF((B$2=Ввод!$C$1:$C$30)*($A474>=Ввод!$E$1:$E$30)*($A474<=Ввод!$F$1:$F$30),Ввод!$D$1:$D$30,\"\"),\" / \")","v":""},{"$f":"MyJoin(IF((C$2=Ввод!$C$1:$C$30)*($A474>=Ввод!$E$1:$E$30)*($A474<=Ввод!$F$1:$F$30),Ввод!$D$1:$D$30,\"\"),\" / \")","v":""},{"$f":"MyJoin(IF((D$2=Ввод!$C$1:$C$30)*($A474>=Ввод!$E$1:$E$30)*($A474<=Ввод!$F$1:$F$30),Ввод!$D$1:$D$30,\"\"),\" / \")","v":""},{"$f":"MyJoin(IF((E$2=Ввод!$C$1:$C$30)*($A474>=Ввод!$E$1:$E$30)*($A474<=Ввод!$F$1:$F$30),Ввод!$D$1:$D$30,\"\"),\" / \")","v":""},{"$f":"MyJoin(IF((F$2=Ввод!$C$1:$C$30)*($A474>=Ввод!$E$1:$E$30)*($A474<=Ввод!$F$1:$F$30),Ввод!$D$1:$D$30,\"\"),\" / \")","v":""},"2023-04-12"]
["2023-04-13",{"$f":"MyJoin(IF((B$2=Ввод!$C$1:$C$30)*($A475>=Ввод!$E$1:$E$30)*($A475<=Ввод!$F$1:$F$30),Ввод!$D$1:$D$30,\"\"),\" / \")","v":""},{"$f":"MyJoin(IF((C$2=Ввод!$C$1:$C$30)*($A475>=Ввод!$E$1:$E$30)*($A475<=Ввод!$F$1:$F$30),Ввод!$D$1:$D$30,\"\"),\" / \")","v":""},{"$f":"MyJoin(IF((D$2=Ввод!$C$1:$C$30)*($A475>=Ввод!$E$1:$E$30)*($A475<=Ввод!$F$1:$F$30),Ввод!$D$1:$D$30,\"\"),\" / \")","v":""},{"$f":"MyJoin(IF((E$2=Ввод!$C$1:$C$30)*($A475>=Ввод!$E$1:$E$30)*($A475<=Ввод!$F$1:$F$30),Ввод!$D$1:$D$30,\"\"),\" / \")","v":""},{"$f":"MyJoin(IF((F$2=Ввод!$C$1:$C$30)*($A475>=Ввод!$E$1:$E$30)*($A475<=Ввод!$F$1:$F$30),Ввод!$D$1:$D$30,\"\"),\" / \")","v":""},"2023-04-13"]
["2023-04-14",{"$f":"MyJoin(IF((B$2=Ввод!$C$1:$C$30)*($A476>=Ввод!$E$1:$E$30)*($A476<=Ввод!$F$1:$F$30),Ввод!$D$1:$D$30,\"\"),\" / \")","v":""},{"$f":"MyJoin(IF((C$2=Ввод!$C$1:$C$30)*($A476>=Ввод!$E$1:$E$30)*($A476<=Ввод!$F$1:$F$30),Ввод!$D$1:$D$30,\"\"),\" / \")","v":""},{"$f":"MyJoin(IF((D$2=Ввод!$C$1:$C$30)*($A476>=Ввод!$E$1:$E$30)*($A476<=Ввод!$F$1:$F$30),Ввод!$D$1:$D$30,\"\"),\" / \")","v":""},{"$f":"MyJoin(IF((E$2=Ввод!$C$1:$C$30)*($A476>=Ввод!$E$1:$E$30)*($A476<=Ввод!$F$1:$F$30),Ввод!$D$1:$D$30,\"\"),\" / \")","v":""},{"$f":"MyJoin(IF((F$2=Ввод!$C$1:$C$30)*($A476>=Ввод!$E$1:$E$30)*($A476<=Ввод!$F$1:$F$30),Ввод!$D$1:$D$30,\"\"),\" / \")","v":""},"2023-04-14"]
["2023-04-15",{"$f":"MyJoin(IF((B$2=Ввод!$C$1:$C$30)*($A477>=Ввод!$E$1:$E$30)*($A477<=Ввод!$F$1:$F$30),Ввод!$D$1:$D$30,\"\"),\" / \")","v":""},{"$f":"MyJoin(IF((C$2=Ввод!$C$1:$C$30)*($A477>=Ввод!$E$1:$E$30)*($A477<=Ввод!$F$1:$F$30),Ввод!$D$1:$D$30,\"\"),\" / \")","v":""},{"$f":"MyJoin(IF((D$2=Ввод!$C$1:$C$30)*($A477>=Ввод!$E$1:$E$30)*($A477<=Ввод!$F$1:$F$30),Ввод!$D$1:$D$30,\"\"),\" / \")","v":""},{"$f":"MyJoin(IF((E$2=Ввод!$C$1:$C$30)*($A477>=Ввод!$E$1:$E$30)*($A477<=Ввод!$F$1:$F$30),Ввод!$D$1:$D$30,\"\"),\" / \")","v":""},{"$f":"MyJoin(IF((F$2=Ввод!$C$1:$C$30)*($A477>=Ввод!$E$1:$E$30)*($A477<=Ввод!$F$1:$F$30),Ввод!$D$1:$D$30,\"\"),\" / \")","v":""},"2023-04-15"]
["2023-04-16",{"$f":"MyJoin(IF((B$2=Ввод!$C$1:$C$30)*($A478>=Ввод!$E$1:$E$30)*($A478<=Ввод!$F$1:$F$30),Ввод!$D$1:$D$30,\"\"),\" / \")","v":""},{"$f":"MyJoin(IF((C$2=Ввод!$C$1:$C$30)*($A478>=Ввод!$E$1:$E$30)*($A478<=Ввод!$F$1:$F$30),Ввод!$D$1:$D$30,\"\"),\" / \")","v":""},{"$f":"MyJoin(IF((D$2=Ввод!$C$1:$C$30)*($A478>=Ввод!$E$1:$E$30)*($A478<=Ввод!$F$1:$F$30),Ввод!$D$1:$D$30,\"\"),\" / \")","v":""},{"$f":"MyJoin(IF((E$2=Ввод!$C$1:$C$30)*($A478>=Ввод!$E$1:$E$30)*($A478<=Ввод!$F$1:$F$30),Ввод!$D$1:$D$30,\"\"),\" / \")","v":""},{"$f":"MyJoin(IF((F$2=Ввод!$C$1:$C$30)*($A478>=Ввод!$E$1:$E$30)*($A478<=Ввод!$F$1:$F$30),Ввод!$D$1:$D$30,\"\"),\" / \")","v":""},"2023-04-16"]
["2023-04-17",{"$f":"MyJoin(IF((B$2=Ввод!$C$1:$C$30)*($A479>=Ввод!$E$1:$E$30)*($A479<=Ввод!$F$1:$F$30),Ввод!$D$1:$D$30,\"\"),\" / \")","v":""},{"$f":"MyJoin(IF((C$2=Ввод!$C$1:$C$30)*($A479>=Ввод!$E$1:$E$30)*($A479<=Ввод!$F$1:$F$30),Ввод!$D$1:$D$30,\"\"),\" / \")","v":""},{"$f":"MyJoin(IF((D$2=Ввод!$C$1:$C$30)*($A479>=Ввод!$E$1:$E$30)*($A479<=Ввод!$F$1:$F$30),Ввод!$D$1:$D$30,\"\"),\" / \")","v":""},{"$f":"MyJoin(IF((E$2=Ввод!$C$1:$C$30)*($A479>=Ввод!$E$1:$E$30)*($A479<=Ввод!$F$1:$F$30),Ввод!$D$1:$D$30,\"\"),\" / \")","v":""},{"$f":"MyJoin(IF((F$2=Ввод!$C$1:$C$30)*($A479>=Ввод!$E$1:$E$30)*($A479<=Ввод!$F$1:$F$30),Ввод!$D$1:$D$30,\"\"),\" / \")","v":""},"2023-04-17"]
["2023-04-18",{"$f":"MyJoin(IF((B$2=Ввод!$C$1:$C$30)*($A480>=Ввод!$E$1:$E$30)*($A480<=Ввод!$F$1:$F$30),Ввод!$D$1:$D$30,\"\"),\" / \")","v":""},{"$f":"MyJoin(IF((C$2=Ввод!$C$1:$C$30)*($A480>=Ввод!$E$1:$E$30)*($A480<=Ввод!$F$1:$F$30),Ввод!$D$1:$D$30,\"\"),\" / \")","v":""},{"$f":"MyJoin(IF((D$2=Ввод!$C$1:$C$30)*($A480>=Ввод!$E$1:$E$30)*($A480<=Ввод!$F$1:$F$30),Ввод!$D$1:$D$30,\"\"),\" / \")","v":""},{"$f":"MyJoin(IF((E$2=Ввод!$C$1:$C$30)*($A480>=Ввод!$E$1:$E$30)*($A480<=Ввод!$F$1:$F$30),Ввод!$D$1:$D$30,\"\"),\" / \")","v":""},{"$f":"MyJoin(IF((F$2=Ввод!$C$1:$C$30)*($A480>=Ввод!$E$1:$E$30)*($A480<=Ввод!$F$1:$F$30),Ввод!$D$1:$D$30,\"\"),\" / \")","v":""},"2023-04-18"]
["2023-04-19",{"$f":"MyJoin(IF((B$2=Ввод!$C$1:$C$30)*($A481>=Ввод!$E$1:$E$30)*($A481<=Ввод!$F$1:$F$30),Ввод!$D$1:$D$30,\"\"),\" / \")","v":""},{"$f":"MyJoin(IF((C$2=Ввод!$C$1:$C$30)*($A481>=Ввод!$E$1:$E$30)*($A481<=Ввод!$F$1:$F$30),Ввод!$D$1:$D$30,\"\"),\" / \")","v":""},{"$f":"MyJoin(IF((D$2=Ввод!$C$1:$C$30)*($A481>=Ввод!$E$1:$E$30)*($A481<=Ввод!$F$1:$F$30),Ввод!$D$1:$D$30,\"\"),\" / \")","v":""},{"$f":"MyJoin(IF((E$2=Ввод!$C$1:$C$30)*($A481>=Ввод!$E$1:$E$30)*($A481<=Ввод!$F$1:$F$30),Ввод!$D$1:$D$30,\"\"),\" / \")","v":""},{"$f":"MyJoin(IF((F$2=Ввод!$C$1:$C$30)*($A481>=Ввод!$E$1:$E$30)*($A481<=Ввод!$F$1:$F$30),Ввод!$D$1:$D$30,\"\"),\" / \")","v":""},"2023-04-19"]
["2023-04-20",{"$f":"MyJoin(IF((B$2=Ввод!$C$1:$C$30)*($A482>=Ввод!$E$1:$E$30)*($A482<=Ввод!$F$1:$F$30),Ввод!$D$1:$D$30,\"\"),\" / \")","v":""},{"$f":"MyJoin(IF((C$2=Ввод!$C$1:$C$30)*($A482>=Ввод!$E$1:$E$30)*($A482<=Ввод!$F$1:$F$30),Ввод!$D$1:$D$30,\"\"),\" / \")","v":""},{"$f":"MyJoin(IF((D$2=Ввод!$C$1:$C$30)*($A482>=Ввод!$E$1:$E$30)*($A482<=Ввод!$F$1:$F$30),Ввод!$D$1:$D$30,\"\"),\" / \")","v":""},{"$f":"MyJoin(IF((E$2=Ввод!$C$1:$C$30)*($A482>=Ввод!$E$1:$E$30)*($A482<=Ввод!$F$1:$F$30),Ввод!$D$1:$D$30,\"\"),\" / \")","v":""},{"$f":"MyJoin(IF((F$2=Ввод!$C$1:$C$30)*($A482>=Ввод!$E$1:$E$30)*($A482<=Ввод!$F$1:$F$30),Ввод!$D$1:$D$30,\"\"),\" / \")","v":""},"2023-04-20"]
["2023-04-21",{"$f":"MyJoin(IF((B$2=Ввод!$C$1:$C$30)*($A483>=Ввод!$E$1:$E$30)*($A483<=Ввод!$F$1:$F$30),Ввод!$D$1:$D$30,\"\"),\" / \")","v":""},{"$f":"MyJoin(IF((C$2=Ввод!$C$1:$C$30)*($A483>=Ввод!$E$1:$E$30)*($A483<=Ввод!$F$1:$F$30),Ввод!$D$1:$D$30,\"\"),\" / \")","v":""},{"$f":"MyJoin(IF((D$2=Ввод!$C$1:$C$30)*($A483>=Ввод!$E$1:$E$30)*($A483<=Ввод!$F$1:$F$30),Ввод!$D$1:$D$30,\"\"),\" / \")","v":""},{"$f":"MyJoin(IF((E$2=Ввод!$C$1:$C$30)*($A483>=Ввод!$E$1:$E$30)*($A483<=Ввод!$F$1:$F$30),Ввод!$D$1:$D$30,\"\"),\" / \")","v":""},{"$f":"MyJoin(IF((F$2=Ввод!$C$1:$C$30)*($A483>=Ввод!$E$1:$E$30)*($A483<=Ввод!$F$1:$F$30),Ввод!$D$1:$D$30,\"\"),\" / \")","v":""},"2023-04-21"]
["2023-04-22",{"$f":"MyJoin(IF((B$2=Ввод!$C$1:$C$30)*($A484>=Ввод!$E$1:$E$30)*($A484<=Ввод!$F$1:$F$30),Ввод!$D$1:$D$30,\"\"),\" / \")","v":""},{"$f":"MyJoin(IF((C$2=Ввод!$C$1:$C$30)*($A484>=Ввод!$E$1:$E$30)*($A484<=Ввод!$F$1:$F$30),Ввод!$D$1:$D$30,\"\"),\" / \")","v":""},{"$f":"MyJoin(IF((D$2=Ввод!$C$1:$C$30)*($A484>=Ввод!$E$1:$E$30)*($A484<=Ввод!$F$1:$F$30),Ввод!$D$1:$D$30,\"\"),\" / \")","v":""},{"$f":"MyJoin(IF((E$2=Ввод!$C$1:$C$30)*($A484>=Ввод!$E$1:$E$30)*($A484<=Ввод!$F$1:$F$30),Ввод!$D$1:$D$30,\"\"),\" / \")","v":""},{"$f":"MyJoin(IF((F$2=Ввод!$C$1:$C$30)*($A484>=Ввод!$E$1:$E$30)*($A484<=Ввод!$F$1:$F$30),Ввод!$D$1:$D$30,\"\"),\" / \")","v":""},"2023-04-22"]
["2023-04-23",{"$f":"MyJoin(IF((B$2=Ввод!$C$1:$C$30)*($A485>=Ввод!$E$1:$E$30)*($A485<=Ввод!$F$1:$F$30),Ввод!$D$1:$D$30,\"\"),\" / \")","v":""},{"$f":"MyJoin(IF((C$2=Ввод!$C$1:$C$30)*($A485>=Ввод!$E$1:$E$30)*($A485<=Ввод!$F$1:$F$30),Ввод!$D$1:$D$30,\"\"),\" / \")","v":""},{"$f":"MyJoin(IF((D$2=Ввод!$C$1:$C$30)*($A485>=Ввод!$E$1:$E$30)*($A485<=Ввод!$F$1:$F$30),Ввод!$D$1:$D$30,\"\"),\" / \")","v":""},{"$f":"MyJoin(IF((E$2=Ввод!$C$1:$C$30)*($A485>=Ввод!$E$1:$E$30)*($A485<=Ввод!$F$1:$F$30),Ввод!$D$1:$D$30,\"\"),\" / \")","v":""},{"$f":"MyJoin(IF((F$2=Ввод!$C$1:$C$30)*($A485>=Ввод!$E$1:$E$30)*($A485<=Ввод!$F$1:$F$30),Ввод!$D$1:$D$30,\"\"),\" / \")","v":""},"2023-04-23"]
["2023-04-24",{"$f":"MyJoin(IF((B$2=Ввод!$C$1:$C$30)*($A486>=Ввод!$E$1:$E$30)*($A486<=Ввод!$F$1:$F$30),Ввод!$D$1:$D$30,\"\"),\" / \")","v":""},{"$f":"MyJoin(IF((C$2=Ввод!$C$1:$C$30)*($A486>=Ввод!$E$1:$E$30)*($A486<=Ввод!$F$1:$F$30),Ввод!$D$1:$D$30,\"\"),\" / \")","v":""},{"$f":"MyJoin(IF((D$2=Ввод!$C$1:$C$30)*($A486>=Ввод!$E$1:$E$30)*($A486<=Ввод!$F$1:$F$30),Ввод!$D$1:$D$30,\"\"),\" / \")","v":""},{"$f":"MyJoin(IF((E$2=Ввод!$C$1:$C$30)*($A486>=Ввод!$E$1:$E$30)*($A486<=Ввод!$F$1:$F$30),Ввод!$D$1:$D$30,\"\"),\" / \")","v":""},{"$f":"MyJoin(IF((F$2=Ввод!$C$1:$C$30)*($A486>=Ввод!$E$1:$E$30)*($A486<=Ввод!$F$1:$F$30),Ввод!$D$1:$D$30,\"\"),\" / \")","v":""},"2023-04-24"]
["2023-04-25",{"$f":"MyJoin(IF((B$2=Ввод!$C$1:$C$30)*($A487>=Ввод!$E$1:$E$30)*($A487<=Ввод!$F$1:$F$30),Ввод!$D$1:$D$30,\"\"),\" / \")","v":""},{"$f":"MyJoin(IF((C$2=Ввод!$C$1:$C$30)*($A487>=Ввод!$E$1:$E$30)*($A487<=Ввод!$F$1:$F$30),Ввод!$D$1:$D$30,\"\"),\" / \")","v":""},{"$f":"MyJoin(IF((D$2=Ввод!$C$1:$C$30)*($A487>=Ввод!$E$1:$E$30)*($A487<=Ввод!$F$1:$F$30),Ввод!$D$1:$D$30,\"\"),\" / \")","v":""},{"$f":"MyJoin(IF((E$2=Ввод!$C$1:$C$30)*($A487>=Ввод!$E$1:$E$30)*($A487<=Ввод!$F$1:$F$30),Ввод!$D$1:$D$30,\"\"),\" / \")","v":""},{"$f":"MyJoin(IF((F$2=Ввод!$C$1:$C$30)*($A487>=Ввод!$E$1:$E$30)*($A487<=Ввод!$F$1:$F$30),Ввод!$D$1:$D$30,\"\"),\" / \")","v":""},"2023-04-25"]
["2023-04-26",{"$f":"MyJoin(IF((B$2=Ввод!$C$1:$C$30)*($A488>=Ввод!$E$1:$E$30)*($A488<=Ввод!$F$1:$F$30),Ввод!$D$1:$D$30,\"\"),\" / \")","v":""},{"$f":"MyJoin(IF((C$2=Ввод!$C$1:$C$30)*($A488>=Ввод!$E$1:$E$30)*($A488<=Ввод!$F$1:$F$30),Ввод!$D$1:$D$30,\"\"),\" / \")","v":""},{"$f":"MyJoin(IF((D$2=Ввод!$C$1:$C$30)*($A488>=Ввод!$E$1:$E$30)*($A488<=Ввод!$F$1:$F$30),Ввод!$D$1:$D$30,\"\"),\" / \")","v":""},{"$f":"MyJoin(IF((E$2=Ввод!$C$1:$C$30)*($A488>=Ввод!$E$1:$E$30)*($A488<=Ввод!$F$1:$F$30),Ввод!$D$1:$D$30,\"\"),\" / \")","v":""},{"$f":"MyJoin(IF((F$2=Ввод!$C$1:$C$30)*($A488>=Ввод!$E$1:$E$30)*($A488<=Ввод!$F$1:$F$30),Ввод!$D$1:$D$30,\"\"),\" / \")","v":""},"2023-04-26"]
["2023-04-27",{"$f":"MyJoin(IF((B$2=Ввод!$C$1:$C$30)*($A489>=Ввод!$E$1:$E$30)*($A489<=Ввод!$F$1:$F$30),Ввод!$D$1:$D$30,\"\"),\" / \")","v":""},{"$f":"MyJoin(IF((C$2=Ввод!$C$1:$C$30)*($A489>=Ввод!$E$1:$E$30)*($A489<=Ввод!$F$1:$F$30),Ввод!$D$1:$D$30,\"\"),\" / \")","v":""},{"$f":"MyJoin(IF((D$2=Ввод!$C$1:$C$30)*($A489>=Ввод!$E$1:$E$30)*($A489<=Ввод!$F$1:$F$30),Ввод!$D$1:$D$30,\"\"),\" / \")","v":""},{"$f":"MyJoin(IF((E$2=Ввод!$C$1:$C$30)*($A489>=Ввод!$E$1:$E$30)*($A489<=Ввод!$F$1:$F$30),Ввод!$D$1:$D$30,\"\"),\" / \")","v":""},{"$f":"MyJoin(IF((F$2=Ввод!$C$1:$C$30)*($A489>=Ввод!$E$1:$E$30)*($A489<=Ввод!$F$1:$F$30),Ввод!$D$1:$D$30,\"\"),\" / \")","v":""},"2023-04-27"]
["2023-04-28",{"$f":"MyJoin(IF((B$2=Ввод!$C$1:$C$30)*($A490>=Ввод!$E$1:$E$30)*($A490<=Ввод!$F$1:$F$30),Ввод!$D$1:$D$30,\"\"),\" / \")","v":""},{"$f":"MyJoin(IF((C$2=Ввод!$C$1:$C$30)*($A490>=Ввод!$E$1:$E$30)*($A490<=Ввод!$F$1:$F$30),Ввод!$D$1:$D$30,\"\"),\" / \")","v":""},{"$f":"MyJoin(IF((D$2=Ввод!$C$1:$C$30)*($A490>=Ввод!$E$1:$E$30)*($A490<=Ввод!$F$1:$F$30),Ввод!$D$1:$D$30,\"\"),\" / \")","v":""},{"$f":"MyJoin(IF((E$2=Ввод!$C$1:$C$30)*($A490>=Ввод!$E$1:$E$30)*($A490<=Ввод!$F$1:$F$30),Ввод!$D$1:$D$30,\"\"),\" / \")","v":""},{"$f":"MyJoin(IF((F$2=Ввод!$C$1:$C$30)*($A490>=Ввод!$E$1:$E$30)*($A490<=Ввод!$F$1:$F$30),Ввод!$D$1:$D$30,\"\"),\" / \")","v":""},"2023-04-28"]
["2023-04-29",{"$f":"MyJoin(IF((B$2=Ввод!$C$1:$C$30)*($A491>=Ввод!$E$1:$E$30)*($A491<=Ввод!$F$1:$F$30),Ввод!$D$1:$D$30,\"\"),\" / \")","v":""},{"$f":"MyJoin(IF((C$2=Ввод!$C$1:$C$30)*($A491>=Ввод!$E$1:$E$30)*($A491<=Ввод!$F$1:$F$30),Ввод!$D$1:$D$30,\"\"),\" / \")","v":""},{"$f":"MyJoin(IF((D$2=Ввод!$C$1:$C$30)*($A491>=Ввод!$E$1:$E$30)*($A491<=Ввод!$F$1:$F$30),Ввод!$D$1:$D$30,\"\"),\" / \")","v":""},{"$f":"MyJoin(IF((E$2=Ввод!$C$1:$C$30)*($A491>=Ввод!$E$1:$E$30)*($A491<=Ввод!$F$1:$F$30),Ввод!$D$1:$D$30,\"\"),\" / \")","v":""},{"$f":"MyJoin(IF((F$2=Ввод!$C$1:$C$30)*($A491>=Ввод!$E$1:$E$30)*($A491<=Ввод!$F$1:$F$30),Ввод!$D$1:$D$30,\"\"),\" / \")","v":""},"2023-04-29"]
["2023-04-30",{"$f":"MyJoin(IF((B$2=Ввод!$C$1:$C$30)*($A492>=Ввод!$E$1:$E$30)*($A492<=Ввод!$F$1:$F$30),Ввод!$D$1:$D$30,\"\"),\" / \")","v":""},{"$f":"MyJoin(IF((C$2=Ввод!$C$1:$C$30)*($A492>=Ввод!$E$1:$E$30)*($A492<=Ввод!$F$1:$F$30),Ввод!$D$1:$D$30,\"\"),\" / \")","v":""},{"$f":"MyJoin(IF((D$2=Ввод!$C$1:$C$30)*($A492>=Ввод!$E$1:$E$30)*($A492<=Ввод!$F$1:$F$30),Ввод!$D$1:$D$30,\"\"),\" / \")","v":""},{"$f":"MyJoin(IF((E$2=Ввод!$C$1:$C$30)*($A492>=Ввод!$E$1:$E$30)*($A492<=Ввод!$F$1:$F$30),Ввод!$D$1:$D$30,\"\"),\" / \")","v":""},{"$f":"MyJoin(IF((F$2=Ввод!$C$1:$C$30)*($A492>=Ввод!$E$1:$E$30)*($A492<=Ввод!$F$1:$F$30),Ввод!$D$1:$D$30,\"\"),\" / \")","v":""},"2023-04-30"]
["2023-05-01",{"$f":"MyJoin(IF((B$2=Ввод!$C$1:$C$30)*($A493>=Ввод!$E$1:$E$30)*($A493<=Ввод!$F$1:$F$30),Ввод!$D$1:$D$30,\"\"),\" / \")","v":""},{"$f":"MyJoin(IF((C$2=Ввод!$C$1:$C$30)*($A493>=Ввод!$E$1:$E$30)*($A493<=Ввод!$F$1:$F$30),Ввод!$D$1:$D$30,\"\"),\" / \")","v":""},{"$f":"MyJoin(IF((D$2=Ввод!$C$1:$C$30)*($A493>=Ввод!$E$1:$E$30)*($A493<=Ввод!$F$1:$F$30),Ввод!$D$1:$D$30,\"\"),\" / \")","v":""},{"$f":"MyJoin(IF((E$2=Ввод!$C$1:$C$30)*($A493>=Ввод!$E$1:$E$30)*($A493<=Ввод!$F$1:$F$30),Ввод!$D$1:$D$30,\"\"),\" / \")","v":""},{"$f":"MyJoin(IF((F$2=Ввод!$C$1:$C$30)*($A493>=Ввод!$E$1:$E$30)*($A493<=Ввод!$F$1:$F$30),Ввод!$D$1:$D$30,\"\"),\" / \")","v":""},"2023-05-01"]
["2023-05-02",{"$f":"MyJoin(IF((B$2=Ввод!$C$1:$C$30)*($A494>=Ввод!$E$1:$E$30)*($A494<=Ввод!$F$1:$F$30),Ввод!$D$1:$D$30,\"\"),\" / \")","v":""},{"$f":"MyJoin(IF((C$2=Ввод!$C$1:$C$30)*($A494>=Ввод!$E$1:$E$30)*($A494<=Ввод!$F$1:$F$30),Ввод!$D$1:$D$30,\"\"),\" / \")","v":""},{"$f":"MyJoin(IF((D$2=Ввод!$C$1:$C$30)*($A494>=Ввод!$E$1:$E$30)*($A494<=Ввод!$F$1:$F$30),Ввод!$D$1:$D$30,\"\"),\" / \")","v":""},{"$f":"MyJoin(IF((E$2=Ввод!$C$1:$C$30)*($A494>=Ввод!$E$1:$E$30)*($A494<=Ввод!$F$1:$F$30),Ввод!$D$1:$D$30,\"\"),\" / \")","v":""},{"$f":"MyJoin(IF((F$2=Ввод!$C$1:$C$30)*($A494>=Ввод!$E$1:$E$30)*($A494<=Ввод!$F$1:$F$30),Ввод!$D$1:$D$30,\"\"),\" / \")","v":""},"2023-05-02"]
["2023-05-03",{"$f":"MyJoin(IF((B$2=Ввод!$C$1:$C$30)*($A495>=Ввод!$E$1:$E$30)*($A495<=Ввод!$F$1:$F$30),Ввод!$D$1:$D$30,\"\"),\" / \")","v":""},{"$f":"MyJoin(IF((C$2=Ввод!$C$1:$C$30)*($A495>=Ввод!$E$1:$E$30)*($A495<=Ввод!$F$1:$F$30),Ввод!$D$1:$D$30,\"\"),\" / \")","v":""},{"$f":"MyJoin(IF((D$2=Ввод!$C$1:$C$30)*($A495>=Ввод!$E$1:$E$30)*($A495<=Ввод!$F$1:$F$30),Ввод!$D$1:$D$30,\"\"),\" / \")","v":""},{"$f":"MyJoin(IF((E$2=Ввод!$C$1:$C$30)*($A495>=Ввод!$E$1:$E$30)*($A495<=Ввод!$F$1:$F$30),Ввод!$D$1:$D$30,\"\"),\" / \")","v":""},{"$f":"MyJoin(IF((F$2=Ввод!$C$1:$C$30)*($A495>=Ввод!$E$1:$E$30)*($A495<=Ввод!$F$1:$F$30),Ввод!$D$1:$D$30,\"\"),\" / \")","v":""},"2023-05-03"]
["2023-05-04",{"$f":"MyJoin(IF((B$2=Ввод!$C$1:$C$30)*($A496>=Ввод!$E$1:$E$30)*($A496<=Ввод!$F$1:$F$30),Ввод!$D$1:$D$30,\"\"),\" / \")","v":""},{"$f":"MyJoin(IF((C$2=Ввод!$C$1:$C$30)*($A496>=Ввод!$E$1:$E$30)*($A496<=Ввод!$F$1:$F$30),Ввод!$D$1:$D$30,\"\"),\" / \")","v":""},{"$f":"MyJoin(IF((D$2=Ввод!$C$1:$C$30)*($A496>=Ввод!$E$1:$E$30)*($A496<=Ввод!$F$1:$F$30),Ввод!$D$1:$D$30,\"\"),\" / \")","v":""},{"$f":"MyJoin(IF((E$2=Ввод!$C$1:$C$30)*($A496>=Ввод!$E$1:$E$30)*($A496<=Ввод!$F$1:$F$30),Ввод!$D$1:$D$30,\"\"),\" / \")","v":""},{"$f":"MyJoin(IF((F$2=Ввод!$C$1:$C$30)*($A496>=Ввод!$E$1:$E$30)*($A496<=Ввод!$F$1:$F$30),Ввод!$D$1:$D$30,\"\"),\" / \")","v":""},"2023-05-04"]
["2023-05-05",{"$f":"MyJoin(IF((B$2=Ввод!$C$1:$C$30)*($A497>=Ввод!$E$1:$E$30)*($A497<=Ввод!$F$1:$F$30),Ввод!$D$1:$D$30,\"\"),\" / \")","v":""},{"$f":"MyJoin(IF((C$2=Ввод!$C$1:$C$30)*($A497>=Ввод!$E$1:$E$30)*($A497<=Ввод!$F$1:$F$30),Ввод!$D$1:$D$30,\"\"),\" / \")","v":""},{"$f":"MyJoin(IF((D$2=Ввод!$C$1:$C$30)*($A497>=Ввод!$E$1:$E$30)*($A497<=Ввод!$F$1:$F$30),Ввод!$D$1:$D$30,\"\"),\" / \")","v":""},{"$f":"MyJoin(IF((E$2=Ввод!$C$1:$C$30)*($A497>=Ввод!$E$1:$E$30)*($A497<=Ввод!$F$1:$F$30),Ввод!$D$1:$D$30,\"\"),\" / \")","v":""},{"$f":"MyJoin(IF((F$2=Ввод!$C$1:$C$30)*($A497>=Ввод!$E$1:$E$30)*($A497<=Ввод!$F$1:$F$30),Ввод!$D$1:$D$30,\"\"),\" / \")","v":""},"2023-05-05"]
["2023-05-06",{"$f":"MyJoin(IF((B$2=Ввод!$C$1:$C$30)*($A498>=Ввод!$E$1:$E$30)*($A498<=Ввод!$F$1:$F$30),Ввод!$D$1:$D$30,\"\"),\" / \")","v":""},{"$f":"MyJoin(IF((C$2=Ввод!$C$1:$C$30)*($A498>=Ввод!$E$1:$E$30)*($A498<=Ввод!$F$1:$F$30),Ввод!$D$1:$D$30,\"\"),\" / \")","v":""},{"$f":"MyJoin(IF((D$2=Ввод!$C$1:$C$30)*($A498>=Ввод!$E$1:$E$30)*($A498<=Ввод!$F$1:$F$30),Ввод!$D$1:$D$30,\"\"),\" / \")","v":""},{"$f":"MyJoin(IF((E$2=Ввод!$C$1:$C$30)*($A498>=Ввод!$E$1:$E$30)*($A498<=Ввод!$F$1:$F$30),Ввод!$D$1:$D$30,\"\"),\" / \")","v":""},{"$f":"MyJoin(IF((F$2=Ввод!$C$1:$C$30)*($A498>=Ввод!$E$1:$E$30)*($A498<=Ввод!$F$1:$F$30),Ввод!$D$1:$D$30,\"\"),\" / \")","v":""},"2023-05-06"]
["2023-05-07",{"$f":"MyJoin(IF((B$2=Ввод!$C$1:$C$30)*($A499>=Ввод!$E$1:$E$30)*($A499<=Ввод!$F$1:$F$30),Ввод!$D$1:$D$30,\"\"),\" / \")","v":""},{"$f":"MyJoin(IF((C$2=Ввод!$C$1:$C$30)*($A499>=Ввод!$E$1:$E$30)*($A499<=Ввод!$F$1:$F$30),Ввод!$D$1:$D$30,\"\"),\" / \")","v":""},{"$f":"MyJoin(IF((D$2=Ввод!$C$1:$C$30)*($A499>=Ввод!$E$1:$E$30)*($A499<=Ввод!$F$1:$F$30),Ввод!$D$1:$D$30,\"\"),\" / \")","v":""},{"$f":"MyJoin(IF((E$2=Ввод!$C$1:$C$30)*($A499>=Ввод!$E$1:$E$30)*($A499<=Ввод!$F$1:$F$30),Ввод!$D$1:$D$30,\"\"),\" / \")","v":""},{"$f":"MyJoin(IF((F$2=Ввод!$C$1:$C$30)*($A499>=Ввод!$E$1:$E$30)*($A499<=Ввод!$F$1:$F$30),Ввод!$D$1:$D$30,\"\"),\" / \")","v":""},"2023-05-07"]
["2023-05-08",{"$f":"MyJoin(IF((B$2=Ввод!$C$1:$C$30)*($A500>=Ввод!$E$1:$E$30)*($A500<=Ввод!$F$1:$F$30),Ввод!$D$1:$D$30,\"\"),\" / \")","v":""},{"$f":"MyJoin(IF((C$2=Ввод!$C$1:$C$30)*($A500>=Ввод!$E$1:$E$30)*($A500<=Ввод!$F$1:$F$30),Ввод!$D$1:$D$30,\"\"),\" / \")","v":""},{"$f":"MyJoin(IF((D$2=Ввод!$C$1:$C$30)*($A500>=Ввод!$E$1:$E$30)*($A500<=Ввод!$F$1:$F$30),Ввод!$D$1:$D$30,\"\"),\" / \")","v":""},{"$f":"MyJoin(IF((E$2=Ввод!$C$1:$C$30)*($A500>=Ввод!$E$1:$E$30)*($A500<=Ввод!$F$1:$F$30),Ввод!$D$1:$D$30,\"\"),\" / \")","v":""},{"$f":"MyJoin(IF((F$2=Ввод!$C$1:$C$30)*($A500>=Ввод!$E$1:$E$30)*($A500<=Ввод!$F$1:$F$30),Ввод!$D$1:$D$30,\"\"),\" / \")","v":""},"2023-05-08"]
["2023-05-09",{"$f":"MyJoin(IF((B$2=Ввод!$C$1:$C$30)*($A501>=Ввод!$E$1:$E$30)*($A501<=Ввод!$F$1:$F$30),Ввод!$D$1:$D$30,\"\"),\" / \")","v":""},{"$f":"MyJoin(IF((C$2=Ввод!$C$1:$C$30)*($A501>=Ввод!$E$1:$E$30)*($A501<=Ввод!$F$1:$F$30),Ввод!$D$1:$D$30,\"\"),\" / \")","v":""},{"$f":"MyJoin(IF((D$2=Ввод!$C$1:$C$30)*($A501>=Ввод!$E$1:$E$30)*($A501<=Ввод!$F$1:$F$30),Ввод!$D$1:$D$30,\"\"),\" / \")","v":""},{"$f":"MyJoin(IF((E$2=Ввод!$C$1:$C$30)*($A501>=Ввод!$E$1:$E$30)*($A501<=Ввод!$F$1:$F$30),Ввод!$D$1:$D$30,\"\"),\" / \")","v":""},{"$f":"MyJoin(IF((F$2=Ввод!$C$1:$C$30)*($A501>=Ввод!$E$1:$E$30)*($A501<=Ввод!$F$1:$F$30),Ввод!$D$1:$D$30,\"\"),\" / \")","v":""},"2023-05-09"]
["2023-05-10",{"$f":"MyJoin(IF((B$2=Ввод!$C$1:$C$30)*($A502>=Ввод!$E$1:$E$30)*($A502<=Ввод!$F$1:$F$30),Ввод!$D$1:$D$30,\"\"),\" / \")","v":""},{"$f":"MyJoin(IF((C$2=Ввод!$C$1:$C$30)*($A502>=Ввод!$E$1:$E$30)*($A502<=Ввод!$F$1:$F$30),Ввод!$D$1:$D$30,\"\"),\" / \")","v":""},{"$f":"MyJoin(IF((D$2=Ввод!$C$1:$C$30)*($A502>=Ввод!$E$1:$E$30)*($A502<=Ввод!$F$1:$F$30),Ввод!$D$1:$D$30,\"\"),\" / \")","v":""},{"$f":"MyJoin(IF((E$2=Ввод!$C$1:$C$30)*($A502>=Ввод!$E$1:$E$30)*($A502<=Ввод!$F$1:$F$30),Ввод!$D$1:$D$30,\"\"),\" / \")","v":""},{"$f":"MyJoin(IF((F$2=Ввод!$C$1:$C$30)*($A502>=Ввод!$E$1:$E$30)*($A502<=Ввод!$F$1:$F$30),Ввод!$D$1:$D$30,\"\"),\" / \")","v":""},"2023-05-10"]
["2023-05-11",{"$f":"MyJoin(IF((B$2=Ввод!$C$1:$C$30)*($A503>=Ввод!$E$1:$E$30)*($A503<=Ввод!$F$1:$F$30),Ввод!$D$1:$D$30,\"\"),\" / \")","v":""},{"$f":"MyJoin(IF((C$2=Ввод!$C$1:$C$30)*($A503>=Ввод!$E$1:$E$30)*($A503<=Ввод!$F$1:$F$30),Ввод!$D$1:$D$30,\"\"),\" / \")","v":""},{"$f":"MyJoin(IF((D$2=Ввод!$C$1:$C$30)*($A503>=Ввод!$E$1:$E$30)*($A503<=Ввод!$F$1:$F$30),Ввод!$D$1:$D$30,\"\"),\" / \")","v":""},{"$f":"MyJoin(IF((E$2=Ввод!$C$1:$C$30)*($A503>=Ввод!$E$1:$E$30)*($A503<=Ввод!$F$1:$F$30),Ввод!$D$1:$D$30,\"\"),\" / \")","v":""},{"$f":"MyJoin(IF((F$2=Ввод!$C$1:$C$30)*($A503>=Ввод!$E$1:$E$30)*($A503<=Ввод!$F$1:$F$30),Ввод!$D$1:$D$30,\"\"),\" / \")","v":""},"2023-05-11"]
["2023-05-12",{"$f":"MyJoin(IF((B$2=Ввод!$C$1:$C$30)*($A504>=Ввод!$E$1:$E$30)*($A504<=Ввод!$F$1:$F$30),Ввод!$D$1:$D$30,\"\"),\" / \")","v":""},{"$f":"MyJoin(IF((C$2=Ввод!$C$1:$C$30)*($A504>=Ввод!$E$1:$E$30)*($A504<=Ввод!$F$1:$F$30),Ввод!$D$1:$D$30,\"\"),\" / \")","v":""},{"$f":"MyJoin(IF((D$2=Ввод!$C$1:$C$30)*($A504>=Ввод!$E$1:$E$30)*($A504<=Ввод!$F$1:$F$30),Ввод!$D$1:$D$30,\"\"),\" / \")","v":""},{"$f":"MyJoin(IF((E$2=Ввод!$C$1:$C$30)*($A504>=Ввод!$E$1:$E$30)*($A504<=Ввод!$F$1:$F$30),Ввод!$D$1:$D$30,\"\"),\" / \")","v":""},{"$f":"MyJoin(IF((F$2=Ввод!$C$1:$C$30)*($A504>=Ввод!$E$1:$E$30)*($A504<=Ввод!$F$1:$F$30),Ввод!$D$1:$D$30,\"\"),\" / \")","v":""},"2023-05-12"]
["2023-05-13",{"$f":"MyJoin(IF((B$2=Ввод!$C$1:$C$30)*($A505>=Ввод!$E$1:$E$30)*($A505<=Ввод!$F$1:$F$30),Ввод!$D$1:$D$30,\"\"),\" / \")","v":""},{"$f":"MyJoin(IF((C$2=Ввод!$C$1:$C$30)*($A505>=Ввод!$E$1:$E$30)*($A505<=Ввод!$F$1:$F$30),Ввод!$D$1:$D$30,\"\"),\" / \")","v":""},{"$f":"MyJoin(IF((D$2=Ввод!$C$1:$C$30)*($A505>=Ввод!$E$1:$E$30)*($A505<=Ввод!$F$1:$F$30),Ввод!$D$1:$D$30,\"\"),\" / \")","v":""},{"$f":"MyJoin(IF((E$2=Ввод!$C$1:$C$30)*($A505>=Ввод!$E$1:$E$30)*($A505<=Ввод!$F$1:$F$30),Ввод!$D$1:$D$30,\"\"),\" / \")","v":""},{"$f":"MyJoin(IF((F$2=Ввод!$C$1:$C$30)*($A505>=Ввод!$E$1:$E$30)*($A505<=Ввод!$F$1:$F$30),Ввод!$D$1:$D$30,\"\"),\" / \")","v":""},"2023-05-13"]
["2023-05-14",{"$f":"MyJoin(IF((B$2=Ввод!$C$1:$C$30)*($A506>=Ввод!$E$1:$E$30)*($A506<=Ввод!$F$1:$F$30),Ввод!$D$1:$D$30,\"\"),\" / \")","v":""},{"$f":"MyJoin(IF((C$2=Ввод!$C$1:$C$30)*($A506>=Ввод!$E$1:$E$30)*($A506<=Ввод!$F$1:$F$30),Ввод!$D$1:$D$30,\"\"),\" / \")","v":""},{"$f":"MyJoin(IF((D$2=Ввод!$C$1:$C$30)*($A506>=Ввод!$E$1:$E$30)*($A506<=Ввод!$F$1:$F$30),Ввод!$D$1:$D$30,\"\"),\" / \")","v":""},{"$f":"MyJoin(IF((E$2=Ввод!$C$1:$C$30)*($A506>=Ввод!$E$1:$E$30)*($A506<=Ввод!$F$1:$F$30),Ввод!$D$1:$D$30,\"\"),\" / \")","v":""},{"$f":"MyJoin(IF((F$2=Ввод!$C$1:$C$30)*($A506>=Ввод!$E$1:$E$30)*($A506<=Ввод!$F$1:$F$30),Ввод!$D$1:$D$30,\"\"),\" / \")","v":""},"2023-05-14"]
["2023-05-15",{"$f":"MyJoin(IF((B$2=Ввод!$C$1:$C$30)*($A507>=Ввод!$E$1:$E$30)*($A507<=Ввод!$F$1:$F$30),Ввод!$D$1:$D$30,\"\"),\" / \")","v":""},{"$f":"MyJoin(IF((C$2=Ввод!$C$1:$C$30)*($A507>=Ввод!$E$1:$E$30)*($A507<=Ввод!$F$1:$F$30),Ввод!$D$1:$D$30,\"\"),\" / \")","v":""},{"$f":"MyJoin(IF((D$2=Ввод!$C$1:$C$30)*($A507>=Ввод!$E$1:$E$30)*($A507<=Ввод!$F$1:$F$30),Ввод!$D$1:$D$30,\"\"),\" / \")","v":""},{"$f":"MyJoin(IF((E$2=Ввод!$C$1:$C$30)*($A507>=Ввод!$E$1:$E$30)*($A507<=Ввод!$F$1:$F$30),Ввод!$D$1:$D$30,\"\"),\" / \")","v":""},{"$f":"MyJoin(IF((F$2=Ввод!$C$1:$C$30)*($A507>=Ввод!$E$1:$E$30)*($A507<=Ввод!$F$1:$F$30),Ввод!$D$1:$D$30,\"\"),\" / \")","v":""},"2023-05-15"]
["2023-05-16",{"$f":"MyJoin(IF((B$2=Ввод!$C$1:$C$30)*($A508>=Ввод!$E$1:$E$30)*($A508<=Ввод!$F$1:$F$30),Ввод!$D$1:$D$30,\"\"),\" / \")","v":""},{"$f":"MyJoin(IF((C$2=Ввод!$C$1:$C$30)*($A508>=Ввод!$E$1:$E$30)*($A508<=Ввод!$F$1:$F$30),Ввод!$D$1:$D$30,\"\"),\" / \")","v":""},{"$f":"MyJoin(IF((D$2=Ввод!$C$1:$C$30)*($A508>=Ввод!$E$1:$E$30)*($A508<=Ввод!$F$1:$F$30),Ввод!$D$1:$D$30,\"\"),\" / \")","v":""},{"$f":"MyJoin(IF((E$2=Ввод!$C$1:$C$30)*($A508>=Ввод!$E$1:$E$30)*($A508<=Ввод!$F$1:$F$30),Ввод!$D$1:$D$30,\"\"),\" / \")","v":""},{"$f":"MyJoin(IF((F$2=Ввод!$C$1:$C$30)*($A508>=Ввод!$E$1:$E$30)*($A508<=Ввод!$F$1:$F$30),Ввод!$D$1:$D$30,\"\"),\" / \")","v":""},"2023-05-16"]
["2023-05-17",{"$f":"MyJoin(IF((B$2=Ввод!$C$1:$C$30)*($A509>=Ввод!$E$1:$E$30)*($A509<=Ввод!$F$1:$F$30),Ввод!$D$1:$D$30,\"\"),\" / \")","v":""},{"$f":"MyJoin(IF((C$2=Ввод!$C$1:$C$30)*($A509>=Ввод!$E$1:$E$30)*($A509<=Ввод!$F$1:$F$30),Ввод!$D$1:$D$30,\"\"),\" / \")","v":""},{"$f":"MyJoin(IF((D$2=Ввод!$C$1:$C$30)*($A509>=Ввод!$E$1:$E$30)*($A509<=Ввод!$F$1:$F$30),Ввод!$D$1:$D$30,\"\"),\" / \")","v":""},{"$f":"MyJoin(IF((E$2=Ввод!$C$1:$C$30)*($A509>=Ввод!$E$1:$E$30)*($A509<=Ввод!$F$1:$F$30),Ввод!$D$1:$D$30,\"\"),\" / \")","v":""},{"$f":"MyJoin(IF((F$2=Ввод!$C$1:$C$30)*($A509>=Ввод!$E$1:$E$30)*($A509<=Ввод!$F$1:$F$30),Ввод!$D$1:$D$30,\"\"),\" / \")","v":""},"2023-05-17"]
["2023-05-18",{"$f":"MyJoin(IF((B$2=Ввод!$C$1:$C$30)*($A510>=Ввод!$E$1:$E$30)*($A510<=Ввод!$F$1:$F$30),Ввод!$D$1:$D$30,\"\"),\" / \")","v":""},{"$f":"MyJoin(IF((C$2=Ввод!$C$1:$C$30)*($A510>=Ввод!$E$1:$E$30)*($A510<=Ввод!$F$1:$F$30),Ввод!$D$1:$D$30,\"\"),\" / \")","v":""},{"$f":"MyJoin(IF((D$2=Ввод!$C$1:$C$30)*($A510>=Ввод!$E$1:$E$30)*($A510<=Ввод!$F$1:$F$30),Ввод!$D$1:$D$30,\"\"),\" / \")","v":""},{"$f":"MyJoin(IF((E$2=Ввод!$C$1:$C$30)*($A510>=Ввод!$E$1:$E$30)*($A510<=Ввод!$F$1:$F$30),Ввод!$D$1:$D$30,\"\"),\" / \")","v":""},{"$f":"MyJoin(IF((F$2=Ввод!$C$1:$C$30)*($A510>=Ввод!$E$1:$E$30)*($A510<=Ввод!$F$1:$F$30),Ввод!$D$1:$D$30,\"\"),\" / \")","v":""},"2023-05-18"]
["2023-05-19",{"$f":"MyJoin(IF((B$2=Ввод!$C$1:$C$30)*($A511>=Ввод!$E$1:$E$30)*($A511<=Ввод!$F$1:$F$30),Ввод!$D$1:$D$30,\"\"),\" / \")","v":""},{"$f":"MyJoin(IF((C$2=Ввод!$C$1:$C$30)*($A511>=Ввод!$E$1:$E$30)*($A511<=Ввод!$F$1:$F$30),Ввод!$D$1:$D$30,\"\"),\" / \")","v":""},{"$f":"MyJoin(IF((D$2=Ввод!$C$1:$C$30)*($A511>=Ввод!$E$1:$E$30)*($A511<=Ввод!$F$1:$F$30),Ввод!$D$1:$D$30,\"\"),\" / \")","v":""},{"$f":"MyJoin(IF((E$2=Ввод!$C$1:$C$30)*($A511>=Ввод!$E$1:$E$30)*($A511<=Ввод!$F$1:$F$30),Ввод!$D$1:$D$30,\"\"),\" / \")","v":""},{"$f":"MyJoin(IF((F$2=Ввод!$C$1:$C$30)*($A511>=Ввод!$E$1:$E$30)*($A511<=Ввод!$F$1:$F$30),Ввод!$D$1:$D$30,\"\"),\" / \")","v":""},"2023-05-19"]
["2023-05-20",{"$f":"MyJoin(IF((B$2=Ввод!$C$1:$C$30)*($A512>=Ввод!$E$1:$E$30)*($A512<=Ввод!$F$1:$F$30),Ввод!$D$1:$D$30,\"\"),\" / \")","v":""},{"$f":"MyJoin(IF((C$2=Ввод!$C$1:$C$30)*($A512>=Ввод!$E$1:$E$30)*($A512<=Ввод!$F$1:$F$30),Ввод!$D$1:$D$30,\"\"),\" / \")","v":""},{"$f":"MyJoin(IF((D$2=Ввод!$C$1:$C$30)*($A512>=Ввод!$E$1:$E$30)*($A512<=Ввод!$F$1:$F$30),Ввод!$D$1:$D$30,\"\"),\" / \")","v":""},{"$f":"MyJoin(IF((E$2=Ввод!$C$1:$C$30)*($A512>=Ввод!$E$1:$E$30)*($A512<=Ввод!$F$1:$F$30),Ввод!$D$1:$D$30,\"\"),\" / \")","v":""},{"$f":"MyJoin(IF((F$2=Ввод!$C$1:$C$30)*($A512>=Ввод!$E$1:$E$30)*($A512<=Ввод!$F$1:$F$30),Ввод!$D$1:$D$30,\"\"),\" / \")","v":""},"2023-05-20"]
["2023-05-21",{"$f":"MyJoin(IF((B$2=Ввод!$C$1:$C$30)*($A513>=Ввод!$E$1:$E$30)*($A513<=Ввод!$F$1:$F$30),Ввод!$D$1:$D$30,\"\"),\" / \")","v":""},{"$f":"MyJoin(IF((C$2=Ввод!$C$1:$C$30)*($A513>=Ввод!$E$1:$E$30)*($A513<=Ввод!$F$1:$F$30),Ввод!$D$1:$D$30,\"\"),\" / \")","v":""},{"$f":"MyJoin(IF((D$2=Ввод!$C$1:$C$30)*($A513>=Ввод!$E$1:$E$30)*($A513<=Ввод!$F$1:$F$30),Ввод!$D$1:$D$30,\"\"),\" / \")","v":""},{"$f":"MyJoin(IF((E$2=Ввод!$C$1:$C$30)*($A513>=Ввод!$E$1:$E$30)*($A513<=Ввод!$F$1:$F$30),Ввод!$D$1:$D$30,\"\"),\" / \")","v":""},{"$f":"MyJoin(IF((F$2=Ввод!$C$1:$C$30)*($A513>=Ввод!$E$1:$E$30)*($A513<=Ввод!$F$1:$F$30),Ввод!$D$1:$D$30,\"\"),\" / \")","v":""},"2023-05-21"]
["2023-05-22",{"$f":"MyJoin(IF((B$2=Ввод!$C$1:$C$30)*($A514>=Ввод!$E$1:$E$30)*($A514<=Ввод!$F$1:$F$30),Ввод!$D$1:$D$30,\"\"),\" / \")","v":""},{"$f":"MyJoin(IF((C$2=Ввод!$C$1:$C$30)*($A514>=Ввод!$E$1:$E$30)*($A514<=Ввод!$F$1:$F$30),Ввод!$D$1:$D$30,\"\"),\" / \")","v":""},{"$f":"MyJoin(IF((D$2=Ввод!$C$1:$C$30)*($A514>=Ввод!$E$1:$E$30)*($A514<=Ввод!$F$1:$F$30),Ввод!$D$1:$D$30,\"\"),\" / \")","v":""},{"$f":"MyJoin(IF((E$2=Ввод!$C$1:$C$30)*($A514>=Ввод!$E$1:$E$30)*($A514<=Ввод!$F$1:$F$30),Ввод!$D$1:$D$30,\"\"),\" / \")","v":""},{"$f":"MyJoin(IF((F$2=Ввод!$C$1:$C$30)*($A514>=Ввод!$E$1:$E$30)*($A514<=Ввод!$F$1:$F$30),Ввод!$D$1:$D$30,\"\"),\" / \")","v":""},"2023-05-22"]
["2023-05-23",{"$f":"MyJoin(IF((B$2=Ввод!$C$1:$C$30)*($A515>=Ввод!$E$1:$E$30)*($A515<=Ввод!$F$1:$F$30),Ввод!$D$1:$D$30,\"\"),\" / \")","v":""},{"$f":"MyJoin(IF((C$2=Ввод!$C$1:$C$30)*($A515>=Ввод!$E$1:$E$30)*($A515<=Ввод!$F$1:$F$30),Ввод!$D$1:$D$30,\"\"),\" / \")","v":""},{"$f":"MyJoin(IF((D$2=Ввод!$C$1:$C$30)*($A515>=Ввод!$E$1:$E$30)*($A515<=Ввод!$F$1:$F$30),Ввод!$D$1:$D$30,\"\"),\" / \")","v":""},{"$f":"MyJoin(IF((E$2=Ввод!$C$1:$C$30)*($A515>=Ввод!$E$1:$E$30)*($A515<=Ввод!$F$1:$F$30),Ввод!$D$1:$D$30,\"\"),\" / \")","v":""},{"$f":"MyJoin(IF((F$2=Ввод!$C$1:$C$30)*($A515>=Ввод!$E$1:$E$30)*($A515<=Ввод!$F$1:$F$30),Ввод!$D$1:$D$30,\"\"),\" / \")","v":""},"2023-05-23"]
["2023-05-24",{"$f":"MyJoin(IF((B$2=Ввод!$C$1:$C$30)*($A516>=Ввод!$E$1:$E$30)*($A516<=Ввод!$F$1:$F$30),Ввод!$D$1:$D$30,\"\"),\" / \")","v":""},{"$f":"MyJoin(IF((C$2=Ввод!$C$1:$C$30)*($A516>=Ввод!$E$1:$E$30)*($A516<=Ввод!$F$1:$F$30),Ввод!$D$1:$D$30,\"\"),\" / \")","v":""},{"$f":"MyJoin(IF((D$2=Ввод!$C$1:$C$30)*($A516>=Ввод!$E$1:$E$30)*($A516<=Ввод!$F$1:$F$30),Ввод!$D$1:$D$30,\"\"),\" / \")","v":""},{"$f":"MyJoin(IF((E$2=Ввод!$C$1:$C$30)*($A516>=Ввод!$E$1:$E$30)*($A516<=Ввод!$F$1:$F$30),Ввод!$D$1:$D$30,\"\"),\" / \")","v":""},{"$f":"MyJoin(IF((F$2=Ввод!$C$1:$C$30)*($A516>=Ввод!$E$1:$E$30)*($A516<=Ввод!$F$1:$F$30),Ввод!$D$1:$D$30,\"\"),\" / \")","v":""},"2023-05-24"]
["2023-05-25",{"$f":"MyJoin(IF((B$2=Ввод!$C$1:$C$30)*($A517>=Ввод!$E$1:$E$30)*($A517<=Ввод!$F$1:$F$30),Ввод!$D$1:$D$30,\"\"),\" / \")","v":""},{"$f":"MyJoin(IF((C$2=Ввод!$C$1:$C$30)*($A517>=Ввод!$E$1:$E$30)*($A517<=Ввод!$F$1:$F$30),Ввод!$D$1:$D$30,\"\"),\" / \")","v":""},{"$f":"MyJoin(IF((D$2=Ввод!$C$1:$C$30)*($A517>=Ввод!$E$1:$E$30)*($A517<=Ввод!$F$1:$F$30),Ввод!$D$1:$D$30,\"\"),\" / \")","v":""},{"$f":"MyJoin(IF((E$2=Ввод!$C$1:$C$30)*($A517>=Ввод!$E$1:$E$30)*($A517<=Ввод!$F$1:$F$30),Ввод!$D$1:$D$30,\"\"),\" / \")","v":""},{"$f":"MyJoin(IF((F$2=Ввод!$C$1:$C$30)*($A517>=Ввод!$E$1:$E$30)*($A517<=Ввод!$F$1:$F$30),Ввод!$D$1:$D$30,\"\"),\" / \")","v":""},"2023-05-25"]
["2023-05-26",{"$f":"MyJoin(IF((B$2=Ввод!$C$1:$C$30)*($A518>=Ввод!$E$1:$E$30)*($A518<=Ввод!$F$1:$F$30),Ввод!$D$1:$D$30,\"\"),\" / \")","v":""},{"$f":"MyJoin(IF((C$2=Ввод!$C$1:$C$30)*($A518>=Ввод!$E$1:$E$30)*($A518<=Ввод!$F$1:$F$30),Ввод!$D$1:$D$30,\"\"),\" / \")","v":""},{"$f":"MyJoin(IF((D$2=Ввод!$C$1:$C$30)*($A518>=Ввод!$E$1:$E$30)*($A518<=Ввод!$F$1:$F$30),Ввод!$D$1:$D$30,\"\"),\" / \")","v":""},{"$f":"MyJoin(IF((E$2=Ввод!$C$1:$C$30)*($A518>=Ввод!$E$1:$E$30)*($A518<=Ввод!$F$1:$F$30),Ввод!$D$1:$D$30,\"\"),\" / \")","v":""},{"$f":"MyJoin(IF((F$2=Ввод!$C$1:$C$30)*($A518>=Ввод!$E$1:$E$30)*($A518<=Ввод!$F$1:$F$30),Ввод!$D$1:$D$30,\"\"),\" / \")","v":""},"2023-05-26"]
["2023-05-27",{"$f":"MyJoin(IF((B$2=Ввод!$C$1:$C$30)*($A519>=Ввод!$E$1:$E$30)*($A519<=Ввод!$F$1:$F$30),Ввод!$D$1:$D$30,\"\"),\" / \")","v":""},{"$f":"MyJoin(IF((C$2=Ввод!$C$1:$C$30)*($A519>=Ввод!$E$1:$E$30)*($A519<=Ввод!$F$1:$F$30),Ввод!$D$1:$D$30,\"\"),\" / \")","v":""},{"$f":"MyJoin(IF((D$2=Ввод!$C$1:$C$30)*($A519>=Ввод!$E$1:$E$30)*($A519<=Ввод!$F$1:$F$30),Ввод!$D$1:$D$30,\"\"),\" / \")","v":""},{"$f":"MyJoin(IF((E$2=Ввод!$C$1:$C$30)*($A519>=Ввод!$E$1:$E$30)*($A519<=Ввод!$F$1:$F$30),Ввод!$D$1:$D$30,\"\"),\" / \")","v":""},{"$f":"MyJoin(IF((F$2=Ввод!$C$1:$C$30)*($A519>=Ввод!$E$1:$E$30)*($A519<=Ввод!$F$1:$F$30),Ввод!$D$1:$D$30,\"\"),\" / \")","v":""},"2023-05-27"]
["2023-05-28",{"$f":"MyJoin(IF((B$2=Ввод!$C$1:$C$30)*($A520>=Ввод!$E$1:$E$30)*($A520<=Ввод!$F$1:$F$30),Ввод!$D$1:$D$30,\"\"),\" / \")","v":""},{"$f":"MyJoin(IF((C$2=Ввод!$C$1:$C$30)*($A520>=Ввод!$E$1:$E$30)*($A520<=Ввод!$F$1:$F$30),Ввод!$D$1:$D$30,\"\"),\" / \")","v":""},{"$f":"MyJoin(IF((D$2=Ввод!$C$1:$C$30)*($A520>=Ввод!$E$1:$E$30)*($A520<=Ввод!$F$1:$F$30),Ввод!$D$1:$D$30,\"\"),\" / \")","v":""},{"$f":"MyJoin(IF((E$2=Ввод!$C$1:$C$30)*($A520>=Ввод!$E$1:$E$30)*($A520<=Ввод!$F$1:$F$30),Ввод!$D$1:$D$30,\"\"),\" / \")","v":""},{"$f":"MyJoin(IF((F$2=Ввод!$C$1:$C$30)*($A520>=Ввод!$E$1:$E$30)*($A520<=Ввод!$F$1:$F$30),Ввод!$D$1:$D$30,\"\"),\" / \")","v":""},"2023-05-28"]
["2023-05-29",{"$f":"MyJoin(IF((B$2=Ввод!$C$1:$C$30)*($A521>=Ввод!$E$1:$E$30)*($A521<=Ввод!$F$1:$F$30),Ввод!$D$1:$D$30,\"\"),\" / \")","v":""},{"$f":"MyJoin(IF((C$2=Ввод!$C$1:$C$30)*($A521>=Ввод!$E$1:$E$30)*($A521<=Ввод!$F$1:$F$30),Ввод!$D$1:$D$30,\"\"),\" / \")","v":""},{"$f":"MyJoin(IF((D$2=Ввод!$C$1:$C$30)*($A521>=Ввод!$E$1:$E$30)*($A521<=Ввод!$F$1:$F$30),Ввод!$D$1:$D$30,\"\"),\" / \")","v":""},{"$f":"MyJoin(IF((E$2=Ввод!$C$1:$C$30)*($A521>=Ввод!$E$1:$E$30)*($A521<=Ввод!$F$1:$F$30),Ввод!$D$1:$D$30,\"\"),\" / \")","v":""},{"$f":"MyJoin(IF((F$2=Ввод!$C$1:$C$30)*($A521>=Ввод!$E$1:$E$30)*($A521<=Ввод!$F$1:$F$30),Ввод!$D$1:$D$30,\"\"),\" / \")","v":""},{"$f":"IF(A521=\"\",\"\",A521)","v":"2023-05-29"}]
["2023-05-30",{"$f":"MyJoin(IF((B$2=Ввод!$C$1:$C$30)*($A522>=Ввод!$E$1:$E$30)*($A522<=Ввод!$F$1:$F$30),Ввод!$D$1:$D$30,\"\"),\" / \")","v":""},{"$f":"MyJoin(IF((C$2=Ввод!$C$1:$C$30)*($A522>=Ввод!$E$1:$E$30)*($A522<=Ввод!$F$1:$F$30),Ввод!$D$1:$D$30,\"\"),\" / \")","v":""},{"$f":"MyJoin(IF((D$2=Ввод!$C$1:$C$30)*($A522>=Ввод!$E$1:$E$30)*($A522<=Ввод!$F$1:$F$30),Ввод!$D$1:$D$30,\"\"),\" / \")","v":""},{"$f":"MyJoin(IF((E$2=Ввод!$C$1:$C$30)*($A522>=Ввод!$E$1:$E$30)*($A522<=Ввод!$F$1:$F$30),Ввод!$D$1:$D$30,\"\"),\" / \")","v":""},{"$f":"MyJoin(IF((F$2=Ввод!$C$1:$C$30)*($A522>=Ввод!$E$1:$E$30)*($A522<=Ввод!$F$1:$F$30),Ввод!$D$1:$D$30,\"\"),\" / \")","v":""},"2023-05-30"]
["2023-05-31",{"$f":"MyJoin(IF((B$2=Ввод!$C$1:$C$30)*($A523>=Ввод!$E$1:$E$30)*($A523<=Ввод!$F$1:$F$30),Ввод!$D$1:$D$30,\"\"),\" / \")","v":""},{"$f":"MyJoin(IF((C$2=Ввод!$C$1:$C$30)*($A523>=Ввод!$E$1:$E$30)*($A523<=Ввод!$F$1:$F$30),Ввод!$D$1:$D$30,\"\"),\" / \")","v":""},{"$f":"MyJoin(IF((D$2=Ввод!$C$1:$C$30)*($A523>=Ввод!$E$1:$E$30)*($A523<=Ввод!$F$1:$F$30),Ввод!$D$1:$D$30,\"\"),\" / \")","v":""},{"$f":"MyJoin(IF((E$2=Ввод!$C$1:$C$30)*($A523>=Ввод!$E$1:$E$30)*($A523<=Ввод!$F$1:$F$30),Ввод!$D$1:$D$30,\"\"),\" / \")","v":""},{"$f":"MyJoin(IF((F$2=Ввод!$C$1:$C$30)*($A523>=Ввод!$E$1:$E$30)*($A523<=Ввод!$F$1:$F$30),Ввод!$D$1:$D$30,\"\"),\" / \")","v":""},"2023-05-31"]
["2023-06-01",{"$f":"MyJoin(IF((B$2=Ввод!$C$1:$C$30)*($A524>=Ввод!$E$1:$E$30)*($A524<=Ввод!$F$1:$F$30),Ввод!$D$1:$D$30,\"\"),\" / \")","v":""},{"$f":"MyJoin(IF((C$2=Ввод!$C$1:$C$30)*($A524>=Ввод!$E$1:$E$30)*($A524<=Ввод!$F$1:$F$30),Ввод!$D$1:$D$30,\"\"),\" / \")","v":""},{"$f":"MyJoin(IF((D$2=Ввод!$C$1:$C$30)*($A524>=Ввод!$E$1:$E$30)*($A524<=Ввод!$F$1:$F$30),Ввод!$D$1:$D$30,\"\"),\" / \")","v":""},{"$f":"MyJoin(IF((E$2=Ввод!$C$1:$C$30)*($A524>=Ввод!$E$1:$E$30)*($A524<=Ввод!$F$1:$F$30),Ввод!$D$1:$D$30,\"\"),\" / \")","v":""},{"$f":"MyJoin(IF((F$2=Ввод!$C$1:$C$30)*($A524>=Ввод!$E$1:$E$30)*($A524<=Ввод!$F$1:$F$30),Ввод!$D$1:$D$30,\"\"),\" / \")","v":""},"2023-06-01"]
["2023-06-02",{"$f":"MyJoin(IF((B$2=Ввод!$C$1:$C$30)*($A525>=Ввод!$E$1:$E$30)*($A525<=Ввод!$F$1:$F$30),Ввод!$D$1:$D$30,\"\"),\" / \")","v":""},{"$f":"MyJoin(IF((C$2=Ввод!$C$1:$C$30)*($A525>=Ввод!$E$1:$E$30)*($A525<=Ввод!$F$1:$F$30),Ввод!$D$1:$D$30,\"\"),\" / \")","v":""},{"$f":"MyJoin(IF((D$2=Ввод!$C$1:$C$30)*($A525>=Ввод!$E$1:$E$30)*($A525<=Ввод!$F$1:$F$30),Ввод!$D$1:$D$30,\"\"),\" / \")","v":""},{"$f":"MyJoin(IF((E$2=Ввод!$C$1:$C$30)*($A525>=Ввод!$E$1:$E$30)*($A525<=Ввод!$F$1:$F$30),Ввод!$D$1:$D$30,\"\"),\" / \")","v":""},{"$f":"MyJoin(IF((F$2=Ввод!$C$1:$C$30)*($A525>=Ввод!$E$1:$E$30)*($A525<=Ввод!$F$1:$F$30),Ввод!$D$1:$D$30,\"\"),\" / \")","v":""},"2023-06-02"]
["2023-06-03",{"$f":"MyJoin(IF((B$2=Ввод!$C$1:$C$30)*($A526>=Ввод!$E$1:$E$30)*($A526<=Ввод!$F$1:$F$30),Ввод!$D$1:$D$30,\"\"),\" / \")","v":""},{"$f":"MyJoin(IF((C$2=Ввод!$C$1:$C$30)*($A526>=Ввод!$E$1:$E$30)*($A526<=Ввод!$F$1:$F$30),Ввод!$D$1:$D$30,\"\"),\" / \")","v":""},{"$f":"MyJoin(IF((D$2=Ввод!$C$1:$C$30)*($A526>=Ввод!$E$1:$E$30)*($A526<=Ввод!$F$1:$F$30),Ввод!$D$1:$D$30,\"\"),\" / \")","v":""},{"$f":"MyJoin(IF((E$2=Ввод!$C$1:$C$30)*($A526>=Ввод!$E$1:$E$30)*($A526<=Ввод!$F$1:$F$30),Ввод!$D$1:$D$30,\"\"),\" / \")","v":""},{"$f":"MyJoin(IF((F$2=Ввод!$C$1:$C$30)*($A526>=Ввод!$E$1:$E$30)*($A526<=Ввод!$F$1:$F$30),Ввод!$D$1:$D$30,\"\"),\" / \")","v":""},"2023-06-03"]
["2023-06-04",{"$f":"MyJoin(IF((B$2=Ввод!$C$1:$C$30)*($A527>=Ввод!$E$1:$E$30)*($A527<=Ввод!$F$1:$F$30),Ввод!$D$1:$D$30,\"\"),\" / \")","v":""},{"$f":"MyJoin(IF((C$2=Ввод!$C$1:$C$30)*($A527>=Ввод!$E$1:$E$30)*($A527<=Ввод!$F$1:$F$30),Ввод!$D$1:$D$30,\"\"),\" / \")","v":""},{"$f":"MyJoin(IF((D$2=Ввод!$C$1:$C$30)*($A527>=Ввод!$E$1:$E$30)*($A527<=Ввод!$F$1:$F$30),Ввод!$D$1:$D$30,\"\"),\" / \")","v":""},{"$f":"MyJoin(IF((E$2=Ввод!$C$1:$C$30)*($A527>=Ввод!$E$1:$E$30)*($A527<=Ввод!$F$1:$F$30),Ввод!$D$1:$D$30,\"\"),\" / \")","v":""},{"$f":"MyJoin(IF((F$2=Ввод!$C$1:$C$30)*($A527>=Ввод!$E$1:$E$30)*($A527<=Ввод!$F$1:$F$30),Ввод!$D$1:$D$30,\"\"),\" / \")","v":""},"2023-06-04"]
["2023-06-05",{"$f":"MyJoin(IF((B$2=Ввод!$C$1:$C$30)*($A528>=Ввод!$E$1:$E$30)*($A528<=Ввод!$F$1:$F$30),Ввод!$D$1:$D$30,\"\"),\" / \")","v":""},{"$f":"MyJoin(IF((C$2=Ввод!$C$1:$C$30)*($A528>=Ввод!$E$1:$E$30)*($A528<=Ввод!$F$1:$F$30),Ввод!$D$1:$D$30,\"\"),\" / \")","v":""},{"$f":"MyJoin(IF((D$2=Ввод!$C$1:$C$30)*($A528>=Ввод!$E$1:$E$30)*($A528<=Ввод!$F$1:$F$30),Ввод!$D$1:$D$30,\"\"),\" / \")","v":""},{"$f":"MyJoin(IF((E$2=Ввод!$C$1:$C$30)*($A528>=Ввод!$E$1:$E$30)*($A528<=Ввод!$F$1:$F$30),Ввод!$D$1:$D$30,\"\"),\" / \")","v":""},{"$f":"MyJoin(IF((F$2=Ввод!$C$1:$C$30)*($A528>=Ввод!$E$1:$E$30)*($A528<=Ввод!$F$1:$F$30),Ввод!$D$1:$D$30,\"\"),\" / \")","v":""},"2023-06-05"]
["2023-06-06",{"$f":"MyJoin(IF((B$2=Ввод!$C$1:$C$30)*($A529>=Ввод!$E$1:$E$30)*($A529<=Ввод!$F$1:$F$30),Ввод!$D$1:$D$30,\"\"),\" / \")","v":""},{"$f":"MyJoin(IF((C$2=Ввод!$C$1:$C$30)*($A529>=Ввод!$E$1:$E$30)*($A529<=Ввод!$F$1:$F$30),Ввод!$D$1:$D$30,\"\"),\" / \")","v":""},{"$f":"MyJoin(IF((D$2=Ввод!$C$1:$C$30)*($A529>=Ввод!$E$1:$E$30)*($A529<=Ввод!$F$1:$F$30),Ввод!$D$1:$D$30,\"\"),\" / \")","v":""},{"$f":"MyJoin(IF((E$2=Ввод!$C$1:$C$30)*($A529>=Ввод!$E$1:$E$30)*($A529<=Ввод!$F$1:$F$30),Ввод!$D$1:$D$30,\"\"),\" / \")","v":""},{"$f":"MyJoin(IF((F$2=Ввод!$C$1:$C$30)*($A529>=Ввод!$E$1:$E$30)*($A529<=Ввод!$F$1:$F$30),Ввод!$D$1:$D$30,\"\"),\" / \")","v":""},"2023-06-06"]
["2023-06-07",{"$f":"MyJoin(IF((B$2=Ввод!$C$1:$C$30)*($A530>=Ввод!$E$1:$E$30)*($A530<=Ввод!$F$1:$F$30),Ввод!$D$1:$D$30,\"\"),\" / \")","v":""},{"$f":"MyJoin(IF((C$2=Ввод!$C$1:$C$30)*($A530>=Ввод!$E$1:$E$30)*($A530<=Ввод!$F$1:$F$30),Ввод!$D$1:$D$30,\"\"),\" / \")","v":""},{"$f":"MyJoin(IF((D$2=Ввод!$C$1:$C$30)*($A530>=Ввод!$E$1:$E$30)*($A530<=Ввод!$F$1:$F$30),Ввод!$D$1:$D$30,\"\"),\" / \")","v":""},{"$f":"MyJoin(IF((E$2=Ввод!$C$1:$C$30)*($A530>=Ввод!$E$1:$E$30)*($A530<=Ввод!$F$1:$F$30),Ввод!$D$1:$D$30,\"\"),\" / \")","v":""},{"$f":"MyJoin(IF((F$2=Ввод!$C$1:$C$30)*($A530>=Ввод!$E$1:$E$30)*($A530<=Ввод!$F$1:$F$30),Ввод!$D$1:$D$30,\"\"),\" / \")","v":""},"2023-06-07"]
["2023-06-08",{"$f":"MyJoin(IF((B$2=Ввод!$C$1:$C$30)*($A531>=Ввод!$E$1:$E$30)*($A531<=Ввод!$F$1:$F$30),Ввод!$D$1:$D$30,\"\"),\" / \")","v":""},{"$f":"MyJoin(IF((C$2=Ввод!$C$1:$C$30)*($A531>=Ввод!$E$1:$E$30)*($A531<=Ввод!$F$1:$F$30),Ввод!$D$1:$D$30,\"\"),\" / \")","v":""},{"$f":"MyJoin(IF((D$2=Ввод!$C$1:$C$30)*($A531>=Ввод!$E$1:$E$30)*($A531<=Ввод!$F$1:$F$30),Ввод!$D$1:$D$30,\"\"),\" / \")","v":""},{"$f":"MyJoin(IF((E$2=Ввод!$C$1:$C$30)*($A531>=Ввод!$E$1:$E$30)*($A531<=Ввод!$F$1:$F$30),Ввод!$D$1:$D$30,\"\"),\" / \")","v":""},{"$f":"MyJoin(IF((F$2=Ввод!$C$1:$C$30)*($A531>=Ввод!$E$1:$E$30)*($A531<=Ввод!$F$1:$F$30),Ввод!$D$1:$D$30,\"\"),\" / \")","v":""},"2023-06-08"]
["2023-06-09",{"$f":"MyJoin(IF((B$2=Ввод!$C$1:$C$30)*($A532>=Ввод!$E$1:$E$30)*($A532<=Ввод!$F$1:$F$30),Ввод!$D$1:$D$30,\"\"),\" / \")","v":""},{"$f":"MyJoin(IF((C$2=Ввод!$C$1:$C$30)*($A532>=Ввод!$E$1:$E$30)*($A532<=Ввод!$F$1:$F$30),Ввод!$D$1:$D$30,\"\"),\" / \")","v":""},{"$f":"MyJoin(IF((D$2=Ввод!$C$1:$C$30)*($A532>=Ввод!$E$1:$E$30)*($A532<=Ввод!$F$1:$F$30),Ввод!$D$1:$D$30,\"\"),\" / \")","v":""},{"$f":"MyJoin(IF((E$2=Ввод!$C$1:$C$30)*($A532>=Ввод!$E$1:$E$30)*($A532<=Ввод!$F$1:$F$30),Ввод!$D$1:$D$30,\"\"),\" / \")","v":""},{"$f":"MyJoin(IF((F$2=Ввод!$C$1:$C$30)*($A532>=Ввод!$E$1:$E$30)*($A532<=Ввод!$F$1:$F$30),Ввод!$D$1:$D$30,\"\"),\" / \")","v":""},"2023-06-09"]
["2023-06-10",{"$f":"MyJoin(IF((B$2=Ввод!$C$1:$C$30)*($A533>=Ввод!$E$1:$E$30)*($A533<=Ввод!$F$1:$F$30),Ввод!$D$1:$D$30,\"\"),\" / \")","v":""},{"$f":"MyJoin(IF((C$2=Ввод!$C$1:$C$30)*($A533>=Ввод!$E$1:$E$30)*($A533<=Ввод!$F$1:$F$30),Ввод!$D$1:$D$30,\"\"),\" / \")","v":""},{"$f":"MyJoin(IF((D$2=Ввод!$C$1:$C$30)*($A533>=Ввод!$E$1:$E$30)*($A533<=Ввод!$F$1:$F$30),Ввод!$D$1:$D$30,\"\"),\" / \")","v":""},{"$f":"MyJoin(IF((E$2=Ввод!$C$1:$C$30)*($A533>=Ввод!$E$1:$E$30)*($A533<=Ввод!$F$1:$F$30),Ввод!$D$1:$D$30,\"\"),\" / \")","v":""},{"$f":"MyJoin(IF((F$2=Ввод!$C$1:$C$30)*($A533>=Ввод!$E$1:$E$30)*($A533<=Ввод!$F$1:$F$30),Ввод!$D$1:$D$30,\"\"),\" / \")","v":""},"2023-06-10"]
["2023-06-11",{"$f":"MyJoin(IF((B$2=Ввод!$C$1:$C$30)*($A534>=Ввод!$E$1:$E$30)*($A534<=Ввод!$F$1:$F$30),Ввод!$D$1:$D$30,\"\"),\" / \")","v":""},{"$f":"MyJoin(IF((C$2=Ввод!$C$1:$C$30)*($A534>=Ввод!$E$1:$E$30)*($A534<=Ввод!$F$1:$F$30),Ввод!$D$1:$D$30,\"\"),\" / \")","v":""},{"$f":"MyJoin(IF((D$2=Ввод!$C$1:$C$30)*($A534>=Ввод!$E$1:$E$30)*($A534<=Ввод!$F$1:$F$30),Ввод!$D$1:$D$30,\"\"),\" / \")","v":""},{"$f":"MyJoin(IF((E$2=Ввод!$C$1:$C$30)*($A534>=Ввод!$E$1:$E$30)*($A534<=Ввод!$F$1:$F$30),Ввод!$D$1:$D$30,\"\"),\" / \")","v":""},{"$f":"MyJoin(IF((F$2=Ввод!$C$1:$C$30)*($A534>=Ввод!$E$1:$E$30)*($A534<=Ввод!$F$1:$F$30),Ввод!$D$1:$D$30,\"\"),\" / \")","v":""},"2023-06-11"]
["2023-06-12",{"$f":"MyJoin(IF((B$2=Ввод!$C$1:$C$30)*($A535>=Ввод!$E$1:$E$30)*($A535<=Ввод!$F$1:$F$30),Ввод!$D$1:$D$30,\"\"),\" / \")","v":""},{"$f":"MyJoin(IF((C$2=Ввод!$C$1:$C$30)*($A535>=Ввод!$E$1:$E$30)*($A535<=Ввод!$F$1:$F$30),Ввод!$D$1:$D$30,\"\"),\" / \")","v":""},{"$f":"MyJoin(IF((D$2=Ввод!$C$1:$C$30)*($A535>=Ввод!$E$1:$E$30)*($A535<=Ввод!$F$1:$F$30),Ввод!$D$1:$D$30,\"\"),\" / \")","v":""},{"$f":"MyJoin(IF((E$2=Ввод!$C$1:$C$30)*($A535>=Ввод!$E$1:$E$30)*($A535<=Ввод!$F$1:$F$30),Ввод!$D$1:$D$30,\"\"),\" / \")","v":""},{"$f":"MyJoin(IF((F$2=Ввод!$C$1:$C$30)*($A535>=Ввод!$E$1:$E$30)*($A535<=Ввод!$F$1:$F$30),Ввод!$D$1:$D$30,\"\"),\" / \")","v":""},"2023-06-12"]
["2023-06-13",{"$f":"MyJoin(IF((B$2=Ввод!$C$1:$C$30)*($A536>=Ввод!$E$1:$E$30)*($A536<=Ввод!$F$1:$F$30),Ввод!$D$1:$D$30,\"\"),\" / \")","v":""},{"$f":"MyJoin(IF((C$2=Ввод!$C$1:$C$30)*($A536>=Ввод!$E$1:$E$30)*($A536<=Ввод!$F$1:$F$30),Ввод!$D$1:$D$30,\"\"),\" / \")","v":""},{"$f":"MyJoin(IF((D$2=Ввод!$C$1:$C$30)*($A536>=Ввод!$E$1:$E$30)*($A536<=Ввод!$F$1:$F$30),Ввод!$D$1:$D$30,\"\"),\" / \")","v":""},{"$f":"MyJoin(IF((E$2=Ввод!$C$1:$C$30)*($A536>=Ввод!$E$1:$E$30)*($A536<=Ввод!$F$1:$F$30),Ввод!$D$1:$D$30,\"\"),\" / \")","v":""},{"$f":"MyJoin(IF((F$2=Ввод!$C$1:$C$30)*($A536>=Ввод!$E$1:$E$30)*($A536<=Ввод!$F$1:$F$30),Ввод!$D$1:$D$30,\"\"),\" / \")","v":""},"2023-06-13"]
["2023-06-14",{"$f":"MyJoin(IF((B$2=Ввод!$C$1:$C$30)*($A537>=Ввод!$E$1:$E$30)*($A537<=Ввод!$F$1:$F$30),Ввод!$D$1:$D$30,\"\"),\" / \")","v":""},{"$f":"MyJoin(IF((C$2=Ввод!$C$1:$C$30)*($A537>=Ввод!$E$1:$E$30)*($A537<=Ввод!$F$1:$F$30),Ввод!$D$1:$D$30,\"\"),\" / \")","v":""},{"$f":"MyJoin(IF((D$2=Ввод!$C$1:$C$30)*($A537>=Ввод!$E$1:$E$30)*($A537<=Ввод!$F$1:$F$30),Ввод!$D$1:$D$30,\"\"),\" / \")","v":""},{"$f":"MyJoin(IF((E$2=Ввод!$C$1:$C$30)*($A537>=Ввод!$E$1:$E$30)*($A537<=Ввод!$F$1:$F$30),Ввод!$D$1:$D$30,\"\"),\" / \")","v":""},{"$f":"MyJoin(IF((F$2=Ввод!$C$1:$C$30)*($A537>=Ввод!$E$1:$E$30)*($A537<=Ввод!$F$1:$F$30),Ввод!$D$1:$D$30,\"\"),\" / \")","v":""},"2023-06-14"]
["2023-06-15",{"$f":"MyJoin(IF((B$2=Ввод!$C$1:$C$30)*($A538>=Ввод!$E$1:$E$30)*($A538<=Ввод!$F$1:$F$30),Ввод!$D$1:$D$30,\"\"),\" / \")","v":""},{"$f":"MyJoin(IF((C$2=Ввод!$C$1:$C$30)*($A538>=Ввод!$E$1:$E$30)*($A538<=Ввод!$F$1:$F$30),Ввод!$D$1:$D$30,\"\"),\" / \")","v":""},{"$f":"MyJoin(IF((D$2=Ввод!$C$1:$C$30)*($A538>=Ввод!$E$1:$E$30)*($A538<=Ввод!$F$1:$F$30),Ввод!$D$1:$D$30,\"\"),\" / \")","v":""},{"$f":"MyJoin(IF((E$2=Ввод!$C$1:$C$30)*($A538>=Ввод!$E$1:$E$30)*($A538<=Ввод!$F$1:$F$30),Ввод!$D$1:$D$30,\"\"),\" / \")","v":""},{"$f":"MyJoin(IF((F$2=Ввод!$C$1:$C$30)*($A538>=Ввод!$E$1:$E$30)*($A538<=Ввод!$F$1:$F$30),Ввод!$D$1:$D$30,\"\"),\" / \")","v":""},"2023-06-15"]
["2023-06-16",{"$f":"MyJoin(IF((B$2=Ввод!$C$1:$C$30)*($A539>=Ввод!$E$1:$E$30)*($A539<=Ввод!$F$1:$F$30),Ввод!$D$1:$D$30,\"\"),\" / \")","v":""},{"$f":"MyJoin(IF((C$2=Ввод!$C$1:$C$30)*($A539>=Ввод!$E$1:$E$30)*($A539<=Ввод!$F$1:$F$30),Ввод!$D$1:$D$30,\"\"),\" / \")","v":""},{"$f":"MyJoin(IF((D$2=Ввод!$C$1:$C$30)*($A539>=Ввод!$E$1:$E$30)*($A539<=Ввод!$F$1:$F$30),Ввод!$D$1:$D$30,\"\"),\" / \")","v":""},{"$f":"MyJoin(IF((E$2=Ввод!$C$1:$C$30)*($A539>=Ввод!$E$1:$E$30)*($A539<=Ввод!$F$1:$F$30),Ввод!$D$1:$D$30,\"\"),\" / \")","v":""},{"$f":"MyJoin(IF((F$2=Ввод!$C$1:$C$30)*($A539>=Ввод!$E$1:$E$30)*($A539<=Ввод!$F$1:$F$30),Ввод!$D$1:$D$30,\"\"),\" / \")","v":""},"2023-06-16"]
["2023-06-17",{"$f":"MyJoin(IF((B$2=Ввод!$C$1:$C$30)*($A540>=Ввод!$E$1:$E$30)*($A540<=Ввод!$F$1:$F$30),Ввод!$D$1:$D$30,\"\"),\" / \")","v":""},{"$f":"MyJoin(IF((C$2=Ввод!$C$1:$C$30)*($A540>=Ввод!$E$1:$E$30)*($A540<=Ввод!$F$1:$F$30),Ввод!$D$1:$D$30,\"\"),\" / \")","v":""},{"$f":"MyJoin(IF((D$2=Ввод!$C$1:$C$30)*($A540>=Ввод!$E$1:$E$30)*($A540<=Ввод!$F$1:$F$30),Ввод!$D$1:$D$30,\"\"),\" / \")","v":""},{"$f":"MyJoin(IF((E$2=Ввод!$C$1:$C$30)*($A540>=Ввод!$E$1:$E$30)*($A540<=Ввод!$F$1:$F$30),Ввод!$D$1:$D$30,\"\"),\" / \")","v":""},{"$f":"MyJoin(IF((F$2=Ввод!$C$1:$C$30)*($A540>=Ввод!$E$1:$E$30)*($A540<=Ввод!$F$1:$F$30),Ввод!$D$1:$D$30,\"\"),\" / \")","v":""},"2023-06-17"]
["2023-06-18",{"$f":"MyJoin(IF((B$2=Ввод!$C$1:$C$30)*($A541>=Ввод!$E$1:$E$30)*($A541<=Ввод!$F$1:$F$30),Ввод!$D$1:$D$30,\"\"),\" / \")","v":""},{"$f":"MyJoin(IF((C$2=Ввод!$C$1:$C$30)*($A541>=Ввод!$E$1:$E$30)*($A541<=Ввод!$F$1:$F$30),Ввод!$D$1:$D$30,\"\"),\" / \")","v":""},{"$f":"MyJoin(IF((D$2=Ввод!$C$1:$C$30)*($A541>=Ввод!$E$1:$E$30)*($A541<=Ввод!$F$1:$F$30),Ввод!$D$1:$D$30,\"\"),\" / \")","v":""},{"$f":"MyJoin(IF((E$2=Ввод!$C$1:$C$30)*($A541>=Ввод!$E$1:$E$30)*($A541<=Ввод!$F$1:$F$30),Ввод!$D$1:$D$30,\"\"),\" / \")","v":""},{"$f":"MyJoin(IF((F$2=Ввод!$C$1:$C$30)*($A541>=Ввод!$E$1:$E$30)*($A541<=Ввод!$F$1:$F$30),Ввод!$D$1:$D$30,\"\"),\" / \")","v":""},"2023-06-18"]
["2023-06-19",{"$f":"MyJoin(IF((B$2=Ввод!$C$1:$C$30)*($A542>=Ввод!$E$1:$E$30)*($A542<=Ввод!$F$1:$F$30),Ввод!$D$1:$D$30,\"\"),\" / \")","v":""},{"$f":"MyJoin(IF((C$2=Ввод!$C$1:$C$30)*($A542>=Ввод!$E$1:$E$30)*($A542<=Ввод!$F$1:$F$30),Ввод!$D$1:$D$30,\"\"),\" / \")","v":""},{"$f":"MyJoin(IF((D$2=Ввод!$C$1:$C$30)*($A542>=Ввод!$E$1:$E$30)*($A542<=Ввод!$F$1:$F$30),Ввод!$D$1:$D$30,\"\"),\" / \")","v":""},{"$f":"MyJoin(IF((E$2=Ввод!$C$1:$C$30)*($A542>=Ввод!$E$1:$E$30)*($A542<=Ввод!$F$1:$F$30),Ввод!$D$1:$D$30,\"\"),\" / \")","v":""},{"$f":"MyJoin(IF((F$2=Ввод!$C$1:$C$30)*($A542>=Ввод!$E$1:$E$30)*($A542<=Ввод!$F$1:$F$30),Ввод!$D$1:$D$30,\"\"),\" / \")","v":""},"2023-06-19"]
["2023-06-20",{"$f":"MyJoin(IF((B$2=Ввод!$C$1:$C$30)*($A543>=Ввод!$E$1:$E$30)*($A543<=Ввод!$F$1:$F$30),Ввод!$D$1:$D$30,\"\"),\" / \")","v":""},{"$f":"MyJoin(IF((C$2=Ввод!$C$1:$C$30)*($A543>=Ввод!$E$1:$E$30)*($A543<=Ввод!$F$1:$F$30),Ввод!$D$1:$D$30,\"\"),\" / \")","v":""},{"$f":"MyJoin(IF((D$2=Ввод!$C$1:$C$30)*($A543>=Ввод!$E$1:$E$30)*($A543<=Ввод!$F$1:$F$30),Ввод!$D$1:$D$30,\"\"),\" / \")","v":""},{"$f":"MyJoin(IF((E$2=Ввод!$C$1:$C$30)*($A543>=Ввод!$E$1:$E$30)*($A543<=Ввод!$F$1:$F$30),Ввод!$D$1:$D$30,\"\"),\" / \")","v":""},{"$f":"MyJoin(IF((F$2=Ввод!$C$1:$C$30)*($A543>=Ввод!$E$1:$E$30)*($A543<=Ввод!$F$1:$F$30),Ввод!$D$1:$D$30,\"\"),\" / \")","v":""},"2023-06-20"]
["2023-06-21",{"$f":"MyJoin(IF((B$2=Ввод!$C$1:$C$30)*($A544>=Ввод!$E$1:$E$30)*($A544<=Ввод!$F$1:$F$30),Ввод!$D$1:$D$30,\"\"),\" / \")","v":""},{"$f":"MyJoin(IF((C$2=Ввод!$C$1:$C$30)*($A544>=Ввод!$E$1:$E$30)*($A544<=Ввод!$F$1:$F$30),Ввод!$D$1:$D$30,\"\"),\" / \")","v":""},{"$f":"MyJoin(IF((D$2=Ввод!$C$1:$C$30)*($A544>=Ввод!$E$1:$E$30)*($A544<=Ввод!$F$1:$F$30),Ввод!$D$1:$D$30,\"\"),\" / \")","v":""},{"$f":"MyJoin(IF((E$2=Ввод!$C$1:$C$30)*($A544>=Ввод!$E$1:$E$30)*($A544<=Ввод!$F$1:$F$30),Ввод!$D$1:$D$30,\"\"),\" / \")","v":""},{"$f":"MyJoin(IF((F$2=Ввод!$C$1:$C$30)*($A544>=Ввод!$E$1:$E$30)*($A544<=Ввод!$F$1:$F$30),Ввод!$D$1:$D$30,\"\"),\" / \")","v":""},"2023-06-21"]
["2023-06-22",{"$f":"MyJoin(IF((B$2=Ввод!$C$1:$C$30)*($A545>=Ввод!$E$1:$E$30)*($A545<=Ввод!$F$1:$F$30),Ввод!$D$1:$D$30,\"\"),\" / \")","v":""},{"$f":"MyJoin(IF((C$2=Ввод!$C$1:$C$30)*($A545>=Ввод!$E$1:$E$30)*($A545<=Ввод!$F$1:$F$30),Ввод!$D$1:$D$30,\"\"),\" / \")","v":""},{"$f":"MyJoin(IF((D$2=Ввод!$C$1:$C$30)*($A545>=Ввод!$E$1:$E$30)*($A545<=Ввод!$F$1:$F$30),Ввод!$D$1:$D$30,\"\"),\" / \")","v":""},{"$f":"MyJoin(IF((E$2=Ввод!$C$1:$C$30)*($A545>=Ввод!$E$1:$E$30)*($A545<=Ввод!$F$1:$F$30),Ввод!$D$1:$D$30,\"\"),\" / \")","v":""},{"$f":"MyJoin(IF((F$2=Ввод!$C$1:$C$30)*($A545>=Ввод!$E$1:$E$30)*($A545<=Ввод!$F$1:$F$30),Ввод!$D$1:$D$30,\"\"),\" / \")","v":""},"2023-06-22"]
["2023-06-23",{"$f":"MyJoin(IF((B$2=Ввод!$C$1:$C$30)*($A546>=Ввод!$E$1:$E$30)*($A546<=Ввод!$F$1:$F$30),Ввод!$D$1:$D$30,\"\"),\" / \")","v":""},{"$f":"MyJoin(IF((C$2=Ввод!$C$1:$C$30)*($A546>=Ввод!$E$1:$E$30)*($A546<=Ввод!$F$1:$F$30),Ввод!$D$1:$D$30,\"\"),\" / \")","v":""},{"$f":"MyJoin(IF((D$2=Ввод!$C$1:$C$30)*($A546>=Ввод!$E$1:$E$30)*($A546<=Ввод!$F$1:$F$30),Ввод!$D$1:$D$30,\"\"),\" / \")","v":""},{"$f":"MyJoin(IF((E$2=Ввод!$C$1:$C$30)*($A546>=Ввод!$E$1:$E$30)*($A546<=Ввод!$F$1:$F$30),Ввод!$D$1:$D$30,\"\"),\" / \")","v":""},{"$f":"MyJoin(IF((F$2=Ввод!$C$1:$C$30)*($A546>=Ввод!$E$1:$E$30)*($A546<=Ввод!$F$1:$F$30),Ввод!$D$1:$D$30,\"\"),\" / \")","v":""},"2023-06-23"]
["2023-06-24",{"$f":"MyJoin(IF((B$2=Ввод!$C$1:$C$30)*($A547>=Ввод!$E$1:$E$30)*($A547<=Ввод!$F$1:$F$30),Ввод!$D$1:$D$30,\"\"),\" / \")","v":""},{"$f":"MyJoin(IF((C$2=Ввод!$C$1:$C$30)*($A547>=Ввод!$E$1:$E$30)*($A547<=Ввод!$F$1:$F$30),Ввод!$D$1:$D$30,\"\"),\" / \")","v":""},{"$f":"MyJoin(IF((D$2=Ввод!$C$1:$C$30)*($A547>=Ввод!$E$1:$E$30)*($A547<=Ввод!$F$1:$F$30),Ввод!$D$1:$D$30,\"\"),\" / \")","v":""},{"$f":"MyJoin(IF((E$2=Ввод!$C$1:$C$30)*($A547>=Ввод!$E$1:$E$30)*($A547<=Ввод!$F$1:$F$30),Ввод!$D$1:$D$30,\"\"),\" / \")","v":""},{"$f":"MyJoin(IF((F$2=Ввод!$C$1:$C$30)*($A547>=Ввод!$E$1:$E$30)*($A547<=Ввод!$F$1:$F$30),Ввод!$D$1:$D$30,\"\"),\" / \")","v":""},"2023-06-24"]
["2023-06-25",{"$f":"MyJoin(IF((B$2=Ввод!$C$1:$C$30)*($A548>=Ввод!$E$1:$E$30)*($A548<=Ввод!$F$1:$F$30),Ввод!$D$1:$D$30,\"\"),\" / \")","v":""},{"$f":"MyJoin(IF((C$2=Ввод!$C$1:$C$30)*($A548>=Ввод!$E$1:$E$30)*($A548<=Ввод!$F$1:$F$30),Ввод!$D$1:$D$30,\"\"),\" / \")","v":""},{"$f":"MyJoin(IF((D$2=Ввод!$C$1:$C$30)*($A548>=Ввод!$E$1:$E$30)*($A548<=Ввод!$F$1:$F$30),Ввод!$D$1:$D$30,\"\"),\" / \")","v":""},{"$f":"MyJoin(IF((E$2=Ввод!$C$1:$C$30)*($A548>=Ввод!$E$1:$E$30)*($A548<=Ввод!$F$1:$F$30),Ввод!$D$1:$D$30,\"\"),\" / \")","v":""},{"$f":"MyJoin(IF((F$2=Ввод!$C$1:$C$30)*($A548>=Ввод!$E$1:$E$30)*($A548<=Ввод!$F$1:$F$30),Ввод!$D$1:$D$30,\"\"),\" / \")","v":""},"2023-06-25"]
["2023-06-26",{"$f":"MyJoin(IF((B$2=Ввод!$C$1:$C$30)*($A549>=Ввод!$E$1:$E$30)*($A549<=Ввод!$F$1:$F$30),Ввод!$D$1:$D$30,\"\"),\" / \")","v":""},{"$f":"MyJoin(IF((C$2=Ввод!$C$1:$C$30)*($A549>=Ввод!$E$1:$E$30)*($A549<=Ввод!$F$1:$F$30),Ввод!$D$1:$D$30,\"\"),\" / \")","v":""},{"$f":"MyJoin(IF((D$2=Ввод!$C$1:$C$30)*($A549>=Ввод!$E$1:$E$30)*($A549<=Ввод!$F$1:$F$30),Ввод!$D$1:$D$30,\"\"),\" / \")","v":""},{"$f":"MyJoin(IF((E$2=Ввод!$C$1:$C$30)*($A549>=Ввод!$E$1:$E$30)*($A549<=Ввод!$F$1:$F$30),Ввод!$D$1:$D$30,\"\"),\" / \")","v":""},{"$f":"MyJoin(IF((F$2=Ввод!$C$1:$C$30)*($A549>=Ввод!$E$1:$E$30)*($A549<=Ввод!$F$1:$F$30),Ввод!$D$1:$D$30,\"\"),\" / \")","v":""},"2023-06-26"]
["2023-06-27",{"$f":"MyJoin(IF((B$2=Ввод!$C$1:$C$30)*($A550>=Ввод!$E$1:$E$30)*($A550<=Ввод!$F$1:$F$30),Ввод!$D$1:$D$30,\"\"),\" / \")","v":""},{"$f":"MyJoin(IF((C$2=Ввод!$C$1:$C$30)*($A550>=Ввод!$E$1:$E$30)*($A550<=Ввод!$F$1:$F$30),Ввод!$D$1:$D$30,\"\"),\" / \")","v":""},{"$f":"MyJoin(IF((D$2=Ввод!$C$1:$C$30)*($A550>=Ввод!$E$1:$E$30)*($A550<=Ввод!$F$1:$F$30),Ввод!$D$1:$D$30,\"\"),\" / \")","v":""},{"$f":"MyJoin(IF((E$2=Ввод!$C$1:$C$30)*($A550>=Ввод!$E$1:$E$30)*($A550<=Ввод!$F$1:$F$30),Ввод!$D$1:$D$30,\"\"),\" / \")","v":""},{"$f":"MyJoin(IF((F$2=Ввод!$C$1:$C$30)*($A550>=Ввод!$E$1:$E$30)*($A550<=Ввод!$F$1:$F$30),Ввод!$D$1:$D$30,\"\"),\" / \")","v":""},"2023-06-27"]
["2023-06-28",{"$f":"MyJoin(IF((B$2=Ввод!$C$1:$C$30)*($A551>=Ввод!$E$1:$E$30)*($A551<=Ввод!$F$1:$F$30),Ввод!$D$1:$D$30,\"\"),\" / \")","v":""},{"$f":"MyJoin(IF((C$2=Ввод!$C$1:$C$30)*($A551>=Ввод!$E$1:$E$30)*($A551<=Ввод!$F$1:$F$30),Ввод!$D$1:$D$30,\"\"),\" / \")","v":""},{"$f":"MyJoin(IF((D$2=Ввод!$C$1:$C$30)*($A551>=Ввод!$E$1:$E$30)*($A551<=Ввод!$F$1:$F$30),Ввод!$D$1:$D$30,\"\"),\" / \")","v":""},{"$f":"MyJoin(IF((E$2=Ввод!$C$1:$C$30)*($A551>=Ввод!$E$1:$E$30)*($A551<=Ввод!$F$1:$F$30),Ввод!$D$1:$D$30,\"\"),\" / \")","v":""},{"$f":"MyJoin(IF((F$2=Ввод!$C$1:$C$30)*($A551>=Ввод!$E$1:$E$30)*($A551<=Ввод!$F$1:$F$30),Ввод!$D$1:$D$30,\"\"),\" / \")","v":""},"2023-06-28"]
["2023-06-29",{"$f":"MyJoin(IF((B$2=Ввод!$C$1:$C$30)*($A552>=Ввод!$E$1:$E$30)*($A552<=Ввод!$F$1:$F$30),Ввод!$D$1:$D$30,\"\"),\" / \")","v":""},{"$f":"MyJoin(IF((C$2=Ввод!$C$1:$C$30)*($A552>=Ввод!$E$1:$E$30)*($A552<=Ввод!$F$1:$F$30),Ввод!$D$1:$D$30,\"\"),\" / \")","v":""},{"$f":"MyJoin(IF((D$2=Ввод!$C$1:$C$30)*($A552>=Ввод!$E$1:$E$30)*($A552<=Ввод!$F$1:$F$30),Ввод!$D$1:$D$30,\"\"),\" / \")","v":""},{"$f":"MyJoin(IF((E$2=Ввод!$C$1:$C$30)*($A552>=Ввод!$E$1:$E$30)*($A552<=Ввод!$F$1:$F$30),Ввод!$D$1:$D$30,\"\"),\" / \")","v":""},{"$f":"MyJoin(IF((F$2=Ввод!$C$1:$C$30)*($A552>=Ввод!$E$1:$E$30)*($A552<=Ввод!$F$1:$F$30),Ввод!$D$1:$D$30,\"\"),\" / \")","v":""},"2023-06-29"]
["2023-06-30",{"$f":"MyJoin(IF((B$2=Ввод!$C$1:$C$30)*($A553>=Ввод!$E$1:$E$30)*($A553<=Ввод!$F$1:$F$30),Ввод!$D$1:$D$30,\"\"),\" / \")","v":""},{"$f":"MyJoin(IF((C$2=Ввод!$C$1:$C$30)*($A553>=Ввод!$E$1:$E$30)*($A553<=Ввод!$F$1:$F$30),Ввод!$D$1:$D$30,\"\"),\" / \")","v":""},{"$f":"MyJoin(IF((D$2=Ввод!$C$1:$C$30)*($A553>=Ввод!$E$1:$E$30)*($A553<=Ввод!$F$1:$F$30),Ввод!$D$1:$D$30,\"\"),\" / \")","v":""},{"$f":"MyJoin(IF((E$2=Ввод!$C$1:$C$30)*($A553>=Ввод!$E$1:$E$30)*($A553<=Ввод!$F$1:$F$30),Ввод!$D$1:$D$30,\"\"),\" / \")","v":""},{"$f":"MyJoin(IF((F$2=Ввод!$C$1:$C$30)*($A553>=Ввод!$E$1:$E$30)*($A553<=Ввод!$F$1:$F$30),Ввод!$D$1:$D$30,\"\"),\" / \")","v":""},"2023-06-30"]
["2023-07-01",{"$f":"MyJoin(IF((B$2=Ввод!$C$1:$C$30)*($A554>=Ввод!$E$1:$E$30)*($A554<=Ввод!$F$1:$F$30),Ввод!$D$1:$D$30,\"\"),\" / \")","v":""},{"$f":"MyJoin(IF((C$2=Ввод!$C$1:$C$30)*($A554>=Ввод!$E$1:$E$30)*($A554<=Ввод!$F$1:$F$30),Ввод!$D$1:$D$30,\"\"),\" / \")","v":""},{"$f":"MyJoin(IF((D$2=Ввод!$C$1:$C$30)*($A554>=Ввод!$E$1:$E$30)*($A554<=Ввод!$F$1:$F$30),Ввод!$D$1:$D$30,\"\"),\" / \")","v":""},{"$f":"MyJoin(IF((E$2=Ввод!$C$1:$C$30)*($A554>=Ввод!$E$1:$E$30)*($A554<=Ввод!$F$1:$F$30),Ввод!$D$1:$D$30,\"\"),\" / \")","v":""},{"$f":"MyJoin(IF((F$2=Ввод!$C$1:$C$30)*($A554>=Ввод!$E$1:$E$30)*($A554<=Ввод!$F$1:$F$30),Ввод!$D$1:$D$30,\"\"),\" / \")","v":""},"2023-07-01"]
["2023-07-02",{"$f":"MyJoin(IF((B$2=Ввод!$C$1:$C$30)*($A555>=Ввод!$E$1:$E$30)*($A555<=Ввод!$F$1:$F$30),Ввод!$D$1:$D$30,\"\"),\" / \")","v":""},{"$f":"MyJoin(IF((C$2=Ввод!$C$1:$C$30)*($A555>=Ввод!$E$1:$E$30)*($A555<=Ввод!$F$1:$F$30),Ввод!$D$1:$D$30,\"\"),\" / \")","v":""},{"$f":"MyJoin(IF((D$2=Ввод!$C$1:$C$30)*($A555>=Ввод!$E$1:$E$30)*($A555<=Ввод!$F$1:$F$30),Ввод!$D$1:$D$30,\"\"),\" / \")","v":""},{"$f":"MyJoin(IF((E$2=Ввод!$C$1:$C$30)*($A555>=Ввод!$E$1:$E$30)*($A555<=Ввод!$F$1:$F$30),Ввод!$D$1:$D$30,\"\"),\" / \")","v":""},{"$f":"MyJoin(IF((F$2=Ввод!$C$1:$C$30)*($A555>=Ввод!$E$1:$E$30)*($A555<=Ввод!$F$1:$F$30),Ввод!$D$1:$D$30,\"\"),\" / \")","v":""},"2023-07-02"]
["2023-07-03",{"$f":"MyJoin(IF((B$2=Ввод!$C$1:$C$30)*($A556>=Ввод!$E$1:$E$30)*($A556<=Ввод!$F$1:$F$30),Ввод!$D$1:$D$30,\"\"),\" / \")","v":""},{"$f":"MyJoin(IF((C$2=Ввод!$C$1:$C$30)*($A556>=Ввод!$E$1:$E$30)*($A556<=Ввод!$F$1:$F$30),Ввод!$D$1:$D$30,\"\"),\" / \")","v":""},{"$f":"MyJoin(IF((D$2=Ввод!$C$1:$C$30)*($A556>=Ввод!$E$1:$E$30)*($A556<=Ввод!$F$1:$F$30),Ввод!$D$1:$D$30,\"\"),\" / \")","v":""},{"$f":"MyJoin(IF((E$2=Ввод!$C$1:$C$30)*($A556>=Ввод!$E$1:$E$30)*($A556<=Ввод!$F$1:$F$30),Ввод!$D$1:$D$30,\"\"),\" / \")","v":""},{"$f":"MyJoin(IF((F$2=Ввод!$C$1:$C$30)*($A556>=Ввод!$E$1:$E$30)*($A556<=Ввод!$F$1:$F$30),Ввод!$D$1:$D$30,\"\"),\" / \")","v":""},"2023-07-03"]
["2023-07-04",{"$f":"MyJoin(IF((B$2=Ввод!$C$1:$C$30)*($A557>=Ввод!$E$1:$E$30)*($A557<=Ввод!$F$1:$F$30),Ввод!$D$1:$D$30,\"\"),\" / \")","v":""},{"$f":"MyJoin(IF((C$2=Ввод!$C$1:$C$30)*($A557>=Ввод!$E$1:$E$30)*($A557<=Ввод!$F$1:$F$30),Ввод!$D$1:$D$30,\"\"),\" / \")","v":""},{"$f":"MyJoin(IF((D$2=Ввод!$C$1:$C$30)*($A557>=Ввод!$E$1:$E$30)*($A557<=Ввод!$F$1:$F$30),Ввод!$D$1:$D$30,\"\"),\" / \")","v":""},{"$f":"MyJoin(IF((E$2=Ввод!$C$1:$C$30)*($A557>=Ввод!$E$1:$E$30)*($A557<=Ввод!$F$1:$F$30),Ввод!$D$1:$D$30,\"\"),\" / \")","v":""},{"$f":"MyJoin(IF((F$2=Ввод!$C$1:$C$30)*($A557>=Ввод!$E$1:$E$30)*($A557<=Ввод!$F$1:$F$30),Ввод!$D$1:$D$30,\"\"),\" / \")","v":""},"2023-07-04"]
["2023-07-05",{"$f":"MyJoin(IF((B$2=Ввод!$C$1:$C$30)*($A558>=Ввод!$E$1:$E$30)*($A558<=Ввод!$F$1:$F$30),Ввод!$D$1:$D$30,\"\"),\" / \")","v":""},{"$f":"MyJoin(IF((C$2=Ввод!$C$1:$C$30)*($A558>=Ввод!$E$1:$E$30)*($A558<=Ввод!$F$1:$F$30),Ввод!$D$1:$D$30,\"\"),\" / \")","v":""},{"$f":"MyJoin(IF((D$2=Ввод!$C$1:$C$30)*($A558>=Ввод!$E$1:$E$30)*($A558<=Ввод!$F$1:$F$30),Ввод!$D$1:$D$30,\"\"),\" / \")","v":""},{"$f":"MyJoin(IF((E$2=Ввод!$C$1:$C$30)*($A558>=Ввод!$E$1:$E$30)*($A558<=Ввод!$F$1:$F$30),Ввод!$D$1:$D$30,\"\"),\" / \")","v":""},{"$f":"MyJoin(IF((F$2=Ввод!$C$1:$C$30)*($A558>=Ввод!$E$1:$E$30)*($A558<=Ввод!$F$1:$F$30),Ввод!$D$1:$D$30,\"\"),\" / \")","v":""},"2023-07-05"]
["2023-07-06",{"$f":"MyJoin(IF((B$2=Ввод!$C$1:$C$30)*($A559>=Ввод!$E$1:$E$30)*($A559<=Ввод!$F$1:$F$30),Ввод!$D$1:$D$30,\"\"),\" / \")","v":""},{"$f":"MyJoin(IF((C$2=Ввод!$C$1:$C$30)*($A559>=Ввод!$E$1:$E$30)*($A559<=Ввод!$F$1:$F$30),Ввод!$D$1:$D$30,\"\"),\" / \")","v":""},{"$f":"MyJoin(IF((D$2=Ввод!$C$1:$C$30)*($A559>=Ввод!$E$1:$E$30)*($A559<=Ввод!$F$1:$F$30),Ввод!$D$1:$D$30,\"\"),\" / \")","v":""},{"$f":"MyJoin(IF((E$2=Ввод!$C$1:$C$30)*($A559>=Ввод!$E$1:$E$30)*($A559<=Ввод!$F$1:$F$30),Ввод!$D$1:$D$30,\"\"),\" / \")","v":""},{"$f":"MyJoin(IF((F$2=Ввод!$C$1:$C$30)*($A559>=Ввод!$E$1:$E$30)*($A559<=Ввод!$F$1:$F$30),Ввод!$D$1:$D$30,\"\"),\" / \")","v":""},"2023-07-06"]
["2023-07-07",{"$f":"MyJoin(IF((B$2=Ввод!$C$1:$C$30)*($A560>=Ввод!$E$1:$E$30)*($A560<=Ввод!$F$1:$F$30),Ввод!$D$1:$D$30,\"\"),\" / \")","v":""},{"$f":"MyJoin(IF((C$2=Ввод!$C$1:$C$30)*($A560>=Ввод!$E$1:$E$30)*($A560<=Ввод!$F$1:$F$30),Ввод!$D$1:$D$30,\"\"),\" / \")","v":""},{"$f":"MyJoin(IF((D$2=Ввод!$C$1:$C$30)*($A560>=Ввод!$E$1:$E$30)*($A560<=Ввод!$F$1:$F$30),Ввод!$D$1:$D$30,\"\"),\" / \")","v":""},{"$f":"MyJoin(IF((E$2=Ввод!$C$1:$C$30)*($A560>=Ввод!$E$1:$E$30)*($A560<=Ввод!$F$1:$F$30),Ввод!$D$1:$D$30,\"\"),\" / \")","v":""},{"$f":"MyJoin(IF((F$2=Ввод!$C$1:$C$30)*($A560>=Ввод!$E$1:$E$30)*($A560<=Ввод!$F$1:$F$30),Ввод!$D$1:$D$30,\"\"),\" / \")","v":""},"2023-07-07"]
["2023-07-08",{"$f":"MyJoin(IF((B$2=Ввод!$C$1:$C$30)*($A561>=Ввод!$E$1:$E$30)*($A561<=Ввод!$F$1:$F$30),Ввод!$D$1:$D$30,\"\"),\" / \")","v":""},{"$f":"MyJoin(IF((C$2=Ввод!$C$1:$C$30)*($A561>=Ввод!$E$1:$E$30)*($A561<=Ввод!$F$1:$F$30),Ввод!$D$1:$D$30,\"\"),\" / \")","v":""},{"$f":"MyJoin(IF((D$2=Ввод!$C$1:$C$30)*($A561>=Ввод!$E$1:$E$30)*($A561<=Ввод!$F$1:$F$30),Ввод!$D$1:$D$30,\"\"),\" / \")","v":""},{"$f":"MyJoin(IF((E$2=Ввод!$C$1:$C$30)*($A561>=Ввод!$E$1:$E$30)*($A561<=Ввод!$F$1:$F$30),Ввод!$D$1:$D$30,\"\"),\" / \")","v":""},{"$f":"MyJoin(IF((F$2=Ввод!$C$1:$C$30)*($A561>=Ввод!$E$1:$E$30)*($A561<=Ввод!$F$1:$F$30),Ввод!$D$1:$D$30,\"\"),\" / \")","v":""},"2023-07-08"]
["2023-07-09",{"$f":"MyJoin(IF((B$2=Ввод!$C$1:$C$30)*($A562>=Ввод!$E$1:$E$30)*($A562<=Ввод!$F$1:$F$30),Ввод!$D$1:$D$30,\"\"),\" / \")","v":""},{"$f":"MyJoin(IF((C$2=Ввод!$C$1:$C$30)*($A562>=Ввод!$E$1:$E$30)*($A562<=Ввод!$F$1:$F$30),Ввод!$D$1:$D$30,\"\"),\" / \")","v":""},{"$f":"MyJoin(IF((D$2=Ввод!$C$1:$C$30)*($A562>=Ввод!$E$1:$E$30)*($A562<=Ввод!$F$1:$F$30),Ввод!$D$1:$D$30,\"\"),\" / \")","v":""},{"$f":"MyJoin(IF((E$2=Ввод!$C$1:$C$30)*($A562>=Ввод!$E$1:$E$30)*($A562<=Ввод!$F$1:$F$30),Ввод!$D$1:$D$30,\"\"),\" / \")","v":""},{"$f":"MyJoin(IF((F$2=Ввод!$C$1:$C$30)*($A562>=Ввод!$E$1:$E$30)*($A562<=Ввод!$F$1:$F$30),Ввод!$D$1:$D$30,\"\"),\" / \")","v":""},"2023-07-09"]
["2023-07-10",{"$f":"MyJoin(IF((B$2=Ввод!$C$1:$C$30)*($A563>=Ввод!$E$1:$E$30)*($A563<=Ввод!$F$1:$F$30),Ввод!$D$1:$D$30,\"\"),\" / \")","v":""},{"$f":"MyJoin(IF((C$2=Ввод!$C$1:$C$30)*($A563>=Ввод!$E$1:$E$30)*($A563<=Ввод!$F$1:$F$30),Ввод!$D$1:$D$30,\"\"),\" / \")","v":""},{"$f":"MyJoin(IF((D$2=Ввод!$C$1:$C$30)*($A563>=Ввод!$E$1:$E$30)*($A563<=Ввод!$F$1:$F$30),Ввод!$D$1:$D$30,\"\"),\" / \")","v":""},{"$f":"MyJoin(IF((E$2=Ввод!$C$1:$C$30)*($A563>=Ввод!$E$1:$E$30)*($A563<=Ввод!$F$1:$F$30),Ввод!$D$1:$D$30,\"\"),\" / \")","v":""},{"$f":"MyJoin(IF((F$2=Ввод!$C$1:$C$30)*($A563>=Ввод!$E$1:$E$30)*($A563<=Ввод!$F$1:$F$30),Ввод!$D$1:$D$30,\"\"),\" / \")","v":""},"2023-07-10"]
["2023-07-11",{"$f":"MyJoin(IF((B$2=Ввод!$C$1:$C$30)*($A564>=Ввод!$E$1:$E$30)*($A564<=Ввод!$F$1:$F$30),Ввод!$D$1:$D$30,\"\"),\" / \")","v":""},{"$f":"MyJoin(IF((C$2=Ввод!$C$1:$C$30)*($A564>=Ввод!$E$1:$E$30)*($A564<=Ввод!$F$1:$F$30),Ввод!$D$1:$D$30,\"\"),\" / \")","v":""},{"$f":"MyJoin(IF((D$2=Ввод!$C$1:$C$30)*($A564>=Ввод!$E$1:$E$30)*($A564<=Ввод!$F$1:$F$30),Ввод!$D$1:$D$30,\"\"),\" / \")","v":""},{"$f":"MyJoin(IF((E$2=Ввод!$C$1:$C$30)*($A564>=Ввод!$E$1:$E$30)*($A564<=Ввод!$F$1:$F$30),Ввод!$D$1:$D$30,\"\"),\" / \")","v":""},{"$f":"MyJoin(IF((F$2=Ввод!$C$1:$C$30)*($A564>=Ввод!$E$1:$E$30)*($A564<=Ввод!$F$1:$F$30),Ввод!$D$1:$D$30,\"\"),\" / \")","v":""},"2023-07-11"]
["2023-07-12",{"$f":"MyJoin(IF((B$2=Ввод!$C$1:$C$30)*($A565>=Ввод!$E$1:$E$30)*($A565<=Ввод!$F$1:$F$30),Ввод!$D$1:$D$30,\"\"),\" / \")","v":""},{"$f":"MyJoin(IF((C$2=Ввод!$C$1:$C$30)*($A565>=Ввод!$E$1:$E$30)*($A565<=Ввод!$F$1:$F$30),Ввод!$D$1:$D$30,\"\"),\" / \")","v":""},{"$f":"MyJoin(IF((D$2=Ввод!$C$1:$C$30)*($A565>=Ввод!$E$1:$E$30)*($A565<=Ввод!$F$1:$F$30),Ввод!$D$1:$D$30,\"\"),\" / \")","v":""},{"$f":"MyJoin(IF((E$2=Ввод!$C$1:$C$30)*($A565>=Ввод!$E$1:$E$30)*($A565<=Ввод!$F$1:$F$30),Ввод!$D$1:$D$30,\"\"),\" / \")","v":""},{"$f":"MyJoin(IF((F$2=Ввод!$C$1:$C$30)*($A565>=Ввод!$E$1:$E$30)*($A565<=Ввод!$F$1:$F$30),Ввод!$D$1:$D$30,\"\"),\" / \")","v":""},"2023-07-12"]
["2023-07-13",{"$f":"MyJoin(IF((B$2=Ввод!$C$1:$C$30)*($A566>=Ввод!$E$1:$E$30)*($A566<=Ввод!$F$1:$F$30),Ввод!$D$1:$D$30,\"\"),\" / \")","v":""},{"$f":"MyJoin(IF((C$2=Ввод!$C$1:$C$30)*($A566>=Ввод!$E$1:$E$30)*($A566<=Ввод!$F$1:$F$30),Ввод!$D$1:$D$30,\"\"),\" / \")","v":""},{"$f":"MyJoin(IF((D$2=Ввод!$C$1:$C$30)*($A566>=Ввод!$E$1:$E$30)*($A566<=Ввод!$F$1:$F$30),Ввод!$D$1:$D$30,\"\"),\" / \")","v":""},{"$f":"MyJoin(IF((E$2=Ввод!$C$1:$C$30)*($A566>=Ввод!$E$1:$E$30)*($A566<=Ввод!$F$1:$F$30),Ввод!$D$1:$D$30,\"\"),\" / \")","v":""},{"$f":"MyJoin(IF((F$2=Ввод!$C$1:$C$30)*($A566>=Ввод!$E$1:$E$30)*($A566<=Ввод!$F$1:$F$30),Ввод!$D$1:$D$30,\"\"),\" / \")","v":""},"2023-07-13"]
["2023-07-14",{"$f":"MyJoin(IF((B$2=Ввод!$C$1:$C$30)*($A567>=Ввод!$E$1:$E$30)*($A567<=Ввод!$F$1:$F$30),Ввод!$D$1:$D$30,\"\"),\" / \")","v":""},{"$f":"MyJoin(IF((C$2=Ввод!$C$1:$C$30)*($A567>=Ввод!$E$1:$E$30)*($A567<=Ввод!$F$1:$F$30),Ввод!$D$1:$D$30,\"\"),\" / \")","v":""},{"$f":"MyJoin(IF((D$2=Ввод!$C$1:$C$30)*($A567>=Ввод!$E$1:$E$30)*($A567<=Ввод!$F$1:$F$30),Ввод!$D$1:$D$30,\"\"),\" / \")","v":""},{"$f":"MyJoin(IF((E$2=Ввод!$C$1:$C$30)*($A567>=Ввод!$E$1:$E$30)*($A567<=Ввод!$F$1:$F$30),Ввод!$D$1:$D$30,\"\"),\" / \")","v":""},{"$f":"MyJoin(IF((F$2=Ввод!$C$1:$C$30)*($A567>=Ввод!$E$1:$E$30)*($A567<=Ввод!$F$1:$F$30),Ввод!$D$1:$D$30,\"\"),\" / \")","v":""},"2023-07-14"]
["2023-07-15",{"$f":"MyJoin(IF((B$2=Ввод!$C$1:$C$30)*($A568>=Ввод!$E$1:$E$30)*($A568<=Ввод!$F$1:$F$30),Ввод!$D$1:$D$30,\"\"),\" / \")","v":""},{"$f":"MyJoin(IF((C$2=Ввод!$C$1:$C$30)*($A568>=Ввод!$E$1:$E$30)*($A568<=Ввод!$F$1:$F$30),Ввод!$D$1:$D$30,\"\"),\" / \")","v":""},{"$f":"MyJoin(IF((D$2=Ввод!$C$1:$C$30)*($A568>=Ввод!$E$1:$E$30)*($A568<=Ввод!$F$1:$F$30),Ввод!$D$1:$D$30,\"\"),\" / \")","v":""},{"$f":"MyJoin(IF((E$2=Ввод!$C$1:$C$30)*($A568>=Ввод!$E$1:$E$30)*($A568<=Ввод!$F$1:$F$30),Ввод!$D$1:$D$30,\"\"),\" / \")","v":""},{"$f":"MyJoin(IF((F$2=Ввод!$C$1:$C$30)*($A568>=Ввод!$E$1:$E$30)*($A568<=Ввод!$F$1:$F$30),Ввод!$D$1:$D$30,\"\"),\" / \")","v":""},"2023-07-15"]
["2023-07-16",{"$f":"MyJoin(IF((B$2=Ввод!$C$1:$C$30)*($A569>=Ввод!$E$1:$E$30)*($A569<=Ввод!$F$1:$F$30),Ввод!$D$1:$D$30,\"\"),\" / \")","v":""},{"$f":"MyJoin(IF((C$2=Ввод!$C$1:$C$30)*($A569>=Ввод!$E$1:$E$30)*($A569<=Ввод!$F$1:$F$30),Ввод!$D$1:$D$30,\"\"),\" / \")","v":""},{"$f":"MyJoin(IF((D$2=Ввод!$C$1:$C$30)*($A569>=Ввод!$E$1:$E$30)*($A569<=Ввод!$F$1:$F$30),Ввод!$D$1:$D$30,\"\"),\" / \")","v":""},{"$f":"MyJoin(IF((E$2=Ввод!$C$1:$C$30)*($A569>=Ввод!$E$1:$E$30)*($A569<=Ввод!$F$1:$F$30),Ввод!$D$1:$D$30,\"\"),\" / \")","v":""},{"$f":"MyJoin(IF((F$2=Ввод!$C$1:$C$30)*($A569>=Ввод!$E$1:$E$30)*($A569<=Ввод!$F$1:$F$30),Ввод!$D$1:$D$30,\"\"),\" / \")","v":""},"2023-07-16"]
["2023-07-17",{"$f":"MyJoin(IF((B$2=Ввод!$C$1:$C$30)*($A570>=Ввод!$E$1:$E$30)*($A570<=Ввод!$F$1:$F$30),Ввод!$D$1:$D$30,\"\"),\" / \")","v":""},{"$f":"MyJoin(IF((C$2=Ввод!$C$1:$C$30)*($A570>=Ввод!$E$1:$E$30)*($A570<=Ввод!$F$1:$F$30),Ввод!$D$1:$D$30,\"\"),\" / \")","v":""},{"$f":"MyJoin(IF((D$2=Ввод!$C$1:$C$30)*($A570>=Ввод!$E$1:$E$30)*($A570<=Ввод!$F$1:$F$30),Ввод!$D$1:$D$30,\"\"),\" / \")","v":""},{"$f":"MyJoin(IF((E$2=Ввод!$C$1:$C$30)*($A570>=Ввод!$E$1:$E$30)*($A570<=Ввод!$F$1:$F$30),Ввод!$D$1:$D$30,\"\"),\" / \")","v":""},{"$f":"MyJoin(IF((F$2=Ввод!$C$1:$C$30)*($A570>=Ввод!$E$1:$E$30)*($A570<=Ввод!$F$1:$F$30),Ввод!$D$1:$D$30,\"\"),\" / \")","v":""},"2023-07-17"]
["2023-07-18",{"$f":"MyJoin(IF((B$2=Ввод!$C$1:$C$30)*($A571>=Ввод!$E$1:$E$30)*($A571<=Ввод!$F$1:$F$30),Ввод!$D$1:$D$30,\"\"),\" / \")","v":""},{"$f":"MyJoin(IF((C$2=Ввод!$C$1:$C$30)*($A571>=Ввод!$E$1:$E$30)*($A571<=Ввод!$F$1:$F$30),Ввод!$D$1:$D$30,\"\"),\" / \")","v":""},{"$f":"MyJoin(IF((D$2=Ввод!$C$1:$C$30)*($A571>=Ввод!$E$1:$E$30)*($A571<=Ввод!$F$1:$F$30),Ввод!$D$1:$D$30,\"\"),\" / \")","v":""},{"$f":"MyJoin(IF((E$2=Ввод!$C$1:$C$30)*($A571>=Ввод!$E$1:$E$30)*($A571<=Ввод!$F$1:$F$30),Ввод!$D$1:$D$30,\"\"),\" / \")","v":""},{"$f":"MyJoin(IF((F$2=Ввод!$C$1:$C$30)*($A571>=Ввод!$E$1:$E$30)*($A571<=Ввод!$F$1:$F$30),Ввод!$D$1:$D$30,\"\"),\" / \")","v":""},"2023-07-18"]
["2023-07-19",{"$f":"MyJoin(IF((B$2=Ввод!$C$1:$C$30)*($A572>=Ввод!$E$1:$E$30)*($A572<=Ввод!$F$1:$F$30),Ввод!$D$1:$D$30,\"\"),\" / \")","v":""},{"$f":"MyJoin(IF((C$2=Ввод!$C$1:$C$30)*($A572>=Ввод!$E$1:$E$30)*($A572<=Ввод!$F$1:$F$30),Ввод!$D$1:$D$30,\"\"),\" / \")","v":""},{"$f":"MyJoin(IF((D$2=Ввод!$C$1:$C$30)*($A572>=Ввод!$E$1:$E$30)*($A572<=Ввод!$F$1:$F$30),Ввод!$D$1:$D$30,\"\"),\" / \")","v":""},{"$f":"MyJoin(IF((E$2=Ввод!$C$1:$C$30)*($A572>=Ввод!$E$1:$E$30)*($A572<=Ввод!$F$1:$F$30),Ввод!$D$1:$D$30,\"\"),\" / \")","v":""},{"$f":"MyJoin(IF((F$2=Ввод!$C$1:$C$30)*($A572>=Ввод!$E$1:$E$30)*($A572<=Ввод!$F$1:$F$30),Ввод!$D$1:$D$30,\"\"),\" / \")","v":""},"2023-07-19"]
["2023-07-20",{"$f":"MyJoin(IF((B$2=Ввод!$C$1:$C$30)*($A573>=Ввод!$E$1:$E$30)*($A573<=Ввод!$F$1:$F$30),Ввод!$D$1:$D$30,\"\"),\" / \")","v":""},{"$f":"MyJoin(IF((C$2=Ввод!$C$1:$C$30)*($A573>=Ввод!$E$1:$E$30)*($A573<=Ввод!$F$1:$F$30),Ввод!$D$1:$D$30,\"\"),\" / \")","v":""},{"$f":"MyJoin(IF((D$2=Ввод!$C$1:$C$30)*($A573>=Ввод!$E$1:$E$30)*($A573<=Ввод!$F$1:$F$30),Ввод!$D$1:$D$30,\"\"),\" / \")","v":""},{"$f":"MyJoin(IF((E$2=Ввод!$C$1:$C$30)*($A573>=Ввод!$E$1:$E$30)*($A573<=Ввод!$F$1:$F$30),Ввод!$D$1:$D$30,\"\"),\" / \")","v":"Задание 30 / Задание 31"},{"$f":"MyJoin(IF((F$2=Ввод!$C$1:$C$30)*($A573>=Ввод!$E$1:$E$30)*($A573<=Ввод!$F$1:$F$30),Ввод!$D$1:$D$30,\"\"),\" / \")","v":""},"2023-07-20"]
["2023-07-21",{"$f":"MyJoin(IF((B$2=Ввод!$C$1:$C$30)*($A574>=Ввод!$E$1:$E$30)*($A574<=Ввод!$F$1:$F$30),Ввод!$D$1:$D$30,\"\"),\" / \")","v":""},{"$f":"MyJoin(IF((C$2=Ввод!$C$1:$C$30)*($A574>=Ввод!$E$1:$E$30)*($A574<=Ввод!$F$1:$F$30),Ввод!$D$1:$D$30,\"\"),\" / \")","v":""},{"$f":"MyJoin(IF((D$2=Ввод!$C$1:$C$30)*($A574>=Ввод!$E$1:$E$30)*($A574<=Ввод!$F$1:$F$30),Ввод!$D$1:$D$30,\"\"),\" / \")","v":""},{"$f":"MyJoin(IF((E$2=Ввод!$C$1:$C$30)*($A574>=Ввод!$E$1:$E$30)*($A574<=Ввод!$F$1:$F$30),Ввод!$D$1:$D$30,\"\"),\" / \")","v":"Задание 30 / Задание 31"},{"$f":"MyJoin(IF((F$2=Ввод!$C$1:$C$30)*($A574>=Ввод!$E$1:$E$30)*($A574<=Ввод!$F$1:$F$30),Ввод!$D$1:$D$30,\"\"),\" / \")","v":""},"2023-07-21"]
["2023-07-22",{"$f":"MyJoin(IF((B$2=Ввод!$C$1:$C$30)*($A575>=Ввод!$E$1:$E$30)*($A575<=Ввод!$F$1:$F$30),Ввод!$D$1:$D$30,\"\"),\" / \")","v":""},{"$f":"MyJoin(IF((C$2=Ввод!$C$1:$C$30)*($A575>=Ввод!$E$1:$E$30)*($A575<=Ввод!$F$1:$F$30),Ввод!$D$1:$D$30,\"\"),\" / \")","v":""},{"$f":"MyJoin(IF((D$2=Ввод!$C$1:$C$30)*($A575>=Ввод!$E$1:$E$30)*($A575<=Ввод!$F$1:$F$30),Ввод!$D$1:$D$30,\"\"),\" / \")","v":""},{"$f":"MyJoin(IF((E$2=Ввод!$C$1:$C$30)*($A575>=Ввод!$E$1:$E$30)*($A575<=Ввод!$F$1:$F$30),Ввод!$D$1:$D$30,\"\"),\" / \")","v":"Задание 30 / Задание 31"},{"$f":"MyJoin(IF((F$2=Ввод!$C$1:$C$30)*($A575>=Ввод!$E$1:$E$30)*($A575<=Ввод!$F$1:$F$30),Ввод!$D$1:$D$30,\"\"),\" / \")","v":""},"2023-07-22"]
["2023-07-23",{"$f":"MyJoin(IF((B$2=Ввод!$C$1:$C$30)*($A576>=Ввод!$E$1:$E$30)*($A576<=Ввод!$F$1:$F$30),Ввод!$D$1:$D$30,\"\"),\" / \")","v":""},{"$f":"MyJoin(IF((C$2=Ввод!$C$1:$C$30)*($A576>=Ввод!$E$1:$E$30)*($A576<=Ввод!$F$1:$F$30),Ввод!$D$1:$D$30,\"\"),\" / \")","v":""},{"$f":"MyJoin(IF((D$2=Ввод!$C$1:$C$30)*($A576>=Ввод!$E$1:$E$30)*($A576<=Ввод!$F$1:$F$30),Ввод!$D$1:$D$30,\"\"),\" / \")","v":""},{"$f":"MyJoin(IF((E$2=Ввод!$C$1:$C$30)*($A576>=Ввод!$E$1:$E$30)*($A576<=Ввод!$F$1:$F$30),Ввод!$D$1:$D$30,\"\"),\" / \")","v":"Задание 30 / Задание 31"},{"$f":"MyJoin(IF((F$2=Ввод!$C$1:$C$30)*($A576>=Ввод!$E$1:$E$30)*($A576<=Ввод!$F$1:$F$30),Ввод!$D$1:$D$30,\"\"),\" / \")","v":""},"2023-07-23"]
["2023-07-24",{"$f":"MyJoin(IF((B$2=Ввод!$C$1:$C$30)*($A577>=Ввод!$E$1:$E$30)*($A577<=Ввод!$F$1:$F$30),Ввод!$D$1:$D$30,\"\"),\" / \")","v":""},{"$f":"MyJoin(IF((C$2=Ввод!$C$1:$C$30)*($A577>=Ввод!$E$1:$E$30)*($A577<=Ввод!$F$1:$F$30),Ввод!$D$1:$D$30,\"\"),\" / \")","v":""},{"$f":"MyJoin(IF((D$2=Ввод!$C$1:$C$30)*($A577>=Ввод!$E$1:$E$30)*($A577<=Ввод!$F$1:$F$30),Ввод!$D$1:$D$30,\"\"),\" / \")","v":""},{"$f":"MyJoin(IF((E$2=Ввод!$C$1:$C$30)*($A577>=Ввод!$E$1:$E$30)*($A577<=Ввод!$F$1:$F$30),Ввод!$D$1:$D$30,\"\"),\" / \")","v":"Задание 30 / Задание 31"},{"$f":"MyJoin(IF((F$2=Ввод!$C$1:$C$30)*($A577>=Ввод!$E$1:$E$30)*($A577<=Ввод!$F$1:$F$30),Ввод!$D$1:$D$30,\"\"),\" / \")","v":""},"2023-07-24"]
["2023-07-25",{"$f":"MyJoin(IF((B$2=Ввод!$C$1:$C$30)*($A578>=Ввод!$E$1:$E$30)*($A578<=Ввод!$F$1:$F$30),Ввод!$D$1:$D$30,\"\"),\" / \")","v":""},{"$f":"MyJoin(IF((C$2=Ввод!$C$1:$C$30)*($A578>=Ввод!$E$1:$E$30)*($A578<=Ввод!$F$1:$F$30),Ввод!$D$1:$D$30,\"\"),\" / \")","v":""},{"$f":"MyJoin(IF((D$2=Ввод!$C$1:$C$30)*($A578>=Ввод!$E$1:$E$30)*($A578<=Ввод!$F$1:$F$30),Ввод!$D$1:$D$30,\"\"),\" / \")","v":""},{"$f":"MyJoin(IF((E$2=Ввод!$C$1:$C$30)*($A578>=Ввод!$E$1:$E$30)*($A578<=Ввод!$F$1:$F$30),Ввод!$D$1:$D$30,\"\"),\" / \")","v":"Задание 30 / Задание 31"},{"$f":"MyJoin(IF((F$2=Ввод!$C$1:$C$30)*($A578>=Ввод!$E$1:$E$30)*($A578<=Ввод!$F$1:$F$30),Ввод!$D$1:$D$30,\"\"),\" / \")","v":""},"2023-07-25"]
["2023-07-26",{"$f":"MyJoin(IF((B$2=Ввод!$C$1:$C$30)*($A579>=Ввод!$E$1:$E$30)*($A579<=Ввод!$F$1:$F$30),Ввод!$D$1:$D$30,\"\"),\" / \")","v":""},{"$f":"MyJoin(IF((C$2=Ввод!$C$1:$C$30)*($A579>=Ввод!$E$1:$E$30)*($A579<=Ввод!$F$1:$F$30),Ввод!$D$1:$D$30,\"\"),\" / \")","v":""},{"$f":"MyJoin(IF((D$2=Ввод!$C$1:$C$30)*($A579>=Ввод!$E$1:$E$30)*($A579<=Ввод!$F$1:$F$30),Ввод!$D$1:$D$30,\"\"),\" / \")","v":""},{"$f":"MyJoin(IF((E$2=Ввод!$C$1:$C$30)*($A579>=Ввод!$E$1:$E$30)*($A579<=Ввод!$F$1:$F$30),Ввод!$D$1:$D$30,\"\"),\" / \")","v":"Задание 30 / Задание 31"},{"$f":"MyJoin(IF((F$2=Ввод!$C$1:$C$30)*($A579>=Ввод!$E$1:$E$30)*($A579<=Ввод!$F$1:$F$30),Ввод!$D$1:$D$30,\"\"),\" / \")","v":""},"2023-07-26"]
["2023-07-27",{"$f":"MyJoin(IF((B$2=Ввод!$C$1:$C$30)*($A580>=Ввод!$E$1:$E$30)*($A580<=Ввод!$F$1:$F$30),Ввод!$D$1:$D$30,\"\"),\" / \")","v":""},{"$f":"MyJoin(IF((C$2=Ввод!$C$1:$C$30)*($A580>=Ввод!$E$1:$E$30)*($A580<=Ввод!$F$1:$F$30),Ввод!$D$1:$D$30,\"\"),\" / \")","v":""},{"$f":"MyJoin(IF((D$2=Ввод!$C$1:$C$30)*($A580>=Ввод!$E$1:$E$30)*($A580<=Ввод!$F$1:$F$30),Ввод!$D$1:$D$30,\"\"),\" / \")","v":""},{"$f":"MyJoin(IF((E$2=Ввод!$C$1:$C$30)*($A580>=Ввод!$E$1:$E$30)*($A580<=Ввод!$F$1:$F$30),Ввод!$D$1:$D$30,\"\"),\" / \")","v":"Задание 30 / Задание 31"},{"$f":"MyJoin(IF((F$2=Ввод!$C$1:$C$30)*($A580>=Ввод!$E$1:$E$30)*($A580<=Ввод!$F$1:$F$30),Ввод!$D$1:$D$30,\"\"),\" / \")","v":""},"2023-07-27"]
["2023-07-28",{"$f":"MyJoin(IF((B$2=Ввод!$C$1:$C$30)*($A581>=Ввод!$E$1:$E$30)*($A581<=Ввод!$F$1:$F$30),Ввод!$D$1:$D$30,\"\"),\" / \")","v":""},{"$f":"MyJoin(IF((C$2=Ввод!$C$1:$C$30)*($A581>=Ввод!$E$1:$E$30)*($A581<=Ввод!$F$1:$F$30),Ввод!$D$1:$D$30,\"\"),\" / \")","v":""},{"$f":"MyJoin(IF((D$2=Ввод!$C$1:$C$30)*($A581>=Ввод!$E$1:$E$30)*($A581<=Ввод!$F$1:$F$30),Ввод!$D$1:$D$30,\"\"),\" / \")","v":""},{"$f":"MyJoin(IF((E$2=Ввод!$C$1:$C$30)*($A581>=Ввод!$E$1:$E$30)*($A581<=Ввод!$F$1:$F$30),Ввод!$D$1:$D$30,\"\"),\" / \")","v":"Задание 30 / Задание 31"},{"$f":"MyJoin(IF((F$2=Ввод!$C$1:$C$30)*($A581>=Ввод!$E$1:$E$30)*($A581<=Ввод!$F$1:$F$30),Ввод!$D$1:$D$30,\"\"),\" / \")","v":""},"2023-07-28"]
["2023-07-29",{"$f":"MyJoin(IF((B$2=Ввод!$C$1:$C$30)*($A582>=Ввод!$E$1:$E$30)*($A582<=Ввод!$F$1:$F$30),Ввод!$D$1:$D$30,\"\"),\" / \")","v":""},{"$f":"MyJoin(IF((C$2=Ввод!$C$1:$C$30)*($A582>=Ввод!$E$1:$E$30)*($A582<=Ввод!$F$1:$F$30),Ввод!$D$1:$D$30,\"\"),\" / \")","v":""},{"$f":"MyJoin(IF((D$2=Ввод!$C$1:$C$30)*($A582>=Ввод!$E$1:$E$30)*($A582<=Ввод!$F$1:$F$30),Ввод!$D$1:$D$30,\"\"),\" / \")","v":""},{"$f":"MyJoin(IF((E$2=Ввод!$C$1:$C$30)*($A582>=Ввод!$E$1:$E$30)*($A582<=Ввод!$F$1:$F$30),Ввод!$D$1:$D$30,\"\"),\" / \")","v":"Задание 30 / Задание 31"},{"$f":"MyJoin(IF((F$2=Ввод!$C$1:$C$30)*($A582>=Ввод!$E$1:$E$30)*($A582<=Ввод!$F$1:$F$30),Ввод!$D$1:$D$30,\"\"),\" / \")","v":""},"2023-07-29"]
["2023-07-30",{"$f":"MyJoin(IF((B$2=Ввод!$C$1:$C$30)*($A583>=Ввод!$E$1:$E$30)*($A583<=Ввод!$F$1:$F$30),Ввод!$D$1:$D$30,\"\"),\" / \")","v":""},{"$f":"MyJoin(IF((C$2=Ввод!$C$1:$C$30)*($A583>=Ввод!$E$1:$E$30)*($A583<=Ввод!$F$1:$F$30),Ввод!$D$1:$D$30,\"\"),\" / \")","v":""},{"$f":"MyJoin(IF((D$2=Ввод!$C$1:$C$30)*($A583>=Ввод!$E$1:$E$30)*($A583<=Ввод!$F$1:$F$30),Ввод!$D$1:$D$30,\"\"),\" / \")","v":""},{"$f":"MyJoin(IF((E$2=Ввод!$C$1:$C$30)*($A583>=Ввод!$E$1:$E$30)*($A583<=Ввод!$F$1:$F$30),Ввод!$D$1:$D$30,\"\"),\" / \")","v":"Задание 30 / Задание 31 / Задание 32 / Задание 33"},{"$f":"MyJoin(IF((F$2=Ввод!$C$1:$C$30)*($A583>=Ввод!$E$1:$E$30)*($A583<=Ввод!$F$1:$F$30),Ввод!$D$1:$D$30,\"\"),\" / \")","v":""},"2023-07-30"]
["2023-07-31",{"$f":"MyJoin(IF((B$2=Ввод!$C$1:$C$30)*($A584>=Ввод!$E$1:$E$30)*($A584<=Ввод!$F$1:$F$30),Ввод!$D$1:$D$30,\"\"),\" / \")","v":""},{"$f":"MyJoin(IF((C$2=Ввод!$C$1:$C$30)*($A584>=Ввод!$E$1:$E$30)*($A584<=Ввод!$F$1:$F$30),Ввод!$D$1:$D$30,\"\"),\" / \")","v":""},{"$f":"MyJoin(IF((D$2=Ввод!$C$1:$C$30)*($A584>=Ввод!$E$1:$E$30)*($A584<=Ввод!$F$1:$F$30),Ввод!$D$1:$D$30,\"\"),\" / \")","v":""},{"$f":"MyJoin(IF((E$2=Ввод!$C$1:$C$30)*($A584>=Ввод!$E$1:$E$30)*($A584<=Ввод!$F$1:$F$30),Ввод!$D$1:$D$30,\"\"),\" / \")","v":"Задание 32 / Задание 33"},{"$f":"MyJoin(IF((F$2=Ввод!$C$1:$C$30)*($A584>=Ввод!$E$1:$E$30)*($A584<=Ввод!$F$1:$F$30),Ввод!$D$1:$D$30,\"\"),\" / \")","v":""},"2023-07-31"]
["2023-08-01",{"$f":"MyJoin(IF((B$2=Ввод!$C$1:$C$30)*($A585>=Ввод!$E$1:$E$30)*($A585<=Ввод!$F$1:$F$30),Ввод!$D$1:$D$30,\"\"),\" / \")","v":""},{"$f":"MyJoin(IF((C$2=Ввод!$C$1:$C$30)*($A585>=Ввод!$E$1:$E$30)*($A585<=Ввод!$F$1:$F$30),Ввод!$D$1:$D$30,\"\"),\" / \")","v":""},{"$f":"MyJoin(IF((D$2=Ввод!$C$1:$C$30)*($A585>=Ввод!$E$1:$E$30)*($A585<=Ввод!$F$1:$F$30),Ввод!$D$1:$D$30,\"\"),\" / \")","v":""},{"$f":"MyJoin(IF((E$2=Ввод!$C$1:$C$30)*($A585>=Ввод!$E$1:$E$30)*($A585<=Ввод!$F$1:$F$30),Ввод!$D$1:$D$30,\"\"),\" / \")","v":"Задание 32 / Задание 33"},{"$f":"MyJoin(IF((F$2=Ввод!$C$1:$C$30)*($A585>=Ввод!$E$1:$E$30)*($A585<=Ввод!$F$1:$F$30),Ввод!$D$1:$D$30,\"\"),\" / \")","v":""},{"$f":"IF(A585=\"\",\"\",A585)","v":"2023-08-01"}]
["2023-08-02",{"$f":"MyJoin(IF((B$2=Ввод!$C$1:$C$30)*($A586>=Ввод!$E$1:$E$30)*($A586<=Ввод!$F$1:$F$30),Ввод!$D$1:$D$30,\"\"),\" / \")","v":""},{"$f":"MyJoin(IF((C$2=Ввод!$C$1:$C$30)*($A586>=Ввод!$E$1:$E$30)*($A586<=Ввод!$F$1:$F$30),Ввод!$D$1:$D$30,\"\"),\" / \")","v":""},{"$f":"MyJoin(IF((D$2=Ввод!$C$1:$C$30)*($A586>=Ввод!$E$1:$E$30)*($A586<=Ввод!$F$1:$F$30),Ввод!$D$1:$D$30,\"\"),\" / \")","v":""},{"$f":"MyJoin(IF((E$2=Ввод!$C$1:$C$30)*($A586>=Ввод!$E$1:$E$30)*($A586<=Ввод!$F$1:$F$30),Ввод!$D$1:$D$30,\"\"),\" / \")","v":"Задание 32 / Задание 33"},{"$f":"MyJoin(IF((F$2=Ввод!$C$1:$C$30)*($A586>=Ввод!$E$1:$E$30)*($A586<=Ввод!$F$1:$F$30),Ввод!$D$1:$D$30,\"\"),\" / \")","v":""},"2023-08-02"]
["2023-08-03",{"$f":"MyJoin(IF((B$2=Ввод!$C$1:$C$30)*($A587>=Ввод!$E$1:$E$30)*($A587<=Ввод!$F$1:$F$30),Ввод!$D$1:$D$30,\"\"),\" / \")","v":""},{"$f":"MyJoin(IF((C$2=Ввод!$C$1:$C$30)*($A587>=Ввод!$E$1:$E$30)*($A587<=Ввод!$F$1:$F$30),Ввод!$D$1:$D$30,\"\"),\" / \")","v":""},{"$f":"MyJoin(IF((D$2=Ввод!$C$1:$C$30)*($A587>=Ввод!$E$1:$E$30)*($A587<=Ввод!$F$1:$F$30),Ввод!$D$1:$D$30,\"\"),\" / \")","v":""},{"$f":"MyJoin(IF((E$2=Ввод!$C$1:$C$30)*($A587>=Ввод!$E$1:$E$30)*($A587<=Ввод!$F$1:$F$30),Ввод!$D$1:$D$30,\"\"),\" / \")","v":"Задание 32 / Задание 33"},{"$f":"MyJoin(IF((F$2=Ввод!$C$1:$C$30)*($A587>=Ввод!$E$1:$E$30)*($A587<=Ввод!$F$1:$F$30),Ввод!$D$1:$D$30,\"\"),\" / \")","v":""},"2023-08-03"]
["2023-08-04",{"$f":"MyJoin(IF((B$2=Ввод!$C$1:$C$30)*($A588>=Ввод!$E$1:$E$30)*($A588<=Ввод!$F$1:$F$30),Ввод!$D$1:$D$30,\"\"),\" / \")","v":""},{"$f":"MyJoin(IF((C$2=Ввод!$C$1:$C$30)*($A588>=Ввод!$E$1:$E$30)*($A588<=Ввод!$F$1:$F$30),Ввод!$D$1:$D$30,\"\"),\" / \")","v":""},{"$f":"MyJoin(IF((D$2=Ввод!$C$1:$C$30)*($A588>=Ввод!$E$1:$E$30)*($A588<=Ввод!$F$1:$F$30),Ввод!$D$1:$D$30,\"\"),\" / \")","v":""},{"$f":"MyJoin(IF((E$2=Ввод!$C$1:$C$30)*($A588>=Ввод!$E$1:$E$30)*($A588<=Ввод!$F$1:$F$30),Ввод!$D$1:$D$30,\"\"),\" / \")","v":"Задание 33"},{"$f":"MyJoin(IF((F$2=Ввод!$C$1:$C$30)*($A588>=Ввод!$E$1:$E$30)*($A588<=Ввод!$F$1:$F$30),Ввод!$D$1:$D$30,\"\"),\" / \")","v":""},"2023-08-04"]
["2023-08-05",{"$f":"MyJoin(IF((B$2=Ввод!$C$1:$C$30)*($A589>=Ввод!$E$1:$E$30)*($A589<=Ввод!$F$1:$F$30),Ввод!$D$1:$D$30,\"\"),\" / \")","v":""},{"$f":"MyJoin(IF((C$2=Ввод!$C$1:$C$30)*($A589>=Ввод!$E$1:$E$30)*($A589<=Ввод!$F$1:$F$30),Ввод!$D$1:$D$30,\"\"),\" / \")","v":""},{"$f":"MyJoin(IF((D$2=Ввод!$C$1:$C$30)*($A589>=Ввод!$E$1:$E$30)*($A589<=Ввод!$F$1:$F$30),Ввод!$D$1:$D$30,\"\"),\" / \")","v":""},{"$f":"MyJoin(IF((E$2=Ввод!$C$1:$C$30)*($A589>=Ввод!$E$1:$E$30)*($A589<=Ввод!$F$1:$F$30),Ввод!$D$1:$D$30,\"\"),\" / \")","v":""},{"$f":"MyJoin(IF((F$2=Ввод!$C$1:$C$30)*($A589>=Ввод!$E$1:$E$30)*($A589<=Ввод!$F$1:$F$30),Ввод!$D$1:$D$30,\"\"),\" / \")","v":""},"2023-08-05"]
["2023-08-06",{"$f":"MyJoin(IF((B$2=Ввод!$C$1:$C$30)*($A590>=Ввод!$E$1:$E$30)*($A590<=Ввод!$F$1:$F$30),Ввод!$D$1:$D$30,\"\"),\" / \")","v":""},{"$f":"MyJoin(IF((C$2=Ввод!$C$1:$C$30)*($A590>=Ввод!$E$1:$E$30)*($A590<=Ввод!$F$1:$F$30),Ввод!$D$1:$D$30,\"\"),\" / \")","v":""},{"$f":"MyJoin(IF((D$2=Ввод!$C$1:$C$30)*($A590>=Ввод!$E$1:$E$30)*($A590<=Ввод!$F$1:$F$30),Ввод!$D$1:$D$30,\"\"),\" / \")","v":""},{"$f":"MyJoin(IF((E$2=Ввод!$C$1:$C$30)*($A590>=Ввод!$E$1:$E$30)*($A590<=Ввод!$F$1:$F$30),Ввод!$D$1:$D$30,\"\"),\" / \")","v":""},{"$f":"MyJoin(IF((F$2=Ввод!$C$1:$C$30)*($A590>=Ввод!$E$1:$E$30)*($A590<=Ввод!$F$1:$F$30),Ввод!$D$1:$D$30,\"\"),\" / \")","v":""},"2023-08-06"]
["2023-08-07",{"$f":"MyJoin(IF((B$2=Ввод!$C$1:$C$30)*($A591>=Ввод!$E$1:$E$30)*($A591<=Ввод!$F$1:$F$30),Ввод!$D$1:$D$30,\"\"),\" / \")","v":""},{"$f":"MyJoin(IF((C$2=Ввод!$C$1:$C$30)*($A591>=Ввод!$E$1:$E$30)*($A591<=Ввод!$F$1:$F$30),Ввод!$D$1:$D$30,\"\"),\" / \")","v":""},{"$f":"MyJoin(IF((D$2=Ввод!$C$1:$C$30)*($A591>=Ввод!$E$1:$E$30)*($A591<=Ввод!$F$1:$F$30),Ввод!$D$1:$D$30,\"\"),\" / \")","v":""},{"$f":"MyJoin(IF((E$2=Ввод!$C$1:$C$30)*($A591>=Ввод!$E$1:$E$30)*($A591<=Ввод!$F$1:$F$30),Ввод!$D$1:$D$30,\"\"),\" / \")","v":""},{"$f":"MyJoin(IF((F$2=Ввод!$C$1:$C$30)*($A591>=Ввод!$E$1:$E$30)*($A591<=Ввод!$F$1:$F$30),Ввод!$D$1:$D$30,\"\"),\" / \")","v":""},"2023-08-07"]
["2023-08-08",{"$f":"MyJoin(IF((B$2=Ввод!$C$1:$C$30)*($A592>=Ввод!$E$1:$E$30)*($A592<=Ввод!$F$1:$F$30),Ввод!$D$1:$D$30,\"\"),\" / \")","v":""},{"$f":"MyJoin(IF((C$2=Ввод!$C$1:$C$30)*($A592>=Ввод!$E$1:$E$30)*($A592<=Ввод!$F$1:$F$30),Ввод!$D$1:$D$30,\"\"),\" / \")","v":""},{"$f":"MyJoin(IF((D$2=Ввод!$C$1:$C$30)*($A592>=Ввод!$E$1:$E$30)*($A592<=Ввод!$F$1:$F$30),Ввод!$D$1:$D$30,\"\"),\" / \")","v":""},{"$f":"MyJoin(IF((E$2=Ввод!$C$1:$C$30)*($A592>=Ввод!$E$1:$E$30)*($A592<=Ввод!$F$1:$F$30),Ввод!$D$1:$D$30,\"\"),\" / \")","v":""},{"$f":"MyJoin(IF((F$2=Ввод!$C$1:$C$30)*($A592>=Ввод!$E$1:$E$30)*($A592<=Ввод!$F$1:$F$30),Ввод!$D$1:$D$30,\"\"),\" / \")","v":""},"2023-08-08"]
["2023-08-09",{"$f":"MyJoin(IF((B$2=Ввод!$C$1:$C$30)*($A593>=Ввод!$E$1:$E$30)*($A593<=Ввод!$F$1:$F$30),Ввод!$D$1:$D$30,\"\"),\" / \")","v":""},{"$f":"MyJoin(IF((C$2=Ввод!$C$1:$C$30)*($A593>=Ввод!$E$1:$E$30)*($A593<=Ввод!$F$1:$F$30),Ввод!$D$1:$D$30,\"\"),\" / \")","v":""},{"$f":"MyJoin(IF((D$2=Ввод!$C$1:$C$30)*($A593>=Ввод!$E$1:$E$30)*($A593<=Ввод!$F$1:$F$30),Ввод!$D$1:$D$30,\"\"),\" / \")","v":""},{"$f":"MyJoin(IF((E$2=Ввод!$C$1:$C$30)*($A593>=Ввод!$E$1:$E$30)*($A593<=Ввод!$F$1:$F$30),Ввод!$D$1:$D$30,\"\"),\" / \")","v":""},{"$f":"MyJoin(IF((F$2=Ввод!$C$1:$C$30)*($A593>=Ввод!$E$1:$E$30)*($A593<=Ввод!$F$1:$F$30),Ввод!$D$1:$D$30,\"\"),\" / \")","v":""},"2023-08-09"]
["2023-08-10",{"$f":"MyJoin(IF((B$2=Ввод!$C$1:$C$30)*($A594>=Ввод!$E$1:$E$30)*($A594<=Ввод!$F$1:$F$30),Ввод!$D$1:$D$30,\"\"),\" / \")","v":""},{"$f":"MyJoin(IF((C$2=Ввод!$C$1:$C$30)*($A594>=Ввод!$E$1:$E$30)*($A594<=Ввод!$F$1:$F$30),Ввод!$D$1:$D$30,\"\"),\" / \")","v":""},{"$f":"MyJoin(IF((D$2=Ввод!$C$1:$C$30)*($A594>=Ввод!$E$1:$E$30)*($A594<=Ввод!$F$1:$F$30),Ввод!$D$1:$D$30,\"\"),\" / \")","v":""},{"$f":"MyJoin(IF((E$2=Ввод!$C$1:$C$30)*($A594>=Ввод!$E$1:$E$30)*($A594<=Ввод!$F$1:$F$30),Ввод!$D$1:$D$30,\"\"),\" / \")","v":""},{"$f":"MyJoin(IF((F$2=Ввод!$C$1:$C$30)*($A594>=Ввод!$E$1:$E$30)*($A594<=Ввод!$F$1:$F$30),Ввод!$D$1:$D$30,\"\"),\" / \")","v":""},"2023-08-10"]
["2023-08-11",{"$f":"MyJoin(IF((B$2=Ввод!$C$1:$C$30)*($A595>=Ввод!$E$1:$E$30)*($A595<=Ввод!$F$1:$F$30),Ввод!$D$1:$D$30,\"\"),\" / \")","v":""},{"$f":"MyJoin(IF((C$2=Ввод!$C$1:$C$30)*($A595>=Ввод!$E$1:$E$30)*($A595<=Ввод!$F$1:$F$30),Ввод!$D$1:$D$30,\"\"),\" / \")","v":""},{"$f":"MyJoin(IF((D$2=Ввод!$C$1:$C$30)*($A595>=Ввод!$E$1:$E$30)*($A595<=Ввод!$F$1:$F$30),Ввод!$D$1:$D$30,\"\"),\" / \")","v":""},{"$f":"MyJoin(IF((E$2=Ввод!$C$1:$C$30)*($A595>=Ввод!$E$1:$E$30)*($A595<=Ввод!$F$1:$F$30),Ввод!$D$1:$D$30,\"\"),\" / \")","v":""},{"$f":"MyJoin(IF((F$2=Ввод!$C$1:$C$30)*($A595>=Ввод!$E$1:$E$30)*($A595<=Ввод!$F$1:$F$30),Ввод!$D$1:$D$30,\"\"),\" / \")","v":""},"2023-08-11"]
["2023-08-12",{"$f":"MyJoin(IF((B$2=Ввод!$C$1:$C$30)*($A596>=Ввод!$E$1:$E$30)*($A596<=Ввод!$F$1:$F$30),Ввод!$D$1:$D$30,\"\"),\" / \")","v":""},{"$f":"MyJoin(IF((C$2=Ввод!$C$1:$C$30)*($A596>=Ввод!$E$1:$E$30)*($A596<=Ввод!$F$1:$F$30),Ввод!$D$1:$D$30,\"\"),\" / \")","v":""},{"$f":"MyJoin(IF((D$2=Ввод!$C$1:$C$30)*($A596>=Ввод!$E$1:$E$30)*($A596<=Ввод!$F$1:$F$30),Ввод!$D$1:$D$30,\"\"),\" / \")","v":""},{"$f":"MyJoin(IF((E$2=Ввод!$C$1:$C$30)*($A596>=Ввод!$E$1:$E$30)*($A596<=Ввод!$F$1:$F$30),Ввод!$D$1:$D$30,\"\"),\" / \")","v":""},{"$f":"MyJoin(IF((F$2=Ввод!$C$1:$C$30)*($A596>=Ввод!$E$1:$E$30)*($A596<=Ввод!$F$1:$F$30),Ввод!$D$1:$D$30,\"\"),\" / \")","v":""},"2023-08-12"]
["2023-08-13",{"$f":"MyJoin(IF((B$2=Ввод!$C$1:$C$30)*($A597>=Ввод!$E$1:$E$30)*($A597<=Ввод!$F$1:$F$30),Ввод!$D$1:$D$30,\"\"),\" / \")","v":""},{"$f":"MyJoin(IF((C$2=Ввод!$C$1:$C$30)*($A597>=Ввод!$E$1:$E$30)*($A597<=Ввод!$F$1:$F$30),Ввод!$D$1:$D$30,\"\"),\" / \")","v":""},{"$f":"MyJoin(IF((D$2=Ввод!$C$1:$C$30)*($A597>=Ввод!$E$1:$E$30)*($A597<=Ввод!$F$1:$F$30),Ввод!$D$1:$D$30,\"\"),\" / \")","v":""},{"$f":"MyJoin(IF((E$2=Ввод!$C$1:$C$30)*($A597>=Ввод!$E$1:$E$30)*($A597<=Ввод!$F$1:$F$30),Ввод!$D$1:$D$30,\"\"),\" / \")","v":""},{"$f":"MyJoin(IF((F$2=Ввод!$C$1:$C$30)*($A597>=Ввод!$E$1:$E$30)*($A597<=Ввод!$F$1:$F$30),Ввод!$D$1:$D$30,\"\"),\" / \")","v":""},"2023-08-13"]
["2023-08-14",{"$f":"MyJoin(IF((B$2=Ввод!$C$1:$C$30)*($A598>=Ввод!$E$1:$E$30)*($A598<=Ввод!$F$1:$F$30),Ввод!$D$1:$D$30,\"\"),\" / \")","v":""},{"$f":"MyJoin(IF((C$2=Ввод!$C$1:$C$30)*($A598>=Ввод!$E$1:$E$30)*($A598<=Ввод!$F$1:$F$30),Ввод!$D$1:$D$30,\"\"),\" / \")","v":""},{"$f":"MyJoin(IF((D$2=Ввод!$C$1:$C$30)*($A598>=Ввод!$E$1:$E$30)*($A598<=Ввод!$F$1:$F$30),Ввод!$D$1:$D$30,\"\"),\" / \")","v":""},{"$f":"MyJoin(IF((E$2=Ввод!$C$1:$C$30)*($A598>=Ввод!$E$1:$E$30)*($A598<=Ввод!$F$1:$F$30),Ввод!$D$1:$D$30,\"\"),\" / \")","v":""},{"$f":"MyJoin(IF((F$2=Ввод!$C$1:$C$30)*($A598>=Ввод!$E$1:$E$30)*($A598<=Ввод!$F$1:$F$30),Ввод!$D$1:$D$30,\"\"),\" / \")","v":""},"2023-08-14"]
["2023-08-15",{"$f":"MyJoin(IF((B$2=Ввод!$C$1:$C$30)*($A599>=Ввод!$E$1:$E$30)*($A599<=Ввод!$F$1:$F$30),Ввод!$D$1:$D$30,\"\"),\" / \")","v":""},{"$f":"MyJoin(IF((C$2=Ввод!$C$1:$C$30)*($A599>=Ввод!$E$1:$E$30)*($A599<=Ввод!$F$1:$F$30),Ввод!$D$1:$D$30,\"\"),\" / \")","v":""},{"$f":"MyJoin(IF((D$2=Ввод!$C$1:$C$30)*($A599>=Ввод!$E$1:$E$30)*($A599<=Ввод!$F$1:$F$30),Ввод!$D$1:$D$30,\"\"),\" / \")","v":""},{"$f":"MyJoin(IF((E$2=Ввод!$C$1:$C$30)*($A599>=Ввод!$E$1:$E$30)*($A599<=Ввод!$F$1:$F$30),Ввод!$D$1:$D$30,\"\"),\" / \")","v":""},{"$f":"MyJoin(IF((F$2=Ввод!$C$1:$C$30)*($A599>=Ввод!$E$1:$E$30)*($A599<=Ввод!$F$1:$F$30),Ввод!$D$1:$D$30,\"\"),\" / \")","v":""},"2023-08-15"]
["2023-08-16",{"$f":"MyJoin(IF((B$2=Ввод!$C$1:$C$30)*($A600>=Ввод!$E$1:$E$30)*($A600<=Ввод!$F$1:$F$30),Ввод!$D$1:$D$30,\"\"),\" / \")","v":""},{"$f":"MyJoin(IF((C$2=Ввод!$C$1:$C$30)*($A600>=Ввод!$E$1:$E$30)*($A600<=Ввод!$F$1:$F$30),Ввод!$D$1:$D$30,\"\"),\" / \")","v":""},{"$f":"MyJoin(IF((D$2=Ввод!$C$1:$C$30)*($A600>=Ввод!$E$1:$E$30)*($A600<=Ввод!$F$1:$F$30),Ввод!$D$1:$D$30,\"\"),\" / \")","v":""},{"$f":"MyJoin(IF((E$2=Ввод!$C$1:$C$30)*($A600>=Ввод!$E$1:$E$30)*($A600<=Ввод!$F$1:$F$30),Ввод!$D$1:$D$30,\"\"),\" / \")","v":""},{"$f":"MyJoin(IF((F$2=Ввод!$C$1:$C$30)*($A600>=Ввод!$E$1:$E$30)*($A600<=Ввод!$F$1:$F$30),Ввод!$D$1:$D$30,\"\"),\" / \")","v":""},"2023-08-16"]
["2023-08-17",{"$f":"MyJoin(IF((B$2=Ввод!$C$1:$C$30)*($A601>=Ввод!$E$1:$E$30)*($A601<=Ввод!$F$1:$F$30),Ввод!$D$1:$D$30,\"\"),\" / \")","v":""},{"$f":"MyJoin(IF((C$2=Ввод!$C$1:$C$30)*($A601>=Ввод!$E$1:$E$30)*($A601<=Ввод!$F$1:$F$30),Ввод!$D$1:$D$30,\"\"),\" / \")","v":""},{"$f":"MyJoin(IF((D$2=Ввод!$C$1:$C$30)*($A601>=Ввод!$E$1:$E$30)*($A601<=Ввод!$F$1:$F$30),Ввод!$D$1:$D$30,\"\"),\" / \")","v":""},{"$f":"MyJoin(IF((E$2=Ввод!$C$1:$C$30)*($A601>=Ввод!$E$1:$E$30)*($A601<=Ввод!$F$1:$F$30),Ввод!$D$1:$D$30,\"\"),\" / \")","v":""},{"$f":"MyJoin(IF((F$2=Ввод!$C$1:$C$30)*($A601>=Ввод!$E$1:$E$30)*($A601<=Ввод!$F$1:$F$30),Ввод!$D$1:$D$30,\"\"),\" / \")","v":""},"2023-08-17"]
["2023-08-18",{"$f":"MyJoin(IF((B$2=Ввод!$C$1:$C$30)*($A602>=Ввод!$E$1:$E$30)*($A602<=Ввод!$F$1:$F$30),Ввод!$D$1:$D$30,\"\"),\" / \")","v":""},{"$f":"MyJoin(IF((C$2=Ввод!$C$1:$C$30)*($A602>=Ввод!$E$1:$E$30)*($A602<=Ввод!$F$1:$F$30),Ввод!$D$1:$D$30,\"\"),\" / \")","v":""},{"$f":"MyJoin(IF((D$2=Ввод!$C$1:$C$30)*($A602>=Ввод!$E$1:$E$30)*($A602<=Ввод!$F$1:$F$30),Ввод!$D$1:$D$30,\"\"),\" / \")","v":""},{"$f":"MyJoin(IF((E$2=Ввод!$C$1:$C$30)*($A602>=Ввод!$E$1:$E$30)*($A602<=Ввод!$F$1:$F$30),Ввод!$D$1:$D$30,\"\"),\" / \")","v":""},{"$f":"MyJoin(IF((F$2=Ввод!$C$1:$C$30)*($A602>=Ввод!$E$1:$E$30)*($A602<=Ввод!$F$1:$F$30),Ввод!$D$1:$D$30,\"\"),\" / \")","v":""},"2023-08-18"]
["2023-08-19",{"$f":"MyJoin(IF((B$2=Ввод!$C$1:$C$30)*($A603>=Ввод!$E$1:$E$30)*($A603<=Ввод!$F$1:$F$30),Ввод!$D$1:$D$30,\"\"),\" / \")","v":""},{"$f":"MyJoin(IF((C$2=Ввод!$C$1:$C$30)*($A603>=Ввод!$E$1:$E$30)*($A603<=Ввод!$F$1:$F$30),Ввод!$D$1:$D$30,\"\"),\" / \")","v":""},{"$f":"MyJoin(IF((D$2=Ввод!$C$1:$C$30)*($A603>=Ввод!$E$1:$E$30)*($A603<=Ввод!$F$1:$F$30),Ввод!$D$1:$D$30,\"\"),\" / \")","v":""},{"$f":"MyJoin(IF((E$2=Ввод!$C$1:$C$30)*($A603>=Ввод!$E$1:$E$30)*($A603<=Ввод!$F$1:$F$30),Ввод!$D$1:$D$30,\"\"),\" / \")","v":""},{"$f":"MyJoin(IF((F$2=Ввод!$C$1:$C$30)*($A603>=Ввод!$E$1:$E$30)*($A603<=Ввод!$F$1:$F$30),Ввод!$D$1:$D$30,\"\"),\" / \")","v":""},"2023-08-19"]
["2023-08-20",{"$f":"MyJoin(IF((B$2=Ввод!$C$1:$C$30)*($A604>=Ввод!$E$1:$E$30)*($A604<=Ввод!$F$1:$F$30),Ввод!$D$1:$D$30,\"\"),\" / \")","v":""},{"$f":"MyJoin(IF((C$2=Ввод!$C$1:$C$30)*($A604>=Ввод!$E$1:$E$30)*($A604<=Ввод!$F$1:$F$30),Ввод!$D$1:$D$30,\"\"),\" / \")","v":""},{"$f":"MyJoin(IF((D$2=Ввод!$C$1:$C$30)*($A604>=Ввод!$E$1:$E$30)*($A604<=Ввод!$F$1:$F$30),Ввод!$D$1:$D$30,\"\"),\" / \")","v":""},{"$f":"MyJoin(IF((E$2=Ввод!$C$1:$C$30)*($A604>=Ввод!$E$1:$E$30)*($A604<=Ввод!$F$1:$F$30),Ввод!$D$1:$D$30,\"\"),\" / \")","v":""},{"$f":"MyJoin(IF((F$2=Ввод!$C$1:$C$30)*($A604>=Ввод!$E$1:$E$30)*($A604<=Ввод!$F$1:$F$30),Ввод!$D$1:$D$30,\"\"),\" / \")","v":""},"2023-08-20"]
["2023-08-21",{"$f":"MyJoin(IF((B$2=Ввод!$C$1:$C$30)*($A605>=Ввод!$E$1:$E$30)*($A605<=Ввод!$F$1:$F$30),Ввод!$D$1:$D$30,\"\"),\" / \")","v":""},{"$f":"MyJoin(IF((C$2=Ввод!$C$1:$C$30)*($A605>=Ввод!$E$1:$E$30)*($A605<=Ввод!$F$1:$F$30),Ввод!$D$1:$D$30,\"\"),\" / \")","v":""},{"$f":"MyJoin(IF((D$2=Ввод!$C$1:$C$30)*($A605>=Ввод!$E$1:$E$30)*($A605<=Ввод!$F$1:$F$30),Ввод!$D$1:$D$30,\"\"),\" / \")","v":""},{"$f":"MyJoin(IF((E$2=Ввод!$C$1:$C$30)*($A605>=Ввод!$E$1:$E$30)*($A605<=Ввод!$F$1:$F$30),Ввод!$D$1:$D$30,\"\"),\" / \")","v":""},{"$f":"MyJoin(IF((F$2=Ввод!$C$1:$C$30)*($A605>=Ввод!$E$1:$E$30)*($A605<=Ввод!$F$1:$F$30),Ввод!$D$1:$D$30,\"\"),\" / \")","v":""},"2023-08-21"]
["2023-08-22",{"$f":"MyJoin(IF((B$2=Ввод!$C$1:$C$30)*($A606>=Ввод!$E$1:$E$30)*($A606<=Ввод!$F$1:$F$30),Ввод!$D$1:$D$30,\"\"),\" / \")","v":""},{"$f":"MyJoin(IF((C$2=Ввод!$C$1:$C$30)*($A606>=Ввод!$E$1:$E$30)*($A606<=Ввод!$F$1:$F$30),Ввод!$D$1:$D$30,\"\"),\" / \")","v":""},{"$f":"MyJoin(IF((D$2=Ввод!$C$1:$C$30)*($A606>=Ввод!$E$1:$E$30)*($A606<=Ввод!$F$1:$F$30),Ввод!$D$1:$D$30,\"\"),\" / \")","v":""},{"$f":"MyJoin(IF((E$2=Ввод!$C$1:$C$30)*($A606>=Ввод!$E$1:$E$30)*($A606<=Ввод!$F$1:$F$30),Ввод!$D$1:$D$30,\"\"),\" / \")","v":""},{"$f":"MyJoin(IF((F$2=Ввод!$C$1:$C$30)*($A606>=Ввод!$E$1:$E$30)*($A606<=Ввод!$F$1:$F$30),Ввод!$D$1:$D$30,\"\"),\" / \")","v":""},"2023-08-22"]
["2023-08-23",{"$f":"MyJoin(IF((B$2=Ввод!$C$1:$C$30)*($A607>=Ввод!$E$1:$E$30)*($A607<=Ввод!$F$1:$F$30),Ввод!$D$1:$D$30,\"\"),\" / \")","v":""},{"$f":"MyJoin(IF((C$2=Ввод!$C$1:$C$30)*($A607>=Ввод!$E$1:$E$30)*($A607<=Ввод!$F$1:$F$30),Ввод!$D$1:$D$30,\"\"),\" / \")","v":""},{"$f":"MyJoin(IF((D$2=Ввод!$C$1:$C$30)*($A607>=Ввод!$E$1:$E$30)*($A607<=Ввод!$F$1:$F$30),Ввод!$D$1:$D$30,\"\"),\" / \")","v":""},{"$f":"MyJoin(IF((E$2=Ввод!$C$1:$C$30)*($A607>=Ввод!$E$1:$E$30)*($A607<=Ввод!$F$1:$F$30),Ввод!$D$1:$D$30,\"\"),\" / \")","v":""},{"$f":"MyJoin(IF((F$2=Ввод!$C$1:$C$30)*($A607>=Ввод!$E$1:$E$30)*($A607<=Ввод!$F$1:$F$30),Ввод!$D$1:$D$30,\"\"),\" / \")","v":""},"2023-08-23"]
["2023-08-24",{"$f":"MyJoin(IF((B$2=Ввод!$C$1:$C$30)*($A608>=Ввод!$E$1:$E$30)*($A608<=Ввод!$F$1:$F$30),Ввод!$D$1:$D$30,\"\"),\" / \")","v":""},{"$f":"MyJoin(IF((C$2=Ввод!$C$1:$C$30)*($A608>=Ввод!$E$1:$E$30)*($A608<=Ввод!$F$1:$F$30),Ввод!$D$1:$D$30,\"\"),\" / \")","v":""},{"$f":"MyJoin(IF((D$2=Ввод!$C$1:$C$30)*($A608>=Ввод!$E$1:$E$30)*($A608<=Ввод!$F$1:$F$30),Ввод!$D$1:$D$30,\"\"),\" / \")","v":""},{"$f":"MyJoin(IF((E$2=Ввод!$C$1:$C$30)*($A608>=Ввод!$E$1:$E$30)*($A608<=Ввод!$F$1:$F$30),Ввод!$D$1:$D$30,\"\"),\" / \")","v":""},{"$f":"MyJoin(IF((F$2=Ввод!$C$1:$C$30)*($A608>=Ввод!$E$1:$E$30)*($A608<=Ввод!$F$1:$F$30),Ввод!$D$1:$D$30,\"\"),\" / \")","v":""},"2023-08-24"]
["2023-08-25",{"$f":"MyJoin(IF((B$2=Ввод!$C$1:$C$30)*($A609>=Ввод!$E$1:$E$30)*($A609<=Ввод!$F$1:$F$30),Ввод!$D$1:$D$30,\"\"),\" / \")","v":""},{"$f":"MyJoin(IF((C$2=Ввод!$C$1:$C$30)*($A609>=Ввод!$E$1:$E$30)*($A609<=Ввод!$F$1:$F$30),Ввод!$D$1:$D$30,\"\"),\" / \")","v":""},{"$f":"MyJoin(IF((D$2=Ввод!$C$1:$C$30)*($A609>=Ввод!$E$1:$E$30)*($A609<=Ввод!$F$1:$F$30),Ввод!$D$1:$D$30,\"\"),\" / \")","v":""},{"$f":"MyJoin(IF((E$2=Ввод!$C$1:$C$30)*($A609>=Ввод!$E$1:$E$30)*($A609<=Ввод!$F$1:$F$30),Ввод!$D$1:$D$30,\"\"),\" / \")","v":""},{"$f":"MyJoin(IF((F$2=Ввод!$C$1:$C$30)*($A609>=Ввод!$E$1:$E$30)*($A609<=Ввод!$F$1:$F$30),Ввод!$D$1:$D$30,\"\"),\" / \")","v":""},"2023-08-25"]
["2023-08-26",{"$f":"MyJoin(IF((B$2=Ввод!$C$1:$C$30)*($A610>=Ввод!$E$1:$E$30)*($A610<=Ввод!$F$1:$F$30),Ввод!$D$1:$D$30,\"\"),\" / \")","v":""},{"$f":"MyJoin(IF((C$2=Ввод!$C$1:$C$30)*($A610>=Ввод!$E$1:$E$30)*($A610<=Ввод!$F$1:$F$30),Ввод!$D$1:$D$30,\"\"),\" / \")","v":""},{"$f":"MyJoin(IF((D$2=Ввод!$C$1:$C$30)*($A610>=Ввод!$E$1:$E$30)*($A610<=Ввод!$F$1:$F$30),Ввод!$D$1:$D$30,\"\"),\" / \")","v":""},{"$f":"MyJoin(IF((E$2=Ввод!$C$1:$C$30)*($A610>=Ввод!$E$1:$E$30)*($A610<=Ввод!$F$1:$F$30),Ввод!$D$1:$D$30,\"\"),\" / \")","v":""},{"$f":"MyJoin(IF((F$2=Ввод!$C$1:$C$30)*($A610>=Ввод!$E$1:$E$30)*($A610<=Ввод!$F$1:$F$30),Ввод!$D$1:$D$30,\"\"),\" / \")","v":""},"2023-08-26"]
["2023-08-27",{"$f":"MyJoin(IF((B$2=Ввод!$C$1:$C$30)*($A611>=Ввод!$E$1:$E$30)*($A611<=Ввод!$F$1:$F$30),Ввод!$D$1:$D$30,\"\"),\" / \")","v":""},{"$f":"MyJoin(IF((C$2=Ввод!$C$1:$C$30)*($A611>=Ввод!$E$1:$E$30)*($A611<=Ввод!$F$1:$F$30),Ввод!$D$1:$D$30,\"\"),\" / \")","v":""},{"$f":"MyJoin(IF((D$2=Ввод!$C$1:$C$30)*($A611>=Ввод!$E$1:$E$30)*($A611<=Ввод!$F$1:$F$30),Ввод!$D$1:$D$30,\"\"),\" / \")","v":""},{"$f":"MyJoin(IF((E$2=Ввод!$C$1:$C$30)*($A611>=Ввод!$E$1:$E$30)*($A611<=Ввод!$F$1:$F$30),Ввод!$D$1:$D$30,\"\"),\" / \")","v":""},{"$f":"MyJoin(IF((F$2=Ввод!$C$1:$C$30)*($A611>=Ввод!$E$1:$E$30)*($A611<=Ввод!$F$1:$F$30),Ввод!$D$1:$D$30,\"\"),\" / \")","v":""},"2023-08-27"]
["2023-08-28",{"$f":"MyJoin(IF((B$2=Ввод!$C$1:$C$30)*($A612>=Ввод!$E$1:$E$30)*($A612<=Ввод!$F$1:$F$30),Ввод!$D$1:$D$30,\"\"),\" / \")","v":""},{"$f":"MyJoin(IF((C$2=Ввод!$C$1:$C$30)*($A612>=Ввод!$E$1:$E$30)*($A612<=Ввод!$F$1:$F$30),Ввод!$D$1:$D$30,\"\"),\" / \")","v":""},{"$f":"MyJoin(IF((D$2=Ввод!$C$1:$C$30)*($A612>=Ввод!$E$1:$E$30)*($A612<=Ввод!$F$1:$F$30),Ввод!$D$1:$D$30,\"\"),\" / \")","v":""},{"$f":"MyJoin(IF((E$2=Ввод!$C$1:$C$30)*($A612>=Ввод!$E$1:$E$30)*($A612<=Ввод!$F$1:$F$30),Ввод!$D$1:$D$30,\"\"),\" / \")","v":""},{"$f":"MyJoin(IF((F$2=Ввод!$C$1:$C$30)*($A612>=Ввод!$E$1:$E$30)*($A612<=Ввод!$F$1:$F$30),Ввод!$D$1:$D$30,\"\"),\" / \")","v":""},"2023-08-28"]
["2023-08-29",{"$f":"MyJoin(IF((B$2=Ввод!$C$1:$C$30)*($A613>=Ввод!$E$1:$E$30)*($A613<=Ввод!$F$1:$F$30),Ввод!$D$1:$D$30,\"\"),\" / \")","v":""},{"$f":"MyJoin(IF((C$2=Ввод!$C$1:$C$30)*($A613>=Ввод!$E$1:$E$30)*($A613<=Ввод!$F$1:$F$30),Ввод!$D$1:$D$30,\"\"),\" / \")","v":""},{"$f":"MyJoin(IF((D$2=Ввод!$C$1:$C$30)*($A613>=Ввод!$E$1:$E$30)*($A613<=Ввод!$F$1:$F$30),Ввод!$D$1:$D$30,\"\"),\" / \")","v":""},{"$f":"MyJoin(IF((E$2=Ввод!$C$1:$C$30)*($A613>=Ввод!$E$1:$E$30)*($A613<=Ввод!$F$1:$F$30),Ввод!$D$1:$D$30,\"\"),\" / \")","v":""},{"$f":"MyJoin(IF((F$2=Ввод!$C$1:$C$30)*($A613>=Ввод!$E$1:$E$30)*($A613<=Ввод!$F$1:$F$30),Ввод!$D$1:$D$30,\"\"),\" / \")","v":""},"2023-08-29"]
["2023-08-30",{"$f":"MyJoin(IF((B$2=Ввод!$C$1:$C$30)*($A614>=Ввод!$E$1:$E$30)*($A614<=Ввод!$F$1:$F$30),Ввод!$D$1:$D$30,\"\"),\" / \")","v":""},{"$f":"MyJoin(IF((C$2=Ввод!$C$1:$C$30)*($A614>=Ввод!$E$1:$E$30)*($A614<=Ввод!$F$1:$F$30),Ввод!$D$1:$D$30,\"\"),\" / \")","v":""},{"$f":"MyJoin(IF((D$2=Ввод!$C$1:$C$30)*($A614>=Ввод!$E$1:$E$30)*($A614<=Ввод!$F$1:$F$30),Ввод!$D$1:$D$30,\"\"),\" / \")","v":""},{"$f":"MyJoin(IF((E$2=Ввод!$C$1:$C$30)*($A614>=Ввод!$E$1:$E$30)*($A614<=Ввод!$F$1:$F$30),Ввод!$D$1:$D$30,\"\"),\" / \")","v":""},{"$f":"MyJoin(IF((F$2=Ввод!$C$1:$C$30)*($A614>=Ввод!$E$1:$E$30)*($A614<=Ввод!$F$1:$F$30),Ввод!$D$1:$D$30,\"\"),\" / \")","v":""},"2023-08-30"]
["2023-08-31",{"$f":"MyJoin(IF((B$2=Ввод!$C$1:$C$30)*($A615>=Ввод!$E$1:$E$30)*($A615<=Ввод!$F$1:$F$30),Ввод!$D$1:$D$30,\"\"),\" / \")","v":""},{"$f":"MyJoin(IF((C$2=Ввод!$C$1:$C$30)*($A615>=Ввод!$E$1:$E$30)*($A615<=Ввод!$F$1:$F$30),Ввод!$D$1:$D$30,\"\"),\" / \")","v":""},{"$f":"MyJoin(IF((D$2=Ввод!$C$1:$C$30)*($A615>=Ввод!$E$1:$E$30)*($A615<=Ввод!$F$1:$F$30),Ввод!$D$1:$D$30,\"\"),\" / \")","v":""},{"$f":"MyJoin(IF((E$2=Ввод!$C$1:$C$30)*($A615>=Ввод!$E$1:$E$30)*($A615<=Ввод!$F$1:$F$30),Ввод!$D$1:$D$30,\"\"),\" / \")","v":""},{"$f":"MyJoin(IF((F$2=Ввод!$C$1:$C$30)*($A615>=Ввод!$E$1:$E$30)*($A615<=Ввод!$F$1:$F$30),Ввод!$D$1:$D$30,\"\"),\" / \")","v":""},"2023-08-31"]
["2023-09-01",{"$f":"MyJoin(IF((B$2=Ввод!$C$1:$C$30)*($A616>=Ввод!$E$1:$E$30)*($A616<=Ввод!$F$1:$F$30),Ввод!$D$1:$D$30,\"\"),\" / \")","v":""},{"$f":"MyJoin(IF((C$2=Ввод!$C$1:$C$30)*($A616>=Ввод!$E$1:$E$30)*($A616<=Ввод!$F$1:$F$30),Ввод!$D$1:$D$30,\"\"),\" / \")","v":""},{"$f":"MyJoin(IF((D$2=Ввод!$C$1:$C$30)*($A616>=Ввод!$E$1:$E$30)*($A616<=Ввод!$F$1:$F$30),Ввод!$D$1:$D$30,\"\"),\" / \")","v":""},{"$f":"MyJoin(IF((E$2=Ввод!$C$1:$C$30)*($A616>=Ввод!$E$1:$E$30)*($A616<=Ввод!$F$1:$F$30),Ввод!$D$1:$D$30,\"\"),\" / \")","v":""},{"$f":"MyJoin(IF((F$2=Ввод!$C$1:$C$30)*($A616>=Ввод!$E$1:$E$30)*($A616<=Ввод!$F$1:$F$30),Ввод!$D$1:$D$30,\"\"),\" / \")","v":""},"2023-09-01"]
["2023-09-02",{"$f":"MyJoin(IF((B$2=Ввод!$C$1:$C$30)*($A617>=Ввод!$E$1:$E$30)*($A617<=Ввод!$F$1:$F$30),Ввод!$D$1:$D$30,\"\"),\" / \")","v":""},{"$f":"MyJoin(IF((C$2=Ввод!$C$1:$C$30)*($A617>=Ввод!$E$1:$E$30)*($A617<=Ввод!$F$1:$F$30),Ввод!$D$1:$D$30,\"\"),\" / \")","v":""},{"$f":"MyJoin(IF((D$2=Ввод!$C$1:$C$30)*($A617>=Ввод!$E$1:$E$30)*($A617<=Ввод!$F$1:$F$30),Ввод!$D$1:$D$30,\"\"),\" / \")","v":""},{"$f":"MyJoin(IF((E$2=Ввод!$C$1:$C$30)*($A617>=Ввод!$E$1:$E$30)*($A617<=Ввод!$F$1:$F$30),Ввод!$D$1:$D$30,\"\"),\" / \")","v":""},{"$f":"MyJoin(IF((F$2=Ввод!$C$1:$C$30)*($A617>=Ввод!$E$1:$E$30)*($A617<=Ввод!$F$1:$F$30),Ввод!$D$1:$D$30,\"\"),\" / \")","v":""},"2023-09-02"]
["2023-09-03",{"$f":"MyJoin(IF((B$2=Ввод!$C$1:$C$30)*($A618>=Ввод!$E$1:$E$30)*($A618<=Ввод!$F$1:$F$30),Ввод!$D$1:$D$30,\"\"),\" / \")","v":""},{"$f":"MyJoin(IF((C$2=Ввод!$C$1:$C$30)*($A618>=Ввод!$E$1:$E$30)*($A618<=Ввод!$F$1:$F$30),Ввод!$D$1:$D$30,\"\"),\" / \")","v":""},{"$f":"MyJoin(IF((D$2=Ввод!$C$1:$C$30)*($A618>=Ввод!$E$1:$E$30)*($A618<=Ввод!$F$1:$F$30),Ввод!$D$1:$D$30,\"\"),\" / \")","v":""},{"$f":"MyJoin(IF((E$2=Ввод!$C$1:$C$30)*($A618>=Ввод!$E$1:$E$30)*($A618<=Ввод!$F$1:$F$30),Ввод!$D$1:$D$30,\"\"),\" / \")","v":""},{"$f":"MyJoin(IF((F$2=Ввод!$C$1:$C$30)*($A618>=Ввод!$E$1:$E$30)*($A618<=Ввод!$F$1:$F$30),Ввод!$D$1:$D$30,\"\"),\" / \")","v":""},"2023-09-03"]
["2023-09-04",{"$f":"MyJoin(IF((B$2=Ввод!$C$1:$C$30)*($A619>=Ввод!$E$1:$E$30)*($A619<=Ввод!$F$1:$F$30),Ввод!$D$1:$D$30,\"\"),\" / \")","v":""},{"$f":"MyJoin(IF((C$2=Ввод!$C$1:$C$30)*($A619>=Ввод!$E$1:$E$30)*($A619<=Ввод!$F$1:$F$30),Ввод!$D$1:$D$30,\"\"),\" / \")","v":""},{"$f":"MyJoin(IF((D$2=Ввод!$C$1:$C$30)*($A619>=Ввод!$E$1:$E$30)*($A619<=Ввод!$F$1:$F$30),Ввод!$D$1:$D$30,\"\"),\" / \")","v":""},{"$f":"MyJoin(IF((E$2=Ввод!$C$1:$C$30)*($A619>=Ввод!$E$1:$E$30)*($A619<=Ввод!$F$1:$F$30),Ввод!$D$1:$D$30,\"\"),\" / \")","v":""},{"$f":"MyJoin(IF((F$2=Ввод!$C$1:$C$30)*($A619>=Ввод!$E$1:$E$30)*($A619<=Ввод!$F$1:$F$30),Ввод!$D$1:$D$30,\"\"),\" / \")","v":""},"2023-09-04"]
["2023-09-05",{"$f":"MyJoin(IF((B$2=Ввод!$C$1:$C$30)*($A620>=Ввод!$E$1:$E$30)*($A620<=Ввод!$F$1:$F$30),Ввод!$D$1:$D$30,\"\"),\" / \")","v":""},{"$f":"MyJoin(IF((C$2=Ввод!$C$1:$C$30)*($A620>=Ввод!$E$1:$E$30)*($A620<=Ввод!$F$1:$F$30),Ввод!$D$1:$D$30,\"\"),\" / \")","v":""},{"$f":"MyJoin(IF((D$2=Ввод!$C$1:$C$30)*($A620>=Ввод!$E$1:$E$30)*($A620<=Ввод!$F$1:$F$30),Ввод!$D$1:$D$30,\"\"),\" / \")","v":""},{"$f":"MyJoin(IF((E$2=Ввод!$C$1:$C$30)*($A620>=Ввод!$E$1:$E$30)*($A620<=Ввод!$F$1:$F$30),Ввод!$D$1:$D$30,\"\"),\" / \")","v":""},{"$f":"MyJoin(IF((F$2=Ввод!$C$1:$C$30)*($A620>=Ввод!$E$1:$E$30)*($A620<=Ввод!$F$1:$F$30),Ввод!$D$1:$D$30,\"\"),\" / \")","v":""},"2023-09-05"]
["2023-09-06",{"$f":"MyJoin(IF((B$2=Ввод!$C$1:$C$30)*($A621>=Ввод!$E$1:$E$30)*($A621<=Ввод!$F$1:$F$30),Ввод!$D$1:$D$30,\"\"),\" / \")","v":""},{"$f":"MyJoin(IF((C$2=Ввод!$C$1:$C$30)*($A621>=Ввод!$E$1:$E$30)*($A621<=Ввод!$F$1:$F$30),Ввод!$D$1:$D$30,\"\"),\" / \")","v":""},{"$f":"MyJoin(IF((D$2=Ввод!$C$1:$C$30)*($A621>=Ввод!$E$1:$E$30)*($A621<=Ввод!$F$1:$F$30),Ввод!$D$1:$D$30,\"\"),\" / \")","v":""},{"$f":"MyJoin(IF((E$2=Ввод!$C$1:$C$30)*($A621>=Ввод!$E$1:$E$30)*($A621<=Ввод!$F$1:$F$30),Ввод!$D$1:$D$30,\"\"),\" / \")","v":""},{"$f":"MyJoin(IF((F$2=Ввод!$C$1:$C$30)*($A621>=Ввод!$E$1:$E$30)*($A621<=Ввод!$F$1:$F$30),Ввод!$D$1:$D$30,\"\"),\" / \")","v":""},"2023-09-06"]
["2023-09-07",{"$f":"MyJoin(IF((B$2=Ввод!$C$1:$C$30)*($A622>=Ввод!$E$1:$E$30)*($A622<=Ввод!$F$1:$F$30),Ввод!$D$1:$D$30,\"\"),\" / \")","v":""},{"$f":"MyJoin(IF((C$2=Ввод!$C$1:$C$30)*($A622>=Ввод!$E$1:$E$30)*($A622<=Ввод!$F$1:$F$30),Ввод!$D$1:$D$30,\"\"),\" / \")","v":""},{"$f":"MyJoin(IF((D$2=Ввод!$C$1:$C$30)*($A622>=Ввод!$E$1:$E$30)*($A622<=Ввод!$F$1:$F$30),Ввод!$D$1:$D$30,\"\"),\" / \")","v":""},{"$f":"MyJoin(IF((E$2=Ввод!$C$1:$C$30)*($A622>=Ввод!$E$1:$E$30)*($A622<=Ввод!$F$1:$F$30),Ввод!$D$1:$D$30,\"\"),\" / \")","v":""},{"$f":"MyJoin(IF((F$2=Ввод!$C$1:$C$30)*($A622>=Ввод!$E$1:$E$30)*($A622<=Ввод!$F$1:$F$30),Ввод!$D$1:$D$30,\"\"),\" / \")","v":""},"2023-09-07"]
["2023-09-08",{"$f":"MyJoin(IF((B$2=Ввод!$C$1:$C$30)*($A623>=Ввод!$E$1:$E$30)*($A623<=Ввод!$F$1:$F$30),Ввод!$D$1:$D$30,\"\"),\" / \")","v":""},{"$f":"MyJoin(IF((C$2=Ввод!$C$1:$C$30)*($A623>=Ввод!$E$1:$E$30)*($A623<=Ввод!$F$1:$F$30),Ввод!$D$1:$D$30,\"\"),\" / \")","v":""},{"$f":"MyJoin(IF((D$2=Ввод!$C$1:$C$30)*($A623>=Ввод!$E$1:$E$30)*($A623<=Ввод!$F$1:$F$30),Ввод!$D$1:$D$30,\"\"),\" / \")","v":""},{"$f":"MyJoin(IF((E$2=Ввод!$C$1:$C$30)*($A623>=Ввод!$E$1:$E$30)*($A623<=Ввод!$F$1:$F$30),Ввод!$D$1:$D$30,\"\"),\" / \")","v":""},{"$f":"MyJoin(IF((F$2=Ввод!$C$1:$C$30)*($A623>=Ввод!$E$1:$E$30)*($A623<=Ввод!$F$1:$F$30),Ввод!$D$1:$D$30,\"\"),\" / \")","v":""},"2023-09-08"]
["2023-09-09",{"$f":"MyJoin(IF((B$2=Ввод!$C$1:$C$30)*($A624>=Ввод!$E$1:$E$30)*($A624<=Ввод!$F$1:$F$30),Ввод!$D$1:$D$30,\"\"),\" / \")","v":""},{"$f":"MyJoin(IF((C$2=Ввод!$C$1:$C$30)*($A624>=Ввод!$E$1:$E$30)*($A624<=Ввод!$F$1:$F$30),Ввод!$D$1:$D$30,\"\"),\" / \")","v":""},{"$f":"MyJoin(IF((D$2=Ввод!$C$1:$C$30)*($A624>=Ввод!$E$1:$E$30)*($A624<=Ввод!$F$1:$F$30),Ввод!$D$1:$D$30,\"\"),\" / \")","v":""},{"$f":"MyJoin(IF((E$2=Ввод!$C$1:$C$30)*($A624>=Ввод!$E$1:$E$30)*($A624<=Ввод!$F$1:$F$30),Ввод!$D$1:$D$30,\"\"),\" / \")","v":""},{"$f":"MyJoin(IF((F$2=Ввод!$C$1:$C$30)*($A624>=Ввод!$E$1:$E$30)*($A624<=Ввод!$F$1:$F$30),Ввод!$D$1:$D$30,\"\"),\" / \")","v":""},"2023-09-09"]
["2023-09-10",{"$f":"MyJoin(IF((B$2=Ввод!$C$1:$C$30)*($A625>=Ввод!$E$1:$E$30)*($A625<=Ввод!$F$1:$F$30),Ввод!$D$1:$D$30,\"\"),\" / \")","v":""},{"$f":"MyJoin(IF((C$2=Ввод!$C$1:$C$30)*($A625>=Ввод!$E$1:$E$30)*($A625<=Ввод!$F$1:$F$30),Ввод!$D$1:$D$30,\"\"),\" / \")","v":""},{"$f":"MyJoin(IF((D$2=Ввод!$C$1:$C$30)*($A625>=Ввод!$E$1:$E$30)*($A625<=Ввод!$F$1:$F$30),Ввод!$D$1:$D$30,\"\"),\" / \")","v":""},{"$f":"MyJoin(IF((E$2=Ввод!$C$1:$C$30)*($A625>=Ввод!$E$1:$E$30)*($A625<=Ввод!$F$1:$F$30),Ввод!$D$1:$D$30,\"\"),\" / \")","v":""},{"$f":"MyJoin(IF((F$2=Ввод!$C$1:$C$30)*($A625>=Ввод!$E$1:$E$30)*($A625<=Ввод!$F$1:$F$30),Ввод!$D$1:$D$30,\"\"),\" / \")","v":""},"2023-09-10"]
["2023-09-11",{"$f":"MyJoin(IF((B$2=Ввод!$C$1:$C$30)*($A626>=Ввод!$E$1:$E$30)*($A626<=Ввод!$F$1:$F$30),Ввод!$D$1:$D$30,\"\"),\" / \")","v":""},{"$f":"MyJoin(IF((C$2=Ввод!$C$1:$C$30)*($A626>=Ввод!$E$1:$E$30)*($A626<=Ввод!$F$1:$F$30),Ввод!$D$1:$D$30,\"\"),\" / \")","v":""},{"$f":"MyJoin(IF((D$2=Ввод!$C$1:$C$30)*($A626>=Ввод!$E$1:$E$30)*($A626<=Ввод!$F$1:$F$30),Ввод!$D$1:$D$30,\"\"),\" / \")","v":""},{"$f":"MyJoin(IF((E$2=Ввод!$C$1:$C$30)*($A626>=Ввод!$E$1:$E$30)*($A626<=Ввод!$F$1:$F$30),Ввод!$D$1:$D$30,\"\"),\" / \")","v":""},{"$f":"MyJoin(IF((F$2=Ввод!$C$1:$C$30)*($A626>=Ввод!$E$1:$E$30)*($A626<=Ввод!$F$1:$F$30),Ввод!$D$1:$D$30,\"\"),\" / \")","v":""},"2023-09-11"]
["2023-09-12",{"$f":"MyJoin(IF((B$2=Ввод!$C$1:$C$30)*($A627>=Ввод!$E$1:$E$30)*($A627<=Ввод!$F$1:$F$30),Ввод!$D$1:$D$30,\"\"),\" / \")","v":""},{"$f":"MyJoin(IF((C$2=Ввод!$C$1:$C$30)*($A627>=Ввод!$E$1:$E$30)*($A627<=Ввод!$F$1:$F$30),Ввод!$D$1:$D$30,\"\"),\" / \")","v":""},{"$f":"MyJoin(IF((D$2=Ввод!$C$1:$C$30)*($A627>=Ввод!$E$1:$E$30)*($A627<=Ввод!$F$1:$F$30),Ввод!$D$1:$D$30,\"\"),\" / \")","v":""},{"$f":"MyJoin(IF((E$2=Ввод!$C$1:$C$30)*($A627>=Ввод!$E$1:$E$30)*($A627<=Ввод!$F$1:$F$30),Ввод!$D$1:$D$30,\"\"),\" / \")","v":""},{"$f":"MyJoin(IF((F$2=Ввод!$C$1:$C$30)*($A627>=Ввод!$E$1:$E$30)*($A627<=Ввод!$F$1:$F$30),Ввод!$D$1:$D$30,\"\"),\" / \")","v":""},"2023-09-12"]
["2023-09-13",{"$f":"MyJoin(IF((B$2=Ввод!$C$1:$C$30)*($A628>=Ввод!$E$1:$E$30)*($A628<=Ввод!$F$1:$F$30),Ввод!$D$1:$D$30,\"\"),\" / \")","v":""},{"$f":"MyJoin(IF((C$2=Ввод!$C$1:$C$30)*($A628>=Ввод!$E$1:$E$30)*($A628<=Ввод!$F$1:$F$30),Ввод!$D$1:$D$30,\"\"),\" / \")","v":""},{"$f":"MyJoin(IF((D$2=Ввод!$C$1:$C$30)*($A628>=Ввод!$E$1:$E$30)*($A628<=Ввод!$F$1:$F$30),Ввод!$D$1:$D$30,\"\"),\" / \")","v":""},{"$f":"MyJoin(IF((E$2=Ввод!$C$1:$C$30)*($A628>=Ввод!$E$1:$E$30)*($A628<=Ввод!$F$1:$F$30),Ввод!$D$1:$D$30,\"\"),\" / \")","v":""},{"$f":"MyJoin(IF((F$2=Ввод!$C$1:$C$30)*($A628>=Ввод!$E$1:$E$30)*($A628<=Ввод!$F$1:$F$30),Ввод!$D$1:$D$30,\"\"),\" / \")","v":""},"2023-09-13"]
["2023-09-14",{"$f":"MyJoin(IF((B$2=Ввод!$C$1:$C$30)*($A629>=Ввод!$E$1:$E$30)*($A629<=Ввод!$F$1:$F$30),Ввод!$D$1:$D$30,\"\"),\" / \")","v":""},{"$f":"MyJoin(IF((C$2=Ввод!$C$1:$C$30)*($A629>=Ввод!$E$1:$E$30)*($A629<=Ввод!$F$1:$F$30),Ввод!$D$1:$D$30,\"\"),\" / \")","v":""},{"$f":"MyJoin(IF((D$2=Ввод!$C$1:$C$30)*($A629>=Ввод!$E$1:$E$30)*($A629<=Ввод!$F$1:$F$30),Ввод!$D$1:$D$30,\"\"),\" / \")","v":""},{"$f":"MyJoin(IF((E$2=Ввод!$C$1:$C$30)*($A629>=Ввод!$E$1:$E$30)*($A629<=Ввод!$F$1:$F$30),Ввод!$D$1:$D$30,\"\"),\" / \")","v":""},{"$f":"MyJoin(IF((F$2=Ввод!$C$1:$C$30)*($A629>=Ввод!$E$1:$E$30)*($A629<=Ввод!$F$1:$F$30),Ввод!$D$1:$D$30,\"\"),\" / \")","v":""},"2023-09-14"]
["2023-09-15",{"$f":"MyJoin(IF((B$2=Ввод!$C$1:$C$30)*($A630>=Ввод!$E$1:$E$30)*($A630<=Ввод!$F$1:$F$30),Ввод!$D$1:$D$30,\"\"),\" / \")","v":""},{"$f":"MyJoin(IF((C$2=Ввод!$C$1:$C$30)*($A630>=Ввод!$E$1:$E$30)*($A630<=Ввод!$F$1:$F$30),Ввод!$D$1:$D$30,\"\"),\" / \")","v":""},{"$f":"MyJoin(IF((D$2=Ввод!$C$1:$C$30)*($A630>=Ввод!$E$1:$E$30)*($A630<=Ввод!$F$1:$F$30),Ввод!$D$1:$D$30,\"\"),\" / \")","v":""},{"$f":"MyJoin(IF((E$2=Ввод!$C$1:$C$30)*($A630>=Ввод!$E$1:$E$30)*($A630<=Ввод!$F$1:$F$30),Ввод!$D$1:$D$30,\"\"),\" / \")","v":""},{"$f":"MyJoin(IF((F$2=Ввод!$C$1:$C$30)*($A630>=Ввод!$E$1:$E$30)*($A630<=Ввод!$F$1:$F$30),Ввод!$D$1:$D$30,\"\"),\" / \")","v":""},"2023-09-15"]
["2023-09-16",{"$f":"MyJoin(IF((B$2=Ввод!$C$1:$C$30)*($A631>=Ввод!$E$1:$E$30)*($A631<=Ввод!$F$1:$F$30),Ввод!$D$1:$D$30,\"\"),\" / \")","v":""},{"$f":"MyJoin(IF((C$2=Ввод!$C$1:$C$30)*($A631>=Ввод!$E$1:$E$30)*($A631<=Ввод!$F$1:$F$30),Ввод!$D$1:$D$30,\"\"),\" / \")","v":""},{"$f":"MyJoin(IF((D$2=Ввод!$C$1:$C$30)*($A631>=Ввод!$E$1:$E$30)*($A631<=Ввод!$F$1:$F$30),Ввод!$D$1:$D$30,\"\"),\" / \")","v":""},{"$f":"MyJoin(IF((E$2=Ввод!$C$1:$C$30)*($A631>=Ввод!$E$1:$E$30)*($A631<=Ввод!$F$1:$F$30),Ввод!$D$1:$D$30,\"\"),\" / \")","v":""},{"$f":"MyJoin(IF((F$2=Ввод!$C$1:$C$30)*($A631>=Ввод!$E$1:$E$30)*($A631<=Ввод!$F$1:$F$30),Ввод!$D$1:$D$30,\"\"),\" / \")","v":""},"2023-09-16"]
["2023-09-17",{"$f":"MyJoin(IF((B$2=Ввод!$C$1:$C$30)*($A632>=Ввод!$E$1:$E$30)*($A632<=Ввод!$F$1:$F$30),Ввод!$D$1:$D$30,\"\"),\" / \")","v":""},{"$f":"MyJoin(IF((C$2=Ввод!$C$1:$C$30)*($A632>=Ввод!$E$1:$E$30)*($A632<=Ввод!$F$1:$F$30),Ввод!$D$1:$D$30,\"\"),\" / \")","v":""},{"$f":"MyJoin(IF((D$2=Ввод!$C$1:$C$30)*($A632>=Ввод!$E$1:$E$30)*($A632<=Ввод!$F$1:$F$30),Ввод!$D$1:$D$30,\"\"),\" / \")","v":""},{"$f":"MyJoin(IF((E$2=Ввод!$C$1:$C$30)*($A632>=Ввод!$E$1:$E$30)*($A632<=Ввод!$F$1:$F$30),Ввод!$D$1:$D$30,\"\"),\" / \")","v":""},{"$f":"MyJoin(IF((F$2=Ввод!$C$1:$C$30)*($A632>=Ввод!$E$1:$E$30)*($A632<=Ввод!$F$1:$F$30),Ввод!$D$1:$D$30,\"\"),\" / \")","v":""},"2023-09-17"]
["2023-09-18",{"$f":"MyJoin(IF((B$2=Ввод!$C$1:$C$30)*($A633>=Ввод!$E$1:$E$30)*($A633<=Ввод!$F$1:$F$30),Ввод!$D$1:$D$30,\"\"),\" / \")","v":""},{"$f":"MyJoin(IF((C$2=Ввод!$C$1:$C$30)*($A633>=Ввод!$E$1:$E$30)*($A633<=Ввод!$F$1:$F$30),Ввод!$D$1:$D$30,\"\"),\" / \")","v":""},{"$f":"MyJoin(IF((D$2=Ввод!$C$1:$C$30)*($A633>=Ввод!$E$1:$E$30)*($A633<=Ввод!$F$1:$F$30),Ввод!$D$1:$D$30,\"\"),\" / \")","v":""},{"$f":"MyJoin(IF((E$2=Ввод!$C$1:$C$30)*($A633>=Ввод!$E$1:$E$30)*($A633<=Ввод!$F$1:$F$30),Ввод!$D$1:$D$30,\"\"),\" / \")","v":""},{"$f":"MyJoin(IF((F$2=Ввод!$C$1:$C$30)*($A633>=Ввод!$E$1:$E$30)*($A633<=Ввод!$F$1:$F$30),Ввод!$D$1:$D$30,\"\"),\" / \")","v":""},"2023-09-18"]
["2023-09-19",{"$f":"MyJoin(IF((B$2=Ввод!$C$1:$C$30)*($A634>=Ввод!$E$1:$E$30)*($A634<=Ввод!$F$1:$F$30),Ввод!$D$1:$D$30,\"\"),\" / \")","v":""},{"$f":"MyJoin(IF((C$2=Ввод!$C$1:$C$30)*($A634>=Ввод!$E$1:$E$30)*($A634<=Ввод!$F$1:$F$30),Ввод!$D$1:$D$30,\"\"),\" / \")","v":""},{"$f":"MyJoin(IF((D$2=Ввод!$C$1:$C$30)*($A634>=Ввод!$E$1:$E$30)*($A634<=Ввод!$F$1:$F$30),Ввод!$D$1:$D$30,\"\"),\" / \")","v":""},{"$f":"MyJoin(IF((E$2=Ввод!$C$1:$C$30)*($A634>=Ввод!$E$1:$E$30)*($A634<=Ввод!$F$1:$F$30),Ввод!$D$1:$D$30,\"\"),\" / \")","v":""},{"$f":"MyJoin(IF((F$2=Ввод!$C$1:$C$30)*($A634>=Ввод!$E$1:$E$30)*($A634<=Ввод!$F$1:$F$30),Ввод!$D$1:$D$30,\"\"),\" / \")","v":""},"2023-09-19"]
["2023-09-20",{"$f":"MyJoin(IF((B$2=Ввод!$C$1:$C$30)*($A635>=Ввод!$E$1:$E$30)*($A635<=Ввод!$F$1:$F$30),Ввод!$D$1:$D$30,\"\"),\" / \")","v":""},{"$f":"MyJoin(IF((C$2=Ввод!$C$1:$C$30)*($A635>=Ввод!$E$1:$E$30)*($A635<=Ввод!$F$1:$F$30),Ввод!$D$1:$D$30,\"\"),\" / \")","v":""},{"$f":"MyJoin(IF((D$2=Ввод!$C$1:$C$30)*($A635>=Ввод!$E$1:$E$30)*($A635<=Ввод!$F$1:$F$30),Ввод!$D$1:$D$30,\"\"),\" / \")","v":""},{"$f":"MyJoin(IF((E$2=Ввод!$C$1:$C$30)*($A635>=Ввод!$E$1:$E$30)*($A635<=Ввод!$F$1:$F$30),Ввод!$D$1:$D$30,\"\"),\" / \")","v":""},{"$f":"MyJoin(IF((F$2=Ввод!$C$1:$C$30)*($A635>=Ввод!$E$1:$E$30)*($A635<=Ввод!$F$1:$F$30),Ввод!$D$1:$D$30,\"\"),\" / \")","v":""},"2023-09-20"]
["2023-09-21",{"$f":"MyJoin(IF((B$2=Ввод!$C$1:$C$30)*($A636>=Ввод!$E$1:$E$30)*($A636<=Ввод!$F$1:$F$30),Ввод!$D$1:$D$30,\"\"),\" / \")","v":""},{"$f":"MyJoin(IF((C$2=Ввод!$C$1:$C$30)*($A636>=Ввод!$E$1:$E$30)*($A636<=Ввод!$F$1:$F$30),Ввод!$D$1:$D$30,\"\"),\" / \")","v":""},{"$f":"MyJoin(IF((D$2=Ввод!$C$1:$C$30)*($A636>=Ввод!$E$1:$E$30)*($A636<=Ввод!$F$1:$F$30),Ввод!$D$1:$D$30,\"\"),\" / \")","v":""},{"$f":"MyJoin(IF((E$2=Ввод!$C$1:$C$30)*($A636>=Ввод!$E$1:$E$30)*($A636<=Ввод!$F$1:$F$30),Ввод!$D$1:$D$30,\"\"),\" / \")","v":""},{"$f":"MyJoin(IF((F$2=Ввод!$C$1:$C$30)*($A636>=Ввод!$E$1:$E$30)*($A636<=Ввод!$F$1:$F$30),Ввод!$D$1:$D$30,\"\"),\" / \")","v":""},"2023-09-21"]
["2023-09-22",{"$f":"MyJoin(IF((B$2=Ввод!$C$1:$C$30)*($A637>=Ввод!$E$1:$E$30)*($A637<=Ввод!$F$1:$F$30),Ввод!$D$1:$D$30,\"\"),\" / \")","v":""},{"$f":"MyJoin(IF((C$2=Ввод!$C$1:$C$30)*($A637>=Ввод!$E$1:$E$30)*($A637<=Ввод!$F$1:$F$30),Ввод!$D$1:$D$30,\"\"),\" / \")","v":""},{"$f":"MyJoin(IF((D$2=Ввод!$C$1:$C$30)*($A637>=Ввод!$E$1:$E$30)*($A637<=Ввод!$F$1:$F$30),Ввод!$D$1:$D$30,\"\"),\" / \")","v":""},{"$f":"MyJoin(IF((E$2=Ввод!$C$1:$C$30)*($A637>=Ввод!$E$1:$E$30)*($A637<=Ввод!$F$1:$F$30),Ввод!$D$1:$D$30,\"\"),\" / \")","v":""},{"$f":"MyJoin(IF((F$2=Ввод!$C$1:$C$30)*($A637>=Ввод!$E$1:$E$30)*($A637<=Ввод!$F$1:$F$30),Ввод!$D$1:$D$30,\"\"),\" / \")","v":""},"2023-09-22"]
["2023-09-23",{"$f":"MyJoin(IF((B$2=Ввод!$C$1:$C$30)*($A638>=Ввод!$E$1:$E$30)*($A638<=Ввод!$F$1:$F$30),Ввод!$D$1:$D$30,\"\"),\" / \")","v":""},{"$f":"MyJoin(IF((C$2=Ввод!$C$1:$C$30)*($A638>=Ввод!$E$1:$E$30)*($A638<=Ввод!$F$1:$F$30),Ввод!$D$1:$D$30,\"\"),\" / \")","v":""},{"$f":"MyJoin(IF((D$2=Ввод!$C$1:$C$30)*($A638>=Ввод!$E$1:$E$30)*($A638<=Ввод!$F$1:$F$30),Ввод!$D$1:$D$30,\"\"),\" / \")","v":""},{"$f":"MyJoin(IF((E$2=Ввод!$C$1:$C$30)*($A638>=Ввод!$E$1:$E$30)*($A638<=Ввод!$F$1:$F$30),Ввод!$D$1:$D$30,\"\"),\" / \")","v":""},{"$f":"MyJoin(IF((F$2=Ввод!$C$1:$C$30)*($A638>=Ввод!$E$1:$E$30)*($A638<=Ввод!$F$1:$F$30),Ввод!$D$1:$D$30,\"\"),\" / \")","v":""},"2023-09-23"]
["2023-09-24",{"$f":"MyJoin(IF((B$2=Ввод!$C$1:$C$30)*($A639>=Ввод!$E$1:$E$30)*($A639<=Ввод!$F$1:$F$30),Ввод!$D$1:$D$30,\"\"),\" / \")","v":""},{"$f":"MyJoin(IF((C$2=Ввод!$C$1:$C$30)*($A639>=Ввод!$E$1:$E$30)*($A639<=Ввод!$F$1:$F$30),Ввод!$D$1:$D$30,\"\"),\" / \")","v":""},{"$f":"MyJoin(IF((D$2=Ввод!$C$1:$C$30)*($A639>=Ввод!$E$1:$E$30)*($A639<=Ввод!$F$1:$F$30),Ввод!$D$1:$D$30,\"\"),\" / \")","v":""},{"$f":"MyJoin(IF((E$2=Ввод!$C$1:$C$30)*($A639>=Ввод!$E$1:$E$30)*($A639<=Ввод!$F$1:$F$30),Ввод!$D$1:$D$30,\"\"),\" / \")","v":""},{"$f":"MyJoin(IF((F$2=Ввод!$C$1:$C$30)*($A639>=Ввод!$E$1:$E$30)*($A639<=Ввод!$F$1:$F$30),Ввод!$D$1:$D$30,\"\"),\" / \")","v":""},"2023-09-24"]
["2023-09-25",{"$f":"MyJoin(IF((B$2=Ввод!$C$1:$C$30)*($A640>=Ввод!$E$1:$E$30)*($A640<=Ввод!$F$1:$F$30),Ввод!$D$1:$D$30,\"\"),\" / \")","v":""},{"$f":"MyJoin(IF((C$2=Ввод!$C$1:$C$30)*($A640>=Ввод!$E$1:$E$30)*($A640<=Ввод!$F$1:$F$30),Ввод!$D$1:$D$30,\"\"),\" / \")","v":""},{"$f":"MyJoin(IF((D$2=Ввод!$C$1:$C$30)*($A640>=Ввод!$E$1:$E$30)*($A640<=Ввод!$F$1:$F$30),Ввод!$D$1:$D$30,\"\"),\" / \")","v":""},{"$f":"MyJoin(IF((E$2=Ввод!$C$1:$C$30)*($A640>=Ввод!$E$1:$E$30)*($A640<=Ввод!$F$1:$F$30),Ввод!$D$1:$D$30,\"\"),\" / \")","v":""},{"$f":"MyJoin(IF((F$2=Ввод!$C$1:$C$30)*($A640>=Ввод!$E$1:$E$30)*($A640<=Ввод!$F$1:$F$30),Ввод!$D$1:$D$30,\"\"),\" / \")","v":""},"2023-09-25"]
["2023-09-26",{"$f":"MyJoin(IF((B$2=Ввод!$C$1:$C$30)*($A641>=Ввод!$E$1:$E$30)*($A641<=Ввод!$F$1:$F$30),Ввод!$D$1:$D$30,\"\"),\" / \")","v":""},{"$f":"MyJoin(IF((C$2=Ввод!$C$1:$C$30)*($A641>=Ввод!$E$1:$E$30)*($A641<=Ввод!$F$1:$F$30),Ввод!$D$1:$D$30,\"\"),\" / \")","v":""},{"$f":"MyJoin(IF((D$2=Ввод!$C$1:$C$30)*($A641>=Ввод!$E$1:$E$30)*($A641<=Ввод!$F$1:$F$30),Ввод!$D$1:$D$30,\"\"),\" / \")","v":""},{"$f":"MyJoin(IF((E$2=Ввод!$C$1:$C$30)*($A641>=Ввод!$E$1:$E$30)*($A641<=Ввод!$F$1:$F$30),Ввод!$D$1:$D$30,\"\"),\" / \")","v":""},{"$f":"MyJoin(IF((F$2=Ввод!$C$1:$C$30)*($A641>=Ввод!$E$1:$E$30)*($A641<=Ввод!$F$1:$F$30),Ввод!$D$1:$D$30,\"\"),\" / \")","v":""},"2023-09-26"]
["2023-09-27",{"$f":"MyJoin(IF((B$2=Ввод!$C$1:$C$30)*($A642>=Ввод!$E$1:$E$30)*($A642<=Ввод!$F$1:$F$30),Ввод!$D$1:$D$30,\"\"),\" / \")","v":""},{"$f":"MyJoin(IF((C$2=Ввод!$C$1:$C$30)*($A642>=Ввод!$E$1:$E$30)*($A642<=Ввод!$F$1:$F$30),Ввод!$D$1:$D$30,\"\"),\" / \")","v":""},{"$f":"MyJoin(IF((D$2=Ввод!$C$1:$C$30)*($A642>=Ввод!$E$1:$E$30)*($A642<=Ввод!$F$1:$F$30),Ввод!$D$1:$D$30,\"\"),\" / \")","v":""},{"$f":"MyJoin(IF((E$2=Ввод!$C$1:$C$30)*($A642>=Ввод!$E$1:$E$30)*($A642<=Ввод!$F$1:$F$30),Ввод!$D$1:$D$30,\"\"),\" / \")","v":""},{"$f":"MyJoin(IF((F$2=Ввод!$C$1:$C$30)*($A642>=Ввод!$E$1:$E$30)*($A642<=Ввод!$F$1:$F$30),Ввод!$D$1:$D$30,\"\"),\" / \")","v":""},"2023-09-27"]
["2023-09-28",{"$f":"MyJoin(IF((B$2=Ввод!$C$1:$C$30)*($A643>=Ввод!$E$1:$E$30)*($A643<=Ввод!$F$1:$F$30),Ввод!$D$1:$D$30,\"\"),\" / \")","v":""},{"$f":"MyJoin(IF((C$2=Ввод!$C$1:$C$30)*($A643>=Ввод!$E$1:$E$30)*($A643<=Ввод!$F$1:$F$30),Ввод!$D$1:$D$30,\"\"),\" / \")","v":""},{"$f":"MyJoin(IF((D$2=Ввод!$C$1:$C$30)*($A643>=Ввод!$E$1:$E$30)*($A643<=Ввод!$F$1:$F$30),Ввод!$D$1:$D$30,\"\"),\" / \")","v":""},{"$f":"MyJoin(IF((E$2=Ввод!$C$1:$C$30)*($A643>=Ввод!$E$1:$E$30)*($A643<=Ввод!$F$1:$F$30),Ввод!$D$1:$D$30,\"\"),\" / \")","v":""},{"$f":"MyJoin(IF((F$2=Ввод!$C$1:$C$30)*($A643>=Ввод!$E$1:$E$30)*($A643<=Ввод!$F$1:$F$30),Ввод!$D$1:$D$30,\"\"),\" / \")","v":""},"2023-09-28"]
["2023-09-29",{"$f":"MyJoin(IF((B$2=Ввод!$C$1:$C$30)*($A644>=Ввод!$E$1:$E$30)*($A644<=Ввод!$F$1:$F$30),Ввод!$D$1:$D$30,\"\"),\" / \")","v":""},{"$f":"MyJoin(IF((C$2=Ввод!$C$1:$C$30)*($A644>=Ввод!$E$1:$E$30)*($A644<=Ввод!$F$1:$F$30),Ввод!$D$1:$D$30,\"\"),\" / \")","v":""},{"$f":"MyJoin(IF((D$2=Ввод!$C$1:$C$30)*($A644>=Ввод!$E$1:$E$30)*($A644<=Ввод!$F$1:$F$30),Ввод!$D$1:$D$30,\"\"),\" / \")","v":""},{"$f":"MyJoin(IF((E$2=Ввод!$C$1:$C$30)*($A644>=Ввод!$E$1:$E$30)*($A644<=Ввод!$F$1:$F$30),Ввод!$D$1:$D$30,\"\"),\" / \")","v":""},{"$f":"MyJoin(IF((F$2=Ввод!$C$1:$C$30)*($A644>=Ввод!$E$1:$E$30)*($A644<=Ввод!$F$1:$F$30),Ввод!$D$1:$D$30,\"\"),\" / \")","v":""},"2023-09-29"]
["2023-09-30",{"$f":"MyJoin(IF((B$2=Ввод!$C$1:$C$30)*($A645>=Ввод!$E$1:$E$30)*($A645<=Ввод!$F$1:$F$30),Ввод!$D$1:$D$30,\"\"),\" / \")","v":""},{"$f":"MyJoin(IF((C$2=Ввод!$C$1:$C$30)*($A645>=Ввод!$E$1:$E$30)*($A645<=Ввод!$F$1:$F$30),Ввод!$D$1:$D$30,\"\"),\" / \")","v":""},{"$f":"MyJoin(IF((D$2=Ввод!$C$1:$C$30)*($A645>=Ввод!$E$1:$E$30)*($A645<=Ввод!$F$1:$F$30),Ввод!$D$1:$D$30,\"\"),\" / \")","v":""},{"$f":"MyJoin(IF((E$2=Ввод!$C$1:$C$30)*($A645>=Ввод!$E$1:$E$30)*($A645<=Ввод!$F$1:$F$30),Ввод!$D$1:$D$30,\"\"),\" / \")","v":""},{"$f":"MyJoin(IF((F$2=Ввод!$C$1:$C$30)*($A645>=Ввод!$E$1:$E$30)*($A645<=Ввод!$F$1:$F$30),Ввод!$D$1:$D$30,\"\"),\" / \")","v":""},"2023-09-30"]
["2023-10-01",{"$f":"MyJoin(IF((B$2=Ввод!$C$1:$C$30)*($A646>=Ввод!$E$1:$E$30)*($A646<=Ввод!$F$1:$F$30),Ввод!$D$1:$D$30,\"\"),\" / \")","v":""},{"$f":"MyJoin(IF((C$2=Ввод!$C$1:$C$30)*($A646>=Ввод!$E$1:$E$30)*($A646<=Ввод!$F$1:$F$30),Ввод!$D$1:$D$30,\"\"),\" / \")","v":""},{"$f":"MyJoin(IF((D$2=Ввод!$C$1:$C$30)*($A646>=Ввод!$E$1:$E$30)*($A646<=Ввод!$F$1:$F$30),Ввод!$D$1:$D$30,\"\"),\" / \")","v":""},{"$f":"MyJoin(IF((E$2=Ввод!$C$1:$C$30)*($A646>=Ввод!$E$1:$E$30)*($A646<=Ввод!$F$1:$F$30),Ввод!$D$1:$D$30,\"\"),\" / \")","v":""},{"$f":"MyJoin(IF((F$2=Ввод!$C$1:$C$30)*($A646>=Ввод!$E$1:$E$30)*($A646<=Ввод!$F$1:$F$30),Ввод!$D$1:$D$30,\"\"),\" / \")","v":""},"2023-10-01"]
["2023-10-02",{"$f":"MyJoin(IF((B$2=Ввод!$C$1:$C$30)*($A647>=Ввод!$E$1:$E$30)*($A647<=Ввод!$F$1:$F$30),Ввод!$D$1:$D$30,\"\"),\" / \")","v":""},{"$f":"MyJoin(IF((C$2=Ввод!$C$1:$C$30)*($A647>=Ввод!$E$1:$E$30)*($A647<=Ввод!$F$1:$F$30),Ввод!$D$1:$D$30,\"\"),\" / \")","v":""},{"$f":"MyJoin(IF((D$2=Ввод!$C$1:$C$30)*($A647>=Ввод!$E$1:$E$30)*($A647<=Ввод!$F$1:$F$30),Ввод!$D$1:$D$30,\"\"),\" / \")","v":""},{"$f":"MyJoin(IF((E$2=Ввод!$C$1:$C$30)*($A647>=Ввод!$E$1:$E$30)*($A647<=Ввод!$F$1:$F$30),Ввод!$D$1:$D$30,\"\"),\" / \")","v":""},{"$f":"MyJoin(IF((F$2=Ввод!$C$1:$C$30)*($A647>=Ввод!$E$1:$E$30)*($A647<=Ввод!$F$1:$F$30),Ввод!$D$1:$D$30,\"\"),\" / \")","v":""},"2023-10-02"]
["2023-10-03",{"$f":"MyJoin(IF((B$2=Ввод!$C$1:$C$30)*($A648>=Ввод!$E$1:$E$30)*($A648<=Ввод!$F$1:$F$30),Ввод!$D$1:$D$30,\"\"),\" / \")","v":""},{"$f":"MyJoin(IF((C$2=Ввод!$C$1:$C$30)*($A648>=Ввод!$E$1:$E$30)*($A648<=Ввод!$F$1:$F$30),Ввод!$D$1:$D$30,\"\"),\" / \")","v":""},{"$f":"MyJoin(IF((D$2=Ввод!$C$1:$C$30)*($A648>=Ввод!$E$1:$E$30)*($A648<=Ввод!$F$1:$F$30),Ввод!$D$1:$D$30,\"\"),\" / \")","v":""},{"$f":"MyJoin(IF((E$2=Ввод!$C$1:$C$30)*($A648>=Ввод!$E$1:$E$30)*($A648<=Ввод!$F$1:$F$30),Ввод!$D$1:$D$30,\"\"),\" / \")","v":""},{"$f":"MyJoin(IF((F$2=Ввод!$C$1:$C$30)*($A648>=Ввод!$E$1:$E$30)*($A648<=Ввод!$F$1:$F$30),Ввод!$D$1:$D$30,\"\"),\" / \")","v":""},"2023-10-03"]
["2023-10-04",{"$f":"MyJoin(IF((B$2=Ввод!$C$1:$C$30)*($A649>=Ввод!$E$1:$E$30)*($A649<=Ввод!$F$1:$F$30),Ввод!$D$1:$D$30,\"\"),\" / \")","v":""},{"$f":"MyJoin(IF((C$2=Ввод!$C$1:$C$30)*($A649>=Ввод!$E$1:$E$30)*($A649<=Ввод!$F$1:$F$30),Ввод!$D$1:$D$30,\"\"),\" / \")","v":""},{"$f":"MyJoin(IF((D$2=Ввод!$C$1:$C$30)*($A649>=Ввод!$E$1:$E$30)*($A649<=Ввод!$F$1:$F$30),Ввод!$D$1:$D$30,\"\"),\" / \")","v":""},{"$f":"MyJoin(IF((E$2=Ввод!$C$1:$C$30)*($A649>=Ввод!$E$1:$E$30)*($A649<=Ввод!$F$1:$F$30),Ввод!$D$1:$D$30,\"\"),\" / \")","v":""},{"$f":"MyJoin(IF((F$2=Ввод!$C$1:$C$30)*($A649>=Ввод!$E$1:$E$30)*($A649<=Ввод!$F$1:$F$30),Ввод!$D$1:$D$30,\"\"),\" / \")","v":""},{"$f":"IF(A649=\"\",\"\",A649)","v":"2023-10-04"}]
["2023-10-05",{"$f":"MyJoin(IF((B$2=Ввод!$C$1:$C$30)*($A650>=Ввод!$E$1:$E$30)*($A650<=Ввод!$F$1:$F$30),Ввод!$D$1:$D$30,\"\"),\" / \")","v":""},{"$f":"MyJoin(IF((C$2=Ввод!$C$1:$C$30)*($A650>=Ввод!$E$1:$E$30)*($A650<=Ввод!$F$1:$F$30),Ввод!$D$1:$D$30,\"\"),\" / \")","v":""},{"$f":"MyJoin(IF((D$2=Ввод!$C$1:$C$30)*($A650>=Ввод!$E$1:$E$30)*($A650<=Ввод!$F$1:$F$30),Ввод!$D$1:$D$30,\"\"),\" / \")","v":""},{"$f":"MyJoin(IF((E$2=Ввод!$C$1:$C$30)*($A650>=Ввод!$E$1:$E$30)*($A650<=Ввод!$F$1:$F$30),Ввод!$D$1:$D$30,\"\"),\" / \")","v":""},{"$f":"MyJoin(IF((F$2=Ввод!$C$1:$C$30)*($A650>=Ввод!$E$1:$E$30)*($A650<=Ввод!$F$1:$F$30),Ввод!$D$1:$D$30,\"\"),\" / \")","v":""},"2023-10-05"]
["2023-10-06",{"$f":"MyJoin(IF((B$2=Ввод!$C$1:$C$30)*($A651>=Ввод!$E$1:$E$30)*($A651<=Ввод!$F$1:$F$30),Ввод!$D$1:$D$30,\"\"),\" / \")","v":""},{"$f":"MyJoin(IF((C$2=Ввод!$C$1:$C$30)*($A651>=Ввод!$E$1:$E$30)*($A651<=Ввод!$F$1:$F$30),Ввод!$D$1:$D$30,\"\"),\" / \")","v":""},{"$f":"MyJoin(IF((D$2=Ввод!$C$1:$C$30)*($A651>=Ввод!$E$1:$E$30)*($A651<=Ввод!$F$1:$F$30),Ввод!$D$1:$D$30,\"\"),\" / \")","v":""},{"$f":"MyJoin(IF((E$2=Ввод!$C$1:$C$30)*($A651>=Ввод!$E$1:$E$30)*($A651<=Ввод!$F$1:$F$30),Ввод!$D$1:$D$30,\"\"),\" / \")","v":""},{"$f":"MyJoin(IF((F$2=Ввод!$C$1:$C$30)*($A651>=Ввод!$E$1:$E$30)*($A651<=Ввод!$F$1:$F$30),Ввод!$D$1:$D$30,\"\"),\" / \")","v":""},"2023-10-06"]
["2023-10-07",{"$f":"MyJoin(IF((B$2=Ввод!$C$1:$C$30)*($A652>=Ввод!$E$1:$E$30)*($A652<=Ввод!$F$1:$F$30),Ввод!$D$1:$D$30,\"\"),\" / \")","v":""},{"$f":"MyJoin(IF((C$2=Ввод!$C$1:$C$30)*($A652>=Ввод!$E$1:$E$30)*($A652<=Ввод!$F$1:$F$30),Ввод!$D$1:$D$30,\"\"),\" / \")","v":""},{"$f":"MyJoin(IF((D$2=Ввод!$C$1:$C$30)*($A652>=Ввод!$E$1:$E$30)*($A652<=Ввод!$F$1:$F$30),Ввод!$D$1:$D$30,\"\"),\" / \")","v":""},{"$f":"MyJoin(IF((E$2=Ввод!$C$1:$C$30)*($A652>=Ввод!$E$1:$E$30)*($A652<=Ввод!$F$1:$F$30),Ввод!$D$1:$D$30,\"\"),\" / \")","v":""},{"$f":"MyJoin(IF((F$2=Ввод!$C$1:$C$30)*($A652>=Ввод!$E$1:$E$30)*($A652<=Ввод!$F$1:$F$30),Ввод!$D$1:$D$30,\"\"),\" / \")","v":""},"2023-10-07"]
["2023-10-08",{"$f":"MyJoin(IF((B$2=Ввод!$C$1:$C$30)*($A653>=Ввод!$E$1:$E$30)*($A653<=Ввод!$F$1:$F$30),Ввод!$D$1:$D$30,\"\"),\" / \")","v":""},{"$f":"MyJoin(IF((C$2=Ввод!$C$1:$C$30)*($A653>=Ввод!$E$1:$E$30)*($A653<=Ввод!$F$1:$F$30),Ввод!$D$1:$D$30,\"\"),\" / \")","v":""},{"$f":"MyJoin(IF((D$2=Ввод!$C$1:$C$30)*($A653>=Ввод!$E$1:$E$30)*($A653<=Ввод!$F$1:$F$30),Ввод!$D$1:$D$30,\"\"),\" / \")","v":""},{"$f":"MyJoin(IF((E$2=Ввод!$C$1:$C$30)*($A653>=Ввод!$E$1:$E$30)*($A653<=Ввод!$F$1:$F$30),Ввод!$D$1:$D$30,\"\"),\" / \")","v":""},{"$f":"MyJoin(IF((F$2=Ввод!$C$1:$C$30)*($A653>=Ввод!$E$1:$E$30)*($A653<=Ввод!$F$1:$F$30),Ввод!$D$1:$D$30,\"\"),\" / \")","v":""},"2023-10-08"]
["2023-10-09",{"$f":"MyJoin(IF((B$2=Ввод!$C$1:$C$30)*($A654>=Ввод!$E$1:$E$30)*($A654<=Ввод!$F$1:$F$30),Ввод!$D$1:$D$30,\"\"),\" / \")","v":""},{"$f":"MyJoin(IF((C$2=Ввод!$C$1:$C$30)*($A654>=Ввод!$E$1:$E$30)*($A654<=Ввод!$F$1:$F$30),Ввод!$D$1:$D$30,\"\"),\" / \")","v":""},{"$f":"MyJoin(IF((D$2=Ввод!$C$1:$C$30)*($A654>=Ввод!$E$1:$E$30)*($A654<=Ввод!$F$1:$F$30),Ввод!$D$1:$D$30,\"\"),\" / \")","v":""},{"$f":"MyJoin(IF((E$2=Ввод!$C$1:$C$30)*($A654>=Ввод!$E$1:$E$30)*($A654<=Ввод!$F$1:$F$30),Ввод!$D$1:$D$30,\"\"),\" / \")","v":""},{"$f":"MyJoin(IF((F$2=Ввод!$C$1:$C$30)*($A654>=Ввод!$E$1:$E$30)*($A654<=Ввод!$F$1:$F$30),Ввод!$D$1:$D$30,\"\"),\" / \")","v":""},"2023-10-09"]
["2023-10-10",{"$f":"MyJoin(IF((B$2=Ввод!$C$1:$C$30)*($A655>=Ввод!$E$1:$E$30)*($A655<=Ввод!$F$1:$F$30),Ввод!$D$1:$D$30,\"\"),\" / \")","v":""},{"$f":"MyJoin(IF((C$2=Ввод!$C$1:$C$30)*($A655>=Ввод!$E$1:$E$30)*($A655<=Ввод!$F$1:$F$30),Ввод!$D$1:$D$30,\"\"),\" / \")","v":""},{"$f":"MyJoin(IF((D$2=Ввод!$C$1:$C$30)*($A655>=Ввод!$E$1:$E$30)*($A655<=Ввод!$F$1:$F$30),Ввод!$D$1:$D$30,\"\"),\" / \")","v":""},{"$f":"MyJoin(IF((E$2=Ввод!$C$1:$C$30)*($A655>=Ввод!$E$1:$E$30)*($A655<=Ввод!$F$1:$F$30),Ввод!$D$1:$D$30,\"\"),\" / \")","v":""},{"$f":"MyJoin(IF((F$2=Ввод!$C$1:$C$30)*($A655>=Ввод!$E$1:$E$30)*($A655<=Ввод!$F$1:$F$30),Ввод!$D$1:$D$30,\"\"),\" / \")","v":""},"2023-10-10"]
["2023-10-11",{"$f":"MyJoin(IF((B$2=Ввод!$C$1:$C$30)*($A656>=Ввод!$E$1:$E$30)*($A656<=Ввод!$F$1:$F$30),Ввод!$D$1:$D$30,\"\"),\" / \")","v":""},{"$f":"MyJoin(IF((C$2=Ввод!$C$1:$C$30)*($A656>=Ввод!$E$1:$E$30)*($A656<=Ввод!$F$1:$F$30),Ввод!$D$1:$D$30,\"\"),\" / \")","v":""},{"$f":"MyJoin(IF((D$2=Ввод!$C$1:$C$30)*($A656>=Ввод!$E$1:$E$30)*($A656<=Ввод!$F$1:$F$30),Ввод!$D$1:$D$30,\"\"),\" / \")","v":""},{"$f":"MyJoin(IF((E$2=Ввод!$C$1:$C$30)*($A656>=Ввод!$E$1:$E$30)*($A656<=Ввод!$F$1:$F$30),Ввод!$D$1:$D$30,\"\"),\" / \")","v":""},{"$f":"MyJoin(IF((F$2=Ввод!$C$1:$C$30)*($A656>=Ввод!$E$1:$E$30)*($A656<=Ввод!$F$1:$F$30),Ввод!$D$1:$D$30,\"\"),\" / \")","v":""},"2023-10-11"]
["2023-10-12",{"$f":"MyJoin(IF((B$2=Ввод!$C$1:$C$30)*($A657>=Ввод!$E$1:$E$30)*($A657<=Ввод!$F$1:$F$30),Ввод!$D$1:$D$30,\"\"),\" / \")","v":""},{"$f":"MyJoin(IF((C$2=Ввод!$C$1:$C$30)*($A657>=Ввод!$E$1:$E$30)*($A657<=Ввод!$F$1:$F$30),Ввод!$D$1:$D$30,\"\"),\" / \")","v":""},{"$f":"MyJoin(IF((D$2=Ввод!$C$1:$C$30)*($A657>=Ввод!$E$1:$E$30)*($A657<=Ввод!$F$1:$F$30),Ввод!$D$1:$D$30,\"\"),\" / \")","v":""},{"$f":"MyJoin(IF((E$2=Ввод!$C$1:$C$30)*($A657>=Ввод!$E$1:$E$30)*($A657<=Ввод!$F$1:$F$30),Ввод!$D$1:$D$30,\"\"),\" / \")","v":""},{"$f":"MyJoin(IF((F$2=Ввод!$C$1:$C$30)*($A657>=Ввод!$E$1:$E$30)*($A657<=Ввод!$F$1:$F$30),Ввод!$D$1:$D$30,\"\"),\" / \")","v":""},"2023-10-12"]
["2023-10-13",{"$f":"MyJoin(IF((B$2=Ввод!$C$1:$C$30)*($A658>=Ввод!$E$1:$E$30)*($A658<=Ввод!$F$1:$F$30),Ввод!$D$1:$D$30,\"\"),\" / \")","v":""},{"$f":"MyJoin(IF((C$2=Ввод!$C$1:$C$30)*($A658>=Ввод!$E$1:$E$30)*($A658<=Ввод!$F$1:$F$30),Ввод!$D$1:$D$30,\"\"),\" / \")","v":""},{"$f":"MyJoin(IF((D$2=Ввод!$C$1:$C$30)*($A658>=Ввод!$E$1:$E$30)*($A658<=Ввод!$F$1:$F$30),Ввод!$D$1:$D$30,\"\"),\" / \")","v":""},{"$f":"MyJoin(IF((E$2=Ввод!$C$1:$C$30)*($A658>=Ввод!$E$1:$E$30)*($A658<=Ввод!$F$1:$F$30),Ввод!$D$1:$D$30,\"\"),\" / \")","v":""},{"$f":"MyJoin(IF((F$2=Ввод!$C$1:$C$30)*($A658>=Ввод!$E$1:$E$30)*($A658<=Ввод!$F$1:$F$30),Ввод!$D$1:$D$30,\"\"),\" / \")","v":""},"2023-10-13"]
["2023-10-14",{"$f":"MyJoin(IF((B$2=Ввод!$C$1:$C$30)*($A659>=Ввод!$E$1:$E$30)*($A659<=Ввод!$F$1:$F$30),Ввод!$D$1:$D$30,\"\"),\" / \")","v":""},{"$f":"MyJoin(IF((C$2=Ввод!$C$1:$C$30)*($A659>=Ввод!$E$1:$E$30)*($A659<=Ввод!$F$1:$F$30),Ввод!$D$1:$D$30,\"\"),\" / \")","v":""},{"$f":"MyJoin(IF((D$2=Ввод!$C$1:$C$30)*($A659>=Ввод!$E$1:$E$30)*($A659<=Ввод!$F$1:$F$30),Ввод!$D$1:$D$30,\"\"),\" / \")","v":""},{"$f":"MyJoin(IF((E$2=Ввод!$C$1:$C$30)*($A659>=Ввод!$E$1:$E$30)*($A659<=Ввод!$F$1:$F$30),Ввод!$D$1:$D$30,\"\"),\" / \")","v":""},{"$f":"MyJoin(IF((F$2=Ввод!$C$1:$C$30)*($A659>=Ввод!$E$1:$E$30)*($A659<=Ввод!$F$1:$F$30),Ввод!$D$1:$D$30,\"\"),\" / \")","v":""},"2023-10-14"]
["2023-10-15",{"$f":"MyJoin(IF((B$2=Ввод!$C$1:$C$30)*($A660>=Ввод!$E$1:$E$30)*($A660<=Ввод!$F$1:$F$30),Ввод!$D$1:$D$30,\"\"),\" / \")","v":""},{"$f":"MyJoin(IF((C$2=Ввод!$C$1:$C$30)*($A660>=Ввод!$E$1:$E$30)*($A660<=Ввод!$F$1:$F$30),Ввод!$D$1:$D$30,\"\"),\" / \")","v":""},{"$f":"MyJoin(IF((D$2=Ввод!$C$1:$C$30)*($A660>=Ввод!$E$1:$E$30)*($A660<=Ввод!$F$1:$F$30),Ввод!$D$1:$D$30,\"\"),\" / \")","v":""},{"$f":"MyJoin(IF((E$2=Ввод!$C$1:$C$30)*($A660>=Ввод!$E$1:$E$30)*($A660<=Ввод!$F$1:$F$30),Ввод!$D$1:$D$30,\"\"),\" / \")","v":""},{"$f":"MyJoin(IF((F$2=Ввод!$C$1:$C$30)*($A660>=Ввод!$E$1:$E$30)*($A660<=Ввод!$F$1:$F$30),Ввод!$D$1:$D$30,\"\"),\" / \")","v":""},"2023-10-15"]
["2023-10-16",{"$f":"MyJoin(IF((B$2=Ввод!$C$1:$C$30)*($A661>=Ввод!$E$1:$E$30)*($A661<=Ввод!$F$1:$F$30),Ввод!$D$1:$D$30,\"\"),\" / \")","v":""},{"$f":"MyJoin(IF((C$2=Ввод!$C$1:$C$30)*($A661>=Ввод!$E$1:$E$30)*($A661<=Ввод!$F$1:$F$30),Ввод!$D$1:$D$30,\"\"),\" / \")","v":""},{"$f":"MyJoin(IF((D$2=Ввод!$C$1:$C$30)*($A661>=Ввод!$E$1:$E$30)*($A661<=Ввод!$F$1:$F$30),Ввод!$D$1:$D$30,\"\"),\" / \")","v":""},{"$f":"MyJoin(IF((E$2=Ввод!$C$1:$C$30)*($A661>=Ввод!$E$1:$E$30)*($A661<=Ввод!$F$1:$F$30),Ввод!$D$1:$D$30,\"\"),\" / \")","v":""},{"$f":"MyJoin(IF((F$2=Ввод!$C$1:$C$30)*($A661>=Ввод!$E$1:$E$30)*($A661<=Ввод!$F$1:$F$30),Ввод!$D$1:$D$30,\"\"),\" / \")","v":""},"2023-10-16"]
["2023-10-17",{"$f":"MyJoin(IF((B$2=Ввод!$C$1:$C$30)*($A662>=Ввод!$E$1:$E$30)*($A662<=Ввод!$F$1:$F$30),Ввод!$D$1:$D$30,\"\"),\" / \")","v":""},{"$f":"MyJoin(IF((C$2=Ввод!$C$1:$C$30)*($A662>=Ввод!$E$1:$E$30)*($A662<=Ввод!$F$1:$F$30),Ввод!$D$1:$D$30,\"\"),\" / \")","v":""},{"$f":"MyJoin(IF((D$2=Ввод!$C$1:$C$30)*($A662>=Ввод!$E$1:$E$30)*($A662<=Ввод!$F$1:$F$30),Ввод!$D$1:$D$30,\"\"),\" / \")","v":""},{"$f":"MyJoin(IF((E$2=Ввод!$C$1:$C$30)*($A662>=Ввод!$E$1:$E$30)*($A662<=Ввод!$F$1:$F$30),Ввод!$D$1:$D$30,\"\"),\" / \")","v":""},{"$f":"MyJoin(IF((F$2=Ввод!$C$1:$C$30)*($A662>=Ввод!$E$1:$E$30)*($A662<=Ввод!$F$1:$F$30),Ввод!$D$1:$D$30,\"\"),\" / \")","v":""},"2023-10-17"]
["2023-10-18",{"$f":"MyJoin(IF((B$2=Ввод!$C$1:$C$30)*($A663>=Ввод!$E$1:$E$30)*($A663<=Ввод!$F$1:$F$30),Ввод!$D$1:$D$30,\"\"),\" / \")","v":""},{"$f":"MyJoin(IF((C$2=Ввод!$C$1:$C$30)*($A663>=Ввод!$E$1:$E$30)*($A663<=Ввод!$F$1:$F$30),Ввод!$D$1:$D$30,\"\"),\" / \")","v":""},{"$f":"MyJoin(IF((D$2=Ввод!$C$1:$C$30)*($A663>=Ввод!$E$1:$E$30)*($A663<=Ввод!$F$1:$F$30),Ввод!$D$1:$D$30,\"\"),\" / \")","v":""},{"$f":"MyJoin(IF((E$2=Ввод!$C$1:$C$30)*($A663>=Ввод!$E$1:$E$30)*($A663<=Ввод!$F$1:$F$30),Ввод!$D$1:$D$30,\"\"),\" / \")","v":""},{"$f":"MyJoin(IF((F$2=Ввод!$C$1:$C$30)*($A663>=Ввод!$E$1:$E$30)*($A663<=Ввод!$F$1:$F$30),Ввод!$D$1:$D$30,\"\"),\" / \")","v":""},"2023-10-18"]
["2023-10-19",{"$f":"MyJoin(IF((B$2=Ввод!$C$1:$C$30)*($A664>=Ввод!$E$1:$E$30)*($A664<=Ввод!$F$1:$F$30),Ввод!$D$1:$D$30,\"\"),\" / \")","v":""},{"$f":"MyJoin(IF((C$2=Ввод!$C$1:$C$30)*($A664>=Ввод!$E$1:$E$30)*($A664<=Ввод!$F$1:$F$30),Ввод!$D$1:$D$30,\"\"),\" / \")","v":""},{"$f":"MyJoin(IF((D$2=Ввод!$C$1:$C$30)*($A664>=Ввод!$E$1:$E$30)*($A664<=Ввод!$F$1:$F$30),Ввод!$D$1:$D$30,\"\"),\" / \")","v":""},{"$f":"MyJoin(IF((E$2=Ввод!$C$1:$C$30)*($A664>=Ввод!$E$1:$E$30)*($A664<=Ввод!$F$1:$F$30),Ввод!$D$1:$D$30,\"\"),\" / \")","v":""},{"$f":"MyJoin(IF((F$2=Ввод!$C$1:$C$30)*($A664>=Ввод!$E$1:$E$30)*($A664<=Ввод!$F$1:$F$30),Ввод!$D$1:$D$30,\"\"),\" / \")","v":""},"2023-10-19"]
["2023-10-20",{"$f":"MyJoin(IF((B$2=Ввод!$C$1:$C$30)*($A665>=Ввод!$E$1:$E$30)*($A665<=Ввод!$F$1:$F$30),Ввод!$D$1:$D$30,\"\"),\" / \")","v":""},{"$f":"MyJoin(IF((C$2=Ввод!$C$1:$C$30)*($A665>=Ввод!$E$1:$E$30)*($A665<=Ввод!$F$1:$F$30),Ввод!$D$1:$D$30,\"\"),\" / \")","v":""},{"$f":"MyJoin(IF((D$2=Ввод!$C$1:$C$30)*($A665>=Ввод!$E$1:$E$30)*($A665<=Ввод!$F$1:$F$30),Ввод!$D$1:$D$30,\"\"),\" / \")","v":""},{"$f":"MyJoin(IF((E$2=Ввод!$C$1:$C$30)*($A665>=Ввод!$E$1:$E$30)*($A665<=Ввод!$F$1:$F$30),Ввод!$D$1:$D$30,\"\"),\" / \")","v":""},{"$f":"MyJoin(IF((F$2=Ввод!$C$1:$C$30)*($A665>=Ввод!$E$1:$E$30)*($A665<=Ввод!$F$1:$F$30),Ввод!$D$1:$D$30,\"\"),\" / \")","v":""},"2023-10-20"]
["2023-10-21",{"$f":"MyJoin(IF((B$2=Ввод!$C$1:$C$30)*($A666>=Ввод!$E$1:$E$30)*($A666<=Ввод!$F$1:$F$30),Ввод!$D$1:$D$30,\"\"),\" / \")","v":""},{"$f":"MyJoin(IF((C$2=Ввод!$C$1:$C$30)*($A666>=Ввод!$E$1:$E$30)*($A666<=Ввод!$F$1:$F$30),Ввод!$D$1:$D$30,\"\"),\" / \")","v":""},{"$f":"MyJoin(IF((D$2=Ввод!$C$1:$C$30)*($A666>=Ввод!$E$1:$E$30)*($A666<=Ввод!$F$1:$F$30),Ввод!$D$1:$D$30,\"\"),\" / \")","v":""},{"$f":"MyJoin(IF((E$2=Ввод!$C$1:$C$30)*($A666>=Ввод!$E$1:$E$30)*($A666<=Ввод!$F$1:$F$30),Ввод!$D$1:$D$30,\"\"),\" / \")","v":""},{"$f":"MyJoin(IF((F$2=Ввод!$C$1:$C$30)*($A666>=Ввод!$E$1:$E$30)*($A666<=Ввод!$F$1:$F$30),Ввод!$D$1:$D$30,\"\"),\" / \")","v":""},"2023-10-21"]
["2023-10-22",{"$f":"MyJoin(IF((B$2=Ввод!$C$1:$C$30)*($A667>=Ввод!$E$1:$E$30)*($A667<=Ввод!$F$1:$F$30),Ввод!$D$1:$D$30,\"\"),\" / \")","v":""},{"$f":"MyJoin(IF((C$2=Ввод!$C$1:$C$30)*($A667>=Ввод!$E$1:$E$30)*($A667<=Ввод!$F$1:$F$30),Ввод!$D$1:$D$30,\"\"),\" / \")","v":""},{"$f":"MyJoin(IF((D$2=Ввод!$C$1:$C$30)*($A667>=Ввод!$E$1:$E$30)*($A667<=Ввод!$F$1:$F$30),Ввод!$D$1:$D$30,\"\"),\" / \")","v":""},{"$f":"MyJoin(IF((E$2=Ввод!$C$1:$C$30)*($A667>=Ввод!$E$1:$E$30)*($A667<=Ввод!$F$1:$F$30),Ввод!$D$1:$D$30,\"\"),\" / \")","v":""},{"$f":"MyJoin(IF((F$2=Ввод!$C$1:$C$30)*($A667>=Ввод!$E$1:$E$30)*($A667<=Ввод!$F$1:$F$30),Ввод!$D$1:$D$30,\"\"),\" / \")","v":""},"2023-10-22"]
["2023-10-23",{"$f":"MyJoin(IF((B$2=Ввод!$C$1:$C$30)*($A668>=Ввод!$E$1:$E$30)*($A668<=Ввод!$F$1:$F$30),Ввод!$D$1:$D$30,\"\"),\" / \")","v":""},{"$f":"MyJoin(IF((C$2=Ввод!$C$1:$C$30)*($A668>=Ввод!$E$1:$E$30)*($A668<=Ввод!$F$1:$F$30),Ввод!$D$1:$D$30,\"\"),\" / \")","v":""},{"$f":"MyJoin(IF((D$2=Ввод!$C$1:$C$30)*($A668>=Ввод!$E$1:$E$30)*($A668<=Ввод!$F$1:$F$30),Ввод!$D$1:$D$30,\"\"),\" / \")","v":""},{"$f":"MyJoin(IF((E$2=Ввод!$C$1:$C$30)*($A668>=Ввод!$E$1:$E$30)*($A668<=Ввод!$F$1:$F$30),Ввод!$D$1:$D$30,\"\"),\" / \")","v":""},{"$f":"MyJoin(IF((F$2=Ввод!$C$1:$C$30)*($A668>=Ввод!$E$1:$E$30)*($A668<=Ввод!$F$1:$F$30),Ввод!$D$1:$D$30,\"\"),\" / \")","v":""},"2023-10-23"]
["2023-10-24",{"$f":"MyJoin(IF((B$2=Ввод!$C$1:$C$30)*($A669>=Ввод!$E$1:$E$30)*($A669<=Ввод!$F$1:$F$30),Ввод!$D$1:$D$30,\"\"),\" / \")","v":""},{"$f":"MyJoin(IF((C$2=Ввод!$C$1:$C$30)*($A669>=Ввод!$E$1:$E$30)*($A669<=Ввод!$F$1:$F$30),Ввод!$D$1:$D$30,\"\"),\" / \")","v":""},{"$f":"MyJoin(IF((D$2=Ввод!$C$1:$C$30)*($A669>=Ввод!$E$1:$E$30)*($A669<=Ввод!$F$1:$F$30),Ввод!$D$1:$D$30,\"\"),\" / \")","v":""},{"$f":"MyJoin(IF((E$2=Ввод!$C$1:$C$30)*($A669>=Ввод!$E$1:$E$30)*($A669<=Ввод!$F$1:$F$30),Ввод!$D$1:$D$30,\"\"),\" / \")","v":""},{"$f":"MyJoin(IF((F$2=Ввод!$C$1:$C$30)*($A669>=Ввод!$E$1:$E$30)*($A669<=Ввод!$F$1:$F$30),Ввод!$D$1:$D$30,\"\"),\" / \")","v":""},"2023-10-24"]
["2023-10-25",{"$f":"MyJoin(IF((B$2=Ввод!$C$1:$C$30)*($A670>=Ввод!$E$1:$E$30)*($A670<=Ввод!$F$1:$F$30),Ввод!$D$1:$D$30,\"\"),\" / \")","v":""},{"$f":"MyJoin(IF((C$2=Ввод!$C$1:$C$30)*($A670>=Ввод!$E$1:$E$30)*($A670<=Ввод!$F$1:$F$30),Ввод!$D$1:$D$30,\"\"),\" / \")","v":""},{"$f":"MyJoin(IF((D$2=Ввод!$C$1:$C$30)*($A670>=Ввод!$E$1:$E$30)*($A670<=Ввод!$F$1:$F$30),Ввод!$D$1:$D$30,\"\"),\" / \")","v":""},{"$f":"MyJoin(IF((E$2=Ввод!$C$1:$C$30)*($A670>=Ввод!$E$1:$E$30)*($A670<=Ввод!$F$1:$F$30),Ввод!$D$1:$D$30,\"\"),\" / \")","v":""},{"$f":"MyJoin(IF((F$2=Ввод!$C$1:$C$30)*($A670>=Ввод!$E$1:$E$30)*($A670<=Ввод!$F$1:$F$30),Ввод!$D$1:$D$30,\"\"),\" / \")","v":""},"2023-10-25"]
["2023-10-26",{"$f":"MyJoin(IF((B$2=Ввод!$C$1:$C$30)*($A671>=Ввод!$E$1:$E$30)*($A671<=Ввод!$F$1:$F$30),Ввод!$D$1:$D$30,\"\"),\" / \")","v":""},{"$f":"MyJoin(IF((C$2=Ввод!$C$1:$C$30)*($A671>=Ввод!$E$1:$E$30)*($A671<=Ввод!$F$1:$F$30),Ввод!$D$1:$D$30,\"\"),\" / \")","v":""},{"$f":"MyJoin(IF((D$2=Ввод!$C$1:$C$30)*($A671>=Ввод!$E$1:$E$30)*($A671<=Ввод!$F$1:$F$30),Ввод!$D$1:$D$30,\"\"),\" / \")","v":""},{"$f":"MyJoin(IF((E$2=Ввод!$C$1:$C$30)*($A671>=Ввод!$E$1:$E$30)*($A671<=Ввод!$F$1:$F$30),Ввод!$D$1:$D$30,\"\"),\" / \")","v":""},{"$f":"MyJoin(IF((F$2=Ввод!$C$1:$C$30)*($A671>=Ввод!$E$1:$E$30)*($A671<=Ввод!$F$1:$F$30),Ввод!$D$1:$D$30,\"\"),\" / \")","v":""},"2023-10-26"]
["2023-10-27",{"$f":"MyJoin(IF((B$2=Ввод!$C$1:$C$30)*($A672>=Ввод!$E$1:$E$30)*($A672<=Ввод!$F$1:$F$30),Ввод!$D$1:$D$30,\"\"),\" / \")","v":""},{"$f":"MyJoin(IF((C$2=Ввод!$C$1:$C$30)*($A672>=Ввод!$E$1:$E$30)*($A672<=Ввод!$F$1:$F$30),Ввод!$D$1:$D$30,\"\"),\" / \")","v":""},{"$f":"MyJoin(IF((D$2=Ввод!$C$1:$C$30)*($A672>=Ввод!$E$1:$E$30)*($A672<=Ввод!$F$1:$F$30),Ввод!$D$1:$D$30,\"\"),\" / \")","v":""},{"$f":"MyJoin(IF((E$2=Ввод!$C$1:$C$30)*($A672>=Ввод!$E$1:$E$30)*($A672<=Ввод!$F$1:$F$30),Ввод!$D$1:$D$30,\"\"),\" / \")","v":""},{"$f":"MyJoin(IF((F$2=Ввод!$C$1:$C$30)*($A672>=Ввод!$E$1:$E$30)*($A672<=Ввод!$F$1:$F$30),Ввод!$D$1:$D$30,\"\"),\" / \")","v":""},"2023-10-27"]
["2023-10-28",{"$f":"MyJoin(IF((B$2=Ввод!$C$1:$C$30)*($A673>=Ввод!$E$1:$E$30)*($A673<=Ввод!$F$1:$F$30),Ввод!$D$1:$D$30,\"\"),\" / \")","v":""},{"$f":"MyJoin(IF((C$2=Ввод!$C$1:$C$30)*($A673>=Ввод!$E$1:$E$30)*($A673<=Ввод!$F$1:$F$30),Ввод!$D$1:$D$30,\"\"),\" / \")","v":""},{"$f":"MyJoin(IF((D$2=Ввод!$C$1:$C$30)*($A673>=Ввод!$E$1:$E$30)*($A673<=Ввод!$F$1:$F$30),Ввод!$D$1:$D$30,\"\"),\" / \")","v":""},{"$f":"MyJoin(IF((E$2=Ввод!$C$1:$C$30)*($A673>=Ввод!$E$1:$E$30)*($A673<=Ввод!$F$1:$F$30),Ввод!$D$1:$D$30,\"\"),\" / \")","v":"Задание 34"},{"$f":"MyJoin(IF((F$2=Ввод!$C$1:$C$30)*($A673>=Ввод!$E$1:$E$30)*($A673<=Ввод!$F$1:$F$30),Ввод!$D$1:$D$30,\"\"),\" / \")","v":""},"2023-10-28"]
["2023-10-29",{"$f":"MyJoin(IF((B$2=Ввод!$C$1:$C$30)*($A674>=Ввод!$E$1:$E$30)*($A674<=Ввод!$F$1:$F$30),Ввод!$D$1:$D$30,\"\"),\" / \")","v":""},{"$f":"MyJoin(IF((C$2=Ввод!$C$1:$C$30)*($A674>=Ввод!$E$1:$E$30)*($A674<=Ввод!$F$1:$F$30),Ввод!$D$1:$D$30,\"\"),\" / \")","v":""},{"$f":"MyJoin(IF((D$2=Ввод!$C$1:$C$30)*($A674>=Ввод!$E$1:$E$30)*($A674<=Ввод!$F$1:$F$30),Ввод!$D$1:$D$30,\"\"),\" / \")","v":""},{"$f":"MyJoin(IF((E$2=Ввод!$C$1:$C$30)*($A674>=Ввод!$E$1:$E$30)*($A674<=Ввод!$F$1:$F$30),Ввод!$D$1:$D$30,\"\"),\" / \")","v":"Задание 34"},{"$f":"MyJoin(IF((F$2=Ввод!$C$1:$C$30)*($A674>=Ввод!$E$1:$E$30)*($A674<=Ввод!$F$1:$F$30),Ввод!$D$1:$D$30,\"\"),\" / \")","v":""},"2023-10-29"]
["2023-10-30",{"$f":"MyJoin(IF((B$2=Ввод!$C$1:$C$30)*($A675>=Ввод!$E$1:$E$30)*($A675<=Ввод!$F$1:$F$30),Ввод!$D$1:$D$30,\"\"),\" / \")","v":""},{"$f":"MyJoin(IF((C$2=Ввод!$C$1:$C$30)*($A675>=Ввод!$E$1:$E$30)*($A675<=Ввод!$F$1:$F$30),Ввод!$D$1:$D$30,\"\"),\" / \")","v":""},{"$f":"MyJoin(IF((D$2=Ввод!$C$1:$C$30)*($A675>=Ввод!$E$1:$E$30)*($A675<=Ввод!$F$1:$F$30),Ввод!$D$1:$D$30,\"\"),\" / \")","v":""},{"$f":"MyJoin(IF((E$2=Ввод!$C$1:$C$30)*($A675>=Ввод!$E$1:$E$30)*($A675<=Ввод!$F$1:$F$30),Ввод!$D$1:$D$30,\"\"),\" / \")","v":"Задание 34"},{"$f":"MyJoin(IF((F$2=Ввод!$C$1:$C$30)*($A675>=Ввод!$E$1:$E$30)*($A675<=Ввод!$F$1:$F$30),Ввод!$D$1:$D$30,\"\"),\" / \")","v":""},"2023-10-30"]
["2023-10-31",{"$f":"MyJoin(IF((B$2=Ввод!$C$1:$C$30)*($A676>=Ввод!$E$1:$E$30)*($A676<=Ввод!$F$1:$F$30),Ввод!$D$1:$D$30,\"\"),\" / \")","v":""},{"$f":"MyJoin(IF((C$2=Ввод!$C$1:$C$30)*($A676>=Ввод!$E$1:$E$30)*($A676<=Ввод!$F$1:$F$30),Ввод!$D$1:$D$30,\"\"),\" / \")","v":""},{"$f":"MyJoin(IF((D$2=Ввод!$C$1:$C$30)*($A676>=Ввод!$E$1:$E$30)*($A676<=Ввод!$F$1:$F$30),Ввод!$D$1:$D$30,\"\"),\" / \")","v":""},{"$f":"MyJoin(IF((E$2=Ввод!$C$1:$C$30)*($A676>=Ввод!$E$1:$E$30)*($A676<=Ввод!$F$1:$F$30),Ввод!$D$1:$D$30,\"\"),\" / \")","v":""},{"$f":"MyJoin(IF((F$2=Ввод!$C$1:$C$30)*($A676>=Ввод!$E$1:$E$30)*($A676<=Ввод!$F$1:$F$30),Ввод!$D$1:$D$30,\"\"),\" / \")","v":""},"2023-10-31"]
["2023-11-01",{"$f":"MyJoin(IF((B$2=Ввод!$C$1:$C$30)*($A677>=Ввод!$E$1:$E$30)*($A677<=Ввод!$F$1:$F$30),Ввод!$D$1:$D$30,\"\"),\" / \")","v":""},{"$f":"MyJoin(IF((C$2=Ввод!$C$1:$C$30)*($A677>=Ввод!$E$1:$E$30)*($A677<=Ввод!$F$1:$F$30),Ввод!$D$1:$D$30,\"\"),\" / \")","v":""},{"$f":"MyJoin(IF((D$2=Ввод!$C$1:$C$30)*($A677>=Ввод!$E$1:$E$30)*($A677<=Ввод!$F$1:$F$30),Ввод!$D$1:$D$30,\"\"),\" / \")","v":""},{"$f":"MyJoin(IF((E$2=Ввод!$C$1:$C$30)*($A677>=Ввод!$E$1:$E$30)*($A677<=Ввод!$F$1:$F$30),Ввод!$D$1:$D$30,\"\"),\" / \")","v":""},{"$f":"MyJoin(IF((F$2=Ввод!$C$1:$C$30)*($A677>=Ввод!$E$1:$E$30)*($A677<=Ввод!$F$1:$F$30),Ввод!$D$1:$D$30,\"\"),\" / \")","v":""},"2023-11-01"]
["2023-11-02",{"$f":"MyJoin(IF((B$2=Ввод!$C$1:$C$30)*($A678>=Ввод!$E$1:$E$30)*($A678<=Ввод!$F$1:$F$30),Ввод!$D$1:$D$30,\"\"),\" / \")","v":""},{"$f":"MyJoin(IF((C$2=Ввод!$C$1:$C$30)*($A678>=Ввод!$E$1:$E$30)*($A678<=Ввод!$F$1:$F$30),Ввод!$D$1:$D$30,\"\"),\" / \")","v":""},{"$f":"MyJoin(IF((D$2=Ввод!$C$1:$C$30)*($A678>=Ввод!$E$1:$E$30)*($A678<=Ввод!$F$1:$F$30),Ввод!$D$1:$D$30,\"\"),\" / \")","v":""},{"$f":"MyJoin(IF((E$2=Ввод!$C$1:$C$30)*($A678>=Ввод!$E$1:$E$30)*($A678<=Ввод!$F$1:$F$30),Ввод!$D$1:$D$30,\"\"),\" / \")","v":""},{"$f":"MyJoin(IF((F$2=Ввод!$C$1:$C$30)*($A678>=Ввод!$E$1:$E$30)*($A678<=Ввод!$F$1:$F$30),Ввод!$D$1:$D$30,\"\"),\" / \")","v":""},"2023-11-02"]
["2023-11-03",{"$f":"MyJoin(IF((B$2=Ввод!$C$1:$C$30)*($A679>=Ввод!$E$1:$E$30)*($A679<=Ввод!$F$1:$F$30),Ввод!$D$1:$D$30,\"\"),\" / \")","v":""},{"$f":"MyJoin(IF((C$2=Ввод!$C$1:$C$30)*($A679>=Ввод!$E$1:$E$30)*($A679<=Ввод!$F$1:$F$30),Ввод!$D$1:$D$30,\"\"),\" / \")","v":""},{"$f":"MyJoin(IF((D$2=Ввод!$C$1:$C$30)*($A679>=Ввод!$E$1:$E$30)*($A679<=Ввод!$F$1:$F$30),Ввод!$D$1:$D$30,\"\"),\" / \")","v":""},{"$f":"MyJoin(IF((E$2=Ввод!$C$1:$C$30)*($A679>=Ввод!$E$1:$E$30)*($A679<=Ввод!$F$1:$F$30),Ввод!$D$1:$D$30,\"\"),\" / \")","v":""},{"$f":"MyJoin(IF((F$2=Ввод!$C$1:$C$30)*($A679>=Ввод!$E$1:$E$30)*($A679<=Ввод!$F$1:$F$30),Ввод!$D$1:$D$30,\"\"),\" / \")","v":""},"2023-11-03"]
["2023-11-04",{"$f":"MyJoin(IF((B$2=Ввод!$C$1:$C$30)*($A680>=Ввод!$E$1:$E$30)*($A680<=Ввод!$F$1:$F$30),Ввод!$D$1:$D$30,\"\"),\" / \")","v":""},{"$f":"MyJoin(IF((C$2=Ввод!$C$1:$C$30)*($A680>=Ввод!$E$1:$E$30)*($A680<=Ввод!$F$1:$F$30),Ввод!$D$1:$D$30,\"\"),\" / \")","v":""},{"$f":"MyJoin(IF((D$2=Ввод!$C$1:$C$30)*($A680>=Ввод!$E$1:$E$30)*($A680<=Ввод!$F$1:$F$30),Ввод!$D$1:$D$30,\"\"),\" / \")","v":""},{"$f":"MyJoin(IF((E$2=Ввод!$C$1:$C$30)*($A680>=Ввод!$E$1:$E$30)*($A680<=Ввод!$F$1:$F$30),Ввод!$D$1:$D$30,\"\"),\" / \")","v":""},{"$f":"MyJoin(IF((F$2=Ввод!$C$1:$C$30)*($A680>=Ввод!$E$1:$E$30)*($A680<=Ввод!$F$1:$F$30),Ввод!$D$1:$D$30,\"\"),\" / \")","v":""},"2023-11-04"]
["2023-11-05",{"$f":"MyJoin(IF((B$2=Ввод!$C$1:$C$30)*($A681>=Ввод!$E$1:$E$30)*($A681<=Ввод!$F$1:$F$30),Ввод!$D$1:$D$30,\"\"),\" / \")","v":""},{"$f":"MyJoin(IF((C$2=Ввод!$C$1:$C$30)*($A681>=Ввод!$E$1:$E$30)*($A681<=Ввод!$F$1:$F$30),Ввод!$D$1:$D$30,\"\"),\" / \")","v":""},{"$f":"MyJoin(IF((D$2=Ввод!$C$1:$C$30)*($A681>=Ввод!$E$1:$E$30)*($A681<=Ввод!$F$1:$F$30),Ввод!$D$1:$D$30,\"\"),\" / \")","v":""},{"$f":"MyJoin(IF((E$2=Ввод!$C$1:$C$30)*($A681>=Ввод!$E$1:$E$30)*($A681<=Ввод!$F$1:$F$30),Ввод!$D$1:$D$30,\"\"),\" / \")","v":""},{"$f":"MyJoin(IF((F$2=Ввод!$C$1:$C$30)*($A681>=Ввод!$E$1:$E$30)*($A681<=Ввод!$F$1:$F$30),Ввод!$D$1:$D$30,\"\"),\" / \")","v":""},"2023-11-05"]
["2023-11-06",{"$f":"MyJoin(IF((B$2=Ввод!$C$1:$C$30)*($A682>=Ввод!$E$1:$E$30)*($A682<=Ввод!$F$1:$F$30),Ввод!$D$1:$D$30,\"\"),\" / \")","v":""},{"$f":"MyJoin(IF((C$2=Ввод!$C$1:$C$30)*($A682>=Ввод!$E$1:$E$30)*($A682<=Ввод!$F$1:$F$30),Ввод!$D$1:$D$30,\"\"),\" / \")","v":""},{"$f":"MyJoin(IF((D$2=Ввод!$C$1:$C$30)*($A682>=Ввод!$E$1:$E$30)*($A682<=Ввод!$F$1:$F$30),Ввод!$D$1:$D$30,\"\"),\" / \")","v":""},{"$f":"MyJoin(IF((E$2=Ввод!$C$1:$C$30)*($A682>=Ввод!$E$1:$E$30)*($A682<=Ввод!$F$1:$F$30),Ввод!$D$1:$D$30,\"\"),\" / \")","v":""},{"$f":"MyJoin(IF((F$2=Ввод!$C$1:$C$30)*($A682>=Ввод!$E$1:$E$30)*($A682<=Ввод!$F$1:$F$30),Ввод!$D$1:$D$30,\"\"),\" / \")","v":""},"2023-11-06"]
["2023-11-07",{"$f":"MyJoin(IF((B$2=Ввод!$C$1:$C$30)*($A683>=Ввод!$E$1:$E$30)*($A683<=Ввод!$F$1:$F$30),Ввод!$D$1:$D$30,\"\"),\" / \")","v":""},{"$f":"MyJoin(IF((C$2=Ввод!$C$1:$C$30)*($A683>=Ввод!$E$1:$E$30)*($A683<=Ввод!$F$1:$F$30),Ввод!$D$1:$D$30,\"\"),\" / \")","v":""},{"$f":"MyJoin(IF((D$2=Ввод!$C$1:$C$30)*($A683>=Ввод!$E$1:$E$30)*($A683<=Ввод!$F$1:$F$30),Ввод!$D$1:$D$30,\"\"),\" / \")","v":""},{"$f":"MyJoin(IF((E$2=Ввод!$C$1:$C$30)*($A683>=Ввод!$E$1:$E$30)*($A683<=Ввод!$F$1:$F$30),Ввод!$D$1:$D$30,\"\"),\" / \")","v":""},{"$f":"MyJoin(IF((F$2=Ввод!$C$1:$C$30)*($A683>=Ввод!$E$1:$E$30)*($A683<=Ввод!$F$1:$F$30),Ввод!$D$1:$D$30,\"\"),\" / \")","v":""},"2023-11-07"]
["2023-11-08",{"$f":"MyJoin(IF((B$2=Ввод!$C$1:$C$30)*($A684>=Ввод!$E$1:$E$30)*($A684<=Ввод!$F$1:$F$30),Ввод!$D$1:$D$30,\"\"),\" / \")","v":""},{"$f":"MyJoin(IF((C$2=Ввод!$C$1:$C$30)*($A684>=Ввод!$E$1:$E$30)*($A684<=Ввод!$F$1:$F$30),Ввод!$D$1:$D$30,\"\"),\" / \")","v":""},{"$f":"MyJoin(IF((D$2=Ввод!$C$1:$C$30)*($A684>=Ввод!$E$1:$E$30)*($A684<=Ввод!$F$1:$F$30),Ввод!$D$1:$D$30,\"\"),\" / \")","v":""},{"$f":"MyJoin(IF((E$2=Ввод!$C$1:$C$30)*($A684>=Ввод!$E$1:$E$30)*($A684<=Ввод!$F$1:$F$30),Ввод!$D$1:$D$30,\"\"),\" / \")","v":""},{"$f":"MyJoin(IF((F$2=Ввод!$C$1:$C$30)*($A684>=Ввод!$E$1:$E$30)*($A684<=Ввод!$F$1:$F$30),Ввод!$D$1:$D$30,\"\"),\" / \")","v":""},"2023-11-08"]
["2023-11-09",{"$f":"MyJoin(IF((B$2=Ввод!$C$1:$C$30)*($A685>=Ввод!$E$1:$E$30)*($A685<=Ввод!$F$1:$F$30),Ввод!$D$1:$D$30,\"\"),\" / \")","v":""},{"$f":"MyJoin(IF((C$2=Ввод!$C$1:$C$30)*($A685>=Ввод!$E$1:$E$30)*($A685<=Ввод!$F$1:$F$30),Ввод!$D$1:$D$30,\"\"),\" / \")","v":""},{"$f":"MyJoin(IF((D$2=Ввод!$C$1:$C$30)*($A685>=Ввод!$E$1:$E$30)*($A685<=Ввод!$F$1:$F$30),Ввод!$D$1:$D$30,\"\"),\" / \")","v":""},{"$f":"MyJoin(IF((E$2=Ввод!$C$1:$C$30)*($A685>=Ввод!$E$1:$E$30)*($A685<=Ввод!$F$1:$F$30),Ввод!$D$1:$D$30,\"\"),\" / \")","v":""},{"$f":"MyJoin(IF((F$2=Ввод!$C$1:$C$30)*($A685>=Ввод!$E$1:$E$30)*($A685<=Ввод!$F$1:$F$30),Ввод!$D$1:$D$30,\"\"),\" / \")","v":""},"2023-11-09"]
["2023-11-10",{"$f":"MyJoin(IF((B$2=Ввод!$C$1:$C$30)*($A686>=Ввод!$E$1:$E$30)*($A686<=Ввод!$F$1:$F$30),Ввод!$D$1:$D$30,\"\"),\" / \")","v":""},{"$f":"MyJoin(IF((C$2=Ввод!$C$1:$C$30)*($A686>=Ввод!$E$1:$E$30)*($A686<=Ввод!$F$1:$F$30),Ввод!$D$1:$D$30,\"\"),\" / \")","v":""},{"$f":"MyJoin(IF((D$2=Ввод!$C$1:$C$30)*($A686>=Ввод!$E$1:$E$30)*($A686<=Ввод!$F$1:$F$30),Ввод!$D$1:$D$30,\"\"),\" / \")","v":""},{"$f":"MyJoin(IF((E$2=Ввод!$C$1:$C$30)*($A686>=Ввод!$E$1:$E$30)*($A686<=Ввод!$F$1:$F$30),Ввод!$D$1:$D$30,\"\"),\" / \")","v":""},{"$f":"MyJoin(IF((F$2=Ввод!$C$1:$C$30)*($A686>=Ввод!$E$1:$E$30)*($A686<=Ввод!$F$1:$F$30),Ввод!$D$1:$D$30,\"\"),\" / \")","v":""},"2023-11-10"]
["2023-11-11",{"$f":"MyJoin(IF((B$2=Ввод!$C$1:$C$30)*($A687>=Ввод!$E$1:$E$30)*($A687<=Ввод!$F$1:$F$30),Ввод!$D$1:$D$30,\"\"),\" / \")","v":""},{"$f":"MyJoin(IF((C$2=Ввод!$C$1:$C$30)*($A687>=Ввод!$E$1:$E$30)*($A687<=Ввод!$F$1:$F$30),Ввод!$D$1:$D$30,\"\"),\" / \")","v":""},{"$f":"MyJoin(IF((D$2=Ввод!$C$1:$C$30)*($A687>=Ввод!$E$1:$E$30)*($A687<=Ввод!$F$1:$F$30),Ввод!$D$1:$D$30,\"\"),\" / \")","v":""},{"$f":"MyJoin(IF((E$2=Ввод!$C$1:$C$30)*($A687>=Ввод!$E$1:$E$30)*($A687<=Ввод!$F$1:$F$30),Ввод!$D$1:$D$30,\"\"),\" / \")","v":""},{"$f":"MyJoin(IF((F$2=Ввод!$C$1:$C$30)*($A687>=Ввод!$E$1:$E$30)*($A687<=Ввод!$F$1:$F$30),Ввод!$D$1:$D$30,\"\"),\" / \")","v":""},"2023-11-11"]
["2023-11-12",{"$f":"MyJoin(IF((B$2=Ввод!$C$1:$C$30)*($A688>=Ввод!$E$1:$E$30)*($A688<=Ввод!$F$1:$F$30),Ввод!$D$1:$D$30,\"\"),\" / \")","v":""},{"$f":"MyJoin(IF((C$2=Ввод!$C$1:$C$30)*($A688>=Ввод!$E$1:$E$30)*($A688<=Ввод!$F$1:$F$30),Ввод!$D$1:$D$30,\"\"),\" / \")","v":""},{"$f":"MyJoin(IF((D$2=Ввод!$C$1:$C$30)*($A688>=Ввод!$E$1:$E$30)*($A688<=Ввод!$F$1:$F$30),Ввод!$D$1:$D$30,\"\"),\" / \")","v":""},{"$f":"MyJoin(IF((E$2=Ввод!$C$1:$C$30)*($A688>=Ввод!$E$1:$E$30)*($A688<=Ввод!$F$1:$F$30),Ввод!$D$1:$D$30,\"\"),\" / \")","v":""},{"$f":"MyJoin(IF((F$2=Ввод!$C$1:$C$30)*($A688>=Ввод!$E$1:$E$30)*($A688<=Ввод!$F$1:$F$30),Ввод!$D$1:$D$30,\"\"),\" / \")","v":""},"2023-11-12"]
["2023-11-13",{"$f":"MyJoin(IF((B$2=Ввод!$C$1:$C$30)*($A689>=Ввод!$E$1:$E$30)*($A689<=Ввод!$F$1:$F$30),Ввод!$D$1:$D$30,\"\"),\" / \")","v":""},{"$f":"MyJoin(IF((C$2=Ввод!$C$1:$C$30)*($A689>=Ввод!$E$1:$E$30)*($A689<=Ввод!$F$1:$F$30),Ввод!$D$1:$D$30,\"\"),\" / \")","v":""},{"$f":"MyJoin(IF((D$2=Ввод!$C$1:$C$30)*($A689>=Ввод!$E$1:$E$30)*($A689<=Ввод!$F$1:$F$30),Ввод!$D$1:$D$30,\"\"),\" / \")","v":""},{"$f":"MyJoin(IF((E$2=Ввод!$C$1:$C$30)*($A689>=Ввод!$E$1:$E$30)*($A689<=Ввод!$F$1:$F$30),Ввод!$D$1:$D$30,\"\"),\" / \")","v":""},{"$f":"MyJoin(IF((F$2=Ввод!$C$1:$C$30)*($A689>=Ввод!$E$1:$E$30)*($A689<=Ввод!$F$1:$F$30),Ввод!$D$1:$D$30,\"\"),\" / \")","v":""},"2023-11-13"]
["2023-11-14",{"$f":"MyJoin(IF((B$2=Ввод!$C$1:$C$30)*($A690>=Ввод!$E$1:$E$30)*($A690<=Ввод!$F$1:$F$30),Ввод!$D$1:$D$30,\"\"),\" / \")","v":""},{"$f":"MyJoin(IF((C$2=Ввод!$C$1:$C$30)*($A690>=Ввод!$E$1:$E$30)*($A690<=Ввод!$F$1:$F$30),Ввод!$D$1:$D$30,\"\"),\" / \")","v":""},{"$f":"MyJoin(IF((D$2=Ввод!$C$1:$C$30)*($A690>=Ввод!$E$1:$E$30)*($A690<=Ввод!$F$1:$F$30),Ввод!$D$1:$D$30,\"\"),\" / \")","v":""},{"$f":"MyJoin(IF((E$2=Ввод!$C$1:$C$30)*($A690>=Ввод!$E$1:$E$30)*($A690<=Ввод!$F$1:$F$30),Ввод!$D$1:$D$30,\"\"),\" / \")","v":""},{"$f":"MyJoin(IF((F$2=Ввод!$C$1:$C$30)*($A690>=Ввод!$E$1:$E$30)*($A690<=Ввод!$F$1:$F$30),Ввод!$D$1:$D$30,\"\"),\" / \")","v":""},"2023-11-14"]
["2023-11-15",{"$f":"MyJoin(IF((B$2=Ввод!$C$1:$C$30)*($A691>=Ввод!$E$1:$E$30)*($A691<=Ввод!$F$1:$F$30),Ввод!$D$1:$D$30,\"\"),\" / \")","v":""},{"$f":"MyJoin(IF((C$2=Ввод!$C$1:$C$30)*($A691>=Ввод!$E$1:$E$30)*($A691<=Ввод!$F$1:$F$30),Ввод!$D$1:$D$30,\"\"),\" / \")","v":""},{"$f":"MyJoin(IF((D$2=Ввод!$C$1:$C$30)*($A691>=Ввод!$E$1:$E$30)*($A691<=Ввод!$F$1:$F$30),Ввод!$D$1:$D$30,\"\"),\" / \")","v":""},{"$f":"MyJoin(IF((E$2=Ввод!$C$1:$C$30)*($A691>=Ввод!$E$1:$E$30)*($A691<=Ввод!$F$1:$F$30),Ввод!$D$1:$D$30,\"\"),\" / \")","v":""},{"$f":"MyJoin(IF((F$2=Ввод!$C$1:$C$30)*($A691>=Ввод!$E$1:$E$30)*($A691<=Ввод!$F$1:$F$30),Ввод!$D$1:$D$30,\"\"),\" / \")","v":""},"2023-11-15"]
["2023-11-16",{"$f":"MyJoin(IF((B$2=Ввод!$C$1:$C$30)*($A692>=Ввод!$E$1:$E$30)*($A692<=Ввод!$F$1:$F$30),Ввод!$D$1:$D$30,\"\"),\" / \")","v":""},{"$f":"MyJoin(IF((C$2=Ввод!$C$1:$C$30)*($A692>=Ввод!$E$1:$E$30)*($A692<=Ввод!$F$1:$F$30),Ввод!$D$1:$D$30,\"\"),\" / \")","v":""},{"$f":"MyJoin(IF((D$2=Ввод!$C$1:$C$30)*($A692>=Ввод!$E$1:$E$30)*($A692<=Ввод!$F$1:$F$30),Ввод!$D$1:$D$30,\"\"),\" / \")","v":""},{"$f":"MyJoin(IF((E$2=Ввод!$C$1:$C$30)*($A692>=Ввод!$E$1:$E$30)*($A692<=Ввод!$F$1:$F$30),Ввод!$D$1:$D$30,\"\"),\" / \")","v":""},{"$f":"MyJoin(IF((F$2=Ввод!$C$1:$C$30)*($A692>=Ввод!$E$1:$E$30)*($A692<=Ввод!$F$1:$F$30),Ввод!$D$1:$D$30,\"\"),\" / \")","v":""},"2023-11-16"]
["2023-11-17",{"$f":"MyJoin(IF((B$2=Ввод!$C$1:$C$30)*($A693>=Ввод!$E$1:$E$30)*($A693<=Ввод!$F$1:$F$30),Ввод!$D$1:$D$30,\"\"),\" / \")","v":""},{"$f":"MyJoin(IF((C$2=Ввод!$C$1:$C$30)*($A693>=Ввод!$E$1:$E$30)*($A693<=Ввод!$F$1:$F$30),Ввод!$D$1:$D$30,\"\"),\" / \")","v":""},{"$f":"MyJoin(IF((D$2=Ввод!$C$1:$C$30)*($A693>=Ввод!$E$1:$E$30)*($A693<=Ввод!$F$1:$F$30),Ввод!$D$1:$D$30,\"\"),\" / \")","v":""},{"$f":"MyJoin(IF((E$2=Ввод!$C$1:$C$30)*($A693>=Ввод!$E$1:$E$30)*($A693<=Ввод!$F$1:$F$30),Ввод!$D$1:$D$30,\"\"),\" / \")","v":""},{"$f":"MyJoin(IF((F$2=Ввод!$C$1:$C$30)*($A693>=Ввод!$E$1:$E$30)*($A693<=Ввод!$F$1:$F$30),Ввод!$D$1:$D$30,\"\"),\" / \")","v":""},"2023-11-17"]
["2023-11-18",{"$f":"MyJoin(IF((B$2=Ввод!$C$1:$C$30)*($A694>=Ввод!$E$1:$E$30)*($A694<=Ввод!$F$1:$F$30),Ввод!$D$1:$D$30,\"\"),\" / \")","v":""},{"$f":"MyJoin(IF((C$2=Ввод!$C$1:$C$30)*($A694>=Ввод!$E$1:$E$30)*($A694<=Ввод!$F$1:$F$30),Ввод!$D$1:$D$30,\"\"),\" / \")","v":""},{"$f":"MyJoin(IF((D$2=Ввод!$C$1:$C$30)*($A694>=Ввод!$E$1:$E$30)*($A694<=Ввод!$F$1:$F$30),Ввод!$D$1:$D$30,\"\"),\" / \")","v":""},{"$f":"MyJoin(IF((E$2=Ввод!$C$1:$C$30)*($A694>=Ввод!$E$1:$E$30)*($A694<=Ввод!$F$1:$F$30),Ввод!$D$1:$D$30,\"\"),\" / \")","v":""},{"$f":"MyJoin(IF((F$2=Ввод!$C$1:$C$30)*($A694>=Ввод!$E$1:$E$30)*($A694<=Ввод!$F$1:$F$30),Ввод!$D$1:$D$30,\"\"),\" / \")","v":""},"2023-11-18"]
["2023-11-19",{"$f":"MyJoin(IF((B$2=Ввод!$C$1:$C$30)*($A695>=Ввод!$E$1:$E$30)*($A695<=Ввод!$F$1:$F$30),Ввод!$D$1:$D$30,\"\"),\" / \")","v":""},{"$f":"MyJoin(IF((C$2=Ввод!$C$1:$C$30)*($A695>=Ввод!$E$1:$E$30)*($A695<=Ввод!$F$1:$F$30),Ввод!$D$1:$D$30,\"\"),\" / \")","v":""},{"$f":"MyJoin(IF((D$2=Ввод!$C$1:$C$30)*($A695>=Ввод!$E$1:$E$30)*($A695<=Ввод!$F$1:$F$30),Ввод!$D$1:$D$30,\"\"),\" / \")","v":""},{"$f":"MyJoin(IF((E$2=Ввод!$C$1:$C$30)*($A695>=Ввод!$E$1:$E$30)*($A695<=Ввод!$F$1:$F$30),Ввод!$D$1:$D$30,\"\"),\" / \")","v":""},{"$f":"MyJoin(IF((F$2=Ввод!$C$1:$C$30)*($A695>=Ввод!$E$1:$E$30)*($A695<=Ввод!$F$1:$F$30),Ввод!$D$1:$D$30,\"\"),\" / \")","v":""},"2023-11-19"]
["2023-11-20",{"$f":"MyJoin(IF((B$2=Ввод!$C$1:$C$30)*($A696>=Ввод!$E$1:$E$30)*($A696<=Ввод!$F$1:$F$30),Ввод!$D$1:$D$30,\"\"),\" / \")","v":""},{"$f":"MyJoin(IF((C$2=Ввод!$C$1:$C$30)*($A696>=Ввод!$E$1:$E$30)*($A696<=Ввод!$F$1:$F$30),Ввод!$D$1:$D$30,\"\"),\" / \")","v":""},{"$f":"MyJoin(IF((D$2=Ввод!$C$1:$C$30)*($A696>=Ввод!$E$1:$E$30)*($A696<=Ввод!$F$1:$F$30),Ввод!$D$1:$D$30,\"\"),\" / \")","v":""},{"$f":"MyJoin(IF((E$2=Ввод!$C$1:$C$30)*($A696>=Ввод!$E$1:$E$30)*($A696<=Ввод!$F$1:$F$30),Ввод!$D$1:$D$30,\"\"),\" / \")","v":""},{"$f":"MyJoin(IF((F$2=Ввод!$C$1:$C$30)*($A696>=Ввод!$E$1:$E$30)*($A696<=Ввод!$F$1:$F$30),Ввод!$D$1:$D$30,\"\"),\" / \")","v":""},"2023-11-20"]
["2023-11-21",{"$f":"MyJoin(IF((B$2=Ввод!$C$1:$C$30)*($A697>=Ввод!$E$1:$E$30)*($A697<=Ввод!$F$1:$F$30),Ввод!$D$1:$D$30,\"\"),\" / \")","v":""},{"$f":"MyJoin(IF((C$2=Ввод!$C$1:$C$30)*($A697>=Ввод!$E$1:$E$30)*($A697<=Ввод!$F$1:$F$30),Ввод!$D$1:$D$30,\"\"),\" / \")","v":""},{"$f":"MyJoin(IF((D$2=Ввод!$C$1:$C$30)*($A697>=Ввод!$E$1:$E$30)*($A697<=Ввод!$F$1:$F$30),Ввод!$D$1:$D$30,\"\"),\" / \")","v":""},{"$f":"MyJoin(IF((E$2=Ввод!$C$1:$C$30)*($A697>=Ввод!$E$1:$E$30)*($A697<=Ввод!$F$1:$F$30),Ввод!$D$1:$D$30,\"\"),\" / \")","v":""},{"$f":"MyJoin(IF((F$2=Ввод!$C$1:$C$30)*($A697>=Ввод!$E$1:$E$30)*($A697<=Ввод!$F$1:$F$30),Ввод!$D$1:$D$30,\"\"),\" / \")","v":""},"2023-11-21"]
["2023-11-22",{"$f":"MyJoin(IF((B$2=Ввод!$C$1:$C$30)*($A698>=Ввод!$E$1:$E$30)*($A698<=Ввод!$F$1:$F$30),Ввод!$D$1:$D$30,\"\"),\" / \")","v":""},{"$f":"MyJoin(IF((C$2=Ввод!$C$1:$C$30)*($A698>=Ввод!$E$1:$E$30)*($A698<=Ввод!$F$1:$F$30),Ввод!$D$1:$D$30,\"\"),\" / \")","v":""},{"$f":"MyJoin(IF((D$2=Ввод!$C$1:$C$30)*($A698>=Ввод!$E$1:$E$30)*($A698<=Ввод!$F$1:$F$30),Ввод!$D$1:$D$30,\"\"),\" / \")","v":""},{"$f":"MyJoin(IF((E$2=Ввод!$C$1:$C$30)*($A698>=Ввод!$E$1:$E$30)*($A698<=Ввод!$F$1:$F$30),Ввод!$D$1:$D$30,\"\"),\" / \")","v":""},{"$f":"MyJoin(IF((F$2=Ввод!$C$1:$C$30)*($A698>=Ввод!$E$1:$E$30)*($A698<=Ввод!$F$1:$F$30),Ввод!$D$1:$D$30,\"\"),\" / \")","v":""},"2023-11-22"]
["2023-11-23",{"$f":"MyJoin(IF((B$2=Ввод!$C$1:$C$30)*($A699>=Ввод!$E$1:$E$30)*($A699<=Ввод!$F$1:$F$30),Ввод!$D$1:$D$30,\"\"),\" / \")","v":""},{"$f":"MyJoin(IF((C$2=Ввод!$C$1:$C$30)*($A699>=Ввод!$E$1:$E$30)*($A699<=Ввод!$F$1:$F$30),Ввод!$D$1:$D$30,\"\"),\" / \")","v":""},{"$f":"MyJoin(IF((D$2=Ввод!$C$1:$C$30)*($A699>=Ввод!$E$1:$E$30)*($A699<=Ввод!$F$1:$F$30),Ввод!$D$1:$D$30,\"\"),\" / \")","v":""},{"$f":"MyJoin(IF((E$2=Ввод!$C$1:$C$30)*($A699>=Ввод!$E$1:$E$30)*($A699<=Ввод!$F$1:$F$30),Ввод!$D$1:$D$30,\"\"),\" / \")","v":""},{"$f":"MyJoin(IF((F$2=Ввод!$C$1:$C$30)*($A699>=Ввод!$E$1:$E$30)*($A699<=Ввод!$F$1:$F$30),Ввод!$D$1:$D$30,\"\"),\" / \")","v":""},"2023-11-23"]
["2023-11-24",{"$f":"MyJoin(IF((B$2=Ввод!$C$1:$C$30)*($A700>=Ввод!$E$1:$E$30)*($A700<=Ввод!$F$1:$F$30),Ввод!$D$1:$D$30,\"\"),\" / \")","v":""},{"$f":"MyJoin(IF((C$2=Ввод!$C$1:$C$30)*($A700>=Ввод!$E$1:$E$30)*($A700<=Ввод!$F$1:$F$30),Ввод!$D$1:$D$30,\"\"),\" / \")","v":""},{"$f":"MyJoin(IF((D$2=Ввод!$C$1:$C$30)*($A700>=Ввод!$E$1:$E$30)*($A700<=Ввод!$F$1:$F$30),Ввод!$D$1:$D$30,\"\"),\" / \")","v":""},{"$f":"MyJoin(IF((E$2=Ввод!$C$1:$C$30)*($A700>=Ввод!$E$1:$E$30)*($A700<=Ввод!$F$1:$F$30),Ввод!$D$1:$D$30,\"\"),\" / \")","v":""},{"$f":"MyJoin(IF((F$2=Ввод!$C$1:$C$30)*($A700>=Ввод!$E$1:$E$30)*($A700<=Ввод!$F$1:$F$30),Ввод!$D$1:$D$30,\"\"),\" / \")","v":""},"2023-11-24"]
["2023-11-25",{"$f":"MyJoin(IF((B$2=Ввод!$C$1:$C$30)*($A701>=Ввод!$E$1:$E$30)*($A701<=Ввод!$F$1:$F$30),Ввод!$D$1:$D$30,\"\"),\" / \")","v":""},{"$f":"MyJoin(IF((C$2=Ввод!$C$1:$C$30)*($A701>=Ввод!$E$1:$E$30)*($A701<=Ввод!$F$1:$F$30),Ввод!$D$1:$D$30,\"\"),\" / \")","v":""},{"$f":"MyJoin(IF((D$2=Ввод!$C$1:$C$30)*($A701>=Ввод!$E$1:$E$30)*($A701<=Ввод!$F$1:$F$30),Ввод!$D$1:$D$30,\"\"),\" / \")","v":""},{"$f":"MyJoin(IF((E$2=Ввод!$C$1:$C$30)*($A701>=Ввод!$E$1:$E$30)*($A701<=Ввод!$F$1:$F$30),Ввод!$D$1:$D$30,\"\"),\" / \")","v":""},{"$f":"MyJoin(IF((F$2=Ввод!$C$1:$C$30)*($A701>=Ввод!$E$1:$E$30)*($A701<=Ввод!$F$1:$F$30),Ввод!$D$1:$D$30,\"\"),\" / \")","v":""},"2023-11-25"]
["2023-11-26",{"$f":"MyJoin(IF((B$2=Ввод!$C$1:$C$30)*($A702>=Ввод!$E$1:$E$30)*($A702<=Ввод!$F$1:$F$30),Ввод!$D$1:$D$30,\"\"),\" / \")","v":""},{"$f":"MyJoin(IF((C$2=Ввод!$C$1:$C$30)*($A702>=Ввод!$E$1:$E$30)*($A702<=Ввод!$F$1:$F$30),Ввод!$D$1:$D$30,\"\"),\" / \")","v":""},{"$f":"MyJoin(IF((D$2=Ввод!$C$1:$C$30)*($A702>=Ввод!$E$1:$E$30)*($A702<=Ввод!$F$1:$F$30),Ввод!$D$1:$D$30,\"\"),\" / \")","v":""},{"$f":"MyJoin(IF((E$2=Ввод!$C$1:$C$30)*($A702>=Ввод!$E$1:$E$30)*($A702<=Ввод!$F$1:$F$30),Ввод!$D$1:$D$30,\"\"),\" / \")","v":""},{"$f":"MyJoin(IF((F$2=Ввод!$C$1:$C$30)*($A702>=Ввод!$E$1:$E$30)*($A702<=Ввод!$F$1:$F$30),Ввод!$D$1:$D$30,\"\"),\" / \")","v":""},"2023-11-26"]
["2023-11-27",{"$f":"MyJoin(IF((B$2=Ввод!$C$1:$C$30)*($A703>=Ввод!$E$1:$E$30)*($A703<=Ввод!$F$1:$F$30),Ввод!$D$1:$D$30,\"\"),\" / \")","v":""},{"$f":"MyJoin(IF((C$2=Ввод!$C$1:$C$30)*($A703>=Ввод!$E$1:$E$30)*($A703<=Ввод!$F$1:$F$30),Ввод!$D$1:$D$30,\"\"),\" / \")","v":""},{"$f":"MyJoin(IF((D$2=Ввод!$C$1:$C$30)*($A703>=Ввод!$E$1:$E$30)*($A703<=Ввод!$F$1:$F$30),Ввод!$D$1:$D$30,\"\"),\" / \")","v":""},{"$f":"MyJoin(IF((E$2=Ввод!$C$1:$C$30)*($A703>=Ввод!$E$1:$E$30)*($A703<=Ввод!$F$1:$F$30),Ввод!$D$1:$D$30,\"\"),\" / \")","v":""},{"$f":"MyJoin(IF((F$2=Ввод!$C$1:$C$30)*($A703>=Ввод!$E$1:$E$30)*($A703<=Ввод!$F$1:$F$30),Ввод!$D$1:$D$30,\"\"),\" / \")","v":""},"2023-11-27"]
["2023-11-28",{"$f":"MyJoin(IF((B$2=Ввод!$C$1:$C$30)*($A704>=Ввод!$E$1:$E$30)*($A704<=Ввод!$F$1:$F$30),Ввод!$D$1:$D$30,\"\"),\" / \")","v":""},{"$f":"MyJoin(IF((C$2=Ввод!$C$1:$C$30)*($A704>=Ввод!$E$1:$E$30)*($A704<=Ввод!$F$1:$F$30),Ввод!$D$1:$D$30,\"\"),\" / \")","v":""},{"$f":"MyJoin(IF((D$2=Ввод!$C$1:$C$30)*($A704>=Ввод!$E$1:$E$30)*($A704<=Ввод!$F$1:$F$30),Ввод!$D$1:$D$30,\"\"),\" / \")","v":""},{"$f":"MyJoin(IF((E$2=Ввод!$C$1:$C$30)*($A704>=Ввод!$E$1:$E$30)*($A704<=Ввод!$F$1:$F$30),Ввод!$D$1:$D$30,\"\"),\" / \")","v":""},{"$f":"MyJoin(IF((F$2=Ввод!$C$1:$C$30)*($A704>=Ввод!$E$1:$E$30)*($A704<=Ввод!$F$1:$F$30),Ввод!$D$1:$D$30,\"\"),\" / \")","v":""},"2023-11-28"]
["2023-11-29",{"$f":"MyJoin(IF((B$2=Ввод!$C$1:$C$30)*($A705>=Ввод!$E$1:$E$30)*($A705<=Ввод!$F$1:$F$30),Ввод!$D$1:$D$30,\"\"),\" / \")","v":""},{"$f":"MyJoin(IF((C$2=Ввод!$C$1:$C$30)*($A705>=Ввод!$E$1:$E$30)*($A705<=Ввод!$F$1:$F$30),Ввод!$D$1:$D$30,\"\"),\" / \")","v":""},{"$f":"MyJoin(IF((D$2=Ввод!$C$1:$C$30)*($A705>=Ввод!$E$1:$E$30)*($A705<=Ввод!$F$1:$F$30),Ввод!$D$1:$D$30,\"\"),\" / \")","v":""},{"$f":"MyJoin(IF((E$2=Ввод!$C$1:$C$30)*($A705>=Ввод!$E$1:$E$30)*($A705<=Ввод!$F$1:$F$30),Ввод!$D$1:$D$30,\"\"),\" / \")","v":""},{"$f":"MyJoin(IF((F$2=Ввод!$C$1:$C$30)*($A705>=Ввод!$E$1:$E$30)*($A705<=Ввод!$F$1:$F$30),Ввод!$D$1:$D$30,\"\"),\" / \")","v":""},"2023-11-29"]
["2023-11-30",{"$f":"MyJoin(IF((B$2=Ввод!$C$1:$C$30)*($A706>=Ввод!$E$1:$E$30)*($A706<=Ввод!$F$1:$F$30),Ввод!$D$1:$D$30,\"\"),\" / \")","v":""},{"$f":"MyJoin(IF((C$2=Ввод!$C$1:$C$30)*($A706>=Ввод!$E$1:$E$30)*($A706<=Ввод!$F$1:$F$30),Ввод!$D$1:$D$30,\"\"),\" / \")","v":""},{"$f":"MyJoin(IF((D$2=Ввод!$C$1:$C$30)*($A706>=Ввод!$E$1:$E$30)*($A706<=Ввод!$F$1:$F$30),Ввод!$D$1:$D$30,\"\"),\" / \")","v":""},{"$f":"MyJoin(IF((E$2=Ввод!$C$1:$C$30)*($A706>=Ввод!$E$1:$E$30)*($A706<=Ввод!$F$1:$F$30),Ввод!$D$1:$D$30,\"\"),\" / \")","v":""},{"$f":"MyJoin(IF((F$2=Ввод!$C$1:$C$30)*($A706>=Ввод!$E$1:$E$30)*($A706<=Ввод!$F$1:$F$30),Ввод!$D$1:$D$30,\"\"),\" / \")","v":""},"2023-11-30"]
["2023-12-01",{"$f":"MyJoin(IF((B$2=Ввод!$C$1:$C$30)*($A707>=Ввод!$E$1:$E$30)*($A707<=Ввод!$F$1:$F$30),Ввод!$D$1:$D$30,\"\"),\" / \")","v":""},{"$f":"MyJoin(IF((C$2=Ввод!$C$1:$C$30)*($A707>=Ввод!$E$1:$E$30)*($A707<=Ввод!$F$1:$F$30),Ввод!$D$1:$D$30,\"\"),\" / \")","v":""},{"$f":"MyJoin(IF((D$2=Ввод!$C$1:$C$30)*($A707>=Ввод!$E$1:$E$30)*($A707<=Ввод!$F$1:$F$30),Ввод!$D$1:$D$30,\"\"),\" / \")","v":""},{"$f":"MyJoin(IF((E$2=Ввод!$C$1:$C$30)*($A707>=Ввод!$E$1:$E$30)*($A707<=Ввод!$F$1:$F$30),Ввод!$D$1:$D$30,\"\"),\" / \")","v":""},{"$f":"MyJoin(IF((F$2=Ввод!$C$1:$C$30)*($A707>=Ввод!$E$1:$E$30)*($A707<=Ввод!$F$1:$F$30),Ввод!$D$1:$D$30,\"\"),\" / \")","v":""},"2023-12-01"]
["2023-12-02",{"$f":"MyJoin(IF((B$2=Ввод!$C$1:$C$30)*($A708>=Ввод!$E$1:$E$30)*($A708<=Ввод!$F$1:$F$30),Ввод!$D$1:$D$30,\"\"),\" / \")","v":""},{"$f":"MyJoin(IF((C$2=Ввод!$C$1:$C$30)*($A708>=Ввод!$E$1:$E$30)*($A708<=Ввод!$F$1:$F$30),Ввод!$D$1:$D$30,\"\"),\" / \")","v":""},{"$f":"MyJoin(IF((D$2=Ввод!$C$1:$C$30)*($A708>=Ввод!$E$1:$E$30)*($A708<=Ввод!$F$1:$F$30),Ввод!$D$1:$D$30,\"\"),\" / \")","v":""},{"$f":"MyJoin(IF((E$2=Ввод!$C$1:$C$30)*($A708>=Ввод!$E$1:$E$30)*($A708<=Ввод!$F$1:$F$30),Ввод!$D$1:$D$30,\"\"),\" / \")","v":""},{"$f":"MyJoin(IF((F$2=Ввод!$C$1:$C$30)*($A708>=Ввод!$E$1:$E$30)*($A708<=Ввод!$F$1:$F$30),Ввод!$D$1:$D$30,\"\"),\" / \")","v":""},"2023-12-02"]
["2023-12-03",{"$f":"MyJoin(IF((B$2=Ввод!$C$1:$C$30)*($A709>=Ввод!$E$1:$E$30)*($A709<=Ввод!$F$1:$F$30),Ввод!$D$1:$D$30,\"\"),\" / \")","v":""},{"$f":"MyJoin(IF((C$2=Ввод!$C$1:$C$30)*($A709>=Ввод!$E$1:$E$30)*($A709<=Ввод!$F$1:$F$30),Ввод!$D$1:$D$30,\"\"),\" / \")","v":""},{"$f":"MyJoin(IF((D$2=Ввод!$C$1:$C$30)*($A709>=Ввод!$E$1:$E$30)*($A709<=Ввод!$F$1:$F$30),Ввод!$D$1:$D$30,\"\"),\" / \")","v":""},{"$f":"MyJoin(IF((E$2=Ввод!$C$1:$C$30)*($A709>=Ввод!$E$1:$E$30)*($A709<=Ввод!$F$1:$F$30),Ввод!$D$1:$D$30,\"\"),\" / \")","v":""},{"$f":"MyJoin(IF((F$2=Ввод!$C$1:$C$30)*($A709>=Ввод!$E$1:$E$30)*($A709<=Ввод!$F$1:$F$30),Ввод!$D$1:$D$30,\"\"),\" / \")","v":""},"2023-12-03"]
["2023-12-04",{"$f":"MyJoin(IF((B$2=Ввод!$C$1:$C$30)*($A710>=Ввод!$E$1:$E$30)*($A710<=Ввод!$F$1:$F$30),Ввод!$D$1:$D$30,\"\"),\" / \")","v":""},{"$f":"MyJoin(IF((C$2=Ввод!$C$1:$C$30)*($A710>=Ввод!$E$1:$E$30)*($A710<=Ввод!$F$1:$F$30),Ввод!$D$1:$D$30,\"\"),\" / \")","v":""},{"$f":"MyJoin(IF((D$2=Ввод!$C$1:$C$30)*($A710>=Ввод!$E$1:$E$30)*($A710<=Ввод!$F$1:$F$30),Ввод!$D$1:$D$30,\"\"),\" / \")","v":""},{"$f":"MyJoin(IF((E$2=Ввод!$C$1:$C$30)*($A710>=Ввод!$E$1:$E$30)*($A710<=Ввод!$F$1:$F$30),Ввод!$D$1:$D$30,\"\"),\" / \")","v":""},{"$f":"MyJoin(IF((F$2=Ввод!$C$1:$C$30)*($A710>=Ввод!$E$1:$E$30)*($A710<=Ввод!$F$1:$F$30),Ввод!$D$1:$D$30,\"\"),\" / \")","v":""},"2023-12-04"]
["2023-12-05",{"$f":"MyJoin(IF((B$2=Ввод!$C$1:$C$30)*($A711>=Ввод!$E$1:$E$30)*($A711<=Ввод!$F$1:$F$30),Ввод!$D$1:$D$30,\"\"),\" / \")","v":""},{"$f":"MyJoin(IF((C$2=Ввод!$C$1:$C$30)*($A711>=Ввод!$E$1:$E$30)*($A711<=Ввод!$F$1:$F$30),Ввод!$D$1:$D$30,\"\"),\" / \")","v":""},{"$f":"MyJoin(IF((D$2=Ввод!$C$1:$C$30)*($A711>=Ввод!$E$1:$E$30)*($A711<=Ввод!$F$1:$F$30),Ввод!$D$1:$D$30,\"\"),\" / \")","v":""},{"$f":"MyJoin(IF((E$2=Ввод!$C$1:$C$30)*($A711>=Ввод!$E$1:$E$30)*($A711<=Ввод!$F$1:$F$30),Ввод!$D$1:$D$30,\"\"),\" / \")","v":""},{"$f":"MyJoin(IF((F$2=Ввод!$C$1:$C$30)*($A711>=Ввод!$E$1:$E$30)*($A711<=Ввод!$F$1:$F$30),Ввод!$D$1:$D$30,\"\"),\" / \")","v":""},"2023-12-05"]
["2023-12-06",{"$f":"MyJoin(IF((B$2=Ввод!$C$1:$C$30)*($A712>=Ввод!$E$1:$E$30)*($A712<=Ввод!$F$1:$F$30),Ввод!$D$1:$D$30,\"\"),\" / \")","v":""},{"$f":"MyJoin(IF((C$2=Ввод!$C$1:$C$30)*($A712>=Ввод!$E$1:$E$30)*($A712<=Ввод!$F$1:$F$30),Ввод!$D$1:$D$30,\"\"),\" / \")","v":""},{"$f":"MyJoin(IF((D$2=Ввод!$C$1:$C$30)*($A712>=Ввод!$E$1:$E$30)*($A712<=Ввод!$F$1:$F$30),Ввод!$D$1:$D$30,\"\"),\" / \")","v":""},{"$f":"MyJoin(IF((E$2=Ввод!$C$1:$C$30)*($A712>=Ввод!$E$1:$E$30)*($A712<=Ввод!$F$1:$F$30),Ввод!$D$1:$D$30,\"\"),\" / \")","v":""},{"$f":"MyJoin(IF((F$2=Ввод!$C$1:$C$30)*($A712>=Ввод!$E$1:$E$30)*($A712<=Ввод!$F$1:$F$30),Ввод!$D$1:$D$30,\"\"),\" / \")","v":""},"2023-12-06"]
["2023-12-07",{"$f":"MyJoin(IF((B$2=Ввод!$C$1:$C$30)*($A713>=Ввод!$E$1:$E$30)*($A713<=Ввод!$F$1:$F$30),Ввод!$D$1:$D$30,\"\"),\" / \")","v":""},{"$f":"MyJoin(IF((C$2=Ввод!$C$1:$C$30)*($A713>=Ввод!$E$1:$E$30)*($A713<=Ввод!$F$1:$F$30),Ввод!$D$1:$D$30,\"\"),\" / \")","v":""},{"$f":"MyJoin(IF((D$2=Ввод!$C$1:$C$30)*($A713>=Ввод!$E$1:$E$30)*($A713<=Ввод!$F$1:$F$30),Ввод!$D$1:$D$30,\"\"),\" / \")","v":""},{"$f":"MyJoin(IF((E$2=Ввод!$C$1:$C$30)*($A713>=Ввод!$E$1:$E$30)*($A713<=Ввод!$F$1:$F$30),Ввод!$D$1:$D$30,\"\"),\" / \")","v":""},{"$f":"MyJoin(IF((F$2=Ввод!$C$1:$C$30)*($A713>=Ввод!$E$1:$E$30)*($A713<=Ввод!$F$1:$F$30),Ввод!$D$1:$D$30,\"\"),\" / \")","v":""},{"$f":"IF(A713=\"\",\"\",A713)","v":"2023-12-07"}]
["2023-12-08",{"$f":"MyJoin(IF((B$2=Ввод!$C$1:$C$30)*($A714>=Ввод!$E$1:$E$30)*($A714<=Ввод!$F$1:$F$30),Ввод!$D$1:$D$30,\"\"),\" / \")","v":""},{"$f":"MyJoin(IF((C$2=Ввод!$C$1:$C$30)*($A714>=Ввод!$E$1:$E$30)*($A714<=Ввод!$F$1:$F$30),Ввод!$D$1:$D$30,\"\"),\" / \")","v":""},{"$f":"MyJoin(IF((D$2=Ввод!$C$1:$C$30)*($A714>=Ввод!$E$1:$E$30)*($A714<=Ввод!$F$1:$F$30),Ввод!$D$1:$D$30,\"\"),\" / \")","v":""},{"$f":"MyJoin(IF((E$2=Ввод!$C$1:$C$30)*($A714>=Ввод!$E$1:$E$30)*($A714<=Ввод!$F$1:$F$30),Ввод!$D$1:$D$30,\"\"),\" / \")","v":""},{"$f":"MyJoin(IF((F$2=Ввод!$C$1:$C$30)*($A714>=Ввод!$E$1:$E$30)*($A714<=Ввод!$F$1:$F$30),Ввод!$D$1:$D$30,\"\"),\" / \")","v":""},"2023-12-08"]
["2023-12-09",{"$f":"MyJoin(IF((B$2=Ввод!$C$1:$C$30)*($A715>=Ввод!$E$1:$E$30)*($A715<=Ввод!$F$1:$F$30),Ввод!$D$1:$D$30,\"\"),\" / \")","v":""},{"$f":"MyJoin(IF((C$2=Ввод!$C$1:$C$30)*($A715>=Ввод!$E$1:$E$30)*($A715<=Ввод!$F$1:$F$30),Ввод!$D$1:$D$30,\"\"),\" / \")","v":""},{"$f":"MyJoin(IF((D$2=Ввод!$C$1:$C$30)*($A715>=Ввод!$E$1:$E$30)*($A715<=Ввод!$F$1:$F$30),Ввод!$D$1:$D$30,\"\"),\" / \")","v":""},{"$f":"MyJoin(IF((E$2=Ввод!$C$1:$C$30)*($A715>=Ввод!$E$1:$E$30)*($A715<=Ввод!$F$1:$F$30),Ввод!$D$1:$D$30,\"\"),\" / \")","v":""},{"$f":"MyJoin(IF((F$2=Ввод!$C$1:$C$30)*($A715>=Ввод!$E$1:$E$30)*($A715<=Ввод!$F$1:$F$30),Ввод!$D$1:$D$30,\"\"),\" / \")","v":""},"2023-12-09"]
["2023-12-10",{"$f":"MyJoin(IF((B$2=Ввод!$C$1:$C$30)*($A716>=Ввод!$E$1:$E$30)*($A716<=Ввод!$F$1:$F$30),Ввод!$D$1:$D$30,\"\"),\" / \")","v":""},{"$f":"MyJoin(IF((C$2=Ввод!$C$1:$C$30)*($A716>=Ввод!$E$1:$E$30)*($A716<=Ввод!$F$1:$F$30),Ввод!$D$1:$D$30,\"\"),\" / \")","v":""},{"$f":"MyJoin(IF((D$2=Ввод!$C$1:$C$30)*($A716>=Ввод!$E$1:$E$30)*($A716<=Ввод!$F$1:$F$30),Ввод!$D$1:$D$30,\"\"),\" / \")","v":""},{"$f":"MyJoin(IF((E$2=Ввод!$C$1:$C$30)*($A716>=Ввод!$E$1:$E$30)*($A716<=Ввод!$F$1:$F$30),Ввод!$D$1:$D$30,\"\"),\" / \")","v":""},{"$f":"MyJoin(IF((F$2=Ввод!$C$1:$C$30)*($A716>=Ввод!$E$1:$E$30)*($A716<=Ввод!$F$1:$F$30),Ввод!$D$1:$D$30,\"\"),\" / \")","v":""},"2023-12-10"]
["2023-12-11",{"$f":"MyJoin(IF((B$2=Ввод!$C$1:$C$30)*($A717>=Ввод!$E$1:$E$30)*($A717<=Ввод!$F$1:$F$30),Ввод!$D$1:$D$30,\"\"),\" / \")","v":""},{"$f":"MyJoin(IF((C$2=Ввод!$C$1:$C$30)*($A717>=Ввод!$E$1:$E$30)*($A717<=Ввод!$F$1:$F$30),Ввод!$D$1:$D$30,\"\"),\" / \")","v":""},{"$f":"MyJoin(IF((D$2=Ввод!$C$1:$C$30)*($A717>=Ввод!$E$1:$E$30)*($A717<=Ввод!$F$1:$F$30),Ввод!$D$1:$D$30,\"\"),\" / \")","v":""},{"$f":"MyJoin(IF((E$2=Ввод!$C$1:$C$30)*($A717>=Ввод!$E$1:$E$30)*($A717<=Ввод!$F$1:$F$30),Ввод!$D$1:$D$30,\"\"),\" / \")","v":""},{"$f":"MyJoin(IF((F$2=Ввод!$C$1:$C$30)*($A717>=Ввод!$E$1:$E$30)*($A717<=Ввод!$F$1:$F$30),Ввод!$D$1:$D$30,\"\"),\" / \")","v":""},"2023-12-11"]
["2023-12-12",{"$f":"MyJoin(IF((B$2=Ввод!$C$1:$C$30)*($A718>=Ввод!$E$1:$E$30)*($A718<=Ввод!$F$1:$F$30),Ввод!$D$1:$D$30,\"\"),\" / \")","v":""},{"$f":"MyJoin(IF((C$2=Ввод!$C$1:$C$30)*($A718>=Ввод!$E$1:$E$30)*($A718<=Ввод!$F$1:$F$30),Ввод!$D$1:$D$30,\"\"),\" / \")","v":""},{"$f":"MyJoin(IF((D$2=Ввод!$C$1:$C$30)*($A718>=Ввод!$E$1:$E$30)*($A718<=Ввод!$F$1:$F$30),Ввод!$D$1:$D$30,\"\"),\" / \")","v":""},{"$f":"MyJoin(IF((E$2=Ввод!$C$1:$C$30)*($A718>=Ввод!$E$1:$E$30)*($A718<=Ввод!$F$1:$F$30),Ввод!$D$1:$D$30,\"\"),\" / \")","v":""},{"$f":"MyJoin(IF((F$2=Ввод!$C$1:$C$30)*($A718>=Ввод!$E$1:$E$30)*($A718<=Ввод!$F$1:$F$30),Ввод!$D$1:$D$30,\"\"),\" / \")","v":""},"2023-12-12"]
["2023-12-13",{"$f":"MyJoin(IF((B$2=Ввод!$C$1:$C$30)*($A719>=Ввод!$E$1:$E$30)*($A719<=Ввод!$F$1:$F$30),Ввод!$D$1:$D$30,\"\"),\" / \")","v":""},{"$f":"MyJoin(IF((C$2=Ввод!$C$1:$C$30)*($A719>=Ввод!$E$1:$E$30)*($A719<=Ввод!$F$1:$F$30),Ввод!$D$1:$D$30,\"\"),\" / \")","v":""},{"$f":"MyJoin(IF((D$2=Ввод!$C$1:$C$30)*($A719>=Ввод!$E$1:$E$30)*($A719<=Ввод!$F$1:$F$30),Ввод!$D$1:$D$30,\"\"),\" / \")","v":""},{"$f":"MyJoin(IF((E$2=Ввод!$C$1:$C$30)*($A719>=Ввод!$E$1:$E$30)*($A719<=Ввод!$F$1:$F$30),Ввод!$D$1:$D$30,\"\"),\" / \")","v":""},{"$f":"MyJoin(IF((F$2=Ввод!$C$1:$C$30)*($A719>=Ввод!$E$1:$E$30)*($A719<=Ввод!$F$1:$F$30),Ввод!$D$1:$D$30,\"\"),\" / \")","v":""},"2023-12-13"]
["2023-12-14",{"$f":"MyJoin(IF((B$2=Ввод!$C$1:$C$30)*($A720>=Ввод!$E$1:$E$30)*($A720<=Ввод!$F$1:$F$30),Ввод!$D$1:$D$30,\"\"),\" / \")","v":""},{"$f":"MyJoin(IF((C$2=Ввод!$C$1:$C$30)*($A720>=Ввод!$E$1:$E$30)*($A720<=Ввод!$F$1:$F$30),Ввод!$D$1:$D$30,\"\"),\" / \")","v":""},{"$f":"MyJoin(IF((D$2=Ввод!$C$1:$C$30)*($A720>=Ввод!$E$1:$E$30)*($A720<=Ввод!$F$1:$F$30),Ввод!$D$1:$D$30,\"\"),\" / \")","v":""},{"$f":"MyJoin(IF((E$2=Ввод!$C$1:$C$30)*($A720>=Ввод!$E$1:$E$30)*($A720<=Ввод!$F$1:$F$30),Ввод!$D$1:$D$30,\"\"),\" / \")","v":""},{"$f":"MyJoin(IF((F$2=Ввод!$C$1:$C$30)*($A720>=Ввод!$E$1:$E$30)*($A720<=Ввод!$F$1:$F$30),Ввод!$D$1:$D$30,\"\"),\" / \")","v":""},"2023-12-14"]
["2023-12-15",{"$f":"MyJoin(IF((B$2=Ввод!$C$1:$C$30)*($A721>=Ввод!$E$1:$E$30)*($A721<=Ввод!$F$1:$F$30),Ввод!$D$1:$D$30,\"\"),\" / \")","v":""},{"$f":"MyJoin(IF((C$2=Ввод!$C$1:$C$30)*($A721>=Ввод!$E$1:$E$30)*($A721<=Ввод!$F$1:$F$30),Ввод!$D$1:$D$30,\"\"),\" / \")","v":""},{"$f":"MyJoin(IF((D$2=Ввод!$C$1:$C$30)*($A721>=Ввод!$E$1:$E$30)*($A721<=Ввод!$F$1:$F$30),Ввод!$D$1:$D$30,\"\"),\" / \")","v":""},{"$f":"MyJoin(IF((E$2=Ввод!$C$1:$C$30)*($A721>=Ввод!$E$1:$E$30)*($A721<=Ввод!$F$1:$F$30),Ввод!$D$1:$D$30,\"\"),\" / \")","v":""},{"$f":"MyJoin(IF((F$2=Ввод!$C$1:$C$30)*($A721>=Ввод!$E$1:$E$30)*($A721<=Ввод!$F$1:$F$30),Ввод!$D$1:$D$30,\"\"),\" / \")","v":""},"2023-12-15"]
["2023-12-16",{"$f":"MyJoin(IF((B$2=Ввод!$C$1:$C$30)*($A722>=Ввод!$E$1:$E$30)*($A722<=Ввод!$F$1:$F$30),Ввод!$D$1:$D$30,\"\"),\" / \")","v":""},{"$f":"MyJoin(IF((C$2=Ввод!$C$1:$C$30)*($A722>=Ввод!$E$1:$E$30)*($A722<=Ввод!$F$1:$F$30),Ввод!$D$1:$D$30,\"\"),\" / \")","v":""},{"$f":"MyJoin(IF((D$2=Ввод!$C$1:$C$30)*($A722>=Ввод!$E$1:$E$30)*($A722<=Ввод!$F$1:$F$30),Ввод!$D$1:$D$30,\"\"),\" / \")","v":""},{"$f":"MyJoin(IF((E$2=Ввод!$C$1:$C$30)*($A722>=Ввод!$E$1:$E$30)*($A722<=Ввод!$F$1:$F$30),Ввод!$D$1:$D$30,\"\"),\" / \")","v":""},{"$f":"MyJoin(IF((F$2=Ввод!$C$1:$C$30)*($A722>=Ввод!$E$1:$E$30)*($A722<=Ввод!$F$1:$F$30),Ввод!$D$1:$D$30,\"\"),\" / \")","v":""},"2023-12-16"]
["2023-12-17",{"$f":"MyJoin(IF((B$2=Ввод!$C$1:$C$30)*($A723>=Ввод!$E$1:$E$30)*($A723<=Ввод!$F$1:$F$30),Ввод!$D$1:$D$30,\"\"),\" / \")","v":""},{"$f":"MyJoin(IF((C$2=Ввод!$C$1:$C$30)*($A723>=Ввод!$E$1:$E$30)*($A723<=Ввод!$F$1:$F$30),Ввод!$D$1:$D$30,\"\"),\" / \")","v":""},{"$f":"MyJoin(IF((D$2=Ввод!$C$1:$C$30)*($A723>=Ввод!$E$1:$E$30)*($A723<=Ввод!$F$1:$F$30),Ввод!$D$1:$D$30,\"\"),\" / \")","v":""},{"$f":"MyJoin(IF((E$2=Ввод!$C$1:$C$30)*($A723>=Ввод!$E$1:$E$30)*($A723<=Ввод!$F$1:$F$30),Ввод!$D$1:$D$30,\"\"),\" / \")","v":""},{"$f":"MyJoin(IF((F$2=Ввод!$C$1:$C$30)*($A723>=Ввод!$E$1:$E$30)*($A723<=Ввод!$F$1:$F$30),Ввод!$D$1:$D$30,\"\"),\" / \")","v":""},"2023-12-17"]
["2023-12-18",{"$f":"MyJoin(IF((B$2=Ввод!$C$1:$C$30)*($A724>=Ввод!$E$1:$E$30)*($A724<=Ввод!$F$1:$F$30),Ввод!$D$1:$D$30,\"\"),\" / \")","v":""},{"$f":"MyJoin(IF((C$2=Ввод!$C$1:$C$30)*($A724>=Ввод!$E$1:$E$30)*($A724<=Ввод!$F$1:$F$30),Ввод!$D$1:$D$30,\"\"),\" / \")","v":""},{"$f":"MyJoin(IF((D$2=Ввод!$C$1:$C$30)*($A724>=Ввод!$E$1:$E$30)*($A724<=Ввод!$F$1:$F$30),Ввод!$D$1:$D$30,\"\"),\" / \")","v":""},{"$f":"MyJoin(IF((E$2=Ввод!$C$1:$C$30)*($A724>=Ввод!$E$1:$E$30)*($A724<=Ввод!$F$1:$F$30),Ввод!$D$1:$D$30,\"\"),\" / \")","v":""},{"$f":"MyJoin(IF((F$2=Ввод!$C$1:$C$30)*($A724>=Ввод!$E$1:$E$30)*($A724<=Ввод!$F$1:$F$30),Ввод!$D$1:$D$30,\"\"),\" / \")","v":""},"2023-12-18"]
["2023-12-19",{"$f":"MyJoin(IF((B$2=Ввод!$C$1:$C$30)*($A725>=Ввод!$E$1:$E$30)*($A725<=Ввод!$F$1:$F$30),Ввод!$D$1:$D$30,\"\"),\" / \")","v":""},{"$f":"MyJoin(IF((C$2=Ввод!$C$1:$C$30)*($A725>=Ввод!$E$1:$E$30)*($A725<=Ввод!$F$1:$F$30),Ввод!$D$1:$D$30,\"\"),\" / \")","v":""},{"$f":"MyJoin(IF((D$2=Ввод!$C$1:$C$30)*($A725>=Ввод!$E$1:$E$30)*($A725<=Ввод!$F$1:$F$30),Ввод!$D$1:$D$30,\"\"),\" / \")","v":""},{"$f":"MyJoin(IF((E$2=Ввод!$C$1:$C$30)*($A725>=Ввод!$E$1:$E$30)*($A725<=Ввод!$F$1:$F$30),Ввод!$D$1:$D$30,\"\"),\" / \")","v":""},{"$f":"MyJoin(IF((F$2=Ввод!$C$1:$C$30)*($A725>=Ввод!$E$1:$E$30)*($A725<=Ввод!$F$1:$F$30),Ввод!$D$1:$D$30,\"\"),\" / \")","v":""},"2023-12-19"]
["2023-12-20",{"$f":"MyJoin(IF((B$2=Ввод!$C$1:$C$30)*($A726>=Ввод!$E$1:$E$30)*($A726<=Ввод!$F$1:$F$30),Ввод!$D$1:$D$30,\"\"),\" / \")","v":""},{"$f":"MyJoin(IF((C$2=Ввод!$C$1:$C$30)*($A726>=Ввод!$E$1:$E$30)*($A726<=Ввод!$F$1:$F$30),Ввод!$D$1:$D$30,\"\"),\" / \")","v":""},{"$f":"MyJoin(IF((D$2=Ввод!$C$1:$C$30)*($A726>=Ввод!$E$1:$E$30)*($A726<=Ввод!$F$1:$F$30),Ввод!$D$1:$D$30,\"\"),\" / \")","v":""},{"$f":"MyJoin(IF((E$2=Ввод!$C$1:$C$30)*($A726>=Ввод!$E$1:$E$30)*($A726<=Ввод!$F$1:$F$30),Ввод!$D$1:$D$30,\"\"),\" / \")","v":""},{"$f":"MyJoin(IF((F$2=Ввод!$C$1:$C$30)*($A726>=Ввод!$E$1:$E$30)*($A726<=Ввод!$F$1:$F$30),Ввод!$D$1:$D$30,\"\"),\" / \")","v":""},"2023-12-20"]
["2023-12-21",{"$f":"MyJoin(IF((B$2=Ввод!$C$1:$C$30)*($A727>=Ввод!$E$1:$E$30)*($A727<=Ввод!$F$1:$F$30),Ввод!$D$1:$D$30,\"\"),\" / \")","v":""},{"$f":"MyJoin(IF((C$2=Ввод!$C$1:$C$30)*($A727>=Ввод!$E$1:$E$30)*($A727<=Ввод!$F$1:$F$30),Ввод!$D$1:$D$30,\"\"),\" / \")","v":""},{"$f":"MyJoin(IF((D$2=Ввод!$C$1:$C$30)*($A727>=Ввод!$E$1:$E$30)*($A727<=Ввод!$F$1:$F$30),Ввод!$D$1:$D$30,\"\"),\" / \")","v":""},{"$f":"MyJoin(IF((E$2=Ввод!$C$1:$C$30)*($A727>=Ввод!$E$1:$E$30)*($A727<=Ввод!$F$1:$F$30),Ввод!$D$1:$D$30,\"\"),\" / \")","v":""},{"$f":"MyJoin(IF((F$2=Ввод!$C$1:$C$30)*($A727>=Ввод!$E$1:$E$30)*($A727<=Ввод!$F$1:$F$30),Ввод!$D$1:$D$30,\"\"),\" / \")","v":""},"2023-12-21"]
["2023-12-22",{"$f":"MyJoin(IF((B$2=Ввод!$C$1:$C$30)*($A728>=Ввод!$E$1:$E$30)*($A728<=Ввод!$F$1:$F$30),Ввод!$D$1:$D$30,\"\"),\" / \")","v":""},{"$f":"MyJoin(IF((C$2=Ввод!$C$1:$C$30)*($A728>=Ввод!$E$1:$E$30)*($A728<=Ввод!$F$1:$F$30),Ввод!$D$1:$D$30,\"\"),\" / \")","v":""},{"$f":"MyJoin(IF((D$2=Ввод!$C$1:$C$30)*($A728>=Ввод!$E$1:$E$30)*($A728<=Ввод!$F$1:$F$30),Ввод!$D$1:$D$30,\"\"),\" / \")","v":""},{"$f":"MyJoin(IF((E$2=Ввод!$C$1:$C$30)*($A728>=Ввод!$E$1:$E$30)*($A728<=Ввод!$F$1:$F$30),Ввод!$D$1:$D$30,\"\"),\" / \")","v":""},{"$f":"MyJoin(IF((F$2=Ввод!$C$1:$C$30)*($A728>=Ввод!$E$1:$E$30)*($A728<=Ввод!$F$1:$F$30),Ввод!$D$1:$D$30,\"\"),\" / \")","v":""},"2023-12-22"]
["2023-12-23",{"$f":"MyJoin(IF((B$2=Ввод!$C$1:$C$30)*($A729>=Ввод!$E$1:$E$30)*($A729<=Ввод!$F$1:$F$30),Ввод!$D$1:$D$30,\"\"),\" / \")","v":""},{"$f":"MyJoin(IF((C$2=Ввод!$C$1:$C$30)*($A729>=Ввод!$E$1:$E$30)*($A729<=Ввод!$F$1:$F$30),Ввод!$D$1:$D$30,\"\"),\" / \")","v":""},{"$f":"MyJoin(IF((D$2=Ввод!$C$1:$C$30)*($A729>=Ввод!$E$1:$E$30)*($A729<=Ввод!$F$1:$F$30),Ввод!$D$1:$D$30,\"\"),\" / \")","v":""},{"$f":"MyJoin(IF((E$2=Ввод!$C$1:$C$30)*($A729>=Ввод!$E$1:$E$30)*($A729<=Ввод!$F$1:$F$30),Ввод!$D$1:$D$30,\"\"),\" / \")","v":""},{"$f":"MyJoin(IF((F$2=Ввод!$C$1:$C$30)*($A729>=Ввод!$E$1:$E$30)*($A729<=Ввод!$F$1:$F$30),Ввод!$D$1:$D$30,\"\"),\" / \")","v":""},"2023-12-23"]
["2023-12-24",{"$f":"MyJoin(IF((B$2=Ввод!$C$1:$C$30)*($A730>=Ввод!$E$1:$E$30)*($A730<=Ввод!$F$1:$F$30),Ввод!$D$1:$D$30,\"\"),\" / \")","v":""},{"$f":"MyJoin(IF((C$2=Ввод!$C$1:$C$30)*($A730>=Ввод!$E$1:$E$30)*($A730<=Ввод!$F$1:$F$30),Ввод!$D$1:$D$30,\"\"),\" / \")","v":""},{"$f":"MyJoin(IF((D$2=Ввод!$C$1:$C$30)*($A730>=Ввод!$E$1:$E$30)*($A730<=Ввод!$F$1:$F$30),Ввод!$D$1:$D$30,\"\"),\" / \")","v":""},{"$f":"MyJoin(IF((E$2=Ввод!$C$1:$C$30)*($A730>=Ввод!$E$1:$E$30)*($A730<=Ввод!$F$1:$F$30),Ввод!$D$1:$D$30,\"\"),\" / \")","v":""},{"$f":"MyJoin(IF((F$2=Ввод!$C$1:$C$30)*($A730>=Ввод!$E$1:$E$30)*($A730<=Ввод!$F$1:$F$30),Ввод!$D$1:$D$30,\"\"),\" / \")","v":""},"2023-12-24"]
["2023-12-25",{"$f":"MyJoin(IF((B$2=Ввод!$C$1:$C$30)*($A731>=Ввод!$E$1:$E$30)*($A731<=Ввод!$F$1:$F$30),Ввод!$D$1:$D$30,\"\"),\" / \")","v":""},{"$f":"MyJoin(IF((C$2=Ввод!$C$1:$C$30)*($A731>=Ввод!$E$1:$E$30)*($A731<=Ввод!$F$1:$F$30),Ввод!$D$1:$D$30,\"\"),\" / \")","v":""},{"$f":"MyJoin(IF((D$2=Ввод!$C$1:$C$30)*($A731>=Ввод!$E$1:$E$30)*($A731<=Ввод!$F$1:$F$30),Ввод!$D$1:$D$30,\"\"),\" / \")","v":""},{"$f":"MyJoin(IF((E$2=Ввод!$C$1:$C$30)*($A731>=Ввод!$E$1:$E$30)*($A731<=Ввод!$F$1:$F$30),Ввод!$D$1:$D$30,\"\"),\" / \")","v":""},{"$f":"MyJoin(IF((F$2=Ввод!$C$1:$C$30)*($A731>=Ввод!$E$1:$E$30)*($A731<=Ввод!$F$1:$F$30),Ввод!$D$1:$D$30,\"\"),\" / \")","v":""},"2023-12-25"]
["2023-12-26",{"$f":"MyJoin(IF((B$2=Ввод!$C$1:$C$30)*($A732>=Ввод!$E$1:$E$30)*($A732<=Ввод!$F$1:$F$30),Ввод!$D$1:$D$30,\"\"),\" / \")","v":""},{"$f":"MyJoin(IF((C$2=Ввод!$C$1:$C$30)*($A732>=Ввод!$E$1:$E$30)*($A732<=Ввод!$F$1:$F$30),Ввод!$D$1:$D$30,\"\"),\" / \")","v":""},{"$f":"MyJoin(IF((D$2=Ввод!$C$1:$C$30)*($A732>=Ввод!$E$1:$E$30)*($A732<=Ввод!$F$1:$F$30),Ввод!$D$1:$D$30,\"\"),\" / \")","v":""},{"$f":"MyJoin(IF((E$2=Ввод!$C$1:$C$30)*($A732>=Ввод!$E$1:$E$30)*($A732<=Ввод!$F$1:$F$30),Ввод!$D$1:$D$30,\"\"),\" / \")","v":""},{"$f":"MyJoin(IF((F$2=Ввод!$C$1:$C$30)*($A732>=Ввод!$E$1:$E$30)*($A732<=Ввод!$F$1:$F$30),Ввод!$D$1:$D$30,\"\"),\" / \")","v":""},"2023-12-26"]
["2023-12-27",{"$f":"MyJoin(IF((B$2=Ввод!$C$1:$C$30)*($A733>=Ввод!$E$1:$E$30)*($A733<=Ввод!$F$1:$F$30),Ввод!$D$1:$D$30,\"\"),\" / \")","v":""},{"$f":"MyJoin(IF((C$2=Ввод!$C$1:$C$30)*($A733>=Ввод!$E$1:$E$30)*($A733<=Ввод!$F$1:$F$30),Ввод!$D$1:$D$30,\"\"),\" / \")","v":""},{"$f":"MyJoin(IF((D$2=Ввод!$C$1:$C$30)*($A733>=Ввод!$E$1:$E$30)*($A733<=Ввод!$F$1:$F$30),Ввод!$D$1:$D$30,\"\"),\" / \")","v":""},{"$f":"MyJoin(IF((E$2=Ввод!$C$1:$C$30)*($A733>=Ввод!$E$1:$E$30)*($A733<=Ввод!$F$1:$F$30),Ввод!$D$1:$D$30,\"\"),\" / \")","v":""},{"$f":"MyJoin(IF((F$2=Ввод!$C$1:$C$30)*($A733>=Ввод!$E$1:$E$30)*($A733<=Ввод!$F$1:$F$30),Ввод!$D$1:$D$30,\"\"),\" / \")","v":""},"2023-12-27"]
["2023-12-28",{"$f":"MyJoin(IF((B$2=Ввод!$C$1:$C$30)*($A734>=Ввод!$E$1:$E$30)*($A734<=Ввод!$F$1:$F$30),Ввод!$D$1:$D$30,\"\"),\" / \")","v":""},{"$f":"MyJoin(IF((C$2=Ввод!$C$1:$C$30)*($A734>=Ввод!$E$1:$E$30)*($A734<=Ввод!$F$1:$F$30),Ввод!$D$1:$D$30,\"\"),\" / \")","v":""},{"$f":"MyJoin(IF((D$2=Ввод!$C$1:$C$30)*($A734>=Ввод!$E$1:$E$30)*($A734<=Ввод!$F$1:$F$30),Ввод!$D$1:$D$30,\"\"),\" / \")","v":""},{"$f":"MyJoin(IF((E$2=Ввод!$C$1:$C$30)*($A734>=Ввод!$E$1:$E$30)*($A734<=Ввод!$F$1:$F$30),Ввод!$D$1:$D$30,\"\"),\" / \")","v":""},{"$f":"MyJoin(IF((F$2=Ввод!$C$1:$C$30)*($A734>=Ввод!$E$1:$E$30)*($A734<=Ввод!$F$1:$F$30),Ввод!$D$1:$D$30,\"\"),\" / \")","v":""},"2023-12-28"]
["2023-12-29",{"$f":"MyJoin(IF((B$2=Ввод!$C$1:$C$30)*($A735>=Ввод!$E$1:$E$30)*($A735<=Ввод!$F$1:$F$30),Ввод!$D$1:$D$30,\"\"),\" / \")","v":""},{"$f":"MyJoin(IF((C$2=Ввод!$C$1:$C$30)*($A735>=Ввод!$E$1:$E$30)*($A735<=Ввод!$F$1:$F$30),Ввод!$D$1:$D$30,\"\"),\" / \")","v":""},{"$f":"MyJoin(IF((D$2=Ввод!$C$1:$C$30)*($A735>=Ввод!$E$1:$E$30)*($A735<=Ввод!$F$1:$F$30),Ввод!$D$1:$D$30,\"\"),\" / \")","v":""},{"$f":"MyJoin(IF((E$2=Ввод!$C$1:$C$30)*($A735>=Ввод!$E$1:$E$30)*($A735<=Ввод!$F$1:$F$30),Ввод!$D$1:$D$30,\"\"),\" / \")","v":""},{"$f":"MyJoin(IF((F$2=Ввод!$C$1:$C$30)*($A735>=Ввод!$E$1:$E$30)*($A735<=Ввод!$F$1:$F$30),Ввод!$D$1:$D$30,\"\"),\" / \")","v":""},"2023-12-29"]
["2023-12-30",{"$f":"MyJoin(IF((B$2=Ввод!$C$1:$C$30)*($A736>=Ввод!$E$1:$E$30)*($A736<=Ввод!$F$1:$F$30),Ввод!$D$1:$D$30,\"\"),\" / \")","v":""},{"$f":"MyJoin(IF((C$2=Ввод!$C$1:$C$30)*($A736>=Ввод!$E$1:$E$30)*($A736<=Ввод!$F$1:$F$30),Ввод!$D$1:$D$30,\"\"),\" / \")","v":""},{"$f":"MyJoin(IF((D$2=Ввод!$C$1:$C$30)*($A736>=Ввод!$E$1:$E$30)*($A736<=Ввод!$F$1:$F$30),Ввод!$D$1:$D$30,\"\"),\" / \")","v":""},{"$f":"MyJoin(IF((E$2=Ввод!$C$1:$C$30)*($A736>=Ввод!$E$1:$E$30)*($A736<=Ввод!$F$1:$F$30),Ввод!$D$1:$D$30,\"\"),\" / \")","v":""},{"$f":"MyJoin(IF((F$2=Ввод!$C$1:$C$30)*($A736>=Ввод!$E$1:$E$30)*($A736<=Ввод!$F$1:$F$30),Ввод!$D$1:$D$30,\"\"),\" / \")","v":""},"2023-12-30"]
["2023-12-31",{"$f":"MyJoin(IF((B$2=Ввод!$C$1:$C$30)*($A737>=Ввод!$E$1:$E$30)*($A737<=Ввод!$F$1:$F$30),Ввод!$D$1:$D$30,\"\"),\" / \")","v":""},{"$f":"MyJoin(IF((C$2=Ввод!$C$1:$C$30)*($A737>=Ввод!$E$1:$E$30)*($A737<=Ввод!$F$1:$F$30),Ввод!$D$1:$D$30,\"\"),\" / \")","v":""},{"$f":"MyJoin(IF((D$2=Ввод!$C$1:$C$30)*($A737>=Ввод!$E$1:$E$30)*($A737<=Ввод!$F$1:$F$30),Ввод!$D$1:$D$30,\"\"),\" / \")","v":""},{"$f":"MyJoin(IF((E$2=Ввод!$C$1:$C$30)*($A737>=Ввод!$E$1:$E$30)*($A737<=Ввод!$F$1:$F$30),Ввод!$D$1:$D$30,\"\"),\" / \")","v":""},{"$f":"MyJoin(IF((F$2=Ввод!$C$1:$C$30)*($A737>=Ввод!$E$1:$E$30)*($A737<=Ввод!$F$1:$F$30),Ввод!$D$1:$D$30,\"\"),\" / \")","v":""},"2023-12-31"]
["2024-01-01",{"$f":"MyJoin(IF((B$2=Ввод!$C$1:$C$30)*($A738>=Ввод!$E$1:$E$30)*($A738<=Ввод!$F$1:$F$30),Ввод!$D$1:$D$30,\"\"),\" / \")","v":""},{"$f":"MyJoin(IF((C$2=Ввод!$C$1:$C$30)*($A738>=Ввод!$E$1:$E$30)*($A738<=Ввод!$F$1:$F$30),Ввод!$D$1:$D$30,\"\"),\" / \")","v":""},{"$f":"MyJoin(IF((D$2=Ввод!$C$1:$C$30)*($A738>=Ввод!$E$1:$E$30)*($A738<=Ввод!$F$1:$F$30),Ввод!$D$1:$D$30,\"\"),\" / \")","v":""},{"$f":"MyJoin(IF((E$2=Ввод!$C$1:$C$30)*($A738>=Ввод!$E$1:$E$30)*($A738<=Ввод!$F$1:$F$30),Ввод!$D$1:$D$30,\"\"),\" / \")","v":""},{"$f":"MyJoin(IF((F$2=Ввод!$C$1:$C$30)*($A738>=Ввод!$E$1:$E$30)*($A738<=Ввод!$F$1:$F$30),Ввод!$D$1:$D$30,\"\"),\" / \")","v":""},"2024-01-01"]
["2024-01-02",{"$f":"MyJoin(IF((B$2=Ввод!$C$1:$C$30)*($A739>=Ввод!$E$1:$E$30)*($A739<=Ввод!$F$1:$F$30),Ввод!$D$1:$D$30,\"\"),\" / \")","v":""},{"$f":"MyJoin(IF((C$2=Ввод!$C$1:$C$30)*($A739>=Ввод!$E$1:$E$30)*($A739<=Ввод!$F$1:$F$30),Ввод!$D$1:$D$30,\"\"),\" / \")","v":""},{"$f":"MyJoin(IF((D$2=Ввод!$C$1:$C$30)*($A739>=Ввод!$E$1:$E$30)*($A739<=Ввод!$F$1:$F$30),Ввод!$D$1:$D$30,\"\"),\" / \")","v":""},{"$f":"MyJoin(IF((E$2=Ввод!$C$1:$C$30)*($A739>=Ввод!$E$1:$E$30)*($A739<=Ввод!$F$1:$F$30),Ввод!$D$1:$D$30,\"\"),\" / \")","v":""},{"$f":"MyJoin(IF((F$2=Ввод!$C$1:$C$30)*($A739>=Ввод!$E$1:$E$30)*($A739<=Ввод!$F$1:$F$30),Ввод!$D$1:$D$30,\"\"),\" / \")","v":""},"2024-01-02"]
["2024-01-03",{"$f":"MyJoin(IF((B$2=Ввод!$C$1:$C$30)*($A740>=Ввод!$E$1:$E$30)*($A740<=Ввод!$F$1:$F$30),Ввод!$D$1:$D$30,\"\"),\" / \")","v":""},{"$f":"MyJoin(IF((C$2=Ввод!$C$1:$C$30)*($A740>=Ввод!$E$1:$E$30)*($A740<=Ввод!$F$1:$F$30),Ввод!$D$1:$D$30,\"\"),\" / \")","v":""},{"$f":"MyJoin(IF((D$2=Ввод!$C$1:$C$30)*($A740>=Ввод!$E$1:$E$30)*($A740<=Ввод!$F$1:$F$30),Ввод!$D$1:$D$30,\"\"),\" / \")","v":""},{"$f":"MyJoin(IF((E$2=Ввод!$C$1:$C$30)*($A740>=Ввод!$E$1:$E$30)*($A740<=Ввод!$F$1:$F$30),Ввод!$D$1:$D$30,\"\"),\" / \")","v":""},{"$f":"MyJoin(IF((F$2=Ввод!$C$1:$C$30)*($A740>=Ввод!$E$1:$E$30)*($A740<=Ввод!$F$1:$F$30),Ввод!$D$1:$D$30,\"\"),\" / \")","v":""},"2024-01-03"]
["2024-01-04",{"$f":"MyJoin(IF((B$2=Ввод!$C$1:$C$30)*($A741>=Ввод!$E$1:$E$30)*($A741<=Ввод!$F$1:$F$30),Ввод!$D$1:$D$30,\"\"),\" / \")","v":""},{"$f":"MyJoin(IF((C$2=Ввод!$C$1:$C$30)*($A741>=Ввод!$E$1:$E$30)*($A741<=Ввод!$F$1:$F$30),Ввод!$D$1:$D$30,\"\"),\" / \")","v":""},{"$f":"MyJoin(IF((D$2=Ввод!$C$1:$C$30)*($A741>=Ввод!$E$1:$E$30)*($A741<=Ввод!$F$1:$F$30),Ввод!$D$1:$D$30,\"\"),\" / \")","v":""},{"$f":"MyJoin(IF((E$2=Ввод!$C$1:$C$30)*($A741>=Ввод!$E$1:$E$30)*($A741<=Ввод!$F$1:$F$30),Ввод!$D$1:$D$30,\"\"),\" / \")","v":""},{"$f":"MyJoin(IF((F$2=Ввод!$C$1:$C$30)*($A741>=Ввод!$E$1:$E$30)*($A741<=Ввод!$F$1:$F$30),Ввод!$D$1:$D$30,\"\"),\" / \")","v":""},"2024-01-04"]
["2024-01-05",{"$f":"MyJoin(IF((B$2=Ввод!$C$1:$C$30)*($A742>=Ввод!$E$1:$E$30)*($A742<=Ввод!$F$1:$F$30),Ввод!$D$1:$D$30,\"\"),\" / \")","v":""},{"$f":"MyJoin(IF((C$2=Ввод!$C$1:$C$30)*($A742>=Ввод!$E$1:$E$30)*($A742<=Ввод!$F$1:$F$30),Ввод!$D$1:$D$30,\"\"),\" / \")","v":""},{"$f":"MyJoin(IF((D$2=Ввод!$C$1:$C$30)*($A742>=Ввод!$E$1:$E$30)*($A742<=Ввод!$F$1:$F$30),Ввод!$D$1:$D$30,\"\"),\" / \")","v":""},{"$f":"MyJoin(IF((E$2=Ввод!$C$1:$C$30)*($A742>=Ввод!$E$1:$E$30)*($A742<=Ввод!$F$1:$F$30),Ввод!$D$1:$D$30,\"\"),\" / \")","v":""},{"$f":"MyJoin(IF((F$2=Ввод!$C$1:$C$30)*($A742>=Ввод!$E$1:$E$30)*($A742<=Ввод!$F$1:$F$30),Ввод!$D$1:$D$30,\"\"),\" / \")","v":""},"2024-01-05"]
["2024-01-06",{"$f":"MyJoin(IF((B$2=Ввод!$C$1:$C$30)*($A743>=Ввод!$E$1:$E$30)*($A743<=Ввод!$F$1:$F$30),Ввод!$D$1:$D$30,\"\"),\" / \")","v":""},{"$f":"MyJoin(IF((C$2=Ввод!$C$1:$C$30)*($A743>=Ввод!$E$1:$E$30)*($A743<=Ввод!$F$1:$F$30),Ввод!$D$1:$D$30,\"\"),\" / \")","v":""},{"$f":"MyJoin(IF((D$2=Ввод!$C$1:$C$30)*($A743>=Ввод!$E$1:$E$30)*($A743<=Ввод!$F$1:$F$30),Ввод!$D$1:$D$30,\"\"),\" / \")","v":""},{"$f":"MyJoin(IF((E$2=Ввод!$C$1:$C$30)*($A743>=Ввод!$E$1:$E$30)*($A743<=Ввод!$F$1:$F$30),Ввод!$D$1:$D$30,\"\"),\" / \")","v":""},{"$f":"MyJoin(IF((F$2=Ввод!$C$1:$C$30)*($A743>=Ввод!$E$1:$E$30)*($A743<=Ввод!$F$1:$F$30),Ввод!$D$1:$D$30,\"\"),\" / \")","v":""},"2024-01-06"]
["2024-01-07",{"$f":"MyJoin(IF((B$2=Ввод!$C$1:$C$30)*($A744>=Ввод!$E$1:$E$30)*($A744<=Ввод!$F$1:$F$30),Ввод!$D$1:$D$30,\"\"),\" / \")","v":""},{"$f":"MyJoin(IF((C$2=Ввод!$C$1:$C$30)*($A744>=Ввод!$E$1:$E$30)*($A744<=Ввод!$F$1:$F$30),Ввод!$D$1:$D$30,\"\"),\" / \")","v":""},{"$f":"MyJoin(IF((D$2=Ввод!$C$1:$C$30)*($A744>=Ввод!$E$1:$E$30)*($A744<=Ввод!$F$1:$F$30),Ввод!$D$1:$D$30,\"\"),\" / \")","v":""},{"$f":"MyJoin(IF((E$2=Ввод!$C$1:$C$30)*($A744>=Ввод!$E$1:$E$30)*($A744<=Ввод!$F$1:$F$30),Ввод!$D$1:$D$30,\"\"),\" / \")","v":""},{"$f":"MyJoin(IF((F$2=Ввод!$C$1:$C$30)*($A744>=Ввод!$E$1:$E$30)*($A744<=Ввод!$F$1:$F$30),Ввод!$D$1:$D$30,\"\"),\" / \")","v":""},"2024-01-07"]
["2024-01-08",{"$f":"MyJoin(IF((B$2=Ввод!$C$1:$C$30)*($A745>=Ввод!$E$1:$E$30)*($A745<=Ввод!$F$1:$F$30),Ввод!$D$1:$D$30,\"\"),\" / \")","v":""},{"$f":"MyJoin(IF((C$2=Ввод!$C$1:$C$30)*($A745>=Ввод!$E$1:$E$30)*($A745<=Ввод!$F$1:$F$30),Ввод!$D$1:$D$30,\"\"),\" / \")","v":""},{"$f":"MyJoin(IF((D$2=Ввод!$C$1:$C$30)*($A745>=Ввод!$E$1:$E$30)*($A745<=Ввод!$F$1:$F$30),Ввод!$D$1:$D$30,\"\"),\" / \")","v":""},{"$f":"MyJoin(IF((E$2=Ввод!$C$1:$C$30)*($A745>=Ввод!$E$1:$E$30)*($A745<=Ввод!$F$1:$F$30),Ввод!$D$1:$D$30,\"\"),\" / \")","v":""},{"$f":"MyJoin(IF((F$2=Ввод!$C$1:$C$30)*($A745>=Ввод!$E$1:$E$30)*($A745<=Ввод!$F$1:$F$30),Ввод!$D$1:$D$30,\"\"),\" / \")","v":""},"2024-01-08"]
["2024-01-09",{"$f":"MyJoin(IF((B$2=Ввод!$C$1:$C$30)*($A746>=Ввод!$E$1:$E$30)*($A746<=Ввод!$F$1:$F$30),Ввод!$D$1:$D$30,\"\"),\" / \")","v":""},{"$f":"MyJoin(IF((C$2=Ввод!$C$1:$C$30)*($A746>=Ввод!$E$1:$E$30)*($A746<=Ввод!$F$1:$F$30),Ввод!$D$1:$D$30,\"\"),\" / \")","v":""},{"$f":"MyJoin(IF((D$2=Ввод!$C$1:$C$30)*($A746>=Ввод!$E$1:$E$30)*($A746<=Ввод!$F$1:$F$30),Ввод!$D$1:$D$30,\"\"),\" / \")","v":""},{"$f":"MyJoin(IF((E$2=Ввод!$C$1:$C$30)*($A746>=Ввод!$E$1:$E$30)*($A746<=Ввод!$F$1:$F$30),Ввод!$D$1:$D$30,\"\"),\" / \")","v":""},{"$f":"MyJoin(IF((F$2=Ввод!$C$1:$C$30)*($A746>=Ввод!$E$1:$E$30)*($A746<=Ввод!$F$1:$F$30),Ввод!$D$1:$D$30,\"\"),\" / \")","v":""},"2024-01-09"]
["2024-01-10",{"$f":"MyJoin(IF((B$2=Ввод!$C$1:$C$30)*($A747>=Ввод!$E$1:$E$30)*($A747<=Ввод!$F$1:$F$30),Ввод!$D$1:$D$30,\"\"),\" / \")","v":""},{"$f":"MyJoin(IF((C$2=Ввод!$C$1:$C$30)*($A747>=Ввод!$E$1:$E$30)*($A747<=Ввод!$F$1:$F$30),Ввод!$D$1:$D$30,\"\"),\" / \")","v":""},{"$f":"MyJoin(IF((D$2=Ввод!$C$1:$C$30)*($A747>=Ввод!$E$1:$E$30)*($A747<=Ввод!$F$1:$F$30),Ввод!$D$1:$D$30,\"\"),\" / \")","v":""},{"$f":"MyJoin(IF((E$2=Ввод!$C$1:$C$30)*($A747>=Ввод!$E$1:$E$30)*($A747<=Ввод!$F$1:$F$30),Ввод!$D$1:$D$30,\"\"),\" / \")","v":""},{"$f":"MyJoin(IF((F$2=Ввод!$C$1:$C$30)*($A747>=Ввод!$E$1:$E$30)*($A747<=Ввод!$F$1:$F$30),Ввод!$D$1:$D$30,\"\"),\" / \")","v":""},"2024-01-10"]
["2024-01-11",{"$f":"MyJoin(IF((B$2=Ввод!$C$1:$C$30)*($A748>=Ввод!$E$1:$E$30)*($A748<=Ввод!$F$1:$F$30),Ввод!$D$1:$D$30,\"\"),\" / \")","v":""},{"$f":"MyJoin(IF((C$2=Ввод!$C$1:$C$30)*($A748>=Ввод!$E$1:$E$30)*($A748<=Ввод!$F$1:$F$30),Ввод!$D$1:$D$30,\"\"),\" / \")","v":""},{"$f":"MyJoin(IF((D$2=Ввод!$C$1:$C$30)*($A748>=Ввод!$E$1:$E$30)*($A748<=Ввод!$F$1:$F$30),Ввод!$D$1:$D$30,\"\"),\" / \")","v":""},{"$f":"MyJoin(IF((E$2=Ввод!$C$1:$C$30)*($A748>=Ввод!$E$1:$E$30)*($A748<=Ввод!$F$1:$F$30),Ввод!$D$1:$D$30,\"\"),\" / \")","v":""},{"$f":"MyJoin(IF((F$2=Ввод!$C$1:$C$30)*($A748>=Ввод!$E$1:$E$30)*($A748<=Ввод!$F$1:$F$30),Ввод!$D$1:$D$30,\"\"),\" / \")","v":""},"2024-01-11"]
["2024-01-12",{"$f":"MyJoin(IF((B$2=Ввод!$C$1:$C$30)*($A749>=Ввод!$E$1:$E$30)*($A749<=Ввод!$F$1:$F$30),Ввод!$D$1:$D$30,\"\"),\" / \")","v":""},{"$f":"MyJoin(IF((C$2=Ввод!$C$1:$C$30)*($A749>=Ввод!$E$1:$E$30)*($A749<=Ввод!$F$1:$F$30),Ввод!$D$1:$D$30,\"\"),\" / \")","v":""},{"$f":"MyJoin(IF((D$2=Ввод!$C$1:$C$30)*($A749>=Ввод!$E$1:$E$30)*($A749<=Ввод!$F$1:$F$30),Ввод!$D$1:$D$30,\"\"),\" / \")","v":""},{"$f":"MyJoin(IF((E$2=Ввод!$C$1:$C$30)*($A749>=Ввод!$E$1:$E$30)*($A749<=Ввод!$F$1:$F$30),Ввод!$D$1:$D$30,\"\"),\" / \")","v":""},{"$f":"MyJoin(IF((F$2=Ввод!$C$1:$C$30)*($A749>=Ввод!$E$1:$E$30)*($A749<=Ввод!$F$1:$F$30),Ввод!$D$1:$D$30,\"\"),\" / \")","v":""},"2024-01-12"]
["2024-01-13",{"$f":"MyJoin(IF((B$2=Ввод!$C$1:$C$30)*($A750>=Ввод!$E$1:$E$30)*($A750<=Ввод!$F$1:$F$30),Ввод!$D$1:$D$30,\"\"),\" / \")","v":""},{"$f":"MyJoin(IF((C$2=Ввод!$C$1:$C$30)*($A750>=Ввод!$E$1:$E$30)*($A750<=Ввод!$F$1:$F$30),Ввод!$D$1:$D$30,\"\"),\" / \")","v":""},{"$f":"MyJoin(IF((D$2=Ввод!$C$1:$C$30)*($A750>=Ввод!$E$1:$E$30)*($A750<=Ввод!$F$1:$F$30),Ввод!$D$1:$D$30,\"\"),\" / \")","v":""},{"$f":"MyJoin(IF((E$2=Ввод!$C$1:$C$30)*($A750>=Ввод!$E$1:$E$30)*($A750<=Ввод!$F$1:$F$30),Ввод!$D$1:$D$30,\"\"),\" / \")","v":""},{"$f":"MyJoin(IF((F$2=Ввод!$C$1:$C$30)*($A750>=Ввод!$E$1:$E$30)*($A750<=Ввод!$F$1:$F$30),Ввод!$D$1:$D$30,\"\"),\" / \")","v":""},"2024-01-13"]
["2024-01-14",{"$f":"MyJoin(IF((B$2=Ввод!$C$1:$C$30)*($A751>=Ввод!$E$1:$E$30)*($A751<=Ввод!$F$1:$F$30),Ввод!$D$1:$D$30,\"\"),\" / \")","v":""},{"$f":"MyJoin(IF((C$2=Ввод!$C$1:$C$30)*($A751>=Ввод!$E$1:$E$30)*($A751<=Ввод!$F$1:$F$30),Ввод!$D$1:$D$30,\"\"),\" / \")","v":""},{"$f":"MyJoin(IF((D$2=Ввод!$C$1:$C$30)*($A751>=Ввод!$E$1:$E$30)*($A751<=Ввод!$F$1:$F$30),Ввод!$D$1:$D$30,\"\"),\" / \")","v":""},{"$f":"MyJoin(IF((E$2=Ввод!$C$1:$C$30)*($A751>=Ввод!$E$1:$E$30)*($A751<=Ввод!$F$1:$F$30),Ввод!$D$1:$D$30,\"\"),\" / \")","v":""},{"$f":"MyJoin(IF((F$2=Ввод!$C$1:$C$30)*($A751>=Ввод!$E$1:$E$30)*($A751<=Ввод!$F$1:$F$30),Ввод!$D$1:$D$30,\"\"),\" / \")","v":""},"2024-01-14"]
["2024-01-15",{"$f":"MyJoin(IF((B$2=Ввод!$C$1:$C$30)*($A752>=Ввод!$E$1:$E$30)*($A752<=Ввод!$F$1:$F$30),Ввод!$D$1:$D$30,\"\"),\" / \")","v":""},{"$f":"MyJoin(IF((C$2=Ввод!$C$1:$C$30)*($A752>=Ввод!$E$1:$E$30)*($A752<=Ввод!$F$1:$F$30),Ввод!$D$1:$D$30,\"\"),\" / \")","v":""},{"$f":"MyJoin(IF((D$2=Ввод!$C$1:$C$30)*($A752>=Ввод!$E$1:$E$30)*($A752<=Ввод!$F$1:$F$30),Ввод!$D$1:$D$30,\"\"),\" / \")","v":""},{"$f":"MyJoin(IF((E$2=Ввод!$C$1:$C$30)*($A752>=Ввод!$E$1:$E$30)*($A752<=Ввод!$F$1:$F$30),Ввод!$D$1:$D$30,\"\"),\" / \")","v":""},{"$f":"MyJoin(IF((F$2=Ввод!$C$1:$C$30)*($A752>=Ввод!$E$1:$E$30)*($A752<=Ввод!$F$1:$F$30),Ввод!$D$1:$D$30,\"\"),\" / \")","v":""},"2024-01-15"]
["2024-01-16",{"$f":"MyJoin(IF((B$2=Ввод!$C$1:$C$30)*($A753>=Ввод!$E$1:$E$30)*($A753<=Ввод!$F$1:$F$30),Ввод!$D$1:$D$30,\"\"),\" / \")","v":""},{"$f":"MyJoin(IF((C$2=Ввод!$C$1:$C$30)*($A753>=Ввод!$E$1:$E$30)*($A753<=Ввод!$F$1:$F$30),Ввод!$D$1:$D$30,\"\"),\" / \")","v":""},{"$f":"MyJoin(IF((D$2=Ввод!$C$1:$C$30)*($A753>=Ввод!$E$1:$E$30)*($A753<=Ввод!$F$1:$F$30),Ввод!$D$1:$D$30,\"\"),\" / \")","v":""},{"$f":"MyJoin(IF((E$2=Ввод!$C$1:$C$30)*($A753>=Ввод!$E$1:$E$30)*($A753<=Ввод!$F$1:$F$30),Ввод!$D$1:$D$30,\"\"),\" / \")","v":""},{"$f":"MyJoin(IF((F$2=Ввод!$C$1:$C$30)*($A753>=Ввод!$E$1:$E$30)*($A753<=Ввод!$F$1:$F$30),Ввод!$D$1:$D$30,\"\"),\" / \")","v":""},"2024-01-16"]
["2024-01-17",{"$f":"MyJoin(IF((B$2=Ввод!$C$1:$C$30)*($A754>=Ввод!$E$1:$E$30)*($A754<=Ввод!$F$1:$F$30),Ввод!$D$1:$D$30,\"\"),\" / \")","v":""},{"$f":"MyJoin(IF((C$2=Ввод!$C$1:$C$30)*($A754>=Ввод!$E$1:$E$30)*($A754<=Ввод!$F$1:$F$30),Ввод!$D$1:$D$30,\"\"),\" / \")","v":""},{"$f":"MyJoin(IF((D$2=Ввод!$C$1:$C$30)*($A754>=Ввод!$E$1:$E$30)*($A754<=Ввод!$F$1:$F$30),Ввод!$D$1:$D$30,\"\"),\" / \")","v":""},{"$f":"MyJoin(IF((E$2=Ввод!$C$1:$C$30)*($A754>=Ввод!$E$1:$E$30)*($A754<=Ввод!$F$1:$F$30),Ввод!$D$1:$D$30,\"\"),\" / \")","v":""},{"$f":"MyJoin(IF((F$2=Ввод!$C$1:$C$30)*($A754>=Ввод!$E$1:$E$30)*($A754<=Ввод!$F$1:$F$30),Ввод!$D$1:$D$30,\"\"),\" / \")","v":""},"2024-01-17"]
["2024-01-18",{"$f":"MyJoin(IF((B$2=Ввод!$C$1:$C$30)*($A755>=Ввод!$E$1:$E$30)*($A755<=Ввод!$F$1:$F$30),Ввод!$D$1:$D$30,\"\"),\" / \")","v":""},{"$f":"MyJoin(IF((C$2=Ввод!$C$1:$C$30)*($A755>=Ввод!$E$1:$E$30)*($A755<=Ввод!$F$1:$F$30),Ввод!$D$1:$D$30,\"\"),\" / \")","v":""},{"$f":"MyJoin(IF((D$2=Ввод!$C$1:$C$30)*($A755>=Ввод!$E$1:$E$30)*($A755<=Ввод!$F$1:$F$30),Ввод!$D$1:$D$30,\"\"),\" / \")","v":""},{"$f":"MyJoin(IF((E$2=Ввод!$C$1:$C$30)*($A755>=Ввод!$E$1:$E$30)*($A755<=Ввод!$F$1:$F$30),Ввод!$D$1:$D$30,\"\"),\" / \")","v":""},{"$f":"MyJoin(IF((F$2=Ввод!$C$1:$C$30)*($A755>=Ввод!$E$1:$E$30)*($A755<=Ввод!$F$1:$F$30),Ввод!$D$1:$D$30,\"\"),\" / \")","v":""},"2024-01-18"]
["2024-01-19",{"$f":"MyJoin(IF((B$2=Ввод!$C$1:$C$30)*($A756>=Ввод!$E$1:$E$30)*($A756<=Ввод!$F$1:$F$30),Ввод!$D$1:$D$30,\"\"),\" / \")","v":""},{"$f":"MyJoin(IF((C$2=Ввод!$C$1:$C$30)*($A756>=Ввод!$E$1:$E$30)*($A756<=Ввод!$F$1:$F$30),Ввод!$D$1:$D$30,\"\"),\" / \")","v":""},{"$f":"MyJoin(IF((D$2=Ввод!$C$1:$C$30)*($A756>=Ввод!$E$1:$E$30)*($A756<=Ввод!$F$1:$F$30),Ввод!$D$1:$D$30,\"\"),\" / \")","v":""},{"$f":"MyJoin(IF((E$2=Ввод!$C$1:$C$30)*($A756>=Ввод!$E$1:$E$30)*($A756<=Ввод!$F$1:$F$30),Ввод!$D$1:$D$30,\"\"),\" / \")","v":""},{"$f":"MyJoin(IF((F$2=Ввод!$C$1:$C$30)*($A756>=Ввод!$E$1:$E$30)*($A756<=Ввод!$F$1:$F$30),Ввод!$D$1:$D$30,\"\"),\" / \")","v":""},"2024-01-19"]
["2024-01-20",{"$f":"MyJoin(IF((B$2=Ввод!$C$1:$C$30)*($A757>=Ввод!$E$1:$E$30)*($A757<=Ввод!$F$1:$F$30),Ввод!$D$1:$D$30,\"\"),\" / \")","v":""},{"$f":"MyJoin(IF((C$2=Ввод!$C$1:$C$30)*($A757>=Ввод!$E$1:$E$30)*($A757<=Ввод!$F$1:$F$30),Ввод!$D$1:$D$30,\"\"),\" / \")","v":""},{"$f":"MyJoin(IF((D$2=Ввод!$C$1:$C$30)*($A757>=Ввод!$E$1:$E$30)*($A757<=Ввод!$F$1:$F$30),Ввод!$D$1:$D$30,\"\"),\" / \")","v":""},{"$f":"MyJoin(IF((E$2=Ввод!$C$1:$C$30)*($A757>=Ввод!$E$1:$E$30)*($A757<=Ввод!$F$1:$F$30),Ввод!$D$1:$D$30,\"\"),\" / \")","v":""},{"$f":"MyJoin(IF((F$2=Ввод!$C$1:$C$30)*($A757>=Ввод!$E$1:$E$30)*($A757<=Ввод!$F$1:$F$30),Ввод!$D$1:$D$30,\"\"),\" / \")","v":""},"2024-01-20"]
["2024-01-21",{"$f":"MyJoin(IF((B$2=Ввод!$C$1:$C$30)*($A758>=Ввод!$E$1:$E$30)*($A758<=Ввод!$F$1:$F$30),Ввод!$D$1:$D$30,\"\"),\" / \")","v":""},{"$f":"MyJoin(IF((C$2=Ввод!$C$1:$C$30)*($A758>=Ввод!$E$1:$E$30)*($A758<=Ввод!$F$1:$F$30),Ввод!$D$1:$D$30,\"\"),\" / \")","v":""},{"$f":"MyJoin(IF((D$2=Ввод!$C$1:$C$30)*($A758>=Ввод!$E$1:$E$30)*($A758<=Ввод!$F$1:$F$30),Ввод!$D$1:$D$30,\"\"),\" / \")","v":""},{"$f":"MyJoin(IF((E$2=Ввод!$C$1:$C$30)*($A758>=Ввод!$E$1:$E$30)*($A758<=Ввод!$F$1:$F$30),Ввод!$D$1:$D$30,\"\"),\" / \")","v":""},{"$f":"MyJoin(IF((F$2=Ввод!$C$1:$C$30)*($A758>=Ввод!$E$1:$E$30)*($A758<=Ввод!$F$1:$F$30),Ввод!$D$1:$D$30,\"\"),\" / \")","v":""},"2024-01-21"]
["2024-01-22",{"$f":"MyJoin(IF((B$2=Ввод!$C$1:$C$30)*($A759>=Ввод!$E$1:$E$30)*($A759<=Ввод!$F$1:$F$30),Ввод!$D$1:$D$30,\"\"),\" / \")","v":""},{"$f":"MyJoin(IF((C$2=Ввод!$C$1:$C$30)*($A759>=Ввод!$E$1:$E$30)*($A759<=Ввод!$F$1:$F$30),Ввод!$D$1:$D$30,\"\"),\" / \")","v":""},{"$f":"MyJoin(IF((D$2=Ввод!$C$1:$C$30)*($A759>=Ввод!$E$1:$E$30)*($A759<=Ввод!$F$1:$F$30),Ввод!$D$1:$D$30,\"\"),\" / \")","v":""},{"$f":"MyJoin(IF((E$2=Ввод!$C$1:$C$30)*($A759>=Ввод!$E$1:$E$30)*($A759<=Ввод!$F$1:$F$30),Ввод!$D$1:$D$30,\"\"),\" / \")","v":""},{"$f":"MyJoin(IF((F$2=Ввод!$C$1:$C$30)*($A759>=Ввод!$E$1:$E$30)*($A759<=Ввод!$F$1:$F$30),Ввод!$D$1:$D$30,\"\"),\" / \")","v":""},"2024-01-22"]
["2024-01-23",{"$f":"MyJoin(IF((B$2=Ввод!$C$1:$C$30)*($A760>=Ввод!$E$1:$E$30)*($A760<=Ввод!$F$1:$F$30),Ввод!$D$1:$D$30,\"\"),\" / \")","v":""},{"$f":"MyJoin(IF((C$2=Ввод!$C$1:$C$30)*($A760>=Ввод!$E$1:$E$30)*($A760<=Ввод!$F$1:$F$30),Ввод!$D$1:$D$30,\"\"),\" / \")","v":""},{"$f":"MyJoin(IF((D$2=Ввод!$C$1:$C$30)*($A760>=Ввод!$E$1:$E$30)*($A760<=Ввод!$F$1:$F$30),Ввод!$D$1:$D$30,\"\"),\" / \")","v":""},{"$f":"MyJoin(IF((E$2=Ввод!$C$1:$C$30)*($A760>=Ввод!$E$1:$E$30)*($A760<=Ввод!$F$1:$F$30),Ввод!$D$1:$D$30,\"\"),\" / \")","v":""},{"$f":"MyJoin(IF((F$2=Ввод!$C$1:$C$30)*($A760>=Ввод!$E$1:$E$30)*($A760<=Ввод!$F$1:$F$30),Ввод!$D$1:$D$30,\"\"),\" / \")","v":""},"2024-01-23"]
["2024-01-24",{"$f":"MyJoin(IF((B$2=Ввод!$C$1:$C$30)*($A761>=Ввод!$E$1:$E$30)*($A761<=Ввод!$F$1:$F$30),Ввод!$D$1:$D$30,\"\"),\" / \")","v":""},{"$f":"MyJoin(IF((C$2=Ввод!$C$1:$C$30)*($A761>=Ввод!$E$1:$E$30)*($A761<=Ввод!$F$1:$F$30),Ввод!$D$1:$D$30,\"\"),\" / \")","v":""},{"$f":"MyJoin(IF((D$2=Ввод!$C$1:$C$30)*($A761>=Ввод!$E$1:$E$30)*($A761<=Ввод!$F$1:$F$30),Ввод!$D$1:$D$30,\"\"),\" / \")","v":""},{"$f":"MyJoin(IF((E$2=Ввод!$C$1:$C$30)*($A761>=Ввод!$E$1:$E$30)*($A761<=Ввод!$F$1:$F$30),Ввод!$D$1:$D$30,\"\"),\" / \")","v":""},{"$f":"MyJoin(IF((F$2=Ввод!$C$1:$C$30)*($A761>=Ввод!$E$1:$E$30)*($A761<=Ввод!$F$1:$F$30),Ввод!$D$1:$D$30,\"\"),\" / \")","v":""},"2024-01-24"]
["2024-01-25",{"$f":"MyJoin(IF((B$2=Ввод!$C$1:$C$30)*($A762>=Ввод!$E$1:$E$30)*($A762<=Ввод!$F$1:$F$30),Ввод!$D$1:$D$30,\"\"),\" / \")","v":""},{"$f":"MyJoin(IF((C$2=Ввод!$C$1:$C$30)*($A762>=Ввод!$E$1:$E$30)*($A762<=Ввод!$F$1:$F$30),Ввод!$D$1:$D$30,\"\"),\" / \")","v":""},{"$f":"MyJoin(IF((D$2=Ввод!$C$1:$C$30)*($A762>=Ввод!$E$1:$E$30)*($A762<=Ввод!$F$1:$F$30),Ввод!$D$1:$D$30,\"\"),\" / \")","v":""},{"$f":"MyJoin(IF((E$2=Ввод!$C$1:$C$30)*($A762>=Ввод!$E$1:$E$30)*($A762<=Ввод!$F$1:$F$30),Ввод!$D$1:$D$30,\"\"),\" / \")","v":""},{"$f":"MyJoin(IF((F$2=Ввод!$C$1:$C$30)*($A762>=Ввод!$E$1:$E$30)*($A762<=Ввод!$F$1:$F$30),Ввод!$D$1:$D$30,\"\"),\" / \")","v":""},"2024-01-25"]
["2024-01-26",{"$f":"MyJoin(IF((B$2=Ввод!$C$1:$C$30)*($A763>=Ввод!$E$1:$E$30)*($A763<=Ввод!$F$1:$F$30),Ввод!$D$1:$D$30,\"\"),\" / \")","v":""},{"$f":"MyJoin(IF((C$2=Ввод!$C$1:$C$30)*($A763>=Ввод!$E$1:$E$30)*($A763<=Ввод!$F$1:$F$30),Ввод!$D$1:$D$30,\"\"),\" / \")","v":""},{"$f":"MyJoin(IF((D$2=Ввод!$C$1:$C$30)*($A763>=Ввод!$E$1:$E$30)*($A763<=Ввод!$F$1:$F$30),Ввод!$D$1:$D$30,\"\"),\" / \")","v":""},{"$f":"MyJoin(IF((E$2=Ввод!$C$1:$C$30)*($A763>=Ввод!$E$1:$E$30)*($A763<=Ввод!$F$1:$F$30),Ввод!$D$1:$D$30,\"\"),\" / \")","v":""},{"$f":"MyJoin(IF((F$2=Ввод!$C$1:$C$30)*($A763>=Ввод!$E$1:$E$30)*($A763<=Ввод!$F$1:$F$30),Ввод!$D$1:$D$30,\"\"),\" / \")","v":""},"2024-01-26"]
["2024-01-27",{"$f":"MyJoin(IF((B$2=Ввод!$C$1:$C$30)*($A764>=Ввод!$E$1:$E$30)*($A764<=Ввод!$F$1:$F$30),Ввод!$D$1:$D$30,\"\"),\" / \")","v":""},{"$f":"MyJoin(IF((C$2=Ввод!$C$1:$C$30)*($A764>=Ввод!$E$1:$E$30)*($A764<=Ввод!$F$1:$F$30),Ввод!$D$1:$D$30,\"\"),\" / \")","v":""},{"$f":"MyJoin(IF((D$2=Ввод!$C$1:$C$30)*($A764>=Ввод!$E$1:$E$30)*($A764<=Ввод!$F$1:$F$30),Ввод!$D$1:$D$30,\"\"),\" / \")","v":""},{"$f":"MyJoin(IF((E$2=Ввод!$C$1:$C$30)*($A764>=Ввод!$E$1:$E$30)*($A764<=Ввод!$F$1:$F$30),Ввод!$D$1:$D$30,\"\"),\" / \")","v":""},{"$f":"MyJoin(IF((F$2=Ввод!$C$1:$C$30)*($A764>=Ввод!$E$1:$E$30)*($A764<=Ввод!$F$1:$F$30),Ввод!$D$1:$D$30,\"\"),\" / \")","v":""},"2024-01-27"]
["2024-01-28",{"$f":"MyJoin(IF((B$2=Ввод!$C$1:$C$30)*($A765>=Ввод!$E$1:$E$30)*($A765<=Ввод!$F$1:$F$30),Ввод!$D$1:$D$30,\"\"),\" / \")","v":""},{"$f":"MyJoin(IF((C$2=Ввод!$C$1:$C$30)*($A765>=Ввод!$E$1:$E$30)*($A765<=Ввод!$F$1:$F$30),Ввод!$D$1:$D$30,\"\"),\" / \")","v":""},{"$f":"MyJoin(IF((D$2=Ввод!$C$1:$C$30)*($A765>=Ввод!$E$1:$E$30)*($A765<=Ввод!$F$1:$F$30),Ввод!$D$1:$D$30,\"\"),\" / \")","v":""},{"$f":"MyJoin(IF((E$2=Ввод!$C$1:$C$30)*($A765>=Ввод!$E$1:$E$30)*($A765<=Ввод!$F$1:$F$30),Ввод!$D$1:$D$30,\"\"),\" / \")","v":""},{"$f":"MyJoin(IF((F$2=Ввод!$C$1:$C$30)*($A765>=Ввод!$E$1:$E$30)*($A765<=Ввод!$F$1:$F$30),Ввод!$D$1:$D$30,\"\"),\" / \")","v":""},"2024-01-28"]
["2024-01-29",{"$f":"MyJoin(IF((B$2=Ввод!$C$1:$C$30)*($A766>=Ввод!$E$1:$E$30)*($A766<=Ввод!$F$1:$F$30),Ввод!$D$1:$D$30,\"\"),\" / \")","v":""},{"$f":"MyJoin(IF((C$2=Ввод!$C$1:$C$30)*($A766>=Ввод!$E$1:$E$30)*($A766<=Ввод!$F$1:$F$30),Ввод!$D$1:$D$30,\"\"),\" / \")","v":""},{"$f":"MyJoin(IF((D$2=Ввод!$C$1:$C$30)*($A766>=Ввод!$E$1:$E$30)*($A766<=Ввод!$F$1:$F$30),Ввод!$D$1:$D$30,\"\"),\" / \")","v":""},{"$f":"MyJoin(IF((E$2=Ввод!$C$1:$C$30)*($A766>=Ввод!$E$1:$E$30)*($A766<=Ввод!$F$1:$F$30),Ввод!$D$1:$D$30,\"\"),\" / \")","v":""},{"$f":"MyJoin(IF((F$2=Ввод!$C$1:$C$30)*($A766>=Ввод!$E$1:$E$30)*($A766<=Ввод!$F$1:$F$30),Ввод!$D$1:$D$30,\"\"),\" / \")","v":""},"2024-01-29"]
["2024-01-30",{"$f":"MyJoin(IF((B$2=Ввод!$C$1:$C$30)*($A767>=Ввод!$E$1:$E$30)*($A767<=Ввод!$F$1:$F$30),Ввод!$D$1:$D$30,\"\"),\" / \")","v":""},{"$f":"MyJoin(IF((C$2=Ввод!$C$1:$C$30)*($A767>=Ввод!$E$1:$E$30)*($A767<=Ввод!$F$1:$F$30),Ввод!$D$1:$D$30,\"\"),\" / \")","v":""},{"$f":"MyJoin(IF((D$2=Ввод!$C$1:$C$30)*($A767>=Ввод!$E$1:$E$30)*($A767<=Ввод!$F$1:$F$30),Ввод!$D$1:$D$30,\"\"),\" / \")","v":""},{"$f":"MyJoin(IF((E$2=Ввод!$C$1:$C$30)*($A767>=Ввод!$E$1:$E$30)*($A767<=Ввод!$F$1:$F$30),Ввод!$D$1:$D$30,\"\"),\" / \")","v":""},{"$f":"MyJoin(IF((F$2=Ввод!$C$1:$C$30)*($A767>=Ввод!$E$1:$E$30)*($A767<=Ввод!$F$1:$F$30),Ввод!$D$1:$D$30,\"\"),\" / \")","v":""},"2024-01-30"]
["2024-01-31",{"$f":"MyJoin(IF((B$2=Ввод!$C$1:$C$30)*($A768>=Ввод!$E$1:$E$30)*($A768<=Ввод!$F$1:$F$30),Ввод!$D$1:$D$30,\"\"),\" / \")","v":""},{"$f":"MyJoin(IF((C$2=Ввод!$C$1:$C$30)*($A768>=Ввод!$E$1:$E$30)*($A768<=Ввод!$F$1:$F$30),Ввод!$D$1:$D$30,\"\"),\" / \")","v":""},{"$f":"MyJoin(IF((D$2=Ввод!$C$1:$C$30)*($A768>=Ввод!$E$1:$E$30)*($A768<=Ввод!$F$1:$F$30),Ввод!$D$1:$D$30,\"\"),\" / \")","v":""},{"$f":"MyJoin(IF((E$2=Ввод!$C$1:$C$30)*($A768>=Ввод!$E$1:$E$30)*($A768<=Ввод!$F$1:$F$30),Ввод!$D$1:$D$30,\"\"),\" / \")","v":""},{"$f":"MyJoin(IF((F$2=Ввод!$C$1:$C$30)*($A768>=Ввод!$E$1:$E$30)*($A768<=Ввод!$F$1:$F$30),Ввод!$D$1:$D$30,\"\"),\" / \")","v":""},"2024-01-31"]
["2024-02-01",{"$f":"MyJoin(IF((B$2=Ввод!$C$1:$C$30)*($A769>=Ввод!$E$1:$E$30)*($A769<=Ввод!$F$1:$F$30),Ввод!$D$1:$D$30,\"\"),\" / \")","v":""},{"$f":"MyJoin(IF((C$2=Ввод!$C$1:$C$30)*($A769>=Ввод!$E$1:$E$30)*($A769<=Ввод!$F$1:$F$30),Ввод!$D$1:$D$30,\"\"),\" / \")","v":""},{"$f":"MyJoin(IF((D$2=Ввод!$C$1:$C$30)*($A769>=Ввод!$E$1:$E$30)*($A769<=Ввод!$F$1:$F$30),Ввод!$D$1:$D$30,\"\"),\" / \")","v":""},{"$f":"MyJoin(IF((E$2=Ввод!$C$1:$C$30)*($A769>=Ввод!$E$1:$E$30)*($A769<=Ввод!$F$1:$F$30),Ввод!$D$1:$D$30,\"\"),\" / \")","v":""},{"$f":"MyJoin(IF((F$2=Ввод!$C$1:$C$30)*($A769>=Ввод!$E$1:$E$30)*($A769<=Ввод!$F$1:$F$30),Ввод!$D$1:$D$30,\"\"),\" / \")","v":""},"2024-02-01"]
["2024-02-02",{"$f":"MyJoin(IF((B$2=Ввод!$C$1:$C$30)*($A770>=Ввод!$E$1:$E$30)*($A770<=Ввод!$F$1:$F$30),Ввод!$D$1:$D$30,\"\"),\" / \")","v":""},{"$f":"MyJoin(IF((C$2=Ввод!$C$1:$C$30)*($A770>=Ввод!$E$1:$E$30)*($A770<=Ввод!$F$1:$F$30),Ввод!$D$1:$D$30,\"\"),\" / \")","v":""},{"$f":"MyJoin(IF((D$2=Ввод!$C$1:$C$30)*($A770>=Ввод!$E$1:$E$30)*($A770<=Ввод!$F$1:$F$30),Ввод!$D$1:$D$30,\"\"),\" / \")","v":""},{"$f":"MyJoin(IF((E$2=Ввод!$C$1:$C$30)*($A770>=Ввод!$E$1:$E$30)*($A770<=Ввод!$F$1:$F$30),Ввод!$D$1:$D$30,\"\"),\" / \")","v":""},{"$f":"MyJoin(IF((F$2=Ввод!$C$1:$C$30)*($A770>=Ввод!$E$1:$E$30)*($A770<=Ввод!$F$1:$F$30),Ввод!$D$1:$D$30,\"\"),\" / \")","v":""},"2024-02-02"]
["2024-02-03",{"$f":"MyJoin(IF((B$2=Ввод!$C$1:$C$30)*($A771>=Ввод!$E$1:$E$30)*($A771<=Ввод!$F$1:$F$30),Ввод!$D$1:$D$30,\"\"),\" / \")","v":""},{"$f":"MyJoin(IF((C$2=Ввод!$C$1:$C$30)*($A771>=Ввод!$E$1:$E$30)*($A771<=Ввод!$F$1:$F$30),Ввод!$D$1:$D$30,\"\"),\" / \")","v":""},{"$f":"MyJoin(IF((D$2=Ввод!$C$1:$C$30)*($A771>=Ввод!$E$1:$E$30)*($A771<=Ввод!$F$1:$F$30),Ввод!$D$1:$D$30,\"\"),\" / \")","v":""},{"$f":"MyJoin(IF((E$2=Ввод!$C$1:$C$30)*($A771>=Ввод!$E$1:$E$30)*($A771<=Ввод!$F$1:$F$30),Ввод!$D$1:$D$30,\"\"),\" / \")","v":""},{"$f":"MyJoin(IF((F$2=Ввод!$C$1:$C$30)*($A771>=Ввод!$E$1:$E$30)*($A771<=Ввод!$F$1:$F$30),Ввод!$D$1:$D$30,\"\"),\" / \")","v":""},"2024-02-03"]
["2024-02-04",{"$f":"MyJoin(IF((B$2=Ввод!$C$1:$C$30)*($A772>=Ввод!$E$1:$E$30)*($A772<=Ввод!$F$1:$F$30),Ввод!$D$1:$D$30,\"\"),\" / \")","v":""},{"$f":"MyJoin(IF((C$2=Ввод!$C$1:$C$30)*($A772>=Ввод!$E$1:$E$30)*($A772<=Ввод!$F$1:$F$30),Ввод!$D$1:$D$30,\"\"),\" / \")","v":""},{"$f":"MyJoin(IF((D$2=Ввод!$C$1:$C$30)*($A772>=Ввод!$E$1:$E$30)*($A772<=Ввод!$F$1:$F$30),Ввод!$D$1:$D$30,\"\"),\" / \")","v":""},{"$f":"MyJoin(IF((E$2=Ввод!$C$1:$C$30)*($A772>=Ввод!$E$1:$E$30)*($A772<=Ввод!$F$1:$F$30),Ввод!$D$1:$D$30,\"\"),\" / \")","v":""},{"$f":"MyJoin(IF((F$2=Ввод!$C$1:$C$30)*($A772>=Ввод!$E$1:$E$30)*($A772<=Ввод!$F$1:$F$30),Ввод!$D$1:$D$30,\"\"),\" / \")","v":""},"2024-02-04"]
["2024-02-05",{"$f":"MyJoin(IF((B$2=Ввод!$C$1:$C$30)*($A773>=Ввод!$E$1:$E$30)*($A773<=Ввод!$F$1:$F$30),Ввод!$D$1:$D$30,\"\"),\" / \")","v":""},{"$f":"MyJoin(IF((C$2=Ввод!$C$1:$C$30)*($A773>=Ввод!$E$1:$E$30)*($A773<=Ввод!$F$1:$F$30),Ввод!$D$1:$D$30,\"\"),\" / \")","v":""},{"$f":"MyJoin(IF((D$2=Ввод!$C$1:$C$30)*($A773>=Ввод!$E$1:$E$30)*($A773<=Ввод!$F$1:$F$30),Ввод!$D$1:$D$30,\"\"),\" / \")","v":""},{"$f":"MyJoin(IF((E$2=Ввод!$C$1:$C$30)*($A773>=Ввод!$E$1:$E$30)*($A773<=Ввод!$F$1:$F$30),Ввод!$D$1:$D$30,\"\"),\" / \")","v":""},{"$f":"MyJoin(IF((F$2=Ввод!$C$1:$C$30)*($A773>=Ввод!$E$1:$E$30)*($A773<=Ввод!$F$1:$F$30),Ввод!$D$1:$D$30,\"\"),\" / \")","v":""},"2024-02-05"]
["2024-02-06",{"$f":"MyJoin(IF((B$2=Ввод!$C$1:$C$30)*($A774>=Ввод!$E$1:$E$30)*($A774<=Ввод!$F$1:$F$30),Ввод!$D$1:$D$30,\"\"),\" / \")","v":""},{"$f":"MyJoin(IF((C$2=Ввод!$C$1:$C$30)*($A774>=Ввод!$E$1:$E$30)*($A774<=Ввод!$F$1:$F$30),Ввод!$D$1:$D$30,\"\"),\" / \")","v":""},{"$f":"MyJoin(IF((D$2=Ввод!$C$1:$C$30)*($A774>=Ввод!$E$1:$E$30)*($A774<=Ввод!$F$1:$F$30),Ввод!$D$1:$D$30,\"\"),\" / \")","v":""},{"$f":"MyJoin(IF((E$2=Ввод!$C$1:$C$30)*($A774>=Ввод!$E$1:$E$30)*($A774<=Ввод!$F$1:$F$30),Ввод!$D$1:$D$30,\"\"),\" / \")","v":""},{"$f":"MyJoin(IF((F$2=Ввод!$C$1:$C$30)*($A774>=Ввод!$E$1:$E$30)*($A774<=Ввод!$F$1:$F$30),Ввод!$D$1:$D$30,\"\"),\" / \")","v":""},"2024-02-06"]
["2024-02-07",{"$f":"MyJoin(IF((B$2=Ввод!$C$1:$C$30)*($A775>=Ввод!$E$1:$E$30)*($A775<=Ввод!$F$1:$F$30),Ввод!$D$1:$D$30,\"\"),\" / \")","v":""},{"$f":"MyJoin(IF((C$2=Ввод!$C$1:$C$30)*($A775>=Ввод!$E$1:$E$30)*($A775<=Ввод!$F$1:$F$30),Ввод!$D$1:$D$30,\"\"),\" / \")","v":""},{"$f":"MyJoin(IF((D$2=Ввод!$C$1:$C$30)*($A775>=Ввод!$E$1:$E$30)*($A775<=Ввод!$F$1:$F$30),Ввод!$D$1:$D$30,\"\"),\" / \")","v":""},{"$f":"MyJoin(IF((E$2=Ввод!$C$1:$C$30)*($A775>=Ввод!$E$1:$E$30)*($A775<=Ввод!$F$1:$F$30),Ввод!$D$1:$D$30,\"\"),\" / \")","v":""},{"$f":"MyJoin(IF((F$2=Ввод!$C$1:$C$30)*($A775>=Ввод!$E$1:$E$30)*($A775<=Ввод!$F$1:$F$30),Ввод!$D$1:$D$30,\"\"),\" / \")","v":""},"2024-02-07"]
["2024-02-08",{"$f":"MyJoin(IF((B$2=Ввод!$C$1:$C$30)*($A776>=Ввод!$E$1:$E$30)*($A776<=Ввод!$F$1:$F$30),Ввод!$D$1:$D$30,\"\"),\" / \")","v":""},{"$f":"MyJoin(IF((C$2=Ввод!$C$1:$C$30)*($A776>=Ввод!$E$1:$E$30)*($A776<=Ввод!$F$1:$F$30),Ввод!$D$1:$D$30,\"\"),\" / \")","v":""},{"$f":"MyJoin(IF((D$2=Ввод!$C$1:$C$30)*($A776>=Ввод!$E$1:$E$30)*($A776<=Ввод!$F$1:$F$30),Ввод!$D$1:$D$30,\"\"),\" / \")","v":""},{"$f":"MyJoin(IF((E$2=Ввод!$C$1:$C$30)*($A776>=Ввод!$E$1:$E$30)*($A776<=Ввод!$F$1:$F$30),Ввод!$D$1:$D$30,\"\"),\" / \")","v":""},{"$f":"MyJoin(IF((F$2=Ввод!$C$1:$C$30)*($A776>=Ввод!$E$1:$E$30)*($A776<=Ввод!$F$1:$F$30),Ввод!$D$1:$D$30,\"\"),\" / \")","v":""},"2024-02-08"]
["2024-02-09",{"$f":"MyJoin(IF((B$2=Ввод!$C$1:$C$30)*($A777>=Ввод!$E$1:$E$30)*($A777<=Ввод!$F$1:$F$30),Ввод!$D$1:$D$30,\"\"),\" / \")","v":""},{"$f":"MyJoin(IF((C$2=Ввод!$C$1:$C$30)*($A777>=Ввод!$E$1:$E$30)*($A777<=Ввод!$F$1:$F$30),Ввод!$D$1:$D$30,\"\"),\" / \")","v":""},{"$f":"MyJoin(IF((D$2=Ввод!$C$1:$C$30)*($A777>=Ввод!$E$1:$E$30)*($A777<=Ввод!$F$1:$F$30),Ввод!$D$1:$D$30,\"\"),\" / \")","v":""},{"$f":"MyJoin(IF((E$2=Ввод!$C$1:$C$30)*($A777>=Ввод!$E$1:$E$30)*($A777<=Ввод!$F$1:$F$30),Ввод!$D$1:$D$30,\"\"),\" / \")","v":""},{"$f":"MyJoin(IF((F$2=Ввод!$C$1:$C$30)*($A777>=Ввод!$E$1:$E$30)*($A777<=Ввод!$F$1:$F$30),Ввод!$D$1:$D$30,\"\"),\" / \")","v":""},{"$f":"IF(A777=\"\",\"\",A777)","v":"2024-02-09"}]
["2024-02-10",{"$f":"MyJoin(IF((B$2=Ввод!$C$1:$C$30)*($A778>=Ввод!$E$1:$E$30)*($A778<=Ввод!$F$1:$F$30),Ввод!$D$1:$D$30,\"\"),\" / \")","v":""},{"$f":"MyJoin(IF((C$2=Ввод!$C$1:$C$30)*($A778>=Ввод!$E$1:$E$30)*($A778<=Ввод!$F$1:$F$30),Ввод!$D$1:$D$30,\"\"),\" / \")","v":""},{"$f":"MyJoin(IF((D$2=Ввод!$C$1:$C$30)*($A778>=Ввод!$E$1:$E$30)*($A778<=Ввод!$F$1:$F$30),Ввод!$D$1:$D$30,\"\"),\" / \")","v":""},{"$f":"MyJoin(IF((E$2=Ввод!$C$1:$C$30)*($A778>=Ввод!$E$1:$E$30)*($A778<=Ввод!$F$1:$F$30),Ввод!$D$1:$D$30,\"\"),\" / \")","v":""},{"$f":"MyJoin(IF((F$2=Ввод!$C$1:$C$30)*($A778>=Ввод!$E$1:$E$30)*($A778<=Ввод!$F$1:$F$30),Ввод!$D$1:$D$30,\"\"),\" / \")","v":""},"2024-02-10"]
["2024-02-11",{"$f":"MyJoin(IF((B$2=Ввод!$C$1:$C$30)*($A779>=Ввод!$E$1:$E$30)*($A779<=Ввод!$F$1:$F$30),Ввод!$D$1:$D$30,\"\"),\" / \")","v":""},{"$f":"MyJoin(IF((C$2=Ввод!$C$1:$C$30)*($A779>=Ввод!$E$1:$E$30)*($A779<=Ввод!$F$1:$F$30),Ввод!$D$1:$D$30,\"\"),\" / \")","v":""},{"$f":"MyJoin(IF((D$2=Ввод!$C$1:$C$30)*($A779>=Ввод!$E$1:$E$30)*($A779<=Ввод!$F$1:$F$30),Ввод!$D$1:$D$30,\"\"),\" / \")","v":""},{"$f":"MyJoin(IF((E$2=Ввод!$C$1:$C$30)*($A779>=Ввод!$E$1:$E$30)*($A779<=Ввод!$F$1:$F$30),Ввод!$D$1:$D$30,\"\"),\" / \")","v":""},{"$f":"MyJoin(IF((F$2=Ввод!$C$1:$C$30)*($A779>=Ввод!$E$1:$E$30)*($A779<=Ввод!$F$1:$F$30),Ввод!$D$1:$D$30,\"\"),\" / \")","v":""},"2024-02-11"]
["2024-02-12",{"$f":"MyJoin(IF((B$2=Ввод!$C$1:$C$30)*($A780>=Ввод!$E$1:$E$30)*($A780<=Ввод!$F$1:$F$30),Ввод!$D$1:$D$30,\"\"),\" / \")","v":""},{"$f":"MyJoin(IF((C$2=Ввод!$C$1:$C$30)*($A780>=Ввод!$E$1:$E$30)*($A780<=Ввод!$F$1:$F$30),Ввод!$D$1:$D$30,\"\"),\" / \")","v":""},{"$f":"MyJoin(IF((D$2=Ввод!$C$1:$C$30)*($A780>=Ввод!$E$1:$E$30)*($A780<=Ввод!$F$1:$F$30),Ввод!$D$1:$D$30,\"\"),\" / \")","v":""},{"$f":"MyJoin(IF((E$2=Ввод!$C$1:$C$30)*($A780>=Ввод!$E$1:$E$30)*($A780<=Ввод!$F$1:$F$30),Ввод!$D$1:$D$30,\"\"),\" / \")","v":""},{"$f":"MyJoin(IF((F$2=Ввод!$C$1:$C$30)*($A780>=Ввод!$E$1:$E$30)*($A780<=Ввод!$F$1:$F$30),Ввод!$D$1:$D$30,\"\"),\" / \")","v":""},"2024-02-12"]
["2024-02-13",{"$f":"MyJoin(IF((B$2=Ввод!$C$1:$C$30)*($A781>=Ввод!$E$1:$E$30)*($A781<=Ввод!$F$1:$F$30),Ввод!$D$1:$D$30,\"\"),\" / \")","v":""},{"$f":"MyJoin(IF((C$2=Ввод!$C$1:$C$30)*($A781>=Ввод!$E$1:$E$30)*($A781<=Ввод!$F$1:$F$30),Ввод!$D$1:$D$30,\"\"),\" / \")","v":""},{"$f":"MyJoin(IF((D$2=Ввод!$C$1:$C$30)*($A781>=Ввод!$E$1:$E$30)*($A781<=Ввод!$F$1:$F$30),Ввод!$D$1:$D$30,\"\"),\" / \")","v":""},{"$f":"MyJoin(IF((E$2=Ввод!$C$1:$C$30)*($A781>=Ввод!$E$1:$E$30)*($A781<=Ввод!$F$1:$F$30),Ввод!$D$1:$D$30,\"\"),\" / \")","v":""},{"$f":"MyJoin(IF((F$2=Ввод!$C$1:$C$30)*($A781>=Ввод!$E$1:$E$30)*($A781<=Ввод!$F$1:$F$30),Ввод!$D$1:$D$30,\"\"),\" / \")","v":""},"2024-02-13"]
["2024-02-14",{"$f":"MyJoin(IF((B$2=Ввод!$C$1:$C$30)*($A782>=Ввод!$E$1:$E$30)*($A782<=Ввод!$F$1:$F$30),Ввод!$D$1:$D$30,\"\"),\" / \")","v":""},{"$f":"MyJoin(IF((C$2=Ввод!$C$1:$C$30)*($A782>=Ввод!$E$1:$E$30)*($A782<=Ввод!$F$1:$F$30),Ввод!$D$1:$D$30,\"\"),\" / \")","v":""},{"$f":"MyJoin(IF((D$2=Ввод!$C$1:$C$30)*($A782>=Ввод!$E$1:$E$30)*($A782<=Ввод!$F$1:$F$30),Ввод!$D$1:$D$30,\"\"),\" / \")","v":""},{"$f":"MyJoin(IF((E$2=Ввод!$C$1:$C$30)*($A782>=Ввод!$E$1:$E$30)*($A782<=Ввод!$F$1:$F$30),Ввод!$D$1:$D$30,\"\"),\" / \")","v":""},{"$f":"MyJoin(IF((F$2=Ввод!$C$1:$C$30)*($A782>=Ввод!$E$1:$E$30)*($A782<=Ввод!$F$1:$F$30),Ввод!$D$1:$D$30,\"\"),\" / \")","v":""},"2024-02-14"]
["2024-02-15",{"$f":"MyJoin(IF((B$2=Ввод!$C$1:$C$30)*($A783>=Ввод!$E$1:$E$30)*($A783<=Ввод!$F$1:$F$30),Ввод!$D$1:$D$30,\"\"),\" / \")","v":""},{"$f":"MyJoin(IF((C$2=Ввод!$C$1:$C$30)*($A783>=Ввод!$E$1:$E$30)*($A783<=Ввод!$F$1:$F$30),Ввод!$D$1:$D$30,\"\"),\" / \")","v":""},{"$f":"MyJoin(IF((D$2=Ввод!$C$1:$C$30)*($A783>=Ввод!$E$1:$E$30)*($A783<=Ввод!$F$1:$F$30),Ввод!$D$1:$D$30,\"\"),\" / \")","v":""},{"$f":"MyJoin(IF((E$2=Ввод!$C$1:$C$30)*($A783>=Ввод!$E$1:$E$30)*($A783<=Ввод!$F$1:$F$30),Ввод!$D$1:$D$30,\"\"),\" / \")","v":""},{"$f":"MyJoin(IF((F$2=Ввод!$C$1:$C$30)*($A783>=Ввод!$E$1:$E$30)*($A783<=Ввод!$F$1:$F$30),Ввод!$D$1:$D$30,\"\"),\" / \")","v":""},"2024-02-15"]
["2024-02-16",{"$f":"MyJoin(IF((B$2=Ввод!$C$1:$C$30)*($A784>=Ввод!$E$1:$E$30)*($A784<=Ввод!$F$1:$F$30),Ввод!$D$1:$D$30,\"\"),\" / \")","v":""},{"$f":"MyJoin(IF((C$2=Ввод!$C$1:$C$30)*($A784>=Ввод!$E$1:$E$30)*($A784<=Ввод!$F$1:$F$30),Ввод!$D$1:$D$30,\"\"),\" / \")","v":""},{"$f":"MyJoin(IF((D$2=Ввод!$C$1:$C$30)*($A784>=Ввод!$E$1:$E$30)*($A784<=Ввод!$F$1:$F$30),Ввод!$D$1:$D$30,\"\"),\" / \")","v":""},{"$f":"MyJoin(IF((E$2=Ввод!$C$1:$C$30)*($A784>=Ввод!$E$1:$E$30)*($A784<=Ввод!$F$1:$F$30),Ввод!$D$1:$D$30,\"\"),\" / \")","v":""},{"$f":"MyJoin(IF((F$2=Ввод!$C$1:$C$30)*($A784>=Ввод!$E$1:$E$30)*($A784<=Ввод!$F$1:$F$30),Ввод!$D$1:$D$30,\"\"),\" / \")","v":""},"2024-02-16"]
["2024-02-17",{"$f":"MyJoin(IF((B$2=Ввод!$C$1:$C$30)*($A785>=Ввод!$E$1:$E$30)*($A785<=Ввод!$F$1:$F$30),Ввод!$D$1:$D$30,\"\"),\" / \")","v":""},{"$f":"MyJoin(IF((C$2=Ввод!$C$1:$C$30)*($A785>=Ввод!$E$1:$E$30)*($A785<=Ввод!$F$1:$F$30),Ввод!$D$1:$D$30,\"\"),\" / \")","v":""},{"$f":"MyJoin(IF((D$2=Ввод!$C$1:$C$30)*($A785>=Ввод!$E$1:$E$30)*($A785<=Ввод!$F$1:$F$30),Ввод!$D$1:$D$30,\"\"),\" / \")","v":""},{"$f":"MyJoin(IF((E$2=Ввод!$C$1:$C$30)*($A785>=Ввод!$E$1:$E$30)*($A785<=Ввод!$F$1:$F$30),Ввод!$D$1:$D$30,\"\"),\" / \")","v":""},{"$f":"MyJoin(IF((F$2=Ввод!$C$1:$C$30)*($A785>=Ввод!$E$1:$E$30)*($A785<=Ввод!$F$1:$F$30),Ввод!$D$1:$D$30,\"\"),\" / \")","v":""},"2024-02-17"]
["2024-02-18",{"$f":"MyJoin(IF((B$2=Ввод!$C$1:$C$30)*($A786>=Ввод!$E$1:$E$30)*($A786<=Ввод!$F$1:$F$30),Ввод!$D$1:$D$30,\"\"),\" / \")","v":""},{"$f":"MyJoin(IF((C$2=Ввод!$C$1:$C$30)*($A786>=Ввод!$E$1:$E$30)*($A786<=Ввод!$F$1:$F$30),Ввод!$D$1:$D$30,\"\"),\" / \")","v":""},{"$f":"MyJoin(IF((D$2=Ввод!$C$1:$C$30)*($A786>=Ввод!$E$1:$E$30)*($A786<=Ввод!$F$1:$F$30),Ввод!$D$1:$D$30,\"\"),\" / \")","v":""},{"$f":"MyJoin(IF((E$2=Ввод!$C$1:$C$30)*($A786>=Ввод!$E$1:$E$30)*($A786<=Ввод!$F$1:$F$30),Ввод!$D$1:$D$30,\"\"),\" / \")","v":""},{"$f":"MyJoin(IF((F$2=Ввод!$C$1:$C$30)*($A786>=Ввод!$E$1:$E$30)*($A786<=Ввод!$F$1:$F$30),Ввод!$D$1:$D$30,\"\"),\" / \")","v":""},"2024-02-18"]
["2024-02-19",{"$f":"MyJoin(IF((B$2=Ввод!$C$1:$C$30)*($A787>=Ввод!$E$1:$E$30)*($A787<=Ввод!$F$1:$F$30),Ввод!$D$1:$D$30,\"\"),\" / \")","v":""},{"$f":"MyJoin(IF((C$2=Ввод!$C$1:$C$30)*($A787>=Ввод!$E$1:$E$30)*($A787<=Ввод!$F$1:$F$30),Ввод!$D$1:$D$30,\"\"),\" / \")","v":""},{"$f":"MyJoin(IF((D$2=Ввод!$C$1:$C$30)*($A787>=Ввод!$E$1:$E$30)*($A787<=Ввод!$F$1:$F$30),Ввод!$D$1:$D$30,\"\"),\" / \")","v":""},{"$f":"MyJoin(IF((E$2=Ввод!$C$1:$C$30)*($A787>=Ввод!$E$1:$E$30)*($A787<=Ввод!$F$1:$F$30),Ввод!$D$1:$D$30,\"\"),\" / \")","v":""},{"$f":"MyJoin(IF((F$2=Ввод!$C$1:$C$30)*($A787>=Ввод!$E$1:$E$30)*($A787<=Ввод!$F$1:$F$30),Ввод!$D$1:$D$30,\"\"),\" / \")","v":""},"2024-02-19"]
["2024-02-20",{"$f":"MyJoin(IF((B$2=Ввод!$C$1:$C$30)*($A788>=Ввод!$E$1:$E$30)*($A788<=Ввод!$F$1:$F$30),Ввод!$D$1:$D$30,\"\"),\" / \")","v":""},{"$f":"MyJoin(IF((C$2=Ввод!$C$1:$C$30)*($A788>=Ввод!$E$1:$E$30)*($A788<=Ввод!$F$1:$F$30),Ввод!$D$1:$D$30,\"\"),\" / \")","v":""},{"$f":"MyJoin(IF((D$2=Ввод!$C$1:$C$30)*($A788>=Ввод!$E$1:$E$30)*($A788<=Ввод!$F$1:$F$30),Ввод!$D$1:$D$30,\"\"),\" / \")","v":""},{"$f":"MyJoin(IF((E$2=Ввод!$C$1:$C$30)*($A788>=Ввод!$E$1:$E$30)*($A788<=Ввод!$F$1:$F$30),Ввод!$D$1:$D$30,\"\"),\" / \")","v":""},{"$f":"MyJoin(IF((F$2=Ввод!$C$1:$C$30)*($A788>=Ввод!$E$1:$E$30)*($A788<=Ввод!$F$1:$F$30),Ввод!$D$1:$D$30,\"\"),\" / \")","v":""},"2024-02-20"]
["2024-02-21",{"$f":"MyJoin(IF((B$2=Ввод!$C$1:$C$30)*($A789>=Ввод!$E$1:$E$30)*($A789<=Ввод!$F$1:$F$30),Ввод!$D$1:$D$30,\"\"),\" / \")","v":""},{"$f":"MyJoin(IF((C$2=Ввод!$C$1:$C$30)*($A789>=Ввод!$E$1:$E$30)*($A789<=Ввод!$F$1:$F$30),Ввод!$D$1:$D$30,\"\"),\" / \")","v":""},{"$f":"MyJoin(IF((D$2=Ввод!$C$1:$C$30)*($A789>=Ввод!$E$1:$E$30)*($A789<=Ввод!$F$1:$F$30),Ввод!$D$1:$D$30,\"\"),\" / \")","v":""},{"$f":"MyJoin(IF((E$2=Ввод!$C$1:$C$30)*($A789>=Ввод!$E$1:$E$30)*($A789<=Ввод!$F$1:$F$30),Ввод!$D$1:$D$30,\"\"),\" / \")","v":""},{"$f":"MyJoin(IF((F$2=Ввод!$C$1:$C$30)*($A789>=Ввод!$E$1:$E$30)*($A789<=Ввод!$F$1:$F$30),Ввод!$D$1:$D$30,\"\"),\" / \")","v":""},"2024-02-21"]
["2024-02-22",{"$f":"MyJoin(IF((B$2=Ввод!$C$1:$C$30)*($A790>=Ввод!$E$1:$E$30)*($A790<=Ввод!$F$1:$F$30),Ввод!$D$1:$D$30,\"\"),\" / \")","v":""},{"$f":"MyJoin(IF((C$2=Ввод!$C$1:$C$30)*($A790>=Ввод!$E$1:$E$30)*($A790<=Ввод!$F$1:$F$30),Ввод!$D$1:$D$30,\"\"),\" / \")","v":""},{"$f":"MyJoin(IF((D$2=Ввод!$C$1:$C$30)*($A790>=Ввод!$E$1:$E$30)*($A790<=Ввод!$F$1:$F$30),Ввод!$D$1:$D$30,\"\"),\" / \")","v":""},{"$f":"MyJoin(IF((E$2=Ввод!$C$1:$C$30)*($A790>=Ввод!$E$1:$E$30)*($A790<=Ввод!$F$1:$F$30),Ввод!$D$1:$D$30,\"\"),\" / \")","v":""},{"$f":"MyJoin(IF((F$2=Ввод!$C$1:$C$30)*($A790>=Ввод!$E$1:$E$30)*($A790<=Ввод!$F$1:$F$30),Ввод!$D$1:$D$30,\"\"),\" / \")","v":""},"2024-02-22"]
["2024-02-23",{"$f":"MyJoin(IF((B$2=Ввод!$C$1:$C$30)*($A791>=Ввод!$E$1:$E$30)*($A791<=Ввод!$F$1:$F$30),Ввод!$D$1:$D$30,\"\"),\" / \")","v":""},{"$f":"MyJoin(IF((C$2=Ввод!$C$1:$C$30)*($A791>=Ввод!$E$1:$E$30)*($A791<=Ввод!$F$1:$F$30),Ввод!$D$1:$D$30,\"\"),\" / \")","v":""},{"$f":"MyJoin(IF((D$2=Ввод!$C$1:$C$30)*($A791>=Ввод!$E$1:$E$30)*($A791<=Ввод!$F$1:$F$30),Ввод!$D$1:$D$30,\"\"),\" / \")","v":""},{"$f":"MyJoin(IF((E$2=Ввод!$C$1:$C$30)*($A791>=Ввод!$E$1:$E$30)*($A791<=Ввод!$F$1:$F$30),Ввод!$D$1:$D$30,\"\"),\" / \")","v":""},{"$f":"MyJoin(IF((F$2=Ввод!$C$1:$C$30)*($A791>=Ввод!$E$1:$E$30)*($A791<=Ввод!$F$1:$F$30),Ввод!$D$1:$D$30,\"\"),\" / \")","v":""},"2024-02-23"]
["2024-02-24",{"$f":"MyJoin(IF((B$2=Ввод!$C$1:$C$30)*($A792>=Ввод!$E$1:$E$30)*($A792<=Ввод!$F$1:$F$30),Ввод!$D$1:$D$30,\"\"),\" / \")","v":""},{"$f":"MyJoin(IF((C$2=Ввод!$C$1:$C$30)*($A792>=Ввод!$E$1:$E$30)*($A792<=Ввод!$F$1:$F$30),Ввод!$D$1:$D$30,\"\"),\" / \")","v":""},{"$f":"MyJoin(IF((D$2=Ввод!$C$1:$C$30)*($A792>=Ввод!$E$1:$E$30)*($A792<=Ввод!$F$1:$F$30),Ввод!$D$1:$D$30,\"\"),\" / \")","v":""},{"$f":"MyJoin(IF((E$2=Ввод!$C$1:$C$30)*($A792>=Ввод!$E$1:$E$30)*($A792<=Ввод!$F$1:$F$30),Ввод!$D$1:$D$30,\"\"),\" / \")","v":""},{"$f":"MyJoin(IF((F$2=Ввод!$C$1:$C$30)*($A792>=Ввод!$E$1:$E$30)*($A792<=Ввод!$F$1:$F$30),Ввод!$D$1:$D$30,\"\"),\" / \")","v":""},"2024-02-24"]
["2024-02-25",{"$f":"MyJoin(IF((B$2=Ввод!$C$1:$C$30)*($A793>=Ввод!$E$1:$E$30)*($A793<=Ввод!$F$1:$F$30),Ввод!$D$1:$D$30,\"\"),\" / \")","v":""},{"$f":"MyJoin(IF((C$2=Ввод!$C$1:$C$30)*($A793>=Ввод!$E$1:$E$30)*($A793<=Ввод!$F$1:$F$30),Ввод!$D$1:$D$30,\"\"),\" / \")","v":""},{"$f":"MyJoin(IF((D$2=Ввод!$C$1:$C$30)*($A793>=Ввод!$E$1:$E$30)*($A793<=Ввод!$F$1:$F$30),Ввод!$D$1:$D$30,\"\"),\" / \")","v":""},{"$f":"MyJoin(IF((E$2=Ввод!$C$1:$C$30)*($A793>=Ввод!$E$1:$E$30)*($A793<=Ввод!$F$1:$F$30),Ввод!$D$1:$D$30,\"\"),\" / \")","v":""},{"$f":"MyJoin(IF((F$2=Ввод!$C$1:$C$30)*($A793>=Ввод!$E$1:$E$30)*($A793<=Ввод!$F$1:$F$30),Ввод!$D$1:$D$30,\"\"),\" / \")","v":""},"2024-02-25"]
["2024-02-26",{"$f":"MyJoin(IF((B$2=Ввод!$C$1:$C$30)*($A794>=Ввод!$E$1:$E$30)*($A794<=Ввод!$F$1:$F$30),Ввод!$D$1:$D$30,\"\"),\" / \")","v":""},{"$f":"MyJoin(IF((C$2=Ввод!$C$1:$C$30)*($A794>=Ввод!$E$1:$E$30)*($A794<=Ввод!$F$1:$F$30),Ввод!$D$1:$D$30,\"\"),\" / \")","v":""},{"$f":"MyJoin(IF((D$2=Ввод!$C$1:$C$30)*($A794>=Ввод!$E$1:$E$30)*($A794<=Ввод!$F$1:$F$30),Ввод!$D$1:$D$30,\"\"),\" / \")","v":""},{"$f":"MyJoin(IF((E$2=Ввод!$C$1:$C$30)*($A794>=Ввод!$E$1:$E$30)*($A794<=Ввод!$F$1:$F$30),Ввод!$D$1:$D$30,\"\"),\" / \")","v":""},{"$f":"MyJoin(IF((F$2=Ввод!$C$1:$C$30)*($A794>=Ввод!$E$1:$E$30)*($A794<=Ввод!$F$1:$F$30),Ввод!$D$1:$D$30,\"\"),\" / \")","v":""},"2024-02-26"]
["2024-02-27",{"$f":"MyJoin(IF((B$2=Ввод!$C$1:$C$30)*($A795>=Ввод!$E$1:$E$30)*($A795<=Ввод!$F$1:$F$30),Ввод!$D$1:$D$30,\"\"),\" / \")","v":""},{"$f":"MyJoin(IF((C$2=Ввод!$C$1:$C$30)*($A795>=Ввод!$E$1:$E$30)*($A795<=Ввод!$F$1:$F$30),Ввод!$D$1:$D$30,\"\"),\" / \")","v":""},{"$f":"MyJoin(IF((D$2=Ввод!$C$1:$C$30)*($A795>=Ввод!$E$1:$E$30)*($A795<=Ввод!$F$1:$F$30),Ввод!$D$1:$D$30,\"\"),\" / \")","v":""},{"$f":"MyJoin(IF((E$2=Ввод!$C$1:$C$30)*($A795>=Ввод!$E$1:$E$30)*($A795<=Ввод!$F$1:$F$30),Ввод!$D$1:$D$30,\"\"),\" / \")","v":""},{"$f":"MyJoin(IF((F$2=Ввод!$C$1:$C$30)*($A795>=Ввод!$E$1:$E$30)*($A795<=Ввод!$F$1:$F$30),Ввод!$D$1:$D$30,\"\"),\" / \")","v":""},"2024-02-27"]
["2024-02-28",{"$f":"MyJoin(IF((B$2=Ввод!$C$1:$C$30)*($A796>=Ввод!$E$1:$E$30)*($A796<=Ввод!$F$1:$F$30),Ввод!$D$1:$D$30,\"\"),\" / \")","v":""},{"$f":"MyJoin(IF((C$2=Ввод!$C$1:$C$30)*($A796>=Ввод!$E$1:$E$30)*($A796<=Ввод!$F$1:$F$30),Ввод!$D$1:$D$30,\"\"),\" / \")","v":""},{"$f":"MyJoin(IF((D$2=Ввод!$C$1:$C$30)*($A796>=Ввод!$E$1:$E$30)*($A796<=Ввод!$F$1:$F$30),Ввод!$D$1:$D$30,\"\"),\" / \")","v":""},{"$f":"MyJoin(IF((E$2=Ввод!$C$1:$C$30)*($A796>=Ввод!$E$1:$E$30)*($A796<=Ввод!$F$1:$F$30),Ввод!$D$1:$D$30,\"\"),\" / \")","v":""},{"$f":"MyJoin(IF((F$2=Ввод!$C$1:$C$30)*($A796>=Ввод!$E$1:$E$30)*($A796<=Ввод!$F$1:$F$30),Ввод!$D$1:$D$30,\"\"),\" / \")","v":""},"2024-02-28"]
["2024-02-29",{"$f":"MyJoin(IF((B$2=Ввод!$C$1:$C$30)*($A797>=Ввод!$E$1:$E$30)*($A797<=Ввод!$F$1:$F$30),Ввод!$D$1:$D$30,\"\"),\" / \")","v":""},{"$f":"MyJoin(IF((C$2=Ввод!$C$1:$C$30)*($A797>=Ввод!$E$1:$E$30)*($A797<=Ввод!$F$1:$F$30),Ввод!$D$1:$D$30,\"\"),\" / \")","v":""},{"$f":"MyJoin(IF((D$2=Ввод!$C$1:$C$30)*($A797>=Ввод!$E$1:$E$30)*($A797<=Ввод!$F$1:$F$30),Ввод!$D$1:$D$30,\"\"),\" / \")","v":""},{"$f":"MyJoin(IF((E$2=Ввод!$C$1:$C$30)*($A797>=Ввод!$E$1:$E$30)*($A797<=Ввод!$F$1:$F$30),Ввод!$D$1:$D$30,\"\"),\" / \")","v":""},{"$f":"MyJoin(IF((F$2=Ввод!$C$1:$C$30)*($A797>=Ввод!$E$1:$E$30)*($A797<=Ввод!$F$1:$F$30),Ввод!$D$1:$D$30,\"\"),\" / \")","v":""},"2024-02-29"]
["2024-03-01",{"$f":"MyJoin(IF((B$2=Ввод!$C$1:$C$30)*($A798>=Ввод!$E$1:$E$30)*($A798<=Ввод!$F$1:$F$30),Ввод!$D$1:$D$30,\"\"),\" / \")","v":""},{"$f":"MyJoin(IF((C$2=Ввод!$C$1:$C$30)*($A798>=Ввод!$E$1:$E$30)*($A798<=Ввод!$F$1:$F$30),Ввод!$D$1:$D$30,\"\"),\" / \")","v":""},{"$f":"MyJoin(IF((D$2=Ввод!$C$1:$C$30)*($A798>=Ввод!$E$1:$E$30)*($A798<=Ввод!$F$1:$F$30),Ввод!$D$1:$D$30,\"\"),\" / \")","v":""},{"$f":"MyJoin(IF((E$2=Ввод!$C$1:$C$30)*($A798>=Ввод!$E$1:$E$30)*($A798<=Ввод!$F$1:$F$30),Ввод!$D$1:$D$30,\"\"),\" / \")","v":""},{"$f":"MyJoin(IF((F$2=Ввод!$C$1:$C$30)*($A798>=Ввод!$E$1:$E$30)*($A798<=Ввод!$F$1:$F$30),Ввод!$D$1:$D$30,\"\"),\" / \")","v":""},"2024-03-01"]
["2024-03-02",{"$f":"MyJoin(IF((B$2=Ввод!$C$1:$C$30)*($A799>=Ввод!$E$1:$E$30)*($A799<=Ввод!$F$1:$F$30),Ввод!$D$1:$D$30,\"\"),\" / \")","v":""},{"$f":"MyJoin(IF((C$2=Ввод!$C$1:$C$30)*($A799>=Ввод!$E$1:$E$30)*($A799<=Ввод!$F$1:$F$30),Ввод!$D$1:$D$30,\"\"),\" / \")","v":""},{"$f":"MyJoin(IF((D$2=Ввод!$C$1:$C$30)*($A799>=Ввод!$E$1:$E$30)*($A799<=Ввод!$F$1:$F$30),Ввод!$D$1:$D$30,\"\"),\" / \")","v":""},{"$f":"MyJoin(IF((E$2=Ввод!$C$1:$C$30)*($A799>=Ввод!$E$1:$E$30)*($A799<=Ввод!$F$1:$F$30),Ввод!$D$1:$D$30,\"\"),\" / \")","v":""},{"$f":"MyJoin(IF((F$2=Ввод!$C$1:$C$30)*($A799>=Ввод!$E$1:$E$30)*($A799<=Ввод!$F$1:$F$30),Ввод!$D$1:$D$30,\"\"),\" / \")","v":""},"2024-03-02"]
["2024-03-03",{"$f":"MyJoin(IF((B$2=Ввод!$C$1:$C$30)*($A800>=Ввод!$E$1:$E$30)*($A800<=Ввод!$F$1:$F$30),Ввод!$D$1:$D$30,\"\"),\" / \")","v":""},{"$f":"MyJoin(IF((C$2=Ввод!$C$1:$C$30)*($A800>=Ввод!$E$1:$E$30)*($A800<=Ввод!$F$1:$F$30),Ввод!$D$1:$D$30,\"\"),\" / \")","v":""},{"$f":"MyJoin(IF((D$2=Ввод!$C$1:$C$30)*($A800>=Ввод!$E$1:$E$30)*($A800<=Ввод!$F$1:$F$30),Ввод!$D$1:$D$30,\"\"),\" / \")","v":""},{"$f":"MyJoin(IF((E$2=Ввод!$C$1:$C$30)*($A800>=Ввод!$E$1:$E$30)*($A800<=Ввод!$F$1:$F$30),Ввод!$D$1:$D$30,\"\"),\" / \")","v":""},{"$f":"MyJoin(IF((F$2=Ввод!$C$1:$C$30)*($A800>=Ввод!$E$1:$E$30)*($A800<=Ввод!$F$1:$F$30),Ввод!$D$1:$D$30,\"\"),\" / \")","v":""},"2024-03-03"]
["2024-03-04",{"$f":"MyJoin(IF((B$2=Ввод!$C$1:$C$30)*($A801>=Ввод!$E$1:$E$30)*($A801<=Ввод!$F$1:$F$30),Ввод!$D$1:$D$30,\"\"),\" / \")","v":""},{"$f":"MyJoin(IF((C$2=Ввод!$C$1:$C$30)*($A801>=Ввод!$E$1:$E$30)*($A801<=Ввод!$F$1:$F$30),Ввод!$D$1:$D$30,\"\"),\" / \")","v":""},{"$f":"MyJoin(IF((D$2=Ввод!$C$1:$C$30)*($A801>=Ввод!$E$1:$E$30)*($A801<=Ввод!$F$1:$F$30),Ввод!$D$1:$D$30,\"\"),\" / \")","v":""},{"$f":"MyJoin(IF((E$2=Ввод!$C$1:$C$30)*($A801>=Ввод!$E$1:$E$30)*($A801<=Ввод!$F$1:$F$30),Ввод!$D$1:$D$30,\"\"),\" / \")","v":""},{"$f":"MyJoin(IF((F$2=Ввод!$C$1:$C$30)*($A801>=Ввод!$E$1:$E$30)*($A801<=Ввод!$F$1:$F$30),Ввод!$D$1:$D$30,\"\"),\" / \")","v":""},"2024-03-04"]
["2024-03-05",{"$f":"MyJoin(IF((B$2=Ввод!$C$1:$C$30)*($A802>=Ввод!$E$1:$E$30)*($A802<=Ввод!$F$1:$F$30),Ввод!$D$1:$D$30,\"\"),\" / \")","v":""},{"$f":"MyJoin(IF((C$2=Ввод!$C$1:$C$30)*($A802>=Ввод!$E$1:$E$30)*($A802<=Ввод!$F$1:$F$30),Ввод!$D$1:$D$30,\"\"),\" / \")","v":""},{"$f":"MyJoin(IF((D$2=Ввод!$C$1:$C$30)*($A802>=Ввод!$E$1:$E$30)*($A802<=Ввод!$F$1:$F$30),Ввод!$D$1:$D$30,\"\"),\" / \")","v":""},{"$f":"MyJoin(IF((E$2=Ввод!$C$1:$C$30)*($A802>=Ввод!$E$1:$E$30)*($A802<=Ввод!$F$1:$F$30),Ввод!$D$1:$D$30,\"\"),\" / \")","v":""},{"$f":"MyJoin(IF((F$2=Ввод!$C$1:$C$30)*($A802>=Ввод!$E$1:$E$30)*($A802<=Ввод!$F$1:$F$30),Ввод!$D$1:$D$30,\"\"),\" / \")","v":""},"2024-03-05"]
["2024-03-06",{"$f":"MyJoin(IF((B$2=Ввод!$C$1:$C$30)*($A803>=Ввод!$E$1:$E$30)*($A803<=Ввод!$F$1:$F$30),Ввод!$D$1:$D$30,\"\"),\" / \")","v":""},{"$f":"MyJoin(IF((C$2=Ввод!$C$1:$C$30)*($A803>=Ввод!$E$1:$E$30)*($A803<=Ввод!$F$1:$F$30),Ввод!$D$1:$D$30,\"\"),\" / \")","v":""},{"$f":"MyJoin(IF((D$2=Ввод!$C$1:$C$30)*($A803>=Ввод!$E$1:$E$30)*($A803<=Ввод!$F$1:$F$30),Ввод!$D$1:$D$30,\"\"),\" / \")","v":""},{"$f":"MyJoin(IF((E$2=Ввод!$C$1:$C$30)*($A803>=Ввод!$E$1:$E$30)*($A803<=Ввод!$F$1:$F$30),Ввод!$D$1:$D$30,\"\"),\" / \")","v":""},{"$f":"MyJoin(IF((F$2=Ввод!$C$1:$C$30)*($A803>=Ввод!$E$1:$E$30)*($A803<=Ввод!$F$1:$F$30),Ввод!$D$1:$D$30,\"\"),\" / \")","v":""},"2024-03-06"]
["2024-03-07",{"$f":"MyJoin(IF((B$2=Ввод!$C$1:$C$30)*($A804>=Ввод!$E$1:$E$30)*($A804<=Ввод!$F$1:$F$30),Ввод!$D$1:$D$30,\"\"),\" / \")","v":""},{"$f":"MyJoin(IF((C$2=Ввод!$C$1:$C$30)*($A804>=Ввод!$E$1:$E$30)*($A804<=Ввод!$F$1:$F$30),Ввод!$D$1:$D$30,\"\"),\" / \")","v":""},{"$f":"MyJoin(IF((D$2=Ввод!$C$1:$C$30)*($A804>=Ввод!$E$1:$E$30)*($A804<=Ввод!$F$1:$F$30),Ввод!$D$1:$D$30,\"\"),\" / \")","v":""},{"$f":"MyJoin(IF((E$2=Ввод!$C$1:$C$30)*($A804>=Ввод!$E$1:$E$30)*($A804<=Ввод!$F$1:$F$30),Ввод!$D$1:$D$30,\"\"),\" / \")","v":""},{"$f":"MyJoin(IF((F$2=Ввод!$C$1:$C$30)*($A804>=Ввод!$E$1:$E$30)*($A804<=Ввод!$F$1:$F$30),Ввод!$D$1:$D$30,\"\"),\" / \")","v":""},"2024-03-07"]
["2024-03-08",{"$f":"MyJoin(IF((B$2=Ввод!$C$1:$C$30)*($A805>=Ввод!$E$1:$E$30)*($A805<=Ввод!$F$1:$F$30),Ввод!$D$1:$D$30,\"\"),\" / \")","v":""},{"$f":"MyJoin(IF((C$2=Ввод!$C$1:$C$30)*($A805>=Ввод!$E$1:$E$30)*($A805<=Ввод!$F$1:$F$30),Ввод!$D$1:$D$30,\"\"),\" / \")","v":""},{"$f":"MyJoin(IF((D$2=Ввод!$C$1:$C$30)*($A805>=Ввод!$E$1:$E$30)*($A805<=Ввод!$F$1:$F$30),Ввод!$D$1:$D$30,\"\"),\" / \")","v":""},{"$f":"MyJoin(IF((E$2=Ввод!$C$1:$C$30)*($A805>=Ввод!$E$1:$E$30)*($A805<=Ввод!$F$1:$F$30),Ввод!$D$1:$D$30,\"\"),\" / \")","v":""},{"$f":"MyJoin(IF((F$2=Ввод!$C$1:$C$30)*($A805>=Ввод!$E$1:$E$30)*($A805<=Ввод!$F$1:$F$30),Ввод!$D$1:$D$30,\"\"),\" / \")","v":""},"2024-03-08"]
["2024-03-09",{"$f":"MyJoin(IF((B$2=Ввод!$C$1:$C$30)*($A806>=Ввод!$E$1:$E$30)*($A806<=Ввод!$F$1:$F$30),Ввод!$D$1:$D$30,\"\"),\" / \")","v":""},{"$f":"MyJoin(IF((C$2=Ввод!$C$1:$C$30)*($A806>=Ввод!$E$1:$E$30)*($A806<=Ввод!$F$1:$F$30),Ввод!$D$1:$D$30,\"\"),\" / \")","v":""},{"$f":"MyJoin(IF((D$2=Ввод!$C$1:$C$30)*($A806>=Ввод!$E$1:$E$30)*($A806<=Ввод!$F$1:$F$30),Ввод!$D$1:$D$30,\"\"),\" / \")","v":""},{"$f":"MyJoin(IF((E$2=Ввод!$C$1:$C$30)*($A806>=Ввод!$E$1:$E$30)*($A806<=Ввод!$F$1:$F$30),Ввод!$D$1:$D$30,\"\"),\" / \")","v":""},{"$f":"MyJoin(IF((F$2=Ввод!$C$1:$C$30)*($A806>=Ввод!$E$1:$E$30)*($A806<=Ввод!$F$1:$F$30),Ввод!$D$1:$D$30,\"\"),\" / \")","v":""},"2024-03-09"]
["2024-03-10",{"$f":"MyJoin(IF((B$2=Ввод!$C$1:$C$30)*($A807>=Ввод!$E$1:$E$30)*($A807<=Ввод!$F$1:$F$30),Ввод!$D$1:$D$30,\"\"),\" / \")","v":""},{"$f":"MyJoin(IF((C$2=Ввод!$C$1:$C$30)*($A807>=Ввод!$E$1:$E$30)*($A807<=Ввод!$F$1:$F$30),Ввод!$D$1:$D$30,\"\"),\" / \")","v":""},{"$f":"MyJoin(IF((D$2=Ввод!$C$1:$C$30)*($A807>=Ввод!$E$1:$E$30)*($A807<=Ввод!$F$1:$F$30),Ввод!$D$1:$D$30,\"\"),\" / \")","v":""},{"$f":"MyJoin(IF((E$2=Ввод!$C$1:$C$30)*($A807>=Ввод!$E$1:$E$30)*($A807<=Ввод!$F$1:$F$30),Ввод!$D$1:$D$30,\"\"),\" / \")","v":""},{"$f":"MyJoin(IF((F$2=Ввод!$C$1:$C$30)*($A807>=Ввод!$E$1:$E$30)*($A807<=Ввод!$F$1:$F$30),Ввод!$D$1:$D$30,\"\"),\" / \")","v":""},"2024-03-10"]
["2024-03-11",{"$f":"MyJoin(IF((B$2=Ввод!$C$1:$C$30)*($A808>=Ввод!$E$1:$E$30)*($A808<=Ввод!$F$1:$F$30),Ввод!$D$1:$D$30,\"\"),\" / \")","v":""},{"$f":"MyJoin(IF((C$2=Ввод!$C$1:$C$30)*($A808>=Ввод!$E$1:$E$30)*($A808<=Ввод!$F$1:$F$30),Ввод!$D$1:$D$30,\"\"),\" / \")","v":""},{"$f":"MyJoin(IF((D$2=Ввод!$C$1:$C$30)*($A808>=Ввод!$E$1:$E$30)*($A808<=Ввод!$F$1:$F$30),Ввод!$D$1:$D$30,\"\"),\" / \")","v":""},{"$f":"MyJoin(IF((E$2=Ввод!$C$1:$C$30)*($A808>=Ввод!$E$1:$E$30)*($A808<=Ввод!$F$1:$F$30),Ввод!$D$1:$D$30,\"\"),\" / \")","v":""},{"$f":"MyJoin(IF((F$2=Ввод!$C$1:$C$30)*($A808>=Ввод!$E$1:$E$30)*($A808<=Ввод!$F$1:$F$30),Ввод!$D$1:$D$30,\"\"),\" / \")","v":""},"2024-03-11"]
["2024-03-12",{"$f":"MyJoin(IF((B$2=Ввод!$C$1:$C$30)*($A809>=Ввод!$E$1:$E$30)*($A809<=Ввод!$F$1:$F$30),Ввод!$D$1:$D$30,\"\"),\" / \")","v":""},{"$f":"MyJoin(IF((C$2=Ввод!$C$1:$C$30)*($A809>=Ввод!$E$1:$E$30)*($A809<=Ввод!$F$1:$F$30),Ввод!$D$1:$D$30,\"\"),\" / \")","v":""},{"$f":"MyJoin(IF((D$2=Ввод!$C$1:$C$30)*($A809>=Ввод!$E$1:$E$30)*($A809<=Ввод!$F$1:$F$30),Ввод!$D$1:$D$30,\"\"),\" / \")","v":""},{"$f":"MyJoin(IF((E$2=Ввод!$C$1:$C$30)*($A809>=Ввод!$E$1:$E$30)*($A809<=Ввод!$F$1:$F$30),Ввод!$D$1:$D$30,\"\"),\" / \")","v":""},{"$f":"MyJoin(IF((F$2=Ввод!$C$1:$C$30)*($A809>=Ввод!$E$1:$E$30)*($A809<=Ввод!$F$1:$F$30),Ввод!$D$1:$D$30,\"\"),\" / \")","v":""},"2024-03-12"]
["2024-03-13",{"$f":"MyJoin(IF((B$2=Ввод!$C$1:$C$30)*($A810>=Ввод!$E$1:$E$30)*($A810<=Ввод!$F$1:$F$30),Ввод!$D$1:$D$30,\"\"),\" / \")","v":""},{"$f":"MyJoin(IF((C$2=Ввод!$C$1:$C$30)*($A810>=Ввод!$E$1:$E$30)*($A810<=Ввод!$F$1:$F$30),Ввод!$D$1:$D$30,\"\"),\" / \")","v":""},{"$f":"MyJoin(IF((D$2=Ввод!$C$1:$C$30)*($A810>=Ввод!$E$1:$E$30)*($A810<=Ввод!$F$1:$F$30),Ввод!$D$1:$D$30,\"\"),\" / \")","v":""},{"$f":"MyJoin(IF((E$2=Ввод!$C$1:$C$30)*($A810>=Ввод!$E$1:$E$30)*($A810<=Ввод!$F$1:$F$30),Ввод!$D$1:$D$30,\"\"),\" / \")","v":""},{"$f":"MyJoin(IF((F$2=Ввод!$C$1:$C$30)*($A810>=Ввод!$E$1:$E$30)*($A810<=Ввод!$F$1:$F$30),Ввод!$D$1:$D$30,\"\"),\" / \")","v":""},"2024-03-13"]
["2024-03-14",{"$f":"MyJoin(IF((B$2=Ввод!$C$1:$C$30)*($A811>=Ввод!$E$1:$E$30)*($A811<=Ввод!$F$1:$F$30),Ввод!$D$1:$D$30,\"\"),\" / \")","v":""},{"$f":"MyJoin(IF((C$2=Ввод!$C$1:$C$30)*($A811>=Ввод!$E$1:$E$30)*($A811<=Ввод!$F$1:$F$30),Ввод!$D$1:$D$30,\"\"),\" / \")","v":""},{"$f":"MyJoin(IF((D$2=Ввод!$C$1:$C$30)*($A811>=Ввод!$E$1:$E$30)*($A811<=Ввод!$F$1:$F$30),Ввод!$D$1:$D$30,\"\"),\" / \")","v":""},{"$f":"MyJoin(IF((E$2=Ввод!$C$1:$C$30)*($A811>=Ввод!$E$1:$E$30)*($A811<=Ввод!$F$1:$F$30),Ввод!$D$1:$D$30,\"\"),\" / \")","v":""},{"$f":"MyJoin(IF((F$2=Ввод!$C$1:$C$30)*($A811>=Ввод!$E$1:$E$30)*($A811<=Ввод!$F$1:$F$30),Ввод!$D$1:$D$30,\"\"),\" / \")","v":""},"2024-03-14"]
["2024-03-15",{"$f":"MyJoin(IF((B$2=Ввод!$C$1:$C$30)*($A812>=Ввод!$E$1:$E$30)*($A812<=Ввод!$F$1:$F$30),Ввод!$D$1:$D$30,\"\"),\" / \")","v":""},{"$f":"MyJoin(IF((C$2=Ввод!$C$1:$C$30)*($A812>=Ввод!$E$1:$E$30)*($A812<=Ввод!$F$1:$F$30),Ввод!$D$1:$D$30,\"\"),\" / \")","v":""},{"$f":"MyJoin(IF((D$2=Ввод!$C$1:$C$30)*($A812>=Ввод!$E$1:$E$30)*($A812<=Ввод!$F$1:$F$30),Ввод!$D$1:$D$30,\"\"),\" / \")","v":""},{"$f":"MyJoin(IF((E$2=Ввод!$C$1:$C$30)*($A812>=Ввод!$E$1:$E$30)*($A812<=Ввод!$F$1:$F$30),Ввод!$D$1:$D$30,\"\"),\" / \")","v":""},{"$f":"MyJoin(IF((F$2=Ввод!$C$1:$C$30)*($A812>=Ввод!$E$1:$E$30)*($A812<=Ввод!$F$1:$F$30),Ввод!$D$1:$D$30,\"\"),\" / \")","v":""},"2024-03-15"]
["2024-03-16",{"$f":"MyJoin(IF((B$2=Ввод!$C$1:$C$30)*($A813>=Ввод!$E$1:$E$30)*($A813<=Ввод!$F$1:$F$30),Ввод!$D$1:$D$30,\"\"),\" / \")","v":""},{"$f":"MyJoin(IF((C$2=Ввод!$C$1:$C$30)*($A813>=Ввод!$E$1:$E$30)*($A813<=Ввод!$F$1:$F$30),Ввод!$D$1:$D$30,\"\"),\" / \")","v":""},{"$f":"MyJoin(IF((D$2=Ввод!$C$1:$C$30)*($A813>=Ввод!$E$1:$E$30)*($A813<=Ввод!$F$1:$F$30),Ввод!$D$1:$D$30,\"\"),\" / \")","v":""},{"$f":"MyJoin(IF((E$2=Ввод!$C$1:$C$30)*($A813>=Ввод!$E$1:$E$30)*($A813<=Ввод!$F$1:$F$30),Ввод!$D$1:$D$30,\"\"),\" / \")","v":""},{"$f":"MyJoin(IF((F$2=Ввод!$C$1:$C$30)*($A813>=Ввод!$E$1:$E$30)*($A813<=Ввод!$F$1:$F$30),Ввод!$D$1:$D$30,\"\"),\" / \")","v":""},"2024-03-16"]
["2024-03-17",{"$f":"MyJoin(IF((B$2=Ввод!$C$1:$C$30)*($A814>=Ввод!$E$1:$E$30)*($A814<=Ввод!$F$1:$F$30),Ввод!$D$1:$D$30,\"\"),\" / \")","v":""},{"$f":"MyJoin(IF((C$2=Ввод!$C$1:$C$30)*($A814>=Ввод!$E$1:$E$30)*($A814<=Ввод!$F$1:$F$30),Ввод!$D$1:$D$30,\"\"),\" / \")","v":""},{"$f":"MyJoin(IF((D$2=Ввод!$C$1:$C$30)*($A814>=Ввод!$E$1:$E$30)*($A814<=Ввод!$F$1:$F$30),Ввод!$D$1:$D$30,\"\"),\" / \")","v":""},{"$f":"MyJoin(IF((E$2=Ввод!$C$1:$C$30)*($A814>=Ввод!$E$1:$E$30)*($A814<=Ввод!$F$1:$F$30),Ввод!$D$1:$D$30,\"\"),\" / \")","v":""},{"$f":"MyJoin(IF((F$2=Ввод!$C$1:$C$30)*($A814>=Ввод!$E$1:$E$30)*($A814<=Ввод!$F$1:$F$30),Ввод!$D$1:$D$30,\"\"),\" / \")","v":""},"2024-03-17"]
["2024-03-18",{"$f":"MyJoin(IF((B$2=Ввод!$C$1:$C$30)*($A815>=Ввод!$E$1:$E$30)*($A815<=Ввод!$F$1:$F$30),Ввод!$D$1:$D$30,\"\"),\" / \")","v":""},{"$f":"MyJoin(IF((C$2=Ввод!$C$1:$C$30)*($A815>=Ввод!$E$1:$E$30)*($A815<=Ввод!$F$1:$F$30),Ввод!$D$1:$D$30,\"\"),\" / \")","v":""},{"$f":"MyJoin(IF((D$2=Ввод!$C$1:$C$30)*($A815>=Ввод!$E$1:$E$30)*($A815<=Ввод!$F$1:$F$30),Ввод!$D$1:$D$30,\"\"),\" / \")","v":""},{"$f":"MyJoin(IF((E$2=Ввод!$C$1:$C$30)*($A815>=Ввод!$E$1:$E$30)*($A815<=Ввод!$F$1:$F$30),Ввод!$D$1:$D$30,\"\"),\" / \")","v":""},{"$f":"MyJoin(IF((F$2=Ввод!$C$1:$C$30)*($A815>=Ввод!$E$1:$E$30)*($A815<=Ввод!$F$1:$F$30),Ввод!$D$1:$D$30,\"\"),\" / \")","v":""},"2024-03-18"]
["2024-03-19",{"$f":"MyJoin(IF((B$2=Ввод!$C$1:$C$30)*($A816>=Ввод!$E$1:$E$30)*($A816<=Ввод!$F$1:$F$30),Ввод!$D$1:$D$30,\"\"),\" / \")","v":""},{"$f":"MyJoin(IF((C$2=Ввод!$C$1:$C$30)*($A816>=Ввод!$E$1:$E$30)*($A816<=Ввод!$F$1:$F$30),Ввод!$D$1:$D$30,\"\"),\" / \")","v":""},{"$f":"MyJoin(IF((D$2=Ввод!$C$1:$C$30)*($A816>=Ввод!$E$1:$E$30)*($A816<=Ввод!$F$1:$F$30),Ввод!$D$1:$D$30,\"\"),\" / \")","v":""},{"$f":"MyJoin(IF((E$2=Ввод!$C$1:$C$30)*($A816>=Ввод!$E$1:$E$30)*($A816<=Ввод!$F$1:$F$30),Ввод!$D$1:$D$30,\"\"),\" / \")","v":""},{"$f":"MyJoin(IF((F$2=Ввод!$C$1:$C$30)*($A816>=Ввод!$E$1:$E$30)*($A816<=Ввод!$F$1:$F$30),Ввод!$D$1:$D$30,\"\"),\" / \")","v":""},"2024-03-19"]
["2024-03-20",{"$f":"MyJoin(IF((B$2=Ввод!$C$1:$C$30)*($A817>=Ввод!$E$1:$E$30)*($A817<=Ввод!$F$1:$F$30),Ввод!$D$1:$D$30,\"\"),\" / \")","v":""},{"$f":"MyJoin(IF((C$2=Ввод!$C$1:$C$30)*($A817>=Ввод!$E$1:$E$30)*($A817<=Ввод!$F$1:$F$30),Ввод!$D$1:$D$30,\"\"),\" / \")","v":""},{"$f":"MyJoin(IF((D$2=Ввод!$C$1:$C$30)*($A817>=Ввод!$E$1:$E$30)*($A817<=Ввод!$F$1:$F$30),Ввод!$D$1:$D$30,\"\"),\" / \")","v":""},{"$f":"MyJoin(IF((E$2=Ввод!$C$1:$C$30)*($A817>=Ввод!$E$1:$E$30)*($A817<=Ввод!$F$1:$F$30),Ввод!$D$1:$D$30,\"\"),\" / \")","v":""},{"$f":"MyJoin(IF((F$2=Ввод!$C$1:$C$30)*($A817>=Ввод!$E$1:$E$30)*($A817<=Ввод!$F$1:$F$30),Ввод!$D$1:$D$30,\"\"),\" / \")","v":""},"2024-03-20"]
["2024-03-21",{"$f":"MyJoin(IF((B$2=Ввод!$C$1:$C$30)*($A818>=Ввод!$E$1:$E$30)*($A818<=Ввод!$F$1:$F$30),Ввод!$D$1:$D$30,\"\"),\" / \")","v":""},{"$f":"MyJoin(IF((C$2=Ввод!$C$1:$C$30)*($A818>=Ввод!$E$1:$E$30)*($A818<=Ввод!$F$1:$F$30),Ввод!$D$1:$D$30,\"\"),\" / \")","v":""},{"$f":"MyJoin(IF((D$2=Ввод!$C$1:$C$30)*($A818>=Ввод!$E$1:$E$30)*($A818<=Ввод!$F$1:$F$30),Ввод!$D$1:$D$30,\"\"),\" / \")","v":""},{"$f":"MyJoin(IF((E$2=Ввод!$C$1:$C$30)*($A818>=Ввод!$E$1:$E$30)*($A818<=Ввод!$F$1:$F$30),Ввод!$D$1:$D$30,\"\"),\" / \")","v":""},{"$f":"MyJoin(IF((F$2=Ввод!$C$1:$C$30)*($A818>=Ввод!$E$1:$E$30)*($A818<=Ввод!$F$1:$F$30),Ввод!$D$1:$D$30,\"\"),\" / \")","v":""},"2024-03-21"]
["2024-03-22",{"$f":"MyJoin(IF((B$2=Ввод!$C$1:$C$30)*($A819>=Ввод!$E$1:$E$30)*($A819<=Ввод!$F$1:$F$30),Ввод!$D$1:$D$30,\"\"),\" / \")","v":""},{"$f":"MyJoin(IF((C$2=Ввод!$C$1:$C$30)*($A819>=Ввод!$E$1:$E$30)*($A819<=Ввод!$F$1:$F$30),Ввод!$D$1:$D$30,\"\"),\" / \")","v":""},{"$f":"MyJoin(IF((D$2=Ввод!$C$1:$C$30)*($A819>=Ввод!$E$1:$E$30)*($A819<=Ввод!$F$1:$F$30),Ввод!$D$1:$D$30,\"\"),\" / \")","v":""},{"$f":"MyJoin(IF((E$2=Ввод!$C$1:$C$30)*($A819>=Ввод!$E$1:$E$30)*($A819<=Ввод!$F$1:$F$30),Ввод!$D$1:$D$30,\"\"),\" / \")","v":""},{"$f":"MyJoin(IF((F$2=Ввод!$C$1:$C$30)*($A819>=Ввод!$E$1:$E$30)*($A819<=Ввод!$F$1:$F$30),Ввод!$D$1:$D$30,\"\"),\" / \")","v":""},"2024-03-22"]
["2024-03-23",{"$f":"MyJoin(IF((B$2=Ввод!$C$1:$C$30)*($A820>=Ввод!$E$1:$E$30)*($A820<=Ввод!$F$1:$F$30),Ввод!$D$1:$D$30,\"\"),\" / \")","v":""},{"$f":"MyJoin(IF((C$2=Ввод!$C$1:$C$30)*($A820>=Ввод!$E$1:$E$30)*($A820<=Ввод!$F$1:$F$30),Ввод!$D$1:$D$30,\"\"),\" / \")","v":""},{"$f":"MyJoin(IF((D$2=Ввод!$C$1:$C$30)*($A820>=Ввод!$E$1:$E$30)*($A820<=Ввод!$F$1:$F$30),Ввод!$D$1:$D$30,\"\"),\" / \")","v":""},{"$f":"MyJoin(IF((E$2=Ввод!$C$1:$C$30)*($A820>=Ввод!$E$1:$E$30)*($A820<=Ввод!$F$1:$F$30),Ввод!$D$1:$D$30,\"\"),\" / \")","v":""},{"$f":"MyJoin(IF((F$2=Ввод!$C$1:$C$30)*($A820>=Ввод!$E$1:$E$30)*($A820<=Ввод!$F$1:$F$30),Ввод!$D$1:$D$30,\"\"),\" / \")","v":""},"2024-03-23"]
["2024-03-24",{"$f":"MyJoin(IF((B$2=Ввод!$C$1:$C$30)*($A821>=Ввод!$E$1:$E$30)*($A821<=Ввод!$F$1:$F$30),Ввод!$D$1:$D$30,\"\"),\" / \")","v":""},{"$f":"MyJoin(IF((C$2=Ввод!$C$1:$C$30)*($A821>=Ввод!$E$1:$E$30)*($A821<=Ввод!$F$1:$F$30),Ввод!$D$1:$D$30,\"\"),\" / \")","v":""},{"$f":"MyJoin(IF((D$2=Ввод!$C$1:$C$30)*($A821>=Ввод!$E$1:$E$30)*($A821<=Ввод!$F$1:$F$30),Ввод!$D$1:$D$30,\"\"),\" / \")","v":""},{"$f":"MyJoin(IF((E$2=Ввод!$C$1:$C$30)*($A821>=Ввод!$E$1:$E$30)*($A821<=Ввод!$F$1:$F$30),Ввод!$D$1:$D$30,\"\"),\" / \")","v":""},{"$f":"MyJoin(IF((F$2=Ввод!$C$1:$C$30)*($A821>=Ввод!$E$1:$E$30)*($A821<=Ввод!$F$1:$F$30),Ввод!$D$1:$D$30,\"\"),\" / \")","v":""},"2024-03-24"]
["2024-03-25",{"$f":"MyJoin(IF((B$2=Ввод!$C$1:$C$30)*($A822>=Ввод!$E$1:$E$30)*($A822<=Ввод!$F$1:$F$30),Ввод!$D$1:$D$30,\"\"),\" / \")","v":""},{"$f":"MyJoin(IF((C$2=Ввод!$C$1:$C$30)*($A822>=Ввод!$E$1:$E$30)*($A822<=Ввод!$F$1:$F$30),Ввод!$D$1:$D$30,\"\"),\" / \")","v":""},{"$f":"MyJoin(IF((D$2=Ввод!$C$1:$C$30)*($A822>=Ввод!$E$1:$E$30)*($A822<=Ввод!$F$1:$F$30),Ввод!$D$1:$D$30,\"\"),\" / \")","v":""},{"$f":"MyJoin(IF((E$2=Ввод!$C$1:$C$30)*($A822>=Ввод!$E$1:$E$30)*($A822<=Ввод!$F$1:$F$30),Ввод!$D$1:$D$30,\"\"),\" / \")","v":""},{"$f":"MyJoin(IF((F$2=Ввод!$C$1:$C$30)*($A822>=Ввод!$E$1:$E$30)*($A822<=Ввод!$F$1:$F$30),Ввод!$D$1:$D$30,\"\"),\" / \")","v":""},"2024-03-25"]
["2024-03-26",{"$f":"MyJoin(IF((B$2=Ввод!$C$1:$C$30)*($A823>=Ввод!$E$1:$E$30)*($A823<=Ввод!$F$1:$F$30),Ввод!$D$1:$D$30,\"\"),\" / \")","v":""},{"$f":"MyJoin(IF((C$2=Ввод!$C$1:$C$30)*($A823>=Ввод!$E$1:$E$30)*($A823<=Ввод!$F$1:$F$30),Ввод!$D$1:$D$30,\"\"),\" / \")","v":""},{"$f":"MyJoin(IF((D$2=Ввод!$C$1:$C$30)*($A823>=Ввод!$E$1:$E$30)*($A823<=Ввод!$F$1:$F$30),Ввод!$D$1:$D$30,\"\"),\" / \")","v":""},{"$f":"MyJoin(IF((E$2=Ввод!$C$1:$C$30)*($A823>=Ввод!$E$1:$E$30)*($A823<=Ввод!$F$1:$F$30),Ввод!$D$1:$D$30,\"\"),\" / \")","v":""},{"$f":"MyJoin(IF((F$2=Ввод!$C$1:$C$30)*($A823>=Ввод!$E$1:$E$30)*($A823<=Ввод!$F$1:$F$30),Ввод!$D$1:$D$30,\"\"),\" / \")","v":""},"2024-03-26"]
["2024-03-27",{"$f":"MyJoin(IF((B$2=Ввод!$C$1:$C$30)*($A824>=Ввод!$E$1:$E$30)*($A824<=Ввод!$F$1:$F$30),Ввод!$D$1:$D$30,\"\"),\" / \")","v":""},{"$f":"MyJoin(IF((C$2=Ввод!$C$1:$C$30)*($A824>=Ввод!$E$1:$E$30)*($A824<=Ввод!$F$1:$F$30),Ввод!$D$1:$D$30,\"\"),\" / \")","v":""},{"$f":"MyJoin(IF((D$2=Ввод!$C$1:$C$30)*($A824>=Ввод!$E$1:$E$30)*($A824<=Ввод!$F$1:$F$30),Ввод!$D$1:$D$30,\"\"),\" / \")","v":""},{"$f":"MyJoin(IF((E$2=Ввод!$C$1:$C$30)*($A824>=Ввод!$E$1:$E$30)*($A824<=Ввод!$F$1:$F$30),Ввод!$D$1:$D$30,\"\"),\" / \")","v":""},{"$f":"MyJoin(IF((F$2=Ввод!$C$1:$C$30)*($A824>=Ввод!$E$1:$E$30)*($A824<=Ввод!$F$1:$F$30),Ввод!$D$1:$D$30,\"\"),\" / \")","v":""},"2024-03-27"]
["2024-03-28",{"$f":"MyJoin(IF((B$2=Ввод!$C$1:$C$30)*($A825>=Ввод!$E$1:$E$30)*($A825<=Ввод!$F$1:$F$30),Ввод!$D$1:$D$30,\"\"),\" / \")","v":""},{"$f":"MyJoin(IF((C$2=Ввод!$C$1:$C$30)*($A825>=Ввод!$E$1:$E$30)*($A825<=Ввод!$F$1:$F$30),Ввод!$D$1:$D$30,\"\"),\" / \")","v":""},{"$f":"MyJoin(IF((D$2=Ввод!$C$1:$C$30)*($A825>=Ввод!$E$1:$E$30)*($A825<=Ввод!$F$1:$F$30),Ввод!$D$1:$D$30,\"\"),\" / \")","v":""},{"$f":"MyJoin(IF((E$2=Ввод!$C$1:$C$30)*($A825>=Ввод!$E$1:$E$30)*($A825<=Ввод!$F$1:$F$30),Ввод!$D$1:$D$30,\"\"),\" / \")","v":""},{"$f":"MyJoin(IF((F$2=Ввод!$C$1:$C$30)*($A825>=Ввод!$E$1:$E$30)*($A825<=Ввод!$F$1:$F$30),Ввод!$D$1:$D$30,\"\"),\" / \")","v":""},"2024-03-28"]
["2024-03-29",{"$f":"MyJoin(IF((B$2=Ввод!$C$1:$C$30)*($A826>=Ввод!$E$1:$E$30)*($A826<=Ввод!$F$1:$F$30),Ввод!$D$1:$D$30,\"\"),\" / \")","v":""},{"$f":"MyJoin(IF((C$2=Ввод!$C$1:$C$30)*($A826>=Ввод!$E$1:$E$30)*($A826<=Ввод!$F$1:$F$30),Ввод!$D$1:$D$30,\"\"),\" / \")","v":""},{"$f":"MyJoin(IF((D$2=Ввод!$C$1:$C$30)*($A826>=Ввод!$E$1:$E$30)*($A826<=Ввод!$F$1:$F$30),Ввод!$D$1:$D$30,\"\"),\" / \")","v":""},{"$f":"MyJoin(IF((E$2=Ввод!$C$1:$C$30)*($A826>=Ввод!$E$1:$E$30)*($A826<=Ввод!$F$1:$F$30),Ввод!$D$1:$D$30,\"\"),\" / \")","v":""},{"$f":"MyJoin(IF((F$2=Ввод!$C$1:$C$30)*($A826>=Ввод!$E$1:$E$30)*($A826<=Ввод!$F$1:$F$30),Ввод!$D$1:$D$30,\"\"),\" / \")","v":""},"2024-03-29"]
["2024-03-30",{"$f":"MyJoin(IF((B$2=Ввод!$C$1:$C$30)*($A827>=Ввод!$E$1:$E$30)*($A827<=Ввод!$F$1:$F$30),Ввод!$D$1:$D$30,\"\"),\" / \")","v":""},{"$f":"MyJoin(IF((C$2=Ввод!$C$1:$C$30)*($A827>=Ввод!$E$1:$E$30)*($A827<=Ввод!$F$1:$F$30),Ввод!$D$1:$D$30,\"\"),\" / \")","v":""},{"$f":"MyJoin(IF((D$2=Ввод!$C$1:$C$30)*($A827>=Ввод!$E$1:$E$30)*($A827<=Ввод!$F$1:$F$30),Ввод!$D$1:$D$30,\"\"),\" / \")","v":""},{"$f":"MyJoin(IF((E$2=Ввод!$C$1:$C$30)*($A827>=Ввод!$E$1:$E$30)*($A827<=Ввод!$F$1:$F$30),Ввод!$D$1:$D$30,\"\"),\" / \")","v":""},{"$f":"MyJoin(IF((F$2=Ввод!$C$1:$C$30)*($A827>=Ввод!$E$1:$E$30)*($A827<=Ввод!$F$1:$F$30),Ввод!$D$1:$D$30,\"\"),\" / \")","v":""},"2024-03-30"]
["2024-03-31",{"$f":"MyJoin(IF((B$2=Ввод!$C$1:$C$30)*($A828>=Ввод!$E$1:$E$30)*($A828<=Ввод!$F$1:$F$30),Ввод!$D$1:$D$30,\"\"),\" / \")","v":""},{"$f":"MyJoin(IF((C$2=Ввод!$C$1:$C$30)*($A828>=Ввод!$E$1:$E$30)*($A828<=Ввод!$F$1:$F$30),Ввод!$D$1:$D$30,\"\"),\" / \")","v":""},{"$f":"MyJoin(IF((D$2=Ввод!$C$1:$C$30)*($A828>=Ввод!$E$1:$E$30)*($A828<=Ввод!$F$1:$F$30),Ввод!$D$1:$D$30,\"\"),\" / \")","v":""},{"$f":"MyJoin(IF((E$2=Ввод!$C$1:$C$30)*($A828>=Ввод!$E$1:$E$30)*($A828<=Ввод!$F$1:$F$30),Ввод!$D$1:$D$30,\"\"),\" / \")","v":""},{"$f":"MyJoin(IF((F$2=Ввод!$C$1:$C$30)*($A828>=Ввод!$E$1:$E$30)*($A828<=Ввод!$F$1:$F$30),Ввод!$D$1:$D$30,\"\"),\" / \")","v":""},"2024-03-31"]
["2024-04-01",{"$f":"MyJoin(IF((B$2=Ввод!$C$1:$C$30)*($A829>=Ввод!$E$1:$E$30)*($A829<=Ввод!$F$1:$F$30),Ввод!$D$1:$D$30,\"\"),\" / \")","v":""},{"$f":"MyJoin(IF((C$2=Ввод!$C$1:$C$30)*($A829>=Ввод!$E$1:$E$30)*($A829<=Ввод!$F$1:$F$30),Ввод!$D$1:$D$30,\"\"),\" / \")","v":""},{"$f":"MyJoin(IF((D$2=Ввод!$C$1:$C$30)*($A829>=Ввод!$E$1:$E$30)*($A829<=Ввод!$F$1:$F$30),Ввод!$D$1:$D$30,\"\"),\" / \")","v":""},{"$f":"MyJoin(IF((E$2=Ввод!$C$1:$C$30)*($A829>=Ввод!$E$1:$E$30)*($A829<=Ввод!$F$1:$F$30),Ввод!$D$1:$D$30,\"\"),\" / \")","v":""},{"$f":"MyJoin(IF((F$2=Ввод!$C$1:$C$30)*($A829>=Ввод!$E$1:$E$30)*($A829<=Ввод!$F$1:$F$30),Ввод!$D$1:$D$30,\"\"),\" / \")","v":""},"2024-04-01"]
["2024-04-02",{"$f":"MyJoin(IF((B$2=Ввод!$C$1:$C$30)*($A830>=Ввод!$E$1:$E$30)*($A830<=Ввод!$F$1:$F$30),Ввод!$D$1:$D$30,\"\"),\" / \")","v":""},{"$f":"MyJoin(IF((C$2=Ввод!$C$1:$C$30)*($A830>=Ввод!$E$1:$E$30)*($A830<=Ввод!$F$1:$F$30),Ввод!$D$1:$D$30,\"\"),\" / \")","v":""},{"$f":"MyJoin(IF((D$2=Ввод!$C$1:$C$30)*($A830>=Ввод!$E$1:$E$30)*($A830<=Ввод!$F$1:$F$30),Ввод!$D$1:$D$30,\"\"),\" / \")","v":""},{"$f":"MyJoin(IF((E$2=Ввод!$C$1:$C$30)*($A830>=Ввод!$E$1:$E$30)*($A830<=Ввод!$F$1:$F$30),Ввод!$D$1:$D$30,\"\"),\" / \")","v":""},{"$f":"MyJoin(IF((F$2=Ввод!$C$1:$C$30)*($A830>=Ввод!$E$1:$E$30)*($A830<=Ввод!$F$1:$F$30),Ввод!$D$1:$D$30,\"\"),\" / \")","v":""},"2024-04-02"]
["2024-04-03",{"$f":"MyJoin(IF((B$2=Ввод!$C$1:$C$30)*($A831>=Ввод!$E$1:$E$30)*($A831<=Ввод!$F$1:$F$30),Ввод!$D$1:$D$30,\"\"),\" / \")","v":""},{"$f":"MyJoin(IF((C$2=Ввод!$C$1:$C$30)*($A831>=Ввод!$E$1:$E$30)*($A831<=Ввод!$F$1:$F$30),Ввод!$D$1:$D$30,\"\"),\" / \")","v":""},{"$f":"MyJoin(IF((D$2=Ввод!$C$1:$C$30)*($A831>=Ввод!$E$1:$E$30)*($A831<=Ввод!$F$1:$F$30),Ввод!$D$1:$D$30,\"\"),\" / \")","v":""},{"$f":"MyJoin(IF((E$2=Ввод!$C$1:$C$30)*($A831>=Ввод!$E$1:$E$30)*($A831<=Ввод!$F$1:$F$30),Ввод!$D$1:$D$30,\"\"),\" / \")","v":""},{"$f":"MyJoin(IF((F$2=Ввод!$C$1:$C$30)*($A831>=Ввод!$E$1:$E$30)*($A831<=Ввод!$F$1:$F$30),Ввод!$D$1:$D$30,\"\"),\" / \")","v":""},"2024-04-03"]
["2024-04-04",{"$f":"MyJoin(IF((B$2=Ввод!$C$1:$C$30)*($A832>=Ввод!$E$1:$E$30)*($A832<=Ввод!$F$1:$F$30),Ввод!$D$1:$D$30,\"\"),\" / \")","v":""},{"$f":"MyJoin(IF((C$2=Ввод!$C$1:$C$30)*($A832>=Ввод!$E$1:$E$30)*($A832<=Ввод!$F$1:$F$30),Ввод!$D$1:$D$30,\"\"),\" / \")","v":""},{"$f":"MyJoin(IF((D$2=Ввод!$C$1:$C$30)*($A832>=Ввод!$E$1:$E$30)*($A832<=Ввод!$F$1:$F$30),Ввод!$D$1:$D$30,\"\"),\" / \")","v":""},{"$f":"MyJoin(IF((E$2=Ввод!$C$1:$C$30)*($A832>=Ввод!$E$1:$E$30)*($A832<=Ввод!$F$1:$F$30),Ввод!$D$1:$D$30,\"\"),\" / \")","v":""},{"$f":"MyJoin(IF((F$2=Ввод!$C$1:$C$30)*($A832>=Ввод!$E$1:$E$30)*($A832<=Ввод!$F$1:$F$30),Ввод!$D$1:$D$30,\"\"),\" / \")","v":""},"2024-04-04"]
["2024-04-05",{"$f":"MyJoin(IF((B$2=Ввод!$C$1:$C$30)*($A833>=Ввод!$E$1:$E$30)*($A833<=Ввод!$F$1:$F$30),Ввод!$D$1:$D$30,\"\"),\" / \")","v":""},{"$f":"MyJoin(IF((C$2=Ввод!$C$1:$C$30)*($A833>=Ввод!$E$1:$E$30)*($A833<=Ввод!$F$1:$F$30),Ввод!$D$1:$D$30,\"\"),\" / \")","v":""},{"$f":"MyJoin(IF((D$2=Ввод!$C$1:$C$30)*($A833>=Ввод!$E$1:$E$30)*($A833<=Ввод!$F$1:$F$30),Ввод!$D$1:$D$30,\"\"),\" / \")","v":""},{"$f":"MyJoin(IF((E$2=Ввод!$C$1:$C$30)*($A833>=Ввод!$E$1:$E$30)*($A833<=Ввод!$F$1:$F$30),Ввод!$D$1:$D$30,\"\"),\" / \")","v":""},{"$f":"MyJoin(IF((F$2=Ввод!$C$1:$C$30)*($A833>=Ввод!$E$1:$E$30)*($A833<=Ввод!$F$1:$F$30),Ввод!$D$1:$D$30,\"\"),\" / \")","v":""},"2024-04-05"]
["2024-04-06",{"$f":"MyJoin(IF((B$2=Ввод!$C$1:$C$30)*($A834>=Ввод!$E$1:$E$30)*($A834<=Ввод!$F$1:$F$30),Ввод!$D$1:$D$30,\"\"),\" / \")","v":""},{"$f":"MyJoin(IF((C$2=Ввод!$C$1:$C$30)*($A834>=Ввод!$E$1:$E$30)*($A834<=Ввод!$F$1:$F$30),Ввод!$D$1:$D$30,\"\"),\" / \")","v":""},{"$f":"MyJoin(IF((D$2=Ввод!$C$1:$C$30)*($A834>=Ввод!$E$1:$E$30)*($A834<=Ввод!$F$1:$F$30),Ввод!$D$1:$D$30,\"\"),\" / \")","v":""},{"$f":"MyJoin(IF((E$2=Ввод!$C$1:$C$30)*($A834>=Ввод!$E$1:$E$30)*($A834<=Ввод!$F$1:$F$30),Ввод!$D$1:$D$30,\"\"),\" / \")","v":""},{"$f":"MyJoin(IF((F$2=Ввод!$C$1:$C$30)*($A834>=Ввод!$E$1:$E$30)*($A834<=Ввод!$F$1:$F$30),Ввод!$D$1:$D$30,\"\"),\" / \")","v":""},"2024-04-06"]
["2024-04-07",{"$f":"MyJoin(IF((B$2=Ввод!$C$1:$C$30)*($A835>=Ввод!$E$1:$E$30)*($A835<=Ввод!$F$1:$F$30),Ввод!$D$1:$D$30,\"\"),\" / \")","v":""},{"$f":"MyJoin(IF((C$2=Ввод!$C$1:$C$30)*($A835>=Ввод!$E$1:$E$30)*($A835<=Ввод!$F$1:$F$30),Ввод!$D$1:$D$30,\"\"),\" / \")","v":""},{"$f":"MyJoin(IF((D$2=Ввод!$C$1:$C$30)*($A835>=Ввод!$E$1:$E$30)*($A835<=Ввод!$F$1:$F$30),Ввод!$D$1:$D$30,\"\"),\" / \")","v":""},{"$f":"MyJoin(IF((E$2=Ввод!$C$1:$C$30)*($A835>=Ввод!$E$1:$E$30)*($A835<=Ввод!$F$1:$F$30),Ввод!$D$1:$D$30,\"\"),\" / \")","v":""},{"$f":"MyJoin(IF((F$2=Ввод!$C$1:$C$30)*($A835>=Ввод!$E$1:$E$30)*($A835<=Ввод!$F$1:$F$30),Ввод!$D$1:$D$30,\"\"),\" / \")","v":""},"2024-04-07"]
["2024-04-08",{"$f":"MyJoin(IF((B$2=Ввод!$C$1:$C$30)*($A836>=Ввод!$E$1:$E$30)*($A836<=Ввод!$F$1:$F$30),Ввод!$D$1:$D$30,\"\"),\" / \")","v":""},{"$f":"MyJoin(IF((C$2=Ввод!$C$1:$C$30)*($A836>=Ввод!$E$1:$E$30)*($A836<=Ввод!$F$1:$F$30),Ввод!$D$1:$D$30,\"\"),\" / \")","v":""},{"$f":"MyJoin(IF((D$2=Ввод!$C$1:$C$30)*($A836>=Ввод!$E$1:$E$30)*($A836<=Ввод!$F$1:$F$30),Ввод!$D$1:$D$30,\"\"),\" / \")","v":""},{"$f":"MyJoin(IF((E$2=Ввод!$C$1:$C$30)*($A836>=Ввод!$E$1:$E$30)*($A836<=Ввод!$F$1:$F$30),Ввод!$D$1:$D$30,\"\"),\" / \")","v":""},{"$f":"MyJoin(IF((F$2=Ввод!$C$1:$C$30)*($A836>=Ввод!$E$1:$E$30)*($A836<=Ввод!$F$1:$F$30),Ввод!$D$1:$D$30,\"\"),\" / \")","v":""},"2024-04-08"]
["2024-04-09",{"$f":"MyJoin(IF((B$2=Ввод!$C$1:$C$30)*($A837>=Ввод!$E$1:$E$30)*($A837<=Ввод!$F$1:$F$30),Ввод!$D$1:$D$30,\"\"),\" / \")","v":""},{"$f":"MyJoin(IF((C$2=Ввод!$C$1:$C$30)*($A837>=Ввод!$E$1:$E$30)*($A837<=Ввод!$F$1:$F$30),Ввод!$D$1:$D$30,\"\"),\" / \")","v":""},{"$f":"MyJoin(IF((D$2=Ввод!$C$1:$C$30)*($A837>=Ввод!$E$1:$E$30)*($A837<=Ввод!$F$1:$F$30),Ввод!$D$1:$D$30,\"\"),\" / \")","v":""},{"$f":"MyJoin(IF((E$2=Ввод!$C$1:$C$30)*($A837>=Ввод!$E$1:$E$30)*($A837<=Ввод!$F$1:$F$30),Ввод!$D$1:$D$30,\"\"),\" / \")","v":""},{"$f":"MyJoin(IF((F$2=Ввод!$C$1:$C$30)*($A837>=Ввод!$E$1:$E$30)*($A837<=Ввод!$F$1:$F$30),Ввод!$D$1:$D$30,\"\"),\" / \")","v":""},"2024-04-09"]
["2024-04-10",{"$f":"MyJoin(IF((B$2=Ввод!$C$1:$C$30)*($A838>=Ввод!$E$1:$E$30)*($A838<=Ввод!$F$1:$F$30),Ввод!$D$1:$D$30,\"\"),\" / \")","v":""},{"$f":"MyJoin(IF((C$2=Ввод!$C$1:$C$30)*($A838>=Ввод!$E$1:$E$30)*($A838<=Ввод!$F$1:$F$30),Ввод!$D$1:$D$30,\"\"),\" / \")","v":""},{"$f":"MyJoin(IF((D$2=Ввод!$C$1:$C$30)*($A838>=Ввод!$E$1:$E$30)*($A838<=Ввод!$F$1:$F$30),Ввод!$D$1:$D$30,\"\"),\" / \")","v":""},{"$f":"MyJoin(IF((E$2=Ввод!$C$1:$C$30)*($A838>=Ввод!$E$1:$E$30)*($A838<=Ввод!$F$1:$F$30),Ввод!$D$1:$D$30,\"\"),\" / \")","v":""},{"$f":"MyJoin(IF((F$2=Ввод!$C$1:$C$30)*($A838>=Ввод!$E$1:$E$30)*($A838<=Ввод!$F$1:$F$30),Ввод!$D$1:$D$30,\"\"),\" / \")","v":""},"2024-04-10"]
["2024-04-11",{"$f":"MyJoin(IF((B$2=Ввод!$C$1:$C$30)*($A839>=Ввод!$E$1:$E$30)*($A839<=Ввод!$F$1:$F$30),Ввод!$D$1:$D$30,\"\"),\" / \")","v":""},{"$f":"MyJoin(IF((C$2=Ввод!$C$1:$C$30)*($A839>=Ввод!$E$1:$E$30)*($A839<=Ввод!$F$1:$F$30),Ввод!$D$1:$D$30,\"\"),\" / \")","v":""},{"$f":"MyJoin(IF((D$2=Ввод!$C$1:$C$30)*($A839>=Ввод!$E$1:$E$30)*($A839<=Ввод!$F$1:$F$30),Ввод!$D$1:$D$30,\"\"),\" / \")","v":""},{"$f":"MyJoin(IF((E$2=Ввод!$C$1:$C$30)*($A839>=Ввод!$E$1:$E$30)*($A839<=Ввод!$F$1:$F$30),Ввод!$D$1:$D$30,\"\"),\" / \")","v":""},{"$f":"MyJoin(IF((F$2=Ввод!$C$1:$C$30)*($A839>=Ввод!$E$1:$E$30)*($A839<=Ввод!$F$1:$F$30),Ввод!$D$1:$D$30,\"\"),\" / \")","v":""},"2024-04-11"]
["2024-04-12",{"$f":"MyJoin(IF((B$2=Ввод!$C$1:$C$30)*($A840>=Ввод!$E$1:$E$30)*($A840<=Ввод!$F$1:$F$30),Ввод!$D$1:$D$30,\"\"),\" / \")","v":""},{"$f":"MyJoin(IF((C$2=Ввод!$C$1:$C$30)*($A840>=Ввод!$E$1:$E$30)*($A840<=Ввод!$F$1:$F$30),Ввод!$D$1:$D$30,\"\"),\" / \")","v":""},{"$f":"MyJoin(IF((D$2=Ввод!$C$1:$C$30)*($A840>=Ввод!$E$1:$E$30)*($A840<=Ввод!$F$1:$F$30),Ввод!$D$1:$D$30,\"\"),\" / \")","v":""},{"$f":"MyJoin(IF((E$2=Ввод!$C$1:$C$30)*($A840>=Ввод!$E$1:$E$30)*($A840<=Ввод!$F$1:$F$30),Ввод!$D$1:$D$30,\"\"),\" / \")","v":""},{"$f":"MyJoin(IF((F$2=Ввод!$C$1:$C$30)*($A840>=Ввод!$E$1:$E$30)*($A840<=Ввод!$F$1:$F$30),Ввод!$D$1:$D$30,\"\"),\" / \")","v":""},"2024-04-12"]
["2024-04-13",{"$f":"MyJoin(IF((B$2=Ввод!$C$1:$C$30)*($A841>=Ввод!$E$1:$E$30)*($A841<=Ввод!$F$1:$F$30),Ввод!$D$1:$D$30,\"\"),\" / \")","v":""},{"$f":"MyJoin(IF((C$2=Ввод!$C$1:$C$30)*($A841>=Ввод!$E$1:$E$30)*($A841<=Ввод!$F$1:$F$30),Ввод!$D$1:$D$30,\"\"),\" / \")","v":""},{"$f":"MyJoin(IF((D$2=Ввод!$C$1:$C$30)*($A841>=Ввод!$E$1:$E$30)*($A841<=Ввод!$F$1:$F$30),Ввод!$D$1:$D$30,\"\"),\" / \")","v":""},{"$f":"MyJoin(IF((E$2=Ввод!$C$1:$C$30)*($A841>=Ввод!$E$1:$E$30)*($A841<=Ввод!$F$1:$F$30),Ввод!$D$1:$D$30,\"\"),\" / \")","v":""},{"$f":"MyJoin(IF((F$2=Ввод!$C$1:$C$30)*($A841>=Ввод!$E$1:$E$30)*($A841<=Ввод!$F$1:$F$30),Ввод!$D$1:$D$30,\"\"),\" / \")","v":""},{"$f":"IF(A841=\"\",\"\",A841)","v":"2024-04-13"}]
["2024-04-14",{"$f":"MyJoin(IF((B$2=Ввод!$C$1:$C$30)*($A842>=Ввод!$E$1:$E$30)*($A842<=Ввод!$F$1:$F$30),Ввод!$D$1:$D$30,\"\"),\" / \")","v":""},{"$f":"MyJoin(IF((C$2=Ввод!$C$1:$C$30)*($A842>=Ввод!$E$1:$E$30)*($A842<=Ввод!$F$1:$F$30),Ввод!$D$1:$D$30,\"\"),\" / \")","v":""},{"$f":"MyJoin(IF((D$2=Ввод!$C$1:$C$30)*($A842>=Ввод!$E$1:$E$30)*($A842<=Ввод!$F$1:$F$30),Ввод!$D$1:$D$30,\"\"),\" / \")","v":""},{"$f":"MyJoin(IF((E$2=Ввод!$C$1:$C$30)*($A842>=Ввод!$E$1:$E$30)*($A842<=Ввод!$F$1:$F$30),Ввод!$D$1:$D$30,\"\"),\" / \")","v":""},{"$f":"MyJoin(IF((F$2=Ввод!$C$1:$C$30)*($A842>=Ввод!$E$1:$E$30)*($A842<=Ввод!$F$1:$F$30),Ввод!$D$1:$D$30,\"\"),\" / \")","v":""},"2024-04-14"]
["2024-04-15",{"$f":"MyJoin(IF((B$2=Ввод!$C$1:$C$30)*($A843>=Ввод!$E$1:$E$30)*($A843<=Ввод!$F$1:$F$30),Ввод!$D$1:$D$30,\"\"),\" / \")","v":""},{"$f":"MyJoin(IF((C$2=Ввод!$C$1:$C$30)*($A843>=Ввод!$E$1:$E$30)*($A843<=Ввод!$F$1:$F$30),Ввод!$D$1:$D$30,\"\"),\" / \")","v":""},{"$f":"MyJoin(IF((D$2=Ввод!$C$1:$C$30)*($A843>=Ввод!$E$1:$E$30)*($A843<=Ввод!$F$1:$F$30),Ввод!$D$1:$D$30,\"\"),\" / \")","v":""},{"$f":"MyJoin(IF((E$2=Ввод!$C$1:$C$30)*($A843>=Ввод!$E$1:$E$30)*($A843<=Ввод!$F$1:$F$30),Ввод!$D$1:$D$30,\"\"),\" / \")","v":""},{"$f":"MyJoin(IF((F$2=Ввод!$C$1:$C$30)*($A843>=Ввод!$E$1:$E$30)*($A843<=Ввод!$F$1:$F$30),Ввод!$D$1:$D$30,\"\"),\" / \")","v":""},"2024-04-15"]
["2024-04-16",{"$f":"MyJoin(IF((B$2=Ввод!$C$1:$C$30)*($A844>=Ввод!$E$1:$E$30)*($A844<=Ввод!$F$1:$F$30),Ввод!$D$1:$D$30,\"\"),\" / \")","v":""},{"$f":"MyJoin(IF((C$2=Ввод!$C$1:$C$30)*($A844>=Ввод!$E$1:$E$30)*($A844<=Ввод!$F$1:$F$30),Ввод!$D$1:$D$30,\"\"),\" / \")","v":""},{"$f":"MyJoin(IF((D$2=Ввод!$C$1:$C$30)*($A844>=Ввод!$E$1:$E$30)*($A844<=Ввод!$F$1:$F$30),Ввод!$D$1:$D$30,\"\"),\" / \")","v":""},{"$f":"MyJoin(IF((E$2=Ввод!$C$1:$C$30)*($A844>=Ввод!$E$1:$E$30)*($A844<=Ввод!$F$1:$F$30),Ввод!$D$1:$D$30,\"\"),\" / \")","v":""},{"$f":"MyJoin(IF((F$2=Ввод!$C$1:$C$30)*($A844>=Ввод!$E$1:$E$30)*($A844<=Ввод!$F$1:$F$30),Ввод!$D$1:$D$30,\"\"),\" / \")","v":""},"2024-04-16"]
["2024-04-17",{"$f":"MyJoin(IF((B$2=Ввод!$C$1:$C$30)*($A845>=Ввод!$E$1:$E$30)*($A845<=Ввод!$F$1:$F$30),Ввод!$D$1:$D$30,\"\"),\" / \")","v":""},{"$f":"MyJoin(IF((C$2=Ввод!$C$1:$C$30)*($A845>=Ввод!$E$1:$E$30)*($A845<=Ввод!$F$1:$F$30),Ввод!$D$1:$D$30,\"\"),\" / \")","v":""},{"$f":"MyJoin(IF((D$2=Ввод!$C$1:$C$30)*($A845>=Ввод!$E$1:$E$30)*($A845<=Ввод!$F$1:$F$30),Ввод!$D$1:$D$30,\"\"),\" / \")","v":""},{"$f":"MyJoin(IF((E$2=Ввод!$C$1:$C$30)*($A845>=Ввод!$E$1:$E$30)*($A845<=Ввод!$F$1:$F$30),Ввод!$D$1:$D$30,\"\"),\" / \")","v":""},{"$f":"MyJoin(IF((F$2=Ввод!$C$1:$C$30)*($A845>=Ввод!$E$1:$E$30)*($A845<=Ввод!$F$1:$F$30),Ввод!$D$1:$D$30,\"\"),\" / \")","v":""},"2024-04-17"]
["2024-04-18",{"$f":"MyJoin(IF((B$2=Ввод!$C$1:$C$30)*($A846>=Ввод!$E$1:$E$30)*($A846<=Ввод!$F$1:$F$30),Ввод!$D$1:$D$30,\"\"),\" / \")","v":""},{"$f":"MyJoin(IF((C$2=Ввод!$C$1:$C$30)*($A846>=Ввод!$E$1:$E$30)*($A846<=Ввод!$F$1:$F$30),Ввод!$D$1:$D$30,\"\"),\" / \")","v":""},{"$f":"MyJoin(IF((D$2=Ввод!$C$1:$C$30)*($A846>=Ввод!$E$1:$E$30)*($A846<=Ввод!$F$1:$F$30),Ввод!$D$1:$D$30,\"\"),\" / \")","v":""},{"$f":"MyJoin(IF((E$2=Ввод!$C$1:$C$30)*($A846>=Ввод!$E$1:$E$30)*($A846<=Ввод!$F$1:$F$30),Ввод!$D$1:$D$30,\"\"),\" / \")","v":""},{"$f":"MyJoin(IF((F$2=Ввод!$C$1:$C$30)*($A846>=Ввод!$E$1:$E$30)*($A846<=Ввод!$F$1:$F$30),Ввод!$D$1:$D$30,\"\"),\" / \")","v":""},"2024-04-18"]
["2024-04-19",{"$f":"MyJoin(IF((B$2=Ввод!$C$1:$C$30)*($A847>=Ввод!$E$1:$E$30)*($A847<=Ввод!$F$1:$F$30),Ввод!$D$1:$D$30,\"\"),\" / \")","v":""},{"$f":"MyJoin(IF((C$2=Ввод!$C$1:$C$30)*($A847>=Ввод!$E$1:$E$30)*($A847<=Ввод!$F$1:$F$30),Ввод!$D$1:$D$30,\"\"),\" / \")","v":""},{"$f":"MyJoin(IF((D$2=Ввод!$C$1:$C$30)*($A847>=Ввод!$E$1:$E$30)*($A847<=Ввод!$F$1:$F$30),Ввод!$D$1:$D$30,\"\"),\" / \")","v":""},{"$f":"MyJoin(IF((E$2=Ввод!$C$1:$C$30)*($A847>=Ввод!$E$1:$E$30)*($A847<=Ввод!$F$1:$F$30),Ввод!$D$1:$D$30,\"\"),\" / \")","v":""},{"$f":"MyJoin(IF((F$2=Ввод!$C$1:$C$30)*($A847>=Ввод!$E$1:$E$30)*($A847<=Ввод!$F$1:$F$30),Ввод!$D$1:$D$30,\"\"),\" / \")","v":""},"2024-04-19"]
["2024-04-20",{"$f":"MyJoin(IF((B$2=Ввод!$C$1:$C$30)*($A848>=Ввод!$E$1:$E$30)*($A848<=Ввод!$F$1:$F$30),Ввод!$D$1:$D$30,\"\"),\" / \")","v":""},{"$f":"MyJoin(IF((C$2=Ввод!$C$1:$C$30)*($A848>=Ввод!$E$1:$E$30)*($A848<=Ввод!$F$1:$F$30),Ввод!$D$1:$D$30,\"\"),\" / \")","v":""},{"$f":"MyJoin(IF((D$2=Ввод!$C$1:$C$30)*($A848>=Ввод!$E$1:$E$30)*($A848<=Ввод!$F$1:$F$30),Ввод!$D$1:$D$30,\"\"),\" / \")","v":""},{"$f":"MyJoin(IF((E$2=Ввод!$C$1:$C$30)*($A848>=Ввод!$E$1:$E$30)*($A848<=Ввод!$F$1:$F$30),Ввод!$D$1:$D$30,\"\"),\" / \")","v":""},{"$f":"MyJoin(IF((F$2=Ввод!$C$1:$C$30)*($A848>=Ввод!$E$1:$E$30)*($A848<=Ввод!$F$1:$F$30),Ввод!$D$1:$D$30,\"\"),\" / \")","v":""},"2024-04-20"]
["2024-04-21",{"$f":"MyJoin(IF((B$2=Ввод!$C$1:$C$30)*($A849>=Ввод!$E$1:$E$30)*($A849<=Ввод!$F$1:$F$30),Ввод!$D$1:$D$30,\"\"),\" / \")","v":""},{"$f":"MyJoin(IF((C$2=Ввод!$C$1:$C$30)*($A849>=Ввод!$E$1:$E$30)*($A849<=Ввод!$F$1:$F$30),Ввод!$D$1:$D$30,\"\"),\" / \")","v":""},{"$f":"MyJoin(IF((D$2=Ввод!$C$1:$C$30)*($A849>=Ввод!$E$1:$E$30)*($A849<=Ввод!$F$1:$F$30),Ввод!$D$1:$D$30,\"\"),\" / \")","v":""},{"$f":"MyJoin(IF((E$2=Ввод!$C$1:$C$30)*($A849>=Ввод!$E$1:$E$30)*($A849<=Ввод!$F$1:$F$30),Ввод!$D$1:$D$30,\"\"),\" / \")","v":""},{"$f":"MyJoin(IF((F$2=Ввод!$C$1:$C$30)*($A849>=Ввод!$E$1:$E$30)*($A849<=Ввод!$F$1:$F$30),Ввод!$D$1:$D$30,\"\"),\" / \")","v":""},"2024-04-21"]
["2024-04-22",{"$f":"MyJoin(IF((B$2=Ввод!$C$1:$C$30)*($A850>=Ввод!$E$1:$E$30)*($A850<=Ввод!$F$1:$F$30),Ввод!$D$1:$D$30,\"\"),\" / \")","v":""},{"$f":"MyJoin(IF((C$2=Ввод!$C$1:$C$30)*($A850>=Ввод!$E$1:$E$30)*($A850<=Ввод!$F$1:$F$30),Ввод!$D$1:$D$30,\"\"),\" / \")","v":""},{"$f":"MyJoin(IF((D$2=Ввод!$C$1:$C$30)*($A850>=Ввод!$E$1:$E$30)*($A850<=Ввод!$F$1:$F$30),Ввод!$D$1:$D$30,\"\"),\" / \")","v":""},{"$f":"MyJoin(IF((E$2=Ввод!$C$1:$C$30)*($A850>=Ввод!$E$1:$E$30)*($A850<=Ввод!$F$1:$F$30),Ввод!$D$1:$D$30,\"\"),\" / \")","v":""},{"$f":"MyJoin(IF((F$2=Ввод!$C$1:$C$30)*($A850>=Ввод!$E$1:$E$30)*($A850<=Ввод!$F$1:$F$30),Ввод!$D$1:$D$30,\"\"),\" / \")","v":""},"2024-04-22"]
["2024-04-23",{"$f":"MyJoin(IF((B$2=Ввод!$C$1:$C$30)*($A851>=Ввод!$E$1:$E$30)*($A851<=Ввод!$F$1:$F$30),Ввод!$D$1:$D$30,\"\"),\" / \")","v":""},{"$f":"MyJoin(IF((C$2=Ввод!$C$1:$C$30)*($A851>=Ввод!$E$1:$E$30)*($A851<=Ввод!$F$1:$F$30),Ввод!$D$1:$D$30,\"\"),\" / \")","v":""},{"$f":"MyJoin(IF((D$2=Ввод!$C$1:$C$30)*($A851>=Ввод!$E$1:$E$30)*($A851<=Ввод!$F$1:$F$30),Ввод!$D$1:$D$30,\"\"),\" / \")","v":""},{"$f":"MyJoin(IF((E$2=Ввод!$C$1:$C$30)*($A851>=Ввод!$E$1:$E$30)*($A851<=Ввод!$F$1:$F$30),Ввод!$D$1:$D$30,\"\"),\" / \")","v":""},{"$f":"MyJoin(IF((F$2=Ввод!$C$1:$C$30)*($A851>=Ввод!$E$1:$E$30)*($A851<=Ввод!$F$1:$F$30),Ввод!$D$1:$D$30,\"\"),\" / \")","v":""},"2024-04-23"]
["2024-04-24",{"$f":"MyJoin(IF((B$2=Ввод!$C$1:$C$30)*($A852>=Ввод!$E$1:$E$30)*($A852<=Ввод!$F$1:$F$30),Ввод!$D$1:$D$30,\"\"),\" / \")","v":""},{"$f":"MyJoin(IF((C$2=Ввод!$C$1:$C$30)*($A852>=Ввод!$E$1:$E$30)*($A852<=Ввод!$F$1:$F$30),Ввод!$D$1:$D$30,\"\"),\" / \")","v":""},{"$f":"MyJoin(IF((D$2=Ввод!$C$1:$C$30)*($A852>=Ввод!$E$1:$E$30)*($A852<=Ввод!$F$1:$F$30),Ввод!$D$1:$D$30,\"\"),\" / \")","v":""},{"$f":"MyJoin(IF((E$2=Ввод!$C$1:$C$30)*($A852>=Ввод!$E$1:$E$30)*($A852<=Ввод!$F$1:$F$30),Ввод!$D$1:$D$30,\"\"),\" / \")","v":""},{"$f":"MyJoin(IF((F$2=Ввод!$C$1:$C$30)*($A852>=Ввод!$E$1:$E$30)*($A852<=Ввод!$F$1:$F$30),Ввод!$D$1:$D$30,\"\"),\" / \")","v":""},"2024-04-24"]
["2024-04-25",{"$f":"MyJoin(IF((B$2=Ввод!$C$1:$C$30)*($A853>=Ввод!$E$1:$E$30)*($A853<=Ввод!$F$1:$F$30),Ввод!$D$1:$D$30,\"\"),\" / \")","v":""},{"$f":"MyJoin(IF((C$2=Ввод!$C$1:$C$30)*($A853>=Ввод!$E$1:$E$30)*($A853<=Ввод!$F$1:$F$30),Ввод!$D$1:$D$30,\"\"),\" / \")","v":""},{"$f":"MyJoin(IF((D$2=Ввод!$C$1:$C$30)*($A853>=Ввод!$E$1:$E$30)*($A853<=Ввод!$F$1:$F$30),Ввод!$D$1:$D$30,\"\"),\" / \")","v":""},{"$f":"MyJoin(IF((E$2=Ввод!$C$1:$C$30)*($A853>=Ввод!$E$1:$E$30)*($A853<=Ввод!$F$1:$F$30),Ввод!$D$1:$D$30,\"\"),\" / \")","v":""},{"$f":"MyJoin(IF((F$2=Ввод!$C$1:$C$30)*($A853>=Ввод!$E$1:$E$30)*($A853<=Ввод!$F$1:$F$30),Ввод!$D$1:$D$30,\"\"),\" / \")","v":""},"2024-04-25"]
["2024-04-26",{"$f":"MyJoin(IF((B$2=Ввод!$C$1:$C$30)*($A854>=Ввод!$E$1:$E$30)*($A854<=Ввод!$F$1:$F$30),Ввод!$D$1:$D$30,\"\"),\" / \")","v":""},{"$f":"MyJoin(IF((C$2=Ввод!$C$1:$C$30)*($A854>=Ввод!$E$1:$E$30)*($A854<=Ввод!$F$1:$F$30),Ввод!$D$1:$D$30,\"\"),\" / \")","v":""},{"$f":"MyJoin(IF((D$2=Ввод!$C$1:$C$30)*($A854>=Ввод!$E$1:$E$30)*($A854<=Ввод!$F$1:$F$30),Ввод!$D$1:$D$30,\"\"),\" / \")","v":""},{"$f":"MyJoin(IF((E$2=Ввод!$C$1:$C$30)*($A854>=Ввод!$E$1:$E$30)*($A854<=Ввод!$F$1:$F$30),Ввод!$D$1:$D$30,\"\"),\" / \")","v":""},{"$f":"MyJoin(IF((F$2=Ввод!$C$1:$C$30)*($A854>=Ввод!$E$1:$E$30)*($A854<=Ввод!$F$1:$F$30),Ввод!$D$1:$D$30,\"\"),\" / \")","v":""},"2024-04-26"]
["2024-04-27",{"$f":"MyJoin(IF((B$2=Ввод!$C$1:$C$30)*($A855>=Ввод!$E$1:$E$30)*($A855<=Ввод!$F$1:$F$30),Ввод!$D$1:$D$30,\"\"),\" / \")","v":""},{"$f":"MyJoin(IF((C$2=Ввод!$C$1:$C$30)*($A855>=Ввод!$E$1:$E$30)*($A855<=Ввод!$F$1:$F$30),Ввод!$D$1:$D$30,\"\"),\" / \")","v":""},{"$f":"MyJoin(IF((D$2=Ввод!$C$1:$C$30)*($A855>=Ввод!$E$1:$E$30)*($A855<=Ввод!$F$1:$F$30),Ввод!$D$1:$D$30,\"\"),\" / \")","v":""},{"$f":"MyJoin(IF((E$2=Ввод!$C$1:$C$30)*($A855>=Ввод!$E$1:$E$30)*($A855<=Ввод!$F$1:$F$30),Ввод!$D$1:$D$30,\"\"),\" / \")","v":""},{"$f":"MyJoin(IF((F$2=Ввод!$C$1:$C$30)*($A855>=Ввод!$E$1:$E$30)*($A855<=Ввод!$F$1:$F$30),Ввод!$D$1:$D$30,\"\"),\" / \")","v":""},"2024-04-27"]
["2024-04-28",{"$f":"MyJoin(IF((B$2=Ввод!$C$1:$C$30)*($A856>=Ввод!$E$1:$E$30)*($A856<=Ввод!$F$1:$F$30),Ввод!$D$1:$D$30,\"\"),\" / \")","v":""},{"$f":"MyJoin(IF((C$2=Ввод!$C$1:$C$30)*($A856>=Ввод!$E$1:$E$30)*($A856<=Ввод!$F$1:$F$30),Ввод!$D$1:$D$30,\"\"),\" / \")","v":""},{"$f":"MyJoin(IF((D$2=Ввод!$C$1:$C$30)*($A856>=Ввод!$E$1:$E$30)*($A856<=Ввод!$F$1:$F$30),Ввод!$D$1:$D$30,\"\"),\" / \")","v":""},{"$f":"MyJoin(IF((E$2=Ввод!$C$1:$C$30)*($A856>=Ввод!$E$1:$E$30)*($A856<=Ввод!$F$1:$F$30),Ввод!$D$1:$D$30,\"\"),\" / \")","v":""},{"$f":"MyJoin(IF((F$2=Ввод!$C$1:$C$30)*($A856>=Ввод!$E$1:$E$30)*($A856<=Ввод!$F$1:$F$30),Ввод!$D$1:$D$30,\"\"),\" / \")","v":""},"2024-04-28"]
["2024-04-29",{"$f":"MyJoin(IF((B$2=Ввод!$C$1:$C$30)*($A857>=Ввод!$E$1:$E$30)*($A857<=Ввод!$F$1:$F$30),Ввод!$D$1:$D$30,\"\"),\" / \")","v":""},{"$f":"MyJoin(IF((C$2=Ввод!$C$1:$C$30)*($A857>=Ввод!$E$1:$E$30)*($A857<=Ввод!$F$1:$F$30),Ввод!$D$1:$D$30,\"\"),\" / \")","v":""},{"$f":"MyJoin(IF((D$2=Ввод!$C$1:$C$30)*($A857>=Ввод!$E$1:$E$30)*($A857<=Ввод!$F$1:$F$30),Ввод!$D$1:$D$30,\"\"),\" / \")","v":""},{"$f":"MyJoin(IF((E$2=Ввод!$C$1:$C$30)*($A857>=Ввод!$E$1:$E$30)*($A857<=Ввод!$F$1:$F$30),Ввод!$D$1:$D$30,\"\"),\" / \")","v":""},{"$f":"MyJoin(IF((F$2=Ввод!$C$1:$C$30)*($A857>=Ввод!$E$1:$E$30)*($A857<=Ввод!$F$1:$F$30),Ввод!$D$1:$D$30,\"\"),\" / \")","v":""},"2024-04-29"]
["2024-04-30",{"$f":"MyJoin(IF((B$2=Ввод!$C$1:$C$30)*($A858>=Ввод!$E$1:$E$30)*($A858<=Ввод!$F$1:$F$30),Ввод!$D$1:$D$30,\"\"),\" / \")","v":""},{"$f":"MyJoin(IF((C$2=Ввод!$C$1:$C$30)*($A858>=Ввод!$E$1:$E$30)*($A858<=Ввод!$F$1:$F$30),Ввод!$D$1:$D$30,\"\"),\" / \")","v":""},{"$f":"MyJoin(IF((D$2=Ввод!$C$1:$C$30)*($A858>=Ввод!$E$1:$E$30)*($A858<=Ввод!$F$1:$F$30),Ввод!$D$1:$D$30,\"\"),\" / \")","v":""},{"$f":"MyJoin(IF((E$2=Ввод!$C$1:$C$30)*($A858>=Ввод!$E$1:$E$30)*($A858<=Ввод!$F$1:$F$30),Ввод!$D$1:$D$30,\"\"),\" / \")","v":""},{"$f":"MyJoin(IF((F$2=Ввод!$C$1:$C$30)*($A858>=Ввод!$E$1:$E$30)*($A858<=Ввод!$F$1:$F$30),Ввод!$D$1:$D$30,\"\"),\" / \")","v":""},"2024-04-30"]
["2024-05-01",{"$f":"MyJoin(IF((B$2=Ввод!$C$1:$C$30)*($A859>=Ввод!$E$1:$E$30)*($A859<=Ввод!$F$1:$F$30),Ввод!$D$1:$D$30,\"\"),\" / \")","v":""},{"$f":"MyJoin(IF((C$2=Ввод!$C$1:$C$30)*($A859>=Ввод!$E$1:$E$30)*($A859<=Ввод!$F$1:$F$30),Ввод!$D$1:$D$30,\"\"),\" / \")","v":""},{"$f":"MyJoin(IF((D$2=Ввод!$C$1:$C$30)*($A859>=Ввод!$E$1:$E$30)*($A859<=Ввод!$F$1:$F$30),Ввод!$D$1:$D$30,\"\"),\" / \")","v":""},{"$f":"MyJoin(IF((E$2=Ввод!$C$1:$C$30)*($A859>=Ввод!$E$1:$E$30)*($A859<=Ввод!$F$1:$F$30),Ввод!$D$1:$D$30,\"\"),\" / \")","v":""},{"$f":"MyJoin(IF((F$2=Ввод!$C$1:$C$30)*($A859>=Ввод!$E$1:$E$30)*($A859<=Ввод!$F$1:$F$30),Ввод!$D$1:$D$30,\"\"),\" / \")","v":""},"2024-05-01"]
["2024-05-02",{"$f":"MyJoin(IF((B$2=Ввод!$C$1:$C$30)*($A860>=Ввод!$E$1:$E$30)*($A860<=Ввод!$F$1:$F$30),Ввод!$D$1:$D$30,\"\"),\" / \")","v":""},{"$f":"MyJoin(IF((C$2=Ввод!$C$1:$C$30)*($A860>=Ввод!$E$1:$E$30)*($A860<=Ввод!$F$1:$F$30),Ввод!$D$1:$D$30,\"\"),\" / \")","v":""},{"$f":"MyJoin(IF((D$2=Ввод!$C$1:$C$30)*($A860>=Ввод!$E$1:$E$30)*($A860<=Ввод!$F$1:$F$30),Ввод!$D$1:$D$30,\"\"),\" / \")","v":""},{"$f":"MyJoin(IF((E$2=Ввод!$C$1:$C$30)*($A860>=Ввод!$E$1:$E$30)*($A860<=Ввод!$F$1:$F$30),Ввод!$D$1:$D$30,\"\"),\" / \")","v":""},{"$f":"MyJoin(IF((F$2=Ввод!$C$1:$C$30)*($A860>=Ввод!$E$1:$E$30)*($A860<=Ввод!$F$1:$F$30),Ввод!$D$1:$D$30,\"\"),\" / \")","v":""},"2024-05-02"]
["2024-05-03",{"$f":"MyJoin(IF((B$2=Ввод!$C$1:$C$30)*($A861>=Ввод!$E$1:$E$30)*($A861<=Ввод!$F$1:$F$30),Ввод!$D$1:$D$30,\"\"),\" / \")","v":""},{"$f":"MyJoin(IF((C$2=Ввод!$C$1:$C$30)*($A861>=Ввод!$E$1:$E$30)*($A861<=Ввод!$F$1:$F$30),Ввод!$D$1:$D$30,\"\"),\" / \")","v":""},{"$f":"MyJoin(IF((D$2=Ввод!$C$1:$C$30)*($A861>=Ввод!$E$1:$E$30)*($A861<=Ввод!$F$1:$F$30),Ввод!$D$1:$D$30,\"\"),\" / \")","v":""},{"$f":"MyJoin(IF((E$2=Ввод!$C$1:$C$30)*($A861>=Ввод!$E$1:$E$30)*($A861<=Ввод!$F$1:$F$30),Ввод!$D$1:$D$30,\"\"),\" / \")","v":""},{"$f":"MyJoin(IF((F$2=Ввод!$C$1:$C$30)*($A861>=Ввод!$E$1:$E$30)*($A861<=Ввод!$F$1:$F$30),Ввод!$D$1:$D$30,\"\"),\" / \")","v":""},"2024-05-03"]
["2024-05-04",{"$f":"MyJoin(IF((B$2=Ввод!$C$1:$C$30)*($A862>=Ввод!$E$1:$E$30)*($A862<=Ввод!$F$1:$F$30),Ввод!$D$1:$D$30,\"\"),\" / \")","v":""},{"$f":"MyJoin(IF((C$2=Ввод!$C$1:$C$30)*($A862>=Ввод!$E$1:$E$30)*($A862<=Ввод!$F$1:$F$30),Ввод!$D$1:$D$30,\"\"),\" / \")","v":""},{"$f":"MyJoin(IF((D$2=Ввод!$C$1:$C$30)*($A862>=Ввод!$E$1:$E$30)*($A862<=Ввод!$F$1:$F$30),Ввод!$D$1:$D$30,\"\"),\" / \")","v":""},{"$f":"MyJoin(IF((E$2=Ввод!$C$1:$C$30)*($A862>=Ввод!$E$1:$E$30)*($A862<=Ввод!$F$1:$F$30),Ввод!$D$1:$D$30,\"\"),\" / \")","v":""},{"$f":"MyJoin(IF((F$2=Ввод!$C$1:$C$30)*($A862>=Ввод!$E$1:$E$30)*($A862<=Ввод!$F$1:$F$30),Ввод!$D$1:$D$30,\"\"),\" / \")","v":""},"2024-05-04"]
["2024-05-05",{"$f":"MyJoin(IF((B$2=Ввод!$C$1:$C$30)*($A863>=Ввод!$E$1:$E$30)*($A863<=Ввод!$F$1:$F$30),Ввод!$D$1:$D$30,\"\"),\" / \")","v":""},{"$f":"MyJoin(IF((C$2=Ввод!$C$1:$C$30)*($A863>=Ввод!$E$1:$E$30)*($A863<=Ввод!$F$1:$F$30),Ввод!$D$1:$D$30,\"\"),\" / \")","v":""},{"$f":"MyJoin(IF((D$2=Ввод!$C$1:$C$30)*($A863>=Ввод!$E$1:$E$30)*($A863<=Ввод!$F$1:$F$30),Ввод!$D$1:$D$30,\"\"),\" / \")","v":""},{"$f":"MyJoin(IF((E$2=Ввод!$C$1:$C$30)*($A863>=Ввод!$E$1:$E$30)*($A863<=Ввод!$F$1:$F$30),Ввод!$D$1:$D$30,\"\"),\" / \")","v":""},{"$f":"MyJoin(IF((F$2=Ввод!$C$1:$C$30)*($A863>=Ввод!$E$1:$E$30)*($A863<=Ввод!$F$1:$F$30),Ввод!$D$1:$D$30,\"\"),\" / \")","v":""},"2024-05-05"]
["2024-05-06",{"$f":"MyJoin(IF((B$2=Ввод!$C$1:$C$30)*($A864>=Ввод!$E$1:$E$30)*($A864<=Ввод!$F$1:$F$30),Ввод!$D$1:$D$30,\"\"),\" / \")","v":""},{"$f":"MyJoin(IF((C$2=Ввод!$C$1:$C$30)*($A864>=Ввод!$E$1:$E$30)*($A864<=Ввод!$F$1:$F$30),Ввод!$D$1:$D$30,\"\"),\" / \")","v":""},{"$f":"MyJoin(IF((D$2=Ввод!$C$1:$C$30)*($A864>=Ввод!$E$1:$E$30)*($A864<=Ввод!$F$1:$F$30),Ввод!$D$1:$D$30,\"\"),\" / \")","v":""},{"$f":"MyJoin(IF((E$2=Ввод!$C$1:$C$30)*($A864>=Ввод!$E$1:$E$30)*($A864<=Ввод!$F$1:$F$30),Ввод!$D$1:$D$30,\"\"),\" / \")","v":""},{"$f":"MyJoin(IF((F$2=Ввод!$C$1:$C$30)*($A864>=Ввод!$E$1:$E$30)*($A864<=Ввод!$F$1:$F$30),Ввод!$D$1:$D$30,\"\"),\" / \")","v":""},"2024-05-06"]
["2024-05-07",{"$f":"MyJoin(IF((B$2=Ввод!$C$1:$C$30)*($A865>=Ввод!$E$1:$E$30)*($A865<=Ввод!$F$1:$F$30),Ввод!$D$1:$D$30,\"\"),\" / \")","v":""},{"$f":"MyJoin(IF((C$2=Ввод!$C$1:$C$30)*($A865>=Ввод!$E$1:$E$30)*($A865<=Ввод!$F$1:$F$30),Ввод!$D$1:$D$30,\"\"),\" / \")","v":""},{"$f":"MyJoin(IF((D$2=Ввод!$C$1:$C$30)*($A865>=Ввод!$E$1:$E$30)*($A865<=Ввод!$F$1:$F$30),Ввод!$D$1:$D$30,\"\"),\" / \")","v":""},{"$f":"MyJoin(IF((E$2=Ввод!$C$1:$C$30)*($A865>=Ввод!$E$1:$E$30)*($A865<=Ввод!$F$1:$F$30),Ввод!$D$1:$D$30,\"\"),\" / \")","v":""},{"$f":"MyJoin(IF((F$2=Ввод!$C$1:$C$30)*($A865>=Ввод!$E$1:$E$30)*($A865<=Ввод!$F$1:$F$30),Ввод!$D$1:$D$30,\"\"),\" / \")","v":""},"2024-05-07"]
["2024-05-08",{"$f":"MyJoin(IF((B$2=Ввод!$C$1:$C$30)*($A866>=Ввод!$E$1:$E$30)*($A866<=Ввод!$F$1:$F$30),Ввод!$D$1:$D$30,\"\"),\" / \")","v":""},{"$f":"MyJoin(IF((C$2=Ввод!$C$1:$C$30)*($A866>=Ввод!$E$1:$E$30)*($A866<=Ввод!$F$1:$F$30),Ввод!$D$1:$D$30,\"\"),\" / \")","v":""},{"$f":"MyJoin(IF((D$2=Ввод!$C$1:$C$30)*($A866>=Ввод!$E$1:$E$30)*($A866<=Ввод!$F$1:$F$30),Ввод!$D$1:$D$30,\"\"),\" / \")","v":""},{"$f":"MyJoin(IF((E$2=Ввод!$C$1:$C$30)*($A866>=Ввод!$E$1:$E$30)*($A866<=Ввод!$F$1:$F$30),Ввод!$D$1:$D$30,\"\"),\" / \")","v":""},{"$f":"MyJoin(IF((F$2=Ввод!$C$1:$C$30)*($A866>=Ввод!$E$1:$E$30)*($A866<=Ввод!$F$1:$F$30),Ввод!$D$1:$D$30,\"\"),\" / \")","v":""},"2024-05-08"]
["2024-05-09",{"$f":"MyJoin(IF((B$2=Ввод!$C$1:$C$30)*($A867>=Ввод!$E$1:$E$30)*($A867<=Ввод!$F$1:$F$30),Ввод!$D$1:$D$30,\"\"),\" / \")","v":""},{"$f":"MyJoin(IF((C$2=Ввод!$C$1:$C$30)*($A867>=Ввод!$E$1:$E$30)*($A867<=Ввод!$F$1:$F$30),Ввод!$D$1:$D$30,\"\"),\" / \")","v":""},{"$f":"MyJoin(IF((D$2=Ввод!$C$1:$C$30)*($A867>=Ввод!$E$1:$E$30)*($A867<=Ввод!$F$1:$F$30),Ввод!$D$1:$D$30,\"\"),\" / \")","v":""},{"$f":"MyJoin(IF((E$2=Ввод!$C$1:$C$30)*($A867>=Ввод!$E$1:$E$30)*($A867<=Ввод!$F$1:$F$30),Ввод!$D$1:$D$30,\"\"),\" / \")","v":""},{"$f":"MyJoin(IF((F$2=Ввод!$C$1:$C$30)*($A867>=Ввод!$E$1:$E$30)*($A867<=Ввод!$F$1:$F$30),Ввод!$D$1:$D$30,\"\"),\" / \")","v":""},"2024-05-09"]
["2024-05-10",{"$f":"MyJoin(IF((B$2=Ввод!$C$1:$C$30)*($A868>=Ввод!$E$1:$E$30)*($A868<=Ввод!$F$1:$F$30),Ввод!$D$1:$D$30,\"\"),\" / \")","v":""},{"$f":"MyJoin(IF((C$2=Ввод!$C$1:$C$30)*($A868>=Ввод!$E$1:$E$30)*($A868<=Ввод!$F$1:$F$30),Ввод!$D$1:$D$30,\"\"),\" / \")","v":""},{"$f":"MyJoin(IF((D$2=Ввод!$C$1:$C$30)*($A868>=Ввод!$E$1:$E$30)*($A868<=Ввод!$F$1:$F$30),Ввод!$D$1:$D$30,\"\"),\" / \")","v":""},{"$f":"MyJoin(IF((E$2=Ввод!$C$1:$C$30)*($A868>=Ввод!$E$1:$E$30)*($A868<=Ввод!$F$1:$F$30),Ввод!$D$1:$D$30,\"\"),\" / \")","v":""},{"$f":"MyJoin(IF((F$2=Ввод!$C$1:$C$30)*($A868>=Ввод!$E$1:$E$30)*($A868<=Ввод!$F$1:$F$30),Ввод!$D$1:$D$30,\"\"),\" / \")","v":""},"2024-05-10"]
["2024-05-11",{"$f":"MyJoin(IF((B$2=Ввод!$C$1:$C$30)*($A869>=Ввод!$E$1:$E$30)*($A869<=Ввод!$F$1:$F$30),Ввод!$D$1:$D$30,\"\"),\" / \")","v":""},{"$f":"MyJoin(IF((C$2=Ввод!$C$1:$C$30)*($A869>=Ввод!$E$1:$E$30)*($A869<=Ввод!$F$1:$F$30),Ввод!$D$1:$D$30,\"\"),\" / \")","v":""},{"$f":"MyJoin(IF((D$2=Ввод!$C$1:$C$30)*($A869>=Ввод!$E$1:$E$30)*($A869<=Ввод!$F$1:$F$30),Ввод!$D$1:$D$30,\"\"),\" / \")","v":""},{"$f":"MyJoin(IF((E$2=Ввод!$C$1:$C$30)*($A869>=Ввод!$E$1:$E$30)*($A869<=Ввод!$F$1:$F$30),Ввод!$D$1:$D$30,\"\"),\" / \")","v":""},{"$f":"MyJoin(IF((F$2=Ввод!$C$1:$C$30)*($A869>=Ввод!$E$1:$E$30)*($A869<=Ввод!$F$1:$F$30),Ввод!$D$1:$D$30,\"\"),\" / \")","v":""},"2024-05-11"]
["2024-05-12",{"$f":"MyJoin(IF((B$2=Ввод!$C$1:$C$30)*($A870>=Ввод!$E$1:$E$30)*($A870<=Ввод!$F$1:$F$30),Ввод!$D$1:$D$30,\"\"),\" / \")","v":""},{"$f":"MyJoin(IF((C$2=Ввод!$C$1:$C$30)*($A870>=Ввод!$E$1:$E$30)*($A870<=Ввод!$F$1:$F$30),Ввод!$D$1:$D$30,\"\"),\" / \")","v":""},{"$f":"MyJoin(IF((D$2=Ввод!$C$1:$C$30)*($A870>=Ввод!$E$1:$E$30)*($A870<=Ввод!$F$1:$F$30),Ввод!$D$1:$D$30,\"\"),\" / \")","v":""},{"$f":"MyJoin(IF((E$2=Ввод!$C$1:$C$30)*($A870>=Ввод!$E$1:$E$30)*($A870<=Ввод!$F$1:$F$30),Ввод!$D$1:$D$30,\"\"),\" / \")","v":""},{"$f":"MyJoin(IF((F$2=Ввод!$C$1:$C$30)*($A870>=Ввод!$E$1:$E$30)*($A870<=Ввод!$F$1:$F$30),Ввод!$D$1:$D$30,\"\"),\" / \")","v":""},"2024-05-12"]
["2024-05-13",{"$f":"MyJoin(IF((B$2=Ввод!$C$1:$C$30)*($A871>=Ввод!$E$1:$E$30)*($A871<=Ввод!$F$1:$F$30),Ввод!$D$1:$D$30,\"\"),\" / \")","v":""},{"$f":"MyJoin(IF((C$2=Ввод!$C$1:$C$30)*($A871>=Ввод!$E$1:$E$30)*($A871<=Ввод!$F$1:$F$30),Ввод!$D$1:$D$30,\"\"),\" / \")","v":""},{"$f":"MyJoin(IF((D$2=Ввод!$C$1:$C$30)*($A871>=Ввод!$E$1:$E$30)*($A871<=Ввод!$F$1:$F$30),Ввод!$D$1:$D$30,\"\"),\" / \")","v":""},{"$f":"MyJoin(IF((E$2=Ввод!$C$1:$C$30)*($A871>=Ввод!$E$1:$E$30)*($A871<=Ввод!$F$1:$F$30),Ввод!$D$1:$D$30,\"\"),\" / \")","v":""},{"$f":"MyJoin(IF((F$2=Ввод!$C$1:$C$30)*($A871>=Ввод!$E$1:$E$30)*($A871<=Ввод!$F$1:$F$30),Ввод!$D$1:$D$30,\"\"),\" / \")","v":""},"2024-05-13"]
["2024-05-14",{"$f":"MyJoin(IF((B$2=Ввод!$C$1:$C$30)*($A872>=Ввод!$E$1:$E$30)*($A872<=Ввод!$F$1:$F$30),Ввод!$D$1:$D$30,\"\"),\" / \")","v":""},{"$f":"MyJoin(IF((C$2=Ввод!$C$1:$C$30)*($A872>=Ввод!$E$1:$E$30)*($A872<=Ввод!$F$1:$F$30),Ввод!$D$1:$D$30,\"\"),\" / \")","v":""},{"$f":"MyJoin(IF((D$2=Ввод!$C$1:$C$30)*($A872>=Ввод!$E$1:$E$30)*($A872<=Ввод!$F$1:$F$30),Ввод!$D$1:$D$30,\"\"),\" / \")","v":""},{"$f":"MyJoin(IF((E$2=Ввод!$C$1:$C$30)*($A872>=Ввод!$E$1:$E$30)*($A872<=Ввод!$F$1:$F$30),Ввод!$D$1:$D$30,\"\"),\" / \")","v":""},{"$f":"MyJoin(IF((F$2=Ввод!$C$1:$C$30)*($A872>=Ввод!$E$1:$E$30)*($A872<=Ввод!$F$1:$F$30),Ввод!$D$1:$D$30,\"\"),\" / \")","v":""},"2024-05-14"]
["2024-05-15",{"$f":"MyJoin(IF((B$2=Ввод!$C$1:$C$30)*($A873>=Ввод!$E$1:$E$30)*($A873<=Ввод!$F$1:$F$30),Ввод!$D$1:$D$30,\"\"),\" / \")","v":""},{"$f":"MyJoin(IF((C$2=Ввод!$C$1:$C$30)*($A873>=Ввод!$E$1:$E$30)*($A873<=Ввод!$F$1:$F$30),Ввод!$D$1:$D$30,\"\"),\" / \")","v":""},{"$f":"MyJoin(IF((D$2=Ввод!$C$1:$C$30)*($A873>=Ввод!$E$1:$E$30)*($A873<=Ввод!$F$1:$F$30),Ввод!$D$1:$D$30,\"\"),\" / \")","v":""},{"$f":"MyJoin(IF((E$2=Ввод!$C$1:$C$30)*($A873>=Ввод!$E$1:$E$30)*($A873<=Ввод!$F$1:$F$30),Ввод!$D$1:$D$30,\"\"),\" / \")","v":""},{"$f":"MyJoin(IF((F$2=Ввод!$C$1:$C$30)*($A873>=Ввод!$E$1:$E$30)*($A873<=Ввод!$F$1:$F$30),Ввод!$D$1:$D$30,\"\"),\" / \")","v":""},"2024-05-15"]
["2024-05-16",{"$f":"MyJoin(IF((B$2=Ввод!$C$1:$C$30)*($A874>=Ввод!$E$1:$E$30)*($A874<=Ввод!$F$1:$F$30),Ввод!$D$1:$D$30,\"\"),\" / \")","v":""},{"$f":"MyJoin(IF((C$2=Ввод!$C$1:$C$30)*($A874>=Ввод!$E$1:$E$30)*($A874<=Ввод!$F$1:$F$30),Ввод!$D$1:$D$30,\"\"),\" / \")","v":""},{"$f":"MyJoin(IF((D$2=Ввод!$C$1:$C$30)*($A874>=Ввод!$E$1:$E$30)*($A874<=Ввод!$F$1:$F$30),Ввод!$D$1:$D$30,\"\"),\" / \")","v":""},{"$f":"MyJoin(IF((E$2=Ввод!$C$1:$C$30)*($A874>=Ввод!$E$1:$E$30)*($A874<=Ввод!$F$1:$F$30),Ввод!$D$1:$D$30,\"\"),\" / \")","v":""},{"$f":"MyJoin(IF((F$2=Ввод!$C$1:$C$30)*($A874>=Ввод!$E$1:$E$30)*($A874<=Ввод!$F$1:$F$30),Ввод!$D$1:$D$30,\"\"),\" / \")","v":""},"2024-05-16"]
["2024-05-17",{"$f":"MyJoin(IF((B$2=Ввод!$C$1:$C$30)*($A875>=Ввод!$E$1:$E$30)*($A875<=Ввод!$F$1:$F$30),Ввод!$D$1:$D$30,\"\"),\" / \")","v":""},{"$f":"MyJoin(IF((C$2=Ввод!$C$1:$C$30)*($A875>=Ввод!$E$1:$E$30)*($A875<=Ввод!$F$1:$F$30),Ввод!$D$1:$D$30,\"\"),\" / \")","v":""},{"$f":"MyJoin(IF((D$2=Ввод!$C$1:$C$30)*($A875>=Ввод!$E$1:$E$30)*($A875<=Ввод!$F$1:$F$30),Ввод!$D$1:$D$30,\"\"),\" / \")","v":""},{"$f":"MyJoin(IF((E$2=Ввод!$C$1:$C$30)*($A875>=Ввод!$E$1:$E$30)*($A875<=Ввод!$F$1:$F$30),Ввод!$D$1:$D$30,\"\"),\" / \")","v":""},{"$f":"MyJoin(IF((F$2=Ввод!$C$1:$C$30)*($A875>=Ввод!$E$1:$E$30)*($A875<=Ввод!$F$1:$F$30),Ввод!$D$1:$D$30,\"\"),\" / \")","v":""},"2024-05-17"]
["2024-05-18",{"$f":"MyJoin(IF((B$2=Ввод!$C$1:$C$30)*($A876>=Ввод!$E$1:$E$30)*($A876<=Ввод!$F$1:$F$30),Ввод!$D$1:$D$30,\"\"),\" / \")","v":""},{"$f":"MyJoin(IF((C$2=Ввод!$C$1:$C$30)*($A876>=Ввод!$E$1:$E$30)*($A876<=Ввод!$F$1:$F$30),Ввод!$D$1:$D$30,\"\"),\" / \")","v":""},{"$f":"MyJoin(IF((D$2=Ввод!$C$1:$C$30)*($A876>=Ввод!$E$1:$E$30)*($A876<=Ввод!$F$1:$F$30),Ввод!$D$1:$D$30,\"\"),\" / \")","v":""},{"$f":"MyJoin(IF((E$2=Ввод!$C$1:$C$30)*($A876>=Ввод!$E$1:$E$30)*($A876<=Ввод!$F$1:$F$30),Ввод!$D$1:$D$30,\"\"),\" / \")","v":""},{"$f":"MyJoin(IF((F$2=Ввод!$C$1:$C$30)*($A876>=Ввод!$E$1:$E$30)*($A876<=Ввод!$F$1:$F$30),Ввод!$D$1:$D$30,\"\"),\" / \")","v":""},"2024-05-18"]
["2024-05-19",{"$f":"MyJoin(IF((B$2=Ввод!$C$1:$C$30)*($A877>=Ввод!$E$1:$E$30)*($A877<=Ввод!$F$1:$F$30),Ввод!$D$1:$D$30,\"\"),\" / \")","v":""},{"$f":"MyJoin(IF((C$2=Ввод!$C$1:$C$30)*($A877>=Ввод!$E$1:$E$30)*($A877<=Ввод!$F$1:$F$30),Ввод!$D$1:$D$30,\"\"),\" / \")","v":""},{"$f":"MyJoin(IF((D$2=Ввод!$C$1:$C$30)*($A877>=Ввод!$E$1:$E$30)*($A877<=Ввод!$F$1:$F$30),Ввод!$D$1:$D$30,\"\"),\" / \")","v":""},{"$f":"MyJoin(IF((E$2=Ввод!$C$1:$C$30)*($A877>=Ввод!$E$1:$E$30)*($A877<=Ввод!$F$1:$F$30),Ввод!$D$1:$D$30,\"\"),\" / \")","v":""},{"$f":"MyJoin(IF((F$2=Ввод!$C$1:$C$30)*($A877>=Ввод!$E$1:$E$30)*($A877<=Ввод!$F$1:$F$30),Ввод!$D$1:$D$30,\"\"),\" / \")","v":""},"2024-05-19"]
["2024-05-20",{"$f":"MyJoin(IF((B$2=Ввод!$C$1:$C$30)*($A878>=Ввод!$E$1:$E$30)*($A878<=Ввод!$F$1:$F$30),Ввод!$D$1:$D$30,\"\"),\" / \")","v":""},{"$f":"MyJoin(IF((C$2=Ввод!$C$1:$C$30)*($A878>=Ввод!$E$1:$E$30)*($A878<=Ввод!$F$1:$F$30),Ввод!$D$1:$D$30,\"\"),\" / \")","v":""},{"$f":"MyJoin(IF((D$2=Ввод!$C$1:$C$30)*($A878>=Ввод!$E$1:$E$30)*($A878<=Ввод!$F$1:$F$30),Ввод!$D$1:$D$30,\"\"),\" / \")","v":""},{"$f":"MyJoin(IF((E$2=Ввод!$C$1:$C$30)*($A878>=Ввод!$E$1:$E$30)*($A878<=Ввод!$F$1:$F$30),Ввод!$D$1:$D$30,\"\"),\" / \")","v":""},{"$f":"MyJoin(IF((F$2=Ввод!$C$1:$C$30)*($A878>=Ввод!$E$1:$E$30)*($A878<=Ввод!$F$1:$F$30),Ввод!$D$1:$D$30,\"\"),\" / \")","v":""},"2024-05-20"]
["2024-05-21",{"$f":"MyJoin(IF((B$2=Ввод!$C$1:$C$30)*($A879>=Ввод!$E$1:$E$30)*($A879<=Ввод!$F$1:$F$30),Ввод!$D$1:$D$30,\"\"),\" / \")","v":""},{"$f":"MyJoin(IF((C$2=Ввод!$C$1:$C$30)*($A879>=Ввод!$E$1:$E$30)*($A879<=Ввод!$F$1:$F$30),Ввод!$D$1:$D$30,\"\"),\" / \")","v":""},{"$f":"MyJoin(IF((D$2=Ввод!$C$1:$C$30)*($A879>=Ввод!$E$1:$E$30)*($A879<=Ввод!$F$1:$F$30),Ввод!$D$1:$D$30,\"\"),\" / \")","v":""},{"$f":"MyJoin(IF((E$2=Ввод!$C$1:$C$30)*($A879>=Ввод!$E$1:$E$30)*($A879<=Ввод!$F$1:$F$30),Ввод!$D$1:$D$30,\"\"),\" / \")","v":""},{"$f":"MyJoin(IF((F$2=Ввод!$C$1:$C$30)*($A879>=Ввод!$E$1:$E$30)*($A879<=Ввод!$F$1:$F$30),Ввод!$D$1:$D$30,\"\"),\" / \")","v":""},"2024-05-21"]
["2024-05-22",{"$f":"MyJoin(IF((B$2=Ввод!$C$1:$C$30)*($A880>=Ввод!$E$1:$E$30)*($A880<=Ввод!$F$1:$F$30),Ввод!$D$1:$D$30,\"\"),\" / \")","v":""},{"$f":"MyJoin(IF((C$2=Ввод!$C$1:$C$30)*($A880>=Ввод!$E$1:$E$30)*($A880<=Ввод!$F$1:$F$30),Ввод!$D$1:$D$30,\"\"),\" / \")","v":""},{"$f":"MyJoin(IF((D$2=Ввод!$C$1:$C$30)*($A880>=Ввод!$E$1:$E$30)*($A880<=Ввод!$F$1:$F$30),Ввод!$D$1:$D$30,\"\"),\" / \")","v":""},{"$f":"MyJoin(IF((E$2=Ввод!$C$1:$C$30)*($A880>=Ввод!$E$1:$E$30)*($A880<=Ввод!$F$1:$F$30),Ввод!$D$1:$D$30,\"\"),\" / \")","v":""},{"$f":"MyJoin(IF((F$2=Ввод!$C$1:$C$30)*($A880>=Ввод!$E$1:$E$30)*($A880<=Ввод!$F$1:$F$30),Ввод!$D$1:$D$30,\"\"),\" / \")","v":""},"2024-05-22"]
["2024-05-23",{"$f":"MyJoin(IF((B$2=Ввод!$C$1:$C$30)*($A881>=Ввод!$E$1:$E$30)*($A881<=Ввод!$F$1:$F$30),Ввод!$D$1:$D$30,\"\"),\" / \")","v":""},{"$f":"MyJoin(IF((C$2=Ввод!$C$1:$C$30)*($A881>=Ввод!$E$1:$E$30)*($A881<=Ввод!$F$1:$F$30),Ввод!$D$1:$D$30,\"\"),\" / \")","v":""},{"$f":"MyJoin(IF((D$2=Ввод!$C$1:$C$30)*($A881>=Ввод!$E$1:$E$30)*($A881<=Ввод!$F$1:$F$30),Ввод!$D$1:$D$30,\"\"),\" / \")","v":""},{"$f":"MyJoin(IF((E$2=Ввод!$C$1:$C$30)*($A881>=Ввод!$E$1:$E$30)*($A881<=Ввод!$F$1:$F$30),Ввод!$D$1:$D$30,\"\"),\" / \")","v":""},{"$f":"MyJoin(IF((F$2=Ввод!$C$1:$C$30)*($A881>=Ввод!$E$1:$E$30)*($A881<=Ввод!$F$1:$F$30),Ввод!$D$1:$D$30,\"\"),\" / \")","v":""},"2024-05-23"]
["2024-05-24",{"$f":"MyJoin(IF((B$2=Ввод!$C$1:$C$30)*($A882>=Ввод!$E$1:$E$30)*($A882<=Ввод!$F$1:$F$30),Ввод!$D$1:$D$30,\"\"),\" / \")","v":""},{"$f":"MyJoin(IF((C$2=Ввод!$C$1:$C$30)*($A882>=Ввод!$E$1:$E$30)*($A882<=Ввод!$F$1:$F$30),Ввод!$D$1:$D$30,\"\"),\" / \")","v":""},{"$f":"MyJoin(IF((D$2=Ввод!$C$1:$C$30)*($A882>=Ввод!$E$1:$E$30)*($A882<=Ввод!$F$1:$F$30),Ввод!$D$1:$D$30,\"\"),\" / \")","v":""},{"$f":"MyJoin(IF((E$2=Ввод!$C$1:$C$30)*($A882>=Ввод!$E$1:$E$30)*($A882<=Ввод!$F$1:$F$30),Ввод!$D$1:$D$30,\"\"),\" / \")","v":""},{"$f":"MyJoin(IF((F$2=Ввод!$C$1:$C$30)*($A882>=Ввод!$E$1:$E$30)*($A882<=Ввод!$F$1:$F$30),Ввод!$D$1:$D$30,\"\"),\" / \")","v":""},"2024-05-24"]
["2024-05-25",{"$f":"MyJoin(IF((B$2=Ввод!$C$1:$C$30)*($A883>=Ввод!$E$1:$E$30)*($A883<=Ввод!$F$1:$F$30),Ввод!$D$1:$D$30,\"\"),\" / \")","v":""},{"$f":"MyJoin(IF((C$2=Ввод!$C$1:$C$30)*($A883>=Ввод!$E$1:$E$30)*($A883<=Ввод!$F$1:$F$30),Ввод!$D$1:$D$30,\"\"),\" / \")","v":""},{"$f":"MyJoin(IF((D$2=Ввод!$C$1:$C$30)*($A883>=Ввод!$E$1:$E$30)*($A883<=Ввод!$F$1:$F$30),Ввод!$D$1:$D$30,\"\"),\" / \")","v":""},{"$f":"MyJoin(IF((E$2=Ввод!$C$1:$C$30)*($A883>=Ввод!$E$1:$E$30)*($A883<=Ввод!$F$1:$F$30),Ввод!$D$1:$D$30,\"\"),\" / \")","v":""},{"$f":"MyJoin(IF((F$2=Ввод!$C$1:$C$30)*($A883>=Ввод!$E$1:$E$30)*($A883<=Ввод!$F$1:$F$30),Ввод!$D$1:$D$30,\"\"),\" / \")","v":""},"2024-05-25"]
["2024-05-26",{"$f":"MyJoin(IF((B$2=Ввод!$C$1:$C$30)*($A884>=Ввод!$E$1:$E$30)*($A884<=Ввод!$F$1:$F$30),Ввод!$D$1:$D$30,\"\"),\" / \")","v":""},{"$f":"MyJoin(IF((C$2=Ввод!$C$1:$C$30)*($A884>=Ввод!$E$1:$E$30)*($A884<=Ввод!$F$1:$F$30),Ввод!$D$1:$D$30,\"\"),\" / \")","v":""},{"$f":"MyJoin(IF((D$2=Ввод!$C$1:$C$30)*($A884>=Ввод!$E$1:$E$30)*($A884<=Ввод!$F$1:$F$30),Ввод!$D$1:$D$30,\"\"),\" / \")","v":""},{"$f":"MyJoin(IF((E$2=Ввод!$C$1:$C$30)*($A884>=Ввод!$E$1:$E$30)*($A884<=Ввод!$F$1:$F$30),Ввод!$D$1:$D$30,\"\"),\" / \")","v":""},{"$f":"MyJoin(IF((F$2=Ввод!$C$1:$C$30)*($A884>=Ввод!$E$1:$E$30)*($A884<=Ввод!$F$1:$F$30),Ввод!$D$1:$D$30,\"\"),\" / \")","v":""},"2024-05-26"]
["2024-05-27",{"$f":"MyJoin(IF((B$2=Ввод!$C$1:$C$30)*($A885>=Ввод!$E$1:$E$30)*($A885<=Ввод!$F$1:$F$30),Ввод!$D$1:$D$30,\"\"),\" / \")","v":""},{"$f":"MyJoin(IF((C$2=Ввод!$C$1:$C$30)*($A885>=Ввод!$E$1:$E$30)*($A885<=Ввод!$F$1:$F$30),Ввод!$D$1:$D$30,\"\"),\" / \")","v":""},{"$f":"MyJoin(IF((D$2=Ввод!$C$1:$C$30)*($A885>=Ввод!$E$1:$E$30)*($A885<=Ввод!$F$1:$F$30),Ввод!$D$1:$D$30,\"\"),\" / \")","v":""},{"$f":"MyJoin(IF((E$2=Ввод!$C$1:$C$30)*($A885>=Ввод!$E$1:$E$30)*($A885<=Ввод!$F$1:$F$30),Ввод!$D$1:$D$30,\"\"),\" / \")","v":""},{"$f":"MyJoin(IF((F$2=Ввод!$C$1:$C$30)*($A885>=Ввод!$E$1:$E$30)*($A885<=Ввод!$F$1:$F$30),Ввод!$D$1:$D$30,\"\"),\" / \")","v":""},"2024-05-27"]
["2024-05-28",{"$f":"MyJoin(IF((B$2=Ввод!$C$1:$C$30)*($A886>=Ввод!$E$1:$E$30)*($A886<=Ввод!$F$1:$F$30),Ввод!$D$1:$D$30,\"\"),\" / \")","v":""},{"$f":"MyJoin(IF((C$2=Ввод!$C$1:$C$30)*($A886>=Ввод!$E$1:$E$30)*($A886<=Ввод!$F$1:$F$30),Ввод!$D$1:$D$30,\"\"),\" / \")","v":""},{"$f":"MyJoin(IF((D$2=Ввод!$C$1:$C$30)*($A886>=Ввод!$E$1:$E$30)*($A886<=Ввод!$F$1:$F$30),Ввод!$D$1:$D$30,\"\"),\" / \")","v":""},{"$f":"MyJoin(IF((E$2=Ввод!$C$1:$C$30)*($A886>=Ввод!$E$1:$E$30)*($A886<=Ввод!$F$1:$F$30),Ввод!$D$1:$D$30,\"\"),\" / \")","v":""},{"$f":"MyJoin(IF((F$2=Ввод!$C$1:$C$30)*($A886>=Ввод!$E$1:$E$30)*($A886<=Ввод!$F$1:$F$30),Ввод!$D$1:$D$30,\"\"),\" / \")","v":""},"2024-05-28"]
["2024-05-29",{"$f":"MyJoin(IF((B$2=Ввод!$C$1:$C$30)*($A887>=Ввод!$E$1:$E$30)*($A887<=Ввод!$F$1:$F$30),Ввод!$D$1:$D$30,\"\"),\" / \")","v":""},{"$f":"MyJoin(IF((C$2=Ввод!$C$1:$C$30)*($A887>=Ввод!$E$1:$E$30)*($A887<=Ввод!$F$1:$F$30),Ввод!$D$1:$D$30,\"\"),\" / \")","v":""},{"$f":"MyJoin(IF((D$2=Ввод!$C$1:$C$30)*($A887>=Ввод!$E$1:$E$30)*($A887<=Ввод!$F$1:$F$30),Ввод!$D$1:$D$30,\"\"),\" / \")","v":""},{"$f":"MyJoin(IF((E$2=Ввод!$C$1:$C$30)*($A887>=Ввод!$E$1:$E$30)*($A887<=Ввод!$F$1:$F$30),Ввод!$D$1:$D$30,\"\"),\" / \")","v":""},{"$f":"MyJoin(IF((F$2=Ввод!$C$1:$C$30)*($A887>=Ввод!$E$1:$E$30)*($A887<=Ввод!$F$1:$F$30),Ввод!$D$1:$D$30,\"\"),\" / \")","v":""},"2024-05-29"]
["2024-05-30",{"$f":"MyJoin(IF((B$2=Ввод!$C$1:$C$30)*($A888>=Ввод!$E$1:$E$30)*($A888<=Ввод!$F$1:$F$30),Ввод!$D$1:$D$30,\"\"),\" / \")","v":""},{"$f":"MyJoin(IF((C$2=Ввод!$C$1:$C$30)*($A888>=Ввод!$E$1:$E$30)*($A888<=Ввод!$F$1:$F$30),Ввод!$D$1:$D$30,\"\"),\" / \")","v":""},{"$f":"MyJoin(IF((D$2=Ввод!$C$1:$C$30)*($A888>=Ввод!$E$1:$E$30)*($A888<=Ввод!$F$1:$F$30),Ввод!$D$1:$D$30,\"\"),\" / \")","v":""},{"$f":"MyJoin(IF((E$2=Ввод!$C$1:$C$30)*($A888>=Ввод!$E$1:$E$30)*($A888<=Ввод!$F$1:$F$30),Ввод!$D$1:$D$30,\"\"),\" / \")","v":""},{"$f":"MyJoin(IF((F$2=Ввод!$C$1:$C$30)*($A888>=Ввод!$E$1:$E$30)*($A888<=Ввод!$F$1:$F$30),Ввод!$D$1:$D$30,\"\"),\" / \")","v":""},"2024-05-30"]
["2024-05-31",{"$f":"MyJoin(IF((B$2=Ввод!$C$1:$C$30)*($A889>=Ввод!$E$1:$E$30)*($A889<=Ввод!$F$1:$F$30),Ввод!$D$1:$D$30,\"\"),\" / \")","v":""},{"$f":"MyJoin(IF((C$2=Ввод!$C$1:$C$30)*($A889>=Ввод!$E$1:$E$30)*($A889<=Ввод!$F$1:$F$30),Ввод!$D$1:$D$30,\"\"),\" / \")","v":""},{"$f":"MyJoin(IF((D$2=Ввод!$C$1:$C$30)*($A889>=Ввод!$E$1:$E$30)*($A889<=Ввод!$F$1:$F$30),Ввод!$D$1:$D$30,\"\"),\" / \")","v":""},{"$f":"MyJoin(IF((E$2=Ввод!$C$1:$C$30)*($A889>=Ввод!$E$1:$E$30)*($A889<=Ввод!$F$1:$F$30),Ввод!$D$1:$D$30,\"\"),\" / \")","v":""},{"$f":"MyJoin(IF((F$2=Ввод!$C$1:$C$30)*($A889>=Ввод!$E$1:$E$30)*($A889<=Ввод!$F$1:$F$30),Ввод!$D$1:$D$30,\"\"),\" / \")","v":""},"2024-05-31"]
["2024-06-01",{"$f":"MyJoin(IF((B$2=Ввод!$C$1:$C$30)*($A890>=Ввод!$E$1:$E$30)*($A890<=Ввод!$F$1:$F$30),Ввод!$D$1:$D$30,\"\"),\" / \")","v":""},{"$f":"MyJoin(IF((C$2=Ввод!$C$1:$C$30)*($A890>=Ввод!$E$1:$E$30)*($A890<=Ввод!$F$1:$F$30),Ввод!$D$1:$D$30,\"\"),\" / \")","v":""},{"$f":"MyJoin(IF((D$2=Ввод!$C$1:$C$30)*($A890>=Ввод!$E$1:$E$30)*($A890<=Ввод!$F$1:$F$30),Ввод!$D$1:$D$30,\"\"),\" / \")","v":""},{"$f":"MyJoin(IF((E$2=Ввод!$C$1:$C$30)*($A890>=Ввод!$E$1:$E$30)*($A890<=Ввод!$F$1:$F$30),Ввод!$D$1:$D$30,\"\"),\" / \")","v":""},{"$f":"MyJoin(IF((F$2=Ввод!$C$1:$C$30)*($A890>=Ввод!$E$1:$E$30)*($A890<=Ввод!$F$1:$F$30),Ввод!$D$1:$D$30,\"\"),\" / \")","v":""},"2024-06-01"]
["2024-06-02",{"$f":"MyJoin(IF((B$2=Ввод!$C$1:$C$30)*($A891>=Ввод!$E$1:$E$30)*($A891<=Ввод!$F$1:$F$30),Ввод!$D$1:$D$30,\"\"),\" / \")","v":""},{"$f":"MyJoin(IF((C$2=Ввод!$C$1:$C$30)*($A891>=Ввод!$E$1:$E$30)*($A891<=Ввод!$F$1:$F$30),Ввод!$D$1:$D$30,\"\"),\" / \")","v":""},{"$f":"MyJoin(IF((D$2=Ввод!$C$1:$C$30)*($A891>=Ввод!$E$1:$E$30)*($A891<=Ввод!$F$1:$F$30),Ввод!$D$1:$D$30,\"\"),\" / \")","v":""},{"$f":"MyJoin(IF((E$2=Ввод!$C$1:$C$30)*($A891>=Ввод!$E$1:$E$30)*($A891<=Ввод!$F$1:$F$30),Ввод!$D$1:$D$30,\"\"),\" / \")","v":""},{"$f":"MyJoin(IF((F$2=Ввод!$C$1:$C$30)*($A891>=Ввод!$E$1:$E$30)*($A891<=Ввод!$F$1:$F$30),Ввод!$D$1:$D$30,\"\"),\" / \")","v":""},"2024-06-02"]
["2024-06-03",{"$f":"MyJoin(IF((B$2=Ввод!$C$1:$C$30)*($A892>=Ввод!$E$1:$E$30)*($A892<=Ввод!$F$1:$F$30),Ввод!$D$1:$D$30,\"\"),\" / \")","v":""},{"$f":"MyJoin(IF((C$2=Ввод!$C$1:$C$30)*($A892>=Ввод!$E$1:$E$30)*($A892<=Ввод!$F$1:$F$30),Ввод!$D$1:$D$30,\"\"),\" / \")","v":""},{"$f":"MyJoin(IF((D$2=Ввод!$C$1:$C$30)*($A892>=Ввод!$E$1:$E$30)*($A892<=Ввод!$F$1:$F$30),Ввод!$D$1:$D$30,\"\"),\" / \")","v":""},{"$f":"MyJoin(IF((E$2=Ввод!$C$1:$C$30)*($A892>=Ввод!$E$1:$E$30)*($A892<=Ввод!$F$1:$F$30),Ввод!$D$1:$D$30,\"\"),\" / \")","v":""},{"$f":"MyJoin(IF((F$2=Ввод!$C$1:$C$30)*($A892>=Ввод!$E$1:$E$30)*($A892<=Ввод!$F$1:$F$30),Ввод!$D$1:$D$30,\"\"),\" / \")","v":""},"2024-06-03"]
["2024-06-04",{"$f":"MyJoin(IF((B$2=Ввод!$C$1:$C$30)*($A893>=Ввод!$E$1:$E$30)*($A893<=Ввод!$F$1:$F$30),Ввод!$D$1:$D$30,\"\"),\" / \")","v":""},{"$f":"MyJoin(IF((C$2=Ввод!$C$1:$C$30)*($A893>=Ввод!$E$1:$E$30)*($A893<=Ввод!$F$1:$F$30),Ввод!$D$1:$D$30,\"\"),\" / \")","v":""},{"$f":"MyJoin(IF((D$2=Ввод!$C$1:$C$30)*($A893>=Ввод!$E$1:$E$30)*($A893<=Ввод!$F$1:$F$30),Ввод!$D$1:$D$30,\"\"),\" / \")","v":""},{"$f":"MyJoin(IF((E$2=Ввод!$C$1:$C$30)*($A893>=Ввод!$E$1:$E$30)*($A893<=Ввод!$F$1:$F$30),Ввод!$D$1:$D$30,\"\"),\" / \")","v":""},{"$f":"MyJoin(IF((F$2=Ввод!$C$1:$C$30)*($A893>=Ввод!$E$1:$E$30)*($A893<=Ввод!$F$1:$F$30),Ввод!$D$1:$D$30,\"\"),\" / \")","v":""},"2024-06-04"]
["2024-06-05",{"$f":"MyJoin(IF((B$2=Ввод!$C$1:$C$30)*($A894>=Ввод!$E$1:$E$30)*($A894<=Ввод!$F$1:$F$30),Ввод!$D$1:$D$30,\"\"),\" / \")","v":""},{"$f":"MyJoin(IF((C$2=Ввод!$C$1:$C$30)*($A894>=Ввод!$E$1:$E$30)*($A894<=Ввод!$F$1:$F$30),Ввод!$D$1:$D$30,\"\"),\" / \")","v":""},{"$f":"MyJoin(IF((D$2=Ввод!$C$1:$C$30)*($A894>=Ввод!$E$1:$E$30)*($A894<=Ввод!$F$1:$F$30),Ввод!$D$1:$D$30,\"\"),\" / \")","v":""},{"$f":"MyJoin(IF((E$2=Ввод!$C$1:$C$30)*($A894>=Ввод!$E$1:$E$30)*($A894<=Ввод!$F$1:$F$30),Ввод!$D$1:$D$30,\"\"),\" / \")","v":""},{"$f":"MyJoin(IF((F$2=Ввод!$C$1:$C$30)*($A894>=Ввод!$E$1:$E$30)*($A894<=Ввод!$F$1:$F$30),Ввод!$D$1:$D$30,\"\"),\" / \")","v":""},"2024-06-05"]
["2024-06-06",{"$f":"MyJoin(IF((B$2=Ввод!$C$1:$C$30)*($A895>=Ввод!$E$1:$E$30)*($A895<=Ввод!$F$1:$F$30),Ввод!$D$1:$D$30,\"\"),\" / \")","v":""},{"$f":"MyJoin(IF((C$2=Ввод!$C$1:$C$30)*($A895>=Ввод!$E$1:$E$30)*($A895<=Ввод!$F$1:$F$30),Ввод!$D$1:$D$30,\"\"),\" / \")","v":""},{"$f":"MyJoin(IF((D$2=Ввод!$C$1:$C$30)*($A895>=Ввод!$E$1:$E$30)*($A895<=Ввод!$F$1:$F$30),Ввод!$D$1:$D$30,\"\"),\" / \")","v":""},{"$f":"MyJoin(IF((E$2=Ввод!$C$1:$C$30)*($A895>=Ввод!$E$1:$E$30)*($A895<=Ввод!$F$1:$F$30),Ввод!$D$1:$D$30,\"\"),\" / \")","v":""},{"$f":"MyJoin(IF((F$2=Ввод!$C$1:$C$30)*($A895>=Ввод!$E$1:$E$30)*($A895<=Ввод!$F$1:$F$30),Ввод!$D$1:$D$30,\"\"),\" / \")","v":""},"2024-06-06"]
["2024-06-07",{"$f":"MyJoin(IF((B$2=Ввод!$C$1:$C$30)*($A896>=Ввод!$E$1:$E$30)*($A896<=Ввод!$F$1:$F$30),Ввод!$D$1:$D$30,\"\"),\" / \")","v":""},{"$f":"MyJoin(IF((C$2=Ввод!$C$1:$C$30)*($A896>=Ввод!$E$1:$E$30)*($A896<=Ввод!$F$1:$F$30),Ввод!$D$1:$D$30,\"\"),\" / \")","v":""},{"$f":"MyJoin(IF((D$2=Ввод!$C$1:$C$30)*($A896>=Ввод!$E$1:$E$30)*($A896<=Ввод!$F$1:$F$30),Ввод!$D$1:$D$30,\"\"),\" / \")","v":""},{"$f":"MyJoin(IF((E$2=Ввод!$C$1:$C$30)*($A896>=Ввод!$E$1:$E$30)*($A896<=Ввод!$F$1:$F$30),Ввод!$D$1:$D$30,\"\"),\" / \")","v":""},{"$f":"MyJoin(IF((F$2=Ввод!$C$1:$C$30)*($A896>=Ввод!$E$1:$E$30)*($A896<=Ввод!$F$1:$F$30),Ввод!$D$1:$D$30,\"\"),\" / \")","v":""},"2024-06-07"]
["2024-06-08",{"$f":"MyJoin(IF((B$2=Ввод!$C$1:$C$30)*($A897>=Ввод!$E$1:$E$30)*($A897<=Ввод!$F$1:$F$30),Ввод!$D$1:$D$30,\"\"),\" / \")","v":""},{"$f":"MyJoin(IF((C$2=Ввод!$C$1:$C$30)*($A897>=Ввод!$E$1:$E$30)*($A897<=Ввод!$F$1:$F$30),Ввод!$D$1:$D$30,\"\"),\" / \")","v":""},{"$f":"MyJoin(IF((D$2=Ввод!$C$1:$C$30)*($A897>=Ввод!$E$1:$E$30)*($A897<=Ввод!$F$1:$F$30),Ввод!$D$1:$D$30,\"\"),\" / \")","v":""},{"$f":"MyJoin(IF((E$2=Ввод!$C$1:$C$30)*($A897>=Ввод!$E$1:$E$30)*($A897<=Ввод!$F$1:$F$30),Ввод!$D$1:$D$30,\"\"),\" / \")","v":""},{"$f":"MyJoin(IF((F$2=Ввод!$C$1:$C$30)*($A897>=Ввод!$E$1:$E$30)*($A897<=Ввод!$F$1:$F$30),Ввод!$D$1:$D$30,\"\"),\" / \")","v":""},"2024-06-08"]
["2024-06-09",{"$f":"MyJoin(IF((B$2=Ввод!$C$1:$C$30)*($A898>=Ввод!$E$1:$E$30)*($A898<=Ввод!$F$1:$F$30),Ввод!$D$1:$D$30,\"\"),\" / \")","v":""},{"$f":"MyJoin(IF((C$2=Ввод!$C$1:$C$30)*($A898>=Ввод!$E$1:$E$30)*($A898<=Ввод!$F$1:$F$30),Ввод!$D$1:$D$30,\"\"),\" / \")","v":""},{"$f":"MyJoin(IF((D$2=Ввод!$C$1:$C$30)*($A898>=Ввод!$E$1:$E$30)*($A898<=Ввод!$F$1:$F$30),Ввод!$D$1:$D$30,\"\"),\" / \")","v":""},{"$f":"MyJoin(IF((E$2=Ввод!$C$1:$C$30)*($A898>=Ввод!$E$1:$E$30)*($A898<=Ввод!$F$1:$F$30),Ввод!$D$1:$D$30,\"\"),\" / \")","v":""},{"$f":"MyJoin(IF((F$2=Ввод!$C$1:$C$30)*($A898>=Ввод!$E$1:$E$30)*($A898<=Ввод!$F$1:$F$30),Ввод!$D$1:$D$30,\"\"),\" / \")","v":""},"2024-06-09"]
["2024-06-10",{"$f":"MyJoin(IF((B$2=Ввод!$C$1:$C$30)*($A899>=Ввод!$E$1:$E$30)*($A899<=Ввод!$F$1:$F$30),Ввод!$D$1:$D$30,\"\"),\" / \")","v":""},{"$f":"MyJoin(IF((C$2=Ввод!$C$1:$C$30)*($A899>=Ввод!$E$1:$E$30)*($A899<=Ввод!$F$1:$F$30),Ввод!$D$1:$D$30,\"\"),\" / \")","v":""},{"$f":"MyJoin(IF((D$2=Ввод!$C$1:$C$30)*($A899>=Ввод!$E$1:$E$30)*($A899<=Ввод!$F$1:$F$30),Ввод!$D$1:$D$30,\"\"),\" / \")","v":""},{"$f":"MyJoin(IF((E$2=Ввод!$C$1:$C$30)*($A899>=Ввод!$E$1:$E$30)*($A899<=Ввод!$F$1:$F$30),Ввод!$D$1:$D$30,\"\"),\" / \")","v":""},{"$f":"MyJoin(IF((F$2=Ввод!$C$1:$C$30)*($A899>=Ввод!$E$1:$E$30)*($A899<=Ввод!$F$1:$F$30),Ввод!$D$1:$D$30,\"\"),\" / \")","v":""},"2024-06-10"]
["2024-06-11",{"$f":"MyJoin(IF((B$2=Ввод!$C$1:$C$30)*($A900>=Ввод!$E$1:$E$30)*($A900<=Ввод!$F$1:$F$30),Ввод!$D$1:$D$30,\"\"),\" / \")","v":""},{"$f":"MyJoin(IF((C$2=Ввод!$C$1:$C$30)*($A900>=Ввод!$E$1:$E$30)*($A900<=Ввод!$F$1:$F$30),Ввод!$D$1:$D$30,\"\"),\" / \")","v":""},{"$f":"MyJoin(IF((D$2=Ввод!$C$1:$C$30)*($A900>=Ввод!$E$1:$E$30)*($A900<=Ввод!$F$1:$F$30),Ввод!$D$1:$D$30,\"\"),\" / \")","v":""},{"$f":"MyJoin(IF((E$2=Ввод!$C$1:$C$30)*($A900>=Ввод!$E$1:$E$30)*($A900<=Ввод!$F$1:$F$30),Ввод!$D$1:$D$30,\"\"),\" / \")","v":""},{"$f":"MyJoin(IF((F$2=Ввод!$C$1:$C$30)*($A900>=Ввод!$E$1:$E$30)*($A900<=Ввод!$F$1:$F$30),Ввод!$D$1:$D$30,\"\"),\" / \")","v":""},"2024-06-11"]
["2024-06-12",{"$f":"MyJoin(IF((B$2=Ввод!$C$1:$C$30)*($A901>=Ввод!$E$1:$E$30)*($A901<=Ввод!$F$1:$F$30),Ввод!$D$1:$D$30,\"\"),\" / \")","v":""},{"$f":"MyJoin(IF((C$2=Ввод!$C$1:$C$30)*($A901>=Ввод!$E$1:$E$30)*($A901<=Ввод!$F$1:$F$30),Ввод!$D$1:$D$30,\"\"),\" / \")","v":""},{"$f":"MyJoin(IF((D$2=Ввод!$C$1:$C$30)*($A901>=Ввод!$E$1:$E$30)*($A901<=Ввод!$F$1:$F$30),Ввод!$D$1:$D$30,\"\"),\" / \")","v":""},{"$f":"MyJoin(IF((E$2=Ввод!$C$1:$C$30)*($A901>=Ввод!$E$1:$E$30)*($A901<=Ввод!$F$1:$F$30),Ввод!$D$1:$D$30,\"\"),\" / \")","v":""},{"$f":"MyJoin(IF((F$2=Ввод!$C$1:$C$30)*($A901>=Ввод!$E$1:$E$30)*($A901<=Ввод!$F$1:$F$30),Ввод!$D$1:$D$30,\"\"),\" / \")","v":""},"2024-06-12"]
["2024-06-13",{"$f":"MyJoin(IF((B$2=Ввод!$C$1:$C$30)*($A902>=Ввод!$E$1:$E$30)*($A902<=Ввод!$F$1:$F$30),Ввод!$D$1:$D$30,\"\"),\" / \")","v":""},{"$f":"MyJoin(IF((C$2=Ввод!$C$1:$C$30)*($A902>=Ввод!$E$1:$E$30)*($A902<=Ввод!$F$1:$F$30),Ввод!$D$1:$D$30,\"\"),\" / \")","v":""},{"$f":"MyJoin(IF((D$2=Ввод!$C$1:$C$30)*($A902>=Ввод!$E$1:$E$30)*($A902<=Ввод!$F$1:$F$30),Ввод!$D$1:$D$30,\"\"),\" / \")","v":""},{"$f":"MyJoin(IF((E$2=Ввод!$C$1:$C$30)*($A902>=Ввод!$E$1:$E$30)*($A902<=Ввод!$F$1:$F$30),Ввод!$D$1:$D$30,\"\"),\" / \")","v":""},{"$f":"MyJoin(IF((F$2=Ввод!$C$1:$C$30)*($A902>=Ввод!$E$1:$E$30)*($A902<=Ввод!$F$1:$F$30),Ввод!$D$1:$D$30,\"\"),\" / \")","v":""},"2024-06-13"]
["2024-06-14",{"$f":"MyJoin(IF((B$2=Ввод!$C$1:$C$30)*($A903>=Ввод!$E$1:$E$30)*($A903<=Ввод!$F$1:$F$30),Ввод!$D$1:$D$30,\"\"),\" / \")","v":""},{"$f":"MyJoin(IF((C$2=Ввод!$C$1:$C$30)*($A903>=Ввод!$E$1:$E$30)*($A903<=Ввод!$F$1:$F$30),Ввод!$D$1:$D$30,\"\"),\" / \")","v":""},{"$f":"MyJoin(IF((D$2=Ввод!$C$1:$C$30)*($A903>=Ввод!$E$1:$E$30)*($A903<=Ввод!$F$1:$F$30),Ввод!$D$1:$D$30,\"\"),\" / \")","v":""},{"$f":"MyJoin(IF((E$2=Ввод!$C$1:$C$30)*($A903>=Ввод!$E$1:$E$30)*($A903<=Ввод!$F$1:$F$30),Ввод!$D$1:$D$30,\"\"),\" / \")","v":""},{"$f":"MyJoin(IF((F$2=Ввод!$C$1:$C$30)*($A903>=Ввод!$E$1:$E$30)*($A903<=Ввод!$F$1:$F$30),Ввод!$D$1:$D$30,\"\"),\" / \")","v":""},"2024-06-14"]
["2024-06-15",{"$f":"MyJoin(IF((B$2=Ввод!$C$1:$C$30)*($A904>=Ввод!$E$1:$E$30)*($A904<=Ввод!$F$1:$F$30),Ввод!$D$1:$D$30,\"\"),\" / \")","v":""},{"$f":"MyJoin(IF((C$2=Ввод!$C$1:$C$30)*($A904>=Ввод!$E$1:$E$30)*($A904<=Ввод!$F$1:$F$30),Ввод!$D$1:$D$30,\"\"),\" / \")","v":""},{"$f":"MyJoin(IF((D$2=Ввод!$C$1:$C$30)*($A904>=Ввод!$E$1:$E$30)*($A904<=Ввод!$F$1:$F$30),Ввод!$D$1:$D$30,\"\"),\" / \")","v":""},{"$f":"MyJoin(IF((E$2=Ввод!$C$1:$C$30)*($A904>=Ввод!$E$1:$E$30)*($A904<=Ввод!$F$1:$F$30),Ввод!$D$1:$D$30,\"\"),\" / \")","v":""},{"$f":"MyJoin(IF((F$2=Ввод!$C$1:$C$30)*($A904>=Ввод!$E$1:$E$30)*($A904<=Ввод!$F$1:$F$30),Ввод!$D$1:$D$30,\"\"),\" / \")","v":""},"2024-06-15"]
["2024-06-16",{"$f":"MyJoin(IF((B$2=Ввод!$C$1:$C$30)*($A905>=Ввод!$E$1:$E$30)*($A905<=Ввод!$F$1:$F$30),Ввод!$D$1:$D$30,\"\"),\" / \")","v":""},{"$f":"MyJoin(IF((C$2=Ввод!$C$1:$C$30)*($A905>=Ввод!$E$1:$E$30)*($A905<=Ввод!$F$1:$F$30),Ввод!$D$1:$D$30,\"\"),\" / \")","v":""},{"$f":"MyJoin(IF((D$2=Ввод!$C$1:$C$30)*($A905>=Ввод!$E$1:$E$30)*($A905<=Ввод!$F$1:$F$30),Ввод!$D$1:$D$30,\"\"),\" / \")","v":""},{"$f":"MyJoin(IF((E$2=Ввод!$C$1:$C$30)*($A905>=Ввод!$E$1:$E$30)*($A905<=Ввод!$F$1:$F$30),Ввод!$D$1:$D$30,\"\"),\" / \")","v":""},{"$f":"MyJoin(IF((F$2=Ввод!$C$1:$C$30)*($A905>=Ввод!$E$1:$E$30)*($A905<=Ввод!$F$1:$F$30),Ввод!$D$1:$D$30,\"\"),\" / \")","v":""},{"$f":"IF(A905=\"\",\"\",A905)","v":"2024-06-16"}]
["2024-06-17",{"$f":"MyJoin(IF((B$2=Ввод!$C$1:$C$30)*($A906>=Ввод!$E$1:$E$30)*($A906<=Ввод!$F$1:$F$30),Ввод!$D$1:$D$30,\"\"),\" / \")","v":""},{"$f":"MyJoin(IF((C$2=Ввод!$C$1:$C$30)*($A906>=Ввод!$E$1:$E$30)*($A906<=Ввод!$F$1:$F$30),Ввод!$D$1:$D$30,\"\"),\" / \")","v":""},{"$f":"MyJoin(IF((D$2=Ввод!$C$1:$C$30)*($A906>=Ввод!$E$1:$E$30)*($A906<=Ввод!$F$1:$F$30),Ввод!$D$1:$D$30,\"\"),\" / \")","v":""},{"$f":"MyJoin(IF((E$2=Ввод!$C$1:$C$30)*($A906>=Ввод!$E$1:$E$30)*($A906<=Ввод!$F$1:$F$30),Ввод!$D$1:$D$30,\"\"),\" / \")","v":""},{"$f":"MyJoin(IF((F$2=Ввод!$C$1:$C$30)*($A906>=Ввод!$E$1:$E$30)*($A906<=Ввод!$F$1:$F$30),Ввод!$D$1:$D$30,\"\"),\" / \")","v":""},"2024-06-17"]
["2024-06-18",{"$f":"MyJoin(IF((B$2=Ввод!$C$1:$C$30)*($A907>=Ввод!$E$1:$E$30)*($A907<=Ввод!$F$1:$F$30),Ввод!$D$1:$D$30,\"\"),\" / \")","v":""},{"$f":"MyJoin(IF((C$2=Ввод!$C$1:$C$30)*($A907>=Ввод!$E$1:$E$30)*($A907<=Ввод!$F$1:$F$30),Ввод!$D$1:$D$30,\"\"),\" / \")","v":""},{"$f":"MyJoin(IF((D$2=Ввод!$C$1:$C$30)*($A907>=Ввод!$E$1:$E$30)*($A907<=Ввод!$F$1:$F$30),Ввод!$D$1:$D$30,\"\"),\" / \")","v":""},{"$f":"MyJoin(IF((E$2=Ввод!$C$1:$C$30)*($A907>=Ввод!$E$1:$E$30)*($A907<=Ввод!$F$1:$F$30),Ввод!$D$1:$D$30,\"\"),\" / \")","v":""},{"$f":"MyJoin(IF((F$2=Ввод!$C$1:$C$30)*($A907>=Ввод!$E$1:$E$30)*($A907<=Ввод!$F$1:$F$30),Ввод!$D$1:$D$30,\"\"),\" / \")","v":""},"2024-06-18"]
["2024-06-19",{"$f":"MyJoin(IF((B$2=Ввод!$C$1:$C$30)*($A908>=Ввод!$E$1:$E$30)*($A908<=Ввод!$F$1:$F$30),Ввод!$D$1:$D$30,\"\"),\" / \")","v":""},{"$f":"MyJoin(IF((C$2=Ввод!$C$1:$C$30)*($A908>=Ввод!$E$1:$E$30)*($A908<=Ввод!$F$1:$F$30),Ввод!$D$1:$D$30,\"\"),\" / \")","v":""},{"$f":"MyJoin(IF((D$2=Ввод!$C$1:$C$30)*($A908>=Ввод!$E$1:$E$30)*($A908<=Ввод!$F$1:$F$30),Ввод!$D$1:$D$30,\"\"),\" / \")","v":""},{"$f":"MyJoin(IF((E$2=Ввод!$C$1:$C$30)*($A908>=Ввод!$E$1:$E$30)*($A908<=Ввод!$F$1:$F$30),Ввод!$D$1:$D$30,\"\"),\" / \")","v":""},{"$f":"MyJoin(IF((F$2=Ввод!$C$1:$C$30)*($A908>=Ввод!$E$1:$E$30)*($A908<=Ввод!$F$1:$F$30),Ввод!$D$1:$D$30,\"\"),\" / \")","v":""},"2024-06-19"]
["2024-06-20",{"$f":"MyJoin(IF((B$2=Ввод!$C$1:$C$30)*($A909>=Ввод!$E$1:$E$30)*($A909<=Ввод!$F$1:$F$30),Ввод!$D$1:$D$30,\"\"),\" / \")","v":""},{"$f":"MyJoin(IF((C$2=Ввод!$C$1:$C$30)*($A909>=Ввод!$E$1:$E$30)*($A909<=Ввод!$F$1:$F$30),Ввод!$D$1:$D$30,\"\"),\" / \")","v":""},{"$f":"MyJoin(IF((D$2=Ввод!$C$1:$C$30)*($A909>=Ввод!$E$1:$E$30)*($A909<=Ввод!$F$1:$F$30),Ввод!$D$1:$D$30,\"\"),\" / \")","v":""},{"$f":"MyJoin(IF((E$2=Ввод!$C$1:$C$30)*($A909>=Ввод!$E$1:$E$30)*($A909<=Ввод!$F$1:$F$30),Ввод!$D$1:$D$30,\"\"),\" / \")","v":""},{"$f":"MyJoin(IF((F$2=Ввод!$C$1:$C$30)*($A909>=Ввод!$E$1:$E$30)*($A909<=Ввод!$F$1:$F$30),Ввод!$D$1:$D$30,\"\"),\" / \")","v":""},"2024-06-20"]
["2024-06-21",{"$f":"MyJoin(IF((B$2=Ввод!$C$1:$C$30)*($A910>=Ввод!$E$1:$E$30)*($A910<=Ввод!$F$1:$F$30),Ввод!$D$1:$D$30,\"\"),\" / \")","v":""},{"$f":"MyJoin(IF((C$2=Ввод!$C$1:$C$30)*($A910>=Ввод!$E$1:$E$30)*($A910<=Ввод!$F$1:$F$30),Ввод!$D$1:$D$30,\"\"),\" / \")","v":""},{"$f":"MyJoin(IF((D$2=Ввод!$C$1:$C$30)*($A910>=Ввод!$E$1:$E$30)*($A910<=Ввод!$F$1:$F$30),Ввод!$D$1:$D$30,\"\"),\" / \")","v":""},{"$f":"MyJoin(IF((E$2=Ввод!$C$1:$C$30)*($A910>=Ввод!$E$1:$E$30)*($A910<=Ввод!$F$1:$F$30),Ввод!$D$1:$D$30,\"\"),\" / \")","v":""},{"$f":"MyJoin(IF((F$2=Ввод!$C$1:$C$30)*($A910>=Ввод!$E$1:$E$30)*($A910<=Ввод!$F$1:$F$30),Ввод!$D$1:$D$30,\"\"),\" / \")","v":""},"2024-06-21"]
["2024-06-22",{"$f":"MyJoin(IF((B$2=Ввод!$C$1:$C$30)*($A911>=Ввод!$E$1:$E$30)*($A911<=Ввод!$F$1:$F$30),Ввод!$D$1:$D$30,\"\"),\" / \")","v":""},{"$f":"MyJoin(IF((C$2=Ввод!$C$1:$C$30)*($A911>=Ввод!$E$1:$E$30)*($A911<=Ввод!$F$1:$F$30),Ввод!$D$1:$D$30,\"\"),\" / \")","v":""},{"$f":"MyJoin(IF((D$2=Ввод!$C$1:$C$30)*($A911>=Ввод!$E$1:$E$30)*($A911<=Ввод!$F$1:$F$30),Ввод!$D$1:$D$30,\"\"),\" / \")","v":""},{"$f":"MyJoin(IF((E$2=Ввод!$C$1:$C$30)*($A911>=Ввод!$E$1:$E$30)*($A911<=Ввод!$F$1:$F$30),Ввод!$D$1:$D$30,\"\"),\" / \")","v":""},{"$f":"MyJoin(IF((F$2=Ввод!$C$1:$C$30)*($A911>=Ввод!$E$1:$E$30)*($A911<=Ввод!$F$1:$F$30),Ввод!$D$1:$D$30,\"\"),\" / \")","v":""},"2024-06-22"]
["2024-06-23",{"$f":"MyJoin(IF((B$2=Ввод!$C$1:$C$30)*($A912>=Ввод!$E$1:$E$30)*($A912<=Ввод!$F$1:$F$30),Ввод!$D$1:$D$30,\"\"),\" / \")","v":""},{"$f":"MyJoin(IF((C$2=Ввод!$C$1:$C$30)*($A912>=Ввод!$E$1:$E$30)*($A912<=Ввод!$F$1:$F$30),Ввод!$D$1:$D$30,\"\"),\" / \")","v":""},{"$f":"MyJoin(IF((D$2=Ввод!$C$1:$C$30)*($A912>=Ввод!$E$1:$E$30)*($A912<=Ввод!$F$1:$F$30),Ввод!$D$1:$D$30,\"\"),\" / \")","v":""},{"$f":"MyJoin(IF((E$2=Ввод!$C$1:$C$30)*($A912>=Ввод!$E$1:$E$30)*($A912<=Ввод!$F$1:$F$30),Ввод!$D$1:$D$30,\"\"),\" / \")","v":""},{"$f":"MyJoin(IF((F$2=Ввод!$C$1:$C$30)*($A912>=Ввод!$E$1:$E$30)*($A912<=Ввод!$F$1:$F$30),Ввод!$D$1:$D$30,\"\"),\" / \")","v":""},"2024-06-23"]
["2024-06-24",{"$f":"MyJoin(IF((B$2=Ввод!$C$1:$C$30)*($A913>=Ввод!$E$1:$E$30)*($A913<=Ввод!$F$1:$F$30),Ввод!$D$1:$D$30,\"\"),\" / \")","v":""},{"$f":"MyJoin(IF((C$2=Ввод!$C$1:$C$30)*($A913>=Ввод!$E$1:$E$30)*($A913<=Ввод!$F$1:$F$30),Ввод!$D$1:$D$30,\"\"),\" / \")","v":""},{"$f":"MyJoin(IF((D$2=Ввод!$C$1:$C$30)*($A913>=Ввод!$E$1:$E$30)*($A913<=Ввод!$F$1:$F$30),Ввод!$D$1:$D$30,\"\"),\" / \")","v":""},{"$f":"MyJoin(IF((E$2=Ввод!$C$1:$C$30)*($A913>=Ввод!$E$1:$E$30)*($A913<=Ввод!$F$1:$F$30),Ввод!$D$1:$D$30,\"\"),\" / \")","v":""},{"$f":"MyJoin(IF((F$2=Ввод!$C$1:$C$30)*($A913>=Ввод!$E$1:$E$30)*($A913<=Ввод!$F$1:$F$30),Ввод!$D$1:$D$30,\"\"),\" / \")","v":""},"2024-06-24"]
["2024-06-25",{"$f":"MyJoin(IF((B$2=Ввод!$C$1:$C$30)*($A914>=Ввод!$E$1:$E$30)*($A914<=Ввод!$F$1:$F$30),Ввод!$D$1:$D$30,\"\"),\" / \")","v":""},{"$f":"MyJoin(IF((C$2=Ввод!$C$1:$C$30)*($A914>=Ввод!$E$1:$E$30)*($A914<=Ввод!$F$1:$F$30),Ввод!$D$1:$D$30,\"\"),\" / \")","v":""},{"$f":"MyJoin(IF((D$2=Ввод!$C$1:$C$30)*($A914>=Ввод!$E$1:$E$30)*($A914<=Ввод!$F$1:$F$30),Ввод!$D$1:$D$30,\"\"),\" / \")","v":""},{"$f":"MyJoin(IF((E$2=Ввод!$C$1:$C$30)*($A914>=Ввод!$E$1:$E$30)*($A914<=Ввод!$F$1:$F$30),Ввод!$D$1:$D$30,\"\"),\" / \")","v":""},{"$f":"MyJoin(IF((F$2=Ввод!$C$1:$C$30)*($A914>=Ввод!$E$1:$E$30)*($A914<=Ввод!$F$1:$F$30),Ввод!$D$1:$D$30,\"\"),\" / \")","v":""},"2024-06-25"]
["2024-06-26",{"$f":"MyJoin(IF((B$2=Ввод!$C$1:$C$30)*($A915>=Ввод!$E$1:$E$30)*($A915<=Ввод!$F$1:$F$30),Ввод!$D$1:$D$30,\"\"),\" / \")","v":""},{"$f":"MyJoin(IF((C$2=Ввод!$C$1:$C$30)*($A915>=Ввод!$E$1:$E$30)*($A915<=Ввод!$F$1:$F$30),Ввод!$D$1:$D$30,\"\"),\" / \")","v":""},{"$f":"MyJoin(IF((D$2=Ввод!$C$1:$C$30)*($A915>=Ввод!$E$1:$E$30)*($A915<=Ввод!$F$1:$F$30),Ввод!$D$1:$D$30,\"\"),\" / \")","v":""},{"$f":"MyJoin(IF((E$2=Ввод!$C$1:$C$30)*($A915>=Ввод!$E$1:$E$30)*($A915<=Ввод!$F$1:$F$30),Ввод!$D$1:$D$30,\"\"),\" / \")","v":""},{"$f":"MyJoin(IF((F$2=Ввод!$C$1:$C$30)*($A915>=Ввод!$E$1:$E$30)*($A915<=Ввод!$F$1:$F$30),Ввод!$D$1:$D$30,\"\"),\" / \")","v":""},"2024-06-26"]
["2024-06-27",{"$f":"MyJoin(IF((B$2=Ввод!$C$1:$C$30)*($A916>=Ввод!$E$1:$E$30)*($A916<=Ввод!$F$1:$F$30),Ввод!$D$1:$D$30,\"\"),\" / \")","v":""},{"$f":"MyJoin(IF((C$2=Ввод!$C$1:$C$30)*($A916>=Ввод!$E$1:$E$30)*($A916<=Ввод!$F$1:$F$30),Ввод!$D$1:$D$30,\"\"),\" / \")","v":""},{"$f":"MyJoin(IF((D$2=Ввод!$C$1:$C$30)*($A916>=Ввод!$E$1:$E$30)*($A916<=Ввод!$F$1:$F$30),Ввод!$D$1:$D$30,\"\"),\" / \")","v":""},{"$f":"MyJoin(IF((E$2=Ввод!$C$1:$C$30)*($A916>=Ввод!$E$1:$E$30)*($A916<=Ввод!$F$1:$F$30),Ввод!$D$1:$D$30,\"\"),\" / \")","v":""},{"$f":"MyJoin(IF((F$2=Ввод!$C$1:$C$30)*($A916>=Ввод!$E$1:$E$30)*($A916<=Ввод!$F$1:$F$30),Ввод!$D$1:$D$30,\"\"),\" / \")","v":""},"2024-06-27"]
["2024-06-28",{"$f":"MyJoin(IF((B$2=Ввод!$C$1:$C$30)*($A917>=Ввод!$E$1:$E$30)*($A917<=Ввод!$F$1:$F$30),Ввод!$D$1:$D$30,\"\"),\" / \")","v":""},{"$f":"MyJoin(IF((C$2=Ввод!$C$1:$C$30)*($A917>=Ввод!$E$1:$E$30)*($A917<=Ввод!$F$1:$F$30),Ввод!$D$1:$D$30,\"\"),\" / \")","v":""},{"$f":"MyJoin(IF((D$2=Ввод!$C$1:$C$30)*($A917>=Ввод!$E$1:$E$30)*($A917<=Ввод!$F$1:$F$30),Ввод!$D$1:$D$30,\"\"),\" / \")","v":""},{"$f":"MyJoin(IF((E$2=Ввод!$C$1:$C$30)*($A917>=Ввод!$E$1:$E$30)*($A917<=Ввод!$F$1:$F$30),Ввод!$D$1:$D$30,\"\"),\" / \")","v":""},{"$f":"MyJoin(IF((F$2=Ввод!$C$1:$C$30)*($A917>=Ввод!$E$1:$E$30)*($A917<=Ввод!$F$1:$F$30),Ввод!$D$1:$D$30,\"\"),\" / \")","v":""},"2024-06-28"]
["2024-06-29",{"$f":"MyJoin(IF((B$2=Ввод!$C$1:$C$30)*($A918>=Ввод!$E$1:$E$30)*($A918<=Ввод!$F$1:$F$30),Ввод!$D$1:$D$30,\"\"),\" / \")","v":""},{"$f":"MyJoin(IF((C$2=Ввод!$C$1:$C$30)*($A918>=Ввод!$E$1:$E$30)*($A918<=Ввод!$F$1:$F$30),Ввод!$D$1:$D$30,\"\"),\" / \")","v":""},{"$f":"MyJoin(IF((D$2=Ввод!$C$1:$C$30)*($A918>=Ввод!$E$1:$E$30)*($A918<=Ввод!$F$1:$F$30),Ввод!$D$1:$D$30,\"\"),\" / \")","v":""},{"$f":"MyJoin(IF((E$2=Ввод!$C$1:$C$30)*($A918>=Ввод!$E$1:$E$30)*($A918<=Ввод!$F$1:$F$30),Ввод!$D$1:$D$30,\"\"),\" / \")","v":""},{"$f":"MyJoin(IF((F$2=Ввод!$C$1:$C$30)*($A918>=Ввод!$E$1:$E$30)*($A918<=Ввод!$F$1:$F$30),Ввод!$D$1:$D$30,\"\"),\" / \")","v":""},"2024-06-29"]
["2024-06-30",{"$f":"MyJoin(IF((B$2=Ввод!$C$1:$C$30)*($A919>=Ввод!$E$1:$E$30)*($A919<=Ввод!$F$1:$F$30),Ввод!$D$1:$D$30,\"\"),\" / \")","v":""},{"$f":"MyJoin(IF((C$2=Ввод!$C$1:$C$30)*($A919>=Ввод!$E$1:$E$30)*($A919<=Ввод!$F$1:$F$30),Ввод!$D$1:$D$30,\"\"),\" / \")","v":""},{"$f":"MyJoin(IF((D$2=Ввод!$C$1:$C$30)*($A919>=Ввод!$E$1:$E$30)*($A919<=Ввод!$F$1:$F$30),Ввод!$D$1:$D$30,\"\"),\" / \")","v":""},{"$f":"MyJoin(IF((E$2=Ввод!$C$1:$C$30)*($A919>=Ввод!$E$1:$E$30)*($A919<=Ввод!$F$1:$F$30),Ввод!$D$1:$D$30,\"\"),\" / \")","v":""},{"$f":"MyJoin(IF((F$2=Ввод!$C$1:$C$30)*($A919>=Ввод!$E$1:$E$30)*($A919<=Ввод!$F$1:$F$30),Ввод!$D$1:$D$30,\"\"),\" / \")","v":""},"2024-06-30"]
["2024-07-01",{"$f":"MyJoin(IF((B$2=Ввод!$C$1:$C$30)*($A920>=Ввод!$E$1:$E$30)*($A920<=Ввод!$F$1:$F$30),Ввод!$D$1:$D$30,\"\"),\" / \")","v":""},{"$f":"MyJoin(IF((C$2=Ввод!$C$1:$C$30)*($A920>=Ввод!$E$1:$E$30)*($A920<=Ввод!$F$1:$F$30),Ввод!$D$1:$D$30,\"\"),\" / \")","v":""},{"$f":"MyJoin(IF((D$2=Ввод!$C$1:$C$30)*($A920>=Ввод!$E$1:$E$30)*($A920<=Ввод!$F$1:$F$30),Ввод!$D$1:$D$30,\"\"),\" / \")","v":""},{"$f":"MyJoin(IF((E$2=Ввод!$C$1:$C$30)*($A920>=Ввод!$E$1:$E$30)*($A920<=Ввод!$F$1:$F$30),Ввод!$D$1:$D$30,\"\"),\" / \")","v":""},{"$f":"MyJoin(IF((F$2=Ввод!$C$1:$C$30)*($A920>=Ввод!$E$1:$E$30)*($A920<=Ввод!$F$1:$F$30),Ввод!$D$1:$D$30,\"\"),\" / \")","v":""},"2024-07-01"]
["2024-07-02",{"$f":"MyJoin(IF((B$2=Ввод!$C$1:$C$30)*($A921>=Ввод!$E$1:$E$30)*($A921<=Ввод!$F$1:$F$30),Ввод!$D$1:$D$30,\"\"),\" / \")","v":""},{"$f":"MyJoin(IF((C$2=Ввод!$C$1:$C$30)*($A921>=Ввод!$E$1:$E$30)*($A921<=Ввод!$F$1:$F$30),Ввод!$D$1:$D$30,\"\"),\" / \")","v":""},{"$f":"MyJoin(IF((D$2=Ввод!$C$1:$C$30)*($A921>=Ввод!$E$1:$E$30)*($A921<=Ввод!$F$1:$F$30),Ввод!$D$1:$D$30,\"\"),\" / \")","v":""},{"$f":"MyJoin(IF((E$2=Ввод!$C$1:$C$30)*($A921>=Ввод!$E$1:$E$30)*($A921<=Ввод!$F$1:$F$30),Ввод!$D$1:$D$30,\"\"),\" / \")","v":""},{"$f":"MyJoin(IF((F$2=Ввод!$C$1:$C$30)*($A921>=Ввод!$E$1:$E$30)*($A921<=Ввод!$F$1:$F$30),Ввод!$D$1:$D$30,\"\"),\" / \")","v":""},"2024-07-02"]
["2024-07-03",{"$f":"MyJoin(IF((B$2=Ввод!$C$1:$C$30)*($A922>=Ввод!$E$1:$E$30)*($A922<=Ввод!$F$1:$F$30),Ввод!$D$1:$D$30,\"\"),\" / \")","v":""},{"$f":"MyJoin(IF((C$2=Ввод!$C$1:$C$30)*($A922>=Ввод!$E$1:$E$30)*($A922<=Ввод!$F$1:$F$30),Ввод!$D$1:$D$30,\"\"),\" / \")","v":""},{"$f":"MyJoin(IF((D$2=Ввод!$C$1:$C$30)*($A922>=Ввод!$E$1:$E$30)*($A922<=Ввод!$F$1:$F$30),Ввод!$D$1:$D$30,\"\"),\" / \")","v":""},{"$f":"MyJoin(IF((E$2=Ввод!$C$1:$C$30)*($A922>=Ввод!$E$1:$E$30)*($A922<=Ввод!$F$1:$F$30),Ввод!$D$1:$D$30,\"\"),\" / \")","v":""},{"$f":"MyJoin(IF((F$2=Ввод!$C$1:$C$30)*($A922>=Ввод!$E$1:$E$30)*($A922<=Ввод!$F$1:$F$30),Ввод!$D$1:$D$30,\"\"),\" / \")","v":""},"2024-07-03"]
["2024-07-04",{"$f":"MyJoin(IF((B$2=Ввод!$C$1:$C$30)*($A923>=Ввод!$E$1:$E$30)*($A923<=Ввод!$F$1:$F$30),Ввод!$D$1:$D$30,\"\"),\" / \")","v":""},{"$f":"MyJoin(IF((C$2=Ввод!$C$1:$C$30)*($A923>=Ввод!$E$1:$E$30)*($A923<=Ввод!$F$1:$F$30),Ввод!$D$1:$D$30,\"\"),\" / \")","v":""},{"$f":"MyJoin(IF((D$2=Ввод!$C$1:$C$30)*($A923>=Ввод!$E$1:$E$30)*($A923<=Ввод!$F$1:$F$30),Ввод!$D$1:$D$30,\"\"),\" / \")","v":""},{"$f":"MyJoin(IF((E$2=Ввод!$C$1:$C$30)*($A923>=Ввод!$E$1:$E$30)*($A923<=Ввод!$F$1:$F$30),Ввод!$D$1:$D$30,\"\"),\" / \")","v":""},{"$f":"MyJoin(IF((F$2=Ввод!$C$1:$C$30)*($A923>=Ввод!$E$1:$E$30)*($A923<=Ввод!$F$1:$F$30),Ввод!$D$1:$D$30,\"\"),\" / \")","v":""},"2024-07-04"]
["2024-07-05",{"$f":"MyJoin(IF((B$2=Ввод!$C$1:$C$30)*($A924>=Ввод!$E$1:$E$30)*($A924<=Ввод!$F$1:$F$30),Ввод!$D$1:$D$30,\"\"),\" / \")","v":""},{"$f":"MyJoin(IF((C$2=Ввод!$C$1:$C$30)*($A924>=Ввод!$E$1:$E$30)*($A924<=Ввод!$F$1:$F$30),Ввод!$D$1:$D$30,\"\"),\" / \")","v":""},{"$f":"MyJoin(IF((D$2=Ввод!$C$1:$C$30)*($A924>=Ввод!$E$1:$E$30)*($A924<=Ввод!$F$1:$F$30),Ввод!$D$1:$D$30,\"\"),\" / \")","v":""},{"$f":"MyJoin(IF((E$2=Ввод!$C$1:$C$30)*($A924>=Ввод!$E$1:$E$30)*($A924<=Ввод!$F$1:$F$30),Ввод!$D$1:$D$30,\"\"),\" / \")","v":""},{"$f":"MyJoin(IF((F$2=Ввод!$C$1:$C$30)*($A924>=Ввод!$E$1:$E$30)*($A924<=Ввод!$F$1:$F$30),Ввод!$D$1:$D$30,\"\"),\" / \")","v":""},"2024-07-05"]
["2024-07-06",{"$f":"MyJoin(IF((B$2=Ввод!$C$1:$C$30)*($A925>=Ввод!$E$1:$E$30)*($A925<=Ввод!$F$1:$F$30),Ввод!$D$1:$D$30,\"\"),\" / \")","v":""},{"$f":"MyJoin(IF((C$2=Ввод!$C$1:$C$30)*($A925>=Ввод!$E$1:$E$30)*($A925<=Ввод!$F$1:$F$30),Ввод!$D$1:$D$30,\"\"),\" / \")","v":""},{"$f":"MyJoin(IF((D$2=Ввод!$C$1:$C$30)*($A925>=Ввод!$E$1:$E$30)*($A925<=Ввод!$F$1:$F$30),Ввод!$D$1:$D$30,\"\"),\" / \")","v":""},{"$f":"MyJoin(IF((E$2=Ввод!$C$1:$C$30)*($A925>=Ввод!$E$1:$E$30)*($A925<=Ввод!$F$1:$F$30),Ввод!$D$1:$D$30,\"\"),\" / \")","v":""},{"$f":"MyJoin(IF((F$2=Ввод!$C$1:$C$30)*($A925>=Ввод!$E$1:$E$30)*($A925<=Ввод!$F$1:$F$30),Ввод!$D$1:$D$30,\"\"),\" / \")","v":""},"2024-07-06"]
["2024-07-07",{"$f":"MyJoin(IF((B$2=Ввод!$C$1:$C$30)*($A926>=Ввод!$E$1:$E$30)*($A926<=Ввод!$F$1:$F$30),Ввод!$D$1:$D$30,\"\"),\" / \")","v":""},{"$f":"MyJoin(IF((C$2=Ввод!$C$1:$C$30)*($A926>=Ввод!$E$1:$E$30)*($A926<=Ввод!$F$1:$F$30),Ввод!$D$1:$D$30,\"\"),\" / \")","v":""},{"$f":"MyJoin(IF((D$2=Ввод!$C$1:$C$30)*($A926>=Ввод!$E$1:$E$30)*($A926<=Ввод!$F$1:$F$30),Ввод!$D$1:$D$30,\"\"),\" / \")","v":""},{"$f":"MyJoin(IF((E$2=Ввод!$C$1:$C$30)*($A926>=Ввод!$E$1:$E$30)*($A926<=Ввод!$F$1:$F$30),Ввод!$D$1:$D$30,\"\"),\" / \")","v":""},{"$f":"MyJoin(IF((F$2=Ввод!$C$1:$C$30)*($A926>=Ввод!$E$1:$E$30)*($A926<=Ввод!$F$1:$F$30),Ввод!$D$1:$D$30,\"\"),\" / \")","v":""},"2024-07-07"]
["2024-07-08",{"$f":"MyJoin(IF((B$2=Ввод!$C$1:$C$30)*($A927>=Ввод!$E$1:$E$30)*($A927<=Ввод!$F$1:$F$30),Ввод!$D$1:$D$30,\"\"),\" / \")","v":""},{"$f":"MyJoin(IF((C$2=Ввод!$C$1:$C$30)*($A927>=Ввод!$E$1:$E$30)*($A927<=Ввод!$F$1:$F$30),Ввод!$D$1:$D$30,\"\"),\" / \")","v":""},{"$f":"MyJoin(IF((D$2=Ввод!$C$1:$C$30)*($A927>=Ввод!$E$1:$E$30)*($A927<=Ввод!$F$1:$F$30),Ввод!$D$1:$D$30,\"\"),\" / \")","v":""},{"$f":"MyJoin(IF((E$2=Ввод!$C$1:$C$30)*($A927>=Ввод!$E$1:$E$30)*($A927<=Ввод!$F$1:$F$30),Ввод!$D$1:$D$30,\"\"),\" / \")","v":""},{"$f":"MyJoin(IF((F$2=Ввод!$C$1:$C$30)*($A927>=Ввод!$E$1:$E$30)*($A927<=Ввод!$F$1:$F$30),Ввод!$D$1:$D$30,\"\"),\" / \")","v":""},"2024-07-08"]
["2024-07-09",{"$f":"MyJoin(IF((B$2=Ввод!$C$1:$C$30)*($A928>=Ввод!$E$1:$E$30)*($A928<=Ввод!$F$1:$F$30),Ввод!$D$1:$D$30,\"\"),\" / \")","v":""},{"$f":"MyJoin(IF((C$2=Ввод!$C$1:$C$30)*($A928>=Ввод!$E$1:$E$30)*($A928<=Ввод!$F$1:$F$30),Ввод!$D$1:$D$30,\"\"),\" / \")","v":""},{"$f":"MyJoin(IF((D$2=Ввод!$C$1:$C$30)*($A928>=Ввод!$E$1:$E$30)*($A928<=Ввод!$F$1:$F$30),Ввод!$D$1:$D$30,\"\"),\" / \")","v":""},{"$f":"MyJoin(IF((E$2=Ввод!$C$1:$C$30)*($A928>=Ввод!$E$1:$E$30)*($A928<=Ввод!$F$1:$F$30),Ввод!$D$1:$D$30,\"\"),\" / \")","v":""},{"$f":"MyJoin(IF((F$2=Ввод!$C$1:$C$30)*($A928>=Ввод!$E$1:$E$30)*($A928<=Ввод!$F$1:$F$30),Ввод!$D$1:$D$30,\"\"),\" / \")","v":""},"2024-07-09"]
["2024-07-10",{"$f":"MyJoin(IF((B$2=Ввод!$C$1:$C$30)*($A929>=Ввод!$E$1:$E$30)*($A929<=Ввод!$F$1:$F$30),Ввод!$D$1:$D$30,\"\"),\" / \")","v":""},{"$f":"MyJoin(IF((C$2=Ввод!$C$1:$C$30)*($A929>=Ввод!$E$1:$E$30)*($A929<=Ввод!$F$1:$F$30),Ввод!$D$1:$D$30,\"\"),\" / \")","v":""},{"$f":"MyJoin(IF((D$2=Ввод!$C$1:$C$30)*($A929>=Ввод!$E$1:$E$30)*($A929<=Ввод!$F$1:$F$30),Ввод!$D$1:$D$30,\"\"),\" / \")","v":""},{"$f":"MyJoin(IF((E$2=Ввод!$C$1:$C$30)*($A929>=Ввод!$E$1:$E$30)*($A929<=Ввод!$F$1:$F$30),Ввод!$D$1:$D$30,\"\"),\" / \")","v":""},{"$f":"MyJoin(IF((F$2=Ввод!$C$1:$C$30)*($A929>=Ввод!$E$1:$E$30)*($A929<=Ввод!$F$1:$F$30),Ввод!$D$1:$D$30,\"\"),\" / \")","v":""},"2024-07-10"]
["2024-07-11",{"$f":"MyJoin(IF((B$2=Ввод!$C$1:$C$30)*($A930>=Ввод!$E$1:$E$30)*($A930<=Ввод!$F$1:$F$30),Ввод!$D$1:$D$30,\"\"),\" / \")","v":""},{"$f":"MyJoin(IF((C$2=Ввод!$C$1:$C$30)*($A930>=Ввод!$E$1:$E$30)*($A930<=Ввод!$F$1:$F$30),Ввод!$D$1:$D$30,\"\"),\" / \")","v":""},{"$f":"MyJoin(IF((D$2=Ввод!$C$1:$C$30)*($A930>=Ввод!$E$1:$E$30)*($A930<=Ввод!$F$1:$F$30),Ввод!$D$1:$D$30,\"\"),\" / \")","v":""},{"$f":"MyJoin(IF((E$2=Ввод!$C$1:$C$30)*($A930>=Ввод!$E$1:$E$30)*($A930<=Ввод!$F$1:$F$30),Ввод!$D$1:$D$30,\"\"),\" / \")","v":""},{"$f":"MyJoin(IF((F$2=Ввод!$C$1:$C$30)*($A930>=Ввод!$E$1:$E$30)*($A930<=Ввод!$F$1:$F$30),Ввод!$D$1:$D$30,\"\"),\" / \")","v":""},"2024-07-11"]
["2024-07-12",{"$f":"MyJoin(IF((B$2=Ввод!$C$1:$C$30)*($A931>=Ввод!$E$1:$E$30)*($A931<=Ввод!$F$1:$F$30),Ввод!$D$1:$D$30,\"\"),\" / \")","v":""},{"$f":"MyJoin(IF((C$2=Ввод!$C$1:$C$30)*($A931>=Ввод!$E$1:$E$30)*($A931<=Ввод!$F$1:$F$30),Ввод!$D$1:$D$30,\"\"),\" / \")","v":""},{"$f":"MyJoin(IF((D$2=Ввод!$C$1:$C$30)*($A931>=Ввод!$E$1:$E$30)*($A931<=Ввод!$F$1:$F$30),Ввод!$D$1:$D$30,\"\"),\" / \")","v":""},{"$f":"MyJoin(IF((E$2=Ввод!$C$1:$C$30)*($A931>=Ввод!$E$1:$E$30)*($A931<=Ввод!$F$1:$F$30),Ввод!$D$1:$D$30,\"\"),\" / \")","v":""},{"$f":"MyJoin(IF((F$2=Ввод!$C$1:$C$30)*($A931>=Ввод!$E$1:$E$30)*($A931<=Ввод!$F$1:$F$30),Ввод!$D$1:$D$30,\"\"),\" / \")","v":""},"2024-07-12"]
["2024-07-13",{"$f":"MyJoin(IF((B$2=Ввод!$C$1:$C$30)*($A932>=Ввод!$E$1:$E$30)*($A932<=Ввод!$F$1:$F$30),Ввод!$D$1:$D$30,\"\"),\" / \")","v":""},{"$f":"MyJoin(IF((C$2=Ввод!$C$1:$C$30)*($A932>=Ввод!$E$1:$E$30)*($A932<=Ввод!$F$1:$F$30),Ввод!$D$1:$D$30,\"\"),\" / \")","v":""},{"$f":"MyJoin(IF((D$2=Ввод!$C$1:$C$30)*($A932>=Ввод!$E$1:$E$30)*($A932<=Ввод!$F$1:$F$30),Ввод!$D$1:$D$30,\"\"),\" / \")","v":""},{"$f":"MyJoin(IF((E$2=Ввод!$C$1:$C$30)*($A932>=Ввод!$E$1:$E$30)*($A932<=Ввод!$F$1:$F$30),Ввод!$D$1:$D$30,\"\"),\" / \")","v":""},{"$f":"MyJoin(IF((F$2=Ввод!$C$1:$C$30)*($A932>=Ввод!$E$1:$E$30)*($A932<=Ввод!$F$1:$F$30),Ввод!$D$1:$D$30,\"\"),\" / \")","v":""},"2024-07-13"]
["2024-07-14",{"$f":"MyJoin(IF((B$2=Ввод!$C$1:$C$30)*($A933>=Ввод!$E$1:$E$30)*($A933<=Ввод!$F$1:$F$30),Ввод!$D$1:$D$30,\"\"),\" / \")","v":""},{"$f":"MyJoin(IF((C$2=Ввод!$C$1:$C$30)*($A933>=Ввод!$E$1:$E$30)*($A933<=Ввод!$F$1:$F$30),Ввод!$D$1:$D$30,\"\"),\" / \")","v":""},{"$f":"MyJoin(IF((D$2=Ввод!$C$1:$C$30)*($A933>=Ввод!$E$1:$E$30)*($A933<=Ввод!$F$1:$F$30),Ввод!$D$1:$D$30,\"\"),\" / \")","v":""},{"$f":"MyJoin(IF((E$2=Ввод!$C$1:$C$30)*($A933>=Ввод!$E$1:$E$30)*($A933<=Ввод!$F$1:$F$30),Ввод!$D$1:$D$30,\"\"),\" / \")","v":""},{"$f":"MyJoin(IF((F$2=Ввод!$C$1:$C$30)*($A933>=Ввод!$E$1:$E$30)*($A933<=Ввод!$F$1:$F$30),Ввод!$D$1:$D$30,\"\"),\" / \")","v":""},"2024-07-14"]
["2024-07-15",{"$f":"MyJoin(IF((B$2=Ввод!$C$1:$C$30)*($A934>=Ввод!$E$1:$E$30)*($A934<=Ввод!$F$1:$F$30),Ввод!$D$1:$D$30,\"\"),\" / \")","v":""},{"$f":"MyJoin(IF((C$2=Ввод!$C$1:$C$30)*($A934>=Ввод!$E$1:$E$30)*($A934<=Ввод!$F$1:$F$30),Ввод!$D$1:$D$30,\"\"),\" / \")","v":""},{"$f":"MyJoin(IF((D$2=Ввод!$C$1:$C$30)*($A934>=Ввод!$E$1:$E$30)*($A934<=Ввод!$F$1:$F$30),Ввод!$D$1:$D$30,\"\"),\" / \")","v":""},{"$f":"MyJoin(IF((E$2=Ввод!$C$1:$C$30)*($A934>=Ввод!$E$1:$E$30)*($A934<=Ввод!$F$1:$F$30),Ввод!$D$1:$D$30,\"\"),\" / \")","v":""},{"$f":"MyJoin(IF((F$2=Ввод!$C$1:$C$30)*($A934>=Ввод!$E$1:$E$30)*($A934<=Ввод!$F$1:$F$30),Ввод!$D$1:$D$30,\"\"),\" / \")","v":""},"2024-07-15"]
["2024-07-16",{"$f":"MyJoin(IF((B$2=Ввод!$C$1:$C$30)*($A935>=Ввод!$E$1:$E$30)*($A935<=Ввод!$F$1:$F$30),Ввод!$D$1:$D$30,\"\"),\" / \")","v":""},{"$f":"MyJoin(IF((C$2=Ввод!$C$1:$C$30)*($A935>=Ввод!$E$1:$E$30)*($A935<=Ввод!$F$1:$F$30),Ввод!$D$1:$D$30,\"\"),\" / \")","v":""},{"$f":"MyJoin(IF((D$2=Ввод!$C$1:$C$30)*($A935>=Ввод!$E$1:$E$30)*($A935<=Ввод!$F$1:$F$30),Ввод!$D$1:$D$30,\"\"),\" / \")","v":""},{"$f":"MyJoin(IF((E$2=Ввод!$C$1:$C$30)*($A935>=Ввод!$E$1:$E$30)*($A935<=Ввод!$F$1:$F$30),Ввод!$D$1:$D$30,\"\"),\" / \")","v":""},{"$f":"MyJoin(IF((F$2=Ввод!$C$1:$C$30)*($A935>=Ввод!$E$1:$E$30)*($A935<=Ввод!$F$1:$F$30),Ввод!$D$1:$D$30,\"\"),\" / \")","v":""},"2024-07-16"]
["2024-07-17",{"$f":"MyJoin(IF((B$2=Ввод!$C$1:$C$30)*($A936>=Ввод!$E$1:$E$30)*($A936<=Ввод!$F$1:$F$30),Ввод!$D$1:$D$30,\"\"),\" / \")","v":""},{"$f":"MyJoin(IF((C$2=Ввод!$C$1:$C$30)*($A936>=Ввод!$E$1:$E$30)*($A936<=Ввод!$F$1:$F$30),Ввод!$D$1:$D$30,\"\"),\" / \")","v":""},{"$f":"MyJoin(IF((D$2=Ввод!$C$1:$C$30)*($A936>=Ввод!$E$1:$E$30)*($A936<=Ввод!$F$1:$F$30),Ввод!$D$1:$D$30,\"\"),\" / \")","v":""},{"$f":"MyJoin(IF((E$2=Ввод!$C$1:$C$30)*($A936>=Ввод!$E$1:$E$30)*($A936<=Ввод!$F$1:$F$30),Ввод!$D$1:$D$30,\"\"),\" / \")","v":""},{"$f":"MyJoin(IF((F$2=Ввод!$C$1:$C$30)*($A936>=Ввод!$E$1:$E$30)*($A936<=Ввод!$F$1:$F$30),Ввод!$D$1:$D$30,\"\"),\" / \")","v":""},"2024-07-17"]
["2024-07-18",{"$f":"MyJoin(IF((B$2=Ввод!$C$1:$C$30)*($A937>=Ввод!$E$1:$E$30)*($A937<=Ввод!$F$1:$F$30),Ввод!$D$1:$D$30,\"\"),\" / \")","v":""},{"$f":"MyJoin(IF((C$2=Ввод!$C$1:$C$30)*($A937>=Ввод!$E$1:$E$30)*($A937<=Ввод!$F$1:$F$30),Ввод!$D$1:$D$30,\"\"),\" / \")","v":""},{"$f":"MyJoin(IF((D$2=Ввод!$C$1:$C$30)*($A937>=Ввод!$E$1:$E$30)*($A937<=Ввод!$F$1:$F$30),Ввод!$D$1:$D$30,\"\"),\" / \")","v":""},{"$f":"MyJoin(IF((E$2=Ввод!$C$1:$C$30)*($A937>=Ввод!$E$1:$E$30)*($A937<=Ввод!$F$1:$F$30),Ввод!$D$1:$D$30,\"\"),\" / \")","v":""},{"$f":"MyJoin(IF((F$2=Ввод!$C$1:$C$30)*($A937>=Ввод!$E$1:$E$30)*($A937<=Ввод!$F$1:$F$30),Ввод!$D$1:$D$30,\"\"),\" / \")","v":""},"2024-07-18"]
["2024-07-19",{"$f":"MyJoin(IF((B$2=Ввод!$C$1:$C$30)*($A938>=Ввод!$E$1:$E$30)*($A938<=Ввод!$F$1:$F$30),Ввод!$D$1:$D$30,\"\"),\" / \")","v":""},{"$f":"MyJoin(IF((C$2=Ввод!$C$1:$C$30)*($A938>=Ввод!$E$1:$E$30)*($A938<=Ввод!$F$1:$F$30),Ввод!$D$1:$D$30,\"\"),\" / \")","v":""},{"$f":"MyJoin(IF((D$2=Ввод!$C$1:$C$30)*($A938>=Ввод!$E$1:$E$30)*($A938<=Ввод!$F$1:$F$30),Ввод!$D$1:$D$30,\"\"),\" / \")","v":""},{"$f":"MyJoin(IF((E$2=Ввод!$C$1:$C$30)*($A938>=Ввод!$E$1:$E$30)*($A938<=Ввод!$F$1:$F$30),Ввод!$D$1:$D$30,\"\"),\" / \")","v":""},{"$f":"MyJoin(IF((F$2=Ввод!$C$1:$C$30)*($A938>=Ввод!$E$1:$E$30)*($A938<=Ввод!$F$1:$F$30),Ввод!$D$1:$D$30,\"\"),\" / \")","v":""},"2024-07-19"]
["2024-07-20",{"$f":"MyJoin(IF((B$2=Ввод!$C$1:$C$30)*($A939>=Ввод!$E$1:$E$30)*($A939<=Ввод!$F$1:$F$30),Ввод!$D$1:$D$30,\"\"),\" / \")","v":""},{"$f":"MyJoin(IF((C$2=Ввод!$C$1:$C$30)*($A939>=Ввод!$E$1:$E$30)*($A939<=Ввод!$F$1:$F$30),Ввод!$D$1:$D$30,\"\"),\" / \")","v":""},{"$f":"MyJoin(IF((D$2=Ввод!$C$1:$C$30)*($A939>=Ввод!$E$1:$E$30)*($A939<=Ввод!$F$1:$F$30),Ввод!$D$1:$D$30,\"\"),\" / \")","v":""},{"$f":"MyJoin(IF((E$2=Ввод!$C$1:$C$30)*($A939>=Ввод!$E$1:$E$30)*($A939<=Ввод!$F$1:$F$30),Ввод!$D$1:$D$30,\"\"),\" / \")","v":""},{"$f":"MyJoin(IF((F$2=Ввод!$C$1:$C$30)*($A939>=Ввод!$E$1:$E$30)*($A939<=Ввод!$F$1:$F$30),Ввод!$D$1:$D$30,\"\"),\" / \")","v":""},"2024-07-20"]
["2024-07-21",{"$f":"MyJoin(IF((B$2=Ввод!$C$1:$C$30)*($A940>=Ввод!$E$1:$E$30)*($A940<=Ввод!$F$1:$F$30),Ввод!$D$1:$D$30,\"\"),\" / \")","v":""},{"$f":"MyJoin(IF((C$2=Ввод!$C$1:$C$30)*($A940>=Ввод!$E$1:$E$30)*($A940<=Ввод!$F$1:$F$30),Ввод!$D$1:$D$30,\"\"),\" / \")","v":""},{"$f":"MyJoin(IF((D$2=Ввод!$C$1:$C$30)*($A940>=Ввод!$E$1:$E$30)*($A940<=Ввод!$F$1:$F$30),Ввод!$D$1:$D$30,\"\"),\" / \")","v":""},{"$f":"MyJoin(IF((E$2=Ввод!$C$1:$C$30)*($A940>=Ввод!$E$1:$E$30)*($A940<=Ввод!$F$1:$F$30),Ввод!$D$1:$D$30,\"\"),\" / \")","v":""},{"$f":"MyJoin(IF((F$2=Ввод!$C$1:$C$30)*($A940>=Ввод!$E$1:$E$30)*($A940<=Ввод!$F$1:$F$30),Ввод!$D$1:$D$30,\"\"),\" / \")","v":""},"2024-07-21"]
["2024-07-22",{"$f":"MyJoin(IF((B$2=Ввод!$C$1:$C$30)*($A941>=Ввод!$E$1:$E$30)*($A941<=Ввод!$F$1:$F$30),Ввод!$D$1:$D$30,\"\"),\" / \")","v":""},{"$f":"MyJoin(IF((C$2=Ввод!$C$1:$C$30)*($A941>=Ввод!$E$1:$E$30)*($A941<=Ввод!$F$1:$F$30),Ввод!$D$1:$D$30,\"\"),\" / \")","v":""},{"$f":"MyJoin(IF((D$2=Ввод!$C$1:$C$30)*($A941>=Ввод!$E$1:$E$30)*($A941<=Ввод!$F$1:$F$30),Ввод!$D$1:$D$30,\"\"),\" / \")","v":""},{"$f":"MyJoin(IF((E$2=Ввод!$C$1:$C$30)*($A941>=Ввод!$E$1:$E$30)*($A941<=Ввод!$F$1:$F$30),Ввод!$D$1:$D$30,\"\"),\" / \")","v":""},{"$f":"MyJoin(IF((F$2=Ввод!$C$1:$C$30)*($A941>=Ввод!$E$1:$E$30)*($A941<=Ввод!$F$1:$F$30),Ввод!$D$1:$D$30,\"\"),\" / \")","v":""},"2024-07-22"]
["2024-07-23",{"$f":"MyJoin(IF((B$2=Ввод!$C$1:$C$30)*($A942>=Ввод!$E$1:$E$30)*($A942<=Ввод!$F$1:$F$30),Ввод!$D$1:$D$30,\"\"),\" / \")","v":""},{"$f":"MyJoin(IF((C$2=Ввод!$C$1:$C$30)*($A942>=Ввод!$E$1:$E$30)*($A942<=Ввод!$F$1:$F$30),Ввод!$D$1:$D$30,\"\"),\" / \")","v":""},{"$f":"MyJoin(IF((D$2=Ввод!$C$1:$C$30)*($A942>=Ввод!$E$1:$E$30)*($A942<=Ввод!$F$1:$F$30),Ввод!$D$1:$D$30,\"\"),\" / \")","v":""},{"$f":"MyJoin(IF((E$2=Ввод!$C$1:$C$30)*($A942>=Ввод!$E$1:$E$30)*($A942<=Ввод!$F$1:$F$30),Ввод!$D$1:$D$30,\"\"),\" / \")","v":""},{"$f":"MyJoin(IF((F$2=Ввод!$C$1:$C$30)*($A942>=Ввод!$E$1:$E$30)*($A942<=Ввод!$F$1:$F$30),Ввод!$D$1:$D$30,\"\"),\" / \")","v":""},"2024-07-23"]
["2024-07-24",{"$f":"MyJoin(IF((B$2=Ввод!$C$1:$C$30)*($A943>=Ввод!$E$1:$E$30)*($A943<=Ввод!$F$1:$F$30),Ввод!$D$1:$D$30,\"\"),\" / \")","v":""},{"$f":"MyJoin(IF((C$2=Ввод!$C$1:$C$30)*($A943>=Ввод!$E$1:$E$30)*($A943<=Ввод!$F$1:$F$30),Ввод!$D$1:$D$30,\"\"),\" / \")","v":""},{"$f":"MyJoin(IF((D$2=Ввод!$C$1:$C$30)*($A943>=Ввод!$E$1:$E$30)*($A943<=Ввод!$F$1:$F$30),Ввод!$D$1:$D$30,\"\"),\" / \")","v":""},{"$f":"MyJoin(IF((E$2=Ввод!$C$1:$C$30)*($A943>=Ввод!$E$1:$E$30)*($A943<=Ввод!$F$1:$F$30),Ввод!$D$1:$D$30,\"\"),\" / \")","v":""},{"$f":"MyJoin(IF((F$2=Ввод!$C$1:$C$30)*($A943>=Ввод!$E$1:$E$30)*($A943<=Ввод!$F$1:$F$30),Ввод!$D$1:$D$30,\"\"),\" / \")","v":""},"2024-07-24"]
["2024-07-25",{"$f":"MyJoin(IF((B$2=Ввод!$C$1:$C$30)*($A944>=Ввод!$E$1:$E$30)*($A944<=Ввод!$F$1:$F$30),Ввод!$D$1:$D$30,\"\"),\" / \")","v":""},{"$f":"MyJoin(IF((C$2=Ввод!$C$1:$C$30)*($A944>=Ввод!$E$1:$E$30)*($A944<=Ввод!$F$1:$F$30),Ввод!$D$1:$D$30,\"\"),\" / \")","v":""},{"$f":"MyJoin(IF((D$2=Ввод!$C$1:$C$30)*($A944>=Ввод!$E$1:$E$30)*($A944<=Ввод!$F$1:$F$30),Ввод!$D$1:$D$30,\"\"),\" / \")","v":""},{"$f":"MyJoin(IF((E$2=Ввод!$C$1:$C$30)*($A944>=Ввод!$E$1:$E$30)*($A944<=Ввод!$F$1:$F$30),Ввод!$D$1:$D$30,\"\"),\" / \")","v":""},{"$f":"MyJoin(IF((F$2=Ввод!$C$1:$C$30)*($A944>=Ввод!$E$1:$E$30)*($A944<=Ввод!$F$1:$F$30),Ввод!$D$1:$D$30,\"\"),\" / \")","v":""},"2024-07-25"]
["2024-07-26",{"$f":"MyJoin(IF((B$2=Ввод!$C$1:$C$30)*($A945>=Ввод!$E$1:$E$30)*($A945<=Ввод!$F$1:$F$30),Ввод!$D$1:$D$30,\"\"),\" / \")","v":""},{"$f":"MyJoin(IF((C$2=Ввод!$C$1:$C$30)*($A945>=Ввод!$E$1:$E$30)*($A945<=Ввод!$F$1:$F$30),Ввод!$D$1:$D$30,\"\"),\" / \")","v":""},{"$f":"MyJoin(IF((D$2=Ввод!$C$1:$C$30)*($A945>=Ввод!$E$1:$E$30)*($A945<=Ввод!$F$1:$F$30),Ввод!$D$1:$D$30,\"\"),\" / \")","v":""},{"$f":"MyJoin(IF((E$2=Ввод!$C$1:$C$30)*($A945>=Ввод!$E$1:$E$30)*($A945<=Ввод!$F$1:$F$30),Ввод!$D$1:$D$30,\"\"),\" / \")","v":""},{"$f":"MyJoin(IF((F$2=Ввод!$C$1:$C$30)*($A945>=Ввод!$E$1:$E$30)*($A945<=Ввод!$F$1:$F$30),Ввод!$D$1:$D$30,\"\"),\" / \")","v":""},"2024-07-26"]
["2024-07-27",{"$f":"MyJoin(IF((B$2=Ввод!$C$1:$C$30)*($A946>=Ввод!$E$1:$E$30)*($A946<=Ввод!$F$1:$F$30),Ввод!$D$1:$D$30,\"\"),\" / \")","v":""},{"$f":"MyJoin(IF((C$2=Ввод!$C$1:$C$30)*($A946>=Ввод!$E$1:$E$30)*($A946<=Ввод!$F$1:$F$30),Ввод!$D$1:$D$30,\"\"),\" / \")","v":""},{"$f":"MyJoin(IF((D$2=Ввод!$C$1:$C$30)*($A946>=Ввод!$E$1:$E$30)*($A946<=Ввод!$F$1:$F$30),Ввод!$D$1:$D$30,\"\"),\" / \")","v":""},{"$f":"MyJoin(IF((E$2=Ввод!$C$1:$C$30)*($A946>=Ввод!$E$1:$E$30)*($A946<=Ввод!$F$1:$F$30),Ввод!$D$1:$D$30,\"\"),\" / \")","v":""},{"$f":"MyJoin(IF((F$2=Ввод!$C$1:$C$30)*($A946>=Ввод!$E$1:$E$30)*($A946<=Ввод!$F$1:$F$30),Ввод!$D$1:$D$30,\"\"),\" / \")","v":""},"2024-07-27"]
["2024-07-28",{"$f":"MyJoin(IF((B$2=Ввод!$C$1:$C$30)*($A947>=Ввод!$E$1:$E$30)*($A947<=Ввод!$F$1:$F$30),Ввод!$D$1:$D$30,\"\"),\" / \")","v":""},{"$f":"MyJoin(IF((C$2=Ввод!$C$1:$C$30)*($A947>=Ввод!$E$1:$E$30)*($A947<=Ввод!$F$1:$F$30),Ввод!$D$1:$D$30,\"\"),\" / \")","v":""},{"$f":"MyJoin(IF((D$2=Ввод!$C$1:$C$30)*($A947>=Ввод!$E$1:$E$30)*($A947<=Ввод!$F$1:$F$30),Ввод!$D$1:$D$30,\"\"),\" / \")","v":""},{"$f":"MyJoin(IF((E$2=Ввод!$C$1:$C$30)*($A947>=Ввод!$E$1:$E$30)*($A947<=Ввод!$F$1:$F$30),Ввод!$D$1:$D$30,\"\"),\" / \")","v":""},{"$f":"MyJoin(IF((F$2=Ввод!$C$1:$C$30)*($A947>=Ввод!$E$1:$E$30)*($A947<=Ввод!$F$1:$F$30),Ввод!$D$1:$D$30,\"\"),\" / \")","v":""},"2024-07-28"]
["2024-07-29",{"$f":"MyJoin(IF((B$2=Ввод!$C$1:$C$30)*($A948>=Ввод!$E$1:$E$30)*($A948<=Ввод!$F$1:$F$30),Ввод!$D$1:$D$30,\"\"),\" / \")","v":""},{"$f":"MyJoin(IF((C$2=Ввод!$C$1:$C$30)*($A948>=Ввод!$E$1:$E$30)*($A948<=Ввод!$F$1:$F$30),Ввод!$D$1:$D$30,\"\"),\" / \")","v":""},{"$f":"MyJoin(IF((D$2=Ввод!$C$1:$C$30)*($A948>=Ввод!$E$1:$E$30)*($A948<=Ввод!$F$1:$F$30),Ввод!$D$1:$D$30,\"\"),\" / \")","v":""},{"$f":"MyJoin(IF((E$2=Ввод!$C$1:$C$30)*($A948>=Ввод!$E$1:$E$30)*($A948<=Ввод!$F$1:$F$30),Ввод!$D$1:$D$30,\"\"),\" / \")","v":""},{"$f":"MyJoin(IF((F$2=Ввод!$C$1:$C$30)*($A948>=Ввод!$E$1:$E$30)*($A948<=Ввод!$F$1:$F$30),Ввод!$D$1:$D$30,\"\"),\" / \")","v":""},"2024-07-29"]
["2024-07-30",{"$f":"MyJoin(IF((B$2=Ввод!$C$1:$C$30)*($A949>=Ввод!$E$1:$E$30)*($A949<=Ввод!$F$1:$F$30),Ввод!$D$1:$D$30,\"\"),\" / \")","v":""},{"$f":"MyJoin(IF((C$2=Ввод!$C$1:$C$30)*($A949>=Ввод!$E$1:$E$30)*($A949<=Ввод!$F$1:$F$30),Ввод!$D$1:$D$30,\"\"),\" / \")","v":""},{"$f":"MyJoin(IF((D$2=Ввод!$C$1:$C$30)*($A949>=Ввод!$E$1:$E$30)*($A949<=Ввод!$F$1:$F$30),Ввод!$D$1:$D$30,\"\"),\" / \")","v":""},{"$f":"MyJoin(IF((E$2=Ввод!$C$1:$C$30)*($A949>=Ввод!$E$1:$E$30)*($A949<=Ввод!$F$1:$F$30),Ввод!$D$1:$D$30,\"\"),\" / \")","v":""},{"$f":"MyJoin(IF((F$2=Ввод!$C$1:$C$30)*($A949>=Ввод!$E$1:$E$30)*($A949<=Ввод!$F$1:$F$30),Ввод!$D$1:$D$30,\"\"),\" / \")","v":""},"2024-07-30"]
["2024-07-31",{"$f":"MyJoin(IF((B$2=Ввод!$C$1:$C$30)*($A950>=Ввод!$E$1:$E$30)*($A950<=Ввод!$F$1:$F$30),Ввод!$D$1:$D$30,\"\"),\" / \")","v":""},{"$f":"MyJoin(IF((C$2=Ввод!$C$1:$C$30)*($A950>=Ввод!$E$1:$E$30)*($A950<=Ввод!$F$1:$F$30),Ввод!$D$1:$D$30,\"\"),\" / \")","v":""},{"$f":"MyJoin(IF((D$2=Ввод!$C$1:$C$30)*($A950>=Ввод!$E$1:$E$30)*($A950<=Ввод!$F$1:$F$30),Ввод!$D$1:$D$30,\"\"),\" / \")","v":""},{"$f":"MyJoin(IF((E$2=Ввод!$C$1:$C$30)*($A950>=Ввод!$E$1:$E$30)*($A950<=Ввод!$F$1:$F$30),Ввод!$D$1:$D$30,\"\"),\" / \")","v":""},{"$f":"MyJoin(IF((F$2=Ввод!$C$1:$C$30)*($A950>=Ввод!$E$1:$E$30)*($A950<=Ввод!$F$1:$F$30),Ввод!$D$1:$D$30,\"\"),\" / \")","v":""},"2024-07-31"]
["2024-08-01",{"$f":"MyJoin(IF((B$2=Ввод!$C$1:$C$30)*($A951>=Ввод!$E$1:$E$30)*($A951<=Ввод!$F$1:$F$30),Ввод!$D$1:$D$30,\"\"),\" / \")","v":""},{"$f":"MyJoin(IF((C$2=Ввод!$C$1:$C$30)*($A951>=Ввод!$E$1:$E$30)*($A951<=Ввод!$F$1:$F$30),Ввод!$D$1:$D$30,\"\"),\" / \")","v":""},{"$f":"MyJoin(IF((D$2=Ввод!$C$1:$C$30)*($A951>=Ввод!$E$1:$E$30)*($A951<=Ввод!$F$1:$F$30),Ввод!$D$1:$D$30,\"\"),\" / \")","v":""},{"$f":"MyJoin(IF((E$2=Ввод!$C$1:$C$30)*($A951>=Ввод!$E$1:$E$30)*($A951<=Ввод!$F$1:$F$30),Ввод!$D$1:$D$30,\"\"),\" / \")","v":""},{"$f":"MyJoin(IF((F$2=Ввод!$C$1:$C$30)*($A951>=Ввод!$E$1:$E$30)*($A951<=Ввод!$F$1:$F$30),Ввод!$D$1:$D$30,\"\"),\" / \")","v":""},"2024-08-01"]
["2024-08-02",{"$f":"MyJoin(IF((B$2=Ввод!$C$1:$C$30)*($A952>=Ввод!$E$1:$E$30)*($A952<=Ввод!$F$1:$F$30),Ввод!$D$1:$D$30,\"\"),\" / \")","v":""},{"$f":"MyJoin(IF((C$2=Ввод!$C$1:$C$30)*($A952>=Ввод!$E$1:$E$30)*($A952<=Ввод!$F$1:$F$30),Ввод!$D$1:$D$30,\"\"),\" / \")","v":""},{"$f":"MyJoin(IF((D$2=Ввод!$C$1:$C$30)*($A952>=Ввод!$E$1:$E$30)*($A952<=Ввод!$F$1:$F$30),Ввод!$D$1:$D$30,\"\"),\" / \")","v":""},{"$f":"MyJoin(IF((E$2=Ввод!$C$1:$C$30)*($A952>=Ввод!$E$1:$E$30)*($A952<=Ввод!$F$1:$F$30),Ввод!$D$1:$D$30,\"\"),\" / \")","v":""},{"$f":"MyJoin(IF((F$2=Ввод!$C$1:$C$30)*($A952>=Ввод!$E$1:$E$30)*($A952<=Ввод!$F$1:$F$30),Ввод!$D$1:$D$30,\"\"),\" / \")","v":""},"2024-08-02"]
["2024-08-03",{"$f":"MyJoin(IF((B$2=Ввод!$C$1:$C$30)*($A953>=Ввод!$E$1:$E$30)*($A953<=Ввод!$F$1:$F$30),Ввод!$D$1:$D$30,\"\"),\" / \")","v":""},{"$f":"MyJoin(IF((C$2=Ввод!$C$1:$C$30)*($A953>=Ввод!$E$1:$E$30)*($A953<=Ввод!$F$1:$F$30),Ввод!$D$1:$D$30,\"\"),\" / \")","v":""},{"$f":"MyJoin(IF((D$2=Ввод!$C$1:$C$30)*($A953>=Ввод!$E$1:$E$30)*($A953<=Ввод!$F$1:$F$30),Ввод!$D$1:$D$30,\"\"),\" / \")","v":""},{"$f":"MyJoin(IF((E$2=Ввод!$C$1:$C$30)*($A953>=Ввод!$E$1:$E$30)*($A953<=Ввод!$F$1:$F$30),Ввод!$D$1:$D$30,\"\"),\" / \")","v":""},{"$f":"MyJoin(IF((F$2=Ввод!$C$1:$C$30)*($A953>=Ввод!$E$1:$E$30)*($A953<=Ввод!$F$1:$F$30),Ввод!$D$1:$D$30,\"\"),\" / \")","v":""},"2024-08-03"]
["2024-08-04",{"$f":"MyJoin(IF((B$2=Ввод!$C$1:$C$30)*($A954>=Ввод!$E$1:$E$30)*($A954<=Ввод!$F$1:$F$30),Ввод!$D$1:$D$30,\"\"),\" / \")","v":""},{"$f":"MyJoin(IF((C$2=Ввод!$C$1:$C$30)*($A954>=Ввод!$E$1:$E$30)*($A954<=Ввод!$F$1:$F$30),Ввод!$D$1:$D$30,\"\"),\" / \")","v":""},{"$f":"MyJoin(IF((D$2=Ввод!$C$1:$C$30)*($A954>=Ввод!$E$1:$E$30)*($A954<=Ввод!$F$1:$F$30),Ввод!$D$1:$D$30,\"\"),\" / \")","v":""},{"$f":"MyJoin(IF((E$2=Ввод!$C$1:$C$30)*($A954>=Ввод!$E$1:$E$30)*($A954<=Ввод!$F$1:$F$30),Ввод!$D$1:$D$30,\"\"),\" / \")","v":""},{"$f":"MyJoin(IF((F$2=Ввод!$C$1:$C$30)*($A954>=Ввод!$E$1:$E$30)*($A954<=Ввод!$F$1:$F$30),Ввод!$D$1:$D$30,\"\"),\" / \")","v":""},"2024-08-04"]
["2024-08-05",{"$f":"MyJoin(IF((B$2=Ввод!$C$1:$C$30)*($A955>=Ввод!$E$1:$E$30)*($A955<=Ввод!$F$1:$F$30),Ввод!$D$1:$D$30,\"\"),\" / \")","v":""},{"$f":"MyJoin(IF((C$2=Ввод!$C$1:$C$30)*($A955>=Ввод!$E$1:$E$30)*($A955<=Ввод!$F$1:$F$30),Ввод!$D$1:$D$30,\"\"),\" / \")","v":""},{"$f":"MyJoin(IF((D$2=Ввод!$C$1:$C$30)*($A955>=Ввод!$E$1:$E$30)*($A955<=Ввод!$F$1:$F$30),Ввод!$D$1:$D$30,\"\"),\" / \")","v":""},{"$f":"MyJoin(IF((E$2=Ввод!$C$1:$C$30)*($A955>=Ввод!$E$1:$E$30)*($A955<=Ввод!$F$1:$F$30),Ввод!$D$1:$D$30,\"\"),\" / \")","v":""},{"$f":"MyJoin(IF((F$2=Ввод!$C$1:$C$30)*($A955>=Ввод!$E$1:$E$30)*($A955<=Ввод!$F$1:$F$30),Ввод!$D$1:$D$30,\"\"),\" / \")","v":""},"2024-08-05"]
["2024-08-06",{"$f":"MyJoin(IF((B$2=Ввод!$C$1:$C$30)*($A956>=Ввод!$E$1:$E$30)*($A956<=Ввод!$F$1:$F$30),Ввод!$D$1:$D$30,\"\"),\" / \")","v":""},{"$f":"MyJoin(IF((C$2=Ввод!$C$1:$C$30)*($A956>=Ввод!$E$1:$E$30)*($A956<=Ввод!$F$1:$F$30),Ввод!$D$1:$D$30,\"\"),\" / \")","v":""},{"$f":"MyJoin(IF((D$2=Ввод!$C$1:$C$30)*($A956>=Ввод!$E$1:$E$30)*($A956<=Ввод!$F$1:$F$30),Ввод!$D$1:$D$30,\"\"),\" / \")","v":""},{"$f":"MyJoin(IF((E$2=Ввод!$C$1:$C$30)*($A956>=Ввод!$E$1:$E$30)*($A956<=Ввод!$F$1:$F$30),Ввод!$D$1:$D$30,\"\"),\" / \")","v":""},{"$f":"MyJoin(IF((F$2=Ввод!$C$1:$C$30)*($A956>=Ввод!$E$1:$E$30)*($A956<=Ввод!$F$1:$F$30),Ввод!$D$1:$D$30,\"\"),\" / \")","v":""},"2024-08-06"]
["2024-08-07",{"$f":"MyJoin(IF((B$2=Ввод!$C$1:$C$30)*($A957>=Ввод!$E$1:$E$30)*($A957<=Ввод!$F$1:$F$30),Ввод!$D$1:$D$30,\"\"),\" / \")","v":""},{"$f":"MyJoin(IF((C$2=Ввод!$C$1:$C$30)*($A957>=Ввод!$E$1:$E$30)*($A957<=Ввод!$F$1:$F$30),Ввод!$D$1:$D$30,\"\"),\" / \")","v":""},{"$f":"MyJoin(IF((D$2=Ввод!$C$1:$C$30)*($A957>=Ввод!$E$1:$E$30)*($A957<=Ввод!$F$1:$F$30),Ввод!$D$1:$D$30,\"\"),\" / \")","v":""},{"$f":"MyJoin(IF((E$2=Ввод!$C$1:$C$30)*($A957>=Ввод!$E$1:$E$30)*($A957<=Ввод!$F$1:$F$30),Ввод!$D$1:$D$30,\"\"),\" / \")","v":""},{"$f":"MyJoin(IF((F$2=Ввод!$C$1:$C$30)*($A957>=Ввод!$E$1:$E$30)*($A957<=Ввод!$F$1:$F$30),Ввод!$D$1:$D$30,\"\"),\" / \")","v":""},"2024-08-07"]
["2024-08-08",{"$f":"MyJoin(IF((B$2=Ввод!$C$1:$C$30)*($A958>=Ввод!$E$1:$E$30)*($A958<=Ввод!$F$1:$F$30),Ввод!$D$1:$D$30,\"\"),\" / \")","v":""},{"$f":"MyJoin(IF((C$2=Ввод!$C$1:$C$30)*($A958>=Ввод!$E$1:$E$30)*($A958<=Ввод!$F$1:$F$30),Ввод!$D$1:$D$30,\"\"),\" / \")","v":""},{"$f":"MyJoin(IF((D$2=Ввод!$C$1:$C$30)*($A958>=Ввод!$E$1:$E$30)*($A958<=Ввод!$F$1:$F$30),Ввод!$D$1:$D$30,\"\"),\" / \")","v":""},{"$f":"MyJoin(IF((E$2=Ввод!$C$1:$C$30)*($A958>=Ввод!$E$1:$E$30)*($A958<=Ввод!$F$1:$F$30),Ввод!$D$1:$D$30,\"\"),\" / \")","v":""},{"$f":"MyJoin(IF((F$2=Ввод!$C$1:$C$30)*($A958>=Ввод!$E$1:$E$30)*($A958<=Ввод!$F$1:$F$30),Ввод!$D$1:$D$30,\"\"),\" / \")","v":""},"2024-08-08"]
["2024-08-09",{"$f":"MyJoin(IF((B$2=Ввод!$C$1:$C$30)*($A959>=Ввод!$E$1:$E$30)*($A959<=Ввод!$F$1:$F$30),Ввод!$D$1:$D$30,\"\"),\" / \")","v":""},{"$f":"MyJoin(IF((C$2=Ввод!$C$1:$C$30)*($A959>=Ввод!$E$1:$E$30)*($A959<=Ввод!$F$1:$F$30),Ввод!$D$1:$D$30,\"\"),\" / \")","v":""},{"$f":"MyJoin(IF((D$2=Ввод!$C$1:$C$30)*($A959>=Ввод!$E$1:$E$30)*($A959<=Ввод!$F$1:$F$30),Ввод!$D$1:$D$30,\"\"),\" / \")","v":""},{"$f":"MyJoin(IF((E$2=Ввод!$C$1:$C$30)*($A959>=Ввод!$E$1:$E$30)*($A959<=Ввод!$F$1:$F$30),Ввод!$D$1:$D$30,\"\"),\" / \")","v":""},{"$f":"MyJoin(IF((F$2=Ввод!$C$1:$C$30)*($A959>=Ввод!$E$1:$E$30)*($A959<=Ввод!$F$1:$F$30),Ввод!$D$1:$D$30,\"\"),\" / \")","v":""},"2024-08-09"]
["2024-08-10",{"$f":"MyJoin(IF((B$2=Ввод!$C$1:$C$30)*($A960>=Ввод!$E$1:$E$30)*($A960<=Ввод!$F$1:$F$30),Ввод!$D$1:$D$30,\"\"),\" / \")","v":""},{"$f":"MyJoin(IF((C$2=Ввод!$C$1:$C$30)*($A960>=Ввод!$E$1:$E$30)*($A960<=Ввод!$F$1:$F$30),Ввод!$D$1:$D$30,\"\"),\" / \")","v":""},{"$f":"MyJoin(IF((D$2=Ввод!$C$1:$C$30)*($A960>=Ввод!$E$1:$E$30)*($A960<=Ввод!$F$1:$F$30),Ввод!$D$1:$D$30,\"\"),\" / \")","v":""},{"$f":"MyJoin(IF((E$2=Ввод!$C$1:$C$30)*($A960>=Ввод!$E$1:$E$30)*($A960<=Ввод!$F$1:$F$30),Ввод!$D$1:$D$30,\"\"),\" / \")","v":""},{"$f":"MyJoin(IF((F$2=Ввод!$C$1:$C$30)*($A960>=Ввод!$E$1:$E$30)*($A960<=Ввод!$F$1:$F$30),Ввод!$D$1:$D$30,\"\"),\" / \")","v":""},"2024-08-10"]
["2024-08-11",{"$f":"MyJoin(IF((B$2=Ввод!$C$1:$C$30)*($A961>=Ввод!$E$1:$E$30)*($A961<=Ввод!$F$1:$F$30),Ввод!$D$1:$D$30,\"\"),\" / \")","v":""},{"$f":"MyJoin(IF((C$2=Ввод!$C$1:$C$30)*($A961>=Ввод!$E$1:$E$30)*($A961<=Ввод!$F$1:$F$30),Ввод!$D$1:$D$30,\"\"),\" / \")","v":""},{"$f":"MyJoin(IF((D$2=Ввод!$C$1:$C$30)*($A961>=Ввод!$E$1:$E$30)*($A961<=Ввод!$F$1:$F$30),Ввод!$D$1:$D$30,\"\"),\" / \")","v":""},{"$f":"MyJoin(IF((E$2=Ввод!$C$1:$C$30)*($A961>=Ввод!$E$1:$E$30)*($A961<=Ввод!$F$1:$F$30),Ввод!$D$1:$D$30,\"\"),\" / \")","v":""},{"$f":"MyJoin(IF((F$2=Ввод!$C$1:$C$30)*($A961>=Ввод!$E$1:$E$30)*($A961<=Ввод!$F$1:$F$30),Ввод!$D$1:$D$30,\"\"),\" / \")","v":""},"2024-08-11"]
["2024-08-12",{"$f":"MyJoin(IF((B$2=Ввод!$C$1:$C$30)*($A962>=Ввод!$E$1:$E$30)*($A962<=Ввод!$F$1:$F$30),Ввод!$D$1:$D$30,\"\"),\" / \")","v":""},{"$f":"MyJoin(IF((C$2=Ввод!$C$1:$C$30)*($A962>=Ввод!$E$1:$E$30)*($A962<=Ввод!$F$1:$F$30),Ввод!$D$1:$D$30,\"\"),\" / \")","v":""},{"$f":"MyJoin(IF((D$2=Ввод!$C$1:$C$30)*($A962>=Ввод!$E$1:$E$30)*($A962<=Ввод!$F$1:$F$30),Ввод!$D$1:$D$30,\"\"),\" / \")","v":""},{"$f":"MyJoin(IF((E$2=Ввод!$C$1:$C$30)*($A962>=Ввод!$E$1:$E$30)*($A962<=Ввод!$F$1:$F$30),Ввод!$D$1:$D$30,\"\"),\" / \")","v":""},{"$f":"MyJoin(IF((F$2=Ввод!$C$1:$C$30)*($A962>=Ввод!$E$1:$E$30)*($A962<=Ввод!$F$1:$F$30),Ввод!$D$1:$D$30,\"\"),\" / \")","v":""},"2024-08-12"]
["2024-08-13",{"$f":"MyJoin(IF((B$2=Ввод!$C$1:$C$30)*($A963>=Ввод!$E$1:$E$30)*($A963<=Ввод!$F$1:$F$30),Ввод!$D$1:$D$30,\"\"),\" / \")","v":""},{"$f":"MyJoin(IF((C$2=Ввод!$C$1:$C$30)*($A963>=Ввод!$E$1:$E$30)*($A963<=Ввод!$F$1:$F$30),Ввод!$D$1:$D$30,\"\"),\" / \")","v":""},{"$f":"MyJoin(IF((D$2=Ввод!$C$1:$C$30)*($A963>=Ввод!$E$1:$E$30)*($A963<=Ввод!$F$1:$F$30),Ввод!$D$1:$D$30,\"\"),\" / \")","v":""},{"$f":"MyJoin(IF((E$2=Ввод!$C$1:$C$30)*($A963>=Ввод!$E$1:$E$30)*($A963<=Ввод!$F$1:$F$30),Ввод!$D$1:$D$30,\"\"),\" / \")","v":""},{"$f":"MyJoin(IF((F$2=Ввод!$C$1:$C$30)*($A963>=Ввод!$E$1:$E$30)*($A963<=Ввод!$F$1:$F$30),Ввод!$D$1:$D$30,\"\"),\" / \")","v":""},"2024-08-13"]
["2024-08-14",{"$f":"MyJoin(IF((B$2=Ввод!$C$1:$C$30)*($A964>=Ввод!$E$1:$E$30)*($A964<=Ввод!$F$1:$F$30),Ввод!$D$1:$D$30,\"\"),\" / \")","v":""},{"$f":"MyJoin(IF((C$2=Ввод!$C$1:$C$30)*($A964>=Ввод!$E$1:$E$30)*($A964<=Ввод!$F$1:$F$30),Ввод!$D$1:$D$30,\"\"),\" / \")","v":""},{"$f":"MyJoin(IF((D$2=Ввод!$C$1:$C$30)*($A964>=Ввод!$E$1:$E$30)*($A964<=Ввод!$F$1:$F$30),Ввод!$D$1:$D$30,\"\"),\" / \")","v":""},{"$f":"MyJoin(IF((E$2=Ввод!$C$1:$C$30)*($A964>=Ввод!$E$1:$E$30)*($A964<=Ввод!$F$1:$F$30),Ввод!$D$1:$D$30,\"\"),\" / \")","v":""},{"$f":"MyJoin(IF((F$2=Ввод!$C$1:$C$30)*($A964>=Ввод!$E$1:$E$30)*($A964<=Ввод!$F$1:$F$30),Ввод!$D$1:$D$30,\"\"),\" / \")","v":""},"2024-08-14"]
["2024-08-15",{"$f":"MyJoin(IF((B$2=Ввод!$C$1:$C$30)*($A965>=Ввод!$E$1:$E$30)*($A965<=Ввод!$F$1:$F$30),Ввод!$D$1:$D$30,\"\"),\" / \")","v":""},{"$f":"MyJoin(IF((C$2=Ввод!$C$1:$C$30)*($A965>=Ввод!$E$1:$E$30)*($A965<=Ввод!$F$1:$F$30),Ввод!$D$1:$D$30,\"\"),\" / \")","v":""},{"$f":"MyJoin(IF((D$2=Ввод!$C$1:$C$30)*($A965>=Ввод!$E$1:$E$30)*($A965<=Ввод!$F$1:$F$30),Ввод!$D$1:$D$30,\"\"),\" / \")","v":""},{"$f":"MyJoin(IF((E$2=Ввод!$C$1:$C$30)*($A965>=Ввод!$E$1:$E$30)*($A965<=Ввод!$F$1:$F$30),Ввод!$D$1:$D$30,\"\"),\" / \")","v":""},{"$f":"MyJoin(IF((F$2=Ввод!$C$1:$C$30)*($A965>=Ввод!$E$1:$E$30)*($A965<=Ввод!$F$1:$F$30),Ввод!$D$1:$D$30,\"\"),\" / \")","v":""},"2024-08-15"]
["2024-08-16",{"$f":"MyJoin(IF((B$2=Ввод!$C$1:$C$30)*($A966>=Ввод!$E$1:$E$30)*($A966<=Ввод!$F$1:$F$30),Ввод!$D$1:$D$30,\"\"),\" / \")","v":""},{"$f":"MyJoin(IF((C$2=Ввод!$C$1:$C$30)*($A966>=Ввод!$E$1:$E$30)*($A966<=Ввод!$F$1:$F$30),Ввод!$D$1:$D$30,\"\"),\" / \")","v":""},{"$f":"MyJoin(IF((D$2=Ввод!$C$1:$C$30)*($A966>=Ввод!$E$1:$E$30)*($A966<=Ввод!$F$1:$F$30),Ввод!$D$1:$D$30,\"\"),\" / \")","v":""},{"$f":"MyJoin(IF((E$2=Ввод!$C$1:$C$30)*($A966>=Ввод!$E$1:$E$30)*($A966<=Ввод!$F$1:$F$30),Ввод!$D$1:$D$30,\"\"),\" / \")","v":""},{"$f":"MyJoin(IF((F$2=Ввод!$C$1:$C$30)*($A966>=Ввод!$E$1:$E$30)*($A966<=Ввод!$F$1:$F$30),Ввод!$D$1:$D$30,\"\"),\" / \")","v":""},"2024-08-16"]
["2024-08-17",{"$f":"MyJoin(IF((B$2=Ввод!$C$1:$C$30)*($A967>=Ввод!$E$1:$E$30)*($A967<=Ввод!$F$1:$F$30),Ввод!$D$1:$D$30,\"\"),\" / \")","v":""},{"$f":"MyJoin(IF((C$2=Ввод!$C$1:$C$30)*($A967>=Ввод!$E$1:$E$30)*($A967<=Ввод!$F$1:$F$30),Ввод!$D$1:$D$30,\"\"),\" / \")","v":""},{"$f":"MyJoin(IF((D$2=Ввод!$C$1:$C$30)*($A967>=Ввод!$E$1:$E$30)*($A967<=Ввод!$F$1:$F$30),Ввод!$D$1:$D$30,\"\"),\" / \")","v":""},{"$f":"MyJoin(IF((E$2=Ввод!$C$1:$C$30)*($A967>=Ввод!$E$1:$E$30)*($A967<=Ввод!$F$1:$F$30),Ввод!$D$1:$D$30,\"\"),\" / \")","v":""},{"$f":"MyJoin(IF((F$2=Ввод!$C$1:$C$30)*($A967>=Ввод!$E$1:$E$30)*($A967<=Ввод!$F$1:$F$30),Ввод!$D$1:$D$30,\"\"),\" / \")","v":""},"2024-08-17"]
["2024-08-18",{"$f":"MyJoin(IF((B$2=Ввод!$C$1:$C$30)*($A968>=Ввод!$E$1:$E$30)*($A968<=Ввод!$F$1:$F$30),Ввод!$D$1:$D$30,\"\"),\" / \")","v":""},{"$f":"MyJoin(IF((C$2=Ввод!$C$1:$C$30)*($A968>=Ввод!$E$1:$E$30)*($A968<=Ввод!$F$1:$F$30),Ввод!$D$1:$D$30,\"\"),\" / \")","v":""},{"$f":"MyJoin(IF((D$2=Ввод!$C$1:$C$30)*($A968>=Ввод!$E$1:$E$30)*($A968<=Ввод!$F$1:$F$30),Ввод!$D$1:$D$30,\"\"),\" / \")","v":""},{"$f":"MyJoin(IF((E$2=Ввод!$C$1:$C$30)*($A968>=Ввод!$E$1:$E$30)*($A968<=Ввод!$F$1:$F$30),Ввод!$D$1:$D$30,\"\"),\" / \")","v":""},{"$f":"MyJoin(IF((F$2=Ввод!$C$1:$C$30)*($A968>=Ввод!$E$1:$E$30)*($A968<=Ввод!$F$1:$F$30),Ввод!$D$1:$D$30,\"\"),\" / \")","v":""},"2024-08-18"]
["2024-08-19",{"$f":"MyJoin(IF((B$2=Ввод!$C$1:$C$30)*($A969>=Ввод!$E$1:$E$30)*($A969<=Ввод!$F$1:$F$30),Ввод!$D$1:$D$30,\"\"),\" / \")","v":""},{"$f":"MyJoin(IF((C$2=Ввод!$C$1:$C$30)*($A969>=Ввод!$E$1:$E$30)*($A969<=Ввод!$F$1:$F$30),Ввод!$D$1:$D$30,\"\"),\" / \")","v":""},{"$f":"MyJoin(IF((D$2=Ввод!$C$1:$C$30)*($A969>=Ввод!$E$1:$E$30)*($A969<=Ввод!$F$1:$F$30),Ввод!$D$1:$D$30,\"\"),\" / \")","v":""},{"$f":"MyJoin(IF((E$2=Ввод!$C$1:$C$30)*($A969>=Ввод!$E$1:$E$30)*($A969<=Ввод!$F$1:$F$30),Ввод!$D$1:$D$30,\"\"),\" / \")","v":""},{"$f":"MyJoin(IF((F$2=Ввод!$C$1:$C$30)*($A969>=Ввод!$E$1:$E$30)*($A969<=Ввод!$F$1:$F$30),Ввод!$D$1:$D$30,\"\"),\" / \")","v":""},{"$f":"IF(A969=\"\",\"\",A969)","v":"2024-08-19"}]
["2024-08-20",{"$f":"MyJoin(IF((B$2=Ввод!$C$1:$C$30)*($A970>=Ввод!$E$1:$E$30)*($A970<=Ввод!$F$1:$F$30),Ввод!$D$1:$D$30,\"\"),\" / \")","v":""},{"$f":"MyJoin(IF((C$2=Ввод!$C$1:$C$30)*($A970>=Ввод!$E$1:$E$30)*($A970<=Ввод!$F$1:$F$30),Ввод!$D$1:$D$30,\"\"),\" / \")","v":""},{"$f":"MyJoin(IF((D$2=Ввод!$C$1:$C$30)*($A970>=Ввод!$E$1:$E$30)*($A970<=Ввод!$F$1:$F$30),Ввод!$D$1:$D$30,\"\"),\" / \")","v":""},{"$f":"MyJoin(IF((E$2=Ввод!$C$1:$C$30)*($A970>=Ввод!$E$1:$E$30)*($A970<=Ввод!$F$1:$F$30),Ввод!$D$1:$D$30,\"\"),\" / \")","v":""},{"$f":"MyJoin(IF((F$2=Ввод!$C$1:$C$30)*($A970>=Ввод!$E$1:$E$30)*($A970<=Ввод!$F$1:$F$30),Ввод!$D$1:$D$30,\"\"),\" / \")","v":""},"2024-08-20"]
["2024-08-21",{"$f":"MyJoin(IF((B$2=Ввод!$C$1:$C$30)*($A971>=Ввод!$E$1:$E$30)*($A971<=Ввод!$F$1:$F$30),Ввод!$D$1:$D$30,\"\"),\" / \")","v":""},{"$f":"MyJoin(IF((C$2=Ввод!$C$1:$C$30)*($A971>=Ввод!$E$1:$E$30)*($A971<=Ввод!$F$1:$F$30),Ввод!$D$1:$D$30,\"\"),\" / \")","v":""},{"$f":"MyJoin(IF((D$2=Ввод!$C$1:$C$30)*($A971>=Ввод!$E$1:$E$30)*($A971<=Ввод!$F$1:$F$30),Ввод!$D$1:$D$30,\"\"),\" / \")","v":""},{"$f":"MyJoin(IF((E$2=Ввод!$C$1:$C$30)*($A971>=Ввод!$E$1:$E$30)*($A971<=Ввод!$F$1:$F$30),Ввод!$D$1:$D$30,\"\"),\" / \")","v":""},{"$f":"MyJoin(IF((F$2=Ввод!$C$1:$C$30)*($A971>=Ввод!$E$1:$E$30)*($A971<=Ввод!$F$1:$F$30),Ввод!$D$1:$D$30,\"\"),\" / \")","v":""},"2024-08-21"]
["2024-08-22",{"$f":"MyJoin(IF((B$2=Ввод!$C$1:$C$30)*($A972>=Ввод!$E$1:$E$30)*($A972<=Ввод!$F$1:$F$30),Ввод!$D$1:$D$30,\"\"),\" / \")","v":""},{"$f":"MyJoin(IF((C$2=Ввод!$C$1:$C$30)*($A972>=Ввод!$E$1:$E$30)*($A972<=Ввод!$F$1:$F$30),Ввод!$D$1:$D$30,\"\"),\" / \")","v":""},{"$f":"MyJoin(IF((D$2=Ввод!$C$1:$C$30)*($A972>=Ввод!$E$1:$E$30)*($A972<=Ввод!$F$1:$F$30),Ввод!$D$1:$D$30,\"\"),\" / \")","v":""},{"$f":"MyJoin(IF((E$2=Ввод!$C$1:$C$30)*($A972>=Ввод!$E$1:$E$30)*($A972<=Ввод!$F$1:$F$30),Ввод!$D$1:$D$30,\"\"),\" / \")","v":""},{"$f":"MyJoin(IF((F$2=Ввод!$C$1:$C$30)*($A972>=Ввод!$E$1:$E$30)*($A972<=Ввод!$F$1:$F$30),Ввод!$D$1:$D$30,\"\"),\" / \")","v":""},"2024-08-22"]
["2024-08-23",{"$f":"MyJoin(IF((B$2=Ввод!$C$1:$C$30)*($A973>=Ввод!$E$1:$E$30)*($A973<=Ввод!$F$1:$F$30),Ввод!$D$1:$D$30,\"\"),\" / \")","v":""},{"$f":"MyJoin(IF((C$2=Ввод!$C$1:$C$30)*($A973>=Ввод!$E$1:$E$30)*($A973<=Ввод!$F$1:$F$30),Ввод!$D$1:$D$30,\"\"),\" / \")","v":""},{"$f":"MyJoin(IF((D$2=Ввод!$C$1:$C$30)*($A973>=Ввод!$E$1:$E$30)*($A973<=Ввод!$F$1:$F$30),Ввод!$D$1:$D$30,\"\"),\" / \")","v":""},{"$f":"MyJoin(IF((E$2=Ввод!$C$1:$C$30)*($A973>=Ввод!$E$1:$E$30)*($A973<=Ввод!$F$1:$F$30),Ввод!$D$1:$D$30,\"\"),\" / \")","v":""},{"$f":"MyJoin(IF((F$2=Ввод!$C$1:$C$30)*($A973>=Ввод!$E$1:$E$30)*($A973<=Ввод!$F$1:$F$30),Ввод!$D$1:$D$30,\"\"),\" / \")","v":""},"2024-08-23"]
["2024-08-24",{"$f":"MyJoin(IF((B$2=Ввод!$C$1:$C$30)*($A974>=Ввод!$E$1:$E$30)*($A974<=Ввод!$F$1:$F$30),Ввод!$D$1:$D$30,\"\"),\" / \")","v":""},{"$f":"MyJoin(IF((C$2=Ввод!$C$1:$C$30)*($A974>=Ввод!$E$1:$E$30)*($A974<=Ввод!$F$1:$F$30),Ввод!$D$1:$D$30,\"\"),\" / \")","v":""},{"$f":"MyJoin(IF((D$2=Ввод!$C$1:$C$30)*($A974>=Ввод!$E$1:$E$30)*($A974<=Ввод!$F$1:$F$30),Ввод!$D$1:$D$30,\"\"),\" / \")","v":""},{"$f":"MyJoin(IF((E$2=Ввод!$C$1:$C$30)*($A974>=Ввод!$E$1:$E$30)*($A974<=Ввод!$F$1:$F$30),Ввод!$D$1:$D$30,\"\"),\" / \")","v":""},{"$f":"MyJoin(IF((F$2=Ввод!$C$1:$C$30)*($A974>=Ввод!$E$1:$E$30)*($A974<=Ввод!$F$1:$F$30),Ввод!$D$1:$D$30,\"\"),\" / \")","v":""},"2024-08-24"]
["2024-08-25",{"$f":"MyJoin(IF((B$2=Ввод!$C$1:$C$30)*($A975>=Ввод!$E$1:$E$30)*($A975<=Ввод!$F$1:$F$30),Ввод!$D$1:$D$30,\"\"),\" / \")","v":""},{"$f":"MyJoin(IF((C$2=Ввод!$C$1:$C$30)*($A975>=Ввод!$E$1:$E$30)*($A975<=Ввод!$F$1:$F$30),Ввод!$D$1:$D$30,\"\"),\" / \")","v":""},{"$f":"MyJoin(IF((D$2=Ввод!$C$1:$C$30)*($A975>=Ввод!$E$1:$E$30)*($A975<=Ввод!$F$1:$F$30),Ввод!$D$1:$D$30,\"\"),\" / \")","v":""},{"$f":"MyJoin(IF((E$2=Ввод!$C$1:$C$30)*($A975>=Ввод!$E$1:$E$30)*($A975<=Ввод!$F$1:$F$30),Ввод!$D$1:$D$30,\"\"),\" / \")","v":""},{"$f":"MyJoin(IF((F$2=Ввод!$C$1:$C$30)*($A975>=Ввод!$E$1:$E$30)*($A975<=Ввод!$F$1:$F$30),Ввод!$D$1:$D$30,\"\"),\" / \")","v":""},"2024-08-25"]
["2024-08-26",{"$f":"MyJoin(IF((B$2=Ввод!$C$1:$C$30)*($A976>=Ввод!$E$1:$E$30)*($A976<=Ввод!$F$1:$F$30),Ввод!$D$1:$D$30,\"\"),\" / \")","v":""},{"$f":"MyJoin(IF((C$2=Ввод!$C$1:$C$30)*($A976>=Ввод!$E$1:$E$30)*($A976<=Ввод!$F$1:$F$30),Ввод!$D$1:$D$30,\"\"),\" / \")","v":""},{"$f":"MyJoin(IF((D$2=Ввод!$C$1:$C$30)*($A976>=Ввод!$E$1:$E$30)*($A976<=Ввод!$F$1:$F$30),Ввод!$D$1:$D$30,\"\"),\" / \")","v":""},{"$f":"MyJoin(IF((E$2=Ввод!$C$1:$C$30)*($A976>=Ввод!$E$1:$E$30)*($A976<=Ввод!$F$1:$F$30),Ввод!$D$1:$D$30,\"\"),\" / \")","v":""},{"$f":"MyJoin(IF((F$2=Ввод!$C$1:$C$30)*($A976>=Ввод!$E$1:$E$30)*($A976<=Ввод!$F$1:$F$30),Ввод!$D$1:$D$30,\"\"),\" / \")","v":""},"2024-08-26"]
["2024-08-27",{"$f":"MyJoin(IF((B$2=Ввод!$C$1:$C$30)*($A977>=Ввод!$E$1:$E$30)*($A977<=Ввод!$F$1:$F$30),Ввод!$D$1:$D$30,\"\"),\" / \")","v":""},{"$f":"MyJoin(IF((C$2=Ввод!$C$1:$C$30)*($A977>=Ввод!$E$1:$E$30)*($A977<=Ввод!$F$1:$F$30),Ввод!$D$1:$D$30,\"\"),\" / \")","v":""},{"$f":"MyJoin(IF((D$2=Ввод!$C$1:$C$30)*($A977>=Ввод!$E$1:$E$30)*($A977<=Ввод!$F$1:$F$30),Ввод!$D$1:$D$30,\"\"),\" / \")","v":""},{"$f":"MyJoin(IF((E$2=Ввод!$C$1:$C$30)*($A977>=Ввод!$E$1:$E$30)*($A977<=Ввод!$F$1:$F$30),Ввод!$D$1:$D$30,\"\"),\" / \")","v":""},{"$f":"MyJoin(IF((F$2=Ввод!$C$1:$C$30)*($A977>=Ввод!$E$1:$E$30)*($A977<=Ввод!$F$1:$F$30),Ввод!$D$1:$D$30,\"\"),\" / \")","v":""},"2024-08-27"]
["2024-08-28",{"$f":"MyJoin(IF((B$2=Ввод!$C$1:$C$30)*($A978>=Ввод!$E$1:$E$30)*($A978<=Ввод!$F$1:$F$30),Ввод!$D$1:$D$30,\"\"),\" / \")","v":""},{"$f":"MyJoin(IF((C$2=Ввод!$C$1:$C$30)*($A978>=Ввод!$E$1:$E$30)*($A978<=Ввод!$F$1:$F$30),Ввод!$D$1:$D$30,\"\"),\" / \")","v":""},{"$f":"MyJoin(IF((D$2=Ввод!$C$1:$C$30)*($A978>=Ввод!$E$1:$E$30)*($A978<=Ввод!$F$1:$F$30),Ввод!$D$1:$D$30,\"\"),\" / \")","v":""},{"$f":"MyJoin(IF((E$2=Ввод!$C$1:$C$30)*($A978>=Ввод!$E$1:$E$30)*($A978<=Ввод!$F$1:$F$30),Ввод!$D$1:$D$30,\"\"),\" / \")","v":""},{"$f":"MyJoin(IF((F$2=Ввод!$C$1:$C$30)*($A978>=Ввод!$E$1:$E$30)*($A978<=Ввод!$F$1:$F$30),Ввод!$D$1:$D$30,\"\"),\" / \")","v":""},"2024-08-28"]
["2024-08-29",{"$f":"MyJoin(IF((B$2=Ввод!$C$1:$C$30)*($A979>=Ввод!$E$1:$E$30)*($A979<=Ввод!$F$1:$F$30),Ввод!$D$1:$D$30,\"\"),\" / \")","v":""},{"$f":"MyJoin(IF((C$2=Ввод!$C$1:$C$30)*($A979>=Ввод!$E$1:$E$30)*($A979<=Ввод!$F$1:$F$30),Ввод!$D$1:$D$30,\"\"),\" / \")","v":""},{"$f":"MyJoin(IF((D$2=Ввод!$C$1:$C$30)*($A979>=Ввод!$E$1:$E$30)*($A979<=Ввод!$F$1:$F$30),Ввод!$D$1:$D$30,\"\"),\" / \")","v":""},{"$f":"MyJoin(IF((E$2=Ввод!$C$1:$C$30)*($A979>=Ввод!$E$1:$E$30)*($A979<=Ввод!$F$1:$F$30),Ввод!$D$1:$D$30,\"\"),\" / \")","v":""},{"$f":"MyJoin(IF((F$2=Ввод!$C$1:$C$30)*($A979>=Ввод!$E$1:$E$30)*($A979<=Ввод!$F$1:$F$30),Ввод!$D$1:$D$30,\"\"),\" / \")","v":""},"2024-08-29"]
["2024-08-30",{"$f":"MyJoin(IF((B$2=Ввод!$C$1:$C$30)*($A980>=Ввод!$E$1:$E$30)*($A980<=Ввод!$F$1:$F$30),Ввод!$D$1:$D$30,\"\"),\" / \")","v":""},{"$f":"MyJoin(IF((C$2=Ввод!$C$1:$C$30)*($A980>=Ввод!$E$1:$E$30)*($A980<=Ввод!$F$1:$F$30),Ввод!$D$1:$D$30,\"\"),\" / \")","v":""},{"$f":"MyJoin(IF((D$2=Ввод!$C$1:$C$30)*($A980>=Ввод!$E$1:$E$30)*($A980<=Ввод!$F$1:$F$30),Ввод!$D$1:$D$30,\"\"),\" / \")","v":""},{"$f":"MyJoin(IF((E$2=Ввод!$C$1:$C$30)*($A980>=Ввод!$E$1:$E$30)*($A980<=Ввод!$F$1:$F$30),Ввод!$D$1:$D$30,\"\"),\" / \")","v":""},{"$f":"MyJoin(IF((F$2=Ввод!$C$1:$C$30)*($A980>=Ввод!$E$1:$E$30)*($A980<=Ввод!$F$1:$F$30),Ввод!$D$1:$D$30,\"\"),\" / \")","v":""},"2024-08-30"]
["2024-08-31",{"$f":"MyJoin(IF((B$2=Ввод!$C$1:$C$30)*($A981>=Ввод!$E$1:$E$30)*($A981<=Ввод!$F$1:$F$30),Ввод!$D$1:$D$30,\"\"),\" / \")","v":""},{"$f":"MyJoin(IF((C$2=Ввод!$C$1:$C$30)*($A981>=Ввод!$E$1:$E$30)*($A981<=Ввод!$F$1:$F$30),Ввод!$D$1:$D$30,\"\"),\" / \")","v":""},{"$f":"MyJoin(IF((D$2=Ввод!$C$1:$C$30)*($A981>=Ввод!$E$1:$E$30)*($A981<=Ввод!$F$1:$F$30),Ввод!$D$1:$D$30,\"\"),\" / \")","v":""},{"$f":"MyJoin(IF((E$2=Ввод!$C$1:$C$30)*($A981>=Ввод!$E$1:$E$30)*($A981<=Ввод!$F$1:$F$30),Ввод!$D$1:$D$30,\"\"),\" / \")","v":""},{"$f":"MyJoin(IF((F$2=Ввод!$C$1:$C$30)*($A981>=Ввод!$E$1:$E$30)*($A981<=Ввод!$F$1:$F$30),Ввод!$D$1:$D$30,\"\"),\" / \")","v":""},"2024-08-31"]
["2024-09-01",{"$f":"MyJoin(IF((B$2=Ввод!$C$1:$C$30)*($A982>=Ввод!$E$1:$E$30)*($A982<=Ввод!$F$1:$F$30),Ввод!$D$1:$D$30,\"\"),\" / \")","v":""},{"$f":"MyJoin(IF((C$2=Ввод!$C$1:$C$30)*($A982>=Ввод!$E$1:$E$30)*($A982<=Ввод!$F$1:$F$30),Ввод!$D$1:$D$30,\"\"),\" / \")","v":""},{"$f":"MyJoin(IF((D$2=Ввод!$C$1:$C$30)*($A982>=Ввод!$E$1:$E$30)*($A982<=Ввод!$F$1:$F$30),Ввод!$D$1:$D$30,\"\"),\" / \")","v":""},{"$f":"MyJoin(IF((E$2=Ввод!$C$1:$C$30)*($A982>=Ввод!$E$1:$E$30)*($A982<=Ввод!$F$1:$F$30),Ввод!$D$1:$D$30,\"\"),\" / \")","v":""},{"$f":"MyJoin(IF((F$2=Ввод!$C$1:$C$30)*($A982>=Ввод!$E$1:$E$30)*($A982<=Ввод!$F$1:$F$30),Ввод!$D$1:$D$30,\"\"),\" / \")","v":""},"2024-09-01"]
["2024-09-02",{"$f":"MyJoin(IF((B$2=Ввод!$C$1:$C$30)*($A983>=Ввод!$E$1:$E$30)*($A983<=Ввод!$F$1:$F$30),Ввод!$D$1:$D$30,\"\"),\" / \")","v":""},{"$f":"MyJoin(IF((C$2=Ввод!$C$1:$C$30)*($A983>=Ввод!$E$1:$E$30)*($A983<=Ввод!$F$1:$F$30),Ввод!$D$1:$D$30,\"\"),\" / \")","v":""},{"$f":"MyJoin(IF((D$2=Ввод!$C$1:$C$30)*($A983>=Ввод!$E$1:$E$30)*($A983<=Ввод!$F$1:$F$30),Ввод!$D$1:$D$30,\"\"),\" / \")","v":""},{"$f":"MyJoin(IF((E$2=Ввод!$C$1:$C$30)*($A983>=Ввод!$E$1:$E$30)*($A983<=Ввод!$F$1:$F$30),Ввод!$D$1:$D$30,\"\"),\" / \")","v":""},{"$f":"MyJoin(IF((F$2=Ввод!$C$1:$C$30)*($A983>=Ввод!$E$1:$E$30)*($A983<=Ввод!$F$1:$F$30),Ввод!$D$1:$D$30,\"\"),\" / \")","v":""},"2024-09-02"]
["2024-09-03",{"$f":"MyJoin(IF((B$2=Ввод!$C$1:$C$30)*($A984>=Ввод!$E$1:$E$30)*($A984<=Ввод!$F$1:$F$30),Ввод!$D$1:$D$30,\"\"),\" / \")","v":""},{"$f":"MyJoin(IF((C$2=Ввод!$C$1:$C$30)*($A984>=Ввод!$E$1:$E$30)*($A984<=Ввод!$F$1:$F$30),Ввод!$D$1:$D$30,\"\"),\" / \")","v":""},{"$f":"MyJoin(IF((D$2=Ввод!$C$1:$C$30)*($A984>=Ввод!$E$1:$E$30)*($A984<=Ввод!$F$1:$F$30),Ввод!$D$1:$D$30,\"\"),\" / \")","v":""},{"$f":"MyJoin(IF((E$2=Ввод!$C$1:$C$30)*($A984>=Ввод!$E$1:$E$30)*($A984<=Ввод!$F$1:$F$30),Ввод!$D$1:$D$30,\"\"),\" / \")","v":""},{"$f":"MyJoin(IF((F$2=Ввод!$C$1:$C$30)*($A984>=Ввод!$E$1:$E$30)*($A984<=Ввод!$F$1:$F$30),Ввод!$D$1:$D$30,\"\"),\" / \")","v":""},"2024-09-03"]
["2024-09-04",{"$f":"MyJoin(IF((B$2=Ввод!$C$1:$C$30)*($A985>=Ввод!$E$1:$E$30)*($A985<=Ввод!$F$1:$F$30),Ввод!$D$1:$D$30,\"\"),\" / \")","v":""},{"$f":"MyJoin(IF((C$2=Ввод!$C$1:$C$30)*($A985>=Ввод!$E$1:$E$30)*($A985<=Ввод!$F$1:$F$30),Ввод!$D$1:$D$30,\"\"),\" / \")","v":""},{"$f":"MyJoin(IF((D$2=Ввод!$C$1:$C$30)*($A985>=Ввод!$E$1:$E$30)*($A985<=Ввод!$F$1:$F$30),Ввод!$D$1:$D$30,\"\"),\" / \")","v":""},{"$f":"MyJoin(IF((E$2=Ввод!$C$1:$C$30)*($A985>=Ввод!$E$1:$E$30)*($A985<=Ввод!$F$1:$F$30),Ввод!$D$1:$D$30,\"\"),\" / \")","v":""},{"$f":"MyJoin(IF((F$2=Ввод!$C$1:$C$30)*($A985>=Ввод!$E$1:$E$30)*($A985<=Ввод!$F$1:$F$30),Ввод!$D$1:$D$30,\"\"),\" / \")","v":""},"2024-09-04"]
["2024-09-05",{"$f":"MyJoin(IF((B$2=Ввод!$C$1:$C$30)*($A986>=Ввод!$E$1:$E$30)*($A986<=Ввод!$F$1:$F$30),Ввод!$D$1:$D$30,\"\"),\" / \")","v":""},{"$f":"MyJoin(IF((C$2=Ввод!$C$1:$C$30)*($A986>=Ввод!$E$1:$E$30)*($A986<=Ввод!$F$1:$F$30),Ввод!$D$1:$D$30,\"\"),\" / \")","v":""},{"$f":"MyJoin(IF((D$2=Ввод!$C$1:$C$30)*($A986>=Ввод!$E$1:$E$30)*($A986<=Ввод!$F$1:$F$30),Ввод!$D$1:$D$30,\"\"),\" / \")","v":""},{"$f":"MyJoin(IF((E$2=Ввод!$C$1:$C$30)*($A986>=Ввод!$E$1:$E$30)*($A986<=Ввод!$F$1:$F$30),Ввод!$D$1:$D$30,\"\"),\" / \")","v":""},{"$f":"MyJoin(IF((F$2=Ввод!$C$1:$C$30)*($A986>=Ввод!$E$1:$E$30)*($A986<=Ввод!$F$1:$F$30),Ввод!$D$1:$D$30,\"\"),\" / \")","v":""},"2024-09-05"]
["2024-09-06",{"$f":"MyJoin(IF((B$2=Ввод!$C$1:$C$30)*($A987>=Ввод!$E$1:$E$30)*($A987<=Ввод!$F$1:$F$30),Ввод!$D$1:$D$30,\"\"),\" / \")","v":""},{"$f":"MyJoin(IF((C$2=Ввод!$C$1:$C$30)*($A987>=Ввод!$E$1:$E$30)*($A987<=Ввод!$F$1:$F$30),Ввод!$D$1:$D$30,\"\"),\" / \")","v":""},{"$f":"MyJoin(IF((D$2=Ввод!$C$1:$C$30)*($A987>=Ввод!$E$1:$E$30)*($A987<=Ввод!$F$1:$F$30),Ввод!$D$1:$D$30,\"\"),\" / \")","v":""},{"$f":"MyJoin(IF((E$2=Ввод!$C$1:$C$30)*($A987>=Ввод!$E$1:$E$30)*($A987<=Ввод!$F$1:$F$30),Ввод!$D$1:$D$30,\"\"),\" / \")","v":""},{"$f":"MyJoin(IF((F$2=Ввод!$C$1:$C$30)*($A987>=Ввод!$E$1:$E$30)*($A987<=Ввод!$F$1:$F$30),Ввод!$D$1:$D$30,\"\"),\" / \")","v":""},"2024-09-06"]
["2024-09-07",{"$f":"MyJoin(IF((B$2=Ввод!$C$1:$C$30)*($A988>=Ввод!$E$1:$E$30)*($A988<=Ввод!$F$1:$F$30),Ввод!$D$1:$D$30,\"\"),\" / \")","v":""},{"$f":"MyJoin(IF((C$2=Ввод!$C$1:$C$30)*($A988>=Ввод!$E$1:$E$30)*($A988<=Ввод!$F$1:$F$30),Ввод!$D$1:$D$30,\"\"),\" / \")","v":""},{"$f":"MyJoin(IF((D$2=Ввод!$C$1:$C$30)*($A988>=Ввод!$E$1:$E$30)*($A988<=Ввод!$F$1:$F$30),Ввод!$D$1:$D$30,\"\"),\" / \")","v":""},{"$f":"MyJoin(IF((E$2=Ввод!$C$1:$C$30)*($A988>=Ввод!$E$1:$E$30)*($A988<=Ввод!$F$1:$F$30),Ввод!$D$1:$D$30,\"\"),\" / \")","v":""},{"$f":"MyJoin(IF((F$2=Ввод!$C$1:$C$30)*($A988>=Ввод!$E$1:$E$30)*($A988<=Ввод!$F$1:$F$30),Ввод!$D$1:$D$30,\"\"),\" / \")","v":""},"2024-09-07"]
["2024-09-08",{"$f":"MyJoin(IF((B$2=Ввод!$C$1:$C$30)*($A989>=Ввод!$E$1:$E$30)*($A989<=Ввод!$F$1:$F$30),Ввод!$D$1:$D$30,\"\"),\" / \")","v":""},{"$f":"MyJoin(IF((C$2=Ввод!$C$1:$C$30)*($A989>=Ввод!$E$1:$E$30)*($A989<=Ввод!$F$1:$F$30),Ввод!$D$1:$D$30,\"\"),\" / \")","v":""},{"$f":"MyJoin(IF((D$2=Ввод!$C$1:$C$30)*($A989>=Ввод!$E$1:$E$30)*($A989<=Ввод!$F$1:$F$30),Ввод!$D$1:$D$30,\"\"),\" / \")","v":""},{"$f":"MyJoin(IF((E$2=Ввод!$C$1:$C$30)*($A989>=Ввод!$E$1:$E$30)*($A989<=Ввод!$F$1:$F$30),Ввод!$D$1:$D$30,\"\"),\" / \")","v":""},{"$f":"MyJoin(IF((F$2=Ввод!$C$1:$C$30)*($A989>=Ввод!$E$1:$E$30)*($A989<=Ввод!$F$1:$F$30),Ввод!$D$1:$D$30,\"\"),\" / \")","v":""},"2024-09-08"]
["2024-09-09",{"$f":"MyJoin(IF((B$2=Ввод!$C$1:$C$30)*($A990>=Ввод!$E$1:$E$30)*($A990<=Ввод!$F$1:$F$30),Ввод!$D$1:$D$30,\"\"),\" / \")","v":""},{"$f":"MyJoin(IF((C$2=Ввод!$C$1:$C$30)*($A990>=Ввод!$E$1:$E$30)*($A990<=Ввод!$F$1:$F$30),Ввод!$D$1:$D$30,\"\"),\" / \")","v":""},{"$f":"MyJoin(IF((D$2=Ввод!$C$1:$C$30)*($A990>=Ввод!$E$1:$E$30)*($A990<=Ввод!$F$1:$F$30),Ввод!$D$1:$D$30,\"\"),\" / \")","v":""},{"$f":"MyJoin(IF((E$2=Ввод!$C$1:$C$30)*($A990>=Ввод!$E$1:$E$30)*($A990<=Ввод!$F$1:$F$30),Ввод!$D$1:$D$30,\"\"),\" / \")","v":""},{"$f":"MyJoin(IF((F$2=Ввод!$C$1:$C$30)*($A990>=Ввод!$E$1:$E$30)*($A990<=Ввод!$F$1:$F$30),Ввод!$D$1:$D$30,\"\"),\" / \")","v":""},"2024-09-09"]
["2024-09-10",{"$f":"MyJoin(IF((B$2=Ввод!$C$1:$C$30)*($A991>=Ввод!$E$1:$E$30)*($A991<=Ввод!$F$1:$F$30),Ввод!$D$1:$D$30,\"\"),\" / \")","v":""},{"$f":"MyJoin(IF((C$2=Ввод!$C$1:$C$30)*($A991>=Ввод!$E$1:$E$30)*($A991<=Ввод!$F$1:$F$30),Ввод!$D$1:$D$30,\"\"),\" / \")","v":""},{"$f":"MyJoin(IF((D$2=Ввод!$C$1:$C$30)*($A991>=Ввод!$E$1:$E$30)*($A991<=Ввод!$F$1:$F$30),Ввод!$D$1:$D$30,\"\"),\" / \")","v":""},{"$f":"MyJoin(IF((E$2=Ввод!$C$1:$C$30)*($A991>=Ввод!$E$1:$E$30)*($A991<=Ввод!$F$1:$F$30),Ввод!$D$1:$D$30,\"\"),\" / \")","v":""},{"$f":"MyJoin(IF((F$2=Ввод!$C$1:$C$30)*($A991>=Ввод!$E$1:$E$30)*($A991<=Ввод!$F$1:$F$30),Ввод!$D$1:$D$30,\"\"),\" / \")","v":""},"2024-09-10"]
["2024-09-11",{"$f":"MyJoin(IF((B$2=Ввод!$C$1:$C$30)*($A992>=Ввод!$E$1:$E$30)*($A992<=Ввод!$F$1:$F$30),Ввод!$D$1:$D$30,\"\"),\" / \")","v":""},{"$f":"MyJoin(IF((C$2=Ввод!$C$1:$C$30)*($A992>=Ввод!$E$1:$E$30)*($A992<=Ввод!$F$1:$F$30),Ввод!$D$1:$D$30,\"\"),\" / \")","v":""},{"$f":"MyJoin(IF((D$2=Ввод!$C$1:$C$30)*($A992>=Ввод!$E$1:$E$30)*($A992<=Ввод!$F$1:$F$30),Ввод!$D$1:$D$30,\"\"),\" / \")","v":""},{"$f":"MyJoin(IF((E$2=Ввод!$C$1:$C$30)*($A992>=Ввод!$E$1:$E$30)*($A992<=Ввод!$F$1:$F$30),Ввод!$D$1:$D$30,\"\"),\" / \")","v":""},{"$f":"MyJoin(IF((F$2=Ввод!$C$1:$C$30)*($A992>=Ввод!$E$1:$E$30)*($A992<=Ввод!$F$1:$F$30),Ввод!$D$1:$D$30,\"\"),\" / \")","v":""},"2024-09-11"]
["2024-09-12",{"$f":"MyJoin(IF((B$2=Ввод!$C$1:$C$30)*($A993>=Ввод!$E$1:$E$30)*($A993<=Ввод!$F$1:$F$30),Ввод!$D$1:$D$30,\"\"),\" / \")","v":""},{"$f":"MyJoin(IF((C$2=Ввод!$C$1:$C$30)*($A993>=Ввод!$E$1:$E$30)*($A993<=Ввод!$F$1:$F$30),Ввод!$D$1:$D$30,\"\"),\" / \")","v":""},{"$f":"MyJoin(IF((D$2=Ввод!$C$1:$C$30)*($A993>=Ввод!$E$1:$E$30)*($A993<=Ввод!$F$1:$F$30),Ввод!$D$1:$D$30,\"\"),\" / \")","v":""},{"$f":"MyJoin(IF((E$2=Ввод!$C$1:$C$30)*($A993>=Ввод!$E$1:$E$30)*($A993<=Ввод!$F$1:$F$30),Ввод!$D$1:$D$30,\"\"),\" / \")","v":""},{"$f":"MyJoin(IF((F$2=Ввод!$C$1:$C$30)*($A993>=Ввод!$E$1:$E$30)*($A993<=Ввод!$F$1:$F$30),Ввод!$D$1:$D$30,\"\"),\" / \")","v":""},"2024-09-12"]
["2024-09-13",{"$f":"MyJoin(IF((B$2=Ввод!$C$1:$C$30)*($A994>=Ввод!$E$1:$E$30)*($A994<=Ввод!$F$1:$F$30),Ввод!$D$1:$D$30,\"\"),\" / \")","v":""},{"$f":"MyJoin(IF((C$2=Ввод!$C$1:$C$30)*($A994>=Ввод!$E$1:$E$30)*($A994<=Ввод!$F$1:$F$30),Ввод!$D$1:$D$30,\"\"),\" / \")","v":""},{"$f":"MyJoin(IF((D$2=Ввод!$C$1:$C$30)*($A994>=Ввод!$E$1:$E$30)*($A994<=Ввод!$F$1:$F$30),Ввод!$D$1:$D$30,\"\"),\" / \")","v":""},{"$f":"MyJoin(IF((E$2=Ввод!$C$1:$C$30)*($A994>=Ввод!$E$1:$E$30)*($A994<=Ввод!$F$1:$F$30),Ввод!$D$1:$D$30,\"\"),\" / \")","v":""},{"$f":"MyJoin(IF((F$2=Ввод!$C$1:$C$30)*($A994>=Ввод!$E$1:$E$30)*($A994<=Ввод!$F$1:$F$30),Ввод!$D$1:$D$30,\"\"),\" / \")","v":""},"2024-09-13"]
["2024-09-14",{"$f":"MyJoin(IF((B$2=Ввод!$C$1:$C$30)*($A995>=Ввод!$E$1:$E$30)*($A995<=Ввод!$F$1:$F$30),Ввод!$D$1:$D$30,\"\"),\" / \")","v":""},{"$f":"MyJoin(IF((C$2=Ввод!$C$1:$C$30)*($A995>=Ввод!$E$1:$E$30)*($A995<=Ввод!$F$1:$F$30),Ввод!$D$1:$D$30,\"\"),\" / \")","v":""},{"$f":"MyJoin(IF((D$2=Ввод!$C$1:$C$30)*($A995>=Ввод!$E$1:$E$30)*($A995<=Ввод!$F$1:$F$30),Ввод!$D$1:$D$30,\"\"),\" / \")","v":""},{"$f":"MyJoin(IF((E$2=Ввод!$C$1:$C$30)*($A995>=Ввод!$E$1:$E$30)*($A995<=Ввод!$F$1:$F$30),Ввод!$D$1:$D$30,\"\"),\" / \")","v":""},{"$f":"MyJoin(IF((F$2=Ввод!$C$1:$C$30)*($A995>=Ввод!$E$1:$E$30)*($A995<=Ввод!$F$1:$F$30),Ввод!$D$1:$D$30,\"\"),\" / \")","v":""},"2024-09-14"]
["2024-09-15",{"$f":"MyJoin(IF((B$2=Ввод!$C$1:$C$30)*($A996>=Ввод!$E$1:$E$30)*($A996<=Ввод!$F$1:$F$30),Ввод!$D$1:$D$30,\"\"),\" / \")","v":""},{"$f":"MyJoin(IF((C$2=Ввод!$C$1:$C$30)*($A996>=Ввод!$E$1:$E$30)*($A996<=Ввод!$F$1:$F$30),Ввод!$D$1:$D$30,\"\"),\" / \")","v":""},{"$f":"MyJoin(IF((D$2=Ввод!$C$1:$C$30)*($A996>=Ввод!$E$1:$E$30)*($A996<=Ввод!$F$1:$F$30),Ввод!$D$1:$D$30,\"\"),\" / \")","v":""},{"$f":"MyJoin(IF((E$2=Ввод!$C$1:$C$30)*($A996>=Ввод!$E$1:$E$30)*($A996<=Ввод!$F$1:$F$30),Ввод!$D$1:$D$30,\"\"),\" / \")","v":""},{"$f":"MyJoin(IF((F$2=Ввод!$C$1:$C$30)*($A996>=Ввод!$E$1:$E$30)*($A996<=Ввод!$F$1:$F$30),Ввод!$D$1:$D$30,\"\"),\" / \")","v":""},"2024-09-15"]
["2024-09-16",{"$f":"MyJoin(IF((B$2=Ввод!$C$1:$C$30)*($A997>=Ввод!$E$1:$E$30)*($A997<=Ввод!$F$1:$F$30),Ввод!$D$1:$D$30,\"\"),\" / \")","v":""},{"$f":"MyJoin(IF((C$2=Ввод!$C$1:$C$30)*($A997>=Ввод!$E$1:$E$30)*($A997<=Ввод!$F$1:$F$30),Ввод!$D$1:$D$30,\"\"),\" / \")","v":""},{"$f":"MyJoin(IF((D$2=Ввод!$C$1:$C$30)*($A997>=Ввод!$E$1:$E$30)*($A997<=Ввод!$F$1:$F$30),Ввод!$D$1:$D$30,\"\"),\" / \")","v":""},{"$f":"MyJoin(IF((E$2=Ввод!$C$1:$C$30)*($A997>=Ввод!$E$1:$E$30)*($A997<=Ввод!$F$1:$F$30),Ввод!$D$1:$D$30,\"\"),\" / \")","v":""},{"$f":"MyJoin(IF((F$2=Ввод!$C$1:$C$30)*($A997>=Ввод!$E$1:$E$30)*($A997<=Ввод!$F$1:$F$30),Ввод!$D$1:$D$30,\"\"),\" / \")","v":""},"2024-09-16"]
["2024-09-17",{"$f":"MyJoin(IF((B$2=Ввод!$C$1:$C$30)*($A998>=Ввод!$E$1:$E$30)*($A998<=Ввод!$F$1:$F$30),Ввод!$D$1:$D$30,\"\"),\" / \")","v":""},{"$f":"MyJoin(IF((C$2=Ввод!$C$1:$C$30)*($A998>=Ввод!$E$1:$E$30)*($A998<=Ввод!$F$1:$F$30),Ввод!$D$1:$D$30,\"\"),\" / \")","v":""},{"$f":"MyJoin(IF((D$2=Ввод!$C$1:$C$30)*($A998>=Ввод!$E$1:$E$30)*($A998<=Ввод!$F$1:$F$30),Ввод!$D$1:$D$30,\"\"),\" / \")","v":""},{"$f":"MyJoin(IF((E$2=Ввод!$C$1:$C$30)*($A998>=Ввод!$E$1:$E$30)*($A998<=Ввод!$F$1:$F$30),Ввод!$D$1:$D$30,\"\"),\" / \")","v":""},{"$f":"MyJoin(IF((F$2=Ввод!$C$1:$C$30)*($A998>=Ввод!$E$1:$E$30)*($A998<=Ввод!$F$1:$F$30),Ввод!$D$1:$D$30,\"\"),\" / \")","v":""},"2024-09-17"]
["2024-09-18",{"$f":"MyJoin(IF((B$2=Ввод!$C$1:$C$30)*($A999>=Ввод!$E$1:$E$30)*($A999<=Ввод!$F$1:$F$30),Ввод!$D$1:$D$30,\"\"),\" / \")","v":""},{"$f":"MyJoin(IF((C$2=Ввод!$C$1:$C$30)*($A999>=Ввод!$E$1:$E$30)*($A999<=Ввод!$F$1:$F$30),Ввод!$D$1:$D$30,\"\"),\" / \")","v":""},{"$f":"MyJoin(IF((D$2=Ввод!$C$1:$C$30)*($A999>=Ввод!$E$1:$E$30)*($A999<=Ввод!$F$1:$F$30),Ввод!$D$1:$D$30,\"\"),\" / \")","v":""},{"$f":"MyJoin(IF((E$2=Ввод!$C$1:$C$30)*($A999>=Ввод!$E$1:$E$30)*($A999<=Ввод!$F$1:$F$30),Ввод!$D$1:$D$30,\"\"),\" / \")","v":""},{"$f":"MyJoin(IF((F$2=Ввод!$C$1:$C$30)*($A999>=Ввод!$E$1:$E$30)*($A999<=Ввод!$F$1:$F$30),Ввод!$D$1:$D$30,\"\"),\" / \")","v":""},"2024-09-18"]
["2024-09-19",{"$f":"MyJoin(IF((B$2=Ввод!$C$1:$C$30)*($A1000>=Ввод!$E$1:$E$30)*($A1000<=Ввод!$F$1:$F$30),Ввод!$D$1:$D$30,\"\"),\" / \")","v":""},{"$f":"MyJoin(IF((C$2=Ввод!$C$1:$C$30)*($A1000>=Ввод!$E$1:$E$30)*($A1000<=Ввод!$F$1:$F$30),Ввод!$D$1:$D$30,\"\"),\" / \")","v":""},{"$f":"MyJoin(IF((D$2=Ввод!$C$1:$C$30)*($A1000>=Ввод!$E$1:$E$30)*($A1000<=Ввод!$F$1:$F$30),Ввод!$D$1:$D$30,\"\"),\" / \")","v":""},{"$f":"MyJoin(IF((E$2=Ввод!$C$1:$C$30)*($A1000>=Ввод!$E$1:$E$30)*($A1000<=Ввод!$F$1:$F$30),Ввод!$D$1:$D$30,\"\"),\" / \")","v":""},{"$f":"MyJoin(IF((F$2=Ввод!$C$1:$C$30)*($A1000>=Ввод!$E$1:$E$30)*($A1000<=Ввод!$F$1:$F$30),Ввод!$D$1:$D$30,\"\"),\" / \")","v":""},"2024-09-19"]
["2024-09-20",{"$f":"MyJoin(IF((B$2=Ввод!$C$1:$C$30)*($A1001>=Ввод!$E$1:$E$30)*($A1001<=Ввод!$F$1:$F$30),Ввод!$D$1:$D$30,\"\"),\" / \")","v":""},{"$f":"MyJoin(IF((C$2=Ввод!$C$1:$C$30)*($A1001>=Ввод!$E$1:$E$30)*($A1001<=Ввод!$F$1:$F$30),Ввод!$D$1:$D$30,\"\"),\" / \")","v":""},{"$f":"MyJoin(IF((D$2=Ввод!$C$1:$C$30)*($A1001>=Ввод!$E$1:$E$30)*($A1001<=Ввод!$F$1:$F$30),Ввод!$D$1:$D$30,\"\"),\" / \")","v":""},{"$f":"MyJoin(IF((E$2=Ввод!$C$1:$C$30)*($A1001>=Ввод!$E$1:$E$30)*($A1001<=Ввод!$F$1:$F$30),Ввод!$D$1:$D$30,\"\"),\" / \")","v":""},{"$f":"MyJoin(IF((F$2=Ввод!$C$1:$C$30)*($A1001>=Ввод!$E$1:$E$30)*($A1001<=Ввод!$F$1:$F$30),Ввод!$D$1:$D$30,\"\"),\" / \")","v":""},"2024-09-20"]
["2024-09-21",{"$f":"MyJoin(IF((B$2=Ввод!$C$1:$C$30)*($A1002>=Ввод!$E$1:$E$30)*($A1002<=Ввод!$F$1:$F$30),Ввод!$D$1:$D$30,\"\"),\" / \")","v":""},{"$f":"MyJoin(IF((C$2=Ввод!$C$1:$C$30)*($A1002>=Ввод!$E$1:$E$30)*($A1002<=Ввод!$F$1:$F$30),Ввод!$D$1:$D$30,\"\"),\" / \")","v":""},{"$f":"MyJoin(IF((D$2=Ввод!$C$1:$C$30)*($A1002>=Ввод!$E$1:$E$30)*($A1002<=Ввод!$F$1:$F$30),Ввод!$D$1:$D$30,\"\"),\" / \")","v":""},{"$f":"MyJoin(IF((E$2=Ввод!$C$1:$C$30)*($A1002>=Ввод!$E$1:$E$30)*($A1002<=Ввод!$F$1:$F$30),Ввод!$D$1:$D$30,\"\"),\" / \")","v":""},{"$f":"MyJoin(IF((F$2=Ввод!$C$1:$C$30)*($A1002>=Ввод!$E$1:$E$30)*($A1002<=Ввод!$F$1:$F$30),Ввод!$D$1:$D$30,\"\"),\" / \")","v":""},"2024-09-21"]
["2024-09-22",{"$f":"MyJoin(IF((B$2=Ввод!$C$1:$C$30)*($A1003>=Ввод!$E$1:$E$30)*($A1003<=Ввод!$F$1:$F$30),Ввод!$D$1:$D$30,\"\"),\" / \")","v":""},{"$f":"MyJoin(IF((C$2=Ввод!$C$1:$C$30)*($A1003>=Ввод!$E$1:$E$30)*($A1003<=Ввод!$F$1:$F$30),Ввод!$D$1:$D$30,\"\"),\" / \")","v":""},{"$f":"MyJoin(IF((D$2=Ввод!$C$1:$C$30)*($A1003>=Ввод!$E$1:$E$30)*($A1003<=Ввод!$F$1:$F$30),Ввод!$D$1:$D$30,\"\"),\" / \")","v":""},{"$f":"MyJoin(IF((E$2=Ввод!$C$1:$C$30)*($A1003>=Ввод!$E$1:$E$30)*($A1003<=Ввод!$F$1:$F$30),Ввод!$D$1:$D$30,\"\"),\" / \")","v":""},{"$f":"MyJoin(IF((F$2=Ввод!$C$1:$C$30)*($A1003>=Ввод!$E$1:$E$30)*($A1003<=Ввод!$F$1:$F$30),Ввод!$D$1:$D$30,\"\"),\" / \")","v":""},"2024-09-22"]
["2024-09-23",{"$f":"MyJoin(IF((B$2=Ввод!$C$1:$C$30)*($A1004>=Ввод!$E$1:$E$30)*($A1004<=Ввод!$F$1:$F$30),Ввод!$D$1:$D$30,\"\"),\" / \")","v":""},{"$f":"MyJoin(IF((C$2=Ввод!$C$1:$C$30)*($A1004>=Ввод!$E$1:$E$30)*($A1004<=Ввод!$F$1:$F$30),Ввод!$D$1:$D$30,\"\"),\" / \")","v":""},{"$f":"MyJoin(IF((D$2=Ввод!$C$1:$C$30)*($A1004>=Ввод!$E$1:$E$30)*($A1004<=Ввод!$F$1:$F$30),Ввод!$D$1:$D$30,\"\"),\" / \")","v":""},{"$f":"MyJoin(IF((E$2=Ввод!$C$1:$C$30)*($A1004>=Ввод!$E$1:$E$30)*($A1004<=Ввод!$F$1:$F$30),Ввод!$D$1:$D$30,\"\"),\" / \")","v":""},{"$f":"MyJoin(IF((F$2=Ввод!$C$1:$C$30)*($A1004>=Ввод!$E$1:$E$30)*($A1004<=Ввод!$F$1:$F$30),Ввод!$D$1:$D$30,\"\"),\" / \")","v":""},"2024-09-23"]
["2024-09-24",{"$f":"MyJoin(IF((B$2=Ввод!$C$1:$C$30)*($A1005>=Ввод!$E$1:$E$30)*($A1005<=Ввод!$F$1:$F$30),Ввод!$D$1:$D$30,\"\"),\" / \")","v":""},{"$f":"MyJoin(IF((C$2=Ввод!$C$1:$C$30)*($A1005>=Ввод!$E$1:$E$30)*($A1005<=Ввод!$F$1:$F$30),Ввод!$D$1:$D$30,\"\"),\" / \")","v":""},{"$f":"MyJoin(IF((D$2=Ввод!$C$1:$C$30)*($A1005>=Ввод!$E$1:$E$30)*($A1005<=Ввод!$F$1:$F$30),Ввод!$D$1:$D$30,\"\"),\" / \")","v":""},{"$f":"MyJoin(IF((E$2=Ввод!$C$1:$C$30)*($A1005>=Ввод!$E$1:$E$30)*($A1005<=Ввод!$F$1:$F$30),Ввод!$D$1:$D$30,\"\"),\" / \")","v":""},{"$f":"MyJoin(IF((F$2=Ввод!$C$1:$C$30)*($A1005>=Ввод!$E$1:$E$30)*($A1005<=Ввод!$F$1:$F$30),Ввод!$D$1:$D$30,\"\"),\" / \")","v":""},"2024-09-24"]
["2024-09-25",{"$f":"MyJoin(IF((B$2=Ввод!$C$1:$C$30)*($A1006>=Ввод!$E$1:$E$30)*($A1006<=Ввод!$F$1:$F$30),Ввод!$D$1:$D$30,\"\"),\" / \")","v":""},{"$f":"MyJoin(IF((C$2=Ввод!$C$1:$C$30)*($A1006>=Ввод!$E$1:$E$30)*($A1006<=Ввод!$F$1:$F$30),Ввод!$D$1:$D$30,\"\"),\" / \")","v":""},{"$f":"MyJoin(IF((D$2=Ввод!$C$1:$C$30)*($A1006>=Ввод!$E$1:$E$30)*($A1006<=Ввод!$F$1:$F$30),Ввод!$D$1:$D$30,\"\"),\" / \")","v":""},{"$f":"MyJoin(IF((E$2=Ввод!$C$1:$C$30)*($A1006>=Ввод!$E$1:$E$30)*($A1006<=Ввод!$F$1:$F$30),Ввод!$D$1:$D$30,\"\"),\" / \")","v":""},{"$f":"MyJoin(IF((F$2=Ввод!$C$1:$C$30)*($A1006>=Ввод!$E$1:$E$30)*($A1006<=Ввод!$F$1:$F$30),Ввод!$D$1:$D$30,\"\"),\" / \")","v":""},"2024-09-25"]
["2024-09-26",{"$f":"MyJoin(IF((B$2=Ввод!$C$1:$C$30)*($A1007>=Ввод!$E$1:$E$30)*($A1007<=Ввод!$F$1:$F$30),Ввод!$D$1:$D$30,\"\"),\" / \")","v":""},{"$f":"MyJoin(IF((C$2=Ввод!$C$1:$C$30)*($A1007>=Ввод!$E$1:$E$30)*($A1007<=Ввод!$F$1:$F$30),Ввод!$D$1:$D$30,\"\"),\" / \")","v":""},{"$f":"MyJoin(IF((D$2=Ввод!$C$1:$C$30)*($A1007>=Ввод!$E$1:$E$30)*($A1007<=Ввод!$F$1:$F$30),Ввод!$D$1:$D$30,\"\"),\" / \")","v":""},{"$f":"MyJoin(IF((E$2=Ввод!$C$1:$C$30)*($A1007>=Ввод!$E$1:$E$30)*($A1007<=Ввод!$F$1:$F$30),Ввод!$D$1:$D$30,\"\"),\" / \")","v":""},{"$f":"MyJoin(IF((F$2=Ввод!$C$1:$C$30)*($A1007>=Ввод!$E$1:$E$30)*($A1007<=Ввод!$F$1:$F$30),Ввод!$D$1:$D$30,\"\"),\" / \")","v":""},"2024-09-26"]
["2024-09-27",{"$f":"MyJoin(IF((B$2=Ввод!$C$1:$C$30)*($A1008>=Ввод!$E$1:$E$30)*($A1008<=Ввод!$F$1:$F$30),Ввод!$D$1:$D$30,\"\"),\" / \")","v":""},{"$f":"MyJoin(IF((C$2=Ввод!$C$1:$C$30)*($A1008>=Ввод!$E$1:$E$30)*($A1008<=Ввод!$F$1:$F$30),Ввод!$D$1:$D$30,\"\"),\" / \")","v":""},{"$f":"MyJoin(IF((D$2=Ввод!$C$1:$C$30)*($A1008>=Ввод!$E$1:$E$30)*($A1008<=Ввод!$F$1:$F$30),Ввод!$D$1:$D$30,\"\"),\" / \")","v":""},{"$f":"MyJoin(IF((E$2=Ввод!$C$1:$C$30)*($A1008>=Ввод!$E$1:$E$30)*($A1008<=Ввод!$F$1:$F$30),Ввод!$D$1:$D$30,\"\"),\" / \")","v":""},{"$f":"MyJoin(IF((F$2=Ввод!$C$1:$C$30)*($A1008>=Ввод!$E$1:$E$30)*($A1008<=Ввод!$F$1:$F$30),Ввод!$D$1:$D$30,\"\"),\" / \")","v":""},"2024-09-27"]
["2024-09-28",{"$f":"MyJoin(IF((B$2=Ввод!$C$1:$C$30)*($A1009>=Ввод!$E$1:$E$30)*($A1009<=Ввод!$F$1:$F$30),Ввод!$D$1:$D$30,\"\"),\" / \")","v":""},{"$f":"MyJoin(IF((C$2=Ввод!$C$1:$C$30)*($A1009>=Ввод!$E$1:$E$30)*($A1009<=Ввод!$F$1:$F$30),Ввод!$D$1:$D$30,\"\"),\" / \")","v":""},{"$f":"MyJoin(IF((D$2=Ввод!$C$1:$C$30)*($A1009>=Ввод!$E$1:$E$30)*($A1009<=Ввод!$F$1:$F$30),Ввод!$D$1:$D$30,\"\"),\" / \")","v":""},{"$f":"MyJoin(IF((E$2=Ввод!$C$1:$C$30)*($A1009>=Ввод!$E$1:$E$30)*($A1009<=Ввод!$F$1:$F$30),Ввод!$D$1:$D$30,\"\"),\" / \")","v":""},{"$f":"MyJoin(IF((F$2=Ввод!$C$1:$C$30)*($A1009>=Ввод!$E$1:$E$30)*($A1009<=Ввод!$F$1:$F$30),Ввод!$D$1:$D$30,\"\"),\" / \")","v":""},"2024-09-28"]
["2024-09-29",{"$f":"MyJoin(IF((B$2=Ввод!$C$1:$C$30)*($A1010>=Ввод!$E$1:$E$30)*($A1010<=Ввод!$F$1:$F$30),Ввод!$D$1:$D$30,\"\"),\" / \")","v":""},{"$f":"MyJoin(IF((C$2=Ввод!$C$1:$C$30)*($A1010>=Ввод!$E$1:$E$30)*($A1010<=Ввод!$F$1:$F$30),Ввод!$D$1:$D$30,\"\"),\" / \")","v":""},{"$f":"MyJoin(IF((D$2=Ввод!$C$1:$C$30)*($A1010>=Ввод!$E$1:$E$30)*($A1010<=Ввод!$F$1:$F$30),Ввод!$D$1:$D$30,\"\"),\" / \")","v":""},{"$f":"MyJoin(IF((E$2=Ввод!$C$1:$C$30)*($A1010>=Ввод!$E$1:$E$30)*($A1010<=Ввод!$F$1:$F$30),Ввод!$D$1:$D$30,\"\"),\" / \")","v":""},{"$f":"MyJoin(IF((F$2=Ввод!$C$1:$C$30)*($A1010>=Ввод!$E$1:$E$30)*($A1010<=Ввод!$F$1:$F$30),Ввод!$D$1:$D$30,\"\"),\" / \")","v":""},"2024-09-29"]
["2024-09-30",{"$f":"MyJoin(IF((B$2=Ввод!$C$1:$C$30)*($A1011>=Ввод!$E$1:$E$30)*($A1011<=Ввод!$F$1:$F$30),Ввод!$D$1:$D$30,\"\"),\" / \")","v":""},{"$f":"MyJoin(IF((C$2=Ввод!$C$1:$C$30)*($A1011>=Ввод!$E$1:$E$30)*($A1011<=Ввод!$F$1:$F$30),Ввод!$D$1:$D$30,\"\"),\" / \")","v":""},{"$f":"MyJoin(IF((D$2=Ввод!$C$1:$C$30)*($A1011>=Ввод!$E$1:$E$30)*($A1011<=Ввод!$F$1:$F$30),Ввод!$D$1:$D$30,\"\"),\" / \")","v":""},{"$f":"MyJoin(IF((E$2=Ввод!$C$1:$C$30)*($A1011>=Ввод!$E$1:$E$30)*($A1011<=Ввод!$F$1:$F$30),Ввод!$D$1:$D$30,\"\"),\" / \")","v":""},{"$f":"MyJoin(IF((F$2=Ввод!$C$1:$C$30)*($A1011>=Ввод!$E$1:$E$30)*($A1011<=Ввод!$F$1:$F$30),Ввод!$D$1:$D$30,\"\"),\" / \")","v":""},"2024-09-30"]
["2024-10-01",{"$f":"MyJoin(IF((B$2=Ввод!$C$1:$C$30)*($A1012>=Ввод!$E$1:$E$30)*($A1012<=Ввод!$F$1:$F$30),Ввод!$D$1:$D$30,\"\"),\" / \")","v":""},{"$f":"MyJoin(IF((C$2=Ввод!$C$1:$C$30)*($A1012>=Ввод!$E$1:$E$30)*($A1012<=Ввод!$F$1:$F$30),Ввод!$D$1:$D$30,\"\"),\" / \")","v":""},{"$f":"MyJoin(IF((D$2=Ввод!$C$1:$C$30)*($A1012>=Ввод!$E$1:$E$30)*($A1012<=Ввод!$F$1:$F$30),Ввод!$D$1:$D$30,\"\"),\" / \")","v":""},{"$f":"MyJoin(IF((E$2=Ввод!$C$1:$C$30)*($A1012>=Ввод!$E$1:$E$30)*($A1012<=Ввод!$F$1:$F$30),Ввод!$D$1:$D$30,\"\"),\" / \")","v":""},{"$f":"MyJoin(IF((F$2=Ввод!$C$1:$C$30)*($A1012>=Ввод!$E$1:$E$30)*($A1012<=Ввод!$F$1:$F$30),Ввод!$D$1:$D$30,\"\"),\" / \")","v":""},"2024-10-01"]
["2024-10-02",{"$f":"MyJoin(IF((B$2=Ввод!$C$1:$C$30)*($A1013>=Ввод!$E$1:$E$30)*($A1013<=Ввод!$F$1:$F$30),Ввод!$D$1:$D$30,\"\"),\" / \")","v":""},{"$f":"MyJoin(IF((C$2=Ввод!$C$1:$C$30)*($A1013>=Ввод!$E$1:$E$30)*($A1013<=Ввод!$F$1:$F$30),Ввод!$D$1:$D$30,\"\"),\" / \")","v":""},{"$f":"MyJoin(IF((D$2=Ввод!$C$1:$C$30)*($A1013>=Ввод!$E$1:$E$30)*($A1013<=Ввод!$F$1:$F$30),Ввод!$D$1:$D$30,\"\"),\" / \")","v":""},{"$f":"MyJoin(IF((E$2=Ввод!$C$1:$C$30)*($A1013>=Ввод!$E$1:$E$30)*($A1013<=Ввод!$F$1:$F$30),Ввод!$D$1:$D$30,\"\"),\" / \")","v":""},{"$f":"MyJoin(IF((F$2=Ввод!$C$1:$C$30)*($A1013>=Ввод!$E$1:$E$30)*($A1013<=Ввод!$F$1:$F$30),Ввод!$D$1:$D$30,\"\"),\" / \")","v":""},"2024-10-02"]
["2024-10-03",{"$f":"MyJoin(IF((B$2=Ввод!$C$1:$C$30)*($A1014>=Ввод!$E$1:$E$30)*($A1014<=Ввод!$F$1:$F$30),Ввод!$D$1:$D$30,\"\"),\" / \")","v":""},{"$f":"MyJoin(IF((C$2=Ввод!$C$1:$C$30)*($A1014>=Ввод!$E$1:$E$30)*($A1014<=Ввод!$F$1:$F$30),Ввод!$D$1:$D$30,\"\"),\" / \")","v":""},{"$f":"MyJoin(IF((D$2=Ввод!$C$1:$C$30)*($A1014>=Ввод!$E$1:$E$30)*($A1014<=Ввод!$F$1:$F$30),Ввод!$D$1:$D$30,\"\"),\" / \")","v":""},{"$f":"MyJoin(IF((E$2=Ввод!$C$1:$C$30)*($A1014>=Ввод!$E$1:$E$30)*($A1014<=Ввод!$F$1:$F$30),Ввод!$D$1:$D$30,\"\"),\" / \")","v":""},{"$f":"MyJoin(IF((F$2=Ввод!$C$1:$C$30)*($A1014>=Ввод!$E$1:$E$30)*($A1014<=Ввод!$F$1:$F$30),Ввод!$D$1:$D$30,\"\"),\" / \")","v":""},"2024-10-03"]
["2024-10-04",{"$f":"MyJoin(IF((B$2=Ввод!$C$1:$C$30)*($A1015>=Ввод!$E$1:$E$30)*($A1015<=Ввод!$F$1:$F$30),Ввод!$D$1:$D$30,\"\"),\" / \")","v":""},{"$f":"MyJoin(IF((C$2=Ввод!$C$1:$C$30)*($A1015>=Ввод!$E$1:$E$30)*($A1015<=Ввод!$F$1:$F$30),Ввод!$D$1:$D$30,\"\"),\" / \")","v":""},{"$f":"MyJoin(IF((D$2=Ввод!$C$1:$C$30)*($A1015>=Ввод!$E$1:$E$30)*($A1015<=Ввод!$F$1:$F$30),Ввод!$D$1:$D$30,\"\"),\" / \")","v":""},{"$f":"MyJoin(IF((E$2=Ввод!$C$1:$C$30)*($A1015>=Ввод!$E$1:$E$30)*($A1015<=Ввод!$F$1:$F$30),Ввод!$D$1:$D$30,\"\"),\" / \")","v":""},{"$f":"MyJoin(IF((F$2=Ввод!$C$1:$C$30)*($A1015>=Ввод!$E$1:$E$30)*($A1015<=Ввод!$F$1:$F$30),Ввод!$D$1:$D$30,\"\"),\" / \")","v":""},"2024-10-04"]
["2024-10-05",{"$f":"MyJoin(IF((B$2=Ввод!$C$1:$C$30)*($A1016>=Ввод!$E$1:$E$30)*($A1016<=Ввод!$F$1:$F$30),Ввод!$D$1:$D$30,\"\"),\" / \")","v":""},{"$f":"MyJoin(IF((C$2=Ввод!$C$1:$C$30)*($A1016>=Ввод!$E$1:$E$30)*($A1016<=Ввод!$F$1:$F$30),Ввод!$D$1:$D$30,\"\"),\" / \")","v":""},{"$f":"MyJoin(IF((D$2=Ввод!$C$1:$C$30)*($A1016>=Ввод!$E$1:$E$30)*($A1016<=Ввод!$F$1:$F$30),Ввод!$D$1:$D$30,\"\"),\" / \")","v":""},{"$f":"MyJoin(IF((E$2=Ввод!$C$1:$C$30)*($A1016>=Ввод!$E$1:$E$30)*($A1016<=Ввод!$F$1:$F$30),Ввод!$D$1:$D$30,\"\"),\" / \")","v":""},{"$f":"MyJoin(IF((F$2=Ввод!$C$1:$C$30)*($A1016>=Ввод!$E$1:$E$30)*($A1016<=Ввод!$F$1:$F$30),Ввод!$D$1:$D$30,\"\"),\" / \")","v":""},"2024-10-05"]
["2024-10-06",{"$f":"MyJoin(IF((B$2=Ввод!$C$1:$C$30)*($A1017>=Ввод!$E$1:$E$30)*($A1017<=Ввод!$F$1:$F$30),Ввод!$D$1:$D$30,\"\"),\" / \")","v":""},{"$f":"MyJoin(IF((C$2=Ввод!$C$1:$C$30)*($A1017>=Ввод!$E$1:$E$30)*($A1017<=Ввод!$F$1:$F$30),Ввод!$D$1:$D$30,\"\"),\" / \")","v":""},{"$f":"MyJoin(IF((D$2=Ввод!$C$1:$C$30)*($A1017>=Ввод!$E$1:$E$30)*($A1017<=Ввод!$F$1:$F$30),Ввод!$D$1:$D$30,\"\"),\" / \")","v":""},{"$f":"MyJoin(IF((E$2=Ввод!$C$1:$C$30)*($A1017>=Ввод!$E$1:$E$30)*($A1017<=Ввод!$F$1:$F$30),Ввод!$D$1:$D$30,\"\"),\" / \")","v":""},{"$f":"MyJoin(IF((F$2=Ввод!$C$1:$C$30)*($A1017>=Ввод!$E$1:$E$30)*($A1017<=Ввод!$F$1:$F$30),Ввод!$D$1:$D$30,\"\"),\" / \")","v":""},"2024-10-06"]
["2024-10-07",{"$f":"MyJoin(IF((B$2=Ввод!$C$1:$C$30)*($A1018>=Ввод!$E$1:$E$30)*($A1018<=Ввод!$F$1:$F$30),Ввод!$D$1:$D$30,\"\"),\" / \")","v":""},{"$f":"MyJoin(IF((C$2=Ввод!$C$1:$C$30)*($A1018>=Ввод!$E$1:$E$30)*($A1018<=Ввод!$F$1:$F$30),Ввод!$D$1:$D$30,\"\"),\" / \")","v":""},{"$f":"MyJoin(IF((D$2=Ввод!$C$1:$C$30)*($A1018>=Ввод!$E$1:$E$30)*($A1018<=Ввод!$F$1:$F$30),Ввод!$D$1:$D$30,\"\"),\" / \")","v":""},{"$f":"MyJoin(IF((E$2=Ввод!$C$1:$C$30)*($A1018>=Ввод!$E$1:$E$30)*($A1018<=Ввод!$F$1:$F$30),Ввод!$D$1:$D$30,\"\"),\" / \")","v":""},{"$f":"MyJoin(IF((F$2=Ввод!$C$1:$C$30)*($A1018>=Ввод!$E$1:$E$30)*($A1018<=Ввод!$F$1:$F$30),Ввод!$D$1:$D$30,\"\"),\" / \")","v":""},"2024-10-07"]
["2024-10-08",{"$f":"MyJoin(IF((B$2=Ввод!$C$1:$C$30)*($A1019>=Ввод!$E$1:$E$30)*($A1019<=Ввод!$F$1:$F$30),Ввод!$D$1:$D$30,\"\"),\" / \")","v":""},{"$f":"MyJoin(IF((C$2=Ввод!$C$1:$C$30)*($A1019>=Ввод!$E$1:$E$30)*($A1019<=Ввод!$F$1:$F$30),Ввод!$D$1:$D$30,\"\"),\" / \")","v":""},{"$f":"MyJoin(IF((D$2=Ввод!$C$1:$C$30)*($A1019>=Ввод!$E$1:$E$30)*($A1019<=Ввод!$F$1:$F$30),Ввод!$D$1:$D$30,\"\"),\" / \")","v":""},{"$f":"MyJoin(IF((E$2=Ввод!$C$1:$C$30)*($A1019>=Ввод!$E$1:$E$30)*($A1019<=Ввод!$F$1:$F$30),Ввод!$D$1:$D$30,\"\"),\" / \")","v":""},{"$f":"MyJoin(IF((F$2=Ввод!$C$1:$C$30)*($A1019>=Ввод!$E$1:$E$30)*($A1019<=Ввод!$F$1:$F$30),Ввод!$D$1:$D$30,\"\"),\" / \")","v":""},"2024-10-08"]
["2024-10-09",{"$f":"MyJoin(IF((B$2=Ввод!$C$1:$C$30)*($A1020>=Ввод!$E$1:$E$30)*($A1020<=Ввод!$F$1:$F$30),Ввод!$D$1:$D$30,\"\"),\" / \")","v":""},{"$f":"MyJoin(IF((C$2=Ввод!$C$1:$C$30)*($A1020>=Ввод!$E$1:$E$30)*($A1020<=Ввод!$F$1:$F$30),Ввод!$D$1:$D$30,\"\"),\" / \")","v":""},{"$f":"MyJoin(IF((D$2=Ввод!$C$1:$C$30)*($A1020>=Ввод!$E$1:$E$30)*($A1020<=Ввод!$F$1:$F$30),Ввод!$D$1:$D$30,\"\"),\" / \")","v":""},{"$f":"MyJoin(IF((E$2=Ввод!$C$1:$C$30)*($A1020>=Ввод!$E$1:$E$30)*($A1020<=Ввод!$F$1:$F$30),Ввод!$D$1:$D$30,\"\"),\" / \")","v":""},{"$f":"MyJoin(IF((F$2=Ввод!$C$1:$C$30)*($A1020>=Ввод!$E$1:$E$30)*($A1020<=Ввод!$F$1:$F$30),Ввод!$D$1:$D$30,\"\"),\" / \")","v":""},"2024-10-09"]
["2024-10-10",{"$f":"MyJoin(IF((B$2=Ввод!$C$1:$C$30)*($A1021>=Ввод!$E$1:$E$30)*($A1021<=Ввод!$F$1:$F$30),Ввод!$D$1:$D$30,\"\"),\" / \")","v":""},{"$f":"MyJoin(IF((C$2=Ввод!$C$1:$C$30)*($A1021>=Ввод!$E$1:$E$30)*($A1021<=Ввод!$F$1:$F$30),Ввод!$D$1:$D$30,\"\"),\" / \")","v":""},{"$f":"MyJoin(IF((D$2=Ввод!$C$1:$C$30)*($A1021>=Ввод!$E$1:$E$30)*($A1021<=Ввод!$F$1:$F$30),Ввод!$D$1:$D$30,\"\"),\" / \")","v":""},{"$f":"MyJoin(IF((E$2=Ввод!$C$1:$C$30)*($A1021>=Ввод!$E$1:$E$30)*($A1021<=Ввод!$F$1:$F$30),Ввод!$D$1:$D$30,\"\"),\" / \")","v":""},{"$f":"MyJoin(IF((F$2=Ввод!$C$1:$C$30)*($A1021>=Ввод!$E$1:$E$30)*($A1021<=Ввод!$F$1:$F$30),Ввод!$D$1:$D$30,\"\"),\" / \")","v":""},"2024-10-10"]
["2024-10-11",{"$f":"MyJoin(IF((B$2=Ввод!$C$1:$C$30)*($A1022>=Ввод!$E$1:$E$30)*($A1022<=Ввод!$F$1:$F$30),Ввод!$D$1:$D$30,\"\"),\" / \")","v":""},{"$f":"MyJoin(IF((C$2=Ввод!$C$1:$C$30)*($A1022>=Ввод!$E$1:$E$30)*($A1022<=Ввод!$F$1:$F$30),Ввод!$D$1:$D$30,\"\"),\" / \")","v":""},{"$f":"MyJoin(IF((D$2=Ввод!$C$1:$C$30)*($A1022>=Ввод!$E$1:$E$30)*($A1022<=Ввод!$F$1:$F$30),Ввод!$D$1:$D$30,\"\"),\" / \")","v":""},{"$f":"MyJoin(IF((E$2=Ввод!$C$1:$C$30)*($A1022>=Ввод!$E$1:$E$30)*($A1022<=Ввод!$F$1:$F$30),Ввод!$D$1:$D$30,\"\"),\" / \")","v":""},{"$f":"MyJoin(IF((F$2=Ввод!$C$1:$C$30)*($A1022>=Ввод!$E$1:$E$30)*($A1022<=Ввод!$F$1:$F$30),Ввод!$D$1:$D$30,\"\"),\" / \")","v":""},"2024-10-11"]
["2024-10-12",{"$f":"MyJoin(IF((B$2=Ввод!$C$1:$C$30)*($A1023>=Ввод!$E$1:$E$30)*($A1023<=Ввод!$F$1:$F$30),Ввод!$D$1:$D$30,\"\"),\" / \")","v":""},{"$f":"MyJoin(IF((C$2=Ввод!$C$1:$C$30)*($A1023>=Ввод!$E$1:$E$30)*($A1023<=Ввод!$F$1:$F$30),Ввод!$D$1:$D$30,\"\"),\" / \")","v":""},{"$f":"MyJoin(IF((D$2=Ввод!$C$1:$C$30)*($A1023>=Ввод!$E$1:$E$30)*($A1023<=Ввод!$F$1:$F$30),Ввод!$D$1:$D$30,\"\"),\" / \")","v":""},{"$f":"MyJoin(IF((E$2=Ввод!$C$1:$C$30)*($A1023>=Ввод!$E$1:$E$30)*($A1023<=Ввод!$F$1:$F$30),Ввод!$D$1:$D$30,\"\"),\" / \")","v":""},{"$f":"MyJoin(IF((F$2=Ввод!$C$1:$C$30)*($A1023>=Ввод!$E$1:$E$30)*($A1023<=Ввод!$F$1:$F$30),Ввод!$D$1:$D$30,\"\"),\" / \")","v":""},"2024-10-12"]
["2024-10-13",{"$f":"MyJoin(IF((B$2=Ввод!$C$1:$C$30)*($A1024>=Ввод!$E$1:$E$30)*($A1024<=Ввод!$F$1:$F$30),Ввод!$D$1:$D$30,\"\"),\" / \")","v":""},{"$f":"MyJoin(IF((C$2=Ввод!$C$1:$C$30)*($A1024>=Ввод!$E$1:$E$30)*($A1024<=Ввод!$F$1:$F$30),Ввод!$D$1:$D$30,\"\"),\" / \")","v":""},{"$f":"MyJoin(IF((D$2=Ввод!$C$1:$C$30)*($A1024>=Ввод!$E$1:$E$30)*($A1024<=Ввод!$F$1:$F$30),Ввод!$D$1:$D$30,\"\"),\" / \")","v":""},{"$f":"MyJoin(IF((E$2=Ввод!$C$1:$C$30)*($A1024>=Ввод!$E$1:$E$30)*($A1024<=Ввод!$F$1:$F$30),Ввод!$D$1:$D$30,\"\"),\" / \")","v":""},{"$f":"MyJoin(IF((F$2=Ввод!$C$1:$C$30)*($A1024>=Ввод!$E$1:$E$30)*($A1024<=Ввод!$F$1:$F$30),Ввод!$D$1:$D$30,\"\"),\" / \")","v":""},"2024-10-13"]
["2024-10-14",{"$f":"MyJoin(IF((B$2=Ввод!$C$1:$C$30)*($A1025>=Ввод!$E$1:$E$30)*($A1025<=Ввод!$F$1:$F$30),Ввод!$D$1:$D$30,\"\"),\" / \")","v":""},{"$f":"MyJoin(IF((C$2=Ввод!$C$1:$C$30)*($A1025>=Ввод!$E$1:$E$30)*($A1025<=Ввод!$F$1:$F$30),Ввод!$D$1:$D$30,\"\"),\" / \")","v":""},{"$f":"MyJoin(IF((D$2=Ввод!$C$1:$C$30)*($A1025>=Ввод!$E$1:$E$30)*($A1025<=Ввод!$F$1:$F$30),Ввод!$D$1:$D$30,\"\"),\" / \")","v":""},{"$f":"MyJoin(IF((E$2=Ввод!$C$1:$C$30)*($A1025>=Ввод!$E$1:$E$30)*($A1025<=Ввод!$F$1:$F$30),Ввод!$D$1:$D$30,\"\"),\" / \")","v":""},{"$f":"MyJoin(IF((F$2=Ввод!$C$1:$C$30)*($A1025>=Ввод!$E$1:$E$30)*($A1025<=Ввод!$F$1:$F$30),Ввод!$D$1:$D$30,\"\"),\" / \")","v":""},"2024-10-14"]
["2024-10-15",{"$f":"MyJoin(IF((B$2=Ввод!$C$1:$C$30)*($A1026>=Ввод!$E$1:$E$30)*($A1026<=Ввод!$F$1:$F$30),Ввод!$D$1:$D$30,\"\"),\" / \")","v":""},{"$f":"MyJoin(IF((C$2=Ввод!$C$1:$C$30)*($A1026>=Ввод!$E$1:$E$30)*($A1026<=Ввод!$F$1:$F$30),Ввод!$D$1:$D$30,\"\"),\" / \")","v":""},{"$f":"MyJoin(IF((D$2=Ввод!$C$1:$C$30)*($A1026>=Ввод!$E$1:$E$30)*($A1026<=Ввод!$F$1:$F$30),Ввод!$D$1:$D$30,\"\"),\" / \")","v":""},{"$f":"MyJoin(IF((E$2=Ввод!$C$1:$C$30)*($A1026>=Ввод!$E$1:$E$30)*($A1026<=Ввод!$F$1:$F$30),Ввод!$D$1:$D$30,\"\"),\" / \")","v":""},{"$f":"MyJoin(IF((F$2=Ввод!$C$1:$C$30)*($A1026>=Ввод!$E$1:$E$30)*($A1026<=Ввод!$F$1:$F$30),Ввод!$D$1:$D$30,\"\"),\" / \")","v":""},"2024-10-15"]
["2024-10-16",{"$f":"MyJoin(IF((B$2=Ввод!$C$1:$C$30)*($A1027>=Ввод!$E$1:$E$30)*($A1027<=Ввод!$F$1:$F$30),Ввод!$D$1:$D$30,\"\"),\" / \")","v":""},{"$f":"MyJoin(IF((C$2=Ввод!$C$1:$C$30)*($A1027>=Ввод!$E$1:$E$30)*($A1027<=Ввод!$F$1:$F$30),Ввод!$D$1:$D$30,\"\"),\" / \")","v":""},{"$f":"MyJoin(IF((D$2=Ввод!$C$1:$C$30)*($A1027>=Ввод!$E$1:$E$30)*($A1027<=Ввод!$F$1:$F$30),Ввод!$D$1:$D$30,\"\"),\" / \")","v":""},{"$f":"MyJoin(IF((E$2=Ввод!$C$1:$C$30)*($A1027>=Ввод!$E$1:$E$30)*($A1027<=Ввод!$F$1:$F$30),Ввод!$D$1:$D$30,\"\"),\" / \")","v":""},{"$f":"MyJoin(IF((F$2=Ввод!$C$1:$C$30)*($A1027>=Ввод!$E$1:$E$30)*($A1027<=Ввод!$F$1:$F$30),Ввод!$D$1:$D$30,\"\"),\" / \")","v":""},"2024-10-16"]
["2024-10-17",{"$f":"MyJoin(IF((B$2=Ввод!$C$1:$C$30)*($A1028>=Ввод!$E$1:$E$30)*($A1028<=Ввод!$F$1:$F$30),Ввод!$D$1:$D$30,\"\"),\" / \")","v":""},{"$f":"MyJoin(IF((C$2=Ввод!$C$1:$C$30)*($A1028>=Ввод!$E$1:$E$30)*($A1028<=Ввод!$F$1:$F$30),Ввод!$D$1:$D$30,\"\"),\" / \")","v":""},{"$f":"MyJoin(IF((D$2=Ввод!$C$1:$C$30)*($A1028>=Ввод!$E$1:$E$30)*($A1028<=Ввод!$F$1:$F$30),Ввод!$D$1:$D$30,\"\"),\" / \")","v":""},{"$f":"MyJoin(IF((E$2=Ввод!$C$1:$C$30)*($A1028>=Ввод!$E$1:$E$30)*($A1028<=Ввод!$F$1:$F$30),Ввод!$D$1:$D$30,\"\"),\" / \")","v":""},{"$f":"MyJoin(IF((F$2=Ввод!$C$1:$C$30)*($A1028>=Ввод!$E$1:$E$30)*($A1028<=Ввод!$F$1:$F$30),Ввод!$D$1:$D$30,\"\"),\" / \")","v":""},"2024-10-17"]
["2024-10-18",{"$f":"MyJoin(IF((B$2=Ввод!$C$1:$C$30)*($A1029>=Ввод!$E$1:$E$30)*($A1029<=Ввод!$F$1:$F$30),Ввод!$D$1:$D$30,\"\"),\" / \")","v":""},{"$f":"MyJoin(IF((C$2=Ввод!$C$1:$C$30)*($A1029>=Ввод!$E$1:$E$30)*($A1029<=Ввод!$F$1:$F$30),Ввод!$D$1:$D$30,\"\"),\" / \")","v":""},{"$f":"MyJoin(IF((D$2=Ввод!$C$1:$C$30)*($A1029>=Ввод!$E$1:$E$30)*($A1029<=Ввод!$F$1:$F$30),Ввод!$D$1:$D$30,\"\"),\" / \")","v":""},{"$f":"MyJoin(IF((E$2=Ввод!$C$1:$C$30)*($A1029>=Ввод!$E$1:$E$30)*($A1029<=Ввод!$F$1:$F$30),Ввод!$D$1:$D$30,\"\"),\" / \")","v":""},{"$f":"MyJoin(IF((F$2=Ввод!$C$1:$C$30)*($A1029>=Ввод!$E$1:$E$30)*($A1029<=Ввод!$F$1:$F$30),Ввод!$D$1:$D$30,\"\"),\" / \")","v":""},"2024-10-18"]
["2024-10-19",{"$f":"MyJoin(IF((B$2=Ввод!$C$1:$C$30)*($A1030>=Ввод!$E$1:$E$30)*($A1030<=Ввод!$F$1:$F$30),Ввод!$D$1:$D$30,\"\"),\" / \")","v":""},{"$f":"MyJoin(IF((C$2=Ввод!$C$1:$C$30)*($A1030>=Ввод!$E$1:$E$30)*($A1030<=Ввод!$F$1:$F$30),Ввод!$D$1:$D$30,\"\"),\" / \")","v":""},{"$f":"MyJoin(IF((D$2=Ввод!$C$1:$C$30)*($A1030>=Ввод!$E$1:$E$30)*($A1030<=Ввод!$F$1:$F$30),Ввод!$D$1:$D$30,\"\"),\" / \")","v":""},{"$f":"MyJoin(IF((E$2=Ввод!$C$1:$C$30)*($A1030>=Ввод!$E$1:$E$30)*($A1030<=Ввод!$F$1:$F$30),Ввод!$D$1:$D$30,\"\"),\" / \")","v":""},{"$f":"MyJoin(IF((F$2=Ввод!$C$1:$C$30)*($A1030>=Ввод!$E$1:$E$30)*($A1030<=Ввод!$F$1:$F$30),Ввод!$D$1:$D$30,\"\"),\" / \")","v":""},"2024-10-19"]
["2024-10-20",{"$f":"MyJoin(IF((B$2=Ввод!$C$1:$C$30)*($A1031>=Ввод!$E$1:$E$30)*($A1031<=Ввод!$F$1:$F$30),Ввод!$D$1:$D$30,\"\"),\" / \")","v":""},{"$f":"MyJoin(IF((C$2=Ввод!$C$1:$C$30)*($A1031>=Ввод!$E$1:$E$30)*($A1031<=Ввод!$F$1:$F$30),Ввод!$D$1:$D$30,\"\"),\" / \")","v":""},{"$f":"MyJoin(IF((D$2=Ввод!$C$1:$C$30)*($A1031>=Ввод!$E$1:$E$30)*($A1031<=Ввод!$F$1:$F$30),Ввод!$D$1:$D$30,\"\"),\" / \")","v":""},{"$f":"MyJoin(IF((E$2=Ввод!$C$1:$C$30)*($A1031>=Ввод!$E$1:$E$30)*($A1031<=Ввод!$F$1:$F$30),Ввод!$D$1:$D$30,\"\"),\" / \")","v":""},{"$f":"MyJoin(IF((F$2=Ввод!$C$1:$C$30)*($A1031>=Ввод!$E$1:$E$30)*($A1031<=Ввод!$F$1:$F$30),Ввод!$D$1:$D$30,\"\"),\" / \")","v":""},"2024-10-20"]
["2024-10-21",{"$f":"MyJoin(IF((B$2=Ввод!$C$1:$C$30)*($A1032>=Ввод!$E$1:$E$30)*($A1032<=Ввод!$F$1:$F$30),Ввод!$D$1:$D$30,\"\"),\" / \")","v":""},{"$f":"MyJoin(IF((C$2=Ввод!$C$1:$C$30)*($A1032>=Ввод!$E$1:$E$30)*($A1032<=Ввод!$F$1:$F$30),Ввод!$D$1:$D$30,\"\"),\" / \")","v":""},{"$f":"MyJoin(IF((D$2=Ввод!$C$1:$C$30)*($A1032>=Ввод!$E$1:$E$30)*($A1032<=Ввод!$F$1:$F$30),Ввод!$D$1:$D$30,\"\"),\" / \")","v":""},{"$f":"MyJoin(IF((E$2=Ввод!$C$1:$C$30)*($A1032>=Ввод!$E$1:$E$30)*($A1032<=Ввод!$F$1:$F$30),Ввод!$D$1:$D$30,\"\"),\" / \")","v":""},{"$f":"MyJoin(IF((F$2=Ввод!$C$1:$C$30)*($A1032>=Ввод!$E$1:$E$30)*($A1032<=Ввод!$F$1:$F$30),Ввод!$D$1:$D$30,\"\"),\" / \")","v":""},"2024-10-21"]
["2024-10-22",{"$f":"MyJoin(IF((B$2=Ввод!$C$1:$C$30)*($A1033>=Ввод!$E$1:$E$30)*($A1033<=Ввод!$F$1:$F$30),Ввод!$D$1:$D$30,\"\"),\" / \")","v":""},{"$f":"MyJoin(IF((C$2=Ввод!$C$1:$C$30)*($A1033>=Ввод!$E$1:$E$30)*($A1033<=Ввод!$F$1:$F$30),Ввод!$D$1:$D$30,\"\"),\" / \")","v":""},{"$f":"MyJoin(IF((D$2=Ввод!$C$1:$C$30)*($A1033>=Ввод!$E$1:$E$30)*($A1033<=Ввод!$F$1:$F$30),Ввод!$D$1:$D$30,\"\"),\" / \")","v":""},{"$f":"MyJoin(IF((E$2=Ввод!$C$1:$C$30)*($A1033>=Ввод!$E$1:$E$30)*($A1033<=Ввод!$F$1:$F$30),Ввод!$D$1:$D$30,\"\"),\" / \")","v":""},{"$f":"MyJoin(IF((F$2=Ввод!$C$1:$C$30)*($A1033>=Ввод!$E$1:$E$30)*($A1033<=Ввод!$F$1:$F$30),Ввод!$D$1:$D$30,\"\"),\" / \")","v":""},{"$f":"IF(A1033=\"\",\"\",A1033)","v":"2024-10-22"}]
["2024-10-23",{"$f":"MyJoin(IF((B$2=Ввод!$C$1:$C$30)*($A1034>=Ввод!$E$1:$E$30)*($A1034<=Ввод!$F$1:$F$30),Ввод!$D$1:$D$30,\"\"),\" / \")","v":""},{"$f":"MyJoin(IF((C$2=Ввод!$C$1:$C$30)*($A1034>=Ввод!$E$1:$E$30)*($A1034<=Ввод!$F$1:$F$30),Ввод!$D$1:$D$30,\"\"),\" / \")","v":""},{"$f":"MyJoin(IF((D$2=Ввод!$C$1:$C$30)*($A1034>=Ввод!$E$1:$E$30)*($A1034<=Ввод!$F$1:$F$30),Ввод!$D$1:$D$30,\"\"),\" / \")","v":""},{"$f":"MyJoin(IF((E$2=Ввод!$C$1:$C$30)*($A1034>=Ввод!$E$1:$E$30)*($A1034<=Ввод!$F$1:$F$30),Ввод!$D$1:$D$30,\"\"),\" / \")","v":""},{"$f":"MyJoin(IF((F$2=Ввод!$C$1:$C$30)*($A1034>=Ввод!$E$1:$E$30)*($A1034<=Ввод!$F$1:$F$30),Ввод!$D$1:$D$30,\"\"),\" / \")","v":""},"2024-10-23"]
["2024-10-24",{"$f":"MyJoin(IF((B$2=Ввод!$C$1:$C$30)*($A1035>=Ввод!$E$1:$E$30)*($A1035<=Ввод!$F$1:$F$30),Ввод!$D$1:$D$30,\"\"),\" / \")","v":""},{"$f":"MyJoin(IF((C$2=Ввод!$C$1:$C$30)*($A1035>=Ввод!$E$1:$E$30)*($A1035<=Ввод!$F$1:$F$30),Ввод!$D$1:$D$30,\"\"),\" / \")","v":""},{"$f":"MyJoin(IF((D$2=Ввод!$C$1:$C$30)*($A1035>=Ввод!$E$1:$E$30)*($A1035<=Ввод!$F$1:$F$30),Ввод!$D$1:$D$30,\"\"),\" / \")","v":""},{"$f":"MyJoin(IF((E$2=Ввод!$C$1:$C$30)*($A1035>=Ввод!$E$1:$E$30)*($A1035<=Ввод!$F$1:$F$30),Ввод!$D$1:$D$30,\"\"),\" / \")","v":""},{"$f":"MyJoin(IF((F$2=Ввод!$C$1:$C$30)*($A1035>=Ввод!$E$1:$E$30)*($A1035<=Ввод!$F$1:$F$30),Ввод!$D$1:$D$30,\"\"),\" / \")","v":""},"2024-10-24"]
["2024-10-25",{"$f":"MyJoin(IF((B$2=Ввод!$C$1:$C$30)*($A1036>=Ввод!$E$1:$E$30)*($A1036<=Ввод!$F$1:$F$30),Ввод!$D$1:$D$30,\"\"),\" / \")","v":""},{"$f":"MyJoin(IF((C$2=Ввод!$C$1:$C$30)*($A1036>=Ввод!$E$1:$E$30)*($A1036<=Ввод!$F$1:$F$30),Ввод!$D$1:$D$30,\"\"),\" / \")","v":""},{"$f":"MyJoin(IF((D$2=Ввод!$C$1:$C$30)*($A1036>=Ввод!$E$1:$E$30)*($A1036<=Ввод!$F$1:$F$30),Ввод!$D$1:$D$30,\"\"),\" / \")","v":""},{"$f":"MyJoin(IF((E$2=Ввод!$C$1:$C$30)*($A1036>=Ввод!$E$1:$E$30)*($A1036<=Ввод!$F$1:$F$30),Ввод!$D$1:$D$30,\"\"),\" / \")","v":""},{"$f":"MyJoin(IF((F$2=Ввод!$C$1:$C$30)*($A1036>=Ввод!$E$1:$E$30)*($A1036<=Ввод!$F$1:$F$30),Ввод!$D$1:$D$30,\"\"),\" / \")","v":""},"2024-10-25"]
["2024-10-26",{"$f":"MyJoin(IF((B$2=Ввод!$C$1:$C$30)*($A1037>=Ввод!$E$1:$E$30)*($A1037<=Ввод!$F$1:$F$30),Ввод!$D$1:$D$30,\"\"),\" / \")","v":""},{"$f":"MyJoin(IF((C$2=Ввод!$C$1:$C$30)*($A1037>=Ввод!$E$1:$E$30)*($A1037<=Ввод!$F$1:$F$30),Ввод!$D$1:$D$30,\"\"),\" / \")","v":""},{"$f":"MyJoin(IF((D$2=Ввод!$C$1:$C$30)*($A1037>=Ввод!$E$1:$E$30)*($A1037<=Ввод!$F$1:$F$30),Ввод!$D$1:$D$30,\"\"),\" / \")","v":""},{"$f":"MyJoin(IF((E$2=Ввод!$C$1:$C$30)*($A1037>=Ввод!$E$1:$E$30)*($A1037<=Ввод!$F$1:$F$30),Ввод!$D$1:$D$30,\"\"),\" / \")","v":""},{"$f":"MyJoin(IF((F$2=Ввод!$C$1:$C$30)*($A1037>=Ввод!$E$1:$E$30)*($A1037<=Ввод!$F$1:$F$30),Ввод!$D$1:$D$30,\"\"),\" / \")","v":""},"2024-10-26"]
["2024-10-27",{"$f":"MyJoin(IF((B$2=Ввод!$C$1:$C$30)*($A1038>=Ввод!$E$1:$E$30)*($A1038<=Ввод!$F$1:$F$30),Ввод!$D$1:$D$30,\"\"),\" / \")","v":""},{"$f":"MyJoin(IF((C$2=Ввод!$C$1:$C$30)*($A1038>=Ввод!$E$1:$E$30)*($A1038<=Ввод!$F$1:$F$30),Ввод!$D$1:$D$30,\"\"),\" / \")","v":""},{"$f":"MyJoin(IF((D$2=Ввод!$C$1:$C$30)*($A1038>=Ввод!$E$1:$E$30)*($A1038<=Ввод!$F$1:$F$30),Ввод!$D$1:$D$30,\"\"),\" / \")","v":""},{"$f":"MyJoin(IF((E$2=Ввод!$C$1:$C$30)*($A1038>=Ввод!$E$1:$E$30)*($A1038<=Ввод!$F$1:$F$30),Ввод!$D$1:$D$30,\"\"),\" / \")","v":""},{"$f":"MyJoin(IF((F$2=Ввод!$C$1:$C$30)*($A1038>=Ввод!$E$1:$E$30)*($A1038<=Ввод!$F$1:$F$30),Ввод!$D$1:$D$30,\"\"),\" / \")","v":""},"2024-10-27"]
["2024-10-28",{"$f":"MyJoin(IF((B$2=Ввод!$C$1:$C$30)*($A1039>=Ввод!$E$1:$E$30)*($A1039<=Ввод!$F$1:$F$30),Ввод!$D$1:$D$30,\"\"),\" / \")","v":""},{"$f":"MyJoin(IF((C$2=Ввод!$C$1:$C$30)*($A1039>=Ввод!$E$1:$E$30)*($A1039<=Ввод!$F$1:$F$30),Ввод!$D$1:$D$30,\"\"),\" / \")","v":""},{"$f":"MyJoin(IF((D$2=Ввод!$C$1:$C$30)*($A1039>=Ввод!$E$1:$E$30)*($A1039<=Ввод!$F$1:$F$30),Ввод!$D$1:$D$30,\"\"),\" / \")","v":""},{"$f":"MyJoin(IF((E$2=Ввод!$C$1:$C$30)*($A1039>=Ввод!$E$1:$E$30)*($A1039<=Ввод!$F$1:$F$30),Ввод!$D$1:$D$30,\"\"),\" / \")","v":""},{"$f":"MyJoin(IF((F$2=Ввод!$C$1:$C$30)*($A1039>=Ввод!$E$1:$E$30)*($A1039<=Ввод!$F$1:$F$30),Ввод!$D$1:$D$30,\"\"),\" / \")","v":""},"2024-10-28"]
["2024-10-29",{"$f":"MyJoin(IF((B$2=Ввод!$C$1:$C$30)*($A1040>=Ввод!$E$1:$E$30)*($A1040<=Ввод!$F$1:$F$30),Ввод!$D$1:$D$30,\"\"),\" / \")","v":""},{"$f":"MyJoin(IF((C$2=Ввод!$C$1:$C$30)*($A1040>=Ввод!$E$1:$E$30)*($A1040<=Ввод!$F$1:$F$30),Ввод!$D$1:$D$30,\"\"),\" / \")","v":""},{"$f":"MyJoin(IF((D$2=Ввод!$C$1:$C$30)*($A1040>=Ввод!$E$1:$E$30)*($A1040<=Ввод!$F$1:$F$30),Ввод!$D$1:$D$30,\"\"),\" / \")","v":""},{"$f":"MyJoin(IF((E$2=Ввод!$C$1:$C$30)*($A1040>=Ввод!$E$1:$E$30)*($A1040<=Ввод!$F$1:$F$30),Ввод!$D$1:$D$30,\"\"),\" / \")","v":""},{"$f":"MyJoin(IF((F$2=Ввод!$C$1:$C$30)*($A1040>=Ввод!$E$1:$E$30)*($A1040<=Ввод!$F$1:$F$30),Ввод!$D$1:$D$30,\"\"),\" / \")","v":""},"2024-10-29"]
["2024-10-30",{"$f":"MyJoin(IF((B$2=Ввод!$C$1:$C$30)*($A1041>=Ввод!$E$1:$E$30)*($A1041<=Ввод!$F$1:$F$30),Ввод!$D$1:$D$30,\"\"),\" / \")","v":""},{"$f":"MyJoin(IF((C$2=Ввод!$C$1:$C$30)*($A1041>=Ввод!$E$1:$E$30)*($A1041<=Ввод!$F$1:$F$30),Ввод!$D$1:$D$30,\"\"),\" / \")","v":""},{"$f":"MyJoin(IF((D$2=Ввод!$C$1:$C$30)*($A1041>=Ввод!$E$1:$E$30)*($A1041<=Ввод!$F$1:$F$30),Ввод!$D$1:$D$30,\"\"),\" / \")","v":""},{"$f":"MyJoin(IF((E$2=Ввод!$C$1:$C$30)*($A1041>=Ввод!$E$1:$E$30)*($A1041<=Ввод!$F$1:$F$30),Ввод!$D$1:$D$30,\"\"),\" / \")","v":""},{"$f":"MyJoin(IF((F$2=Ввод!$C$1:$C$30)*($A1041>=Ввод!$E$1:$E$30)*($A1041<=Ввод!$F$1:$F$30),Ввод!$D$1:$D$30,\"\"),\" / \")","v":""},"2024-10-30"]
["2024-10-31",{"$f":"MyJoin(IF((B$2=Ввод!$C$1:$C$30)*($A1042>=Ввод!$E$1:$E$30)*($A1042<=Ввод!$F$1:$F$30),Ввод!$D$1:$D$30,\"\"),\" / \")","v":""},{"$f":"MyJoin(IF((C$2=Ввод!$C$1:$C$30)*($A1042>=Ввод!$E$1:$E$30)*($A1042<=Ввод!$F$1:$F$30),Ввод!$D$1:$D$30,\"\"),\" / \")","v":""},{"$f":"MyJoin(IF((D$2=Ввод!$C$1:$C$30)*($A1042>=Ввод!$E$1:$E$30)*($A1042<=Ввод!$F$1:$F$30),Ввод!$D$1:$D$30,\"\"),\" / \")","v":""},{"$f":"MyJoin(IF((E$2=Ввод!$C$1:$C$30)*($A1042>=Ввод!$E$1:$E$30)*($A1042<=Ввод!$F$1:$F$30),Ввод!$D$1:$D$30,\"\"),\" / \")","v":""},{"$f":"MyJoin(IF((F$2=Ввод!$C$1:$C$30)*($A1042>=Ввод!$E$1:$E$30)*($A1042<=Ввод!$F$1:$F$30),Ввод!$D$1:$D$30,\"\"),\" / \")","v":""},"2024-10-31"]
["2024-11-01",{"$f":"MyJoin(IF((B$2=Ввод!$C$1:$C$30)*($A1043>=Ввод!$E$1:$E$30)*($A1043<=Ввод!$F$1:$F$30),Ввод!$D$1:$D$30,\"\"),\" / \")","v":""},{"$f":"MyJoin(IF((C$2=Ввод!$C$1:$C$30)*($A1043>=Ввод!$E$1:$E$30)*($A1043<=Ввод!$F$1:$F$30),Ввод!$D$1:$D$30,\"\"),\" / \")","v":""},{"$f":"MyJoin(IF((D$2=Ввод!$C$1:$C$30)*($A1043>=Ввод!$E$1:$E$30)*($A1043<=Ввод!$F$1:$F$30),Ввод!$D$1:$D$30,\"\"),\" / \")","v":""},{"$f":"MyJoin(IF((E$2=Ввод!$C$1:$C$30)*($A1043>=Ввод!$E$1:$E$30)*($A1043<=Ввод!$F$1:$F$30),Ввод!$D$1:$D$30,\"\"),\" / \")","v":""},{"$f":"MyJoin(IF((F$2=Ввод!$C$1:$C$30)*($A1043>=Ввод!$E$1:$E$30)*($A1043<=Ввод!$F$1:$F$30),Ввод!$D$1:$D$30,\"\"),\" / \")","v":""},"2024-11-01"]
["2024-11-02",{"$f":"MyJoin(IF((B$2=Ввод!$C$1:$C$30)*($A1044>=Ввод!$E$1:$E$30)*($A1044<=Ввод!$F$1:$F$30),Ввод!$D$1:$D$30,\"\"),\" / \")","v":""},{"$f":"MyJoin(IF((C$2=Ввод!$C$1:$C$30)*($A1044>=Ввод!$E$1:$E$30)*($A1044<=Ввод!$F$1:$F$30),Ввод!$D$1:$D$30,\"\"),\" / \")","v":""},{"$f":"MyJoin(IF((D$2=Ввод!$C$1:$C$30)*($A1044>=Ввод!$E$1:$E$30)*($A1044<=Ввод!$F$1:$F$30),Ввод!$D$1:$D$30,\"\"),\" / \")","v":""},{"$f":"MyJoin(IF((E$2=Ввод!$C$1:$C$30)*($A1044>=Ввод!$E$1:$E$30)*($A1044<=Ввод!$F$1:$F$30),Ввод!$D$1:$D$30,\"\"),\" / \")","v":""},{"$f":"MyJoin(IF((F$2=Ввод!$C$1:$C$30)*($A1044>=Ввод!$E$1:$E$30)*($A1044<=Ввод!$F$1:$F$30),Ввод!$D$1:$D$30,\"\"),\" / \")","v":""},"2024-11-02"]
["2024-11-03",{"$f":"MyJoin(IF((B$2=Ввод!$C$1:$C$30)*($A1045>=Ввод!$E$1:$E$30)*($A1045<=Ввод!$F$1:$F$30),Ввод!$D$1:$D$30,\"\"),\" / \")","v":""},{"$f":"MyJoin(IF((C$2=Ввод!$C$1:$C$30)*($A1045>=Ввод!$E$1:$E$30)*($A1045<=Ввод!$F$1:$F$30),Ввод!$D$1:$D$30,\"\"),\" / \")","v":""},{"$f":"MyJoin(IF((D$2=Ввод!$C$1:$C$30)*($A1045>=Ввод!$E$1:$E$30)*($A1045<=Ввод!$F$1:$F$30),Ввод!$D$1:$D$30,\"\"),\" / \")","v":""},{"$f":"MyJoin(IF((E$2=Ввод!$C$1:$C$30)*($A1045>=Ввод!$E$1:$E$30)*($A1045<=Ввод!$F$1:$F$30),Ввод!$D$1:$D$30,\"\"),\" / \")","v":""},{"$f":"MyJoin(IF((F$2=Ввод!$C$1:$C$30)*($A1045>=Ввод!$E$1:$E$30)*($A1045<=Ввод!$F$1:$F$30),Ввод!$D$1:$D$30,\"\"),\" / \")","v":""},"2024-11-03"]
["2024-11-04",{"$f":"MyJoin(IF((B$2=Ввод!$C$1:$C$30)*($A1046>=Ввод!$E$1:$E$30)*($A1046<=Ввод!$F$1:$F$30),Ввод!$D$1:$D$30,\"\"),\" / \")","v":""},{"$f":"MyJoin(IF((C$2=Ввод!$C$1:$C$30)*($A1046>=Ввод!$E$1:$E$30)*($A1046<=Ввод!$F$1:$F$30),Ввод!$D$1:$D$30,\"\"),\" / \")","v":""},{"$f":"MyJoin(IF((D$2=Ввод!$C$1:$C$30)*($A1046>=Ввод!$E$1:$E$30)*($A1046<=Ввод!$F$1:$F$30),Ввод!$D$1:$D$30,\"\"),\" / \")","v":""},{"$f":"MyJoin(IF((E$2=Ввод!$C$1:$C$30)*($A1046>=Ввод!$E$1:$E$30)*($A1046<=Ввод!$F$1:$F$30),Ввод!$D$1:$D$30,\"\"),\" / \")","v":""},{"$f":"MyJoin(IF((F$2=Ввод!$C$1:$C$30)*($A1046>=Ввод!$E$1:$E$30)*($A1046<=Ввод!$F$1:$F$30),Ввод!$D$1:$D$30,\"\"),\" / \")","v":""},"2024-11-04"]
["2024-11-05",{"$f":"MyJoin(IF((B$2=Ввод!$C$1:$C$30)*($A1047>=Ввод!$E$1:$E$30)*($A1047<=Ввод!$F$1:$F$30),Ввод!$D$1:$D$30,\"\"),\" / \")","v":""},{"$f":"MyJoin(IF((C$2=Ввод!$C$1:$C$30)*($A1047>=Ввод!$E$1:$E$30)*($A1047<=Ввод!$F$1:$F$30),Ввод!$D$1:$D$30,\"\"),\" / \")","v":""},{"$f":"MyJoin(IF((D$2=Ввод!$C$1:$C$30)*($A1047>=Ввод!$E$1:$E$30)*($A1047<=Ввод!$F$1:$F$30),Ввод!$D$1:$D$30,\"\"),\" / \")","v":""},{"$f":"MyJoin(IF((E$2=Ввод!$C$1:$C$30)*($A1047>=Ввод!$E$1:$E$30)*($A1047<=Ввод!$F$1:$F$30),Ввод!$D$1:$D$30,\"\"),\" / \")","v":""},{"$f":"MyJoin(IF((F$2=Ввод!$C$1:$C$30)*($A1047>=Ввод!$E$1:$E$30)*($A1047<=Ввод!$F$1:$F$30),Ввод!$D$1:$D$30,\"\"),\" / \")","v":""},"2024-11-05"]
["2024-11-06",{"$f":"MyJoin(IF((B$2=Ввод!$C$1:$C$30)*($A1048>=Ввод!$E$1:$E$30)*($A1048<=Ввод!$F$1:$F$30),Ввод!$D$1:$D$30,\"\"),\" / \")","v":""},{"$f":"MyJoin(IF((C$2=Ввод!$C$1:$C$30)*($A1048>=Ввод!$E$1:$E$30)*($A1048<=Ввод!$F$1:$F$30),Ввод!$D$1:$D$30,\"\"),\" / \")","v":""},{"$f":"MyJoin(IF((D$2=Ввод!$C$1:$C$30)*($A1048>=Ввод!$E$1:$E$30)*($A1048<=Ввод!$F$1:$F$30),Ввод!$D$1:$D$30,\"\"),\" / \")","v":""},{"$f":"MyJoin(IF((E$2=Ввод!$C$1:$C$30)*($A1048>=Ввод!$E$1:$E$30)*($A1048<=Ввод!$F$1:$F$30),Ввод!$D$1:$D$30,\"\"),\" / \")","v":""},{"$f":"MyJoin(IF((F$2=Ввод!$C$1:$C$30)*($A1048>=Ввод!$E$1:$E$30)*($A1048<=Ввод!$F$1:$F$30),Ввод!$D$1:$D$30,\"\"),\" / \")","v":""},"2024-11-06"]
["2024-11-07",{"$f":"MyJoin(IF((B$2=Ввод!$C$1:$C$30)*($A1049>=Ввод!$E$1:$E$30)*($A1049<=Ввод!$F$1:$F$30),Ввод!$D$1:$D$30,\"\"),\" / \")","v":""},{"$f":"MyJoin(IF((C$2=Ввод!$C$1:$C$30)*($A1049>=Ввод!$E$1:$E$30)*($A1049<=Ввод!$F$1:$F$30),Ввод!$D$1:$D$30,\"\"),\" / \")","v":""},{"$f":"MyJoin(IF((D$2=Ввод!$C$1:$C$30)*($A1049>=Ввод!$E$1:$E$30)*($A1049<=Ввод!$F$1:$F$30),Ввод!$D$1:$D$30,\"\"),\" / \")","v":""},{"$f":"MyJoin(IF((E$2=Ввод!$C$1:$C$30)*($A1049>=Ввод!$E$1:$E$30)*($A1049<=Ввод!$F$1:$F$30),Ввод!$D$1:$D$30,\"\"),\" / \")","v":""},{"$f":"MyJoin(IF((F$2=Ввод!$C$1:$C$30)*($A1049>=Ввод!$E$1:$E$30)*($A1049<=Ввод!$F$1:$F$30),Ввод!$D$1:$D$30,\"\"),\" / \")","v":""},"2024-11-07"]
["2024-11-08",{"$f":"MyJoin(IF((B$2=Ввод!$C$1:$C$30)*($A1050>=Ввод!$E$1:$E$30)*($A1050<=Ввод!$F$1:$F$30),Ввод!$D$1:$D$30,\"\"),\" / \")","v":""},{"$f":"MyJoin(IF((C$2=Ввод!$C$1:$C$30)*($A1050>=Ввод!$E$1:$E$30)*($A1050<=Ввод!$F$1:$F$30),Ввод!$D$1:$D$30,\"\"),\" / \")","v":""},{"$f":"MyJoin(IF((D$2=Ввод!$C$1:$C$30)*($A1050>=Ввод!$E$1:$E$30)*($A1050<=Ввод!$F$1:$F$30),Ввод!$D$1:$D$30,\"\"),\" / \")","v":""},{"$f":"MyJoin(IF((E$2=Ввод!$C$1:$C$30)*($A1050>=Ввод!$E$1:$E$30)*($A1050<=Ввод!$F$1:$F$30),Ввод!$D$1:$D$30,\"\"),\" / \")","v":""},{"$f":"MyJoin(IF((F$2=Ввод!$C$1:$C$30)*($A1050>=Ввод!$E$1:$E$30)*($A1050<=Ввод!$F$1:$F$30),Ввод!$D$1:$D$30,\"\"),\" / \")","v":""},"2024-11-08"]
["2024-11-09",{"$f":"MyJoin(IF((B$2=Ввод!$C$1:$C$30)*($A1051>=Ввод!$E$1:$E$30)*($A1051<=Ввод!$F$1:$F$30),Ввод!$D$1:$D$30,\"\"),\" / \")","v":""},{"$f":"MyJoin(IF((C$2=Ввод!$C$1:$C$30)*($A1051>=Ввод!$E$1:$E$30)*($A1051<=Ввод!$F$1:$F$30),Ввод!$D$1:$D$30,\"\"),\" / \")","v":""},{"$f":"MyJoin(IF((D$2=Ввод!$C$1:$C$30)*($A1051>=Ввод!$E$1:$E$30)*($A1051<=Ввод!$F$1:$F$30),Ввод!$D$1:$D$30,\"\"),\" / \")","v":""},{"$f":"MyJoin(IF((E$2=Ввод!$C$1:$C$30)*($A1051>=Ввод!$E$1:$E$30)*($A1051<=Ввод!$F$1:$F$30),Ввод!$D$1:$D$30,\"\"),\" / \")","v":""},{"$f":"MyJoin(IF((F$2=Ввод!$C$1:$C$30)*($A1051>=Ввод!$E$1:$E$30)*($A1051<=Ввод!$F$1:$F$30),Ввод!$D$1:$D$30,\"\"),\" / \")","v":""},"2024-11-09"]
["2024-11-10",{"$f":"MyJoin(IF((B$2=Ввод!$C$1:$C$30)*($A1052>=Ввод!$E$1:$E$30)*($A1052<=Ввод!$F$1:$F$30),Ввод!$D$1:$D$30,\"\"),\" / \")","v":""},{"$f":"MyJoin(IF((C$2=Ввод!$C$1:$C$30)*($A1052>=Ввод!$E$1:$E$30)*($A1052<=Ввод!$F$1:$F$30),Ввод!$D$1:$D$30,\"\"),\" / \")","v":""},{"$f":"MyJoin(IF((D$2=Ввод!$C$1:$C$30)*($A1052>=Ввод!$E$1:$E$30)*($A1052<=Ввод!$F$1:$F$30),Ввод!$D$1:$D$30,\"\"),\" / \")","v":""},{"$f":"MyJoin(IF((E$2=Ввод!$C$1:$C$30)*($A1052>=Ввод!$E$1:$E$30)*($A1052<=Ввод!$F$1:$F$30),Ввод!$D$1:$D$30,\"\"),\" / \")","v":""},{"$f":"MyJoin(IF((F$2=Ввод!$C$1:$C$30)*($A1052>=Ввод!$E$1:$E$30)*($A1052<=Ввод!$F$1:$F$30),Ввод!$D$1:$D$30,\"\"),\" / \")","v":""},"2024-11-10"]
["2024-11-11",{"$f":"MyJoin(IF((B$2=Ввод!$C$1:$C$30)*($A1053>=Ввод!$E$1:$E$30)*($A1053<=Ввод!$F$1:$F$30),Ввод!$D$1:$D$30,\"\"),\" / \")","v":""},{"$f":"MyJoin(IF((C$2=Ввод!$C$1:$C$30)*($A1053>=Ввод!$E$1:$E$30)*($A1053<=Ввод!$F$1:$F$30),Ввод!$D$1:$D$30,\"\"),\" / \")","v":""},{"$f":"MyJoin(IF((D$2=Ввод!$C$1:$C$30)*($A1053>=Ввод!$E$1:$E$30)*($A1053<=Ввод!$F$1:$F$30),Ввод!$D$1:$D$30,\"\"),\" / \")","v":""},{"$f":"MyJoin(IF((E$2=Ввод!$C$1:$C$30)*($A1053>=Ввод!$E$1:$E$30)*($A1053<=Ввод!$F$1:$F$30),Ввод!$D$1:$D$30,\"\"),\" / \")","v":""},{"$f":"MyJoin(IF((F$2=Ввод!$C$1:$C$30)*($A1053>=Ввод!$E$1:$E$30)*($A1053<=Ввод!$F$1:$F$30),Ввод!$D$1:$D$30,\"\"),\" / \")","v":""},"2024-11-11"]
["2024-11-12",{"$f":"MyJoin(IF((B$2=Ввод!$C$1:$C$30)*($A1054>=Ввод!$E$1:$E$30)*($A1054<=Ввод!$F$1:$F$30),Ввод!$D$1:$D$30,\"\"),\" / \")","v":""},{"$f":"MyJoin(IF((C$2=Ввод!$C$1:$C$30)*($A1054>=Ввод!$E$1:$E$30)*($A1054<=Ввод!$F$1:$F$30),Ввод!$D$1:$D$30,\"\"),\" / \")","v":""},{"$f":"MyJoin(IF((D$2=Ввод!$C$1:$C$30)*($A1054>=Ввод!$E$1:$E$30)*($A1054<=Ввод!$F$1:$F$30),Ввод!$D$1:$D$30,\"\"),\" / \")","v":""},{"$f":"MyJoin(IF((E$2=Ввод!$C$1:$C$30)*($A1054>=Ввод!$E$1:$E$30)*($A1054<=Ввод!$F$1:$F$30),Ввод!$D$1:$D$30,\"\"),\" / \")","v":""},{"$f":"MyJoin(IF((F$2=Ввод!$C$1:$C$30)*($A1054>=Ввод!$E$1:$E$30)*($A1054<=Ввод!$F$1:$F$30),Ввод!$D$1:$D$30,\"\"),\" / \")","v":""},"2024-11-12"]
["2024-11-13",{"$f":"MyJoin(IF((B$2=Ввод!$C$1:$C$30)*($A1055>=Ввод!$E$1:$E$30)*($A1055<=Ввод!$F$1:$F$30),Ввод!$D$1:$D$30,\"\"),\" / \")","v":""},{"$f":"MyJoin(IF((C$2=Ввод!$C$1:$C$30)*($A1055>=Ввод!$E$1:$E$30)*($A1055<=Ввод!$F$1:$F$30),Ввод!$D$1:$D$30,\"\"),\" / \")","v":""},{"$f":"MyJoin(IF((D$2=Ввод!$C$1:$C$30)*($A1055>=Ввод!$E$1:$E$30)*($A1055<=Ввод!$F$1:$F$30),Ввод!$D$1:$D$30,\"\"),\" / \")","v":""},{"$f":"MyJoin(IF((E$2=Ввод!$C$1:$C$30)*($A1055>=Ввод!$E$1:$E$30)*($A1055<=Ввод!$F$1:$F$30),Ввод!$D$1:$D$30,\"\"),\" / \")","v":""},{"$f":"MyJoin(IF((F$2=Ввод!$C$1:$C$30)*($A1055>=Ввод!$E$1:$E$30)*($A1055<=Ввод!$F$1:$F$30),Ввод!$D$1:$D$30,\"\"),\" / \")","v":""},"2024-11-13"]
["2024-11-14",{"$f":"MyJoin(IF((B$2=Ввод!$C$1:$C$30)*($A1056>=Ввод!$E$1:$E$30)*($A1056<=Ввод!$F$1:$F$30),Ввод!$D$1:$D$30,\"\"),\" / \")","v":""},{"$f":"MyJoin(IF((C$2=Ввод!$C$1:$C$30)*($A1056>=Ввод!$E$1:$E$30)*($A1056<=Ввод!$F$1:$F$30),Ввод!$D$1:$D$30,\"\"),\" / \")","v":""},{"$f":"MyJoin(IF((D$2=Ввод!$C$1:$C$30)*($A1056>=Ввод!$E$1:$E$30)*($A1056<=Ввод!$F$1:$F$30),Ввод!$D$1:$D$30,\"\"),\" / \")","v":""},{"$f":"MyJoin(IF((E$2=Ввод!$C$1:$C$30)*($A1056>=Ввод!$E$1:$E$30)*($A1056<=Ввод!$F$1:$F$30),Ввод!$D$1:$D$30,\"\"),\" / \")","v":""},{"$f":"MyJoin(IF((F$2=Ввод!$C$1:$C$30)*($A1056>=Ввод!$E$1:$E$30)*($A1056<=Ввод!$F$1:$F$30),Ввод!$D$1:$D$30,\"\"),\" / \")","v":""},"2024-11-14"]
["2024-11-15",{"$f":"MyJoin(IF((B$2=Ввод!$C$1:$C$30)*($A1057>=Ввод!$E$1:$E$30)*($A1057<=Ввод!$F$1:$F$30),Ввод!$D$1:$D$30,\"\"),\" / \")","v":""},{"$f":"MyJoin(IF((C$2=Ввод!$C$1:$C$30)*($A1057>=Ввод!$E$1:$E$30)*($A1057<=Ввод!$F$1:$F$30),Ввод!$D$1:$D$30,\"\"),\" / \")","v":""},{"$f":"MyJoin(IF((D$2=Ввод!$C$1:$C$30)*($A1057>=Ввод!$E$1:$E$30)*($A1057<=Ввод!$F$1:$F$30),Ввод!$D$1:$D$30,\"\"),\" / \")","v":""},{"$f":"MyJoin(IF((E$2=Ввод!$C$1:$C$30)*($A1057>=Ввод!$E$1:$E$30)*($A1057<=Ввод!$F$1:$F$30),Ввод!$D$1:$D$30,\"\"),\" / \")","v":""},{"$f":"MyJoin(IF((F$2=Ввод!$C$1:$C$30)*($A1057>=Ввод!$E$1:$E$30)*($A1057<=Ввод!$F$1:$F$30),Ввод!$D$1:$D$30,\"\"),\" / \")","v":""},"2024-11-15"]
["2024-11-16",{"$f":"MyJoin(IF((B$2=Ввод!$C$1:$C$30)*($A1058>=Ввод!$E$1:$E$30)*($A1058<=Ввод!$F$1:$F$30),Ввод!$D$1:$D$30,\"\"),\" / \")","v":""},{"$f":"MyJoin(IF((C$2=Ввод!$C$1:$C$30)*($A1058>=Ввод!$E$1:$E$30)*($A1058<=Ввод!$F$1:$F$30),Ввод!$D$1:$D$30,\"\"),\" / \")","v":""},{"$f":"MyJoin(IF((D$2=Ввод!$C$1:$C$30)*($A1058>=Ввод!$E$1:$E$30)*($A1058<=Ввод!$F$1:$F$30),Ввод!$D$1:$D$30,\"\"),\" / \")","v":""},{"$f":"MyJoin(IF((E$2=Ввод!$C$1:$C$30)*($A1058>=Ввод!$E$1:$E$30)*($A1058<=Ввод!$F$1:$F$30),Ввод!$D$1:$D$30,\"\"),\" / \")","v":""},{"$f":"MyJoin(IF((F$2=Ввод!$C$1:$C$30)*($A1058>=Ввод!$E$1:$E$30)*($A1058<=Ввод!$F$1:$F$30),Ввод!$D$1:$D$30,\"\"),\" / \")","v":""},"2024-11-16"]
["2024-11-17",{"$f":"MyJoin(IF((B$2=Ввод!$C$1:$C$30)*($A1059>=Ввод!$E$1:$E$30)*($A1059<=Ввод!$F$1:$F$30),Ввод!$D$1:$D$30,\"\"),\" / \")","v":""},{"$f":"MyJoin(IF((C$2=Ввод!$C$1:$C$30)*($A1059>=Ввод!$E$1:$E$30)*($A1059<=Ввод!$F$1:$F$30),Ввод!$D$1:$D$30,\"\"),\" / \")","v":""},{"$f":"MyJoin(IF((D$2=Ввод!$C$1:$C$30)*($A1059>=Ввод!$E$1:$E$30)*($A1059<=Ввод!$F$1:$F$30),Ввод!$D$1:$D$30,\"\"),\" / \")","v":""},{"$f":"MyJoin(IF((E$2=Ввод!$C$1:$C$30)*($A1059>=Ввод!$E$1:$E$30)*($A1059<=Ввод!$F$1:$F$30),Ввод!$D$1:$D$30,\"\"),\" / \")","v":""},{"$f":"MyJoin(IF((F$2=Ввод!$C$1:$C$30)*($A1059>=Ввод!$E$1:$E$30)*($A1059<=Ввод!$F$1:$F$30),Ввод!$D$1:$D$30,\"\"),\" / \")","v":""},"2024-11-17"]
["2024-11-18",{"$f":"MyJoin(IF((B$2=Ввод!$C$1:$C$30)*($A1060>=Ввод!$E$1:$E$30)*($A1060<=Ввод!$F$1:$F$30),Ввод!$D$1:$D$30,\"\"),\" / \")","v":""},{"$f":"MyJoin(IF((C$2=Ввод!$C$1:$C$30)*($A1060>=Ввод!$E$1:$E$30)*($A1060<=Ввод!$F$1:$F$30),Ввод!$D$1:$D$30,\"\"),\" / \")","v":""},{"$f":"MyJoin(IF((D$2=Ввод!$C$1:$C$30)*($A1060>=Ввод!$E$1:$E$30)*($A1060<=Ввод!$F$1:$F$30),Ввод!$D$1:$D$30,\"\"),\" / \")","v":""},{"$f":"MyJoin(IF((E$2=Ввод!$C$1:$C$30)*($A1060>=Ввод!$E$1:$E$30)*($A1060<=Ввод!$F$1:$F$30),Ввод!$D$1:$D$30,\"\"),\" / \")","v":""},{"$f":"MyJoin(IF((F$2=Ввод!$C$1:$C$30)*($A1060>=Ввод!$E$1:$E$30)*($A1060<=Ввод!$F$1:$F$30),Ввод!$D$1:$D$30,\"\"),\" / \")","v":""},"2024-11-18"]
["2024-11-19",{"$f":"MyJoin(IF((B$2=Ввод!$C$1:$C$30)*($A1061>=Ввод!$E$1:$E$30)*($A1061<=Ввод!$F$1:$F$30),Ввод!$D$1:$D$30,\"\"),\" / \")","v":""},{"$f":"MyJoin(IF((C$2=Ввод!$C$1:$C$30)*($A1061>=Ввод!$E$1:$E$30)*($A1061<=Ввод!$F$1:$F$30),Ввод!$D$1:$D$30,\"\"),\" / \")","v":""},{"$f":"MyJoin(IF((D$2=Ввод!$C$1:$C$30)*($A1061>=Ввод!$E$1:$E$30)*($A1061<=Ввод!$F$1:$F$30),Ввод!$D$1:$D$30,\"\"),\" / \")","v":""},{"$f":"MyJoin(IF((E$2=Ввод!$C$1:$C$30)*($A1061>=Ввод!$E$1:$E$30)*($A1061<=Ввод!$F$1:$F$30),Ввод!$D$1:$D$30,\"\"),\" / \")","v":""},{"$f":"MyJoin(IF((F$2=Ввод!$C$1:$C$30)*($A1061>=Ввод!$E$1:$E$30)*($A1061<=Ввод!$F$1:$F$30),Ввод!$D$1:$D$30,\"\"),\" / \")","v":""},"2024-11-19"]
["2024-11-20",{"$f":"MyJoin(IF((B$2=Ввод!$C$1:$C$30)*($A1062>=Ввод!$E$1:$E$30)*($A1062<=Ввод!$F$1:$F$30),Ввод!$D$1:$D$30,\"\"),\" / \")","v":""},{"$f":"MyJoin(IF((C$2=Ввод!$C$1:$C$30)*($A1062>=Ввод!$E$1:$E$30)*($A1062<=Ввод!$F$1:$F$30),Ввод!$D$1:$D$30,\"\"),\" / \")","v":""},{"$f":"MyJoin(IF((D$2=Ввод!$C$1:$C$30)*($A1062>=Ввод!$E$1:$E$30)*($A1062<=Ввод!$F$1:$F$30),Ввод!$D$1:$D$30,\"\"),\" / \")","v":""},{"$f":"MyJoin(IF((E$2=Ввод!$C$1:$C$30)*($A1062>=Ввод!$E$1:$E$30)*($A1062<=Ввод!$F$1:$F$30),Ввод!$D$1:$D$30,\"\"),\" / \")","v":""},{"$f":"MyJoin(IF((F$2=Ввод!$C$1:$C$30)*($A1062>=Ввод!$E$1:$E$30)*($A1062<=Ввод!$F$1:$F$30),Ввод!$D$1:$D$30,\"\"),\" / \")","v":""},"2024-11-20"]
["2024-11-21",{"$f":"MyJoin(IF((B$2=Ввод!$C$1:$C$30)*($A1063>=Ввод!$E$1:$E$30)*($A1063<=Ввод!$F$1:$F$30),Ввод!$D$1:$D$30,\"\"),\" / \")","v":""},{"$f":"MyJoin(IF((C$2=Ввод!$C$1:$C$30)*($A1063>=Ввод!$E$1:$E$30)*($A1063<=Ввод!$F$1:$F$30),Ввод!$D$1:$D$30,\"\"),\" / \")","v":""},{"$f":"MyJoin(IF((D$2=Ввод!$C$1:$C$30)*($A1063>=Ввод!$E$1:$E$30)*($A1063<=Ввод!$F$1:$F$30),Ввод!$D$1:$D$30,\"\"),\" / \")","v":""},{"$f":"MyJoin(IF((E$2=Ввод!$C$1:$C$30)*($A1063>=Ввод!$E$1:$E$30)*($A1063<=Ввод!$F$1:$F$30),Ввод!$D$1:$D$30,\"\"),\" / \")","v":""},{"$f":"MyJoin(IF((F$2=Ввод!$C$1:$C$30)*($A1063>=Ввод!$E$1:$E$30)*($A1063<=Ввод!$F$1:$F$30),Ввод!$D$1:$D$30,\"\"),\" / \")","v":""},"2024-11-21"]
["2024-11-22",{"$f":"MyJoin(IF((B$2=Ввод!$C$1:$C$30)*($A1064>=Ввод!$E$1:$E$30)*($A1064<=Ввод!$F$1:$F$30),Ввод!$D$1:$D$30,\"\"),\" / \")","v":""},{"$f":"MyJoin(IF((C$2=Ввод!$C$1:$C$30)*($A1064>=Ввод!$E$1:$E$30)*($A1064<=Ввод!$F$1:$F$30),Ввод!$D$1:$D$30,\"\"),\" / \")","v":""},{"$f":"MyJoin(IF((D$2=Ввод!$C$1:$C$30)*($A1064>=Ввод!$E$1:$E$30)*($A1064<=Ввод!$F$1:$F$30),Ввод!$D$1:$D$30,\"\"),\" / \")","v":""},{"$f":"MyJoin(IF((E$2=Ввод!$C$1:$C$30)*($A1064>=Ввод!$E$1:$E$30)*($A1064<=Ввод!$F$1:$F$30),Ввод!$D$1:$D$30,\"\"),\" / \")","v":""},{"$f":"MyJoin(IF((F$2=Ввод!$C$1:$C$30)*($A1064>=Ввод!$E$1:$E$30)*($A1064<=Ввод!$F$1:$F$30),Ввод!$D$1:$D$30,\"\"),\" / \")","v":""},"2024-11-22"]
["2024-11-23",{"$f":"MyJoin(IF((B$2=Ввод!$C$1:$C$30)*($A1065>=Ввод!$E$1:$E$30)*($A1065<=Ввод!$F$1:$F$30),Ввод!$D$1:$D$30,\"\"),\" / \")","v":""},{"$f":"MyJoin(IF((C$2=Ввод!$C$1:$C$30)*($A1065>=Ввод!$E$1:$E$30)*($A1065<=Ввод!$F$1:$F$30),Ввод!$D$1:$D$30,\"\"),\" / \")","v":""},{"$f":"MyJoin(IF((D$2=Ввод!$C$1:$C$30)*($A1065>=Ввод!$E$1:$E$30)*($A1065<=Ввод!$F$1:$F$30),Ввод!$D$1:$D$30,\"\"),\" / \")","v":""},{"$f":"MyJoin(IF((E$2=Ввод!$C$1:$C$30)*($A1065>=Ввод!$E$1:$E$30)*($A1065<=Ввод!$F$1:$F$30),Ввод!$D$1:$D$30,\"\"),\" / \")","v":""},{"$f":"MyJoin(IF((F$2=Ввод!$C$1:$C$30)*($A1065>=Ввод!$E$1:$E$30)*($A1065<=Ввод!$F$1:$F$30),Ввод!$D$1:$D$30,\"\"),\" / \")","v":""},"2024-11-23"]
["2024-11-24",{"$f":"MyJoin(IF((B$2=Ввод!$C$1:$C$30)*($A1066>=Ввод!$E$1:$E$30)*($A1066<=Ввод!$F$1:$F$30),Ввод!$D$1:$D$30,\"\"),\" / \")","v":""},{"$f":"MyJoin(IF((C$2=Ввод!$C$1:$C$30)*($A1066>=Ввод!$E$1:$E$30)*($A1066<=Ввод!$F$1:$F$30),Ввод!$D$1:$D$30,\"\"),\" / \")","v":""},{"$f":"MyJoin(IF((D$2=Ввод!$C$1:$C$30)*($A1066>=Ввод!$E$1:$E$30)*($A1066<=Ввод!$F$1:$F$30),Ввод!$D$1:$D$30,\"\"),\" / \")","v":""},{"$f":"MyJoin(IF((E$2=Ввод!$C$1:$C$30)*($A1066>=Ввод!$E$1:$E$30)*($A1066<=Ввод!$F$1:$F$30),Ввод!$D$1:$D$30,\"\"),\" / \")","v":""},{"$f":"MyJoin(IF((F$2=Ввод!$C$1:$C$30)*($A1066>=Ввод!$E$1:$E$30)*($A1066<=Ввод!$F$1:$F$30),Ввод!$D$1:$D$30,\"\"),\" / \")","v":""},"2024-11-24"]
["2024-11-25",{"$f":"MyJoin(IF((B$2=Ввод!$C$1:$C$30)*($A1067>=Ввод!$E$1:$E$30)*($A1067<=Ввод!$F$1:$F$30),Ввод!$D$1:$D$30,\"\"),\" / \")","v":""},{"$f":"MyJoin(IF((C$2=Ввод!$C$1:$C$30)*($A1067>=Ввод!$E$1:$E$30)*($A1067<=Ввод!$F$1:$F$30),Ввод!$D$1:$D$30,\"\"),\" / \")","v":""},{"$f":"MyJoin(IF((D$2=Ввод!$C$1:$C$30)*($A1067>=Ввод!$E$1:$E$30)*($A1067<=Ввод!$F$1:$F$30),Ввод!$D$1:$D$30,\"\"),\" / \")","v":""},{"$f":"MyJoin(IF((E$2=Ввод!$C$1:$C$30)*($A1067>=Ввод!$E$1:$E$30)*($A1067<=Ввод!$F$1:$F$30),Ввод!$D$1:$D$30,\"\"),\" / \")","v":""},{"$f":"MyJoin(IF((F$2=Ввод!$C$1:$C$30)*($A1067>=Ввод!$E$1:$E$30)*($A1067<=Ввод!$F$1:$F$30),Ввод!$D$1:$D$30,\"\"),\" / \")","v":""},"2024-11-25"]
["2024-11-26",{"$f":"MyJoin(IF((B$2=Ввод!$C$1:$C$30)*($A1068>=Ввод!$E$1:$E$30)*($A1068<=Ввод!$F$1:$F$30),Ввод!$D$1:$D$30,\"\"),\" / \")","v":""},{"$f":"MyJoin(IF((C$2=Ввод!$C$1:$C$30)*($A1068>=Ввод!$E$1:$E$30)*($A1068<=Ввод!$F$1:$F$30),Ввод!$D$1:$D$30,\"\"),\" / \")","v":""},{"$f":"MyJoin(IF((D$2=Ввод!$C$1:$C$30)*($A1068>=Ввод!$E$1:$E$30)*($A1068<=Ввод!$F$1:$F$30),Ввод!$D$1:$D$30,\"\"),\" / \")","v":""},{"$f":"MyJoin(IF((E$2=Ввод!$C$1:$C$30)*($A1068>=Ввод!$E$1:$E$30)*($A1068<=Ввод!$F$1:$F$30),Ввод!$D$1:$D$30,\"\"),\" / \")","v":""},{"$f":"MyJoin(IF((F$2=Ввод!$C$1:$C$30)*($A1068>=Ввод!$E$1:$E$30)*($A1068<=Ввод!$F$1:$F$30),Ввод!$D$1:$D$30,\"\"),\" / \")","v":""},"2024-11-26"]
["2024-11-27",{"$f":"MyJoin(IF((B$2=Ввод!$C$1:$C$30)*($A1069>=Ввод!$E$1:$E$30)*($A1069<=Ввод!$F$1:$F$30),Ввод!$D$1:$D$30,\"\"),\" / \")","v":""},{"$f":"MyJoin(IF((C$2=Ввод!$C$1:$C$30)*($A1069>=Ввод!$E$1:$E$30)*($A1069<=Ввод!$F$1:$F$30),Ввод!$D$1:$D$30,\"\"),\" / \")","v":""},{"$f":"MyJoin(IF((D$2=Ввод!$C$1:$C$30)*($A1069>=Ввод!$E$1:$E$30)*($A1069<=Ввод!$F$1:$F$30),Ввод!$D$1:$D$30,\"\"),\" / \")","v":""},{"$f":"MyJoin(IF((E$2=Ввод!$C$1:$C$30)*($A1069>=Ввод!$E$1:$E$30)*($A1069<=Ввод!$F$1:$F$30),Ввод!$D$1:$D$30,\"\"),\" / \")","v":""},{"$f":"MyJoin(IF((F$2=Ввод!$C$1:$C$30)*($A1069>=Ввод!$E$1:$E$30)*($A1069<=Ввод!$F$1:$F$30),Ввод!$D$1:$D$30,\"\"),\" / \")","v":""},"2024-11-27"]
["2024-11-28",{"$f":"MyJoin(IF((B$2=Ввод!$C$1:$C$30)*($A1070>=Ввод!$E$1:$E$30)*($A1070<=Ввод!$F$1:$F$30),Ввод!$D$1:$D$30,\"\"),\" / \")","v":""},{"$f":"MyJoin(IF((C$2=Ввод!$C$1:$C$30)*($A1070>=Ввод!$E$1:$E$30)*($A1070<=Ввод!$F$1:$F$30),Ввод!$D$1:$D$30,\"\"),\" / \")","v":""},{"$f":"MyJoin(IF((D$2=Ввод!$C$1:$C$30)*($A1070>=Ввод!$E$1:$E$30)*($A1070<=Ввод!$F$1:$F$30),Ввод!$D$1:$D$30,\"\"),\" / \")","v":""},{"$f":"MyJoin(IF((E$2=Ввод!$C$1:$C$30)*($A1070>=Ввод!$E$1:$E$30)*($A1070<=Ввод!$F$1:$F$30),Ввод!$D$1:$D$30,\"\"),\" / \")","v":""},{"$f":"MyJoin(IF((F$2=Ввод!$C$1:$C$30)*($A1070>=Ввод!$E$1:$E$30)*($A1070<=Ввод!$F$1:$F$30),Ввод!$D$1:$D$30,\"\"),\" / \")","v":""},"2024-11-28"]
["2024-11-29",{"$f":"MyJoin(IF((B$2=Ввод!$C$1:$C$30)*($A1071>=Ввод!$E$1:$E$30)*($A1071<=Ввод!$F$1:$F$30),Ввод!$D$1:$D$30,\"\"),\" / \")","v":""},{"$f":"MyJoin(IF((C$2=Ввод!$C$1:$C$30)*($A1071>=Ввод!$E$1:$E$30)*($A1071<=Ввод!$F$1:$F$30),Ввод!$D$1:$D$30,\"\"),\" / \")","v":""},{"$f":"MyJoin(IF((D$2=Ввод!$C$1:$C$30)*($A1071>=Ввод!$E$1:$E$30)*($A1071<=Ввод!$F$1:$F$30),Ввод!$D$1:$D$30,\"\"),\" / \")","v":""},{"$f":"MyJoin(IF((E$2=Ввод!$C$1:$C$30)*($A1071>=Ввод!$E$1:$E$30)*($A1071<=Ввод!$F$1:$F$30),Ввод!$D$1:$D$30,\"\"),\" / \")","v":""},{"$f":"MyJoin(IF((F$2=Ввод!$C$1:$C$30)*($A1071>=Ввод!$E$1:$E$30)*($A1071<=Ввод!$F$1:$F$30),Ввод!$D$1:$D$30,\"\"),\" / \")","v":""},"2024-11-29"]
["2024-11-30",{"$f":"MyJoin(IF((B$2=Ввод!$C$1:$C$30)*($A1072>=Ввод!$E$1:$E$30)*($A1072<=Ввод!$F$1:$F$30),Ввод!$D$1:$D$30,\"\"),\" / \")","v":""},{"$f":"MyJoin(IF((C$2=Ввод!$C$1:$C$30)*($A1072>=Ввод!$E$1:$E$30)*($A1072<=Ввод!$F$1:$F$30),Ввод!$D$1:$D$30,\"\"),\" / \")","v":""},{"$f":"MyJoin(IF((D$2=Ввод!$C$1:$C$30)*($A1072>=Ввод!$E$1:$E$30)*($A1072<=Ввод!$F$1:$F$30),Ввод!$D$1:$D$30,\"\"),\" / \")","v":""},{"$f":"MyJoin(IF((E$2=Ввод!$C$1:$C$30)*($A1072>=Ввод!$E$1:$E$30)*($A1072<=Ввод!$F$1:$F$30),Ввод!$D$1:$D$30,\"\"),\" / \")","v":""},{"$f":"MyJoin(IF((F$2=Ввод!$C$1:$C$30)*($A1072>=Ввод!$E$1:$E$30)*($A1072<=Ввод!$F$1:$F$30),Ввод!$D$1:$D$30,\"\"),\" / \")","v":""},"2024-11-30"]
["2024-12-01",{"$f":"MyJoin(IF((B$2=Ввод!$C$1:$C$30)*($A1073>=Ввод!$E$1:$E$30)*($A1073<=Ввод!$F$1:$F$30),Ввод!$D$1:$D$30,\"\"),\" / \")","v":""},{"$f":"MyJoin(IF((C$2=Ввод!$C$1:$C$30)*($A1073>=Ввод!$E$1:$E$30)*($A1073<=Ввод!$F$1:$F$30),Ввод!$D$1:$D$30,\"\"),\" / \")","v":""},{"$f":"MyJoin(IF((D$2=Ввод!$C$1:$C$30)*($A1073>=Ввод!$E$1:$E$30)*($A1073<=Ввод!$F$1:$F$30),Ввод!$D$1:$D$30,\"\"),\" / \")","v":""},{"$f":"MyJoin(IF((E$2=Ввод!$C$1:$C$30)*($A1073>=Ввод!$E$1:$E$30)*($A1073<=Ввод!$F$1:$F$30),Ввод!$D$1:$D$30,\"\"),\" / \")","v":""},{"$f":"MyJoin(IF((F$2=Ввод!$C$1:$C$30)*($A1073>=Ввод!$E$1:$E$30)*($A1073<=Ввод!$F$1:$F$30),Ввод!$D$1:$D$30,\"\"),\" / \")","v":""},"2024-12-01"]
["2024-12-02",{"$f":"MyJoin(IF((B$2=Ввод!$C$1:$C$30)*($A1074>=Ввод!$E$1:$E$30)*($A1074<=Ввод!$F$1:$F$30),Ввод!$D$1:$D$30,\"\"),\" / \")","v":""},{"$f":"MyJoin(IF((C$2=Ввод!$C$1:$C$30)*($A1074>=Ввод!$E$1:$E$30)*($A1074<=Ввод!$F$1:$F$30),Ввод!$D$1:$D$30,\"\"),\" / \")","v":""},{"$f":"MyJoin(IF((D$2=Ввод!$C$1:$C$30)*($A1074>=Ввод!$E$1:$E$30)*($A1074<=Ввод!$F$1:$F$30),Ввод!$D$1:$D$30,\"\"),\" / \")","v":""},{"$f":"MyJoin(IF((E$2=Ввод!$C$1:$C$30)*($A1074>=Ввод!$E$1:$E$30)*($A1074<=Ввод!$F$1:$F$30),Ввод!$D$1:$D$30,\"\"),\" / \")","v":""},{"$f":"MyJoin(IF((F$2=Ввод!$C$1:$C$30)*($A1074>=Ввод!$E$1:$E$30)*($A1074<=Ввод!$F$1:$F$30),Ввод!$D$1:$D$30,\"\"),\" / \")","v":""},"2024-12-02"]
["2024-12-03",{"$f":"MyJoin(IF((B$2=Ввод!$C$1:$C$30)*($A1075>=Ввод!$E$1:$E$30)*($A1075<=Ввод!$F$1:$F$30),Ввод!$D$1:$D$30,\"\"),\" / \")","v":""},{"$f":"MyJoin(IF((C$2=Ввод!$C$1:$C$30)*($A1075>=Ввод!$E$1:$E$30)*($A1075<=Ввод!$F$1:$F$30),Ввод!$D$1:$D$30,\"\"),\" / \")","v":""},{"$f":"MyJoin(IF((D$2=Ввод!$C$1:$C$30)*($A1075>=Ввод!$E$1:$E$30)*($A1075<=Ввод!$F$1:$F$30),Ввод!$D$1:$D$30,\"\"),\" / \")","v":""},{"$f":"MyJoin(IF((E$2=Ввод!$C$1:$C$30)*($A1075>=Ввод!$E$1:$E$30)*($A1075<=Ввод!$F$1:$F$30),Ввод!$D$1:$D$30,\"\"),\" / \")","v":""},{"$f":"MyJoin(IF((F$2=Ввод!$C$1:$C$30)*($A1075>=Ввод!$E$1:$E$30)*($A1075<=Ввод!$F$1:$F$30),Ввод!$D$1:$D$30,\"\"),\" / \")","v":""},"2024-12-03"]
["2024-12-04",{"$f":"MyJoin(IF((B$2=Ввод!$C$1:$C$30)*($A1076>=Ввод!$E$1:$E$30)*($A1076<=Ввод!$F$1:$F$30),Ввод!$D$1:$D$30,\"\"),\" / \")","v":""},{"$f":"MyJoin(IF((C$2=Ввод!$C$1:$C$30)*($A1076>=Ввод!$E$1:$E$30)*($A1076<=Ввод!$F$1:$F$30),Ввод!$D$1:$D$30,\"\"),\" / \")","v":""},{"$f":"MyJoin(IF((D$2=Ввод!$C$1:$C$30)*($A1076>=Ввод!$E$1:$E$30)*($A1076<=Ввод!$F$1:$F$30),Ввод!$D$1:$D$30,\"\"),\" / \")","v":""},{"$f":"MyJoin(IF((E$2=Ввод!$C$1:$C$30)*($A1076>=Ввод!$E$1:$E$30)*($A1076<=Ввод!$F$1:$F$30),Ввод!$D$1:$D$30,\"\"),\" / \")","v":""},{"$f":"MyJoin(IF((F$2=Ввод!$C$1:$C$30)*($A1076>=Ввод!$E$1:$E$30)*($A1076<=Ввод!$F$1:$F$30),Ввод!$D$1:$D$30,\"\"),\" / \")","v":""},"2024-12-04"]
["2024-12-05",{"$f":"MyJoin(IF((B$2=Ввод!$C$1:$C$30)*($A1077>=Ввод!$E$1:$E$30)*($A1077<=Ввод!$F$1:$F$30),Ввод!$D$1:$D$30,\"\"),\" / \")","v":""},{"$f":"MyJoin(IF((C$2=Ввод!$C$1:$C$30)*($A1077>=Ввод!$E$1:$E$30)*($A1077<=Ввод!$F$1:$F$30),Ввод!$D$1:$D$30,\"\"),\" / \")","v":""},{"$f":"MyJoin(IF((D$2=Ввод!$C$1:$C$30)*($A1077>=Ввод!$E$1:$E$30)*($A1077<=Ввод!$F$1:$F$30),Ввод!$D$1:$D$30,\"\"),\" / \")","v":""},{"$f":"MyJoin(IF((E$2=Ввод!$C$1:$C$30)*($A1077>=Ввод!$E$1:$E$30)*($A1077<=Ввод!$F$1:$F$30),Ввод!$D$1:$D$30,\"\"),\" / \")","v":""},{"$f":"MyJoin(IF((F$2=Ввод!$C$1:$C$30)*($A1077>=Ввод!$E$1:$E$30)*($A1077<=Ввод!$F$1:$F$30),Ввод!$D$1:$D$30,\"\"),\" / \")","v":""},"2024-12-05"]
["2024-12-06",{"$f":"MyJoin(IF((B$2=Ввод!$C$1:$C$30)*($A1078>=Ввод!$E$1:$E$30)*($A1078<=Ввод!$F$1:$F$30),Ввод!$D$1:$D$30,\"\"),\" / \")","v":""},{"$f":"MyJoin(IF((C$2=Ввод!$C$1:$C$30)*($A1078>=Ввод!$E$1:$E$30)*($A1078<=Ввод!$F$1:$F$30),Ввод!$D$1:$D$30,\"\"),\" / \")","v":""},{"$f":"MyJoin(IF((D$2=Ввод!$C$1:$C$30)*($A1078>=Ввод!$E$1:$E$30)*($A1078<=Ввод!$F$1:$F$30),Ввод!$D$1:$D$30,\"\"),\" / \")","v":""},{"$f":"MyJoin(IF((E$2=Ввод!$C$1:$C$30)*($A1078>=Ввод!$E$1:$E$30)*($A1078<=Ввод!$F$1:$F$30),Ввод!$D$1:$D$30,\"\"),\" / \")","v":""},{"$f":"MyJoin(IF((F$2=Ввод!$C$1:$C$30)*($A1078>=Ввод!$E$1:$E$30)*($A1078<=Ввод!$F$1:$F$30),Ввод!$D$1:$D$30,\"\"),\" / \")","v":""},"2024-12-06"]
["2024-12-07",{"$f":"MyJoin(IF((B$2=Ввод!$C$1:$C$30)*($A1079>=Ввод!$E$1:$E$30)*($A1079<=Ввод!$F$1:$F$30),Ввод!$D$1:$D$30,\"\"),\" / \")","v":""},{"$f":"MyJoin(IF((C$2=Ввод!$C$1:$C$30)*($A1079>=Ввод!$E$1:$E$30)*($A1079<=Ввод!$F$1:$F$30),Ввод!$D$1:$D$30,\"\"),\" / \")","v":""},{"$f":"MyJoin(IF((D$2=Ввод!$C$1:$C$30)*($A1079>=Ввод!$E$1:$E$30)*($A1079<=Ввод!$F$1:$F$30),Ввод!$D$1:$D$30,\"\"),\" / \")","v":""},{"$f":"MyJoin(IF((E$2=Ввод!$C$1:$C$30)*($A1079>=Ввод!$E$1:$E$30)*($A1079<=Ввод!$F$1:$F$30),Ввод!$D$1:$D$30,\"\"),\" / \")","v":""},{"$f":"MyJoin(IF((F$2=Ввод!$C$1:$C$30)*($A1079>=Ввод!$E$1:$E$30)*($A1079<=Ввод!$F$1:$F$30),Ввод!$D$1:$D$30,\"\"),\" / \")","v":""},"2024-12-07"]
["2024-12-08",{"$f":"MyJoin(IF((B$2=Ввод!$C$1:$C$30)*($A1080>=Ввод!$E$1:$E$30)*($A1080<=Ввод!$F$1:$F$30),Ввод!$D$1:$D$30,\"\"),\" / \")","v":""},{"$f":"MyJoin(IF((C$2=Ввод!$C$1:$C$30)*($A1080>=Ввод!$E$1:$E$30)*($A1080<=Ввод!$F$1:$F$30),Ввод!$D$1:$D$30,\"\"),\" / \")","v":""},{"$f":"MyJoin(IF((D$2=Ввод!$C$1:$C$30)*($A1080>=Ввод!$E$1:$E$30)*($A1080<=Ввод!$F$1:$F$30),Ввод!$D$1:$D$30,\"\"),\" / \")","v":""},{"$f":"MyJoin(IF((E$2=Ввод!$C$1:$C$30)*($A1080>=Ввод!$E$1:$E$30)*($A1080<=Ввод!$F$1:$F$30),Ввод!$D$1:$D$30,\"\"),\" / \")","v":""},{"$f":"MyJoin(IF((F$2=Ввод!$C$1:$C$30)*($A1080>=Ввод!$E$1:$E$30)*($A1080<=Ввод!$F$1:$F$30),Ввод!$D$1:$D$30,\"\"),\" / \")","v":""},"2024-12-08"]
["2024-12-09",{"$f":"MyJoin(IF((B$2=Ввод!$C$1:$C$30)*($A1081>=Ввод!$E$1:$E$30)*($A1081<=Ввод!$F$1:$F$30),Ввод!$D$1:$D$30,\"\"),\" / \")","v":""},{"$f":"MyJoin(IF((C$2=Ввод!$C$1:$C$30)*($A1081>=Ввод!$E$1:$E$30)*($A1081<=Ввод!$F$1:$F$30),Ввод!$D$1:$D$30,\"\"),\" / \")","v":""},{"$f":"MyJoin(IF((D$2=Ввод!$C$1:$C$30)*($A1081>=Ввод!$E$1:$E$30)*($A1081<=Ввод!$F$1:$F$30),Ввод!$D$1:$D$30,\"\"),\" / \")","v":""},{"$f":"MyJoin(IF((E$2=Ввод!$C$1:$C$30)*($A1081>=Ввод!$E$1:$E$30)*($A1081<=Ввод!$F$1:$F$30),Ввод!$D$1:$D$30,\"\"),\" / \")","v":""},{"$f":"MyJoin(IF((F$2=Ввод!$C$1:$C$30)*($A1081>=Ввод!$E$1:$E$30)*($A1081<=Ввод!$F$1:$F$30),Ввод!$D$1:$D$30,\"\"),\" / \")","v":""},"2024-12-09"]
["2024-12-10",{"$f":"MyJoin(IF((B$2=Ввод!$C$1:$C$30)*($A1082>=Ввод!$E$1:$E$30)*($A1082<=Ввод!$F$1:$F$30),Ввод!$D$1:$D$30,\"\"),\" / \")","v":""},{"$f":"MyJoin(IF((C$2=Ввод!$C$1:$C$30)*($A1082>=Ввод!$E$1:$E$30)*($A1082<=Ввод!$F$1:$F$30),Ввод!$D$1:$D$30,\"\"),\" / \")","v":""},{"$f":"MyJoin(IF((D$2=Ввод!$C$1:$C$30)*($A1082>=Ввод!$E$1:$E$30)*($A1082<=Ввод!$F$1:$F$30),Ввод!$D$1:$D$30,\"\"),\" / \")","v":""},{"$f":"MyJoin(IF((E$2=Ввод!$C$1:$C$30)*($A1082>=Ввод!$E$1:$E$30)*($A1082<=Ввод!$F$1:$F$30),Ввод!$D$1:$D$30,\"\"),\" / \")","v":""},{"$f":"MyJoin(IF((F$2=Ввод!$C$1:$C$30)*($A1082>=Ввод!$E$1:$E$30)*($A1082<=Ввод!$F$1:$F$30),Ввод!$D$1:$D$30,\"\"),\" / \")","v":""},"2024-12-10"]
["2024-12-11",{"$f":"MyJoin(IF((B$2=Ввод!$C$1:$C$30)*($A1083>=Ввод!$E$1:$E$30)*($A1083<=Ввод!$F$1:$F$30),Ввод!$D$1:$D$30,\"\"),\" / \")","v":""},{"$f":"MyJoin(IF((C$2=Ввод!$C$1:$C$30)*($A1083>=Ввод!$E$1:$E$30)*($A1083<=Ввод!$F$1:$F$30),Ввод!$D$1:$D$30,\"\"),\" / \")","v":""},{"$f":"MyJoin(IF((D$2=Ввод!$C$1:$C$30)*($A1083>=Ввод!$E$1:$E$30)*($A1083<=Ввод!$F$1:$F$30),Ввод!$D$1:$D$30,\"\"),\" / \")","v":""},{"$f":"MyJoin(IF((E$2=Ввод!$C$1:$C$30)*($A1083>=Ввод!$E$1:$E$30)*($A1083<=Ввод!$F$1:$F$30),Ввод!$D$1:$D$30,\"\"),\" / \")","v":""},{"$f":"MyJoin(IF((F$2=Ввод!$C$1:$C$30)*($A1083>=Ввод!$E$1:$E$30)*($A1083<=Ввод!$F$1:$F$30),Ввод!$D$1:$D$30,\"\"),\" / \")","v":""},"2024-12-11"]
["2024-12-12",{"$f":"MyJoin(IF((B$2=Ввод!$C$1:$C$30)*($A1084>=Ввод!$E$1:$E$30)*($A1084<=Ввод!$F$1:$F$30),Ввод!$D$1:$D$30,\"\"),\" / \")","v":""},{"$f":"MyJoin(IF((C$2=Ввод!$C$1:$C$30)*($A1084>=Ввод!$E$1:$E$30)*($A1084<=Ввод!$F$1:$F$30),Ввод!$D$1:$D$30,\"\"),\" / \")","v":""},{"$f":"MyJoin(IF((D$2=Ввод!$C$1:$C$30)*($A1084>=Ввод!$E$1:$E$30)*($A1084<=Ввод!$F$1:$F$30),Ввод!$D$1:$D$30,\"\"),\" / \")","v":""},{"$f":"MyJoin(IF((E$2=Ввод!$C$1:$C$30)*($A1084>=Ввод!$E$1:$E$30)*($A1084<=Ввод!$F$1:$F$30),Ввод!$D$1:$D$30,\"\"),\" / \")","v":""},{"$f":"MyJoin(IF((F$2=Ввод!$C$1:$C$30)*($A1084>=Ввод!$E$1:$E$30)*($A1084<=Ввод!$F$1:$F$30),Ввод!$D$1:$D$30,\"\"),\" / \")","v":""},"2024-12-12"]
["2024-12-13",{"$f":"MyJoin(IF((B$2=Ввод!$C$1:$C$30)*($A1085>=Ввод!$E$1:$E$30)*($A1085<=Ввод!$F$1:$F$30),Ввод!$D$1:$D$30,\"\"),\" / \")","v":""},{"$f":"MyJoin(IF((C$2=Ввод!$C$1:$C$30)*($A1085>=Ввод!$E$1:$E$30)*($A1085<=Ввод!$F$1:$F$30),Ввод!$D$1:$D$30,\"\"),\" / \")","v":""},{"$f":"MyJoin(IF((D$2=Ввод!$C$1:$C$30)*($A1085>=Ввод!$E$1:$E$30)*($A1085<=Ввод!$F$1:$F$30),Ввод!$D$1:$D$30,\"\"),\" / \")","v":""},{"$f":"MyJoin(IF((E$2=Ввод!$C$1:$C$30)*($A1085>=Ввод!$E$1:$E$30)*($A1085<=Ввод!$F$1:$F$30),Ввод!$D$1:$D$30,\"\"),\" / \")","v":""},{"$f":"MyJoin(IF((F$2=Ввод!$C$1:$C$30)*($A1085>=Ввод!$E$1:$E$30)*($A1085<=Ввод!$F$1:$F$30),Ввод!$D$1:$D$30,\"\"),\" / \")","v":""},"2024-12-13"]
["2024-12-14",{"$f":"MyJoin(IF((B$2=Ввод!$C$1:$C$30)*($A1086>=Ввод!$E$1:$E$30)*($A1086<=Ввод!$F$1:$F$30),Ввод!$D$1:$D$30,\"\"),\" / \")","v":""},{"$f":"MyJoin(IF((C$2=Ввод!$C$1:$C$30)*($A1086>=Ввод!$E$1:$E$30)*($A1086<=Ввод!$F$1:$F$30),Ввод!$D$1:$D$30,\"\"),\" / \")","v":""},{"$f":"MyJoin(IF((D$2=Ввод!$C$1:$C$30)*($A1086>=Ввод!$E$1:$E$30)*($A1086<=Ввод!$F$1:$F$30),Ввод!$D$1:$D$30,\"\"),\" / \")","v":""},{"$f":"MyJoin(IF((E$2=Ввод!$C$1:$C$30)*($A1086>=Ввод!$E$1:$E$30)*($A1086<=Ввод!$F$1:$F$30),Ввод!$D$1:$D$30,\"\"),\" / \")","v":""},{"$f":"MyJoin(IF((F$2=Ввод!$C$1:$C$30)*($A1086>=Ввод!$E$1:$E$30)*($A1086<=Ввод!$F$1:$F$30),Ввод!$D$1:$D$30,\"\"),\" / \")","v":""},"2024-12-14"]
["2024-12-15",{"$f":"MyJoin(IF((B$2=Ввод!$C$1:$C$30)*($A1087>=Ввод!$E$1:$E$30)*($A1087<=Ввод!$F$1:$F$30),Ввод!$D$1:$D$30,\"\"),\" / \")","v":""},{"$f":"MyJoin(IF((C$2=Ввод!$C$1:$C$30)*($A1087>=Ввод!$E$1:$E$30)*($A1087<=Ввод!$F$1:$F$30),Ввод!$D$1:$D$30,\"\"),\" / \")","v":""},{"$f":"MyJoin(IF((D$2=Ввод!$C$1:$C$30)*($A1087>=Ввод!$E$1:$E$30)*($A1087<=Ввод!$F$1:$F$30),Ввод!$D$1:$D$30,\"\"),\" / \")","v":""},{"$f":"MyJoin(IF((E$2=Ввод!$C$1:$C$30)*($A1087>=Ввод!$E$1:$E$30)*($A1087<=Ввод!$F$1:$F$30),Ввод!$D$1:$D$30,\"\"),\" / \")","v":""},{"$f":"MyJoin(IF((F$2=Ввод!$C$1:$C$30)*($A1087>=Ввод!$E$1:$E$30)*($A1087<=Ввод!$F$1:$F$30),Ввод!$D$1:$D$30,\"\"),\" / \")","v":""},"2024-12-15"]
["2024-12-16",{"$f":"MyJoin(IF((B$2=Ввод!$C$1:$C$30)*($A1088>=Ввод!$E$1:$E$30)*($A1088<=Ввод!$F$1:$F$30),Ввод!$D$1:$D$30,\"\"),\" / \")","v":""},{"$f":"MyJoin(IF((C$2=Ввод!$C$1:$C$30)*($A1088>=Ввод!$E$1:$E$30)*($A1088<=Ввод!$F$1:$F$30),Ввод!$D$1:$D$30,\"\"),\" / \")","v":""},{"$f":"MyJoin(IF((D$2=Ввод!$C$1:$C$30)*($A1088>=Ввод!$E$1:$E$30)*($A1088<=Ввод!$F$1:$F$30),Ввод!$D$1:$D$30,\"\"),\" / \")","v":""},{"$f":"MyJoin(IF((E$2=Ввод!$C$1:$C$30)*($A1088>=Ввод!$E$1:$E$30)*($A1088<=Ввод!$F$1:$F$30),Ввод!$D$1:$D$30,\"\"),\" / \")","v":""},{"$f":"MyJoin(IF((F$2=Ввод!$C$1:$C$30)*($A1088>=Ввод!$E$1:$E$30)*($A1088<=Ввод!$F$1:$F$30),Ввод!$D$1:$D$30,\"\"),\" / \")","v":""},"2024-12-16"]
["2024-12-17",{"$f":"MyJoin(IF((B$2=Ввод!$C$1:$C$30)*($A1089>=Ввод!$E$1:$E$30)*($A1089<=Ввод!$F$1:$F$30),Ввод!$D$1:$D$30,\"\"),\" / \")","v":""},{"$f":"MyJoin(IF((C$2=Ввод!$C$1:$C$30)*($A1089>=Ввод!$E$1:$E$30)*($A1089<=Ввод!$F$1:$F$30),Ввод!$D$1:$D$30,\"\"),\" / \")","v":""},{"$f":"MyJoin(IF((D$2=Ввод!$C$1:$C$30)*($A1089>=Ввод!$E$1:$E$30)*($A1089<=Ввод!$F$1:$F$30),Ввод!$D$1:$D$30,\"\"),\" / \")","v":""},{"$f":"MyJoin(IF((E$2=Ввод!$C$1:$C$30)*($A1089>=Ввод!$E$1:$E$30)*($A1089<=Ввод!$F$1:$F$30),Ввод!$D$1:$D$30,\"\"),\" / \")","v":""},{"$f":"MyJoin(IF((F$2=Ввод!$C$1:$C$30)*($A1089>=Ввод!$E$1:$E$30)*($A1089<=Ввод!$F$1:$F$30),Ввод!$D$1:$D$30,\"\"),\" / \")","v":""},"2024-12-17"]
["2024-12-18",{"$f":"MyJoin(IF((B$2=Ввод!$C$1:$C$30)*($A1090>=Ввод!$E$1:$E$30)*($A1090<=Ввод!$F$1:$F$30),Ввод!$D$1:$D$30,\"\"),\" / \")","v":""},{"$f":"MyJoin(IF((C$2=Ввод!$C$1:$C$30)*($A1090>=Ввод!$E$1:$E$30)*($A1090<=Ввод!$F$1:$F$30),Ввод!$D$1:$D$30,\"\"),\" / \")","v":""},{"$f":"MyJoin(IF((D$2=Ввод!$C$1:$C$30)*($A1090>=Ввод!$E$1:$E$30)*($A1090<=Ввод!$F$1:$F$30),Ввод!$D$1:$D$30,\"\"),\" / \")","v":""},{"$f":"MyJoin(IF((E$2=Ввод!$C$1:$C$30)*($A1090>=Ввод!$E$1:$E$30)*($A1090<=Ввод!$F$1:$F$30),Ввод!$D$1:$D$30,\"\"),\" / \")","v":""},{"$f":"MyJoin(IF((F$2=Ввод!$C$1:$C$30)*($A1090>=Ввод!$E$1:$E$30)*($A1090<=Ввод!$F$1:$F$30),Ввод!$D$1:$D$30,\"\"),\" / \")","v":""},"2024-12-18"]
["2024-12-19",{"$f":"MyJoin(IF((B$2=Ввод!$C$1:$C$30)*($A1091>=Ввод!$E$1:$E$30)*($A1091<=Ввод!$F$1:$F$30),Ввод!$D$1:$D$30,\"\"),\" / \")","v":""},{"$f":"MyJoin(IF((C$2=Ввод!$C$1:$C$30)*($A1091>=Ввод!$E$1:$E$30)*($A1091<=Ввод!$F$1:$F$30),Ввод!$D$1:$D$30,\"\"),\" / \")","v":""},{"$f":"MyJoin(IF((D$2=Ввод!$C$1:$C$30)*($A1091>=Ввод!$E$1:$E$30)*($A1091<=Ввод!$F$1:$F$30),Ввод!$D$1:$D$30,\"\"),\" / \")","v":""},{"$f":"MyJoin(IF((E$2=Ввод!$C$1:$C$30)*($A1091>=Ввод!$E$1:$E$30)*($A1091<=Ввод!$F$1:$F$30),Ввод!$D$1:$D$30,\"\"),\" / \")","v":""},{"$f":"MyJoin(IF((F$2=Ввод!$C$1:$C$30)*($A1091>=Ввод!$E$1:$E$30)*($A1091<=Ввод!$F$1:$F$30),Ввод!$D$1:$D$30,\"\"),\" / \")","v":""},"2024-12-19"]
["2024-12-20",{"$f":"MyJoin(IF((B$2=Ввод!$C$1:$C$30)*($A1092>=Ввод!$E$1:$E$30)*($A1092<=Ввод!$F$1:$F$30),Ввод!$D$1:$D$30,\"\"),\" / \")","v":""},{"$f":"MyJoin(IF((C$2=Ввод!$C$1:$C$30)*($A1092>=Ввод!$E$1:$E$30)*($A1092<=Ввод!$F$1:$F$30),Ввод!$D$1:$D$30,\"\"),\" / \")","v":""},{"$f":"MyJoin(IF((D$2=Ввод!$C$1:$C$30)*($A1092>=Ввод!$E$1:$E$30)*($A1092<=Ввод!$F$1:$F$30),Ввод!$D$1:$D$30,\"\"),\" / \")","v":""},{"$f":"MyJoin(IF((E$2=Ввод!$C$1:$C$30)*($A1092>=Ввод!$E$1:$E$30)*($A1092<=Ввод!$F$1:$F$30),Ввод!$D$1:$D$30,\"\"),\" / \")","v":""},{"$f":"MyJoin(IF((F$2=Ввод!$C$1:$C$30)*($A1092>=Ввод!$E$1:$E$30)*($A1092<=Ввод!$F$1:$F$30),Ввод!$D$1:$D$30,\"\"),\" / \")","v":""},"2024-12-20"]
["2024-12-21",{"$f":"MyJoin(IF((B$2=Ввод!$C$1:$C$30)*($A1093>=Ввод!$E$1:$E$30)*($A1093<=Ввод!$F$1:$F$30),Ввод!$D$1:$D$30,\"\"),\" / \")","v":""},{"$f":"MyJoin(IF((C$2=Ввод!$C$1:$C$30)*($A1093>=Ввод!$E$1:$E$30)*($A1093<=Ввод!$F$1:$F$30),Ввод!$D$1:$D$30,\"\"),\" / \")","v":""},{"$f":"MyJoin(IF((D$2=Ввод!$C$1:$C$30)*($A1093>=Ввод!$E$1:$E$30)*($A1093<=Ввод!$F$1:$F$30),Ввод!$D$1:$D$30,\"\"),\" / \")","v":""},{"$f":"MyJoin(IF((E$2=Ввод!$C$1:$C$30)*($A1093>=Ввод!$E$1:$E$30)*($A1093<=Ввод!$F$1:$F$30),Ввод!$D$1:$D$30,\"\"),\" / \")","v":""},{"$f":"MyJoin(IF((F$2=Ввод!$C$1:$C$30)*($A1093>=Ввод!$E$1:$E$30)*($A1093<=Ввод!$F$1:$F$30),Ввод!$D$1:$D$30,\"\"),\" / \")","v":""},"2024-12-21"]
["2024-12-22",{"$f":"MyJoin(IF((B$2=Ввод!$C$1:$C$30)*($A1094>=Ввод!$E$1:$E$30)*($A1094<=Ввод!$F$1:$F$30),Ввод!$D$1:$D$30,\"\"),\" / \")","v":""},{"$f":"MyJoin(IF((C$2=Ввод!$C$1:$C$30)*($A1094>=Ввод!$E$1:$E$30)*($A1094<=Ввод!$F$1:$F$30),Ввод!$D$1:$D$30,\"\"),\" / \")","v":""},{"$f":"MyJoin(IF((D$2=Ввод!$C$1:$C$30)*($A1094>=Ввод!$E$1:$E$30)*($A1094<=Ввод!$F$1:$F$30),Ввод!$D$1:$D$30,\"\"),\" / \")","v":""},{"$f":"MyJoin(IF((E$2=Ввод!$C$1:$C$30)*($A1094>=Ввод!$E$1:$E$30)*($A1094<=Ввод!$F$1:$F$30),Ввод!$D$1:$D$30,\"\"),\" / \")","v":""},{"$f":"MyJoin(IF((F$2=Ввод!$C$1:$C$30)*($A1094>=Ввод!$E$1:$E$30)*($A1094<=Ввод!$F$1:$F$30),Ввод!$D$1:$D$30,\"\"),\" / \")","v":""},"2024-12-22"]
["2024-12-23",{"$f":"MyJoin(IF((B$2=Ввод!$C$1:$C$30)*($A1095>=Ввод!$E$1:$E$30)*($A1095<=Ввод!$F$1:$F$30),Ввод!$D$1:$D$30,\"\"),\" / \")","v":""},{"$f":"MyJoin(IF((C$2=Ввод!$C$1:$C$30)*($A1095>=Ввод!$E$1:$E$30)*($A1095<=Ввод!$F$1:$F$30),Ввод!$D$1:$D$30,\"\"),\" / \")","v":""},{"$f":"MyJoin(IF((D$2=Ввод!$C$1:$C$30)*($A1095>=Ввод!$E$1:$E$30)*($A1095<=Ввод!$F$1:$F$30),Ввод!$D$1:$D$30,\"\"),\" / \")","v":""},{"$f":"MyJoin(IF((E$2=Ввод!$C$1:$C$30)*($A1095>=Ввод!$E$1:$E$30)*($A1095<=Ввод!$F$1:$F$30),Ввод!$D$1:$D$30,\"\"),\" / \")","v":""},{"$f":"MyJoin(IF((F$2=Ввод!$C$1:$C$30)*($A1095>=Ввод!$E$1:$E$30)*($A1095<=Ввод!$F$1:$F$30),Ввод!$D$1:$D$30,\"\"),\" / \")","v":""},"2024-12-23"]
["2024-12-24",{"$f":"MyJoin(IF((B$2=Ввод!$C$1:$C$30)*($A1096>=Ввод!$E$1:$E$30)*($A1096<=Ввод!$F$1:$F$30),Ввод!$D$1:$D$30,\"\"),\" / \")","v":""},{"$f":"MyJoin(IF((C$2=Ввод!$C$1:$C$30)*($A1096>=Ввод!$E$1:$E$30)*($A1096<=Ввод!$F$1:$F$30),Ввод!$D$1:$D$30,\"\"),\" / \")","v":""},{"$f":"MyJoin(IF((D$2=Ввод!$C$1:$C$30)*($A1096>=Ввод!$E$1:$E$30)*($A1096<=Ввод!$F$1:$F$30),Ввод!$D$1:$D$30,\"\"),\" / \")","v":""},{"$f":"MyJoin(IF((E$2=Ввод!$C$1:$C$30)*($A1096>=Ввод!$E$1:$E$30)*($A1096<=Ввод!$F$1:$F$30),Ввод!$D$1:$D$30,\"\"),\" / \")","v":""},{"$f":"MyJoin(IF((F$2=Ввод!$C$1:$C$30)*($A1096>=Ввод!$E$1:$E$30)*($A1096<=Ввод!$F$1:$F$30),Ввод!$D$1:$D$30,\"\"),\" / \")","v":""},"2024-12-24"]
["2024-12-25",{"$f":"MyJoin(IF((B$2=Ввод!$C$1:$C$30)*($A1097>=Ввод!$E$1:$E$30)*($A1097<=Ввод!$F$1:$F$30),Ввод!$D$1:$D$30,\"\"),\" / \")","v":""},{"$f":"MyJoin(IF((C$2=Ввод!$C$1:$C$30)*($A1097>=Ввод!$E$1:$E$30)*($A1097<=Ввод!$F$1:$F$30),Ввод!$D$1:$D$30,\"\"),\" / \")","v":""},{"$f":"MyJoin(IF((D$2=Ввод!$C$1:$C$30)*($A1097>=Ввод!$E$1:$E$30)*($A1097<=Ввод!$F$1:$F$30),Ввод!$D$1:$D$30,\"\"),\" / \")","v":""},{"$f":"MyJoin(IF((E$2=Ввод!$C$1:$C$30)*($A1097>=Ввод!$E$1:$E$30)*($A1097<=Ввод!$F$1:$F$30),Ввод!$D$1:$D$30,\"\"),\" / \")","v":""},{"$f":"MyJoin(IF((F$2=Ввод!$C$1:$C$30)*($A1097>=Ввод!$E$1:$E$30)*($A1097<=Ввод!$F$1:$F$30),Ввод!$D$1:$D$30,\"\"),\" / \")","v":""},{"$f":"IF(A1097=\"\",\"\",A1097)","v":"2024-12-25"}]
["2024-12-26",{"$f":"MyJoin(IF((B$2=Ввод!$C$1:$C$30)*($A1098>=Ввод!$E$1:$E$30)*($A1098<=Ввод!$F$1:$F$30),Ввод!$D$1:$D$30,\"\"),\" / \")","v":""},{"$f":"MyJoin(IF((C$2=Ввод!$C$1:$C$30)*($A1098>=Ввод!$E$1:$E$30)*($A1098<=Ввод!$F$1:$F$30),Ввод!$D$1:$D$30,\"\"),\" / \")","v":""},{"$f":"MyJoin(IF((D$2=Ввод!$C$1:$C$30)*($A1098>=Ввод!$E$1:$E$30)*($A1098<=Ввод!$F$1:$F$30),Ввод!$D$1:$D$30,\"\"),\" / \")","v":""},{"$f":"MyJoin(IF((E$2=Ввод!$C$1:$C$30)*($A1098>=Ввод!$E$1:$E$30)*($A1098<=Ввод!$F$1:$F$30),Ввод!$D$1:$D$30,\"\"),\" / \")","v":""},{"$f":"MyJoin(IF((F$2=Ввод!$C$1:$C$30)*($A1098>=Ввод!$E$1:$E$30)*($A1098<=Ввод!$F$1:$F$30),Ввод!$D$1:$D$30,\"\"),\" / \")","v":""},"2024-12-26"]
["2024-12-27",{"$f":"MyJoin(IF((B$2=Ввод!$C$1:$C$30)*($A1099>=Ввод!$E$1:$E$30)*($A1099<=Ввод!$F$1:$F$30),Ввод!$D$1:$D$30,\"\"),\" / \")","v":""},{"$f":"MyJoin(IF((C$2=Ввод!$C$1:$C$30)*($A1099>=Ввод!$E$1:$E$30)*($A1099<=Ввод!$F$1:$F$30),Ввод!$D$1:$D$30,\"\"),\" / \")","v":""},{"$f":"MyJoin(IF((D$2=Ввод!$C$1:$C$30)*($A1099>=Ввод!$E$1:$E$30)*($A1099<=Ввод!$F$1:$F$30),Ввод!$D$1:$D$30,\"\"),\" / \")","v":""},{"$f":"MyJoin(IF((E$2=Ввод!$C$1:$C$30)*($A1099>=Ввод!$E$1:$E$30)*($A1099<=Ввод!$F$1:$F$30),Ввод!$D$1:$D$30,\"\"),\" / \")","v":""},{"$f":"MyJoin(IF((F$2=Ввод!$C$1:$C$30)*($A1099>=Ввод!$E$1:$E$30)*($A1099<=Ввод!$F$1:$F$30),Ввод!$D$1:$D$30,\"\"),\" / \")","v":""},"2024-12-27"]
["2024-12-28",{"$f":"MyJoin(IF((B$2=Ввод!$C$1:$C$30)*($A1100>=Ввод!$E$1:$E$30)*($A1100<=Ввод!$F$1:$F$30),Ввод!$D$1:$D$30,\"\"),\" / \")","v":""},{"$f":"MyJoin(IF((C$2=Ввод!$C$1:$C$30)*($A1100>=Ввод!$E$1:$E$30)*($A1100<=Ввод!$F$1:$F$30),Ввод!$D$1:$D$30,\"\"),\" / \")","v":""},{"$f":"MyJoin(IF((D$2=Ввод!$C$1:$C$30)*($A1100>=Ввод!$E$1:$E$30)*($A1100<=Ввод!$F$1:$F$30),Ввод!$D$1:$D$30,\"\"),\" / \")","v":""},{"$f":"MyJoin(IF((E$2=Ввод!$C$1:$C$30)*($A1100>=Ввод!$E$1:$E$30)*($A1100<=Ввод!$F$1:$F$30),Ввод!$D$1:$D$30,\"\"),\" / \")","v":""},{"$f":"MyJoin(IF((F$2=Ввод!$C$1:$C$30)*($A1100>=Ввод!$E$1:$E$30)*($A1100<=Ввод!$F$1:$F$30),Ввод!$D$1:$D$30,\"\"),\" / \")","v":""},"2024-12-28"]
["2024-12-29",{"$f":"MyJoin(IF((B$2=Ввод!$C$1:$C$30)*($A1101>=Ввод!$E$1:$E$30)*($A1101<=Ввод!$F$1:$F$30),Ввод!$D$1:$D$30,\"\"),\" / \")","v":""},{"$f":"MyJoin(IF((C$2=Ввод!$C$1:$C$30)*($A1101>=Ввод!$E$1:$E$30)*($A1101<=Ввод!$F$1:$F$30),Ввод!$D$1:$D$30,\"\"),\" / \")","v":""},{"$f":"MyJoin(IF((D$2=Ввод!$C$1:$C$30)*($A1101>=Ввод!$E$1:$E$30)*($A1101<=Ввод!$F$1:$F$30),Ввод!$D$1:$D$30,\"\"),\" / \")","v":""},{"$f":"MyJoin(IF((E$2=Ввод!$C$1:$C$30)*($A1101>=Ввод!$E$1:$E$30)*($A1101<=Ввод!$F$1:$F$30),Ввод!$D$1:$D$30,\"\"),\" / \")","v":""},{"$f":"MyJoin(IF((F$2=Ввод!$C$1:$C$30)*($A1101>=Ввод!$E$1:$E$30)*($A1101<=Ввод!$F$1:$F$30),Ввод!$D$1:$D$30,\"\"),\" / \")","v":""},"2024-12-29"]
["2024-12-30",{"$f":"MyJoin(IF((B$2=Ввод!$C$1:$C$30)*($A1102>=Ввод!$E$1:$E$30)*($A1102<=Ввод!$F$1:$F$30),Ввод!$D$1:$D$30,\"\"),\" / \")","v":""},{"$f":"MyJoin(IF((C$2=Ввод!$C$1:$C$30)*($A1102>=Ввод!$E$1:$E$30)*($A1102<=Ввод!$F$1:$F$30),Ввод!$D$1:$D$30,\"\"),\" / \")","v":""},{"$f":"MyJoin(IF((D$2=Ввод!$C$1:$C$30)*($A1102>=Ввод!$E$1:$E$30)*($A1102<=Ввод!$F$1:$F$30),Ввод!$D$1:$D$30,\"\"),\" / \")","v":""},{"$f":"MyJoin(IF((E$2=Ввод!$C$1:$C$30)*($A1102>=Ввод!$E$1:$E$30)*($A1102<=Ввод!$F$1:$F$30),Ввод!$D$1:$D$30,\"\"),\" / \")","v":""},{"$f":"MyJoin(IF((F$2=Ввод!$C$1:$C$30)*($A1102>=Ввод!$E$1:$E$30)*($A1102<=Ввод!$F$1:$F$30),Ввод!$D$1:$D$30,\"\"),\" / \")","v":""},"2024-12-30"]
["2024-12-31",{"$f":"MyJoin(IF((B$2=Ввод!$C$1:$C$30)*($A1103>=Ввод!$E$1:$E$30)*($A1103<=Ввод!$F$1:$F$30),Ввод!$D$1:$D$30,\"\"),\" / \")","v":""},{"$f":"MyJoin(IF((C$2=Ввод!$C$1:$C$30)*($A1103>=Ввод!$E$1:$E$30)*($A1103<=Ввод!$F$1:$F$30),Ввод!$D$1:$D$30,\"\"),\" / \")","v":""},{"$f":"MyJoin(IF((D$2=Ввод!$C$1:$C$30)*($A1103>=Ввод!$E$1:$E$30)*($A1103<=Ввод!$F$1:$F$30),Ввод!$D$1:$D$30,\"\"),\" / \")","v":""},{"$f":"MyJoin(IF((E$2=Ввод!$C$1:$C$30)*($A1103>=Ввод!$E$1:$E$30)*($A1103<=Ввод!$F$1:$F$30),Ввод!$D$1:$D$30,\"\"),\" / \")","v":""},{"$f":"MyJoin(IF((F$2=Ввод!$C$1:$C$30)*($A1103>=Ввод!$E$1:$E$30)*($A1103<=Ввод!$F$1:$F$30),Ввод!$D$1:$D$30,\"\"),\" / \")","v":""},"2024-12-31"]

{"sheet":"Ввод","index":1,"n_rows":1013,"n_cols":6,"rows_kept":1013,"cut":false,"hidden":false,"merged":[]}
[null,null,"Объект 1","Задание 1","2022-01-12","2022-01-21"]
[null,null,"Объект 1","Задание 2","2022-01-21","2022-01-24"]
[null,null,"Объект 1","Задание 3","2022-01-21","2022-01-21"]
[null,null,"Объект 1","Задание 4","2022-03-01","2022-03-03"]
[null,null,"Объект 1","Задание 5","2022-03-03","2022-03-04"]
[null,null,"Объект 1","Задание 6","2022-05-10","2022-05-14"]
[null,null,"Объект 1","Задание 7","2022-05-14","2022-05-18"]
[null,null,"Объект 1","Задание 8","2022-05-19","2022-05-27"]
[null,null,"Объект 2","Задание 5","2022-05-19","2022-05-30"]
[null,null,"Объект 2","Задание 6","2022-05-24","2022-05-30"]
[null,null,"Объект 2","Задание 7","2022-07-16","2022-07-20"]
[null,null,"Объект 2","Задание 8","2022-07-16","2022-07-30"]
[null,null,"Объект 2","Задание 9","2022-07-20","2022-07-28"]
[null,null,"Объект 2","Задание 10","2022-07-27","2022-08-03"]
[null,null,"Объект 2","Задание 11","2022-07-28","2022-08-04"]
[null,null,"Объект 2","Задание 12","2022-07-30","2022-08-06"]
[null,null,"Объект 2","Задание 13","2022-08-31","2022-09-02"]
[null,null,"Объект 4","Задание 22","2022-09-02","2022-09-04"]
[null,null,"Объект 4","Задание 23","2022-12-07","2022-12-17"]
[null,null,"Объект 4","Задание 24","2022-12-17","2022-12-20"]
[null,null,"Объект 4","Задание 25","2023-03-17","2023-03-19"]
[null,null,"Объект 4","Задание 26","2023-03-19","2023-03-21"]
[null,null,"Объект 4","Задание 27","2023-03-21","2023-03-28"]
[null,null,"Объект 4","Задание 28","2023-03-23","2023-03-30"]
[null,null,"Объект 4","Задание 29","2023-03-25","2023-04-01"]
[null,null,"Объект 4","Задание 30","2023-07-20","2023-07-30"]
[null,null,"Объект 4","Задание 31","2023-07-20","2023-07-30"]
[null,null,"Объект 4","Задание 32","2023-07-30","2023-08-03"]
[null,null,"Объект 4","Задание 33","2023-07-30","2023-08-04"]
[null,null,"Объект 4","Задание 34","2023-10-28","2023-10-30"]
[]
[]
[]
[]
[]
[]
[]
[]
[]
[]
[]
[]
[]
[]
[]
[null,{"$f":"IF(ISNUMBER(SEARCH(\"DI \",$C46)),\"DI\",IF(ISNUMBER(SEARCH(\"AI \",$C46)),\"AI\",IF(ISNUMBER(SEARCH(\"EPC2 \",$C46)),\"EPC2\",IF(ISNUMBER(SEARCH(\"EPC3 \",$C46)),\"EPC3\",IF(ISNUMBER(SEARCH(\"EPC4 \",$C46)),\"EPC4\",\"\")))))","v":""}]
[null,""]
[null,""]
[null,""]
[null,""]
[null,""]
[null,""]
[null,""]
[null,""]
[null,""]
[null,""]
[null,""]
[null,""]
[null,""]
[null,""]
[null,""]
[null,""]
[null,""]
[null,""]
[null,""]
[null,""]
[null,""]
[null,""]
[null,""]
[null,""]
[null,""]
[null,""]
[null,""]
[null,""]
[null,""]
[null,""]
[null,""]
[null,""]
[null,""]
[null,""]
[null,""]
[null,""]
[null,""]
[null,""]
[null,""]
[null,""]
[null,""]
[null,""]
[null,""]
[null,""]
[null,""]
[null,""]
[null,""]
[null,""]
[null,""]
[null,""]
[null,""]
[null,""]
[null,""]
[null,""]
[null,""]
[null,""]
[null,""]
[null,{"$f":"IF(ISNUMBER(SEARCH(\"DI \",$C104)),\"DI\",IF(ISNUMBER(SEARCH(\"AI \",$C104)),\"AI\",IF(ISNUMBER(SEARCH(\"EPC2 \",$C104)),\"EPC2\",IF(ISNUMBER(SEARCH(\"EPC3 \",$C104)),\"EPC3\",IF(ISNUMBER(SEARCH(\"EPC4 \",$C104)),\"EPC4\",\"\")))))","v":""}]
[null,""]
[null,""]
[null,""]
[null,""]
[null,""]
[null,""]
[null,""]
[null,""]
[null,""]
[null,""]
[null,""]
[null,""]
[null,""]
[null,""]
[null,""]
[null,""]
[null,""]
[null,""]
[null,""]
[null,""]
[null,""]
[null,""]
[null,""]
[null,""]
[null,""]
[null,""]
[null,""]
[null,""]
[null,""]
[null,""]
[null,""]
[null,""]
[null,""]
[null,""]
[null,""]
[null,""]
[null,""]
[null,""]
[null,""]
[null,""]
[null,""]
[null,""]
[null,""]
[null,""]
[null,""]
[null,""]
[null,""]
[null,""]
[null,""]
[null,""]
[null,""]
[null,""]
[null,""]
[null,""]
[null,""]
[null,""]
[null,""]
[null,""]
[null,""]
[null,""]
[null,""]
[null,""]
[null,""]
[null,{"$f":"IF(ISNUMBER(SEARCH(\"DI \",$C168)),\"DI\",IF(ISNUMBER(SEARCH(\"AI \",$C168)),\"AI\",IF(ISNUMBER(SEARCH(\"EPC2 \",$C168)),\"EPC2\",IF(ISNUMBER(SEARCH(\"EPC3 \",$C168)),\"EPC3\",IF(ISNUMBER(SEARCH(\"EPC4 \",$C168)),\"EPC4\",\"\")))))","v":""}]
[null,""]
[null,""]
[null,""]
[null,""]
[null,""]
[null,""]
[null,""]
[null,""]
[null,""]
[null,""]
[null,""]
[null,""]
[null,""]
[null,""]
[null,""]
[null,""]
[null,""]
[null,""]
[null,""]
[null,""]
[null,""]
[null,""]
[null,""]
[null,""]
[null,""]
[null,""]
[null,""]
[null,""]
[null,""]
[null,""]
[null,""]
[null,""]
[null,""]
[null,""]
[null,""]
[null,""]
[null,""]
[null,""]
[null,""]
[null,""]
[null,""]
[null,""]
[null,""]
[null,""]
[null,""]
[null,""]
[null,""]
[null,""]
[null,""]
[null,""]
[null,""]
[null,""]
[null,""]
[null,""]
[null,""]
[null,""]
[null,""]
[null,""]
[null,""]
[null,""]
[null,""]
[null,""]
[null,""]
[null,{"$f":"IF(ISNUMBER(SEARCH(\"DI \",$C232)),\"DI\",IF(ISNUMBER(SEARCH(\"AI \",$C232)),\"AI\",IF(ISNUMBER(SEARCH(\"EPC2 \",$C232)),\"EPC2\",IF(ISNUMBER(SEARCH(\"EPC3 \",$C232)),\"EPC3\",IF(ISNUMBER(SEARCH(\"EPC4 \",$C232)),\"EPC4\",\"\")))))","v":""}]
[null,""]
[null,""]
[null,""]
[null,""]
[null,""]
[null,""]
[null,""]
[null,""]
[null,""]
[null,""]
[null,""]
[null,""]
[null,""]
[null,""]
[null,""]
[null,""]
[null,""]
[null,""]
[null,""]
[null,""]
[null,""]
[null,""]
[null,""]
[null,""]
[null,""]
[null,""]
[null,""]
[null,""]
[null,""]
[null,""]
[null,""]
[null,""]
[null,""]
[null,""]
[null,""]
[null,""]
[null,""]
[null,""]
[null,""]
[null,""]
[null,""]
[null,""]
[null,""]
[null,""]
[null,""]
[null,""]
[null,""]
[null,""]
[null,""]
[null,""]
[null,""]
[null,""]
[null,""]
[null,""]
[null,""]
[null,""]
[null,""]
[null,""]
[null,""]
[null,""]
[null,""]
[null,""]
[null,""]
[null,{"$f":"IF(ISNUMBER(SEARCH(\"DI \",$C296)),\"DI\",IF(ISNUMBER(SEARCH(\"AI \",$C296)),\"AI\",IF(ISNUMBER(SEARCH(\"EPC2 \",$C296)),\"EPC2\",IF(ISNUMBER(SEARCH(\"EPC3 \",$C296)),\"EPC3\",IF(ISNUMBER(SEARCH(\"EPC4 \",$C296)),\"EPC4\",\"\")))))","v":""}]
[null,""]
[null,""]
[null,""]
[null,""]
[null,""]
[null,""]
[null,""]
[null,""]
[null,""]
[null,""]
[null,""]
[null,""]
[null,""]
[null,""]
[null,""]
[null,""]
[null,""]
[null,""]
[null,""]
[null,""]
[null,""]
[null,""]
[null,""]
[null,""]
[null,""]
[null,""]
[null,""]
[null,""]
[null,""]
[null,""]
[null,""]
[null,""]
[null,""]
[null,""]
[null,""]
[null,""]
[null,""]
[null,""]
[null,""]
[null,""]
[null,""]
[null,""]
[null,""]
[null,""]
[null,""]
[null,""]
[null,""]
[null,""]
[null,""]
[null,""]
[null,""]
[null,""]
[null,""]
[null,""]
[null,""]
[null,""]
[null,""]
[null,""]
[null,""]
[null,""]
[null,""]
[null,""]
[null,""]
[null,{"$f":"IF(ISNUMBER(SEARCH(\"DI \",$C360)),\"DI\",IF(ISNUMBER(SEARCH(\"AI \",$C360)),\"AI\",IF(ISNUMBER(SEARCH(\"EPC2 \",$C360)),\"EPC2\",IF(ISNUMBER(SEARCH(\"EPC3 \",$C360)),\"EPC3\",IF(ISNUMBER(SEARCH(\"EPC4 \",$C360)),\"EPC4\",\"\")))))","v":""}]
[null,""]
[null,""]
[null,""]
[null,""]
[null,""]
[null,""]
[null,""]
[null,""]
[null,""]
[null,""]
[null,""]
[null,""]
[null,""]
[null,""]
[null,""]
[null,""]
[null,""]
[null,""]
[null,""]
[null,""]
[null,""]
[null,""]
[null,""]
[null,""]
[null,""]
[null,""]
[null,""]
[null,""]
[null,""]
[null,""]
[null,""]
[null,""]
[null,""]
[null,""]
[null,""]
[null,""]
[null,""]
[null,""]
[null,""]
[null,""]
[null,""]
[null,""]
[null,""]
[null,""]
[null,""]
[null,""]
[null,""]
[null,""]
[null,""]
[null,""]
[null,""]
[null,""]
[null,""]
[null,""]
[null,""]
[null,""]
[null,""]
[null,""]
[null,""]
[null,""]
[null,""]
[null,""]
[null,""]
[null,{"$f":"IF(ISNUMBER(SEARCH(\"DI \",$C424)),\"DI\",IF(ISNUMBER(SEARCH(\"AI \",$C424)),\"AI\",IF(ISNUMBER(SEARCH(\"EPC2 \",$C424)),\"EPC2\",IF(ISNUMBER(SEARCH(\"EPC3 \",$C424)),\"EPC3\",IF(ISNUMBER(SEARCH(\"EPC4 \",$C424)),\"EPC4\",\"\")))))","v":""}]
[null,""]
[null,""]
[null,""]
[null,""]
[null,""]
[null,""]
[null,""]
[null,""]
[null,""]
[null,""]
[null,""]
[null,""]
[null,""]
[null,""]
[null,""]
[null,""]
[null,""]
[null,""]
[null,""]
[null,""]
[null,""]
[null,""]
[null,""]
[null,""]
[null,""]
[null,""]
[null,""]
[null,""]
[null,""]
[null,""]
[null,""]
[null,""]
[null,""]
[null,""]
[null,""]
[null,""]
[null,""]
[null,""]
[null,""]
[null,""]
[null,""]
[null,""]
[null,""]
[null,""]
[null,""]
[null,""]
[null,""]
[null,""]
[null,""]
[null,""]
[null,""]
[null,""]
[null,""]
[null,""]
[null,""]
[null,""]
[null,""]
[null,""]
[null,""]
[null,""]
[null,""]
[null,""]
[null,""]
[null,{"$f":"IF(ISNUMBER(SEARCH(\"DI \",$C488)),\"DI\",IF(ISNUMBER(SEARCH(\"AI \",$C488)),\"AI\",IF(ISNUMBER(SEARCH(\"EPC2 \",$C488)),\"EPC2\",IF(ISNUMBER(SEARCH(\"EPC3 \",$C488)),\"EPC3\",IF(ISNUMBER(SEARCH(\"EPC4 \",$C488)),\"EPC4\",\"\")))))","v":""}]
[null,""]
[null,""]
[null,""]
[null,""]
[null,""]
[null,""]
[null,""]
[null,""]
[null,""]
[null,""]
[null,""]
[null,""]
[null,""]
[null,""]
[null,""]
[null,""]
[null,""]
[null,""]
[null,""]
[null,""]
[null,""]
[null,""]
[null,""]
[null,""]
[null,""]
[null,""]
[null,""]
[null,""]
[null,""]
[null,""]
[null,""]
[null,""]
[null,""]
[null,""]
[null,""]
[null,""]
[null,""]
[null,""]
[null,""]
[null,""]
[null,""]
[null,""]
[null,""]
[null,""]
[null,""]
[null,""]
[null,""]
[null,""]
[null,""]
[null,""]
[null,""]
[null,""]
[null,""]
[null,""]
[null,""]
[null,""]
[null,""]
[null,""]
[null,""]
[null,""]
[null,""]
[null,""]
[null,""]
[null,{"$f":"IF(ISNUMBER(SEARCH(\"DI \",$C552)),\"DI\",IF(ISNUMBER(SEARCH(\"AI \",$C552)),\"AI\",IF(ISNUMBER(SEARCH(\"EPC2 \",$C552)),\"EPC2\",IF(ISNUMBER(SEARCH(\"EPC3 \",$C552)),\"EPC3\",IF(ISNUMBER(SEARCH(\"EPC4 \",$C552)),\"EPC4\",\"\")))))","v":""}]
[null,""]
[null,""]
[null,""]
[null,""]
[null,""]
[null,""]
[null,""]
[null,""]
[null,""]
[null,""]
[null,""]
[null,""]
[null,""]
[null,""]
[null,""]
[null,""]
[null,""]
[null,""]
[null,""]
[null,""]
[null,""]
[null,""]
[null,""]
[null,""]
[null,""]
[null,""]
[null,""]
[null,""]
[null,""]
[null,""]
[null,""]
[null,""]
[null,""]
[null,""]
[null,""]
[null,""]
[null,""]
[null,""]
[null,""]
[null,""]
[null,""]
[null,""]
[null,""]
[null,""]
[null,""]
[null,""]
[null,""]
[null,""]
[null,""]
[null,""]
[null,""]
[null,""]
[null,""]
[null,""]
[null,""]
[null,""]
[null,""]
[null,""]
[null,""]
[null,""]
[null,""]
[null,""]
[null,""]
[null,{"$f":"IF(ISNUMBER(SEARCH(\"DI \",$C616)),\"DI\",IF(ISNUMBER(SEARCH(\"AI \",$C616)),\"AI\",IF(ISNUMBER(SEARCH(\"EPC2 \",$C616)),\"EPC2\",IF(ISNUMBER(SEARCH(\"EPC3 \",$C616)),\"EPC3\",IF(ISNUMBER(SEARCH(\"EPC4 \",$C616)),\"EPC4\",\"\")))))","v":""}]
[null,""]
[null,""]
[null,""]
[null,""]
[null,""]
[null,""]
[null,""]
[null,""]
[null,""]
[null,""]
[null,""]
[null,""]
[null,""]
[null,""]
[null,""]
[null,""]
[null,""]
[null,""]
[null,""]
[null,""]
[null,""]
[null,""]
[null,""]
[null,""]
[null,""]
[null,""]
[null,""]
[null,""]
[null,""]
[null,""]
[null,""]
[null,""]
[null,""]
[null,""]
[null,""]
[null,""]
[null,""]
[null,""]
[null,""]
[null,""]
[null,""]
[null,""]
[null,""]
[null,""]
[null,""]
[null,""]
[null,""]
[null,""]
[null,""]
[null,""]
[null,""]
[null,""]
[null,""]
[null,""]
[null,""]
[null,""]
[null,""]
[null,""]
[null,""]
[null,""]
[null,""]
[null,""]
[null,""]
[null,{"$f":"IF(ISNUMBER(SEARCH(\"DI \",$C680)),\"DI\",IF(ISNUMBER(SEARCH(\"AI \",$C680)),\"AI\",IF(ISNUMBER(SEARCH(\"EPC2 \",$C680)),\"EPC2\",IF(ISNUMBER(SEARCH(\"EPC3 \",$C680)),\"EPC3\",IF(ISNUMBER(SEARCH(\"EPC4 \",$C680)),\"EPC4\",\"\")))))","v":""}]
[null,""]
[null,""]
[null,""]
[null,""]
[null,""]
[null,""]
[null,""]
[null,""]
[null,""]
[null,""]
[null,""]
[null,""]
[null,""]
[null,""]
[null,""]
[null,""]
[null,""]
[null,""]
[null,""]
[null,""]
[null,""]
[null,""]
[null,""]
[null,""]
[null,""]
[null,""]
[null,""]
[null,""]
[null,""]
[null,""]
[null,""]
[null,""]
[null,""]
[null,""]
[null,""]
[null,""]
[null,""]
[null,""]
[null,""]
[null,""]
[null,""]
[null,""]
[null,""]
[null,""]
[null,""]
[null,""]
[null,""]
[null,""]
[null,""]
[null,""]
[null,""]
[null,""]
[null,""]
[null,""]
[null,""]
[null,""]
[null,""]
[null,""]
[null,""]
[null,""]
[null,""]
[null,""]
[null,""]
[null,{"$f":"IF(ISNUMBER(SEARCH(\"DI \",$C744)),\"DI\",IF(ISNUMBER(SEARCH(\"AI \",$C744)),\"AI\",IF(ISNUMBER(SEARCH(\"EPC2 \",$C744)),\"EPC2\",IF(ISNUMBER(SEARCH(\"EPC3 \",$C744)),\"EPC3\",IF(ISNUMBER(SEARCH(\"EPC4 \",$C744)),\"EPC4\",\"\")))))","v":""}]
[null,""]
[null,""]
[null,""]
[null,""]
[null,""]
[null,""]
[null,""]
[null,""]
[null,""]
[null,""]
[null,""]
[null,""]
[null,""]
[null,""]
[null,""]
[null,""]
[null,""]
[null,""]
[null,""]
[null,""]
[null,""]
[null,""]
[null,""]
[null,""]
[null,""]
[null,""]
[null,""]
[null,""]
[null,""]
[null,""]
[null,""]
[null,""]
[null,""]
[null,""]
[null,""]
[null,""]
[null,""]
[null,""]
[null,""]
[null,""]
[null,""]
[null,""]
[null,""]
[null,""]
[null,""]
[null,""]
[null,""]
[null,""]
[null,""]
[null,""]
[null,""]
[null,""]
[null,""]
[null,""]
[null,""]
[null,""]
[null,""]
[null,""]
[null,""]
[null,""]
[null,""]
[null,""]
[null,""]
[null,{"$f":"IF(ISNUMBER(SEARCH(\"DI \",$C808)),\"DI\",IF(ISNUMBER(SEARCH(\"AI \",$C808)),\"AI\",IF(ISNUMBER(SEARCH(\"EPC2 \",$C808)),\"EPC2\",IF(ISNUMBER(SEARCH(\"EPC3 \",$C808)),\"EPC3\",IF(ISNUMBER(SEARCH(\"EPC4 \",$C808)),\"EPC4\",\"\")))))","v":""}]
[null,""]
[null,""]
[null,""]
[null,""]
[null,""]
[null,""]
[null,""]
[null,""]
[null,""]
[null,""]
[null,""]
[null,""]
[null,""]
[null,""]
[null,""]
[null,""]
[null,""]
[null,""]
[null,""]
[null,""]
[null,""]
[null,""]
[null,""]
[null,""]
[null,""]
[null,""]
[null,""]
[null,""]
[null,""]
[null,""]
[null,""]
[null,""]
[null,""]
[null,""]
[null,""]
[null,""]
[null,""]
[null,""]
[null,""]
[null,""]
[null,""]
[null,""]
[null,""]
[null,""]
[null,""]
[null,""]
[null,""]
[null,""]
[null,""]
[null,""]
[null,""]
[null,""]
[null,""]
[null,""]
[null,""]
[null,""]
[null,""]
[null,""]
[null,""]
[null,""]
[null,""]
[null,""]
[null,""]
[null,{"$f":"IF(ISNUMBER(SEARCH(\"DI \",$C872)),\"DI\",IF(ISNUMBER(SEARCH(\"AI \",$C872)),\"AI\",IF(ISNUMBER(SEARCH(\"EPC2 \",$C872)),\"EPC2\",IF(ISNUMBER(SEARCH(\"EPC3 \",$C872)),\"EPC3\",IF(ISNUMBER(SEARCH(\"EPC4 \",$C872)),\"EPC4\",\"\")))))","v":""}]
[null,""]
[null,""]
[null,""]
[null,""]
[null,""]
[null,""]
[null,""]
[null,""]
[null,""]
[null,""]
[null,""]
[null,""]
[null,""]
[null,""]
[null,""]
[null,""]
[null,""]
[null,""]
[null,""]
[null,""]
[null,""]
[null,""]
[null,""]
[null,""]
[null,""]
[null,""]
[null,""]
[null,""]
[null,""]
[null,""]
[null,""]
[null,""]
[null,""]
[null,""]
[null,""]
[null,""]
[null,""]
[null,""]
[null,""]
[null,""]
[null,""]
[null,""]
[null,""]
[null,""]
[null,""]
[null,""]
[null,""]
[null,""]
[null,""]
[null,""]
[null,""]
[null,""]
[null,""]
[null,""]
[null,""]
[null,""]
[null,""]
[null,""]
[null,""]
[null,""]
[null,""]
[null,""]
[null,""]
[null,{"$f":"IF(ISNUMBER(SEARCH(\"DI \",$C936)),\"DI\",IF(ISNUMBER(SEARCH(\"AI \",$C936)),\"AI\",IF(ISNUMBER(SEARCH(\"EPC2 \",$C936)),\"EPC2\",IF(ISNUMBER(SEARCH(\"EPC3 \",$C936)),\"EPC3\",IF(ISNUMBER(SEARCH(\"EPC4 \",$C936)),\"EPC4\",\"\")))))","v":""}]
[null,""]
[null,""]
[null,""]
[null,""]
[null,""]
[null,""]
[null,""]
[null,""]
[null,""]
[null,""]
[null,""]
[null,""]
[null,""]
[null,""]
[null,""]
[null,""]
[null,""]
[null,""]
[null,""]
[null,""]
[null,""]
[null,""]
[null,""]
[null,""]
[null,""]
[null,""]
[null,""]
[null,""]
[null,""]
[null,""]
[null,""]
[null,""]
[null,""]
[null,""]
[null,""]
[null,""]
[null,""]
[null,""]
[null,""]
[null,""]
[null,""]
[null,""]
[null,""]
[null,""]
[null,""]
[null,""]
[null,""]
[null,""]
[null,""]
[null,""]
[null,""]
[null,""]
[null,""]
[null,""]
[null,""]
[null,""]
[null,""]
[null,""]
[null,""]
[null,""]
[null,""]
[null,""]
[null,""]
[null,{"$f":"IF(ISNUMBER(SEARCH(\"DI \",$C1000)),\"DI\",IF(ISNUMBER(SEARCH(\"AI \",$C1000)),\"AI\",IF(ISNUMBER(SEARCH(\"EPC2 \",$C1000)),\"EPC2\",IF(ISNUMBER(SEARCH(\"EPC3 \",$C1000)),\"EPC3\",IF(ISNUMBER(SEARCH(\"EPC4 \",$C1000)),\"EPC4\",\"\")))))","v":""}]
[null,""]
[null,""]
[null,""]
[null,""]
[null,""]
[null,""]
[null,""]
[null,""]
[null,""]
[null,""]
[null,""]
[null,""]
[null,""]