{"text_format":"1","workbook":"xlsx","n_sheets":2,"sheets":["ввод","Распределение по магазинам"],"not_rendered":{"charts":0,"images":0,"macros":1,"external_links":0,"defined_names":0,"comments":1,"pivot_tables":0},"unopened":[],"bounds":{"document_bytes":16777216,"sheet_cells":100000,"rows_first":2000,"rows_last":500,"rows_between":2000,"halvings":0,"cell_chars":16384,"cell_head_chars":4096},"cells_cut":0,"cells_raw":0,"read":"whole","date_system":"1900"}

{"sheet":"ввод","index":0,"n_rows":4,"n_cols":10,"rows_kept":4,"cut":false,"hidden":false,"merged":[]}
[null,"Общие продажи, шт","Магазин 1 продажи, шт","Магазин 1\nДоля от продаж","Магазин 2 продажи, шт","Магазин 2 Доля от продаж","Магазин 3 продажи, шт","Магазин 3\nДоля от продаж","Магазин 4 продажи, шт","Магазин 4\nДоля от продаж"]
["Товар 1",{"$f":"SUM(C2,E2,G2,I2)","v":161},21,{"$f":"C2/B2","v":0.13043478260869565},115,{"$f":"E2/B2","v":0.7142857142857143},4,{"$f":"G2/B2","v":2.4844720496894408E-2},21,{"$f":"I2/B2","v":0.13043478260869565}]
["Товар 2",{"$f":"SUM(C3,E3,G3,I3)","v":29},9,{"$f":"C3/B3","v":0.31034482758620691},4,{"$f":"E3/B3","v":0.13793103448275862},11,{"$f":"G3/B3","v":0.37931034482758619},5,{"$f":"I3/B3","v":0.17241379310344829}]
["Товар 3",{"$f":"SUM(C4,E4,G4,I4)","v":28},7,{"$f":"C4/B4","v":0.25},7,{"$f":"E4/B4","v":0.25},7,{"$f":"G4/B4","v":0.25},7,{"$f":"I4/B4","v":0.25}]

{"sheet":"Распределение по магазинам","index":1,"n_rows":11,"n_cols":8,"rows_kept":11,"cut":false,"hidden":false,"merged":[]}
["ИСХОДНОЕ РАСПРЕДЕЛЕНИЕ ОСТАТКОВ"]
[null,"Остатки на складе, шт","Магазин 1, шт","Магазин 2, шт","Магазин 3, шт","Магазин 4, шт","Остатки расчетные, шт\n"]
["Товар 1",12,{"$f":"ROUNDUP(VLOOKUP($A3,ввод!$A:$J,4,0)*'Распределение по магазинам'!$B3,0)","v":2},{"$f":"ROUNDUP(VLOOKUP($A3,ввод!$A:$J,6,0)*'Распределение по магазинам'!$B3,0)","v":9},{"$f":"ROUNDUP(VLOOKUP($A3,ввод!$A:$J,8,0)*'Распределение по магазинам'!$B3,0)","v":1},{"$f":"ROUNDUP(VLOOKUP($A3,ввод!$A:$J,10,0)*'Распределение по магазинам'!$B3,0)","v":2},{"$f":"SUM(C3:F3)","v":14},"B3 >  4 магазина х 2"]
["Товар 2",8,{"$f":"ROUNDUP(VLOOKUP($A4,ввод!$A:$J,4,0)*'Распределение по магазинам'!$B4,0)","v":3},{"$f":"ROUNDUP(VLOOKUP($A4,ввод!$A:$J,6,0)*'Распределение по магазинам'!$B4,0)","v":2},{"$f":"ROUNDUP(VLOOKUP($A4,ввод!$A:$J,8,0)*'Распределение по магазинам'!$B4,0)","v":4},{"$f":"ROUNDUP(VLOOKUP($A4,ввод!$A:$J,10,0)*'Распределение по магазинам'!$B4,0)","v":2},{"$f":"SUM(C4:F4)","v":11},"B4 <=  4 магазина х 2"]
["Товар 3",5,{"$f":"ROUNDUP(VLOOKUP($A5,ввод!$A:$J,4,0)*'Распределение по магазинам'!$B5,0)","v":2},{"$f":"ROUNDUP(VLOOKUP($A5,ввод!$A:$J,6,0)*'Распределение по магазинам'!$B5,0)","v":2},{"$f":"ROUNDUP(VLOOKUP($A5,ввод!$A:$J,8,0)*'Распределение по магазинам'!$B5,0)","v":2},{"$f":"ROUNDUP(VLOOKUP($A5,ввод!$A:$J,10,0)*'Распределение по магазинам'!$B5,0)","v":2},8,"B5 <=  4 магазина х 2"]
[]
["ПЕРЕРАСПРЕДЕЛЕНИЕ ОСТАТКОВ"]
[null,"Остатки на складе, шт","Магазин 1, шт","Магазин 2, шт","Магазин 3, шт","Магазин 4, шт","Остатки расчетные, шт\n"]
["Товар 1",{"$f":"B3","v":12},2,7,1,2,{"$f":"SUM(C9:F9)","v":12}]
["Товар 2",{"$f":"B4","v":8},4,4,0,0,{"$f":"SUM(C10:F10)","v":8}]
["Товар 3",5,3,2,0,0,{"$f":"SUM(C11:F11)","v":5}]