{"text_format":"1","workbook":"xlsx","n_sheets":5,"sheets":["Тайминг","ПИТ","Команды","Карты","Настройки"],"not_rendered":{"charts":0,"images":6,"macros":1,"external_links":0,"defined_names":2,"comments":0,"pivot_tables":0},"unopened":[],"bounds":{"document_bytes":16777216,"sheet_cells":100000,"rows_first":2000,"rows_last":500,"rows_between":2000,"halvings":0,"cell_chars":16384,"cell_head_chars":4096},"cells_cut":0,"cells_raw":0,"read":"whole","date_system":"1900"}

{"sheet":"Тайминг","index":0,"n_rows":93,"n_cols":31,"rows_kept":93,"cut":false,"hidden":false,"merged":[[92,0,94,0],[74,0,76,0],[77,0,79,0],[80,0,82,0],[83,0,85,0],[86,0,88,0],[89,0,91,0],[56,0,58,0],[59,0,61,0],[62,0,64,0],[65,0,67,0],[68,0,70,0],[71,0,73,0],[38,0,40,0],[41,0,43,0],[44,0,46,0],[47,0,49,0],[50,0,52,0],[53,0,55,0],[20,0,22,0],[23,0,25,0],[26,0,28,0],[29,0,31,0],[32,0,34,0],[35,0,37,0],[5,0,7,0],[8,0,10,0],[11,0,13,0],[14,0,16,0],[17,0,19,0],[0,0,0,2],[0,7,1,8],[0,9,0,10],[1,9,2,10],[1,0,2,2],[0,3,2,6]]}
["Общее время гонки",null,null,"00:00:00"]
["23:59:59"]
[]
[]
["Название \nкоманды","Стинт 1","Стинт 2","Стинт 3","Стинт 4","Стинт 5","Стинт 6","Стинт 7","Стинт 8","Стинт 9","Стинт 10","Стинт 11","Стинт 12","Стинт 13","Стинт 14","Стинт 15","Стинт 16","Стинт 17","Стинт 18","Стинт 19","Стинт 20","Стинт 21","Стинт 22","Стинт 23","Стинт 24","Стинт 25","Стинт 26","Стинт 27","Стинт 28","Стинт 29","Стинт 30"]
[{"$f":"Команды!A2","v":"Гуси-лебеди"},{"$f":"Команды!J2","v":24}]
[null,"00:00:00"]
[null,"Петро"]
[{"$f":"Команды!A3","v":"Команда 2"},{"$f":"Команды!J3","v":8}]
[]
[]
[{"$f":"Команды!A4","v":"Команда 3"},{"$f":"Команды!J4","v":25}]
[]
[]
[{"$f":"Команды!A5","v":"Команда 4"},{"$f":"Команды!J5","v":0}]
[]
[]
[{"$f":"Команды!A6","v":"Команда 5"},{"$f":"Команды!J6","v":0}]
[]
[]
[{"$f":"Команды!A7","v":"Команда 6"},{"$f":"Команды!J7","v":0}]
[]
[]
[{"$f":"Команды!A8","v":"Команда 7"},{"$f":"Команды!J8","v":1}]
[]
[]
[{"$f":"Команды!A9","v":"Команда 8"},{"$f":"Команды!J9","v":0}]
[]
[]
[{"$f":"Команды!A10","v":"Команда 9"},{"$f":"Команды!J10","v":5}]
[]
[]
[{"$f":"Команды!A11","v":"Команда 10"},{"$f":"Команды!J11","v":0}]
[]
[]
[{"$f":"Команды!A12","v":"Команда 11"},{"$f":"Команды!J12","v":0}]
[]
[]
[{"$f":"Команды!A13","v":"Команда 12"},{"$f":"Команды!J13","v":0}]
[]
[]
[{"$f":"Команды!A14","v":"Команда 13"},{"$f":"Команды!J14","v":0}]
[]
[]
[{"$f":"Команды!A15","v":"Команда 14"},{"$f":"Команды!J15","v":0}]
[]
[]
[{"$f":"Команды!A16","v":"Команда 15"},{"$f":"Команды!J16","v":0}]
[]
[]
[{"$f":"Команды!A17","v":"Команда 16"},{"$f":"Команды!J17","v":0}]
[]
[]
[{"$f":"Команды!A18","v":"Команда 17"},{"$f":"Команды!J18","v":0}]
[]
[]
[{"$f":"Команды!A19","v":"Команда 18"},{"$f":"Команды!J19","v":0}]
[]
[]
[{"$f":"Команды!A20","v":"Команда 19"},{"$f":"Команды!J20","v":0}]
[]
[]
[{"$f":"Команды!A21","v":"Команда 20"},{"$f":"Команды!J21","v":0}]
[]
[]
[{"$f":"Команды!A22","v":"Команда 21"},{"$f":"Команды!J22","v":6}]
[]
[]
[{"$f":"Команды!A23","v":"Команда 22"},{"$f":"Команды!J23","v":4}]
[]
[]
[{"$f":"Команды!A24","v":"Команда 23"},{"$f":"Команды!J24","v":0}]
[]
[]
[{"$f":"Команды!A25","v":"Команда 24"},{"$f":"Команды!J25","v":0}]
[]
[]
[{"$f":"Команды!A26","v":"Команда 25"},{"$f":"Команды!J26","v":0}]
[]
[]
[{"$f":"Команды!A27","v":"Команда 26"},{"$f":"Команды!J27","v":0}]
[]
[]
[{"$f":"Команды!A28","v":"Команда 27"},{"$f":"Команды!J28","v":0}]
[]
[]
[{"$f":"Команды!A29","v":"Команда 28"},{"$f":"Команды!J29","v":0}]
[]
[]
[{"$f":"Команды!A30","v":"Команда 29"},{"$f":"Команды!J30","v":0}]
[]
[]
[{"$f":"Команды!A31","v":"Команда 30"},{"$f":"Команды!J31","v":0}]

{"sheet":"ПИТ","index":1,"n_rows":0,"n_cols":0,"rows_kept":0,"cut":false,"hidden":false,"merged":[]}

{"sheet":"Команды","index":2,"n_rows":31,"n_cols":10,"rows_kept":31,"cut":false,"hidden":false,"merged":[]}
["Название\nкоманды","Пилот 1","Пилот 2","Пилот 3","Пилот 4","Пилот 5","Пилот 6","Пилот 7","Пилот 8","Карт на \nстарте"]
["Гуси-лебеди","Петро","Васек","Семен","Славик",null,null,null,null,24]
["Команда 2",null,null,null,null,null,null,null,null,8]
["Команда 3",null,null,null,null,null,null,null,null,25]
["Команда 4"]
["Команда 5"]
["Команда 6"]
["Команда 7",null,null,null,null,null,null,null,null,1]
["Команда 8"]
["Команда 9",null,null,null,null,null,null,null,null,5]
["Команда 10"]
["Команда 11"]
["Команда 12"]
["Команда 13"]
["Команда 14"]
["Команда 15"]
["Команда 16"]
["Команда 17"]
["Команда 18"]
["Команда 19"]
["Команда 20"]
["Команда 21",null,null,null,null,null,null,null,null,6]
["Команда 22",null,null,null,null,null,null,null,null,4]
["Команда 23"]
["Команда 24"]
["Команда 25"]
["Команда 26"]
["Команда 27"]
["Команда 28"]
["Команда 29"]
["Команда 30"]

{"sheet":"Карты","index":3,"n_rows":43,"n_cols":6,"rows_kept":43,"cut":false,"hidden":false,"merged":[]}
["Номер \nкарта","Тип\nкарта","Заметки",null,null,"Типы \nкартов"]
[1,"Дрова","не рулится вправо",null,null,"Неизвестно"]
[2,"Средний","нет максималки",null,null,"Дрова"]
[3,"Неизвестно","троит двигатель",null,null,"Средний"]
[4,"Средний","надо брать",null,null,"Ракета"]
[5,"Неизвестно","спускает колесо"]
[6,"Неизвестно"]
[7,"Неизвестно"]
[8,"Дрова"]
[9,"Неизвестно"]
[10,"Ракета"]
[11,"Неизвестно"]
[12,"Средний"]
[13,"Дрова"]
[14,"Неизвестно"]
[15,"Неизвестно"]
[16,"Ракета"]
[17,"Неизвестно"]
[18,"Неизвестно"]
[19,"Средний"]
[20,"Неизвестно"]
[21,"Неизвестно"]
[22,"Неизвестно"]
[23,"Средний"]
[24,"Неизвестно"]
[25,"Дрова"]
[26,"Неизвестно"]
[27,"Ракета"]
[28,"Неизвестно"]
[29,"Неизвестно"]
[30,"Неизвестно"]
[31,"Средний"]
[32,"Неизвестно"]
[33,"Неизвестно"]
[34,"Неизвестно"]
[35,"Ракета"]
[36,"Неизвестно"]
["Резерв 1","Неизвестно"]
["Резерв 2","Неизвестно"]
["Резерв 3","Средний"]
["Резерв 4","Неизвестно"]
["Резерв 5","Неизвестно"]
["Резерв 6","Неизвестно"]

{"sheet":"Настройки","index":4,"n_rows":3,"n_cols":2,"rows_kept":3,"cut":false,"hidden":false,"merged":[]}
["Общее время гонки","23:59:59"]
["Максимальное время \nодной сессии","01:50:00"]
["Время пит-стопа","00:02:00"]