{"text_format":"1","workbook":"xlsx","n_sheets":6,"sheets":["ПРОВОЛОКА","ЛИСТ","ТРУБА","ПВХ","«З»","«Д»"],"not_rendered":{"charts":0,"images":0,"macros":1,"external_links":0,"defined_names":5,"comments":3,"pivot_tables":0},"unopened":[],"bounds":{"document_bytes":16777216,"sheet_cells":100000,"rows_first":2000,"rows_last":500,"rows_between":2000,"halvings":0,"cell_chars":16384,"cell_head_chars":4096},"cells_cut":0,"cells_raw":0,"read":"whole","date_system":"1900"}

{"sheet":"ПРОВОЛОКА","index":0,"n_rows":266,"n_cols":28,"rows_kept":266,"cut":false,"hidden":false,"merged":[[5,1,7,1],[5,25,7,25],[5,26,7,26],[5,8,7,8],[5,7,7,7],[5,22,7,22],[5,23,7,23],[5,24,7,24],[5,13,7,13],[5,12,7,12],[5,11,7,11],[5,10,7,10],[5,9,7,9],[1,18,1,19],[5,0,7,0],[4,2,4,3],[5,20,6,21],[5,18,6,19],[5,17,7,17],[5,2,5,3],[5,6,7,6],[5,5,7,5],[5,4,7,4],[6,3,7,3],[6,2,7,2],[5,16,7,16],[5,15,7,15],[5,14,7,14],[3,12,3,24]]}
["z",null,null,null,"z","z",null,null,"z",null,null,null,"z","z",null,null,null,null,null,null,null,null,null,null,null,null,null,"z"]
[null,"Согласовано: Нач.техотдела                                         ",null,null,null,null,null,null,null,null,null,null,null,null,null,"запуск ",null,null,{"$f":"TODAY()","v":"2023-08-05"}]
[]
[null,"Технологическая ведомость материалов № _________по проволоке на"]
[null,null,1,null,null,null,null,null,null,null,null,null,null,null,{"$f":"CONCATENATE(\"Изделие из: \",IF(ПРОВОЛОКА!S259>0,\"ПРОВОЛОКА, \",\"\"),IF(ЛИСТ!L7>0,\"ЛИСТ, \",\"\"),IF(ТРУБА!M7>0,\"ТРУБА, \",\"\"),IF(ПВХ!L9>0,\"ПВХ \",\"\"))","v":"Изделие из: "}]
[null,"!","Наименование",null,"+10","План","Ø проволоки\nмм","длина заготовки\nмм","вес  метра проволоки","Кол-во на\nизделие\nшт","Кол-во на план\nшт","время на заготовку","время изготовления на 1 изделие, мин","вес заготовки\nкг","вес на изделие\nкг","Время изготовления на план,мин","Остаток проволоки с преды-дущего изделия (бухты), кг","Приход бухты прово-локи, кг","Общий вес на план, кг ",null,"Техноло-гический остаток обкуска в лом, кг",null,"Остаток бухты прово-локи, кг","ОТК","Принял","Дата передачи","Время передачи"]
[null,null,"Øх","Длина"]
[null,null,null,null,null,null,null,null,null,null,null,null,null,null,null,null,null,null,"теория","факт","теория","факт"]
[]
[{"$f":"IF(O10=0,\"z\",\" \")","v":"z"},null,"Ø2,0х",null,null,{"$f":"$C$5","v":1},2,{"$f":"D10+E10","v":0},2.5000000000000001E-2,null,{"$f":"F10*J10","v":0},{"$f":"H10/162","v":0},{"$f":"J10*L10/60","v":0},{"$f":"H10*I10/1000","v":0},{"$f":"J10*N10","v":0},{"$f":"M10*F10","v":0},null,null,{"$f":"N10*K10","v":0},null,{"$f":"I10*0.01*K10","v":0},null,null,null,null,null,null,1]
["z",null,"Ø2,0х",null,null,1,2,{"$f":"D11+E11","v":0},2.5000000000000001E-2,null,{"$f":"F11*J11","v":0},{"$f":"H11/162","v":0},{"$f":"J11*L11/60","v":0},{"$f":"H11*I11/1000","v":0},{"$f":"J11*N11","v":0},{"$f":"M11*F11","v":0},null,null,{"$f":"N11*K11","v":0},null,{"$f":"I11*0.01*K11","v":0},null,null,null,null,null,null,2]
["z",null,"Ø2,0х",null,null,1,2,0,2.5000000000000001E-2,null,0,0,0,0,0,0,null,null,0,null,0,null,null,null,null,null,null,3]
["z",null,"Ø2,0х",null,null,1,2,0,2.5000000000000001E-2,null,0,0,0,0,0,0,null,null,0,null,0,null,null,null,null,null,null,4]
["z",null,"Ø2,0х",null,null,1,2,0,2.5000000000000001E-2,null,0,0,0,0,0,0,null,null,0,null,0,null,null,null,null,null,null,5]
["z",null,"Ø2,0х",null,null,1,2,0,2.5000000000000001E-2,null,0,0,0,0,0,0,null,null,0,null,0,null,null,null,null,null,null,6]
["z",null,"Ø2,0х",null,null,1,2,0,2.5000000000000001E-2,null,0,0,0,0,0,0,null,null,0,null,0,null,null,null,null,null,null,7]
["z",null,"Ø2,0х",null,null,1,2,0,2.5000000000000001E-2,null,0,0,0,0,0,0,null,null,0,null,0,null,null,null,null,null,null,8]
["z",null,"Ø2,0х",null,null,1,2,0,2.5000000000000001E-2,null,0,0,0,0,0,0,null,null,0,null,0,null,null,null,null,null,null,9]
["z",null,"Ø2,0х",null,null,1,2,0,2.5000000000000001E-2,null,0,0,0,0,0,0,null,null,0,null,0,null,null,null,null,null,null,10]
["z",null,"Ø2,0х",null,null,1,2,0,2.5000000000000001E-2,null,0,0,0,0,0,0,null,null,0,null,0,null,null,null,null,null,null,11]
["z",null,"Ø2,0х",null,null,1,2,0,2.5000000000000001E-2,null,0,0,0,0,0,0,null,null,0,null,0,null,null,null,null,null,null,12]
[{"$f":"IF(O22=0,\"z\",\" \")","v":"z"},null,"Ø2,0х",null,null,1,2,0,2.5000000000000001E-2,null,0,0,0,0,0,0,null,null,0,null,0,null,null,null,null,null,null,13]
["z",null,"Ø2,0х",null,null,1,2,0,2.5000000000000001E-2,null,0,0,0,0,0,0,null,null,0,null,0,null,null,null,null,null,null,14]
[{"$f":"IF(O24=0,\"z\",\" \")","v":"z"},null,"Ø2,0х",null,null,1,2,0,2.5000000000000001E-2,null,0,0,0,0,0,0,null,null,0,null,0,null,null,null,null,null,null,15]
["z",null,"Ø2,0х",null,null,1,2,0,2.5000000000000001E-2,null,0,0,0,0,0,0,null,null,0,null,0,null,null,null,null,null,null,16]
["z",null,"Ø2,0х",null,null,1,2,0,2.5000000000000001E-2,null,0,0,0,0,0,0,null,null,0,null,0,null,null,null,null,null,null,17]
["z",null,"Ø2,0х",null,null,1,2,0,2.5000000000000001E-2,null,0,0,0,0,0,0,null,null,0,null,0,null,null,null,null,null,null,18]
["z",null,"Ø2,0х",null,null,1,2,0,2.5000000000000001E-2,null,0,0,0,0,0,0,null,null,0,null,0,null,null,null,null,null,null,19]
["z",null,"Ø2,0х",null,null,1,2,0,2.5000000000000001E-2,null,0,0,0,0,0,0,null,null,0,null,0,null,null,null,null,null,null,20]
["z",null,"Ø2,0х",null,null,1,2,0,2.5000000000000001E-2,null,0,0,0,0,0,0,null,null,0,null,0,null,null,null,null,null,null,21]
["z",null,"Ø2,0х",null,null,1,2,0,2.5000000000000001E-2,null,0,0,0,0,0,0,null,null,0,null,0,null,null,null,null,null,null,22]
["z",null,"Ø2,0х",null,null,1,2,0,2.5000000000000001E-2,null,0,0,0,0,0,0,null,null,0,null,0,null,null,null,null,null,null,23]
["z",null,"Ø2,0х",null,null,1,2,0,2.5000000000000001E-2,null,0,0,0,0,0,0,null,null,0,null,0,null,null,null,null,null,null,24]
["z",null,"Ø2,0х",null,null,1,2,0,2.5000000000000001E-2,null,0,0,0,0,0,0,null,null,0,null,0,null,null,null,null,null,null,25]
["z",null,"Ø2,0х",null,null,1,2,0,2.5000000000000001E-2,null,0,0,0,0,0,0,null,null,0,null,0,null,null,null,null,null,null,26]
["z",null,"Ø2,0х",null,null,1,2,0,2.5000000000000001E-2,null,0,0,0,0,0,0,null,null,0,null,0,null,null,null,null,null,null,27]
[{"$f":"IF(O37=0,\"z\",\" \")","v":"z"},null,"Ø2,0х",null,null,1,2,0,2.5000000000000001E-2,null,0,0,0,0,0,0,null,null,0,null,0,null,null,null,null,null,null,28]
["z",null,"Ø2,0х",null,null,1,2,0,2.5000000000000001E-2,null,0,0,0,0,0,0,null,null,0,null,0,null,null,null,null,null,null,29]
["z",null,"Ø2,0х",null,null,1,2,0,2.5000000000000001E-2,null,0,0,0,0,0,0,null,null,0,null,0,null,null,null,null,null,null,30]
["z",null,null,null,null,null,null,null,null,null,null,null,null,null,{"$f":"SUM(O10:O39)","v":0},{"$f":"SUM(P10:P39)","v":0},null,null,{"$f":"SUM(S10:S39)","v":0}]
[{"$f":"IF(O41=0,\"z\",\" \")","v":"z"},null,"Ø2,5х",null,null,{"$f":"$C$5","v":1},2.5,{"$f":"D41+E41","v":0},3.7499999999999999E-2,null,{"$f":"F41*J41","v":0},{"$f":"H41/162","v":0},{"$f":"J41*L41/60","v":0},{"$f":"H41*I41/1000","v":0},{"$f":"J41*N41","v":0},{"$f":"M41*F41","v":0},null,null,{"$f":"N41*K41","v":0},null,{"$f":"I41*0.01*K41","v":0},null,null,null,null,null,null,1]
["z",null,"Ø2,5х",null,null,1,2.5,{"$f":"D42+E42","v":0},3.7499999999999999E-2,null,{"$f":"F42*J42","v":0},{"$f":"H42/162","v":0},{"$f":"J42*L42/60","v":0},{"$f":"H42*I42/1000","v":0},{"$f":"J42*N42","v":0},{"$f":"M42*F42","v":0},null,null,{"$f":"N42*K42","v":0},null,{"$f":"I42*0.01*K42","v":0},null,null,null,null,null,null,2]
["z",null,"Ø2,5х",null,null,1,2.5,0,3.7499999999999999E-2,null,0,0,0,0,0,0,null,null,0,null,0,null,null,null,null,null,null,3]
["z",null,"Ø2,5х",null,null,1,2.5,0,3.7499999999999999E-2,null,0,0,0,0,0,0,null,null,0,null,0,null,null,null,null,null,null,4]
["z",null,"Ø2,5х",null,null,1,2.5,0,3.7499999999999999E-2,null,0,0,0,0,0,0,null,null,0,null,0,null,null,null,null,null,null,5]
["z",null,"Ø2,5х",null,null,1,2.5,0,3.7499999999999999E-2,null,0,0,0,0,0,0,null,null,0,null,0,null,null,null,null,null,null,6]
["z",null,"Ø2,5х",null,null,1,2.5,0,3.7499999999999999E-2,null,0,0,0,0,0,0,null,null,0,null,0,null,null,null,null,null,null,7]
["z",null,"Ø2,5х",null,null,1,2.5,0,3.7499999999999999E-2,null,0,0,0,0,0,0,null,null,0,null,0,null,null,null,null,null,null,8]
["z",null,"Ø2,5х",null,null,1,2.5,0,3.7499999999999999E-2,null,0,0,0,0,0,0,null,null,0,null,0,null,null,null,null,null,null,9]
["z",null,"Ø2,5х",null,null,1,2.5,0,3.7499999999999999E-2,null,0,0,0,0,0,0,null,null,0,null,0,null,null,null,null,null,null,10]
["z",null,"Ø2,5х",null,null,1,2.5,0,3.7499999999999999E-2,null,0,0,0,0,0,0,null,null,0,null,0,null,null,null,null,null,null,11]
["z",null,"Ø2,5х",null,null,1,2.5,0,3.7499999999999999E-2,null,0,0,0,0,0,0,null,null,0,null,0,null,null,null,null,null,null,12]
["z",null,"Ø2,5х",null,null,1,2.5,0,3.7499999999999999E-2,null,0,0,0,0,0,0,null,null,0,null,0,null,null,null,null,null,null,13]
["z",null,"Ø2,5х",null,null,1,2.5,0,3.7499999999999999E-2,null,0,0,0,0,0,0,null,null,0,null,0,null,null,null,null,null,null,14]
["z",null,"Ø2,5х",null,null,1,2.5,0,3.7499999999999999E-2,null,0,0,0,0,0,0,null,null,0,null,0,null,null,null,null,null,null,15]
["z",null,"Ø2,5х",null,null,1,2.5,0,3.7499999999999999E-2,null,0,0,0,0,0,0,null,null,0,null,0,null,null,null,null,null,null,16]
["z",null,"Ø2,5х",null,null,1,2.5,0,3.7499999999999999E-2,null,0,0,0,0,0,0,null,null,0,null,0,null,null,null,null,null,null,17]
["z",null,"Ø2,5х",null,null,1,2.5,0,3.7499999999999999E-2,null,0,0,0,0,0,0,null,null,0,null,0,null,null,null,null,null,null,18]
["z",null,"Ø2,5х",null,null,1,2.5,0,3.7499999999999999E-2,null,0,0,0,0,0,0,null,null,0,null,0,null,null,null,null,null,null,19]
["z",null,"Ø2,5х",null,null,1,2.5,0,3.7499999999999999E-2,null,0,0,0,0,0,0,null,null,0,null,0,null,null,null,null,null,null,20]
["z",null,"Ø2,5х",null,null,1,2.5,0,3.7499999999999999E-2,null,0,0,0,0,0,0,null,null,0,null,0,null,null,null,null,null,null,21]
["z",null,"Ø2,5х",null,null,1,2.5,0,3.7499999999999999E-2,null,0,0,0,0,0,0,null,null,0,null,0,null,null,null,null,null,null,22]
["z",null,"Ø2,5х",null,null,1,2.5,0,3.7499999999999999E-2,null,0,0,0,0,0,0,null,null,0,null,0,null,null,null,null,null,null,23]
["z",null,"Ø2,5х",null,null,1,2.5,0,3.7499999999999999E-2,null,0,0,0,0,0,0,null,null,0,null,0,null,null,null,null,null,null,24]
["z",null,"Ø2,5х",null,null,1,2.5,0,3.7499999999999999E-2,null,0,0,0,0,0,0,null,null,0,null,0,null,null,null,null,null,null,25]
["z",null,"Ø2,5х",null,null,1,2.5,0,3.7499999999999999E-2,null,0,0,0,0,0,0,null,null,0,null,0,null,null,null,null,null,null,26]
[{"$f":"IF(O67=0,\"z\",\" \")","v":"z"},null,"Ø2,5х",null,null,1,2.5,0,3.7499999999999999E-2,null,0,0,0,0,0,0,null,null,0,null,0,null,null,null,null,null,null,27]
["z",null,"Ø2,5х",null,null,1,2.5,0,3.7499999999999999E-2,null,0,0,0,0,0,0,null,null,0,null,0,null,null,null,null,null,null,28]
["z",null,"Ø2,5х",null,null,1,2.5,0,3.7499999999999999E-2,null,0,0,0,0,0,0,null,null,0,null,0,null,null,null,null,null,null,29]
["z",null,"Ø2,5х",null,null,1,2.5,0,3.7499999999999999E-2,null,0,0,0,0,0,0,null,null,0,null,0,null,null,null,null,null,null,30]
["z",null,null,null,null,null,null,null,null,null,null,null,null,null,{"$f":"SUM(O41:O70)","v":0},{"$f":"SUM(P41:P70)","v":0},null,null,0]
["z",null,"Ø3,0х",null,null,{"$f":"$C$5","v":1},2.9,{"$f":"D72+E72","v":0},5.1999999999999998E-2,null,{"$f":"F72*J72","v":0},{"$f":"H72/162","v":0},{"$f":"J72*L72/60","v":0},{"$f":"H72*I72/1000","v":0},{"$f":"J72*N72","v":0},{"$f":"M72*F72","v":0},null,null,{"$f":"N72*K72","v":0},null,{"$f":"I72*0.01*K72","v":0},null,null,null,null,null,null,1]
[{"$f":"IF(O73=0,\"z\",\" \")","v":"z"},null,"Ø3,0х",null,null,1,2.9,{"$f":"D73+E73","v":0},5.1999999999999998E-2,null,{"$f":"F73*J73","v":0},{"$f":"H73/162","v":0},{"$f":"J73*L73/60","v":0},{"$f":"H73*I73/1000","v":0},{"$f":"J73*N73","v":0},{"$f":"M73*F73","v":0},null,null,{"$f":"N73*K73","v":0},null,{"$f":"I73*0.01*K73","v":0},null,null,null,null,null,null,2]
["z",null,"Ø3,0х",null,null,1,2.9,0,5.1999999999999998E-2,null,0,0,0,0,0,0,null,null,0,null,0,null,null,null,null,null,null,3]
["z",null,"Ø3,0х",null,null,1,2.9,0,5.1999999999999998E-2,null,0,0,0,0,0,0,null,null,0,null,0,null,null,null,null,null,null,4]
["z",null,"Ø3,0х",null,null,1,2.9,0,5.1999999999999998E-2,null,0,0,0,0,0,0,null,null,0,null,0,null,null,null,null,null,null,5]
["z",null,"Ø3,0х",null,null,1,2.9,0,5.1999999999999998E-2,null,0,0,0,0,0,0,null,null,0,null,0,null,null,null,null,null,null,6]
["z",null,"Ø3,0х",null,null,1,2.9,0,5.1999999999999998E-2,null,0,0,0,0,0,0,null,null,0,null,0,null,null,null,null,null,null,7]
["z",null,"Ø3,0х",null,null,1,2.9,0,5.1999999999999998E-2,null,0,0,0,0,0,0,null,null,0,null,0,null,null,null,null,null,null,8]
["z",null,"Ø3,0х",null,null,1,2.9,0,5.1999999999999998E-2,null,0,0,0,0,0,0,null,null,0,null,0,null,null,null,null,null,null,9]
["z",null,"Ø3,0х",null,null,1,2.9,0,5.1999999999999998E-2,null,0,0,0,0,0,0,null,null,0,null,0,null,null,null,null,null,null,10]
["z",null,"Ø3,0х",null,null,1,2.9,0,5.1999999999999998E-2,null,0,0,0,0,0,0,null,null,0,null,0,null,null,null,null,null,null,11]
["z",null,"Ø3,0х",null,null,1,2.9,0,5.1999999999999998E-2,null,0,0,0,0,0,0,null,null,0,null,0,null,null,null,null,null,null,12]
["z",null,"Ø3,0х",null,null,1,2.9,0,5.1999999999999998E-2,null,0,0,0,0,0,0,null,null,0,null,0,null,null,null,null,null,null,13]
["z",null,"Ø3,0х",null,null,1,2.9,0,5.1999999999999998E-2,null,0,0,0,0,0,0,null,null,0,null,0,null,null,null,null,null,null,14]
["z",null,"Ø3,0х",null,null,1,2.9,0,5.1999999999999998E-2,null,0,0,0,0,0,0,null,null,0,null,0,null,null,null,null,null,null,15]
["z",null,"Ø3,0х",null,null,1,2.9,0,5.1999999999999998E-2,null,0,0,0,0,0,0,null,null,0,null,0,null,null,null,null,null,null,16]
["z",null,"Ø3,0х",null,null,1,2.9,0,5.1999999999999998E-2,null,0,0,0,0,0,0,null,null,0,null,0,null,null,null,null,null,null,17]
["z",null,"Ø3,0х",null,null,1,2.9,0,5.1999999999999998E-2,null,0,0,0,0,0,0,null,null,0,null,0,null,null,null,null,null,null,18]
["z",null,"Ø3,0х",null,null,1,2.9,0,5.1999999999999998E-2,null,0,0,0,0,0,0,null,null,0,null,0,null,null,null,null,null,null,19]
["z",null,"Ø3,0х",null,null,1,2.9,0,5.1999999999999998E-2,null,0,0,0,0,0,0,null,null,0,null,0,null,null,null,null,null,null,20]
["z",null,"Ø3,0х",null,null,1,2.9,0,5.1999999999999998E-2,null,0,0,0,0,0,0,null,null,0,null,0,null,null,null,null,null,null,21]
["z",null,"Ø3,0х",null,null,1,2.9,0,5.1999999999999998E-2,null,0,0,0,0,0,0,null,null,0,null,0,null,null,null,null,null,null,22]
["z",null,"Ø3,0х",null,null,1,2.9,0,5.1999999999999998E-2,null,0,0,0,0,0,0,null,null,0,null,0,null,null,null,null,null,null,23]
["z",null,"Ø3,0х",null,null,1,2.9,0,5.1999999999999998E-2,null,0,0,0,0,0,0,null,null,0,null,0,null,null,null,null,null,null,24]
["z",null,"Ø3,0х",null,null,1,2.9,0,5.1999999999999998E-2,null,0,0,0,0,0,0,null,null,0,null,0,null,null,null,null,null,null,25]
["z",null,"Ø3,0х",null,null,1,2.9,0,5.1999999999999998E-2,null,0,0,0,0,0,0,null,null,0,null,0,null,null,null,null,null,null,26]
["z",null,"Ø3,0х",null,null,1,2.9,0,5.1999999999999998E-2,null,0,0,0,0,0,0,null,null,0,null,0,null,null,null,null,null,null,27]
["z",null,"Ø3,0х",null,null,1,2.9,0,5.1999999999999998E-2,null,0,0,0,0,0,0,null,null,0,null,0,null,null,null,null,null,null,28]
["z",null,"Ø3,0х",null,null,1,2.9,0,5.1999999999999998E-2,null,0,0,0,0,0,0,null,null,0,null,0,null,null,null,null,null,null,29]
["z",null,"Ø3,0х",null,null,1,2.9,0,5.1999999999999998E-2,null,0,0,0,0,0,0,null,null,0,null,0,null,null,null,null,null,null,30]
["z",null,null,null,null,null,null,null,null,null,null,null,null,null,{"$f":"SUM(O72:O101)","v":0},{"$f":"SUM(P72:P101)","v":0},null,null,{"$f":"SUM(S72:S101)","v":0}]
[{"$f":"IF(O103=0,\"z\",\" \")","v":"z"},null,"Ø3,5х",null,null,{"$f":"$C$5","v":1},3.4,{"$f":"D103+E103","v":0},7.1999999999999995E-2,null,{"$f":"F103*J103","v":0},{"$f":"H103/162","v":0},{"$f":"J103*L103/60","v":0},{"$f":"H103*I103/1000","v":0},{"$f":"J103*N103","v":0},{"$f":"M103*F103","v":0},null,null,{"$f":"N103*K103","v":0},null,{"$f":"I103*0.01*K103","v":0},null,null,null,null,null,null,1]
["z",null,"Ø3,5х",null,null,1,3.4,{"$f":"D104+E104","v":0},7.1999999999999995E-2,null,{"$f":"F104*J104","v":0},{"$f":"H104/162","v":0},{"$f":"J104*L104/60","v":0},{"$f":"H104*I104/1000","v":0},{"$f":"J104*N104","v":0},{"$f":"M104*F104","v":0},null,null,{"$f":"N104*K104","v":0},null,{"$f":"I104*0.01*K104","v":0},null,null,null,null,null,null,2]
["z",null,"Ø3,5х",null,null,1,3.4,0,7.1999999999999995E-2,null,0,0,0,0,0,0,null,null,0,null,0,null,null,null,null,null,null,3]
["z",null,"Ø3,5х",null,null,1,3.4,0,7.1999999999999995E-2,null,0,0,0,0,0,0,null,null,0,null,0,null,null,null,null,null,null,4]
["z",null,"Ø3,5х",null,null,1,3.4,0,7.1999999999999995E-2,null,0,0,0,0,0,0,null,null,0,null,0,null,null,null,null,null,null,5]
["z",null,"Ø3,5х",null,null,1,3.4,0,7.1999999999999995E-2,null,0,0,0,0,0,0,null,null,0,null,0,null,null,null,null,null,null,6]
["z",null,"Ø3,5х",null,null,1,3.4,0,7.1999999999999995E-2,null,0,0,0,0,0,0,null,null,0,null,0,null,null,null,null,null,null,7]
["z",null,"Ø3,5х",null,null,1,3.4,0,7.1999999999999995E-2,null,0,0,0,0,0,0,null,null,0,null,0,null,null,null,null,null,null,8]
["z",null,"Ø3,5х",null,null,1,3.4,0,7.1999999999999995E-2,null,0,0,0,0,0,0,null,null,0,null,0,null,null,null,null,null,null,9]
["z",null,"Ø3,5х",null,null,1,3.4,0,7.1999999999999995E-2,null,0,0,0,0,0,0,null,null,0,null,0,null,null,null,null,null,null,10]
["z",null,"Ø3,5х",null,null,1,3.4,0,7.1999999999999995E-2,null,0,0,0,0,0,0,null,null,0,null,0,null,null,null,null,null,null,11]
["z",null,"Ø3,5х",null,null,1,3.4,0,7.1999999999999995E-2,null,0,0,0,0,0,0,null,null,0,null,0,null,null,null,null,null,null,12]
["z",null,"Ø3,5х",null,null,1,3.4,0,7.1999999999999995E-2,null,0,0,0,0,0,0,null,null,0,null,0,null,null,null,null,null,null,13]
["z",null,"Ø3,5х",null,null,1,3.4,0,7.1999999999999995E-2,null,0,0,0,0,0,0,null,null,0,null,0,null,null,null,null,null,null,14]
["z",null,"Ø3,5х",null,null,1,3.4,0,7.1999999999999995E-2,null,0,0,0,0,0,0,null,null,0,null,0,null,null,null,null,null,null,15]
["z",null,"Ø3,5х",null,null,1,3.4,0,7.1999999999999995E-2,null,0,0,0,0,0,0,null,null,0,null,0,null,null,null,null,null,null,16]
["z",null,"Ø3,5х",null,null,1,3.4,0,7.1999999999999995E-2,null,0,0,0,0,0,0,null,null,0,null,0,null,null,null,null,null,null,17]
["z",null,"Ø3,5х",null,null,1,3.4,0,7.1999999999999995E-2,null,0,0,0,0,0,0,null,null,0,null,0,null,null,null,null,null,null,18]
["z",null,"Ø3,5х",null,null,1,3.4,0,7.1999999999999995E-2,null,0,0,0,0,0,0,null,null,0,null,0,null,null,null,null,null,null,19]
["z",null,"Ø3,5х",null,null,1,3.4,0,7.1999999999999995E-2,null,0,0,0,0,0,0,null,null,0,null,0,null,null,null,null,null,null,20]
["z",null,"Ø3,5х",null,null,1,3.4,0,7.1999999999999995E-2,null,0,0,0,0,0,0,null,null,0,null,0,null,null,null,null,null,null,21]
["z",null,"Ø3,5х",null,null,1,3.4,0,7.1999999999999995E-2,null,0,0,0,0,0,0,null,null,0,null,0,null,null,null,null,null,null,22]
["z",null,"Ø3,5х",null,null,1,3.4,0,7.1999999999999995E-2,null,0,0,0,0,0,0,null,null,0,null,0,null,null,null,null,null,null,23]
["z",null,"Ø3,5х",null,null,1,3.4,0,7.1999999999999995E-2,null,0,0,0,0,0,0,null,null,0,null,0,null,null,null,null,null,null,24]
["z",null,"Ø3,5х",null,null,1,3.4,0,7.1999999999999995E-2,null,0,0,0,0,0,0,null,null,0,null,0,null,null,null,null,null,null,25]
["z",null,"Ø3,5х",null,null,1,3.4,0,7.1999999999999995E-2,null,0,0,0,0,0,0,null,null,0,null,0,null,null,null,null,null,null,26]
["z",null,"Ø3,5х",null,null,1,3.4,0,7.1999999999999995E-2,null,0,0,0,0,0,0,null,null,0,null,0,null,null,null,null,null,null,27]
["z",null,"Ø3,5х",null,null,1,3.4,0,7.1999999999999995E-2,null,0,0,0,0,0,0,null,null,0,null,0,null,null,null,null,null,null,28]
["z",null,"Ø3,5х",null,null,1,3.4,0,7.1999999999999995E-2,null,0,0,0,0,0,0,null,null,0,null,0,null,null,null,null,null,null,29]
["z",null,"Ø3,5х",null,null,1,3.4,0,7.1999999999999995E-2,null,0,0,0,0,0,0,null,null,0,null,0,null,null,null,null,null,null,30]
["z",null,null,null,null,null,null,null,null,null,null,null,null,null,{"$f":"SUM(O103:O132)","v":0},{"$f":"SUM(P103:P132)","v":0},null,null,{"$f":"SUM(S103:S132)","v":0}]
[{"$f":"IF(O134=0,\"z\",\" \")","v":"z"},null,"Ø4,0х",null,null,{"$f":"$C$5","v":1},3.8,{"$f":"D134+E134","v":0},9.0999999999999998E-2,null,{"$f":"F134*J134","v":0},{"$f":"H134/162","v":0},{"$f":"J134*L134/60","v":0},{"$f":"H134*I134/1000","v":0},{"$f":"J134*N134","v":0},{"$f":"M134*F134","v":0},null,null,{"$f":"N134*K134","v":0},null,{"$f":"I134*0.01*K134","v":0},null,null,null,null,null,null,1]
["z",null,"Ø4,0х",null,null,1,3.8,{"$f":"D135+E135","v":0},9.0999999999999998E-2,null,{"$f":"F135*J135","v":0},{"$f":"H135/162","v":0},{"$f":"J135*L135/60","v":0},{"$f":"H135*I135/1000","v":0},{"$f":"J135*N135","v":0},{"$f":"M135*F135","v":0},null,null,{"$f":"N135*K135","v":0},null,{"$f":"I135*0.01*K135","v":0},null,null,null,null,null,null,2]
["z",null,"Ø4,0х",null,null,1,3.8,0,9.0999999999999998E-2,null,0,0,0,0,0,0,null,null,0,null,0,null,null,null,null,null,null,3]
["z",null,"Ø4,0х",null,null,1,3.8,0,9.0999999999999998E-2,null,0,0,0,0,0,0,null,null,0,null,0,null,null,null,null,null,null,4]
["z",null,"Ø4,0х",null,null,1,3.8,0,9.0999999999999998E-2,null,0,0,0,0,0,0,null,null,0,null,0,null,null,null,null,null,null,5]
["z",null,"Ø4,0х",null,null,1,3.8,0,9.0999999999999998E-2,null,0,0,0,0,0,0,null,null,0,null,0,null,null,null,null,null,null,6]
["z",null,"Ø4,0х",null,null,1,3.8,0,9.0999999999999998E-2,null,0,0,0,0,0,0,null,null,0,null,0,null,null,null,null,null,null,7]
["z",null,"Ø4,0х",null,null,1,3.8,0,9.0999999999999998E-2,null,0,0,0,0,0,0,null,null,0,null,0,null,null,null,null,null,null,8]
["z",null,"Ø4,0х",null,null,1,3.8,0,9.0999999999999998E-2,null,0,0,0,0,0,0,null,null,0,null,0,null,null,null,null,null,null,9]
["z",null,"Ø4,0х",null,null,1,3.8,0,9.0999999999999998E-2,null,0,0,0,0,0,0,null,null,0,null,0,null,null,null,null,null,null,10]
["z",null,"Ø4,0х",null,null,1,3.8,0,9.0999999999999998E-2,null,0,0,0,0,0,0,null,null,0,null,0,null,null,null,null,null,null,11]
["z",null,"Ø4,0х",null,null,1,3.8,0,9.0999999999999998E-2,null,0,0,0,0,0,0,null,null,0,null,0,null,null,null,null,null,null,12]
["z",null,"Ø4,0х",null,null,1,3.8,0,9.0999999999999998E-2,null,0,0,0,0,0,0,null,null,0,null,0,null,null,null,null,null,null,13]
["z",null,"Ø4,0х",null,null,1,3.8,0,9.0999999999999998E-2,null,0,0,0,0,0,0,null,null,0,null,0,null,null,null,null,null,null,14]
["z",null,"Ø4,0х",null,null,1,3.8,0,9.0999999999999998E-2,null,0,0,0,0,0,0,null,null,0,null,0,null,null,null,null,null,null,15]
["z",null,"Ø4,0х",null,null,1,3.8,0,9.0999999999999998E-2,null,0,0,0,0,0,0,null,null,0,null,0,null,null,null,null,null,null,16]
["z",null,"Ø4,0х",null,null,1,3.8,0,9.0999999999999998E-2,null,0,0,0,0,0,0,null,null,0,null,0,null,null,null,null,null,null,17]
["z",null,"Ø4,0х",null,null,1,3.8,0,9.0999999999999998E-2,null,0,0,0,0,0,0,null,null,0,null,0,null,null,null,null,null,null,18]
["z",null,"Ø4,0х",null,null,1,3.8,0,9.0999999999999998E-2,null,0,0,0,0,0,0,null,null,0,null,0,null,null,null,null,null,null,19]
["z",null,"Ø4,0х",null,null,1,3.8,0,9.0999999999999998E-2,null,0,0,0,0,0,0,null,null,0,null,0,null,null,null,null,null,null,20]
["z",null,"Ø4,0х",null,null,1,3.8,0,9.0999999999999998E-2,null,0,0,0,0,0,0,null,null,0,null,0,null,null,null,null,null,null,21]
["z",null,"Ø4,0х",null,null,1,3.8,0,9.0999999999999998E-2,null,0,0,0,0,0,0,null,null,0,null,0,null,null,null,null,null,null,22]
["z",null,"Ø4,0х",null,null,1,3.8,0,9.0999999999999998E-2,null,0,0,0,0,0,0,null,null,0,null,0,null,null,null,null,null,null,23]
["z",null,"Ø4,0х",null,null,1,3.8,0,9.0999999999999998E-2,null,0,0,0,0,0,0,null,null,0,null,0,null,null,null,null,null,null,24]
["z",null,"Ø4,0х",null,null,1,3.8,0,9.0999999999999998E-2,null,0,0,0,0,0,0,null,null,0,null,0,null,null,null,null,null,null,25]
["z",null,"Ø4,0х",null,null,1,3.8,0,9.0999999999999998E-2,null,0,0,0,0,0,0,null,null,0,null,0,null,null,null,null,null,null,26]
["z",null,"Ø4,0х",null,null,1,3.8,0,9.0999999999999998E-2,null,0,0,0,0,0,0,null,null,0,null,0,null,null,null,null,null,null,27]
["z",null,"Ø4,0х",null,null,1,3.8,0,9.0999999999999998E-2,null,0,0,0,0,0,0,null,null,0,null,0,null,null,null,null,null,null,28]
["z",null,"Ø4,0х",null,null,1,3.8,0,9.0999999999999998E-2,null,0,0,0,0,0,0,null,null,0,null,0,null,null,null,null,null,null,29]
["z",null,"Ø4,0х",null,null,1,3.8,0,9.0999999999999998E-2,null,0,0,0,0,0,0,null,null,0,null,0,null,null,null,null,null,null,30]
["z",null,null,null,null,null,null,null,null,null,null,null,null,null,{"$f":"SUM(O134:O163)","v":0},{"$f":"SUM(P134:P163)","v":0},null,null,{"$f":"SUM(S134:S163)","v":0}]
["z",null,"Ø5,0х",null,null,{"$f":"$C$5","v":1},4.8,{"$f":"D165+E165","v":0},0.14199999999999999,null,{"$f":"F165*J165","v":0},{"$f":"H165/162","v":0},{"$f":"J165*L165/60","v":0},{"$f":"H165*I165/1000","v":0},{"$f":"J165*N165","v":0},{"$f":"M165*F165","v":0},null,null,{"$f":"N165*K165","v":0},null,{"$f":"I165*0.01*K165","v":0},null,null,null,null,null,null,1]
[{"$f":"IF(O166=0,\"z\",\" \")","v":"z"},null,"Ø5,0х",null,null,1,4.8,{"$f":"D166+E166","v":0},0.14199999999999999,null,{"$f":"F166*J166","v":0},{"$f":"H166/162","v":0},{"$f":"J166*L166/60","v":0},{"$f":"H166*I166/1000","v":0},{"$f":"J166*N166","v":0},{"$f":"M166*F166","v":0},null,null,{"$f":"N166*K166","v":0},null,{"$f":"I166*0.01*K166","v":0},null,null,null,null,null,null,2]
["z",null,"Ø5,0х",null,null,1,4.8,0,0.14199999999999999,null,0,0,0,0,0,0,null,null,0,null,0,null,null,null,null,null,null,3]
["z",null,"Ø5,0х",null,null,1,4.8,0,0.14199999999999999,null,0,0,0,0,0,0,null,null,0,null,0,null,null,null,null,null,null,4]
["z",null,"Ø5,0х",null,null,1,4.8,0,0.14199999999999999,null,0,0,0,0,0,0,null,null,0,null,0,null,null,null,null,null,null,5]
["z",null,"Ø5,0х",null,null,1,4.8,0,0.14199999999999999,null,0,0,0,0,0,0,null,null,0,null,0,null,null,null,null,null,null,6]
["z",null,"Ø5,0х",null,null,1,4.8,0,0.14199999999999999,null,0,0,0,0,0,0,null,null,0,null,0,null,null,null,null,null,null,7]
["z",null,"Ø5,0х",null,null,1,4.8,0,0.14199999999999999,null,0,0,0,0,0,0,null,null,0,null,0,null,null,null,null,null,null,8]
["z",null,"Ø5,0х",null,null,1,4.8,0,0.14199999999999999,null,0,0,0,0,0,0,null,null,0,null,0,null,null,null,null,null,null,9]
["z",null,"Ø5,0х",null,null,1,4.8,0,0.14199999999999999,null,0,0,0,0,0,0,null,null,0,null,0,null,null,null,null,null,null,10]
["z",null,"Ø5,0х",null,null,1,4.8,0,0.14199999999999999,null,0,0,0,0,0,0,null,null,0,null,0,null,null,null,null,null,null,11]
["z",null,"Ø5,0х",null,null,1,4.8,0,0.14199999999999999,null,0,0,0,0,0,0,null,null,0,null,0,null,null,null,null,null,null,12]
["z",null,"Ø5,0х",null,null,1,4.8,0,0.14199999999999999,null,0,0,0,0,0,0,null,null,0,null,0,null,null,null,null,null,null,13]
["z",null,"Ø5,0х",null,null,1,4.8,0,0.14199999999999999,null,0,0,0,0,0,0,null,null,0,null,0,null,null,null,null,null,null,14]
["z",null,"Ø5,0х",null,null,1,4.8,0,0.14199999999999999,null,0,0,0,0,0,0,null,null,0,null,0,null,null,null,null,null,null,15]
["z",null,"Ø5,0х",null,null,1,4.8,0,0.14199999999999999,null,0,0,0,0,0,0,null,null,0,null,0,null,null,null,null,null,null,16]
["z",null,"Ø5,0х",null,null,1,4.8,0,0.14199999999999999,null,0,0,0,0,0,0,null,null,0,null,0,null,null,null,null,null,null,17]
["z",null,"Ø5,0х",null,null,1,4.8,0,0.14199999999999999,null,0,0,0,0,0,0,null,null,0,null,0,null,null,null,null,null,null,18]
["z",null,"Ø5,0х",null,null,1,4.8,0,0.14199999999999999,null,0,0,0,0,0,0,null,null,0,null,0,null,null,null,null,null,null,19]
["z",null,"Ø5,0х",null,null,1,4.8,0,0.14199999999999999,null,0,0,0,0,0,0,null,null,0,null,0,null,null,null,null,null,null,20]
["z",null,"Ø5,0х",null,null,1,4.8,0,0.14199999999999999,null,0,0,0,0,0,0,null,null,0,null,0,null,null,null,null,null,null,21]
["z",null,"Ø5,0х",null,null,1,4.8,0,0.14199999999999999,null,0,0,0,0,0,0,null,null,0,null,0,null,null,null,null,null,null,22]
["z",null,"Ø5,0х",null,null,1,4.8,0,0.14199999999999999,null,0,0,0,0,0,0,null,null,0,null,0,null,null,null,null,null,null,23]
["z",null,"Ø5,0х",null,null,1,4.8,0,0.14199999999999999,null,0,0,0,0,0,0,null,null,0,null,0,null,null,null,null,null,null,24]
["z",null,"Ø5,0х",null,null,1,4.8,0,0.14199999999999999,null,0,0,0,0,0,0,null,null,0,null,0,null,null,null,null,null,null,25]
["z",null,"Ø5,0х",null,null,1,4.8,0,0.14199999999999999,null,0,0,0,0,0,0,null,null,0,null,0,null,null,null,null,null,null,26]
["z",null,"Ø5,0х",null,null,1,4.8,0,0.14199999999999999,null,0,0,0,0,0,0,null,null,0,null,0,null,null,null,null,null,null,27]
["z",null,"Ø5,0х",null,null,1,4.8,0,0.14199999999999999,null,0,0,0,0,0,0,null,null,0,null,0,null,null,null,null,null,null,28]
["z",null,"Ø5,0х",null,null,1,4.8,0,0.14199999999999999,null,0,0,0,0,0,0,null,null,0,null,0,null,null,null,null,null,null,29]
["z",null,"Ø5,0х",null,null,1,4.8,0,0.14199999999999999,null,0,0,0,0,0,0,null,null,0,null,0,null,null,null,null,null,null,30]
["z",null,null,null,null,null,null,null,null,null,null,null,null,null,{"$f":"SUM(O165:O194)","v":0},{"$f":"SUM(P165:P194)","v":0},null,null,{"$f":"SUM(S165:S194)","v":0}]
[{"$f":"IF(O196=0,\"z\",\" \")","v":"z"},null,"Ø6,0х",null,null,{"$f":"$C$5","v":1},6,{"$f":"D196+E196","v":0},0.222,null,{"$f":"F196*J196","v":0},{"$f":"H196/162","v":0},{"$f":"J196*L196/60","v":0},{"$f":"H196*I196/1000","v":0},{"$f":"J196*N196","v":0},{"$f":"M196*F196","v":0},null,null,{"$f":"N196*K196","v":0},null,{"$f":"I196*0.01*K196","v":0},null,null,null,null,null,null,1]
["z",null,"Ø6,0х",null,null,1,6,{"$f":"D197+E197","v":0},0.222,null,{"$f":"F197*J197","v":0},{"$f":"H197/162","v":0},{"$f":"J197*L197/60","v":0},{"$f":"H197*I197/1000","v":0},{"$f":"J197*N197","v":0},{"$f":"M197*F197","v":0},null,null,{"$f":"N197*K197","v":0},null,{"$f":"I197*0.01*K197","v":0},null,null,null,null,null,null,2]
["z",null,"Ø6,0х",null,null,1,6,0,0.222,null,0,0,0,0,0,0,null,null,0,null,0,null,null,null,null,null,null,3]
["z",null,"Ø6,0х",null,null,1,6,0,0.222,null,0,0,0,0,0,0,null,null,0,null,0,null,null,null,null,null,null,4]
["z",null,"Ø6,0х",null,null,1,6,0,0.222,null,0,0,0,0,0,0,null,null,0,null,0,null,null,null,null,null,null,5]
["z",null,"Ø6,0х",null,null,1,6,0,0.222,null,0,0,0,0,0,0,null,null,0,null,0,null,null,null,null,null,null,6]
["z",null,"Ø6,0х",null,null,1,6,0,0.222,null,0,0,0,0,0,0,null,null,0,null,0,null,null,null,null,null,null,7]
["z",null,"Ø6,0х",null,null,1,6,0,0.222,null,0,0,0,0,0,0,null,null,0,null,0,null,null,null,null,null,null,8]
["z",null,"Ø6,0х",null,null,1,6,0,0.222,null,0,0,0,0,0,0,null,null,0,null,0,null,null,null,null,null,null,9]
["z",null,"Ø6,0х",null,null,1,6,0,0.222,null,0,0,0,0,0,0,null,null,0,null,0,null,null,null,null,null,null,10]
["z",null,"Ø6,0х",null,null,1,6,0,0.222,null,0,0,0,0,0,0,null,null,0,null,0,null,null,null,null,null,null,11]
["z",null,"Ø6,0х",null,null,1,6,0,0.222,null,0,0,0,0,0,0,null,null,0,null,0,null,null,null,null,null,null,12]
["z",null,"Ø6,0х",null,null,1,6,0,0.222,null,0,0,0,0,0,0,null,null,0,null,0,null,null,null,null,null,null,13]
["z",null,"Ø6,0х",null,null,1,6,0,0.222,null,0,0,0,0,0,0,null,null,0,null,0,null,null,null,null,null,null,14]
["z",null,"Ø6,0х",null,null,1,6,0,0.222,null,0,0,0,0,0,0,null,null,0,null,0,null,null,null,null,null,null,15]
["z",null,"Ø6,0х",null,null,1,6,0,0.222,null,0,0,0,0,0,0,null,null,0,null,0,null,null,null,null,null,null,16]
["z",null,"Ø6,0х",null,null,1,6,0,0.222,null,0,0,0,0,0,0,null,null,0,null,0,null,null,null,null,null,null,17]
["z",null,"Ø6,0х",null,null,1,6,0,0.222,null,0,0,0,0,0,0,null,null,0,null,0,null,null,null,null,null,null,18]
["z",null,"Ø6,0х",null,null,1,6,0,0.222,null,0,0,0,0,0,0,null,null,0,null,0,null,null,null,null,null,null,19]
["z",null,"Ø6,0х",null,null,1,6,0,0.222,null,0,0,0,0,0,0,null,null,0,null,0,null,null,null,null,null,null,20]
["z",null,"Ø6,0х",null,null,1,6,0,0.222,null,0,0,0,0,0,0,null,null,0,null,0,null,null,null,null,null,null,21]
["z",null,"Ø6,0х",null,null,1,6,0,0.222,null,0,0,0,0,0,0,null,null,0,null,0,null,null,null,null,null,null,22]
["z",null,"Ø6,0х",null,null,1,6,0,0.222,null,0,0,0,0,0,0,null,null,0,null,0,null,null,null,null,null,null,23]
["z",null,"Ø6,0х",null,null,1,6,0,0.222,null,0,0,0,0,0,0,null,null,0,null,0,null,null,null,null,null,null,24]
["z",null,"Ø6,0х",null,null,1,6,0,0.222,null,0,0,0,0,0,0,null,null,0,null,0,null,null,null,null,null,null,25]
["z",null,"Ø6,0х",null,null,1,6,0,0.222,null,0,0,0,0,0,0,null,null,0,null,0,null,null,null,null,null,null,26]
["z",null,"Ø6,0х",null,null,1,6,0,0.222,null,0,0,0,0,0,0,null,null,0,null,0,null,null,null,null,null,null,27]
["z",null,"Ø6,0х",null,null,1,6,0,0.222,null,0,0,0,0,0,0,null,null,0,null,0,null,null,null,null,null,null,28]
["z",null,"Ø6,0х",null,null,1,6,0,0.222,null,0,0,0,0,0,0,null,null,0,null,0,null,null,null,null,null,null,29]
["z",null,"Ø6,0х",null,null,1,6,0,0.222,null,0,0,0,0,0,0,null,null,0,null,0,null,null,null,null,null,null,30]
[{"$f":"IF(O226=0,\"z\",\" \")","v":"z"},null,null,null,null,null,null,null,null,null,null,null,null,null,{"$f":"SUM(O196:O225)","v":0},{"$f":"SUM(P196:P225)","v":0},null,null,{"$f":"SUM(S196:S225)","v":0}]
[{"$f":"IF(O227=0,\"z\",\" \")","v":"z"},null,"Ø8,0х",null,null,{"$f":"$C$5","v":1},8,{"$f":"D227+E227","v":0},0.38800000000000001,null,{"$f":"F227*J227","v":0},{"$f":"H227/162","v":0},{"$f":"J227*L227/60","v":0},{"$f":"H227*I227/1000","v":0},{"$f":"J227*N227","v":0},{"$f":"M227*F227","v":0},null,null,{"$f":"N227*K227","v":0},null,{"$f":"I227*0.01*K227","v":0},null,null,null,null,null,null,1]
["z",null,"Ø8,0х",null,null,1,8,{"$f":"D228+E228","v":0},0.38800000000000001,null,{"$f":"F228*J228","v":0},{"$f":"H228/162","v":0},{"$f":"J228*L228/60","v":0},{"$f":"H228*I228/1000","v":0},{"$f":"J228*N228","v":0},{"$f":"M228*F228","v":0},null,null,{"$f":"N228*K228","v":0},null,{"$f":"I228*0.01*K228","v":0},null,null,null,null,null,null,2]
["z",null,"Ø8,0х",null,null,1,8,0,0.38800000000000001,null,0,0,0,0,0,0,null,null,0,null,0,null,null,null,null,null,null,3]
["z",null,"Ø8,0х",null,null,1,8,0,0.38800000000000001,null,0,0,0,0,0,0,null,null,0,null,0,null,null,null,null,null,null,4]
["z",null,"Ø8,0х",null,null,1,8,0,0.38800000000000001,null,0,0,0,0,0,0,null,null,0,null,0,null,null,null,null,null,null,5]
["z",null,"Ø8,0х",null,null,1,8,0,0.38800000000000001,null,0,0,0,0,0,0,null,null,0,null,0,null,null,null,null,null,null,6]
["z",null,"Ø8,0х",null,null,1,8,0,0.38800000000000001,null,0,0,0,0,0,0,null,null,0,null,0,null,null,null,null,null,null,7]
["z",null,"Ø8,0х",null,null,1,8,0,0.38800000000000001,null,0,0,0,0,0,0,null,null,0,null,0,null,null,null,null,null,null,8]
["z",null,"Ø8,0х",null,null,1,8,0,0.38800000000000001,null,0,0,0,0,0,0,null,null,0,null,0,null,null,null,null,null,null,9]
["z",null,"Ø8,0х",null,null,1,8,0,0.38800000000000001,null,0,0,0,0,0,0,null,null,0,null,0,null,null,null,null,null,null,10]
["z",null,"Ø8,0х",null,null,1,8,0,0.38800000000000001,null,0,0,0,0,0,0,null,null,0,null,0,null,null,null,null,null,null,11]
["z",null,"Ø8,0х",null,null,1,8,0,0.38800000000000001,null,0,0,0,0,0,0,null,null,0,null,0,null,null,null,null,null,null,12]
["z",null,"Ø8,0х",null,null,1,8,0,0.38800000000000001,null,0,0,0,0,0,0,null,null,0,null,0,null,null,null,null,null,null,13]
["z",null,"Ø8,0х",null,null,1,8,0,0.38800000000000001,null,0,0,0,0,0,0,null,null,0,null,0,null,null,null,null,null,null,14]
[{"$f":"IF(O241=0,\"z\",\" \")","v":"z"},null,"Ø8,0х",null,null,1,8,0,0.38800000000000001,null,0,0,0,0,0,0,null,null,0,null,0,null,null,null,null,null,null,15]
["z",null,"Ø8,0х",null,null,1,8,0,0.38800000000000001,null,0,0,0,0,0,0,null,null,0,null,0,null,null,null,null,null,null,16]
["z",null,"Ø8,0х",null,null,1,8,0,0.38800000000000001,null,0,0,0,0,0,0,null,null,0,null,0,null,null,null,null,null,null,17]
["z",null,"Ø8,0х",null,null,1,8,0,0.38800000000000001,null,0,0,0,0,0,0,null,null,0,null,0,null,null,null,null,null,null,18]
["z",null,"Ø8,0х",null,null,1,8,0,0.38800000000000001,null,0,0,0,0,0,0,null,null,0,null,0,null,null,null,null,null,null,19]
["z",null,"Ø8,0х",null,null,1,8,0,0.38800000000000001,null,0,0,0,0,0,0,null,null,0,null,0,null,null,null,null,null,null,20]
["z",null,"Ø8,0х",null,null,1,8,0,0.38800000000000001,null,0,0,0,0,0,0,null,null,0,null,0,null,null,null,null,null,null,21]
["z",null,"Ø8,0х",null,null,1,8,0,0.38800000000000001,null,0,0,0,0,0,0,null,null,0,null,0,null,null,null,null,null,null,22]
["z",null,"Ø8,0х",null,null,1,8,0,0.38800000000000001,null,0,0,0,0,0,0,null,null,0,null,0,null,null,null,null,null,null,23]
["z",null,"Ø8,0х",null,null,1,8,0,0.38800000000000001,null,0,0,0,0,0,0,null,null,0,null,0,null,null,null,null,null,null,24]
["z",null,"Ø8,0х",null,null,1,8,0,0.38800000000000001,null,0,0,0,0,0,0,null,null,0,null,0,null,null,null,null,null,null,25]
["z",null,"Ø8,0х",null,null,1,8,0,0.38800000000000001,null,0,0,0,0,0,0,null,null,0,null,0,null,null,null,null,null,null,26]
["z",null,"Ø8,0х",null,null,1,8,0,0.38800000000000001,null,0,0,0,0,0,0,null,null,0,null,0,null,null,null,null,null,null,27]
["z",null,"Ø8,0х",null,null,1,8,0,0.38800000000000001,null,0,0,0,0,0,0,null,null,0,null,0,null,null,null,null,null,null,28]
["z",null,"Ø8,0х",null,null,1,8,0,0.38800000000000001,null,0,0,0,0,0,0,null,null,0,null,0,null,null,null,null,null,null,29]
["z",null,"Ø8,0х",null,null,1,8,0,0.38800000000000001,null,0,0,0,0,0,0,null,null,0,null,0,null,null,null,null,null,null,30]
["z",null,null,null,null,null,null,null,null,null,null,null,null,null,{"$f":"SUM(O227:O256)","v":0},{"$f":"SUM(P227:P256)","v":0},null,null,{"$f":"SUM(S227:S256)","v":0}]
[null,null,null,null,null,null,null,null,null,null,null,null,null,null,null,null,null,null,"Всего","лома",{"$f":"SUM(U41:U256)","v":0}]
[null,null,null,null,null,null,null,null,null,null,null,null,null,null,null,null,"Суммарный общий",null,{"$f":"S71+S102+S133+S164+S195+S226+S40+S257","v":0}]
[]
[]
[null,null,"Технолог",null,null,null,null,null,null,null,null,null,null,null,"Сдал:   мастер заготовительного участка"]
[]
[null,null,"Мастер цеха",null,null,null,null,null,null,null,null,null,null,null,"Принял:   мастер проволочного участка"]
[]
[null,null,"Бухгалтер"]

{"sheet":"ЛИСТ","index":1,"n_rows":158,"n_cols":35,"rows_kept":158,"cut":false,"hidden":false,"merged":[[5,26,6,26],[59,18,59,19],[59,21,59,22],[119,15,119,17],[119,12,119,14],[119,18,119,20],[59,15,59,16],[119,22,119,24],[119,21,120,21],[119,25,120,25],[118,15,118,20],[59,12,59,13],[59,29,60,29],[59,28,60,28],[59,24,60,24],[59,23,60,23],[59,11,60,11],[59,14,60,14],[59,17,60,17],[59,20,60,20],[2,14,2,15],[116,1,116,9],[119,2,119,3],[2,7,2,9],[59,7,60,7],[59,8,60,8],[59,9,60,9],[59,6,60,6],[59,1,60,1],[59,2,60,2],[59,3,60,3],[59,4,60,4],[59,5,60,5],[3,3,3,13]]}
["z",null,null,null,null,null,null,null,null,null,"z","z",null,null,null,null,null,null,null,null,null,null,null,null,null,null,"z","z","z","z","z","z","z","z","z"]
[null,null,null,null,null,"            Приложение № 1 к ЛЗК ___"]
[null,null,null,null,null,null,null,{"$f":"CONCATENATE(\"НЕ СОВПАДЕНИЕ  \",ROUND(L6-L7,3),\" кг\")","v":"НЕ СОВПАДЕНИЕ  0 кг"},null,null,null,null,null,null,{"$f":"TODAY()","v":"2023-08-05"}]
[null,null,null,{"$f":"ПРОВОЛОКА!M4","v":0}]
[null,null,null,null,null,null,null,{"$f":"CONCATENATE(\"Изделие из: \",IF(ПРОВОЛОКА!S259>0,\"ПРОВОЛОКА, \",\"\"),IF(ЛИСТ!L7>0,\"ЛИСТ, \",\"\"),IF(ТРУБА!M7>0,\"ТРУБА, \",\"\"),IF(ПВХ!L9>0,\"ПВХ \",\"\"))","v":"Изделие из: "},null,null,null,null,null,null,"по картам",null,null,null,null,null,null,null,"Сумма"]
[null,null,null,null,null,"План ",null,{"$f":"ПРОВОЛОКА!C5","v":1},"шт",null,null,{"$f":"SUM(Таблица3[Столбец25])","v":0},null,null,"кол-во","сумма",null,null,null,null,null,null,{"$f":"SUM(W8:W57)","v":0},null,null,null,"разница\nмассы \n(рас-фак)"]
[null,"№\nп/п","Длина ","Ширина","Кол-во\nна\nизделие","Вращение детали\n1 - да\n0 - нет","S тол-на","материал","Наименование детали","Кол-во на план","ГОСТ",{"$f":"SUM(L8:L57)","v":0},"Площадь\nфакт\nм2","Площадь \nрасч\nм2",null,{"$f":"SUM(P8:P57)","v":0},"коэф\nмассы","толщина\n(запятая)","номерация",null,"Длина\nреза\nмм","Кол-во \nна \nплан","Угар/\nплан/\nдетали"," общая \nдлина \nреза/м/п"]
[{"$f":"IF(E8=0,\"z\",\"\")","v":"z"},{"$f":"IF(E8=0,\"\",S8)","v":""},null,null,null,1,{"$f":"IF(K8=\"\",\"\",VLOOKUP(K8,Таблица3[[#All],[Столбец9]:[точка]],24,0))","v":""},{"$f":"IF(K8=\"\",\"\",VLOOKUP(K8,Таблица3[[#All],[Столбец9]:[точка]],21,0))","v":""},null,{"$f":"$H$6*E8","v":0},null,{"$f":"IFERROR(IF(M8=0,N8*J8*R8*Q8,M8*J8*R8*Q8),\"\")","v":""},null,{"$f":"C8*D8/1000000","v":0},0,{"$f":"O8*N8","v":0},{"$f":"IFERROR(VLOOKUP(K8,Таблица3[[#All],[Столбец9]:[Столбец30]],23,0),\"0\")","v":"0"},{"$f":"IF(K8=\"\",\"\",VLOOKUP(K8,Таблица3[[#All],[Столбец9]:[точка]],3,0))","v":""},{"$f":"IF(J8=0,0,1)","v":0},null,{"$f":"(C8+D8)*2","v":0},{"$f":"U8*J8/1000","v":0},{"$f":"IF(R8=\"\",\"\",X8*0.15*R8*Q8/1000)","v":""},{"$f":"U8*V8/1000","v":0},null,null,{"$f":"IF(M8=0,0,(N8-M8)*J8*R8*Q8)","v":0}]
[{"$f":"IF(E9=0,\"z\",\"\")","v":"z"},"",null,null,null,1,{"$f":"IF(K9=\"\",\"\",VLOOKUP(K9,Таблица3[[#All],[Столбец9]:[точка]],24,0))","v":""},{"$f":"IF(K9=\"\",\"\",VLOOKUP(K9,Таблица3[[#All],[Столбец9]:[точка]],21,0))","v":""},null,{"$f":"$H$6*E9","v":0},null,{"$f":"IFERROR(IF(M9=0,N9*J9*R9*Q9,M9*J9*R9*Q9),\"\")","v":""},null,{"$f":"C9*D9/1000000","v":0},0,{"$f":"IF(M9=0,O9*N9,M9)","v":0},{"$f":"IFERROR(VLOOKUP(K9,Таблица3[[#All],[Столбец9]:[Столбец30]],23,0),\"0\")","v":"0"},{"$f":"IF(K9=\"\",\"\",VLOOKUP(K9,Таблица3[[#All],[Столбец9]:[точка]],3,0))","v":""},{"$f":"IF(J9=0,S8,S8+1)","v":0},null,{"$f":"(C9+D9)*2","v":0},{"$f":"U9*J9/1000","v":0},"",{"$f":"U9*V9/1000","v":0},null,null,{"$f":"IF(M9=0,0,(N9-M9)*J9*R9*Q9)","v":0}]
["z","",null,null,null,1,{"$f":"IF(K10=\"\",\"\",VLOOKUP(K10,Таблица3[[#All],[Столбец9]:[точка]],24,0))","v":""},{"$f":"IF(K10=\"\",\"\",VLOOKUP(K10,Таблица3[[#All],[Столбец9]:[точка]],21,0))","v":""},null,0,null,"",null,{"$f":"C10*D10/1000000","v":0},0,{"$f":"IF(M10=0,O10*N10,M10)","v":0},{"$f":"IFERROR(VLOOKUP(K10,Таблица3[[#All],[Столбец9]:[Столбец30]],23,0),\"0\")","v":"0"},{"$f":"IF(K10=\"\",\"\",VLOOKUP(K10,Таблица3[[#All],[Столбец9]:[точка]],3,0))","v":""},{"$f":"IF(J10=0,S9,S9+1)","v":0},null,{"$f":"(C10+D10)*2","v":0},{"$f":"U10*J10/1000","v":0},{"$f":"IF(R10=\"\",\"\",X10*0.15*R10*Q10/1000)","v":""},{"$f":"U10*V10/1000","v":0},null,null,0]
[{"$f":"IF(E11=0,\"z\",\"\")","v":"z"},{"$f":"IF(E11=0,\"\",S11)","v":""},null,null,null,1,{"$f":"IF(K11=\"\",\"\",VLOOKUP(K11,Таблица3[[#All],[Столбец9]:[точка]],24,0))","v":""},{"$f":"IF(K11=\"\",\"\",VLOOKUP(K11,Таблица3[[#All],[Столбец9]:[точка]],21,0))","v":""},null,{"$f":"$H$6*E11","v":0},null,{"$f":"IFERROR(IF(M11=0,N11*J11*R11*Q11,M11*J11*R11*Q11),\"\")","v":""},null,{"$f":"C11*D11/1000000","v":0},0,{"$f":"IF(M11=0,O11*N11,M11)","v":0},{"$f":"IFERROR(VLOOKUP(K11,Таблица3[[#All],[Столбец9]:[Столбец30]],23,0),\"0\")","v":"0"},{"$f":"IF(K11=\"\",\"\",VLOOKUP(K11,Таблица3[[#All],[Столбец9]:[точка]],3,0))","v":""},{"$f":"IF(J11=0,S10,S10+1)","v":0},null,{"$f":"(C11+D11)*2","v":0},{"$f":"U11*J11/1000","v":0},{"$f":"IF(R11=\"\",\"\",X11*0.15*R11*Q11/1000)","v":""},{"$f":"U11*V11/1000","v":0},null,null,{"$f":"IF(M11=0,0,(N11-M11)*J11*R11*Q11)","v":0}]
["z","",null,null,null,1,{"$f":"IF(K12=\"\",\"\",VLOOKUP(K12,Таблица3[[#All],[Столбец9]:[точка]],24,0))","v":""},{"$f":"IF(K12=\"\",\"\",VLOOKUP(K12,Таблица3[[#All],[Столбец9]:[точка]],21,0))","v":""},null,0,null,"",null,0,0,0,{"$f":"IFERROR(VLOOKUP(K12,Таблица3[[#All],[Столбец9]:[Столбец30]],23,0),\"0\")","v":"0"},{"$f":"IF(K12=\"\",\"\",VLOOKUP(K12,Таблица3[[#All],[Столбец9]:[точка]],3,0))","v":""},0,null,0,0,"",0,null,null,0]
["z","",null,null,null,1,{"$f":"IF(K13=\"\",\"\",VLOOKUP(K13,Таблица3[[#All],[Столбец9]:[точка]],24,0))","v":""},{"$f":"IF(K13=\"\",\"\",VLOOKUP(K13,Таблица3[[#All],[Столбец9]:[точка]],21,0))","v":""},null,0,null,"",null,0,0,0,{"$f":"IFERROR(VLOOKUP(K13,Таблица3[[#All],[Столбец9]:[Столбец30]],23,0),\"0\")","v":"0"},{"$f":"IF(K13=\"\",\"\",VLOOKUP(K13,Таблица3[[#All],[Столбец9]:[точка]],3,0))","v":""},0,null,0,0,"",0,null,null,0]
["z","",null,null,null,1,{"$f":"IF(K14=\"\",\"\",VLOOKUP(K14,Таблица3[[#All],[Столбец9]:[точка]],24,0))","v":""},{"$f":"IF(K14=\"\",\"\",VLOOKUP(K14,Таблица3[[#All],[Столбец9]:[точка]],21,0))","v":""},null,0,null,"",null,0,0,0,{"$f":"IFERROR(VLOOKUP(K14,Таблица3[[#All],[Столбец9]:[Столбец30]],23,0),\"0\")","v":"0"},{"$f":"IF(K14=\"\",\"\",VLOOKUP(K14,Таблица3[[#All],[Столбец9]:[точка]],3,0))","v":""},0,null,0,0,"",0,null,null,0]
["z","",null,null,null,1,{"$f":"IF(K15=\"\",\"\",VLOOKUP(K15,Таблица3[[#All],[Столбец9]:[точка]],24,0))","v":""},{"$f":"IF(K15=\"\",\"\",VLOOKUP(K15,Таблица3[[#All],[Столбец9]:[точка]],21,0))","v":""},null,0,null,"",null,0,0,0,{"$f":"IFERROR(VLOOKUP(K15,Таблица3[[#All],[Столбец9]:[Столбец30]],23,0),\"0\")","v":"0"},{"$f":"IF(K15=\"\",\"\",VLOOKUP(K15,Таблица3[[#All],[Столбец9]:[точка]],3,0))","v":""},0,null,0,0,"",0,null,null,0]
["z","",null,null,null,1,{"$f":"IF(K16=\"\",\"\",VLOOKUP(K16,Таблица3[[#All],[Столбец9]:[точка]],24,0))","v":""},{"$f":"IF(K16=\"\",\"\",VLOOKUP(K16,Таблица3[[#All],[Столбец9]:[точка]],21,0))","v":""},null,0,null,"",null,0,0,0,{"$f":"IFERROR(VLOOKUP(K16,Таблица3[[#All],[Столбец9]:[Столбец30]],23,0),\"0\")","v":"0"},{"$f":"IF(K16=\"\",\"\",VLOOKUP(K16,Таблица3[[#All],[Столбец9]:[точка]],3,0))","v":""},0,null,0,0,"",0,null,null,0]
["z","",null,null,null,1,{"$f":"IF(K17=\"\",\"\",VLOOKUP(K17,Таблица3[[#All],[Столбец9]:[точка]],24,0))","v":""},{"$f":"IF(K17=\"\",\"\",VLOOKUP(K17,Таблица3[[#All],[Столбец9]:[точка]],21,0))","v":""},null,0,null,"",null,0,0,0,{"$f":"IFERROR(VLOOKUP(K17,Таблица3[[#All],[Столбец9]:[Столбец30]],23,0),\"0\")","v":"0"},{"$f":"IF(K17=\"\",\"\",VLOOKUP(K17,Таблица3[[#All],[Столбец9]:[точка]],3,0))","v":""},0,null,0,0,"",0,null,null,0]
["z","",null,null,null,1,{"$f":"IF(K18=\"\",\"\",VLOOKUP(K18,Таблица3[[#All],[Столбец9]:[точка]],24,0))","v":""},{"$f":"IF(K18=\"\",\"\",VLOOKUP(K18,Таблица3[[#All],[Столбец9]:[точка]],21,0))","v":""},null,0,null,"",null,0,0,0,{"$f":"IFERROR(VLOOKUP(K18,Таблица3[[#All],[Столбец9]:[Столбец30]],23,0),\"0\")","v":"0"},{"$f":"IF(K18=\"\",\"\",VLOOKUP(K18,Таблица3[[#All],[Столбец9]:[точка]],3,0))","v":""},0,null,0,0,"",0,null,null,0]
["z","",null,null,null,1,{"$f":"IF(K19=\"\",\"\",VLOOKUP(K19,Таблица3[[#All],[Столбец9]:[точка]],24,0))","v":""},{"$f":"IF(K19=\"\",\"\",VLOOKUP(K19,Таблица3[[#All],[Столбец9]:[точка]],21,0))","v":""},null,0,null,"",null,0,0,0,{"$f":"IFERROR(VLOOKUP(K19,Таблица3[[#All],[Столбец9]:[Столбец30]],23,0),\"0\")","v":"0"},{"$f":"IF(K19=\"\",\"\",VLOOKUP(K19,Таблица3[[#All],[Столбец9]:[точка]],3,0))","v":""},0,null,0,0,"",0,null,null,0]
[{"$f":"IF(E20=0,\"z\",\"\")","v":"z"},{"$f":"IF(E20=0,\"\",S20)","v":""},null,null,null,1,{"$f":"IF(K20=\"\",\"\",VLOOKUP(K20,Таблица3[[#All],[Столбец9]:[точка]],24,0))","v":""},{"$f":"IF(K20=\"\",\"\",VLOOKUP(K20,Таблица3[[#All],[Столбец9]:[точка]],21,0))","v":""},null,{"$f":"$H$6*E20","v":0},null,{"$f":"IFERROR(IF(M20=0,N20*J20*R20*Q20,M20*J20*R20*Q20),\"\")","v":""},null,{"$f":"C20*D20/1000000","v":0},0,{"$f":"IF(M20=0,O20*N20,M20)","v":0},{"$f":"IFERROR(VLOOKUP(K20,Таблица3[[#All],[Столбец9]:[Столбец30]],23,0),\"0\")","v":"0"},{"$f":"IF(K20=\"\",\"\",VLOOKUP(K20,Таблица3[[#All],[Столбец9]:[точка]],3,0))","v":""},0,null,{"$f":"(C20+D20)*2","v":0},{"$f":"U20*J20/1000","v":0},{"$f":"IF(R20=\"\",\"\",X20*0.15*R20*Q20/1000)","v":""},{"$f":"U20*V20/1000","v":0},null,null,{"$f":"IF(M20=0,0,(N20-M20)*J20*R20*Q20)","v":0}]
["z","",null,null,null,1,{"$f":"IF(K21=\"\",\"\",VLOOKUP(K21,Таблица3[[#All],[Столбец9]:[точка]],24,0))","v":""},{"$f":"IF(K21=\"\",\"\",VLOOKUP(K21,Таблица3[[#All],[Столбец9]:[точка]],21,0))","v":""},null,0,null,"",null,0,0,0,{"$f":"IFERROR(VLOOKUP(K21,Таблица3[[#All],[Столбец9]:[Столбец30]],23,0),\"0\")","v":"0"},{"$f":"IF(K21=\"\",\"\",VLOOKUP(K21,Таблица3[[#All],[Столбец9]:[точка]],3,0))","v":""},0,null,0,0,"",0,null,null,0]
["z","",null,null,null,1,{"$f":"IF(K22=\"\",\"\",VLOOKUP(K22,Таблица3[[#All],[Столбец9]:[точка]],24,0))","v":""},{"$f":"IF(K22=\"\",\"\",VLOOKUP(K22,Таблица3[[#All],[Столбец9]:[точка]],21,0))","v":""},null,0,null,"",null,0,0,0,{"$f":"IFERROR(VLOOKUP(K22,Таблица3[[#All],[Столбец9]:[Столбец30]],23,0),\"0\")","v":"0"},{"$f":"IF(K22=\"\",\"\",VLOOKUP(K22,Таблица3[[#All],[Столбец9]:[точка]],3,0))","v":""},0,null,0,0,"",0,null,null,0]
["z","",null,null,null,1,{"$f":"IF(K23=\"\",\"\",VLOOKUP(K23,Таблица3[[#All],[Столбец9]:[точка]],24,0))","v":""},{"$f":"IF(K23=\"\",\"\",VLOOKUP(K23,Таблица3[[#All],[Столбец9]:[точка]],21,0))","v":""},null,0,null,"",null,0,0,0,{"$f":"IFERROR(VLOOKUP(K23,Таблица3[[#All],[Столбец9]:[Столбец30]],23,0),\"0\")","v":"0"},{"$f":"IF(K23=\"\",\"\",VLOOKUP(K23,Таблица3[[#All],[Столбец9]:[точка]],3,0))","v":""},0,null,0,0,"",0,null,null,0]
["z","",null,null,null,1,{"$f":"IF(K24=\"\",\"\",VLOOKUP(K24,Таблица3[[#All],[Столбец9]:[точка]],24,0))","v":""},{"$f":"IF(K24=\"\",\"\",VLOOKUP(K24,Таблица3[[#All],[Столбец9]:[точка]],21,0))","v":""},null,0,null,"",null,0,0,0,{"$f":"IFERROR(VLOOKUP(K24,Таблица3[[#All],[Столбец9]:[Столбец30]],23,0),\"0\")","v":"0"},{"$f":"IF(K24=\"\",\"\",VLOOKUP(K24,Таблица3[[#All],[Столбец9]:[точка]],3,0))","v":""},0,null,0,0,"",0,null,null,0]
["z","",null,null,null,1,{"$f":"IF(K25=\"\",\"\",VLOOKUP(K25,Таблица3[[#All],[Столбец9]:[точка]],24,0))","v":""},{"$f":"IF(K25=\"\",\"\",VLOOKUP(K25,Таблица3[[#All],[Столбец9]:[точка]],21,0))","v":""},null,0,null,"",null,0,0,0,{"$f":"IFERROR(VLOOKUP(K25,Таблица3[[#All],[Столбец9]:[Столбец30]],23,0),\"0\")","v":"0"},{"$f":"IF(K25=\"\",\"\",VLOOKUP(K25,Таблица3[[#All],[Столбец9]:[точка]],3,0))","v":""},0,null,0,0,"",0,null,null,0]
["z","",null,null,null,1,{"$f":"IF(K26=\"\",\"\",VLOOKUP(K26,Таблица3[[#All],[Столбец9]:[точка]],24,0))","v":""},{"$f":"IF(K26=\"\",\"\",VLOOKUP(K26,Таблица3[[#All],[Столбец9]:[точка]],21,0))","v":""},null,0,null,"",null,0,0,0,{"$f":"IFERROR(VLOOKUP(K26,Таблица3[[#All],[Столбец9]:[Столбец30]],23,0),\"0\")","v":"0"},{"$f":"IF(K26=\"\",\"\",VLOOKUP(K26,Таблица3[[#All],[Столбец9]:[точка]],3,0))","v":""},0,null,0,0,"",0,null,null,0]
["z","",null,null,null,1,{"$f":"IF(K27=\"\",\"\",VLOOKUP(K27,Таблица3[[#All],[Столбец9]:[точка]],24,0))","v":""},{"$f":"IF(K27=\"\",\"\",VLOOKUP(K27,Таблица3[[#All],[Столбец9]:[точка]],21,0))","v":""},null,0,null,"",null,0,0,0,{"$f":"IFERROR(VLOOKUP(K27,Таблица3[[#All],[Столбец9]:[Столбец30]],23,0),\"0\")","v":"0"},{"$f":"IF(K27=\"\",\"\",VLOOKUP(K27,Таблица3[[#All],[Столбец9]:[точка]],3,0))","v":""},0,null,0,0,"",0,null,null,0]
["z","",null,null,null,1,{"$f":"IF(K28=\"\",\"\",VLOOKUP(K28,Таблица3[[#All],[Столбец9]:[точка]],24,0))","v":""},{"$f":"IF(K28=\"\",\"\",VLOOKUP(K28,Таблица3[[#All],[Столбец9]:[точка]],21,0))","v":""},null,0,null,"",null,0,0,0,{"$f":"IFERROR(VLOOKUP(K28,Таблица3[[#All],[Столбец9]:[Столбец30]],23,0),\"0\")","v":"0"},{"$f":"IF(K28=\"\",\"\",VLOOKUP(K28,Таблица3[[#All],[Столбец9]:[точка]],3,0))","v":""},0,null,0,0,"",0,null,null,0]
["z","",null,null,null,1,{"$f":"IF(K29=\"\",\"\",VLOOKUP(K29,Таблица3[[#All],[Столбец9]:[точка]],24,0))","v":""},{"$f":"IF(K29=\"\",\"\",VLOOKUP(K29,Таблица3[[#All],[Столбец9]:[точка]],21,0))","v":""},null,0,null,"",null,0,0,0,{"$f":"IFERROR(VLOOKUP(K29,Таблица3[[#All],[Столбец9]:[Столбец30]],23,0),\"0\")","v":"0"},{"$f":"IF(K29=\"\",\"\",VLOOKUP(K29,Таблица3[[#All],[Столбец9]:[точка]],3,0))","v":""},0,null,0,0,"",0,null,null,0]
["z","",null,null,null,1,{"$f":"IF(K30=\"\",\"\",VLOOKUP(K30,Таблица3[[#All],[Столбец9]:[точка]],24,0))","v":""},{"$f":"IF(K30=\"\",\"\",VLOOKUP(K30,Таблица3[[#All],[Столбец9]:[точка]],21,0))","v":""},null,0,null,"",null,0,0,0,{"$f":"IFERROR(VLOOKUP(K30,Таблица3[[#All],[Столбец9]:[Столбец30]],23,0),\"0\")","v":"0"},{"$f":"IF(K30=\"\",\"\",VLOOKUP(K30,Таблица3[[#All],[Столбец9]:[точка]],3,0))","v":""},0,null,0,0,"",0,null,null,0]
[{"$f":"IF(E31=0,\"z\",\"\")","v":"z"},{"$f":"IF(E31=0,\"\",S31)","v":""},null,null,null,1,{"$f":"IF(K31=\"\",\"\",VLOOKUP(K31,Таблица3[[#All],[Столбец9]:[точка]],24,0))","v":""},{"$f":"IF(K31=\"\",\"\",VLOOKUP(K31,Таблица3[[#All],[Столбец9]:[точка]],21,0))","v":""},null,{"$f":"$H$6*E31","v":0},null,{"$f":"IFERROR(IF(M31=0,N31*J31*R31*Q31,M31*J31*R31*Q31),\"\")","v":""},null,{"$f":"C31*D31/1000000","v":0},0,{"$f":"IF(M31=0,O31*N31,M31)","v":0},{"$f":"IFERROR(VLOOKUP(K31,Таблица3[[#All],[Столбец9]:[Столбец30]],23,0),\"0\")","v":"0"},{"$f":"IF(K31=\"\",\"\",VLOOKUP(K31,Таблица3[[#All],[Столбец9]:[точка]],3,0))","v":""},{"$f":"IF(J31=0,S30,S30+1)","v":0},null,{"$f":"(C31+D31)*2","v":0},{"$f":"U31*J31/1000","v":0},{"$f":"IF(R31=\"\",\"\",X31*0.15*R31*Q31/1000)","v":""},{"$f":"U31*V31/1000","v":0},null,null,{"$f":"IF(M31=0,0,(N31-M31)*J31*R31*Q31)","v":0}]
["z","",null,null,null,1,{"$f":"IF(K32=\"\",\"\",VLOOKUP(K32,Таблица3[[#All],[Столбец9]:[точка]],24,0))","v":""},{"$f":"IF(K32=\"\",\"\",VLOOKUP(K32,Таблица3[[#All],[Столбец9]:[точка]],21,0))","v":""},null,0,null,"",null,0,0,0,{"$f":"IFERROR(VLOOKUP(K32,Таблица3[[#All],[Столбец9]:[Столбец30]],23,0),\"0\")","v":"0"},{"$f":"IF(K32=\"\",\"\",VLOOKUP(K32,Таблица3[[#All],[Столбец9]:[точка]],3,0))","v":""},0,null,0,0,"",0,null,null,0]
["z","",null,null,null,1,{"$f":"IF(K33=\"\",\"\",VLOOKUP(K33,Таблица3[[#All],[Столбец9]:[точка]],24,0))","v":""},{"$f":"IF(K33=\"\",\"\",VLOOKUP(K33,Таблица3[[#All],[Столбец9]:[точка]],21,0))","v":""},null,0,null,"",null,0,0,0,{"$f":"IFERROR(VLOOKUP(K33,Таблица3[[#All],[Столбец9]:[Столбец30]],23,0),\"0\")","v":"0"},{"$f":"IF(K33=\"\",\"\",VLOOKUP(K33,Таблица3[[#All],[Столбец9]:[точка]],3,0))","v":""},0,null,0,0,"",0,null,null,0]
["z","",null,null,null,1,{"$f":"IF(K34=\"\",\"\",VLOOKUP(K34,Таблица3[[#All],[Столбец9]:[точка]],24,0))","v":""},{"$f":"IF(K34=\"\",\"\",VLOOKUP(K34,Таблица3[[#All],[Столбец9]:[точка]],21,0))","v":""},null,0,null,"",null,0,0,0,{"$f":"IFERROR(VLOOKUP(K34,Таблица3[[#All],[Столбец9]:[Столбец30]],23,0),\"0\")","v":"0"},{"$f":"IF(K34=\"\",\"\",VLOOKUP(K34,Таблица3[[#All],[Столбец9]:[точка]],3,0))","v":""},0,null,0,0,"",0,null,null,0]
["z","",null,null,null,1,{"$f":"IF(K35=\"\",\"\",VLOOKUP(K35,Таблица3[[#All],[Столбец9]:[точка]],24,0))","v":""},{"$f":"IF(K35=\"\",\"\",VLOOKUP(K35,Таблица3[[#All],[Столбец9]:[точка]],21,0))","v":""},null,0,null,"",null,0,0,0,{"$f":"IFERROR(VLOOKUP(K35,Таблица3[[#All],[Столбец9]:[Столбец30]],23,0),\"0\")","v":"0"},{"$f":"IF(K35=\"\",\"\",VLOOKUP(K35,Таблица3[[#All],[Столбец9]:[точка]],3,0))","v":""},0,null,0,0,"",0,null,null,0]
["z","",null,null,null,1,{"$f":"IF(K36=\"\",\"\",VLOOKUP(K36,Таблица3[[#All],[Столбец9]:[точка]],24,0))","v":""},{"$f":"IF(K36=\"\",\"\",VLOOKUP(K36,Таблица3[[#All],[Столбец9]:[точка]],21,0))","v":""},null,0,null,"",null,0,0,0,{"$f":"IFERROR(VLOOKUP(K36,Таблица3[[#All],[Столбец9]:[Столбец30]],23,0),\"0\")","v":"0"},{"$f":"IF(K36=\"\",\"\",VLOOKUP(K36,Таблица3[[#All],[Столбец9]:[точка]],3,0))","v":""},0,null,0,0,"",0,null,null,0]
["z","",null,null,null,1,{"$f":"IF(K37=\"\",\"\",VLOOKUP(K37,Таблица3[[#All],[Столбец9]:[точка]],24,0))","v":""},{"$f":"IF(K37=\"\",\"\",VLOOKUP(K37,Таблица3[[#All],[Столбец9]:[точка]],21,0))","v":""},null,0,null,"",null,0,0,0,{"$f":"IFERROR(VLOOKUP(K37,Таблица3[[#All],[Столбец9]:[Столбец30]],23,0),\"0\")","v":"0"},{"$f":"IF(K37=\"\",\"\",VLOOKUP(K37,Таблица3[[#All],[Столбец9]:[точка]],3,0))","v":""},0,null,0,0,"",0,null,null,0]
["z","",null,null,null,1,{"$f":"IF(K38=\"\",\"\",VLOOKUP(K38,Таблица3[[#All],[Столбец9]:[точка]],24,0))","v":""},{"$f":"IF(K38=\"\",\"\",VLOOKUP(K38,Таблица3[[#All],[Столбец9]:[точка]],21,0))","v":""},null,0,null,"",null,0,0,0,{"$f":"IFERROR(VLOOKUP(K38,Таблица3[[#All],[Столбец9]:[Столбец30]],23,0),\"0\")","v":"0"},{"$f":"IF(K38=\"\",\"\",VLOOKUP(K38,Таблица3[[#All],[Столбец9]:[точка]],3,0))","v":""},0,null,0,0,"",0,null,null,0]
["z","",null,null,null,1,{"$f":"IF(K39=\"\",\"\",VLOOKUP(K39,Таблица3[[#All],[Столбец9]:[точка]],24,0))","v":""},{"$f":"IF(K39=\"\",\"\",VLOOKUP(K39,Таблица3[[#All],[Столбец9]:[точка]],21,0))","v":""},null,0,null,"",null,0,0,0,{"$f":"IFERROR(VLOOKUP(K39,Таблица3[[#All],[Столбец9]:[Столбец30]],23,0),\"0\")","v":"0"},{"$f":"IF(K39=\"\",\"\",VLOOKUP(K39,Таблица3[[#All],[Столбец9]:[точка]],3,0))","v":""},0,null,0,0,"",0,null,null,0]
["z","",null,null,null,1,{"$f":"IF(K40=\"\",\"\",VLOOKUP(K40,Таблица3[[#All],[Столбец9]:[точка]],24,0))","v":""},{"$f":"IF(K40=\"\",\"\",VLOOKUP(K40,Таблица3[[#All],[Столбец9]:[точка]],21,0))","v":""},null,0,null,"",null,0,0,0,{"$f":"IFERROR(VLOOKUP(K40,Таблица3[[#All],[Столбец9]:[Столбец30]],23,0),\"0\")","v":"0"},{"$f":"IF(K40=\"\",\"\",VLOOKUP(K40,Таблица3[[#All],[Столбец9]:[точка]],3,0))","v":""},0,null,0,0,"",0,null,null,0]
["z","",null,null,null,1,{"$f":"IF(K41=\"\",\"\",VLOOKUP(K41,Таблица3[[#All],[Столбец9]:[точка]],24,0))","v":""},{"$f":"IF(K41=\"\",\"\",VLOOKUP(K41,Таблица3[[#All],[Столбец9]:[точка]],21,0))","v":""},null,0,null,"",null,0,0,0,{"$f":"IFERROR(VLOOKUP(K41,Таблица3[[#All],[Столбец9]:[Столбец30]],23,0),\"0\")","v":"0"},{"$f":"IF(K41=\"\",\"\",VLOOKUP(K41,Таблица3[[#All],[Столбец9]:[точка]],3,0))","v":""},0,null,0,0,"",0,null,null,0]
["z","",null,null,null,1,{"$f":"IF(K42=\"\",\"\",VLOOKUP(K42,Таблица3[[#All],[Столбец9]:[точка]],24,0))","v":""},{"$f":"IF(K42=\"\",\"\",VLOOKUP(K42,Таблица3[[#All],[Столбец9]:[точка]],21,0))","v":""},null,0,null,"",null,0,0,0,{"$f":"IFERROR(VLOOKUP(K42,Таблица3[[#All],[Столбец9]:[Столбец30]],23,0),\"0\")","v":"0"},{"$f":"IF(K42=\"\",\"\",VLOOKUP(K42,Таблица3[[#All],[Столбец9]:[точка]],3,0))","v":""},0,null,0,0,"",0,null,null,0]
["z","",null,null,null,1,{"$f":"IF(K43=\"\",\"\",VLOOKUP(K43,Таблица3[[#All],[Столбец9]:[точка]],24,0))","v":""},{"$f":"IF(K43=\"\",\"\",VLOOKUP(K43,Таблица3[[#All],[Столбец9]:[точка]],21,0))","v":""},null,0,null,"",null,0,0,0,{"$f":"IFERROR(VLOOKUP(K43,Таблица3[[#All],[Столбец9]:[Столбец30]],23,0),\"0\")","v":"0"},{"$f":"IF(K43=\"\",\"\",VLOOKUP(K43,Таблица3[[#All],[Столбец9]:[точка]],3,0))","v":""},0,null,0,0,"",0,null,null,0]
["z","",null,null,null,1,{"$f":"IF(K44=\"\",\"\",VLOOKUP(K44,Таблица3[[#All],[Столбец9]:[точка]],24,0))","v":""},{"$f":"IF(K44=\"\",\"\",VLOOKUP(K44,Таблица3[[#All],[Столбец9]:[точка]],21,0))","v":""},null,0,null,"",null,0,0,0,{"$f":"IFERROR(VLOOKUP(K44,Таблица3[[#All],[Столбец9]:[Столбец30]],23,0),\"0\")","v":"0"},{"$f":"IF(K44=\"\",\"\",VLOOKUP(K44,Таблица3[[#All],[Столбец9]:[точка]],3,0))","v":""},0,null,0,0,"",0,null,null,0]
["z","",null,null,null,1,{"$f":"IF(K45=\"\",\"\",VLOOKUP(K45,Таблица3[[#All],[Столбец9]:[точка]],24,0))","v":""},{"$f":"IF(K45=\"\",\"\",VLOOKUP(K45,Таблица3[[#All],[Столбец9]:[точка]],21,0))","v":""},null,0,null,"",null,0,0,0,{"$f":"IFERROR(VLOOKUP(K45,Таблица3[[#All],[Столбец9]:[Столбец30]],23,0),\"0\")","v":"0"},{"$f":"IF(K45=\"\",\"\",VLOOKUP(K45,Таблица3[[#All],[Столбец9]:[точка]],3,0))","v":""},0,null,0,0,"",0,null,null,0]
["z","",null,null,null,1,{"$f":"IF(K46=\"\",\"\",VLOOKUP(K46,Таблица3[[#All],[Столбец9]:[точка]],24,0))","v":""},{"$f":"IF(K46=\"\",\"\",VLOOKUP(K46,Таблица3[[#All],[Столбец9]:[точка]],21,0))","v":""},null,0,null,"",null,0,0,0,{"$f":"IFERROR(VLOOKUP(K46,Таблица3[[#All],[Столбец9]:[Столбец30]],23,0),\"0\")","v":"0"},{"$f":"IF(K46=\"\",\"\",VLOOKUP(K46,Таблица3[[#All],[Столбец9]:[точка]],3,0))","v":""},0,null,0,0,"",0,null,null,0]
["z","",null,null,null,1,{"$f":"IF(K47=\"\",\"\",VLOOKUP(K47,Таблица3[[#All],[Столбец9]:[точка]],24,0))","v":""},{"$f":"IF(K47=\"\",\"\",VLOOKUP(K47,Таблица3[[#All],[Столбец9]:[точка]],21,0))","v":""},null,0,null,"",null,0,0,0,{"$f":"IFERROR(VLOOKUP(K47,Таблица3[[#All],[Столбец9]:[Столбец30]],23,0),\"0\")","v":"0"},{"$f":"IF(K47=\"\",\"\",VLOOKUP(K47,Таблица3[[#All],[Столбец9]:[точка]],3,0))","v":""},0,null,0,0,"",0,null,null,0]
["z","",null,null,null,1,{"$f":"IF(K48=\"\",\"\",VLOOKUP(K48,Таблица3[[#All],[Столбец9]:[точка]],24,0))","v":""},{"$f":"IF(K48=\"\",\"\",VLOOKUP(K48,Таблица3[[#All],[Столбец9]:[точка]],21,0))","v":""},null,0,null,"",null,0,0,0,{"$f":"IFERROR(VLOOKUP(K48,Таблица3[[#All],[Столбец9]:[Столбец30]],23,0),\"0\")","v":"0"},{"$f":"IF(K48=\"\",\"\",VLOOKUP(K48,Таблица3[[#All],[Столбец9]:[точка]],3,0))","v":""},0,null,0,0,"",0,null,null,0]
["z","",null,null,null,1,{"$f":"IF(K49=\"\",\"\",VLOOKUP(K49,Таблица3[[#All],[Столбец9]:[точка]],24,0))","v":""},{"$f":"IF(K49=\"\",\"\",VLOOKUP(K49,Таблица3[[#All],[Столбец9]:[точка]],21,0))","v":""},null,0,null,"",null,0,0,0,{"$f":"IFERROR(VLOOKUP(K49,Таблица3[[#All],[Столбец9]:[Столбец30]],23,0),\"0\")","v":"0"},{"$f":"IF(K49=\"\",\"\",VLOOKUP(K49,Таблица3[[#All],[Столбец9]:[точка]],3,0))","v":""},0,null,0,0,"",0,null,null,0]
["z","",null,null,null,1,{"$f":"IF(K50=\"\",\"\",VLOOKUP(K50,Таблица3[[#All],[Столбец9]:[точка]],24,0))","v":""},{"$f":"IF(K50=\"\",\"\",VLOOKUP(K50,Таблица3[[#All],[Столбец9]:[точка]],21,0))","v":""},null,0,null,"",null,0,0,0,{"$f":"IFERROR(VLOOKUP(K50,Таблица3[[#All],[Столбец9]:[Столбец30]],23,0),\"0\")","v":"0"},{"$f":"IF(K50=\"\",\"\",VLOOKUP(K50,Таблица3[[#All],[Столбец9]:[точка]],3,0))","v":""},0,null,0,0,"",0,null,null,0]
["z","",null,null,null,1,{"$f":"IF(K51=\"\",\"\",VLOOKUP(K51,Таблица3[[#All],[Столбец9]:[точка]],24,0))","v":""},{"$f":"IF(K51=\"\",\"\",VLOOKUP(K51,Таблица3[[#All],[Столбец9]:[точка]],21,0))","v":""},null,0,null,"",null,0,0,0,{"$f":"IFERROR(VLOOKUP(K51,Таблица3[[#All],[Столбец9]:[Столбец30]],23,0),\"0\")","v":"0"},{"$f":"IF(K51=\"\",\"\",VLOOKUP(K51,Таблица3[[#All],[Столбец9]:[точка]],3,0))","v":""},0,null,0,0,"",0,null,null,0]
["z","",null,null,null,1,{"$f":"IF(K52=\"\",\"\",VLOOKUP(K52,Таблица3[[#All],[Столбец9]:[точка]],24,0))","v":""},{"$f":"IF(K52=\"\",\"\",VLOOKUP(K52,Таблица3[[#All],[Столбец9]:[точка]],21,0))","v":""},null,0,null,"",null,0,0,0,{"$f":"IFERROR(VLOOKUP(K52,Таблица3[[#All],[Столбец9]:[Столбец30]],23,0),\"0\")","v":"0"},{"$f":"IF(K52=\"\",\"\",VLOOKUP(K52,Таблица3[[#All],[Столбец9]:[точка]],3,0))","v":""},0,null,0,0,"",0,null,null,0]
["z","",null,null,null,1,{"$f":"IF(K53=\"\",\"\",VLOOKUP(K53,Таблица3[[#All],[Столбец9]:[точка]],24,0))","v":""},{"$f":"IF(K53=\"\",\"\",VLOOKUP(K53,Таблица3[[#All],[Столбец9]:[точка]],21,0))","v":""},null,0,null,"",null,0,0,0,{"$f":"IFERROR(VLOOKUP(K53,Таблица3[[#All],[Столбец9]:[Столбец30]],23,0),\"0\")","v":"0"},{"$f":"IF(K53=\"\",\"\",VLOOKUP(K53,Таблица3[[#All],[Столбец9]:[точка]],3,0))","v":""},0,null,0,0,"",0,null,null,0]
["z","",null,null,null,1,{"$f":"IF(K54=\"\",\"\",VLOOKUP(K54,Таблица3[[#All],[Столбец9]:[точка]],24,0))","v":""},{"$f":"IF(K54=\"\",\"\",VLOOKUP(K54,Таблица3[[#All],[Столбец9]:[точка]],21,0))","v":""},null,0,null,"",null,0,0,0,{"$f":"IFERROR(VLOOKUP(K54,Таблица3[[#All],[Столбец9]:[Столбец30]],23,0),\"0\")","v":"0"},{"$f":"IF(K54=\"\",\"\",VLOOKUP(K54,Таблица3[[#All],[Столбец9]:[точка]],3,0))","v":""},0,null,0,0,"",0,null,null,0]
["z","",null,null,null,1,{"$f":"IF(K55=\"\",\"\",VLOOKUP(K55,Таблица3[[#All],[Столбец9]:[точка]],24,0))","v":""},{"$f":"IF(K55=\"\",\"\",VLOOKUP(K55,Таблица3[[#All],[Столбец9]:[точка]],21,0))","v":""},null,0,null,"",null,0,0,0,{"$f":"IFERROR(VLOOKUP(K55,Таблица3[[#All],[Столбец9]:[Столбец30]],23,0),\"0\")","v":"0"},{"$f":"IF(K55=\"\",\"\",VLOOKUP(K55,Таблица3[[#All],[Столбец9]:[точка]],3,0))","v":""},0,null,0,0,"",0,null,null,0]
["z","",null,null,null,1,{"$f":"IF(K56=\"\",\"\",VLOOKUP(K56,Таблица3[[#All],[Столбец9]:[точка]],24,0))","v":""},{"$f":"IF(K56=\"\",\"\",VLOOKUP(K56,Таблица3[[#All],[Столбец9]:[точка]],21,0))","v":""},null,0,null,"",null,0,0,0,{"$f":"IFERROR(VLOOKUP(K56,Таблица3[[#All],[Столбец9]:[Столбец30]],23,0),\"0\")","v":"0"},{"$f":"IF(K56=\"\",\"\",VLOOKUP(K56,Таблица3[[#All],[Столбец9]:[точка]],3,0))","v":""},0,null,0,0,"",0,null,null,0]
["z","",null,null,null,1,{"$f":"IF(K57=\"\",\"\",VLOOKUP(K57,Таблица3[[#All],[Столбец9]:[точка]],24,0))","v":""},{"$f":"IF(K57=\"\",\"\",VLOOKUP(K57,Таблица3[[#All],[Столбец9]:[точка]],21,0))","v":""},null,0,null,"",null,0,0,0,{"$f":"IFERROR(VLOOKUP(K57,Таблица3[[#All],[Столбец9]:[Столбец30]],23,0),\"0\")","v":"0"},{"$f":"IF(K57=\"\",\"\",VLOOKUP(K57,Таблица3[[#All],[Столбец9]:[точка]],3,0))","v":""},0,null,0,0,"",0,null,null,0]
[null,null,null,null,null,null,null,null,"Всего ",{"$f":"SUM(J8:J57)","v":0}]
[]
[null,"Карта\nраскроя\n №","Ширина, мм","Длина, мм","Толщина, мм","Марка материала","Кол-во","Площадь остатков всего, кв.м","Площадь деталей всего, кв.м","Кол-во деталей",null,"Плот-ность ","Лист / деловые остатка со склада \nкг",null,"Получил","Деловой остаток на склад \nкг",null,"Получил кладовщик","ЛОМ \nкг",null,"Получил кладовщик","Масса деталей \nкг",null,"Количество деталей","Получил",null,"Расход (кг)","ЛОМ (кг) дубль"]
[null,null,null,null,null,null,null,null,null,null,null,null,"теория","факт",null,"теория","факт",null,"теория","факт",null,"теория","факт",null,null,null,null,"теория"]
[{"$f":"IF(G62=0,\"z\",\"\")","v":"z"},null,null,null,null,null,null,null,null,null,1,{"$f":"IFERROR(VLOOKUP(F62,Таблица3[[#All],[Астра]:[Столбец30]],4,0),\"0\")","v":"0"},{"$f":"C62*D62*E62*L62*G62/1000000","v":0},null,null,{"$f":"E62*H62*L62","v":0},null,null,{"$f":"AA62-V62","v":0},null,null,{"$f":"E62*I62*L62","v":0},null,null,null,null,{"$f":"M62-P62","v":0},{"$f":"AA62-V62","v":0}]
[{"$f":"IF(G63=0,\"z\",\"\")","v":"z"},null,null,null,null,null,null,null,null,null,2,{"$f":"IFERROR(VLOOKUP(F63,Таблица3[[#All],[Астра]:[Столбец30]],4,0),\"0\")","v":"0"},{"$f":"C63*D63*E63*L63*G63/1000000","v":0},null,null,{"$f":"E63*H63*L63","v":0},null,null,0,null,null,{"$f":"E63*I63*L63","v":0},null,null,null,null,0,0]
["z",null,null,null,null,null,null,null,null,null,3,{"$f":"IFERROR(VLOOKUP(F64,Таблица3[[#All],[Астра]:[Столбец30]],4,0),\"0\")","v":"0"},0,null,null,0,null,null,0,null,null,0,null,null,null,null,0,0]
["z",null,null,null,null,null,null,null,null,null,4,{"$f":"IFERROR(VLOOKUP(F65,Таблица3[[#All],[Астра]:[Столбец30]],4,0),\"0\")","v":"0"},0,null,null,0,null,null,0,null,null,0,null,null,null,null,0,0]
[{"$f":"IF(G66=0,\"z\",\"\")","v":"z"},null,null,null,null,null,null,null,null,null,5,{"$f":"IFERROR(VLOOKUP(F66,Таблица3[[#All],[Астра]:[Столбец30]],4,0),\"0\")","v":"0"},{"$f":"C66*D66*E66*L66*G66/1000000","v":0},null,null,{"$f":"E66*H66*L66","v":0},null,null,{"$f":"AA66-V66","v":0},null,null,{"$f":"E66*I66*L66","v":0},null,null,null,null,{"$f":"M66-P66","v":0},{"$f":"AA66-V66","v":0}]
["z",null,null,null,null,null,null,null,null,null,6,{"$f":"IFERROR(VLOOKUP(F67,Таблица3[[#All],[Астра]:[Столбец30]],4,0),\"0\")","v":"0"},0,null,null,0,null,null,0,null,null,0,null,null,null,null,0,0]
["z",null,null,null,null,null,null,null,null,null,7,{"$f":"IFERROR(VLOOKUP(F68,Таблица3[[#All],[Астра]:[Столбец30]],4,0),\"0\")","v":"0"},0,null,null,0,null,null,0,null,null,0,null,null,null,null,0,0]
["z",null,null,null,null,null,null,null,null,null,8,{"$f":"IFERROR(VLOOKUP(F69,Таблица3[[#All],[Астра]:[Столбец30]],4,0),\"0\")","v":"0"},0,null,null,0,null,null,0,null,null,0,null,null,null,null,0,0]
["z",null,null,null,null,null,null,null,null,null,9,{"$f":"IFERROR(VLOOKUP(F70,Таблица3[[#All],[Астра]:[Столбец30]],4,0),\"0\")","v":"0"},0,null,null,0,null,null,0,null,null,0,null,null,null,null,0,0]
["z",null,null,null,null,null,null,null,null,null,10,{"$f":"IFERROR(VLOOKUP(F71,Таблица3[[#All],[Астра]:[Столбец30]],4,0),\"0\")","v":"0"},0,null,null,0,null,null,0,null,null,0,null,null,null,null,0,0]
["z",null,null,null,null,null,null,null,null,null,11,{"$f":"IFERROR(VLOOKUP(F72,Таблица3[[#All],[Астра]:[Столбец30]],4,0),\"0\")","v":"0"},0,null,null,0,null,null,0,null,null,0,null,null,null,null,0,0]
["z",null,null,null,null,null,null,null,null,null,12,{"$f":"IFERROR(VLOOKUP(F73,Таблица3[[#All],[Астра]:[Столбец30]],4,0),\"0\")","v":"0"},0,null,null,0,null,null,0,null,null,0,null,null,null,null,0,0]
["z",null,null,null,null,null,null,null,null,null,13,{"$f":"IFERROR(VLOOKUP(F74,Таблица3[[#All],[Астра]:[Столбец30]],4,0),\"0\")","v":"0"},0,null,null,0,null,null,0,null,null,0,null,null,null,null,0,0]
["z",null,null,null,null,null,null,null,null,null,14,{"$f":"IFERROR(VLOOKUP(F75,Таблица3[[#All],[Астра]:[Столбец30]],4,0),\"0\")","v":"0"},0,null,null,0,null,null,0,null,null,0,null,null,null,null,0,0]
["z",null,null,null,null,null,null,null,null,null,15,{"$f":"IFERROR(VLOOKUP(F76,Таблица3[[#All],[Астра]:[Столбец30]],4,0),\"0\")","v":"0"},0,null,null,0,null,null,0,null,null,0,null,null,null,null,0,0]
["z",null,null,null,null,null,null,null,null,null,16,{"$f":"IFERROR(VLOOKUP(F77,Таблица3[[#All],[Астра]:[Столбец30]],4,0),\"0\")","v":"0"},0,null,null,0,null,null,0,null,null,0,null,null,null,null,0,0]
["z",null,null,null,null,null,null,null,null,null,17,{"$f":"IFERROR(VLOOKUP(F78,Таблица3[[#All],[Астра]:[Столбец30]],4,0),\"0\")","v":"0"},0,null,null,0,null,null,0,null,null,0,null,null,null,null,0,0]
["z",null,null,null,null,null,null,null,null,null,18,{"$f":"IFERROR(VLOOKUP(F79,Таблица3[[#All],[Астра]:[Столбец30]],4,0),\"0\")","v":"0"},0,null,null,0,null,null,0,null,null,0,null,null,null,null,0,0]
["z",null,null,null,null,null,null,null,null,null,19,{"$f":"IFERROR(VLOOKUP(F80,Таблица3[[#All],[Астра]:[Столбец30]],4,0),\"0\")","v":"0"},0,null,null,0,null,null,0,null,null,0,null,null,null,null,0,0]
["z",null,null,null,null,null,null,null,null,null,20,{"$f":"IFERROR(VLOOKUP(F81,Таблица3[[#All],[Астра]:[Столбец30]],4,0),\"0\")","v":"0"},0,null,null,0,null,null,0,null,null,0,null,null,null,null,0,0]
["z",null,null,null,null,null,null,null,null,null,21,{"$f":"IFERROR(VLOOKUP(F82,Таблица3[[#All],[Астра]:[Столбец30]],4,0),\"0\")","v":"0"},0,null,null,0,null,null,0,null,null,0,null,null,null,null,0,0]
["z",null,null,null,null,null,null,null,null,null,22,{"$f":"IFERROR(VLOOKUP(F83,Таблица3[[#All],[Астра]:[Столбец30]],4,0),\"0\")","v":"0"},0,null,null,0,null,null,0,null,null,0,null,null,null,null,0,0]
["z",null,null,null,null,null,null,null,null,null,23,{"$f":"IFERROR(VLOOKUP(F84,Таблица3[[#All],[Астра]:[Столбец30]],4,0),\"0\")","v":"0"},0,null,null,0,null,null,0,null,null,0,null,null,null,null,0,0]
["z",null,null,null,null,null,null,null,null,null,24,{"$f":"IFERROR(VLOOKUP(F85,Таблица3[[#All],[Астра]:[Столбец30]],4,0),\"0\")","v":"0"},0,null,null,0,null,null,0,null,null,0,null,null,null,null,0,0]
["z",null,null,null,null,null,null,null,null,null,25,{"$f":"IFERROR(VLOOKUP(F86,Таблица3[[#All],[Астра]:[Столбец30]],4,0),\"0\")","v":"0"},0,null,null,0,null,null,0,null,null,0,null,null,null,null,0,0]
["z",null,null,null,null,null,null,null,null,null,26,{"$f":"IFERROR(VLOOKUP(F87,Таблица3[[#All],[Астра]:[Столбец30]],4,0),\"0\")","v":"0"},0,null,null,0,null,null,0,null,null,0,null,null,null,null,0,0]
["z",null,null,null,null,null,null,null,null,null,27,{"$f":"IFERROR(VLOOKUP(F88,Таблица3[[#All],[Астра]:[Столбец30]],4,0),\"0\")","v":"0"},0,null,null,0,null,null,0,null,null,0,null,null,null,null,0,0]
["z",null,null,null,null,null,null,null,null,null,28,{"$f":"IFERROR(VLOOKUP(F89,Таблица3[[#All],[Астра]:[Столбец30]],4,0),\"0\")","v":"0"},0,null,null,0,null,null,0,null,null,0,null,null,null,null,0,0]
["z",null,null,null,null,null,null,null,null,null,29,{"$f":"IFERROR(VLOOKUP(F90,Таблица3[[#All],[Астра]:[Столбец30]],4,0),\"0\")","v":"0"},0,null,null,0,null,null,0,null,null,0,null,null,null,null,0,0]
["z",null,null,null,null,null,null,null,null,null,30,{"$f":"IFERROR(VLOOKUP(F91,Таблица3[[#All],[Астра]:[Столбец30]],4,0),\"0\")","v":"0"},0,null,null,0,null,null,0,null,null,0,null,null,null,null,0,0]
["z",null,null,null,null,null,null,null,null,null,31,{"$f":"IFERROR(VLOOKUP(F92,Таблица3[[#All],[Астра]:[Столбец30]],4,0),\"0\")","v":"0"},0,null,null,0,null,null,0,null,null,0,null,null,null,null,0,0]
["z",null,null,null,null,null,null,null,null,null,32,{"$f":"IFERROR(VLOOKUP(F93,Таблица3[[#All],[Астра]:[Столбец30]],4,0),\"0\")","v":"0"},0,null,null,0,null,null,0,null,null,0,null,null,null,null,0,0]
["z",null,null,null,null,null,null,null,null,null,33,{"$f":"IFERROR(VLOOKUP(F94,Таблица3[[#All],[Астра]:[Столбец30]],4,0),\"0\")","v":"0"},0,null,null,0,null,null,0,null,null,0,null,null,null,null,0,0]
["z",null,null,null,null,null,null,null,null,null,34,{"$f":"IFERROR(VLOOKUP(F95,Таблица3[[#All],[Астра]:[Столбец30]],4,0),\"0\")","v":"0"},{"$f":"C95*D95*E95*L95*G95/1000000","v":0},null,null,{"$f":"E95*H95*L95","v":0},null,null,0,null,null,{"$f":"E95*I95*L95","v":0},null,null,null,null,0,0]
["z",null,null,null,null,null,null,null,null,null,35,{"$f":"IFERROR(VLOOKUP(F96,Таблица3[[#All],[Астра]:[Столбец30]],4,0),\"0\")","v":"0"},0,null,null,0,null,null,0,null,null,{"$f":"E96*I96*L96","v":0},null,null,null,null,0,0]
["z",null,null,null,null,null,null,null,null,null,36,{"$f":"IFERROR(VLOOKUP(F97,Таблица3[[#All],[Астра]:[Столбец30]],4,0),\"0\")","v":"0"},0,null,null,0,null,null,0,null,null,0,null,null,null,null,0,0]
["z",null,null,null,null,null,null,null,null,null,37,{"$f":"IFERROR(VLOOKUP(F98,Таблица3[[#All],[Астра]:[Столбец30]],4,0),\"0\")","v":"0"},0,null,null,0,null,null,0,null,null,0,null,null,null,null,0,0]
["z",null,null,null,null,null,null,null,null,null,38,{"$f":"IFERROR(VLOOKUP(F99,Таблица3[[#All],[Астра]:[Столбец30]],4,0),\"0\")","v":"0"},0,null,null,0,null,null,0,null,null,0,null,null,null,null,0,0]
["z",null,null,null,null,null,null,null,null,null,39,{"$f":"IFERROR(VLOOKUP(F100,Таблица3[[#All],[Астра]:[Столбец30]],4,0),\"0\")","v":"0"},0,null,null,0,null,null,0,null,null,0,null,null,null,null,0,0]
["z",null,null,null,null,null,null,null,null,null,40,{"$f":"IFERROR(VLOOKUP(F101,Таблица3[[#All],[Астра]:[Столбец30]],4,0),\"0\")","v":"0"},0,null,null,0,null,null,0,null,null,0,null,null,null,null,0,0]
["z",null,null,null,null,null,null,null,null,null,41,{"$f":"IFERROR(VLOOKUP(F102,Таблица3[[#All],[Астра]:[Столбец30]],4,0),\"0\")","v":"0"},0,null,null,0,null,null,0,null,null,0,null,null,null,null,0,0]
["z",null,null,null,null,null,null,null,null,null,42,{"$f":"IFERROR(VLOOKUP(F103,Таблица3[[#All],[Астра]:[Столбец30]],4,0),\"0\")","v":"0"},0,null,null,0,null,null,0,null,null,0,null,null,null,null,0,0]
["z",null,null,null,null,null,null,null,null,null,43,{"$f":"IFERROR(VLOOKUP(F104,Таблица3[[#All],[Астра]:[Столбец30]],4,0),\"0\")","v":"0"},0,null,null,0,null,null,0,null,null,0,null,null,null,null,0,0]
["z",null,null,null,null,null,null,null,null,null,44,{"$f":"IFERROR(VLOOKUP(F105,Таблица3[[#All],[Астра]:[Столбец30]],4,0),\"0\")","v":"0"},0,null,null,0,null,null,0,null,null,0,null,null,null,null,0,0]
["z",null,null,null,null,null,null,null,null,null,45,{"$f":"IFERROR(VLOOKUP(F106,Таблица3[[#All],[Астра]:[Столбец30]],4,0),\"0\")","v":"0"},0,null,null,0,null,null,0,null,null,0,null,null,null,null,0,0]
["z",null,null,null,null,null,null,null,null,null,46,{"$f":"IFERROR(VLOOKUP(F107,Таблица3[[#All],[Астра]:[Столбец30]],4,0),\"0\")","v":"0"},0,null,null,0,null,null,0,null,null,0,null,null,null,null,0,0]
["z",null,null,null,null,null,null,null,null,null,47,{"$f":"IFERROR(VLOOKUP(F108,Таблица3[[#All],[Астра]:[Столбец30]],4,0),\"0\")","v":"0"},0,null,null,0,null,null,0,null,null,0,null,null,null,null,0,0]
["z",null,null,null,null,null,null,null,null,null,48,{"$f":"IFERROR(VLOOKUP(F109,Таблица3[[#All],[Астра]:[Столбец30]],4,0),\"0\")","v":"0"},0,null,null,0,null,null,0,null,null,0,null,null,null,null,0,0]
["z",null,null,null,null,null,null,null,null,null,49,{"$f":"IFERROR(VLOOKUP(F110,Таблица3[[#All],[Астра]:[Столбец30]],4,0),\"0\")","v":"0"},0,null,null,0,null,null,0,null,null,0,null,null,null,null,0,0]
["z",null,null,null,null,null,null,null,null,null,50,{"$f":"IFERROR(VLOOKUP(F111,Таблица3[[#All],[Астра]:[Столбец30]],4,0),\"0\")","v":"0"},0,null,null,0,null,null,0,null,null,0,null,null,null,null,0,0]
["z",null,null,null,null,null,null,null,null,null,51,{"$f":"IFERROR(VLOOKUP(F112,Таблица3[[#All],[Астра]:[Столбец30]],4,0),\"0\")","v":"0"},0,null,null,0,null,null,0,null,null,0,null,null,null,null,0,0]
["z",null,null,null,null,null,null,null,null,null,52,{"$f":"IFERROR(VLOOKUP(F113,Таблица3[[#All],[Астра]:[Столбец30]],4,0),\"0\")","v":"0"},0,null,null,0,null,null,0,null,null,0,null,null,null,null,0,0]
["z",null,null,null,null,null,null,null,null,null,53,{"$f":"IFERROR(VLOOKUP(F114,Таблица3[[#All],[Астра]:[Столбец30]],4,0),\"0\")","v":"0"},0,null,null,0,null,null,0,null,null,0,null,null,null,null,0,0]
["z",null,null,null,null,null,null,null,null,null,54,{"$f":"IFERROR(VLOOKUP(F115,Таблица3[[#All],[Астра]:[Столбец30]],4,0),\"0\")","v":"0"},0,null,null,0,null,null,0,null,null,0,null,null,null,null,0,0]
[{"$f":"IF(G116=0,\"z\",\"\")","v":"z"},null,null,null,null,null,null,null,null,null,55,{"$f":"IFERROR(VLOOKUP(F116,Таблица3[[#All],[Астра]:[Столбец30]],4,0),\"0\")","v":"0"},0,null,null,0,null,null,0,null,null,0,null,null,null,null,0,0]
[null,"Данные раскроя АСТРА (без уточнения масс)",null,null,null,null,null,null,null,null,null,null,{"$f":"SUM(M62:M116)","v":0},null,null,{"$f":"SUM(P62:P116)","v":0},null,null,{"$f":"SUM(S62:S116)","v":0},null,null,{"$f":"SUM(V62:V116)","v":0},null,null,null,null,{"$f":"SUM(AA62:AA116)","v":0},{"$f":"SUM(AB62:AB116)","v":0}]
[]
[null,null,null,null,null,null,null,null,null,null,null,null,null,null,null,"Угар суммарный в составе лома в колличестве, кг",null,null,null,null,null,{"$f":"W6","v":0}]
[null,null,"Стандартный р-р",null,null,null,null,null,null,null,null,null,"Получить",null,null,"Остаток на склад",null,null,"ЛОМ",null,null,"Точная \nмасса\nЛОМА\nкг","Детали",null,null,"Точная \nмасса\nдеталей\nкг"]
[null,"№ п/п","Ширина\nмм","Длина\nмм","Толщина\nмм",null,"Целых \nлистов\nсо склада",null,"Название",null,null,null,"Масса \nцелых\nкг","Масса\nделовых\nкг","Общий\nкг","Деловой остаток с целых\nкг","Деловой остаок с деловых\nкг","Общий\nкг","Лом \nцелых\nкг","Лом деловых\nкг","Общий\nкг",null,"Масса деталей целых\nкг","Масса деталей деловых\nкг","Общая\nкг",null,null,"АСТРА","Для ДАНО\nАСТРА","название\nлиста\nдля Д","коэф",null,"разница \nмассы\nкг"]
["z"]
["z","Столбец2","Шир","Дл","Толщ","Ст6","Ст7","Ст8","Столбец9","Столбец22","Столбец222","Столбец23","Ст10","Ст11","Ст12","Ст13","Ст14","Ст15","Ст16","Ст17","Ст18","Столбец24","Ст19","Ст20","Ст21","Столбец25","Столбец26","Астра","Столбец28","Столбец29","Столбец30","точка","Столбец32","Столбец33","Столбец34"]
[{"$f":"IF(Таблица3[[#All],[Ст21]]=0,\"z\",\"\")","v":"z"},null,1250,2500,0.4,null,{"$f":"SUMIFS($G$62:$G$116,$D$62:$D$116,Таблица3[[#This Row],[Дл]],$C$62:$C$116,Таблица3[[#This Row],[Шир]],$F$62:$F$116,Таблица3[[#This Row],[Астра]])","v":0},null,{"$f":"CONCATENATE(Таблица3[[#This Row],[Столбец29]],\" \",Таблица3[[#This Row],[Толщ]])","v":"Лист 0,4"},null,{"$f":"Таблица3[[#This Row],[Толщ]]","v":0.4},null,{"$f":"SUMIFS($M$62:$M$116,$C$62:$C$116,Таблица3[[#This Row],[Шир]],$D$62:$D$116,Таблица3[[#This Row],[Дл]],$F$62:$F$116,Таблица3[[#This Row],[Астра]])","v":0},{"$f":"SUMIFS($M$62:$M$116,$C$62:$C$116,\"<\"&Таблица3[[#This Row],[Шир]],$D$62:$D$116,Таблица3[[#This Row],[Дл]],$F$62:$F$116,Таблица3[[#This Row],[Астра]])+SUMIFS($M$62:$M$116,$C$62:$C$116,Таблица3[[#This Row],[Шир]],$D$62:$D$116,\"<\"&Таблица3[[#This Row],[Дл]],$F$62:$F$116,Таблица3[[#This Row],[Астра]])+SUMIFS($M$62:$M$116,$C$62:$C$116,\"<\"&Таблица3[[#This Row],[Шир]],$D$62:$D$116,\"<\"&Таблица3[[#This Row],[Дл]],$F$62:$F$116,Таблица3[[#This Row],[Астра]])","v":0},{"$f":"Таблица3[[#This Row],[Ст10]]+Таблица3[[#This Row],[Ст11]]","v":0},{"$f":"SUMIFS($P$62:$P$116,$C$62:$C$116,Таблица3[[#This Row],[Шир]],$D$62:$D$116,Таблица3[[#This Row],[Дл]],$F$62:$F$116,Таблица3[[#This Row],[Астра]])","v":0},{"$f":"SUMIFS($P$62:$P$116,$C$62:$C$116,\"<\"&Таблица3[[#This Row],[Шир]],$D$62:$D$116,Таблица3[[#This Row],[Дл]],$F$62:$F$116,Таблица3[[#This Row],[Астра]])+SUMIFS($P$62:$P$116,$C$62:$C$116,Таблица3[[#This Row],[Шир]],$D$62:$D$116,\"<\"&Таблица3[[#This Row],[Дл]],$F$62:$F$116,Таблица3[[#This Row],[Астра]])+SUMIFS($P$62:$P$116,$C$62:$C$116,\"<\"&Таблица3[[#This Row],[Шир]],$D$62:$D$116,\"<\"&Таблица3[[#This Row],[Дл]],$F$62:$F$116,Таблица3[[#This Row],[Астра]])","v":0},{"$f":"Таблица3[[#This Row],[Ст13]]+Таблица3[[#This Row],[Ст14]]","v":0},{"$f":"SUMIFS($S$62:$S$116,$C$62:$C$116,Таблица3[[#This Row],[Шир]],$D$62:$D$116,Таблица3[[#This Row],[Дл]],$F$62:$F$116,Таблица3[[#This Row],[Астра]])","v":0},{"$f":"SUMIFS($S$62:$S$116,$C$62:$C$116,\"<\"&Таблица3[[#This Row],[Шир]],$D$62:$D$116,Таблица3[[#This Row],[Дл]],$F$62:$F$116,Таблица3[[#This Row],[Астра]])+SUMIFS($S$62:$S$116,$C$62:$C$116,Таблица3[[#This Row],[Шир]],$D$62:$D$116,\"<\"&Таблица3[[#This Row],[Дл]],$F$62:$F$116,Таблица3[[#This Row],[Астра]])+SUMIFS($S$62:$S$116,$C$62:$C$116,\"<\"&Таблица3[[#This Row],[Шир]],$D$62:$D$116,\"<\"&Таблица3[[#This Row],[Дл]],$F$62:$F$116,Таблица3[[#This Row],[Астра]])","v":0},{"$f":"Таблица3[[#This Row],[Ст16]]+Таблица3[[#This Row],[Ст17]]","v":0},{"$f":"Таблица3[[#This Row],[Ст18]]+Таблица3[[#This Row],[Столбец32]]","v":0},{"$f":"SUMIFS($V$62:$V$116,$C$62:$C$116,Таблица3[[#This Row],[Шир]],$D$62:$D$116,Таблица3[[#This Row],[Дл]],$F$62:$F$116,Таблица3[[#This Row],[Астра]])","v":0},{"$f":"SUMIFS($V$62:$V$116,$C$62:$C$116,\"<\"&Таблица3[[#This Row],[Шир]],$D$62:$D$116,Таблица3[[#This Row],[Дл]],$F$62:$F$116,Таблица3[[#This Row],[Астра]])+SUMIFS($V$62:$V$116,$C$62:$C$116,Таблица3[[#This Row],[Шир]],$D$62:$D$116,\"<\"&Таблица3[[#This Row],[Дл]],$F$62:$F$116,Таблица3[[#This Row],[Астра]])+SUMIFS($V$62:$V$116,$C$62:$C$116,\"<\"&Таблица3[[#This Row],[Шир]],$D$62:$D$116,\"<\"&Таблица3[[#This Row],[Дл]],$F$62:$F$116,Таблица3[[#This Row],[Астра]])","v":0},{"$f":"Таблица3[[#This Row],[Ст19]]+Таблица3[[#This Row],[Ст20]]","v":0},{"$f":"Таблица3[[#This Row],[Ст21]]-Таблица3[[#This Row],[Столбец32]]","v":0},null,"Лист лазер, 0.4 мм, лт","Лист лазер","Лист",7.8739999999999997,{"$f":"SUBSTITUTE(Таблица3[[#This Row],[Толщ]],\",\",\".\")","v":"0.4"},{"$f":"SUMIFS($AA$8:$AA$57,$K$8:$K$57,Таблица3[[#This Row],[Столбец9]])","v":0}]
[{"$f":"IF(Таблица3[[#All],[Ст21]]=0,\"z\",\"\")","v":"z"},null,1250,2500,0.6,null,{"$f":"SUMIFS($G$62:$G$116,$D$62:$D$116,Таблица3[[#This Row],[Дл]],$C$62:$C$116,Таблица3[[#This Row],[Шир]],$F$62:$F$116,Таблица3[[#This Row],[Астра]])","v":0},null,{"$f":"CONCATENATE(Таблица3[[#This Row],[Столбец29]],\" \",Таблица3[[#This Row],[Толщ]])","v":"Лист 0,6"},null,{"$f":"Таблица3[[#This Row],[Толщ]]","v":0.6},null,{"$f":"SUMIFS($M$62:$M$116,$C$62:$C$116,Таблица3[[#This Row],[Шир]],$D$62:$D$116,Таблица3[[#This Row],[Дл]],$F$62:$F$116,Таблица3[[#This Row],[Астра]])","v":0},{"$f":"SUMIFS($M$62:$M$116,$C$62:$C$116,\"<\"&Таблица3[[#This Row],[Шир]],$D$62:$D$116,Таблица3[[#This Row],[Дл]],$F$62:$F$116,Таблица3[[#This Row],[Астра]])+SUMIFS($M$62:$M$116,$C$62:$C$116,Таблица3[[#This Row],[Шир]],$D$62:$D$116,\"<\"&Таблица3[[#This Row],[Дл]],$F$62:$F$116,Таблица3[[#This Row],[Астра]])+SUMIFS($M$62:$M$116,$C$62:$C$116,\"<\"&Таблица3[[#This Row],[Шир]],$D$62:$D$116,\"<\"&Таблица3[[#This Row],[Дл]],$F$62:$F$116,Таблица3[[#This Row],[Астра]])","v":0},{"$f":"Таблица3[[#This Row],[Ст10]]+Таблица3[[#This Row],[Ст11]]","v":0},{"$f":"SUMIFS($P$62:$P$116,$C$62:$C$116,Таблица3[[#This Row],[Шир]],$D$62:$D$116,Таблица3[[#This Row],[Дл]],$F$62:$F$116,Таблица3[[#This Row],[Астра]])","v":0},{"$f":"SUMIFS($P$62:$P$116,$C$62:$C$116,\"<\"&Таблица3[[#This Row],[Шир]],$D$62:$D$116,Таблица3[[#This Row],[Дл]],$F$62:$F$116,Таблица3[[#This Row],[Астра]])+SUMIFS($P$62:$P$116,$C$62:$C$116,Таблица3[[#This Row],[Шир]],$D$62:$D$116,\"<\"&Таблица3[[#This Row],[Дл]],$F$62:$F$116,Таблица3[[#This Row],[Астра]])+SUMIFS($P$62:$P$116,$C$62:$C$116,\"<\"&Таблица3[[#This Row],[Шир]],$D$62:$D$116,\"<\"&Таблица3[[#This Row],[Дл]],$F$62:$F$116,Таблица3[[#This Row],[Астра]])","v":0},{"$f":"Таблица3[[#This Row],[Ст13]]+Таблица3[[#This Row],[Ст14]]","v":0},{"$f":"SUMIFS($S$62:$S$116,$C$62:$C$116,Таблица3[[#This Row],[Шир]],$D$62:$D$116,Таблица3[[#This Row],[Дл]],$F$62:$F$116,Таблица3[[#This Row],[Астра]])","v":0},{"$f":"SUMIFS($S$62:$S$116,$C$62:$C$116,\"<\"&Таблица3[[#This Row],[Шир]],$D$62:$D$116,Таблица3[[#This Row],[Дл]],$F$62:$F$116,Таблица3[[#This Row],[Астра]])+SUMIFS($S$62:$S$116,$C$62:$C$116,Таблица3[[#This Row],[Шир]],$D$62:$D$116,\"<\"&Таблица3[[#This Row],[Дл]],$F$62:$F$116,Таблица3[[#This Row],[Астра]])+SUMIFS($S$62:$S$116,$C$62:$C$116,\"<\"&Таблица3[[#This Row],[Шир]],$D$62:$D$116,\"<\"&Таблица3[[#This Row],[Дл]],$F$62:$F$116,Таблица3[[#This Row],[Астра]])","v":0},{"$f":"Таблица3[[#This Row],[Ст16]]+Таблица3[[#This Row],[Ст17]]","v":0},{"$f":"Таблица3[[#This Row],[Ст18]]+Таблица3[[#This Row],[Столбец32]]","v":0},{"$f":"SUMIFS($V$62:$V$116,$C$62:$C$116,Таблица3[[#This Row],[Шир]],$D$62:$D$116,Таблица3[[#This Row],[Дл]],$F$62:$F$116,Таблица3[[#This Row],[Астра]])","v":0},{"$f":"SUMIFS($V$62:$V$116,$C$62:$C$116,\"<\"&Таблица3[[#This Row],[Шир]],$D$62:$D$116,Таблица3[[#This Row],[Дл]],$F$62:$F$116,Таблица3[[#This Row],[Астра]])+SUMIFS($V$62:$V$116,$C$62:$C$116,Таблица3[[#This Row],[Шир]],$D$62:$D$116,\"<\"&Таблица3[[#This Row],[Дл]],$F$62:$F$116,Таблица3[[#This Row],[Астра]])+SUMIFS($V$62:$V$116,$C$62:$C$116,\"<\"&Таблица3[[#This Row],[Шир]],$D$62:$D$116,\"<\"&Таблица3[[#This Row],[Дл]],$F$62:$F$116,Таблица3[[#This Row],[Астра]])","v":0},{"$f":"Таблица3[[#This Row],[Ст19]]+Таблица3[[#This Row],[Ст20]]","v":0},{"$f":"Таблица3[[#This Row],[Ст21]]-Таблица3[[#This Row],[Столбец32]]","v":0},null,"Лист лазер, 0.6 мм, лт","Лист лазер","Лист",7.8739999999999997,{"$f":"SUBSTITUTE(Таблица3[[#This Row],[Толщ]],\",\",\".\")","v":"0.6"},{"$f":"SUMIFS($AA$8:$AA$57,$K$8:$K$57,Таблица3[[#This Row],[Столбец9]])","v":0}]
[{"$f":"IF(Таблица3[[#All],[Ст21]]=0,\"z\",\"\")","v":"z"},null,1250,2500,0.7,null,{"$f":"SUMIFS($G$62:$G$116,$D$62:$D$116,Таблица3[[#This Row],[Дл]],$C$62:$C$116,Таблица3[[#This Row],[Шир]],$F$62:$F$116,Таблица3[[#This Row],[Астра]])","v":0},null,{"$f":"CONCATENATE(Таблица3[[#This Row],[Столбец29]],\" \",Таблица3[[#This Row],[Толщ]])","v":"Лист 0,7"},null,{"$f":"Таблица3[[#This Row],[Толщ]]","v":0.7},null,{"$f":"SUMIFS($M$62:$M$116,$C$62:$C$116,Таблица3[[#This Row],[Шир]],$D$62:$D$116,Таблица3[[#This Row],[Дл]],$F$62:$F$116,Таблица3[[#This Row],[Астра]])","v":0},{"$f":"SUMIFS($M$62:$M$116,$C$62:$C$116,\"<\"&Таблица3[[#This Row],[Шир]],$D$62:$D$116,Таблица3[[#This Row],[Дл]],$F$62:$F$116,Таблица3[[#This Row],[Астра]])+SUMIFS($M$62:$M$116,$C$62:$C$116,Таблица3[[#This Row],[Шир]],$D$62:$D$116,\"<\"&Таблица3[[#This Row],[Дл]],$F$62:$F$116,Таблица3[[#This Row],[Астра]])+SUMIFS($M$62:$M$116,$C$62:$C$116,\"<\"&Таблица3[[#This Row],[Шир]],$D$62:$D$116,\"<\"&Таблица3[[#This Row],[Дл]],$F$62:$F$116,Таблица3[[#This Row],[Астра]])","v":0},{"$f":"Таблица3[[#This Row],[Ст10]]+Таблица3[[#This Row],[Ст11]]","v":0},{"$f":"SUMIFS($P$62:$P$116,$C$62:$C$116,Таблица3[[#This Row],[Шир]],$D$62:$D$116,Таблица3[[#This Row],[Дл]],$F$62:$F$116,Таблица3[[#This Row],[Астра]])","v":0},{"$f":"SUMIFS($P$62:$P$116,$C$62:$C$116,\"<\"&Таблица3[[#This Row],[Шир]],$D$62:$D$116,Таблица3[[#This Row],[Дл]],$F$62:$F$116,Таблица3[[#This Row],[Астра]])+SUMIFS($P$62:$P$116,$C$62:$C$116,Таблица3[[#This Row],[Шир]],$D$62:$D$116,\"<\"&Таблица3[[#This Row],[Дл]],$F$62:$F$116,Таблица3[[#This Row],[Астра]])+SUMIFS($P$62:$P$116,$C$62:$C$116,\"<\"&Таблица3[[#This Row],[Шир]],$D$62:$D$116,\"<\"&Таблица3[[#This Row],[Дл]],$F$62:$F$116,Таблица3[[#This Row],[Астра]])","v":0},{"$f":"Таблица3[[#This Row],[Ст13]]+Таблица3[[#This Row],[Ст14]]","v":0},{"$f":"SUMIFS($S$62:$S$116,$C$62:$C$116,Таблица3[[#This Row],[Шир]],$D$62:$D$116,Таблица3[[#This Row],[Дл]],$F$62:$F$116,Таблица3[[#This Row],[Астра]])","v":0},{"$f":"SUMIFS($S$62:$S$116,$C$62:$C$116,\"<\"&Таблица3[[#This Row],[Шир]],$D$62:$D$116,Таблица3[[#This Row],[Дл]],$F$62:$F$116,Таблица3[[#This Row],[Астра]])+SUMIFS($S$62:$S$116,$C$62:$C$116,Таблица3[[#This Row],[Шир]],$D$62:$D$116,\"<\"&Таблица3[[#This Row],[Дл]],$F$62:$F$116,Таблица3[[#This Row],[Астра]])+SUMIFS($S$62:$S$116,$C$62:$C$116,\"<\"&Таблица3[[#This Row],[Шир]],$D$62:$D$116,\"<\"&Таблица3[[#This Row],[Дл]],$F$62:$F$116,Таблица3[[#This Row],[Астра]])","v":0},{"$f":"Таблица3[[#This Row],[Ст16]]+Таблица3[[#This Row],[Ст17]]","v":0},{"$f":"Таблица3[[#This Row],[Ст18]]+Таблица3[[#This Row],[Столбец32]]","v":0},{"$f":"SUMIFS($V$62:$V$116,$C$62:$C$116,Таблица3[[#This Row],[Шир]],$D$62:$D$116,Таблица3[[#This Row],[Дл]],$F$62:$F$116,Таблица3[[#This Row],[Астра]])","v":0},{"$f":"SUMIFS($V$62:$V$116,$C$62:$C$116,\"<\"&Таблица3[[#This Row],[Шир]],$D$62:$D$116,Таблица3[[#This Row],[Дл]],$F$62:$F$116,Таблица3[[#This Row],[Астра]])+SUMIFS($V$62:$V$116,$C$62:$C$116,Таблица3[[#This Row],[Шир]],$D$62:$D$116,\"<\"&Таблица3[[#This Row],[Дл]],$F$62:$F$116,Таблица3[[#This Row],[Астра]])+SUMIFS($V$62:$V$116,$C$62:$C$116,\"<\"&Таблица3[[#This Row],[Шир]],$D$62:$D$116,\"<\"&Таблица3[[#This Row],[Дл]],$F$62:$F$116,Таблица3[[#This Row],[Астра]])","v":0},{"$f":"Таблица3[[#This Row],[Ст19]]+Таблица3[[#This Row],[Ст20]]","v":0},{"$f":"Таблица3[[#This Row],[Ст21]]-Таблица3[[#This Row],[Столбец32]]","v":0},null,"Лист лазер, 0.7 мм, лт","Лист лазер","Лист",7.8739999999999997,{"$f":"SUBSTITUTE(Таблица3[[#This Row],[Толщ]],\",\",\".\")","v":"0.7"},{"$f":"SUMIFS($AA$8:$AA$57,$K$8:$K$57,Таблица3[[#This Row],[Столбец9]])","v":0}]
[{"$f":"IF(Таблица3[[#All],[Ст21]]=0,\"z\",\"\")","v":"z"},null,1250,2500,0.8,null,{"$f":"SUMIFS($G$62:$G$116,$D$62:$D$116,Таблица3[[#This Row],[Дл]],$C$62:$C$116,Таблица3[[#This Row],[Шир]],$F$62:$F$116,Таблица3[[#This Row],[Астра]])","v":0},null,{"$f":"CONCATENATE(Таблица3[[#This Row],[Столбец29]],\" \",Таблица3[[#This Row],[Толщ]])","v":"Лист 0,8"},null,{"$f":"Таблица3[[#This Row],[Толщ]]","v":0.8},null,{"$f":"SUMIFS($M$62:$M$116,$C$62:$C$116,Таблица3[[#This Row],[Шир]],$D$62:$D$116,Таблица3[[#This Row],[Дл]],$F$62:$F$116,Таблица3[[#This Row],[Астра]])","v":0},{"$f":"SUMIFS($M$62:$M$116,$C$62:$C$116,\"<\"&Таблица3[[#This Row],[Шир]],$D$62:$D$116,Таблица3[[#This Row],[Дл]],$F$62:$F$116,Таблица3[[#This Row],[Астра]])+SUMIFS($M$62:$M$116,$C$62:$C$116,Таблица3[[#This Row],[Шир]],$D$62:$D$116,\"<\"&Таблица3[[#This Row],[Дл]],$F$62:$F$116,Таблица3[[#This Row],[Астра]])+SUMIFS($M$62:$M$116,$C$62:$C$116,\"<\"&Таблица3[[#This Row],[Шир]],$D$62:$D$116,\"<\"&Таблица3[[#This Row],[Дл]],$F$62:$F$116,Таблица3[[#This Row],[Астра]])","v":0},{"$f":"Таблица3[[#This Row],[Ст10]]+Таблица3[[#This Row],[Ст11]]","v":0},{"$f":"SUMIFS($P$62:$P$116,$C$62:$C$116,Таблица3[[#This Row],[Шир]],$D$62:$D$116,Таблица3[[#This Row],[Дл]],$F$62:$F$116,Таблица3[[#This Row],[Астра]])","v":0},{"$f":"SUMIFS($P$62:$P$116,$C$62:$C$116,\"<\"&Таблица3[[#This Row],[Шир]],$D$62:$D$116,Таблица3[[#This Row],[Дл]],$F$62:$F$116,Таблица3[[#This Row],[Астра]])+SUMIFS($P$62:$P$116,$C$62:$C$116,Таблица3[[#This Row],[Шир]],$D$62:$D$116,\"<\"&Таблица3[[#This Row],[Дл]],$F$62:$F$116,Таблица3[[#This Row],[Астра]])+SUMIFS($P$62:$P$116,$C$62:$C$116,\"<\"&Таблица3[[#This Row],[Шир]],$D$62:$D$116,\"<\"&Таблица3[[#This Row],[Дл]],$F$62:$F$116,Таблица3[[#This Row],[Астра]])","v":0},{"$f":"Таблица3[[#This Row],[Ст13]]+Таблица3[[#This Row],[Ст14]]","v":0},{"$f":"SUMIFS($S$62:$S$116,$C$62:$C$116,Таблица3[[#This Row],[Шир]],$D$62:$D$116,Таблица3[[#This Row],[Дл]],$F$62:$F$116,Таблица3[[#This Row],[Астра]])","v":0},{"$f":"SUMIFS($S$62:$S$116,$C$62:$C$116,\"<\"&Таблица3[[#This Row],[Шир]],$D$62:$D$116,Таблица3[[#This Row],[Дл]],$F$62:$F$116,Таблица3[[#This Row],[Астра]])+SUMIFS($S$62:$S$116,$C$62:$C$116,Таблица3[[#This Row],[Шир]],$D$62:$D$116,\"<\"&Таблица3[[#This Row],[Дл]],$F$62:$F$116,Таблица3[[#This Row],[Астра]])+SUMIFS($S$62:$S$116,$C$62:$C$116,\"<\"&Таблица3[[#This Row],[Шир]],$D$62:$D$116,\"<\"&Таблица3[[#This Row],[Дл]],$F$62:$F$116,Таблица3[[#This Row],[Астра]])","v":0},{"$f":"Таблица3[[#This Row],[Ст16]]+Таблица3[[#This Row],[Ст17]]","v":0},{"$f":"Таблица3[[#This Row],[Ст18]]+Таблица3[[#This Row],[Столбец32]]","v":0},{"$f":"SUMIFS($V$62:$V$116,$C$62:$C$116,Таблица3[[#This Row],[Шир]],$D$62:$D$116,Таблица3[[#This Row],[Дл]],$F$62:$F$116,Таблица3[[#This Row],[Астра]])","v":0},{"$f":"SUMIFS($V$62:$V$116,$C$62:$C$116,\"<\"&Таблица3[[#This Row],[Шир]],$D$62:$D$116,Таблица3[[#This Row],[Дл]],$F$62:$F$116,Таблица3[[#This Row],[Астра]])+SUMIFS($V$62:$V$116,$C$62:$C$116,Таблица3[[#This Row],[Шир]],$D$62:$D$116,\"<\"&Таблица3[[#This Row],[Дл]],$F$62:$F$116,Таблица3[[#This Row],[Астра]])+SUMIFS($V$62:$V$116,$C$62:$C$116,\"<\"&Таблица3[[#This Row],[Шир]],$D$62:$D$116,\"<\"&Таблица3[[#This Row],[Дл]],$F$62:$F$116,Таблица3[[#This Row],[Астра]])","v":0},{"$f":"Таблица3[[#This Row],[Ст19]]+Таблица3[[#This Row],[Ст20]]","v":0},{"$f":"Таблица3[[#This Row],[Ст21]]-Таблица3[[#This Row],[Столбец32]]","v":0},null,"Лист лазер, 0.8 мм, лт","Лист лазер","Лист",7.8739999999999997,{"$f":"SUBSTITUTE(Таблица3[[#This Row],[Толщ]],\",\",\".\")","v":"0.8"},{"$f":"SUMIFS($AA$8:$AA$57,$K$8:$K$57,Таблица3[[#This Row],[Столбец9]])","v":0}]
[{"$f":"IF(Таблица3[[#All],[Ст21]]=0,\"z\",\"\")","v":"z"},null,1250,2500,1,null,{"$f":"SUMIFS($G$62:$G$116,$D$62:$D$116,Таблица3[[#This Row],[Дл]],$C$62:$C$116,Таблица3[[#This Row],[Шир]],$F$62:$F$116,Таблица3[[#This Row],[Астра]])","v":0},null,{"$f":"CONCATENATE(Таблица3[[#This Row],[Столбец29]],\" \",Таблица3[[#This Row],[Толщ]])","v":"Лист 1"},null,{"$f":"Таблица3[[#This Row],[Толщ]]","v":1},null,{"$f":"SUMIFS($M$62:$M$116,$C$62:$C$116,Таблица3[[#This Row],[Шир]],$D$62:$D$116,Таблица3[[#This Row],[Дл]],$F$62:$F$116,Таблица3[[#This Row],[Астра]])","v":0},{"$f":"SUMIFS($M$62:$M$116,$C$62:$C$116,\"<\"&Таблица3[[#This Row],[Шир]],$D$62:$D$116,Таблица3[[#This Row],[Дл]],$F$62:$F$116,Таблица3[[#This Row],[Астра]])+SUMIFS($M$62:$M$116,$C$62:$C$116,Таблица3[[#This Row],[Шир]],$D$62:$D$116,\"<\"&Таблица3[[#This Row],[Дл]],$F$62:$F$116,Таблица3[[#This Row],[Астра]])+SUMIFS($M$62:$M$116,$C$62:$C$116,\"<\"&Таблица3[[#This Row],[Шир]],$D$62:$D$116,\"<\"&Таблица3[[#This Row],[Дл]],$F$62:$F$116,Таблица3[[#This Row],[Астра]])","v":0},{"$f":"Таблица3[[#This Row],[Ст10]]+Таблица3[[#This Row],[Ст11]]","v":0},{"$f":"SUMIFS($P$62:$P$116,$C$62:$C$116,Таблица3[[#This Row],[Шир]],$D$62:$D$116,Таблица3[[#This Row],[Дл]],$F$62:$F$116,Таблица3[[#This Row],[Астра]])","v":0},{"$f":"SUMIFS($P$62:$P$116,$C$62:$C$116,\"<\"&Таблица3[[#This Row],[Шир]],$D$62:$D$116,Таблица3[[#This Row],[Дл]],$F$62:$F$116,Таблица3[[#This Row],[Астра]])+SUMIFS($P$62:$P$116,$C$62:$C$116,Таблица3[[#This Row],[Шир]],$D$62:$D$116,\"<\"&Таблица3[[#This Row],[Дл]],$F$62:$F$116,Таблица3[[#This Row],[Астра]])+SUMIFS($P$62:$P$116,$C$62:$C$116,\"<\"&Таблица3[[#This Row],[Шир]],$D$62:$D$116,\"<\"&Таблица3[[#This Row],[Дл]],$F$62:$F$116,Таблица3[[#This Row],[Астра]])","v":0},{"$f":"Таблица3[[#This Row],[Ст13]]+Таблица3[[#This Row],[Ст14]]","v":0},{"$f":"SUMIFS($S$62:$S$116,$C$62:$C$116,Таблица3[[#This Row],[Шир]],$D$62:$D$116,Таблица3[[#This Row],[Дл]],$F$62:$F$116,Таблица3[[#This Row],[Астра]])","v":0},{"$f":"SUMIFS($S$62:$S$116,$C$62:$C$116,\"<\"&Таблица3[[#This Row],[Шир]],$D$62:$D$116,Таблица3[[#This Row],[Дл]],$F$62:$F$116,Таблица3[[#This Row],[Астра]])+SUMIFS($S$62:$S$116,$C$62:$C$116,Таблица3[[#This Row],[Шир]],$D$62:$D$116,\"<\"&Таблица3[[#This Row],[Дл]],$F$62:$F$116,Таблица3[[#This Row],[Астра]])+SUMIFS($S$62:$S$116,$C$62:$C$116,\"<\"&Таблица3[[#This Row],[Шир]],$D$62:$D$116,\"<\"&Таблица3[[#This Row],[Дл]],$F$62:$F$116,Таблица3[[#This Row],[Астра]])","v":0},{"$f":"Таблица3[[#This Row],[Ст16]]+Таблица3[[#This Row],[Ст17]]","v":0},{"$f":"Таблица3[[#This Row],[Ст18]]+Таблица3[[#This Row],[Столбец32]]","v":0},{"$f":"SUMIFS($V$62:$V$116,$C$62:$C$116,Таблица3[[#This Row],[Шир]],$D$62:$D$116,Таблица3[[#This Row],[Дл]],$F$62:$F$116,Таблица3[[#This Row],[Астра]])","v":0},{"$f":"SUMIFS($V$62:$V$116,$C$62:$C$116,\"<\"&Таблица3[[#This Row],[Шир]],$D$62:$D$116,Таблица3[[#This Row],[Дл]],$F$62:$F$116,Таблица3[[#This Row],[Астра]])+SUMIFS($V$62:$V$116,$C$62:$C$116,Таблица3[[#This Row],[Шир]],$D$62:$D$116,\"<\"&Таблица3[[#This Row],[Дл]],$F$62:$F$116,Таблица3[[#This Row],[Астра]])+SUMIFS($V$62:$V$116,$C$62:$C$116,\"<\"&Таблица3[[#This Row],[Шир]],$D$62:$D$116,\"<\"&Таблица3[[#This Row],[Дл]],$F$62:$F$116,Таблица3[[#This Row],[Астра]])","v":0},{"$f":"Таблица3[[#This Row],[Ст19]]+Таблица3[[#This Row],[Ст20]]","v":0},{"$f":"Таблица3[[#This Row],[Ст21]]-Таблица3[[#This Row],[Столбец32]]","v":0},null,"Лист лазер, 1.0 мм, лт","Лист лазер","Лист",7.8739999999999997,{"$f":"SUBSTITUTE(Таблица3[[#This Row],[Толщ]],\",\",\".\")","v":"1"},{"$f":"SUMIFS($AA$8:$AA$57,$K$8:$K$57,Таблица3[[#This Row],[Столбец9]])","v":0}]
[{"$f":"IF(Таблица3[[#All],[Ст21]]=0,\"z\",\"\")","v":"z"},null,1250,2500,1.2,null,{"$f":"SUMIFS($G$62:$G$116,$D$62:$D$116,Таблица3[[#This Row],[Дл]],$C$62:$C$116,Таблица3[[#This Row],[Шир]],$F$62:$F$116,Таблица3[[#This Row],[Астра]])","v":0},null,{"$f":"CONCATENATE(Таблица3[[#This Row],[Столбец29]],\" \",Таблица3[[#This Row],[Толщ]])","v":"Лист 1,2"},null,{"$f":"Таблица3[[#This Row],[Толщ]]","v":1.2},null,{"$f":"SUMIFS($M$62:$M$116,$C$62:$C$116,Таблица3[[#This Row],[Шир]],$D$62:$D$116,Таблица3[[#This Row],[Дл]],$F$62:$F$116,Таблица3[[#This Row],[Астра]])","v":0},{"$f":"SUMIFS($M$62:$M$116,$C$62:$C$116,\"<\"&Таблица3[[#This Row],[Шир]],$D$62:$D$116,Таблица3[[#This Row],[Дл]],$F$62:$F$116,Таблица3[[#This Row],[Астра]])+SUMIFS($M$62:$M$116,$C$62:$C$116,Таблица3[[#This Row],[Шир]],$D$62:$D$116,\"<\"&Таблица3[[#This Row],[Дл]],$F$62:$F$116,Таблица3[[#This Row],[Астра]])+SUMIFS($M$62:$M$116,$C$62:$C$116,\"<\"&Таблица3[[#This Row],[Шир]],$D$62:$D$116,\"<\"&Таблица3[[#This Row],[Дл]],$F$62:$F$116,Таблица3[[#This Row],[Астра]])","v":0},{"$f":"Таблица3[[#This Row],[Ст10]]+Таблица3[[#This Row],[Ст11]]","v":0},{"$f":"SUMIFS($P$62:$P$116,$C$62:$C$116,Таблица3[[#This Row],[Шир]],$D$62:$D$116,Таблица3[[#This Row],[Дл]],$F$62:$F$116,Таблица3[[#This Row],[Астра]])","v":0},{"$f":"SUMIFS($P$62:$P$116,$C$62:$C$116,\"<\"&Таблица3[[#This Row],[Шир]],$D$62:$D$116,Таблица3[[#This Row],[Дл]],$F$62:$F$116,Таблица3[[#This Row],[Астра]])+SUMIFS($P$62:$P$116,$C$62:$C$116,Таблица3[[#This Row],[Шир]],$D$62:$D$116,\"<\"&Таблица3[[#This Row],[Дл]],$F$62:$F$116,Таблица3[[#This Row],[Астра]])+SUMIFS($P$62:$P$116,$C$62:$C$116,\"<\"&Таблица3[[#This Row],[Шир]],$D$62:$D$116,\"<\"&Таблица3[[#This Row],[Дл]],$F$62:$F$116,Таблица3[[#This Row],[Астра]])","v":0},{"$f":"Таблица3[[#This Row],[Ст13]]+Таблица3[[#This Row],[Ст14]]","v":0},{"$f":"SUMIFS($S$62:$S$116,$C$62:$C$116,Таблица3[[#This Row],[Шир]],$D$62:$D$116,Таблица3[[#This Row],[Дл]],$F$62:$F$116,Таблица3[[#This Row],[Астра]])","v":0},{"$f":"SUMIFS($S$62:$S$116,$C$62:$C$116,\"<\"&Таблица3[[#This Row],[Шир]],$D$62:$D$116,Таблица3[[#This Row],[Дл]],$F$62:$F$116,Таблица3[[#This Row],[Астра]])+SUMIFS($S$62:$S$116,$C$62:$C$116,Таблица3[[#This Row],[Шир]],$D$62:$D$116,\"<\"&Таблица3[[#This Row],[Дл]],$F$62:$F$116,Таблица3[[#This Row],[Астра]])+SUMIFS($S$62:$S$116,$C$62:$C$116,\"<\"&Таблица3[[#This Row],[Шир]],$D$62:$D$116,\"<\"&Таблица3[[#This Row],[Дл]],$F$62:$F$116,Таблица3[[#This Row],[Астра]])","v":0},{"$f":"Таблица3[[#This Row],[Ст16]]+Таблица3[[#This Row],[Ст17]]","v":0},{"$f":"Таблица3[[#This Row],[Ст18]]+Таблица3[[#This Row],[Столбец32]]","v":0},{"$f":"SUMIFS($V$62:$V$116,$C$62:$C$116,Таблица3[[#This Row],[Шир]],$D$62:$D$116,Таблица3[[#This Row],[Дл]],$F$62:$F$116,Таблица3[[#This Row],[Астра]])","v":0},{"$f":"SUMIFS($V$62:$V$116,$C$62:$C$116,\"<\"&Таблица3[[#This Row],[Шир]],$D$62:$D$116,Таблица3[[#This Row],[Дл]],$F$62:$F$116,Таблица3[[#This Row],[Астра]])+SUMIFS($V$62:$V$116,$C$62:$C$116,Таблица3[[#This Row],[Шир]],$D$62:$D$116,\"<\"&Таблица3[[#This Row],[Дл]],$F$62:$F$116,Таблица3[[#This Row],[Астра]])+SUMIFS($V$62:$V$116,$C$62:$C$116,\"<\"&Таблица3[[#This Row],[Шир]],$D$62:$D$116,\"<\"&Таблица3[[#This Row],[Дл]],$F$62:$F$116,Таблица3[[#This Row],[Астра]])","v":0},{"$f":"Таблица3[[#This Row],[Ст19]]+Таблица3[[#This Row],[Ст20]]","v":0},{"$f":"Таблица3[[#This Row],[Ст21]]-Таблица3[[#This Row],[Столбец32]]","v":0},null,"Лист лазер, 1.2 мм, лт","Лист лазер","Лист",7.8739999999999997,{"$f":"SUBSTITUTE(Таблица3[[#This Row],[Толщ]],\",\",\".\")","v":"1.2"},{"$f":"SUMIFS($AA$8:$AA$57,$K$8:$K$57,Таблица3[[#This Row],[Столбец9]])","v":0}]
[{"$f":"IF(Таблица3[[#All],[Ст21]]=0,\"z\",\"\")","v":"z"},null,1250,2500,1.5,null,{"$f":"SUMIFS($G$62:$G$116,$D$62:$D$116,Таблица3[[#This Row],[Дл]],$C$62:$C$116,Таблица3[[#This Row],[Шир]],$F$62:$F$116,Таблица3[[#This Row],[Астра]])","v":0},null,{"$f":"CONCATENATE(Таблица3[[#This Row],[Столбец29]],\" \",Таблица3[[#This Row],[Толщ]])","v":"Лист 1,5"},null,{"$f":"Таблица3[[#This Row],[Толщ]]","v":1.5},null,{"$f":"SUMIFS($M$62:$M$116,$C$62:$C$116,Таблица3[[#This Row],[Шир]],$D$62:$D$116,Таблица3[[#This Row],[Дл]],$F$62:$F$116,Таблица3[[#This Row],[Астра]])","v":0},{"$f":"SUMIFS($M$62:$M$116,$C$62:$C$116,\"<\"&Таблица3[[#This Row],[Шир]],$D$62:$D$116,Таблица3[[#This Row],[Дл]],$F$62:$F$116,Таблица3[[#This Row],[Астра]])+SUMIFS($M$62:$M$116,$C$62:$C$116,Таблица3[[#This Row],[Шир]],$D$62:$D$116,\"<\"&Таблица3[[#This Row],[Дл]],$F$62:$F$116,Таблица3[[#This Row],[Астра]])+SUMIFS($M$62:$M$116,$C$62:$C$116,\"<\"&Таблица3[[#This Row],[Шир]],$D$62:$D$116,\"<\"&Таблица3[[#This Row],[Дл]],$F$62:$F$116,Таблица3[[#This Row],[Астра]])","v":0},{"$f":"Таблица3[[#This Row],[Ст10]]+Таблица3[[#This Row],[Ст11]]","v":0},{"$f":"SUMIFS($P$62:$P$116,$C$62:$C$116,Таблица3[[#This Row],[Шир]],$D$62:$D$116,Таблица3[[#This Row],[Дл]],$F$62:$F$116,Таблица3[[#This Row],[Астра]])","v":0},{"$f":"SUMIFS($P$62:$P$116,$C$62:$C$116,\"<\"&Таблица3[[#This Row],[Шир]],$D$62:$D$116,Таблица3[[#This Row],[Дл]],$F$62:$F$116,Таблица3[[#This Row],[Астра]])+SUMIFS($P$62:$P$116,$C$62:$C$116,Таблица3[[#This Row],[Шир]],$D$62:$D$116,\"<\"&Таблица3[[#This Row],[Дл]],$F$62:$F$116,Таблица3[[#This Row],[Астра]])+SUMIFS($P$62:$P$116,$C$62:$C$116,\"<\"&Таблица3[[#This Row],[Шир]],$D$62:$D$116,\"<\"&Таблица3[[#This Row],[Дл]],$F$62:$F$116,Таблица3[[#This Row],[Астра]])","v":0},{"$f":"Таблица3[[#This Row],[Ст13]]+Таблица3[[#This Row],[Ст14]]","v":0},{"$f":"SUMIFS($S$62:$S$116,$C$62:$C$116,Таблица3[[#This Row],[Шир]],$D$62:$D$116,Таблица3[[#This Row],[Дл]],$F$62:$F$116,Таблица3[[#This Row],[Астра]])","v":0},{"$f":"SUMIFS($S$62:$S$116,$C$62:$C$116,\"<\"&Таблица3[[#This Row],[Шир]],$D$62:$D$116,Таблица3[[#This Row],[Дл]],$F$62:$F$116,Таблица3[[#This Row],[Астра]])+SUMIFS($S$62:$S$116,$C$62:$C$116,Таблица3[[#This Row],[Шир]],$D$62:$D$116,\"<\"&Таблица3[[#This Row],[Дл]],$F$62:$F$116,Таблица3[[#This Row],[Астра]])+SUMIFS($S$62:$S$116,$C$62:$C$116,\"<\"&Таблица3[[#This Row],[Шир]],$D$62:$D$116,\"<\"&Таблица3[[#This Row],[Дл]],$F$62:$F$116,Таблица3[[#This Row],[Астра]])","v":0},{"$f":"Таблица3[[#This Row],[Ст16]]+Таблица3[[#This Row],[Ст17]]","v":0},{"$f":"Таблица3[[#This Row],[Ст18]]+Таблица3[[#This Row],[Столбец32]]","v":0},{"$f":"SUMIFS($V$62:$V$116,$C$62:$C$116,Таблица3[[#This Row],[Шир]],$D$62:$D$116,Таблица3[[#This Row],[Дл]],$F$62:$F$116,Таблица3[[#This Row],[Астра]])","v":0},{"$f":"SUMIFS($V$62:$V$116,$C$62:$C$116,\"<\"&Таблица3[[#This Row],[Шир]],$D$62:$D$116,Таблица3[[#This Row],[Дл]],$F$62:$F$116,Таблица3[[#This Row],[Астра]])+SUMIFS($V$62:$V$116,$C$62:$C$116,Таблица3[[#This Row],[Шир]],$D$62:$D$116,\"<\"&Таблица3[[#This Row],[Дл]],$F$62:$F$116,Таблица3[[#This Row],[Астра]])+SUMIFS($V$62:$V$116,$C$62:$C$116,\"<\"&Таблица3[[#This Row],[Шир]],$D$62:$D$116,\"<\"&Таблица3[[#This Row],[Дл]],$F$62:$F$116,Таблица3[[#This Row],[Астра]])","v":0},{"$f":"Таблица3[[#This Row],[Ст19]]+Таблица3[[#This Row],[Ст20]]","v":0},{"$f":"Таблица3[[#This Row],[Ст21]]-Таблица3[[#This Row],[Столбец32]]","v":0},null,"Лист лазер, 1.5 мм, лт","Лист лазер","Лист",7.8739999999999997,{"$f":"SUBSTITUTE(Таблица3[[#This Row],[Толщ]],\",\",\".\")","v":"1.5"},{"$f":"SUMIFS($AA$8:$AA$57,$K$8:$K$57,Таблица3[[#This Row],[Столбец9]])","v":0}]
[{"$f":"IF(Таблица3[[#All],[Ст21]]=0,\"z\",\"\")","v":"z"},null,1250,2500,2,null,{"$f":"SUMIFS($G$62:$G$116,$D$62:$D$116,Таблица3[[#This Row],[Дл]],$C$62:$C$116,Таблица3[[#This Row],[Шир]],$F$62:$F$116,Таблица3[[#This Row],[Астра]])","v":0},null,{"$f":"CONCATENATE(Таблица3[[#This Row],[Столбец29]],\" \",Таблица3[[#This Row],[Толщ]])","v":"Лист 2"},null,{"$f":"Таблица3[[#This Row],[Толщ]]","v":2},null,{"$f":"SUMIFS($M$62:$M$116,$C$62:$C$116,Таблица3[[#This Row],[Шир]],$D$62:$D$116,Таблица3[[#This Row],[Дл]],$F$62:$F$116,Таблица3[[#This Row],[Астра]])","v":0},{"$f":"SUMIFS($M$62:$M$116,$C$62:$C$116,\"<\"&Таблица3[[#This Row],[Шир]],$D$62:$D$116,Таблица3[[#This Row],[Дл]],$F$62:$F$116,Таблица3[[#This Row],[Астра]])+SUMIFS($M$62:$M$116,$C$62:$C$116,Таблица3[[#This Row],[Шир]],$D$62:$D$116,\"<\"&Таблица3[[#This Row],[Дл]],$F$62:$F$116,Таблица3[[#This Row],[Астра]])+SUMIFS($M$62:$M$116,$C$62:$C$116,\"<\"&Таблица3[[#This Row],[Шир]],$D$62:$D$116,\"<\"&Таблица3[[#This Row],[Дл]],$F$62:$F$116,Таблица3[[#This Row],[Астра]])","v":0},{"$f":"Таблица3[[#This Row],[Ст10]]+Таблица3[[#This Row],[Ст11]]","v":0},{"$f":"SUMIFS($P$62:$P$116,$C$62:$C$116,Таблица3[[#This Row],[Шир]],$D$62:$D$116,Таблица3[[#This Row],[Дл]],$F$62:$F$116,Таблица3[[#This Row],[Астра]])","v":0},{"$f":"SUMIFS($P$62:$P$116,$C$62:$C$116,\"<\"&Таблица3[[#This Row],[Шир]],$D$62:$D$116,Таблица3[[#This Row],[Дл]],$F$62:$F$116,Таблица3[[#This Row],[Астра]])+SUMIFS($P$62:$P$116,$C$62:$C$116,Таблица3[[#This Row],[Шир]],$D$62:$D$116,\"<\"&Таблица3[[#This Row],[Дл]],$F$62:$F$116,Таблица3[[#This Row],[Астра]])+SUMIFS($P$62:$P$116,$C$62:$C$116,\"<\"&Таблица3[[#This Row],[Шир]],$D$62:$D$116,\"<\"&Таблица3[[#This Row],[Дл]],$F$62:$F$116,Таблица3[[#This Row],[Астра]])","v":0},{"$f":"Таблица3[[#This Row],[Ст13]]+Таблица3[[#This Row],[Ст14]]","v":0},{"$f":"SUMIFS($S$62:$S$116,$C$62:$C$116,Таблица3[[#This Row],[Шир]],$D$62:$D$116,Таблица3[[#This Row],[Дл]],$F$62:$F$116,Таблица3[[#This Row],[Астра]])","v":0},{"$f":"SUMIFS($S$62:$S$116,$C$62:$C$116,\"<\"&Таблица3[[#This Row],[Шир]],$D$62:$D$116,Таблица3[[#This Row],[Дл]],$F$62:$F$116,Таблица3[[#This Row],[Астра]])+SUMIFS($S$62:$S$116,$C$62:$C$116,Таблица3[[#This Row],[Шир]],$D$62:$D$116,\"<\"&Таблица3[[#This Row],[Дл]],$F$62:$F$116,Таблица3[[#This Row],[Астра]])+SUMIFS($S$62:$S$116,$C$62:$C$116,\"<\"&Таблица3[[#This Row],[Шир]],$D$62:$D$116,\"<\"&Таблица3[[#This Row],[Дл]],$F$62:$F$116,Таблица3[[#This Row],[Астра]])","v":0},{"$f":"Таблица3[[#This Row],[Ст16]]+Таблица3[[#This Row],[Ст17]]","v":0},{"$f":"Таблица3[[#This Row],[Ст18]]+Таблица3[[#This Row],[Столбец32]]","v":0},{"$f":"SUMIFS($V$62:$V$116,$C$62:$C$116,Таблица3[[#This Row],[Шир]],$D$62:$D$116,Таблица3[[#This Row],[Дл]],$F$62:$F$116,Таблица3[[#This Row],[Астра]])","v":0},{"$f":"SUMIFS($V$62:$V$116,$C$62:$C$116,\"<\"&Таблица3[[#This Row],[Шир]],$D$62:$D$116,Таблица3[[#This Row],[Дл]],$F$62:$F$116,Таблица3[[#This Row],[Астра]])+SUMIFS($V$62:$V$116,$C$62:$C$116,Таблица3[[#This Row],[Шир]],$D$62:$D$116,\"<\"&Таблица3[[#This Row],[Дл]],$F$62:$F$116,Таблица3[[#This Row],[Астра]])+SUMIFS($V$62:$V$116,$C$62:$C$116,\"<\"&Таблица3[[#This Row],[Шир]],$D$62:$D$116,\"<\"&Таблица3[[#This Row],[Дл]],$F$62:$F$116,Таблица3[[#This Row],[Астра]])","v":0},{"$f":"Таблица3[[#This Row],[Ст19]]+Таблица3[[#This Row],[Ст20]]","v":0},{"$f":"Таблица3[[#This Row],[Ст21]]-Таблица3[[#This Row],[Столбец32]]","v":0},null,"Лист лазер, 2.0 мм, лт","Лист лазер","Лист",7.8739999999999997,{"$f":"SUBSTITUTE(Таблица3[[#This Row],[Толщ]],\",\",\".\")","v":"2"},{"$f":"SUMIFS($AA$8:$AA$57,$K$8:$K$57,Таблица3[[#This Row],[Столбец9]])","v":0}]
[{"$f":"IF(Таблица3[[#All],[Ст21]]=0,\"z\",\"\")","v":"z"},null,1250,2500,2.5,null,{"$f":"SUMIFS($G$62:$G$116,$D$62:$D$116,Таблица3[[#This Row],[Дл]],$C$62:$C$116,Таблица3[[#This Row],[Шир]],$F$62:$F$116,Таблица3[[#This Row],[Астра]])","v":0},null,{"$f":"CONCATENATE(Таблица3[[#This Row],[Столбец29]],\" \",Таблица3[[#This Row],[Толщ]])","v":"Лист 2,5"},null,{"$f":"Таблица3[[#This Row],[Толщ]]","v":2.5},null,{"$f":"SUMIFS($M$62:$M$116,$C$62:$C$116,Таблица3[[#This Row],[Шир]],$D$62:$D$116,Таблица3[[#This Row],[Дл]],$F$62:$F$116,Таблица3[[#This Row],[Астра]])","v":0},{"$f":"SUMIFS($M$62:$M$116,$C$62:$C$116,\"<\"&Таблица3[[#This Row],[Шир]],$D$62:$D$116,Таблица3[[#This Row],[Дл]],$F$62:$F$116,Таблица3[[#This Row],[Астра]])+SUMIFS($M$62:$M$116,$C$62:$C$116,Таблица3[[#This Row],[Шир]],$D$62:$D$116,\"<\"&Таблица3[[#This Row],[Дл]],$F$62:$F$116,Таблица3[[#This Row],[Астра]])+SUMIFS($M$62:$M$116,$C$62:$C$116,\"<\"&Таблица3[[#This Row],[Шир]],$D$62:$D$116,\"<\"&Таблица3[[#This Row],[Дл]],$F$62:$F$116,Таблица3[[#This Row],[Астра]])","v":0},{"$f":"Таблица3[[#This Row],[Ст10]]+Таблица3[[#This Row],[Ст11]]","v":0},{"$f":"SUMIFS($P$62:$P$116,$C$62:$C$116,Таблица3[[#This Row],[Шир]],$D$62:$D$116,Таблица3[[#This Row],[Дл]],$F$62:$F$116,Таблица3[[#This Row],[Астра]])","v":0},{"$f":"SUMIFS($P$62:$P$116,$C$62:$C$116,\"<\"&Таблица3[[#This Row],[Шир]],$D$62:$D$116,Таблица3[[#This Row],[Дл]],$F$62:$F$116,Таблица3[[#This Row],[Астра]])+SUMIFS($P$62:$P$116,$C$62:$C$116,Таблица3[[#This Row],[Шир]],$D$62:$D$116,\"<\"&Таблица3[[#This Row],[Дл]],$F$62:$F$116,Таблица3[[#This Row],[Астра]])+SUMIFS($P$62:$P$116,$C$62:$C$116,\"<\"&Таблица3[[#This Row],[Шир]],$D$62:$D$116,\"<\"&Таблица3[[#This Row],[Дл]],$F$62:$F$116,Таблица3[[#This Row],[Астра]])","v":0},{"$f":"Таблица3[[#This Row],[Ст13]]+Таблица3[[#This Row],[Ст14]]","v":0},{"$f":"SUMIFS($S$62:$S$116,$C$62:$C$116,Таблица3[[#This Row],[Шир]],$D$62:$D$116,Таблица3[[#This Row],[Дл]],$F$62:$F$116,Таблица3[[#This Row],[Астра]])","v":0},{"$f":"SUMIFS($S$62:$S$116,$C$62:$C$116,\"<\"&Таблица3[[#This Row],[Шир]],$D$62:$D$116,Таблица3[[#This Row],[Дл]],$F$62:$F$116,Таблица3[[#This Row],[Астра]])+SUMIFS($S$62:$S$116,$C$62:$C$116,Таблица3[[#This Row],[Шир]],$D$62:$D$116,\"<\"&Таблица3[[#This Row],[Дл]],$F$62:$F$116,Таблица3[[#This Row],[Астра]])+SUMIFS($S$62:$S$116,$C$62:$C$116,\"<\"&Таблица3[[#This Row],[Шир]],$D$62:$D$116,\"<\"&Таблица3[[#This Row],[Дл]],$F$62:$F$116,Таблица3[[#This Row],[Астра]])","v":0},{"$f":"Таблица3[[#This Row],[Ст16]]+Таблица3[[#This Row],[Ст17]]","v":0},{"$f":"Таблица3[[#This Row],[Ст18]]+Таблица3[[#This Row],[Столбец32]]","v":0},{"$f":"SUMIFS($V$62:$V$116,$C$62:$C$116,Таблица3[[#This Row],[Шир]],$D$62:$D$116,Таблица3[[#This Row],[Дл]],$F$62:$F$116,Таблица3[[#This Row],[Астра]])","v":0},{"$f":"SUMIFS($V$62:$V$116,$C$62:$C$116,\"<\"&Таблица3[[#This Row],[Шир]],$D$62:$D$116,Таблица3[[#This Row],[Дл]],$F$62:$F$116,Таблица3[[#This Row],[Астра]])+SUMIFS($V$62:$V$116,$C$62:$C$116,Таблица3[[#This Row],[Шир]],$D$62:$D$116,\"<\"&Таблица3[[#This Row],[Дл]],$F$62:$F$116,Таблица3[[#This Row],[Астра]])+SUMIFS($V$62:$V$116,$C$62:$C$116,\"<\"&Таблица3[[#This Row],[Шир]],$D$62:$D$116,\"<\"&Таблица3[[#This Row],[Дл]],$F$62:$F$116,Таблица3[[#This Row],[Астра]])","v":0},{"$f":"Таблица3[[#This Row],[Ст19]]+Таблица3[[#This Row],[Ст20]]","v":0},{"$f":"Таблица3[[#This Row],[Ст21]]-Таблица3[[#This Row],[Столбец32]]","v":0},null,"Лист лазер, 2.5 мм, лт","Лист лазер","Лист",7.8739999999999997,{"$f":"SUBSTITUTE(Таблица3[[#This Row],[Толщ]],\",\",\".\")","v":"2.5"},{"$f":"SUMIFS($AA$8:$AA$57,$K$8:$K$57,Таблица3[[#This Row],[Столбец9]])","v":0}]
[{"$f":"IF(Таблица3[[#All],[Ст21]]=0,\"z\",\"\")","v":"z"},null,1250,2500,3,null,{"$f":"SUMIFS($G$62:$G$116,$D$62:$D$116,Таблица3[[#This Row],[Дл]],$C$62:$C$116,Таблица3[[#This Row],[Шир]],$F$62:$F$116,Таблица3[[#This Row],[Астра]])","v":0},null,{"$f":"CONCATENATE(Таблица3[[#This Row],[Столбец29]],\" \",Таблица3[[#This Row],[Толщ]])","v":"Лист 3"},null,{"$f":"Таблица3[[#This Row],[Толщ]]","v":3},null,{"$f":"SUMIFS($M$62:$M$116,$C$62:$C$116,Таблица3[[#This Row],[Шир]],$D$62:$D$116,Таблица3[[#This Row],[Дл]],$F$62:$F$116,Таблица3[[#This Row],[Астра]])","v":0},{"$f":"SUMIFS($M$62:$M$116,$C$62:$C$116,\"<\"&Таблица3[[#This Row],[Шир]],$D$62:$D$116,Таблица3[[#This Row],[Дл]],$F$62:$F$116,Таблица3[[#This Row],[Астра]])+SUMIFS($M$62:$M$116,$C$62:$C$116,Таблица3[[#This Row],[Шир]],$D$62:$D$116,\"<\"&Таблица3[[#This Row],[Дл]],$F$62:$F$116,Таблица3[[#This Row],[Астра]])+SUMIFS($M$62:$M$116,$C$62:$C$116,\"<\"&Таблица3[[#This Row],[Шир]],$D$62:$D$116,\"<\"&Таблица3[[#This Row],[Дл]],$F$62:$F$116,Таблица3[[#This Row],[Астра]])","v":0},{"$f":"Таблица3[[#This Row],[Ст10]]+Таблица3[[#This Row],[Ст11]]","v":0},{"$f":"SUMIFS($P$62:$P$116,$C$62:$C$116,Таблица3[[#This Row],[Шир]],$D$62:$D$116,Таблица3[[#This Row],[Дл]],$F$62:$F$116,Таблица3[[#This Row],[Астра]])","v":0},{"$f":"SUMIFS($P$62:$P$116,$C$62:$C$116,\"<\"&Таблица3[[#This Row],[Шир]],$D$62:$D$116,Таблица3[[#This Row],[Дл]],$F$62:$F$116,Таблица3[[#This Row],[Астра]])+SUMIFS($P$62:$P$116,$C$62:$C$116,Таблица3[[#This Row],[Шир]],$D$62:$D$116,\"<\"&Таблица3[[#This Row],[Дл]],$F$62:$F$116,Таблица3[[#This Row],[Астра]])+SUMIFS($P$62:$P$116,$C$62:$C$116,\"<\"&Таблица3[[#This Row],[Шир]],$D$62:$D$116,\"<\"&Таблица3[[#This Row],[Дл]],$F$62:$F$116,Таблица3[[#This Row],[Астра]])","v":0},{"$f":"Таблица3[[#This Row],[Ст13]]+Таблица3[[#This Row],[Ст14]]","v":0},{"$f":"SUMIFS($S$62:$S$116,$C$62:$C$116,Таблица3[[#This Row],[Шир]],$D$62:$D$116,Таблица3[[#This Row],[Дл]],$F$62:$F$116,Таблица3[[#This Row],[Астра]])","v":0},{"$f":"SUMIFS($S$62:$S$116,$C$62:$C$116,\"<\"&Таблица3[[#This Row],[Шир]],$D$62:$D$116,Таблица3[[#This Row],[Дл]],$F$62:$F$116,Таблица3[[#This Row],[Астра]])+SUMIFS($S$62:$S$116,$C$62:$C$116,Таблица3[[#This Row],[Шир]],$D$62:$D$116,\"<\"&Таблица3[[#This Row],[Дл]],$F$62:$F$116,Таблица3[[#This Row],[Астра]])+SUMIFS($S$62:$S$116,$C$62:$C$116,\"<\"&Таблица3[[#This Row],[Шир]],$D$62:$D$116,\"<\"&Таблица3[[#This Row],[Дл]],$F$62:$F$116,Таблица3[[#This Row],[Астра]])","v":0},{"$f":"Таблица3[[#This Row],[Ст16]]+Таблица3[[#This Row],[Ст17]]","v":0},{"$f":"Таблица3[[#This Row],[Ст18]]+Таблица3[[#This Row],[Столбец32]]","v":0},{"$f":"SUMIFS($V$62:$V$116,$C$62:$C$116,Таблица3[[#This Row],[Шир]],$D$62:$D$116,Таблица3[[#This Row],[Дл]],$F$62:$F$116,Таблица3[[#This Row],[Астра]])","v":0},{"$f":"SUMIFS($V$62:$V$116,$C$62:$C$116,\"<\"&Таблица3[[#This Row],[Шир]],$D$62:$D$116,Таблица3[[#This Row],[Дл]],$F$62:$F$116,Таблица3[[#This Row],[Астра]])+SUMIFS($V$62:$V$116,$C$62:$C$116,Таблица3[[#This Row],[Шир]],$D$62:$D$116,\"<\"&Таблица3[[#This Row],[Дл]],$F$62:$F$116,Таблица3[[#This Row],[Астра]])+SUMIFS($V$62:$V$116,$C$62:$C$116,\"<\"&Таблица3[[#This Row],[Шир]],$D$62:$D$116,\"<\"&Таблица3[[#This Row],[Дл]],$F$62:$F$116,Таблица3[[#This Row],[Астра]])","v":0},{"$f":"Таблица3[[#This Row],[Ст19]]+Таблица3[[#This Row],[Ст20]]","v":0},{"$f":"Таблица3[[#This Row],[Ст21]]-Таблица3[[#This Row],[Столбец32]]","v":0},null,"Лист лазер, 3.0 мм, лт","Лист лазер","Лист",7.8739999999999997,{"$f":"SUBSTITUTE(Таблица3[[#This Row],[Толщ]],\",\",\".\")","v":"3"},{"$f":"SUMIFS($AA$8:$AA$57,$K$8:$K$57,Таблица3[[#This Row],[Столбец9]])","v":0}]
[{"$f":"IF(Таблица3[[#All],[Ст21]]=0,\"z\",\"\")","v":"z"},null,1250,2500,4,null,{"$f":"SUMIFS($G$62:$G$116,$D$62:$D$116,Таблица3[[#This Row],[Дл]],$C$62:$C$116,Таблица3[[#This Row],[Шир]],$F$62:$F$116,Таблица3[[#This Row],[Астра]])","v":0},null,{"$f":"CONCATENATE(Таблица3[[#This Row],[Столбец29]],\" \",Таблица3[[#This Row],[Толщ]])","v":"Лист 4"},null,{"$f":"Таблица3[[#This Row],[Толщ]]","v":4},null,{"$f":"SUMIFS($M$62:$M$116,$C$62:$C$116,Таблица3[[#This Row],[Шир]],$D$62:$D$116,Таблица3[[#This Row],[Дл]],$F$62:$F$116,Таблица3[[#This Row],[Астра]])","v":0},{"$f":"SUMIFS($M$62:$M$116,$C$62:$C$116,\"<\"&Таблица3[[#This Row],[Шир]],$D$62:$D$116,Таблица3[[#This Row],[Дл]],$F$62:$F$116,Таблица3[[#This Row],[Астра]])+SUMIFS($M$62:$M$116,$C$62:$C$116,Таблица3[[#This Row],[Шир]],$D$62:$D$116,\"<\"&Таблица3[[#This Row],[Дл]],$F$62:$F$116,Таблица3[[#This Row],[Астра]])+SUMIFS($M$62:$M$116,$C$62:$C$116,\"<\"&Таблица3[[#This Row],[Шир]],$D$62:$D$116,\"<\"&Таблица3[[#This Row],[Дл]],$F$62:$F$116,Таблица3[[#This Row],[Астра]])","v":0},{"$f":"Таблица3[[#This Row],[Ст10]]+Таблица3[[#This Row],[Ст11]]","v":0},{"$f":"SUMIFS($P$62:$P$116,$C$62:$C$116,Таблица3[[#This Row],[Шир]],$D$62:$D$116,Таблица3[[#This Row],[Дл]],$F$62:$F$116,Таблица3[[#This Row],[Астра]])","v":0},{"$f":"SUMIFS($P$62:$P$116,$C$62:$C$116,\"<\"&Таблица3[[#This Row],[Шир]],$D$62:$D$116,Таблица3[[#This Row],[Дл]],$F$62:$F$116,Таблица3[[#This Row],[Астра]])+SUMIFS($P$62:$P$116,$C$62:$C$116,Таблица3[[#This Row],[Шир]],$D$62:$D$116,\"<\"&Таблица3[[#This Row],[Дл]],$F$62:$F$116,Таблица3[[#This Row],[Астра]])+SUMIFS($P$62:$P$116,$C$62:$C$116,\"<\"&Таблица3[[#This Row],[Шир]],$D$62:$D$116,\"<\"&Таблица3[[#This Row],[Дл]],$F$62:$F$116,Таблица3[[#This Row],[Астра]])","v":0},{"$f":"Таблица3[[#This Row],[Ст13]]+Таблица3[[#This Row],[Ст14]]","v":0},{"$f":"SUMIFS($S$62:$S$116,$C$62:$C$116,Таблица3[[#This Row],[Шир]],$D$62:$D$116,Таблица3[[#This Row],[Дл]],$F$62:$F$116,Таблица3[[#This Row],[Астра]])","v":0},{"$f":"SUMIFS($S$62:$S$116,$C$62:$C$116,\"<\"&Таблица3[[#This Row],[Шир]],$D$62:$D$116,Таблица3[[#This Row],[Дл]],$F$62:$F$116,Таблица3[[#This Row],[Астра]])+SUMIFS($S$62:$S$116,$C$62:$C$116,Таблица3[[#This Row],[Шир]],$D$62:$D$116,\"<\"&Таблица3[[#This Row],[Дл]],$F$62:$F$116,Таблица3[[#This Row],[Астра]])+SUMIFS($S$62:$S$116,$C$62:$C$116,\"<\"&Таблица3[[#This Row],[Шир]],$D$62:$D$116,\"<\"&Таблица3[[#This Row],[Дл]],$F$62:$F$116,Таблица3[[#This Row],[Астра]])","v":0},{"$f":"Таблица3[[#This Row],[Ст16]]+Таблица3[[#This Row],[Ст17]]","v":0},{"$f":"Таблица3[[#This Row],[Ст18]]+Таблица3[[#This Row],[Столбец32]]","v":0},{"$f":"SUMIFS($V$62:$V$116,$C$62:$C$116,Таблица3[[#This Row],[Шир]],$D$62:$D$116,Таблица3[[#This Row],[Дл]],$F$62:$F$116,Таблица3[[#This Row],[Астра]])","v":0},{"$f":"SUMIFS($V$62:$V$116,$C$62:$C$116,\"<\"&Таблица3[[#This Row],[Шир]],$D$62:$D$116,Таблица3[[#This Row],[Дл]],$F$62:$F$116,Таблица3[[#This Row],[Астра]])+SUMIFS($V$62:$V$116,$C$62:$C$116,Таблица3[[#This Row],[Шир]],$D$62:$D$116,\"<\"&Таблица3[[#This Row],[Дл]],$F$62:$F$116,Таблица3[[#This Row],[Астра]])+SUMIFS($V$62:$V$116,$C$62:$C$116,\"<\"&Таблица3[[#This Row],[Шир]],$D$62:$D$116,\"<\"&Таблица3[[#This Row],[Дл]],$F$62:$F$116,Таблица3[[#This Row],[Астра]])","v":0},{"$f":"Таблица3[[#This Row],[Ст19]]+Таблица3[[#This Row],[Ст20]]","v":0},{"$f":"Таблица3[[#This Row],[Ст21]]-Таблица3[[#This Row],[Столбец32]]","v":0},null,"Лист лазер, 4.0 мм, лт","Лист лазер","Лист",7.8739999999999997,{"$f":"SUBSTITUTE(Таблица3[[#This Row],[Толщ]],\",\",\".\")","v":"4"},{"$f":"SUMIFS($AA$8:$AA$57,$K$8:$K$57,Таблица3[[#This Row],[Столбец9]])","v":0}]
[{"$f":"IF(Таблица3[[#All],[Ст21]]=0,\"z\",\"\")","v":"z"},null,1250,2500,5,null,{"$f":"SUMIFS($G$62:$G$116,$D$62:$D$116,Таблица3[[#This Row],[Дл]],$C$62:$C$116,Таблица3[[#This Row],[Шир]],$F$62:$F$116,Таблица3[[#This Row],[Астра]])","v":0},null,{"$f":"CONCATENATE(Таблица3[[#This Row],[Столбец29]],\" \",Таблица3[[#This Row],[Толщ]])","v":"Лист 5"},null,{"$f":"Таблица3[[#This Row],[Толщ]]","v":5},null,{"$f":"SUMIFS($M$62:$M$116,$C$62:$C$116,Таблица3[[#This Row],[Шир]],$D$62:$D$116,Таблица3[[#This Row],[Дл]],$F$62:$F$116,Таблица3[[#This Row],[Астра]])","v":0},{"$f":"SUMIFS($M$62:$M$116,$C$62:$C$116,\"<\"&Таблица3[[#This Row],[Шир]],$D$62:$D$116,Таблица3[[#This Row],[Дл]],$F$62:$F$116,Таблица3[[#This Row],[Астра]])+SUMIFS($M$62:$M$116,$C$62:$C$116,Таблица3[[#This Row],[Шир]],$D$62:$D$116,\"<\"&Таблица3[[#This Row],[Дл]],$F$62:$F$116,Таблица3[[#This Row],[Астра]])+SUMIFS($M$62:$M$116,$C$62:$C$116,\"<\"&Таблица3[[#This Row],[Шир]],$D$62:$D$116,\"<\"&Таблица3[[#This Row],[Дл]],$F$62:$F$116,Таблица3[[#This Row],[Астра]])","v":0},{"$f":"Таблица3[[#This Row],[Ст10]]+Таблица3[[#This Row],[Ст11]]","v":0},{"$f":"SUMIFS($P$62:$P$116,$C$62:$C$116,Таблица3[[#This Row],[Шир]],$D$62:$D$116,Таблица3[[#This Row],[Дл]],$F$62:$F$116,Таблица3[[#This Row],[Астра]])","v":0},{"$f":"SUMIFS($P$62:$P$116,$C$62:$C$116,\"<\"&Таблица3[[#This Row],[Шир]],$D$62:$D$116,Таблица3[[#This Row],[Дл]],$F$62:$F$116,Таблица3[[#This Row],[Астра]])+SUMIFS($P$62:$P$116,$C$62:$C$116,Таблица3[[#This Row],[Шир]],$D$62:$D$116,\"<\"&Таблица3[[#This Row],[Дл]],$F$62:$F$116,Таблица3[[#This Row],[Астра]])+SUMIFS($P$62:$P$116,$C$62:$C$116,\"<\"&Таблица3[[#This Row],[Шир]],$D$62:$D$116,\"<\"&Таблица3[[#This Row],[Дл]],$F$62:$F$116,Таблица3[[#This Row],[Астра]])","v":0},{"$f":"Таблица3[[#This Row],[Ст13]]+Таблица3[[#This Row],[Ст14]]","v":0},{"$f":"SUMIFS($S$62:$S$116,$C$62:$C$116,Таблица3[[#This Row],[Шир]],$D$62:$D$116,Таблица3[[#This Row],[Дл]],$F$62:$F$116,Таблица3[[#This Row],[Астра]])","v":0},{"$f":"SUMIFS($S$62:$S$116,$C$62:$C$116,\"<\"&Таблица3[[#This Row],[Шир]],$D$62:$D$116,Таблица3[[#This Row],[Дл]],$F$62:$F$116,Таблица3[[#This Row],[Астра]])+SUMIFS($S$62:$S$116,$C$62:$C$116,Таблица3[[#This Row],[Шир]],$D$62:$D$116,\"<\"&Таблица3[[#This Row],[Дл]],$F$62:$F$116,Таблица3[[#This Row],[Астра]])+SUMIFS($S$62:$S$116,$C$62:$C$116,\"<\"&Таблица3[[#This Row],[Шир]],$D$62:$D$116,\"<\"&Таблица3[[#This Row],[Дл]],$F$62:$F$116,Таблица3[[#This Row],[Астра]])","v":0},{"$f":"Таблица3[[#This Row],[Ст16]]+Таблица3[[#This Row],[Ст17]]","v":0},{"$f":"Таблица3[[#This Row],[Ст18]]+Таблица3[[#This Row],[Столбец32]]","v":0},{"$f":"SUMIFS($V$62:$V$116,$C$62:$C$116,Таблица3[[#This Row],[Шир]],$D$62:$D$116,Таблица3[[#This Row],[Дл]],$F$62:$F$116,Таблица3[[#This Row],[Астра]])","v":0},{"$f":"SUMIFS($V$62:$V$116,$C$62:$C$116,\"<\"&Таблица3[[#This Row],[Шир]],$D$62:$D$116,Таблица3[[#This Row],[Дл]],$F$62:$F$116,Таблица3[[#This Row],[Астра]])+SUMIFS($V$62:$V$116,$C$62:$C$116,Таблица3[[#This Row],[Шир]],$D$62:$D$116,\"<\"&Таблица3[[#This Row],[Дл]],$F$62:$F$116,Таблица3[[#This Row],[Астра]])+SUMIFS($V$62:$V$116,$C$62:$C$116,\"<\"&Таблица3[[#This Row],[Шир]],$D$62:$D$116,\"<\"&Таблица3[[#This Row],[Дл]],$F$62:$F$116,Таблица3[[#This Row],[Астра]])","v":0},{"$f":"Таблица3[[#This Row],[Ст19]]+Таблица3[[#This Row],[Ст20]]","v":0},{"$f":"Таблица3[[#This Row],[Ст21]]-Таблица3[[#This Row],[Столбец32]]","v":0},null,"Лист лазер, 5.0 мм, лт","Лист лазер","Лист",7.8739999999999997,{"$f":"SUBSTITUTE(Таблица3[[#This Row],[Толщ]],\",\",\".\")","v":"5"},{"$f":"SUMIFS($AA$8:$AA$57,$K$8:$K$57,Таблица3[[#This Row],[Столбец9]])","v":0}]
[{"$f":"IF(Таблица3[[#All],[Ст21]]=0,\"z\",\"\")","v":"z"},null,1250,2500,6,null,{"$f":"SUMIFS($G$62:$G$116,$D$62:$D$116,Таблица3[[#This Row],[Дл]],$C$62:$C$116,Таблица3[[#This Row],[Шир]],$F$62:$F$116,Таблица3[[#This Row],[Астра]])","v":0},null,{"$f":"CONCATENATE(Таблица3[[#This Row],[Столбец29]],\" \",Таблица3[[#This Row],[Толщ]])","v":"Лист 6"},null,{"$f":"Таблица3[[#This Row],[Толщ]]","v":6},null,{"$f":"SUMIFS($M$62:$M$116,$C$62:$C$116,Таблица3[[#This Row],[Шир]],$D$62:$D$116,Таблица3[[#This Row],[Дл]],$F$62:$F$116,Таблица3[[#This Row],[Астра]])","v":0},{"$f":"SUMIFS($M$62:$M$116,$C$62:$C$116,\"<\"&Таблица3[[#This Row],[Шир]],$D$62:$D$116,Таблица3[[#This Row],[Дл]],$F$62:$F$116,Таблица3[[#This Row],[Астра]])+SUMIFS($M$62:$M$116,$C$62:$C$116,Таблица3[[#This Row],[Шир]],$D$62:$D$116,\"<\"&Таблица3[[#This Row],[Дл]],$F$62:$F$116,Таблица3[[#This Row],[Астра]])+SUMIFS($M$62:$M$116,$C$62:$C$116,\"<\"&Таблица3[[#This Row],[Шир]],$D$62:$D$116,\"<\"&Таблица3[[#This Row],[Дл]],$F$62:$F$116,Таблица3[[#This Row],[Астра]])","v":0},{"$f":"Таблица3[[#This Row],[Ст10]]+Таблица3[[#This Row],[Ст11]]","v":0},{"$f":"SUMIFS($P$62:$P$116,$C$62:$C$116,Таблица3[[#This Row],[Шир]],$D$62:$D$116,Таблица3[[#This Row],[Дл]],$F$62:$F$116,Таблица3[[#This Row],[Астра]])","v":0},{"$f":"SUMIFS($P$62:$P$116,$C$62:$C$116,\"<\"&Таблица3[[#This Row],[Шир]],$D$62:$D$116,Таблица3[[#This Row],[Дл]],$F$62:$F$116,Таблица3[[#This Row],[Астра]])+SUMIFS($P$62:$P$116,$C$62:$C$116,Таблица3[[#This Row],[Шир]],$D$62:$D$116,\"<\"&Таблица3[[#This Row],[Дл]],$F$62:$F$116,Таблица3[[#This Row],[Астра]])+SUMIFS($P$62:$P$116,$C$62:$C$116,\"<\"&Таблица3[[#This Row],[Шир]],$D$62:$D$116,\"<\"&Таблица3[[#This Row],[Дл]],$F$62:$F$116,Таблица3[[#This Row],[Астра]])","v":0},{"$f":"Таблица3[[#This Row],[Ст13]]+Таблица3[[#This Row],[Ст14]]","v":0},{"$f":"SUMIFS($S$62:$S$116,$C$62:$C$116,Таблица3[[#This Row],[Шир]],$D$62:$D$116,Таблица3[[#This Row],[Дл]],$F$62:$F$116,Таблица3[[#This Row],[Астра]])","v":0},{"$f":"SUMIFS($S$62:$S$116,$C$62:$C$116,\"<\"&Таблица3[[#This Row],[Шир]],$D$62:$D$116,Таблица3[[#This Row],[Дл]],$F$62:$F$116,Таблица3[[#This Row],[Астра]])+SUMIFS($S$62:$S$116,$C$62:$C$116,Таблица3[[#This Row],[Шир]],$D$62:$D$116,\"<\"&Таблица3[[#This Row],[Дл]],$F$62:$F$116,Таблица3[[#This Row],[Астра]])+SUMIFS($S$62:$S$116,$C$62:$C$116,\"<\"&Таблица3[[#This Row],[Шир]],$D$62:$D$116,\"<\"&Таблица3[[#This Row],[Дл]],$F$62:$F$116,Таблица3[[#This Row],[Астра]])","v":0},{"$f":"Таблица3[[#This Row],[Ст16]]+Таблица3[[#This Row],[Ст17]]","v":0},{"$f":"Таблица3[[#This Row],[Ст18]]+Таблица3[[#This Row],[Столбец32]]","v":0},{"$f":"SUMIFS($V$62:$V$116,$C$62:$C$116,Таблица3[[#This Row],[Шир]],$D$62:$D$116,Таблица3[[#This Row],[Дл]],$F$62:$F$116,Таблица3[[#This Row],[Астра]])","v":0},{"$f":"SUMIFS($V$62:$V$116,$C$62:$C$116,\"<\"&Таблица3[[#This Row],[Шир]],$D$62:$D$116,Таблица3[[#This Row],[Дл]],$F$62:$F$116,Таблица3[[#This Row],[Астра]])+SUMIFS($V$62:$V$116,$C$62:$C$116,Таблица3[[#This Row],[Шир]],$D$62:$D$116,\"<\"&Таблица3[[#This Row],[Дл]],$F$62:$F$116,Таблица3[[#This Row],[Астра]])+SUMIFS($V$62:$V$116,$C$62:$C$116,\"<\"&Таблица3[[#This Row],[Шир]],$D$62:$D$116,\"<\"&Таблица3[[#This Row],[Дл]],$F$62:$F$116,Таблица3[[#This Row],[Астра]])","v":0},{"$f":"Таблица3[[#This Row],[Ст19]]+Таблица3[[#This Row],[Ст20]]","v":0},{"$f":"Таблица3[[#This Row],[Ст21]]-Таблица3[[#This Row],[Столбец32]]","v":0},null,"Лист лазер, 6.0 мм, лт","Лист лазер","Лист",7.8739999999999997,{"$f":"SUBSTITUTE(Таблица3[[#This Row],[Толщ]],\",\",\".\")","v":"6"},{"$f":"SUMIFS($AA$8:$AA$57,$K$8:$K$57,Таблица3[[#This Row],[Столбец9]])","v":0}]
[{"$f":"IF(Таблица3[[#All],[Ст21]]=0,\"z\",\"\")","v":"z"},null,1250,2500,8,null,{"$f":"SUMIFS($G$62:$G$116,$D$62:$D$116,Таблица3[[#This Row],[Дл]],$C$62:$C$116,Таблица3[[#This Row],[Шир]],$F$62:$F$116,Таблица3[[#This Row],[Астра]])","v":0},null,{"$f":"CONCATENATE(Таблица3[[#This Row],[Столбец29]],\" \",Таблица3[[#This Row],[Толщ]])","v":"Лист 8"},null,{"$f":"Таблица3[[#This Row],[Толщ]]","v":8},null,{"$f":"SUMIFS($M$62:$M$116,$C$62:$C$116,Таблица3[[#This Row],[Шир]],$D$62:$D$116,Таблица3[[#This Row],[Дл]],$F$62:$F$116,Таблица3[[#This Row],[Астра]])","v":0},{"$f":"SUMIFS($M$62:$M$116,$C$62:$C$116,\"<\"&Таблица3[[#This Row],[Шир]],$D$62:$D$116,Таблица3[[#This Row],[Дл]],$F$62:$F$116,Таблица3[[#This Row],[Астра]])+SUMIFS($M$62:$M$116,$C$62:$C$116,Таблица3[[#This Row],[Шир]],$D$62:$D$116,\"<\"&Таблица3[[#This Row],[Дл]],$F$62:$F$116,Таблица3[[#This Row],[Астра]])+SUMIFS($M$62:$M$116,$C$62:$C$116,\"<\"&Таблица3[[#This Row],[Шир]],$D$62:$D$116,\"<\"&Таблица3[[#This Row],[Дл]],$F$62:$F$116,Таблица3[[#This Row],[Астра]])","v":0},{"$f":"Таблица3[[#This Row],[Ст10]]+Таблица3[[#This Row],[Ст11]]","v":0},{"$f":"SUMIFS($P$62:$P$116,$C$62:$C$116,Таблица3[[#This Row],[Шир]],$D$62:$D$116,Таблица3[[#This Row],[Дл]],$F$62:$F$116,Таблица3[[#This Row],[Астра]])","v":0},{"$f":"SUMIFS($P$62:$P$116,$C$62:$C$116,\"<\"&Таблица3[[#This Row],[Шир]],$D$62:$D$116,Таблица3[[#This Row],[Дл]],$F$62:$F$116,Таблица3[[#This Row],[Астра]])+SUMIFS($P$62:$P$116,$C$62:$C$116,Таблица3[[#This Row],[Шир]],$D$62:$D$116,\"<\"&Таблица3[[#This Row],[Дл]],$F$62:$F$116,Таблица3[[#This Row],[Астра]])+SUMIFS($P$62:$P$116,$C$62:$C$116,\"<\"&Таблица3[[#This Row],[Шир]],$D$62:$D$116,\"<\"&Таблица3[[#This Row],[Дл]],$F$62:$F$116,Таблица3[[#This Row],[Астра]])","v":0},{"$f":"Таблица3[[#This Row],[Ст13]]+Таблица3[[#This Row],[Ст14]]","v":0},{"$f":"SUMIFS($S$62:$S$116,$C$62:$C$116,Таблица3[[#This Row],[Шир]],$D$62:$D$116,Таблица3[[#This Row],[Дл]],$F$62:$F$116,Таблица3[[#This Row],[Астра]])","v":0},{"$f":"SUMIFS($S$62:$S$116,$C$62:$C$116,\"<\"&Таблица3[[#This Row],[Шир]],$D$62:$D$116,Таблица3[[#This Row],[Дл]],$F$62:$F$116,Таблица3[[#This Row],[Астра]])+SUMIFS($S$62:$S$116,$C$62:$C$116,Таблица3[[#This Row],[Шир]],$D$62:$D$116,\"<\"&Таблица3[[#This Row],[Дл]],$F$62:$F$116,Таблица3[[#This Row],[Астра]])+SUMIFS($S$62:$S$116,$C$62:$C$116,\"<\"&Таблица3[[#This Row],[Шир]],$D$62:$D$116,\"<\"&Таблица3[[#This Row],[Дл]],$F$62:$F$116,Таблица3[[#This Row],[Астра]])","v":0},{"$f":"Таблица3[[#This Row],[Ст16]]+Таблица3[[#This Row],[Ст17]]","v":0},{"$f":"Таблица3[[#This Row],[Ст18]]+Таблица3[[#This Row],[Столбец32]]","v":0},{"$f":"SUMIFS($V$62:$V$116,$C$62:$C$116,Таблица3[[#This Row],[Шир]],$D$62:$D$116,Таблица3[[#This Row],[Дл]],$F$62:$F$116,Таблица3[[#This Row],[Астра]])","v":0},{"$f":"SUMIFS($V$62:$V$116,$C$62:$C$116,\"<\"&Таблица3[[#This Row],[Шир]],$D$62:$D$116,Таблица3[[#This Row],[Дл]],$F$62:$F$116,Таблица3[[#This Row],[Астра]])+SUMIFS($V$62:$V$116,$C$62:$C$116,Таблица3[[#This Row],[Шир]],$D$62:$D$116,\"<\"&Таблица3[[#This Row],[Дл]],$F$62:$F$116,Таблица3[[#This Row],[Астра]])+SUMIFS($V$62:$V$116,$C$62:$C$116,\"<\"&Таблица3[[#This Row],[Шир]],$D$62:$D$116,\"<\"&Таблица3[[#This Row],[Дл]],$F$62:$F$116,Таблица3[[#This Row],[Астра]])","v":0},{"$f":"Таблица3[[#This Row],[Ст19]]+Таблица3[[#This Row],[Ст20]]","v":0},{"$f":"Таблица3[[#This Row],[Ст21]]-Таблица3[[#This Row],[Столбец32]]","v":0},null,"Лист лазер, 8.0 мм, лт","Лист лазер","Лист",7.8739999999999997,{"$f":"SUBSTITUTE(Таблица3[[#This Row],[Толщ]],\",\",\".\")","v":"8"},{"$f":"SUMIFS($AA$8:$AA$57,$K$8:$K$57,Таблица3[[#This Row],[Столбец9]])","v":0}]
[{"$f":"IF(Таблица3[[#All],[Ст21]]=0,\"z\",\"\")","v":"z"},null,1250,2500,1,null,{"$f":"SUMIFS($G$62:$G$116,$D$62:$D$116,Таблица3[[#This Row],[Дл]],$C$62:$C$116,Таблица3[[#This Row],[Шир]],$F$62:$F$116,Таблица3[[#This Row],[Астра]])","v":0},null,{"$f":"CONCATENATE(Таблица3[[#This Row],[Столбец29]],\" \",Таблица3[[#This Row],[Толщ]])","v":"Лист НЖ AISI 304 1"},null,{"$f":"Таблица3[[#This Row],[Толщ]]","v":1},null,{"$f":"SUMIFS($M$62:$M$116,$C$62:$C$116,Таблица3[[#This Row],[Шир]],$D$62:$D$116,Таблица3[[#This Row],[Дл]],$F$62:$F$116,Таблица3[[#This Row],[Астра]])","v":0},{"$f":"SUMIFS($M$62:$M$116,$C$62:$C$116,\"<\"&Таблица3[[#This Row],[Шир]],$D$62:$D$116,Таблица3[[#This Row],[Дл]],$F$62:$F$116,Таблица3[[#This Row],[Астра]])+SUMIFS($M$62:$M$116,$C$62:$C$116,Таблица3[[#This Row],[Шир]],$D$62:$D$116,\"<\"&Таблица3[[#This Row],[Дл]],$F$62:$F$116,Таблица3[[#This Row],[Астра]])+SUMIFS($M$62:$M$116,$C$62:$C$116,\"<\"&Таблица3[[#This Row],[Шир]],$D$62:$D$116,\"<\"&Таблица3[[#This Row],[Дл]],$F$62:$F$116,Таблица3[[#This Row],[Астра]])","v":0},{"$f":"Таблица3[[#This Row],[Ст10]]+Таблица3[[#This Row],[Ст11]]","v":0},{"$f":"SUMIFS($P$62:$P$116,$C$62:$C$116,Таблица3[[#This Row],[Шир]],$D$62:$D$116,Таблица3[[#This Row],[Дл]],$F$62:$F$116,Таблица3[[#This Row],[Астра]])","v":0},{"$f":"SUMIFS($P$62:$P$116,$C$62:$C$116,\"<\"&Таблица3[[#This Row],[Шир]],$D$62:$D$116,Таблица3[[#This Row],[Дл]],$F$62:$F$116,Таблица3[[#This Row],[Астра]])+SUMIFS($P$62:$P$116,$C$62:$C$116,Таблица3[[#This Row],[Шир]],$D$62:$D$116,\"<\"&Таблица3[[#This Row],[Дл]],$F$62:$F$116,Таблица3[[#This Row],[Астра]])+SUMIFS($P$62:$P$116,$C$62:$C$116,\"<\"&Таблица3[[#This Row],[Шир]],$D$62:$D$116,\"<\"&Таблица3[[#This Row],[Дл]],$F$62:$F$116,Таблица3[[#This Row],[Астра]])","v":0},{"$f":"Таблица3[[#This Row],[Ст13]]+Таблица3[[#This Row],[Ст14]]","v":0},{"$f":"SUMIFS($S$62:$S$116,$C$62:$C$116,Таблица3[[#This Row],[Шир]],$D$62:$D$116,Таблица3[[#This Row],[Дл]],$F$62:$F$116,Таблица3[[#This Row],[Астра]])","v":0},{"$f":"SUMIFS($S$62:$S$116,$C$62:$C$116,\"<\"&Таблица3[[#This Row],[Шир]],$D$62:$D$116,Таблица3[[#This Row],[Дл]],$F$62:$F$116,Таблица3[[#This Row],[Астра]])+SUMIFS($S$62:$S$116,$C$62:$C$116,Таблица3[[#This Row],[Шир]],$D$62:$D$116,\"<\"&Таблица3[[#This Row],[Дл]],$F$62:$F$116,Таблица3[[#This Row],[Астра]])+SUMIFS($S$62:$S$116,$C$62:$C$116,\"<\"&Таблица3[[#This Row],[Шир]],$D$62:$D$116,\"<\"&Таблица3[[#This Row],[Дл]],$F$62:$F$116,Таблица3[[#This Row],[Астра]])","v":0},{"$f":"Таблица3[[#This Row],[Ст16]]+Таблица3[[#This Row],[Ст17]]","v":0},{"$f":"Таблица3[[#This Row],[Ст18]]+Таблица3[[#This Row],[Столбец32]]","v":0},{"$f":"SUMIFS($V$62:$V$116,$C$62:$C$116,Таблица3[[#This Row],[Шир]],$D$62:$D$116,Таблица3[[#This Row],[Дл]],$F$62:$F$116,Таблица3[[#This Row],[Астра]])","v":0},{"$f":"SUMIFS($V$62:$V$116,$C$62:$C$116,\"<\"&Таблица3[[#This Row],[Шир]],$D$62:$D$116,Таблица3[[#This Row],[Дл]],$F$62:$F$116,Таблица3[[#This Row],[Астра]])+SUMIFS($V$62:$V$116,$C$62:$C$116,Таблица3[[#This Row],[Шир]],$D$62:$D$116,\"<\"&Таблица3[[#This Row],[Дл]],$F$62:$F$116,Таблица3[[#This Row],[Астра]])+SUMIFS($V$62:$V$116,$C$62:$C$116,\"<\"&Таблица3[[#This Row],[Шир]],$D$62:$D$116,\"<\"&Таблица3[[#This Row],[Дл]],$F$62:$F$116,Таблица3[[#This Row],[Астра]])","v":0},{"$f":"Таблица3[[#This Row],[Ст19]]+Таблица3[[#This Row],[Ст20]]","v":0},{"$f":"Таблица3[[#This Row],[Ст21]]-Таблица3[[#This Row],[Столбец32]]","v":0},null,"Лист НЖ AISI 304, 1.0 мм, лтнж","Лист НЖ AISI 304","Лист НЖ AISI 304",7.8739999999999997,{"$f":"SUBSTITUTE(Таблица3[[#This Row],[Толщ]],\",\",\".\")","v":"1"},{"$f":"SUMIFS($AA$8:$AA$57,$K$8:$K$57,Таблица3[[#This Row],[Столбец9]])","v":0}]
[{"$f":"IF(Таблица3[[#All],[Ст21]]=0,\"z\",\"\")","v":"z"},null,1250,2500,1.2,null,{"$f":"SUMIFS($G$62:$G$116,$D$62:$D$116,Таблица3[[#This Row],[Дл]],$C$62:$C$116,Таблица3[[#This Row],[Шир]],$F$62:$F$116,Таблица3[[#This Row],[Астра]])","v":0},null,{"$f":"CONCATENATE(Таблица3[[#This Row],[Столбец29]],\" \",Таблица3[[#This Row],[Толщ]])","v":"Лист НЖ AISI 304 1,2"},null,{"$f":"Таблица3[[#This Row],[Толщ]]","v":1.2},null,{"$f":"SUMIFS($M$62:$M$116,$C$62:$C$116,Таблица3[[#This Row],[Шир]],$D$62:$D$116,Таблица3[[#This Row],[Дл]],$F$62:$F$116,Таблица3[[#This Row],[Астра]])","v":0},{"$f":"SUMIFS($M$62:$M$116,$C$62:$C$116,\"<\"&Таблица3[[#This Row],[Шир]],$D$62:$D$116,Таблица3[[#This Row],[Дл]],$F$62:$F$116,Таблица3[[#This Row],[Астра]])+SUMIFS($M$62:$M$116,$C$62:$C$116,Таблица3[[#This Row],[Шир]],$D$62:$D$116,\"<\"&Таблица3[[#This Row],[Дл]],$F$62:$F$116,Таблица3[[#This Row],[Астра]])+SUMIFS($M$62:$M$116,$C$62:$C$116,\"<\"&Таблица3[[#This Row],[Шир]],$D$62:$D$116,\"<\"&Таблица3[[#This Row],[Дл]],$F$62:$F$116,Таблица3[[#This Row],[Астра]])","v":0},{"$f":"Таблица3[[#This Row],[Ст10]]+Таблица3[[#This Row],[Ст11]]","v":0},{"$f":"SUMIFS($P$62:$P$116,$C$62:$C$116,Таблица3[[#This Row],[Шир]],$D$62:$D$116,Таблица3[[#This Row],[Дл]],$F$62:$F$116,Таблица3[[#This Row],[Астра]])","v":0},{"$f":"SUMIFS($P$62:$P$116,$C$62:$C$116,\"<\"&Таблица3[[#This Row],[Шир]],$D$62:$D$116,Таблица3[[#This Row],[Дл]],$F$62:$F$116,Таблица3[[#This Row],[Астра]])+SUMIFS($P$62:$P$116,$C$62:$C$116,Таблица3[[#This Row],[Шир]],$D$62:$D$116,\"<\"&Таблица3[[#This Row],[Дл]],$F$62:$F$116,Таблица3[[#This Row],[Астра]])+SUMIFS($P$62:$P$116,$C$62:$C$116,\"<\"&Таблица3[[#This Row],[Шир]],$D$62:$D$116,\"<\"&Таблица3[[#This Row],[Дл]],$F$62:$F$116,Таблица3[[#This Row],[Астра]])","v":0},{"$f":"Таблица3[[#This Row],[Ст13]]+Таблица3[[#This Row],[Ст14]]","v":0},{"$f":"SUMIFS($S$62:$S$116,$C$62:$C$116,Таблица3[[#This Row],[Шир]],$D$62:$D$116,Таблица3[[#This Row],[Дл]],$F$62:$F$116,Таблица3[[#This Row],[Астра]])","v":0},{"$f":"SUMIFS($S$62:$S$116,$C$62:$C$116,\"<\"&Таблица3[[#This Row],[Шир]],$D$62:$D$116,Таблица3[[#This Row],[Дл]],$F$62:$F$116,Таблица3[[#This Row],[Астра]])+SUMIFS($S$62:$S$116,$C$62:$C$116,Таблица3[[#This Row],[Шир]],$D$62:$D$116,\"<\"&Таблица3[[#This Row],[Дл]],$F$62:$F$116,Таблица3[[#This Row],[Астра]])+SUMIFS($S$62:$S$116,$C$62:$C$116,\"<\"&Таблица3[[#This Row],[Шир]],$D$62:$D$116,\"<\"&Таблица3[[#This Row],[Дл]],$F$62:$F$116,Таблица3[[#This Row],[Астра]])","v":0},{"$f":"Таблица3[[#This Row],[Ст16]]+Таблица3[[#This Row],[Ст17]]","v":0},{"$f":"Таблица3[[#This Row],[Ст18]]+Таблица3[[#This Row],[Столбец32]]","v":0},{"$f":"SUMIFS($V$62:$V$116,$C$62:$C$116,Таблица3[[#This Row],[Шир]],$D$62:$D$116,Таблица3[[#This Row],[Дл]],$F$62:$F$116,Таблица3[[#This Row],[Астра]])","v":0},{"$f":"SUMIFS($V$62:$V$116,$C$62:$C$116,\"<\"&Таблица3[[#This Row],[Шир]],$D$62:$D$116,Таблица3[[#This Row],[Дл]],$F$62:$F$116,Таблица3[[#This Row],[Астра]])+SUMIFS($V$62:$V$116,$C$62:$C$116,Таблица3[[#This Row],[Шир]],$D$62:$D$116,\"<\"&Таблица3[[#This Row],[Дл]],$F$62:$F$116,Таблица3[[#This Row],[Астра]])+SUMIFS($V$62:$V$116,$C$62:$C$116,\"<\"&Таблица3[[#This Row],[Шир]],$D$62:$D$116,\"<\"&Таблица3[[#This Row],[Дл]],$F$62:$F$116,Таблица3[[#This Row],[Астра]])","v":0},{"$f":"Таблица3[[#This Row],[Ст19]]+Таблица3[[#This Row],[Ст20]]","v":0},{"$f":"Таблица3[[#This Row],[Ст21]]-Таблица3[[#This Row],[Столбец32]]","v":0},null,"Лист НЖ AISI 304, 1.2 мм, лтнж","Лист НЖ AISI 304","Лист НЖ AISI 304",7.8739999999999997,{"$f":"SUBSTITUTE(Таблица3[[#This Row],[Толщ]],\",\",\".\")","v":"1.2"},{"$f":"SUMIFS($AA$8:$AA$57,$K$8:$K$57,Таблица3[[#This Row],[Столбец9]])","v":0}]
[{"$f":"IF(Таблица3[[#All],[Ст21]]=0,\"z\",\"\")","v":"z"},null,1250,2500,1.5,null,{"$f":"SUMIFS($G$62:$G$116,$D$62:$D$116,Таблица3[[#This Row],[Дл]],$C$62:$C$116,Таблица3[[#This Row],[Шир]],$F$62:$F$116,Таблица3[[#This Row],[Астра]])","v":0},null,{"$f":"CONCATENATE(Таблица3[[#This Row],[Столбец29]],\" \",Таблица3[[#This Row],[Толщ]])","v":"Лист НЖ AISI 304 1,5"},null,{"$f":"Таблица3[[#This Row],[Толщ]]","v":1.5},null,{"$f":"SUMIFS($M$62:$M$116,$C$62:$C$116,Таблица3[[#This Row],[Шир]],$D$62:$D$116,Таблица3[[#This Row],[Дл]],$F$62:$F$116,Таблица3[[#This Row],[Астра]])","v":0},{"$f":"SUMIFS($M$62:$M$116,$C$62:$C$116,\"<\"&Таблица3[[#This Row],[Шир]],$D$62:$D$116,Таблица3[[#This Row],[Дл]],$F$62:$F$116,Таблица3[[#This Row],[Астра]])+SUMIFS($M$62:$M$116,$C$62:$C$116,Таблица3[[#This Row],[Шир]],$D$62:$D$116,\"<\"&Таблица3[[#This Row],[Дл]],$F$62:$F$116,Таблица3[[#This Row],[Астра]])+SUMIFS($M$62:$M$116,$C$62:$C$116,\"<\"&Таблица3[[#This Row],[Шир]],$D$62:$D$116,\"<\"&Таблица3[[#This Row],[Дл]],$F$62:$F$116,Таблица3[[#This Row],[Астра]])","v":0},{"$f":"Таблица3[[#This Row],[Ст10]]+Таблица3[[#This Row],[Ст11]]","v":0},{"$f":"SUMIFS($P$62:$P$116,$C$62:$C$116,Таблица3[[#This Row],[Шир]],$D$62:$D$116,Таблица3[[#This Row],[Дл]],$F$62:$F$116,Таблица3[[#This Row],[Астра]])","v":0},{"$f":"SUMIFS($P$62:$P$116,$C$62:$C$116,\"<\"&Таблица3[[#This Row],[Шир]],$D$62:$D$116,Таблица3[[#This Row],[Дл]],$F$62:$F$116,Таблица3[[#This Row],[Астра]])+SUMIFS($P$62:$P$116,$C$62:$C$116,Таблица3[[#This Row],[Шир]],$D$62:$D$116,\"<\"&Таблица3[[#This Row],[Дл]],$F$62:$F$116,Таблица3[[#This Row],[Астра]])+SUMIFS($P$62:$P$116,$C$62:$C$116,\"<\"&Таблица3[[#This Row],[Шир]],$D$62:$D$116,\"<\"&Таблица3[[#This Row],[Дл]],$F$62:$F$116,Таблица3[[#This Row],[Астра]])","v":0},{"$f":"Таблица3[[#This Row],[Ст13]]+Таблица3[[#This Row],[Ст14]]","v":0},{"$f":"SUMIFS($S$62:$S$116,$C$62:$C$116,Таблица3[[#This Row],[Шир]],$D$62:$D$116,Таблица3[[#This Row],[Дл]],$F$62:$F$116,Таблица3[[#This Row],[Астра]])","v":0},{"$f":"SUMIFS($S$62:$S$116,$C$62:$C$116,\"<\"&Таблица3[[#This Row],[Шир]],$D$62:$D$116,Таблица3[[#This Row],[Дл]],$F$62:$F$116,Таблица3[[#This Row],[Астра]])+SUMIFS($S$62:$S$116,$C$62:$C$116,Таблица3[[#This Row],[Шир]],$D$62:$D$116,\"<\"&Таблица3[[#This Row],[Дл]],$F$62:$F$116,Таблица3[[#This Row],[Астра]])+SUMIFS($S$62:$S$116,$C$62:$C$116,\"<\"&Таблица3[[#This Row],[Шир]],$D$62:$D$116,\"<\"&Таблица3[[#This Row],[Дл]],$F$62:$F$116,Таблица3[[#This Row],[Астра]])","v":0},{"$f":"Таблица3[[#This Row],[Ст16]]+Таблица3[[#This Row],[Ст17]]","v":0},{"$f":"Таблица3[[#This Row],[Ст18]]+Таблица3[[#This Row],[Столбец32]]","v":0},{"$f":"SUMIFS($V$62:$V$116,$C$62:$C$116,Таблица3[[#This Row],[Шир]],$D$62:$D$116,Таблица3[[#This Row],[Дл]],$F$62:$F$116,Таблица3[[#This Row],[Астра]])","v":0},{"$f":"SUMIFS($V$62:$V$116,$C$62:$C$116,\"<\"&Таблица3[[#This Row],[Шир]],$D$62:$D$116,Таблица3[[#This Row],[Дл]],$F$62:$F$116,Таблица3[[#This Row],[Астра]])+SUMIFS($V$62:$V$116,$C$62:$C$116,Таблица3[[#This Row],[Шир]],$D$62:$D$116,\"<\"&Таблица3[[#This Row],[Дл]],$F$62:$F$116,Таблица3[[#This Row],[Астра]])+SUMIFS($V$62:$V$116,$C$62:$C$116,\"<\"&Таблица3[[#This Row],[Шир]],$D$62:$D$116,\"<\"&Таблица3[[#This Row],[Дл]],$F$62:$F$116,Таблица3[[#This Row],[Астра]])","v":0},{"$f":"Таблица3[[#This Row],[Ст19]]+Таблица3[[#This Row],[Ст20]]","v":0},{"$f":"Таблица3[[#This Row],[Ст21]]-Таблица3[[#This Row],[Столбец32]]","v":0},null,"Лист НЖ AISI 304, 1.5 мм, лтнж","Лист НЖ AISI 304","Лист НЖ AISI 304",7.8739999999999997,{"$f":"SUBSTITUTE(Таблица3[[#This Row],[Толщ]],\",\",\".\")","v":"1.5"},{"$f":"SUMIFS($AA$8:$AA$57,$K$8:$K$57,Таблица3[[#This Row],[Столбец9]])","v":0}]
[{"$f":"IF(Таблица3[[#All],[Ст21]]=0,\"z\",\"\")","v":"z"},null,1250,2500,2,null,{"$f":"SUMIFS($G$62:$G$116,$D$62:$D$116,Таблица3[[#This Row],[Дл]],$C$62:$C$116,Таблица3[[#This Row],[Шир]],$F$62:$F$116,Таблица3[[#This Row],[Астра]])","v":0},null,{"$f":"CONCATENATE(Таблица3[[#This Row],[Столбец29]],\" \",Таблица3[[#This Row],[Толщ]])","v":"Лист НЖ AISI 304 2"},null,{"$f":"Таблица3[[#This Row],[Толщ]]","v":2},null,{"$f":"SUMIFS($M$62:$M$116,$C$62:$C$116,Таблица3[[#This Row],[Шир]],$D$62:$D$116,Таблица3[[#This Row],[Дл]],$F$62:$F$116,Таблица3[[#This Row],[Астра]])","v":0},{"$f":"SUMIFS($M$62:$M$116,$C$62:$C$116,\"<\"&Таблица3[[#This Row],[Шир]],$D$62:$D$116,Таблица3[[#This Row],[Дл]],$F$62:$F$116,Таблица3[[#This Row],[Астра]])+SUMIFS($M$62:$M$116,$C$62:$C$116,Таблица3[[#This Row],[Шир]],$D$62:$D$116,\"<\"&Таблица3[[#This Row],[Дл]],$F$62:$F$116,Таблица3[[#This Row],[Астра]])+SUMIFS($M$62:$M$116,$C$62:$C$116,\"<\"&Таблица3[[#This Row],[Шир]],$D$62:$D$116,\"<\"&Таблица3[[#This Row],[Дл]],$F$62:$F$116,Таблица3[[#This Row],[Астра]])","v":0},{"$f":"Таблица3[[#This Row],[Ст10]]+Таблица3[[#This Row],[Ст11]]","v":0},{"$f":"SUMIFS($P$62:$P$116,$C$62:$C$116,Таблица3[[#This Row],[Шир]],$D$62:$D$116,Таблица3[[#This Row],[Дл]],$F$62:$F$116,Таблица3[[#This Row],[Астра]])","v":0},{"$f":"SUMIFS($P$62:$P$116,$C$62:$C$116,\"<\"&Таблица3[[#This Row],[Шир]],$D$62:$D$116,Таблица3[[#This Row],[Дл]],$F$62:$F$116,Таблица3[[#This Row],[Астра]])+SUMIFS($P$62:$P$116,$C$62:$C$116,Таблица3[[#This Row],[Шир]],$D$62:$D$116,\"<\"&Таблица3[[#This Row],[Дл]],$F$62:$F$116,Таблица3[[#This Row],[Астра]])+SUMIFS($P$62:$P$116,$C$62:$C$116,\"<\"&Таблица3[[#This Row],[Шир]],$D$62:$D$116,\"<\"&Таблица3[[#This Row],[Дл]],$F$62:$F$116,Таблица3[[#This Row],[Астра]])","v":0},{"$f":"Таблица3[[#This Row],[Ст13]]+Таблица3[[#This Row],[Ст14]]","v":0},{"$f":"SUMIFS($S$62:$S$116,$C$62:$C$116,Таблица3[[#This Row],[Шир]],$D$62:$D$116,Таблица3[[#This Row],[Дл]],$F$62:$F$116,Таблица3[[#This Row],[Астра]])","v":0},{"$f":"SUMIFS($S$62:$S$116,$C$62:$C$116,\"<\"&Таблица3[[#This Row],[Шир]],$D$62:$D$116,Таблица3[[#This Row],[Дл]],$F$62:$F$116,Таблица3[[#This Row],[Астра]])+SUMIFS($S$62:$S$116,$C$62:$C$116,Таблица3[[#This Row],[Шир]],$D$62:$D$116,\"<\"&Таблица3[[#This Row],[Дл]],$F$62:$F$116,Таблица3[[#This Row],[Астра]])+SUMIFS($S$62:$S$116,$C$62:$C$116,\"<\"&Таблица3[[#This Row],[Шир]],$D$62:$D$116,\"<\"&Таблица3[[#This Row],[Дл]],$F$62:$F$116,Таблица3[[#This Row],[Астра]])","v":0},{"$f":"Таблица3[[#This Row],[Ст16]]+Таблица3[[#This Row],[Ст17]]","v":0},{"$f":"Таблица3[[#This Row],[Ст18]]+Таблица3[[#This Row],[Столбец32]]","v":0},{"$f":"SUMIFS($V$62:$V$116,$C$62:$C$116,Таблица3[[#This Row],[Шир]],$D$62:$D$116,Таблица3[[#This Row],[Дл]],$F$62:$F$116,Таблица3[[#This Row],[Астра]])","v":0},{"$f":"SUMIFS($V$62:$V$116,$C$62:$C$116,\"<\"&Таблица3[[#This Row],[Шир]],$D$62:$D$116,Таблица3[[#This Row],[Дл]],$F$62:$F$116,Таблица3[[#This Row],[Астра]])+SUMIFS($V$62:$V$116,$C$62:$C$116,Таблица3[[#This Row],[Шир]],$D$62:$D$116,\"<\"&Таблица3[[#This Row],[Дл]],$F$62:$F$116,Таблица3[[#This Row],[Астра]])+SUMIFS($V$62:$V$116,$C$62:$C$116,\"<\"&Таблица3[[#This Row],[Шир]],$D$62:$D$116,\"<\"&Таблица3[[#This Row],[Дл]],$F$62:$F$116,Таблица3[[#This Row],[Астра]])","v":0},{"$f":"Таблица3[[#This Row],[Ст19]]+Таблица3[[#This Row],[Ст20]]","v":0},{"$f":"Таблица3[[#This Row],[Ст21]]-Таблица3[[#This Row],[Столбец32]]","v":0},null,"Лист НЖ AISI 304, 2.0 мм, лтнж","Лист НЖ AISI 304","Лист НЖ AISI 304",7.8739999999999997,{"$f":"SUBSTITUTE(Таблица3[[#This Row],[Толщ]],\",\",\".\")","v":"2"},{"$f":"SUMIFS($AA$8:$AA$57,$K$8:$K$57,Таблица3[[#This Row],[Столбец9]])","v":0}]
[{"$f":"IF(Таблица3[[#All],[Ст21]]=0,\"z\",\"\")","v":"z"},null,1250,2500,3,null,{"$f":"SUMIFS($G$62:$G$116,$D$62:$D$116,Таблица3[[#This Row],[Дл]],$C$62:$C$116,Таблица3[[#This Row],[Шир]],$F$62:$F$116,Таблица3[[#This Row],[Астра]])","v":0},null,{"$f":"CONCATENATE(Таблица3[[#This Row],[Столбец29]],\" \",Таблица3[[#This Row],[Толщ]])","v":"Лист НЖ AISI 304 3"},null,{"$f":"Таблица3[[#This Row],[Толщ]]","v":3},null,{"$f":"SUMIFS($M$62:$M$116,$C$62:$C$116,Таблица3[[#This Row],[Шир]],$D$62:$D$116,Таблица3[[#This Row],[Дл]],$F$62:$F$116,Таблица3[[#This Row],[Астра]])","v":0},{"$f":"SUMIFS($M$62:$M$116,$C$62:$C$116,\"<\"&Таблица3[[#This Row],[Шир]],$D$62:$D$116,Таблица3[[#This Row],[Дл]],$F$62:$F$116,Таблица3[[#This Row],[Астра]])+SUMIFS($M$62:$M$116,$C$62:$C$116,Таблица3[[#This Row],[Шир]],$D$62:$D$116,\"<\"&Таблица3[[#This Row],[Дл]],$F$62:$F$116,Таблица3[[#This Row],[Астра]])+SUMIFS($M$62:$M$116,$C$62:$C$116,\"<\"&Таблица3[[#This Row],[Шир]],$D$62:$D$116,\"<\"&Таблица3[[#This Row],[Дл]],$F$62:$F$116,Таблица3[[#This Row],[Астра]])","v":0},{"$f":"Таблица3[[#This Row],[Ст10]]+Таблица3[[#This Row],[Ст11]]","v":0},{"$f":"SUMIFS($P$62:$P$116,$C$62:$C$116,Таблица3[[#This Row],[Шир]],$D$62:$D$116,Таблица3[[#This Row],[Дл]],$F$62:$F$116,Таблица3[[#This Row],[Астра]])","v":0},{"$f":"SUMIFS($P$62:$P$116,$C$62:$C$116,\"<\"&Таблица3[[#This Row],[Шир]],$D$62:$D$116,Таблица3[[#This Row],[Дл]],$F$62:$F$116,Таблица3[[#This Row],[Астра]])+SUMIFS($P$62:$P$116,$C$62:$C$116,Таблица3[[#This Row],[Шир]],$D$62:$D$116,\"<\"&Таблица3[[#This Row],[Дл]],$F$62:$F$116,Таблица3[[#This Row],[Астра]])+SUMIFS($P$62:$P$116,$C$62:$C$116,\"<\"&Таблица3[[#This Row],[Шир]],$D$62:$D$116,\"<\"&Таблица3[[#This Row],[Дл]],$F$62:$F$116,Таблица3[[#This Row],[Астра]])","v":0},{"$f":"Таблица3[[#This Row],[Ст13]]+Таблица3[[#This Row],[Ст14]]","v":0},{"$f":"SUMIFS($S$62:$S$116,$C$62:$C$116,Таблица3[[#This Row],[Шир]],$D$62:$D$116,Таблица3[[#This Row],[Дл]],$F$62:$F$116,Таблица3[[#This Row],[Астра]])","v":0},{"$f":"SUMIFS($S$62:$S$116,$C$62:$C$116,\"<\"&Таблица3[[#This Row],[Шир]],$D$62:$D$116,Таблица3[[#This Row],[Дл]],$F$62:$F$116,Таблица3[[#This Row],[Астра]])+SUMIFS($S$62:$S$116,$C$62:$C$116,Таблица3[[#This Row],[Шир]],$D$62:$D$116,\"<\"&Таблица3[[#This Row],[Дл]],$F$62:$F$116,Таблица3[[#This Row],[Астра]])+SUMIFS($S$62:$S$116,$C$62:$C$116,\"<\"&Таблица3[[#This Row],[Шир]],$D$62:$D$116,\"<\"&Таблица3[[#This Row],[Дл]],$F$62:$F$116,Таблица3[[#This Row],[Астра]])","v":0},{"$f":"Таблица3[[#This Row],[Ст16]]+Таблица3[[#This Row],[Ст17]]","v":0},{"$f":"Таблица3[[#This Row],[Ст18]]+Таблица3[[#This Row],[Столбец32]]","v":0},{"$f":"SUMIFS($V$62:$V$116,$C$62:$C$116,Таблица3[[#This Row],[Шир]],$D$62:$D$116,Таблица3[[#This Row],[Дл]],$F$62:$F$116,Таблица3[[#This Row],[Астра]])","v":0},{"$f":"SUMIFS($V$62:$V$116,$C$62:$C$116,\"<\"&Таблица3[[#This Row],[Шир]],$D$62:$D$116,Таблица3[[#This Row],[Дл]],$F$62:$F$116,Таблица3[[#This Row],[Астра]])+SUMIFS($V$62:$V$116,$C$62:$C$116,Таблица3[[#This Row],[Шир]],$D$62:$D$116,\"<\"&Таблица3[[#This Row],[Дл]],$F$62:$F$116,Таблица3[[#This Row],[Астра]])+SUMIFS($V$62:$V$116,$C$62:$C$116,\"<\"&Таблица3[[#This Row],[Шир]],$D$62:$D$116,\"<\"&Таблица3[[#This Row],[Дл]],$F$62:$F$116,Таблица3[[#This Row],[Астра]])","v":0},{"$f":"Таблица3[[#This Row],[Ст19]]+Таблица3[[#This Row],[Ст20]]","v":0},{"$f":"Таблица3[[#This Row],[Ст21]]-Таблица3[[#This Row],[Столбец32]]","v":0},null,"Лист НЖ AISI 304, 3.0 мм, лтнж","Лист НЖ AISI 304","Лист НЖ AISI 304",7.8739999999999997,{"$f":"SUBSTITUTE(Таблица3[[#This Row],[Толщ]],\",\",\".\")","v":"3"},{"$f":"SUMIFS($AA$8:$AA$57,$K$8:$K$57,Таблица3[[#This Row],[Столбец9]])","v":0}]
[{"$f":"IF(Таблица3[[#All],[Ст21]]=0,\"z\",\"\")","v":"z"},null,1250,2500,0.8,null,{"$f":"SUMIFS($G$62:$G$116,$D$62:$D$116,Таблица3[[#This Row],[Дл]],$C$62:$C$116,Таблица3[[#This Row],[Шир]],$F$62:$F$116,Таблица3[[#This Row],[Астра]])","v":0},null,{"$f":"CONCATENATE(Таблица3[[#This Row],[Столбец29]],\" \",Таблица3[[#This Row],[Толщ]])","v":"Лист ОЦ 0,8"},null,{"$f":"Таблица3[[#This Row],[Толщ]]","v":0.8},null,{"$f":"SUMIFS($M$62:$M$116,$C$62:$C$116,Таблица3[[#This Row],[Шир]],$D$62:$D$116,Таблица3[[#This Row],[Дл]],$F$62:$F$116,Таблица3[[#This Row],[Астра]])","v":0},{"$f":"SUMIFS($M$62:$M$116,$C$62:$C$116,\"<\"&Таблица3[[#This Row],[Шир]],$D$62:$D$116,Таблица3[[#This Row],[Дл]],$F$62:$F$116,Таблица3[[#This Row],[Астра]])+SUMIFS($M$62:$M$116,$C$62:$C$116,Таблица3[[#This Row],[Шир]],$D$62:$D$116,\"<\"&Таблица3[[#This Row],[Дл]],$F$62:$F$116,Таблица3[[#This Row],[Астра]])+SUMIFS($M$62:$M$116,$C$62:$C$116,\"<\"&Таблица3[[#This Row],[Шир]],$D$62:$D$116,\"<\"&Таблица3[[#This Row],[Дл]],$F$62:$F$116,Таблица3[[#This Row],[Астра]])","v":0},{"$f":"Таблица3[[#This Row],[Ст10]]+Таблица3[[#This Row],[Ст11]]","v":0},{"$f":"SUMIFS($P$62:$P$116,$C$62:$C$116,Таблица3[[#This Row],[Шир]],$D$62:$D$116,Таблица3[[#This Row],[Дл]],$F$62:$F$116,Таблица3[[#This Row],[Астра]])","v":0},{"$f":"SUMIFS($P$62:$P$116,$C$62:$C$116,\"<\"&Таблица3[[#This Row],[Шир]],$D$62:$D$116,Таблица3[[#This Row],[Дл]],$F$62:$F$116,Таблица3[[#This Row],[Астра]])+SUMIFS($P$62:$P$116,$C$62:$C$116,Таблица3[[#This Row],[Шир]],$D$62:$D$116,\"<\"&Таблица3[[#This Row],[Дл]],$F$62:$F$116,Таблица3[[#This Row],[Астра]])+SUMIFS($P$62:$P$116,$C$62:$C$116,\"<\"&Таблица3[[#This Row],[Шир]],$D$62:$D$116,\"<\"&Таблица3[[#This Row],[Дл]],$F$62:$F$116,Таблица3[[#This Row],[Астра]])","v":0},{"$f":"Таблица3[[#This Row],[Ст13]]+Таблица3[[#This Row],[Ст14]]","v":0},{"$f":"SUMIFS($S$62:$S$116,$C$62:$C$116,Таблица3[[#This Row],[Шир]],$D$62:$D$116,Таблица3[[#This Row],[Дл]],$F$62:$F$116,Таблица3[[#This Row],[Астра]])","v":0},{"$f":"SUMIFS($S$62:$S$116,$C$62:$C$116,\"<\"&Таблица3[[#This Row],[Шир]],$D$62:$D$116,Таблица3[[#This Row],[Дл]],$F$62:$F$116,Таблица3[[#This Row],[Астра]])+SUMIFS($S$62:$S$116,$C$62:$C$116,Таблица3[[#This Row],[Шир]],$D$62:$D$116,\"<\"&Таблица3[[#This Row],[Дл]],$F$62:$F$116,Таблица3[[#This Row],[Астра]])+SUMIFS($S$62:$S$116,$C$62:$C$116,\"<\"&Таблица3[[#This Row],[Шир]],$D$62:$D$116,\"<\"&Таблица3[[#This Row],[Дл]],$F$62:$F$116,Таблица3[[#This Row],[Астра]])","v":0},{"$f":"Таблица3[[#This Row],[Ст16]]+Таблица3[[#This Row],[Ст17]]","v":0},{"$f":"Таблица3[[#This Row],[Ст18]]+Таблица3[[#This Row],[Столбец32]]","v":0},{"$f":"SUMIFS($V$62:$V$116,$C$62:$C$116,Таблица3[[#This Row],[Шир]],$D$62:$D$116,Таблица3[[#This Row],[Дл]],$F$62:$F$116,Таблица3[[#This Row],[Астра]])","v":0},{"$f":"SUMIFS($V$62:$V$116,$C$62:$C$116,\"<\"&Таблица3[[#This Row],[Шир]],$D$62:$D$116,Таблица3[[#This Row],[Дл]],$F$62:$F$116,Таблица3[[#This Row],[Астра]])+SUMIFS($V$62:$V$116,$C$62:$C$116,Таблица3[[#This Row],[Шир]],$D$62:$D$116,\"<\"&Таблица3[[#This Row],[Дл]],$F$62:$F$116,Таблица3[[#This Row],[Астра]])+SUMIFS($V$62:$V$116,$C$62:$C$116,\"<\"&Таблица3[[#This Row],[Шир]],$D$62:$D$116,\"<\"&Таблица3[[#This Row],[Дл]],$F$62:$F$116,Таблица3[[#This Row],[Астра]])","v":0},{"$f":"Таблица3[[#This Row],[Ст19]]+Таблица3[[#This Row],[Ст20]]","v":0},{"$f":"Таблица3[[#This Row],[Ст21]]-Таблица3[[#This Row],[Столбец32]]","v":0},null,"Лист ОЦ, 0.8 мм, лтоц","Лист ОЦ","Лист ОЦ",7.8739999999999997,{"$f":"SUBSTITUTE(Таблица3[[#This Row],[Толщ]],\",\",\".\")","v":"0.8"},{"$f":"SUMIFS($AA$8:$AA$57,$K$8:$K$57,Таблица3[[#This Row],[Столбец9]])","v":0}]
[{"$f":"IF(Таблица3[[#All],[Ст21]]=0,\"z\",\"\")","v":"z"},null,1000,2000,1,null,{"$f":"SUMIFS($G$62:$G$116,$D$62:$D$116,Таблица3[[#This Row],[Дл]],$C$62:$C$116,Таблица3[[#This Row],[Шир]],$F$62:$F$116,Таблица3[[#This Row],[Астра]])","v":0},null,{"$f":"CONCATENATE(Таблица3[[#This Row],[Столбец29]],\" \",Таблица3[[#This Row],[Толщ]])","v":"Лист ОЦ 1"},null,{"$f":"Таблица3[[#This Row],[Толщ]]","v":1},null,{"$f":"SUMIFS($M$62:$M$116,$C$62:$C$116,Таблица3[[#This Row],[Шир]],$D$62:$D$116,Таблица3[[#This Row],[Дл]],$F$62:$F$116,Таблица3[[#This Row],[Астра]])","v":0},{"$f":"SUMIFS($M$62:$M$116,$C$62:$C$116,\"<\"&Таблица3[[#This Row],[Шир]],$D$62:$D$116,Таблица3[[#This Row],[Дл]],$F$62:$F$116,Таблица3[[#This Row],[Астра]])+SUMIFS($M$62:$M$116,$C$62:$C$116,Таблица3[[#This Row],[Шир]],$D$62:$D$116,\"<\"&Таблица3[[#This Row],[Дл]],$F$62:$F$116,Таблица3[[#This Row],[Астра]])+SUMIFS($M$62:$M$116,$C$62:$C$116,\"<\"&Таблица3[[#This Row],[Шир]],$D$62:$D$116,\"<\"&Таблица3[[#This Row],[Дл]],$F$62:$F$116,Таблица3[[#This Row],[Астра]])","v":0},{"$f":"Таблица3[[#This Row],[Ст10]]+Таблица3[[#This Row],[Ст11]]","v":0},{"$f":"SUMIFS($P$62:$P$116,$C$62:$C$116,Таблица3[[#This Row],[Шир]],$D$62:$D$116,Таблица3[[#This Row],[Дл]],$F$62:$F$116,Таблица3[[#This Row],[Астра]])","v":0},{"$f":"SUMIFS($P$62:$P$116,$C$62:$C$116,\"<\"&Таблица3[[#This Row],[Шир]],$D$62:$D$116,Таблица3[[#This Row],[Дл]],$F$62:$F$116,Таблица3[[#This Row],[Астра]])+SUMIFS($P$62:$P$116,$C$62:$C$116,Таблица3[[#This Row],[Шир]],$D$62:$D$116,\"<\"&Таблица3[[#This Row],[Дл]],$F$62:$F$116,Таблица3[[#This Row],[Астра]])+SUMIFS($P$62:$P$116,$C$62:$C$116,\"<\"&Таблица3[[#This Row],[Шир]],$D$62:$D$116,\"<\"&Таблица3[[#This Row],[Дл]],$F$62:$F$116,Таблица3[[#This Row],[Астра]])","v":0},{"$f":"Таблица3[[#This Row],[Ст13]]+Таблица3[[#This Row],[Ст14]]","v":0},{"$f":"SUMIFS($S$62:$S$116,$C$62:$C$116,Таблица3[[#This Row],[Шир]],$D$62:$D$116,Таблица3[[#This Row],[Дл]],$F$62:$F$116,Таблица3[[#This Row],[Астра]])","v":0},{"$f":"SUMIFS($S$62:$S$116,$C$62:$C$116,\"<\"&Таблица3[[#This Row],[Шир]],$D$62:$D$116,Таблица3[[#This Row],[Дл]],$F$62:$F$116,Таблица3[[#This Row],[Астра]])+SUMIFS($S$62:$S$116,$C$62:$C$116,Таблица3[[#This Row],[Шир]],$D$62:$D$116,\"<\"&Таблица3[[#This Row],[Дл]],$F$62:$F$116,Таблица3[[#This Row],[Астра]])+SUMIFS($S$62:$S$116,$C$62:$C$116,\"<\"&Таблица3[[#This Row],[Шир]],$D$62:$D$116,\"<\"&Таблица3[[#This Row],[Дл]],$F$62:$F$116,Таблица3[[#This Row],[Астра]])","v":0},{"$f":"Таблица3[[#This Row],[Ст16]]+Таблица3[[#This Row],[Ст17]]","v":0},{"$f":"Таблица3[[#This Row],[Ст18]]+Таблица3[[#This Row],[Столбец32]]","v":0},{"$f":"SUMIFS($V$62:$V$116,$C$62:$C$116,Таблица3[[#This Row],[Шир]],$D$62:$D$116,Таблица3[[#This Row],[Дл]],$F$62:$F$116,Таблица3[[#This Row],[Астра]])","v":0},{"$f":"SUMIFS($V$62:$V$116,$C$62:$C$116,\"<\"&Таблица3[[#This Row],[Шир]],$D$62:$D$116,Таблица3[[#This Row],[Дл]],$F$62:$F$116,Таблица3[[#This Row],[Астра]])+SUMIFS($V$62:$V$116,$C$62:$C$116,Таблица3[[#This Row],[Шир]],$D$62:$D$116,\"<\"&Таблица3[[#This Row],[Дл]],$F$62:$F$116,Таблица3[[#This Row],[Астра]])+SUMIFS($V$62:$V$116,$C$62:$C$116,\"<\"&Таблица3[[#This Row],[Шир]],$D$62:$D$116,\"<\"&Таблица3[[#This Row],[Дл]],$F$62:$F$116,Таблица3[[#This Row],[Астра]])","v":0},{"$f":"Таблица3[[#This Row],[Ст19]]+Таблица3[[#This Row],[Ст20]]","v":0},{"$f":"Таблица3[[#This Row],[Ст21]]-Таблица3[[#This Row],[Столбец32]]","v":0},null,"Лист ОЦ, 1.0 мм, лтоц","Лист ОЦ","Лист ОЦ",7.8739999999999997,{"$f":"SUBSTITUTE(Таблица3[[#This Row],[Толщ]],\",\",\".\")","v":"1"},{"$f":"SUMIFS($AA$8:$AA$57,$K$8:$K$57,Таблица3[[#This Row],[Столбец9]])","v":0}]
[{"$f":"IF(Таблица3[[#All],[Ст21]]=0,\"z\",\"\")","v":"z"},null,1000,2000,1.5,null,{"$f":"SUMIFS($G$62:$G$116,$D$62:$D$116,Таблица3[[#This Row],[Дл]],$C$62:$C$116,Таблица3[[#This Row],[Шир]],$F$62:$F$116,Таблица3[[#This Row],[Астра]])","v":0},null,{"$f":"CONCATENATE(Таблица3[[#This Row],[Столбец29]],\" \",Таблица3[[#This Row],[Толщ]])","v":"Лист ОЦ 1,5"},null,{"$f":"Таблица3[[#This Row],[Толщ]]","v":1.5},null,{"$f":"SUMIFS($M$62:$M$116,$C$62:$C$116,Таблица3[[#This Row],[Шир]],$D$62:$D$116,Таблица3[[#This Row],[Дл]],$F$62:$F$116,Таблица3[[#This Row],[Астра]])","v":0},{"$f":"SUMIFS($M$62:$M$116,$C$62:$C$116,\"<\"&Таблица3[[#This Row],[Шир]],$D$62:$D$116,Таблица3[[#This Row],[Дл]],$F$62:$F$116,Таблица3[[#This Row],[Астра]])+SUMIFS($M$62:$M$116,$C$62:$C$116,Таблица3[[#This Row],[Шир]],$D$62:$D$116,\"<\"&Таблица3[[#This Row],[Дл]],$F$62:$F$116,Таблица3[[#This Row],[Астра]])+SUMIFS($M$62:$M$116,$C$62:$C$116,\"<\"&Таблица3[[#This Row],[Шир]],$D$62:$D$116,\"<\"&Таблица3[[#This Row],[Дл]],$F$62:$F$116,Таблица3[[#This Row],[Астра]])","v":0},{"$f":"Таблица3[[#This Row],[Ст10]]+Таблица3[[#This Row],[Ст11]]","v":0},{"$f":"SUMIFS($P$62:$P$116,$C$62:$C$116,Таблица3[[#This Row],[Шир]],$D$62:$D$116,Таблица3[[#This Row],[Дл]],$F$62:$F$116,Таблица3[[#This Row],[Астра]])","v":0},{"$f":"SUMIFS($P$62:$P$116,$C$62:$C$116,\"<\"&Таблица3[[#This Row],[Шир]],$D$62:$D$116,Таблица3[[#This Row],[Дл]],$F$62:$F$116,Таблица3[[#This Row],[Астра]])+SUMIFS($P$62:$P$116,$C$62:$C$116,Таблица3[[#This Row],[Шир]],$D$62:$D$116,\"<\"&Таблица3[[#This Row],[Дл]],$F$62:$F$116,Таблица3[[#This Row],[Астра]])+SUMIFS($P$62:$P$116,$C$62:$C$116,\"<\"&Таблица3[[#This Row],[Шир]],$D$62:$D$116,\"<\"&Таблица3[[#This Row],[Дл]],$F$62:$F$116,Таблица3[[#This Row],[Астра]])","v":0},{"$f":"Таблица3[[#This Row],[Ст13]]+Таблица3[[#This Row],[Ст14]]","v":0},{"$f":"SUMIFS($S$62:$S$116,$C$62:$C$116,Таблица3[[#This Row],[Шир]],$D$62:$D$116,Таблица3[[#This Row],[Дл]],$F$62:$F$116,Таблица3[[#This Row],[Астра]])","v":0},{"$f":"SUMIFS($S$62:$S$116,$C$62:$C$116,\"<\"&Таблица3[[#This Row],[Шир]],$D$62:$D$116,Таблица3[[#This Row],[Дл]],$F$62:$F$116,Таблица3[[#This Row],[Астра]])+SUMIFS($S$62:$S$116,$C$62:$C$116,Таблица3[[#This Row],[Шир]],$D$62:$D$116,\"<\"&Таблица3[[#This Row],[Дл]],$F$62:$F$116,Таблица3[[#This Row],[Астра]])+SUMIFS($S$62:$S$116,$C$62:$C$116,\"<\"&Таблица3[[#This Row],[Шир]],$D$62:$D$116,\"<\"&Таблица3[[#This Row],[Дл]],$F$62:$F$116,Таблица3[[#This Row],[Астра]])","v":0},{"$f":"Таблица3[[#This Row],[Ст16]]+Таблица3[[#This Row],[Ст17]]","v":0},{"$f":"Таблица3[[#This Row],[Ст18]]+Таблица3[[#This Row],[Столбец32]]","v":0},{"$f":"SUMIFS($V$62:$V$116,$C$62:$C$116,Таблица3[[#This Row],[Шир]],$D$62:$D$116,Таблица3[[#This Row],[Дл]],$F$62:$F$116,Таблица3[[#This Row],[Астра]])","v":0},{"$f":"SUMIFS($V$62:$V$116,$C$62:$C$116,\"<\"&Таблица3[[#This Row],[Шир]],$D$62:$D$116,Таблица3[[#This Row],[Дл]],$F$62:$F$116,Таблица3[[#This Row],[Астра]])+SUMIFS($V$62:$V$116,$C$62:$C$116,Таблица3[[#This Row],[Шир]],$D$62:$D$116,\"<\"&Таблица3[[#This Row],[Дл]],$F$62:$F$116,Таблица3[[#This Row],[Астра]])+SUMIFS($V$62:$V$116,$C$62:$C$116,\"<\"&Таблица3[[#This Row],[Шир]],$D$62:$D$116,\"<\"&Таблица3[[#This Row],[Дл]],$F$62:$F$116,Таблица3[[#This Row],[Астра]])","v":0},{"$f":"Таблица3[[#This Row],[Ст19]]+Таблица3[[#This Row],[Ст20]]","v":0},{"$f":"Таблица3[[#This Row],[Ст21]]-Таблица3[[#This Row],[Столбец32]]","v":0},null,"Лист ОЦ, 1.5 мм, лтоц","Лист ОЦ","Лист ОЦ",7.8739999999999997,{"$f":"SUBSTITUTE(Таблица3[[#This Row],[Толщ]],\",\",\".\")","v":"1.5"},{"$f":"SUMIFS($AA$8:$AA$57,$K$8:$K$57,Таблица3[[#This Row],[Столбец9]])","v":0}]
[{"$f":"IF(Таблица3[[#All],[Ст21]]=0,\"z\",\"\")","v":"z"},null,1000,2000,2,null,{"$f":"SUMIFS($G$62:$G$116,$D$62:$D$116,Таблица3[[#This Row],[Дл]],$C$62:$C$116,Таблица3[[#This Row],[Шир]],$F$62:$F$116,Таблица3[[#This Row],[Астра]])","v":0},null,{"$f":"CONCATENATE(Таблица3[[#This Row],[Столбец29]],\" \",Таблица3[[#This Row],[Толщ]])","v":"Лист ОЦ 2"},null,{"$f":"Таблица3[[#This Row],[Толщ]]","v":2},null,{"$f":"SUMIFS($M$62:$M$116,$C$62:$C$116,Таблица3[[#This Row],[Шир]],$D$62:$D$116,Таблица3[[#This Row],[Дл]],$F$62:$F$116,Таблица3[[#This Row],[Астра]])","v":0},{"$f":"SUMIFS($M$62:$M$116,$C$62:$C$116,\"<\"&Таблица3[[#This Row],[Шир]],$D$62:$D$116,Таблица3[[#This Row],[Дл]],$F$62:$F$116,Таблица3[[#This Row],[Астра]])+SUMIFS($M$62:$M$116,$C$62:$C$116,Таблица3[[#This Row],[Шир]],$D$62:$D$116,\"<\"&Таблица3[[#This Row],[Дл]],$F$62:$F$116,Таблица3[[#This Row],[Астра]])+SUMIFS($M$62:$M$116,$C$62:$C$116,\"<\"&Таблица3[[#This Row],[Шир]],$D$62:$D$116,\"<\"&Таблица3[[#This Row],[Дл]],$F$62:$F$116,Таблица3[[#This Row],[Астра]])","v":0},{"$f":"Таблица3[[#This Row],[Ст10]]+Таблица3[[#This Row],[Ст11]]","v":0},{"$f":"SUMIFS($P$62:$P$116,$C$62:$C$116,Таблица3[[#This Row],[Шир]],$D$62:$D$116,Таблица3[[#This Row],[Дл]],$F$62:$F$116,Таблица3[[#This Row],[Астра]])","v":0},{"$f":"SUMIFS($P$62:$P$116,$C$62:$C$116,\"<\"&Таблица3[[#This Row],[Шир]],$D$62:$D$116,Таблица3[[#This Row],[Дл]],$F$62:$F$116,Таблица3[[#This Row],[Астра]])+SUMIFS($P$62:$P$116,$C$62:$C$116,Таблица3[[#This Row],[Шир]],$D$62:$D$116,\"<\"&Таблица3[[#This Row],[Дл]],$F$62:$F$116,Таблица3[[#This Row],[Астра]])+SUMIFS($P$62:$P$116,$C$62:$C$116,\"<\"&Таблица3[[#This Row],[Шир]],$D$62:$D$116,\"<\"&Таблица3[[#This Row],[Дл]],$F$62:$F$116,Таблица3[[#This Row],[Астра]])","v":0},{"$f":"Таблица3[[#This Row],[Ст13]]+Таблица3[[#This Row],[Ст14]]","v":0},{"$f":"SUMIFS($S$62:$S$116,$C$62:$C$116,Таблица3[[#This Row],[Шир]],$D$62:$D$116,Таблица3[[#This Row],[Дл]],$F$62:$F$116,Таблица3[[#This Row],[Астра]])","v":0},{"$f":"SUMIFS($S$62:$S$116,$C$62:$C$116,\"<\"&Таблица3[[#This Row],[Шир]],$D$62:$D$116,Таблица3[[#This Row],[Дл]],$F$62:$F$116,Таблица3[[#This Row],[Астра]])+SUMIFS($S$62:$S$116,$C$62:$C$116,Таблица3[[#This Row],[Шир]],$D$62:$D$116,\"<\"&Таблица3[[#This Row],[Дл]],$F$62:$F$116,Таблица3[[#This Row],[Астра]])+SUMIFS($S$62:$S$116,$C$62:$C$116,\"<\"&Таблица3[[#This Row],[Шир]],$D$62:$D$116,\"<\"&Таблица3[[#This Row],[Дл]],$F$62:$F$116,Таблица3[[#This Row],[Астра]])","v":0},{"$f":"Таблица3[[#This Row],[Ст16]]+Таблица3[[#This Row],[Ст17]]","v":0},{"$f":"Таблица3[[#This Row],[Ст18]]+Таблица3[[#This Row],[Столбец32]]","v":0},{"$f":"SUMIFS($V$62:$V$116,$C$62:$C$116,Таблица3[[#This Row],[Шир]],$D$62:$D$116,Таблица3[[#This Row],[Дл]],$F$62:$F$116,Таблица3[[#This Row],[Астра]])","v":0},{"$f":"SUMIFS($V$62:$V$116,$C$62:$C$116,\"<\"&Таблица3[[#This Row],[Шир]],$D$62:$D$116,Таблица3[[#This Row],[Дл]],$F$62:$F$116,Таблица3[[#This Row],[Астра]])+SUMIFS($V$62:$V$116,$C$62:$C$116,Таблица3[[#This Row],[Шир]],$D$62:$D$116,\"<\"&Таблица3[[#This Row],[Дл]],$F$62:$F$116,Таблица3[[#This Row],[Астра]])+SUMIFS($V$62:$V$116,$C$62:$C$116,\"<\"&Таблица3[[#This Row],[Шир]],$D$62:$D$116,\"<\"&Таблица3[[#This Row],[Дл]],$F$62:$F$116,Таблица3[[#This Row],[Астра]])","v":0},{"$f":"Таблица3[[#This Row],[Ст19]]+Таблица3[[#This Row],[Ст20]]","v":0},{"$f":"Таблица3[[#This Row],[Ст21]]-Таблица3[[#This Row],[Столбец32]]","v":0},null,"Лист ОЦ, 2.0 мм, лтоц","Лист ОЦ","Лист ОЦ",7.8739999999999997,{"$f":"SUBSTITUTE(Таблица3[[#This Row],[Толщ]],\",\",\".\")","v":"2"},{"$f":"SUMIFS($AA$8:$AA$57,$K$8:$K$57,Таблица3[[#This Row],[Столбец9]])","v":0}]
[{"$f":"IF(Таблица3[[#All],[Ст21]]=0,\"z\",\"\")","v":"z"},null,1000,2000,1,null,{"$f":"SUMIFS($G$62:$G$116,$D$62:$D$116,Таблица3[[#This Row],[Дл]],$C$62:$C$116,Таблица3[[#This Row],[Шир]],$F$62:$F$116,Таблица3[[#This Row],[Астра]])","v":0},null,{"$f":"CONCATENATE(Таблица3[[#This Row],[Столбец29]],\" \",Таблица3[[#This Row],[Толщ]])","v":"Сетка ПВЛ 1"},null,{"$f":"Таблица3[[#This Row],[Толщ]]","v":1},null,{"$f":"SUMIFS($M$62:$M$116,$C$62:$C$116,Таблица3[[#This Row],[Шир]],$D$62:$D$116,Таблица3[[#This Row],[Дл]],$F$62:$F$116,Таблица3[[#This Row],[Астра]])","v":0},{"$f":"SUMIFS($M$62:$M$116,$C$62:$C$116,\"<\"&Таблица3[[#This Row],[Шир]],$D$62:$D$116,Таблица3[[#This Row],[Дл]],$F$62:$F$116,Таблица3[[#This Row],[Астра]])+SUMIFS($M$62:$M$116,$C$62:$C$116,Таблица3[[#This Row],[Шир]],$D$62:$D$116,\"<\"&Таблица3[[#This Row],[Дл]],$F$62:$F$116,Таблица3[[#This Row],[Астра]])+SUMIFS($M$62:$M$116,$C$62:$C$116,\"<\"&Таблица3[[#This Row],[Шир]],$D$62:$D$116,\"<\"&Таблица3[[#This Row],[Дл]],$F$62:$F$116,Таблица3[[#This Row],[Астра]])","v":0},{"$f":"Таблица3[[#This Row],[Ст10]]+Таблица3[[#This Row],[Ст11]]","v":0},{"$f":"SUMIFS($P$62:$P$116,$C$62:$C$116,Таблица3[[#This Row],[Шир]],$D$62:$D$116,Таблица3[[#This Row],[Дл]],$F$62:$F$116,Таблица3[[#This Row],[Астра]])","v":0},{"$f":"SUMIFS($P$62:$P$116,$C$62:$C$116,\"<\"&Таблица3[[#This Row],[Шир]],$D$62:$D$116,Таблица3[[#This Row],[Дл]],$F$62:$F$116,Таблица3[[#This Row],[Астра]])+SUMIFS($P$62:$P$116,$C$62:$C$116,Таблица3[[#This Row],[Шир]],$D$62:$D$116,\"<\"&Таблица3[[#This Row],[Дл]],$F$62:$F$116,Таблица3[[#This Row],[Астра]])+SUMIFS($P$62:$P$116,$C$62:$C$116,\"<\"&Таблица3[[#This Row],[Шир]],$D$62:$D$116,\"<\"&Таблица3[[#This Row],[Дл]],$F$62:$F$116,Таблица3[[#This Row],[Астра]])","v":0},{"$f":"Таблица3[[#This Row],[Ст13]]+Таблица3[[#This Row],[Ст14]]","v":0},{"$f":"SUMIFS($S$62:$S$116,$C$62:$C$116,Таблица3[[#This Row],[Шир]],$D$62:$D$116,Таблица3[[#This Row],[Дл]],$F$62:$F$116,Таблица3[[#This Row],[Астра]])","v":0},{"$f":"SUMIFS($S$62:$S$116,$C$62:$C$116,\"<\"&Таблица3[[#This Row],[Шир]],$D$62:$D$116,Таблица3[[#This Row],[Дл]],$F$62:$F$116,Таблица3[[#This Row],[Астра]])+SUMIFS($S$62:$S$116,$C$62:$C$116,Таблица3[[#This Row],[Шир]],$D$62:$D$116,\"<\"&Таблица3[[#This Row],[Дл]],$F$62:$F$116,Таблица3[[#This Row],[Астра]])+SUMIFS($S$62:$S$116,$C$62:$C$116,\"<\"&Таблица3[[#This Row],[Шир]],$D$62:$D$116,\"<\"&Таблица3[[#This Row],[Дл]],$F$62:$F$116,Таблица3[[#This Row],[Астра]])","v":0},{"$f":"Таблица3[[#This Row],[Ст16]]+Таблица3[[#This Row],[Ст17]]","v":0},{"$f":"Таблица3[[#This Row],[Ст18]]+Таблица3[[#This Row],[Столбец32]]","v":0},{"$f":"SUMIFS($V$62:$V$116,$C$62:$C$116,Таблица3[[#This Row],[Шир]],$D$62:$D$116,Таблица3[[#This Row],[Дл]],$F$62:$F$116,Таблица3[[#This Row],[Астра]])","v":0},{"$f":"SUMIFS($V$62:$V$116,$C$62:$C$116,\"<\"&Таблица3[[#This Row],[Шир]],$D$62:$D$116,Таблица3[[#This Row],[Дл]],$F$62:$F$116,Таблица3[[#This Row],[Астра]])+SUMIFS($V$62:$V$116,$C$62:$C$116,Таблица3[[#This Row],[Шир]],$D$62:$D$116,\"<\"&Таблица3[[#This Row],[Дл]],$F$62:$F$116,Таблица3[[#This Row],[Астра]])+SUMIFS($V$62:$V$116,$C$62:$C$116,\"<\"&Таблица3[[#This Row],[Шир]],$D$62:$D$116,\"<\"&Таблица3[[#This Row],[Дл]],$F$62:$F$116,Таблица3[[#This Row],[Астра]])","v":0},{"$f":"Таблица3[[#This Row],[Ст19]]+Таблица3[[#This Row],[Ст20]]","v":0},{"$f":"Таблица3[[#This Row],[Ст21]]-Таблица3[[#This Row],[Столбец32]]","v":0},null,"Сетка ПВЛ, 1.0 мм","Сетка ПВЛ","Сетка ПВЛ",1.68,{"$f":"SUBSTITUTE(Таблица3[[#This Row],[Толщ]],\",\",\".\")","v":"1"},{"$f":"SUMIFS($AA$8:$AA$57,$K$8:$K$57,Таблица3[[#This Row],[Столбец9]])","v":0}]
[{"$f":"IF(Таблица3[[#All],[Ст21]]=0,\"z\",\"\")","v":"z"},null,1000,2000,5,null,{"$f":"SUMIFS($G$62:$G$116,$D$62:$D$116,Таблица3[[#This Row],[Дл]],$C$62:$C$116,Таблица3[[#This Row],[Шир]],$F$62:$F$116,Таблица3[[#This Row],[Астра]])","v":0},null,{"$f":"CONCATENATE(Таблица3[[#This Row],[Столбец29]],\" \",Таблица3[[#This Row],[Толщ]])","v":"Сетка ПВЛ 5"},null,{"$f":"Таблица3[[#This Row],[Толщ]]","v":5},null,{"$f":"SUMIFS($M$62:$M$116,$C$62:$C$116,Таблица3[[#This Row],[Шир]],$D$62:$D$116,Таблица3[[#This Row],[Дл]],$F$62:$F$116,Таблица3[[#This Row],[Астра]])","v":0},{"$f":"SUMIFS($M$62:$M$116,$C$62:$C$116,\"<\"&Таблица3[[#This Row],[Шир]],$D$62:$D$116,Таблица3[[#This Row],[Дл]],$F$62:$F$116,Таблица3[[#This Row],[Астра]])+SUMIFS($M$62:$M$116,$C$62:$C$116,Таблица3[[#This Row],[Шир]],$D$62:$D$116,\"<\"&Таблица3[[#This Row],[Дл]],$F$62:$F$116,Таблица3[[#This Row],[Астра]])+SUMIFS($M$62:$M$116,$C$62:$C$116,\"<\"&Таблица3[[#This Row],[Шир]],$D$62:$D$116,\"<\"&Таблица3[[#This Row],[Дл]],$F$62:$F$116,Таблица3[[#This Row],[Астра]])","v":0},{"$f":"Таблица3[[#This Row],[Ст10]]+Таблица3[[#This Row],[Ст11]]","v":0},{"$f":"SUMIFS($P$62:$P$116,$C$62:$C$116,Таблица3[[#This Row],[Шир]],$D$62:$D$116,Таблица3[[#This Row],[Дл]],$F$62:$F$116,Таблица3[[#This Row],[Астра]])","v":0},{"$f":"SUMIFS($P$62:$P$116,$C$62:$C$116,\"<\"&Таблица3[[#This Row],[Шир]],$D$62:$D$116,Таблица3[[#This Row],[Дл]],$F$62:$F$116,Таблица3[[#This Row],[Астра]])+SUMIFS($P$62:$P$116,$C$62:$C$116,Таблица3[[#This Row],[Шир]],$D$62:$D$116,\"<\"&Таблица3[[#This Row],[Дл]],$F$62:$F$116,Таблица3[[#This Row],[Астра]])+SUMIFS($P$62:$P$116,$C$62:$C$116,\"<\"&Таблица3[[#This Row],[Шир]],$D$62:$D$116,\"<\"&Таблица3[[#This Row],[Дл]],$F$62:$F$116,Таблица3[[#This Row],[Астра]])","v":0},{"$f":"Таблица3[[#This Row],[Ст13]]+Таблица3[[#This Row],[Ст14]]","v":0},{"$f":"SUMIFS($S$62:$S$116,$C$62:$C$116,Таблица3[[#This Row],[Шир]],$D$62:$D$116,Таблица3[[#This Row],[Дл]],$F$62:$F$116,Таблица3[[#This Row],[Астра]])","v":0},{"$f":"SUMIFS($S$62:$S$116,$C$62:$C$116,\"<\"&Таблица3[[#This Row],[Шир]],$D$62:$D$116,Таблица3[[#This Row],[Дл]],$F$62:$F$116,Таблица3[[#This Row],[Астра]])+SUMIFS($S$62:$S$116,$C$62:$C$116,Таблица3[[#This Row],[Шир]],$D$62:$D$116,\"<\"&Таблица3[[#This Row],[Дл]],$F$62:$F$116,Таблица3[[#This Row],[Астра]])+SUMIFS($S$62:$S$116,$C$62:$C$116,\"<\"&Таблица3[[#This Row],[Шир]],$D$62:$D$116,\"<\"&Таблица3[[#This Row],[Дл]],$F$62:$F$116,Таблица3[[#This Row],[Астра]])","v":0},{"$f":"Таблица3[[#This Row],[Ст16]]+Таблица3[[#This Row],[Ст17]]","v":0},{"$f":"Таблица3[[#This Row],[Ст18]]+Таблица3[[#This Row],[Столбец32]]","v":0},{"$f":"SUMIFS($V$62:$V$116,$C$62:$C$116,Таблица3[[#This Row],[Шир]],$D$62:$D$116,Таблица3[[#This Row],[Дл]],$F$62:$F$116,Таблица3[[#This Row],[Астра]])","v":0},{"$f":"SUMIFS($V$62:$V$116,$C$62:$C$116,\"<\"&Таблица3[[#This Row],[Шир]],$D$62:$D$116,Таблица3[[#This Row],[Дл]],$F$62:$F$116,Таблица3[[#This Row],[Астра]])+SUMIFS($V$62:$V$116,$C$62:$C$116,Таблица3[[#This Row],[Шир]],$D$62:$D$116,\"<\"&Таблица3[[#This Row],[Дл]],$F$62:$F$116,Таблица3[[#This Row],[Астра]])+SUMIFS($V$62:$V$116,$C$62:$C$116,\"<\"&Таблица3[[#This Row],[Шир]],$D$62:$D$116,\"<\"&Таблица3[[#This Row],[Дл]],$F$62:$F$116,Таблица3[[#This Row],[Астра]])","v":0},{"$f":"Таблица3[[#This Row],[Ст19]]+Таблица3[[#This Row],[Ст20]]","v":0},{"$f":"Таблица3[[#This Row],[Ст21]]-Таблица3[[#This Row],[Столбец32]]","v":0},null,"Сетка ПВЛ, 5.0 мм","Сетка ПВЛ","Сетка ПВЛ",4,{"$f":"SUBSTITUTE(Таблица3[[#This Row],[Толщ]],\",\",\".\")","v":"5"},{"$f":"SUMIFS($AA$8:$AA$57,$K$8:$K$57,Таблица3[[#This Row],[Столбец9]])","v":0}]
[{"$f":"IF(Таблица3[[#All],[Ст21]]=0,\"z\",\"\")","v":"z"},null,1250,2500,3,null,{"$f":"SUMIFS($G$62:$G$116,$D$62:$D$116,Таблица3[[#This Row],[Дл]],$C$62:$C$116,Таблица3[[#This Row],[Шир]],$F$62:$F$116,Таблица3[[#This Row],[Астра]])","v":0},null,{"$f":"CONCATENATE(Таблица3[[#This Row],[Столбец29]],\" \",Таблица3[[#This Row],[Толщ]])","v":"Сталь котловая 3"},null,{"$f":"Таблица3[[#This Row],[Толщ]]","v":3},null,{"$f":"SUMIFS($M$62:$M$116,$C$62:$C$116,Таблица3[[#This Row],[Шир]],$D$62:$D$116,Таблица3[[#This Row],[Дл]],$F$62:$F$116,Таблица3[[#This Row],[Астра]])","v":0},{"$f":"SUMIFS($M$62:$M$116,$C$62:$C$116,\"<\"&Таблица3[[#This Row],[Шир]],$D$62:$D$116,Таблица3[[#This Row],[Дл]],$F$62:$F$116,Таблица3[[#This Row],[Астра]])+SUMIFS($M$62:$M$116,$C$62:$C$116,Таблица3[[#This Row],[Шир]],$D$62:$D$116,\"<\"&Таблица3[[#This Row],[Дл]],$F$62:$F$116,Таблица3[[#This Row],[Астра]])+SUMIFS($M$62:$M$116,$C$62:$C$116,\"<\"&Таблица3[[#This Row],[Шир]],$D$62:$D$116,\"<\"&Таблица3[[#This Row],[Дл]],$F$62:$F$116,Таблица3[[#This Row],[Астра]])","v":0},{"$f":"Таблица3[[#This Row],[Ст10]]+Таблица3[[#This Row],[Ст11]]","v":0},{"$f":"SUMIFS($P$62:$P$116,$C$62:$C$116,Таблица3[[#This Row],[Шир]],$D$62:$D$116,Таблица3[[#This Row],[Дл]],$F$62:$F$116,Таблица3[[#This Row],[Астра]])","v":0},{"$f":"SUMIFS($P$62:$P$116,$C$62:$C$116,\"<\"&Таблица3[[#This Row],[Шир]],$D$62:$D$116,Таблица3[[#This Row],[Дл]],$F$62:$F$116,Таблица3[[#This Row],[Астра]])+SUMIFS($P$62:$P$116,$C$62:$C$116,Таблица3[[#This Row],[Шир]],$D$62:$D$116,\"<\"&Таблица3[[#This Row],[Дл]],$F$62:$F$116,Таблица3[[#This Row],[Астра]])+SUMIFS($P$62:$P$116,$C$62:$C$116,\"<\"&Таблица3[[#This Row],[Шир]],$D$62:$D$116,\"<\"&Таблица3[[#This Row],[Дл]],$F$62:$F$116,Таблица3[[#This Row],[Астра]])","v":0},{"$f":"Таблица3[[#This Row],[Ст13]]+Таблица3[[#This Row],[Ст14]]","v":0},{"$f":"SUMIFS($S$62:$S$116,$C$62:$C$116,Таблица3[[#This Row],[Шир]],$D$62:$D$116,Таблица3[[#This Row],[Дл]],$F$62:$F$116,Таблица3[[#This Row],[Астра]])","v":0},{"$f":"SUMIFS($S$62:$S$116,$C$62:$C$116,\"<\"&Таблица3[[#This Row],[Шир]],$D$62:$D$116,Таблица3[[#This Row],[Дл]],$F$62:$F$116,Таблица3[[#This Row],[Астра]])+SUMIFS($S$62:$S$116,$C$62:$C$116,Таблица3[[#This Row],[Шир]],$D$62:$D$116,\"<\"&Таблица3[[#This Row],[Дл]],$F$62:$F$116,Таблица3[[#This Row],[Астра]])+SUMIFS($S$62:$S$116,$C$62:$C$116,\"<\"&Таблица3[[#This Row],[Шир]],$D$62:$D$116,\"<\"&Таблица3[[#This Row],[Дл]],$F$62:$F$116,Таблица3[[#This Row],[Астра]])","v":0},{"$f":"Таблица3[[#This Row],[Ст16]]+Таблица3[[#This Row],[Ст17]]","v":0},{"$f":"Таблица3[[#This Row],[Ст18]]+Таблица3[[#This Row],[Столбец32]]","v":0},{"$f":"SUMIFS($V$62:$V$116,$C$62:$C$116,Таблица3[[#This Row],[Шир]],$D$62:$D$116,Таблица3[[#This Row],[Дл]],$F$62:$F$116,Таблица3[[#This Row],[Астра]])","v":0},{"$f":"SUMIFS($V$62:$V$116,$C$62:$C$116,\"<\"&Таблица3[[#This Row],[Шир]],$D$62:$D$116,Таблица3[[#This Row],[Дл]],$F$62:$F$116,Таблица3[[#This Row],[Астра]])+SUMIFS($V$62:$V$116,$C$62:$C$116,Таблица3[[#This Row],[Шир]],$D$62:$D$116,\"<\"&Таблица3[[#This Row],[Дл]],$F$62:$F$116,Таблица3[[#This Row],[Астра]])+SUMIFS($V$62:$V$116,$C$62:$C$116,\"<\"&Таблица3[[#This Row],[Шир]],$D$62:$D$116,\"<\"&Таблица3[[#This Row],[Дл]],$F$62:$F$116,Таблица3[[#This Row],[Астра]])","v":0},{"$f":"Таблица3[[#This Row],[Ст19]]+Таблица3[[#This Row],[Ст20]]","v":0},{"$f":"Таблица3[[#This Row],[Ст21]]-Таблица3[[#This Row],[Столбец32]]","v":0},null,"Сталь котловая, 3.0 мм","Сталь котловая","Сталь котловая",7.8739999999999997,{"$f":"SUBSTITUTE(Таблица3[[#This Row],[Толщ]],\",\",\".\")","v":"3"},{"$f":"SUMIFS($AA$8:$AA$57,$K$8:$K$57,Таблица3[[#This Row],[Столбец9]])","v":0}]
[{"$f":"IF(Таблица3[[#All],[Ст21]]=0,\"z\",\"\")","v":"z"},null,1250,2500,4,null,{"$f":"SUMIFS($G$62:$G$116,$D$62:$D$116,Таблица3[[#This Row],[Дл]],$C$62:$C$116,Таблица3[[#This Row],[Шир]],$F$62:$F$116,Таблица3[[#This Row],[Астра]])","v":0},null,{"$f":"CONCATENATE(Таблица3[[#This Row],[Столбец29]],\" \",Таблица3[[#This Row],[Толщ]])","v":"Сталь котловая 4"},null,{"$f":"Таблица3[[#This Row],[Толщ]]","v":4},null,{"$f":"SUMIFS($M$62:$M$116,$C$62:$C$116,Таблица3[[#This Row],[Шир]],$D$62:$D$116,Таблица3[[#This Row],[Дл]],$F$62:$F$116,Таблица3[[#This Row],[Астра]])","v":0},{"$f":"SUMIFS($M$62:$M$116,$C$62:$C$116,\"<\"&Таблица3[[#This Row],[Шир]],$D$62:$D$116,Таблица3[[#This Row],[Дл]],$F$62:$F$116,Таблица3[[#This Row],[Астра]])+SUMIFS($M$62:$M$116,$C$62:$C$116,Таблица3[[#This Row],[Шир]],$D$62:$D$116,\"<\"&Таблица3[[#This Row],[Дл]],$F$62:$F$116,Таблица3[[#This Row],[Астра]])+SUMIFS($M$62:$M$116,$C$62:$C$116,\"<\"&Таблица3[[#This Row],[Шир]],$D$62:$D$116,\"<\"&Таблица3[[#This Row],[Дл]],$F$62:$F$116,Таблица3[[#This Row],[Астра]])","v":0},{"$f":"Таблица3[[#This Row],[Ст10]]+Таблица3[[#This Row],[Ст11]]","v":0},{"$f":"SUMIFS($P$62:$P$116,$C$62:$C$116,Таблица3[[#This Row],[Шир]],$D$62:$D$116,Таблица3[[#This Row],[Дл]],$F$62:$F$116,Таблица3[[#This Row],[Астра]])","v":0},{"$f":"SUMIFS($P$62:$P$116,$C$62:$C$116,\"<\"&Таблица3[[#This Row],[Шир]],$D$62:$D$116,Таблица3[[#This Row],[Дл]],$F$62:$F$116,Таблица3[[#This Row],[Астра]])+SUMIFS($P$62:$P$116,$C$62:$C$116,Таблица3[[#This Row],[Шир]],$D$62:$D$116,\"<\"&Таблица3[[#This Row],[Дл]],$F$62:$F$116,Таблица3[[#This Row],[Астра]])+SUMIFS($P$62:$P$116,$C$62:$C$116,\"<\"&Таблица3[[#This Row],[Шир]],$D$62:$D$116,\"<\"&Таблица3[[#This Row],[Дл]],$F$62:$F$116,Таблица3[[#This Row],[Астра]])","v":0},{"$f":"Таблица3[[#This Row],[Ст13]]+Таблица3[[#This Row],[Ст14]]","v":0},{"$f":"SUMIFS($S$62:$S$116,$C$62:$C$116,Таблица3[[#This Row],[Шир]],$D$62:$D$116,Таблица3[[#This Row],[Дл]],$F$62:$F$116,Таблица3[[#This Row],[Астра]])","v":0},{"$f":"SUMIFS($S$62:$S$116,$C$62:$C$116,\"<\"&Таблица3[[#This Row],[Шир]],$D$62:$D$116,Таблица3[[#This Row],[Дл]],$F$62:$F$116,Таблица3[[#This Row],[Астра]])+SUMIFS($S$62:$S$116,$C$62:$C$116,Таблица3[[#This Row],[Шир]],$D$62:$D$116,\"<\"&Таблица3[[#This Row],[Дл]],$F$62:$F$116,Таблица3[[#This Row],[Астра]])+SUMIFS($S$62:$S$116,$C$62:$C$116,\"<\"&Таблица3[[#This Row],[Шир]],$D$62:$D$116,\"<\"&Таблица3[[#This Row],[Дл]],$F$62:$F$116,Таблица3[[#This Row],[Астра]])","v":0},{"$f":"Таблица3[[#This Row],[Ст16]]+Таблица3[[#This Row],[Ст17]]","v":0},{"$f":"Таблица3[[#This Row],[Ст18]]+Таблица3[[#This Row],[Столбец32]]","v":0},{"$f":"SUMIFS($V$62:$V$116,$C$62:$C$116,Таблица3[[#This Row],[Шир]],$D$62:$D$116,Таблица3[[#This Row],[Дл]],$F$62:$F$116,Таблица3[[#This Row],[Астра]])","v":0},{"$f":"SUMIFS($V$62:$V$116,$C$62:$C$116,\"<\"&Таблица3[[#This Row],[Шир]],$D$62:$D$116,Таблица3[[#This Row],[Дл]],$F$62:$F$116,Таблица3[[#This Row],[Астра]])+SUMIFS($V$62:$V$116,$C$62:$C$116,Таблица3[[#This Row],[Шир]],$D$62:$D$116,\"<\"&Таблица3[[#This Row],[Дл]],$F$62:$F$116,Таблица3[[#This Row],[Астра]])+SUMIFS($V$62:$V$116,$C$62:$C$116,\"<\"&Таблица3[[#This Row],[Шир]],$D$62:$D$116,\"<\"&Таблица3[[#This Row],[Дл]],$F$62:$F$116,Таблица3[[#This Row],[Астра]])","v":0},{"$f":"Таблица3[[#This Row],[Ст19]]+Таблица3[[#This Row],[Ст20]]","v":0},{"$f":"Таблица3[[#This Row],[Ст21]]-Таблица3[[#This Row],[Столбец32]]","v":0},null,"Сталь котловая, 4.0 мм","Сталь котловая","Сталь котловая",7.8739999999999997,{"$f":"SUBSTITUTE(Таблица3[[#This Row],[Толщ]],\",\",\".\")","v":"4"},{"$f":"SUMIFS($AA$8:$AA$57,$K$8:$K$57,Таблица3[[#This Row],[Столбец9]])","v":0}]
[{"$f":"IF(Таблица3[[#All],[Ст21]]=0,\"z\",\"\")","v":"z"},null,1250,2500,5,null,{"$f":"SUMIFS($G$62:$G$116,$D$62:$D$116,Таблица3[[#This Row],[Дл]],$C$62:$C$116,Таблица3[[#This Row],[Шир]],$F$62:$F$116,Таблица3[[#This Row],[Астра]])","v":0},null,{"$f":"CONCATENATE(Таблица3[[#This Row],[Столбец29]],\" \",Таблица3[[#This Row],[Толщ]])","v":"Сталь котловая 5"},null,{"$f":"Таблица3[[#This Row],[Толщ]]","v":5},null,{"$f":"SUMIFS($M$62:$M$116,$C$62:$C$116,Таблица3[[#This Row],[Шир]],$D$62:$D$116,Таблица3[[#This Row],[Дл]],$F$62:$F$116,Таблица3[[#This Row],[Астра]])","v":0},{"$f":"SUMIFS($M$62:$M$116,$C$62:$C$116,\"<\"&Таблица3[[#This Row],[Шир]],$D$62:$D$116,Таблица3[[#This Row],[Дл]],$F$62:$F$116,Таблица3[[#This Row],[Астра]])+SUMIFS($M$62:$M$116,$C$62:$C$116,Таблица3[[#This Row],[Шир]],$D$62:$D$116,\"<\"&Таблица3[[#This Row],[Дл]],$F$62:$F$116,Таблица3[[#This Row],[Астра]])+SUMIFS($M$62:$M$116,$C$62:$C$116,\"<\"&Таблица3[[#This Row],[Шир]],$D$62:$D$116,\"<\"&Таблица3[[#This Row],[Дл]],$F$62:$F$116,Таблица3[[#This Row],[Астра]])","v":0},{"$f":"Таблица3[[#This Row],[Ст10]]+Таблица3[[#This Row],[Ст11]]","v":0},{"$f":"SUMIFS($P$62:$P$116,$C$62:$C$116,Таблица3[[#This Row],[Шир]],$D$62:$D$116,Таблица3[[#This Row],[Дл]],$F$62:$F$116,Таблица3[[#This Row],[Астра]])","v":0},{"$f":"SUMIFS($P$62:$P$116,$C$62:$C$116,\"<\"&Таблица3[[#This Row],[Шир]],$D$62:$D$116,Таблица3[[#This Row],[Дл]],$F$62:$F$116,Таблица3[[#This Row],[Астра]])+SUMIFS($P$62:$P$116,$C$62:$C$116,Таблица3[[#This Row],[Шир]],$D$62:$D$116,\"<\"&Таблица3[[#This Row],[Дл]],$F$62:$F$116,Таблица3[[#This Row],[Астра]])+SUMIFS($P$62:$P$116,$C$62:$C$116,\"<\"&Таблица3[[#This Row],[Шир]],$D$62:$D$116,\"<\"&Таблица3[[#This Row],[Дл]],$F$62:$F$116,Таблица3[[#This Row],[Астра]])","v":0},{"$f":"Таблица3[[#This Row],[Ст13]]+Таблица3[[#This Row],[Ст14]]","v":0},{"$f":"SUMIFS($S$62:$S$116,$C$62:$C$116,Таблица3[[#This Row],[Шир]],$D$62:$D$116,Таблица3[[#This Row],[Дл]],$F$62:$F$116,Таблица3[[#This Row],[Астра]])","v":0},{"$f":"SUMIFS($S$62:$S$116,$C$62:$C$116,\"<\"&Таблица3[[#This Row],[Шир]],$D$62:$D$116,Таблица3[[#This Row],[Дл]],$F$62:$F$116,Таблица3[[#This Row],[Астра]])+SUMIFS($S$62:$S$116,$C$62:$C$116,Таблица3[[#This Row],[Шир]],$D$62:$D$116,\"<\"&Таблица3[[#This Row],[Дл]],$F$62:$F$116,Таблица3[[#This Row],[Астра]])+SUMIFS($S$62:$S$116,$C$62:$C$116,\"<\"&Таблица3[[#This Row],[Шир]],$D$62:$D$116,\"<\"&Таблица3[[#This Row],[Дл]],$F$62:$F$116,Таблица3[[#This Row],[Астра]])","v":0},{"$f":"Таблица3[[#This Row],[Ст16]]+Таблица3[[#This Row],[Ст17]]","v":0},{"$f":"Таблица3[[#This Row],[Ст18]]+Таблица3[[#This Row],[Столбец32]]","v":0},{"$f":"SUMIFS($V$62:$V$116,$C$62:$C$116,Таблица3[[#This Row],[Шир]],$D$62:$D$116,Таблица3[[#This Row],[Дл]],$F$62:$F$116,Таблица3[[#This Row],[Астра]])","v":0},{"$f":"SUMIFS($V$62:$V$116,$C$62:$C$116,\"<\"&Таблица3[[#This Row],[Шир]],$D$62:$D$116,Таблица3[[#This Row],[Дл]],$F$62:$F$116,Таблица3[[#This Row],[Астра]])+SUMIFS($V$62:$V$116,$C$62:$C$116,Таблица3[[#This Row],[Шир]],$D$62:$D$116,\"<\"&Таблица3[[#This Row],[Дл]],$F$62:$F$116,Таблица3[[#This Row],[Астра]])+SUMIFS($V$62:$V$116,$C$62:$C$116,\"<\"&Таблица3[[#This Row],[Шир]],$D$62:$D$116,\"<\"&Таблица3[[#This Row],[Дл]],$F$62:$F$116,Таблица3[[#This Row],[Астра]])","v":0},{"$f":"Таблица3[[#This Row],[Ст19]]+Таблица3[[#This Row],[Ст20]]","v":0},{"$f":"Таблица3[[#This Row],[Ст21]]-Таблица3[[#This Row],[Столбец32]]","v":0},null,"Сталь котловая, 5.0 мм","Сталь котловая","Сталь котловая",7.8739999999999997,{"$f":"SUBSTITUTE(Таблица3[[#This Row],[Толщ]],\",\",\".\")","v":"5"},{"$f":"SUMIFS($AA$8:$AA$57,$K$8:$K$57,Таблица3[[#This Row],[Столбец9]])","v":0}]
[]
[]
[null,null,"Подпись",null,null,null,"Инженер-технолог"]
[]
[null,null,"Подпись",null,null,null,"Нач техотдела"]
[]
[null,null,"Подпись",null,null,null,"Генеральный директор"]

{"sheet":"ТРУБА","index":2,"n_rows":243,"n_cols":42,"rows_kept":243,"cut":false,"hidden":false,"merged":[[1,13,1,14],[59,1,60,1],[59,2,60,2],[59,3,60,3],[59,4,60,4],[59,5,60,5],[2,7,2,9],[3,2,3,13],[59,12,60,12],[59,13,59,14],[5,1,5,5],[59,18,60,18],[59,21,60,21],[59,23,60,23],[118,19,118,21],[118,18,119,18],[118,22,119,22],[118,27,118,30],[118,24,118,26],[59,24,60,24],[59,22,60,22],[59,19,59,20],[118,8,118,9],[118,14,118,16],[59,6,60,6],[59,7,60,7],[59,8,60,8],[59,9,60,9],[59,11,60,11],[59,16,59,17],[59,15,60,15],[116,1,116,12],[118,17,119,17]]}
["z",null,null,null,null,null,null,null,null,null,"z","z","z",null,null,null,null,null,null,null,null,null,null,"z","z","z","z","z","z","z","z","z","z","z","z","z","z","z","z","z","z","z"]
[null,null,null,null,null,"            Приложение № 2 к ЛЗК ___",null,null,null,null,null,null,null,{"$f":"TODAY()","v":"2023-08-05"}]
[null,null,null,null,null,null,null,{"$f":"CONCATENATE(\"НЕ СОВПАДЕНИЕ \",ROUND(M6-M7,3),\" кг.\")","v":"НЕ СОВПАДЕНИЕ 0 кг."}]
[null,null,{"$f":"ПРОВОЛОКА!M4","v":0}]
[null,null,null,null,null,null,null,{"$f":"CONCATENATE(\"Изделие из: \",IF(ПРОВОЛОКА!S259>0,\"ПРОВОЛОКА, \",\"\"),IF(ЛИСТ!L7>0,\"ЛИСТ, \",\"\"),IF(ТРУБА!M7>0,\"ТРУБА, \",\"\"),IF(ПВХ!L9>0,\"ПВХ \",\"\"))","v":"Изделие из: "},null,null,null,"Коэфициент ","Маса "]
[null,"См. Косые резы и выполнять согласно чертежа",null,null,null,null,null,null,"План / шт",{"$f":"ПРОВОЛОКА!C5","v":1},null,null,{"$f":"SUM(Таблица1[Столбец21])-SUM(Таблица1[лом.на.пор.])","v":0}]
[null,"№ п/п","Длина ","Ширина (условная расчет программы)","Кол-во\nна\nизделие","Вращение детали\n1 - да\n0 - нет","Толщина","Материал\n(профиль трубы)","Наименование \nдетали","кол-во на план","ГОСТ",{"$f":"SUM(J8:J57)","v":0},{"$f":"SUM(M8:M57)","v":0},"Масса\nфакт\nкг","Косые \nрезы",null,null,null,"номерация",null,"Разница\nмассы"]
[{"$f":"IF(E8=0,\"z\",\"\")","v":"z"},{"$f":"IF(J8=0,\"\",S8)","v":""},null,500,null,0,{"$f":"IF(K8=\"\",\"\",VLOOKUP(K8,Таблица1[[#All],[ГОСТ]:[точка]],8,0))","v":""},{"$f":"IF(K8=\"\",\"\",VLOOKUP(K8,Таблица1[[#All],[ГОСТ]:[точка]],2,0))","v":""},null,{"$f":"E8*$J$6","v":0},null,{"$f":"IF(K8=\"\",\"\",VLOOKUP(K8,Таблица1[[#All],[ГОСТ]:[коэф]],9,0))","v":""},{"$f":"IFERROR(C8/1000*L8/2*J8,\"\")","v":""},null,null,1,null,null,{"$f":"IF(J8=0,0,1)","v":0},null,{"$f":"IF(N8=0,0,(C8/1000*L8/2-N8)*J8)","v":0}]
[{"$f":"IF(E9=0,\"z\",\"\")","v":"z"},"",null,500,null,0,{"$f":"IF(K9=\"\",\"\",VLOOKUP(K9,Таблица1[[#All],[ГОСТ]:[точка]],8,0))","v":""},{"$f":"IF(K9=\"\",\"\",VLOOKUP(K9,Таблица1[[#All],[ГОСТ]:[точка]],2,0))","v":""},null,{"$f":"E9*$J$6","v":0},null,{"$f":"IF(K9=\"\",\"\",VLOOKUP(K9,Таблица1[[#All],[ГОСТ]:[коэф]],9,0))","v":""},"",null,null,2,null,null,{"$f":"IF(J9=0,S8,S8+1)","v":0},null,{"$f":"IF(N9=0,0,(C9/1000*L9/2-N9)*J9)","v":0}]
["z","",null,500,null,0,{"$f":"IF(K10=\"\",\"\",VLOOKUP(K10,Таблица1[[#All],[ГОСТ]:[точка]],8,0))","v":""},{"$f":"IF(K10=\"\",\"\",VLOOKUP(K10,Таблица1[[#All],[ГОСТ]:[точка]],2,0))","v":""},null,0,null,{"$f":"IF(K10=\"\",\"\",VLOOKUP(K10,Таблица1[[#All],[ГОСТ]:[коэф]],9,0))","v":""},"",null,null,3,null,null,0,null,0]
["z","",null,500,null,0,{"$f":"IF(K11=\"\",\"\",VLOOKUP(K11,Таблица1[[#All],[ГОСТ]:[точка]],8,0))","v":""},{"$f":"IF(K11=\"\",\"\",VLOOKUP(K11,Таблица1[[#All],[ГОСТ]:[точка]],2,0))","v":""},null,0,null,{"$f":"IF(K11=\"\",\"\",VLOOKUP(K11,Таблица1[[#All],[ГОСТ]:[коэф]],9,0))","v":""},"",null,null,4,null,null,0,null,0]
["z","",null,500,null,0,{"$f":"IF(K12=\"\",\"\",VLOOKUP(K12,Таблица1[[#All],[ГОСТ]:[точка]],8,0))","v":""},{"$f":"IF(K12=\"\",\"\",VLOOKUP(K12,Таблица1[[#All],[ГОСТ]:[точка]],2,0))","v":""},null,0,null,{"$f":"IF(K12=\"\",\"\",VLOOKUP(K12,Таблица1[[#All],[ГОСТ]:[коэф]],9,0))","v":""},"",null,null,5,null,null,0,null,0]
["z","",null,500,null,0,{"$f":"IF(K13=\"\",\"\",VLOOKUP(K13,Таблица1[[#All],[ГОСТ]:[точка]],8,0))","v":""},{"$f":"IF(K13=\"\",\"\",VLOOKUP(K13,Таблица1[[#All],[ГОСТ]:[точка]],2,0))","v":""},null,0,null,{"$f":"IF(K13=\"\",\"\",VLOOKUP(K13,Таблица1[[#All],[ГОСТ]:[коэф]],9,0))","v":""},"",null,null,6,null,null,0,null,0]
[{"$f":"IF(E14=0,\"z\",\"\")","v":"z"},{"$f":"IF(J14=0,\"\",S14)","v":""},null,500,null,0,{"$f":"IF(K14=\"\",\"\",VLOOKUP(K14,Таблица1[[#All],[ГОСТ]:[точка]],8,0))","v":""},{"$f":"IF(K14=\"\",\"\",VLOOKUP(K14,Таблица1[[#All],[ГОСТ]:[точка]],2,0))","v":""},null,{"$f":"E14*$J$6","v":0},null,{"$f":"IF(K14=\"\",\"\",VLOOKUP(K14,Таблица1[[#All],[ГОСТ]:[коэф]],9,0))","v":""},"",null,null,7,null,null,{"$f":"IF(J14=0,S13,S13+1)","v":0},null,0]
["z","",null,500,null,0,{"$f":"IF(K15=\"\",\"\",VLOOKUP(K15,Таблица1[[#All],[ГОСТ]:[точка]],8,0))","v":""},{"$f":"IF(K15=\"\",\"\",VLOOKUP(K15,Таблица1[[#All],[ГОСТ]:[точка]],2,0))","v":""},null,0,null,{"$f":"IF(K15=\"\",\"\",VLOOKUP(K15,Таблица1[[#All],[ГОСТ]:[коэф]],9,0))","v":""},"",null,null,8,null,null,0,null,0]
["z","",null,500,null,0,{"$f":"IF(K16=\"\",\"\",VLOOKUP(K16,Таблица1[[#All],[ГОСТ]:[точка]],8,0))","v":""},{"$f":"IF(K16=\"\",\"\",VLOOKUP(K16,Таблица1[[#All],[ГОСТ]:[точка]],2,0))","v":""},null,0,null,{"$f":"IF(K16=\"\",\"\",VLOOKUP(K16,Таблица1[[#All],[ГОСТ]:[коэф]],9,0))","v":""},"",null,null,9,null,null,0,null,0]
["z","",null,500,null,0,{"$f":"IF(K17=\"\",\"\",VLOOKUP(K17,Таблица1[[#All],[ГОСТ]:[точка]],8,0))","v":""},{"$f":"IF(K17=\"\",\"\",VLOOKUP(K17,Таблица1[[#All],[ГОСТ]:[точка]],2,0))","v":""},null,0,null,{"$f":"IF(K17=\"\",\"\",VLOOKUP(K17,Таблица1[[#All],[ГОСТ]:[коэф]],9,0))","v":""},"",null,null,10,null,null,0,null,0]
["z","",null,500,null,0,{"$f":"IF(K18=\"\",\"\",VLOOKUP(K18,Таблица1[[#All],[ГОСТ]:[точка]],8,0))","v":""},{"$f":"IF(K18=\"\",\"\",VLOOKUP(K18,Таблица1[[#All],[ГОСТ]:[точка]],2,0))","v":""},null,0,null,{"$f":"IF(K18=\"\",\"\",VLOOKUP(K18,Таблица1[[#All],[ГОСТ]:[коэф]],9,0))","v":""},"",null,null,11,null,null,0,null,0]
["z","",null,500,null,0,{"$f":"IF(K19=\"\",\"\",VLOOKUP(K19,Таблица1[[#All],[ГОСТ]:[точка]],8,0))","v":""},{"$f":"IF(K19=\"\",\"\",VLOOKUP(K19,Таблица1[[#All],[ГОСТ]:[точка]],2,0))","v":""},null,0,null,{"$f":"IF(K19=\"\",\"\",VLOOKUP(K19,Таблица1[[#All],[ГОСТ]:[коэф]],9,0))","v":""},"",null,null,12,null,null,0,null,0]
["z","",null,500,null,0,{"$f":"IF(K20=\"\",\"\",VLOOKUP(K20,Таблица1[[#All],[ГОСТ]:[точка]],8,0))","v":""},{"$f":"IF(K20=\"\",\"\",VLOOKUP(K20,Таблица1[[#All],[ГОСТ]:[точка]],2,0))","v":""},null,0,null,{"$f":"IF(K20=\"\",\"\",VLOOKUP(K20,Таблица1[[#All],[ГОСТ]:[коэф]],9,0))","v":""},"",null,null,13,null,null,0,null,0]
["z","",null,500,null,0,{"$f":"IF(K21=\"\",\"\",VLOOKUP(K21,Таблица1[[#All],[ГОСТ]:[точка]],8,0))","v":""},{"$f":"IF(K21=\"\",\"\",VLOOKUP(K21,Таблица1[[#All],[ГОСТ]:[точка]],2,0))","v":""},null,0,null,{"$f":"IF(K21=\"\",\"\",VLOOKUP(K21,Таблица1[[#All],[ГОСТ]:[коэф]],9,0))","v":""},"",null,null,14,null,null,0,null,0]
["z","",null,500,null,0,{"$f":"IF(K22=\"\",\"\",VLOOKUP(K22,Таблица1[[#All],[ГОСТ]:[точка]],8,0))","v":""},{"$f":"IF(K22=\"\",\"\",VLOOKUP(K22,Таблица1[[#All],[ГОСТ]:[точка]],2,0))","v":""},null,0,null,{"$f":"IF(K22=\"\",\"\",VLOOKUP(K22,Таблица1[[#All],[ГОСТ]:[коэф]],9,0))","v":""},"",null,null,15,null,null,0,null,0]
["z","",null,500,null,0,{"$f":"IF(K23=\"\",\"\",VLOOKUP(K23,Таблица1[[#All],[ГОСТ]:[точка]],8,0))","v":""},{"$f":"IF(K23=\"\",\"\",VLOOKUP(K23,Таблица1[[#All],[ГОСТ]:[точка]],2,0))","v":""},null,0,null,{"$f":"IF(K23=\"\",\"\",VLOOKUP(K23,Таблица1[[#All],[ГОСТ]:[коэф]],9,0))","v":""},"",null,null,16,null,null,0,null,0]
["z","",null,500,null,0,{"$f":"IF(K24=\"\",\"\",VLOOKUP(K24,Таблица1[[#All],[ГОСТ]:[точка]],8,0))","v":""},{"$f":"IF(K24=\"\",\"\",VLOOKUP(K24,Таблица1[[#All],[ГОСТ]:[точка]],2,0))","v":""},null,0,null,{"$f":"IF(K24=\"\",\"\",VLOOKUP(K24,Таблица1[[#All],[ГОСТ]:[коэф]],9,0))","v":""},"",null,null,17,null,null,0,null,0]
["z","",null,500,null,0,{"$f":"IF(K25=\"\",\"\",VLOOKUP(K25,Таблица1[[#All],[ГОСТ]:[точка]],8,0))","v":""},{"$f":"IF(K25=\"\",\"\",VLOOKUP(K25,Таблица1[[#All],[ГОСТ]:[точка]],2,0))","v":""},null,0,null,{"$f":"IF(K25=\"\",\"\",VLOOKUP(K25,Таблица1[[#All],[ГОСТ]:[коэф]],9,0))","v":""},"",null,null,18,null,null,0,null,0]
["z","",null,500,null,0,{"$f":"IF(K26=\"\",\"\",VLOOKUP(K26,Таблица1[[#All],[ГОСТ]:[точка]],8,0))","v":""},{"$f":"IF(K26=\"\",\"\",VLOOKUP(K26,Таблица1[[#All],[ГОСТ]:[точка]],2,0))","v":""},null,0,null,{"$f":"IF(K26=\"\",\"\",VLOOKUP(K26,Таблица1[[#All],[ГОСТ]:[коэф]],9,0))","v":""},"",null,null,19,null,null,0,null,0]
["z","",null,500,null,0,{"$f":"IF(K27=\"\",\"\",VLOOKUP(K27,Таблица1[[#All],[ГОСТ]:[точка]],8,0))","v":""},{"$f":"IF(K27=\"\",\"\",VLOOKUP(K27,Таблица1[[#All],[ГОСТ]:[точка]],2,0))","v":""},null,0,null,{"$f":"IF(K27=\"\",\"\",VLOOKUP(K27,Таблица1[[#All],[ГОСТ]:[коэф]],9,0))","v":""},"",null,null,20,null,null,0,null,0]
["z","",null,500,null,0,{"$f":"IF(K28=\"\",\"\",VLOOKUP(K28,Таблица1[[#All],[ГОСТ]:[точка]],8,0))","v":""},{"$f":"IF(K28=\"\",\"\",VLOOKUP(K28,Таблица1[[#All],[ГОСТ]:[точка]],2,0))","v":""},null,0,null,{"$f":"IF(K28=\"\",\"\",VLOOKUP(K28,Таблица1[[#All],[ГОСТ]:[коэф]],9,0))","v":""},"",null,null,21,null,null,0,null,0]
["z","",null,500,null,0,{"$f":"IF(K29=\"\",\"\",VLOOKUP(K29,Таблица1[[#All],[ГОСТ]:[точка]],8,0))","v":""},{"$f":"IF(K29=\"\",\"\",VLOOKUP(K29,Таблица1[[#All],[ГОСТ]:[точка]],2,0))","v":""},null,0,null,{"$f":"IF(K29=\"\",\"\",VLOOKUP(K29,Таблица1[[#All],[ГОСТ]:[коэф]],9,0))","v":""},"",null,null,22,null,null,0,null,0]
["z","",null,500,null,0,{"$f":"IF(K30=\"\",\"\",VLOOKUP(K30,Таблица1[[#All],[ГОСТ]:[точка]],8,0))","v":""},{"$f":"IF(K30=\"\",\"\",VLOOKUP(K30,Таблица1[[#All],[ГОСТ]:[точка]],2,0))","v":""},null,0,null,{"$f":"IF(K30=\"\",\"\",VLOOKUP(K30,Таблица1[[#All],[ГОСТ]:[коэф]],9,0))","v":""},"",null,null,23,null,null,0,null,0]
["z","",null,500,null,0,{"$f":"IF(K31=\"\",\"\",VLOOKUP(K31,Таблица1[[#All],[ГОСТ]:[точка]],8,0))","v":""},{"$f":"IF(K31=\"\",\"\",VLOOKUP(K31,Таблица1[[#All],[ГОСТ]:[точка]],2,0))","v":""},null,0,null,{"$f":"IF(K31=\"\",\"\",VLOOKUP(K31,Таблица1[[#All],[ГОСТ]:[коэф]],9,0))","v":""},"",null,null,24,null,null,0,null,0]
["z","",null,500,null,0,{"$f":"IF(K32=\"\",\"\",VLOOKUP(K32,Таблица1[[#All],[ГОСТ]:[точка]],8,0))","v":""},{"$f":"IF(K32=\"\",\"\",VLOOKUP(K32,Таблица1[[#All],[ГОСТ]:[точка]],2,0))","v":""},null,0,null,{"$f":"IF(K32=\"\",\"\",VLOOKUP(K32,Таблица1[[#All],[ГОСТ]:[коэф]],9,0))","v":""},"",null,null,25,null,null,0,null,0]
[{"$f":"IF(E33=0,\"z\",\"\")","v":"z"},{"$f":"IF(J33=0,\"\",S33)","v":""},null,500,null,0,{"$f":"IF(K33=\"\",\"\",VLOOKUP(K33,Таблица1[[#All],[ГОСТ]:[точка]],8,0))","v":""},{"$f":"IF(K33=\"\",\"\",VLOOKUP(K33,Таблица1[[#All],[ГОСТ]:[точка]],2,0))","v":""},null,{"$f":"E33*$J$6","v":0},null,{"$f":"IF(K33=\"\",\"\",VLOOKUP(K33,Таблица1[[#All],[ГОСТ]:[коэф]],9,0))","v":""},"",null,null,26,null,null,{"$f":"IF(J33=0,S32,S32+1)","v":0},null,0]
["z","",null,500,null,0,{"$f":"IF(K34=\"\",\"\",VLOOKUP(K34,Таблица1[[#All],[ГОСТ]:[точка]],8,0))","v":""},{"$f":"IF(K34=\"\",\"\",VLOOKUP(K34,Таблица1[[#All],[ГОСТ]:[точка]],2,0))","v":""},null,0,null,{"$f":"IF(K34=\"\",\"\",VLOOKUP(K34,Таблица1[[#All],[ГОСТ]:[коэф]],9,0))","v":""},"",null,null,27,null,null,0,null,0]
["z","",null,500,null,0,{"$f":"IF(K35=\"\",\"\",VLOOKUP(K35,Таблица1[[#All],[ГОСТ]:[точка]],8,0))","v":""},{"$f":"IF(K35=\"\",\"\",VLOOKUP(K35,Таблица1[[#All],[ГОСТ]:[точка]],2,0))","v":""},null,0,null,{"$f":"IF(K35=\"\",\"\",VLOOKUP(K35,Таблица1[[#All],[ГОСТ]:[коэф]],9,0))","v":""},"",null,null,28,null,null,0,null,0]
["z","",null,500,null,0,{"$f":"IF(K36=\"\",\"\",VLOOKUP(K36,Таблица1[[#All],[ГОСТ]:[точка]],8,0))","v":""},{"$f":"IF(K36=\"\",\"\",VLOOKUP(K36,Таблица1[[#All],[ГОСТ]:[точка]],2,0))","v":""},null,0,null,{"$f":"IF(K36=\"\",\"\",VLOOKUP(K36,Таблица1[[#All],[ГОСТ]:[коэф]],9,0))","v":""},"",null,null,29,null,null,0,null,0]
["z","",null,500,null,0,{"$f":"IF(K37=\"\",\"\",VLOOKUP(K37,Таблица1[[#All],[ГОСТ]:[точка]],8,0))","v":""},{"$f":"IF(K37=\"\",\"\",VLOOKUP(K37,Таблица1[[#All],[ГОСТ]:[точка]],2,0))","v":""},null,0,null,{"$f":"IF(K37=\"\",\"\",VLOOKUP(K37,Таблица1[[#All],[ГОСТ]:[коэф]],9,0))","v":""},"",null,null,30,null,null,0,null,0]
["z","",null,500,null,0,{"$f":"IF(K38=\"\",\"\",VLOOKUP(K38,Таблица1[[#All],[ГОСТ]:[точка]],8,0))","v":""},{"$f":"IF(K38=\"\",\"\",VLOOKUP(K38,Таблица1[[#All],[ГОСТ]:[точка]],2,0))","v":""},null,0,null,{"$f":"IF(K38=\"\",\"\",VLOOKUP(K38,Таблица1[[#All],[ГОСТ]:[коэф]],9,0))","v":""},"",null,null,31,null,null,0,null,0]
["z","",null,500,null,0,{"$f":"IF(K39=\"\",\"\",VLOOKUP(K39,Таблица1[[#All],[ГОСТ]:[точка]],8,0))","v":""},{"$f":"IF(K39=\"\",\"\",VLOOKUP(K39,Таблица1[[#All],[ГОСТ]:[точка]],2,0))","v":""},null,0,null,{"$f":"IF(K39=\"\",\"\",VLOOKUP(K39,Таблица1[[#All],[ГОСТ]:[коэф]],9,0))","v":""},"",null,null,32,null,null,0,null,0]
["z","",null,500,null,0,{"$f":"IF(K40=\"\",\"\",VLOOKUP(K40,Таблица1[[#All],[ГОСТ]:[точка]],8,0))","v":""},{"$f":"IF(K40=\"\",\"\",VLOOKUP(K40,Таблица1[[#All],[ГОСТ]:[точка]],2,0))","v":""},null,0,null,{"$f":"IF(K40=\"\",\"\",VLOOKUP(K40,Таблица1[[#All],[ГОСТ]:[коэф]],9,0))","v":""},"",null,null,33,null,null,0,null,0]
["z","",null,500,null,0,{"$f":"IF(K41=\"\",\"\",VLOOKUP(K41,Таблица1[[#All],[ГОСТ]:[точка]],8,0))","v":""},{"$f":"IF(K41=\"\",\"\",VLOOKUP(K41,Таблица1[[#All],[ГОСТ]:[точка]],2,0))","v":""},null,0,null,{"$f":"IF(K41=\"\",\"\",VLOOKUP(K41,Таблица1[[#All],[ГОСТ]:[коэф]],9,0))","v":""},"",null,null,34,null,null,0,null,0]
["z","",null,500,null,0,{"$f":"IF(K42=\"\",\"\",VLOOKUP(K42,Таблица1[[#All],[ГОСТ]:[точка]],8,0))","v":""},{"$f":"IF(K42=\"\",\"\",VLOOKUP(K42,Таблица1[[#All],[ГОСТ]:[точка]],2,0))","v":""},null,0,null,{"$f":"IF(K42=\"\",\"\",VLOOKUP(K42,Таблица1[[#All],[ГОСТ]:[коэф]],9,0))","v":""},"",null,null,35,null,null,0,null,0]
["z","",null,500,null,0,{"$f":"IF(K43=\"\",\"\",VLOOKUP(K43,Таблица1[[#All],[ГОСТ]:[точка]],8,0))","v":""},{"$f":"IF(K43=\"\",\"\",VLOOKUP(K43,Таблица1[[#All],[ГОСТ]:[точка]],2,0))","v":""},null,0,null,{"$f":"IF(K43=\"\",\"\",VLOOKUP(K43,Таблица1[[#All],[ГОСТ]:[коэф]],9,0))","v":""},"",null,null,36,null,null,0,null,0]
["z","",null,500,null,0,{"$f":"IF(K44=\"\",\"\",VLOOKUP(K44,Таблица1[[#All],[ГОСТ]:[точка]],8,0))","v":""},{"$f":"IF(K44=\"\",\"\",VLOOKUP(K44,Таблица1[[#All],[ГОСТ]:[точка]],2,0))","v":""},null,0,null,{"$f":"IF(K44=\"\",\"\",VLOOKUP(K44,Таблица1[[#All],[ГОСТ]:[коэф]],9,0))","v":""},"",null,null,37,null,null,0,null,0]
["z","",null,500,null,0,{"$f":"IF(K45=\"\",\"\",VLOOKUP(K45,Таблица1[[#All],[ГОСТ]:[точка]],8,0))","v":""},{"$f":"IF(K45=\"\",\"\",VLOOKUP(K45,Таблица1[[#All],[ГОСТ]:[точка]],2,0))","v":""},null,0,null,{"$f":"IF(K45=\"\",\"\",VLOOKUP(K45,Таблица1[[#All],[ГОСТ]:[коэф]],9,0))","v":""},"",null,null,38,null,null,0,null,0]
["z","",null,500,null,0,{"$f":"IF(K46=\"\",\"\",VLOOKUP(K46,Таблица1[[#All],[ГОСТ]:[точка]],8,0))","v":""},{"$f":"IF(K46=\"\",\"\",VLOOKUP(K46,Таблица1[[#All],[ГОСТ]:[точка]],2,0))","v":""},null,0,null,{"$f":"IF(K46=\"\",\"\",VLOOKUP(K46,Таблица1[[#All],[ГОСТ]:[коэф]],9,0))","v":""},"",null,null,39,null,null,0,null,0]
["z","",null,500,null,0,{"$f":"IF(K47=\"\",\"\",VLOOKUP(K47,Таблица1[[#All],[ГОСТ]:[точка]],8,0))","v":""},{"$f":"IF(K47=\"\",\"\",VLOOKUP(K47,Таблица1[[#All],[ГОСТ]:[точка]],2,0))","v":""},null,0,null,{"$f":"IF(K47=\"\",\"\",VLOOKUP(K47,Таблица1[[#All],[ГОСТ]:[коэф]],9,0))","v":""},"",null,null,40,null,null,0,null,0]
["z","",null,500,null,0,{"$f":"IF(K48=\"\",\"\",VLOOKUP(K48,Таблица1[[#All],[ГОСТ]:[точка]],8,0))","v":""},{"$f":"IF(K48=\"\",\"\",VLOOKUP(K48,Таблица1[[#All],[ГОСТ]:[точка]],2,0))","v":""},null,0,null,{"$f":"IF(K48=\"\",\"\",VLOOKUP(K48,Таблица1[[#All],[ГОСТ]:[коэф]],9,0))","v":""},"",null,null,41,null,null,0,null,0]
["z","",null,500,null,0,{"$f":"IF(K49=\"\",\"\",VLOOKUP(K49,Таблица1[[#All],[ГОСТ]:[точка]],8,0))","v":""},{"$f":"IF(K49=\"\",\"\",VLOOKUP(K49,Таблица1[[#All],[ГОСТ]:[точка]],2,0))","v":""},null,0,null,{"$f":"IF(K49=\"\",\"\",VLOOKUP(K49,Таблица1[[#All],[ГОСТ]:[коэф]],9,0))","v":""},"",null,null,42,null,null,0,null,0]
["z","",null,500,null,0,{"$f":"IF(K50=\"\",\"\",VLOOKUP(K50,Таблица1[[#All],[ГОСТ]:[точка]],8,0))","v":""},{"$f":"IF(K50=\"\",\"\",VLOOKUP(K50,Таблица1[[#All],[ГОСТ]:[точка]],2,0))","v":""},null,0,null,{"$f":"IF(K50=\"\",\"\",VLOOKUP(K50,Таблица1[[#All],[ГОСТ]:[коэф]],9,0))","v":""},"",null,null,43,null,null,0,null,0]
["z","",null,500,null,0,{"$f":"IF(K51=\"\",\"\",VLOOKUP(K51,Таблица1[[#All],[ГОСТ]:[точка]],8,0))","v":""},{"$f":"IF(K51=\"\",\"\",VLOOKUP(K51,Таблица1[[#All],[ГОСТ]:[точка]],2,0))","v":""},null,0,null,{"$f":"IF(K51=\"\",\"\",VLOOKUP(K51,Таблица1[[#All],[ГОСТ]:[коэф]],9,0))","v":""},"",null,null,44,null,null,0,null,0]
["z","",null,500,null,0,{"$f":"IF(K52=\"\",\"\",VLOOKUP(K52,Таблица1[[#All],[ГОСТ]:[точка]],8,0))","v":""},{"$f":"IF(K52=\"\",\"\",VLOOKUP(K52,Таблица1[[#All],[ГОСТ]:[точка]],2,0))","v":""},null,0,null,{"$f":"IF(K52=\"\",\"\",VLOOKUP(K52,Таблица1[[#All],[ГОСТ]:[коэф]],9,0))","v":""},"",null,null,45,null,null,0,null,0]
["z","",null,500,null,0,{"$f":"IF(K53=\"\",\"\",VLOOKUP(K53,Таблица1[[#All],[ГОСТ]:[точка]],8,0))","v":""},{"$f":"IF(K53=\"\",\"\",VLOOKUP(K53,Таблица1[[#All],[ГОСТ]:[точка]],2,0))","v":""},null,0,null,{"$f":"IF(K53=\"\",\"\",VLOOKUP(K53,Таблица1[[#All],[ГОСТ]:[коэф]],9,0))","v":""},"",null,null,46,null,null,0,null,0]
["z","",null,500,null,0,{"$f":"IF(K54=\"\",\"\",VLOOKUP(K54,Таблица1[[#All],[ГОСТ]:[точка]],8,0))","v":""},{"$f":"IF(K54=\"\",\"\",VLOOKUP(K54,Таблица1[[#All],[ГОСТ]:[точка]],2,0))","v":""},null,0,null,{"$f":"IF(K54=\"\",\"\",VLOOKUP(K54,Таблица1[[#All],[ГОСТ]:[коэф]],9,0))","v":""},"",null,null,47,null,null,0,null,0]
["z","",null,500,null,0,{"$f":"IF(K55=\"\",\"\",VLOOKUP(K55,Таблица1[[#All],[ГОСТ]:[точка]],8,0))","v":""},{"$f":"IF(K55=\"\",\"\",VLOOKUP(K55,Таблица1[[#All],[ГОСТ]:[точка]],2,0))","v":""},null,0,null,{"$f":"IF(K55=\"\",\"\",VLOOKUP(K55,Таблица1[[#All],[ГОСТ]:[коэф]],9,0))","v":""},"",null,null,48,null,null,0,null,0]
["z","",null,500,null,0,{"$f":"IF(K56=\"\",\"\",VLOOKUP(K56,Таблица1[[#All],[ГОСТ]:[точка]],8,0))","v":""},{"$f":"IF(K56=\"\",\"\",VLOOKUP(K56,Таблица1[[#All],[ГОСТ]:[точка]],2,0))","v":""},null,0,null,{"$f":"IF(K56=\"\",\"\",VLOOKUP(K56,Таблица1[[#All],[ГОСТ]:[коэф]],9,0))","v":""},"",null,null,49,null,null,0,null,0]
["z","",null,500,null,0,{"$f":"IF(K57=\"\",\"\",VLOOKUP(K57,Таблица1[[#All],[ГОСТ]:[точка]],8,0))","v":""},{"$f":"IF(K57=\"\",\"\",VLOOKUP(K57,Таблица1[[#All],[ГОСТ]:[точка]],2,0))","v":""},null,0,null,{"$f":"IF(K57=\"\",\"\",VLOOKUP(K57,Таблица1[[#All],[ГОСТ]:[коэф]],9,0))","v":""},"",null,null,50,null,null,0,null,0]
[null,null,null,null,null,null,null,null,"Всего ",{"$f":"SUM(J8:J57)","v":0}]
[]
[null,"Карта \nраскроя\n№","Длина, мм","Ширина, мм","Толщина, мм","Марка материала","Кол-во","Площадь остатков всего, кв.м","Площадь деталей всего, кв.м","Количество деталей",null,null,"Коэфициент ","Трубы/остатка со склада масса\nкг",null,"Получил","Деловой остаток на склад\nкг",null,"Получил \nкладовщик","Масса деталей \nкг",null,"Количество деталей","Получил","Расход\nкг","ЛОМ \nкг"]
[null,null,null,null,null,null,null,null,null,null,null,null,null,"теория","факт",null,"теория","факт",null,"теория","факт"]
[{"$f":"IF(G62=0,\"z\",\"\")","v":"z"},null,null,null,null,null,null,null,null,null,1,null,{"$f":"IFERROR(VLOOKUP(F62,Таблица1[[#All],[АСТРА]:[коэф]],7,0),\"0\")","v":"0"},{"$f":"C62*D62*G62*M62/1000000","v":0},null,null,{"$f":"H62*M62","v":0},null,null,{"$f":"I62*M62","v":0},null,null,null,{"$f":"N62-Q62","v":0},{"$f":"X62-T62","v":0}]
[{"$f":"IF(G63=0,\"z\",\"\")","v":"z"},null,null,null,null,null,null,null,null,null,2,null,{"$f":"IFERROR(VLOOKUP(F63,Таблица1[[#All],[АСТРА]:[коэф]],7,0),\"0\")","v":"0"},0,null,null,0,null,null,0,null,null,null,0,{"$f":"X63-T63","v":0}]
["z",null,null,null,null,null,null,null,null,null,3,null,{"$f":"IFERROR(VLOOKUP(F64,Таблица1[[#All],[АСТРА]:[коэф]],7,0),\"0\")","v":"0"},0,null,null,0,null,null,0,null,null,null,0,0]
["z",null,null,null,null,null,null,null,null,null,4,null,{"$f":"IFERROR(VLOOKUP(F65,Таблица1[[#All],[АСТРА]:[коэф]],7,0),\"0\")","v":"0"},0,null,null,0,null,null,0,null,null,null,0,0]
["z",null,null,null,null,null,null,null,null,null,5,null,{"$f":"IFERROR(VLOOKUP(F66,Таблица1[[#All],[АСТРА]:[коэф]],7,0),\"0\")","v":"0"},0,null,null,0,null,null,0,null,null,null,0,0]
["z",null,null,null,null,null,null,null,null,null,6,null,{"$f":"IFERROR(VLOOKUP(F67,Таблица1[[#All],[АСТРА]:[коэф]],7,0),\"0\")","v":"0"},0,null,null,0,null,null,0,null,null,null,0,0]
["z",null,null,null,null,null,null,null,null,null,7,null,{"$f":"IFERROR(VLOOKUP(F68,Таблица1[[#All],[АСТРА]:[коэф]],7,0),\"0\")","v":"0"},0,null,null,0,null,null,0,null,null,null,0,0]
["z",null,null,null,null,null,null,null,null,null,8,null,{"$f":"IFERROR(VLOOKUP(F69,Таблица1[[#All],[АСТРА]:[коэф]],7,0),\"0\")","v":"0"},0,null,null,0,null,null,0,null,null,null,0,0]
["z",null,null,null,null,null,null,null,null,null,9,null,{"$f":"IFERROR(VLOOKUP(F70,Таблица1[[#All],[АСТРА]:[коэф]],7,0),\"0\")","v":"0"},0,null,null,0,null,null,0,null,null,null,0,0]
["z",null,null,null,null,null,null,null,null,null,10,null,{"$f":"IFERROR(VLOOKUP(F71,Таблица1[[#All],[АСТРА]:[коэф]],7,0),\"0\")","v":"0"},0,null,null,0,null,null,0,null,null,null,0,0]
[{"$f":"IF(G72=0,\"z\",\"\")","v":"z"},null,null,null,null,null,null,null,null,null,11,null,{"$f":"IFERROR(VLOOKUP(F72,Таблица1[[#All],[АСТРА]:[коэф]],7,0),\"0\")","v":"0"},{"$f":"C72*D72*G72*M72/1000000","v":0},null,null,{"$f":"H72*M72","v":0},null,null,{"$f":"I72*M72","v":0},null,null,null,{"$f":"N72-Q72","v":0},{"$f":"X72-T72","v":0}]
["z",null,null,null,null,null,null,null,null,null,12,null,{"$f":"IFERROR(VLOOKUP(F73,Таблица1[[#All],[АСТРА]:[коэф]],7,0),\"0\")","v":"0"},0,null,null,0,null,null,0,null,null,null,0,0]
["z",null,null,null,null,null,null,null,null,null,13,null,{"$f":"IFERROR(VLOOKUP(F74,Таблица1[[#All],[АСТРА]:[коэф]],7,0),\"0\")","v":"0"},0,null,null,0,null,null,0,null,null,null,0,0]
["z",null,null,null,null,null,null,null,null,null,14,null,{"$f":"IFERROR(VLOOKUP(F75,Таблица1[[#All],[АСТРА]:[коэф]],7,0),\"0\")","v":"0"},0,null,null,0,null,null,0,null,null,null,0,0]
["z",null,null,null,null,null,null,null,null,null,15,null,{"$f":"IFERROR(VLOOKUP(F76,Таблица1[[#All],[АСТРА]:[коэф]],7,0),\"0\")","v":"0"},0,null,null,0,null,null,0,null,null,null,0,0]
["z",null,null,null,null,null,null,null,null,null,16,null,{"$f":"IFERROR(VLOOKUP(F77,Таблица1[[#All],[АСТРА]:[коэф]],7,0),\"0\")","v":"0"},0,null,null,0,null,null,0,null,null,null,0,0]
["z",null,null,null,null,null,null,null,null,null,17,null,{"$f":"IFERROR(VLOOKUP(F78,Таблица1[[#All],[АСТРА]:[коэф]],7,0),\"0\")","v":"0"},0,null,null,0,null,null,0,null,null,null,0,0]
["z",null,null,null,null,null,null,null,null,null,18,null,{"$f":"IFERROR(VLOOKUP(F79,Таблица1[[#All],[АСТРА]:[коэф]],7,0),\"0\")","v":"0"},0,null,null,0,null,null,0,null,null,null,0,0]
["z",null,null,null,null,null,null,null,null,null,19,null,{"$f":"IFERROR(VLOOKUP(F80,Таблица1[[#All],[АСТРА]:[коэф]],7,0),\"0\")","v":"0"},0,null,null,0,null,null,0,null,null,null,0,0]
["z",null,null,null,null,null,null,null,null,null,20,null,{"$f":"IFERROR(VLOOKUP(F81,Таблица1[[#All],[АСТРА]:[коэф]],7,0),\"0\")","v":"0"},0,null,null,0,null,null,0,null,null,null,0,0]
["z",null,null,null,null,null,null,null,null,null,21,null,{"$f":"IFERROR(VLOOKUP(F82,Таблица1[[#All],[АСТРА]:[коэф]],7,0),\"0\")","v":"0"},0,null,null,0,null,null,0,null,null,null,0,0]
["z",null,null,null,null,null,null,null,null,null,22,null,{"$f":"IFERROR(VLOOKUP(F83,Таблица1[[#All],[АСТРА]:[коэф]],7,0),\"0\")","v":"0"},0,null,null,0,null,null,0,null,null,null,0,0]
["z",null,null,null,null,null,null,null,null,null,23,null,{"$f":"IFERROR(VLOOKUP(F84,Таблица1[[#All],[АСТРА]:[коэф]],7,0),\"0\")","v":"0"},0,null,null,0,null,null,0,null,null,null,0,0]
["z",null,null,null,null,null,null,null,null,null,24,null,{"$f":"IFERROR(VLOOKUP(F85,Таблица1[[#All],[АСТРА]:[коэф]],7,0),\"0\")","v":"0"},0,null,null,0,null,null,0,null,null,null,0,0]
["z",null,null,null,null,null,null,null,null,null,25,null,{"$f":"IFERROR(VLOOKUP(F86,Таблица1[[#All],[АСТРА]:[коэф]],7,0),\"0\")","v":"0"},0,null,null,0,null,null,0,null,null,null,0,0]
["z",null,null,null,null,null,null,null,null,null,26,null,{"$f":"IFERROR(VLOOKUP(F87,Таблица1[[#All],[АСТРА]:[коэф]],7,0),\"0\")","v":"0"},0,null,null,0,null,null,0,null,null,null,0,0]
["z",null,null,null,null,null,null,null,null,null,27,null,{"$f":"IFERROR(VLOOKUP(F88,Таблица1[[#All],[АСТРА]:[коэф]],7,0),\"0\")","v":"0"},0,null,null,0,null,null,0,null,null,null,0,0]
["z",null,null,null,null,null,null,null,null,null,28,null,{"$f":"IFERROR(VLOOKUP(F89,Таблица1[[#All],[АСТРА]:[коэф]],7,0),\"0\")","v":"0"},0,null,null,0,null,null,0,null,null,null,0,0]
["z",null,null,null,null,null,null,null,null,null,29,null,{"$f":"IFERROR(VLOOKUP(F90,Таблица1[[#All],[АСТРА]:[коэф]],7,0),\"0\")","v":"0"},0,null,null,0,null,null,0,null,null,null,0,0]
["z",null,null,null,null,null,null,null,null,null,30,null,{"$f":"IFERROR(VLOOKUP(F91,Таблица1[[#All],[АСТРА]:[коэф]],7,0),\"0\")","v":"0"},0,null,null,0,null,null,0,null,null,null,0,0]
["z",null,null,null,null,null,null,null,null,null,31,null,{"$f":"IFERROR(VLOOKUP(F92,Таблица1[[#All],[АСТРА]:[коэф]],7,0),\"0\")","v":"0"},0,null,null,0,null,null,0,null,null,null,0,0]
["z",null,null,null,null,null,null,null,null,null,32,null,{"$f":"IFERROR(VLOOKUP(F93,Таблица1[[#All],[АСТРА]:[коэф]],7,0),\"0\")","v":"0"},0,null,null,0,null,null,0,null,null,null,0,0]
["z",null,null,null,null,null,null,null,null,null,33,null,{"$f":"IFERROR(VLOOKUP(F94,Таблица1[[#All],[АСТРА]:[коэф]],7,0),\"0\")","v":"0"},0,null,null,0,null,null,0,null,null,null,0,0]
["z",null,null,null,null,null,null,null,null,null,34,null,{"$f":"IFERROR(VLOOKUP(F95,Таблица1[[#All],[АСТРА]:[коэф]],7,0),\"0\")","v":"0"},0,null,null,0,null,null,0,null,null,null,0,0]
["z",null,null,null,null,null,null,null,null,null,35,null,{"$f":"IFERROR(VLOOKUP(F96,Таблица1[[#All],[АСТРА]:[коэф]],7,0),\"0\")","v":"0"},0,null,null,0,null,null,0,null,null,null,0,0]
["z",null,null,null,null,null,null,null,null,null,36,null,{"$f":"IFERROR(VLOOKUP(F97,Таблица1[[#All],[АСТРА]:[коэф]],7,0),\"0\")","v":"0"},0,null,null,0,null,null,0,null,null,null,0,0]
["z",null,null,null,null,null,null,null,null,null,37,null,{"$f":"IFERROR(VLOOKUP(F98,Таблица1[[#All],[АСТРА]:[коэф]],7,0),\"0\")","v":"0"},0,null,null,0,null,null,0,null,null,null,0,0]
["z",null,null,null,null,null,null,null,null,null,38,null,{"$f":"IFERROR(VLOOKUP(F99,Таблица1[[#All],[АСТРА]:[коэф]],7,0),\"0\")","v":"0"},0,null,null,0,null,null,0,null,null,null,0,0]
["z",null,null,null,null,null,null,null,null,null,39,null,{"$f":"IFERROR(VLOOKUP(F100,Таблица1[[#All],[АСТРА]:[коэф]],7,0),\"0\")","v":"0"},0,null,null,0,null,null,0,null,null,null,0,0]
["z",null,null,null,null,null,null,null,null,null,40,null,{"$f":"IFERROR(VLOOKUP(F101,Таблица1[[#All],[АСТРА]:[коэф]],7,0),\"0\")","v":"0"},0,null,null,0,null,null,0,null,null,null,0,0]
["z",null,null,null,null,null,null,null,null,null,41,null,{"$f":"IFERROR(VLOOKUP(F102,Таблица1[[#All],[АСТРА]:[коэф]],7,0),\"0\")","v":"0"},0,null,null,0,null,null,0,null,null,null,0,0]
["z",null,null,null,null,null,null,null,null,null,42,null,{"$f":"IFERROR(VLOOKUP(F103,Таблица1[[#All],[АСТРА]:[коэф]],7,0),\"0\")","v":"0"},0,null,null,0,null,null,0,null,null,null,0,0]
["z",null,null,null,null,null,null,null,null,null,43,null,{"$f":"IFERROR(VLOOKUP(F104,Таблица1[[#All],[АСТРА]:[коэф]],7,0),\"0\")","v":"0"},0,null,null,0,null,null,0,null,null,null,0,0]
["z",null,null,null,null,null,null,null,null,null,44,null,{"$f":"IFERROR(VLOOKUP(F105,Таблица1[[#All],[АСТРА]:[коэф]],7,0),\"0\")","v":"0"},0,null,null,0,null,null,0,null,null,null,0,0]
["z",null,null,null,null,null,null,null,null,null,45,null,{"$f":"IFERROR(VLOOKUP(F106,Таблица1[[#All],[АСТРА]:[коэф]],7,0),\"0\")","v":"0"},0,null,null,0,null,null,0,null,null,null,0,0]
["z",null,null,null,null,null,null,null,null,null,46,null,{"$f":"IFERROR(VLOOKUP(F107,Таблица1[[#All],[АСТРА]:[коэф]],7,0),\"0\")","v":"0"},0,null,null,0,null,null,0,null,null,null,0,0]
["z",null,null,null,null,null,null,null,null,null,47,null,{"$f":"IFERROR(VLOOKUP(F108,Таблица1[[#All],[АСТРА]:[коэф]],7,0),\"0\")","v":"0"},0,null,null,0,null,null,0,null,null,null,0,0]
["z",null,null,null,null,null,null,null,null,null,48,null,{"$f":"IFERROR(VLOOKUP(F109,Таблица1[[#All],[АСТРА]:[коэф]],7,0),\"0\")","v":"0"},0,null,null,0,null,null,0,null,null,null,0,0]
["z",null,null,null,null,null,null,null,null,null,49,null,{"$f":"IFERROR(VLOOKUP(F110,Таблица1[[#All],[АСТРА]:[коэф]],7,0),\"0\")","v":"0"},0,null,null,0,null,null,0,null,null,null,0,0]
["z",null,null,null,null,null,null,null,null,null,50,null,{"$f":"IFERROR(VLOOKUP(F111,Таблица1[[#All],[АСТРА]:[коэф]],7,0),\"0\")","v":"0"},0,null,null,0,null,null,0,null,null,null,0,0]
["z",null,null,null,null,null,null,null,null,null,51,null,{"$f":"IFERROR(VLOOKUP(F112,Таблица1[[#All],[АСТРА]:[коэф]],7,0),\"0\")","v":"0"},0,null,null,0,null,null,0,null,null,null,0,0]
["z",null,null,null,null,null,null,null,null,null,52,null,{"$f":"IFERROR(VLOOKUP(F113,Таблица1[[#All],[АСТРА]:[коэф]],7,0),\"0\")","v":"0"},0,null,null,0,null,null,0,null,null,null,0,0]
["z",null,null,null,null,null,null,null,null,null,53,null,{"$f":"IFERROR(VLOOKUP(F114,Таблица1[[#All],[АСТРА]:[коэф]],7,0),\"0\")","v":"0"},0,null,null,0,null,null,0,null,null,null,0,0]
["z",null,null,null,null,null,null,null,null,null,54,null,{"$f":"IFERROR(VLOOKUP(F115,Таблица1[[#All],[АСТРА]:[коэф]],7,0),\"0\")","v":"0"},0,null,null,0,null,null,0,null,null,null,0,0]
["z",null,null,null,null,null,null,null,null,null,55,null,{"$f":"IFERROR(VLOOKUP(F116,Таблица1[[#All],[АСТРА]:[коэф]],7,0),\"0\")","v":"0"},0,null,null,0,null,null,0,null,null,null,0,0]
[null,"Данные раскроя АСТРА (без уточнения масс)",null,null,null,null,null,null,null,null,null,null,null,{"$f":"SUM(N62:N116)","v":0},null,null,{"$f":"SUM(Q62:Q116)","v":0},null,null,{"$f":"SUM(T62:T116)","v":0},null,null,null,{"$f":"SUM(X62:X116)","v":0},{"$f":"SUM(Y62:Y116)","v":0}]
[]
[null,null,null,null,null,null,null,null,"Получить",null,null,null,null,null,"Остаток",null,null,"ЛОМ\nкг","Точная \nмасса\nЛОМА\nкг","Детали",null,null,"Точная \nмасса\nдеталей\nкг",null,"Расход",null,null,"лом"]
[null,null,null,"Длина\nцелых\nмм",null,"Труб\nсо \nсклада","Толщина\nмм","Марка материала","Масса \nцелых\nкг","Масса\nделовых\nкг",null,null,"Резы","Общая\nкг","Деловой остаток с целых\nкг","Деловой остаок с деловых\nкг","Общая\nкг",null,null,"Масса деталей целых\nкг","Масса деталей деловых\nкг","Общая\nкг",null,null,"Расход целых\nкг","Расход деловых\nкг","Общий\nкг","ЛОМ\nдубль\nкг","отход\nна\nпорезку","лом \nчистый\nцелых","лом\nчистый\nделовых",null,null,null,null,null,null,null,null,null,"коэф 2м","Разница \nмассы"]
["z",null,null,null,null,null,"копия","копия"]
["z","Столбец1","Столбец2","Дл","Столбец4","со.склада.шт.","Толщ.копия","Столбец5","пол.мас.цел","пол.мас.дел","Столбец10","Столбец6","резы","пол.общ","ост.с.цел","ост.с.дел","ост.общ","лом","Столбец20","Столбец17","Столбец18","Столбец19","Столбец21","Столбец22","Столбец23","Столбец24","Столбец25","Столбец26","лом.на.пор.","лом.целых","лом.делов","шир.рез","ГОСТ","Для.дано","АСТРА","Столбец33","Столбец34","профиль","толщ","точка","коэф","корр.масс"]
[{"$f":"IF(Таблица1[[#This Row],[Столбец19]]=0,\"z\",\"\")","v":"z"},null,null,6000,null,{"$f":"SUMIFS($G$62:$G$116,$D$62:$D$116,500,$C$62:$C$116,Таблица1[[#This Row],[Дл]],$F$62:$F$116,Таблица1[[#This Row],[АСТРА]])","v":0},{"$f":"Таблица1[[#This Row],[толщ]]","v":10},{"$f":"Таблица1[[#This Row],[ГОСТ]]","v":"Арматура 10"},{"$f":"SUMIFS($N$62:$N$116,$C$62:$C$116,Таблица1[[#This Row],[Дл]],$D$62:$D$116,\"=500\",$F$62:$F$116,Таблица1[[#This Row],[АСТРА]])","v":0},{"$f":"SUMIFS($N$62:$N$116,$C$62:$C$116,\"<\"&Таблица1[[#This Row],[Дл]],$D$62:$D$116,\"=500\",$F$62:$F$116,Таблица1[[#This Row],[АСТРА]])","v":0},null,null,{"$f":"SUMIFS($J$8:$J$57,$K$8:$K$57,Таблица1[[#This Row],[Столбец5]])","v":0},{"$f":"Таблица1[[#This Row],[пол.мас.цел]]+Таблица1[[#This Row],[пол.мас.дел]]","v":0},{"$f":"SUMIFS($Q$62:$Q$116,$C$62:$C$116,Таблица1[[#This Row],[Дл]],$D$62:$D$116,\"=500\",$F$62:$F$116,Таблица1[[#This Row],[АСТРА]])","v":0},{"$f":"SUMIFS($Q$62:$Q$116,$C$62:$C$116,\"<\"&Таблица1[[#This Row],[Дл]],$D$62:$D$116,\"=500\",$F$62:$F$116,Таблица1[[#This Row],[АСТРА]])","v":0},{"$f":"Таблица1[[#This Row],[ост.с.цел]]+Таблица1[[#This Row],[ост.с.дел]]","v":0},{"$f":"Таблица1[[#This Row],[лом.целых]]+Таблица1[[#This Row],[лом.делов]]-Таблица1[[#This Row],[лом.на.пор.]]","v":0},{"$f":"Таблица1[[#This Row],[лом]]+Таблица1[[#This Row],[корр.масс]]","v":0},{"$f":"SUMIFS($T$62:$T$116,$C$62:$C$116,Таблица1[[#This Row],[Дл]],$D$62:$D$116,\"=500\",$F$62:$F$116,Таблица1[[#This Row],[АСТРА]])","v":0},{"$f":"SUMIFS($T$62:$T$116,$C$62:$C$116,\"<\"&Таблица1[[#This Row],[Дл]],$D$62:$D$116,\"=500\",$F$62:$F$116,Таблица1[[#This Row],[АСТРА]])","v":0},{"$f":"Таблица1[[#This Row],[Столбец17]]+Таблица1[[#This Row],[Столбец18]]+Таблица1[[#This Row],[лом.на.пор.]]","v":0},{"$f":"Таблица1[[#This Row],[Столбец19]]-Таблица1[[#This Row],[корр.масс]]","v":0},null,{"$f":"SUMIFS($X$62:$X$116,$C$62:$C$116,Таблица1[[#This Row],[Дл]],$D$62:$D$116,\"=500\",$F$62:$F$116,Таблица1[[#This Row],[АСТРА]])","v":0},{"$f":"SUMIFS($X$62:$X$116,$C$62:$C$116,\"<\"&Таблица1[[#This Row],[Дл]],$D$62:$D$116,\"=500\",$F$62:$F$116,Таблица1[[#This Row],[АСТРА]])","v":0},{"$f":"Таблица1[[#This Row],[Столбец23]]+Таблица1[[#This Row],[Столбец24]]","v":0},{"$f":"Таблица1[[#This Row],[лом.целых]]+Таблица1[[#This Row],[лом.делов]]-Таблица1[[#This Row],[лом.на.пор.]]","v":0},{"$f":"IF(Таблица1[[#This Row],[резы]]*Таблица1[[#This Row],[шир.рез]]/1000*Таблица1[[#This Row],[коэф]]/2<0,0,Таблица1[[#This Row],[резы]]*Таблица1[[#This Row],[шир.рез]]/1000*Таблица1[[#This Row],[коэф]]/2)","v":0},{"$f":"SUMIFS($Y$62:$Y$116,$C$62:$C$116,Таблица1[[#This Row],[Дл]],$D$62:$D$116,\"=500\",$F$62:$F$116,Таблица1[[#This Row],[АСТРА]])","v":0},{"$f":"SUMIFS($Y$62:$Y$116,$C$62:$C$116,\"<\"&Таблица1[[#This Row],[Дл]],$D$62:$D$116,\"=500\",$F$62:$F$116,Таблица1[[#This Row],[АСТРА]])","v":0},5,{"$f":"IF(Таблица1[[#This Row],[профиль]]=Таблица1[[#This Row],[толщ]],CONCATENATE(Таблица1[[#This Row],[Столбец33]],\" \",Таблица1[[#This Row],[толщ]]),CONCATENATE(Таблица1[[#This Row],[Столбец33]],\" \",Таблица1[[#This Row],[профиль]],\"х\",Таблица1[[#This Row],[толщ]]))","v":"Арматура 10"},{"$f":"CONCATENATE(Таблица1[[#This Row],[Столбец33]],\" \",Таблица1[[#This Row],[профиль]])","v":"Арматура 10"},"Арматура 10, 10.0 мм","Арматура",{"$f":"IF(Таблица1[[#This Row],[профиль]]=Таблица1[[#This Row],[толщ]],Таблица1[[#This Row],[толщ]],CONCATENATE(Таблица1[[#This Row],[профиль]],\"х\",Таблица1[[#This Row],[точка]]))","v":10},10,10,{"$f":"SUBSTITUTE(Таблица1[[#This Row],[толщ]],\",\",\".\")","v":"10"},{"$f":"0.617*2","v":1.234},{"$f":"SUMIFS($U$8:$U$57,$K$8:$K$57,Таблица1[[#This Row],[ГОСТ]])","v":0}]
[{"$f":"IF(Таблица1[[#This Row],[Столбец19]]=0,\"z\",\"\")","v":"z"},null,null,6000,null,{"$f":"SUMIFS($G$62:$G$116,$D$62:$D$116,500,$C$62:$C$116,Таблица1[[#This Row],[Дл]],$F$62:$F$116,Таблица1[[#This Row],[АСТРА]])","v":0},{"$f":"Таблица1[[#This Row],[толщ]]","v":20},{"$f":"Таблица1[[#This Row],[ГОСТ]]","v":"Арматура 20"},{"$f":"SUMIFS($N$62:$N$116,$C$62:$C$116,Таблица1[[#This Row],[Дл]],$D$62:$D$116,\"=500\",$F$62:$F$116,Таблица1[[#This Row],[АСТРА]])","v":0},{"$f":"SUMIFS($N$62:$N$116,$C$62:$C$116,\"<\"&Таблица1[[#This Row],[Дл]],$D$62:$D$116,\"=500\",$F$62:$F$116,Таблица1[[#This Row],[АСТРА]])","v":0},null,null,{"$f":"SUMIFS($J$8:$J$57,$K$8:$K$57,Таблица1[[#This Row],[Столбец5]])","v":0},{"$f":"Таблица1[[#This Row],[пол.мас.цел]]+Таблица1[[#This Row],[пол.мас.дел]]","v":0},{"$f":"SUMIFS($Q$62:$Q$116,$C$62:$C$116,Таблица1[[#This Row],[Дл]],$D$62:$D$116,\"=500\",$F$62:$F$116,Таблица1[[#This Row],[АСТРА]])","v":0},{"$f":"SUMIFS($Q$62:$Q$116,$C$62:$C$116,\"<\"&Таблица1[[#This Row],[Дл]],$D$62:$D$116,\"=500\",$F$62:$F$116,Таблица1[[#This Row],[АСТРА]])","v":0},{"$f":"Таблица1[[#This Row],[ост.с.цел]]+Таблица1[[#This Row],[ост.с.дел]]","v":0},{"$f":"Таблица1[[#This Row],[лом.целых]]+Таблица1[[#This Row],[лом.делов]]-Таблица1[[#This Row],[лом.на.пор.]]","v":0},{"$f":"Таблица1[[#This Row],[лом]]+Таблица1[[#This Row],[корр.масс]]","v":0},{"$f":"SUMIFS($T$62:$T$116,$C$62:$C$116,Таблица1[[#This Row],[Дл]],$D$62:$D$116,\"=500\",$F$62:$F$116,Таблица1[[#This Row],[АСТРА]])","v":0},{"$f":"SUMIFS($T$62:$T$116,$C$62:$C$116,\"<\"&Таблица1[[#This Row],[Дл]],$D$62:$D$116,\"=500\",$F$62:$F$116,Таблица1[[#This Row],[АСТРА]])","v":0},{"$f":"Таблица1[[#This Row],[Столбец17]]+Таблица1[[#This Row],[Столбец18]]+Таблица1[[#This Row],[лом.на.пор.]]","v":0},{"$f":"Таблица1[[#This Row],[Столбец19]]-Таблица1[[#This Row],[корр.масс]]","v":0},null,{"$f":"SUMIFS($X$62:$X$116,$C$62:$C$116,Таблица1[[#This Row],[Дл]],$D$62:$D$116,\"=500\",$F$62:$F$116,Таблица1[[#This Row],[АСТРА]])","v":0},{"$f":"SUMIFS($X$62:$X$116,$C$62:$C$116,\"<\"&Таблица1[[#This Row],[Дл]],$D$62:$D$116,\"=500\",$F$62:$F$116,Таблица1[[#This Row],[АСТРА]])","v":0},{"$f":"Таблица1[[#This Row],[Столбец23]]+Таблица1[[#This Row],[Столбец24]]","v":0},{"$f":"Таблица1[[#This Row],[лом.целых]]+Таблица1[[#This Row],[лом.делов]]-Таблица1[[#This Row],[лом.на.пор.]]","v":0},{"$f":"IF(Таблица1[[#This Row],[резы]]*Таблица1[[#This Row],[шир.рез]]/1000*Таблица1[[#This Row],[коэф]]/2<0,0,Таблица1[[#This Row],[резы]]*Таблица1[[#This Row],[шир.рез]]/1000*Таблица1[[#This Row],[коэф]]/2)","v":0},{"$f":"SUMIFS($Y$62:$Y$116,$C$62:$C$116,Таблица1[[#This Row],[Дл]],$D$62:$D$116,\"=500\",$F$62:$F$116,Таблица1[[#This Row],[АСТРА]])","v":0},{"$f":"SUMIFS($Y$62:$Y$116,$C$62:$C$116,\"<\"&Таблица1[[#This Row],[Дл]],$D$62:$D$116,\"=500\",$F$62:$F$116,Таблица1[[#This Row],[АСТРА]])","v":0},5,{"$f":"IF(Таблица1[[#This Row],[профиль]]=Таблица1[[#This Row],[толщ]],CONCATENATE(Таблица1[[#This Row],[Столбец33]],\" \",Таблица1[[#This Row],[толщ]]),CONCATENATE(Таблица1[[#This Row],[Столбец33]],\" \",Таблица1[[#This Row],[профиль]],\"х\",Таблица1[[#This Row],[толщ]]))","v":"Арматура 20"},{"$f":"CONCATENATE(Таблица1[[#This Row],[Столбец33]],\" \",Таблица1[[#This Row],[профиль]])","v":"Арматура 20"},"Арматура 20, 20.0 мм","Арматура",{"$f":"IF(Таблица1[[#This Row],[профиль]]=Таблица1[[#This Row],[толщ]],Таблица1[[#This Row],[толщ]],CONCATENATE(Таблица1[[#This Row],[профиль]],\"х\",Таблица1[[#This Row],[точка]]))","v":20},20,20,{"$f":"SUBSTITUTE(Таблица1[[#This Row],[толщ]],\",\",\".\")","v":"20"},{"$f":"2.47*2","v":4.9400000000000004},{"$f":"SUMIFS($U$8:$U$57,$K$8:$K$57,Таблица1[[#This Row],[ГОСТ]])","v":0}]
[{"$f":"IF(Таблица1[[#This Row],[Столбец19]]=0,\"z\",\"\")","v":"z"},null,null,6000,null,{"$f":"SUMIFS($G$62:$G$116,$D$62:$D$116,500,$C$62:$C$116,Таблица1[[#This Row],[Дл]],$F$62:$F$116,Таблица1[[#This Row],[АСТРА]])","v":0},{"$f":"Таблица1[[#This Row],[толщ]]","v":25},{"$f":"Таблица1[[#This Row],[ГОСТ]]","v":"Квадрат 25"},{"$f":"SUMIFS($N$62:$N$116,$C$62:$C$116,Таблица1[[#This Row],[Дл]],$D$62:$D$116,\"=500\",$F$62:$F$116,Таблица1[[#This Row],[АСТРА]])","v":0},{"$f":"SUMIFS($N$62:$N$116,$C$62:$C$116,\"<\"&Таблица1[[#This Row],[Дл]],$D$62:$D$116,\"=500\",$F$62:$F$116,Таблица1[[#This Row],[АСТРА]])","v":0},null,null,{"$f":"SUMIFS($J$8:$J$57,$K$8:$K$57,Таблица1[[#This Row],[Столбец5]])","v":0},{"$f":"Таблица1[[#This Row],[пол.мас.цел]]+Таблица1[[#This Row],[пол.мас.дел]]","v":0},{"$f":"SUMIFS($Q$62:$Q$116,$C$62:$C$116,Таблица1[[#This Row],[Дл]],$D$62:$D$116,\"=500\",$F$62:$F$116,Таблица1[[#This Row],[АСТРА]])","v":0},{"$f":"SUMIFS($Q$62:$Q$116,$C$62:$C$116,\"<\"&Таблица1[[#This Row],[Дл]],$D$62:$D$116,\"=500\",$F$62:$F$116,Таблица1[[#This Row],[АСТРА]])","v":0},{"$f":"Таблица1[[#This Row],[ост.с.цел]]+Таблица1[[#This Row],[ост.с.дел]]","v":0},{"$f":"Таблица1[[#This Row],[лом.целых]]+Таблица1[[#This Row],[лом.делов]]-Таблица1[[#This Row],[лом.на.пор.]]","v":0},{"$f":"Таблица1[[#This Row],[лом]]+Таблица1[[#This Row],[корр.масс]]","v":0},{"$f":"SUMIFS($T$62:$T$116,$C$62:$C$116,Таблица1[[#This Row],[Дл]],$D$62:$D$116,\"=500\",$F$62:$F$116,Таблица1[[#This Row],[АСТРА]])","v":0},{"$f":"SUMIFS($T$62:$T$116,$C$62:$C$116,\"<\"&Таблица1[[#This Row],[Дл]],$D$62:$D$116,\"=500\",$F$62:$F$116,Таблица1[[#This Row],[АСТРА]])","v":0},{"$f":"Таблица1[[#This Row],[Столбец17]]+Таблица1[[#This Row],[Столбец18]]+Таблица1[[#This Row],[лом.на.пор.]]","v":0},{"$f":"Таблица1[[#This Row],[Столбец19]]-Таблица1[[#This Row],[корр.масс]]","v":0},null,{"$f":"SUMIFS($X$62:$X$116,$C$62:$C$116,Таблица1[[#This Row],[Дл]],$D$62:$D$116,\"=500\",$F$62:$F$116,Таблица1[[#This Row],[АСТРА]])","v":0},{"$f":"SUMIFS($X$62:$X$116,$C$62:$C$116,\"<\"&Таблица1[[#This Row],[Дл]],$D$62:$D$116,\"=500\",$F$62:$F$116,Таблица1[[#This Row],[АСТРА]])","v":0},{"$f":"Таблица1[[#This Row],[Столбец23]]+Таблица1[[#This Row],[Столбец24]]","v":0},{"$f":"Таблица1[[#This Row],[лом.целых]]+Таблица1[[#This Row],[лом.делов]]-Таблица1[[#This Row],[лом.на.пор.]]","v":0},{"$f":"IF(Таблица1[[#This Row],[резы]]*Таблица1[[#This Row],[шир.рез]]/1000*Таблица1[[#This Row],[коэф]]/2<0,0,Таблица1[[#This Row],[резы]]*Таблица1[[#This Row],[шир.рез]]/1000*Таблица1[[#This Row],[коэф]]/2)","v":0},{"$f":"SUMIFS($Y$62:$Y$116,$C$62:$C$116,Таблица1[[#This Row],[Дл]],$D$62:$D$116,\"=500\",$F$62:$F$116,Таблица1[[#This Row],[АСТРА]])","v":0},{"$f":"SUMIFS($Y$62:$Y$116,$C$62:$C$116,\"<\"&Таблица1[[#This Row],[Дл]],$D$62:$D$116,\"=500\",$F$62:$F$116,Таблица1[[#This Row],[АСТРА]])","v":0},5,{"$f":"IF(Таблица1[[#This Row],[профиль]]=Таблица1[[#This Row],[толщ]],CONCATENATE(Таблица1[[#This Row],[Столбец33]],\" \",Таблица1[[#This Row],[толщ]]),CONCATENATE(Таблица1[[#This Row],[Столбец33]],\" \",Таблица1[[#This Row],[профиль]],\"х\",Таблица1[[#This Row],[толщ]]))","v":"Квадрат 25"},{"$f":"CONCATENATE(Таблица1[[#This Row],[Столбец33]],\" \",Таблица1[[#This Row],[профиль]])","v":"Квадрат 25"},"Квадрат 25, 25.0 мм, кв25","Квадрат",{"$f":"IF(Таблица1[[#This Row],[профиль]]=Таблица1[[#This Row],[толщ]],Таблица1[[#This Row],[толщ]],CONCATENATE(Таблица1[[#This Row],[профиль]],\"х\",Таблица1[[#This Row],[точка]]))","v":25},25,25,{"$f":"SUBSTITUTE(Таблица1[[#This Row],[толщ]],\",\",\".\")","v":"25"},{"$f":"4.91*2","v":9.82},{"$f":"SUMIFS($U$8:$U$57,$K$8:$K$57,Таблица1[[#This Row],[ГОСТ]])","v":0}]
[{"$f":"IF(Таблица1[[#This Row],[Столбец19]]=0,\"z\",\"\")","v":"z"},null,null,null,null,{"$f":"SUMIFS($G$62:$G$116,$D$62:$D$116,500,$C$62:$C$116,Таблица1[[#This Row],[Дл]],$F$62:$F$116,Таблица1[[#This Row],[АСТРА]])","v":0},{"$f":"Таблица1[[#This Row],[толщ]]","v":6},{"$f":"Таблица1[[#This Row],[ГОСТ]]","v":"Квадрат 6"},{"$f":"SUMIFS($N$62:$N$116,$C$62:$C$116,Таблица1[[#This Row],[Дл]],$D$62:$D$116,\"=500\",$F$62:$F$116,Таблица1[[#This Row],[АСТРА]])","v":0},{"$f":"SUMIFS($N$62:$N$116,$C$62:$C$116,\"<\"&Таблица1[[#This Row],[Дл]],$D$62:$D$116,\"=500\",$F$62:$F$116,Таблица1[[#This Row],[АСТРА]])","v":0},null,null,{"$f":"SUMIFS($J$8:$J$57,$K$8:$K$57,Таблица1[[#This Row],[Столбец5]])","v":0},{"$f":"Таблица1[[#This Row],[пол.мас.цел]]+Таблица1[[#This Row],[пол.мас.дел]]","v":0},{"$f":"SUMIFS($Q$62:$Q$116,$C$62:$C$116,Таблица1[[#This Row],[Дл]],$D$62:$D$116,\"=500\",$F$62:$F$116,Таблица1[[#This Row],[АСТРА]])","v":0},{"$f":"SUMIFS($Q$62:$Q$116,$C$62:$C$116,\"<\"&Таблица1[[#This Row],[Дл]],$D$62:$D$116,\"=500\",$F$62:$F$116,Таблица1[[#This Row],[АСТРА]])","v":0},{"$f":"Таблица1[[#This Row],[ост.с.цел]]+Таблица1[[#This Row],[ост.с.дел]]","v":0},{"$f":"Таблица1[[#This Row],[лом.целых]]+Таблица1[[#This Row],[лом.делов]]-Таблица1[[#This Row],[лом.на.пор.]]","v":0},{"$f":"Таблица1[[#This Row],[лом]]+Таблица1[[#This Row],[корр.масс]]","v":0},{"$f":"SUMIFS($T$62:$T$116,$C$62:$C$116,Таблица1[[#This Row],[Дл]],$D$62:$D$116,\"=500\",$F$62:$F$116,Таблица1[[#This Row],[АСТРА]])","v":0},{"$f":"SUMIFS($T$62:$T$116,$C$62:$C$116,\"<\"&Таблица1[[#This Row],[Дл]],$D$62:$D$116,\"=500\",$F$62:$F$116,Таблица1[[#This Row],[АСТРА]])","v":0},{"$f":"Таблица1[[#This Row],[Столбец17]]+Таблица1[[#This Row],[Столбец18]]+Таблица1[[#This Row],[лом.на.пор.]]","v":0},{"$f":"Таблица1[[#This Row],[Столбец19]]-Таблица1[[#This Row],[корр.масс]]","v":0},null,{"$f":"SUMIFS($X$62:$X$116,$C$62:$C$116,Таблица1[[#This Row],[Дл]],$D$62:$D$116,\"=500\",$F$62:$F$116,Таблица1[[#This Row],[АСТРА]])","v":0},{"$f":"SUMIFS($X$62:$X$116,$C$62:$C$116,\"<\"&Таблица1[[#This Row],[Дл]],$D$62:$D$116,\"=500\",$F$62:$F$116,Таблица1[[#This Row],[АСТРА]])","v":0},{"$f":"Таблица1[[#This Row],[Столбец23]]+Таблица1[[#This Row],[Столбец24]]","v":0},{"$f":"Таблица1[[#This Row],[лом.целых]]+Таблица1[[#This Row],[лом.делов]]-Таблица1[[#This Row],[лом.на.пор.]]","v":0},{"$f":"IF(Таблица1[[#This Row],[резы]]*Таблица1[[#This Row],[шир.рез]]/1000*Таблица1[[#This Row],[коэф]]/2<0,0,Таблица1[[#This Row],[резы]]*Таблица1[[#This Row],[шир.рез]]/1000*Таблица1[[#This Row],[коэф]]/2)","v":0},{"$f":"SUMIFS($Y$62:$Y$116,$C$62:$C$116,Таблица1[[#This Row],[Дл]],$D$62:$D$116,\"=500\",$F$62:$F$116,Таблица1[[#This Row],[АСТРА]])","v":0},{"$f":"SUMIFS($Y$62:$Y$116,$C$62:$C$116,\"<\"&Таблица1[[#This Row],[Дл]],$D$62:$D$116,\"=500\",$F$62:$F$116,Таблица1[[#This Row],[АСТРА]])","v":0},5,{"$f":"IF(Таблица1[[#This Row],[профиль]]=Таблица1[[#This Row],[толщ]],CONCATENATE(Таблица1[[#This Row],[Столбец33]],\" \",Таблица1[[#This Row],[толщ]]),CONCATENATE(Таблица1[[#This Row],[Столбец33]],\" \",Таблица1[[#This Row],[профиль]],\"х\",Таблица1[[#This Row],[толщ]]))","v":"Квадрат 6"},{"$f":"CONCATENATE(Таблица1[[#This Row],[Столбец33]],\" \",Таблица1[[#This Row],[профиль]])","v":"Квадрат 6"},"Квадрат 6, 6.0 мм","Квадрат",{"$f":"IF(Таблица1[[#This Row],[профиль]]=Таблица1[[#This Row],[толщ]],Таблица1[[#This Row],[толщ]],CONCATENATE(Таблица1[[#This Row],[профиль]],\"х\",Таблица1[[#This Row],[точка]]))","v":6},6,6,{"$f":"SUBSTITUTE(Таблица1[[#This Row],[толщ]],\",\",\".\")","v":"6"},{"$f":"0.283*2","v":0.56599999999999995},{"$f":"SUMIFS($U$8:$U$57,$K$8:$K$57,Таблица1[[#This Row],[ГОСТ]])","v":0}]
[{"$f":"IF(Таблица1[[#This Row],[Столбец19]]=0,\"z\",\"\")","v":"z"},null,null,3000,null,{"$f":"SUMIFS($G$62:$G$116,$D$62:$D$116,500,$C$62:$C$116,Таблица1[[#This Row],[Дл]],$F$62:$F$116,Таблица1[[#This Row],[АСТРА]])","v":0},{"$f":"Таблица1[[#This Row],[толщ]]","v":8},{"$f":"Таблица1[[#This Row],[ГОСТ]]","v":"Квадрат 8"},{"$f":"SUMIFS($N$62:$N$116,$C$62:$C$116,Таблица1[[#This Row],[Дл]],$D$62:$D$116,\"=500\",$F$62:$F$116,Таблица1[[#This Row],[АСТРА]])","v":0},{"$f":"SUMIFS($N$62:$N$116,$C$62:$C$116,\"<\"&Таблица1[[#This Row],[Дл]],$D$62:$D$116,\"=500\",$F$62:$F$116,Таблица1[[#This Row],[АСТРА]])","v":0},null,null,{"$f":"SUMIFS($J$8:$J$57,$K$8:$K$57,Таблица1[[#This Row],[Столбец5]])","v":0},{"$f":"Таблица1[[#This Row],[пол.мас.цел]]+Таблица1[[#This Row],[пол.мас.дел]]","v":0},{"$f":"SUMIFS($Q$62:$Q$116,$C$62:$C$116,Таблица1[[#This Row],[Дл]],$D$62:$D$116,\"=500\",$F$62:$F$116,Таблица1[[#This Row],[АСТРА]])","v":0},{"$f":"SUMIFS($Q$62:$Q$116,$C$62:$C$116,\"<\"&Таблица1[[#This Row],[Дл]],$D$62:$D$116,\"=500\",$F$62:$F$116,Таблица1[[#This Row],[АСТРА]])","v":0},{"$f":"Таблица1[[#This Row],[ост.с.цел]]+Таблица1[[#This Row],[ост.с.дел]]","v":0},{"$f":"Таблица1[[#This Row],[лом.целых]]+Таблица1[[#This Row],[лом.делов]]-Таблица1[[#This Row],[лом.на.пор.]]","v":0},{"$f":"Таблица1[[#This Row],[лом]]+Таблица1[[#This Row],[корр.масс]]","v":0},{"$f":"SUMIFS($T$62:$T$116,$C$62:$C$116,Таблица1[[#This Row],[Дл]],$D$62:$D$116,\"=500\",$F$62:$F$116,Таблица1[[#This Row],[АСТРА]])","v":0},{"$f":"SUMIFS($T$62:$T$116,$C$62:$C$116,\"<\"&Таблица1[[#This Row],[Дл]],$D$62:$D$116,\"=500\",$F$62:$F$116,Таблица1[[#This Row],[АСТРА]])","v":0},{"$f":"Таблица1[[#This Row],[Столбец17]]+Таблица1[[#This Row],[Столбец18]]+Таблица1[[#This Row],[лом.на.пор.]]","v":0},{"$f":"Таблица1[[#This Row],[Столбец19]]-Таблица1[[#This Row],[корр.масс]]","v":0},null,{"$f":"SUMIFS($X$62:$X$116,$C$62:$C$116,Таблица1[[#This Row],[Дл]],$D$62:$D$116,\"=500\",$F$62:$F$116,Таблица1[[#This Row],[АСТРА]])","v":0},{"$f":"SUMIFS($X$62:$X$116,$C$62:$C$116,\"<\"&Таблица1[[#This Row],[Дл]],$D$62:$D$116,\"=500\",$F$62:$F$116,Таблица1[[#This Row],[АСТРА]])","v":0},{"$f":"Таблица1[[#This Row],[Столбец23]]+Таблица1[[#This Row],[Столбец24]]","v":0},{"$f":"Таблица1[[#This Row],[лом.целых]]+Таблица1[[#This Row],[лом.делов]]-Таблица1[[#This Row],[лом.на.пор.]]","v":0},{"$f":"IF(Таблица1[[#This Row],[резы]]*Таблица1[[#This Row],[шир.рез]]/1000*Таблица1[[#This Row],[коэф]]/2<0,0,Таблица1[[#This Row],[резы]]*Таблица1[[#This Row],[шир.рез]]/1000*Таблица1[[#This Row],[коэф]]/2)","v":0},{"$f":"SUMIFS($Y$62:$Y$116,$C$62:$C$116,Таблица1[[#This Row],[Дл]],$D$62:$D$116,\"=500\",$F$62:$F$116,Таблица1[[#This Row],[АСТРА]])","v":0},{"$f":"SUMIFS($Y$62:$Y$116,$C$62:$C$116,\"<\"&Таблица1[[#This Row],[Дл]],$D$62:$D$116,\"=500\",$F$62:$F$116,Таблица1[[#This Row],[АСТРА]])","v":0},5,{"$f":"IF(Таблица1[[#This Row],[профиль]]=Таблица1[[#This Row],[толщ]],CONCATENATE(Таблица1[[#This Row],[Столбец33]],\" \",Таблица1[[#This Row],[толщ]]),CONCATENATE(Таблица1[[#This Row],[Столбец33]],\" \",Таблица1[[#This Row],[профиль]],\"х\",Таблица1[[#This Row],[толщ]]))","v":"Квадрат 8"},{"$f":"CONCATENATE(Таблица1[[#This Row],[Столбец33]],\" \",Таблица1[[#This Row],[профиль]])","v":"Квадрат 8"},"Квадрат 8, 8.0 мм","Квадрат",{"$f":"IF(Таблица1[[#This Row],[профиль]]=Таблица1[[#This Row],[толщ]],Таблица1[[#This Row],[толщ]],CONCATENATE(Таблица1[[#This Row],[профиль]],\"х\",Таблица1[[#This Row],[точка]]))","v":8},8,8,{"$f":"SUBSTITUTE(Таблица1[[#This Row],[толщ]],\",\",\".\")","v":"8"},{"$f":"0.502*2","v":1.004},{"$f":"SUMIFS($U$8:$U$57,$K$8:$K$57,Таблица1[[#This Row],[ГОСТ]])","v":0}]
[{"$f":"IF(Таблица1[[#This Row],[Столбец19]]=0,\"z\",\"\")","v":"z"},null,null,6000,null,{"$f":"SUMIFS($G$62:$G$116,$D$62:$D$116,500,$C$62:$C$116,Таблица1[[#This Row],[Дл]],$F$62:$F$116,Таблица1[[#This Row],[АСТРА]])","v":0},{"$f":"Таблица1[[#This Row],[толщ]]","v":10},{"$f":"Таблица1[[#This Row],[ГОСТ]]","v":"Круг 10"},{"$f":"SUMIFS($N$62:$N$116,$C$62:$C$116,Таблица1[[#This Row],[Дл]],$D$62:$D$116,\"=500\",$F$62:$F$116,Таблица1[[#This Row],[АСТРА]])","v":0},{"$f":"SUMIFS($N$62:$N$116,$C$62:$C$116,\"<\"&Таблица1[[#This Row],[Дл]],$D$62:$D$116,\"=500\",$F$62:$F$116,Таблица1[[#This Row],[АСТРА]])","v":0},null,null,{"$f":"SUMIFS($J$8:$J$57,$K$8:$K$57,Таблица1[[#This Row],[Столбец5]])","v":0},{"$f":"Таблица1[[#This Row],[пол.мас.цел]]+Таблица1[[#This Row],[пол.мас.дел]]","v":0},{"$f":"SUMIFS($Q$62:$Q$116,$C$62:$C$116,Таблица1[[#This Row],[Дл]],$D$62:$D$116,\"=500\",$F$62:$F$116,Таблица1[[#This Row],[АСТРА]])","v":0},{"$f":"SUMIFS($Q$62:$Q$116,$C$62:$C$116,\"<\"&Таблица1[[#This Row],[Дл]],$D$62:$D$116,\"=500\",$F$62:$F$116,Таблица1[[#This Row],[АСТРА]])","v":0},{"$f":"Таблица1[[#This Row],[ост.с.цел]]+Таблица1[[#This Row],[ост.с.дел]]","v":0},{"$f":"Таблица1[[#This Row],[лом.целых]]+Таблица1[[#This Row],[лом.делов]]-Таблица1[[#This Row],[лом.на.пор.]]","v":0},{"$f":"Таблица1[[#This Row],[лом]]+Таблица1[[#This Row],[корр.масс]]","v":0},{"$f":"SUMIFS($T$62:$T$116,$C$62:$C$116,Таблица1[[#This Row],[Дл]],$D$62:$D$116,\"=500\",$F$62:$F$116,Таблица1[[#This Row],[АСТРА]])","v":0},{"$f":"SUMIFS($T$62:$T$116,$C$62:$C$116,\"<\"&Таблица1[[#This Row],[Дл]],$D$62:$D$116,\"=500\",$F$62:$F$116,Таблица1[[#This Row],[АСТРА]])","v":0},{"$f":"Таблица1[[#This Row],[Столбец17]]+Таблица1[[#This Row],[Столбец18]]+Таблица1[[#This Row],[лом.на.пор.]]","v":0},{"$f":"Таблица1[[#This Row],[Столбец19]]-Таблица1[[#This Row],[корр.масс]]","v":0},null,{"$f":"SUMIFS($X$62:$X$116,$C$62:$C$116,Таблица1[[#This Row],[Дл]],$D$62:$D$116,\"=500\",$F$62:$F$116,Таблица1[[#This Row],[АСТРА]])","v":0},{"$f":"SUMIFS($X$62:$X$116,$C$62:$C$116,\"<\"&Таблица1[[#This Row],[Дл]],$D$62:$D$116,\"=500\",$F$62:$F$116,Таблица1[[#This Row],[АСТРА]])","v":0},{"$f":"Таблица1[[#This Row],[Столбец23]]+Таблица1[[#This Row],[Столбец24]]","v":0},{"$f":"Таблица1[[#This Row],[лом.целых]]+Таблица1[[#This Row],[лом.делов]]-Таблица1[[#This Row],[лом.на.пор.]]","v":0},{"$f":"IF(Таблица1[[#This Row],[резы]]*Таблица1[[#This Row],[шир.рез]]/1000*Таблица1[[#This Row],[коэф]]/2<0,0,Таблица1[[#This Row],[резы]]*Таблица1[[#This Row],[шир.рез]]/1000*Таблица1[[#This Row],[коэф]]/2)","v":0},{"$f":"SUMIFS($Y$62:$Y$116,$C$62:$C$116,Таблица1[[#This Row],[Дл]],$D$62:$D$116,\"=500\",$F$62:$F$116,Таблица1[[#This Row],[АСТРА]])","v":0},{"$f":"SUMIFS($Y$62:$Y$116,$C$62:$C$116,\"<\"&Таблица1[[#This Row],[Дл]],$D$62:$D$116,\"=500\",$F$62:$F$116,Таблица1[[#This Row],[АСТРА]])","v":0},5,{"$f":"IF(Таблица1[[#This Row],[профиль]]=Таблица1[[#This Row],[толщ]],CONCATENATE(Таблица1[[#This Row],[Столбец33]],\" \",Таблица1[[#This Row],[толщ]]),CONCATENATE(Таблица1[[#This Row],[Столбец33]],\" \",Таблица1[[#This Row],[профиль]],\"х\",Таблица1[[#This Row],[толщ]]))","v":"Круг 10"},{"$f":"CONCATENATE(Таблица1[[#This Row],[Столбец33]],\" \",Таблица1[[#This Row],[профиль]])","v":"Круг 10"},"Круг 10, 10.0 мм, кр10","Круг",{"$f":"IF(Таблица1[[#This Row],[профиль]]=Таблица1[[#This Row],[толщ]],Таблица1[[#This Row],[толщ]],CONCATENATE(Таблица1[[#This Row],[профиль]],\"х\",Таблица1[[#This Row],[точка]]))","v":10},10,10,{"$f":"SUBSTITUTE(Таблица1[[#This Row],[толщ]],\",\",\".\")","v":"10"},{"$f":"0.617*2","v":1.234},{"$f":"SUMIFS($U$8:$U$57,$K$8:$K$57,Таблица1[[#This Row],[ГОСТ]])","v":0}]
[{"$f":"IF(Таблица1[[#This Row],[Столбец19]]=0,\"z\",\"\")","v":"z"},null,null,3000,null,{"$f":"SUMIFS($G$62:$G$116,$D$62:$D$116,500,$C$62:$C$116,Таблица1[[#This Row],[Дл]],$F$62:$F$116,Таблица1[[#This Row],[АСТРА]])","v":0},{"$f":"Таблица1[[#This Row],[толщ]]","v":12},{"$f":"Таблица1[[#This Row],[ГОСТ]]","v":"Круг 12"},{"$f":"SUMIFS($N$62:$N$116,$C$62:$C$116,Таблица1[[#This Row],[Дл]],$D$62:$D$116,\"=500\",$F$62:$F$116,Таблица1[[#This Row],[АСТРА]])","v":0},{"$f":"SUMIFS($N$62:$N$116,$C$62:$C$116,\"<\"&Таблица1[[#This Row],[Дл]],$D$62:$D$116,\"=500\",$F$62:$F$116,Таблица1[[#This Row],[АСТРА]])","v":0},null,null,{"$f":"SUMIFS($J$8:$J$57,$K$8:$K$57,Таблица1[[#This Row],[Столбец5]])","v":0},{"$f":"Таблица1[[#This Row],[пол.мас.цел]]+Таблица1[[#This Row],[пол.мас.дел]]","v":0},{"$f":"SUMIFS($Q$62:$Q$116,$C$62:$C$116,Таблица1[[#This Row],[Дл]],$D$62:$D$116,\"=500\",$F$62:$F$116,Таблица1[[#This Row],[АСТРА]])","v":0},{"$f":"SUMIFS($Q$62:$Q$116,$C$62:$C$116,\"<\"&Таблица1[[#This Row],[Дл]],$D$62:$D$116,\"=500\",$F$62:$F$116,Таблица1[[#This Row],[АСТРА]])","v":0},{"$f":"Таблица1[[#This Row],[ост.с.цел]]+Таблица1[[#This Row],[ост.с.дел]]","v":0},{"$f":"Таблица1[[#This Row],[лом.целых]]+Таблица1[[#This Row],[лом.делов]]-Таблица1[[#This Row],[лом.на.пор.]]","v":0},{"$f":"Таблица1[[#This Row],[лом]]+Таблица1[[#This Row],[корр.масс]]","v":0},{"$f":"SUMIFS($T$62:$T$116,$C$62:$C$116,Таблица1[[#This Row],[Дл]],$D$62:$D$116,\"=500\",$F$62:$F$116,Таблица1[[#This Row],[АСТРА]])","v":0},{"$f":"SUMIFS($T$62:$T$116,$C$62:$C$116,\"<\"&Таблица1[[#This Row],[Дл]],$D$62:$D$116,\"=500\",$F$62:$F$116,Таблица1[[#This Row],[АСТРА]])","v":0},{"$f":"Таблица1[[#This Row],[Столбец17]]+Таблица1[[#This Row],[Столбец18]]+Таблица1[[#This Row],[лом.на.пор.]]","v":0},{"$f":"Таблица1[[#This Row],[Столбец19]]-Таблица1[[#This Row],[корр.масс]]","v":0},null,{"$f":"SUMIFS($X$62:$X$116,$C$62:$C$116,Таблица1[[#This Row],[Дл]],$D$62:$D$116,\"=500\",$F$62:$F$116,Таблица1[[#This Row],[АСТРА]])","v":0},{"$f":"SUMIFS($X$62:$X$116,$C$62:$C$116,\"<\"&Таблица1[[#This Row],[Дл]],$D$62:$D$116,\"=500\",$F$62:$F$116,Таблица1[[#This Row],[АСТРА]])","v":0},{"$f":"Таблица1[[#This Row],[Столбец23]]+Таблица1[[#This Row],[Столбец24]]","v":0},{"$f":"Таблица1[[#This Row],[лом.целых]]+Таблица1[[#This Row],[лом.делов]]-Таблица1[[#This Row],[лом.на.пор.]]","v":0},{"$f":"IF(Таблица1[[#This Row],[резы]]*Таблица1[[#This Row],[шир.рез]]/1000*Таблица1[[#This Row],[коэф]]/2<0,0,Таблица1[[#This Row],[резы]]*Таблица1[[#This Row],[шир.рез]]/1000*Таблица1[[#This Row],[коэф]]/2)","v":0},{"$f":"SUMIFS($Y$62:$Y$116,$C$62:$C$116,Таблица1[[#This Row],[Дл]],$D$62:$D$116,\"=500\",$F$62:$F$116,Таблица1[[#This Row],[АСТРА]])","v":0},{"$f":"SUMIFS($Y$62:$Y$116,$C$62:$C$116,\"<\"&Таблица1[[#This Row],[Дл]],$D$62:$D$116,\"=500\",$F$62:$F$116,Таблица1[[#This Row],[АСТРА]])","v":0},5,{"$f":"IF(Таблица1[[#This Row],[профиль]]=Таблица1[[#This Row],[толщ]],CONCATENATE(Таблица1[[#This Row],[Столбец33]],\" \",Таблица1[[#This Row],[толщ]]),CONCATENATE(Таблица1[[#This Row],[Столбец33]],\" \",Таблица1[[#This Row],[профиль]],\"х\",Таблица1[[#This Row],[толщ]]))","v":"Круг 12"},{"$f":"CONCATENATE(Таблица1[[#This Row],[Столбец33]],\" \",Таблица1[[#This Row],[профиль]])","v":"Круг 12"},"Круг 12, 12.0 мм, кр12","Круг",{"$f":"IF(Таблица1[[#This Row],[профиль]]=Таблица1[[#This Row],[толщ]],Таблица1[[#This Row],[толщ]],CONCATENATE(Таблица1[[#This Row],[профиль]],\"х\",Таблица1[[#This Row],[точка]]))","v":12},12,12,{"$f":"SUBSTITUTE(Таблица1[[#This Row],[толщ]],\",\",\".\")","v":"12"},{"$f":"0.888*2","v":1.776},{"$f":"SUMIFS($U$8:$U$57,$K$8:$K$57,Таблица1[[#This Row],[ГОСТ]])","v":0}]
[{"$f":"IF(Таблица1[[#This Row],[Столбец19]]=0,\"z\",\"\")","v":"z"},null,null,3000,null,{"$f":"SUMIFS($G$62:$G$116,$D$62:$D$116,500,$C$62:$C$116,Таблица1[[#This Row],[Дл]],$F$62:$F$116,Таблица1[[#This Row],[АСТРА]])","v":0},{"$f":"Таблица1[[#This Row],[толщ]]","v":16},{"$f":"Таблица1[[#This Row],[ГОСТ]]","v":"Круг 16"},{"$f":"SUMIFS($N$62:$N$116,$C$62:$C$116,Таблица1[[#This Row],[Дл]],$D$62:$D$116,\"=500\",$F$62:$F$116,Таблица1[[#This Row],[АСТРА]])","v":0},{"$f":"SUMIFS($N$62:$N$116,$C$62:$C$116,\"<\"&Таблица1[[#This Row],[Дл]],$D$62:$D$116,\"=500\",$F$62:$F$116,Таблица1[[#This Row],[АСТРА]])","v":0},null,null,{"$f":"SUMIFS($J$8:$J$57,$K$8:$K$57,Таблица1[[#This Row],[Столбец5]])","v":0},{"$f":"Таблица1[[#This Row],[пол.мас.цел]]+Таблица1[[#This Row],[пол.мас.дел]]","v":0},{"$f":"SUMIFS($Q$62:$Q$116,$C$62:$C$116,Таблица1[[#This Row],[Дл]],$D$62:$D$116,\"=500\",$F$62:$F$116,Таблица1[[#This Row],[АСТРА]])","v":0},{"$f":"SUMIFS($Q$62:$Q$116,$C$62:$C$116,\"<\"&Таблица1[[#This Row],[Дл]],$D$62:$D$116,\"=500\",$F$62:$F$116,Таблица1[[#This Row],[АСТРА]])","v":0},{"$f":"Таблица1[[#This Row],[ост.с.цел]]+Таблица1[[#This Row],[ост.с.дел]]","v":0},{"$f":"Таблица1[[#This Row],[лом.целых]]+Таблица1[[#This Row],[лом.делов]]-Таблица1[[#This Row],[лом.на.пор.]]","v":0},{"$f":"Таблица1[[#This Row],[лом]]+Таблица1[[#This Row],[корр.масс]]","v":0},{"$f":"SUMIFS($T$62:$T$116,$C$62:$C$116,Таблица1[[#This Row],[Дл]],$D$62:$D$116,\"=500\",$F$62:$F$116,Таблица1[[#This Row],[АСТРА]])","v":0},{"$f":"SUMIFS($T$62:$T$116,$C$62:$C$116,\"<\"&Таблица1[[#This Row],[Дл]],$D$62:$D$116,\"=500\",$F$62:$F$116,Таблица1[[#This Row],[АСТРА]])","v":0},{"$f":"Таблица1[[#This Row],[Столбец17]]+Таблица1[[#This Row],[Столбец18]]+Таблица1[[#This Row],[лом.на.пор.]]","v":0},{"$f":"Таблица1[[#This Row],[Столбец19]]-Таблица1[[#This Row],[корр.масс]]","v":0},null,{"$f":"SUMIFS($X$62:$X$116,$C$62:$C$116,Таблица1[[#This Row],[Дл]],$D$62:$D$116,\"=500\",$F$62:$F$116,Таблица1[[#This Row],[АСТРА]])","v":0},{"$f":"SUMIFS($X$62:$X$116,$C$62:$C$116,\"<\"&Таблица1[[#This Row],[Дл]],$D$62:$D$116,\"=500\",$F$62:$F$116,Таблица1[[#This Row],[АСТРА]])","v":0},{"$f":"Таблица1[[#This Row],[Столбец23]]+Таблица1[[#This Row],[Столбец24]]","v":0},{"$f":"Таблица1[[#This Row],[лом.целых]]+Таблица1[[#This Row],[лом.делов]]-Таблица1[[#This Row],[лом.на.пор.]]","v":0},{"$f":"IF(Таблица1[[#This Row],[резы]]*Таблица1[[#This Row],[шир.рез]]/1000*Таблица1[[#This Row],[коэф]]/2<0,0,Таблица1[[#This Row],[резы]]*Таблица1[[#This Row],[шир.рез]]/1000*Таблица1[[#This Row],[коэф]]/2)","v":0},{"$f":"SUMIFS($Y$62:$Y$116,$C$62:$C$116,Таблица1[[#This Row],[Дл]],$D$62:$D$116,\"=500\",$F$62:$F$116,Таблица1[[#This Row],[АСТРА]])","v":0},{"$f":"SUMIFS($Y$62:$Y$116,$C$62:$C$116,\"<\"&Таблица1[[#This Row],[Дл]],$D$62:$D$116,\"=500\",$F$62:$F$116,Таблица1[[#This Row],[АСТРА]])","v":0},5,{"$f":"IF(Таблица1[[#This Row],[профиль]]=Таблица1[[#This Row],[толщ]],CONCATENATE(Таблица1[[#This Row],[Столбец33]],\" \",Таблица1[[#This Row],[толщ]]),CONCATENATE(Таблица1[[#This Row],[Столбец33]],\" \",Таблица1[[#This Row],[профиль]],\"х\",Таблица1[[#This Row],[толщ]]))","v":"Круг 16"},{"$f":"CONCATENATE(Таблица1[[#This Row],[Столбец33]],\" \",Таблица1[[#This Row],[профиль]])","v":"Круг 16"},"Круг 16, 16.0 мм, кр16","Круг",{"$f":"IF(Таблица1[[#This Row],[профиль]]=Таблица1[[#This Row],[толщ]],Таблица1[[#This Row],[толщ]],CONCATENATE(Таблица1[[#This Row],[профиль]],\"х\",Таблица1[[#This Row],[точка]]))","v":16},16,16,{"$f":"SUBSTITUTE(Таблица1[[#This Row],[толщ]],\",\",\".\")","v":"16"},{"$f":"1.58*2","v":3.16},{"$f":"SUMIFS($U$8:$U$57,$K$8:$K$57,Таблица1[[#This Row],[ГОСТ]])","v":0}]
[{"$f":"IF(Таблица1[[#This Row],[Столбец19]]=0,\"z\",\"\")","v":"z"},null,null,200,null,{"$f":"SUMIFS($G$62:$G$116,$D$62:$D$116,500,$C$62:$C$116,Таблица1[[#This Row],[Дл]],$F$62:$F$116,Таблица1[[#This Row],[АСТРА]])","v":0},{"$f":"Таблица1[[#This Row],[толщ]]","v":160},{"$f":"Таблица1[[#This Row],[ГОСТ]]","v":"Круг 160"},{"$f":"SUMIFS($N$62:$N$116,$C$62:$C$116,Таблица1[[#This Row],[Дл]],$D$62:$D$116,\"=500\",$F$62:$F$116,Таблица1[[#This Row],[АСТРА]])","v":0},{"$f":"SUMIFS($N$62:$N$116,$C$62:$C$116,\"<\"&Таблица1[[#This Row],[Дл]],$D$62:$D$116,\"=500\",$F$62:$F$116,Таблица1[[#This Row],[АСТРА]])","v":0},null,null,{"$f":"SUMIFS($J$8:$J$57,$K$8:$K$57,Таблица1[[#This Row],[Столбец5]])","v":0},{"$f":"Таблица1[[#This Row],[пол.мас.цел]]+Таблица1[[#This Row],[пол.мас.дел]]","v":0},{"$f":"SUMIFS($Q$62:$Q$116,$C$62:$C$116,Таблица1[[#This Row],[Дл]],$D$62:$D$116,\"=500\",$F$62:$F$116,Таблица1[[#This Row],[АСТРА]])","v":0},{"$f":"SUMIFS($Q$62:$Q$116,$C$62:$C$116,\"<\"&Таблица1[[#This Row],[Дл]],$D$62:$D$116,\"=500\",$F$62:$F$116,Таблица1[[#This Row],[АСТРА]])","v":0},{"$f":"Таблица1[[#This Row],[ост.с.цел]]+Таблица1[[#This Row],[ост.с.дел]]","v":0},{"$f":"Таблица1[[#This Row],[лом.целых]]+Таблица1[[#This Row],[лом.делов]]-Таблица1[[#This Row],[лом.на.пор.]]","v":0},{"$f":"Таблица1[[#This Row],[лом]]+Таблица1[[#This Row],[корр.масс]]","v":0},{"$f":"SUMIFS($T$62:$T$116,$C$62:$C$116,Таблица1[[#This Row],[Дл]],$D$62:$D$116,\"=500\",$F$62:$F$116,Таблица1[[#This Row],[АСТРА]])","v":0},{"$f":"SUMIFS($T$62:$T$116,$C$62:$C$116,\"<\"&Таблица1[[#This Row],[Дл]],$D$62:$D$116,\"=500\",$F$62:$F$116,Таблица1[[#This Row],[АСТРА]])","v":0},{"$f":"Таблица1[[#This Row],[Столбец17]]+Таблица1[[#This Row],[Столбец18]]+Таблица1[[#This Row],[лом.на.пор.]]","v":0},{"$f":"Таблица1[[#This Row],[Столбец19]]-Таблица1[[#This Row],[корр.масс]]","v":0},null,{"$f":"SUMIFS($X$62:$X$116,$C$62:$C$116,Таблица1[[#This Row],[Дл]],$D$62:$D$116,\"=500\",$F$62:$F$116,Таблица1[[#This Row],[АСТРА]])","v":0},{"$f":"SUMIFS($X$62:$X$116,$C$62:$C$116,\"<\"&Таблица1[[#This Row],[Дл]],$D$62:$D$116,\"=500\",$F$62:$F$116,Таблица1[[#This Row],[АСТРА]])","v":0},{"$f":"Таблица1[[#This Row],[Столбец23]]+Таблица1[[#This Row],[Столбец24]]","v":0},{"$f":"Таблица1[[#This Row],[лом.целых]]+Таблица1[[#This Row],[лом.делов]]-Таблица1[[#This Row],[лом.на.пор.]]","v":0},{"$f":"IF(Таблица1[[#This Row],[резы]]*Таблица1[[#This Row],[шир.рез]]/1000*Таблица1[[#This Row],[коэф]]/2<0,0,Таблица1[[#This Row],[резы]]*Таблица1[[#This Row],[шир.рез]]/1000*Таблица1[[#This Row],[коэф]]/2)","v":0},{"$f":"SUMIFS($Y$62:$Y$116,$C$62:$C$116,Таблица1[[#This Row],[Дл]],$D$62:$D$116,\"=500\",$F$62:$F$116,Таблица1[[#This Row],[АСТРА]])","v":0},{"$f":"SUMIFS($Y$62:$Y$116,$C$62:$C$116,\"<\"&Таблица1[[#This Row],[Дл]],$D$62:$D$116,\"=500\",$F$62:$F$116,Таблица1[[#This Row],[АСТРА]])","v":0},5,{"$f":"IF(Таблица1[[#This Row],[профиль]]=Таблица1[[#This Row],[толщ]],CONCATENATE(Таблица1[[#This Row],[Столбец33]],\" \",Таблица1[[#This Row],[толщ]]),CONCATENATE(Таблица1[[#This Row],[Столбец33]],\" \",Таблица1[[#This Row],[профиль]],\"х\",Таблица1[[#This Row],[толщ]]))","v":"Круг 160"},{"$f":"CONCATENATE(Таблица1[[#This Row],[Столбец33]],\" \",Таблица1[[#This Row],[профиль]])","v":"Круг 160"},"Круг 160, 160.0 мм","Круг",{"$f":"IF(Таблица1[[#This Row],[профиль]]=Таблица1[[#This Row],[толщ]],Таблица1[[#This Row],[толщ]],CONCATENATE(Таблица1[[#This Row],[профиль]],\"х\",Таблица1[[#This Row],[точка]]))","v":160},160,160,{"$f":"SUBSTITUTE(Таблица1[[#This Row],[толщ]],\",\",\".\")","v":"160"},{"$f":"157.834*2","v":315.66800000000001},{"$f":"SUMIFS($U$8:$U$57,$K$8:$K$57,Таблица1[[#This Row],[ГОСТ]])","v":0}]
[{"$f":"IF(Таблица1[[#This Row],[Столбец19]]=0,\"z\",\"\")","v":"z"},null,null,3000,null,{"$f":"SUMIFS($G$62:$G$116,$D$62:$D$116,500,$C$62:$C$116,Таблица1[[#This Row],[Дл]],$F$62:$F$116,Таблица1[[#This Row],[АСТРА]])","v":0},{"$f":"Таблица1[[#This Row],[толщ]]","v":18},{"$f":"Таблица1[[#This Row],[ГОСТ]]","v":"Круг 18"},{"$f":"SUMIFS($N$62:$N$116,$C$62:$C$116,Таблица1[[#This Row],[Дл]],$D$62:$D$116,\"=500\",$F$62:$F$116,Таблица1[[#This Row],[АСТРА]])","v":0},{"$f":"SUMIFS($N$62:$N$116,$C$62:$C$116,\"<\"&Таблица1[[#This Row],[Дл]],$D$62:$D$116,\"=500\",$F$62:$F$116,Таблица1[[#This Row],[АСТРА]])","v":0},null,null,{"$f":"SUMIFS($J$8:$J$57,$K$8:$K$57,Таблица1[[#This Row],[Столбец5]])","v":0},{"$f":"Таблица1[[#This Row],[пол.мас.цел]]+Таблица1[[#This Row],[пол.мас.дел]]","v":0},{"$f":"SUMIFS($Q$62:$Q$116,$C$62:$C$116,Таблица1[[#This Row],[Дл]],$D$62:$D$116,\"=500\",$F$62:$F$116,Таблица1[[#This Row],[АСТРА]])","v":0},{"$f":"SUMIFS($Q$62:$Q$116,$C$62:$C$116,\"<\"&Таблица1[[#This Row],[Дл]],$D$62:$D$116,\"=500\",$F$62:$F$116,Таблица1[[#This Row],[АСТРА]])","v":0},{"$f":"Таблица1[[#This Row],[ост.с.цел]]+Таблица1[[#This Row],[ост.с.дел]]","v":0},{"$f":"Таблица1[[#This Row],[лом.целых]]+Таблица1[[#This Row],[лом.делов]]-Таблица1[[#This Row],[лом.на.пор.]]","v":0},{"$f":"Таблица1[[#This Row],[лом]]+Таблица1[[#This Row],[корр.масс]]","v":0},{"$f":"SUMIFS($T$62:$T$116,$C$62:$C$116,Таблица1[[#This Row],[Дл]],$D$62:$D$116,\"=500\",$F$62:$F$116,Таблица1[[#This Row],[АСТРА]])","v":0},{"$f":"SUMIFS($T$62:$T$116,$C$62:$C$116,\"<\"&Таблица1[[#This Row],[Дл]],$D$62:$D$116,\"=500\",$F$62:$F$116,Таблица1[[#This Row],[АСТРА]])","v":0},{"$f":"Таблица1[[#This Row],[Столбец17]]+Таблица1[[#This Row],[Столбец18]]+Таблица1[[#This Row],[лом.на.пор.]]","v":0},{"$f":"Таблица1[[#This Row],[Столбец19]]-Таблица1[[#This Row],[корр.масс]]","v":0},null,{"$f":"SUMIFS($X$62:$X$116,$C$62:$C$116,Таблица1[[#This Row],[Дл]],$D$62:$D$116,\"=500\",$F$62:$F$116,Таблица1[[#This Row],[АСТРА]])","v":0},{"$f":"SUMIFS($X$62:$X$116,$C$62:$C$116,\"<\"&Таблица1[[#This Row],[Дл]],$D$62:$D$116,\"=500\",$F$62:$F$116,Таблица1[[#This Row],[АСТРА]])","v":0},{"$f":"Таблица1[[#This Row],[Столбец23]]+Таблица1[[#This Row],[Столбец24]]","v":0},{"$f":"Таблица1[[#This Row],[лом.целых]]+Таблица1[[#This Row],[лом.делов]]-Таблица1[[#This Row],[лом.на.пор.]]","v":0},{"$f":"IF(Таблица1[[#This Row],[резы]]*Таблица1[[#This Row],[шир.рез]]/1000*Таблица1[[#This Row],[коэф]]/2<0,0,Таблица1[[#This Row],[резы]]*Таблица1[[#This Row],[шир.рез]]/1000*Таблица1[[#This Row],[коэф]]/2)","v":0},{"$f":"SUMIFS($Y$62:$Y$116,$C$62:$C$116,Таблица1[[#This Row],[Дл]],$D$62:$D$116,\"=500\",$F$62:$F$116,Таблица1[[#This Row],[АСТРА]])","v":0},{"$f":"SUMIFS($Y$62:$Y$116,$C$62:$C$116,\"<\"&Таблица1[[#This Row],[Дл]],$D$62:$D$116,\"=500\",$F$62:$F$116,Таблица1[[#This Row],[АСТРА]])","v":0},5,{"$f":"IF(Таблица1[[#This Row],[профиль]]=Таблица1[[#This Row],[толщ]],CONCATENATE(Таблица1[[#This Row],[Столбец33]],\" \",Таблица1[[#This Row],[толщ]]),CONCATENATE(Таблица1[[#This Row],[Столбец33]],\" \",Таблица1[[#This Row],[профиль]],\"х\",Таблица1[[#This Row],[толщ]]))","v":"Круг 18"},{"$f":"CONCATENATE(Таблица1[[#This Row],[Столбец33]],\" \",Таблица1[[#This Row],[профиль]])","v":"Круг 18"},"Круг 18, 18.0 мм","Круг",{"$f":"IF(Таблица1[[#This Row],[профиль]]=Таблица1[[#This Row],[толщ]],Таблица1[[#This Row],[толщ]],CONCATENATE(Таблица1[[#This Row],[профиль]],\"х\",Таблица1[[#This Row],[точка]]))","v":18},18,18,{"$f":"SUBSTITUTE(Таблица1[[#This Row],[толщ]],\",\",\".\")","v":"18"},{"$f":"1.998*2","v":3.996},{"$f":"SUMIFS($U$8:$U$57,$K$8:$K$57,Таблица1[[#This Row],[ГОСТ]])","v":0}]
[{"$f":"IF(Таблица1[[#This Row],[Столбец19]]=0,\"z\",\"\")","v":"z"},null,null,3000,null,{"$f":"SUMIFS($G$62:$G$116,$D$62:$D$116,500,$C$62:$C$116,Таблица1[[#This Row],[Дл]],$F$62:$F$116,Таблица1[[#This Row],[АСТРА]])","v":0},{"$f":"Таблица1[[#This Row],[толщ]]","v":20},{"$f":"Таблица1[[#This Row],[ГОСТ]]","v":"Круг 20"},{"$f":"SUMIFS($N$62:$N$116,$C$62:$C$116,Таблица1[[#This Row],[Дл]],$D$62:$D$116,\"=500\",$F$62:$F$116,Таблица1[[#This Row],[АСТРА]])","v":0},{"$f":"SUMIFS($N$62:$N$116,$C$62:$C$116,\"<\"&Таблица1[[#This Row],[Дл]],$D$62:$D$116,\"=500\",$F$62:$F$116,Таблица1[[#This Row],[АСТРА]])","v":0},null,null,{"$f":"SUMIFS($J$8:$J$57,$K$8:$K$57,Таблица1[[#This Row],[Столбец5]])","v":0},{"$f":"Таблица1[[#This Row],[пол.мас.цел]]+Таблица1[[#This Row],[пол.мас.дел]]","v":0},{"$f":"SUMIFS($Q$62:$Q$116,$C$62:$C$116,Таблица1[[#This Row],[Дл]],$D$62:$D$116,\"=500\",$F$62:$F$116,Таблица1[[#This Row],[АСТРА]])","v":0},{"$f":"SUMIFS($Q$62:$Q$116,$C$62:$C$116,\"<\"&Таблица1[[#This Row],[Дл]],$D$62:$D$116,\"=500\",$F$62:$F$116,Таблица1[[#This Row],[АСТРА]])","v":0},{"$f":"Таблица1[[#This Row],[ост.с.цел]]+Таблица1[[#This Row],[ост.с.дел]]","v":0},{"$f":"Таблица1[[#This Row],[лом.целых]]+Таблица1[[#This Row],[лом.делов]]-Таблица1[[#This Row],[лом.на.пор.]]","v":0},{"$f":"Таблица1[[#This Row],[лом]]+Таблица1[[#This Row],[корр.масс]]","v":0},{"$f":"SUMIFS($T$62:$T$116,$C$62:$C$116,Таблица1[[#This Row],[Дл]],$D$62:$D$116,\"=500\",$F$62:$F$116,Таблица1[[#This Row],[АСТРА]])","v":0},{"$f":"SUMIFS($T$62:$T$116,$C$62:$C$116,\"<\"&Таблица1[[#This Row],[Дл]],$D$62:$D$116,\"=500\",$F$62:$F$116,Таблица1[[#This Row],[АСТРА]])","v":0},{"$f":"Таблица1[[#This Row],[Столбец17]]+Таблица1[[#This Row],[Столбец18]]+Таблица1[[#This Row],[лом.на.пор.]]","v":0},{"$f":"Таблица1[[#This Row],[Столбец19]]-Таблица1[[#This Row],[корр.масс]]","v":0},null,{"$f":"SUMIFS($X$62:$X$116,$C$62:$C$116,Таблица1[[#This Row],[Дл]],$D$62:$D$116,\"=500\",$F$62:$F$116,Таблица1[[#This Row],[АСТРА]])","v":0},{"$f":"SUMIFS($X$62:$X$116,$C$62:$C$116,\"<\"&Таблица1[[#This Row],[Дл]],$D$62:$D$116,\"=500\",$F$62:$F$116,Таблица1[[#This Row],[АСТРА]])","v":0},{"$f":"Таблица1[[#This Row],[Столбец23]]+Таблица1[[#This Row],[Столбец24]]","v":0},{"$f":"Таблица1[[#This Row],[лом.целых]]+Таблица1[[#This Row],[лом.делов]]-Таблица1[[#This Row],[лом.на.пор.]]","v":0},{"$f":"IF(Таблица1[[#This Row],[резы]]*Таблица1[[#This Row],[шир.рез]]/1000*Таблица1[[#This Row],[коэф]]/2<0,0,Таблица1[[#This Row],[резы]]*Таблица1[[#This Row],[шир.рез]]/1000*Таблица1[[#This Row],[коэф]]/2)","v":0},{"$f":"SUMIFS($Y$62:$Y$116,$C$62:$C$116,Таблица1[[#This Row],[Дл]],$D$62:$D$116,\"=500\",$F$62:$F$116,Таблица1[[#This Row],[АСТРА]])","v":0},{"$f":"SUMIFS($Y$62:$Y$116,$C$62:$C$116,\"<\"&Таблица1[[#This Row],[Дл]],$D$62:$D$116,\"=500\",$F$62:$F$116,Таблица1[[#This Row],[АСТРА]])","v":0},5,{"$f":"IF(Таблица1[[#This Row],[профиль]]=Таблица1[[#This Row],[толщ]],CONCATENATE(Таблица1[[#This Row],[Столбец33]],\" \",Таблица1[[#This Row],[толщ]]),CONCATENATE(Таблица1[[#This Row],[Столбец33]],\" \",Таблица1[[#This Row],[профиль]],\"х\",Таблица1[[#This Row],[толщ]]))","v":"Круг 20"},{"$f":"CONCATENATE(Таблица1[[#This Row],[Столбец33]],\" \",Таблица1[[#This Row],[профиль]])","v":"Круг 20"},"Круг 20, 20.0 мм, кр20","Круг",{"$f":"IF(Таблица1[[#This Row],[профиль]]=Таблица1[[#This Row],[толщ]],Таблица1[[#This Row],[толщ]],CONCATENATE(Таблица1[[#This Row],[профиль]],\"х\",Таблица1[[#This Row],[точка]]))","v":20},20,20,{"$f":"SUBSTITUTE(Таблица1[[#This Row],[толщ]],\",\",\".\")","v":"20"},{"$f":"2.466*2","v":4.9320000000000004},{"$f":"SUMIFS($U$8:$U$57,$K$8:$K$57,Таблица1[[#This Row],[ГОСТ]])","v":0}]
[{"$f":"IF(Таблица1[[#This Row],[Столбец19]]=0,\"z\",\"\")","v":"z"},null,null,1000,null,{"$f":"SUMIFS($G$62:$G$116,$D$62:$D$116,500,$C$62:$C$116,Таблица1[[#This Row],[Дл]],$F$62:$F$116,Таблица1[[#This Row],[АСТРА]])","v":0},{"$f":"Таблица1[[#This Row],[толщ]]","v":200},{"$f":"Таблица1[[#This Row],[ГОСТ]]","v":"Круг 200"},{"$f":"SUMIFS($N$62:$N$116,$C$62:$C$116,Таблица1[[#This Row],[Дл]],$D$62:$D$116,\"=500\",$F$62:$F$116,Таблица1[[#This Row],[АСТРА]])","v":0},{"$f":"SUMIFS($N$62:$N$116,$C$62:$C$116,\"<\"&Таблица1[[#This Row],[Дл]],$D$62:$D$116,\"=500\",$F$62:$F$116,Таблица1[[#This Row],[АСТРА]])","v":0},null,null,{"$f":"SUMIFS($J$8:$J$57,$K$8:$K$57,Таблица1[[#This Row],[Столбец5]])","v":0},{"$f":"Таблица1[[#This Row],[пол.мас.цел]]+Таблица1[[#This Row],[пол.мас.дел]]","v":0},{"$f":"SUMIFS($Q$62:$Q$116,$C$62:$C$116,Таблица1[[#This Row],[Дл]],$D$62:$D$116,\"=500\",$F$62:$F$116,Таблица1[[#This Row],[АСТРА]])","v":0},{"$f":"SUMIFS($Q$62:$Q$116,$C$62:$C$116,\"<\"&Таблица1[[#This Row],[Дл]],$D$62:$D$116,\"=500\",$F$62:$F$116,Таблица1[[#This Row],[АСТРА]])","v":0},{"$f":"Таблица1[[#This Row],[ост.с.цел]]+Таблица1[[#This Row],[ост.с.дел]]","v":0},{"$f":"Таблица1[[#This Row],[лом.целых]]+Таблица1[[#This Row],[лом.делов]]-Таблица1[[#This Row],[лом.на.пор.]]","v":0},{"$f":"Таблица1[[#This Row],[лом]]+Таблица1[[#This Row],[корр.масс]]","v":0},{"$f":"SUMIFS($T$62:$T$116,$C$62:$C$116,Таблица1[[#This Row],[Дл]],$D$62:$D$116,\"=500\",$F$62:$F$116,Таблица1[[#This Row],[АСТРА]])","v":0},{"$f":"SUMIFS($T$62:$T$116,$C$62:$C$116,\"<\"&Таблица1[[#This Row],[Дл]],$D$62:$D$116,\"=500\",$F$62:$F$116,Таблица1[[#This Row],[АСТРА]])","v":0},{"$f":"Таблица1[[#This Row],[Столбец17]]+Таблица1[[#This Row],[Столбец18]]+Таблица1[[#This Row],[лом.на.пор.]]","v":0},{"$f":"Таблица1[[#This Row],[Столбец19]]-Таблица1[[#This Row],[корр.масс]]","v":0},null,{"$f":"SUMIFS($X$62:$X$116,$C$62:$C$116,Таблица1[[#This Row],[Дл]],$D$62:$D$116,\"=500\",$F$62:$F$116,Таблица1[[#This Row],[АСТРА]])","v":0},{"$f":"SUMIFS($X$62:$X$116,$C$62:$C$116,\"<\"&Таблица1[[#This Row],[Дл]],$D$62:$D$116,\"=500\",$F$62:$F$116,Таблица1[[#This Row],[АСТРА]])","v":0},{"$f":"Таблица1[[#This Row],[Столбец23]]+Таблица1[[#This Row],[Столбец24]]","v":0},{"$f":"Таблица1[[#This Row],[лом.целых]]+Таблица1[[#This Row],[лом.делов]]-Таблица1[[#This Row],[лом.на.пор.]]","v":0},{"$f":"IF(Таблица1[[#This Row],[резы]]*Таблица1[[#This Row],[шир.рез]]/1000*Таблица1[[#This Row],[коэф]]/2<0,0,Таблица1[[#This Row],[резы]]*Таблица1[[#This Row],[шир.рез]]/1000*Таблица1[[#This Row],[коэф]]/2)","v":0},{"$f":"SUMIFS($Y$62:$Y$116,$C$62:$C$116,Таблица1[[#This Row],[Дл]],$D$62:$D$116,\"=500\",$F$62:$F$116,Таблица1[[#This Row],[АСТРА]])","v":0},{"$f":"SUMIFS($Y$62:$Y$116,$C$62:$C$116,\"<\"&Таблица1[[#This Row],[Дл]],$D$62:$D$116,\"=500\",$F$62:$F$116,Таблица1[[#This Row],[АСТРА]])","v":0},5,{"$f":"IF(Таблица1[[#This Row],[профиль]]=Таблица1[[#This Row],[толщ]],CONCATENATE(Таблица1[[#This Row],[Столбец33]],\" \",Таблица1[[#This Row],[толщ]]),CONCATENATE(Таблица1[[#This Row],[Столбец33]],\" \",Таблица1[[#This Row],[профиль]],\"х\",Таблица1[[#This Row],[толщ]]))","v":"Круг 200"},{"$f":"CONCATENATE(Таблица1[[#This Row],[Столбец33]],\" \",Таблица1[[#This Row],[профиль]])","v":"Круг 200"},"Круг 200, 200.0 мм","Круг",{"$f":"IF(Таблица1[[#This Row],[профиль]]=Таблица1[[#This Row],[толщ]],Таблица1[[#This Row],[толщ]],CONCATENATE(Таблица1[[#This Row],[профиль]],\"х\",Таблица1[[#This Row],[точка]]))","v":200},200,200,{"$f":"SUBSTITUTE(Таблица1[[#This Row],[толщ]],\",\",\".\")","v":"200"},{"$f":"246.62*2","v":493.24},{"$f":"SUMIFS($U$8:$U$57,$K$8:$K$57,Таблица1[[#This Row],[ГОСТ]])","v":0}]
[{"$f":"IF(Таблица1[[#This Row],[Столбец19]]=0,\"z\",\"\")","v":"z"},null,null,3000,null,{"$f":"SUMIFS($G$62:$G$116,$D$62:$D$116,500,$C$62:$C$116,Таблица1[[#This Row],[Дл]],$F$62:$F$116,Таблица1[[#This Row],[АСТРА]])","v":0},{"$f":"Таблица1[[#This Row],[толщ]]","v":22},{"$f":"Таблица1[[#This Row],[ГОСТ]]","v":"Круг 22"},{"$f":"SUMIFS($N$62:$N$116,$C$62:$C$116,Таблица1[[#This Row],[Дл]],$D$62:$D$116,\"=500\",$F$62:$F$116,Таблица1[[#This Row],[АСТРА]])","v":0},{"$f":"SUMIFS($N$62:$N$116,$C$62:$C$116,\"<\"&Таблица1[[#This Row],[Дл]],$D$62:$D$116,\"=500\",$F$62:$F$116,Таблица1[[#This Row],[АСТРА]])","v":0},null,null,{"$f":"SUMIFS($J$8:$J$57,$K$8:$K$57,Таблица1[[#This Row],[Столбец5]])","v":0},{"$f":"Таблица1[[#This Row],[пол.мас.цел]]+Таблица1[[#This Row],[пол.мас.дел]]","v":0},{"$f":"SUMIFS($Q$62:$Q$116,$C$62:$C$116,Таблица1[[#This Row],[Дл]],$D$62:$D$116,\"=500\",$F$62:$F$116,Таблица1[[#This Row],[АСТРА]])","v":0},{"$f":"SUMIFS($Q$62:$Q$116,$C$62:$C$116,\"<\"&Таблица1[[#This Row],[Дл]],$D$62:$D$116,\"=500\",$F$62:$F$116,Таблица1[[#This Row],[АСТРА]])","v":0},{"$f":"Таблица1[[#This Row],[ост.с.цел]]+Таблица1[[#This Row],[ост.с.дел]]","v":0},{"$f":"Таблица1[[#This Row],[лом.целых]]+Таблица1[[#This Row],[лом.делов]]-Таблица1[[#This Row],[лом.на.пор.]]","v":0},{"$f":"Таблица1[[#This Row],[лом]]+Таблица1[[#This Row],[корр.масс]]","v":0},{"$f":"SUMIFS($T$62:$T$116,$C$62:$C$116,Таблица1[[#This Row],[Дл]],$D$62:$D$116,\"=500\",$F$62:$F$116,Таблица1[[#This Row],[АСТРА]])","v":0},{"$f":"SUMIFS($T$62:$T$116,$C$62:$C$116,\"<\"&Таблица1[[#This Row],[Дл]],$D$62:$D$116,\"=500\",$F$62:$F$116,Таблица1[[#This Row],[АСТРА]])","v":0},{"$f":"Таблица1[[#This Row],[Столбец17]]+Таблица1[[#This Row],[Столбец18]]+Таблица1[[#This Row],[лом.на.пор.]]","v":0},{"$f":"Таблица1[[#This Row],[Столбец19]]-Таблица1[[#This Row],[корр.масс]]","v":0},null,{"$f":"SUMIFS($X$62:$X$116,$C$62:$C$116,Таблица1[[#This Row],[Дл]],$D$62:$D$116,\"=500\",$F$62:$F$116,Таблица1[[#This Row],[АСТРА]])","v":0},{"$f":"SUMIFS($X$62:$X$116,$C$62:$C$116,\"<\"&Таблица1[[#This Row],[Дл]],$D$62:$D$116,\"=500\",$F$62:$F$116,Таблица1[[#This Row],[АСТРА]])","v":0},{"$f":"Таблица1[[#This Row],[Столбец23]]+Таблица1[[#This Row],[Столбец24]]","v":0},{"$f":"Таблица1[[#This Row],[лом.целых]]+Таблица1[[#This Row],[лом.делов]]-Таблица1[[#This Row],[лом.на.пор.]]","v":0},{"$f":"IF(Таблица1[[#This Row],[резы]]*Таблица1[[#This Row],[шир.рез]]/1000*Таблица1[[#This Row],[коэф]]/2<0,0,Таблица1[[#This Row],[резы]]*Таблица1[[#This Row],[шир.рез]]/1000*Таблица1[[#This Row],[коэф]]/2)","v":0},{"$f":"SUMIFS($Y$62:$Y$116,$C$62:$C$116,Таблица1[[#This Row],[Дл]],$D$62:$D$116,\"=500\",$F$62:$F$116,Таблица1[[#This Row],[АСТРА]])","v":0},{"$f":"SUMIFS($Y$62:$Y$116,$C$62:$C$116,\"<\"&Таблица1[[#This Row],[Дл]],$D$62:$D$116,\"=500\",$F$62:$F$116,Таблица1[[#This Row],[АСТРА]])","v":0},5,{"$f":"IF(Таблица1[[#This Row],[профиль]]=Таблица1[[#This Row],[толщ]],CONCATENATE(Таблица1[[#This Row],[Столбец33]],\" \",Таблица1[[#This Row],[толщ]]),CONCATENATE(Таблица1[[#This Row],[Столбец33]],\" \",Таблица1[[#This Row],[профиль]],\"х\",Таблица1[[#This Row],[толщ]]))","v":"Круг 22"},{"$f":"CONCATENATE(Таблица1[[#This Row],[Столбец33]],\" \",Таблица1[[#This Row],[профиль]])","v":"Круг 22"},"Круг 22, 22.0 мм","Круг",{"$f":"IF(Таблица1[[#This Row],[профиль]]=Таблица1[[#This Row],[толщ]],Таблица1[[#This Row],[толщ]],CONCATENATE(Таблица1[[#This Row],[профиль]],\"х\",Таблица1[[#This Row],[точка]]))","v":22},22,22,{"$f":"SUBSTITUTE(Таблица1[[#This Row],[толщ]],\",\",\".\")","v":"22"},{"$f":"2.984*2","v":5.968},{"$f":"SUMIFS($U$8:$U$57,$K$8:$K$57,Таблица1[[#This Row],[ГОСТ]])","v":0}]
[{"$f":"IF(Таблица1[[#This Row],[Столбец19]]=0,\"z\",\"\")","v":"z"},null,null,1000,null,{"$f":"SUMIFS($G$62:$G$116,$D$62:$D$116,500,$C$62:$C$116,Таблица1[[#This Row],[Дл]],$F$62:$F$116,Таблица1[[#This Row],[АСТРА]])","v":0},{"$f":"Таблица1[[#This Row],[толщ]]","v":25},{"$f":"Таблица1[[#This Row],[ГОСТ]]","v":"Круг 25"},{"$f":"SUMIFS($N$62:$N$116,$C$62:$C$116,Таблица1[[#This Row],[Дл]],$D$62:$D$116,\"=500\",$F$62:$F$116,Таблица1[[#This Row],[АСТРА]])","v":0},{"$f":"SUMIFS($N$62:$N$116,$C$62:$C$116,\"<\"&Таблица1[[#This Row],[Дл]],$D$62:$D$116,\"=500\",$F$62:$F$116,Таблица1[[#This Row],[АСТРА]])","v":0},null,null,{"$f":"SUMIFS($J$8:$J$57,$K$8:$K$57,Таблица1[[#This Row],[Столбец5]])","v":0},{"$f":"Таблица1[[#This Row],[пол.мас.цел]]+Таблица1[[#This Row],[пол.мас.дел]]","v":0},{"$f":"SUMIFS($Q$62:$Q$116,$C$62:$C$116,Таблица1[[#This Row],[Дл]],$D$62:$D$116,\"=500\",$F$62:$F$116,Таблица1[[#This Row],[АСТРА]])","v":0},{"$f":"SUMIFS($Q$62:$Q$116,$C$62:$C$116,\"<\"&Таблица1[[#This Row],[Дл]],$D$62:$D$116,\"=500\",$F$62:$F$116,Таблица1[[#This Row],[АСТРА]])","v":0},{"$f":"Таблица1[[#This Row],[ост.с.цел]]+Таблица1[[#This Row],[ост.с.дел]]","v":0},{"$f":"Таблица1[[#This Row],[лом.целых]]+Таблица1[[#This Row],[лом.делов]]-Таблица1[[#This Row],[лом.на.пор.]]","v":0},{"$f":"Таблица1[[#This Row],[лом]]+Таблица1[[#This Row],[корр.масс]]","v":0},{"$f":"SUMIFS($T$62:$T$116,$C$62:$C$116,Таблица1[[#This Row],[Дл]],$D$62:$D$116,\"=500\",$F$62:$F$116,Таблица1[[#This Row],[АСТРА]])","v":0},{"$f":"SUMIFS($T$62:$T$116,$C$62:$C$116,\"<\"&Таблица1[[#This Row],[Дл]],$D$62:$D$116,\"=500\",$F$62:$F$116,Таблица1[[#This Row],[АСТРА]])","v":0},{"$f":"Таблица1[[#This Row],[Столбец17]]+Таблица1[[#This Row],[Столбец18]]+Таблица1[[#This Row],[лом.на.пор.]]","v":0},{"$f":"Таблица1[[#This Row],[Столбец19]]-Таблица1[[#This Row],[корр.масс]]","v":0},null,{"$f":"SUMIFS($X$62:$X$116,$C$62:$C$116,Таблица1[[#This Row],[Дл]],$D$62:$D$116,\"=500\",$F$62:$F$116,Таблица1[[#This Row],[АСТРА]])","v":0},{"$f":"SUMIFS($X$62:$X$116,$C$62:$C$116,\"<\"&Таблица1[[#This Row],[Дл]],$D$62:$D$116,\"=500\",$F$62:$F$116,Таблица1[[#This Row],[АСТРА]])","v":0},{"$f":"Таблица1[[#This Row],[Столбец23]]+Таблица1[[#This Row],[Столбец24]]","v":0},{"$f":"Таблица1[[#This Row],[лом.целых]]+Таблица1[[#This Row],[лом.делов]]-Таблица1[[#This Row],[лом.на.пор.]]","v":0},{"$f":"IF(Таблица1[[#This Row],[резы]]*Таблица1[[#This Row],[шир.рез]]/1000*Таблица1[[#This Row],[коэф]]/2<0,0,Таблица1[[#This Row],[резы]]*Таблица1[[#This Row],[шир.рез]]/1000*Таблица1[[#This Row],[коэф]]/2)","v":0},{"$f":"SUMIFS($Y$62:$Y$116,$C$62:$C$116,Таблица1[[#This Row],[Дл]],$D$62:$D$116,\"=500\",$F$62:$F$116,Таблица1[[#This Row],[АСТРА]])","v":0},{"$f":"SUMIFS($Y$62:$Y$116,$C$62:$C$116,\"<\"&Таблица1[[#This Row],[Дл]],$D$62:$D$116,\"=500\",$F$62:$F$116,Таблица1[[#This Row],[АСТРА]])","v":0},5,{"$f":"IF(Таблица1[[#This Row],[профиль]]=Таблица1[[#This Row],[толщ]],CONCATENATE(Таблица1[[#This Row],[Столбец33]],\" \",Таблица1[[#This Row],[толщ]]),CONCATENATE(Таблица1[[#This Row],[Столбец33]],\" \",Таблица1[[#This Row],[профиль]],\"х\",Таблица1[[#This Row],[толщ]]))","v":"Круг 25"},{"$f":"CONCATENATE(Таблица1[[#This Row],[Столбец33]],\" \",Таблица1[[#This Row],[профиль]])","v":"Круг 25"},"Круг 25, 25.0 мм","Круг",{"$f":"IF(Таблица1[[#This Row],[профиль]]=Таблица1[[#This Row],[толщ]],Таблица1[[#This Row],[толщ]],CONCATENATE(Таблица1[[#This Row],[профиль]],\"х\",Таблица1[[#This Row],[точка]]))","v":25},25,25,{"$f":"SUBSTITUTE(Таблица1[[#This Row],[толщ]],\",\",\".\")","v":"25"},{"$f":"3.853*2","v":7.7060000000000004},{"$f":"SUMIFS($U$8:$U$57,$K$8:$K$57,Таблица1[[#This Row],[ГОСТ]])","v":0}]
[{"$f":"IF(Таблица1[[#This Row],[Столбец19]]=0,\"z\",\"\")","v":"z"},null,null,3000,null,{"$f":"SUMIFS($G$62:$G$116,$D$62:$D$116,500,$C$62:$C$116,Таблица1[[#This Row],[Дл]],$F$62:$F$116,Таблица1[[#This Row],[АСТРА]])","v":0},{"$f":"Таблица1[[#This Row],[толщ]]","v":30},{"$f":"Таблица1[[#This Row],[ГОСТ]]","v":"Круг 30"},{"$f":"SUMIFS($N$62:$N$116,$C$62:$C$116,Таблица1[[#This Row],[Дл]],$D$62:$D$116,\"=500\",$F$62:$F$116,Таблица1[[#This Row],[АСТРА]])","v":0},{"$f":"SUMIFS($N$62:$N$116,$C$62:$C$116,\"<\"&Таблица1[[#This Row],[Дл]],$D$62:$D$116,\"=500\",$F$62:$F$116,Таблица1[[#This Row],[АСТРА]])","v":0},null,null,{"$f":"SUMIFS($J$8:$J$57,$K$8:$K$57,Таблица1[[#This Row],[Столбец5]])","v":0},{"$f":"Таблица1[[#This Row],[пол.мас.цел]]+Таблица1[[#This Row],[пол.мас.дел]]","v":0},{"$f":"SUMIFS($Q$62:$Q$116,$C$62:$C$116,Таблица1[[#This Row],[Дл]],$D$62:$D$116,\"=500\",$F$62:$F$116,Таблица1[[#This Row],[АСТРА]])","v":0},{"$f":"SUMIFS($Q$62:$Q$116,$C$62:$C$116,\"<\"&Таблица1[[#This Row],[Дл]],$D$62:$D$116,\"=500\",$F$62:$F$116,Таблица1[[#This Row],[АСТРА]])","v":0},{"$f":"Таблица1[[#This Row],[ост.с.цел]]+Таблица1[[#This Row],[ост.с.дел]]","v":0},{"$f":"Таблица1[[#This Row],[лом.целых]]+Таблица1[[#This Row],[лом.делов]]-Таблица1[[#This Row],[лом.на.пор.]]","v":0},{"$f":"Таблица1[[#This Row],[лом]]+Таблица1[[#This Row],[корр.масс]]","v":0},{"$f":"SUMIFS($T$62:$T$116,$C$62:$C$116,Таблица1[[#This Row],[Дл]],$D$62:$D$116,\"=500\",$F$62:$F$116,Таблица1[[#This Row],[АСТРА]])","v":0},{"$f":"SUMIFS($T$62:$T$116,$C$62:$C$116,\"<\"&Таблица1[[#This Row],[Дл]],$D$62:$D$116,\"=500\",$F$62:$F$116,Таблица1[[#This Row],[АСТРА]])","v":0},{"$f":"Таблица1[[#This Row],[Столбец17]]+Таблица1[[#This Row],[Столбец18]]+Таблица1[[#This Row],[лом.на.пор.]]","v":0},{"$f":"Таблица1[[#This Row],[Столбец19]]-Таблица1[[#This Row],[корр.масс]]","v":0},null,{"$f":"SUMIFS($X$62:$X$116,$C$62:$C$116,Таблица1[[#This Row],[Дл]],$D$62:$D$116,\"=500\",$F$62:$F$116,Таблица1[[#This Row],[АСТРА]])","v":0},{"$f":"SUMIFS($X$62:$X$116,$C$62:$C$116,\"<\"&Таблица1[[#This Row],[Дл]],$D$62:$D$116,\"=500\",$F$62:$F$116,Таблица1[[#This Row],[АСТРА]])","v":0},{"$f":"Таблица1[[#This Row],[Столбец23]]+Таблица1[[#This Row],[Столбец24]]","v":0},{"$f":"Таблица1[[#This Row],[лом.целых]]+Таблица1[[#This Row],[лом.делов]]-Таблица1[[#This Row],[лом.на.пор.]]","v":0},{"$f":"IF(Таблица1[[#This Row],[резы]]*Таблица1[[#This Row],[шир.рез]]/1000*Таблица1[[#This Row],[коэф]]/2<0,0,Таблица1[[#This Row],[резы]]*Таблица1[[#This Row],[шир.рез]]/1000*Таблица1[[#This Row],[коэф]]/2)","v":0},{"$f":"SUMIFS($Y$62:$Y$116,$C$62:$C$116,Таблица1[[#This Row],[Дл]],$D$62:$D$116,\"=500\",$F$62:$F$116,Таблица1[[#This Row],[АСТРА]])","v":0},{"$f":"SUMIFS($Y$62:$Y$116,$C$62:$C$116,\"<\"&Таблица1[[#This Row],[Дл]],$D$62:$D$116,\"=500\",$F$62:$F$116,Таблица1[[#This Row],[АСТРА]])","v":0},5,{"$f":"IF(Таблица1[[#This Row],[профиль]]=Таблица1[[#This Row],[толщ]],CONCATENATE(Таблица1[[#This Row],[Столбец33]],\" \",Таблица1[[#This Row],[толщ]]),CONCATENATE(Таблица1[[#This Row],[Столбец33]],\" \",Таблица1[[#This Row],[профиль]],\"х\",Таблица1[[#This Row],[толщ]]))","v":"Круг 30"},{"$f":"CONCATENATE(Таблица1[[#This Row],[Столбец33]],\" \",Таблица1[[#This Row],[профиль]])","v":"Круг 30"},"Круг 30, 30.0 мм","Круг",{"$f":"IF(Таблица1[[#This Row],[профиль]]=Таблица1[[#This Row],[толщ]],Таблица1[[#This Row],[толщ]],CONCATENATE(Таблица1[[#This Row],[профиль]],\"х\",Таблица1[[#This Row],[точка]]))","v":30},30,30,{"$f":"SUBSTITUTE(Таблица1[[#This Row],[толщ]],\",\",\".\")","v":"30"},{"$f":"5.549*2","v":11.098000000000001},{"$f":"SUMIFS($U$8:$U$57,$K$8:$K$57,Таблица1[[#This Row],[ГОСТ]])","v":0}]
[{"$f":"IF(Таблица1[[#This Row],[Столбец19]]=0,\"z\",\"\")","v":"z"},null,null,3000,null,{"$f":"SUMIFS($G$62:$G$116,$D$62:$D$116,500,$C$62:$C$116,Таблица1[[#This Row],[Дл]],$F$62:$F$116,Таблица1[[#This Row],[АСТРА]])","v":0},{"$f":"Таблица1[[#This Row],[толщ]]","v":32},{"$f":"Таблица1[[#This Row],[ГОСТ]]","v":"Круг 32"},{"$f":"SUMIFS($N$62:$N$116,$C$62:$C$116,Таблица1[[#This Row],[Дл]],$D$62:$D$116,\"=500\",$F$62:$F$116,Таблица1[[#This Row],[АСТРА]])","v":0},{"$f":"SUMIFS($N$62:$N$116,$C$62:$C$116,\"<\"&Таблица1[[#This Row],[Дл]],$D$62:$D$116,\"=500\",$F$62:$F$116,Таблица1[[#This Row],[АСТРА]])","v":0},null,null,{"$f":"SUMIFS($J$8:$J$57,$K$8:$K$57,Таблица1[[#This Row],[Столбец5]])","v":0},{"$f":"Таблица1[[#This Row],[пол.мас.цел]]+Таблица1[[#This Row],[пол.мас.дел]]","v":0},{"$f":"SUMIFS($Q$62:$Q$116,$C$62:$C$116,Таблица1[[#This Row],[Дл]],$D$62:$D$116,\"=500\",$F$62:$F$116,Таблица1[[#This Row],[АСТРА]])","v":0},{"$f":"SUMIFS($Q$62:$Q$116,$C$62:$C$116,\"<\"&Таблица1[[#This Row],[Дл]],$D$62:$D$116,\"=500\",$F$62:$F$116,Таблица1[[#This Row],[АСТРА]])","v":0},{"$f":"Таблица1[[#This Row],[ост.с.цел]]+Таблица1[[#This Row],[ост.с.дел]]","v":0},{"$f":"Таблица1[[#This Row],[лом.целых]]+Таблица1[[#This Row],[лом.делов]]-Таблица1[[#This Row],[лом.на.пор.]]","v":0},{"$f":"Таблица1[[#This Row],[лом]]+Таблица1[[#This Row],[корр.масс]]","v":0},{"$f":"SUMIFS($T$62:$T$116,$C$62:$C$116,Таблица1[[#This Row],[Дл]],$D$62:$D$116,\"=500\",$F$62:$F$116,Таблица1[[#This Row],[АСТРА]])","v":0},{"$f":"SUMIFS($T$62:$T$116,$C$62:$C$116,\"<\"&Таблица1[[#This Row],[Дл]],$D$62:$D$116,\"=500\",$F$62:$F$116,Таблица1[[#This Row],[АСТРА]])","v":0},{"$f":"Таблица1[[#This Row],[Столбец17]]+Таблица1[[#This Row],[Столбец18]]+Таблица1[[#This Row],[лом.на.пор.]]","v":0},{"$f":"Таблица1[[#This Row],[Столбец19]]-Таблица1[[#This Row],[корр.масс]]","v":0},null,{"$f":"SUMIFS($X$62:$X$116,$C$62:$C$116,Таблица1[[#This Row],[Дл]],$D$62:$D$116,\"=500\",$F$62:$F$116,Таблица1[[#This Row],[АСТРА]])","v":0},{"$f":"SUMIFS($X$62:$X$116,$C$62:$C$116,\"<\"&Таблица1[[#This Row],[Дл]],$D$62:$D$116,\"=500\",$F$62:$F$116,Таблица1[[#This Row],[АСТРА]])","v":0},{"$f":"Таблица1[[#This Row],[Столбец23]]+Таблица1[[#This Row],[Столбец24]]","v":0},{"$f":"Таблица1[[#This Row],[лом.целых]]+Таблица1[[#This Row],[лом.делов]]-Таблица1[[#This Row],[лом.на.пор.]]","v":0},{"$f":"IF(Таблица1[[#This Row],[резы]]*Таблица1[[#This Row],[шир.рез]]/1000*Таблица1[[#This Row],[коэф]]/2<0,0,Таблица1[[#This Row],[резы]]*Таблица1[[#This Row],[шир.рез]]/1000*Таблица1[[#This Row],[коэф]]/2)","v":0},{"$f":"SUMIFS($Y$62:$Y$116,$C$62:$C$116,Таблица1[[#This Row],[Дл]],$D$62:$D$116,\"=500\",$F$62:$F$116,Таблица1[[#This Row],[АСТРА]])","v":0},{"$f":"SUMIFS($Y$62:$Y$116,$C$62:$C$116,\"<\"&Таблица1[[#This Row],[Дл]],$D$62:$D$116,\"=500\",$F$62:$F$116,Таблица1[[#This Row],[АСТРА]])","v":0},5,{"$f":"IF(Таблица1[[#This Row],[профиль]]=Таблица1[[#This Row],[толщ]],CONCATENATE(Таблица1[[#This Row],[Столбец33]],\" \",Таблица1[[#This Row],[толщ]]),CONCATENATE(Таблица1[[#This Row],[Столбец33]],\" \",Таблица1[[#This Row],[профиль]],\"х\",Таблица1[[#This Row],[толщ]]))","v":"Круг 32"},{"$f":"CONCATENATE(Таблица1[[#This Row],[Столбец33]],\" \",Таблица1[[#This Row],[профиль]])","v":"Круг 32"},"Круг 32, 32.0 мм, кр32","Круг",{"$f":"IF(Таблица1[[#This Row],[профиль]]=Таблица1[[#This Row],[толщ]],Таблица1[[#This Row],[толщ]],CONCATENATE(Таблица1[[#This Row],[профиль]],\"х\",Таблица1[[#This Row],[точка]]))","v":32},32,32,{"$f":"SUBSTITUTE(Таблица1[[#This Row],[толщ]],\",\",\".\")","v":"32"},{"$f":"6.313*2","v":12.625999999999999},{"$f":"SUMIFS($U$8:$U$57,$K$8:$K$57,Таблица1[[#This Row],[ГОСТ]])","v":0}]
[{"$f":"IF(Таблица1[[#This Row],[Столбец19]]=0,\"z\",\"\")","v":"z"},null,null,1000,null,{"$f":"SUMIFS($G$62:$G$116,$D$62:$D$116,500,$C$62:$C$116,Таблица1[[#This Row],[Дл]],$F$62:$F$116,Таблица1[[#This Row],[АСТРА]])","v":0},{"$f":"Таблица1[[#This Row],[толщ]]","v":35},{"$f":"Таблица1[[#This Row],[ГОСТ]]","v":"Круг 35"},{"$f":"SUMIFS($N$62:$N$116,$C$62:$C$116,Таблица1[[#This Row],[Дл]],$D$62:$D$116,\"=500\",$F$62:$F$116,Таблица1[[#This Row],[АСТРА]])","v":0},{"$f":"SUMIFS($N$62:$N$116,$C$62:$C$116,\"<\"&Таблица1[[#This Row],[Дл]],$D$62:$D$116,\"=500\",$F$62:$F$116,Таблица1[[#This Row],[АСТРА]])","v":0},null,null,{"$f":"SUMIFS($J$8:$J$57,$K$8:$K$57,Таблица1[[#This Row],[Столбец5]])","v":0},{"$f":"Таблица1[[#This Row],[пол.мас.цел]]+Таблица1[[#This Row],[пол.мас.дел]]","v":0},{"$f":"SUMIFS($Q$62:$Q$116,$C$62:$C$116,Таблица1[[#This Row],[Дл]],$D$62:$D$116,\"=500\",$F$62:$F$116,Таблица1[[#This Row],[АСТРА]])","v":0},{"$f":"SUMIFS($Q$62:$Q$116,$C$62:$C$116,\"<\"&Таблица1[[#This Row],[Дл]],$D$62:$D$116,\"=500\",$F$62:$F$116,Таблица1[[#This Row],[АСТРА]])","v":0},{"$f":"Таблица1[[#This Row],[ост.с.цел]]+Таблица1[[#This Row],[ост.с.дел]]","v":0},{"$f":"Таблица1[[#This Row],[лом.целых]]+Таблица1[[#This Row],[лом.делов]]-Таблица1[[#This Row],[лом.на.пор.]]","v":0},{"$f":"Таблица1[[#This Row],[лом]]+Таблица1[[#This Row],[корр.масс]]","v":0},{"$f":"SUMIFS($T$62:$T$116,$C$62:$C$116,Таблица1[[#This Row],[Дл]],$D$62:$D$116,\"=500\",$F$62:$F$116,Таблица1[[#This Row],[АСТРА]])","v":0},{"$f":"SUMIFS($T$62:$T$116,$C$62:$C$116,\"<\"&Таблица1[[#This Row],[Дл]],$D$62:$D$116,\"=500\",$F$62:$F$116,Таблица1[[#This Row],[АСТРА]])","v":0},{"$f":"Таблица1[[#This Row],[Столбец17]]+Таблица1[[#This Row],[Столбец18]]+Таблица1[[#This Row],[лом.на.пор.]]","v":0},{"$f":"Таблица1[[#This Row],[Столбец19]]-Таблица1[[#This Row],[корр.масс]]","v":0},null,{"$f":"SUMIFS($X$62:$X$116,$C$62:$C$116,Таблица1[[#This Row],[Дл]],$D$62:$D$116,\"=500\",$F$62:$F$116,Таблица1[[#This Row],[АСТРА]])","v":0},{"$f":"SUMIFS($X$62:$X$116,$C$62:$C$116,\"<\"&Таблица1[[#This Row],[Дл]],$D$62:$D$116,\"=500\",$F$62:$F$116,Таблица1[[#This Row],[АСТРА]])","v":0},{"$f":"Таблица1[[#This Row],[Столбец23]]+Таблица1[[#This Row],[Столбец24]]","v":0},{"$f":"Таблица1[[#This Row],[лом.целых]]+Таблица1[[#This Row],[лом.делов]]-Таблица1[[#This Row],[лом.на.пор.]]","v":0},{"$f":"IF(Таблица1[[#This Row],[резы]]*Таблица1[[#This Row],[шир.рез]]/1000*Таблица1[[#This Row],[коэф]]/2<0,0,Таблица1[[#This Row],[резы]]*Таблица1[[#This Row],[шир.рез]]/1000*Таблица1[[#This Row],[коэф]]/2)","v":0},{"$f":"SUMIFS($Y$62:$Y$116,$C$62:$C$116,Таблица1[[#This Row],[Дл]],$D$62:$D$116,\"=500\",$F$62:$F$116,Таблица1[[#This Row],[АСТРА]])","v":0},{"$f":"SUMIFS($Y$62:$Y$116,$C$62:$C$116,\"<\"&Таблица1[[#This Row],[Дл]],$D$62:$D$116,\"=500\",$F$62:$F$116,Таблица1[[#This Row],[АСТРА]])","v":0},5,{"$f":"IF(Таблица1[[#This Row],[профиль]]=Таблица1[[#This Row],[толщ]],CONCATENATE(Таблица1[[#This Row],[Столбец33]],\" \",Таблица1[[#This Row],[толщ]]),CONCATENATE(Таблица1[[#This Row],[Столбец33]],\" \",Таблица1[[#This Row],[профиль]],\"х\",Таблица1[[#This Row],[толщ]]))","v":"Круг 35"},{"$f":"CONCATENATE(Таблица1[[#This Row],[Столбец33]],\" \",Таблица1[[#This Row],[профиль]])","v":"Круг 35"},"Круг 35, 35.0 мм","Круг",{"$f":"IF(Таблица1[[#This Row],[профиль]]=Таблица1[[#This Row],[толщ]],Таблица1[[#This Row],[толщ]],CONCATENATE(Таблица1[[#This Row],[профиль]],\"х\",Таблица1[[#This Row],[точка]]))","v":35},35,35,{"$f":"SUBSTITUTE(Таблица1[[#This Row],[толщ]],\",\",\".\")","v":"35"},{"$f":"7.553*2","v":15.106},{"$f":"SUMIFS($U$8:$U$57,$K$8:$K$57,Таблица1[[#This Row],[ГОСТ]])","v":0}]
[{"$f":"IF(Таблица1[[#This Row],[Столбец19]]=0,\"z\",\"\")","v":"z"},null,null,220,null,{"$f":"SUMIFS($G$62:$G$116,$D$62:$D$116,500,$C$62:$C$116,Таблица1[[#This Row],[Дл]],$F$62:$F$116,Таблица1[[#This Row],[АСТРА]])","v":0},{"$f":"Таблица1[[#This Row],[толщ]]","v":36},{"$f":"Таблица1[[#This Row],[ГОСТ]]","v":"Круг 36"},{"$f":"SUMIFS($N$62:$N$116,$C$62:$C$116,Таблица1[[#This Row],[Дл]],$D$62:$D$116,\"=500\",$F$62:$F$116,Таблица1[[#This Row],[АСТРА]])","v":0},{"$f":"SUMIFS($N$62:$N$116,$C$62:$C$116,\"<\"&Таблица1[[#This Row],[Дл]],$D$62:$D$116,\"=500\",$F$62:$F$116,Таблица1[[#This Row],[АСТРА]])","v":0},null,null,{"$f":"SUMIFS($J$8:$J$57,$K$8:$K$57,Таблица1[[#This Row],[Столбец5]])","v":0},{"$f":"Таблица1[[#This Row],[пол.мас.цел]]+Таблица1[[#This Row],[пол.мас.дел]]","v":0},{"$f":"SUMIFS($Q$62:$Q$116,$C$62:$C$116,Таблица1[[#This Row],[Дл]],$D$62:$D$116,\"=500\",$F$62:$F$116,Таблица1[[#This Row],[АСТРА]])","v":0},{"$f":"SUMIFS($Q$62:$Q$116,$C$62:$C$116,\"<\"&Таблица1[[#This Row],[Дл]],$D$62:$D$116,\"=500\",$F$62:$F$116,Таблица1[[#This Row],[АСТРА]])","v":0},{"$f":"Таблица1[[#This Row],[ост.с.цел]]+Таблица1[[#This Row],[ост.с.дел]]","v":0},{"$f":"Таблица1[[#This Row],[лом.целых]]+Таблица1[[#This Row],[лом.делов]]-Таблица1[[#This Row],[лом.на.пор.]]","v":0},{"$f":"Таблица1[[#This Row],[лом]]+Таблица1[[#This Row],[корр.масс]]","v":0},{"$f":"SUMIFS($T$62:$T$116,$C$62:$C$116,Таблица1[[#This Row],[Дл]],$D$62:$D$116,\"=500\",$F$62:$F$116,Таблица1[[#This Row],[АСТРА]])","v":0},{"$f":"SUMIFS($T$62:$T$116,$C$62:$C$116,\"<\"&Таблица1[[#This Row],[Дл]],$D$62:$D$116,\"=500\",$F$62:$F$116,Таблица1[[#This Row],[АСТРА]])","v":0},{"$f":"Таблица1[[#This Row],[Столбец17]]+Таблица1[[#This Row],[Столбец18]]+Таблица1[[#This Row],[лом.на.пор.]]","v":0},{"$f":"Таблица1[[#This Row],[Столбец19]]-Таблица1[[#This Row],[корр.масс]]","v":0},null,{"$f":"SUMIFS($X$62:$X$116,$C$62:$C$116,Таблица1[[#This Row],[Дл]],$D$62:$D$116,\"=500\",$F$62:$F$116,Таблица1[[#This Row],[АСТРА]])","v":0},{"$f":"SUMIFS($X$62:$X$116,$C$62:$C$116,\"<\"&Таблица1[[#This Row],[Дл]],$D$62:$D$116,\"=500\",$F$62:$F$116,Таблица1[[#This Row],[АСТРА]])","v":0},{"$f":"Таблица1[[#This Row],[Столбец23]]+Таблица1[[#This Row],[Столбец24]]","v":0},{"$f":"Таблица1[[#This Row],[лом.целых]]+Таблица1[[#This Row],[лом.делов]]-Таблица1[[#This Row],[лом.на.пор.]]","v":0},{"$f":"IF(Таблица1[[#This Row],[резы]]*Таблица1[[#This Row],[шир.рез]]/1000*Таблица1[[#This Row],[коэф]]/2<0,0,Таблица1[[#This Row],[резы]]*Таблица1[[#This Row],[шир.рез]]/1000*Таблица1[[#This Row],[коэф]]/2)","v":0},{"$f":"SUMIFS($Y$62:$Y$116,$C$62:$C$116,Таблица1[[#This Row],[Дл]],$D$62:$D$116,\"=500\",$F$62:$F$116,Таблица1[[#This Row],[АСТРА]])","v":0},{"$f":"SUMIFS($Y$62:$Y$116,$C$62:$C$116,\"<\"&Таблица1[[#This Row],[Дл]],$D$62:$D$116,\"=500\",$F$62:$F$116,Таблица1[[#This Row],[АСТРА]])","v":0},5,{"$f":"IF(Таблица1[[#This Row],[профиль]]=Таблица1[[#This Row],[толщ]],CONCATENATE(Таблица1[[#This Row],[Столбец33]],\" \",Таблица1[[#This Row],[толщ]]),CONCATENATE(Таблица1[[#This Row],[Столбец33]],\" \",Таблица1[[#This Row],[профиль]],\"х\",Таблица1[[#This Row],[толщ]]))","v":"Круг 36"},{"$f":"CONCATENATE(Таблица1[[#This Row],[Столбец33]],\" \",Таблица1[[#This Row],[профиль]])","v":"Круг 36"},"Круг 36, 36.0 мм, кр36","Круг",{"$f":"IF(Таблица1[[#This Row],[профиль]]=Таблица1[[#This Row],[толщ]],Таблица1[[#This Row],[толщ]],CONCATENATE(Таблица1[[#This Row],[профиль]],\"х\",Таблица1[[#This Row],[точка]]))","v":36},36,36,{"$f":"SUBSTITUTE(Таблица1[[#This Row],[толщ]],\",\",\".\")","v":"36"},{"$f":"8.02*2","v":16.04},{"$f":"SUMIFS($U$8:$U$57,$K$8:$K$57,Таблица1[[#This Row],[ГОСТ]])","v":0}]
[{"$f":"IF(Таблица1[[#This Row],[Столбец19]]=0,\"z\",\"\")","v":"z"},null,null,3000,null,{"$f":"SUMIFS($G$62:$G$116,$D$62:$D$116,500,$C$62:$C$116,Таблица1[[#This Row],[Дл]],$F$62:$F$116,Таблица1[[#This Row],[АСТРА]])","v":0},{"$f":"Таблица1[[#This Row],[толщ]]","v":40},{"$f":"Таблица1[[#This Row],[ГОСТ]]","v":"Круг 40"},{"$f":"SUMIFS($N$62:$N$116,$C$62:$C$116,Таблица1[[#This Row],[Дл]],$D$62:$D$116,\"=500\",$F$62:$F$116,Таблица1[[#This Row],[АСТРА]])","v":0},{"$f":"SUMIFS($N$62:$N$116,$C$62:$C$116,\"<\"&Таблица1[[#This Row],[Дл]],$D$62:$D$116,\"=500\",$F$62:$F$116,Таблица1[[#This Row],[АСТРА]])","v":0},null,null,{"$f":"SUMIFS($J$8:$J$57,$K$8:$K$57,Таблица1[[#This Row],[Столбец5]])","v":0},{"$f":"Таблица1[[#This Row],[пол.мас.цел]]+Таблица1[[#This Row],[пол.мас.дел]]","v":0},{"$f":"SUMIFS($Q$62:$Q$116,$C$62:$C$116,Таблица1[[#This Row],[Дл]],$D$62:$D$116,\"=500\",$F$62:$F$116,Таблица1[[#This Row],[АСТРА]])","v":0},{"$f":"SUMIFS($Q$62:$Q$116,$C$62:$C$116,\"<\"&Таблица1[[#This Row],[Дл]],$D$62:$D$116,\"=500\",$F$62:$F$116,Таблица1[[#This Row],[АСТРА]])","v":0},{"$f":"Таблица1[[#This Row],[ост.с.цел]]+Таблица1[[#This Row],[ост.с.дел]]","v":0},{"$f":"Таблица1[[#This Row],[лом.целых]]+Таблица1[[#This Row],[лом.делов]]-Таблица1[[#This Row],[лом.на.пор.]]","v":0},{"$f":"Таблица1[[#This Row],[лом]]+Таблица1[[#This Row],[корр.масс]]","v":0},{"$f":"SUMIFS($T$62:$T$116,$C$62:$C$116,Таблица1[[#This Row],[Дл]],$D$62:$D$116,\"=500\",$F$62:$F$116,Таблица1[[#This Row],[АСТРА]])","v":0},{"$f":"SUMIFS($T$62:$T$116,$C$62:$C$116,\"<\"&Таблица1[[#This Row],[Дл]],$D$62:$D$116,\"=500\",$F$62:$F$116,Таблица1[[#This Row],[АСТРА]])","v":0},{"$f":"Таблица1[[#This Row],[Столбец17]]+Таблица1[[#This Row],[Столбец18]]+Таблица1[[#This Row],[лом.на.пор.]]","v":0},{"$f":"Таблица1[[#This Row],[Столбец19]]-Таблица1[[#This Row],[корр.масс]]","v":0},null,{"$f":"SUMIFS($X$62:$X$116,$C$62:$C$116,Таблица1[[#This Row],[Дл]],$D$62:$D$116,\"=500\",$F$62:$F$116,Таблица1[[#This Row],[АСТРА]])","v":0},{"$f":"SUMIFS($X$62:$X$116,$C$62:$C$116,\"<\"&Таблица1[[#This Row],[Дл]],$D$62:$D$116,\"=500\",$F$62:$F$116,Таблица1[[#This Row],[АСТРА]])","v":0},{"$f":"Таблица1[[#This Row],[Столбец23]]+Таблица1[[#This Row],[Столбец24]]","v":0},{"$f":"Таблица1[[#This Row],[лом.целых]]+Таблица1[[#This Row],[лом.делов]]-Таблица1[[#This Row],[лом.на.пор.]]","v":0},{"$f":"IF(Таблица1[[#This Row],[резы]]*Таблица1[[#This Row],[шир.рез]]/1000*Таблица1[[#This Row],[коэф]]/2<0,0,Таблица1[[#This Row],[резы]]*Таблица1[[#This Row],[шир.рез]]/1000*Таблица1[[#This Row],[коэф]]/2)","v":0},{"$f":"SUMIFS($Y$62:$Y$116,$C$62:$C$116,Таблица1[[#This Row],[Дл]],$D$62:$D$116,\"=500\",$F$62:$F$116,Таблица1[[#This Row],[АСТРА]])","v":0},{"$f":"SUMIFS($Y$62:$Y$116,$C$62:$C$116,\"<\"&Таблица1[[#This Row],[Дл]],$D$62:$D$116,\"=500\",$F$62:$F$116,Таблица1[[#This Row],[АСТРА]])","v":0},5,{"$f":"IF(Таблица1[[#This Row],[профиль]]=Таблица1[[#This Row],[толщ]],CONCATENATE(Таблица1[[#This Row],[Столбец33]],\" \",Таблица1[[#This Row],[толщ]]),CONCATENATE(Таблица1[[#This Row],[Столбец33]],\" \",Таблица1[[#This Row],[профиль]],\"х\",Таблица1[[#This Row],[толщ]]))","v":"Круг 40"},{"$f":"CONCATENATE(Таблица1[[#This Row],[Столбец33]],\" \",Таблица1[[#This Row],[профиль]])","v":"Круг 40"},"Круг 40, 40.0 мм","Круг",{"$f":"IF(Таблица1[[#This Row],[профиль]]=Таблица1[[#This Row],[толщ]],Таблица1[[#This Row],[толщ]],CONCATENATE(Таблица1[[#This Row],[профиль]],\"х\",Таблица1[[#This Row],[точка]]))","v":40},40,40,{"$f":"SUBSTITUTE(Таблица1[[#This Row],[толщ]],\",\",\".\")","v":"40"},{"$f":"9.865*2","v":19.73},{"$f":"SUMIFS($U$8:$U$57,$K$8:$K$57,Таблица1[[#This Row],[ГОСТ]])","v":0}]
[{"$f":"IF(Таблица1[[#This Row],[Столбец19]]=0,\"z\",\"\")","v":"z"},null,null,1000,null,{"$f":"SUMIFS($G$62:$G$116,$D$62:$D$116,500,$C$62:$C$116,Таблица1[[#This Row],[Дл]],$F$62:$F$116,Таблица1[[#This Row],[АСТРА]])","v":0},{"$f":"Таблица1[[#This Row],[толщ]]","v":60},{"$f":"Таблица1[[#This Row],[ГОСТ]]","v":"Круг 60"},{"$f":"SUMIFS($N$62:$N$116,$C$62:$C$116,Таблица1[[#This Row],[Дл]],$D$62:$D$116,\"=500\",$F$62:$F$116,Таблица1[[#This Row],[АСТРА]])","v":0},{"$f":"SUMIFS($N$62:$N$116,$C$62:$C$116,\"<\"&Таблица1[[#This Row],[Дл]],$D$62:$D$116,\"=500\",$F$62:$F$116,Таблица1[[#This Row],[АСТРА]])","v":0},null,null,{"$f":"SUMIFS($J$8:$J$57,$K$8:$K$57,Таблица1[[#This Row],[Столбец5]])","v":0},{"$f":"Таблица1[[#This Row],[пол.мас.цел]]+Таблица1[[#This Row],[пол.мас.дел]]","v":0},{"$f":"SUMIFS($Q$62:$Q$116,$C$62:$C$116,Таблица1[[#This Row],[Дл]],$D$62:$D$116,\"=500\",$F$62:$F$116,Таблица1[[#This Row],[АСТРА]])","v":0},{"$f":"SUMIFS($Q$62:$Q$116,$C$62:$C$116,\"<\"&Таблица1[[#This Row],[Дл]],$D$62:$D$116,\"=500\",$F$62:$F$116,Таблица1[[#This Row],[АСТРА]])","v":0},{"$f":"Таблица1[[#This Row],[ост.с.цел]]+Таблица1[[#This Row],[ост.с.дел]]","v":0},{"$f":"Таблица1[[#This Row],[лом.целых]]+Таблица1[[#This Row],[лом.делов]]-Таблица1[[#This Row],[лом.на.пор.]]","v":0},{"$f":"Таблица1[[#This Row],[лом]]+Таблица1[[#This Row],[корр.масс]]","v":0},{"$f":"SUMIFS($T$62:$T$116,$C$62:$C$116,Таблица1[[#This Row],[Дл]],$D$62:$D$116,\"=500\",$F$62:$F$116,Таблица1[[#This Row],[АСТРА]])","v":0},{"$f":"SUMIFS($T$62:$T$116,$C$62:$C$116,\"<\"&Таблица1[[#This Row],[Дл]],$D$62:$D$116,\"=500\",$F$62:$F$116,Таблица1[[#This Row],[АСТРА]])","v":0},{"$f":"Таблица1[[#This Row],[Столбец17]]+Таблица1[[#This Row],[Столбец18]]+Таблица1[[#This Row],[лом.на.пор.]]","v":0},{"$f":"Таблица1[[#This Row],[Столбец19]]-Таблица1[[#This Row],[корр.масс]]","v":0},null,{"$f":"SUMIFS($X$62:$X$116,$C$62:$C$116,Таблица1[[#This Row],[Дл]],$D$62:$D$116,\"=500\",$F$62:$F$116,Таблица1[[#This Row],[АСТРА]])","v":0},{"$f":"SUMIFS($X$62:$X$116,$C$62:$C$116,\"<\"&Таблица1[[#This Row],[Дл]],$D$62:$D$116,\"=500\",$F$62:$F$116,Таблица1[[#This Row],[АСТРА]])","v":0},{"$f":"Таблица1[[#This Row],[Столбец23]]+Таблица1[[#This Row],[Столбец24]]","v":0},{"$f":"Таблица1[[#This Row],[лом.целых]]+Таблица1[[#This Row],[лом.делов]]-Таблица1[[#This Row],[лом.на.пор.]]","v":0},{"$f":"IF(Таблица1[[#This Row],[резы]]*Таблица1[[#This Row],[шир.рез]]/1000*Таблица1[[#This Row],[коэф]]/2<0,0,Таблица1[[#This Row],[резы]]*Таблица1[[#This Row],[шир.рез]]/1000*Таблица1[[#This Row],[коэф]]/2)","v":0},{"$f":"SUMIFS($Y$62:$Y$116,$C$62:$C$116,Таблица1[[#This Row],[Дл]],$D$62:$D$116,\"=500\",$F$62:$F$116,Таблица1[[#This Row],[АСТРА]])","v":0},{"$f":"SUMIFS($Y$62:$Y$116,$C$62:$C$116,\"<\"&Таблица1[[#This Row],[Дл]],$D$62:$D$116,\"=500\",$F$62:$F$116,Таблица1[[#This Row],[АСТРА]])","v":0},5,{"$f":"IF(Таблица1[[#This Row],[профиль]]=Таблица1[[#This Row],[толщ]],CONCATENATE(Таблица1[[#This Row],[Столбец33]],\" \",Таблица1[[#This Row],[толщ]]),CONCATENATE(Таблица1[[#This Row],[Столбец33]],\" \",Таблица1[[#This Row],[профиль]],\"х\",Таблица1[[#This Row],[толщ]]))","v":"Круг 60"},{"$f":"CONCATENATE(Таблица1[[#This Row],[Столбец33]],\" \",Таблица1[[#This Row],[профиль]])","v":"Круг 60"},"Круг 60, 60.0 мм, кр60","Круг",{"$f":"IF(Таблица1[[#This Row],[профиль]]=Таблица1[[#This Row],[толщ]],Таблица1[[#This Row],[толщ]],CONCATENATE(Таблица1[[#This Row],[профиль]],\"х\",Таблица1[[#This Row],[точка]]))","v":60},60,60,{"$f":"SUBSTITUTE(Таблица1[[#This Row],[толщ]],\",\",\".\")","v":"60"},{"$f":"22.195*2","v":44.39},{"$f":"SUMIFS($U$8:$U$57,$K$8:$K$57,Таблица1[[#This Row],[ГОСТ]])","v":0}]
[{"$f":"IF(Таблица1[[#This Row],[Столбец19]]=0,\"z\",\"\")","v":"z"},null,null,3000,null,{"$f":"SUMIFS($G$62:$G$116,$D$62:$D$116,500,$C$62:$C$116,Таблица1[[#This Row],[Дл]],$F$62:$F$116,Таблица1[[#This Row],[АСТРА]])","v":0},{"$f":"Таблица1[[#This Row],[толщ]]","v":20},{"$f":"Таблица1[[#This Row],[ГОСТ]]","v":"Круг бронзовый 20"},{"$f":"SUMIFS($N$62:$N$116,$C$62:$C$116,Таблица1[[#This Row],[Дл]],$D$62:$D$116,\"=500\",$F$62:$F$116,Таблица1[[#This Row],[АСТРА]])","v":0},{"$f":"SUMIFS($N$62:$N$116,$C$62:$C$116,\"<\"&Таблица1[[#This Row],[Дл]],$D$62:$D$116,\"=500\",$F$62:$F$116,Таблица1[[#This Row],[АСТРА]])","v":0},null,null,{"$f":"SUMIFS($J$8:$J$57,$K$8:$K$57,Таблица1[[#This Row],[Столбец5]])","v":0},{"$f":"Таблица1[[#This Row],[пол.мас.цел]]+Таблица1[[#This Row],[пол.мас.дел]]","v":0},{"$f":"SUMIFS($Q$62:$Q$116,$C$62:$C$116,Таблица1[[#This Row],[Дл]],$D$62:$D$116,\"=500\",$F$62:$F$116,Таблица1[[#This Row],[АСТРА]])","v":0},{"$f":"SUMIFS($Q$62:$Q$116,$C$62:$C$116,\"<\"&Таблица1[[#This Row],[Дл]],$D$62:$D$116,\"=500\",$F$62:$F$116,Таблица1[[#This Row],[АСТРА]])","v":0},{"$f":"Таблица1[[#This Row],[ост.с.цел]]+Таблица1[[#This Row],[ост.с.дел]]","v":0},{"$f":"Таблица1[[#This Row],[лом.целых]]+Таблица1[[#This Row],[лом.делов]]-Таблица1[[#This Row],[лом.на.пор.]]","v":0},{"$f":"Таблица1[[#This Row],[лом]]+Таблица1[[#This Row],[корр.масс]]","v":0},{"$f":"SUMIFS($T$62:$T$116,$C$62:$C$116,Таблица1[[#This Row],[Дл]],$D$62:$D$116,\"=500\",$F$62:$F$116,Таблица1[[#This Row],[АСТРА]])","v":0},{"$f":"SUMIFS($T$62:$T$116,$C$62:$C$116,\"<\"&Таблица1[[#This Row],[Дл]],$D$62:$D$116,\"=500\",$F$62:$F$116,Таблица1[[#This Row],[АСТРА]])","v":0},{"$f":"Таблица1[[#This Row],[Столбец17]]+Таблица1[[#This Row],[Столбец18]]+Таблица1[[#This Row],[лом.на.пор.]]","v":0},{"$f":"Таблица1[[#This Row],[Столбец19]]-Таблица1[[#This Row],[корр.масс]]","v":0},null,{"$f":"SUMIFS($X$62:$X$116,$C$62:$C$116,Таблица1[[#This Row],[Дл]],$D$62:$D$116,\"=500\",$F$62:$F$116,Таблица1[[#This Row],[АСТРА]])","v":0},{"$f":"SUMIFS($X$62:$X$116,$C$62:$C$116,\"<\"&Таблица1[[#This Row],[Дл]],$D$62:$D$116,\"=500\",$F$62:$F$116,Таблица1[[#This Row],[АСТРА]])","v":0},{"$f":"Таблица1[[#This Row],[Столбец23]]+Таблица1[[#This Row],[Столбец24]]","v":0},{"$f":"Таблица1[[#This Row],[лом.целых]]+Таблица1[[#This Row],[лом.делов]]-Таблица1[[#This Row],[лом.на.пор.]]","v":0},{"$f":"IF(Таблица1[[#This Row],[резы]]*Таблица1[[#This Row],[шир.рез]]/1000*Таблица1[[#This Row],[коэф]]/2<0,0,Таблица1[[#This Row],[резы]]*Таблица1[[#This Row],[шир.рез]]/1000*Таблица1[[#This Row],[коэф]]/2)","v":0},{"$f":"SUMIFS($Y$62:$Y$116,$C$62:$C$116,Таблица1[[#This Row],[Дл]],$D$62:$D$116,\"=500\",$F$62:$F$116,Таблица1[[#This Row],[АСТРА]])","v":0},{"$f":"SUMIFS($Y$62:$Y$116,$C$62:$C$116,\"<\"&Таблица1[[#This Row],[Дл]],$D$62:$D$116,\"=500\",$F$62:$F$116,Таблица1[[#This Row],[АСТРА]])","v":0},5,{"$f":"IF(Таблица1[[#This Row],[профиль]]=Таблица1[[#This Row],[толщ]],CONCATENATE(Таблица1[[#This Row],[Столбец33]],\" \",Таблица1[[#This Row],[толщ]]),CONCATENATE(Таблица1[[#This Row],[Столбец33]],\" \",Таблица1[[#This Row],[профиль]],\"х\",Таблица1[[#This Row],[толщ]]))","v":"Круг бронзовый 20"},{"$f":"CONCATENATE(Таблица1[[#This Row],[Столбец33]],\" \",Таблица1[[#This Row],[профиль]])","v":"Круг бронзовый 20"},"Круг бронзовый 20, 20.0 мм, крбр","Круг бронзовый",{"$f":"IF(Таблица1[[#This Row],[профиль]]=Таблица1[[#This Row],[толщ]],Таблица1[[#This Row],[толщ]],CONCATENATE(Таблица1[[#This Row],[профиль]],\"х\",Таблица1[[#This Row],[точка]]))","v":20},20,20,{"$f":"SUBSTITUTE(Таблица1[[#This Row],[толщ]],\",\",\".\")","v":"20"},{"$f":"2.37*2","v":4.74},{"$f":"SUMIFS($U$8:$U$57,$K$8:$K$57,Таблица1[[#This Row],[ГОСТ]])","v":0}]
[{"$f":"IF(Таблица1[[#This Row],[Столбец19]]=0,\"z\",\"\")","v":"z"},null,null,3000,null,{"$f":"SUMIFS($G$62:$G$116,$D$62:$D$116,500,$C$62:$C$116,Таблица1[[#This Row],[Дл]],$F$62:$F$116,Таблица1[[#This Row],[АСТРА]])","v":0},{"$f":"Таблица1[[#This Row],[толщ]]","v":20},{"$f":"Таблица1[[#This Row],[ГОСТ]]","v":"Круг медный 20"},{"$f":"SUMIFS($N$62:$N$116,$C$62:$C$116,Таблица1[[#This Row],[Дл]],$D$62:$D$116,\"=500\",$F$62:$F$116,Таблица1[[#This Row],[АСТРА]])","v":0},{"$f":"SUMIFS($N$62:$N$116,$C$62:$C$116,\"<\"&Таблица1[[#This Row],[Дл]],$D$62:$D$116,\"=500\",$F$62:$F$116,Таблица1[[#This Row],[АСТРА]])","v":0},null,null,{"$f":"SUMIFS($J$8:$J$57,$K$8:$K$57,Таблица1[[#This Row],[Столбец5]])","v":0},{"$f":"Таблица1[[#This Row],[пол.мас.цел]]+Таблица1[[#This Row],[пол.мас.дел]]","v":0},{"$f":"SUMIFS($Q$62:$Q$116,$C$62:$C$116,Таблица1[[#This Row],[Дл]],$D$62:$D$116,\"=500\",$F$62:$F$116,Таблица1[[#This Row],[АСТРА]])","v":0},{"$f":"SUMIFS($Q$62:$Q$116,$C$62:$C$116,\"<\"&Таблица1[[#This Row],[Дл]],$D$62:$D$116,\"=500\",$F$62:$F$116,Таблица1[[#This Row],[АСТРА]])","v":0},{"$f":"Таблица1[[#This Row],[ост.с.цел]]+Таблица1[[#This Row],[ост.с.дел]]","v":0},{"$f":"Таблица1[[#This Row],[лом.целых]]+Таблица1[[#This Row],[лом.делов]]-Таблица1[[#This Row],[лом.на.пор.]]","v":0},{"$f":"Таблица1[[#This Row],[лом]]+Таблица1[[#This Row],[корр.масс]]","v":0},{"$f":"SUMIFS($T$62:$T$116,$C$62:$C$116,Таблица1[[#This Row],[Дл]],$D$62:$D$116,\"=500\",$F$62:$F$116,Таблица1[[#This Row],[АСТРА]])","v":0},{"$f":"SUMIFS($T$62:$T$116,$C$62:$C$116,\"<\"&Таблица1[[#This Row],[Дл]],$D$62:$D$116,\"=500\",$F$62:$F$116,Таблица1[[#This Row],[АСТРА]])","v":0},{"$f":"Таблица1[[#This Row],[Столбец17]]+Таблица1[[#This Row],[Столбец18]]+Таблица1[[#This Row],[лом.на.пор.]]","v":0},{"$f":"Таблица1[[#This Row],[Столбец19]]-Таблица1[[#This Row],[корр.масс]]","v":0},null,{"$f":"SUMIFS($X$62:$X$116,$C$62:$C$116,Таблица1[[#This Row],[Дл]],$D$62:$D$116,\"=500\",$F$62:$F$116,Таблица1[[#This Row],[АСТРА]])","v":0},{"$f":"SUMIFS($X$62:$X$116,$C$62:$C$116,\"<\"&Таблица1[[#This Row],[Дл]],$D$62:$D$116,\"=500\",$F$62:$F$116,Таблица1[[#This Row],[АСТРА]])","v":0},{"$f":"Таблица1[[#This Row],[Столбец23]]+Таблица1[[#This Row],[Столбец24]]","v":0},{"$f":"Таблица1[[#This Row],[лом.целых]]+Таблица1[[#This Row],[лом.делов]]-Таблица1[[#This Row],[лом.на.пор.]]","v":0},{"$f":"IF(Таблица1[[#This Row],[резы]]*Таблица1[[#This Row],[шир.рез]]/1000*Таблица1[[#This Row],[коэф]]/2<0,0,Таблица1[[#This Row],[резы]]*Таблица1[[#This Row],[шир.рез]]/1000*Таблица1[[#This Row],[коэф]]/2)","v":0},{"$f":"SUMIFS($Y$62:$Y$116,$C$62:$C$116,Таблица1[[#This Row],[Дл]],$D$62:$D$116,\"=500\",$F$62:$F$116,Таблица1[[#This Row],[АСТРА]])","v":0},{"$f":"SUMIFS($Y$62:$Y$116,$C$62:$C$116,\"<\"&Таблица1[[#This Row],[Дл]],$D$62:$D$116,\"=500\",$F$62:$F$116,Таблица1[[#This Row],[АСТРА]])","v":0},5,{"$f":"IF(Таблица1[[#This Row],[профиль]]=Таблица1[[#This Row],[толщ]],CONCATENATE(Таблица1[[#This Row],[Столбец33]],\" \",Таблица1[[#This Row],[толщ]]),CONCATENATE(Таблица1[[#This Row],[Столбец33]],\" \",Таблица1[[#This Row],[профиль]],\"х\",Таблица1[[#This Row],[толщ]]))","v":"Круг медный 20"},{"$f":"CONCATENATE(Таблица1[[#This Row],[Столбец33]],\" \",Таблица1[[#This Row],[профиль]])","v":"Круг медный 20"},"Круг медный 20, 20.0 мм, крмед","Круг медный",{"$f":"IF(Таблица1[[#This Row],[профиль]]=Таблица1[[#This Row],[толщ]],Таблица1[[#This Row],[толщ]],CONCATENATE(Таблица1[[#This Row],[профиль]],\"х\",Таблица1[[#This Row],[точка]]))","v":20},20,20,{"$f":"SUBSTITUTE(Таблица1[[#This Row],[толщ]],\",\",\".\")","v":"20"},{"$f":"2.779*2","v":5.5579999999999998},{"$f":"SUMIFS($U$8:$U$57,$K$8:$K$57,Таблица1[[#This Row],[ГОСТ]])","v":0}]
[{"$f":"IF(Таблица1[[#This Row],[Столбец19]]=0,\"z\",\"\")","v":"z"},null,null,3000,null,{"$f":"SUMIFS($G$62:$G$116,$D$62:$D$116,500,$C$62:$C$116,Таблица1[[#This Row],[Дл]],$F$62:$F$116,Таблица1[[#This Row],[АСТРА]])","v":0},{"$f":"Таблица1[[#This Row],[толщ]]","v":2},{"$f":"Таблица1[[#This Row],[ГОСТ]]","v":"Труба 100х100х2"},{"$f":"SUMIFS($N$62:$N$116,$C$62:$C$116,Таблица1[[#This Row],[Дл]],$D$62:$D$116,\"=500\",$F$62:$F$116,Таблица1[[#This Row],[АСТРА]])","v":0},{"$f":"SUMIFS($N$62:$N$116,$C$62:$C$116,\"<\"&Таблица1[[#This Row],[Дл]],$D$62:$D$116,\"=500\",$F$62:$F$116,Таблица1[[#This Row],[АСТРА]])","v":0},null,null,{"$f":"SUMIFS($J$8:$J$57,$K$8:$K$57,Таблица1[[#This Row],[Столбец5]])","v":0},{"$f":"Таблица1[[#This Row],[пол.мас.цел]]+Таблица1[[#This Row],[пол.мас.дел]]","v":0},{"$f":"SUMIFS($Q$62:$Q$116,$C$62:$C$116,Таблица1[[#This Row],[Дл]],$D$62:$D$116,\"=500\",$F$62:$F$116,Таблица1[[#This Row],[АСТРА]])","v":0},{"$f":"SUMIFS($Q$62:$Q$116,$C$62:$C$116,\"<\"&Таблица1[[#This Row],[Дл]],$D$62:$D$116,\"=500\",$F$62:$F$116,Таблица1[[#This Row],[АСТРА]])","v":0},{"$f":"Таблица1[[#This Row],[ост.с.цел]]+Таблица1[[#This Row],[ост.с.дел]]","v":0},{"$f":"Таблица1[[#This Row],[лом.целых]]+Таблица1[[#This Row],[лом.делов]]-Таблица1[[#This Row],[лом.на.пор.]]","v":0},{"$f":"Таблица1[[#This Row],[лом]]+Таблица1[[#This Row],[корр.масс]]","v":0},{"$f":"SUMIFS($T$62:$T$116,$C$62:$C$116,Таблица1[[#This Row],[Дл]],$D$62:$D$116,\"=500\",$F$62:$F$116,Таблица1[[#This Row],[АСТРА]])","v":0},{"$f":"SUMIFS($T$62:$T$116,$C$62:$C$116,\"<\"&Таблица1[[#This Row],[Дл]],$D$62:$D$116,\"=500\",$F$62:$F$116,Таблица1[[#This Row],[АСТРА]])","v":0},{"$f":"Таблица1[[#This Row],[Столбец17]]+Таблица1[[#This Row],[Столбец18]]+Таблица1[[#This Row],[лом.на.пор.]]","v":0},{"$f":"Таблица1[[#This Row],[Столбец19]]-Таблица1[[#This Row],[корр.масс]]","v":0},null,{"$f":"SUMIFS($X$62:$X$116,$C$62:$C$116,Таблица1[[#This Row],[Дл]],$D$62:$D$116,\"=500\",$F$62:$F$116,Таблица1[[#This Row],[АСТРА]])","v":0},{"$f":"SUMIFS($X$62:$X$116,$C$62:$C$116,\"<\"&Таблица1[[#This Row],[Дл]],$D$62:$D$116,\"=500\",$F$62:$F$116,Таблица1[[#This Row],[АСТРА]])","v":0},{"$f":"Таблица1[[#This Row],[Столбец23]]+Таблица1[[#This Row],[Столбец24]]","v":0},{"$f":"Таблица1[[#This Row],[лом.целых]]+Таблица1[[#This Row],[лом.делов]]-Таблица1[[#This Row],[лом.на.пор.]]","v":0},{"$f":"IF(Таблица1[[#This Row],[резы]]*Таблица1[[#This Row],[шир.рез]]/1000*Таблица1[[#This Row],[коэф]]/2<0,0,Таблица1[[#This Row],[резы]]*Таблица1[[#This Row],[шир.рез]]/1000*Таблица1[[#This Row],[коэф]]/2)","v":0},{"$f":"SUMIFS($Y$62:$Y$116,$C$62:$C$116,Таблица1[[#This Row],[Дл]],$D$62:$D$116,\"=500\",$F$62:$F$116,Таблица1[[#This Row],[АСТРА]])","v":0},{"$f":"SUMIFS($Y$62:$Y$116,$C$62:$C$116,\"<\"&Таблица1[[#This Row],[Дл]],$D$62:$D$116,\"=500\",$F$62:$F$116,Таблица1[[#This Row],[АСТРА]])","v":0},5,{"$f":"IF(Таблица1[[#This Row],[профиль]]=Таблица1[[#This Row],[толщ]],CONCATENATE(Таблица1[[#This Row],[Столбец33]],\" \",Таблица1[[#This Row],[толщ]]),CONCATENATE(Таблица1[[#This Row],[Столбец33]],\" \",Таблица1[[#This Row],[профиль]],\"х\",Таблица1[[#This Row],[толщ]]))","v":"Труба 100х100х2"},{"$f":"CONCATENATE(Таблица1[[#This Row],[Столбец33]],\" \",Таблица1[[#This Row],[профиль]])","v":"Труба 100х100"},"Труба 100х100, 2.0 мм, тр100100","Труба",{"$f":"IF(Таблица1[[#This Row],[профиль]]=Таблица1[[#This Row],[толщ]],Таблица1[[#This Row],[толщ]],CONCATENATE(Таблица1[[#This Row],[профиль]],\"х\",Таблица1[[#This Row],[точка]]))","v":"100х100х2"},"100х100",2,{"$f":"SUBSTITUTE(Таблица1[[#This Row],[толщ]],\",\",\".\")","v":"2"},12.2,{"$f":"SUMIFS($U$8:$U$57,$K$8:$K$57,Таблица1[[#This Row],[ГОСТ]])","v":0}]
[{"$f":"IF(Таблица1[[#This Row],[Столбец19]]=0,\"z\",\"\")","v":"z"},null,null,6000,null,{"$f":"SUMIFS($G$62:$G$116,$D$62:$D$116,500,$C$62:$C$116,Таблица1[[#This Row],[Дл]],$F$62:$F$116,Таблица1[[#This Row],[АСТРА]])","v":0},{"$f":"Таблица1[[#This Row],[толщ]]","v":3},{"$f":"Таблица1[[#This Row],[ГОСТ]]","v":"Труба 100х60х3"},{"$f":"SUMIFS($N$62:$N$116,$C$62:$C$116,Таблица1[[#This Row],[Дл]],$D$62:$D$116,\"=500\",$F$62:$F$116,Таблица1[[#This Row],[АСТРА]])","v":0},{"$f":"SUMIFS($N$62:$N$116,$C$62:$C$116,\"<\"&Таблица1[[#This Row],[Дл]],$D$62:$D$116,\"=500\",$F$62:$F$116,Таблица1[[#This Row],[АСТРА]])","v":0},null,null,{"$f":"SUMIFS($J$8:$J$57,$K$8:$K$57,Таблица1[[#This Row],[Столбец5]])","v":0},{"$f":"Таблица1[[#This Row],[пол.мас.цел]]+Таблица1[[#This Row],[пол.мас.дел]]","v":0},{"$f":"SUMIFS($Q$62:$Q$116,$C$62:$C$116,Таблица1[[#This Row],[Дл]],$D$62:$D$116,\"=500\",$F$62:$F$116,Таблица1[[#This Row],[АСТРА]])","v":0},{"$f":"SUMIFS($Q$62:$Q$116,$C$62:$C$116,\"<\"&Таблица1[[#This Row],[Дл]],$D$62:$D$116,\"=500\",$F$62:$F$116,Таблица1[[#This Row],[АСТРА]])","v":0},{"$f":"Таблица1[[#This Row],[ост.с.цел]]+Таблица1[[#This Row],[ост.с.дел]]","v":0},{"$f":"Таблица1[[#This Row],[лом.целых]]+Таблица1[[#This Row],[лом.делов]]-Таблица1[[#This Row],[лом.на.пор.]]","v":0},{"$f":"Таблица1[[#This Row],[лом]]+Таблица1[[#This Row],[корр.масс]]","v":0},{"$f":"SUMIFS($T$62:$T$116,$C$62:$C$116,Таблица1[[#This Row],[Дл]],$D$62:$D$116,\"=500\",$F$62:$F$116,Таблица1[[#This Row],[АСТРА]])","v":0},{"$f":"SUMIFS($T$62:$T$116,$C$62:$C$116,\"<\"&Таблица1[[#This Row],[Дл]],$D$62:$D$116,\"=500\",$F$62:$F$116,Таблица1[[#This Row],[АСТРА]])","v":0},{"$f":"Таблица1[[#This Row],[Столбец17]]+Таблица1[[#This Row],[Столбец18]]+Таблица1[[#This Row],[лом.на.пор.]]","v":0},{"$f":"Таблица1[[#This Row],[Столбец19]]-Таблица1[[#This Row],[корр.масс]]","v":0},null,{"$f":"SUMIFS($X$62:$X$116,$C$62:$C$116,Таблица1[[#This Row],[Дл]],$D$62:$D$116,\"=500\",$F$62:$F$116,Таблица1[[#This Row],[АСТРА]])","v":0},{"$f":"SUMIFS($X$62:$X$116,$C$62:$C$116,\"<\"&Таблица1[[#This Row],[Дл]],$D$62:$D$116,\"=500\",$F$62:$F$116,Таблица1[[#This Row],[АСТРА]])","v":0},{"$f":"Таблица1[[#This Row],[Столбец23]]+Таблица1[[#This Row],[Столбец24]]","v":0},{"$f":"Таблица1[[#This Row],[лом.целых]]+Таблица1[[#This Row],[лом.делов]]-Таблица1[[#This Row],[лом.на.пор.]]","v":0},{"$f":"IF(Таблица1[[#This Row],[резы]]*Таблица1[[#This Row],[шир.рез]]/1000*Таблица1[[#This Row],[коэф]]/2<0,0,Таблица1[[#This Row],[резы]]*Таблица1[[#This Row],[шир.рез]]/1000*Таблица1[[#This Row],[коэф]]/2)","v":0},{"$f":"SUMIFS($Y$62:$Y$116,$C$62:$C$116,Таблица1[[#This Row],[Дл]],$D$62:$D$116,\"=500\",$F$62:$F$116,Таблица1[[#This Row],[АСТРА]])","v":0},{"$f":"SUMIFS($Y$62:$Y$116,$C$62:$C$116,\"<\"&Таблица1[[#This Row],[Дл]],$D$62:$D$116,\"=500\",$F$62:$F$116,Таблица1[[#This Row],[АСТРА]])","v":0},5,{"$f":"IF(Таблица1[[#This Row],[профиль]]=Таблица1[[#This Row],[толщ]],CONCATENATE(Таблица1[[#This Row],[Столбец33]],\" \",Таблица1[[#This Row],[толщ]]),CONCATENATE(Таблица1[[#This Row],[Столбец33]],\" \",Таблица1[[#This Row],[профиль]],\"х\",Таблица1[[#This Row],[толщ]]))","v":"Труба 100х60х3"},{"$f":"CONCATENATE(Таблица1[[#This Row],[Столбец33]],\" \",Таблица1[[#This Row],[профиль]])","v":"Труба 100х60"},"Труба 100х60, 3.0 мм","Труба",{"$f":"IF(Таблица1[[#This Row],[профиль]]=Таблица1[[#This Row],[толщ]],Таблица1[[#This Row],[толщ]],CONCATENATE(Таблица1[[#This Row],[профиль]],\"х\",Таблица1[[#This Row],[точка]]))","v":"100х60х3"},"100х60",3,{"$f":"SUBSTITUTE(Таблица1[[#This Row],[толщ]],\",\",\".\")","v":"3"},9.69,{"$f":"SUMIFS($U$8:$U$57,$K$8:$K$57,Таблица1[[#This Row],[ГОСТ]])","v":0}]
[{"$f":"IF(Таблица1[[#This Row],[Столбец19]]=0,\"z\",\"\")","v":"z"},null,null,3000,null,{"$f":"SUMIFS($G$62:$G$116,$D$62:$D$116,500,$C$62:$C$116,Таблица1[[#This Row],[Дл]],$F$62:$F$116,Таблица1[[#This Row],[АСТРА]])","v":0},{"$f":"Таблица1[[#This Row],[толщ]]","v":1},{"$f":"Таблица1[[#This Row],[ГОСТ]]","v":"Труба 10х10х1"},{"$f":"SUMIFS($N$62:$N$116,$C$62:$C$116,Таблица1[[#This Row],[Дл]],$D$62:$D$116,\"=500\",$F$62:$F$116,Таблица1[[#This Row],[АСТРА]])","v":0},{"$f":"SUMIFS($N$62:$N$116,$C$62:$C$116,\"<\"&Таблица1[[#This Row],[Дл]],$D$62:$D$116,\"=500\",$F$62:$F$116,Таблица1[[#This Row],[АСТРА]])","v":0},null,null,{"$f":"SUMIFS($J$8:$J$57,$K$8:$K$57,Таблица1[[#This Row],[Столбец5]])","v":0},{"$f":"Таблица1[[#This Row],[пол.мас.цел]]+Таблица1[[#This Row],[пол.мас.дел]]","v":0},{"$f":"SUMIFS($Q$62:$Q$116,$C$62:$C$116,Таблица1[[#This Row],[Дл]],$D$62:$D$116,\"=500\",$F$62:$F$116,Таблица1[[#This Row],[АСТРА]])","v":0},{"$f":"SUMIFS($Q$62:$Q$116,$C$62:$C$116,\"<\"&Таблица1[[#This Row],[Дл]],$D$62:$D$116,\"=500\",$F$62:$F$116,Таблица1[[#This Row],[АСТРА]])","v":0},{"$f":"Таблица1[[#This Row],[ост.с.цел]]+Таблица1[[#This Row],[ост.с.дел]]","v":0},{"$f":"Таблица1[[#This Row],[лом.целых]]+Таблица1[[#This Row],[лом.делов]]-Таблица1[[#This Row],[лом.на.пор.]]","v":0},{"$f":"Таблица1[[#This Row],[лом]]+Таблица1[[#This Row],[корр.масс]]","v":0},{"$f":"SUMIFS($T$62:$T$116,$C$62:$C$116,Таблица1[[#This Row],[Дл]],$D$62:$D$116,\"=500\",$F$62:$F$116,Таблица1[[#This Row],[АСТРА]])","v":0},{"$f":"SUMIFS($T$62:$T$116,$C$62:$C$116,\"<\"&Таблица1[[#This Row],[Дл]],$D$62:$D$116,\"=500\",$F$62:$F$116,Таблица1[[#This Row],[АСТРА]])","v":0},{"$f":"Таблица1[[#This Row],[Столбец17]]+Таблица1[[#This Row],[Столбец18]]+Таблица1[[#This Row],[лом.на.пор.]]","v":0},{"$f":"Таблица1[[#This Row],[Столбец19]]-Таблица1[[#This Row],[корр.масс]]","v":0},null,{"$f":"SUMIFS($X$62:$X$116,$C$62:$C$116,Таблица1[[#This Row],[Дл]],$D$62:$D$116,\"=500\",$F$62:$F$116,Таблица1[[#This Row],[АСТРА]])","v":0},{"$f":"SUMIFS($X$62:$X$116,$C$62:$C$116,\"<\"&Таблица1[[#This Row],[Дл]],$D$62:$D$116,\"=500\",$F$62:$F$116,Таблица1[[#This Row],[АСТРА]])","v":0},{"$f":"Таблица1[[#This Row],[Столбец23]]+Таблица1[[#This Row],[Столбец24]]","v":0},{"$f":"Таблица1[[#This Row],[лом.целых]]+Таблица1[[#This Row],[лом.делов]]-Таблица1[[#This Row],[лом.на.пор.]]","v":0},{"$f":"IF(Таблица1[[#This Row],[резы]]*Таблица1[[#This Row],[шир.рез]]/1000*Таблица1[[#This Row],[коэф]]/2<0,0,Таблица1[[#This Row],[резы]]*Таблица1[[#This Row],[шир.рез]]/1000*Таблица1[[#This Row],[коэф]]/2)","v":0},{"$f":"SUMIFS($Y$62:$Y$116,$C$62:$C$116,Таблица1[[#This Row],[Дл]],$D$62:$D$116,\"=500\",$F$62:$F$116,Таблица1[[#This Row],[АСТРА]])","v":0},{"$f":"SUMIFS($Y$62:$Y$116,$C$62:$C$116,\"<\"&Таблица1[[#This Row],[Дл]],$D$62:$D$116,\"=500\",$F$62:$F$116,Таблица1[[#This Row],[АСТРА]])","v":0},5,{"$f":"IF(Таблица1[[#This Row],[профиль]]=Таблица1[[#This Row],[толщ]],CONCATENATE(Таблица1[[#This Row],[Столбец33]],\" \",Таблица1[[#This Row],[толщ]]),CONCATENATE(Таблица1[[#This Row],[Столбец33]],\" \",Таблица1[[#This Row],[профиль]],\"х\",Таблица1[[#This Row],[толщ]]))","v":"Труба 10х10х1"},{"$f":"CONCATENATE(Таблица1[[#This Row],[Столбец33]],\" \",Таблица1[[#This Row],[профиль]])","v":"Труба 10х10"},"Труба 10х10, 1.0 мм, тр1010","Труба",{"$f":"IF(Таблица1[[#This Row],[профиль]]=Таблица1[[#This Row],[толщ]],Таблица1[[#This Row],[толщ]],CONCATENATE(Таблица1[[#This Row],[профиль]],\"х\",Таблица1[[#This Row],[точка]]))","v":"10х10х1"},"10х10",1,{"$f":"SUBSTITUTE(Таблица1[[#This Row],[толщ]],\",\",\".\")","v":"1"},0.54,{"$f":"SUMIFS($U$8:$U$57,$K$8:$K$57,Таблица1[[#This Row],[ГОСТ]])","v":0}]
[{"$f":"IF(Таблица1[[#This Row],[Столбец19]]=0,\"z\",\"\")","v":"z"},null,null,3000,null,{"$f":"SUMIFS($G$62:$G$116,$D$62:$D$116,500,$C$62:$C$116,Таблица1[[#This Row],[Дл]],$F$62:$F$116,Таблица1[[#This Row],[АСТРА]])","v":0},{"$f":"Таблица1[[#This Row],[толщ]]","v":1.2},{"$f":"Таблица1[[#This Row],[ГОСТ]]","v":"Труба 10х10х1,2"},{"$f":"SUMIFS($N$62:$N$116,$C$62:$C$116,Таблица1[[#This Row],[Дл]],$D$62:$D$116,\"=500\",$F$62:$F$116,Таблица1[[#This Row],[АСТРА]])","v":0},{"$f":"SUMIFS($N$62:$N$116,$C$62:$C$116,\"<\"&Таблица1[[#This Row],[Дл]],$D$62:$D$116,\"=500\",$F$62:$F$116,Таблица1[[#This Row],[АСТРА]])","v":0},null,null,{"$f":"SUMIFS($J$8:$J$57,$K$8:$K$57,Таблица1[[#This Row],[Столбец5]])","v":0},{"$f":"Таблица1[[#This Row],[пол.мас.цел]]+Таблица1[[#This Row],[пол.мас.дел]]","v":0},{"$f":"SUMIFS($Q$62:$Q$116,$C$62:$C$116,Таблица1[[#This Row],[Дл]],$D$62:$D$116,\"=500\",$F$62:$F$116,Таблица1[[#This Row],[АСТРА]])","v":0},{"$f":"SUMIFS($Q$62:$Q$116,$C$62:$C$116,\"<\"&Таблица1[[#This Row],[Дл]],$D$62:$D$116,\"=500\",$F$62:$F$116,Таблица1[[#This Row],[АСТРА]])","v":0},{"$f":"Таблица1[[#This Row],[ост.с.цел]]+Таблица1[[#This Row],[ост.с.дел]]","v":0},{"$f":"Таблица1[[#This Row],[лом.целых]]+Таблица1[[#This Row],[лом.делов]]-Таблица1[[#This Row],[лом.на.пор.]]","v":0},{"$f":"Таблица1[[#This Row],[лом]]+Таблица1[[#This Row],[корр.масс]]","v":0},{"$f":"SUMIFS($T$62:$T$116,$C$62:$C$116,Таблица1[[#This Row],[Дл]],$D$62:$D$116,\"=500\",$F$62:$F$116,Таблица1[[#This Row],[АСТРА]])","v":0},{"$f":"SUMIFS($T$62:$T$116,$C$62:$C$116,\"<\"&Таблица1[[#This Row],[Дл]],$D$62:$D$116,\"=500\",$F$62:$F$116,Таблица1[[#This Row],[АСТРА]])","v":0},{"$f":"Таблица1[[#This Row],[Столбец17]]+Таблица1[[#This Row],[Столбец18]]+Таблица1[[#This Row],[лом.на.пор.]]","v":0},{"$f":"Таблица1[[#This Row],[Столбец19]]-Таблица1[[#This Row],[корр.масс]]","v":0},null,{"$f":"SUMIFS($X$62:$X$116,$C$62:$C$116,Таблица1[[#This Row],[Дл]],$D$62:$D$116,\"=500\",$F$62:$F$116,Таблица1[[#This Row],[АСТРА]])","v":0},{"$f":"SUMIFS($X$62:$X$116,$C$62:$C$116,\"<\"&Таблица1[[#This Row],[Дл]],$D$62:$D$116,\"=500\",$F$62:$F$116,Таблица1[[#This Row],[АСТРА]])","v":0},{"$f":"Таблица1[[#This Row],[Столбец23]]+Таблица1[[#This Row],[Столбец24]]","v":0},{"$f":"Таблица1[[#This Row],[лом.целых]]+Таблица1[[#This Row],[лом.делов]]-Таблица1[[#This Row],[лом.на.пор.]]","v":0},{"$f":"IF(Таблица1[[#This Row],[резы]]*Таблица1[[#This Row],[шир.рез]]/1000*Таблица1[[#This Row],[коэф]]/2<0,0,Таблица1[[#This Row],[резы]]*Таблица1[[#This Row],[шир.рез]]/1000*Таблица1[[#This Row],[коэф]]/2)","v":0},{"$f":"SUMIFS($Y$62:$Y$116,$C$62:$C$116,Таблица1[[#This Row],[Дл]],$D$62:$D$116,\"=500\",$F$62:$F$116,Таблица1[[#This Row],[АСТРА]])","v":0},{"$f":"SUMIFS($Y$62:$Y$116,$C$62:$C$116,\"<\"&Таблица1[[#This Row],[Дл]],$D$62:$D$116,\"=500\",$F$62:$F$116,Таблица1[[#This Row],[АСТРА]])","v":0},5,{"$f":"IF(Таблица1[[#This Row],[профиль]]=Таблица1[[#This Row],[толщ]],CONCATENATE(Таблица1[[#This Row],[Столбец33]],\" \",Таблица1[[#This Row],[толщ]]),CONCATENATE(Таблица1[[#This Row],[Столбец33]],\" \",Таблица1[[#This Row],[профиль]],\"х\",Таблица1[[#This Row],[толщ]]))","v":"Труба 10х10х1,2"},{"$f":"CONCATENATE(Таблица1[[#This Row],[Столбец33]],\" \",Таблица1[[#This Row],[профиль]])","v":"Труба 10х10"},"Труба 10х10, 1.2 мм, тр1010","Труба",{"$f":"IF(Таблица1[[#This Row],[профиль]]=Таблица1[[#This Row],[толщ]],Таблица1[[#This Row],[толщ]],CONCATENATE(Таблица1[[#This Row],[профиль]],\"х\",Таблица1[[#This Row],[точка]]))","v":"10х10х1.2"},"10х10",1.2,{"$f":"SUBSTITUTE(Таблица1[[#This Row],[толщ]],\",\",\".\")","v":"1.2"},0.62,{"$f":"SUMIFS($U$8:$U$57,$K$8:$K$57,Таблица1[[#This Row],[ГОСТ]])","v":0}]
[{"$f":"IF(Таблица1[[#This Row],[Столбец19]]=0,\"z\",\"\")","v":"z"},null,null,3000,null,{"$f":"SUMIFS($G$62:$G$116,$D$62:$D$116,500,$C$62:$C$116,Таблица1[[#This Row],[Дл]],$F$62:$F$116,Таблица1[[#This Row],[АСТРА]])","v":0},{"$f":"Таблица1[[#This Row],[толщ]]","v":3},{"$f":"Таблица1[[#This Row],[ГОСТ]]","v":"Труба 125х3"},{"$f":"SUMIFS($N$62:$N$116,$C$62:$C$116,Таблица1[[#This Row],[Дл]],$D$62:$D$116,\"=500\",$F$62:$F$116,Таблица1[[#This Row],[АСТРА]])","v":0},{"$f":"SUMIFS($N$62:$N$116,$C$62:$C$116,\"<\"&Таблица1[[#This Row],[Дл]],$D$62:$D$116,\"=500\",$F$62:$F$116,Таблица1[[#This Row],[АСТРА]])","v":0},null,null,{"$f":"SUMIFS($J$8:$J$57,$K$8:$K$57,Таблица1[[#This Row],[Столбец5]])","v":0},{"$f":"Таблица1[[#This Row],[пол.мас.цел]]+Таблица1[[#This Row],[пол.мас.дел]]","v":0},{"$f":"SUMIFS($Q$62:$Q$116,$C$62:$C$116,Таблица1[[#This Row],[Дл]],$D$62:$D$116,\"=500\",$F$62:$F$116,Таблица1[[#This Row],[АСТРА]])","v":0},{"$f":"SUMIFS($Q$62:$Q$116,$C$62:$C$116,\"<\"&Таблица1[[#This Row],[Дл]],$D$62:$D$116,\"=500\",$F$62:$F$116,Таблица1[[#This Row],[АСТРА]])","v":0},{"$f":"Таблица1[[#This Row],[ост.с.цел]]+Таблица1[[#This Row],[ост.с.дел]]","v":0},{"$f":"Таблица1[[#This Row],[лом.целых]]+Таблица1[[#This Row],[лом.делов]]-Таблица1[[#This Row],[лом.на.пор.]]","v":0},{"$f":"Таблица1[[#This Row],[лом]]+Таблица1[[#This Row],[корр.масс]]","v":0},{"$f":"SUMIFS($T$62:$T$116,$C$62:$C$116,Таблица1[[#This Row],[Дл]],$D$62:$D$116,\"=500\",$F$62:$F$116,Таблица1[[#This Row],[АСТРА]])","v":0},{"$f":"SUMIFS($T$62:$T$116,$C$62:$C$116,\"<\"&Таблица1[[#This Row],[Дл]],$D$62:$D$116,\"=500\",$F$62:$F$116,Таблица1[[#This Row],[АСТРА]])","v":0},{"$f":"Таблица1[[#This Row],[Столбец17]]+Таблица1[[#This Row],[Столбец18]]+Таблица1[[#This Row],[лом.на.пор.]]","v":0},{"$f":"Таблица1[[#This Row],[Столбец19]]-Таблица1[[#This Row],[корр.масс]]","v":0},null,{"$f":"SUMIFS($X$62:$X$116,$C$62:$C$116,Таблица1[[#This Row],[Дл]],$D$62:$D$116,\"=500\",$F$62:$F$116,Таблица1[[#This Row],[АСТРА]])","v":0},{"$f":"SUMIFS($X$62:$X$116,$C$62:$C$116,\"<\"&Таблица1[[#This Row],[Дл]],$D$62:$D$116,\"=500\",$F$62:$F$116,Таблица1[[#This Row],[АСТРА]])","v":0},{"$f":"Таблица1[[#This Row],[Столбец23]]+Таблица1[[#This Row],[Столбец24]]","v":0},{"$f":"Таблица1[[#This Row],[лом.целых]]+Таблица1[[#This Row],[лом.делов]]-Таблица1[[#This Row],[лом.на.пор.]]","v":0},{"$f":"IF(Таблица1[[#This Row],[резы]]*Таблица1[[#This Row],[шир.рез]]/1000*Таблица1[[#This Row],[коэф]]/2<0,0,Таблица1[[#This Row],[резы]]*Таблица1[[#This Row],[шир.рез]]/1000*Таблица1[[#This Row],[коэф]]/2)","v":0},{"$f":"SUMIFS($Y$62:$Y$116,$C$62:$C$116,Таблица1[[#This Row],[Дл]],$D$62:$D$116,\"=500\",$F$62:$F$116,Таблица1[[#This Row],[АСТРА]])","v":0},{"$f":"SUMIFS($Y$62:$Y$116,$C$62:$C$116,\"<\"&Таблица1[[#This Row],[Дл]],$D$62:$D$116,\"=500\",$F$62:$F$116,Таблица1[[#This Row],[АСТРА]])","v":0},5,{"$f":"IF(Таблица1[[#This Row],[профиль]]=Таблица1[[#This Row],[толщ]],CONCATENATE(Таблица1[[#This Row],[Столбец33]],\" \",Таблица1[[#This Row],[толщ]]),CONCATENATE(Таблица1[[#This Row],[Столбец33]],\" \",Таблица1[[#This Row],[профиль]],\"х\",Таблица1[[#This Row],[толщ]]))","v":"Труба 125х3"},{"$f":"CONCATENATE(Таблица1[[#This Row],[Столбец33]],\" \",Таблица1[[#This Row],[профиль]])","v":"Труба 125"},"Труба 125, 3.0 мм","Труба",{"$f":"IF(Таблица1[[#This Row],[профиль]]=Таблица1[[#This Row],[толщ]],Таблица1[[#This Row],[толщ]],CONCATENATE(Таблица1[[#This Row],[профиль]],\"х\",Таблица1[[#This Row],[точка]]))","v":"125х3"},125,3,{"$f":"SUBSTITUTE(Таблица1[[#This Row],[толщ]],\",\",\".\")","v":"3"},18.05,{"$f":"SUMIFS($U$8:$U$57,$K$8:$K$57,Таблица1[[#This Row],[ГОСТ]])","v":0}]
[{"$f":"IF(Таблица1[[#This Row],[Столбец19]]=0,\"z\",\"\")","v":"z"},null,null,3000,null,{"$f":"SUMIFS($G$62:$G$116,$D$62:$D$116,500,$C$62:$C$116,Таблица1[[#This Row],[Дл]],$F$62:$F$116,Таблица1[[#This Row],[АСТРА]])","v":0},{"$f":"Таблица1[[#This Row],[толщ]]","v":1},{"$f":"Таблица1[[#This Row],[ГОСТ]]","v":"Труба 14х1"},{"$f":"SUMIFS($N$62:$N$116,$C$62:$C$116,Таблица1[[#This Row],[Дл]],$D$62:$D$116,\"=500\",$F$62:$F$116,Таблица1[[#This Row],[АСТРА]])","v":0},{"$f":"SUMIFS($N$62:$N$116,$C$62:$C$116,\"<\"&Таблица1[[#This Row],[Дл]],$D$62:$D$116,\"=500\",$F$62:$F$116,Таблица1[[#This Row],[АСТРА]])","v":0},null,null,{"$f":"SUMIFS($J$8:$J$57,$K$8:$K$57,Таблица1[[#This Row],[Столбец5]])","v":0},{"$f":"Таблица1[[#This Row],[пол.мас.цел]]+Таблица1[[#This Row],[пол.мас.дел]]","v":0},{"$f":"SUMIFS($Q$62:$Q$116,$C$62:$C$116,Таблица1[[#This Row],[Дл]],$D$62:$D$116,\"=500\",$F$62:$F$116,Таблица1[[#This Row],[АСТРА]])","v":0},{"$f":"SUMIFS($Q$62:$Q$116,$C$62:$C$116,\"<\"&Таблица1[[#This Row],[Дл]],$D$62:$D$116,\"=500\",$F$62:$F$116,Таблица1[[#This Row],[АСТРА]])","v":0},{"$f":"Таблица1[[#This Row],[ост.с.цел]]+Таблица1[[#This Row],[ост.с.дел]]","v":0},{"$f":"Таблица1[[#This Row],[лом.целых]]+Таблица1[[#This Row],[лом.делов]]-Таблица1[[#This Row],[лом.на.пор.]]","v":0},{"$f":"Таблица1[[#This Row],[лом]]+Таблица1[[#This Row],[корр.масс]]","v":0},{"$f":"SUMIFS($T$62:$T$116,$C$62:$C$116,Таблица1[[#This Row],[Дл]],$D$62:$D$116,\"=500\",$F$62:$F$116,Таблица1[[#This Row],[АСТРА]])","v":0},{"$f":"SUMIFS($T$62:$T$116,$C$62:$C$116,\"<\"&Таблица1[[#This Row],[Дл]],$D$62:$D$116,\"=500\",$F$62:$F$116,Таблица1[[#This Row],[АСТРА]])","v":0},{"$f":"Таблица1[[#This Row],[Столбец17]]+Таблица1[[#This Row],[Столбец18]]+Таблица1[[#This Row],[лом.на.пор.]]","v":0},{"$f":"Таблица1[[#This Row],[Столбец19]]-Таблица1[[#This Row],[корр.масс]]","v":0},null,{"$f":"SUMIFS($X$62:$X$116,$C$62:$C$116,Таблица1[[#This Row],[Дл]],$D$62:$D$116,\"=500\",$F$62:$F$116,Таблица1[[#This Row],[АСТРА]])","v":0},{"$f":"SUMIFS($X$62:$X$116,$C$62:$C$116,\"<\"&Таблица1[[#This Row],[Дл]],$D$62:$D$116,\"=500\",$F$62:$F$116,Таблица1[[#This Row],[АСТРА]])","v":0},{"$f":"Таблица1[[#This Row],[Столбец23]]+Таблица1[[#This Row],[Столбец24]]","v":0},{"$f":"Таблица1[[#This Row],[лом.целых]]+Таблица1[[#This Row],[лом.делов]]-Таблица1[[#This Row],[лом.на.пор.]]","v":0},{"$f":"IF(Таблица1[[#This Row],[резы]]*Таблица1[[#This Row],[шир.рез]]/1000*Таблица1[[#This Row],[коэф]]/2<0,0,Таблица1[[#This Row],[резы]]*Таблица1[[#This Row],[шир.рез]]/1000*Таблица1[[#This Row],[коэф]]/2)","v":0},{"$f":"SUMIFS($Y$62:$Y$116,$C$62:$C$116,Таблица1[[#This Row],[Дл]],$D$62:$D$116,\"=500\",$F$62:$F$116,Таблица1[[#This Row],[АСТРА]])","v":0},{"$f":"SUMIFS($Y$62:$Y$116,$C$62:$C$116,\"<\"&Таблица1[[#This Row],[Дл]],$D$62:$D$116,\"=500\",$F$62:$F$116,Таблица1[[#This Row],[АСТРА]])","v":0},5,{"$f":"IF(Таблица1[[#This Row],[профиль]]=Таблица1[[#This Row],[толщ]],CONCATENATE(Таблица1[[#This Row],[Столбец33]],\" \",Таблица1[[#This Row],[толщ]]),CONCATENATE(Таблица1[[#This Row],[Столбец33]],\" \",Таблица1[[#This Row],[профиль]],\"х\",Таблица1[[#This Row],[толщ]]))","v":"Труба 14х1"},{"$f":"CONCATENATE(Таблица1[[#This Row],[Столбец33]],\" \",Таблица1[[#This Row],[профиль]])","v":"Труба 14"},"Труба 14, 1.0 мм, тр14","Труба",{"$f":"IF(Таблица1[[#This Row],[профиль]]=Таблица1[[#This Row],[толщ]],Таблица1[[#This Row],[толщ]],CONCATENATE(Таблица1[[#This Row],[профиль]],\"х\",Таблица1[[#This Row],[точка]]))","v":"14х1"},14,1,{"$f":"SUBSTITUTE(Таблица1[[#This Row],[толщ]],\",\",\".\")","v":"1"},1.63,{"$f":"SUMIFS($U$8:$U$57,$K$8:$K$57,Таблица1[[#This Row],[ГОСТ]])","v":0}]
[{"$f":"IF(Таблица1[[#This Row],[Столбец19]]=0,\"z\",\"\")","v":"z"},null,null,6010,null,{"$f":"SUMIFS($G$62:$G$116,$D$62:$D$116,500,$C$62:$C$116,Таблица1[[#This Row],[Дл]],$F$62:$F$116,Таблица1[[#This Row],[АСТРА]])","v":0},{"$f":"Таблица1[[#This Row],[толщ]]","v":4},{"$f":"Таблица1[[#This Row],[ГОСТ]]","v":"Труба 150х150х4"},{"$f":"SUMIFS($N$62:$N$116,$C$62:$C$116,Таблица1[[#This Row],[Дл]],$D$62:$D$116,\"=500\",$F$62:$F$116,Таблица1[[#This Row],[АСТРА]])","v":0},{"$f":"SUMIFS($N$62:$N$116,$C$62:$C$116,\"<\"&Таблица1[[#This Row],[Дл]],$D$62:$D$116,\"=500\",$F$62:$F$116,Таблица1[[#This Row],[АСТРА]])","v":0},null,null,{"$f":"SUMIFS($J$8:$J$57,$K$8:$K$57,Таблица1[[#This Row],[Столбец5]])","v":0},{"$f":"Таблица1[[#This Row],[пол.мас.цел]]+Таблица1[[#This Row],[пол.мас.дел]]","v":0},{"$f":"SUMIFS($Q$62:$Q$116,$C$62:$C$116,Таблица1[[#This Row],[Дл]],$D$62:$D$116,\"=500\",$F$62:$F$116,Таблица1[[#This Row],[АСТРА]])","v":0},{"$f":"SUMIFS($Q$62:$Q$116,$C$62:$C$116,\"<\"&Таблица1[[#This Row],[Дл]],$D$62:$D$116,\"=500\",$F$62:$F$116,Таблица1[[#This Row],[АСТРА]])","v":0},{"$f":"Таблица1[[#This Row],[ост.с.цел]]+Таблица1[[#This Row],[ост.с.дел]]","v":0},{"$f":"Таблица1[[#This Row],[лом.целых]]+Таблица1[[#This Row],[лом.делов]]-Таблица1[[#This Row],[лом.на.пор.]]","v":0},{"$f":"Таблица1[[#This Row],[лом]]+Таблица1[[#This Row],[корр.масс]]","v":0},{"$f":"SUMIFS($T$62:$T$116,$C$62:$C$116,Таблица1[[#This Row],[Дл]],$D$62:$D$116,\"=500\",$F$62:$F$116,Таблица1[[#This Row],[АСТРА]])","v":0},{"$f":"SUMIFS($T$62:$T$116,$C$62:$C$116,\"<\"&Таблица1[[#This Row],[Дл]],$D$62:$D$116,\"=500\",$F$62:$F$116,Таблица1[[#This Row],[АСТРА]])","v":0},{"$f":"Таблица1[[#This Row],[Столбец17]]+Таблица1[[#This Row],[Столбец18]]+Таблица1[[#This Row],[лом.на.пор.]]","v":0},{"$f":"Таблица1[[#This Row],[Столбец19]]-Таблица1[[#This Row],[корр.масс]]","v":0},null,{"$f":"SUMIFS($X$62:$X$116,$C$62:$C$116,Таблица1[[#This Row],[Дл]],$D$62:$D$116,\"=500\",$F$62:$F$116,Таблица1[[#This Row],[АСТРА]])","v":0},{"$f":"SUMIFS($X$62:$X$116,$C$62:$C$116,\"<\"&Таблица1[[#This Row],[Дл]],$D$62:$D$116,\"=500\",$F$62:$F$116,Таблица1[[#This Row],[АСТРА]])","v":0},{"$f":"Таблица1[[#This Row],[Столбец23]]+Таблица1[[#This Row],[Столбец24]]","v":0},{"$f":"Таблица1[[#This Row],[лом.целых]]+Таблица1[[#This Row],[лом.делов]]-Таблица1[[#This Row],[лом.на.пор.]]","v":0},{"$f":"IF(Таблица1[[#This Row],[резы]]*Таблица1[[#This Row],[шир.рез]]/1000*Таблица1[[#This Row],[коэф]]/2<0,0,Таблица1[[#This Row],[резы]]*Таблица1[[#This Row],[шир.рез]]/1000*Таблица1[[#This Row],[коэф]]/2)","v":0},{"$f":"SUMIFS($Y$62:$Y$116,$C$62:$C$116,Таблица1[[#This Row],[Дл]],$D$62:$D$116,\"=500\",$F$62:$F$116,Таблица1[[#This Row],[АСТРА]])","v":0},{"$f":"SUMIFS($Y$62:$Y$116,$C$62:$C$116,\"<\"&Таблица1[[#This Row],[Дл]],$D$62:$D$116,\"=500\",$F$62:$F$116,Таблица1[[#This Row],[АСТРА]])","v":0},5,{"$f":"IF(Таблица1[[#This Row],[профиль]]=Таблица1[[#This Row],[толщ]],CONCATENATE(Таблица1[[#This Row],[Столбец33]],\" \",Таблица1[[#This Row],[толщ]]),CONCATENATE(Таблица1[[#This Row],[Столбец33]],\" \",Таблица1[[#This Row],[профиль]],\"х\",Таблица1[[#This Row],[толщ]]))","v":"Труба 150х150х4"},{"$f":"CONCATENATE(Таблица1[[#This Row],[Столбец33]],\" \",Таблица1[[#This Row],[профиль]])","v":"Труба 150х150"},"Труба 150х150, 4.0 мм","Труба",{"$f":"IF(Таблица1[[#This Row],[профиль]]=Таблица1[[#This Row],[толщ]],Таблица1[[#This Row],[толщ]],CONCATENATE(Таблица1[[#This Row],[профиль]],\"х\",Таблица1[[#This Row],[точка]]))","v":"150х150х4"},"150х150",4,{"$f":"SUBSTITUTE(Таблица1[[#This Row],[толщ]],\",\",\".\")","v":"4"},36.24,{"$f":"SUMIFS($U$8:$U$57,$K$8:$K$57,Таблица1[[#This Row],[ГОСТ]])","v":0}]
[{"$f":"IF(Таблица1[[#This Row],[Столбец19]]=0,\"z\",\"\")","v":"z"},null,null,3000,null,{"$f":"SUMIFS($G$62:$G$116,$D$62:$D$116,500,$C$62:$C$116,Таблица1[[#This Row],[Дл]],$F$62:$F$116,Таблица1[[#This Row],[АСТРА]])","v":0},{"$f":"Таблица1[[#This Row],[толщ]]","v":1.5},{"$f":"Таблица1[[#This Row],[ГОСТ]]","v":"Труба 15х10х1,5"},{"$f":"SUMIFS($N$62:$N$116,$C$62:$C$116,Таблица1[[#This Row],[Дл]],$D$62:$D$116,\"=500\",$F$62:$F$116,Таблица1[[#This Row],[АСТРА]])","v":0},{"$f":"SUMIFS($N$62:$N$116,$C$62:$C$116,\"<\"&Таблица1[[#This Row],[Дл]],$D$62:$D$116,\"=500\",$F$62:$F$116,Таблица1[[#This Row],[АСТРА]])","v":0},null,null,{"$f":"SUMIFS($J$8:$J$57,$K$8:$K$57,Таблица1[[#This Row],[Столбец5]])","v":0},{"$f":"Таблица1[[#This Row],[пол.мас.цел]]+Таблица1[[#This Row],[пол.мас.дел]]","v":0},{"$f":"SUMIFS($Q$62:$Q$116,$C$62:$C$116,Таблица1[[#This Row],[Дл]],$D$62:$D$116,\"=500\",$F$62:$F$116,Таблица1[[#This Row],[АСТРА]])","v":0},{"$f":"SUMIFS($Q$62:$Q$116,$C$62:$C$116,\"<\"&Таблица1[[#This Row],[Дл]],$D$62:$D$116,\"=500\",$F$62:$F$116,Таблица1[[#This Row],[АСТРА]])","v":0},{"$f":"Таблица1[[#This Row],[ост.с.цел]]+Таблица1[[#This Row],[ост.с.дел]]","v":0},{"$f":"Таблица1[[#This Row],[лом.целых]]+Таблица1[[#This Row],[лом.делов]]-Таблица1[[#This Row],[лом.на.пор.]]","v":0},{"$f":"Таблица1[[#This Row],[лом]]+Таблица1[[#This Row],[корр.масс]]","v":0},{"$f":"SUMIFS($T$62:$T$116,$C$62:$C$116,Таблица1[[#This Row],[Дл]],$D$62:$D$116,\"=500\",$F$62:$F$116,Таблица1[[#This Row],[АСТРА]])","v":0},{"$f":"SUMIFS($T$62:$T$116,$C$62:$C$116,\"<\"&Таблица1[[#This Row],[Дл]],$D$62:$D$116,\"=500\",$F$62:$F$116,Таблица1[[#This Row],[АСТРА]])","v":0},{"$f":"Таблица1[[#This Row],[Столбец17]]+Таблица1[[#This Row],[Столбец18]]+Таблица1[[#This Row],[лом.на.пор.]]","v":0},{"$f":"Таблица1[[#This Row],[Столбец19]]-Таблица1[[#This Row],[корр.масс]]","v":0},null,{"$f":"SUMIFS($X$62:$X$116,$C$62:$C$116,Таблица1[[#This Row],[Дл]],$D$62:$D$116,\"=500\",$F$62:$F$116,Таблица1[[#This Row],[АСТРА]])","v":0},{"$f":"SUMIFS($X$62:$X$116,$C$62:$C$116,\"<\"&Таблица1[[#This Row],[Дл]],$D$62:$D$116,\"=500\",$F$62:$F$116,Таблица1[[#This Row],[АСТРА]])","v":0},{"$f":"Таблица1[[#This Row],[Столбец23]]+Таблица1[[#This Row],[Столбец24]]","v":0},{"$f":"Таблица1[[#This Row],[лом.целых]]+Таблица1[[#This Row],[лом.делов]]-Таблица1[[#This Row],[лом.на.пор.]]","v":0},{"$f":"IF(Таблица1[[#This Row],[резы]]*Таблица1[[#This Row],[шир.рез]]/1000*Таблица1[[#This Row],[коэф]]/2<0,0,Таблица1[[#This Row],[резы]]*Таблица1[[#This Row],[шир.рез]]/1000*Таблица1[[#This Row],[коэф]]/2)","v":0},{"$f":"SUMIFS($Y$62:$Y$116,$C$62:$C$116,Таблица1[[#This Row],[Дл]],$D$62:$D$116,\"=500\",$F$62:$F$116,Таблица1[[#This Row],[АСТРА]])","v":0},{"$f":"SUMIFS($Y$62:$Y$116,$C$62:$C$116,\"<\"&Таблица1[[#This Row],[Дл]],$D$62:$D$116,\"=500\",$F$62:$F$116,Таблица1[[#This Row],[АСТРА]])","v":0},5,{"$f":"IF(Таблица1[[#This Row],[профиль]]=Таблица1[[#This Row],[толщ]],CONCATENATE(Таблица1[[#This Row],[Столбец33]],\" \",Таблица1[[#This Row],[толщ]]),CONCATENATE(Таблица1[[#This Row],[Столбец33]],\" \",Таблица1[[#This Row],[профиль]],\"х\",Таблица1[[#This Row],[толщ]]))","v":"Труба 15х10х1,5"},{"$f":"CONCATENATE(Таблица1[[#This Row],[Столбец33]],\" \",Таблица1[[#This Row],[профиль]])","v":"Труба 15х10"},"Труба 15х10, 1.5 мм","Труба",{"$f":"IF(Таблица1[[#This Row],[профиль]]=Таблица1[[#This Row],[толщ]],Таблица1[[#This Row],[толщ]],CONCATENATE(Таблица1[[#This Row],[профиль]],\"х\",Таблица1[[#This Row],[точка]]))","v":"15х10х1.5"},"15х10",1.5,{"$f":"SUBSTITUTE(Таблица1[[#This Row],[толщ]],\",\",\".\")","v":"1.5"},0.98,{"$f":"SUMIFS($U$8:$U$57,$K$8:$K$57,Таблица1[[#This Row],[ГОСТ]])","v":0}]
[{"$f":"IF(Таблица1[[#This Row],[Столбец19]]=0,\"z\",\"\")","v":"z"},null,null,6000,null,{"$f":"SUMIFS($G$62:$G$116,$D$62:$D$116,500,$C$62:$C$116,Таблица1[[#This Row],[Дл]],$F$62:$F$116,Таблица1[[#This Row],[АСТРА]])","v":0},{"$f":"Таблица1[[#This Row],[толщ]]","v":1},{"$f":"Таблица1[[#This Row],[ГОСТ]]","v":"Труба 15х15х1"},{"$f":"SUMIFS($N$62:$N$116,$C$62:$C$116,Таблица1[[#This Row],[Дл]],$D$62:$D$116,\"=500\",$F$62:$F$116,Таблица1[[#This Row],[АСТРА]])","v":0},{"$f":"SUMIFS($N$62:$N$116,$C$62:$C$116,\"<\"&Таблица1[[#This Row],[Дл]],$D$62:$D$116,\"=500\",$F$62:$F$116,Таблица1[[#This Row],[АСТРА]])","v":0},null,null,{"$f":"SUMIFS($J$8:$J$57,$K$8:$K$57,Таблица1[[#This Row],[Столбец5]])","v":0},{"$f":"Таблица1[[#This Row],[пол.мас.цел]]+Таблица1[[#This Row],[пол.мас.дел]]","v":0},{"$f":"SUMIFS($Q$62:$Q$116,$C$62:$C$116,Таблица1[[#This Row],[Дл]],$D$62:$D$116,\"=500\",$F$62:$F$116,Таблица1[[#This Row],[АСТРА]])","v":0},{"$f":"SUMIFS($Q$62:$Q$116,$C$62:$C$116,\"<\"&Таблица1[[#This Row],[Дл]],$D$62:$D$116,\"=500\",$F$62:$F$116,Таблица1[[#This Row],[АСТРА]])","v":0},{"$f":"Таблица1[[#This Row],[ост.с.цел]]+Таблица1[[#This Row],[ост.с.дел]]","v":0},{"$f":"Таблица1[[#This Row],[лом.целых]]+Таблица1[[#This Row],[лом.делов]]-Таблица1[[#This Row],[лом.на.пор.]]","v":0},{"$f":"Таблица1[[#This Row],[лом]]+Таблица1[[#This Row],[корр.масс]]","v":0},{"$f":"SUMIFS($T$62:$T$116,$C$62:$C$116,Таблица1[[#This Row],[Дл]],$D$62:$D$116,\"=500\",$F$62:$F$116,Таблица1[[#This Row],[АСТРА]])","v":0},{"$f":"SUMIFS($T$62:$T$116,$C$62:$C$116,\"<\"&Таблица1[[#This Row],[Дл]],$D$62:$D$116,\"=500\",$F$62:$F$116,Таблица1[[#This Row],[АСТРА]])","v":0},{"$f":"Таблица1[[#This Row],[Столбец17]]+Таблица1[[#This Row],[Столбец18]]+Таблица1[[#This Row],[лом.на.пор.]]","v":0},{"$f":"Таблица1[[#This Row],[Столбец19]]-Таблица1[[#This Row],[корр.масс]]","v":0},null,{"$f":"SUMIFS($X$62:$X$116,$C$62:$C$116,Таблица1[[#This Row],[Дл]],$D$62:$D$116,\"=500\",$F$62:$F$116,Таблица1[[#This Row],[АСТРА]])","v":0},{"$f":"SUMIFS($X$62:$X$116,$C$62:$C$116,\"<\"&Таблица1[[#This Row],[Дл]],$D$62:$D$116,\"=500\",$F$62:$F$116,Таблица1[[#This Row],[АСТРА]])","v":0},{"$f":"Таблица1[[#This Row],[Столбец23]]+Таблица1[[#This Row],[Столбец24]]","v":0},{"$f":"Таблица1[[#This Row],[лом.целых]]+Таблица1[[#This Row],[лом.делов]]-Таблица1[[#This Row],[лом.на.пор.]]","v":0},{"$f":"IF(Таблица1[[#This Row],[резы]]*Таблица1[[#This Row],[шир.рез]]/1000*Таблица1[[#This Row],[коэф]]/2<0,0,Таблица1[[#This Row],[резы]]*Таблица1[[#This Row],[шир.рез]]/1000*Таблица1[[#This Row],[коэф]]/2)","v":0},{"$f":"SUMIFS($Y$62:$Y$116,$C$62:$C$116,Таблица1[[#This Row],[Дл]],$D$62:$D$116,\"=500\",$F$62:$F$116,Таблица1[[#This Row],[АСТРА]])","v":0},{"$f":"SUMIFS($Y$62:$Y$116,$C$62:$C$116,\"<\"&Таблица1[[#This Row],[Дл]],$D$62:$D$116,\"=500\",$F$62:$F$116,Таблица1[[#This Row],[АСТРА]])","v":0},5,{"$f":"IF(Таблица1[[#This Row],[профиль]]=Таблица1[[#This Row],[толщ]],CONCATENATE(Таблица1[[#This Row],[Столбец33]],\" \",Таблица1[[#This Row],[толщ]]),CONCATENATE(Таблица1[[#This Row],[Столбец33]],\" \",Таблица1[[#This Row],[профиль]],\"х\",Таблица1[[#This Row],[толщ]]))","v":"Труба 15х15х1"},{"$f":"CONCATENATE(Таблица1[[#This Row],[Столбец33]],\" \",Таблица1[[#This Row],[профиль]])","v":"Труба 15х15"},"Труба 15х15, 1.0 мм, тр1515","Труба",{"$f":"IF(Таблица1[[#This Row],[профиль]]=Таблица1[[#This Row],[толщ]],Таблица1[[#This Row],[толщ]],CONCATENATE(Таблица1[[#This Row],[профиль]],\"х\",Таблица1[[#This Row],[точка]]))","v":"15х15х1"},"15х15",1,{"$f":"SUBSTITUTE(Таблица1[[#This Row],[толщ]],\",\",\".\")","v":"1"},0.85,{"$f":"SUMIFS($U$8:$U$57,$K$8:$K$57,Таблица1[[#This Row],[ГОСТ]])","v":0}]
[{"$f":"IF(Таблица1[[#This Row],[Столбец19]]=0,\"z\",\"\")","v":"z"},null,null,3000,null,{"$f":"SUMIFS($G$62:$G$116,$D$62:$D$116,500,$C$62:$C$116,Таблица1[[#This Row],[Дл]],$F$62:$F$116,Таблица1[[#This Row],[АСТРА]])","v":0},{"$f":"Таблица1[[#This Row],[толщ]]","v":1},{"$f":"Таблица1[[#This Row],[ГОСТ]]","v":"Труба 16х1"},{"$f":"SUMIFS($N$62:$N$116,$C$62:$C$116,Таблица1[[#This Row],[Дл]],$D$62:$D$116,\"=500\",$F$62:$F$116,Таблица1[[#This Row],[АСТРА]])","v":0},{"$f":"SUMIFS($N$62:$N$116,$C$62:$C$116,\"<\"&Таблица1[[#This Row],[Дл]],$D$62:$D$116,\"=500\",$F$62:$F$116,Таблица1[[#This Row],[АСТРА]])","v":0},null,null,{"$f":"SUMIFS($J$8:$J$57,$K$8:$K$57,Таблица1[[#This Row],[Столбец5]])","v":0},{"$f":"Таблица1[[#This Row],[пол.мас.цел]]+Таблица1[[#This Row],[пол.мас.дел]]","v":0},{"$f":"SUMIFS($Q$62:$Q$116,$C$62:$C$116,Таблица1[[#This Row],[Дл]],$D$62:$D$116,\"=500\",$F$62:$F$116,Таблица1[[#This Row],[АСТРА]])","v":0},{"$f":"SUMIFS($Q$62:$Q$116,$C$62:$C$116,\"<\"&Таблица1[[#This Row],[Дл]],$D$62:$D$116,\"=500\",$F$62:$F$116,Таблица1[[#This Row],[АСТРА]])","v":0},{"$f":"Таблица1[[#This Row],[ост.с.цел]]+Таблица1[[#This Row],[ост.с.дел]]","v":0},{"$f":"Таблица1[[#This Row],[лом.целых]]+Таблица1[[#This Row],[лом.делов]]-Таблица1[[#This Row],[лом.на.пор.]]","v":0},{"$f":"Таблица1[[#This Row],[лом]]+Таблица1[[#This Row],[корр.масс]]","v":0},{"$f":"SUMIFS($T$62:$T$116,$C$62:$C$116,Таблица1[[#This Row],[Дл]],$D$62:$D$116,\"=500\",$F$62:$F$116,Таблица1[[#This Row],[АСТРА]])","v":0},{"$f":"SUMIFS($T$62:$T$116,$C$62:$C$116,\"<\"&Таблица1[[#This Row],[Дл]],$D$62:$D$116,\"=500\",$F$62:$F$116,Таблица1[[#This Row],[АСТРА]])","v":0},{"$f":"Таблица1[[#This Row],[Столбец17]]+Таблица1[[#This Row],[Столбец18]]+Таблица1[[#This Row],[лом.на.пор.]]","v":0},{"$f":"Таблица1[[#This Row],[Столбец19]]-Таблица1[[#This Row],[корр.масс]]","v":0},null,{"$f":"SUMIFS($X$62:$X$116,$C$62:$C$116,Таблица1[[#This Row],[Дл]],$D$62:$D$116,\"=500\",$F$62:$F$116,Таблица1[[#This Row],[АСТРА]])","v":0},{"$f":"SUMIFS($X$62:$X$116,$C$62:$C$116,\"<\"&Таблица1[[#This Row],[Дл]],$D$62:$D$116,\"=500\",$F$62:$F$116,Таблица1[[#This Row],[АСТРА]])","v":0},{"$f":"Таблица1[[#This Row],[Столбец23]]+Таблица1[[#This Row],[Столбец24]]","v":0},{"$f":"Таблица1[[#This Row],[лом.целых]]+Таблица1[[#This Row],[лом.делов]]-Таблица1[[#This Row],[лом.на.пор.]]","v":0},{"$f":"IF(Таблица1[[#This Row],[резы]]*Таблица1[[#This Row],[шир.рез]]/1000*Таблица1[[#This Row],[коэф]]/2<0,0,Таблица1[[#This Row],[резы]]*Таблица1[[#This Row],[шир.рез]]/1000*Таблица1[[#This Row],[коэф]]/2)","v":0},{"$f":"SUMIFS($Y$62:$Y$116,$C$62:$C$116,Таблица1[[#This Row],[Дл]],$D$62:$D$116,\"=500\",$F$62:$F$116,Таблица1[[#This Row],[АСТРА]])","v":0},{"$f":"SUMIFS($Y$62:$Y$116,$C$62:$C$116,\"<\"&Таблица1[[#This Row],[Дл]],$D$62:$D$116,\"=500\",$F$62:$F$116,Таблица1[[#This Row],[АСТРА]])","v":0},5,{"$f":"IF(Таблица1[[#This Row],[профиль]]=Таблица1[[#This Row],[толщ]],CONCATENATE(Таблица1[[#This Row],[Столбец33]],\" \",Таблица1[[#This Row],[толщ]]),CONCATENATE(Таблица1[[#This Row],[Столбец33]],\" \",Таблица1[[#This Row],[профиль]],\"х\",Таблица1[[#This Row],[толщ]]))","v":"Труба 16х1"},{"$f":"CONCATENATE(Таблица1[[#This Row],[Столбец33]],\" \",Таблица1[[#This Row],[профиль]])","v":"Труба 16"},"Труба 16, 1.0 мм, тр16","Труба",{"$f":"IF(Таблица1[[#This Row],[профиль]]=Таблица1[[#This Row],[толщ]],Таблица1[[#This Row],[толщ]],CONCATENATE(Таблица1[[#This Row],[профиль]],\"х\",Таблица1[[#This Row],[точка]]))","v":"16х1"},16,1,{"$f":"SUBSTITUTE(Таблица1[[#This Row],[толщ]],\",\",\".\")","v":"1"},0.74,{"$f":"SUMIFS($U$8:$U$57,$K$8:$K$57,Таблица1[[#This Row],[ГОСТ]])","v":0}]
[{"$f":"IF(Таблица1[[#This Row],[Столбец19]]=0,\"z\",\"\")","v":"z"},null,null,3000,null,{"$f":"SUMIFS($G$62:$G$116,$D$62:$D$116,500,$C$62:$C$116,Таблица1[[#This Row],[Дл]],$F$62:$F$116,Таблица1[[#This Row],[АСТРА]])","v":0},{"$f":"Таблица1[[#This Row],[толщ]]","v":1.5},{"$f":"Таблица1[[#This Row],[ГОСТ]]","v":"Труба 16х1,5"},{"$f":"SUMIFS($N$62:$N$116,$C$62:$C$116,Таблица1[[#This Row],[Дл]],$D$62:$D$116,\"=500\",$F$62:$F$116,Таблица1[[#This Row],[АСТРА]])","v":0},{"$f":"SUMIFS($N$62:$N$116,$C$62:$C$116,\"<\"&Таблица1[[#This Row],[Дл]],$D$62:$D$116,\"=500\",$F$62:$F$116,Таблица1[[#This Row],[АСТРА]])","v":0},null,null,{"$f":"SUMIFS($J$8:$J$57,$K$8:$K$57,Таблица1[[#This Row],[Столбец5]])","v":0},{"$f":"Таблица1[[#This Row],[пол.мас.цел]]+Таблица1[[#This Row],[пол.мас.дел]]","v":0},{"$f":"SUMIFS($Q$62:$Q$116,$C$62:$C$116,Таблица1[[#This Row],[Дл]],$D$62:$D$116,\"=500\",$F$62:$F$116,Таблица1[[#This Row],[АСТРА]])","v":0},{"$f":"SUMIFS($Q$62:$Q$116,$C$62:$C$116,\"<\"&Таблица1[[#This Row],[Дл]],$D$62:$D$116,\"=500\",$F$62:$F$116,Таблица1[[#This Row],[АСТРА]])","v":0},{"$f":"Таблица1[[#This Row],[ост.с.цел]]+Таблица1[[#This Row],[ост.с.дел]]","v":0},{"$f":"Таблица1[[#This Row],[лом.целых]]+Таблица1[[#This Row],[лом.делов]]-Таблица1[[#This Row],[лом.на.пор.]]","v":0},{"$f":"Таблица1[[#This Row],[лом]]+Таблица1[[#This Row],[корр.масс]]","v":0},{"$f":"SUMIFS($T$62:$T$116,$C$62:$C$116,Таблица1[[#This Row],[Дл]],$D$62:$D$116,\"=500\",$F$62:$F$116,Таблица1[[#This Row],[АСТРА]])","v":0},{"$f":"SUMIFS($T$62:$T$116,$C$62:$C$116,\"<\"&Таблица1[[#This Row],[Дл]],$D$62:$D$116,\"=500\",$F$62:$F$116,Таблица1[[#This Row],[АСТРА]])","v":0},{"$f":"Таблица1[[#This Row],[Столбец17]]+Таблица1[[#This Row],[Столбец18]]+Таблица1[[#This Row],[лом.на.пор.]]","v":0},{"$f":"Таблица1[[#This Row],[Столбец19]]-Таблица1[[#This Row],[корр.масс]]","v":0},null,{"$f":"SUMIFS($X$62:$X$116,$C$62:$C$116,Таблица1[[#This Row],[Дл]],$D$62:$D$116,\"=500\",$F$62:$F$116,Таблица1[[#This Row],[АСТРА]])","v":0},{"$f":"SUMIFS($X$62:$X$116,$C$62:$C$116,\"<\"&Таблица1[[#This Row],[Дл]],$D$62:$D$116,\"=500\",$F$62:$F$116,Таблица1[[#This Row],[АСТРА]])","v":0},{"$f":"Таблица1[[#This Row],[Столбец23]]+Таблица1[[#This Row],[Столбец24]]","v":0},{"$f":"Таблица1[[#This Row],[лом.целых]]+Таблица1[[#This Row],[лом.делов]]-Таблица1[[#This Row],[лом.на.пор.]]","v":0},{"$f":"IF(Таблица1[[#This Row],[резы]]*Таблица1[[#This Row],[шир.рез]]/1000*Таблица1[[#This Row],[коэф]]/2<0,0,Таблица1[[#This Row],[резы]]*Таблица1[[#This Row],[шир.рез]]/1000*Таблица1[[#This Row],[коэф]]/2)","v":0},{"$f":"SUMIFS($Y$62:$Y$116,$C$62:$C$116,Таблица1[[#This Row],[Дл]],$D$62:$D$116,\"=500\",$F$62:$F$116,Таблица1[[#This Row],[АСТРА]])","v":0},{"$f":"SUMIFS($Y$62:$Y$116,$C$62:$C$116,\"<\"&Таблица1[[#This Row],[Дл]],$D$62:$D$116,\"=500\",$F$62:$F$116,Таблица1[[#This Row],[АСТРА]])","v":0},5,{"$f":"IF(Таблица1[[#This Row],[профиль]]=Таблица1[[#This Row],[толщ]],CONCATENATE(Таблица1[[#This Row],[Столбец33]],\" \",Таблица1[[#This Row],[толщ]]),CONCATENATE(Таблица1[[#This Row],[Столбец33]],\" \",Таблица1[[#This Row],[профиль]],\"х\",Таблица1[[#This Row],[толщ]]))","v":"Труба 16х1,5"},{"$f":"CONCATENATE(Таблица1[[#This Row],[Столбец33]],\" \",Таблица1[[#This Row],[профиль]])","v":"Труба 16"},"Труба 16, 1.5 мм, тр16","Труба",{"$f":"IF(Таблица1[[#This Row],[профиль]]=Таблица1[[#This Row],[толщ]],Таблица1[[#This Row],[толщ]],CONCATENATE(Таблица1[[#This Row],[профиль]],\"х\",Таблица1[[#This Row],[точка]]))","v":"16х1.5"},16,1.5,{"$f":"SUBSTITUTE(Таблица1[[#This Row],[толщ]],\",\",\".\")","v":"1.5"},1.07,{"$f":"SUMIFS($U$8:$U$57,$K$8:$K$57,Таблица1[[#This Row],[ГОСТ]])","v":0}]
[{"$f":"IF(Таблица1[[#This Row],[Столбец19]]=0,\"z\",\"\")","v":"z"},null,null,6000,null,{"$f":"SUMIFS($G$62:$G$116,$D$62:$D$116,500,$C$62:$C$116,Таблица1[[#This Row],[Дл]],$F$62:$F$116,Таблица1[[#This Row],[АСТРА]])","v":0},{"$f":"Таблица1[[#This Row],[толщ]]","v":1},{"$f":"Таблица1[[#This Row],[ГОСТ]]","v":"Труба 17х17х1"},{"$f":"SUMIFS($N$62:$N$116,$C$62:$C$116,Таблица1[[#This Row],[Дл]],$D$62:$D$116,\"=500\",$F$62:$F$116,Таблица1[[#This Row],[АСТРА]])","v":0},{"$f":"SUMIFS($N$62:$N$116,$C$62:$C$116,\"<\"&Таблица1[[#This Row],[Дл]],$D$62:$D$116,\"=500\",$F$62:$F$116,Таблица1[[#This Row],[АСТРА]])","v":0},null,null,{"$f":"SUMIFS($J$8:$J$57,$K$8:$K$57,Таблица1[[#This Row],[Столбец5]])","v":0},{"$f":"Таблица1[[#This Row],[пол.мас.цел]]+Таблица1[[#This Row],[пол.мас.дел]]","v":0},{"$f":"SUMIFS($Q$62:$Q$116,$C$62:$C$116,Таблица1[[#This Row],[Дл]],$D$62:$D$116,\"=500\",$F$62:$F$116,Таблица1[[#This Row],[АСТРА]])","v":0},{"$f":"SUMIFS($Q$62:$Q$116,$C$62:$C$116,\"<\"&Таблица1[[#This Row],[Дл]],$D$62:$D$116,\"=500\",$F$62:$F$116,Таблица1[[#This Row],[АСТРА]])","v":0},{"$f":"Таблица1[[#This Row],[ост.с.цел]]+Таблица1[[#This Row],[ост.с.дел]]","v":0},{"$f":"Таблица1[[#This Row],[лом.целых]]+Таблица1[[#This Row],[лом.делов]]-Таблица1[[#This Row],[лом.на.пор.]]","v":0},{"$f":"Таблица1[[#This Row],[лом]]+Таблица1[[#This Row],[корр.масс]]","v":0},{"$f":"SUMIFS($T$62:$T$116,$C$62:$C$116,Таблица1[[#This Row],[Дл]],$D$62:$D$116,\"=500\",$F$62:$F$116,Таблица1[[#This Row],[АСТРА]])","v":0},{"$f":"SUMIFS($T$62:$T$116,$C$62:$C$116,\"<\"&Таблица1[[#This Row],[Дл]],$D$62:$D$116,\"=500\",$F$62:$F$116,Таблица1[[#This Row],[АСТРА]])","v":0},{"$f":"Таблица1[[#This Row],[Столбец17]]+Таблица1[[#This Row],[Столбец18]]+Таблица1[[#This Row],[лом.на.пор.]]","v":0},{"$f":"Таблица1[[#This Row],[Столбец19]]-Таблица1[[#This Row],[корр.масс]]","v":0},null,{"$f":"SUMIFS($X$62:$X$116,$C$62:$C$116,Таблица1[[#This Row],[Дл]],$D$62:$D$116,\"=500\",$F$62:$F$116,Таблица1[[#This Row],[АСТРА]])","v":0},{"$f":"SUMIFS($X$62:$X$116,$C$62:$C$116,\"<\"&Таблица1[[#This Row],[Дл]],$D$62:$D$116,\"=500\",$F$62:$F$116,Таблица1[[#This Row],[АСТРА]])","v":0},{"$f":"Таблица1[[#This Row],[Столбец23]]+Таблица1[[#This Row],[Столбец24]]","v":0},{"$f":"Таблица1[[#This Row],[лом.целых]]+Таблица1[[#This Row],[лом.делов]]-Таблица1[[#This Row],[лом.на.пор.]]","v":0},{"$f":"IF(Таблица1[[#This Row],[резы]]*Таблица1[[#This Row],[шир.рез]]/1000*Таблица1[[#This Row],[коэф]]/2<0,0,Таблица1[[#This Row],[резы]]*Таблица1[[#This Row],[шир.рез]]/1000*Таблица1[[#This Row],[коэф]]/2)","v":0},{"$f":"SUMIFS($Y$62:$Y$116,$C$62:$C$116,Таблица1[[#This Row],[Дл]],$D$62:$D$116,\"=500\",$F$62:$F$116,Таблица1[[#This Row],[АСТРА]])","v":0},{"$f":"SUMIFS($Y$62:$Y$116,$C$62:$C$116,\"<\"&Таблица1[[#This Row],[Дл]],$D$62:$D$116,\"=500\",$F$62:$F$116,Таблица1[[#This Row],[АСТРА]])","v":0},5,{"$f":"IF(Таблица1[[#This Row],[профиль]]=Таблица1[[#This Row],[толщ]],CONCATENATE(Таблица1[[#This Row],[Столбец33]],\" \",Таблица1[[#This Row],[толщ]]),CONCATENATE(Таблица1[[#This Row],[Столбец33]],\" \",Таблица1[[#This Row],[профиль]],\"х\",Таблица1[[#This Row],[толщ]]))","v":"Труба 17х17х1"},{"$f":"CONCATENATE(Таблица1[[#This Row],[Столбец33]],\" \",Таблица1[[#This Row],[профиль]])","v":"Труба 17х17"},"Труба 17х17, 1.0 мм, тр1717","Труба",{"$f":"IF(Таблица1[[#This Row],[профиль]]=Таблица1[[#This Row],[толщ]],Таблица1[[#This Row],[толщ]],CONCATENATE(Таблица1[[#This Row],[профиль]],\"х\",Таблица1[[#This Row],[точка]]))","v":"17х17х1"},"17х17",1,{"$f":"SUBSTITUTE(Таблица1[[#This Row],[толщ]],\",\",\".\")","v":"1"},0.98,{"$f":"SUMIFS($U$8:$U$57,$K$8:$K$57,Таблица1[[#This Row],[ГОСТ]])","v":0}]
[{"$f":"IF(Таблица1[[#This Row],[Столбец19]]=0,\"z\",\"\")","v":"z"},null,null,6000,null,{"$f":"SUMIFS($G$62:$G$116,$D$62:$D$116,500,$C$62:$C$116,Таблица1[[#This Row],[Дл]],$F$62:$F$116,Таблица1[[#This Row],[АСТРА]])","v":0},{"$f":"Таблица1[[#This Row],[толщ]]","v":2},{"$f":"Таблица1[[#This Row],[ГОСТ]]","v":"Труба 17х17х2"},{"$f":"SUMIFS($N$62:$N$116,$C$62:$C$116,Таблица1[[#This Row],[Дл]],$D$62:$D$116,\"=500\",$F$62:$F$116,Таблица1[[#This Row],[АСТРА]])","v":0},{"$f":"SUMIFS($N$62:$N$116,$C$62:$C$116,\"<\"&Таблица1[[#This Row],[Дл]],$D$62:$D$116,\"=500\",$F$62:$F$116,Таблица1[[#This Row],[АСТРА]])","v":0},null,null,{"$f":"SUMIFS($J$8:$J$57,$K$8:$K$57,Таблица1[[#This Row],[Столбец5]])","v":0},{"$f":"Таблица1[[#This Row],[пол.мас.цел]]+Таблица1[[#This Row],[пол.мас.дел]]","v":0},{"$f":"SUMIFS($Q$62:$Q$116,$C$62:$C$116,Таблица1[[#This Row],[Дл]],$D$62:$D$116,\"=500\",$F$62:$F$116,Таблица1[[#This Row],[АСТРА]])","v":0},{"$f":"SUMIFS($Q$62:$Q$116,$C$62:$C$116,\"<\"&Таблица1[[#This Row],[Дл]],$D$62:$D$116,\"=500\",$F$62:$F$116,Таблица1[[#This Row],[АСТРА]])","v":0},{"$f":"Таблица1[[#This Row],[ост.с.цел]]+Таблица1[[#This Row],[ост.с.дел]]","v":0},{"$f":"Таблица1[[#This Row],[лом.целых]]+Таблица1[[#This Row],[лом.делов]]-Таблица1[[#This Row],[лом.на.пор.]]","v":0},{"$f":"Таблица1[[#This Row],[лом]]+Таблица1[[#This Row],[корр.масс]]","v":0},{"$f":"SUMIFS($T$62:$T$116,$C$62:$C$116,Таблица1[[#This Row],[Дл]],$D$62:$D$116,\"=500\",$F$62:$F$116,Таблица1[[#This Row],[АСТРА]])","v":0},{"$f":"SUMIFS($T$62:$T$116,$C$62:$C$116,\"<\"&Таблица1[[#This Row],[Дл]],$D$62:$D$116,\"=500\",$F$62:$F$116,Таблица1[[#This Row],[АСТРА]])","v":0},{"$f":"Таблица1[[#This Row],[Столбец17]]+Таблица1[[#This Row],[Столбец18]]+Таблица1[[#This Row],[лом.на.пор.]]","v":0},{"$f":"Таблица1[[#This Row],[Столбец19]]-Таблица1[[#This Row],[корр.масс]]","v":0},null,{"$f":"SUMIFS($X$62:$X$116,$C$62:$C$116,Таблица1[[#This Row],[Дл]],$D$62:$D$116,\"=500\",$F$62:$F$116,Таблица1[[#This Row],[АСТРА]])","v":0},{"$f":"SUMIFS($X$62:$X$116,$C$62:$C$116,\"<\"&Таблица1[[#This Row],[Дл]],$D$62:$D$116,\"=500\",$F$62:$F$116,Таблица1[[#This Row],[АСТРА]])","v":0},{"$f":"Таблица1[[#This Row],[Столбец23]]+Таблица1[[#This Row],[Столбец24]]","v":0},{"$f":"Таблица1[[#This Row],[лом.целых]]+Таблица1[[#This Row],[лом.делов]]-Таблица1[[#This Row],[лом.на.пор.]]","v":0},{"$f":"IF(Таблица1[[#This Row],[резы]]*Таблица1[[#This Row],[шир.рез]]/1000*Таблица1[[#This Row],[коэф]]/2<0,0,Таблица1[[#This Row],[резы]]*Таблица1[[#This Row],[шир.рез]]/1000*Таблица1[[#This Row],[коэф]]/2)","v":0},{"$f":"SUMIFS($Y$62:$Y$116,$C$62:$C$116,Таблица1[[#This Row],[Дл]],$D$62:$D$116,\"=500\",$F$62:$F$116,Таблица1[[#This Row],[АСТРА]])","v":0},{"$f":"SUMIFS($Y$62:$Y$116,$C$62:$C$116,\"<\"&Таблица1[[#This Row],[Дл]],$D$62:$D$116,\"=500\",$F$62:$F$116,Таблица1[[#This Row],[АСТРА]])","v":0},5,{"$f":"IF(Таблица1[[#This Row],[профиль]]=Таблица1[[#This Row],[толщ]],CONCATENATE(Таблица1[[#This Row],[Столбец33]],\" \",Таблица1[[#This Row],[толщ]]),CONCATENATE(Таблица1[[#This Row],[Столбец33]],\" \",Таблица1[[#This Row],[профиль]],\"х\",Таблица1[[#This Row],[толщ]]))","v":"Труба 17х17х2"},{"$f":"CONCATENATE(Таблица1[[#This Row],[Столбец33]],\" \",Таблица1[[#This Row],[профиль]])","v":"Труба 17х17"},"Труба 17х17, 2.0 мм, тр1717","Труба",{"$f":"IF(Таблица1[[#This Row],[профиль]]=Таблица1[[#This Row],[толщ]],Таблица1[[#This Row],[толщ]],CONCATENATE(Таблица1[[#This Row],[профиль]],\"х\",Таблица1[[#This Row],[точка]]))","v":"17х17х2"},"17х17",2,{"$f":"SUBSTITUTE(Таблица1[[#This Row],[толщ]],\",\",\".\")","v":"2"},1.78,{"$f":"SUMIFS($U$8:$U$57,$K$8:$K$57,Таблица1[[#This Row],[ГОСТ]])","v":0}]
[{"$f":"IF(Таблица1[[#This Row],[Столбец19]]=0,\"z\",\"\")","v":"z"},null,null,6000,null,{"$f":"SUMIFS($G$62:$G$116,$D$62:$D$116,500,$C$62:$C$116,Таблица1[[#This Row],[Дл]],$F$62:$F$116,Таблица1[[#This Row],[АСТРА]])","v":0},{"$f":"Таблица1[[#This Row],[толщ]]","v":0.6},{"$f":"Таблица1[[#This Row],[ГОСТ]]","v":"Труба 20х0,6"},{"$f":"SUMIFS($N$62:$N$116,$C$62:$C$116,Таблица1[[#This Row],[Дл]],$D$62:$D$116,\"=500\",$F$62:$F$116,Таблица1[[#This Row],[АСТРА]])","v":0},{"$f":"SUMIFS($N$62:$N$116,$C$62:$C$116,\"<\"&Таблица1[[#This Row],[Дл]],$D$62:$D$116,\"=500\",$F$62:$F$116,Таблица1[[#This Row],[АСТРА]])","v":0},null,null,{"$f":"SUMIFS($J$8:$J$57,$K$8:$K$57,Таблица1[[#This Row],[Столбец5]])","v":0},{"$f":"Таблица1[[#This Row],[пол.мас.цел]]+Таблица1[[#This Row],[пол.мас.дел]]","v":0},{"$f":"SUMIFS($Q$62:$Q$116,$C$62:$C$116,Таблица1[[#This Row],[Дл]],$D$62:$D$116,\"=500\",$F$62:$F$116,Таблица1[[#This Row],[АСТРА]])","v":0},{"$f":"SUMIFS($Q$62:$Q$116,$C$62:$C$116,\"<\"&Таблица1[[#This Row],[Дл]],$D$62:$D$116,\"=500\",$F$62:$F$116,Таблица1[[#This Row],[АСТРА]])","v":0},{"$f":"Таблица1[[#This Row],[ост.с.цел]]+Таблица1[[#This Row],[ост.с.дел]]","v":0},{"$f":"Таблица1[[#This Row],[лом.целых]]+Таблица1[[#This Row],[лом.делов]]-Таблица1[[#This Row],[лом.на.пор.]]","v":0},{"$f":"Таблица1[[#This Row],[лом]]+Таблица1[[#This Row],[корр.масс]]","v":0},{"$f":"SUMIFS($T$62:$T$116,$C$62:$C$116,Таблица1[[#This Row],[Дл]],$D$62:$D$116,\"=500\",$F$62:$F$116,Таблица1[[#This Row],[АСТРА]])","v":0},{"$f":"SUMIFS($T$62:$T$116,$C$62:$C$116,\"<\"&Таблица1[[#This Row],[Дл]],$D$62:$D$116,\"=500\",$F$62:$F$116,Таблица1[[#This Row],[АСТРА]])","v":0},{"$f":"Таблица1[[#This Row],[Столбец17]]+Таблица1[[#This Row],[Столбец18]]+Таблица1[[#This Row],[лом.на.пор.]]","v":0},{"$f":"Таблица1[[#This Row],[Столбец19]]-Таблица1[[#This Row],[корр.масс]]","v":0},null,{"$f":"SUMIFS($X$62:$X$116,$C$62:$C$116,Таблица1[[#This Row],[Дл]],$D$62:$D$116,\"=500\",$F$62:$F$116,Таблица1[[#This Row],[АСТРА]])","v":0},{"$f":"SUMIFS($X$62:$X$116,$C$62:$C$116,\"<\"&Таблица1[[#This Row],[Дл]],$D$62:$D$116,\"=500\",$F$62:$F$116,Таблица1[[#This Row],[АСТРА]])","v":0},{"$f":"Таблица1[[#This Row],[Столбец23]]+Таблица1[[#This Row],[Столбец24]]","v":0},{"$f":"Таблица1[[#This Row],[лом.целых]]+Таблица1[[#This Row],[лом.делов]]-Таблица1[[#This Row],[лом.на.пор.]]","v":0},{"$f":"IF(Таблица1[[#This Row],[резы]]*Таблица1[[#This Row],[шир.рез]]/1000*Таблица1[[#This Row],[коэф]]/2<0,0,Таблица1[[#This Row],[резы]]*Таблица1[[#This Row],[шир.рез]]/1000*Таблица1[[#This Row],[коэф]]/2)","v":0},{"$f":"SUMIFS($Y$62:$Y$116,$C$62:$C$116,Таблица1[[#This Row],[Дл]],$D$62:$D$116,\"=500\",$F$62:$F$116,Таблица1[[#This Row],[АСТРА]])","v":0},{"$f":"SUMIFS($Y$62:$Y$116,$C$62:$C$116,\"<\"&Таблица1[[#This Row],[Дл]],$D$62:$D$116,\"=500\",$F$62:$F$116,Таблица1[[#This Row],[АСТРА]])","v":0},5,{"$f":"IF(Таблица1[[#This Row],[профиль]]=Таблица1[[#This Row],[толщ]],CONCATENATE(Таблица1[[#This Row],[Столбец33]],\" \",Таблица1[[#This Row],[толщ]]),CONCATENATE(Таблица1[[#This Row],[Столбец33]],\" \",Таблица1[[#This Row],[профиль]],\"х\",Таблица1[[#This Row],[толщ]]))","v":"Труба 20х0,6"},{"$f":"CONCATENATE(Таблица1[[#This Row],[Столбец33]],\" \",Таблица1[[#This Row],[профиль]])","v":"Труба 20"},"Труба 20, 0.6 мм, тр20","Труба",{"$f":"IF(Таблица1[[#This Row],[профиль]]=Таблица1[[#This Row],[толщ]],Таблица1[[#This Row],[толщ]],CONCATENATE(Таблица1[[#This Row],[профиль]],\"х\",Таблица1[[#This Row],[точка]]))","v":"20х0.6"},20,0.6,{"$f":"SUBSTITUTE(Таблица1[[#This Row],[толщ]],\",\",\".\")","v":"0.6"},0.56999999999999995,{"$f":"SUMIFS($U$8:$U$57,$K$8:$K$57,Таблица1[[#This Row],[ГОСТ]])","v":0}]
[{"$f":"IF(Таблица1[[#This Row],[Столбец19]]=0,\"z\",\"\")","v":"z"},null,null,6000,null,{"$f":"SUMIFS($G$62:$G$116,$D$62:$D$116,500,$C$62:$C$116,Таблица1[[#This Row],[Дл]],$F$62:$F$116,Таблица1[[#This Row],[АСТРА]])","v":0},{"$f":"Таблица1[[#This Row],[толщ]]","v":1},{"$f":"Таблица1[[#This Row],[ГОСТ]]","v":"Труба 20х1"},{"$f":"SUMIFS($N$62:$N$116,$C$62:$C$116,Таблица1[[#This Row],[Дл]],$D$62:$D$116,\"=500\",$F$62:$F$116,Таблица1[[#This Row],[АСТРА]])","v":0},{"$f":"SUMIFS($N$62:$N$116,$C$62:$C$116,\"<\"&Таблица1[[#This Row],[Дл]],$D$62:$D$116,\"=500\",$F$62:$F$116,Таблица1[[#This Row],[АСТРА]])","v":0},null,null,{"$f":"SUMIFS($J$8:$J$57,$K$8:$K$57,Таблица1[[#This Row],[Столбец5]])","v":0},{"$f":"Таблица1[[#This Row],[пол.мас.цел]]+Таблица1[[#This Row],[пол.мас.дел]]","v":0},{"$f":"SUMIFS($Q$62:$Q$116,$C$62:$C$116,Таблица1[[#This Row],[Дл]],$D$62:$D$116,\"=500\",$F$62:$F$116,Таблица1[[#This Row],[АСТРА]])","v":0},{"$f":"SUMIFS($Q$62:$Q$116,$C$62:$C$116,\"<\"&Таблица1[[#This Row],[Дл]],$D$62:$D$116,\"=500\",$F$62:$F$116,Таблица1[[#This Row],[АСТРА]])","v":0},{"$f":"Таблица1[[#This Row],[ост.с.цел]]+Таблица1[[#This Row],[ост.с.дел]]","v":0},{"$f":"Таблица1[[#This Row],[лом.целых]]+Таблица1[[#This Row],[лом.делов]]-Таблица1[[#This Row],[лом.на.пор.]]","v":0},{"$f":"Таблица1[[#This Row],[лом]]+Таблица1[[#This Row],[корр.масс]]","v":0},{"$f":"SUMIFS($T$62:$T$116,$C$62:$C$116,Таблица1[[#This Row],[Дл]],$D$62:$D$116,\"=500\",$F$62:$F$116,Таблица1[[#This Row],[АСТРА]])","v":0},{"$f":"SUMIFS($T$62:$T$116,$C$62:$C$116,\"<\"&Таблица1[[#This Row],[Дл]],$D$62:$D$116,\"=500\",$F$62:$F$116,Таблица1[[#This Row],[АСТРА]])","v":0},{"$f":"Таблица1[[#This Row],[Столбец17]]+Таблица1[[#This Row],[Столбец18]]+Таблица1[[#This Row],[лом.на.пор.]]","v":0},{"$f":"Таблица1[[#This Row],[Столбец19]]-Таблица1[[#This Row],[корр.масс]]","v":0},null,{"$f":"SUMIFS($X$62:$X$116,$C$62:$C$116,Таблица1[[#This Row],[Дл]],$D$62:$D$116,\"=500\",$F$62:$F$116,Таблица1[[#This Row],[АСТРА]])","v":0},{"$f":"SUMIFS($X$62:$X$116,$C$62:$C$116,\"<\"&Таблица1[[#This Row],[Дл]],$D$62:$D$116,\"=500\",$F$62:$F$116,Таблица1[[#This Row],[АСТРА]])","v":0},{"$f":"Таблица1[[#This Row],[Столбец23]]+Таблица1[[#This Row],[Столбец24]]","v":0},{"$f":"Таблица1[[#This Row],[лом.целых]]+Таблица1[[#This Row],[лом.делов]]-Таблица1[[#This Row],[лом.на.пор.]]","v":0},{"$f":"IF(Таблица1[[#This Row],[резы]]*Таблица1[[#This Row],[шир.рез]]/1000*Таблица1[[#This Row],[коэф]]/2<0,0,Таблица1[[#This Row],[резы]]*Таблица1[[#This Row],[шир.рез]]/1000*Таблица1[[#This Row],[коэф]]/2)","v":0},{"$f":"SUMIFS($Y$62:$Y$116,$C$62:$C$116,Таблица1[[#This Row],[Дл]],$D$62:$D$116,\"=500\",$F$62:$F$116,Таблица1[[#This Row],[АСТРА]])","v":0},{"$f":"SUMIFS($Y$62:$Y$116,$C$62:$C$116,\"<\"&Таблица1[[#This Row],[Дл]],$D$62:$D$116,\"=500\",$F$62:$F$116,Таблица1[[#This Row],[АСТРА]])","v":0},5,{"$f":"IF(Таблица1[[#This Row],[профиль]]=Таблица1[[#This Row],[толщ]],CONCATENATE(Таблица1[[#This Row],[Столбец33]],\" \",Таблица1[[#This Row],[толщ]]),CONCATENATE(Таблица1[[#This Row],[Столбец33]],\" \",Таблица1[[#This Row],[профиль]],\"х\",Таблица1[[#This Row],[толщ]]))","v":"Труба 20х1"},{"$f":"CONCATENATE(Таблица1[[#This Row],[Столбец33]],\" \",Таблица1[[#This Row],[профиль]])","v":"Труба 20"},"Труба 20, 1.0 мм, тр20","Труба",{"$f":"IF(Таблица1[[#This Row],[профиль]]=Таблица1[[#This Row],[толщ]],Таблица1[[#This Row],[толщ]],CONCATENATE(Таблица1[[#This Row],[профиль]],\"х\",Таблица1[[#This Row],[точка]]))","v":"20х1"},20,1,{"$f":"SUBSTITUTE(Таблица1[[#This Row],[толщ]],\",\",\".\")","v":"1"},0.94,{"$f":"SUMIFS($U$8:$U$57,$K$8:$K$57,Таблица1[[#This Row],[ГОСТ]])","v":0}]
[{"$f":"IF(Таблица1[[#This Row],[Столбец19]]=0,\"z\",\"\")","v":"z"},null,null,6000,null,{"$f":"SUMIFS($G$62:$G$116,$D$62:$D$116,500,$C$62:$C$116,Таблица1[[#This Row],[Дл]],$F$62:$F$116,Таблица1[[#This Row],[АСТРА]])","v":0},{"$f":"Таблица1[[#This Row],[толщ]]","v":1.5},{"$f":"Таблица1[[#This Row],[ГОСТ]]","v":"Труба 20х1,5"},{"$f":"SUMIFS($N$62:$N$116,$C$62:$C$116,Таблица1[[#This Row],[Дл]],$D$62:$D$116,\"=500\",$F$62:$F$116,Таблица1[[#This Row],[АСТРА]])","v":0},{"$f":"SUMIFS($N$62:$N$116,$C$62:$C$116,\"<\"&Таблица1[[#This Row],[Дл]],$D$62:$D$116,\"=500\",$F$62:$F$116,Таблица1[[#This Row],[АСТРА]])","v":0},null,null,{"$f":"SUMIFS($J$8:$J$57,$K$8:$K$57,Таблица1[[#This Row],[Столбец5]])","v":0},{"$f":"Таблица1[[#This Row],[пол.мас.цел]]+Таблица1[[#This Row],[пол.мас.дел]]","v":0},{"$f":"SUMIFS($Q$62:$Q$116,$C$62:$C$116,Таблица1[[#This Row],[Дл]],$D$62:$D$116,\"=500\",$F$62:$F$116,Таблица1[[#This Row],[АСТРА]])","v":0},{"$f":"SUMIFS($Q$62:$Q$116,$C$62:$C$116,\"<\"&Таблица1[[#This Row],[Дл]],$D$62:$D$116,\"=500\",$F$62:$F$116,Таблица1[[#This Row],[АСТРА]])","v":0},{"$f":"Таблица1[[#This Row],[ост.с.цел]]+Таблица1[[#This Row],[ост.с.дел]]","v":0},{"$f":"Таблица1[[#This Row],[лом.целых]]+Таблица1[[#This Row],[лом.делов]]-Таблица1[[#This Row],[лом.на.пор.]]","v":0},{"$f":"Таблица1[[#This Row],[лом]]+Таблица1[[#This Row],[корр.масс]]","v":0},{"$f":"SUMIFS($T$62:$T$116,$C$62:$C$116,Таблица1[[#This Row],[Дл]],$D$62:$D$116,\"=500\",$F$62:$F$116,Таблица1[[#This Row],[АСТРА]])","v":0},{"$f":"SUMIFS($T$62:$T$116,$C$62:$C$116,\"<\"&Таблица1[[#This Row],[Дл]],$D$62:$D$116,\"=500\",$F$62:$F$116,Таблица1[[#This Row],[АСТРА]])","v":0},{"$f":"Таблица1[[#This Row],[Столбец17]]+Таблица1[[#This Row],[Столбец18]]+Таблица1[[#This Row],[лом.на.пор.]]","v":0},{"$f":"Таблица1[[#This Row],[Столбец19]]-Таблица1[[#This Row],[корр.масс]]","v":0},null,{"$f":"SUMIFS($X$62:$X$116,$C$62:$C$116,Таблица1[[#This Row],[Дл]],$D$62:$D$116,\"=500\",$F$62:$F$116,Таблица1[[#This Row],[АСТРА]])","v":0},{"$f":"SUMIFS($X$62:$X$116,$C$62:$C$116,\"<\"&Таблица1[[#This Row],[Дл]],$D$62:$D$116,\"=500\",$F$62:$F$116,Таблица1[[#This Row],[АСТРА]])","v":0},{"$f":"Таблица1[[#This Row],[Столбец23]]+Таблица1[[#This Row],[Столбец24]]","v":0},{"$f":"Таблица1[[#This Row],[лом.целых]]+Таблица1[[#This Row],[лом.делов]]-Таблица1[[#This Row],[лом.на.пор.]]","v":0},{"$f":"IF(Таблица1[[#This Row],[резы]]*Таблица1[[#This Row],[шир.рез]]/1000*Таблица1[[#This Row],[коэф]]/2<0,0,Таблица1[[#This Row],[резы]]*Таблица1[[#This Row],[шир.рез]]/1000*Таблица1[[#This Row],[коэф]]/2)","v":0},{"$f":"SUMIFS($Y$62:$Y$116,$C$62:$C$116,Таблица1[[#This Row],[Дл]],$D$62:$D$116,\"=500\",$F$62:$F$116,Таблица1[[#This Row],[АСТРА]])","v":0},{"$f":"SUMIFS($Y$62:$Y$116,$C$62:$C$116,\"<\"&Таблица1[[#This Row],[Дл]],$D$62:$D$116,\"=500\",$F$62:$F$116,Таблица1[[#This Row],[АСТРА]])","v":0},5,{"$f":"IF(Таблица1[[#This Row],[профиль]]=Таблица1[[#This Row],[толщ]],CONCATENATE(Таблица1[[#This Row],[Столбец33]],\" \",Таблица1[[#This Row],[толщ]]),CONCATENATE(Таблица1[[#This Row],[Столбец33]],\" \",Таблица1[[#This Row],[профиль]],\"х\",Таблица1[[#This Row],[толщ]]))","v":"Труба 20х1,5"},{"$f":"CONCATENATE(Таблица1[[#This Row],[Столбец33]],\" \",Таблица1[[#This Row],[профиль]])","v":"Труба 20"},"Труба 20, 1.5 мм, тр20","Труба",{"$f":"IF(Таблица1[[#This Row],[профиль]]=Таблица1[[#This Row],[толщ]],Таблица1[[#This Row],[толщ]],CONCATENATE(Таблица1[[#This Row],[профиль]],\"х\",Таблица1[[#This Row],[точка]]))","v":"20х1.5"},20,1.5,{"$f":"SUBSTITUTE(Таблица1[[#This Row],[толщ]],\",\",\".\")","v":"1.5"},1.37,{"$f":"SUMIFS($U$8:$U$57,$K$8:$K$57,Таблица1[[#This Row],[ГОСТ]])","v":0}]
[{"$f":"IF(Таблица1[[#This Row],[Столбец19]]=0,\"z\",\"\")","v":"z"},null,null,6000,null,{"$f":"SUMIFS($G$62:$G$116,$D$62:$D$116,500,$C$62:$C$116,Таблица1[[#This Row],[Дл]],$F$62:$F$116,Таблица1[[#This Row],[АСТРА]])","v":0},{"$f":"Таблица1[[#This Row],[толщ]]","v":1.2},{"$f":"Таблица1[[#This Row],[ГОСТ]]","v":"Труба 20х10х1,2"},{"$f":"SUMIFS($N$62:$N$116,$C$62:$C$116,Таблица1[[#This Row],[Дл]],$D$62:$D$116,\"=500\",$F$62:$F$116,Таблица1[[#This Row],[АСТРА]])","v":0},{"$f":"SUMIFS($N$62:$N$116,$C$62:$C$116,\"<\"&Таблица1[[#This Row],[Дл]],$D$62:$D$116,\"=500\",$F$62:$F$116,Таблица1[[#This Row],[АСТРА]])","v":0},null,null,{"$f":"SUMIFS($J$8:$J$57,$K$8:$K$57,Таблица1[[#This Row],[Столбец5]])","v":0},{"$f":"Таблица1[[#This Row],[пол.мас.цел]]+Таблица1[[#This Row],[пол.мас.дел]]","v":0},{"$f":"SUMIFS($Q$62:$Q$116,$C$62:$C$116,Таблица1[[#This Row],[Дл]],$D$62:$D$116,\"=500\",$F$62:$F$116,Таблица1[[#This Row],[АСТРА]])","v":0},{"$f":"SUMIFS($Q$62:$Q$116,$C$62:$C$116,\"<\"&Таблица1[[#This Row],[Дл]],$D$62:$D$116,\"=500\",$F$62:$F$116,Таблица1[[#This Row],[АСТРА]])","v":0},{"$f":"Таблица1[[#This Row],[ост.с.цел]]+Таблица1[[#This Row],[ост.с.дел]]","v":0},{"$f":"Таблица1[[#This Row],[лом.целых]]+Таблица1[[#This Row],[лом.делов]]-Таблица1[[#This Row],[лом.на.пор.]]","v":0},{"$f":"Таблица1[[#This Row],[лом]]+Таблица1[[#This Row],[корр.масс]]","v":0},{"$f":"SUMIFS($T$62:$T$116,$C$62:$C$116,Таблица1[[#This Row],[Дл]],$D$62:$D$116,\"=500\",$F$62:$F$116,Таблица1[[#This Row],[АСТРА]])","v":0},{"$f":"SUMIFS($T$62:$T$116,$C$62:$C$116,\"<\"&Таблица1[[#This Row],[Дл]],$D$62:$D$116,\"=500\",$F$62:$F$116,Таблица1[[#This Row],[АСТРА]])","v":0},{"$f":"Таблица1[[#This Row],[Столбец17]]+Таблица1[[#This Row],[Столбец18]]+Таблица1[[#This Row],[лом.на.пор.]]","v":0},{"$f":"Таблица1[[#This Row],[Столбец19]]-Таблица1[[#This Row],[корр.масс]]","v":0},null,{"$f":"SUMIFS($X$62:$X$116,$C$62:$C$116,Таблица1[[#This Row],[Дл]],$D$62:$D$116,\"=500\",$F$62:$F$116,Таблица1[[#This Row],[АСТРА]])","v":0},{"$f":"SUMIFS($X$62:$X$116,$C$62:$C$116,\"<\"&Таблица1[[#This Row],[Дл]],$D$62:$D$116,\"=500\",$F$62:$F$116,Таблица1[[#This Row],[АСТРА]])","v":0},{"$f":"Таблица1[[#This Row],[Столбец23]]+Таблица1[[#This Row],[Столбец24]]","v":0},{"$f":"Таблица1[[#This Row],[лом.целых]]+Таблица1[[#This Row],[лом.делов]]-Таблица1[[#This Row],[лом.на.пор.]]","v":0},{"$f":"IF(Таблица1[[#This Row],[резы]]*Таблица1[[#This Row],[шир.рез]]/1000*Таблица1[[#This Row],[коэф]]/2<0,0,Таблица1[[#This Row],[резы]]*Таблица1[[#This Row],[шир.рез]]/1000*Таблица1[[#This Row],[коэф]]/2)","v":0},{"$f":"SUMIFS($Y$62:$Y$116,$C$62:$C$116,Таблица1[[#This Row],[Дл]],$D$62:$D$116,\"=500\",$F$62:$F$116,Таблица1[[#This Row],[АСТРА]])","v":0},{"$f":"SUMIFS($Y$62:$Y$116,$C$62:$C$116,\"<\"&Таблица1[[#This Row],[Дл]],$D$62:$D$116,\"=500\",$F$62:$F$116,Таблица1[[#This Row],[АСТРА]])","v":0},5,{"$f":"IF(Таблица1[[#This Row],[профиль]]=Таблица1[[#This Row],[толщ]],CONCATENATE(Таблица1[[#This Row],[Столбец33]],\" \",Таблица1[[#This Row],[толщ]]),CONCATENATE(Таблица1[[#This Row],[Столбец33]],\" \",Таблица1[[#This Row],[профиль]],\"х\",Таблица1[[#This Row],[толщ]]))","v":"Труба 20х10х1,2"},{"$f":"CONCATENATE(Таблица1[[#This Row],[Столбец33]],\" \",Таблица1[[#This Row],[профиль]])","v":"Труба 20х10"},"Труба 20х10, 1.2 мм, тр1020","Труба",{"$f":"IF(Таблица1[[#This Row],[профиль]]=Таблица1[[#This Row],[толщ]],Таблица1[[#This Row],[толщ]],CONCATENATE(Таблица1[[#This Row],[профиль]],\"х\",Таблица1[[#This Row],[точка]]))","v":"20х10х1.2"},"20х10",1.2,{"$f":"SUBSTITUTE(Таблица1[[#This Row],[толщ]],\",\",\".\")","v":"1.2"},1,{"$f":"SUMIFS($U$8:$U$57,$K$8:$K$57,Таблица1[[#This Row],[ГОСТ]])","v":0}]
[{"$f":"IF(Таблица1[[#This Row],[Столбец19]]=0,\"z\",\"\")","v":"z"},null,null,6000,null,{"$f":"SUMIFS($G$62:$G$116,$D$62:$D$116,500,$C$62:$C$116,Таблица1[[#This Row],[Дл]],$F$62:$F$116,Таблица1[[#This Row],[АСТРА]])","v":0},{"$f":"Таблица1[[#This Row],[толщ]]","v":1.5},{"$f":"Таблица1[[#This Row],[ГОСТ]]","v":"Труба 20х10х1,5"},{"$f":"SUMIFS($N$62:$N$116,$C$62:$C$116,Таблица1[[#This Row],[Дл]],$D$62:$D$116,\"=500\",$F$62:$F$116,Таблица1[[#This Row],[АСТРА]])","v":0},{"$f":"SUMIFS($N$62:$N$116,$C$62:$C$116,\"<\"&Таблица1[[#This Row],[Дл]],$D$62:$D$116,\"=500\",$F$62:$F$116,Таблица1[[#This Row],[АСТРА]])","v":0},null,null,{"$f":"SUMIFS($J$8:$J$57,$K$8:$K$57,Таблица1[[#This Row],[Столбец5]])","v":0},{"$f":"Таблица1[[#This Row],[пол.мас.цел]]+Таблица1[[#This Row],[пол.мас.дел]]","v":0},{"$f":"SUMIFS($Q$62:$Q$116,$C$62:$C$116,Таблица1[[#This Row],[Дл]],$D$62:$D$116,\"=500\",$F$62:$F$116,Таблица1[[#This Row],[АСТРА]])","v":0},{"$f":"SUMIFS($Q$62:$Q$116,$C$62:$C$116,\"<\"&Таблица1[[#This Row],[Дл]],$D$62:$D$116,\"=500\",$F$62:$F$116,Таблица1[[#This Row],[АСТРА]])","v":0},{"$f":"Таблица1[[#This Row],[ост.с.цел]]+Таблица1[[#This Row],[ост.с.дел]]","v":0},{"$f":"Таблица1[[#This Row],[лом.целых]]+Таблица1[[#This Row],[лом.делов]]-Таблица1[[#This Row],[лом.на.пор.]]","v":0},{"$f":"Таблица1[[#This Row],[лом]]+Таблица1[[#This Row],[корр.масс]]","v":0},{"$f":"SUMIFS($T$62:$T$116,$C$62:$C$116,Таблица1[[#This Row],[Дл]],$D$62:$D$116,\"=500\",$F$62:$F$116,Таблица1[[#This Row],[АСТРА]])","v":0},{"$f":"SUMIFS($T$62:$T$116,$C$62:$C$116,\"<\"&Таблица1[[#This Row],[Дл]],$D$62:$D$116,\"=500\",$F$62:$F$116,Таблица1[[#This Row],[АСТРА]])","v":0},{"$f":"Таблица1[[#This Row],[Столбец17]]+Таблица1[[#This Row],[Столбец18]]+Таблица1[[#This Row],[лом.на.пор.]]","v":0},{"$f":"Таблица1[[#This Row],[Столбец19]]-Таблица1[[#This Row],[корр.масс]]","v":0},null,{"$f":"SUMIFS($X$62:$X$116,$C$62:$C$116,Таблица1[[#This Row],[Дл]],$D$62:$D$116,\"=500\",$F$62:$F$116,Таблица1[[#This Row],[АСТРА]])","v":0},{"$f":"SUMIFS($X$62:$X$116,$C$62:$C$116,\"<\"&Таблица1[[#This Row],[Дл]],$D$62:$D$116,\"=500\",$F$62:$F$116,Таблица1[[#This Row],[АСТРА]])","v":0},{"$f":"Таблица1[[#This Row],[Столбец23]]+Таблица1[[#This Row],[Столбец24]]","v":0},{"$f":"Таблица1[[#This Row],[лом.целых]]+Таблица1[[#This Row],[лом.делов]]-Таблица1[[#This Row],[лом.на.пор.]]","v":0},{"$f":"IF(Таблица1[[#This Row],[резы]]*Таблица1[[#This Row],[шир.рез]]/1000*Таблица1[[#This Row],[коэф]]/2<0,0,Таблица1[[#This Row],[резы]]*Таблица1[[#This Row],[шир.рез]]/1000*Таблица1[[#This Row],[коэф]]/2)","v":0},{"$f":"SUMIFS($Y$62:$Y$116,$C$62:$C$116,Таблица1[[#This Row],[Дл]],$D$62:$D$116,\"=500\",$F$62:$F$116,Таблица1[[#This Row],[АСТРА]])","v":0},{"$f":"SUMIFS($Y$62:$Y$116,$C$62:$C$116,\"<\"&Таблица1[[#This Row],[Дл]],$D$62:$D$116,\"=500\",$F$62:$F$116,Таблица1[[#This Row],[АСТРА]])","v":0},5,{"$f":"IF(Таблица1[[#This Row],[профиль]]=Таблица1[[#This Row],[толщ]],CONCATENATE(Таблица1[[#This Row],[Столбец33]],\" \",Таблица1[[#This Row],[толщ]]),CONCATENATE(Таблица1[[#This Row],[Столбец33]],\" \",Таблица1[[#This Row],[профиль]],\"х\",Таблица1[[#This Row],[толщ]]))","v":"Труба 20х10х1,5"},{"$f":"CONCATENATE(Таблица1[[#This Row],[Столбец33]],\" \",Таблица1[[#This Row],[профиль]])","v":"Труба 20х10"},"Труба 20х10, 1.5 мм, тр1020","Труба",{"$f":"IF(Таблица1[[#This Row],[профиль]]=Таблица1[[#This Row],[толщ]],Таблица1[[#This Row],[толщ]],CONCATENATE(Таблица1[[#This Row],[профиль]],\"х\",Таблица1[[#This Row],[точка]]))","v":"20х10х1.5"},"20х10",1.5,{"$f":"SUBSTITUTE(Таблица1[[#This Row],[толщ]],\",\",\".\")","v":"1.5"},1.21,{"$f":"SUMIFS($U$8:$U$57,$K$8:$K$57,Таблица1[[#This Row],[ГОСТ]])","v":0}]
[{"$f":"IF(Таблица1[[#This Row],[Столбец19]]=0,\"z\",\"\")","v":"z"},null,null,6000,null,{"$f":"SUMIFS($G$62:$G$116,$D$62:$D$116,500,$C$62:$C$116,Таблица1[[#This Row],[Дл]],$F$62:$F$116,Таблица1[[#This Row],[АСТРА]])","v":0},{"$f":"Таблица1[[#This Row],[толщ]]","v":2},{"$f":"Таблица1[[#This Row],[ГОСТ]]","v":"Труба 20х2"},{"$f":"SUMIFS($N$62:$N$116,$C$62:$C$116,Таблица1[[#This Row],[Дл]],$D$62:$D$116,\"=500\",$F$62:$F$116,Таблица1[[#This Row],[АСТРА]])","v":0},{"$f":"SUMIFS($N$62:$N$116,$C$62:$C$116,\"<\"&Таблица1[[#This Row],[Дл]],$D$62:$D$116,\"=500\",$F$62:$F$116,Таблица1[[#This Row],[АСТРА]])","v":0},null,null,{"$f":"SUMIFS($J$8:$J$57,$K$8:$K$57,Таблица1[[#This Row],[Столбец5]])","v":0},{"$f":"Таблица1[[#This Row],[пол.мас.цел]]+Таблица1[[#This Row],[пол.мас.дел]]","v":0},{"$f":"SUMIFS($Q$62:$Q$116,$C$62:$C$116,Таблица1[[#This Row],[Дл]],$D$62:$D$116,\"=500\",$F$62:$F$116,Таблица1[[#This Row],[АСТРА]])","v":0},{"$f":"SUMIFS($Q$62:$Q$116,$C$62:$C$116,\"<\"&Таблица1[[#This Row],[Дл]],$D$62:$D$116,\"=500\",$F$62:$F$116,Таблица1[[#This Row],[АСТРА]])","v":0},{"$f":"Таблица1[[#This Row],[ост.с.цел]]+Таблица1[[#This Row],[ост.с.дел]]","v":0},{"$f":"Таблица1[[#This Row],[лом.целых]]+Таблица1[[#This Row],[лом.делов]]-Таблица1[[#This Row],[лом.на.пор.]]","v":0},{"$f":"Таблица1[[#This Row],[лом]]+Таблица1[[#This Row],[корр.масс]]","v":0},{"$f":"SUMIFS($T$62:$T$116,$C$62:$C$116,Таблица1[[#This Row],[Дл]],$D$62:$D$116,\"=500\",$F$62:$F$116,Таблица1[[#This Row],[АСТРА]])","v":0},{"$f":"SUMIFS($T$62:$T$116,$C$62:$C$116,\"<\"&Таблица1[[#This Row],[Дл]],$D$62:$D$116,\"=500\",$F$62:$F$116,Таблица1[[#This Row],[АСТРА]])","v":0},{"$f":"Таблица1[[#This Row],[Столбец17]]+Таблица1[[#This Row],[Столбец18]]+Таблица1[[#This Row],[лом.на.пор.]]","v":0},{"$f":"Таблица1[[#This Row],[Столбец19]]-Таблица1[[#This Row],[корр.масс]]","v":0},null,{"$f":"SUMIFS($X$62:$X$116,$C$62:$C$116,Таблица1[[#This Row],[Дл]],$D$62:$D$116,\"=500\",$F$62:$F$116,Таблица1[[#This Row],[АСТРА]])","v":0},{"$f":"SUMIFS($X$62:$X$116,$C$62:$C$116,\"<\"&Таблица1[[#This Row],[Дл]],$D$62:$D$116,\"=500\",$F$62:$F$116,Таблица1[[#This Row],[АСТРА]])","v":0},{"$f":"Таблица1[[#This Row],[Столбец23]]+Таблица1[[#This Row],[Столбец24]]","v":0},{"$f":"Таблица1[[#This Row],[лом.целых]]+Таблица1[[#This Row],[лом.делов]]-Таблица1[[#This Row],[лом.на.пор.]]","v":0},{"$f":"IF(Таблица1[[#This Row],[резы]]*Таблица1[[#This Row],[шир.рез]]/1000*Таблица1[[#This Row],[коэф]]/2<0,0,Таблица1[[#This Row],[резы]]*Таблица1[[#This Row],[шир.рез]]/1000*Таблица1[[#This Row],[коэф]]/2)","v":0},{"$f":"SUMIFS($Y$62:$Y$116,$C$62:$C$116,Таблица1[[#This Row],[Дл]],$D$62:$D$116,\"=500\",$F$62:$F$116,Таблица1[[#This Row],[АСТРА]])","v":0},{"$f":"SUMIFS($Y$62:$Y$116,$C$62:$C$116,\"<\"&Таблица1[[#This Row],[Дл]],$D$62:$D$116,\"=500\",$F$62:$F$116,Таблица1[[#This Row],[АСТРА]])","v":0},5,{"$f":"IF(Таблица1[[#This Row],[профиль]]=Таблица1[[#This Row],[толщ]],CONCATENATE(Таблица1[[#This Row],[Столбец33]],\" \",Таблица1[[#This Row],[толщ]]),CONCATENATE(Таблица1[[#This Row],[Столбец33]],\" \",Таблица1[[#This Row],[профиль]],\"х\",Таблица1[[#This Row],[толщ]]))","v":"Труба 20х2"},{"$f":"CONCATENATE(Таблица1[[#This Row],[Столбец33]],\" \",Таблица1[[#This Row],[профиль]])","v":"Труба 20"},"Труба 20, 2.0 мм, тр20","Труба",{"$f":"IF(Таблица1[[#This Row],[профиль]]=Таблица1[[#This Row],[толщ]],Таблица1[[#This Row],[толщ]],CONCATENATE(Таблица1[[#This Row],[профиль]],\"х\",Таблица1[[#This Row],[точка]]))","v":"20х2"},20,2,{"$f":"SUBSTITUTE(Таблица1[[#This Row],[толщ]],\",\",\".\")","v":"2"},1.78,{"$f":"SUMIFS($U$8:$U$57,$K$8:$K$57,Таблица1[[#This Row],[ГОСТ]])","v":0}]
[{"$f":"IF(Таблица1[[#This Row],[Столбец19]]=0,\"z\",\"\")","v":"z"},null,null,6000,null,{"$f":"SUMIFS($G$62:$G$116,$D$62:$D$116,500,$C$62:$C$116,Таблица1[[#This Row],[Дл]],$F$62:$F$116,Таблица1[[#This Row],[АСТРА]])","v":0},{"$f":"Таблица1[[#This Row],[толщ]]","v":1},{"$f":"Таблица1[[#This Row],[ГОСТ]]","v":"Труба 20х20х1"},{"$f":"SUMIFS($N$62:$N$116,$C$62:$C$116,Таблица1[[#This Row],[Дл]],$D$62:$D$116,\"=500\",$F$62:$F$116,Таблица1[[#This Row],[АСТРА]])","v":0},{"$f":"SUMIFS($N$62:$N$116,$C$62:$C$116,\"<\"&Таблица1[[#This Row],[Дл]],$D$62:$D$116,\"=500\",$F$62:$F$116,Таблица1[[#This Row],[АСТРА]])","v":0},null,null,{"$f":"SUMIFS($J$8:$J$57,$K$8:$K$57,Таблица1[[#This Row],[Столбец5]])","v":0},{"$f":"Таблица1[[#This Row],[пол.мас.цел]]+Таблица1[[#This Row],[пол.мас.дел]]","v":0},{"$f":"SUMIFS($Q$62:$Q$116,$C$62:$C$116,Таблица1[[#This Row],[Дл]],$D$62:$D$116,\"=500\",$F$62:$F$116,Таблица1[[#This Row],[АСТРА]])","v":0},{"$f":"SUMIFS($Q$62:$Q$116,$C$62:$C$116,\"<\"&Таблица1[[#This Row],[Дл]],$D$62:$D$116,\"=500\",$F$62:$F$116,Таблица1[[#This Row],[АСТРА]])","v":0},{"$f":"Таблица1[[#This Row],[ост.с.цел]]+Таблица1[[#This Row],[ост.с.дел]]","v":0},{"$f":"Таблица1[[#This Row],[лом.целых]]+Таблица1[[#This Row],[лом.делов]]-Таблица1[[#This Row],[лом.на.пор.]]","v":0},{"$f":"Таблица1[[#This Row],[лом]]+Таблица1[[#This Row],[корр.масс]]","v":0},{"$f":"SUMIFS($T$62:$T$116,$C$62:$C$116,Таблица1[[#This Row],[Дл]],$D$62:$D$116,\"=500\",$F$62:$F$116,Таблица1[[#This Row],[АСТРА]])","v":0},{"$f":"SUMIFS($T$62:$T$116,$C$62:$C$116,\"<\"&Таблица1[[#This Row],[Дл]],$D$62:$D$116,\"=500\",$F$62:$F$116,Таблица1[[#This Row],[АСТРА]])","v":0},{"$f":"Таблица1[[#This Row],[Столбец17]]+Таблица1[[#This Row],[Столбец18]]+Таблица1[[#This Row],[лом.на.пор.]]","v":0},{"$f":"Таблица1[[#This Row],[Столбец19]]-Таблица1[[#This Row],[корр.масс]]","v":0},null,{"$f":"SUMIFS($X$62:$X$116,$C$62:$C$116,Таблица1[[#This Row],[Дл]],$D$62:$D$116,\"=500\",$F$62:$F$116,Таблица1[[#This Row],[АСТРА]])","v":0},{"$f":"SUMIFS($X$62:$X$116,$C$62:$C$116,\"<\"&Таблица1[[#This Row],[Дл]],$D$62:$D$116,\"=500\",$F$62:$F$116,Таблица1[[#This Row],[АСТРА]])","v":0},{"$f":"Таблица1[[#This Row],[Столбец23]]+Таблица1[[#This Row],[Столбец24]]","v":0},{"$f":"Таблица1[[#This Row],[лом.целых]]+Таблица1[[#This Row],[лом.делов]]-Таблица1[[#This Row],[лом.на.пор.]]","v":0},{"$f":"IF(Таблица1[[#This Row],[резы]]*Таблица1[[#This Row],[шир.рез]]/1000*Таблица1[[#This Row],[коэф]]/2<0,0,Таблица1[[#This Row],[резы]]*Таблица1[[#This Row],[шир.рез]]/1000*Таблица1[[#This Row],[коэф]]/2)","v":0},{"$f":"SUMIFS($Y$62:$Y$116,$C$62:$C$116,Таблица1[[#This Row],[Дл]],$D$62:$D$116,\"=500\",$F$62:$F$116,Таблица1[[#This Row],[АСТРА]])","v":0},{"$f":"SUMIFS($Y$62:$Y$116,$C$62:$C$116,\"<\"&Таблица1[[#This Row],[Дл]],$D$62:$D$116,\"=500\",$F$62:$F$116,Таблица1[[#This Row],[АСТРА]])","v":0},5,{"$f":"IF(Таблица1[[#This Row],[профиль]]=Таблица1[[#This Row],[толщ]],CONCATENATE(Таблица1[[#This Row],[Столбец33]],\" \",Таблица1[[#This Row],[толщ]]),CONCATENATE(Таблица1[[#This Row],[Столбец33]],\" \",Таблица1[[#This Row],[профиль]],\"х\",Таблица1[[#This Row],[толщ]]))","v":"Труба 20х20х1"},{"$f":"CONCATENATE(Таблица1[[#This Row],[Столбец33]],\" \",Таблица1[[#This Row],[профиль]])","v":"Труба 20х20"},"Труба 20х20, 1.0 мм, ТР2020","Труба",{"$f":"IF(Таблица1[[#This Row],[профиль]]=Таблица1[[#This Row],[толщ]],Таблица1[[#This Row],[толщ]],CONCATENATE(Таблица1[[#This Row],[профиль]],\"х\",Таблица1[[#This Row],[точка]]))","v":"20х20х1"},"20х20",1,{"$f":"SUBSTITUTE(Таблица1[[#This Row],[толщ]],\",\",\".\")","v":"1"},1.17,{"$f":"SUMIFS($U$8:$U$57,$K$8:$K$57,Таблица1[[#This Row],[ГОСТ]])","v":0}]
[{"$f":"IF(Таблица1[[#This Row],[Столбец19]]=0,\"z\",\"\")","v":"z"},null,null,6000,null,{"$f":"SUMIFS($G$62:$G$116,$D$62:$D$116,500,$C$62:$C$116,Таблица1[[#This Row],[Дл]],$F$62:$F$116,Таблица1[[#This Row],[АСТРА]])","v":0},{"$f":"Таблица1[[#This Row],[толщ]]","v":1.2},{"$f":"Таблица1[[#This Row],[ГОСТ]]","v":"Труба 20х20х1,2"},{"$f":"SUMIFS($N$62:$N$116,$C$62:$C$116,Таблица1[[#This Row],[Дл]],$D$62:$D$116,\"=500\",$F$62:$F$116,Таблица1[[#This Row],[АСТРА]])","v":0},{"$f":"SUMIFS($N$62:$N$116,$C$62:$C$116,\"<\"&Таблица1[[#This Row],[Дл]],$D$62:$D$116,\"=500\",$F$62:$F$116,Таблица1[[#This Row],[АСТРА]])","v":0},null,null,{"$f":"SUMIFS($J$8:$J$57,$K$8:$K$57,Таблица1[[#This Row],[Столбец5]])","v":0},{"$f":"Таблица1[[#This Row],[пол.мас.цел]]+Таблица1[[#This Row],[пол.мас.дел]]","v":0},{"$f":"SUMIFS($Q$62:$Q$116,$C$62:$C$116,Таблица1[[#This Row],[Дл]],$D$62:$D$116,\"=500\",$F$62:$F$116,Таблица1[[#This Row],[АСТРА]])","v":0},{"$f":"SUMIFS($Q$62:$Q$116,$C$62:$C$116,\"<\"&Таблица1[[#This Row],[Дл]],$D$62:$D$116,\"=500\",$F$62:$F$116,Таблица1[[#This Row],[АСТРА]])","v":0},{"$f":"Таблица1[[#This Row],[ост.с.цел]]+Таблица1[[#This Row],[ост.с.дел]]","v":0},{"$f":"Таблица1[[#This Row],[лом.целых]]+Таблица1[[#This Row],[лом.делов]]-Таблица1[[#This Row],[лом.на.пор.]]","v":0},{"$f":"Таблица1[[#This Row],[лом]]+Таблица1[[#This Row],[корр.масс]]","v":0},{"$f":"SUMIFS($T$62:$T$116,$C$62:$C$116,Таблица1[[#This Row],[Дл]],$D$62:$D$116,\"=500\",$F$62:$F$116,Таблица1[[#This Row],[АСТРА]])","v":0},{"$f":"SUMIFS($T$62:$T$116,$C$62:$C$116,\"<\"&Таблица1[[#This Row],[Дл]],$D$62:$D$116,\"=500\",$F$62:$F$116,Таблица1[[#This Row],[АСТРА]])","v":0},{"$f":"Таблица1[[#This Row],[Столбец17]]+Таблица1[[#This Row],[Столбец18]]+Таблица1[[#This Row],[лом.на.пор.]]","v":0},{"$f":"Таблица1[[#This Row],[Столбец19]]-Таблица1[[#This Row],[корр.масс]]","v":0},null,{"$f":"SUMIFS($X$62:$X$116,$C$62:$C$116,Таблица1[[#This Row],[Дл]],$D$62:$D$116,\"=500\",$F$62:$F$116,Таблица1[[#This Row],[АСТРА]])","v":0},{"$f":"SUMIFS($X$62:$X$116,$C$62:$C$116,\"<\"&Таблица1[[#This Row],[Дл]],$D$62:$D$116,\"=500\",$F$62:$F$116,Таблица1[[#This Row],[АСТРА]])","v":0},{"$f":"Таблица1[[#This Row],[Столбец23]]+Таблица1[[#This Row],[Столбец24]]","v":0},{"$f":"Таблица1[[#This Row],[лом.целых]]+Таблица1[[#This Row],[лом.делов]]-Таблица1[[#This Row],[лом.на.пор.]]","v":0},{"$f":"IF(Таблица1[[#This Row],[резы]]*Таблица1[[#This Row],[шир.рез]]/1000*Таблица1[[#This Row],[коэф]]/2<0,0,Таблица1[[#This Row],[резы]]*Таблица1[[#This Row],[шир.рез]]/1000*Таблица1[[#This Row],[коэф]]/2)","v":0},{"$f":"SUMIFS($Y$62:$Y$116,$C$62:$C$116,Таблица1[[#This Row],[Дл]],$D$62:$D$116,\"=500\",$F$62:$F$116,Таблица1[[#This Row],[АСТРА]])","v":0},{"$f":"SUMIFS($Y$62:$Y$116,$C$62:$C$116,\"<\"&Таблица1[[#This Row],[Дл]],$D$62:$D$116,\"=500\",$F$62:$F$116,Таблица1[[#This Row],[АСТРА]])","v":0},5,{"$f":"IF(Таблица1[[#This Row],[профиль]]=Таблица1[[#This Row],[толщ]],CONCATENATE(Таблица1[[#This Row],[Столбец33]],\" \",Таблица1[[#This Row],[толщ]]),CONCATENATE(Таблица1[[#This Row],[Столбец33]],\" \",Таблица1[[#This Row],[профиль]],\"х\",Таблица1[[#This Row],[толщ]]))","v":"Труба 20х20х1,2"},{"$f":"CONCATENATE(Таблица1[[#This Row],[Столбец33]],\" \",Таблица1[[#This Row],[профиль]])","v":"Труба 20х20"},"Труба 20х20, 1.2 мм, ТР2020","Труба",{"$f":"IF(Таблица1[[#This Row],[профиль]]=Таблица1[[#This Row],[толщ]],Таблица1[[#This Row],[толщ]],CONCATENATE(Таблица1[[#This Row],[профиль]],\"х\",Таблица1[[#This Row],[точка]]))","v":"20х20х1.2"},"20х20",1.2,{"$f":"SUBSTITUTE(Таблица1[[#This Row],[толщ]],\",\",\".\")","v":"1.2"},1.38,{"$f":"SUMIFS($U$8:$U$57,$K$8:$K$57,Таблица1[[#This Row],[ГОСТ]])","v":0}]
[{"$f":"IF(Таблица1[[#This Row],[Столбец19]]=0,\"z\",\"\")","v":"z"},null,null,6000,null,{"$f":"SUMIFS($G$62:$G$116,$D$62:$D$116,500,$C$62:$C$116,Таблица1[[#This Row],[Дл]],$F$62:$F$116,Таблица1[[#This Row],[АСТРА]])","v":0},{"$f":"Таблица1[[#This Row],[толщ]]","v":1.5},{"$f":"Таблица1[[#This Row],[ГОСТ]]","v":"Труба 20х20х1,5"},{"$f":"SUMIFS($N$62:$N$116,$C$62:$C$116,Таблица1[[#This Row],[Дл]],$D$62:$D$116,\"=500\",$F$62:$F$116,Таблица1[[#This Row],[АСТРА]])","v":0},{"$f":"SUMIFS($N$62:$N$116,$C$62:$C$116,\"<\"&Таблица1[[#This Row],[Дл]],$D$62:$D$116,\"=500\",$F$62:$F$116,Таблица1[[#This Row],[АСТРА]])","v":0},null,null,{"$f":"SUMIFS($J$8:$J$57,$K$8:$K$57,Таблица1[[#This Row],[Столбец5]])","v":0},{"$f":"Таблица1[[#This Row],[пол.мас.цел]]+Таблица1[[#This Row],[пол.мас.дел]]","v":0},{"$f":"SUMIFS($Q$62:$Q$116,$C$62:$C$116,Таблица1[[#This Row],[Дл]],$D$62:$D$116,\"=500\",$F$62:$F$116,Таблица1[[#This Row],[АСТРА]])","v":0},{"$f":"SUMIFS($Q$62:$Q$116,$C$62:$C$116,\"<\"&Таблица1[[#This Row],[Дл]],$D$62:$D$116,\"=500\",$F$62:$F$116,Таблица1[[#This Row],[АСТРА]])","v":0},{"$f":"Таблица1[[#This Row],[ост.с.цел]]+Таблица1[[#This Row],[ост.с.дел]]","v":0},{"$f":"Таблица1[[#This Row],[лом.целых]]+Таблица1[[#This Row],[лом.делов]]-Таблица1[[#This Row],[лом.на.пор.]]","v":0},{"$f":"Таблица1[[#This Row],[лом]]+Таблица1[[#This Row],[корр.масс]]","v":0},{"$f":"SUMIFS($T$62:$T$116,$C$62:$C$116,Таблица1[[#This Row],[Дл]],$D$62:$D$116,\"=500\",$F$62:$F$116,Таблица1[[#This Row],[АСТРА]])","v":0},{"$f":"SUMIFS($T$62:$T$116,$C$62:$C$116,\"<\"&Таблица1[[#This Row],[Дл]],$D$62:$D$116,\"=500\",$F$62:$F$116,Таблица1[[#This Row],[АСТРА]])","v":0},{"$f":"Таблица1[[#This Row],[Столбец17]]+Таблица1[[#This Row],[Столбец18]]+Таблица1[[#This Row],[лом.на.пор.]]","v":0},{"$f":"Таблица1[[#This Row],[Столбец19]]-Таблица1[[#This Row],[корр.масс]]","v":0},null,{"$f":"SUMIFS($X$62:$X$116,$C$62:$C$116,Таблица1[[#This Row],[Дл]],$D$62:$D$116,\"=500\",$F$62:$F$116,Таблица1[[#This Row],[АСТРА]])","v":0},{"$f":"SUMIFS($X$62:$X$116,$C$62:$C$116,\"<\"&Таблица1[[#This Row],[Дл]],$D$62:$D$116,\"=500\",$F$62:$F$116,Таблица1[[#This Row],[АСТРА]])","v":0},{"$f":"Таблица1[[#This Row],[Столбец23]]+Таблица1[[#This Row],[Столбец24]]","v":0},{"$f":"Таблица1[[#This Row],[лом.целых]]+Таблица1[[#This Row],[лом.делов]]-Таблица1[[#This Row],[лом.на.пор.]]","v":0},{"$f":"IF(Таблица1[[#This Row],[резы]]*Таблица1[[#This Row],[шир.рез]]/1000*Таблица1[[#This Row],[коэф]]/2<0,0,Таблица1[[#This Row],[резы]]*Таблица1[[#This Row],[шир.рез]]/1000*Таблица1[[#This Row],[коэф]]/2)","v":0},{"$f":"SUMIFS($Y$62:$Y$116,$C$62:$C$116,Таблица1[[#This Row],[Дл]],$D$62:$D$116,\"=500\",$F$62:$F$116,Таблица1[[#This Row],[АСТРА]])","v":0},{"$f":"SUMIFS($Y$62:$Y$116,$C$62:$C$116,\"<\"&Таблица1[[#This Row],[Дл]],$D$62:$D$116,\"=500\",$F$62:$F$116,Таблица1[[#This Row],[АСТРА]])","v":0},5,{"$f":"IF(Таблица1[[#This Row],[профиль]]=Таблица1[[#This Row],[толщ]],CONCATENATE(Таблица1[[#This Row],[Столбец33]],\" \",Таблица1[[#This Row],[толщ]]),CONCATENATE(Таблица1[[#This Row],[Столбец33]],\" \",Таблица1[[#This Row],[профиль]],\"х\",Таблица1[[#This Row],[толщ]]))","v":"Труба 20х20х1,5"},{"$f":"CONCATENATE(Таблица1[[#This Row],[Столбец33]],\" \",Таблица1[[#This Row],[профиль]])","v":"Труба 20х20"},"Труба 20х20, 1.5 мм, ТР2020","Труба",{"$f":"IF(Таблица1[[#This Row],[профиль]]=Таблица1[[#This Row],[толщ]],Таблица1[[#This Row],[толщ]],CONCATENATE(Таблица1[[#This Row],[профиль]],\"х\",Таблица1[[#This Row],[точка]]))","v":"20х20х1.5"},"20х20",1.5,{"$f":"SUBSTITUTE(Таблица1[[#This Row],[толщ]],\",\",\".\")","v":"1.5"},1.68,{"$f":"SUMIFS($U$8:$U$57,$K$8:$K$57,Таблица1[[#This Row],[ГОСТ]])","v":0}]
[{"$f":"IF(Таблица1[[#This Row],[Столбец19]]=0,\"z\",\"\")","v":"z"},null,null,6000,null,{"$f":"SUMIFS($G$62:$G$116,$D$62:$D$116,500,$C$62:$C$116,Таблица1[[#This Row],[Дл]],$F$62:$F$116,Таблица1[[#This Row],[АСТРА]])","v":0},{"$f":"Таблица1[[#This Row],[толщ]]","v":1.8},{"$f":"Таблица1[[#This Row],[ГОСТ]]","v":"Труба 20х20х1,8"},{"$f":"SUMIFS($N$62:$N$116,$C$62:$C$116,Таблица1[[#This Row],[Дл]],$D$62:$D$116,\"=500\",$F$62:$F$116,Таблица1[[#This Row],[АСТРА]])","v":0},{"$f":"SUMIFS($N$62:$N$116,$C$62:$C$116,\"<\"&Таблица1[[#This Row],[Дл]],$D$62:$D$116,\"=500\",$F$62:$F$116,Таблица1[[#This Row],[АСТРА]])","v":0},null,null,{"$f":"SUMIFS($J$8:$J$57,$K$8:$K$57,Таблица1[[#This Row],[Столбец5]])","v":0},{"$f":"Таблица1[[#This Row],[пол.мас.цел]]+Таблица1[[#This Row],[пол.мас.дел]]","v":0},{"$f":"SUMIFS($Q$62:$Q$116,$C$62:$C$116,Таблица1[[#This Row],[Дл]],$D$62:$D$116,\"=500\",$F$62:$F$116,Таблица1[[#This Row],[АСТРА]])","v":0},{"$f":"SUMIFS($Q$62:$Q$116,$C$62:$C$116,\"<\"&Таблица1[[#This Row],[Дл]],$D$62:$D$116,\"=500\",$F$62:$F$116,Таблица1[[#This Row],[АСТРА]])","v":0},{"$f":"Таблица1[[#This Row],[ост.с.цел]]+Таблица1[[#This Row],[ост.с.дел]]","v":0},{"$f":"Таблица1[[#This Row],[лом.целых]]+Таблица1[[#This Row],[лом.делов]]-Таблица1[[#This Row],[лом.на.пор.]]","v":0},{"$f":"Таблица1[[#This Row],[лом]]+Таблица1[[#This Row],[корр.масс]]","v":0},{"$f":"SUMIFS($T$62:$T$116,$C$62:$C$116,Таблица1[[#This Row],[Дл]],$D$62:$D$116,\"=500\",$F$62:$F$116,Таблица1[[#This Row],[АСТРА]])","v":0},{"$f":"SUMIFS($T$62:$T$116,$C$62:$C$116,\"<\"&Таблица1[[#This Row],[Дл]],$D$62:$D$116,\"=500\",$F$62:$F$116,Таблица1[[#This Row],[АСТРА]])","v":0},{"$f":"Таблица1[[#This Row],[Столбец17]]+Таблица1[[#This Row],[Столбец18]]+Таблица1[[#This Row],[лом.на.пор.]]","v":0},{"$f":"Таблица1[[#This Row],[Столбец19]]-Таблица1[[#This Row],[корр.масс]]","v":0},null,{"$f":"SUMIFS($X$62:$X$116,$C$62:$C$116,Таблица1[[#This Row],[Дл]],$D$62:$D$116,\"=500\",$F$62:$F$116,Таблица1[[#This Row],[АСТРА]])","v":0},{"$f":"SUMIFS($X$62:$X$116,$C$62:$C$116,\"<\"&Таблица1[[#This Row],[Дл]],$D$62:$D$116,\"=500\",$F$62:$F$116,Таблица1[[#This Row],[АСТРА]])","v":0},{"$f":"Таблица1[[#This Row],[Столбец23]]+Таблица1[[#This Row],[Столбец24]]","v":0},{"$f":"Таблица1[[#This Row],[лом.целых]]+Таблица1[[#This Row],[лом.делов]]-Таблица1[[#This Row],[лом.на.пор.]]","v":0},{"$f":"IF(Таблица1[[#This Row],[резы]]*Таблица1[[#This Row],[шир.рез]]/1000*Таблица1[[#This Row],[коэф]]/2<0,0,Таблица1[[#This Row],[резы]]*Таблица1[[#This Row],[шир.рез]]/1000*Таблица1[[#This Row],[коэф]]/2)","v":0},{"$f":"SUMIFS($Y$62:$Y$116,$C$62:$C$116,Таблица1[[#This Row],[Дл]],$D$62:$D$116,\"=500\",$F$62:$F$116,Таблица1[[#This Row],[АСТРА]])","v":0},{"$f":"SUMIFS($Y$62:$Y$116,$C$62:$C$116,\"<\"&Таблица1[[#This Row],[Дл]],$D$62:$D$116,\"=500\",$F$62:$F$116,Таблица1[[#This Row],[АСТРА]])","v":0},5,{"$f":"IF(Таблица1[[#This Row],[профиль]]=Таблица1[[#This Row],[толщ]],CONCATENATE(Таблица1[[#This Row],[Столбец33]],\" \",Таблица1[[#This Row],[толщ]]),CONCATENATE(Таблица1[[#This Row],[Столбец33]],\" \",Таблица1[[#This Row],[профиль]],\"х\",Таблица1[[#This Row],[толщ]]))","v":"Труба 20х20х1,8"},{"$f":"CONCATENATE(Таблица1[[#This Row],[Столбец33]],\" \",Таблица1[[#This Row],[профиль]])","v":"Труба 20х20"},"Труба 20х20, 1.8 мм, ТР2020","Труба",{"$f":"IF(Таблица1[[#This Row],[профиль]]=Таблица1[[#This Row],[толщ]],Таблица1[[#This Row],[толщ]],CONCATENATE(Таблица1[[#This Row],[профиль]],\"х\",Таблица1[[#This Row],[точка]]))","v":"20х20х1.8"},"20х20",1.8,{"$f":"SUBSTITUTE(Таблица1[[#This Row],[толщ]],\",\",\".\")","v":"1.8"},1.97,{"$f":"SUMIFS($U$8:$U$57,$K$8:$K$57,Таблица1[[#This Row],[ГОСТ]])","v":0}]
[{"$f":"IF(Таблица1[[#This Row],[Столбец19]]=0,\"z\",\"\")","v":"z"},null,null,6000,null,{"$f":"SUMIFS($G$62:$G$116,$D$62:$D$116,500,$C$62:$C$116,Таблица1[[#This Row],[Дл]],$F$62:$F$116,Таблица1[[#This Row],[АСТРА]])","v":0},{"$f":"Таблица1[[#This Row],[толщ]]","v":2},{"$f":"Таблица1[[#This Row],[ГОСТ]]","v":"Труба 20х20х2"},{"$f":"SUMIFS($N$62:$N$116,$C$62:$C$116,Таблица1[[#This Row],[Дл]],$D$62:$D$116,\"=500\",$F$62:$F$116,Таблица1[[#This Row],[АСТРА]])","v":0},{"$f":"SUMIFS($N$62:$N$116,$C$62:$C$116,\"<\"&Таблица1[[#This Row],[Дл]],$D$62:$D$116,\"=500\",$F$62:$F$116,Таблица1[[#This Row],[АСТРА]])","v":0},null,null,{"$f":"SUMIFS($J$8:$J$57,$K$8:$K$57,Таблица1[[#This Row],[Столбец5]])","v":0},{"$f":"Таблица1[[#This Row],[пол.мас.цел]]+Таблица1[[#This Row],[пол.мас.дел]]","v":0},{"$f":"SUMIFS($Q$62:$Q$116,$C$62:$C$116,Таблица1[[#This Row],[Дл]],$D$62:$D$116,\"=500\",$F$62:$F$116,Таблица1[[#This Row],[АСТРА]])","v":0},{"$f":"SUMIFS($Q$62:$Q$116,$C$62:$C$116,\"<\"&Таблица1[[#This Row],[Дл]],$D$62:$D$116,\"=500\",$F$62:$F$116,Таблица1[[#This Row],[АСТРА]])","v":0},{"$f":"Таблица1[[#This Row],[ост.с.цел]]+Таблица1[[#This Row],[ост.с.дел]]","v":0},{"$f":"Таблица1[[#This Row],[лом.целых]]+Таблица1[[#This Row],[лом.делов]]-Таблица1[[#This Row],[лом.на.пор.]]","v":0},{"$f":"Таблица1[[#This Row],[лом]]+Таблица1[[#This Row],[корр.масс]]","v":0},{"$f":"SUMIFS($T$62:$T$116,$C$62:$C$116,Таблица1[[#This Row],[Дл]],$D$62:$D$116,\"=500\",$F$62:$F$116,Таблица1[[#This Row],[АСТРА]])","v":0},{"$f":"SUMIFS($T$62:$T$116,$C$62:$C$116,\"<\"&Таблица1[[#This Row],[Дл]],$D$62:$D$116,\"=500\",$F$62:$F$116,Таблица1[[#This Row],[АСТРА]])","v":0},{"$f":"Таблица1[[#This Row],[Столбец17]]+Таблица1[[#This Row],[Столбец18]]+Таблица1[[#This Row],[лом.на.пор.]]","v":0},{"$f":"Таблица1[[#This Row],[Столбец19]]-Таблица1[[#This Row],[корр.масс]]","v":0},null,{"$f":"SUMIFS($X$62:$X$116,$C$62:$C$116,Таблица1[[#This Row],[Дл]],$D$62:$D$116,\"=500\",$F$62:$F$116,Таблица1[[#This Row],[АСТРА]])","v":0},{"$f":"SUMIFS($X$62:$X$116,$C$62:$C$116,\"<\"&Таблица1[[#This Row],[Дл]],$D$62:$D$116,\"=500\",$F$62:$F$116,Таблица1[[#This Row],[АСТРА]])","v":0},{"$f":"Таблица1[[#This Row],[Столбец23]]+Таблица1[[#This Row],[Столбец24]]","v":0},{"$f":"Таблица1[[#This Row],[лом.целых]]+Таблица1[[#This Row],[лом.делов]]-Таблица1[[#This Row],[лом.на.пор.]]","v":0},{"$f":"IF(Таблица1[[#This Row],[резы]]*Таблица1[[#This Row],[шир.рез]]/1000*Таблица1[[#This Row],[коэф]]/2<0,0,Таблица1[[#This Row],[резы]]*Таблица1[[#This Row],[шир.рез]]/1000*Таблица1[[#This Row],[коэф]]/2)","v":0},{"$f":"SUMIFS($Y$62:$Y$116,$C$62:$C$116,Таблица1[[#This Row],[Дл]],$D$62:$D$116,\"=500\",$F$62:$F$116,Таблица1[[#This Row],[АСТРА]])","v":0},{"$f":"SUMIFS($Y$62:$Y$116,$C$62:$C$116,\"<\"&Таблица1[[#This Row],[Дл]],$D$62:$D$116,\"=500\",$F$62:$F$116,Таблица1[[#This Row],[АСТРА]])","v":0},5,{"$f":"IF(Таблица1[[#This Row],[профиль]]=Таблица1[[#This Row],[толщ]],CONCATENATE(Таблица1[[#This Row],[Столбец33]],\" \",Таблица1[[#This Row],[толщ]]),CONCATENATE(Таблица1[[#This Row],[Столбец33]],\" \",Таблица1[[#This Row],[профиль]],\"х\",Таблица1[[#This Row],[толщ]]))","v":"Труба 20х20х2"},{"$f":"CONCATENATE(Таблица1[[#This Row],[Столбец33]],\" \",Таблица1[[#This Row],[профиль]])","v":"Труба 20х20"},"Труба 20х20, 2.0 мм, ТР2020","Труба",{"$f":"IF(Таблица1[[#This Row],[профиль]]=Таблица1[[#This Row],[толщ]],Таблица1[[#This Row],[толщ]],CONCATENATE(Таблица1[[#This Row],[профиль]],\"х\",Таблица1[[#This Row],[точка]]))","v":"20х20х2"},"20х20",2,{"$f":"SUBSTITUTE(Таблица1[[#This Row],[толщ]],\",\",\".\")","v":"2"},2.15,{"$f":"SUMIFS($U$8:$U$57,$K$8:$K$57,Таблица1[[#This Row],[ГОСТ]])","v":0}]
[{"$f":"IF(Таблица1[[#This Row],[Столбец19]]=0,\"z\",\"\")","v":"z"},null,null,6000,null,{"$f":"SUMIFS($G$62:$G$116,$D$62:$D$116,500,$C$62:$C$116,Таблица1[[#This Row],[Дл]],$F$62:$F$116,Таблица1[[#This Row],[АСТРА]])","v":0},{"$f":"Таблица1[[#This Row],[толщ]]","v":3},{"$f":"Таблица1[[#This Row],[ГОСТ]]","v":"Труба 20х20х3"},{"$f":"SUMIFS($N$62:$N$116,$C$62:$C$116,Таблица1[[#This Row],[Дл]],$D$62:$D$116,\"=500\",$F$62:$F$116,Таблица1[[#This Row],[АСТРА]])","v":0},{"$f":"SUMIFS($N$62:$N$116,$C$62:$C$116,\"<\"&Таблица1[[#This Row],[Дл]],$D$62:$D$116,\"=500\",$F$62:$F$116,Таблица1[[#This Row],[АСТРА]])","v":0},null,null,{"$f":"SUMIFS($J$8:$J$57,$K$8:$K$57,Таблица1[[#This Row],[Столбец5]])","v":0},{"$f":"Таблица1[[#This Row],[пол.мас.цел]]+Таблица1[[#This Row],[пол.мас.дел]]","v":0},{"$f":"SUMIFS($Q$62:$Q$116,$C$62:$C$116,Таблица1[[#This Row],[Дл]],$D$62:$D$116,\"=500\",$F$62:$F$116,Таблица1[[#This Row],[АСТРА]])","v":0},{"$f":"SUMIFS($Q$62:$Q$116,$C$62:$C$116,\"<\"&Таблица1[[#This Row],[Дл]],$D$62:$D$116,\"=500\",$F$62:$F$116,Таблица1[[#This Row],[АСТРА]])","v":0},{"$f":"Таблица1[[#This Row],[ост.с.цел]]+Таблица1[[#This Row],[ост.с.дел]]","v":0},{"$f":"Таблица1[[#This Row],[лом.целых]]+Таблица1[[#This Row],[лом.делов]]-Таблица1[[#This Row],[лом.на.пор.]]","v":0},{"$f":"Таблица1[[#This Row],[лом]]+Таблица1[[#This Row],[корр.масс]]","v":0},{"$f":"SUMIFS($T$62:$T$116,$C$62:$C$116,Таблица1[[#This Row],[Дл]],$D$62:$D$116,\"=500\",$F$62:$F$116,Таблица1[[#This Row],[АСТРА]])","v":0},{"$f":"SUMIFS($T$62:$T$116,$C$62:$C$116,\"<\"&Таблица1[[#This Row],[Дл]],$D$62:$D$116,\"=500\",$F$62:$F$116,Таблица1[[#This Row],[АСТРА]])","v":0},{"$f":"Таблица1[[#This Row],[Столбец17]]+Таблица1[[#This Row],[Столбец18]]+Таблица1[[#This Row],[лом.на.пор.]]","v":0},{"$f":"Таблица1[[#This Row],[Столбец19]]-Таблица1[[#This Row],[корр.масс]]","v":0},null,{"$f":"SUMIFS($X$62:$X$116,$C$62:$C$116,Таблица1[[#This Row],[Дл]],$D$62:$D$116,\"=500\",$F$62:$F$116,Таблица1[[#This Row],[АСТРА]])","v":0},{"$f":"SUMIFS($X$62:$X$116,$C$62:$C$116,\"<\"&Таблица1[[#This Row],[Дл]],$D$62:$D$116,\"=500\",$F$62:$F$116,Таблица1[[#This Row],[АСТРА]])","v":0},{"$f":"Таблица1[[#This Row],[Столбец23]]+Таблица1[[#This Row],[Столбец24]]","v":0},{"$f":"Таблица1[[#This Row],[лом.целых]]+Таблица1[[#This Row],[лом.делов]]-Таблица1[[#This Row],[лом.на.пор.]]","v":0},{"$f":"IF(Таблица1[[#This Row],[резы]]*Таблица1[[#This Row],[шир.рез]]/1000*Таблица1[[#This Row],[коэф]]/2<0,0,Таблица1[[#This Row],[резы]]*Таблица1[[#This Row],[шир.рез]]/1000*Таблица1[[#This Row],[коэф]]/2)","v":0},{"$f":"SUMIFS($Y$62:$Y$116,$C$62:$C$116,Таблица1[[#This Row],[Дл]],$D$62:$D$116,\"=500\",$F$62:$F$116,Таблица1[[#This Row],[АСТРА]])","v":0},{"$f":"SUMIFS($Y$62:$Y$116,$C$62:$C$116,\"<\"&Таблица1[[#This Row],[Дл]],$D$62:$D$116,\"=500\",$F$62:$F$116,Таблица1[[#This Row],[АСТРА]])","v":0},5,{"$f":"IF(Таблица1[[#This Row],[профиль]]=Таблица1[[#This Row],[толщ]],CONCATENATE(Таблица1[[#This Row],[Столбец33]],\" \",Таблица1[[#This Row],[толщ]]),CONCATENATE(Таблица1[[#This Row],[Столбец33]],\" \",Таблица1[[#This Row],[профиль]],\"х\",Таблица1[[#This Row],[толщ]]))","v":"Труба 20х20х3"},{"$f":"CONCATENATE(Таблица1[[#This Row],[Столбец33]],\" \",Таблица1[[#This Row],[профиль]])","v":"Труба 20х20"},"Труба 20х20, 3.0 мм, ТР2020","Труба",{"$f":"IF(Таблица1[[#This Row],[профиль]]=Таблица1[[#This Row],[толщ]],Таблица1[[#This Row],[толщ]],CONCATENATE(Таблица1[[#This Row],[профиль]],\"х\",Таблица1[[#This Row],[точка]]))","v":"20х20х3"},"20х20",3,{"$f":"SUBSTITUTE(Таблица1[[#This Row],[толщ]],\",\",\".\")","v":"3"},2.96,{"$f":"SUMIFS($U$8:$U$57,$K$8:$K$57,Таблица1[[#This Row],[ГОСТ]])","v":0}]
[{"$f":"IF(Таблица1[[#This Row],[Столбец19]]=0,\"z\",\"\")","v":"z"},null,null,3000,null,{"$f":"SUMIFS($G$62:$G$116,$D$62:$D$116,500,$C$62:$C$116,Таблица1[[#This Row],[Дл]],$F$62:$F$116,Таблица1[[#This Row],[АСТРА]])","v":0},{"$f":"Таблица1[[#This Row],[толщ]]","v":2.5},{"$f":"Таблица1[[#This Row],[ГОСТ]]","v":"Труба 21,3х2,5"},{"$f":"SUMIFS($N$62:$N$116,$C$62:$C$116,Таблица1[[#This Row],[Дл]],$D$62:$D$116,\"=500\",$F$62:$F$116,Таблица1[[#This Row],[АСТРА]])","v":0},{"$f":"SUMIFS($N$62:$N$116,$C$62:$C$116,\"<\"&Таблица1[[#This Row],[Дл]],$D$62:$D$116,\"=500\",$F$62:$F$116,Таблица1[[#This Row],[АСТРА]])","v":0},null,null,{"$f":"SUMIFS($J$8:$J$57,$K$8:$K$57,Таблица1[[#This Row],[Столбец5]])","v":0},{"$f":"Таблица1[[#This Row],[пол.мас.цел]]+Таблица1[[#This Row],[пол.мас.дел]]","v":0},{"$f":"SUMIFS($Q$62:$Q$116,$C$62:$C$116,Таблица1[[#This Row],[Дл]],$D$62:$D$116,\"=500\",$F$62:$F$116,Таблица1[[#This Row],[АСТРА]])","v":0},{"$f":"SUMIFS($Q$62:$Q$116,$C$62:$C$116,\"<\"&Таблица1[[#This Row],[Дл]],$D$62:$D$116,\"=500\",$F$62:$F$116,Таблица1[[#This Row],[АСТРА]])","v":0},{"$f":"Таблица1[[#This Row],[ост.с.цел]]+Таблица1[[#This Row],[ост.с.дел]]","v":0},{"$f":"Таблица1[[#This Row],[лом.целых]]+Таблица1[[#This Row],[лом.делов]]-Таблица1[[#This Row],[лом.на.пор.]]","v":0},{"$f":"Таблица1[[#This Row],[лом]]+Таблица1[[#This Row],[корр.масс]]","v":0},{"$f":"SUMIFS($T$62:$T$116,$C$62:$C$116,Таблица1[[#This Row],[Дл]],$D$62:$D$116,\"=500\",$F$62:$F$116,Таблица1[[#This Row],[АСТРА]])","v":0},{"$f":"SUMIFS($T$62:$T$116,$C$62:$C$116,\"<\"&Таблица1[[#This Row],[Дл]],$D$62:$D$116,\"=500\",$F$62:$F$116,Таблица1[[#This Row],[АСТРА]])","v":0},{"$f":"Таблица1[[#This Row],[Столбец17]]+Таблица1[[#This Row],[Столбец18]]+Таблица1[[#This Row],[лом.на.пор.]]","v":0},{"$f":"Таблица1[[#This Row],[Столбец19]]-Таблица1[[#This Row],[корр.масс]]","v":0},null,{"$f":"SUMIFS($X$62:$X$116,$C$62:$C$116,Таблица1[[#This Row],[Дл]],$D$62:$D$116,\"=500\",$F$62:$F$116,Таблица1[[#This Row],[АСТРА]])","v":0},{"$f":"SUMIFS($X$62:$X$116,$C$62:$C$116,\"<\"&Таблица1[[#This Row],[Дл]],$D$62:$D$116,\"=500\",$F$62:$F$116,Таблица1[[#This Row],[АСТРА]])","v":0},{"$f":"Таблица1[[#This Row],[Столбец23]]+Таблица1[[#This Row],[Столбец24]]","v":0},{"$f":"Таблица1[[#This Row],[лом.целых]]+Таблица1[[#This Row],[лом.делов]]-Таблица1[[#This Row],[лом.на.пор.]]","v":0},{"$f":"IF(Таблица1[[#This Row],[резы]]*Таблица1[[#This Row],[шир.рез]]/1000*Таблица1[[#This Row],[коэф]]/2<0,0,Таблица1[[#This Row],[резы]]*Таблица1[[#This Row],[шир.рез]]/1000*Таблица1[[#This Row],[коэф]]/2)","v":0},{"$f":"SUMIFS($Y$62:$Y$116,$C$62:$C$116,Таблица1[[#This Row],[Дл]],$D$62:$D$116,\"=500\",$F$62:$F$116,Таблица1[[#This Row],[АСТРА]])","v":0},{"$f":"SUMIFS($Y$62:$Y$116,$C$62:$C$116,\"<\"&Таблица1[[#This Row],[Дл]],$D$62:$D$116,\"=500\",$F$62:$F$116,Таблица1[[#This Row],[АСТРА]])","v":0},5,{"$f":"IF(Таблица1[[#This Row],[профиль]]=Таблица1[[#This Row],[толщ]],CONCATENATE(Таблица1[[#This Row],[Столбец33]],\" \",Таблица1[[#This Row],[толщ]]),CONCATENATE(Таблица1[[#This Row],[Столбец33]],\" \",Таблица1[[#This Row],[профиль]],\"х\",Таблица1[[#This Row],[толщ]]))","v":"Труба 21,3х2,5"},{"$f":"CONCATENATE(Таблица1[[#This Row],[Столбец33]],\" \",Таблица1[[#This Row],[профиль]])","v":"Труба 21,3"},"Труба 21,3, 2.5 мм","Труба",{"$f":"IF(Таблица1[[#This Row],[профиль]]=Таблица1[[#This Row],[толщ]],Таблица1[[#This Row],[толщ]],CONCATENATE(Таблица1[[#This Row],[профиль]],\"х\",Таблица1[[#This Row],[точка]]))","v":"21,3х2.5"},21.3,2.5,{"$f":"SUBSTITUTE(Таблица1[[#This Row],[толщ]],\",\",\".\")","v":"2.5"},2.3199999999999998,{"$f":"SUMIFS($U$8:$U$57,$K$8:$K$57,Таблица1[[#This Row],[ГОСТ]])","v":0}]
[{"$f":"IF(Таблица1[[#This Row],[Столбец19]]=0,\"z\",\"\")","v":"z"},null,null,null,null,{"$f":"SUMIFS($G$62:$G$116,$D$62:$D$116,500,$C$62:$C$116,Таблица1[[#This Row],[Дл]],$F$62:$F$116,Таблица1[[#This Row],[АСТРА]])","v":0},{"$f":"Таблица1[[#This Row],[толщ]]","v":3},{"$f":"Таблица1[[#This Row],[ГОСТ]]","v":"Труба 21,3х3"},{"$f":"SUMIFS($N$62:$N$116,$C$62:$C$116,Таблица1[[#This Row],[Дл]],$D$62:$D$116,\"=500\",$F$62:$F$116,Таблица1[[#This Row],[АСТРА]])","v":0},{"$f":"SUMIFS($N$62:$N$116,$C$62:$C$116,\"<\"&Таблица1[[#This Row],[Дл]],$D$62:$D$116,\"=500\",$F$62:$F$116,Таблица1[[#This Row],[АСТРА]])","v":0},null,null,{"$f":"SUMIFS($J$8:$J$57,$K$8:$K$57,Таблица1[[#This Row],[Столбец5]])","v":0},{"$f":"Таблица1[[#This Row],[пол.мас.цел]]+Таблица1[[#This Row],[пол.мас.дел]]","v":0},{"$f":"SUMIFS($Q$62:$Q$116,$C$62:$C$116,Таблица1[[#This Row],[Дл]],$D$62:$D$116,\"=500\",$F$62:$F$116,Таблица1[[#This Row],[АСТРА]])","v":0},{"$f":"SUMIFS($Q$62:$Q$116,$C$62:$C$116,\"<\"&Таблица1[[#This Row],[Дл]],$D$62:$D$116,\"=500\",$F$62:$F$116,Таблица1[[#This Row],[АСТРА]])","v":0},{"$f":"Таблица1[[#This Row],[ост.с.цел]]+Таблица1[[#This Row],[ост.с.дел]]","v":0},{"$f":"Таблица1[[#This Row],[лом.целых]]+Таблица1[[#This Row],[лом.делов]]-Таблица1[[#This Row],[лом.на.пор.]]","v":0},{"$f":"Таблица1[[#This Row],[лом]]+Таблица1[[#This Row],[корр.масс]]","v":0},{"$f":"SUMIFS($T$62:$T$116,$C$62:$C$116,Таблица1[[#This Row],[Дл]],$D$62:$D$116,\"=500\",$F$62:$F$116,Таблица1[[#This Row],[АСТРА]])","v":0},{"$f":"SUMIFS($T$62:$T$116,$C$62:$C$116,\"<\"&Таблица1[[#This Row],[Дл]],$D$62:$D$116,\"=500\",$F$62:$F$116,Таблица1[[#This Row],[АСТРА]])","v":0},{"$f":"Таблица1[[#This Row],[Столбец17]]+Таблица1[[#This Row],[Столбец18]]+Таблица1[[#This Row],[лом.на.пор.]]","v":0},{"$f":"Таблица1[[#This Row],[Столбец19]]-Таблица1[[#This Row],[корр.масс]]","v":0},null,{"$f":"SUMIFS($X$62:$X$116,$C$62:$C$116,Таблица1[[#This Row],[Дл]],$D$62:$D$116,\"=500\",$F$62:$F$116,Таблица1[[#This Row],[АСТРА]])","v":0},{"$f":"SUMIFS($X$62:$X$116,$C$62:$C$116,\"<\"&Таблица1[[#This Row],[Дл]],$D$62:$D$116,\"=500\",$F$62:$F$116,Таблица1[[#This Row],[АСТРА]])","v":0},{"$f":"Таблица1[[#This Row],[Столбец23]]+Таблица1[[#This Row],[Столбец24]]","v":0},{"$f":"Таблица1[[#This Row],[лом.целых]]+Таблица1[[#This Row],[лом.делов]]-Таблица1[[#This Row],[лом.на.пор.]]","v":0},{"$f":"IF(Таблица1[[#This Row],[резы]]*Таблица1[[#This Row],[шир.рез]]/1000*Таблица1[[#This Row],[коэф]]/2<0,0,Таблица1[[#This Row],[резы]]*Таблица1[[#This Row],[шир.рез]]/1000*Таблица1[[#This Row],[коэф]]/2)","v":0},{"$f":"SUMIFS($Y$62:$Y$116,$C$62:$C$116,Таблица1[[#This Row],[Дл]],$D$62:$D$116,\"=500\",$F$62:$F$116,Таблица1[[#This Row],[АСТРА]])","v":0},{"$f":"SUMIFS($Y$62:$Y$116,$C$62:$C$116,\"<\"&Таблица1[[#This Row],[Дл]],$D$62:$D$116,\"=500\",$F$62:$F$116,Таблица1[[#This Row],[АСТРА]])","v":0},null,{"$f":"IF(Таблица1[[#This Row],[профиль]]=Таблица1[[#This Row],[толщ]],CONCATENATE(Таблица1[[#This Row],[Столбец33]],\" \",Таблица1[[#This Row],[толщ]]),CONCATENATE(Таблица1[[#This Row],[Столбец33]],\" \",Таблица1[[#This Row],[профиль]],\"х\",Таблица1[[#This Row],[толщ]]))","v":"Труба 21,3х3"},{"$f":"CONCATENATE(Таблица1[[#This Row],[Столбец33]],\" \",Таблица1[[#This Row],[профиль]])","v":"Труба 21,3"},"Труба 21,3, 3.0 мм","Труба",{"$f":"IF(Таблица1[[#This Row],[профиль]]=Таблица1[[#This Row],[толщ]],Таблица1[[#This Row],[толщ]],CONCATENATE(Таблица1[[#This Row],[профиль]],\"х\",Таблица1[[#This Row],[точка]]))","v":"21,3х3"},21.3,3,{"$f":"SUBSTITUTE(Таблица1[[#This Row],[толщ]],\",\",\".\")","v":"3"},2.71,{"$f":"SUMIFS($U$8:$U$57,$K$8:$K$57,Таблица1[[#This Row],[ГОСТ]])","v":0}]
[{"$f":"IF(Таблица1[[#This Row],[Столбец19]]=0,\"z\",\"\")","v":"z"},null,null,6000,null,{"$f":"SUMIFS($G$62:$G$116,$D$62:$D$116,500,$C$62:$C$116,Таблица1[[#This Row],[Дл]],$F$62:$F$116,Таблица1[[#This Row],[АСТРА]])","v":0},{"$f":"Таблица1[[#This Row],[толщ]]","v":1.5},{"$f":"Таблица1[[#This Row],[ГОСТ]]","v":"Труба 22х1,5"},{"$f":"SUMIFS($N$62:$N$116,$C$62:$C$116,Таблица1[[#This Row],[Дл]],$D$62:$D$116,\"=500\",$F$62:$F$116,Таблица1[[#This Row],[АСТРА]])","v":0},{"$f":"SUMIFS($N$62:$N$116,$C$62:$C$116,\"<\"&Таблица1[[#This Row],[Дл]],$D$62:$D$116,\"=500\",$F$62:$F$116,Таблица1[[#This Row],[АСТРА]])","v":0},null,null,{"$f":"SUMIFS($J$8:$J$57,$K$8:$K$57,Таблица1[[#This Row],[Столбец5]])","v":0},{"$f":"Таблица1[[#This Row],[пол.мас.цел]]+Таблица1[[#This Row],[пол.мас.дел]]","v":0},{"$f":"SUMIFS($Q$62:$Q$116,$C$62:$C$116,Таблица1[[#This Row],[Дл]],$D$62:$D$116,\"=500\",$F$62:$F$116,Таблица1[[#This Row],[АСТРА]])","v":0},{"$f":"SUMIFS($Q$62:$Q$116,$C$62:$C$116,\"<\"&Таблица1[[#This Row],[Дл]],$D$62:$D$116,\"=500\",$F$62:$F$116,Таблица1[[#This Row],[АСТРА]])","v":0},{"$f":"Таблица1[[#This Row],[ост.с.цел]]+Таблица1[[#This Row],[ост.с.дел]]","v":0},{"$f":"Таблица1[[#This Row],[лом.целых]]+Таблица1[[#This Row],[лом.делов]]-Таблица1[[#This Row],[лом.на.пор.]]","v":0},{"$f":"Таблица1[[#This Row],[лом]]+Таблица1[[#This Row],[корр.масс]]","v":0},{"$f":"SUMIFS($T$62:$T$116,$C$62:$C$116,Таблица1[[#This Row],[Дл]],$D$62:$D$116,\"=500\",$F$62:$F$116,Таблица1[[#This Row],[АСТРА]])","v":0},{"$f":"SUMIFS($T$62:$T$116,$C$62:$C$116,\"<\"&Таблица1[[#This Row],[Дл]],$D$62:$D$116,\"=500\",$F$62:$F$116,Таблица1[[#This Row],[АСТРА]])","v":0},{"$f":"Таблица1[[#This Row],[Столбец17]]+Таблица1[[#This Row],[Столбец18]]+Таблица1[[#This Row],[лом.на.пор.]]","v":0},{"$f":"Таблица1[[#This Row],[Столбец19]]-Таблица1[[#This Row],[корр.масс]]","v":0},null,{"$f":"SUMIFS($X$62:$X$116,$C$62:$C$116,Таблица1[[#This Row],[Дл]],$D$62:$D$116,\"=500\",$F$62:$F$116,Таблица1[[#This Row],[АСТРА]])","v":0},{"$f":"SUMIFS($X$62:$X$116,$C$62:$C$116,\"<\"&Таблица1[[#This Row],[Дл]],$D$62:$D$116,\"=500\",$F$62:$F$116,Таблица1[[#This Row],[АСТРА]])","v":0},{"$f":"Таблица1[[#This Row],[Столбец23]]+Таблица1[[#This Row],[Столбец24]]","v":0},{"$f":"Таблица1[[#This Row],[лом.целых]]+Таблица1[[#This Row],[лом.делов]]-Таблица1[[#This Row],[лом.на.пор.]]","v":0},{"$f":"IF(Таблица1[[#This Row],[резы]]*Таблица1[[#This Row],[шир.рез]]/1000*Таблица1[[#This Row],[коэф]]/2<0,0,Таблица1[[#This Row],[резы]]*Таблица1[[#This Row],[шир.рез]]/1000*Таблица1[[#This Row],[коэф]]/2)","v":0},{"$f":"SUMIFS($Y$62:$Y$116,$C$62:$C$116,Таблица1[[#This Row],[Дл]],$D$62:$D$116,\"=500\",$F$62:$F$116,Таблица1[[#This Row],[АСТРА]])","v":0},{"$f":"SUMIFS($Y$62:$Y$116,$C$62:$C$116,\"<\"&Таблица1[[#This Row],[Дл]],$D$62:$D$116,\"=500\",$F$62:$F$116,Таблица1[[#This Row],[АСТРА]])","v":0},5,{"$f":"IF(Таблица1[[#This Row],[профиль]]=Таблица1[[#This Row],[толщ]],CONCATENATE(Таблица1[[#This Row],[Столбец33]],\" \",Таблица1[[#This Row],[толщ]]),CONCATENATE(Таблица1[[#This Row],[Столбец33]],\" \",Таблица1[[#This Row],[профиль]],\"х\",Таблица1[[#This Row],[толщ]]))","v":"Труба 22х1,5"},{"$f":"CONCATENATE(Таблица1[[#This Row],[Столбец33]],\" \",Таблица1[[#This Row],[профиль]])","v":"Труба 22"},"Труба 22, 1.5 мм","Труба",{"$f":"IF(Таблица1[[#This Row],[профиль]]=Таблица1[[#This Row],[толщ]],Таблица1[[#This Row],[толщ]],CONCATENATE(Таблица1[[#This Row],[профиль]],\"х\",Таблица1[[#This Row],[точка]]))","v":"22х1.5"},22,1.5,{"$f":"SUBSTITUTE(Таблица1[[#This Row],[толщ]],\",\",\".\")","v":"1.5"},1.52,{"$f":"SUMIFS($U$8:$U$57,$K$8:$K$57,Таблица1[[#This Row],[ГОСТ]])","v":0}]
[{"$f":"IF(Таблица1[[#This Row],[Столбец19]]=0,\"z\",\"\")","v":"z"},null,null,6000,null,{"$f":"SUMIFS($G$62:$G$116,$D$62:$D$116,500,$C$62:$C$116,Таблица1[[#This Row],[Дл]],$F$62:$F$116,Таблица1[[#This Row],[АСТРА]])","v":0},{"$f":"Таблица1[[#This Row],[толщ]]","v":1},{"$f":"Таблица1[[#This Row],[ГОСТ]]","v":"Труба 25х1"},{"$f":"SUMIFS($N$62:$N$116,$C$62:$C$116,Таблица1[[#This Row],[Дл]],$D$62:$D$116,\"=500\",$F$62:$F$116,Таблица1[[#This Row],[АСТРА]])","v":0},{"$f":"SUMIFS($N$62:$N$116,$C$62:$C$116,\"<\"&Таблица1[[#This Row],[Дл]],$D$62:$D$116,\"=500\",$F$62:$F$116,Таблица1[[#This Row],[АСТРА]])","v":0},null,null,{"$f":"SUMIFS($J$8:$J$57,$K$8:$K$57,Таблица1[[#This Row],[Столбец5]])","v":0},{"$f":"Таблица1[[#This Row],[пол.мас.цел]]+Таблица1[[#This Row],[пол.мас.дел]]","v":0},{"$f":"SUMIFS($Q$62:$Q$116,$C$62:$C$116,Таблица1[[#This Row],[Дл]],$D$62:$D$116,\"=500\",$F$62:$F$116,Таблица1[[#This Row],[АСТРА]])","v":0},{"$f":"SUMIFS($Q$62:$Q$116,$C$62:$C$116,\"<\"&Таблица1[[#This Row],[Дл]],$D$62:$D$116,\"=500\",$F$62:$F$116,Таблица1[[#This Row],[АСТРА]])","v":0},{"$f":"Таблица1[[#This Row],[ост.с.цел]]+Таблица1[[#This Row],[ост.с.дел]]","v":0},{"$f":"Таблица1[[#This Row],[лом.целых]]+Таблица1[[#This Row],[лом.делов]]-Таблица1[[#This Row],[лом.на.пор.]]","v":0},{"$f":"Таблица1[[#This Row],[лом]]+Таблица1[[#This Row],[корр.масс]]","v":0},{"$f":"SUMIFS($T$62:$T$116,$C$62:$C$116,Таблица1[[#This Row],[Дл]],$D$62:$D$116,\"=500\",$F$62:$F$116,Таблица1[[#This Row],[АСТРА]])","v":0},{"$f":"SUMIFS($T$62:$T$116,$C$62:$C$116,\"<\"&Таблица1[[#This Row],[Дл]],$D$62:$D$116,\"=500\",$F$62:$F$116,Таблица1[[#This Row],[АСТРА]])","v":0},{"$f":"Таблица1[[#This Row],[Столбец17]]+Таблица1[[#This Row],[Столбец18]]+Таблица1[[#This Row],[лом.на.пор.]]","v":0},{"$f":"Таблица1[[#This Row],[Столбец19]]-Таблица1[[#This Row],[корр.масс]]","v":0},null,{"$f":"SUMIFS($X$62:$X$116,$C$62:$C$116,Таблица1[[#This Row],[Дл]],$D$62:$D$116,\"=500\",$F$62:$F$116,Таблица1[[#This Row],[АСТРА]])","v":0},{"$f":"SUMIFS($X$62:$X$116,$C$62:$C$116,\"<\"&Таблица1[[#This Row],[Дл]],$D$62:$D$116,\"=500\",$F$62:$F$116,Таблица1[[#This Row],[АСТРА]])","v":0},{"$f":"Таблица1[[#This Row],[Столбец23]]+Таблица1[[#This Row],[Столбец24]]","v":0},{"$f":"Таблица1[[#This Row],[лом.целых]]+Таблица1[[#This Row],[лом.делов]]-Таблица1[[#This Row],[лом.на.пор.]]","v":0},{"$f":"IF(Таблица1[[#This Row],[резы]]*Таблица1[[#This Row],[шир.рез]]/1000*Таблица1[[#This Row],[коэф]]/2<0,0,Таблица1[[#This Row],[резы]]*Таблица1[[#This Row],[шир.рез]]/1000*Таблица1[[#This Row],[коэф]]/2)","v":0},{"$f":"SUMIFS($Y$62:$Y$116,$C$62:$C$116,Таблица1[[#This Row],[Дл]],$D$62:$D$116,\"=500\",$F$62:$F$116,Таблица1[[#This Row],[АСТРА]])","v":0},{"$f":"SUMIFS($Y$62:$Y$116,$C$62:$C$116,\"<\"&Таблица1[[#This Row],[Дл]],$D$62:$D$116,\"=500\",$F$62:$F$116,Таблица1[[#This Row],[АСТРА]])","v":0},5,{"$f":"IF(Таблица1[[#This Row],[профиль]]=Таблица1[[#This Row],[толщ]],CONCATENATE(Таблица1[[#This Row],[Столбец33]],\" \",Таблица1[[#This Row],[толщ]]),CONCATENATE(Таблица1[[#This Row],[Столбец33]],\" \",Таблица1[[#This Row],[профиль]],\"х\",Таблица1[[#This Row],[толщ]]))","v":"Труба 25х1"},{"$f":"CONCATENATE(Таблица1[[#This Row],[Столбец33]],\" \",Таблица1[[#This Row],[профиль]])","v":"Труба 25"},"Труба 25, 1.0 мм, тр25","Труба",{"$f":"IF(Таблица1[[#This Row],[профиль]]=Таблица1[[#This Row],[толщ]],Таблица1[[#This Row],[толщ]],CONCATENATE(Таблица1[[#This Row],[профиль]],\"х\",Таблица1[[#This Row],[точка]]))","v":"25х1"},25,1,{"$f":"SUBSTITUTE(Таблица1[[#This Row],[толщ]],\",\",\".\")","v":"1"},1.18,{"$f":"SUMIFS($U$8:$U$57,$K$8:$K$57,Таблица1[[#This Row],[ГОСТ]])","v":0}]
[{"$f":"IF(Таблица1[[#This Row],[Столбец19]]=0,\"z\",\"\")","v":"z"},null,null,6000,null,{"$f":"SUMIFS($G$62:$G$116,$D$62:$D$116,500,$C$62:$C$116,Таблица1[[#This Row],[Дл]],$F$62:$F$116,Таблица1[[#This Row],[АСТРА]])","v":0},{"$f":"Таблица1[[#This Row],[толщ]]","v":1.5},{"$f":"Таблица1[[#This Row],[ГОСТ]]","v":"Труба 25х1,5"},{"$f":"SUMIFS($N$62:$N$116,$C$62:$C$116,Таблица1[[#This Row],[Дл]],$D$62:$D$116,\"=500\",$F$62:$F$116,Таблица1[[#This Row],[АСТРА]])","v":0},{"$f":"SUMIFS($N$62:$N$116,$C$62:$C$116,\"<\"&Таблица1[[#This Row],[Дл]],$D$62:$D$116,\"=500\",$F$62:$F$116,Таблица1[[#This Row],[АСТРА]])","v":0},null,null,{"$f":"SUMIFS($J$8:$J$57,$K$8:$K$57,Таблица1[[#This Row],[Столбец5]])","v":0},{"$f":"Таблица1[[#This Row],[пол.мас.цел]]+Таблица1[[#This Row],[пол.мас.дел]]","v":0},{"$f":"SUMIFS($Q$62:$Q$116,$C$62:$C$116,Таблица1[[#This Row],[Дл]],$D$62:$D$116,\"=500\",$F$62:$F$116,Таблица1[[#This Row],[АСТРА]])","v":0},{"$f":"SUMIFS($Q$62:$Q$116,$C$62:$C$116,\"<\"&Таблица1[[#This Row],[Дл]],$D$62:$D$116,\"=500\",$F$62:$F$116,Таблица1[[#This Row],[АСТРА]])","v":0},{"$f":"Таблица1[[#This Row],[ост.с.цел]]+Таблица1[[#This Row],[ост.с.дел]]","v":0},{"$f":"Таблица1[[#This Row],[лом.целых]]+Таблица1[[#This Row],[лом.делов]]-Таблица1[[#This Row],[лом.на.пор.]]","v":0},{"$f":"Таблица1[[#This Row],[лом]]+Таблица1[[#This Row],[корр.масс]]","v":0},{"$f":"SUMIFS($T$62:$T$116,$C$62:$C$116,Таблица1[[#This Row],[Дл]],$D$62:$D$116,\"=500\",$F$62:$F$116,Таблица1[[#This Row],[АСТРА]])","v":0},{"$f":"SUMIFS($T$62:$T$116,$C$62:$C$116,\"<\"&Таблица1[[#This Row],[Дл]],$D$62:$D$116,\"=500\",$F$62:$F$116,Таблица1[[#This Row],[АСТРА]])","v":0},{"$f":"Таблица1[[#This Row],[Столбец17]]+Таблица1[[#This Row],[Столбец18]]+Таблица1[[#This Row],[лом.на.пор.]]","v":0},{"$f":"Таблица1[[#This Row],[Столбец19]]-Таблица1[[#This Row],[корр.масс]]","v":0},null,{"$f":"SUMIFS($X$62:$X$116,$C$62:$C$116,Таблица1[[#This Row],[Дл]],$D$62:$D$116,\"=500\",$F$62:$F$116,Таблица1[[#This Row],[АСТРА]])","v":0},{"$f":"SUMIFS($X$62:$X$116,$C$62:$C$116,\"<\"&Таблица1[[#This Row],[Дл]],$D$62:$D$116,\"=500\",$F$62:$F$116,Таблица1[[#This Row],[АСТРА]])","v":0},{"$f":"Таблица1[[#This Row],[Столбец23]]+Таблица1[[#This Row],[Столбец24]]","v":0},{"$f":"Таблица1[[#This Row],[лом.целых]]+Таблица1[[#This Row],[лом.делов]]-Таблица1[[#This Row],[лом.на.пор.]]","v":0},{"$f":"IF(Таблица1[[#This Row],[резы]]*Таблица1[[#This Row],[шир.рез]]/1000*Таблица1[[#This Row],[коэф]]/2<0,0,Таблица1[[#This Row],[резы]]*Таблица1[[#This Row],[шир.рез]]/1000*Таблица1[[#This Row],[коэф]]/2)","v":0},{"$f":"SUMIFS($Y$62:$Y$116,$C$62:$C$116,Таблица1[[#This Row],[Дл]],$D$62:$D$116,\"=500\",$F$62:$F$116,Таблица1[[#This Row],[АСТРА]])","v":0},{"$f":"SUMIFS($Y$62:$Y$116,$C$62:$C$116,\"<\"&Таблица1[[#This Row],[Дл]],$D$62:$D$116,\"=500\",$F$62:$F$116,Таблица1[[#This Row],[АСТРА]])","v":0},5,{"$f":"IF(Таблица1[[#This Row],[профиль]]=Таблица1[[#This Row],[толщ]],CONCATENATE(Таблица1[[#This Row],[Столбец33]],\" \",Таблица1[[#This Row],[толщ]]),CONCATENATE(Таблица1[[#This Row],[Столбец33]],\" \",Таблица1[[#This Row],[профиль]],\"х\",Таблица1[[#This Row],[толщ]]))","v":"Труба 25х1,5"},{"$f":"CONCATENATE(Таблица1[[#This Row],[Столбец33]],\" \",Таблица1[[#This Row],[профиль]])","v":"Труба 25"},"Труба 25, 1.5 мм, тр25","Труба",{"$f":"IF(Таблица1[[#This Row],[профиль]]=Таблица1[[#This Row],[толщ]],Таблица1[[#This Row],[толщ]],CONCATENATE(Таблица1[[#This Row],[профиль]],\"х\",Таблица1[[#This Row],[точка]]))","v":"25х1.5"},25,1.5,{"$f":"SUBSTITUTE(Таблица1[[#This Row],[толщ]],\",\",\".\")","v":"1.5"},1.74,{"$f":"SUMIFS($U$8:$U$57,$K$8:$K$57,Таблица1[[#This Row],[ГОСТ]])","v":0}]
[{"$f":"IF(Таблица1[[#This Row],[Столбец19]]=0,\"z\",\"\")","v":"z"},null,null,6000,null,{"$f":"SUMIFS($G$62:$G$116,$D$62:$D$116,500,$C$62:$C$116,Таблица1[[#This Row],[Дл]],$F$62:$F$116,Таблица1[[#This Row],[АСТРА]])","v":0},{"$f":"Таблица1[[#This Row],[толщ]]","v":1.5},{"$f":"Таблица1[[#This Row],[ГОСТ]]","v":"Труба 25х15х1,5"},{"$f":"SUMIFS($N$62:$N$116,$C$62:$C$116,Таблица1[[#This Row],[Дл]],$D$62:$D$116,\"=500\",$F$62:$F$116,Таблица1[[#This Row],[АСТРА]])","v":0},{"$f":"SUMIFS($N$62:$N$116,$C$62:$C$116,\"<\"&Таблица1[[#This Row],[Дл]],$D$62:$D$116,\"=500\",$F$62:$F$116,Таблица1[[#This Row],[АСТРА]])","v":0},null,null,{"$f":"SUMIFS($J$8:$J$57,$K$8:$K$57,Таблица1[[#This Row],[Столбец5]])","v":0},{"$f":"Таблица1[[#This Row],[пол.мас.цел]]+Таблица1[[#This Row],[пол.мас.дел]]","v":0},{"$f":"SUMIFS($Q$62:$Q$116,$C$62:$C$116,Таблица1[[#This Row],[Дл]],$D$62:$D$116,\"=500\",$F$62:$F$116,Таблица1[[#This Row],[АСТРА]])","v":0},{"$f":"SUMIFS($Q$62:$Q$116,$C$62:$C$116,\"<\"&Таблица1[[#This Row],[Дл]],$D$62:$D$116,\"=500\",$F$62:$F$116,Таблица1[[#This Row],[АСТРА]])","v":0},{"$f":"Таблица1[[#This Row],[ост.с.цел]]+Таблица1[[#This Row],[ост.с.дел]]","v":0},{"$f":"Таблица1[[#This Row],[лом.целых]]+Таблица1[[#This Row],[лом.делов]]-Таблица1[[#This Row],[лом.на.пор.]]","v":0},{"$f":"Таблица1[[#This Row],[лом]]+Таблица1[[#This Row],[корр.масс]]","v":0},{"$f":"SUMIFS($T$62:$T$116,$C$62:$C$116,Таблица1[[#This Row],[Дл]],$D$62:$D$116,\"=500\",$F$62:$F$116,Таблица1[[#This Row],[АСТРА]])","v":0},{"$f":"SUMIFS($T$62:$T$116,$C$62:$C$116,\"<\"&Таблица1[[#This Row],[Дл]],$D$62:$D$116,\"=500\",$F$62:$F$116,Таблица1[[#This Row],[АСТРА]])","v":0},{"$f":"Таблица1[[#This Row],[Столбец17]]+Таблица1[[#This Row],[Столбец18]]+Таблица1[[#This Row],[лом.на.пор.]]","v":0},{"$f":"Таблица1[[#This Row],[Столбец19]]-Таблица1[[#This Row],[корр.масс]]","v":0},null,{"$f":"SUMIFS($X$62:$X$116,$C$62:$C$116,Таблица1[[#This Row],[Дл]],$D$62:$D$116,\"=500\",$F$62:$F$116,Таблица1[[#This Row],[АСТРА]])","v":0},{"$f":"SUMIFS($X$62:$X$116,$C$62:$C$116,\"<\"&Таблица1[[#This Row],[Дл]],$D$62:$D$116,\"=500\",$F$62:$F$116,Таблица1[[#This Row],[АСТРА]])","v":0},{"$f":"Таблица1[[#This Row],[Столбец23]]+Таблица1[[#This Row],[Столбец24]]","v":0},{"$f":"Таблица1[[#This Row],[лом.целых]]+Таблица1[[#This Row],[лом.делов]]-Таблица1[[#This Row],[лом.на.пор.]]","v":0},{"$f":"IF(Таблица1[[#This Row],[резы]]*Таблица1[[#This Row],[шир.рез]]/1000*Таблица1[[#This Row],[коэф]]/2<0,0,Таблица1[[#This Row],[резы]]*Таблица1[[#This Row],[шир.рез]]/1000*Таблица1[[#This Row],[коэф]]/2)","v":0},{"$f":"SUMIFS($Y$62:$Y$116,$C$62:$C$116,Таблица1[[#This Row],[Дл]],$D$62:$D$116,\"=500\",$F$62:$F$116,Таблица1[[#This Row],[АСТРА]])","v":0},{"$f":"SUMIFS($Y$62:$Y$116,$C$62:$C$116,\"<\"&Таблица1[[#This Row],[Дл]],$D$62:$D$116,\"=500\",$F$62:$F$116,Таблица1[[#This Row],[АСТРА]])","v":0},5,{"$f":"IF(Таблица1[[#This Row],[профиль]]=Таблица1[[#This Row],[толщ]],CONCATENATE(Таблица1[[#This Row],[Столбец33]],\" \",Таблица1[[#This Row],[толщ]]),CONCATENATE(Таблица1[[#This Row],[Столбец33]],\" \",Таблица1[[#This Row],[профиль]],\"х\",Таблица1[[#This Row],[толщ]]))","v":"Труба 25х15х1,5"},{"$f":"CONCATENATE(Таблица1[[#This Row],[Столбец33]],\" \",Таблица1[[#This Row],[профиль]])","v":"Труба 25х15"},"Труба 25х15, 1.5 мм","Труба",{"$f":"IF(Таблица1[[#This Row],[профиль]]=Таблица1[[#This Row],[толщ]],Таблица1[[#This Row],[толщ]],CONCATENATE(Таблица1[[#This Row],[профиль]],\"х\",Таблица1[[#This Row],[точка]]))","v":"25х15х1.5"},"25х15",1.5,{"$f":"SUBSTITUTE(Таблица1[[#This Row],[толщ]],\",\",\".\")","v":"1.5"},1.68,{"$f":"SUMIFS($U$8:$U$57,$K$8:$K$57,Таблица1[[#This Row],[ГОСТ]])","v":0}]
[{"$f":"IF(Таблица1[[#This Row],[Столбец19]]=0,\"z\",\"\")","v":"z"},null,null,6000,null,{"$f":"SUMIFS($G$62:$G$116,$D$62:$D$116,500,$C$62:$C$116,Таблица1[[#This Row],[Дл]],$F$62:$F$116,Таблица1[[#This Row],[АСТРА]])","v":0},{"$f":"Таблица1[[#This Row],[толщ]]","v":2},{"$f":"Таблица1[[#This Row],[ГОСТ]]","v":"Труба 25х15х2"},{"$f":"SUMIFS($N$62:$N$116,$C$62:$C$116,Таблица1[[#This Row],[Дл]],$D$62:$D$116,\"=500\",$F$62:$F$116,Таблица1[[#This Row],[АСТРА]])","v":0},{"$f":"SUMIFS($N$62:$N$116,$C$62:$C$116,\"<\"&Таблица1[[#This Row],[Дл]],$D$62:$D$116,\"=500\",$F$62:$F$116,Таблица1[[#This Row],[АСТРА]])","v":0},null,null,{"$f":"SUMIFS($J$8:$J$57,$K$8:$K$57,Таблица1[[#This Row],[Столбец5]])","v":0},{"$f":"Таблица1[[#This Row],[пол.мас.цел]]+Таблица1[[#This Row],[пол.мас.дел]]","v":0},{"$f":"SUMIFS($Q$62:$Q$116,$C$62:$C$116,Таблица1[[#This Row],[Дл]],$D$62:$D$116,\"=500\",$F$62:$F$116,Таблица1[[#This Row],[АСТРА]])","v":0},{"$f":"SUMIFS($Q$62:$Q$116,$C$62:$C$116,\"<\"&Таблица1[[#This Row],[Дл]],$D$62:$D$116,\"=500\",$F$62:$F$116,Таблица1[[#This Row],[АСТРА]])","v":0},{"$f":"Таблица1[[#This Row],[ост.с.цел]]+Таблица1[[#This Row],[ост.с.дел]]","v":0},{"$f":"Таблица1[[#This Row],[лом.целых]]+Таблица1[[#This Row],[лом.делов]]-Таблица1[[#This Row],[лом.на.пор.]]","v":0},{"$f":"Таблица1[[#This Row],[лом]]+Таблица1[[#This Row],[корр.масс]]","v":0},{"$f":"SUMIFS($T$62:$T$116,$C$62:$C$116,Таблица1[[#This Row],[Дл]],$D$62:$D$116,\"=500\",$F$62:$F$116,Таблица1[[#This Row],[АСТРА]])","v":0},{"$f":"SUMIFS($T$62:$T$116,$C$62:$C$116,\"<\"&Таблица1[[#This Row],[Дл]],$D$62:$D$116,\"=500\",$F$62:$F$116,Таблица1[[#This Row],[АСТРА]])","v":0},{"$f":"Таблица1[[#This Row],[Столбец17]]+Таблица1[[#This Row],[Столбец18]]+Таблица1[[#This Row],[лом.на.пор.]]","v":0},{"$f":"Таблица1[[#This Row],[Столбец19]]-Таблица1[[#This Row],[корр.масс]]","v":0},null,{"$f":"SUMIFS($X$62:$X$116,$C$62:$C$116,Таблица1[[#This Row],[Дл]],$D$62:$D$116,\"=500\",$F$62:$F$116,Таблица1[[#This Row],[АСТРА]])","v":0},{"$f":"SUMIFS($X$62:$X$116,$C$62:$C$116,\"<\"&Таблица1[[#This Row],[Дл]],$D$62:$D$116,\"=500\",$F$62:$F$116,Таблица1[[#This Row],[АСТРА]])","v":0},{"$f":"Таблица1[[#This Row],[Столбец23]]+Таблица1[[#This Row],[Столбец24]]","v":0},{"$f":"Таблица1[[#This Row],[лом.целых]]+Таблица1[[#This Row],[лом.делов]]-Таблица1[[#This Row],[лом.на.пор.]]","v":0},{"$f":"IF(Таблица1[[#This Row],[резы]]*Таблица1[[#This Row],[шир.рез]]/1000*Таблица1[[#This Row],[коэф]]/2<0,0,Таблица1[[#This Row],[резы]]*Таблица1[[#This Row],[шир.рез]]/1000*Таблица1[[#This Row],[коэф]]/2)","v":0},{"$f":"SUMIFS($Y$62:$Y$116,$C$62:$C$116,Таблица1[[#This Row],[Дл]],$D$62:$D$116,\"=500\",$F$62:$F$116,Таблица1[[#This Row],[АСТРА]])","v":0},{"$f":"SUMIFS($Y$62:$Y$116,$C$62:$C$116,\"<\"&Таблица1[[#This Row],[Дл]],$D$62:$D$116,\"=500\",$F$62:$F$116,Таблица1[[#This Row],[АСТРА]])","v":0},5,{"$f":"IF(Таблица1[[#This Row],[профиль]]=Таблица1[[#This Row],[толщ]],CONCATENATE(Таблица1[[#This Row],[Столбец33]],\" \",Таблица1[[#This Row],[толщ]]),CONCATENATE(Таблица1[[#This Row],[Столбец33]],\" \",Таблица1[[#This Row],[профиль]],\"х\",Таблица1[[#This Row],[толщ]]))","v":"Труба 25х15х2"},{"$f":"CONCATENATE(Таблица1[[#This Row],[Столбец33]],\" \",Таблица1[[#This Row],[профиль]])","v":"Труба 25х15"},"Труба 25х15, 2.0 мм","Труба",{"$f":"IF(Таблица1[[#This Row],[профиль]]=Таблица1[[#This Row],[толщ]],Таблица1[[#This Row],[толщ]],CONCATENATE(Таблица1[[#This Row],[профиль]],\"х\",Таблица1[[#This Row],[точка]]))","v":"25х15х2"},"25х15",2,{"$f":"SUBSTITUTE(Таблица1[[#This Row],[толщ]],\",\",\".\")","v":"2"},2.15,{"$f":"SUMIFS($U$8:$U$57,$K$8:$K$57,Таблица1[[#This Row],[ГОСТ]])","v":0}]
[{"$f":"IF(Таблица1[[#This Row],[Столбец19]]=0,\"z\",\"\")","v":"z"},null,null,6000,null,{"$f":"SUMIFS($G$62:$G$116,$D$62:$D$116,500,$C$62:$C$116,Таблица1[[#This Row],[Дл]],$F$62:$F$116,Таблица1[[#This Row],[АСТРА]])","v":0},{"$f":"Таблица1[[#This Row],[толщ]]","v":2},{"$f":"Таблица1[[#This Row],[ГОСТ]]","v":"Труба 25х2"},{"$f":"SUMIFS($N$62:$N$116,$C$62:$C$116,Таблица1[[#This Row],[Дл]],$D$62:$D$116,\"=500\",$F$62:$F$116,Таблица1[[#This Row],[АСТРА]])","v":0},{"$f":"SUMIFS($N$62:$N$116,$C$62:$C$116,\"<\"&Таблица1[[#This Row],[Дл]],$D$62:$D$116,\"=500\",$F$62:$F$116,Таблица1[[#This Row],[АСТРА]])","v":0},null,null,{"$f":"SUMIFS($J$8:$J$57,$K$8:$K$57,Таблица1[[#This Row],[Столбец5]])","v":0},{"$f":"Таблица1[[#This Row],[пол.мас.цел]]+Таблица1[[#This Row],[пол.мас.дел]]","v":0},{"$f":"SUMIFS($Q$62:$Q$116,$C$62:$C$116,Таблица1[[#This Row],[Дл]],$D$62:$D$116,\"=500\",$F$62:$F$116,Таблица1[[#This Row],[АСТРА]])","v":0},{"$f":"SUMIFS($Q$62:$Q$116,$C$62:$C$116,\"<\"&Таблица1[[#This Row],[Дл]],$D$62:$D$116,\"=500\",$F$62:$F$116,Таблица1[[#This Row],[АСТРА]])","v":0},{"$f":"Таблица1[[#This Row],[ост.с.цел]]+Таблица1[[#This Row],[ост.с.дел]]","v":0},{"$f":"Таблица1[[#This Row],[лом.целых]]+Таблица1[[#This Row],[лом.делов]]-Таблица1[[#This Row],[лом.на.пор.]]","v":0},{"$f":"Таблица1[[#This Row],[лом]]+Таблица1[[#This Row],[корр.масс]]","v":0},{"$f":"SUMIFS($T$62:$T$116,$C$62:$C$116,Таблица1[[#This Row],[Дл]],$D$62:$D$116,\"=500\",$F$62:$F$116,Таблица1[[#This Row],[АСТРА]])","v":0},{"$f":"SUMIFS($T$62:$T$116,$C$62:$C$116,\"<\"&Таблица1[[#This Row],[Дл]],$D$62:$D$116,\"=500\",$F$62:$F$116,Таблица1[[#This Row],[АСТРА]])","v":0},{"$f":"Таблица1[[#This Row],[Столбец17]]+Таблица1[[#This Row],[Столбец18]]+Таблица1[[#This Row],[лом.на.пор.]]","v":0},{"$f":"Таблица1[[#This Row],[Столбец19]]-Таблица1[[#This Row],[корр.масс]]","v":0},null,{"$f":"SUMIFS($X$62:$X$116,$C$62:$C$116,Таблица1[[#This Row],[Дл]],$D$62:$D$116,\"=500\",$F$62:$F$116,Таблица1[[#This Row],[АСТРА]])","v":0},{"$f":"SUMIFS($X$62:$X$116,$C$62:$C$116,\"<\"&Таблица1[[#This Row],[Дл]],$D$62:$D$116,\"=500\",$F$62:$F$116,Таблица1[[#This Row],[АСТРА]])","v":0},{"$f":"Таблица1[[#This Row],[Столбец23]]+Таблица1[[#This Row],[Столбец24]]","v":0},{"$f":"Таблица1[[#This Row],[лом.целых]]+Таблица1[[#This Row],[лом.делов]]-Таблица1[[#This Row],[лом.на.пор.]]","v":0},{"$f":"IF(Таблица1[[#This Row],[резы]]*Таблица1[[#This Row],[шир.рез]]/1000*Таблица1[[#This Row],[коэф]]/2<0,0,Таблица1[[#This Row],[резы]]*Таблица1[[#This Row],[шир.рез]]/1000*Таблица1[[#This Row],[коэф]]/2)","v":0},{"$f":"SUMIFS($Y$62:$Y$116,$C$62:$C$116,Таблица1[[#This Row],[Дл]],$D$62:$D$116,\"=500\",$F$62:$F$116,Таблица1[[#This Row],[АСТРА]])","v":0},{"$f":"SUMIFS($Y$62:$Y$116,$C$62:$C$116,\"<\"&Таблица1[[#This Row],[Дл]],$D$62:$D$116,\"=500\",$F$62:$F$116,Таблица1[[#This Row],[АСТРА]])","v":0},5,{"$f":"IF(Таблица1[[#This Row],[профиль]]=Таблица1[[#This Row],[толщ]],CONCATENATE(Таблица1[[#This Row],[Столбец33]],\" \",Таблица1[[#This Row],[толщ]]),CONCATENATE(Таблица1[[#This Row],[Столбец33]],\" \",Таблица1[[#This Row],[профиль]],\"х\",Таблица1[[#This Row],[толщ]]))","v":"Труба 25х2"},{"$f":"CONCATENATE(Таблица1[[#This Row],[Столбец33]],\" \",Таблица1[[#This Row],[профиль]])","v":"Труба 25"},"Труба 25, 2.0 мм, тр25","Труба",{"$f":"IF(Таблица1[[#This Row],[профиль]]=Таблица1[[#This Row],[толщ]],Таблица1[[#This Row],[толщ]],CONCATENATE(Таблица1[[#This Row],[профиль]],\"х\",Таблица1[[#This Row],[точка]]))","v":"25х2"},25,2,{"$f":"SUBSTITUTE(Таблица1[[#This Row],[толщ]],\",\",\".\")","v":"2"},2.27,{"$f":"SUMIFS($U$8:$U$57,$K$8:$K$57,Таблица1[[#This Row],[ГОСТ]])","v":0}]
[{"$f":"IF(Таблица1[[#This Row],[Столбец19]]=0,\"z\",\"\")","v":"z"},null,null,6000,null,{"$f":"SUMIFS($G$62:$G$116,$D$62:$D$116,500,$C$62:$C$116,Таблица1[[#This Row],[Дл]],$F$62:$F$116,Таблица1[[#This Row],[АСТРА]])","v":0},{"$f":"Таблица1[[#This Row],[толщ]]","v":1},{"$f":"Таблица1[[#This Row],[ГОСТ]]","v":"Труба 25х25х1"},{"$f":"SUMIFS($N$62:$N$116,$C$62:$C$116,Таблица1[[#This Row],[Дл]],$D$62:$D$116,\"=500\",$F$62:$F$116,Таблица1[[#This Row],[АСТРА]])","v":0},{"$f":"SUMIFS($N$62:$N$116,$C$62:$C$116,\"<\"&Таблица1[[#This Row],[Дл]],$D$62:$D$116,\"=500\",$F$62:$F$116,Таблица1[[#This Row],[АСТРА]])","v":0},null,null,{"$f":"SUMIFS($J$8:$J$57,$K$8:$K$57,Таблица1[[#This Row],[Столбец5]])","v":0},{"$f":"Таблица1[[#This Row],[пол.мас.цел]]+Таблица1[[#This Row],[пол.мас.дел]]","v":0},{"$f":"SUMIFS($Q$62:$Q$116,$C$62:$C$116,Таблица1[[#This Row],[Дл]],$D$62:$D$116,\"=500\",$F$62:$F$116,Таблица1[[#This Row],[АСТРА]])","v":0},{"$f":"SUMIFS($Q$62:$Q$116,$C$62:$C$116,\"<\"&Таблица1[[#This Row],[Дл]],$D$62:$D$116,\"=500\",$F$62:$F$116,Таблица1[[#This Row],[АСТРА]])","v":0},{"$f":"Таблица1[[#This Row],[ост.с.цел]]+Таблица1[[#This Row],[ост.с.дел]]","v":0},{"$f":"Таблица1[[#This Row],[лом.целых]]+Таблица1[[#This Row],[лом.делов]]-Таблица1[[#This Row],[лом.на.пор.]]","v":0},{"$f":"Таблица1[[#This Row],[лом]]+Таблица1[[#This Row],[корр.масс]]","v":0},{"$f":"SUMIFS($T$62:$T$116,$C$62:$C$116,Таблица1[[#This Row],[Дл]],$D$62:$D$116,\"=500\",$F$62:$F$116,Таблица1[[#This Row],[АСТРА]])","v":0},{"$f":"SUMIFS($T$62:$T$116,$C$62:$C$116,\"<\"&Таблица1[[#This Row],[Дл]],$D$62:$D$116,\"=500\",$F$62:$F$116,Таблица1[[#This Row],[АСТРА]])","v":0},{"$f":"Таблица1[[#This Row],[Столбец17]]+Таблица1[[#This Row],[Столбец18]]+Таблица1[[#This Row],[лом.на.пор.]]","v":0},{"$f":"Таблица1[[#This Row],[Столбец19]]-Таблица1[[#This Row],[корр.масс]]","v":0},null,{"$f":"SUMIFS($X$62:$X$116,$C$62:$C$116,Таблица1[[#This Row],[Дл]],$D$62:$D$116,\"=500\",$F$62:$F$116,Таблица1[[#This Row],[АСТРА]])","v":0},{"$f":"SUMIFS($X$62:$X$116,$C$62:$C$116,\"<\"&Таблица1[[#This Row],[Дл]],$D$62:$D$116,\"=500\",$F$62:$F$116,Таблица1[[#This Row],[АСТРА]])","v":0},{"$f":"Таблица1[[#This Row],[Столбец23]]+Таблица1[[#This Row],[Столбец24]]","v":0},{"$f":"Таблица1[[#This Row],[лом.целых]]+Таблица1[[#This Row],[лом.делов]]-Таблица1[[#This Row],[лом.на.пор.]]","v":0},{"$f":"IF(Таблица1[[#This Row],[резы]]*Таблица1[[#This Row],[шир.рез]]/1000*Таблица1[[#This Row],[коэф]]/2<0,0,Таблица1[[#This Row],[резы]]*Таблица1[[#This Row],[шир.рез]]/1000*Таблица1[[#This Row],[коэф]]/2)","v":0},{"$f":"SUMIFS($Y$62:$Y$116,$C$62:$C$116,Таблица1[[#This Row],[Дл]],$D$62:$D$116,\"=500\",$F$62:$F$116,Таблица1[[#This Row],[АСТРА]])","v":0},{"$f":"SUMIFS($Y$62:$Y$116,$C$62:$C$116,\"<\"&Таблица1[[#This Row],[Дл]],$D$62:$D$116,\"=500\",$F$62:$F$116,Таблица1[[#This Row],[АСТРА]])","v":0},5,{"$f":"IF(Таблица1[[#This Row],[профиль]]=Таблица1[[#This Row],[толщ]],CONCATENATE(Таблица1[[#This Row],[Столбец33]],\" \",Таблица1[[#This Row],[толщ]]),CONCATENATE(Таблица1[[#This Row],[Столбец33]],\" \",Таблица1[[#This Row],[профиль]],\"х\",Таблица1[[#This Row],[толщ]]))","v":"Труба 25х25х1"},{"$f":"CONCATENATE(Таблица1[[#This Row],[Столбец33]],\" \",Таблица1[[#This Row],[профиль]])","v":"Труба 25х25"},"Труба 25х25, 1.0 мм, тр2525","Труба",{"$f":"IF(Таблица1[[#This Row],[профиль]]=Таблица1[[#This Row],[толщ]],Таблица1[[#This Row],[толщ]],CONCATENATE(Таблица1[[#This Row],[профиль]],\"х\",Таблица1[[#This Row],[точка]]))","v":"25х25х1"},"25х25",1,{"$f":"SUBSTITUTE(Таблица1[[#This Row],[толщ]],\",\",\".\")","v":"1"},1.48,{"$f":"SUMIFS($U$8:$U$57,$K$8:$K$57,Таблица1[[#This Row],[ГОСТ]])","v":0}]
[{"$f":"IF(Таблица1[[#This Row],[Столбец19]]=0,\"z\",\"\")","v":"z"},null,null,6000,null,{"$f":"SUMIFS($G$62:$G$116,$D$62:$D$116,500,$C$62:$C$116,Таблица1[[#This Row],[Дл]],$F$62:$F$116,Таблица1[[#This Row],[АСТРА]])","v":0},{"$f":"Таблица1[[#This Row],[толщ]]","v":1.2},{"$f":"Таблица1[[#This Row],[ГОСТ]]","v":"Труба 25х25х1,2"},{"$f":"SUMIFS($N$62:$N$116,$C$62:$C$116,Таблица1[[#This Row],[Дл]],$D$62:$D$116,\"=500\",$F$62:$F$116,Таблица1[[#This Row],[АСТРА]])","v":0},{"$f":"SUMIFS($N$62:$N$116,$C$62:$C$116,\"<\"&Таблица1[[#This Row],[Дл]],$D$62:$D$116,\"=500\",$F$62:$F$116,Таблица1[[#This Row],[АСТРА]])","v":0},null,null,{"$f":"SUMIFS($J$8:$J$57,$K$8:$K$57,Таблица1[[#This Row],[Столбец5]])","v":0},{"$f":"Таблица1[[#This Row],[пол.мас.цел]]+Таблица1[[#This Row],[пол.мас.дел]]","v":0},{"$f":"SUMIFS($Q$62:$Q$116,$C$62:$C$116,Таблица1[[#This Row],[Дл]],$D$62:$D$116,\"=500\",$F$62:$F$116,Таблица1[[#This Row],[АСТРА]])","v":0},{"$f":"SUMIFS($Q$62:$Q$116,$C$62:$C$116,\"<\"&Таблица1[[#This Row],[Дл]],$D$62:$D$116,\"=500\",$F$62:$F$116,Таблица1[[#This Row],[АСТРА]])","v":0},{"$f":"Таблица1[[#This Row],[ост.с.цел]]+Таблица1[[#This Row],[ост.с.дел]]","v":0},{"$f":"Таблица1[[#This Row],[лом.целых]]+Таблица1[[#This Row],[лом.делов]]-Таблица1[[#This Row],[лом.на.пор.]]","v":0},{"$f":"Таблица1[[#This Row],[лом]]+Таблица1[[#This Row],[корр.масс]]","v":0},{"$f":"SUMIFS($T$62:$T$116,$C$62:$C$116,Таблица1[[#This Row],[Дл]],$D$62:$D$116,\"=500\",$F$62:$F$116,Таблица1[[#This Row],[АСТРА]])","v":0},{"$f":"SUMIFS($T$62:$T$116,$C$62:$C$116,\"<\"&Таблица1[[#This Row],[Дл]],$D$62:$D$116,\"=500\",$F$62:$F$116,Таблица1[[#This Row],[АСТРА]])","v":0},{"$f":"Таблица1[[#This Row],[Столбец17]]+Таблица1[[#This Row],[Столбец18]]+Таблица1[[#This Row],[лом.на.пор.]]","v":0},{"$f":"Таблица1[[#This Row],[Столбец19]]-Таблица1[[#This Row],[корр.масс]]","v":0},null,{"$f":"SUMIFS($X$62:$X$116,$C$62:$C$116,Таблица1[[#This Row],[Дл]],$D$62:$D$116,\"=500\",$F$62:$F$116,Таблица1[[#This Row],[АСТРА]])","v":0},{"$f":"SUMIFS($X$62:$X$116,$C$62:$C$116,\"<\"&Таблица1[[#This Row],[Дл]],$D$62:$D$116,\"=500\",$F$62:$F$116,Таблица1[[#This Row],[АСТРА]])","v":0},{"$f":"Таблица1[[#This Row],[Столбец23]]+Таблица1[[#This Row],[Столбец24]]","v":0},{"$f":"Таблица1[[#This Row],[лом.целых]]+Таблица1[[#This Row],[лом.делов]]-Таблица1[[#This Row],[лом.на.пор.]]","v":0},{"$f":"IF(Таблица1[[#This Row],[резы]]*Таблица1[[#This Row],[шир.рез]]/1000*Таблица1[[#This Row],[коэф]]/2<0,0,Таблица1[[#This Row],[резы]]*Таблица1[[#This Row],[шир.рез]]/1000*Таблица1[[#This Row],[коэф]]/2)","v":0},{"$f":"SUMIFS($Y$62:$Y$116,$C$62:$C$116,Таблица1[[#This Row],[Дл]],$D$62:$D$116,\"=500\",$F$62:$F$116,Таблица1[[#This Row],[АСТРА]])","v":0},{"$f":"SUMIFS($Y$62:$Y$116,$C$62:$C$116,\"<\"&Таблица1[[#This Row],[Дл]],$D$62:$D$116,\"=500\",$F$62:$F$116,Таблица1[[#This Row],[АСТРА]])","v":0},5,{"$f":"IF(Таблица1[[#This Row],[профиль]]=Таблица1[[#This Row],[толщ]],CONCATENATE(Таблица1[[#This Row],[Столбец33]],\" \",Таблица1[[#This Row],[толщ]]),CONCATENATE(Таблица1[[#This Row],[Столбец33]],\" \",Таблица1[[#This Row],[профиль]],\"х\",Таблица1[[#This Row],[толщ]]))","v":"Труба 25х25х1,2"},{"$f":"CONCATENATE(Таблица1[[#This Row],[Столбец33]],\" \",Таблица1[[#This Row],[профиль]])","v":"Труба 25х25"},"Труба 25х25, 1.2 мм, тр2525","Труба",{"$f":"IF(Таблица1[[#This Row],[профиль]]=Таблица1[[#This Row],[толщ]],Таблица1[[#This Row],[толщ]],CONCATENATE(Таблица1[[#This Row],[профиль]],\"х\",Таблица1[[#This Row],[точка]]))","v":"25х25х1.2"},"25х25",1.2,{"$f":"SUBSTITUTE(Таблица1[[#This Row],[толщ]],\",\",\".\")","v":"1.2"},1.75,{"$f":"SUMIFS($U$8:$U$57,$K$8:$K$57,Таблица1[[#This Row],[ГОСТ]])","v":0}]
[{"$f":"IF(Таблица1[[#This Row],[Столбец19]]=0,\"z\",\"\")","v":"z"},null,null,6000,null,{"$f":"SUMIFS($G$62:$G$116,$D$62:$D$116,500,$C$62:$C$116,Таблица1[[#This Row],[Дл]],$F$62:$F$116,Таблица1[[#This Row],[АСТРА]])","v":0},{"$f":"Таблица1[[#This Row],[толщ]]","v":1.5},{"$f":"Таблица1[[#This Row],[ГОСТ]]","v":"Труба 25х25х1,5"},{"$f":"SUMIFS($N$62:$N$116,$C$62:$C$116,Таблица1[[#This Row],[Дл]],$D$62:$D$116,\"=500\",$F$62:$F$116,Таблица1[[#This Row],[АСТРА]])","v":0},{"$f":"SUMIFS($N$62:$N$116,$C$62:$C$116,\"<\"&Таблица1[[#This Row],[Дл]],$D$62:$D$116,\"=500\",$F$62:$F$116,Таблица1[[#This Row],[АСТРА]])","v":0},null,null,{"$f":"SUMIFS($J$8:$J$57,$K$8:$K$57,Таблица1[[#This Row],[Столбец5]])","v":0},{"$f":"Таблица1[[#This Row],[пол.мас.цел]]+Таблица1[[#This Row],[пол.мас.дел]]","v":0},{"$f":"SUMIFS($Q$62:$Q$116,$C$62:$C$116,Таблица1[[#This Row],[Дл]],$D$62:$D$116,\"=500\",$F$62:$F$116,Таблица1[[#This Row],[АСТРА]])","v":0},{"$f":"SUMIFS($Q$62:$Q$116,$C$62:$C$116,\"<\"&Таблица1[[#This Row],[Дл]],$D$62:$D$116,\"=500\",$F$62:$F$116,Таблица1[[#This Row],[АСТРА]])","v":0},{"$f":"Таблица1[[#This Row],[ост.с.цел]]+Таблица1[[#This Row],[ост.с.дел]]","v":0},{"$f":"Таблица1[[#This Row],[лом.целых]]+Таблица1[[#This Row],[лом.делов]]-Таблица1[[#This Row],[лом.на.пор.]]","v":0},{"$f":"Таблица1[[#This Row],[лом]]+Таблица1[[#This Row],[корр.масс]]","v":0},{"$f":"SUMIFS($T$62:$T$116,$C$62:$C$116,Таблица1[[#This Row],[Дл]],$D$62:$D$116,\"=500\",$F$62:$F$116,Таблица1[[#This Row],[АСТРА]])","v":0},{"$f":"SUMIFS($T$62:$T$116,$C$62:$C$116,\"<\"&Таблица1[[#This Row],[Дл]],$D$62:$D$116,\"=500\",$F$62:$F$116,Таблица1[[#This Row],[АСТРА]])","v":0},{"$f":"Таблица1[[#This Row],[Столбец17]]+Таблица1[[#This Row],[Столбец18]]+Таблица1[[#This Row],[лом.на.пор.]]","v":0},{"$f":"Таблица1[[#This Row],[Столбец19]]-Таблица1[[#This Row],[корр.масс]]","v":0},null,{"$f":"SUMIFS($X$62:$X$116,$C$62:$C$116,Таблица1[[#This Row],[Дл]],$D$62:$D$116,\"=500\",$F$62:$F$116,Таблица1[[#This Row],[АСТРА]])","v":0},{"$f":"SUMIFS($X$62:$X$116,$C$62:$C$116,\"<\"&Таблица1[[#This Row],[Дл]],$D$62:$D$116,\"=500\",$F$62:$F$116,Таблица1[[#This Row],[АСТРА]])","v":0},{"$f":"Таблица1[[#This Row],[Столбец23]]+Таблица1[[#This Row],[Столбец24]]","v":0},{"$f":"Таблица1[[#This Row],[лом.целых]]+Таблица1[[#This Row],[лом.делов]]-Таблица1[[#This Row],[лом.на.пор.]]","v":0},{"$f":"IF(Таблица1[[#This Row],[резы]]*Таблица1[[#This Row],[шир.рез]]/1000*Таблица1[[#This Row],[коэф]]/2<0,0,Таблица1[[#This Row],[резы]]*Таблица1[[#This Row],[шир.рез]]/1000*Таблица1[[#This Row],[коэф]]/2)","v":0},{"$f":"SUMIFS($Y$62:$Y$116,$C$62:$C$116,Таблица1[[#This Row],[Дл]],$D$62:$D$116,\"=500\",$F$62:$F$116,Таблица1[[#This Row],[АСТРА]])","v":0},{"$f":"SUMIFS($Y$62:$Y$116,$C$62:$C$116,\"<\"&Таблица1[[#This Row],[Дл]],$D$62:$D$116,\"=500\",$F$62:$F$116,Таблица1[[#This Row],[АСТРА]])","v":0},5,{"$f":"IF(Таблица1[[#This Row],[профиль]]=Таблица1[[#This Row],[толщ]],CONCATENATE(Таблица1[[#This Row],[Столбец33]],\" \",Таблица1[[#This Row],[толщ]]),CONCATENATE(Таблица1[[#This Row],[Столбец33]],\" \",Таблица1[[#This Row],[профиль]],\"х\",Таблица1[[#This Row],[толщ]]))","v":"Труба 25х25х1,5"},{"$f":"CONCATENATE(Таблица1[[#This Row],[Столбец33]],\" \",Таблица1[[#This Row],[профиль]])","v":"Труба 25х25"},"Труба 25х25, 1.5 мм, тр2525","Труба",{"$f":"IF(Таблица1[[#This Row],[профиль]]=Таблица1[[#This Row],[толщ]],Таблица1[[#This Row],[толщ]],CONCATENATE(Таблица1[[#This Row],[профиль]],\"х\",Таблица1[[#This Row],[точка]]))","v":"25х25х1.5"},"25х25",1.5,{"$f":"SUBSTITUTE(Таблица1[[#This Row],[толщ]],\",\",\".\")","v":"1.5"},2.15,{"$f":"SUMIFS($U$8:$U$57,$K$8:$K$57,Таблица1[[#This Row],[ГОСТ]])","v":0}]
[{"$f":"IF(Таблица1[[#This Row],[Столбец19]]=0,\"z\",\"\")","v":"z"},null,null,6000,null,{"$f":"SUMIFS($G$62:$G$116,$D$62:$D$116,500,$C$62:$C$116,Таблица1[[#This Row],[Дл]],$F$62:$F$116,Таблица1[[#This Row],[АСТРА]])","v":0},{"$f":"Таблица1[[#This Row],[толщ]]","v":2},{"$f":"Таблица1[[#This Row],[ГОСТ]]","v":"Труба 25х25х2"},{"$f":"SUMIFS($N$62:$N$116,$C$62:$C$116,Таблица1[[#This Row],[Дл]],$D$62:$D$116,\"=500\",$F$62:$F$116,Таблица1[[#This Row],[АСТРА]])","v":0},{"$f":"SUMIFS($N$62:$N$116,$C$62:$C$116,\"<\"&Таблица1[[#This Row],[Дл]],$D$62:$D$116,\"=500\",$F$62:$F$116,Таблица1[[#This Row],[АСТРА]])","v":0},null,null,{"$f":"SUMIFS($J$8:$J$57,$K$8:$K$57,Таблица1[[#This Row],[Столбец5]])","v":0},{"$f":"Таблица1[[#This Row],[пол.мас.цел]]+Таблица1[[#This Row],[пол.мас.дел]]","v":0},{"$f":"SUMIFS($Q$62:$Q$116,$C$62:$C$116,Таблица1[[#This Row],[Дл]],$D$62:$D$116,\"=500\",$F$62:$F$116,Таблица1[[#This Row],[АСТРА]])","v":0},{"$f":"SUMIFS($Q$62:$Q$116,$C$62:$C$116,\"<\"&Таблица1[[#This Row],[Дл]],$D$62:$D$116,\"=500\",$F$62:$F$116,Таблица1[[#This Row],[АСТРА]])","v":0},{"$f":"Таблица1[[#This Row],[ост.с.цел]]+Таблица1[[#This Row],[ост.с.дел]]","v":0},{"$f":"Таблица1[[#This Row],[лом.целых]]+Таблица1[[#This Row],[лом.делов]]-Таблица1[[#This Row],[лом.на.пор.]]","v":0},{"$f":"Таблица1[[#This Row],[лом]]+Таблица1[[#This Row],[корр.масс]]","v":0},{"$f":"SUMIFS($T$62:$T$116,$C$62:$C$116,Таблица1[[#This Row],[Дл]],$D$62:$D$116,\"=500\",$F$62:$F$116,Таблица1[[#This Row],[АСТРА]])","v":0},{"$f":"SUMIFS($T$62:$T$116,$C$62:$C$116,\"<\"&Таблица1[[#This Row],[Дл]],$D$62:$D$116,\"=500\",$F$62:$F$116,Таблица1[[#This Row],[АСТРА]])","v":0},{"$f":"Таблица1[[#This Row],[Столбец17]]+Таблица1[[#This Row],[Столбец18]]+Таблица1[[#This Row],[лом.на.пор.]]","v":0},{"$f":"Таблица1[[#This Row],[Столбец19]]-Таблица1[[#This Row],[корр.масс]]","v":0},null,{"$f":"SUMIFS($X$62:$X$116,$C$62:$C$116,Таблица1[[#This Row],[Дл]],$D$62:$D$116,\"=500\",$F$62:$F$116,Таблица1[[#This Row],[АСТРА]])","v":0},{"$f":"SUMIFS($X$62:$X$116,$C$62:$C$116,\"<\"&Таблица1[[#This Row],[Дл]],$D$62:$D$116,\"=500\",$F$62:$F$116,Таблица1[[#This Row],[АСТРА]])","v":0},{"$f":"Таблица1[[#This Row],[Столбец23]]+Таблица1[[#This Row],[Столбец24]]","v":0},{"$f":"Таблица1[[#This Row],[лом.целых]]+Таблица1[[#This Row],[лом.делов]]-Таблица1[[#This Row],[лом.на.пор.]]","v":0},{"$f":"IF(Таблица1[[#This Row],[резы]]*Таблица1[[#This Row],[шир.рез]]/1000*Таблица1[[#This Row],[коэф]]/2<0,0,Таблица1[[#This Row],[резы]]*Таблица1[[#This Row],[шир.рез]]/1000*Таблица1[[#This Row],[коэф]]/2)","v":0},{"$f":"SUMIFS($Y$62:$Y$116,$C$62:$C$116,Таблица1[[#This Row],[Дл]],$D$62:$D$116,\"=500\",$F$62:$F$116,Таблица1[[#This Row],[АСТРА]])","v":0},{"$f":"SUMIFS($Y$62:$Y$116,$C$62:$C$116,\"<\"&Таблица1[[#This Row],[Дл]],$D$62:$D$116,\"=500\",$F$62:$F$116,Таблица1[[#This Row],[АСТРА]])","v":0},5,{"$f":"IF(Таблица1[[#This Row],[профиль]]=Таблица1[[#This Row],[толщ]],CONCATENATE(Таблица1[[#This Row],[Столбец33]],\" \",Таблица1[[#This Row],[толщ]]),CONCATENATE(Таблица1[[#This Row],[Столбец33]],\" \",Таблица1[[#This Row],[профиль]],\"х\",Таблица1[[#This Row],[толщ]]))","v":"Труба 25х25х2"},{"$f":"CONCATENATE(Таблица1[[#This Row],[Столбец33]],\" \",Таблица1[[#This Row],[профиль]])","v":"Труба 25х25"},"Труба 25х25, 2.0 мм, тр2525","Труба",{"$f":"IF(Таблица1[[#This Row],[профиль]]=Таблица1[[#This Row],[толщ]],Таблица1[[#This Row],[толщ]],CONCATENATE(Таблица1[[#This Row],[профиль]],\"х\",Таблица1[[#This Row],[точка]]))","v":"25х25х2"},"25х25",2,{"$f":"SUBSTITUTE(Таблица1[[#This Row],[толщ]],\",\",\".\")","v":"2"},2.78,{"$f":"SUMIFS($U$8:$U$57,$K$8:$K$57,Таблица1[[#This Row],[ГОСТ]])","v":0}]
[{"$f":"IF(Таблица1[[#This Row],[Столбец19]]=0,\"z\",\"\")","v":"z"},null,null,6000,null,{"$f":"SUMIFS($G$62:$G$116,$D$62:$D$116,500,$C$62:$C$116,Таблица1[[#This Row],[Дл]],$F$62:$F$116,Таблица1[[#This Row],[АСТРА]])","v":0},{"$f":"Таблица1[[#This Row],[толщ]]","v":1.5},{"$f":"Таблица1[[#This Row],[ГОСТ]]","v":"Труба 30х1,5"},{"$f":"SUMIFS($N$62:$N$116,$C$62:$C$116,Таблица1[[#This Row],[Дл]],$D$62:$D$116,\"=500\",$F$62:$F$116,Таблица1[[#This Row],[АСТРА]])","v":0},{"$f":"SUMIFS($N$62:$N$116,$C$62:$C$116,\"<\"&Таблица1[[#This Row],[Дл]],$D$62:$D$116,\"=500\",$F$62:$F$116,Таблица1[[#This Row],[АСТРА]])","v":0},null,null,{"$f":"SUMIFS($J$8:$J$57,$K$8:$K$57,Таблица1[[#This Row],[Столбец5]])","v":0},{"$f":"Таблица1[[#This Row],[пол.мас.цел]]+Таблица1[[#This Row],[пол.мас.дел]]","v":0},{"$f":"SUMIFS($Q$62:$Q$116,$C$62:$C$116,Таблица1[[#This Row],[Дл]],$D$62:$D$116,\"=500\",$F$62:$F$116,Таблица1[[#This Row],[АСТРА]])","v":0},{"$f":"SUMIFS($Q$62:$Q$116,$C$62:$C$116,\"<\"&Таблица1[[#This Row],[Дл]],$D$62:$D$116,\"=500\",$F$62:$F$116,Таблица1[[#This Row],[АСТРА]])","v":0},{"$f":"Таблица1[[#This Row],[ост.с.цел]]+Таблица1[[#This Row],[ост.с.дел]]","v":0},{"$f":"Таблица1[[#This Row],[лом.целых]]+Таблица1[[#This Row],[лом.делов]]-Таблица1[[#This Row],[лом.на.пор.]]","v":0},{"$f":"Таблица1[[#This Row],[лом]]+Таблица1[[#This Row],[корр.масс]]","v":0},{"$f":"SUMIFS($T$62:$T$116,$C$62:$C$116,Таблица1[[#This Row],[Дл]],$D$62:$D$116,\"=500\",$F$62:$F$116,Таблица1[[#This Row],[АСТРА]])","v":0},{"$f":"SUMIFS($T$62:$T$116,$C$62:$C$116,\"<\"&Таблица1[[#This Row],[Дл]],$D$62:$D$116,\"=500\",$F$62:$F$116,Таблица1[[#This Row],[АСТРА]])","v":0},{"$f":"Таблица1[[#This Row],[Столбец17]]+Таблица1[[#This Row],[Столбец18]]+Таблица1[[#This Row],[лом.на.пор.]]","v":0},{"$f":"Таблица1[[#This Row],[Столбец19]]-Таблица1[[#This Row],[корр.масс]]","v":0},null,{"$f":"SUMIFS($X$62:$X$116,$C$62:$C$116,Таблица1[[#This Row],[Дл]],$D$62:$D$116,\"=500\",$F$62:$F$116,Таблица1[[#This Row],[АСТРА]])","v":0},{"$f":"SUMIFS($X$62:$X$116,$C$62:$C$116,\"<\"&Таблица1[[#This Row],[Дл]],$D$62:$D$116,\"=500\",$F$62:$F$116,Таблица1[[#This Row],[АСТРА]])","v":0},{"$f":"Таблица1[[#This Row],[Столбец23]]+Таблица1[[#This Row],[Столбец24]]","v":0},{"$f":"Таблица1[[#This Row],[лом.целых]]+Таблица1[[#This Row],[лом.делов]]-Таблица1[[#This Row],[лом.на.пор.]]","v":0},{"$f":"IF(Таблица1[[#This Row],[резы]]*Таблица1[[#This Row],[шир.рез]]/1000*Таблица1[[#This Row],[коэф]]/2<0,0,Таблица1[[#This Row],[резы]]*Таблица1[[#This Row],[шир.рез]]/1000*Таблица1[[#This Row],[коэф]]/2)","v":0},{"$f":"SUMIFS($Y$62:$Y$116,$C$62:$C$116,Таблица1[[#This Row],[Дл]],$D$62:$D$116,\"=500\",$F$62:$F$116,Таблица1[[#This Row],[АСТРА]])","v":0},{"$f":"SUMIFS($Y$62:$Y$116,$C$62:$C$116,\"<\"&Таблица1[[#This Row],[Дл]],$D$62:$D$116,\"=500\",$F$62:$F$116,Таблица1[[#This Row],[АСТРА]])","v":0},5,{"$f":"IF(Таблица1[[#This Row],[профиль]]=Таблица1[[#This Row],[толщ]],CONCATENATE(Таблица1[[#This Row],[Столбец33]],\" \",Таблица1[[#This Row],[толщ]]),CONCATENATE(Таблица1[[#This Row],[Столбец33]],\" \",Таблица1[[#This Row],[профиль]],\"х\",Таблица1[[#This Row],[толщ]]))","v":"Труба 30х1,5"},{"$f":"CONCATENATE(Таблица1[[#This Row],[Столбец33]],\" \",Таблица1[[#This Row],[профиль]])","v":"Труба 30"},"Труба 30, 1.5 мм","Труба",{"$f":"IF(Таблица1[[#This Row],[профиль]]=Таблица1[[#This Row],[толщ]],Таблица1[[#This Row],[толщ]],CONCATENATE(Таблица1[[#This Row],[профиль]],\"х\",Таблица1[[#This Row],[точка]]))","v":"30х1.5"},30,1.5,{"$f":"SUBSTITUTE(Таблица1[[#This Row],[толщ]],\",\",\".\")","v":"1.5"},2.11,{"$f":"SUMIFS($U$8:$U$57,$K$8:$K$57,Таблица1[[#This Row],[ГОСТ]])","v":0}]
[{"$f":"IF(Таблица1[[#This Row],[Столбец19]]=0,\"z\",\"\")","v":"z"},null,null,6000,null,{"$f":"SUMIFS($G$62:$G$116,$D$62:$D$116,500,$C$62:$C$116,Таблица1[[#This Row],[Дл]],$F$62:$F$116,Таблица1[[#This Row],[АСТРА]])","v":0},{"$f":"Таблица1[[#This Row],[толщ]]","v":1},{"$f":"Таблица1[[#This Row],[ГОСТ]]","v":"Труба 30х10х1"},{"$f":"SUMIFS($N$62:$N$116,$C$62:$C$116,Таблица1[[#This Row],[Дл]],$D$62:$D$116,\"=500\",$F$62:$F$116,Таблица1[[#This Row],[АСТРА]])","v":0},{"$f":"SUMIFS($N$62:$N$116,$C$62:$C$116,\"<\"&Таблица1[[#This Row],[Дл]],$D$62:$D$116,\"=500\",$F$62:$F$116,Таблица1[[#This Row],[АСТРА]])","v":0},null,null,{"$f":"SUMIFS($J$8:$J$57,$K$8:$K$57,Таблица1[[#This Row],[Столбец5]])","v":0},{"$f":"Таблица1[[#This Row],[пол.мас.цел]]+Таблица1[[#This Row],[пол.мас.дел]]","v":0},{"$f":"SUMIFS($Q$62:$Q$116,$C$62:$C$116,Таблица1[[#This Row],[Дл]],$D$62:$D$116,\"=500\",$F$62:$F$116,Таблица1[[#This Row],[АСТРА]])","v":0},{"$f":"SUMIFS($Q$62:$Q$116,$C$62:$C$116,\"<\"&Таблица1[[#This Row],[Дл]],$D$62:$D$116,\"=500\",$F$62:$F$116,Таблица1[[#This Row],[АСТРА]])","v":0},{"$f":"Таблица1[[#This Row],[ост.с.цел]]+Таблица1[[#This Row],[ост.с.дел]]","v":0},{"$f":"Таблица1[[#This Row],[лом.целых]]+Таблица1[[#This Row],[лом.делов]]-Таблица1[[#This Row],[лом.на.пор.]]","v":0},{"$f":"Таблица1[[#This Row],[лом]]+Таблица1[[#This Row],[корр.масс]]","v":0},{"$f":"SUMIFS($T$62:$T$116,$C$62:$C$116,Таблица1[[#This Row],[Дл]],$D$62:$D$116,\"=500\",$F$62:$F$116,Таблица1[[#This Row],[АСТРА]])","v":0},{"$f":"SUMIFS($T$62:$T$116,$C$62:$C$116,\"<\"&Таблица1[[#This Row],[Дл]],$D$62:$D$116,\"=500\",$F$62:$F$116,Таблица1[[#This Row],[АСТРА]])","v":0},{"$f":"Таблица1[[#This Row],[Столбец17]]+Таблица1[[#This Row],[Столбец18]]+Таблица1[[#This Row],[лом.на.пор.]]","v":0},{"$f":"Таблица1[[#This Row],[Столбец19]]-Таблица1[[#This Row],[корр.масс]]","v":0},null,{"$f":"SUMIFS($X$62:$X$116,$C$62:$C$116,Таблица1[[#This Row],[Дл]],$D$62:$D$116,\"=500\",$F$62:$F$116,Таблица1[[#This Row],[АСТРА]])","v":0},{"$f":"SUMIFS($X$62:$X$116,$C$62:$C$116,\"<\"&Таблица1[[#This Row],[Дл]],$D$62:$D$116,\"=500\",$F$62:$F$116,Таблица1[[#This Row],[АСТРА]])","v":0},{"$f":"Таблица1[[#This Row],[Столбец23]]+Таблица1[[#This Row],[Столбец24]]","v":0},{"$f":"Таблица1[[#This Row],[лом.целых]]+Таблица1[[#This Row],[лом.делов]]-Таблица1[[#This Row],[лом.на.пор.]]","v":0},{"$f":"IF(Таблица1[[#This Row],[резы]]*Таблица1[[#This Row],[шир.рез]]/1000*Таблица1[[#This Row],[коэф]]/2<0,0,Таблица1[[#This Row],[резы]]*Таблица1[[#This Row],[шир.рез]]/1000*Таблица1[[#This Row],[коэф]]/2)","v":0},{"$f":"SUMIFS($Y$62:$Y$116,$C$62:$C$116,Таблица1[[#This Row],[Дл]],$D$62:$D$116,\"=500\",$F$62:$F$116,Таблица1[[#This Row],[АСТРА]])","v":0},{"$f":"SUMIFS($Y$62:$Y$116,$C$62:$C$116,\"<\"&Таблица1[[#This Row],[Дл]],$D$62:$D$116,\"=500\",$F$62:$F$116,Таблица1[[#This Row],[АСТРА]])","v":0},5,{"$f":"IF(Таблица1[[#This Row],[профиль]]=Таблица1[[#This Row],[толщ]],CONCATENATE(Таблица1[[#This Row],[Столбец33]],\" \",Таблица1[[#This Row],[толщ]]),CONCATENATE(Таблица1[[#This Row],[Столбец33]],\" \",Таблица1[[#This Row],[профиль]],\"х\",Таблица1[[#This Row],[толщ]]))","v":"Труба 30х10х1"},{"$f":"CONCATENATE(Таблица1[[#This Row],[Столбец33]],\" \",Таблица1[[#This Row],[профиль]])","v":"Труба 30х10"},"Труба 30х10, 1.0 мм, тр1030","Труба",{"$f":"IF(Таблица1[[#This Row],[профиль]]=Таблица1[[#This Row],[толщ]],Таблица1[[#This Row],[толщ]],CONCATENATE(Таблица1[[#This Row],[профиль]],\"х\",Таблица1[[#This Row],[точка]]))","v":"30х10х1"},"30х10",1,{"$f":"SUBSTITUTE(Таблица1[[#This Row],[толщ]],\",\",\".\")","v":"1"},1.17,{"$f":"SUMIFS($U$8:$U$57,$K$8:$K$57,Таблица1[[#This Row],[ГОСТ]])","v":0}]
[{"$f":"IF(Таблица1[[#This Row],[Столбец19]]=0,\"z\",\"\")","v":"z"},null,null,6000,null,{"$f":"SUMIFS($G$62:$G$116,$D$62:$D$116,500,$C$62:$C$116,Таблица1[[#This Row],[Дл]],$F$62:$F$116,Таблица1[[#This Row],[АСТРА]])","v":0},{"$f":"Таблица1[[#This Row],[толщ]]","v":1.2},{"$f":"Таблица1[[#This Row],[ГОСТ]]","v":"Труба 30х10х1,2"},{"$f":"SUMIFS($N$62:$N$116,$C$62:$C$116,Таблица1[[#This Row],[Дл]],$D$62:$D$116,\"=500\",$F$62:$F$116,Таблица1[[#This Row],[АСТРА]])","v":0},{"$f":"SUMIFS($N$62:$N$116,$C$62:$C$116,\"<\"&Таблица1[[#This Row],[Дл]],$D$62:$D$116,\"=500\",$F$62:$F$116,Таблица1[[#This Row],[АСТРА]])","v":0},null,null,{"$f":"SUMIFS($J$8:$J$57,$K$8:$K$57,Таблица1[[#This Row],[Столбец5]])","v":0},{"$f":"Таблица1[[#This Row],[пол.мас.цел]]+Таблица1[[#This Row],[пол.мас.дел]]","v":0},{"$f":"SUMIFS($Q$62:$Q$116,$C$62:$C$116,Таблица1[[#This Row],[Дл]],$D$62:$D$116,\"=500\",$F$62:$F$116,Таблица1[[#This Row],[АСТРА]])","v":0},{"$f":"SUMIFS($Q$62:$Q$116,$C$62:$C$116,\"<\"&Таблица1[[#This Row],[Дл]],$D$62:$D$116,\"=500\",$F$62:$F$116,Таблица1[[#This Row],[АСТРА]])","v":0},{"$f":"Таблица1[[#This Row],[ост.с.цел]]+Таблица1[[#This Row],[ост.с.дел]]","v":0},{"$f":"Таблица1[[#This Row],[лом.целых]]+Таблица1[[#This Row],[лом.делов]]-Таблица1[[#This Row],[лом.на.пор.]]","v":0},{"$f":"Таблица1[[#This Row],[лом]]+Таблица1[[#This Row],[корр.масс]]","v":0},{"$f":"SUMIFS($T$62:$T$116,$C$62:$C$116,Таблица1[[#This Row],[Дл]],$D$62:$D$116,\"=500\",$F$62:$F$116,Таблица1[[#This Row],[АСТРА]])","v":0},{"$f":"SUMIFS($T$62:$T$116,$C$62:$C$116,\"<\"&Таблица1[[#This Row],[Дл]],$D$62:$D$116,\"=500\",$F$62:$F$116,Таблица1[[#This Row],[АСТРА]])","v":0},{"$f":"Таблица1[[#This Row],[Столбец17]]+Таблица1[[#This Row],[Столбец18]]+Таблица1[[#This Row],[лом.на.пор.]]","v":0},{"$f":"Таблица1[[#This Row],[Столбец19]]-Таблица1[[#This Row],[корр.масс]]","v":0},null,{"$f":"SUMIFS($X$62:$X$116,$C$62:$C$116,Таблица1[[#This Row],[Дл]],$D$62:$D$116,\"=500\",$F$62:$F$116,Таблица1[[#This Row],[АСТРА]])","v":0},{"$f":"SUMIFS($X$62:$X$116,$C$62:$C$116,\"<\"&Таблица1[[#This Row],[Дл]],$D$62:$D$116,\"=500\",$F$62:$F$116,Таблица1[[#This Row],[АСТРА]])","v":0},{"$f":"Таблица1[[#This Row],[Столбец23]]+Таблица1[[#This Row],[Столбец24]]","v":0},{"$f":"Таблица1[[#This Row],[лом.целых]]+Таблица1[[#This Row],[лом.делов]]-Таблица1[[#This Row],[лом.на.пор.]]","v":0},{"$f":"IF(Таблица1[[#This Row],[резы]]*Таблица1[[#This Row],[шир.рез]]/1000*Таблица1[[#This Row],[коэф]]/2<0,0,Таблица1[[#This Row],[резы]]*Таблица1[[#This Row],[шир.рез]]/1000*Таблица1[[#This Row],[коэф]]/2)","v":0},{"$f":"SUMIFS($Y$62:$Y$116,$C$62:$C$116,Таблица1[[#This Row],[Дл]],$D$62:$D$116,\"=500\",$F$62:$F$116,Таблица1[[#This Row],[АСТРА]])","v":0},{"$f":"SUMIFS($Y$62:$Y$116,$C$62:$C$116,\"<\"&Таблица1[[#This Row],[Дл]],$D$62:$D$116,\"=500\",$F$62:$F$116,Таблица1[[#This Row],[АСТРА]])","v":0},5,{"$f":"IF(Таблица1[[#This Row],[профиль]]=Таблица1[[#This Row],[толщ]],CONCATENATE(Таблица1[[#This Row],[Столбец33]],\" \",Таблица1[[#This Row],[толщ]]),CONCATENATE(Таблица1[[#This Row],[Столбец33]],\" \",Таблица1[[#This Row],[профиль]],\"х\",Таблица1[[#This Row],[толщ]]))","v":"Труба 30х10х1,2"},{"$f":"CONCATENATE(Таблица1[[#This Row],[Столбец33]],\" \",Таблица1[[#This Row],[профиль]])","v":"Труба 30х10"},"Труба 30х10, 1.2 мм, тр1030","Труба",{"$f":"IF(Таблица1[[#This Row],[профиль]]=Таблица1[[#This Row],[толщ]],Таблица1[[#This Row],[толщ]],CONCATENATE(Таблица1[[#This Row],[профиль]],\"х\",Таблица1[[#This Row],[точка]]))","v":"30х10х1.2"},"30х10",1.2,{"$f":"SUBSTITUTE(Таблица1[[#This Row],[толщ]],\",\",\".\")","v":"1.2"},1.38,{"$f":"SUMIFS($U$8:$U$57,$K$8:$K$57,Таблица1[[#This Row],[ГОСТ]])","v":0}]
[{"$f":"IF(Таблица1[[#This Row],[Столбец19]]=0,\"z\",\"\")","v":"z"},null,null,6000,null,{"$f":"SUMIFS($G$62:$G$116,$D$62:$D$116,500,$C$62:$C$116,Таблица1[[#This Row],[Дл]],$F$62:$F$116,Таблица1[[#This Row],[АСТРА]])","v":0},{"$f":"Таблица1[[#This Row],[толщ]]","v":1.5},{"$f":"Таблица1[[#This Row],[ГОСТ]]","v":"Труба 30х10х1,5"},{"$f":"SUMIFS($N$62:$N$116,$C$62:$C$116,Таблица1[[#This Row],[Дл]],$D$62:$D$116,\"=500\",$F$62:$F$116,Таблица1[[#This Row],[АСТРА]])","v":0},{"$f":"SUMIFS($N$62:$N$116,$C$62:$C$116,\"<\"&Таблица1[[#This Row],[Дл]],$D$62:$D$116,\"=500\",$F$62:$F$116,Таблица1[[#This Row],[АСТРА]])","v":0},null,null,{"$f":"SUMIFS($J$8:$J$57,$K$8:$K$57,Таблица1[[#This Row],[Столбец5]])","v":0},{"$f":"Таблица1[[#This Row],[пол.мас.цел]]+Таблица1[[#This Row],[пол.мас.дел]]","v":0},{"$f":"SUMIFS($Q$62:$Q$116,$C$62:$C$116,Таблица1[[#This Row],[Дл]],$D$62:$D$116,\"=500\",$F$62:$F$116,Таблица1[[#This Row],[АСТРА]])","v":0},{"$f":"SUMIFS($Q$62:$Q$116,$C$62:$C$116,\"<\"&Таблица1[[#This Row],[Дл]],$D$62:$D$116,\"=500\",$F$62:$F$116,Таблица1[[#This Row],[АСТРА]])","v":0},{"$f":"Таблица1[[#This Row],[ост.с.цел]]+Таблица1[[#This Row],[ост.с.дел]]","v":0},{"$f":"Таблица1[[#This Row],[лом.целых]]+Таблица1[[#This Row],[лом.делов]]-Таблица1[[#This Row],[лом.на.пор.]]","v":0},{"$f":"Таблица1[[#This Row],[лом]]+Таблица1[[#This Row],[корр.масс]]","v":0},{"$f":"SUMIFS($T$62:$T$116,$C$62:$C$116,Таблица1[[#This Row],[Дл]],$D$62:$D$116,\"=500\",$F$62:$F$116,Таблица1[[#This Row],[АСТРА]])","v":0},{"$f":"SUMIFS($T$62:$T$116,$C$62:$C$116,\"<\"&Таблица1[[#This Row],[Дл]],$D$62:$D$116,\"=500\",$F$62:$F$116,Таблица1[[#This Row],[АСТРА]])","v":0},{"$f":"Таблица1[[#This Row],[Столбец17]]+Таблица1[[#This Row],[Столбец18]]+Таблица1[[#This Row],[лом.на.пор.]]","v":0},{"$f":"Таблица1[[#This Row],[Столбец19]]-Таблица1[[#This Row],[корр.масс]]","v":0},null,{"$f":"SUMIFS($X$62:$X$116,$C$62:$C$116,Таблица1[[#This Row],[Дл]],$D$62:$D$116,\"=500\",$F$62:$F$116,Таблица1[[#This Row],[АСТРА]])","v":0},{"$f":"SUMIFS($X$62:$X$116,$C$62:$C$116,\"<\"&Таблица1[[#This Row],[Дл]],$D$62:$D$116,\"=500\",$F$62:$F$116,Таблица1[[#This Row],[АСТРА]])","v":0},{"$f":"Таблица1[[#This Row],[Столбец23]]+Таблица1[[#This Row],[Столбец24]]","v":0},{"$f":"Таблица1[[#This Row],[лом.целых]]+Таблица1[[#This Row],[лом.делов]]-Таблица1[[#This Row],[лом.на.пор.]]","v":0},{"$f":"IF(Таблица1[[#This Row],[резы]]*Таблица1[[#This Row],[шир.рез]]/1000*Таблица1[[#This Row],[коэф]]/2<0,0,Таблица1[[#This Row],[резы]]*Таблица1[[#This Row],[шир.рез]]/1000*Таблица1[[#This Row],[коэф]]/2)","v":0},{"$f":"SUMIFS($Y$62:$Y$116,$C$62:$C$116,Таблица1[[#This Row],[Дл]],$D$62:$D$116,\"=500\",$F$62:$F$116,Таблица1[[#This Row],[АСТРА]])","v":0},{"$f":"SUMIFS($Y$62:$Y$116,$C$62:$C$116,\"<\"&Таблица1[[#This Row],[Дл]],$D$62:$D$116,\"=500\",$F$62:$F$116,Таблица1[[#This Row],[АСТРА]])","v":0},5,{"$f":"IF(Таблица1[[#This Row],[профиль]]=Таблица1[[#This Row],[толщ]],CONCATENATE(Таблица1[[#This Row],[Столбец33]],\" \",Таблица1[[#This Row],[толщ]]),CONCATENATE(Таблица1[[#This Row],[Столбец33]],\" \",Таблица1[[#This Row],[профиль]],\"х\",Таблица1[[#This Row],[толщ]]))","v":"Труба 30х10х1,5"},{"$f":"CONCATENATE(Таблица1[[#This Row],[Столбец33]],\" \",Таблица1[[#This Row],[профиль]])","v":"Труба 30х10"},"Труба 30х10, 1.5 мм, тр1030","Труба",{"$f":"IF(Таблица1[[#This Row],[профиль]]=Таблица1[[#This Row],[толщ]],Таблица1[[#This Row],[толщ]],CONCATENATE(Таблица1[[#This Row],[профиль]],\"х\",Таблица1[[#This Row],[точка]]))","v":"30х10х1.5"},"30х10",1.5,{"$f":"SUBSTITUTE(Таблица1[[#This Row],[толщ]],\",\",\".\")","v":"1.5"},1.68,{"$f":"SUMIFS($U$8:$U$57,$K$8:$K$57,Таблица1[[#This Row],[ГОСТ]])","v":0}]
[{"$f":"IF(Таблица1[[#This Row],[Столбец19]]=0,\"z\",\"\")","v":"z"},null,null,6000,null,{"$f":"SUMIFS($G$62:$G$116,$D$62:$D$116,500,$C$62:$C$116,Таблица1[[#This Row],[Дл]],$F$62:$F$116,Таблица1[[#This Row],[АСТРА]])","v":0},{"$f":"Таблица1[[#This Row],[толщ]]","v":1},{"$f":"Таблица1[[#This Row],[ГОСТ]]","v":"Труба 30х15х1"},{"$f":"SUMIFS($N$62:$N$116,$C$62:$C$116,Таблица1[[#This Row],[Дл]],$D$62:$D$116,\"=500\",$F$62:$F$116,Таблица1[[#This Row],[АСТРА]])","v":0},{"$f":"SUMIFS($N$62:$N$116,$C$62:$C$116,\"<\"&Таблица1[[#This Row],[Дл]],$D$62:$D$116,\"=500\",$F$62:$F$116,Таблица1[[#This Row],[АСТРА]])","v":0},null,null,{"$f":"SUMIFS($J$8:$J$57,$K$8:$K$57,Таблица1[[#This Row],[Столбец5]])","v":0},{"$f":"Таблица1[[#This Row],[пол.мас.цел]]+Таблица1[[#This Row],[пол.мас.дел]]","v":0},{"$f":"SUMIFS($Q$62:$Q$116,$C$62:$C$116,Таблица1[[#This Row],[Дл]],$D$62:$D$116,\"=500\",$F$62:$F$116,Таблица1[[#This Row],[АСТРА]])","v":0},{"$f":"SUMIFS($Q$62:$Q$116,$C$62:$C$116,\"<\"&Таблица1[[#This Row],[Дл]],$D$62:$D$116,\"=500\",$F$62:$F$116,Таблица1[[#This Row],[АСТРА]])","v":0},{"$f":"Таблица1[[#This Row],[ост.с.цел]]+Таблица1[[#This Row],[ост.с.дел]]","v":0},{"$f":"Таблица1[[#This Row],[лом.целых]]+Таблица1[[#This Row],[лом.делов]]-Таблица1[[#This Row],[лом.на.пор.]]","v":0},{"$f":"Таблица1[[#This Row],[лом]]+Таблица1[[#This Row],[корр.масс]]","v":0},{"$f":"SUMIFS($T$62:$T$116,$C$62:$C$116,Таблица1[[#This Row],[Дл]],$D$62:$D$116,\"=500\",$F$62:$F$116,Таблица1[[#This Row],[АСТРА]])","v":0},{"$f":"SUMIFS($T$62:$T$116,$C$62:$C$116,\"<\"&Таблица1[[#This Row],[Дл]],$D$62:$D$116,\"=500\",$F$62:$F$116,Таблица1[[#This Row],[АСТРА]])","v":0},{"$f":"Таблица1[[#This Row],[Столбец17]]+Таблица1[[#This Row],[Столбец18]]+Таблица1[[#This Row],[лом.на.пор.]]","v":0},{"$f":"Таблица1[[#This Row],[Столбец19]]-Таблица1[[#This Row],[корр.масс]]","v":0},null,{"$f":"SUMIFS($X$62:$X$116,$C$62:$C$116,Таблица1[[#This Row],[Дл]],$D$62:$D$116,\"=500\",$F$62:$F$116,Таблица1[[#This Row],[АСТРА]])","v":0},{"$f":"SUMIFS($X$62:$X$116,$C$62:$C$116,\"<\"&Таблица1[[#This Row],[Дл]],$D$62:$D$116,\"=500\",$F$62:$F$116,Таблица1[[#This Row],[АСТРА]])","v":0},{"$f":"Таблица1[[#This Row],[Столбец23]]+Таблица1[[#This Row],[Столбец24]]","v":0},{"$f":"Таблица1[[#This Row],[лом.целых]]+Таблица1[[#This Row],[лом.делов]]-Таблица1[[#This Row],[лом.на.пор.]]","v":0},{"$f":"IF(Таблица1[[#This Row],[резы]]*Таблица1[[#This Row],[шир.рез]]/1000*Таблица1[[#This Row],[коэф]]/2<0,0,Таблица1[[#This Row],[резы]]*Таблица1[[#This Row],[шир.рез]]/1000*Таблица1[[#This Row],[коэф]]/2)","v":0},{"$f":"SUMIFS($Y$62:$Y$116,$C$62:$C$116,Таблица1[[#This Row],[Дл]],$D$62:$D$116,\"=500\",$F$62:$F$116,Таблица1[[#This Row],[АСТРА]])","v":0},{"$f":"SUMIFS($Y$62:$Y$116,$C$62:$C$116,\"<\"&Таблица1[[#This Row],[Дл]],$D$62:$D$116,\"=500\",$F$62:$F$116,Таблица1[[#This Row],[АСТРА]])","v":0},5,{"$f":"IF(Таблица1[[#This Row],[профиль]]=Таблица1[[#This Row],[толщ]],CONCATENATE(Таблица1[[#This Row],[Столбец33]],\" \",Таблица1[[#This Row],[толщ]]),CONCATENATE(Таблица1[[#This Row],[Столбец33]],\" \",Таблица1[[#This Row],[профиль]],\"х\",Таблица1[[#This Row],[толщ]]))","v":"Труба 30х15х1"},{"$f":"CONCATENATE(Таблица1[[#This Row],[Столбец33]],\" \",Таблица1[[#This Row],[профиль]])","v":"Труба 30х15"},"Труба 30х15, 1.0 мм, тр3015","Труба",{"$f":"IF(Таблица1[[#This Row],[профиль]]=Таблица1[[#This Row],[толщ]],Таблица1[[#This Row],[толщ]],CONCATENATE(Таблица1[[#This Row],[профиль]],\"х\",Таблица1[[#This Row],[точка]]))","v":"30х15х1"},"30х15",1,{"$f":"SUBSTITUTE(Таблица1[[#This Row],[толщ]],\",\",\".\")","v":"1"},1.32,{"$f":"SUMIFS($U$8:$U$57,$K$8:$K$57,Таблица1[[#This Row],[ГОСТ]])","v":0}]
[{"$f":"IF(Таблица1[[#This Row],[Столбец19]]=0,\"z\",\"\")","v":"z"},null,null,6000,null,{"$f":"SUMIFS($G$62:$G$116,$D$62:$D$116,500,$C$62:$C$116,Таблица1[[#This Row],[Дл]],$F$62:$F$116,Таблица1[[#This Row],[АСТРА]])","v":0},{"$f":"Таблица1[[#This Row],[толщ]]","v":1.5},{"$f":"Таблица1[[#This Row],[ГОСТ]]","v":"Труба 30х15х1,5"},{"$f":"SUMIFS($N$62:$N$116,$C$62:$C$116,Таблица1[[#This Row],[Дл]],$D$62:$D$116,\"=500\",$F$62:$F$116,Таблица1[[#This Row],[АСТРА]])","v":0},{"$f":"SUMIFS($N$62:$N$116,$C$62:$C$116,\"<\"&Таблица1[[#This Row],[Дл]],$D$62:$D$116,\"=500\",$F$62:$F$116,Таблица1[[#This Row],[АСТРА]])","v":0},null,null,{"$f":"SUMIFS($J$8:$J$57,$K$8:$K$57,Таблица1[[#This Row],[Столбец5]])","v":0},{"$f":"Таблица1[[#This Row],[пол.мас.цел]]+Таблица1[[#This Row],[пол.мас.дел]]","v":0},{"$f":"SUMIFS($Q$62:$Q$116,$C$62:$C$116,Таблица1[[#This Row],[Дл]],$D$62:$D$116,\"=500\",$F$62:$F$116,Таблица1[[#This Row],[АСТРА]])","v":0},{"$f":"SUMIFS($Q$62:$Q$116,$C$62:$C$116,\"<\"&Таблица1[[#This Row],[Дл]],$D$62:$D$116,\"=500\",$F$62:$F$116,Таблица1[[#This Row],[АСТРА]])","v":0},{"$f":"Таблица1[[#This Row],[ост.с.цел]]+Таблица1[[#This Row],[ост.с.дел]]","v":0},{"$f":"Таблица1[[#This Row],[лом.целых]]+Таблица1[[#This Row],[лом.делов]]-Таблица1[[#This Row],[лом.на.пор.]]","v":0},{"$f":"Таблица1[[#This Row],[лом]]+Таблица1[[#This Row],[корр.масс]]","v":0},{"$f":"SUMIFS($T$62:$T$116,$C$62:$C$116,Таблица1[[#This Row],[Дл]],$D$62:$D$116,\"=500\",$F$62:$F$116,Таблица1[[#This Row],[АСТРА]])","v":0},{"$f":"SUMIFS($T$62:$T$116,$C$62:$C$116,\"<\"&Таблица1[[#This Row],[Дл]],$D$62:$D$116,\"=500\",$F$62:$F$116,Таблица1[[#This Row],[АСТРА]])","v":0},{"$f":"Таблица1[[#This Row],[Столбец17]]+Таблица1[[#This Row],[Столбец18]]+Таблица1[[#This Row],[лом.на.пор.]]","v":0},{"$f":"Таблица1[[#This Row],[Столбец19]]-Таблица1[[#This Row],[корр.масс]]","v":0},null,{"$f":"SUMIFS($X$62:$X$116,$C$62:$C$116,Таблица1[[#This Row],[Дл]],$D$62:$D$116,\"=500\",$F$62:$F$116,Таблица1[[#This Row],[АСТРА]])","v":0},{"$f":"SUMIFS($X$62:$X$116,$C$62:$C$116,\"<\"&Таблица1[[#This Row],[Дл]],$D$62:$D$116,\"=500\",$F$62:$F$116,Таблица1[[#This Row],[АСТРА]])","v":0},{"$f":"Таблица1[[#This Row],[Столбец23]]+Таблица1[[#This Row],[Столбец24]]","v":0},{"$f":"Таблица1[[#This Row],[лом.целых]]+Таблица1[[#This Row],[лом.делов]]-Таблица1[[#This Row],[лом.на.пор.]]","v":0},{"$f":"IF(Таблица1[[#This Row],[резы]]*Таблица1[[#This Row],[шир.рез]]/1000*Таблица1[[#This Row],[коэф]]/2<0,0,Таблица1[[#This Row],[резы]]*Таблица1[[#This Row],[шир.рез]]/1000*Таблица1[[#This Row],[коэф]]/2)","v":0},{"$f":"SUMIFS($Y$62:$Y$116,$C$62:$C$116,Таблица1[[#This Row],[Дл]],$D$62:$D$116,\"=500\",$F$62:$F$116,Таблица1[[#This Row],[АСТРА]])","v":0},{"$f":"SUMIFS($Y$62:$Y$116,$C$62:$C$116,\"<\"&Таблица1[[#This Row],[Дл]],$D$62:$D$116,\"=500\",$F$62:$F$116,Таблица1[[#This Row],[АСТРА]])","v":0},5,{"$f":"IF(Таблица1[[#This Row],[профиль]]=Таблица1[[#This Row],[толщ]],CONCATENATE(Таблица1[[#This Row],[Столбец33]],\" \",Таблица1[[#This Row],[толщ]]),CONCATENATE(Таблица1[[#This Row],[Столбец33]],\" \",Таблица1[[#This Row],[профиль]],\"х\",Таблица1[[#This Row],[толщ]]))","v":"Труба 30х15х1,5"},{"$f":"CONCATENATE(Таблица1[[#This Row],[Столбец33]],\" \",Таблица1[[#This Row],[профиль]])","v":"Труба 30х15"},"Труба 30х15, 1.5 мм, тр3015","Труба",{"$f":"IF(Таблица1[[#This Row],[профиль]]=Таблица1[[#This Row],[толщ]],Таблица1[[#This Row],[толщ]],CONCATENATE(Таблица1[[#This Row],[профиль]],\"х\",Таблица1[[#This Row],[точка]]))","v":"30х15х1.5"},"30х15",1.5,{"$f":"SUBSTITUTE(Таблица1[[#This Row],[толщ]],\",\",\".\")","v":"1.5"},1.92,{"$f":"SUMIFS($U$8:$U$57,$K$8:$K$57,Таблица1[[#This Row],[ГОСТ]])","v":0}]
[{"$f":"IF(Таблица1[[#This Row],[Столбец19]]=0,\"z\",\"\")","v":"z"},null,null,6000,null,{"$f":"SUMIFS($G$62:$G$116,$D$62:$D$116,500,$C$62:$C$116,Таблица1[[#This Row],[Дл]],$F$62:$F$116,Таблица1[[#This Row],[АСТРА]])","v":0},{"$f":"Таблица1[[#This Row],[толщ]]","v":2},{"$f":"Таблица1[[#This Row],[ГОСТ]]","v":"Труба 30х15х2"},{"$f":"SUMIFS($N$62:$N$116,$C$62:$C$116,Таблица1[[#This Row],[Дл]],$D$62:$D$116,\"=500\",$F$62:$F$116,Таблица1[[#This Row],[АСТРА]])","v":0},{"$f":"SUMIFS($N$62:$N$116,$C$62:$C$116,\"<\"&Таблица1[[#This Row],[Дл]],$D$62:$D$116,\"=500\",$F$62:$F$116,Таблица1[[#This Row],[АСТРА]])","v":0},null,null,{"$f":"SUMIFS($J$8:$J$57,$K$8:$K$57,Таблица1[[#This Row],[Столбец5]])","v":0},{"$f":"Таблица1[[#This Row],[пол.мас.цел]]+Таблица1[[#This Row],[пол.мас.дел]]","v":0},{"$f":"SUMIFS($Q$62:$Q$116,$C$62:$C$116,Таблица1[[#This Row],[Дл]],$D$62:$D$116,\"=500\",$F$62:$F$116,Таблица1[[#This Row],[АСТРА]])","v":0},{"$f":"SUMIFS($Q$62:$Q$116,$C$62:$C$116,\"<\"&Таблица1[[#This Row],[Дл]],$D$62:$D$116,\"=500\",$F$62:$F$116,Таблица1[[#This Row],[АСТРА]])","v":0},{"$f":"Таблица1[[#This Row],[ост.с.цел]]+Таблица1[[#This Row],[ост.с.дел]]","v":0},{"$f":"Таблица1[[#This Row],[лом.целых]]+Таблица1[[#This Row],[лом.делов]]-Таблица1[[#This Row],[лом.на.пор.]]","v":0},{"$f":"Таблица1[[#This Row],[лом]]+Таблица1[[#This Row],[корр.масс]]","v":0},{"$f":"SUMIFS($T$62:$T$116,$C$62:$C$116,Таблица1[[#This Row],[Дл]],$D$62:$D$116,\"=500\",$F$62:$F$116,Таблица1[[#This Row],[АСТРА]])","v":0},{"$f":"SUMIFS($T$62:$T$116,$C$62:$C$116,\"<\"&Таблица1[[#This Row],[Дл]],$D$62:$D$116,\"=500\",$F$62:$F$116,Таблица1[[#This Row],[АСТРА]])","v":0},{"$f":"Таблица1[[#This Row],[Столбец17]]+Таблица1[[#This Row],[Столбец18]]+Таблица1[[#This Row],[лом.на.пор.]]","v":0},{"$f":"Таблица1[[#This Row],[Столбец19]]-Таблица1[[#This Row],[корр.масс]]","v":0},null,{"$f":"SUMIFS($X$62:$X$116,$C$62:$C$116,Таблица1[[#This Row],[Дл]],$D$62:$D$116,\"=500\",$F$62:$F$116,Таблица1[[#This Row],[АСТРА]])","v":0},{"$f":"SUMIFS($X$62:$X$116,$C$62:$C$116,\"<\"&Таблица1[[#This Row],[Дл]],$D$62:$D$116,\"=500\",$F$62:$F$116,Таблица1[[#This Row],[АСТРА]])","v":0},{"$f":"Таблица1[[#This Row],[Столбец23]]+Таблица1[[#This Row],[Столбец24]]","v":0},{"$f":"Таблица1[[#This Row],[лом.целых]]+Таблица1[[#This Row],[лом.делов]]-Таблица1[[#This Row],[лом.на.пор.]]","v":0},{"$f":"IF(Таблица1[[#This Row],[резы]]*Таблица1[[#This Row],[шир.рез]]/1000*Таблица1[[#This Row],[коэф]]/2<0,0,Таблица1[[#This Row],[резы]]*Таблица1[[#This Row],[шир.рез]]/1000*Таблица1[[#This Row],[коэф]]/2)","v":0},{"$f":"SUMIFS($Y$62:$Y$116,$C$62:$C$116,Таблица1[[#This Row],[Дл]],$D$62:$D$116,\"=500\",$F$62:$F$116,Таблица1[[#This Row],[АСТРА]])","v":0},{"$f":"SUMIFS($Y$62:$Y$116,$C$62:$C$116,\"<\"&Таблица1[[#This Row],[Дл]],$D$62:$D$116,\"=500\",$F$62:$F$116,Таблица1[[#This Row],[АСТРА]])","v":0},5,{"$f":"IF(Таблица1[[#This Row],[профиль]]=Таблица1[[#This Row],[толщ]],CONCATENATE(Таблица1[[#This Row],[Столбец33]],\" \",Таблица1[[#This Row],[толщ]]),CONCATENATE(Таблица1[[#This Row],[Столбец33]],\" \",Таблица1[[#This Row],[профиль]],\"х\",Таблица1[[#This Row],[толщ]]))","v":"Труба 30х15х2"},{"$f":"CONCATENATE(Таблица1[[#This Row],[Столбец33]],\" \",Таблица1[[#This Row],[профиль]])","v":"Труба 30х15"},"Труба 30х15, 2.0 мм, тр3015","Труба",{"$f":"IF(Таблица1[[#This Row],[профиль]]=Таблица1[[#This Row],[толщ]],Таблица1[[#This Row],[толщ]],CONCATENATE(Таблица1[[#This Row],[профиль]],\"х\",Таблица1[[#This Row],[точка]]))","v":"30х15х2"},"30х15",2,{"$f":"SUBSTITUTE(Таблица1[[#This Row],[толщ]],\",\",\".\")","v":"2"},2.4700000000000002,{"$f":"SUMIFS($U$8:$U$57,$K$8:$K$57,Таблица1[[#This Row],[ГОСТ]])","v":0}]
[{"$f":"IF(Таблица1[[#This Row],[Столбец19]]=0,\"z\",\"\")","v":"z"},null,null,6000,null,{"$f":"SUMIFS($G$62:$G$116,$D$62:$D$116,500,$C$62:$C$116,Таблица1[[#This Row],[Дл]],$F$62:$F$116,Таблица1[[#This Row],[АСТРА]])","v":0},{"$f":"Таблица1[[#This Row],[толщ]]","v":1},{"$f":"Таблица1[[#This Row],[ГОСТ]]","v":"Труба 30х20х1"},{"$f":"SUMIFS($N$62:$N$116,$C$62:$C$116,Таблица1[[#This Row],[Дл]],$D$62:$D$116,\"=500\",$F$62:$F$116,Таблица1[[#This Row],[АСТРА]])","v":0},{"$f":"SUMIFS($N$62:$N$116,$C$62:$C$116,\"<\"&Таблица1[[#This Row],[Дл]],$D$62:$D$116,\"=500\",$F$62:$F$116,Таблица1[[#This Row],[АСТРА]])","v":0},null,null,{"$f":"SUMIFS($J$8:$J$57,$K$8:$K$57,Таблица1[[#This Row],[Столбец5]])","v":0},{"$f":"Таблица1[[#This Row],[пол.мас.цел]]+Таблица1[[#This Row],[пол.мас.дел]]","v":0},{"$f":"SUMIFS($Q$62:$Q$116,$C$62:$C$116,Таблица1[[#This Row],[Дл]],$D$62:$D$116,\"=500\",$F$62:$F$116,Таблица1[[#This Row],[АСТРА]])","v":0},{"$f":"SUMIFS($Q$62:$Q$116,$C$62:$C$116,\"<\"&Таблица1[[#This Row],[Дл]],$D$62:$D$116,\"=500\",$F$62:$F$116,Таблица1[[#This Row],[АСТРА]])","v":0},{"$f":"Таблица1[[#This Row],[ост.с.цел]]+Таблица1[[#This Row],[ост.с.дел]]","v":0},{"$f":"Таблица1[[#This Row],[лом.целых]]+Таблица1[[#This Row],[лом.делов]]-Таблица1[[#This Row],[лом.на.пор.]]","v":0},{"$f":"Таблица1[[#This Row],[лом]]+Таблица1[[#This Row],[корр.масс]]","v":0},{"$f":"SUMIFS($T$62:$T$116,$C$62:$C$116,Таблица1[[#This Row],[Дл]],$D$62:$D$116,\"=500\",$F$62:$F$116,Таблица1[[#This Row],[АСТРА]])","v":0},{"$f":"SUMIFS($T$62:$T$116,$C$62:$C$116,\"<\"&Таблица1[[#This Row],[Дл]],$D$62:$D$116,\"=500\",$F$62:$F$116,Таблица1[[#This Row],[АСТРА]])","v":0},{"$f":"Таблица1[[#This Row],[Столбец17]]+Таблица1[[#This Row],[Столбец18]]+Таблица1[[#This Row],[лом.на.пор.]]","v":0},{"$f":"Таблица1[[#This Row],[Столбец19]]-Таблица1[[#This Row],[корр.масс]]","v":0},null,{"$f":"SUMIFS($X$62:$X$116,$C$62:$C$116,Таблица1[[#This Row],[Дл]],$D$62:$D$116,\"=500\",$F$62:$F$116,Таблица1[[#This Row],[АСТРА]])","v":0},{"$f":"SUMIFS($X$62:$X$116,$C$62:$C$116,\"<\"&Таблица1[[#This Row],[Дл]],$D$62:$D$116,\"=500\",$F$62:$F$116,Таблица1[[#This Row],[АСТРА]])","v":0},{"$f":"Таблица1[[#This Row],[Столбец23]]+Таблица1[[#This Row],[Столбец24]]","v":0},{"$f":"Таблица1[[#This Row],[лом.целых]]+Таблица1[[#This Row],[лом.делов]]-Таблица1[[#This Row],[лом.на.пор.]]","v":0},{"$f":"IF(Таблица1[[#This Row],[резы]]*Таблица1[[#This Row],[шир.рез]]/1000*Таблица1[[#This Row],[коэф]]/2<0,0,Таблица1[[#This Row],[резы]]*Таблица1[[#This Row],[шир.рез]]/1000*Таблица1[[#This Row],[коэф]]/2)","v":0},{"$f":"SUMIFS($Y$62:$Y$116,$C$62:$C$116,Таблица1[[#This Row],[Дл]],$D$62:$D$116,\"=500\",$F$62:$F$116,Таблица1[[#This Row],[АСТРА]])","v":0},{"$f":"SUMIFS($Y$62:$Y$116,$C$62:$C$116,\"<\"&Таблица1[[#This Row],[Дл]],$D$62:$D$116,\"=500\",$F$62:$F$116,Таблица1[[#This Row],[АСТРА]])","v":0},5,{"$f":"IF(Таблица1[[#This Row],[профиль]]=Таблица1[[#This Row],[толщ]],CONCATENATE(Таблица1[[#This Row],[Столбец33]],\" \",Таблица1[[#This Row],[толщ]]),CONCATENATE(Таблица1[[#This Row],[Столбец33]],\" \",Таблица1[[#This Row],[профиль]],\"х\",Таблица1[[#This Row],[толщ]]))","v":"Труба 30х20х1"},{"$f":"CONCATENATE(Таблица1[[#This Row],[Столбец33]],\" \",Таблица1[[#This Row],[профиль]])","v":"Труба 30х20"},"Труба 30х20, 1.0 мм, тр3020","Труба",{"$f":"IF(Таблица1[[#This Row],[профиль]]=Таблица1[[#This Row],[толщ]],Таблица1[[#This Row],[толщ]],CONCATENATE(Таблица1[[#This Row],[профиль]],\"х\",Таблица1[[#This Row],[точка]]))","v":"30х20х1"},"30х20",1,{"$f":"SUBSTITUTE(Таблица1[[#This Row],[толщ]],\",\",\".\")","v":"1"},1.48,{"$f":"SUMIFS($U$8:$U$57,$K$8:$K$57,Таблица1[[#This Row],[ГОСТ]])","v":0}]
[{"$f":"IF(Таблица1[[#This Row],[Столбец19]]=0,\"z\",\"\")","v":"z"},null,null,6000,null,{"$f":"SUMIFS($G$62:$G$116,$D$62:$D$116,500,$C$62:$C$116,Таблица1[[#This Row],[Дл]],$F$62:$F$116,Таблица1[[#This Row],[АСТРА]])","v":0},{"$f":"Таблица1[[#This Row],[толщ]]","v":1.2},{"$f":"Таблица1[[#This Row],[ГОСТ]]","v":"Труба 30х20х1,2"},{"$f":"SUMIFS($N$62:$N$116,$C$62:$C$116,Таблица1[[#This Row],[Дл]],$D$62:$D$116,\"=500\",$F$62:$F$116,Таблица1[[#This Row],[АСТРА]])","v":0},{"$f":"SUMIFS($N$62:$N$116,$C$62:$C$116,\"<\"&Таблица1[[#This Row],[Дл]],$D$62:$D$116,\"=500\",$F$62:$F$116,Таблица1[[#This Row],[АСТРА]])","v":0},null,null,{"$f":"SUMIFS($J$8:$J$57,$K$8:$K$57,Таблица1[[#This Row],[Столбец5]])","v":0},{"$f":"Таблица1[[#This Row],[пол.мас.цел]]+Таблица1[[#This Row],[пол.мас.дел]]","v":0},{"$f":"SUMIFS($Q$62:$Q$116,$C$62:$C$116,Таблица1[[#This Row],[Дл]],$D$62:$D$116,\"=500\",$F$62:$F$116,Таблица1[[#This Row],[АСТРА]])","v":0},{"$f":"SUMIFS($Q$62:$Q$116,$C$62:$C$116,\"<\"&Таблица1[[#This Row],[Дл]],$D$62:$D$116,\"=500\",$F$62:$F$116,Таблица1[[#This Row],[АСТРА]])","v":0},{"$f":"Таблица1[[#This Row],[ост.с.цел]]+Таблица1[[#This Row],[ост.с.дел]]","v":0},{"$f":"Таблица1[[#This Row],[лом.целых]]+Таблица1[[#This Row],[лом.делов]]-Таблица1[[#This Row],[лом.на.пор.]]","v":0},{"$f":"Таблица1[[#This Row],[лом]]+Таблица1[[#This Row],[корр.масс]]","v":0},{"$f":"SUMIFS($T$62:$T$116,$C$62:$C$116,Таблица1[[#This Row],[Дл]],$D$62:$D$116,\"=500\",$F$62:$F$116,Таблица1[[#This Row],[АСТРА]])","v":0},{"$f":"SUMIFS($T$62:$T$116,$C$62:$C$116,\"<\"&Таблица1[[#This Row],[Дл]],$D$62:$D$116,\"=500\",$F$62:$F$116,Таблица1[[#This Row],[АСТРА]])","v":0},{"$f":"Таблица1[[#This Row],[Столбец17]]+Таблица1[[#This Row],[Столбец18]]+Таблица1[[#This Row],[лом.на.пор.]]","v":0},{"$f":"Таблица1[[#This Row],[Столбец19]]-Таблица1[[#This Row],[корр.масс]]","v":0},null,{"$f":"SUMIFS($X$62:$X$116,$C$62:$C$116,Таблица1[[#This Row],[Дл]],$D$62:$D$116,\"=500\",$F$62:$F$116,Таблица1[[#This Row],[АСТРА]])","v":0},{"$f":"SUMIFS($X$62:$X$116,$C$62:$C$116,\"<\"&Таблица1[[#This Row],[Дл]],$D$62:$D$116,\"=500\",$F$62:$F$116,Таблица1[[#This Row],[АСТРА]])","v":0},{"$f":"Таблица1[[#This Row],[Столбец23]]+Таблица1[[#This Row],[Столбец24]]","v":0},{"$f":"Таблица1[[#This Row],[лом.целых]]+Таблица1[[#This Row],[лом.делов]]-Таблица1[[#This Row],[лом.на.пор.]]","v":0},{"$f":"IF(Таблица1[[#This Row],[резы]]*Таблица1[[#This Row],[шир.рез]]/1000*Таблица1[[#This Row],[коэф]]/2<0,0,Таблица1[[#This Row],[резы]]*Таблица1[[#This Row],[шир.рез]]/1000*Таблица1[[#This Row],[коэф]]/2)","v":0},{"$f":"SUMIFS($Y$62:$Y$116,$C$62:$C$116,Таблица1[[#This Row],[Дл]],$D$62:$D$116,\"=500\",$F$62:$F$116,Таблица1[[#This Row],[АСТРА]])","v":0},{"$f":"SUMIFS($Y$62:$Y$116,$C$62:$C$116,\"<\"&Таблица1[[#This Row],[Дл]],$D$62:$D$116,\"=500\",$F$62:$F$116,Таблица1[[#This Row],[АСТРА]])","v":0},5,{"$f":"IF(Таблица1[[#This Row],[профиль]]=Таблица1[[#This Row],[толщ]],CONCATENATE(Таблица1[[#This Row],[Столбец33]],\" \",Таблица1[[#This Row],[толщ]]),CONCATENATE(Таблица1[[#This Row],[Столбец33]],\" \",Таблица1[[#This Row],[профиль]],\"х\",Таблица1[[#This Row],[толщ]]))","v":"Труба 30х20х1,2"},{"$f":"CONCATENATE(Таблица1[[#This Row],[Столбец33]],\" \",Таблица1[[#This Row],[профиль]])","v":"Труба 30х20"},"Труба 30х20, 1.2 мм, тр3020","Труба",{"$f":"IF(Таблица1[[#This Row],[профиль]]=Таблица1[[#This Row],[толщ]],Таблица1[[#This Row],[толщ]],CONCATENATE(Таблица1[[#This Row],[профиль]],\"х\",Таблица1[[#This Row],[точка]]))","v":"30х20х1.2"},"30х20",1.2,{"$f":"SUBSTITUTE(Таблица1[[#This Row],[толщ]],\",\",\".\")","v":"1.2"},1.75,{"$f":"SUMIFS($U$8:$U$57,$K$8:$K$57,Таблица1[[#This Row],[ГОСТ]])","v":0}]
[{"$f":"IF(Таблица1[[#This Row],[Столбец19]]=0,\"z\",\"\")","v":"z"},null,null,6000,null,{"$f":"SUMIFS($G$62:$G$116,$D$62:$D$116,500,$C$62:$C$116,Таблица1[[#This Row],[Дл]],$F$62:$F$116,Таблица1[[#This Row],[АСТРА]])","v":0},{"$f":"Таблица1[[#This Row],[толщ]]","v":1.8},{"$f":"Таблица1[[#This Row],[ГОСТ]]","v":"Труба 30х20х1,8"},{"$f":"SUMIFS($N$62:$N$116,$C$62:$C$116,Таблица1[[#This Row],[Дл]],$D$62:$D$116,\"=500\",$F$62:$F$116,Таблица1[[#This Row],[АСТРА]])","v":0},{"$f":"SUMIFS($N$62:$N$116,$C$62:$C$116,\"<\"&Таблица1[[#This Row],[Дл]],$D$62:$D$116,\"=500\",$F$62:$F$116,Таблица1[[#This Row],[АСТРА]])","v":0},null,null,{"$f":"SUMIFS($J$8:$J$57,$K$8:$K$57,Таблица1[[#This Row],[Столбец5]])","v":0},{"$f":"Таблица1[[#This Row],[пол.мас.цел]]+Таблица1[[#This Row],[пол.мас.дел]]","v":0},{"$f":"SUMIFS($Q$62:$Q$116,$C$62:$C$116,Таблица1[[#This Row],[Дл]],$D$62:$D$116,\"=500\",$F$62:$F$116,Таблица1[[#This Row],[АСТРА]])","v":0},{"$f":"SUMIFS($Q$62:$Q$116,$C$62:$C$116,\"<\"&Таблица1[[#This Row],[Дл]],$D$62:$D$116,\"=500\",$F$62:$F$116,Таблица1[[#This Row],[АСТРА]])","v":0},{"$f":"Таблица1[[#This Row],[ост.с.цел]]+Таблица1[[#This Row],[ост.с.дел]]","v":0},{"$f":"Таблица1[[#This Row],[лом.целых]]+Таблица1[[#This Row],[лом.делов]]-Таблица1[[#This Row],[лом.на.пор.]]","v":0},{"$f":"Таблица1[[#This Row],[лом]]+Таблица1[[#This Row],[корр.масс]]","v":0},{"$f":"SUMIFS($T$62:$T$116,$C$62:$C$116,Таблица1[[#This Row],[Дл]],$D$62:$D$116,\"=500\",$F$62:$F$116,Таблица1[[#This Row],[АСТРА]])","v":0},{"$f":"SUMIFS($T$62:$T$116,$C$62:$C$116,\"<\"&Таблица1[[#This Row],[Дл]],$D$62:$D$116,\"=500\",$F$62:$F$116,Таблица1[[#This Row],[АСТРА]])","v":0},{"$f":"Таблица1[[#This Row],[Столбец17]]+Таблица1[[#This Row],[Столбец18]]+Таблица1[[#This Row],[лом.на.пор.]]","v":0},{"$f":"Таблица1[[#This Row],[Столбец19]]-Таблица1[[#This Row],[корр.масс]]","v":0},null,{"$f":"SUMIFS($X$62:$X$116,$C$62:$C$116,Таблица1[[#This Row],[Дл]],$D$62:$D$116,\"=500\",$F$62:$F$116,Таблица1[[#This Row],[АСТРА]])","v":0},{"$f":"SUMIFS($X$62:$X$116,$C$62:$C$116,\"<\"&Таблица1[[#This Row],[Дл]],$D$62:$D$116,\"=500\",$F$62:$F$116,Таблица1[[#This Row],[АСТРА]])","v":0},{"$f":"Таблица1[[#This Row],[Столбец23]]+Таблица1[[#This Row],[Столбец24]]","v":0},{"$f":"Таблица1[[#This Row],[лом.целых]]+Таблица1[[#This Row],[лом.делов]]-Таблица1[[#This Row],[лом.на.пор.]]","v":0},{"$f":"IF(Таблица1[[#This Row],[резы]]*Таблица1[[#This Row],[шир.рез]]/1000*Таблица1[[#This Row],[коэф]]/2<0,0,Таблица1[[#This Row],[резы]]*Таблица1[[#This Row],[шир.рез]]/1000*Таблица1[[#This Row],[коэф]]/2)","v":0},{"$f":"SUMIFS($Y$62:$Y$116,$C$62:$C$116,Таблица1[[#This Row],[Дл]],$D$62:$D$116,\"=500\",$F$62:$F$116,Таблица1[[#This Row],[АСТРА]])","v":0},{"$f":"SUMIFS($Y$62:$Y$116,$C$62:$C$116,\"<\"&Таблица1[[#This Row],[Дл]],$D$62:$D$116,\"=500\",$F$62:$F$116,Таблица1[[#This Row],[АСТРА]])","v":0},5,{"$f":"IF(Таблица1[[#This Row],[профиль]]=Таблица1[[#This Row],[толщ]],CONCATENATE(Таблица1[[#This Row],[Столбец33]],\" \",Таблица1[[#This Row],[толщ]]),CONCATENATE(Таблица1[[#This Row],[Столбец33]],\" \",Таблица1[[#This Row],[профиль]],\"х\",Таблица1[[#This Row],[толщ]]))","v":"Труба 30х20х1,8"},{"$f":"CONCATENATE(Таблица1[[#This Row],[Столбец33]],\" \",Таблица1[[#This Row],[профиль]])","v":"Труба 30х20"},"Труба 30х20, 1.8 мм, тр3020","Труба",{"$f":"IF(Таблица1[[#This Row],[профиль]]=Таблица1[[#This Row],[толщ]],Таблица1[[#This Row],[толщ]],CONCATENATE(Таблица1[[#This Row],[профиль]],\"х\",Таблица1[[#This Row],[точка]]))","v":"30х20х1.8"},"30х20",1.8,{"$f":"SUBSTITUTE(Таблица1[[#This Row],[толщ]],\",\",\".\")","v":"1.8"},2.54,{"$f":"SUMIFS($U$8:$U$57,$K$8:$K$57,Таблица1[[#This Row],[ГОСТ]])","v":0}]
[{"$f":"IF(Таблица1[[#This Row],[Столбец19]]=0,\"z\",\"\")","v":"z"},null,null,6000,null,{"$f":"SUMIFS($G$62:$G$116,$D$62:$D$116,500,$C$62:$C$116,Таблица1[[#This Row],[Дл]],$F$62:$F$116,Таблица1[[#This Row],[АСТРА]])","v":0},{"$f":"Таблица1[[#This Row],[толщ]]","v":2},{"$f":"Таблица1[[#This Row],[ГОСТ]]","v":"Труба 30х20х2"},{"$f":"SUMIFS($N$62:$N$116,$C$62:$C$116,Таблица1[[#This Row],[Дл]],$D$62:$D$116,\"=500\",$F$62:$F$116,Таблица1[[#This Row],[АСТРА]])","v":0},{"$f":"SUMIFS($N$62:$N$116,$C$62:$C$116,\"<\"&Таблица1[[#This Row],[Дл]],$D$62:$D$116,\"=500\",$F$62:$F$116,Таблица1[[#This Row],[АСТРА]])","v":0},null,null,{"$f":"SUMIFS($J$8:$J$57,$K$8:$K$57,Таблица1[[#This Row],[Столбец5]])","v":0},{"$f":"Таблица1[[#This Row],[пол.мас.цел]]+Таблица1[[#This Row],[пол.мас.дел]]","v":0},{"$f":"SUMIFS($Q$62:$Q$116,$C$62:$C$116,Таблица1[[#This Row],[Дл]],$D$62:$D$116,\"=500\",$F$62:$F$116,Таблица1[[#This Row],[АСТРА]])","v":0},{"$f":"SUMIFS($Q$62:$Q$116,$C$62:$C$116,\"<\"&Таблица1[[#This Row],[Дл]],$D$62:$D$116,\"=500\",$F$62:$F$116,Таблица1[[#This Row],[АСТРА]])","v":0},{"$f":"Таблица1[[#This Row],[ост.с.цел]]+Таблица1[[#This Row],[ост.с.дел]]","v":0},{"$f":"Таблица1[[#This Row],[лом.целых]]+Таблица1[[#This Row],[лом.делов]]-Таблица1[[#This Row],[лом.на.пор.]]","v":0},{"$f":"Таблица1[[#This Row],[лом]]+Таблица1[[#This Row],[корр.масс]]","v":0},{"$f":"SUMIFS($T$62:$T$116,$C$62:$C$116,Таблица1[[#This Row],[Дл]],$D$62:$D$116,\"=500\",$F$62:$F$116,Таблица1[[#This Row],[АСТРА]])","v":0},{"$f":"SUMIFS($T$62:$T$116,$C$62:$C$116,\"<\"&Таблица1[[#This Row],[Дл]],$D$62:$D$116,\"=500\",$F$62:$F$116,Таблица1[[#This Row],[АСТРА]])","v":0},{"$f":"Таблица1[[#This Row],[Столбец17]]+Таблица1[[#This Row],[Столбец18]]+Таблица1[[#This Row],[лом.на.пор.]]","v":0},{"$f":"Таблица1[[#This Row],[Столбец19]]-Таблица1[[#This Row],[корр.масс]]","v":0},null,{"$f":"SUMIFS($X$62:$X$116,$C$62:$C$116,Таблица1[[#This Row],[Дл]],$D$62:$D$116,\"=500\",$F$62:$F$116,Таблица1[[#This Row],[АСТРА]])","v":0},{"$f":"SUMIFS($X$62:$X$116,$C$62:$C$116,\"<\"&Таблица1[[#This Row],[Дл]],$D$62:$D$116,\"=500\",$F$62:$F$116,Таблица1[[#This Row],[АСТРА]])","v":0},{"$f":"Таблица1[[#This Row],[Столбец23]]+Таблица1[[#This Row],[Столбец24]]","v":0},{"$f":"Таблица1[[#This Row],[лом.целых]]+Таблица1[[#This Row],[лом.делов]]-Таблица1[[#This Row],[лом.на.пор.]]","v":0},{"$f":"IF(Таблица1[[#This Row],[резы]]*Таблица1[[#This Row],[шир.рез]]/1000*Таблица1[[#This Row],[коэф]]/2<0,0,Таблица1[[#This Row],[резы]]*Таблица1[[#This Row],[шир.рез]]/1000*Таблица1[[#This Row],[коэф]]/2)","v":0},{"$f":"SUMIFS($Y$62:$Y$116,$C$62:$C$116,Таблица1[[#This Row],[Дл]],$D$62:$D$116,\"=500\",$F$62:$F$116,Таблица1[[#This Row],[АСТРА]])","v":0},{"$f":"SUMIFS($Y$62:$Y$116,$C$62:$C$116,\"<\"&Таблица1[[#This Row],[Дл]],$D$62:$D$116,\"=500\",$F$62:$F$116,Таблица1[[#This Row],[АСТРА]])","v":0},5,{"$f":"IF(Таблица1[[#This Row],[профиль]]=Таблица1[[#This Row],[толщ]],CONCATENATE(Таблица1[[#This Row],[Столбец33]],\" \",Таблица1[[#This Row],[толщ]]),CONCATENATE(Таблица1[[#This Row],[Столбец33]],\" \",Таблица1[[#This Row],[профиль]],\"х\",Таблица1[[#This Row],[толщ]]))","v":"Труба 30х20х2"},{"$f":"CONCATENATE(Таблица1[[#This Row],[Столбец33]],\" \",Таблица1[[#This Row],[профиль]])","v":"Труба 30х20"},"Труба 30х20, 2.0 мм, тр3020","Труба",{"$f":"IF(Таблица1[[#This Row],[профиль]]=Таблица1[[#This Row],[толщ]],Таблица1[[#This Row],[толщ]],CONCATENATE(Таблица1[[#This Row],[профиль]],\"х\",Таблица1[[#This Row],[точка]]))","v":"30х20х2"},"30х20",2,{"$f":"SUBSTITUTE(Таблица1[[#This Row],[толщ]],\",\",\".\")","v":"2"},2.78,{"$f":"SUMIFS($U$8:$U$57,$K$8:$K$57,Таблица1[[#This Row],[ГОСТ]])","v":0}]
[{"$f":"IF(Таблица1[[#This Row],[Столбец19]]=0,\"z\",\"\")","v":"z"},null,null,6000,null,{"$f":"SUMIFS($G$62:$G$116,$D$62:$D$116,500,$C$62:$C$116,Таблица1[[#This Row],[Дл]],$F$62:$F$116,Таблица1[[#This Row],[АСТРА]])","v":0},{"$f":"Таблица1[[#This Row],[толщ]]","v":1},{"$f":"Таблица1[[#This Row],[ГОСТ]]","v":"Труба 30х30х1"},{"$f":"SUMIFS($N$62:$N$116,$C$62:$C$116,Таблица1[[#This Row],[Дл]],$D$62:$D$116,\"=500\",$F$62:$F$116,Таблица1[[#This Row],[АСТРА]])","v":0},{"$f":"SUMIFS($N$62:$N$116,$C$62:$C$116,\"<\"&Таблица1[[#This Row],[Дл]],$D$62:$D$116,\"=500\",$F$62:$F$116,Таблица1[[#This Row],[АСТРА]])","v":0},null,null,{"$f":"SUMIFS($J$8:$J$57,$K$8:$K$57,Таблица1[[#This Row],[Столбец5]])","v":0},{"$f":"Таблица1[[#This Row],[пол.мас.цел]]+Таблица1[[#This Row],[пол.мас.дел]]","v":0},{"$f":"SUMIFS($Q$62:$Q$116,$C$62:$C$116,Таблица1[[#This Row],[Дл]],$D$62:$D$116,\"=500\",$F$62:$F$116,Таблица1[[#This Row],[АСТРА]])","v":0},{"$f":"SUMIFS($Q$62:$Q$116,$C$62:$C$116,\"<\"&Таблица1[[#This Row],[Дл]],$D$62:$D$116,\"=500\",$F$62:$F$116,Таблица1[[#This Row],[АСТРА]])","v":0},{"$f":"Таблица1[[#This Row],[ост.с.цел]]+Таблица1[[#This Row],[ост.с.дел]]","v":0},{"$f":"Таблица1[[#This Row],[лом.целых]]+Таблица1[[#This Row],[лом.делов]]-Таблица1[[#This Row],[лом.на.пор.]]","v":0},{"$f":"Таблица1[[#This Row],[лом]]+Таблица1[[#This Row],[корр.масс]]","v":0},{"$f":"SUMIFS($T$62:$T$116,$C$62:$C$116,Таблица1[[#This Row],[Дл]],$D$62:$D$116,\"=500\",$F$62:$F$116,Таблица1[[#This Row],[АСТРА]])","v":0},{"$f":"SUMIFS($T$62:$T$116,$C$62:$C$116,\"<\"&Таблица1[[#This Row],[Дл]],$D$62:$D$116,\"=500\",$F$62:$F$116,Таблица1[[#This Row],[АСТРА]])","v":0},{"$f":"Таблица1[[#This Row],[Столбец17]]+Таблица1[[#This Row],[Столбец18]]+Таблица1[[#This Row],[лом.на.пор.]]","v":0},{"$f":"Таблица1[[#This Row],[Столбец19]]-Таблица1[[#This Row],[корр.масс]]","v":0},null,{"$f":"SUMIFS($X$62:$X$116,$C$62:$C$116,Таблица1[[#This Row],[Дл]],$D$62:$D$116,\"=500\",$F$62:$F$116,Таблица1[[#This Row],[АСТРА]])","v":0},{"$f":"SUMIFS($X$62:$X$116,$C$62:$C$116,\"<\"&Таблица1[[#This Row],[Дл]],$D$62:$D$116,\"=500\",$F$62:$F$116,Таблица1[[#This Row],[АСТРА]])","v":0},{"$f":"Таблица1[[#This Row],[Столбец23]]+Таблица1[[#This Row],[Столбец24]]","v":0},{"$f":"Таблица1[[#This Row],[лом.целых]]+Таблица1[[#This Row],[лом.делов]]-Таблица1[[#This Row],[лом.на.пор.]]","v":0},{"$f":"IF(Таблица1[[#This Row],[резы]]*Таблица1[[#This Row],[шир.рез]]/1000*Таблица1[[#This Row],[коэф]]/2<0,0,Таблица1[[#This Row],[резы]]*Таблица1[[#This Row],[шир.рез]]/1000*Таблица1[[#This Row],[коэф]]/2)","v":0},{"$f":"SUMIFS($Y$62:$Y$116,$C$62:$C$116,Таблица1[[#This Row],[Дл]],$D$62:$D$116,\"=500\",$F$62:$F$116,Таблица1[[#This Row],[АСТРА]])","v":0},{"$f":"SUMIFS($Y$62:$Y$116,$C$62:$C$116,\"<\"&Таблица1[[#This Row],[Дл]],$D$62:$D$116,\"=500\",$F$62:$F$116,Таблица1[[#This Row],[АСТРА]])","v":0},5,{"$f":"IF(Таблица1[[#This Row],[профиль]]=Таблица1[[#This Row],[толщ]],CONCATENATE(Таблица1[[#This Row],[Столбец33]],\" \",Таблица1[[#This Row],[толщ]]),CONCATENATE(Таблица1[[#This Row],[Столбец33]],\" \",Таблица1[[#This Row],[профиль]],\"х\",Таблица1[[#This Row],[толщ]]))","v":"Труба 30х30х1"},{"$f":"CONCATENATE(Таблица1[[#This Row],[Столбец33]],\" \",Таблица1[[#This Row],[профиль]])","v":"Труба 30х30"},"Труба 30х30, 1.0 мм, тр3030","Труба",{"$f":"IF(Таблица1[[#This Row],[профиль]]=Таблица1[[#This Row],[толщ]],Таблица1[[#This Row],[толщ]],CONCATENATE(Таблица1[[#This Row],[профиль]],\"х\",Таблица1[[#This Row],[точка]]))","v":"30х30х1"},"30х30",1,{"$f":"SUBSTITUTE(Таблица1[[#This Row],[толщ]],\",\",\".\")","v":"1"},1.79,{"$f":"SUMIFS($U$8:$U$57,$K$8:$K$57,Таблица1[[#This Row],[ГОСТ]])","v":0}]
[{"$f":"IF(Таблица1[[#This Row],[Столбец19]]=0,\"z\",\"\")","v":"z"},null,null,6000,null,{"$f":"SUMIFS($G$62:$G$116,$D$62:$D$116,500,$C$62:$C$116,Таблица1[[#This Row],[Дл]],$F$62:$F$116,Таблица1[[#This Row],[АСТРА]])","v":0},{"$f":"Таблица1[[#This Row],[толщ]]","v":1.5},{"$f":"Таблица1[[#This Row],[ГОСТ]]","v":"Труба 30х30х1,5"},{"$f":"SUMIFS($N$62:$N$116,$C$62:$C$116,Таблица1[[#This Row],[Дл]],$D$62:$D$116,\"=500\",$F$62:$F$116,Таблица1[[#This Row],[АСТРА]])","v":0},{"$f":"SUMIFS($N$62:$N$116,$C$62:$C$116,\"<\"&Таблица1[[#This Row],[Дл]],$D$62:$D$116,\"=500\",$F$62:$F$116,Таблица1[[#This Row],[АСТРА]])","v":0},null,null,{"$f":"SUMIFS($J$8:$J$57,$K$8:$K$57,Таблица1[[#This Row],[Столбец5]])","v":0},{"$f":"Таблица1[[#This Row],[пол.мас.цел]]+Таблица1[[#This Row],[пол.мас.дел]]","v":0},{"$f":"SUMIFS($Q$62:$Q$116,$C$62:$C$116,Таблица1[[#This Row],[Дл]],$D$62:$D$116,\"=500\",$F$62:$F$116,Таблица1[[#This Row],[АСТРА]])","v":0},{"$f":"SUMIFS($Q$62:$Q$116,$C$62:$C$116,\"<\"&Таблица1[[#This Row],[Дл]],$D$62:$D$116,\"=500\",$F$62:$F$116,Таблица1[[#This Row],[АСТРА]])","v":0},{"$f":"Таблица1[[#This Row],[ост.с.цел]]+Таблица1[[#This Row],[ост.с.дел]]","v":0},{"$f":"Таблица1[[#This Row],[лом.целых]]+Таблица1[[#This Row],[лом.делов]]-Таблица1[[#This Row],[лом.на.пор.]]","v":0},{"$f":"Таблица1[[#This Row],[лом]]+Таблица1[[#This Row],[корр.масс]]","v":0},{"$f":"SUMIFS($T$62:$T$116,$C$62:$C$116,Таблица1[[#This Row],[Дл]],$D$62:$D$116,\"=500\",$F$62:$F$116,Таблица1[[#This Row],[АСТРА]])","v":0},{"$f":"SUMIFS($T$62:$T$116,$C$62:$C$116,\"<\"&Таблица1[[#This Row],[Дл]],$D$62:$D$116,\"=500\",$F$62:$F$116,Таблица1[[#This Row],[АСТРА]])","v":0},{"$f":"Таблица1[[#This Row],[Столбец17]]+Таблица1[[#This Row],[Столбец18]]+Таблица1[[#This Row],[лом.на.пор.]]","v":0},{"$f":"Таблица1[[#This Row],[Столбец19]]-Таблица1[[#This Row],[корр.масс]]","v":0},null,{"$f":"SUMIFS($X$62:$X$116,$C$62:$C$116,Таблица1[[#This Row],[Дл]],$D$62:$D$116,\"=500\",$F$62:$F$116,Таблица1[[#This Row],[АСТРА]])","v":0},{"$f":"SUMIFS($X$62:$X$116,$C$62:$C$116,\"<\"&Таблица1[[#This Row],[Дл]],$D$62:$D$116,\"=500\",$F$62:$F$116,Таблица1[[#This Row],[АСТРА]])","v":0},{"$f":"Таблица1[[#This Row],[Столбец23]]+Таблица1[[#This Row],[Столбец24]]","v":0},{"$f":"Таблица1[[#This Row],[лом.целых]]+Таблица1[[#This Row],[лом.делов]]-Таблица1[[#This Row],[лом.на.пор.]]","v":0},{"$f":"IF(Таблица1[[#This Row],[резы]]*Таблица1[[#This Row],[шир.рез]]/1000*Таблица1[[#This Row],[коэф]]/2<0,0,Таблица1[[#This Row],[резы]]*Таблица1[[#This Row],[шир.рез]]/1000*Таблица1[[#This Row],[коэф]]/2)","v":0},{"$f":"SUMIFS($Y$62:$Y$116,$C$62:$C$116,Таблица1[[#This Row],[Дл]],$D$62:$D$116,\"=500\",$F$62:$F$116,Таблица1[[#This Row],[АСТРА]])","v":0},{"$f":"SUMIFS($Y$62:$Y$116,$C$62:$C$116,\"<\"&Таблица1[[#This Row],[Дл]],$D$62:$D$116,\"=500\",$F$62:$F$116,Таблица1[[#This Row],[АСТРА]])","v":0},5,{"$f":"IF(Таблица1[[#This Row],[профиль]]=Таблица1[[#This Row],[толщ]],CONCATENATE(Таблица1[[#This Row],[Столбец33]],\" \",Таблица1[[#This Row],[толщ]]),CONCATENATE(Таблица1[[#This Row],[Столбец33]],\" \",Таблица1[[#This Row],[профиль]],\"х\",Таблица1[[#This Row],[толщ]]))","v":"Труба 30х30х1,5"},{"$f":"CONCATENATE(Таблица1[[#This Row],[Столбец33]],\" \",Таблица1[[#This Row],[профиль]])","v":"Труба 30х30"},"Труба 30х30, 1.5 мм, тр3030","Труба",{"$f":"IF(Таблица1[[#This Row],[профиль]]=Таблица1[[#This Row],[толщ]],Таблица1[[#This Row],[толщ]],CONCATENATE(Таблица1[[#This Row],[профиль]],\"х\",Таблица1[[#This Row],[точка]]))","v":"30х30х1.5"},"30х30",1.5,{"$f":"SUBSTITUTE(Таблица1[[#This Row],[толщ]],\",\",\".\")","v":"1.5"},2.62,{"$f":"SUMIFS($U$8:$U$57,$K$8:$K$57,Таблица1[[#This Row],[ГОСТ]])","v":0}]
[{"$f":"IF(Таблица1[[#This Row],[Столбец19]]=0,\"z\",\"\")","v":"z"},null,null,6000,null,{"$f":"SUMIFS($G$62:$G$116,$D$62:$D$116,500,$C$62:$C$116,Таблица1[[#This Row],[Дл]],$F$62:$F$116,Таблица1[[#This Row],[АСТРА]])","v":0},{"$f":"Таблица1[[#This Row],[толщ]]","v":1.8},{"$f":"Таблица1[[#This Row],[ГОСТ]]","v":"Труба 30х30х1,8"},{"$f":"SUMIFS($N$62:$N$116,$C$62:$C$116,Таблица1[[#This Row],[Дл]],$D$62:$D$116,\"=500\",$F$62:$F$116,Таблица1[[#This Row],[АСТРА]])","v":0},{"$f":"SUMIFS($N$62:$N$116,$C$62:$C$116,\"<\"&Таблица1[[#This Row],[Дл]],$D$62:$D$116,\"=500\",$F$62:$F$116,Таблица1[[#This Row],[АСТРА]])","v":0},null,null,{"$f":"SUMIFS($J$8:$J$57,$K$8:$K$57,Таблица1[[#This Row],[Столбец5]])","v":0},{"$f":"Таблица1[[#This Row],[пол.мас.цел]]+Таблица1[[#This Row],[пол.мас.дел]]","v":0},{"$f":"SUMIFS($Q$62:$Q$116,$C$62:$C$116,Таблица1[[#This Row],[Дл]],$D$62:$D$116,\"=500\",$F$62:$F$116,Таблица1[[#This Row],[АСТРА]])","v":0},{"$f":"SUMIFS($Q$62:$Q$116,$C$62:$C$116,\"<\"&Таблица1[[#This Row],[Дл]],$D$62:$D$116,\"=500\",$F$62:$F$116,Таблица1[[#This Row],[АСТРА]])","v":0},{"$f":"Таблица1[[#This Row],[ост.с.цел]]+Таблица1[[#This Row],[ост.с.дел]]","v":0},{"$f":"Таблица1[[#This Row],[лом.целых]]+Таблица1[[#This Row],[лом.делов]]-Таблица1[[#This Row],[лом.на.пор.]]","v":0},{"$f":"Таблица1[[#This Row],[лом]]+Таблица1[[#This Row],[корр.масс]]","v":0},{"$f":"SUMIFS($T$62:$T$116,$C$62:$C$116,Таблица1[[#This Row],[Дл]],$D$62:$D$116,\"=500\",$F$62:$F$116,Таблица1[[#This Row],[АСТРА]])","v":0},{"$f":"SUMIFS($T$62:$T$116,$C$62:$C$116,\"<\"&Таблица1[[#This Row],[Дл]],$D$62:$D$116,\"=500\",$F$62:$F$116,Таблица1[[#This Row],[АСТРА]])","v":0},{"$f":"Таблица1[[#This Row],[Столбец17]]+Таблица1[[#This Row],[Столбец18]]+Таблица1[[#This Row],[лом.на.пор.]]","v":0},{"$f":"Таблица1[[#This Row],[Столбец19]]-Таблица1[[#This Row],[корр.масс]]","v":0},null,{"$f":"SUMIFS($X$62:$X$116,$C$62:$C$116,Таблица1[[#This Row],[Дл]],$D$62:$D$116,\"=500\",$F$62:$F$116,Таблица1[[#This Row],[АСТРА]])","v":0},{"$f":"SUMIFS($X$62:$X$116,$C$62:$C$116,\"<\"&Таблица1[[#This Row],[Дл]],$D$62:$D$116,\"=500\",$F$62:$F$116,Таблица1[[#This Row],[АСТРА]])","v":0},{"$f":"Таблица1[[#This Row],[Столбец23]]+Таблица1[[#This Row],[Столбец24]]","v":0},{"$f":"Таблица1[[#This Row],[лом.целых]]+Таблица1[[#This Row],[лом.делов]]-Таблица1[[#This Row],[лом.на.пор.]]","v":0},{"$f":"IF(Таблица1[[#This Row],[резы]]*Таблица1[[#This Row],[шир.рез]]/1000*Таблица1[[#This Row],[коэф]]/2<0,0,Таблица1[[#This Row],[резы]]*Таблица1[[#This Row],[шир.рез]]/1000*Таблица1[[#This Row],[коэф]]/2)","v":0},{"$f":"SUMIFS($Y$62:$Y$116,$C$62:$C$116,Таблица1[[#This Row],[Дл]],$D$62:$D$116,\"=500\",$F$62:$F$116,Таблица1[[#This Row],[АСТРА]])","v":0},{"$f":"SUMIFS($Y$62:$Y$116,$C$62:$C$116,\"<\"&Таблица1[[#This Row],[Дл]],$D$62:$D$116,\"=500\",$F$62:$F$116,Таблица1[[#This Row],[АСТРА]])","v":0},5,{"$f":"IF(Таблица1[[#This Row],[профиль]]=Таблица1[[#This Row],[толщ]],CONCATENATE(Таблица1[[#This Row],[Столбец33]],\" \",Таблица1[[#This Row],[толщ]]),CONCATENATE(Таблица1[[#This Row],[Столбец33]],\" \",Таблица1[[#This Row],[профиль]],\"х\",Таблица1[[#This Row],[толщ]]))","v":"Труба 30х30х1,8"},{"$f":"CONCATENATE(Таблица1[[#This Row],[Столбец33]],\" \",Таблица1[[#This Row],[профиль]])","v":"Труба 30х30"},"Труба 30х30, 1.8 мм, тр3030","Труба",{"$f":"IF(Таблица1[[#This Row],[профиль]]=Таблица1[[#This Row],[толщ]],Таблица1[[#This Row],[толщ]],CONCATENATE(Таблица1[[#This Row],[профиль]],\"х\",Таблица1[[#This Row],[точка]]))","v":"30х30х1.8"},"30х30",1.8,{"$f":"SUBSTITUTE(Таблица1[[#This Row],[толщ]],\",\",\".\")","v":"1.8"},3.1,{"$f":"SUMIFS($U$8:$U$57,$K$8:$K$57,Таблица1[[#This Row],[ГОСТ]])","v":0}]
[{"$f":"IF(Таблица1[[#This Row],[Столбец19]]=0,\"z\",\"\")","v":"z"},null,null,6000,null,{"$f":"SUMIFS($G$62:$G$116,$D$62:$D$116,500,$C$62:$C$116,Таблица1[[#This Row],[Дл]],$F$62:$F$116,Таблица1[[#This Row],[АСТРА]])","v":0},{"$f":"Таблица1[[#This Row],[толщ]]","v":2},{"$f":"Таблица1[[#This Row],[ГОСТ]]","v":"Труба 30х30х2"},{"$f":"SUMIFS($N$62:$N$116,$C$62:$C$116,Таблица1[[#This Row],[Дл]],$D$62:$D$116,\"=500\",$F$62:$F$116,Таблица1[[#This Row],[АСТРА]])","v":0},{"$f":"SUMIFS($N$62:$N$116,$C$62:$C$116,\"<\"&Таблица1[[#This Row],[Дл]],$D$62:$D$116,\"=500\",$F$62:$F$116,Таблица1[[#This Row],[АСТРА]])","v":0},null,null,{"$f":"SUMIFS($J$8:$J$57,$K$8:$K$57,Таблица1[[#This Row],[Столбец5]])","v":0},{"$f":"Таблица1[[#This Row],[пол.мас.цел]]+Таблица1[[#This Row],[пол.мас.дел]]","v":0},{"$f":"SUMIFS($Q$62:$Q$116,$C$62:$C$116,Таблица1[[#This Row],[Дл]],$D$62:$D$116,\"=500\",$F$62:$F$116,Таблица1[[#This Row],[АСТРА]])","v":0},{"$f":"SUMIFS($Q$62:$Q$116,$C$62:$C$116,\"<\"&Таблица1[[#This Row],[Дл]],$D$62:$D$116,\"=500\",$F$62:$F$116,Таблица1[[#This Row],[АСТРА]])","v":0},{"$f":"Таблица1[[#This Row],[ост.с.цел]]+Таблица1[[#This Row],[ост.с.дел]]","v":0},{"$f":"Таблица1[[#This Row],[лом.целых]]+Таблица1[[#This Row],[лом.делов]]-Таблица1[[#This Row],[лом.на.пор.]]","v":0},{"$f":"Таблица1[[#This Row],[лом]]+Таблица1[[#This Row],[корр.масс]]","v":0},{"$f":"SUMIFS($T$62:$T$116,$C$62:$C$116,Таблица1[[#This Row],[Дл]],$D$62:$D$116,\"=500\",$F$62:$F$116,Таблица1[[#This Row],[АСТРА]])","v":0},{"$f":"SUMIFS($T$62:$T$116,$C$62:$C$116,\"<\"&Таблица1[[#This Row],[Дл]],$D$62:$D$116,\"=500\",$F$62:$F$116,Таблица1[[#This Row],[АСТРА]])","v":0},{"$f":"Таблица1[[#This Row],[Столбец17]]+Таблица1[[#This Row],[Столбец18]]+Таблица1[[#This Row],[лом.на.пор.]]","v":0},{"$f":"Таблица1[[#This Row],[Столбец19]]-Таблица1[[#This Row],[корр.масс]]","v":0},null,{"$f":"SUMIFS($X$62:$X$116,$C$62:$C$116,Таблица1[[#This Row],[Дл]],$D$62:$D$116,\"=500\",$F$62:$F$116,Таблица1[[#This Row],[АСТРА]])","v":0},{"$f":"SUMIFS($X$62:$X$116,$C$62:$C$116,\"<\"&Таблица1[[#This Row],[Дл]],$D$62:$D$116,\"=500\",$F$62:$F$116,Таблица1[[#This Row],[АСТРА]])","v":0},{"$f":"Таблица1[[#This Row],[Столбец23]]+Таблица1[[#This Row],[Столбец24]]","v":0},{"$f":"Таблица1[[#This Row],[лом.целых]]+Таблица1[[#This Row],[лом.делов]]-Таблица1[[#This Row],[лом.на.пор.]]","v":0},{"$f":"IF(Таблица1[[#This Row],[резы]]*Таблица1[[#This Row],[шир.рез]]/1000*Таблица1[[#This Row],[коэф]]/2<0,0,Таблица1[[#This Row],[резы]]*Таблица1[[#This Row],[шир.рез]]/1000*Таблица1[[#This Row],[коэф]]/2)","v":0},{"$f":"SUMIFS($Y$62:$Y$116,$C$62:$C$116,Таблица1[[#This Row],[Дл]],$D$62:$D$116,\"=500\",$F$62:$F$116,Таблица1[[#This Row],[АСТРА]])","v":0},{"$f":"SUMIFS($Y$62:$Y$116,$C$62:$C$116,\"<\"&Таблица1[[#This Row],[Дл]],$D$62:$D$116,\"=500\",$F$62:$F$116,Таблица1[[#This Row],[АСТРА]])","v":0},5,{"$f":"IF(Таблица1[[#This Row],[профиль]]=Таблица1[[#This Row],[толщ]],CONCATENATE(Таблица1[[#This Row],[Столбец33]],\" \",Таблица1[[#This Row],[толщ]]),CONCATENATE(Таблица1[[#This Row],[Столбец33]],\" \",Таблица1[[#This Row],[профиль]],\"х\",Таблица1[[#This Row],[толщ]]))","v":"Труба 30х30х2"},{"$f":"CONCATENATE(Таблица1[[#This Row],[Столбец33]],\" \",Таблица1[[#This Row],[профиль]])","v":"Труба 30х30"},"Труба 30х30, 2.0 мм, тр3030","Труба",{"$f":"IF(Таблица1[[#This Row],[профиль]]=Таблица1[[#This Row],[толщ]],Таблица1[[#This Row],[толщ]],CONCATENATE(Таблица1[[#This Row],[профиль]],\"х\",Таблица1[[#This Row],[точка]]))","v":"30х30х2"},"30х30",2,{"$f":"SUBSTITUTE(Таблица1[[#This Row],[толщ]],\",\",\".\")","v":"2"},3.41,{"$f":"SUMIFS($U$8:$U$57,$K$8:$K$57,Таблица1[[#This Row],[ГОСТ]])","v":0}]
[{"$f":"IF(Таблица1[[#This Row],[Столбец19]]=0,\"z\",\"\")","v":"z"},null,null,3000,null,{"$f":"SUMIFS($G$62:$G$116,$D$62:$D$116,500,$C$62:$C$116,Таблица1[[#This Row],[Дл]],$F$62:$F$116,Таблица1[[#This Row],[АСТРА]])","v":0},{"$f":"Таблица1[[#This Row],[толщ]]","v":3},{"$f":"Таблица1[[#This Row],[ГОСТ]]","v":"Труба 32,5х3"},{"$f":"SUMIFS($N$62:$N$116,$C$62:$C$116,Таблица1[[#This Row],[Дл]],$D$62:$D$116,\"=500\",$F$62:$F$116,Таблица1[[#This Row],[АСТРА]])","v":0},{"$f":"SUMIFS($N$62:$N$116,$C$62:$C$116,\"<\"&Таблица1[[#This Row],[Дл]],$D$62:$D$116,\"=500\",$F$62:$F$116,Таблица1[[#This Row],[АСТРА]])","v":0},null,null,{"$f":"SUMIFS($J$8:$J$57,$K$8:$K$57,Таблица1[[#This Row],[Столбец5]])","v":0},{"$f":"Таблица1[[#This Row],[пол.мас.цел]]+Таблица1[[#This Row],[пол.мас.дел]]","v":0},{"$f":"SUMIFS($Q$62:$Q$116,$C$62:$C$116,Таблица1[[#This Row],[Дл]],$D$62:$D$116,\"=500\",$F$62:$F$116,Таблица1[[#This Row],[АСТРА]])","v":0},{"$f":"SUMIFS($Q$62:$Q$116,$C$62:$C$116,\"<\"&Таблица1[[#This Row],[Дл]],$D$62:$D$116,\"=500\",$F$62:$F$116,Таблица1[[#This Row],[АСТРА]])","v":0},{"$f":"Таблица1[[#This Row],[ост.с.цел]]+Таблица1[[#This Row],[ост.с.дел]]","v":0},{"$f":"Таблица1[[#This Row],[лом.целых]]+Таблица1[[#This Row],[лом.делов]]-Таблица1[[#This Row],[лом.на.пор.]]","v":0},{"$f":"Таблица1[[#This Row],[лом]]+Таблица1[[#This Row],[корр.масс]]","v":0},{"$f":"SUMIFS($T$62:$T$116,$C$62:$C$116,Таблица1[[#This Row],[Дл]],$D$62:$D$116,\"=500\",$F$62:$F$116,Таблица1[[#This Row],[АСТРА]])","v":0},{"$f":"SUMIFS($T$62:$T$116,$C$62:$C$116,\"<\"&Таблица1[[#This Row],[Дл]],$D$62:$D$116,\"=500\",$F$62:$F$116,Таблица1[[#This Row],[АСТРА]])","v":0},{"$f":"Таблица1[[#This Row],[Столбец17]]+Таблица1[[#This Row],[Столбец18]]+Таблица1[[#This Row],[лом.на.пор.]]","v":0},{"$f":"Таблица1[[#This Row],[Столбец19]]-Таблица1[[#This Row],[корр.масс]]","v":0},null,{"$f":"SUMIFS($X$62:$X$116,$C$62:$C$116,Таблица1[[#This Row],[Дл]],$D$62:$D$116,\"=500\",$F$62:$F$116,Таблица1[[#This Row],[АСТРА]])","v":0},{"$f":"SUMIFS($X$62:$X$116,$C$62:$C$116,\"<\"&Таблица1[[#This Row],[Дл]],$D$62:$D$116,\"=500\",$F$62:$F$116,Таблица1[[#This Row],[АСТРА]])","v":0},{"$f":"Таблица1[[#This Row],[Столбец23]]+Таблица1[[#This Row],[Столбец24]]","v":0},{"$f":"Таблица1[[#This Row],[лом.целых]]+Таблица1[[#This Row],[лом.делов]]-Таблица1[[#This Row],[лом.на.пор.]]","v":0},{"$f":"IF(Таблица1[[#This Row],[резы]]*Таблица1[[#This Row],[шир.рез]]/1000*Таблица1[[#This Row],[коэф]]/2<0,0,Таблица1[[#This Row],[резы]]*Таблица1[[#This Row],[шир.рез]]/1000*Таблица1[[#This Row],[коэф]]/2)","v":0},{"$f":"SUMIFS($Y$62:$Y$116,$C$62:$C$116,Таблица1[[#This Row],[Дл]],$D$62:$D$116,\"=500\",$F$62:$F$116,Таблица1[[#This Row],[АСТРА]])","v":0},{"$f":"SUMIFS($Y$62:$Y$116,$C$62:$C$116,\"<\"&Таблица1[[#This Row],[Дл]],$D$62:$D$116,\"=500\",$F$62:$F$116,Таблица1[[#This Row],[АСТРА]])","v":0},5,{"$f":"IF(Таблица1[[#This Row],[профиль]]=Таблица1[[#This Row],[толщ]],CONCATENATE(Таблица1[[#This Row],[Столбец33]],\" \",Таблица1[[#This Row],[толщ]]),CONCATENATE(Таблица1[[#This Row],[Столбец33]],\" \",Таблица1[[#This Row],[профиль]],\"х\",Таблица1[[#This Row],[толщ]]))","v":"Труба 32,5х3"},{"$f":"CONCATENATE(Таблица1[[#This Row],[Столбец33]],\" \",Таблица1[[#This Row],[профиль]])","v":"Труба 32,5"},"Труба 32,5, 3.0 мм, тр32.5","Труба",{"$f":"IF(Таблица1[[#This Row],[профиль]]=Таблица1[[#This Row],[толщ]],Таблица1[[#This Row],[толщ]],CONCATENATE(Таблица1[[#This Row],[профиль]],\"х\",Таблица1[[#This Row],[точка]]))","v":"32,5х3"},32.5,3,{"$f":"SUBSTITUTE(Таблица1[[#This Row],[толщ]],\",\",\".\")","v":"3"},4.37,{"$f":"SUMIFS($U$8:$U$57,$K$8:$K$57,Таблица1[[#This Row],[ГОСТ]])","v":0}]
[{"$f":"IF(Таблица1[[#This Row],[Столбец19]]=0,\"z\",\"\")","v":"z"},null,null,6000,null,{"$f":"SUMIFS($G$62:$G$116,$D$62:$D$116,500,$C$62:$C$116,Таблица1[[#This Row],[Дл]],$F$62:$F$116,Таблица1[[#This Row],[АСТРА]])","v":0},{"$f":"Таблица1[[#This Row],[толщ]]","v":2},{"$f":"Таблица1[[#This Row],[ГОСТ]]","v":"Труба 40х2"},{"$f":"SUMIFS($N$62:$N$116,$C$62:$C$116,Таблица1[[#This Row],[Дл]],$D$62:$D$116,\"=500\",$F$62:$F$116,Таблица1[[#This Row],[АСТРА]])","v":0},{"$f":"SUMIFS($N$62:$N$116,$C$62:$C$116,\"<\"&Таблица1[[#This Row],[Дл]],$D$62:$D$116,\"=500\",$F$62:$F$116,Таблица1[[#This Row],[АСТРА]])","v":0},null,null,{"$f":"SUMIFS($J$8:$J$57,$K$8:$K$57,Таблица1[[#This Row],[Столбец5]])","v":0},{"$f":"Таблица1[[#This Row],[пол.мас.цел]]+Таблица1[[#This Row],[пол.мас.дел]]","v":0},{"$f":"SUMIFS($Q$62:$Q$116,$C$62:$C$116,Таблица1[[#This Row],[Дл]],$D$62:$D$116,\"=500\",$F$62:$F$116,Таблица1[[#This Row],[АСТРА]])","v":0},{"$f":"SUMIFS($Q$62:$Q$116,$C$62:$C$116,\"<\"&Таблица1[[#This Row],[Дл]],$D$62:$D$116,\"=500\",$F$62:$F$116,Таблица1[[#This Row],[АСТРА]])","v":0},{"$f":"Таблица1[[#This Row],[ост.с.цел]]+Таблица1[[#This Row],[ост.с.дел]]","v":0},{"$f":"Таблица1[[#This Row],[лом.целых]]+Таблица1[[#This Row],[лом.делов]]-Таблица1[[#This Row],[лом.на.пор.]]","v":0},{"$f":"Таблица1[[#This Row],[лом]]+Таблица1[[#This Row],[корр.масс]]","v":0},{"$f":"SUMIFS($T$62:$T$116,$C$62:$C$116,Таблица1[[#This Row],[Дл]],$D$62:$D$116,\"=500\",$F$62:$F$116,Таблица1[[#This Row],[АСТРА]])","v":0},{"$f":"SUMIFS($T$62:$T$116,$C$62:$C$116,\"<\"&Таблица1[[#This Row],[Дл]],$D$62:$D$116,\"=500\",$F$62:$F$116,Таблица1[[#This Row],[АСТРА]])","v":0},{"$f":"Таблица1[[#This Row],[Столбец17]]+Таблица1[[#This Row],[Столбец18]]+Таблица1[[#This Row],[лом.на.пор.]]","v":0},{"$f":"Таблица1[[#This Row],[Столбец19]]-Таблица1[[#This Row],[корр.масс]]","v":0},null,{"$f":"SUMIFS($X$62:$X$116,$C$62:$C$116,Таблица1[[#This Row],[Дл]],$D$62:$D$116,\"=500\",$F$62:$F$116,Таблица1[[#This Row],[АСТРА]])","v":0},{"$f":"SUMIFS($X$62:$X$116,$C$62:$C$116,\"<\"&Таблица1[[#This Row],[Дл]],$D$62:$D$116,\"=500\",$F$62:$F$116,Таблица1[[#This Row],[АСТРА]])","v":0},{"$f":"Таблица1[[#This Row],[Столбец23]]+Таблица1[[#This Row],[Столбец24]]","v":0},{"$f":"Таблица1[[#This Row],[лом.целых]]+Таблица1[[#This Row],[лом.делов]]-Таблица1[[#This Row],[лом.на.пор.]]","v":0},{"$f":"IF(Таблица1[[#This Row],[резы]]*Таблица1[[#This Row],[шир.рез]]/1000*Таблица1[[#This Row],[коэф]]/2<0,0,Таблица1[[#This Row],[резы]]*Таблица1[[#This Row],[шир.рез]]/1000*Таблица1[[#This Row],[коэф]]/2)","v":0},{"$f":"SUMIFS($Y$62:$Y$116,$C$62:$C$116,Таблица1[[#This Row],[Дл]],$D$62:$D$116,\"=500\",$F$62:$F$116,Таблица1[[#This Row],[АСТРА]])","v":0},{"$f":"SUMIFS($Y$62:$Y$116,$C$62:$C$116,\"<\"&Таблица1[[#This Row],[Дл]],$D$62:$D$116,\"=500\",$F$62:$F$116,Таблица1[[#This Row],[АСТРА]])","v":0},5,{"$f":"IF(Таблица1[[#This Row],[профиль]]=Таблица1[[#This Row],[толщ]],CONCATENATE(Таблица1[[#This Row],[Столбец33]],\" \",Таблица1[[#This Row],[толщ]]),CONCATENATE(Таблица1[[#This Row],[Столбец33]],\" \",Таблица1[[#This Row],[профиль]],\"х\",Таблица1[[#This Row],[толщ]]))","v":"Труба 40х2"},{"$f":"CONCATENATE(Таблица1[[#This Row],[Столбец33]],\" \",Таблица1[[#This Row],[профиль]])","v":"Труба 40"},"Труба 40, 2.0 мм","Труба",{"$f":"IF(Таблица1[[#This Row],[профиль]]=Таблица1[[#This Row],[толщ]],Таблица1[[#This Row],[толщ]],CONCATENATE(Таблица1[[#This Row],[профиль]],\"х\",Таблица1[[#This Row],[точка]]))","v":"40х2"},40,2,{"$f":"SUBSTITUTE(Таблица1[[#This Row],[толщ]],\",\",\".\")","v":"2"},3.75,{"$f":"SUMIFS($U$8:$U$57,$K$8:$K$57,Таблица1[[#This Row],[ГОСТ]])","v":0}]
[{"$f":"IF(Таблица1[[#This Row],[Столбец19]]=0,\"z\",\"\")","v":"z"},null,null,6000,null,{"$f":"SUMIFS($G$62:$G$116,$D$62:$D$116,500,$C$62:$C$116,Таблица1[[#This Row],[Дл]],$F$62:$F$116,Таблица1[[#This Row],[АСТРА]])","v":0},{"$f":"Таблица1[[#This Row],[толщ]]","v":1},{"$f":"Таблица1[[#This Row],[ГОСТ]]","v":"Труба 40х20х1"},{"$f":"SUMIFS($N$62:$N$116,$C$62:$C$116,Таблица1[[#This Row],[Дл]],$D$62:$D$116,\"=500\",$F$62:$F$116,Таблица1[[#This Row],[АСТРА]])","v":0},{"$f":"SUMIFS($N$62:$N$116,$C$62:$C$116,\"<\"&Таблица1[[#This Row],[Дл]],$D$62:$D$116,\"=500\",$F$62:$F$116,Таблица1[[#This Row],[АСТРА]])","v":0},null,null,{"$f":"SUMIFS($J$8:$J$57,$K$8:$K$57,Таблица1[[#This Row],[Столбец5]])","v":0},{"$f":"Таблица1[[#This Row],[пол.мас.цел]]+Таблица1[[#This Row],[пол.мас.дел]]","v":0},{"$f":"SUMIFS($Q$62:$Q$116,$C$62:$C$116,Таблица1[[#This Row],[Дл]],$D$62:$D$116,\"=500\",$F$62:$F$116,Таблица1[[#This Row],[АСТРА]])","v":0},{"$f":"SUMIFS($Q$62:$Q$116,$C$62:$C$116,\"<\"&Таблица1[[#This Row],[Дл]],$D$62:$D$116,\"=500\",$F$62:$F$116,Таблица1[[#This Row],[АСТРА]])","v":0},{"$f":"Таблица1[[#This Row],[ост.с.цел]]+Таблица1[[#This Row],[ост.с.дел]]","v":0},{"$f":"Таблица1[[#This Row],[лом.целых]]+Таблица1[[#This Row],[лом.делов]]-Таблица1[[#This Row],[лом.на.пор.]]","v":0},{"$f":"Таблица1[[#This Row],[лом]]+Таблица1[[#This Row],[корр.масс]]","v":0},{"$f":"SUMIFS($T$62:$T$116,$C$62:$C$116,Таблица1[[#This Row],[Дл]],$D$62:$D$116,\"=500\",$F$62:$F$116,Таблица1[[#This Row],[АСТРА]])","v":0},{"$f":"SUMIFS($T$62:$T$116,$C$62:$C$116,\"<\"&Таблица1[[#This Row],[Дл]],$D$62:$D$116,\"=500\",$F$62:$F$116,Таблица1[[#This Row],[АСТРА]])","v":0},{"$f":"Таблица1[[#This Row],[Столбец17]]+Таблица1[[#This Row],[Столбец18]]+Таблица1[[#This Row],[лом.на.пор.]]","v":0},{"$f":"Таблица1[[#This Row],[Столбец19]]-Таблица1[[#This Row],[корр.масс]]","v":0},null,{"$f":"SUMIFS($X$62:$X$116,$C$62:$C$116,Таблица1[[#This Row],[Дл]],$D$62:$D$116,\"=500\",$F$62:$F$116,Таблица1[[#This Row],[АСТРА]])","v":0},{"$f":"SUMIFS($X$62:$X$116,$C$62:$C$116,\"<\"&Таблица1[[#This Row],[Дл]],$D$62:$D$116,\"=500\",$F$62:$F$116,Таблица1[[#This Row],[АСТРА]])","v":0},{"$f":"Таблица1[[#This Row],[Столбец23]]+Таблица1[[#This Row],[Столбец24]]","v":0},{"$f":"Таблица1[[#This Row],[лом.целых]]+Таблица1[[#This Row],[лом.делов]]-Таблица1[[#This Row],[лом.на.пор.]]","v":0},{"$f":"IF(Таблица1[[#This Row],[резы]]*Таблица1[[#This Row],[шир.рез]]/1000*Таблица1[[#This Row],[коэф]]/2<0,0,Таблица1[[#This Row],[резы]]*Таблица1[[#This Row],[шир.рез]]/1000*Таблица1[[#This Row],[коэф]]/2)","v":0},{"$f":"SUMIFS($Y$62:$Y$116,$C$62:$C$116,Таблица1[[#This Row],[Дл]],$D$62:$D$116,\"=500\",$F$62:$F$116,Таблица1[[#This Row],[АСТРА]])","v":0},{"$f":"SUMIFS($Y$62:$Y$116,$C$62:$C$116,\"<\"&Таблица1[[#This Row],[Дл]],$D$62:$D$116,\"=500\",$F$62:$F$116,Таблица1[[#This Row],[АСТРА]])","v":0},5,{"$f":"IF(Таблица1[[#This Row],[профиль]]=Таблица1[[#This Row],[толщ]],CONCATENATE(Таблица1[[#This Row],[Столбец33]],\" \",Таблица1[[#This Row],[толщ]]),CONCATENATE(Таблица1[[#This Row],[Столбец33]],\" \",Таблица1[[#This Row],[профиль]],\"х\",Таблица1[[#This Row],[толщ]]))","v":"Труба 40х20х1"},{"$f":"CONCATENATE(Таблица1[[#This Row],[Столбец33]],\" \",Таблица1[[#This Row],[профиль]])","v":"Труба 40х20"},"Труба 40х20, 1.0 мм, тр4020","Труба",{"$f":"IF(Таблица1[[#This Row],[профиль]]=Таблица1[[#This Row],[толщ]],Таблица1[[#This Row],[толщ]],CONCATENATE(Таблица1[[#This Row],[профиль]],\"х\",Таблица1[[#This Row],[точка]]))","v":"40х20х1"},"40х20",1,{"$f":"SUBSTITUTE(Таблица1[[#This Row],[толщ]],\",\",\".\")","v":"1"},1.79,{"$f":"SUMIFS($U$8:$U$57,$K$8:$K$57,Таблица1[[#This Row],[ГОСТ]])","v":0}]
[{"$f":"IF(Таблица1[[#This Row],[Столбец19]]=0,\"z\",\"\")","v":"z"},null,null,6000,null,{"$f":"SUMIFS($G$62:$G$116,$D$62:$D$116,500,$C$62:$C$116,Таблица1[[#This Row],[Дл]],$F$62:$F$116,Таблица1[[#This Row],[АСТРА]])","v":0},{"$f":"Таблица1[[#This Row],[толщ]]","v":1.2},{"$f":"Таблица1[[#This Row],[ГОСТ]]","v":"Труба 40х20х1,2"},{"$f":"SUMIFS($N$62:$N$116,$C$62:$C$116,Таблица1[[#This Row],[Дл]],$D$62:$D$116,\"=500\",$F$62:$F$116,Таблица1[[#This Row],[АСТРА]])","v":0},{"$f":"SUMIFS($N$62:$N$116,$C$62:$C$116,\"<\"&Таблица1[[#This Row],[Дл]],$D$62:$D$116,\"=500\",$F$62:$F$116,Таблица1[[#This Row],[АСТРА]])","v":0},null,null,{"$f":"SUMIFS($J$8:$J$57,$K$8:$K$57,Таблица1[[#This Row],[Столбец5]])","v":0},{"$f":"Таблица1[[#This Row],[пол.мас.цел]]+Таблица1[[#This Row],[пол.мас.дел]]","v":0},{"$f":"SUMIFS($Q$62:$Q$116,$C$62:$C$116,Таблица1[[#This Row],[Дл]],$D$62:$D$116,\"=500\",$F$62:$F$116,Таблица1[[#This Row],[АСТРА]])","v":0},{"$f":"SUMIFS($Q$62:$Q$116,$C$62:$C$116,\"<\"&Таблица1[[#This Row],[Дл]],$D$62:$D$116,\"=500\",$F$62:$F$116,Таблица1[[#This Row],[АСТРА]])","v":0},{"$f":"Таблица1[[#This Row],[ост.с.цел]]+Таблица1[[#This Row],[ост.с.дел]]","v":0},{"$f":"Таблица1[[#This Row],[лом.целых]]+Таблица1[[#This Row],[лом.делов]]-Таблица1[[#This Row],[лом.на.пор.]]","v":0},{"$f":"Таблица1[[#This Row],[лом]]+Таблица1[[#This Row],[корр.масс]]","v":0},{"$f":"SUMIFS($T$62:$T$116,$C$62:$C$116,Таблица1[[#This Row],[Дл]],$D$62:$D$116,\"=500\",$F$62:$F$116,Таблица1[[#This Row],[АСТРА]])","v":0},{"$f":"SUMIFS($T$62:$T$116,$C$62:$C$116,\"<\"&Таблица1[[#This Row],[Дл]],$D$62:$D$116,\"=500\",$F$62:$F$116,Таблица1[[#This Row],[АСТРА]])","v":0},{"$f":"Таблица1[[#This Row],[Столбец17]]+Таблица1[[#This Row],[Столбец18]]+Таблица1[[#This Row],[лом.на.пор.]]","v":0},{"$f":"Таблица1[[#This Row],[Столбец19]]-Таблица1[[#This Row],[корр.масс]]","v":0},null,{"$f":"SUMIFS($X$62:$X$116,$C$62:$C$116,Таблица1[[#This Row],[Дл]],$D$62:$D$116,\"=500\",$F$62:$F$116,Таблица1[[#This Row],[АСТРА]])","v":0},{"$f":"SUMIFS($X$62:$X$116,$C$62:$C$116,\"<\"&Таблица1[[#This Row],[Дл]],$D$62:$D$116,\"=500\",$F$62:$F$116,Таблица1[[#This Row],[АСТРА]])","v":0},{"$f":"Таблица1[[#This Row],[Столбец23]]+Таблица1[[#This Row],[Столбец24]]","v":0},{"$f":"Таблица1[[#This Row],[лом.целых]]+Таблица1[[#This Row],[лом.делов]]-Таблица1[[#This Row],[лом.на.пор.]]","v":0},{"$f":"IF(Таблица1[[#This Row],[резы]]*Таблица1[[#This Row],[шир.рез]]/1000*Таблица1[[#This Row],[коэф]]/2<0,0,Таблица1[[#This Row],[резы]]*Таблица1[[#This Row],[шир.рез]]/1000*Таблица1[[#This Row],[коэф]]/2)","v":0},{"$f":"SUMIFS($Y$62:$Y$116,$C$62:$C$116,Таблица1[[#This Row],[Дл]],$D$62:$D$116,\"=500\",$F$62:$F$116,Таблица1[[#This Row],[АСТРА]])","v":0},{"$f":"SUMIFS($Y$62:$Y$116,$C$62:$C$116,\"<\"&Таблица1[[#This Row],[Дл]],$D$62:$D$116,\"=500\",$F$62:$F$116,Таблица1[[#This Row],[АСТРА]])","v":0},5,{"$f":"IF(Таблица1[[#This Row],[профиль]]=Таблица1[[#This Row],[толщ]],CONCATENATE(Таблица1[[#This Row],[Столбец33]],\" \",Таблица1[[#This Row],[толщ]]),CONCATENATE(Таблица1[[#This Row],[Столбец33]],\" \",Таблица1[[#This Row],[профиль]],\"х\",Таблица1[[#This Row],[толщ]]))","v":"Труба 40х20х1,2"},{"$f":"CONCATENATE(Таблица1[[#This Row],[Столбец33]],\" \",Таблица1[[#This Row],[профиль]])","v":"Труба 40х20"},"Труба 40х20, 1.2 мм, тр4020","Труба",{"$f":"IF(Таблица1[[#This Row],[профиль]]=Таблица1[[#This Row],[толщ]],Таблица1[[#This Row],[толщ]],CONCATENATE(Таблица1[[#This Row],[профиль]],\"х\",Таблица1[[#This Row],[точка]]))","v":"40х20х1.2"},"40х20",1.2,{"$f":"SUBSTITUTE(Таблица1[[#This Row],[толщ]],\",\",\".\")","v":"1.2"},2.13,{"$f":"SUMIFS($U$8:$U$57,$K$8:$K$57,Таблица1[[#This Row],[ГОСТ]])","v":0}]
[{"$f":"IF(Таблица1[[#This Row],[Столбец19]]=0,\"z\",\"\")","v":"z"},null,null,6000,null,{"$f":"SUMIFS($G$62:$G$116,$D$62:$D$116,500,$C$62:$C$116,Таблица1[[#This Row],[Дл]],$F$62:$F$116,Таблица1[[#This Row],[АСТРА]])","v":0},{"$f":"Таблица1[[#This Row],[толщ]]","v":1.5},{"$f":"Таблица1[[#This Row],[ГОСТ]]","v":"Труба 40х20х1,5"},{"$f":"SUMIFS($N$62:$N$116,$C$62:$C$116,Таблица1[[#This Row],[Дл]],$D$62:$D$116,\"=500\",$F$62:$F$116,Таблица1[[#This Row],[АСТРА]])","v":0},{"$f":"SUMIFS($N$62:$N$116,$C$62:$C$116,\"<\"&Таблица1[[#This Row],[Дл]],$D$62:$D$116,\"=500\",$F$62:$F$116,Таблица1[[#This Row],[АСТРА]])","v":0},null,null,{"$f":"SUMIFS($J$8:$J$57,$K$8:$K$57,Таблица1[[#This Row],[Столбец5]])","v":0},{"$f":"Таблица1[[#This Row],[пол.мас.цел]]+Таблица1[[#This Row],[пол.мас.дел]]","v":0},{"$f":"SUMIFS($Q$62:$Q$116,$C$62:$C$116,Таблица1[[#This Row],[Дл]],$D$62:$D$116,\"=500\",$F$62:$F$116,Таблица1[[#This Row],[АСТРА]])","v":0},{"$f":"SUMIFS($Q$62:$Q$116,$C$62:$C$116,\"<\"&Таблица1[[#This Row],[Дл]],$D$62:$D$116,\"=500\",$F$62:$F$116,Таблица1[[#This Row],[АСТРА]])","v":0},{"$f":"Таблица1[[#This Row],[ост.с.цел]]+Таблица1[[#This Row],[ост.с.дел]]","v":0},{"$f":"Таблица1[[#This Row],[лом.целых]]+Таблица1[[#This Row],[лом.делов]]-Таблица1[[#This Row],[лом.на.пор.]]","v":0},{"$f":"Таблица1[[#This Row],[лом]]+Таблица1[[#This Row],[корр.масс]]","v":0},{"$f":"SUMIFS($T$62:$T$116,$C$62:$C$116,Таблица1[[#This Row],[Дл]],$D$62:$D$116,\"=500\",$F$62:$F$116,Таблица1[[#This Row],[АСТРА]])","v":0},{"$f":"SUMIFS($T$62:$T$116,$C$62:$C$116,\"<\"&Таблица1[[#This Row],[Дл]],$D$62:$D$116,\"=500\",$F$62:$F$116,Таблица1[[#This Row],[АСТРА]])","v":0},{"$f":"Таблица1[[#This Row],[Столбец17]]+Таблица1[[#This Row],[Столбец18]]+Таблица1[[#This Row],[лом.на.пор.]]","v":0},{"$f":"Таблица1[[#This Row],[Столбец19]]-Таблица1[[#This Row],[корр.масс]]","v":0},null,{"$f":"SUMIFS($X$62:$X$116,$C$62:$C$116,Таблица1[[#This Row],[Дл]],$D$62:$D$116,\"=500\",$F$62:$F$116,Таблица1[[#This Row],[АСТРА]])","v":0},{"$f":"SUMIFS($X$62:$X$116,$C$62:$C$116,\"<\"&Таблица1[[#This Row],[Дл]],$D$62:$D$116,\"=500\",$F$62:$F$116,Таблица1[[#This Row],[АСТРА]])","v":0},{"$f":"Таблица1[[#This Row],[Столбец23]]+Таблица1[[#This Row],[Столбец24]]","v":0},{"$f":"Таблица1[[#This Row],[лом.целых]]+Таблица1[[#This Row],[лом.делов]]-Таблица1[[#This Row],[лом.на.пор.]]","v":0},{"$f":"IF(Таблица1[[#This Row],[резы]]*Таблица1[[#This Row],[шир.рез]]/1000*Таблица1[[#This Row],[коэф]]/2<0,0,Таблица1[[#This Row],[резы]]*Таблица1[[#This Row],[шир.рез]]/1000*Таблица1[[#This Row],[коэф]]/2)","v":0},{"$f":"SUMIFS($Y$62:$Y$116,$C$62:$C$116,Таблица1[[#This Row],[Дл]],$D$62:$D$116,\"=500\",$F$62:$F$116,Таблица1[[#This Row],[АСТРА]])","v":0},{"$f":"SUMIFS($Y$62:$Y$116,$C$62:$C$116,\"<\"&Таблица1[[#This Row],[Дл]],$D$62:$D$116,\"=500\",$F$62:$F$116,Таблица1[[#This Row],[АСТРА]])","v":0},5,{"$f":"IF(Таблица1[[#This Row],[профиль]]=Таблица1[[#This Row],[толщ]],CONCATENATE(Таблица1[[#This Row],[Столбец33]],\" \",Таблица1[[#This Row],[толщ]]),CONCATENATE(Таблица1[[#This Row],[Столбец33]],\" \",Таблица1[[#This Row],[профиль]],\"х\",Таблица1[[#This Row],[толщ]]))","v":"Труба 40х20х1,5"},{"$f":"CONCATENATE(Таблица1[[#This Row],[Столбец33]],\" \",Таблица1[[#This Row],[профиль]])","v":"Труба 40х20"},"Труба 40х20, 1.5 мм, тр4020","Труба",{"$f":"IF(Таблица1[[#This Row],[профиль]]=Таблица1[[#This Row],[толщ]],Таблица1[[#This Row],[толщ]],CONCATENATE(Таблица1[[#This Row],[профиль]],\"х\",Таблица1[[#This Row],[точка]]))","v":"40х20х1.5"},"40х20",1.5,{"$f":"SUBSTITUTE(Таблица1[[#This Row],[толщ]],\",\",\".\")","v":"1.5"},2.62,{"$f":"SUMIFS($U$8:$U$57,$K$8:$K$57,Таблица1[[#This Row],[ГОСТ]])","v":0}]
[{"$f":"IF(Таблица1[[#This Row],[Столбец19]]=0,\"z\",\"\")","v":"z"},null,null,6000,null,{"$f":"SUMIFS($G$62:$G$116,$D$62:$D$116,500,$C$62:$C$116,Таблица1[[#This Row],[Дл]],$F$62:$F$116,Таблица1[[#This Row],[АСТРА]])","v":0},{"$f":"Таблица1[[#This Row],[толщ]]","v":1.8},{"$f":"Таблица1[[#This Row],[ГОСТ]]","v":"Труба 40х20х1,8"},{"$f":"SUMIFS($N$62:$N$116,$C$62:$C$116,Таблица1[[#This Row],[Дл]],$D$62:$D$116,\"=500\",$F$62:$F$116,Таблица1[[#This Row],[АСТРА]])","v":0},{"$f":"SUMIFS($N$62:$N$116,$C$62:$C$116,\"<\"&Таблица1[[#This Row],[Дл]],$D$62:$D$116,\"=500\",$F$62:$F$116,Таблица1[[#This Row],[АСТРА]])","v":0},null,null,{"$f":"SUMIFS($J$8:$J$57,$K$8:$K$57,Таблица1[[#This Row],[Столбец5]])","v":0},{"$f":"Таблица1[[#This Row],[пол.мас.цел]]+Таблица1[[#This Row],[пол.мас.дел]]","v":0},{"$f":"SUMIFS($Q$62:$Q$116,$C$62:$C$116,Таблица1[[#This Row],[Дл]],$D$62:$D$116,\"=500\",$F$62:$F$116,Таблица1[[#This Row],[АСТРА]])","v":0},{"$f":"SUMIFS($Q$62:$Q$116,$C$62:$C$116,\"<\"&Таблица1[[#This Row],[Дл]],$D$62:$D$116,\"=500\",$F$62:$F$116,Таблица1[[#This Row],[АСТРА]])","v":0},{"$f":"Таблица1[[#This Row],[ост.с.цел]]+Таблица1[[#This Row],[ост.с.дел]]","v":0},{"$f":"Таблица1[[#This Row],[лом.целых]]+Таблица1[[#This Row],[лом.делов]]-Таблица1[[#This Row],[лом.на.пор.]]","v":0},{"$f":"Таблица1[[#This Row],[лом]]+Таблица1[[#This Row],[корр.масс]]","v":0},{"$f":"SUMIFS($T$62:$T$116,$C$62:$C$116,Таблица1[[#This Row],[Дл]],$D$62:$D$116,\"=500\",$F$62:$F$116,Таблица1[[#This Row],[АСТРА]])","v":0},{"$f":"SUMIFS($T$62:$T$116,$C$62:$C$116,\"<\"&Таблица1[[#This Row],[Дл]],$D$62:$D$116,\"=500\",$F$62:$F$116,Таблица1[[#This Row],[АСТРА]])","v":0},{"$f":"Таблица1[[#This Row],[Столбец17]]+Таблица1[[#This Row],[Столбец18]]+Таблица1[[#This Row],[лом.на.пор.]]","v":0},{"$f":"Таблица1[[#This Row],[Столбец19]]-Таблица1[[#This Row],[корр.масс]]","v":0},null,{"$f":"SUMIFS($X$62:$X$116,$C$62:$C$116,Таблица1[[#This Row],[Дл]],$D$62:$D$116,\"=500\",$F$62:$F$116,Таблица1[[#This Row],[АСТРА]])","v":0},{"$f":"SUMIFS($X$62:$X$116,$C$62:$C$116,\"<\"&Таблица1[[#This Row],[Дл]],$D$62:$D$116,\"=500\",$F$62:$F$116,Таблица1[[#This Row],[АСТРА]])","v":0},{"$f":"Таблица1[[#This Row],[Столбец23]]+Таблица1[[#This Row],[Столбец24]]","v":0},{"$f":"Таблица1[[#This Row],[лом.целых]]+Таблица1[[#This Row],[лом.делов]]-Таблица1[[#This Row],[лом.на.пор.]]","v":0},{"$f":"IF(Таблица1[[#This Row],[резы]]*Таблица1[[#This Row],[шир.рез]]/1000*Таблица1[[#This Row],[коэф]]/2<0,0,Таблица1[[#This Row],[резы]]*Таблица1[[#This Row],[шир.рез]]/1000*Таблица1[[#This Row],[коэф]]/2)","v":0},{"$f":"SUMIFS($Y$62:$Y$116,$C$62:$C$116,Таблица1[[#This Row],[Дл]],$D$62:$D$116,\"=500\",$F$62:$F$116,Таблица1[[#This Row],[АСТРА]])","v":0},{"$f":"SUMIFS($Y$62:$Y$116,$C$62:$C$116,\"<\"&Таблица1[[#This Row],[Дл]],$D$62:$D$116,\"=500\",$F$62:$F$116,Таблица1[[#This Row],[АСТРА]])","v":0},5,{"$f":"IF(Таблица1[[#This Row],[профиль]]=Таблица1[[#This Row],[толщ]],CONCATENATE(Таблица1[[#This Row],[Столбец33]],\" \",Таблица1[[#This Row],[толщ]]),CONCATENATE(Таблица1[[#This Row],[Столбец33]],\" \",Таблица1[[#This Row],[профиль]],\"х\",Таблица1[[#This Row],[толщ]]))","v":"Труба 40х20х1,8"},{"$f":"CONCATENATE(Таблица1[[#This Row],[Столбец33]],\" \",Таблица1[[#This Row],[профиль]])","v":"Труба 40х20"},"Труба 40х20, 1.8 мм, тр4020","Труба",{"$f":"IF(Таблица1[[#This Row],[профиль]]=Таблица1[[#This Row],[толщ]],Таблица1[[#This Row],[толщ]],CONCATENATE(Таблица1[[#This Row],[профиль]],\"х\",Таблица1[[#This Row],[точка]]))","v":"40х20х1.8"},"40х20",1.8,{"$f":"SUBSTITUTE(Таблица1[[#This Row],[толщ]],\",\",\".\")","v":"1.8"},3.1,{"$f":"SUMIFS($U$8:$U$57,$K$8:$K$57,Таблица1[[#This Row],[ГОСТ]])","v":0}]
[{"$f":"IF(Таблица1[[#This Row],[Столбец19]]=0,\"z\",\"\")","v":"z"},null,null,6000,null,{"$f":"SUMIFS($G$62:$G$116,$D$62:$D$116,500,$C$62:$C$116,Таблица1[[#This Row],[Дл]],$F$62:$F$116,Таблица1[[#This Row],[АСТРА]])","v":0},{"$f":"Таблица1[[#This Row],[толщ]]","v":2},{"$f":"Таблица1[[#This Row],[ГОСТ]]","v":"Труба 40х20х2"},{"$f":"SUMIFS($N$62:$N$116,$C$62:$C$116,Таблица1[[#This Row],[Дл]],$D$62:$D$116,\"=500\",$F$62:$F$116,Таблица1[[#This Row],[АСТРА]])","v":0},{"$f":"SUMIFS($N$62:$N$116,$C$62:$C$116,\"<\"&Таблица1[[#This Row],[Дл]],$D$62:$D$116,\"=500\",$F$62:$F$116,Таблица1[[#This Row],[АСТРА]])","v":0},null,null,{"$f":"SUMIFS($J$8:$J$57,$K$8:$K$57,Таблица1[[#This Row],[Столбец5]])","v":0},{"$f":"Таблица1[[#This Row],[пол.мас.цел]]+Таблица1[[#This Row],[пол.мас.дел]]","v":0},{"$f":"SUMIFS($Q$62:$Q$116,$C$62:$C$116,Таблица1[[#This Row],[Дл]],$D$62:$D$116,\"=500\",$F$62:$F$116,Таблица1[[#This Row],[АСТРА]])","v":0},{"$f":"SUMIFS($Q$62:$Q$116,$C$62:$C$116,\"<\"&Таблица1[[#This Row],[Дл]],$D$62:$D$116,\"=500\",$F$62:$F$116,Таблица1[[#This Row],[АСТРА]])","v":0},{"$f":"Таблица1[[#This Row],[ост.с.цел]]+Таблица1[[#This Row],[ост.с.дел]]","v":0},{"$f":"Таблица1[[#This Row],[лом.целых]]+Таблица1[[#This Row],[лом.делов]]-Таблица1[[#This Row],[лом.на.пор.]]","v":0},{"$f":"Таблица1[[#This Row],[лом]]+Таблица1[[#This Row],[корр.масс]]","v":0},{"$f":"SUMIFS($T$62:$T$116,$C$62:$C$116,Таблица1[[#This Row],[Дл]],$D$62:$D$116,\"=500\",$F$62:$F$116,Таблица1[[#This Row],[АСТРА]])","v":0},{"$f":"SUMIFS($T$62:$T$116,$C$62:$C$116,\"<\"&Таблица1[[#This Row],[Дл]],$D$62:$D$116,\"=500\",$F$62:$F$116,Таблица1[[#This Row],[АСТРА]])","v":0},{"$f":"Таблица1[[#This Row],[Столбец17]]+Таблица1[[#This Row],[Столбец18]]+Таблица1[[#This Row],[лом.на.пор.]]","v":0},{"$f":"Таблица1[[#This Row],[Столбец19]]-Таблица1[[#This Row],[корр.масс]]","v":0},null,{"$f":"SUMIFS($X$62:$X$116,$C$62:$C$116,Таблица1[[#This Row],[Дл]],$D$62:$D$116,\"=500\",$F$62:$F$116,Таблица1[[#This Row],[АСТРА]])","v":0},{"$f":"SUMIFS($X$62:$X$116,$C$62:$C$116,\"<\"&Таблица1[[#This Row],[Дл]],$D$62:$D$116,\"=500\",$F$62:$F$116,Таблица1[[#This Row],[АСТРА]])","v":0},{"$f":"Таблица1[[#This Row],[Столбец23]]+Таблица1[[#This Row],[Столбец24]]","v":0},{"$f":"Таблица1[[#This Row],[лом.целых]]+Таблица1[[#This Row],[лом.делов]]-Таблица1[[#This Row],[лом.на.пор.]]","v":0},{"$f":"IF(Таблица1[[#This Row],[резы]]*Таблица1[[#This Row],[шир.рез]]/1000*Таблица1[[#This Row],[коэф]]/2<0,0,Таблица1[[#This Row],[резы]]*Таблица1[[#This Row],[шир.рез]]/1000*Таблица1[[#This Row],[коэф]]/2)","v":0},{"$f":"SUMIFS($Y$62:$Y$116,$C$62:$C$116,Таблица1[[#This Row],[Дл]],$D$62:$D$116,\"=500\",$F$62:$F$116,Таблица1[[#This Row],[АСТРА]])","v":0},{"$f":"SUMIFS($Y$62:$Y$116,$C$62:$C$116,\"<\"&Таблица1[[#This Row],[Дл]],$D$62:$D$116,\"=500\",$F$62:$F$116,Таблица1[[#This Row],[АСТРА]])","v":0},5,{"$f":"IF(Таблица1[[#This Row],[профиль]]=Таблица1[[#This Row],[толщ]],CONCATENATE(Таблица1[[#This Row],[Столбец33]],\" \",Таблица1[[#This Row],[толщ]]),CONCATENATE(Таблица1[[#This Row],[Столбец33]],\" \",Таблица1[[#This Row],[профиль]],\"х\",Таблица1[[#This Row],[толщ]]))","v":"Труба 40х20х2"},{"$f":"CONCATENATE(Таблица1[[#This Row],[Столбец33]],\" \",Таблица1[[#This Row],[профиль]])","v":"Труба 40х20"},"Труба 40х20, 2.0 мм, тр4020","Труба",{"$f":"IF(Таблица1[[#This Row],[профиль]]=Таблица1[[#This Row],[толщ]],Таблица1[[#This Row],[толщ]],CONCATENATE(Таблица1[[#This Row],[профиль]],\"х\",Таблица1[[#This Row],[точка]]))","v":"40х20х2"},"40х20",2,{"$f":"SUBSTITUTE(Таблица1[[#This Row],[толщ]],\",\",\".\")","v":"2"},3.41,{"$f":"SUMIFS($U$8:$U$57,$K$8:$K$57,Таблица1[[#This Row],[ГОСТ]])","v":0}]
[{"$f":"IF(Таблица1[[#This Row],[Столбец19]]=0,\"z\",\"\")","v":"z"},null,null,6000,null,{"$f":"SUMIFS($G$62:$G$116,$D$62:$D$116,500,$C$62:$C$116,Таблица1[[#This Row],[Дл]],$F$62:$F$116,Таблица1[[#This Row],[АСТРА]])","v":0},{"$f":"Таблица1[[#This Row],[толщ]]","v":1},{"$f":"Таблица1[[#This Row],[ГОСТ]]","v":"Труба 40х25х1"},{"$f":"SUMIFS($N$62:$N$116,$C$62:$C$116,Таблица1[[#This Row],[Дл]],$D$62:$D$116,\"=500\",$F$62:$F$116,Таблица1[[#This Row],[АСТРА]])","v":0},{"$f":"SUMIFS($N$62:$N$116,$C$62:$C$116,\"<\"&Таблица1[[#This Row],[Дл]],$D$62:$D$116,\"=500\",$F$62:$F$116,Таблица1[[#This Row],[АСТРА]])","v":0},null,null,{"$f":"SUMIFS($J$8:$J$57,$K$8:$K$57,Таблица1[[#This Row],[Столбец5]])","v":0},{"$f":"Таблица1[[#This Row],[пол.мас.цел]]+Таблица1[[#This Row],[пол.мас.дел]]","v":0},{"$f":"SUMIFS($Q$62:$Q$116,$C$62:$C$116,Таблица1[[#This Row],[Дл]],$D$62:$D$116,\"=500\",$F$62:$F$116,Таблица1[[#This Row],[АСТРА]])","v":0},{"$f":"SUMIFS($Q$62:$Q$116,$C$62:$C$116,\"<\"&Таблица1[[#This Row],[Дл]],$D$62:$D$116,\"=500\",$F$62:$F$116,Таблица1[[#This Row],[АСТРА]])","v":0},{"$f":"Таблица1[[#This Row],[ост.с.цел]]+Таблица1[[#This Row],[ост.с.дел]]","v":0},{"$f":"Таблица1[[#This Row],[лом.целых]]+Таблица1[[#This Row],[лом.делов]]-Таблица1[[#This Row],[лом.на.пор.]]","v":0},{"$f":"Таблица1[[#This Row],[лом]]+Таблица1[[#This Row],[корр.масс]]","v":0},{"$f":"SUMIFS($T$62:$T$116,$C$62:$C$116,Таблица1[[#This Row],[Дл]],$D$62:$D$116,\"=500\",$F$62:$F$116,Таблица1[[#This Row],[АСТРА]])","v":0},{"$f":"SUMIFS($T$62:$T$116,$C$62:$C$116,\"<\"&Таблица1[[#This Row],[Дл]],$D$62:$D$116,\"=500\",$F$62:$F$116,Таблица1[[#This Row],[АСТРА]])","v":0},{"$f":"Таблица1[[#This Row],[Столбец17]]+Таблица1[[#This Row],[Столбец18]]+Таблица1[[#This Row],[лом.на.пор.]]","v":0},{"$f":"Таблица1[[#This Row],[Столбец19]]-Таблица1[[#This Row],[корр.масс]]","v":0},null,{"$f":"SUMIFS($X$62:$X$116,$C$62:$C$116,Таблица1[[#This Row],[Дл]],$D$62:$D$116,\"=500\",$F$62:$F$116,Таблица1[[#This Row],[АСТРА]])","v":0},{"$f":"SUMIFS($X$62:$X$116,$C$62:$C$116,\"<\"&Таблица1[[#This Row],[Дл]],$D$62:$D$116,\"=500\",$F$62:$F$116,Таблица1[[#This Row],[АСТРА]])","v":0},{"$f":"Таблица1[[#This Row],[Столбец23]]+Таблица1[[#This Row],[Столбец24]]","v":0},{"$f":"Таблица1[[#This Row],[лом.целых]]+Таблица1[[#This Row],[лом.делов]]-Таблица1[[#This Row],[лом.на.пор.]]","v":0},{"$f":"IF(Таблица1[[#This Row],[резы]]*Таблица1[[#This Row],[шир.рез]]/1000*Таблица1[[#This Row],[коэф]]/2<0,0,Таблица1[[#This Row],[резы]]*Таблица1[[#This Row],[шир.рез]]/1000*Таблица1[[#This Row],[коэф]]/2)","v":0},{"$f":"SUMIFS($Y$62:$Y$116,$C$62:$C$116,Таблица1[[#This Row],[Дл]],$D$62:$D$116,\"=500\",$F$62:$F$116,Таблица1[[#This Row],[АСТРА]])","v":0},{"$f":"SUMIFS($Y$62:$Y$116,$C$62:$C$116,\"<\"&Таблица1[[#This Row],[Дл]],$D$62:$D$116,\"=500\",$F$62:$F$116,Таблица1[[#This Row],[АСТРА]])","v":0},5,{"$f":"IF(Таблица1[[#This Row],[профиль]]=Таблица1[[#This Row],[толщ]],CONCATENATE(Таблица1[[#This Row],[Столбец33]],\" \",Таблица1[[#This Row],[толщ]]),CONCATENATE(Таблица1[[#This Row],[Столбец33]],\" \",Таблица1[[#This Row],[профиль]],\"х\",Таблица1[[#This Row],[толщ]]))","v":"Труба 40х25х1"},{"$f":"CONCATENATE(Таблица1[[#This Row],[Столбец33]],\" \",Таблица1[[#This Row],[профиль]])","v":"Труба 40х25"},"Труба 40х25, 1.0 мм, тр4025","Труба",{"$f":"IF(Таблица1[[#This Row],[профиль]]=Таблица1[[#This Row],[толщ]],Таблица1[[#This Row],[толщ]],CONCATENATE(Таблица1[[#This Row],[профиль]],\"х\",Таблица1[[#This Row],[точка]]))","v":"40х25х1"},"40х25",1,{"$f":"SUBSTITUTE(Таблица1[[#This Row],[толщ]],\",\",\".\")","v":"1"},1.95,{"$f":"SUMIFS($U$8:$U$57,$K$8:$K$57,Таблица1[[#This Row],[ГОСТ]])","v":0}]
[{"$f":"IF(Таблица1[[#This Row],[Столбец19]]=0,\"z\",\"\")","v":"z"},null,null,6000,null,{"$f":"SUMIFS($G$62:$G$116,$D$62:$D$116,500,$C$62:$C$116,Таблица1[[#This Row],[Дл]],$F$62:$F$116,Таблица1[[#This Row],[АСТРА]])","v":0},{"$f":"Таблица1[[#This Row],[толщ]]","v":2},{"$f":"Таблица1[[#This Row],[ГОСТ]]","v":"Труба 40х25х2"},{"$f":"SUMIFS($N$62:$N$116,$C$62:$C$116,Таблица1[[#This Row],[Дл]],$D$62:$D$116,\"=500\",$F$62:$F$116,Таблица1[[#This Row],[АСТРА]])","v":0},{"$f":"SUMIFS($N$62:$N$116,$C$62:$C$116,\"<\"&Таблица1[[#This Row],[Дл]],$D$62:$D$116,\"=500\",$F$62:$F$116,Таблица1[[#This Row],[АСТРА]])","v":0},null,null,{"$f":"SUMIFS($J$8:$J$57,$K$8:$K$57,Таблица1[[#This Row],[Столбец5]])","v":0},{"$f":"Таблица1[[#This Row],[пол.мас.цел]]+Таблица1[[#This Row],[пол.мас.дел]]","v":0},{"$f":"SUMIFS($Q$62:$Q$116,$C$62:$C$116,Таблица1[[#This Row],[Дл]],$D$62:$D$116,\"=500\",$F$62:$F$116,Таблица1[[#This Row],[АСТРА]])","v":0},{"$f":"SUMIFS($Q$62:$Q$116,$C$62:$C$116,\"<\"&Таблица1[[#This Row],[Дл]],$D$62:$D$116,\"=500\",$F$62:$F$116,Таблица1[[#This Row],[АСТРА]])","v":0},{"$f":"Таблица1[[#This Row],[ост.с.цел]]+Таблица1[[#This Row],[ост.с.дел]]","v":0},{"$f":"Таблица1[[#This Row],[лом.целых]]+Таблица1[[#This Row],[лом.делов]]-Таблица1[[#This Row],[лом.на.пор.]]","v":0},{"$f":"Таблица1[[#This Row],[лом]]+Таблица1[[#This Row],[корр.масс]]","v":0},{"$f":"SUMIFS($T$62:$T$116,$C$62:$C$116,Таблица1[[#This Row],[Дл]],$D$62:$D$116,\"=500\",$F$62:$F$116,Таблица1[[#This Row],[АСТРА]])","v":0},{"$f":"SUMIFS($T$62:$T$116,$C$62:$C$116,\"<\"&Таблица1[[#This Row],[Дл]],$D$62:$D$116,\"=500\",$F$62:$F$116,Таблица1[[#This Row],[АСТРА]])","v":0},{"$f":"Таблица1[[#This Row],[Столбец17]]+Таблица1[[#This Row],[Столбец18]]+Таблица1[[#This Row],[лом.на.пор.]]","v":0},{"$f":"Таблица1[[#This Row],[Столбец19]]-Таблица1[[#This Row],[корр.масс]]","v":0},null,{"$f":"SUMIFS($X$62:$X$116,$C$62:$C$116,Таблица1[[#This Row],[Дл]],$D$62:$D$116,\"=500\",$F$62:$F$116,Таблица1[[#This Row],[АСТРА]])","v":0},{"$f":"SUMIFS($X$62:$X$116,$C$62:$C$116,\"<\"&Таблица1[[#This Row],[Дл]],$D$62:$D$116,\"=500\",$F$62:$F$116,Таблица1[[#This Row],[АСТРА]])","v":0},{"$f":"Таблица1[[#This Row],[Столбец23]]+Таблица1[[#This Row],[Столбец24]]","v":0},{"$f":"Таблица1[[#This Row],[лом.целых]]+Таблица1[[#This Row],[лом.делов]]-Таблица1[[#This Row],[лом.на.пор.]]","v":0},{"$f":"IF(Таблица1[[#This Row],[резы]]*Таблица1[[#This Row],[шир.рез]]/1000*Таблица1[[#This Row],[коэф]]/2<0,0,Таблица1[[#This Row],[резы]]*Таблица1[[#This Row],[шир.рез]]/1000*Таблица1[[#This Row],[коэф]]/2)","v":0},{"$f":"SUMIFS($Y$62:$Y$116,$C$62:$C$116,Таблица1[[#This Row],[Дл]],$D$62:$D$116,\"=500\",$F$62:$F$116,Таблица1[[#This Row],[АСТРА]])","v":0},{"$f":"SUMIFS($Y$62:$Y$116,$C$62:$C$116,\"<\"&Таблица1[[#This Row],[Дл]],$D$62:$D$116,\"=500\",$F$62:$F$116,Таблица1[[#This Row],[АСТРА]])","v":0},5,{"$f":"IF(Таблица1[[#This Row],[профиль]]=Таблица1[[#This Row],[толщ]],CONCATENATE(Таблица1[[#This Row],[Столбец33]],\" \",Таблица1[[#This Row],[толщ]]),CONCATENATE(Таблица1[[#This Row],[Столбец33]],\" \",Таблица1[[#This Row],[профиль]],\"х\",Таблица1[[#This Row],[толщ]]))","v":"Труба 40х25х2"},{"$f":"CONCATENATE(Таблица1[[#This Row],[Столбец33]],\" \",Таблица1[[#This Row],[профиль]])","v":"Труба 40х25"},"Труба 40х25, 2.0 мм, тр4025","Труба",{"$f":"IF(Таблица1[[#This Row],[профиль]]=Таблица1[[#This Row],[толщ]],Таблица1[[#This Row],[толщ]],CONCATENATE(Таблица1[[#This Row],[профиль]],\"х\",Таблица1[[#This Row],[точка]]))","v":"40х25х2"},"40х25",2,{"$f":"SUBSTITUTE(Таблица1[[#This Row],[толщ]],\",\",\".\")","v":"2"},3.72,{"$f":"SUMIFS($U$8:$U$57,$K$8:$K$57,Таблица1[[#This Row],[ГОСТ]])","v":0}]
[{"$f":"IF(Таблица1[[#This Row],[Столбец19]]=0,\"z\",\"\")","v":"z"},null,null,6000,null,{"$f":"SUMIFS($G$62:$G$116,$D$62:$D$116,500,$C$62:$C$116,Таблица1[[#This Row],[Дл]],$F$62:$F$116,Таблица1[[#This Row],[АСТРА]])","v":0},{"$f":"Таблица1[[#This Row],[толщ]]","v":2},{"$f":"Таблица1[[#This Row],[ГОСТ]]","v":"Труба 40х30х2"},{"$f":"SUMIFS($N$62:$N$116,$C$62:$C$116,Таблица1[[#This Row],[Дл]],$D$62:$D$116,\"=500\",$F$62:$F$116,Таблица1[[#This Row],[АСТРА]])","v":0},{"$f":"SUMIFS($N$62:$N$116,$C$62:$C$116,\"<\"&Таблица1[[#This Row],[Дл]],$D$62:$D$116,\"=500\",$F$62:$F$116,Таблица1[[#This Row],[АСТРА]])","v":0},null,null,{"$f":"SUMIFS($J$8:$J$57,$K$8:$K$57,Таблица1[[#This Row],[Столбец5]])","v":0},{"$f":"Таблица1[[#This Row],[пол.мас.цел]]+Таблица1[[#This Row],[пол.мас.дел]]","v":0},{"$f":"SUMIFS($Q$62:$Q$116,$C$62:$C$116,Таблица1[[#This Row],[Дл]],$D$62:$D$116,\"=500\",$F$62:$F$116,Таблица1[[#This Row],[АСТРА]])","v":0},{"$f":"SUMIFS($Q$62:$Q$116,$C$62:$C$116,\"<\"&Таблица1[[#This Row],[Дл]],$D$62:$D$116,\"=500\",$F$62:$F$116,Таблица1[[#This Row],[АСТРА]])","v":0},{"$f":"Таблица1[[#This Row],[ост.с.цел]]+Таблица1[[#This Row],[ост.с.дел]]","v":0},{"$f":"Таблица1[[#This Row],[лом.целых]]+Таблица1[[#This Row],[лом.делов]]-Таблица1[[#This Row],[лом.на.пор.]]","v":0},{"$f":"Таблица1[[#This Row],[лом]]+Таблица1[[#This Row],[корр.масс]]","v":0},{"$f":"SUMIFS($T$62:$T$116,$C$62:$C$116,Таблица1[[#This Row],[Дл]],$D$62:$D$116,\"=500\",$F$62:$F$116,Таблица1[[#This Row],[АСТРА]])","v":0},{"$f":"SUMIFS($T$62:$T$116,$C$62:$C$116,\"<\"&Таблица1[[#This Row],[Дл]],$D$62:$D$116,\"=500\",$F$62:$F$116,Таблица1[[#This Row],[АСТРА]])","v":0},{"$f":"Таблица1[[#This Row],[Столбец17]]+Таблица1[[#This Row],[Столбец18]]+Таблица1[[#This Row],[лом.на.пор.]]","v":0},{"$f":"Таблица1[[#This Row],[Столбец19]]-Таблица1[[#This Row],[корр.масс]]","v":0},null,{"$f":"SUMIFS($X$62:$X$116,$C$62:$C$116,Таблица1[[#This Row],[Дл]],$D$62:$D$116,\"=500\",$F$62:$F$116,Таблица1[[#This Row],[АСТРА]])","v":0},{"$f":"SUMIFS($X$62:$X$116,$C$62:$C$116,\"<\"&Таблица1[[#This Row],[Дл]],$D$62:$D$116,\"=500\",$F$62:$F$116,Таблица1[[#This Row],[АСТРА]])","v":0},{"$f":"Таблица1[[#This Row],[Столбец23]]+Таблица1[[#This Row],[Столбец24]]","v":0},{"$f":"Таблица1[[#This Row],[лом.целых]]+Таблица1[[#This Row],[лом.делов]]-Таблица1[[#This Row],[лом.на.пор.]]","v":0},{"$f":"IF(Таблица1[[#This Row],[резы]]*Таблица1[[#This Row],[шир.рез]]/1000*Таблица1[[#This Row],[коэф]]/2<0,0,Таблица1[[#This Row],[резы]]*Таблица1[[#This Row],[шир.рез]]/1000*Таблица1[[#This Row],[коэф]]/2)","v":0},{"$f":"SUMIFS($Y$62:$Y$116,$C$62:$C$116,Таблица1[[#This Row],[Дл]],$D$62:$D$116,\"=500\",$F$62:$F$116,Таблица1[[#This Row],[АСТРА]])","v":0},{"$f":"SUMIFS($Y$62:$Y$116,$C$62:$C$116,\"<\"&Таблица1[[#This Row],[Дл]],$D$62:$D$116,\"=500\",$F$62:$F$116,Таблица1[[#This Row],[АСТРА]])","v":0},5,{"$f":"IF(Таблица1[[#This Row],[профиль]]=Таблица1[[#This Row],[толщ]],CONCATENATE(Таблица1[[#This Row],[Столбец33]],\" \",Таблица1[[#This Row],[толщ]]),CONCATENATE(Таблица1[[#This Row],[Столбец33]],\" \",Таблица1[[#This Row],[профиль]],\"х\",Таблица1[[#This Row],[толщ]]))","v":"Труба 40х30х2"},{"$f":"CONCATENATE(Таблица1[[#This Row],[Столбец33]],\" \",Таблица1[[#This Row],[профиль]])","v":"Труба 40х30"},"Труба 40х30, 2.0 мм","Труба",{"$f":"IF(Таблица1[[#This Row],[профиль]]=Таблица1[[#This Row],[толщ]],Таблица1[[#This Row],[толщ]],CONCATENATE(Таблица1[[#This Row],[профиль]],\"х\",Таблица1[[#This Row],[точка]]))","v":"40х30х2"},"40х30",2,{"$f":"SUBSTITUTE(Таблица1[[#This Row],[толщ]],\",\",\".\")","v":"2"},4.04,{"$f":"SUMIFS($U$8:$U$57,$K$8:$K$57,Таблица1[[#This Row],[ГОСТ]])","v":0}]
[{"$f":"IF(Таблица1[[#This Row],[Столбец19]]=0,\"z\",\"\")","v":"z"},null,null,6000,null,{"$f":"SUMIFS($G$62:$G$116,$D$62:$D$116,500,$C$62:$C$116,Таблица1[[#This Row],[Дл]],$F$62:$F$116,Таблица1[[#This Row],[АСТРА]])","v":0},{"$f":"Таблица1[[#This Row],[толщ]]","v":2},{"$f":"Таблица1[[#This Row],[ГОСТ]]","v":"Труба 40х40х2"},{"$f":"SUMIFS($N$62:$N$116,$C$62:$C$116,Таблица1[[#This Row],[Дл]],$D$62:$D$116,\"=500\",$F$62:$F$116,Таблица1[[#This Row],[АСТРА]])","v":0},{"$f":"SUMIFS($N$62:$N$116,$C$62:$C$116,\"<\"&Таблица1[[#This Row],[Дл]],$D$62:$D$116,\"=500\",$F$62:$F$116,Таблица1[[#This Row],[АСТРА]])","v":0},null,null,{"$f":"SUMIFS($J$8:$J$57,$K$8:$K$57,Таблица1[[#This Row],[Столбец5]])","v":0},{"$f":"Таблица1[[#This Row],[пол.мас.цел]]+Таблица1[[#This Row],[пол.мас.дел]]","v":0},{"$f":"SUMIFS($Q$62:$Q$116,$C$62:$C$116,Таблица1[[#This Row],[Дл]],$D$62:$D$116,\"=500\",$F$62:$F$116,Таблица1[[#This Row],[АСТРА]])","v":0},{"$f":"SUMIFS($Q$62:$Q$116,$C$62:$C$116,\"<\"&Таблица1[[#This Row],[Дл]],$D$62:$D$116,\"=500\",$F$62:$F$116,Таблица1[[#This Row],[АСТРА]])","v":0},{"$f":"Таблица1[[#This Row],[ост.с.цел]]+Таблица1[[#This Row],[ост.с.дел]]","v":0},{"$f":"Таблица1[[#This Row],[лом.целых]]+Таблица1[[#This Row],[лом.делов]]-Таблица1[[#This Row],[лом.на.пор.]]","v":0},{"$f":"Таблица1[[#This Row],[лом]]+Таблица1[[#This Row],[корр.масс]]","v":0},{"$f":"SUMIFS($T$62:$T$116,$C$62:$C$116,Таблица1[[#This Row],[Дл]],$D$62:$D$116,\"=500\",$F$62:$F$116,Таблица1[[#This Row],[АСТРА]])","v":0},{"$f":"SUMIFS($T$62:$T$116,$C$62:$C$116,\"<\"&Таблица1[[#This Row],[Дл]],$D$62:$D$116,\"=500\",$F$62:$F$116,Таблица1[[#This Row],[АСТРА]])","v":0},{"$f":"Таблица1[[#This Row],[Столбец17]]+Таблица1[[#This Row],[Столбец18]]+Таблица1[[#This Row],[лом.на.пор.]]","v":0},{"$f":"Таблица1[[#This Row],[Столбец19]]-Таблица1[[#This Row],[корр.масс]]","v":0},null,{"$f":"SUMIFS($X$62:$X$116,$C$62:$C$116,Таблица1[[#This Row],[Дл]],$D$62:$D$116,\"=500\",$F$62:$F$116,Таблица1[[#This Row],[АСТРА]])","v":0},{"$f":"SUMIFS($X$62:$X$116,$C$62:$C$116,\"<\"&Таблица1[[#This Row],[Дл]],$D$62:$D$116,\"=500\",$F$62:$F$116,Таблица1[[#This Row],[АСТРА]])","v":0},{"$f":"Таблица1[[#This Row],[Столбец23]]+Таблица1[[#This Row],[Столбец24]]","v":0},{"$f":"Таблица1[[#This Row],[лом.целых]]+Таблица1[[#This Row],[лом.делов]]-Таблица1[[#This Row],[лом.на.пор.]]","v":0},{"$f":"IF(Таблица1[[#This Row],[резы]]*Таблица1[[#This Row],[шир.рез]]/1000*Таблица1[[#This Row],[коэф]]/2<0,0,Таблица1[[#This Row],[резы]]*Таблица1[[#This Row],[шир.рез]]/1000*Таблица1[[#This Row],[коэф]]/2)","v":0},{"$f":"SUMIFS($Y$62:$Y$116,$C$62:$C$116,Таблица1[[#This Row],[Дл]],$D$62:$D$116,\"=500\",$F$62:$F$116,Таблица1[[#This Row],[АСТРА]])","v":0},{"$f":"SUMIFS($Y$62:$Y$116,$C$62:$C$116,\"<\"&Таблица1[[#This Row],[Дл]],$D$62:$D$116,\"=500\",$F$62:$F$116,Таблица1[[#This Row],[АСТРА]])","v":0},5,{"$f":"IF(Таблица1[[#This Row],[профиль]]=Таблица1[[#This Row],[толщ]],CONCATENATE(Таблица1[[#This Row],[Столбец33]],\" \",Таблица1[[#This Row],[толщ]]),CONCATENATE(Таблица1[[#This Row],[Столбец33]],\" \",Таблица1[[#This Row],[профиль]],\"х\",Таблица1[[#This Row],[толщ]]))","v":"Труба 40х40х2"},{"$f":"CONCATENATE(Таблица1[[#This Row],[Столбец33]],\" \",Таблица1[[#This Row],[профиль]])","v":"Труба 40х40"},"Труба 40х40, 2.0 мм, тр4040","Труба",{"$f":"IF(Таблица1[[#This Row],[профиль]]=Таблица1[[#This Row],[толщ]],Таблица1[[#This Row],[толщ]],CONCATENATE(Таблица1[[#This Row],[профиль]],\"х\",Таблица1[[#This Row],[точка]]))","v":"40х40х2"},"40х40",2,{"$f":"SUBSTITUTE(Таблица1[[#This Row],[толщ]],\",\",\".\")","v":"2"},4.66,{"$f":"SUMIFS($U$8:$U$57,$K$8:$K$57,Таблица1[[#This Row],[ГОСТ]])","v":0}]
[{"$f":"IF(Таблица1[[#This Row],[Столбец19]]=0,\"z\",\"\")","v":"z"},null,null,6000,null,{"$f":"SUMIFS($G$62:$G$116,$D$62:$D$116,500,$C$62:$C$116,Таблица1[[#This Row],[Дл]],$F$62:$F$116,Таблица1[[#This Row],[АСТРА]])","v":0},{"$f":"Таблица1[[#This Row],[толщ]]","v":3},{"$f":"Таблица1[[#This Row],[ГОСТ]]","v":"Труба 42х3"},{"$f":"SUMIFS($N$62:$N$116,$C$62:$C$116,Таблица1[[#This Row],[Дл]],$D$62:$D$116,\"=500\",$F$62:$F$116,Таблица1[[#This Row],[АСТРА]])","v":0},{"$f":"SUMIFS($N$62:$N$116,$C$62:$C$116,\"<\"&Таблица1[[#This Row],[Дл]],$D$62:$D$116,\"=500\",$F$62:$F$116,Таблица1[[#This Row],[АСТРА]])","v":0},null,null,{"$f":"SUMIFS($J$8:$J$57,$K$8:$K$57,Таблица1[[#This Row],[Столбец5]])","v":0},{"$f":"Таблица1[[#This Row],[пол.мас.цел]]+Таблица1[[#This Row],[пол.мас.дел]]","v":0},{"$f":"SUMIFS($Q$62:$Q$116,$C$62:$C$116,Таблица1[[#This Row],[Дл]],$D$62:$D$116,\"=500\",$F$62:$F$116,Таблица1[[#This Row],[АСТРА]])","v":0},{"$f":"SUMIFS($Q$62:$Q$116,$C$62:$C$116,\"<\"&Таблица1[[#This Row],[Дл]],$D$62:$D$116,\"=500\",$F$62:$F$116,Таблица1[[#This Row],[АСТРА]])","v":0},{"$f":"Таблица1[[#This Row],[ост.с.цел]]+Таблица1[[#This Row],[ост.с.дел]]","v":0},{"$f":"Таблица1[[#This Row],[лом.целых]]+Таблица1[[#This Row],[лом.делов]]-Таблица1[[#This Row],[лом.на.пор.]]","v":0},{"$f":"Таблица1[[#This Row],[лом]]+Таблица1[[#This Row],[корр.масс]]","v":0},{"$f":"SUMIFS($T$62:$T$116,$C$62:$C$116,Таблица1[[#This Row],[Дл]],$D$62:$D$116,\"=500\",$F$62:$F$116,Таблица1[[#This Row],[АСТРА]])","v":0},{"$f":"SUMIFS($T$62:$T$116,$C$62:$C$116,\"<\"&Таблица1[[#This Row],[Дл]],$D$62:$D$116,\"=500\",$F$62:$F$116,Таблица1[[#This Row],[АСТРА]])","v":0},{"$f":"Таблица1[[#This Row],[Столбец17]]+Таблица1[[#This Row],[Столбец18]]+Таблица1[[#This Row],[лом.на.пор.]]","v":0},{"$f":"Таблица1[[#This Row],[Столбец19]]-Таблица1[[#This Row],[корр.масс]]","v":0},null,{"$f":"SUMIFS($X$62:$X$116,$C$62:$C$116,Таблица1[[#This Row],[Дл]],$D$62:$D$116,\"=500\",$F$62:$F$116,Таблица1[[#This Row],[АСТРА]])","v":0},{"$f":"SUMIFS($X$62:$X$116,$C$62:$C$116,\"<\"&Таблица1[[#This Row],[Дл]],$D$62:$D$116,\"=500\",$F$62:$F$116,Таблица1[[#This Row],[АСТРА]])","v":0},{"$f":"Таблица1[[#This Row],[Столбец23]]+Таблица1[[#This Row],[Столбец24]]","v":0},{"$f":"Таблица1[[#This Row],[лом.целых]]+Таблица1[[#This Row],[лом.делов]]-Таблица1[[#This Row],[лом.на.пор.]]","v":0},{"$f":"IF(Таблица1[[#This Row],[резы]]*Таблица1[[#This Row],[шир.рез]]/1000*Таблица1[[#This Row],[коэф]]/2<0,0,Таблица1[[#This Row],[резы]]*Таблица1[[#This Row],[шир.рез]]/1000*Таблица1[[#This Row],[коэф]]/2)","v":0},{"$f":"SUMIFS($Y$62:$Y$116,$C$62:$C$116,Таблица1[[#This Row],[Дл]],$D$62:$D$116,\"=500\",$F$62:$F$116,Таблица1[[#This Row],[АСТРА]])","v":0},{"$f":"SUMIFS($Y$62:$Y$116,$C$62:$C$116,\"<\"&Таблица1[[#This Row],[Дл]],$D$62:$D$116,\"=500\",$F$62:$F$116,Таблица1[[#This Row],[АСТРА]])","v":0},5,{"$f":"IF(Таблица1[[#This Row],[профиль]]=Таблица1[[#This Row],[толщ]],CONCATENATE(Таблица1[[#This Row],[Столбец33]],\" \",Таблица1[[#This Row],[толщ]]),CONCATENATE(Таблица1[[#This Row],[Столбец33]],\" \",Таблица1[[#This Row],[профиль]],\"х\",Таблица1[[#This Row],[толщ]]))","v":"Труба 42х3"},{"$f":"CONCATENATE(Таблица1[[#This Row],[Столбец33]],\" \",Таблица1[[#This Row],[профиль]])","v":"Труба 42"},"Труба 42, 3.0 мм","Труба",{"$f":"IF(Таблица1[[#This Row],[профиль]]=Таблица1[[#This Row],[толщ]],Таблица1[[#This Row],[толщ]],CONCATENATE(Таблица1[[#This Row],[профиль]],\"х\",Таблица1[[#This Row],[точка]]))","v":"42х3"},42,3,{"$f":"SUBSTITUTE(Таблица1[[#This Row],[толщ]],\",\",\".\")","v":"3"},5.77,{"$f":"SUMIFS($U$8:$U$57,$K$8:$K$57,Таблица1[[#This Row],[ГОСТ]])","v":0}]
[{"$f":"IF(Таблица1[[#This Row],[Столбец19]]=0,\"z\",\"\")","v":"z"},null,null,6000,null,{"$f":"SUMIFS($G$62:$G$116,$D$62:$D$116,500,$C$62:$C$116,Таблица1[[#This Row],[Дл]],$F$62:$F$116,Таблица1[[#This Row],[АСТРА]])","v":0},{"$f":"Таблица1[[#This Row],[толщ]]","v":1.5},{"$f":"Таблица1[[#This Row],[ГОСТ]]","v":"Труба 50х25х1,5"},{"$f":"SUMIFS($N$62:$N$116,$C$62:$C$116,Таблица1[[#This Row],[Дл]],$D$62:$D$116,\"=500\",$F$62:$F$116,Таблица1[[#This Row],[АСТРА]])","v":0},{"$f":"SUMIFS($N$62:$N$116,$C$62:$C$116,\"<\"&Таблица1[[#This Row],[Дл]],$D$62:$D$116,\"=500\",$F$62:$F$116,Таблица1[[#This Row],[АСТРА]])","v":0},null,null,{"$f":"SUMIFS($J$8:$J$57,$K$8:$K$57,Таблица1[[#This Row],[Столбец5]])","v":0},{"$f":"Таблица1[[#This Row],[пол.мас.цел]]+Таблица1[[#This Row],[пол.мас.дел]]","v":0},{"$f":"SUMIFS($Q$62:$Q$116,$C$62:$C$116,Таблица1[[#This Row],[Дл]],$D$62:$D$116,\"=500\",$F$62:$F$116,Таблица1[[#This Row],[АСТРА]])","v":0},{"$f":"SUMIFS($Q$62:$Q$116,$C$62:$C$116,\"<\"&Таблица1[[#This Row],[Дл]],$D$62:$D$116,\"=500\",$F$62:$F$116,Таблица1[[#This Row],[АСТРА]])","v":0},{"$f":"Таблица1[[#This Row],[ост.с.цел]]+Таблица1[[#This Row],[ост.с.дел]]","v":0},{"$f":"Таблица1[[#This Row],[лом.целых]]+Таблица1[[#This Row],[лом.делов]]-Таблица1[[#This Row],[лом.на.пор.]]","v":0},{"$f":"Таблица1[[#This Row],[лом]]+Таблица1[[#This Row],[корр.масс]]","v":0},{"$f":"SUMIFS($T$62:$T$116,$C$62:$C$116,Таблица1[[#This Row],[Дл]],$D$62:$D$116,\"=500\",$F$62:$F$116,Таблица1[[#This Row],[АСТРА]])","v":0},{"$f":"SUMIFS($T$62:$T$116,$C$62:$C$116,\"<\"&Таблица1[[#This Row],[Дл]],$D$62:$D$116,\"=500\",$F$62:$F$116,Таблица1[[#This Row],[АСТРА]])","v":0},{"$f":"Таблица1[[#This Row],[Столбец17]]+Таблица1[[#This Row],[Столбец18]]+Таблица1[[#This Row],[лом.на.пор.]]","v":0},{"$f":"Таблица1[[#This Row],[Столбец19]]-Таблица1[[#This Row],[корр.масс]]","v":0},null,{"$f":"SUMIFS($X$62:$X$116,$C$62:$C$116,Таблица1[[#This Row],[Дл]],$D$62:$D$116,\"=500\",$F$62:$F$116,Таблица1[[#This Row],[АСТРА]])","v":0},{"$f":"SUMIFS($X$62:$X$116,$C$62:$C$116,\"<\"&Таблица1[[#This Row],[Дл]],$D$62:$D$116,\"=500\",$F$62:$F$116,Таблица1[[#This Row],[АСТРА]])","v":0},{"$f":"Таблица1[[#This Row],[Столбец23]]+Таблица1[[#This Row],[Столбец24]]","v":0},{"$f":"Таблица1[[#This Row],[лом.целых]]+Таблица1[[#This Row],[лом.делов]]-Таблица1[[#This Row],[лом.на.пор.]]","v":0},{"$f":"IF(Таблица1[[#This Row],[резы]]*Таблица1[[#This Row],[шир.рез]]/1000*Таблица1[[#This Row],[коэф]]/2<0,0,Таблица1[[#This Row],[резы]]*Таблица1[[#This Row],[шир.рез]]/1000*Таблица1[[#This Row],[коэф]]/2)","v":0},{"$f":"SUMIFS($Y$62:$Y$116,$C$62:$C$116,Таблица1[[#This Row],[Дл]],$D$62:$D$116,\"=500\",$F$62:$F$116,Таблица1[[#This Row],[АСТРА]])","v":0},{"$f":"SUMIFS($Y$62:$Y$116,$C$62:$C$116,\"<\"&Таблица1[[#This Row],[Дл]],$D$62:$D$116,\"=500\",$F$62:$F$116,Таблица1[[#This Row],[АСТРА]])","v":0},5,{"$f":"IF(Таблица1[[#This Row],[профиль]]=Таблица1[[#This Row],[толщ]],CONCATENATE(Таблица1[[#This Row],[Столбец33]],\" \",Таблица1[[#This Row],[толщ]]),CONCATENATE(Таблица1[[#This Row],[Столбец33]],\" \",Таблица1[[#This Row],[профиль]],\"х\",Таблица1[[#This Row],[толщ]]))","v":"Труба 50х25х1,5"},{"$f":"CONCATENATE(Таблица1[[#This Row],[Столбец33]],\" \",Таблица1[[#This Row],[профиль]])","v":"Труба 50х25"},"Труба 50х25, 1.5 мм","Труба",{"$f":"IF(Таблица1[[#This Row],[профиль]]=Таблица1[[#This Row],[толщ]],Таблица1[[#This Row],[толщ]],CONCATENATE(Таблица1[[#This Row],[профиль]],\"х\",Таблица1[[#This Row],[точка]]))","v":"50х25х1.5"},"50х25",1.5,{"$f":"SUBSTITUTE(Таблица1[[#This Row],[толщ]],\",\",\".\")","v":"1.5"},3.33,{"$f":"SUMIFS($U$8:$U$57,$K$8:$K$57,Таблица1[[#This Row],[ГОСТ]])","v":0}]
[{"$f":"IF(Таблица1[[#This Row],[Столбец19]]=0,\"z\",\"\")","v":"z"},null,null,6000,null,{"$f":"SUMIFS($G$62:$G$116,$D$62:$D$116,500,$C$62:$C$116,Таблица1[[#This Row],[Дл]],$F$62:$F$116,Таблица1[[#This Row],[АСТРА]])","v":0},{"$f":"Таблица1[[#This Row],[толщ]]","v":2},{"$f":"Таблица1[[#This Row],[ГОСТ]]","v":"Труба 50х25х2"},{"$f":"SUMIFS($N$62:$N$116,$C$62:$C$116,Таблица1[[#This Row],[Дл]],$D$62:$D$116,\"=500\",$F$62:$F$116,Таблица1[[#This Row],[АСТРА]])","v":0},{"$f":"SUMIFS($N$62:$N$116,$C$62:$C$116,\"<\"&Таблица1[[#This Row],[Дл]],$D$62:$D$116,\"=500\",$F$62:$F$116,Таблица1[[#This Row],[АСТРА]])","v":0},null,null,{"$f":"SUMIFS($J$8:$J$57,$K$8:$K$57,Таблица1[[#This Row],[Столбец5]])","v":0},{"$f":"Таблица1[[#This Row],[пол.мас.цел]]+Таблица1[[#This Row],[пол.мас.дел]]","v":0},{"$f":"SUMIFS($Q$62:$Q$116,$C$62:$C$116,Таблица1[[#This Row],[Дл]],$D$62:$D$116,\"=500\",$F$62:$F$116,Таблица1[[#This Row],[АСТРА]])","v":0},{"$f":"SUMIFS($Q$62:$Q$116,$C$62:$C$116,\"<\"&Таблица1[[#This Row],[Дл]],$D$62:$D$116,\"=500\",$F$62:$F$116,Таблица1[[#This Row],[АСТРА]])","v":0},{"$f":"Таблица1[[#This Row],[ост.с.цел]]+Таблица1[[#This Row],[ост.с.дел]]","v":0},{"$f":"Таблица1[[#This Row],[лом.целых]]+Таблица1[[#This Row],[лом.делов]]-Таблица1[[#This Row],[лом.на.пор.]]","v":0},{"$f":"Таблица1[[#This Row],[лом]]+Таблица1[[#This Row],[корр.масс]]","v":0},{"$f":"SUMIFS($T$62:$T$116,$C$62:$C$116,Таблица1[[#This Row],[Дл]],$D$62:$D$116,\"=500\",$F$62:$F$116,Таблица1[[#This Row],[АСТРА]])","v":0},{"$f":"SUMIFS($T$62:$T$116,$C$62:$C$116,\"<\"&Таблица1[[#This Row],[Дл]],$D$62:$D$116,\"=500\",$F$62:$F$116,Таблица1[[#This Row],[АСТРА]])","v":0},{"$f":"Таблица1[[#This Row],[Столбец17]]+Таблица1[[#This Row],[Столбец18]]+Таблица1[[#This Row],[лом.на.пор.]]","v":0},{"$f":"Таблица1[[#This Row],[Столбец19]]-Таблица1[[#This Row],[корр.масс]]","v":0},null,{"$f":"SUMIFS($X$62:$X$116,$C$62:$C$116,Таблица1[[#This Row],[Дл]],$D$62:$D$116,\"=500\",$F$62:$F$116,Таблица1[[#This Row],[АСТРА]])","v":0},{"$f":"SUMIFS($X$62:$X$116,$C$62:$C$116,\"<\"&Таблица1[[#This Row],[Дл]],$D$62:$D$116,\"=500\",$F$62:$F$116,Таблица1[[#This Row],[АСТРА]])","v":0},{"$f":"Таблица1[[#This Row],[Столбец23]]+Таблица1[[#This Row],[Столбец24]]","v":0},{"$f":"Таблица1[[#This Row],[лом.целых]]+Таблица1[[#This Row],[лом.делов]]-Таблица1[[#This Row],[лом.на.пор.]]","v":0},{"$f":"IF(Таблица1[[#This Row],[резы]]*Таблица1[[#This Row],[шир.рез]]/1000*Таблица1[[#This Row],[коэф]]/2<0,0,Таблица1[[#This Row],[резы]]*Таблица1[[#This Row],[шир.рез]]/1000*Таблица1[[#This Row],[коэф]]/2)","v":0},{"$f":"SUMIFS($Y$62:$Y$116,$C$62:$C$116,Таблица1[[#This Row],[Дл]],$D$62:$D$116,\"=500\",$F$62:$F$116,Таблица1[[#This Row],[АСТРА]])","v":0},{"$f":"SUMIFS($Y$62:$Y$116,$C$62:$C$116,\"<\"&Таблица1[[#This Row],[Дл]],$D$62:$D$116,\"=500\",$F$62:$F$116,Таблица1[[#This Row],[АСТРА]])","v":0},5,{"$f":"IF(Таблица1[[#This Row],[профиль]]=Таблица1[[#This Row],[толщ]],CONCATENATE(Таблица1[[#This Row],[Столбец33]],\" \",Таблица1[[#This Row],[толщ]]),CONCATENATE(Таблица1[[#This Row],[Столбец33]],\" \",Таблица1[[#This Row],[профиль]],\"х\",Таблица1[[#This Row],[толщ]]))","v":"Труба 50х25х2"},{"$f":"CONCATENATE(Таблица1[[#This Row],[Столбец33]],\" \",Таблица1[[#This Row],[профиль]])","v":"Труба 50х25"},"Труба 50х25, 2.0 мм","Труба",{"$f":"IF(Таблица1[[#This Row],[профиль]]=Таблица1[[#This Row],[толщ]],Таблица1[[#This Row],[толщ]],CONCATENATE(Таблица1[[#This Row],[профиль]],\"х\",Таблица1[[#This Row],[точка]]))","v":"50х25х2"},"50х25",2,{"$f":"SUBSTITUTE(Таблица1[[#This Row],[толщ]],\",\",\".\")","v":"2"},4.3499999999999996,{"$f":"SUMIFS($U$8:$U$57,$K$8:$K$57,Таблица1[[#This Row],[ГОСТ]])","v":0}]
[{"$f":"IF(Таблица1[[#This Row],[Столбец19]]=0,\"z\",\"\")","v":"z"},null,null,6000,null,{"$f":"SUMIFS($G$62:$G$116,$D$62:$D$116,500,$C$62:$C$116,Таблица1[[#This Row],[Дл]],$F$62:$F$116,Таблица1[[#This Row],[АСТРА]])","v":0},{"$f":"Таблица1[[#This Row],[толщ]]","v":1.5},{"$f":"Таблица1[[#This Row],[ГОСТ]]","v":"Труба 50х30х1,5"},{"$f":"SUMIFS($N$62:$N$116,$C$62:$C$116,Таблица1[[#This Row],[Дл]],$D$62:$D$116,\"=500\",$F$62:$F$116,Таблица1[[#This Row],[АСТРА]])","v":0},{"$f":"SUMIFS($N$62:$N$116,$C$62:$C$116,\"<\"&Таблица1[[#This Row],[Дл]],$D$62:$D$116,\"=500\",$F$62:$F$116,Таблица1[[#This Row],[АСТРА]])","v":0},null,null,{"$f":"SUMIFS($J$8:$J$57,$K$8:$K$57,Таблица1[[#This Row],[Столбец5]])","v":0},{"$f":"Таблица1[[#This Row],[пол.мас.цел]]+Таблица1[[#This Row],[пол.мас.дел]]","v":0},{"$f":"SUMIFS($Q$62:$Q$116,$C$62:$C$116,Таблица1[[#This Row],[Дл]],$D$62:$D$116,\"=500\",$F$62:$F$116,Таблица1[[#This Row],[АСТРА]])","v":0},{"$f":"SUMIFS($Q$62:$Q$116,$C$62:$C$116,\"<\"&Таблица1[[#This Row],[Дл]],$D$62:$D$116,\"=500\",$F$62:$F$116,Таблица1[[#This Row],[АСТРА]])","v":0},{"$f":"Таблица1[[#This Row],[ост.с.цел]]+Таблица1[[#This Row],[ост.с.дел]]","v":0},{"$f":"Таблица1[[#This Row],[лом.целых]]+Таблица1[[#This Row],[лом.делов]]-Таблица1[[#This Row],[лом.на.пор.]]","v":0},{"$f":"Таблица1[[#This Row],[лом]]+Таблица1[[#This Row],[корр.масс]]","v":0},{"$f":"SUMIFS($T$62:$T$116,$C$62:$C$116,Таблица1[[#This Row],[Дл]],$D$62:$D$116,\"=500\",$F$62:$F$116,Таблица1[[#This Row],[АСТРА]])","v":0},{"$f":"SUMIFS($T$62:$T$116,$C$62:$C$116,\"<\"&Таблица1[[#This Row],[Дл]],$D$62:$D$116,\"=500\",$F$62:$F$116,Таблица1[[#This Row],[АСТРА]])","v":0},{"$f":"Таблица1[[#This Row],[Столбец17]]+Таблица1[[#This Row],[Столбец18]]+Таблица1[[#This Row],[лом.на.пор.]]","v":0},{"$f":"Таблица1[[#This Row],[Столбец19]]-Таблица1[[#This Row],[корр.масс]]","v":0},null,{"$f":"SUMIFS($X$62:$X$116,$C$62:$C$116,Таблица1[[#This Row],[Дл]],$D$62:$D$116,\"=500\",$F$62:$F$116,Таблица1[[#This Row],[АСТРА]])","v":0},{"$f":"SUMIFS($X$62:$X$116,$C$62:$C$116,\"<\"&Таблица1[[#This Row],[Дл]],$D$62:$D$116,\"=500\",$F$62:$F$116,Таблица1[[#This Row],[АСТРА]])","v":0},{"$f":"Таблица1[[#This Row],[Столбец23]]+Таблица1[[#This Row],[Столбец24]]","v":0},{"$f":"Таблица1[[#This Row],[лом.целых]]+Таблица1[[#This Row],[лом.делов]]-Таблица1[[#This Row],[лом.на.пор.]]","v":0},{"$f":"IF(Таблица1[[#This Row],[резы]]*Таблица1[[#This Row],[шир.рез]]/1000*Таблица1[[#This Row],[коэф]]/2<0,0,Таблица1[[#This Row],[резы]]*Таблица1[[#This Row],[шир.рез]]/1000*Таблица1[[#This Row],[коэф]]/2)","v":0},{"$f":"SUMIFS($Y$62:$Y$116,$C$62:$C$116,Таблица1[[#This Row],[Дл]],$D$62:$D$116,\"=500\",$F$62:$F$116,Таблица1[[#This Row],[АСТРА]])","v":0},{"$f":"SUMIFS($Y$62:$Y$116,$C$62:$C$116,\"<\"&Таблица1[[#This Row],[Дл]],$D$62:$D$116,\"=500\",$F$62:$F$116,Таблица1[[#This Row],[АСТРА]])","v":0},5,{"$f":"IF(Таблица1[[#This Row],[профиль]]=Таблица1[[#This Row],[толщ]],CONCATENATE(Таблица1[[#This Row],[Столбец33]],\" \",Таблица1[[#This Row],[толщ]]),CONCATENATE(Таблица1[[#This Row],[Столбец33]],\" \",Таблица1[[#This Row],[профиль]],\"х\",Таблица1[[#This Row],[толщ]]))","v":"Труба 50х30х1,5"},{"$f":"CONCATENATE(Таблица1[[#This Row],[Столбец33]],\" \",Таблица1[[#This Row],[профиль]])","v":"Труба 50х30"},"Труба 50х30, 1.5 мм, тр3050","Труба",{"$f":"IF(Таблица1[[#This Row],[профиль]]=Таблица1[[#This Row],[толщ]],Таблица1[[#This Row],[толщ]],CONCATENATE(Таблица1[[#This Row],[профиль]],\"х\",Таблица1[[#This Row],[точка]]))","v":"50х30х1.5"},"50х30",1.5,{"$f":"SUBSTITUTE(Таблица1[[#This Row],[толщ]],\",\",\".\")","v":"1.5"},3.57,{"$f":"SUMIFS($U$8:$U$57,$K$8:$K$57,Таблица1[[#This Row],[ГОСТ]])","v":0}]
[{"$f":"IF(Таблица1[[#This Row],[Столбец19]]=0,\"z\",\"\")","v":"z"},null,null,6000,null,{"$f":"SUMIFS($G$62:$G$116,$D$62:$D$116,500,$C$62:$C$116,Таблица1[[#This Row],[Дл]],$F$62:$F$116,Таблица1[[#This Row],[АСТРА]])","v":0},{"$f":"Таблица1[[#This Row],[толщ]]","v":2},{"$f":"Таблица1[[#This Row],[ГОСТ]]","v":"Труба 50х30х2"},{"$f":"SUMIFS($N$62:$N$116,$C$62:$C$116,Таблица1[[#This Row],[Дл]],$D$62:$D$116,\"=500\",$F$62:$F$116,Таблица1[[#This Row],[АСТРА]])","v":0},{"$f":"SUMIFS($N$62:$N$116,$C$62:$C$116,\"<\"&Таблица1[[#This Row],[Дл]],$D$62:$D$116,\"=500\",$F$62:$F$116,Таблица1[[#This Row],[АСТРА]])","v":0},null,null,{"$f":"SUMIFS($J$8:$J$57,$K$8:$K$57,Таблица1[[#This Row],[Столбец5]])","v":0},{"$f":"Таблица1[[#This Row],[пол.мас.цел]]+Таблица1[[#This Row],[пол.мас.дел]]","v":0},{"$f":"SUMIFS($Q$62:$Q$116,$C$62:$C$116,Таблица1[[#This Row],[Дл]],$D$62:$D$116,\"=500\",$F$62:$F$116,Таблица1[[#This Row],[АСТРА]])","v":0},{"$f":"SUMIFS($Q$62:$Q$116,$C$62:$C$116,\"<\"&Таблица1[[#This Row],[Дл]],$D$62:$D$116,\"=500\",$F$62:$F$116,Таблица1[[#This Row],[АСТРА]])","v":0},{"$f":"Таблица1[[#This Row],[ост.с.цел]]+Таблица1[[#This Row],[ост.с.дел]]","v":0},{"$f":"Таблица1[[#This Row],[лом.целых]]+Таблица1[[#This Row],[лом.делов]]-Таблица1[[#This Row],[лом.на.пор.]]","v":0},{"$f":"Таблица1[[#This Row],[лом]]+Таблица1[[#This Row],[корр.масс]]","v":0},{"$f":"SUMIFS($T$62:$T$116,$C$62:$C$116,Таблица1[[#This Row],[Дл]],$D$62:$D$116,\"=500\",$F$62:$F$116,Таблица1[[#This Row],[АСТРА]])","v":0},{"$f":"SUMIFS($T$62:$T$116,$C$62:$C$116,\"<\"&Таблица1[[#This Row],[Дл]],$D$62:$D$116,\"=500\",$F$62:$F$116,Таблица1[[#This Row],[АСТРА]])","v":0},{"$f":"Таблица1[[#This Row],[Столбец17]]+Таблица1[[#This Row],[Столбец18]]+Таблица1[[#This Row],[лом.на.пор.]]","v":0},{"$f":"Таблица1[[#This Row],[Столбец19]]-Таблица1[[#This Row],[корр.масс]]","v":0},null,{"$f":"SUMIFS($X$62:$X$116,$C$62:$C$116,Таблица1[[#This Row],[Дл]],$D$62:$D$116,\"=500\",$F$62:$F$116,Таблица1[[#This Row],[АСТРА]])","v":0},{"$f":"SUMIFS($X$62:$X$116,$C$62:$C$116,\"<\"&Таблица1[[#This Row],[Дл]],$D$62:$D$116,\"=500\",$F$62:$F$116,Таблица1[[#This Row],[АСТРА]])","v":0},{"$f":"Таблица1[[#This Row],[Столбец23]]+Таблица1[[#This Row],[Столбец24]]","v":0},{"$f":"Таблица1[[#This Row],[лом.целых]]+Таблица1[[#This Row],[лом.делов]]-Таблица1[[#This Row],[лом.на.пор.]]","v":0},{"$f":"IF(Таблица1[[#This Row],[резы]]*Таблица1[[#This Row],[шир.рез]]/1000*Таблица1[[#This Row],[коэф]]/2<0,0,Таблица1[[#This Row],[резы]]*Таблица1[[#This Row],[шир.рез]]/1000*Таблица1[[#This Row],[коэф]]/2)","v":0},{"$f":"SUMIFS($Y$62:$Y$116,$C$62:$C$116,Таблица1[[#This Row],[Дл]],$D$62:$D$116,\"=500\",$F$62:$F$116,Таблица1[[#This Row],[АСТРА]])","v":0},{"$f":"SUMIFS($Y$62:$Y$116,$C$62:$C$116,\"<\"&Таблица1[[#This Row],[Дл]],$D$62:$D$116,\"=500\",$F$62:$F$116,Таблица1[[#This Row],[АСТРА]])","v":0},5,{"$f":"IF(Таблица1[[#This Row],[профиль]]=Таблица1[[#This Row],[толщ]],CONCATENATE(Таблица1[[#This Row],[Столбец33]],\" \",Таблица1[[#This Row],[толщ]]),CONCATENATE(Таблица1[[#This Row],[Столбец33]],\" \",Таблица1[[#This Row],[профиль]],\"х\",Таблица1[[#This Row],[толщ]]))","v":"Труба 50х30х2"},{"$f":"CONCATENATE(Таблица1[[#This Row],[Столбец33]],\" \",Таблица1[[#This Row],[профиль]])","v":"Труба 50х30"},"Труба 50х30, 2.0 мм, тр3050","Труба",{"$f":"IF(Таблица1[[#This Row],[профиль]]=Таблица1[[#This Row],[толщ]],Таблица1[[#This Row],[толщ]],CONCATENATE(Таблица1[[#This Row],[профиль]],\"х\",Таблица1[[#This Row],[точка]]))","v":"50х30х2"},"50х30",2,{"$f":"SUBSTITUTE(Таблица1[[#This Row],[толщ]],\",\",\".\")","v":"2"},4.66,{"$f":"SUMIFS($U$8:$U$57,$K$8:$K$57,Таблица1[[#This Row],[ГОСТ]])","v":0}]
[{"$f":"IF(Таблица1[[#This Row],[Столбец19]]=0,\"z\",\"\")","v":"z"},null,null,6000,null,{"$f":"SUMIFS($G$62:$G$116,$D$62:$D$116,500,$C$62:$C$116,Таблица1[[#This Row],[Дл]],$F$62:$F$116,Таблица1[[#This Row],[АСТРА]])","v":0},{"$f":"Таблица1[[#This Row],[толщ]]","v":1.5},{"$f":"Таблица1[[#This Row],[ГОСТ]]","v":"Труба 51х1,5"},{"$f":"SUMIFS($N$62:$N$116,$C$62:$C$116,Таблица1[[#This Row],[Дл]],$D$62:$D$116,\"=500\",$F$62:$F$116,Таблица1[[#This Row],[АСТРА]])","v":0},{"$f":"SUMIFS($N$62:$N$116,$C$62:$C$116,\"<\"&Таблица1[[#This Row],[Дл]],$D$62:$D$116,\"=500\",$F$62:$F$116,Таблица1[[#This Row],[АСТРА]])","v":0},null,null,{"$f":"SUMIFS($J$8:$J$57,$K$8:$K$57,Таблица1[[#This Row],[Столбец5]])","v":0},{"$f":"Таблица1[[#This Row],[пол.мас.цел]]+Таблица1[[#This Row],[пол.мас.дел]]","v":0},{"$f":"SUMIFS($Q$62:$Q$116,$C$62:$C$116,Таблица1[[#This Row],[Дл]],$D$62:$D$116,\"=500\",$F$62:$F$116,Таблица1[[#This Row],[АСТРА]])","v":0},{"$f":"SUMIFS($Q$62:$Q$116,$C$62:$C$116,\"<\"&Таблица1[[#This Row],[Дл]],$D$62:$D$116,\"=500\",$F$62:$F$116,Таблица1[[#This Row],[АСТРА]])","v":0},{"$f":"Таблица1[[#This Row],[ост.с.цел]]+Таблица1[[#This Row],[ост.с.дел]]","v":0},{"$f":"Таблица1[[#This Row],[лом.целых]]+Таблица1[[#This Row],[лом.делов]]-Таблица1[[#This Row],[лом.на.пор.]]","v":0},{"$f":"Таблица1[[#This Row],[лом]]+Таблица1[[#This Row],[корр.масс]]","v":0},{"$f":"SUMIFS($T$62:$T$116,$C$62:$C$116,Таблица1[[#This Row],[Дл]],$D$62:$D$116,\"=500\",$F$62:$F$116,Таблица1[[#This Row],[АСТРА]])","v":0},{"$f":"SUMIFS($T$62:$T$116,$C$62:$C$116,\"<\"&Таблица1[[#This Row],[Дл]],$D$62:$D$116,\"=500\",$F$62:$F$116,Таблица1[[#This Row],[АСТРА]])","v":0},{"$f":"Таблица1[[#This Row],[Столбец17]]+Таблица1[[#This Row],[Столбец18]]+Таблица1[[#This Row],[лом.на.пор.]]","v":0},{"$f":"Таблица1[[#This Row],[Столбец19]]-Таблица1[[#This Row],[корр.масс]]","v":0},null,{"$f":"SUMIFS($X$62:$X$116,$C$62:$C$116,Таблица1[[#This Row],[Дл]],$D$62:$D$116,\"=500\",$F$62:$F$116,Таблица1[[#This Row],[АСТРА]])","v":0},{"$f":"SUMIFS($X$62:$X$116,$C$62:$C$116,\"<\"&Таблица1[[#This Row],[Дл]],$D$62:$D$116,\"=500\",$F$62:$F$116,Таблица1[[#This Row],[АСТРА]])","v":0},{"$f":"Таблица1[[#This Row],[Столбец23]]+Таблица1[[#This Row],[Столбец24]]","v":0},{"$f":"Таблица1[[#This Row],[лом.целых]]+Таблица1[[#This Row],[лом.делов]]-Таблица1[[#This Row],[лом.на.пор.]]","v":0},{"$f":"IF(Таблица1[[#This Row],[резы]]*Таблица1[[#This Row],[шир.рез]]/1000*Таблица1[[#This Row],[коэф]]/2<0,0,Таблица1[[#This Row],[резы]]*Таблица1[[#This Row],[шир.рез]]/1000*Таблица1[[#This Row],[коэф]]/2)","v":0},{"$f":"SUMIFS($Y$62:$Y$116,$C$62:$C$116,Таблица1[[#This Row],[Дл]],$D$62:$D$116,\"=500\",$F$62:$F$116,Таблица1[[#This Row],[АСТРА]])","v":0},{"$f":"SUMIFS($Y$62:$Y$116,$C$62:$C$116,\"<\"&Таблица1[[#This Row],[Дл]],$D$62:$D$116,\"=500\",$F$62:$F$116,Таблица1[[#This Row],[АСТРА]])","v":0},5,{"$f":"IF(Таблица1[[#This Row],[профиль]]=Таблица1[[#This Row],[толщ]],CONCATENATE(Таблица1[[#This Row],[Столбец33]],\" \",Таблица1[[#This Row],[толщ]]),CONCATENATE(Таблица1[[#This Row],[Столбец33]],\" \",Таблица1[[#This Row],[профиль]],\"х\",Таблица1[[#This Row],[толщ]]))","v":"Труба 51х1,5"},{"$f":"CONCATENATE(Таблица1[[#This Row],[Столбец33]],\" \",Таблица1[[#This Row],[профиль]])","v":"Труба 51"},"Труба 51, 1.5 мм, тр51","Труба",{"$f":"IF(Таблица1[[#This Row],[профиль]]=Таблица1[[#This Row],[толщ]],Таблица1[[#This Row],[толщ]],CONCATENATE(Таблица1[[#This Row],[профиль]],\"х\",Таблица1[[#This Row],[точка]]))","v":"51х1.5"},51,1.5,{"$f":"SUBSTITUTE(Таблица1[[#This Row],[толщ]],\",\",\".\")","v":"1.5"},3.66,{"$f":"SUMIFS($U$8:$U$57,$K$8:$K$57,Таблица1[[#This Row],[ГОСТ]])","v":0}]
[{"$f":"IF(Таблица1[[#This Row],[Столбец19]]=0,\"z\",\"\")","v":"z"},null,null,6000,null,{"$f":"SUMIFS($G$62:$G$116,$D$62:$D$116,500,$C$62:$C$116,Таблица1[[#This Row],[Дл]],$F$62:$F$116,Таблица1[[#This Row],[АСТРА]])","v":0},{"$f":"Таблица1[[#This Row],[толщ]]","v":1.5},{"$f":"Таблица1[[#This Row],[ГОСТ]]","v":"Труба 60х20х1,5"},{"$f":"SUMIFS($N$62:$N$116,$C$62:$C$116,Таблица1[[#This Row],[Дл]],$D$62:$D$116,\"=500\",$F$62:$F$116,Таблица1[[#This Row],[АСТРА]])","v":0},{"$f":"SUMIFS($N$62:$N$116,$C$62:$C$116,\"<\"&Таблица1[[#This Row],[Дл]],$D$62:$D$116,\"=500\",$F$62:$F$116,Таблица1[[#This Row],[АСТРА]])","v":0},null,null,{"$f":"SUMIFS($J$8:$J$57,$K$8:$K$57,Таблица1[[#This Row],[Столбец5]])","v":0},{"$f":"Таблица1[[#This Row],[пол.мас.цел]]+Таблица1[[#This Row],[пол.мас.дел]]","v":0},{"$f":"SUMIFS($Q$62:$Q$116,$C$62:$C$116,Таблица1[[#This Row],[Дл]],$D$62:$D$116,\"=500\",$F$62:$F$116,Таблица1[[#This Row],[АСТРА]])","v":0},{"$f":"SUMIFS($Q$62:$Q$116,$C$62:$C$116,\"<\"&Таблица1[[#This Row],[Дл]],$D$62:$D$116,\"=500\",$F$62:$F$116,Таблица1[[#This Row],[АСТРА]])","v":0},{"$f":"Таблица1[[#This Row],[ост.с.цел]]+Таблица1[[#This Row],[ост.с.дел]]","v":0},{"$f":"Таблица1[[#This Row],[лом.целых]]+Таблица1[[#This Row],[лом.делов]]-Таблица1[[#This Row],[лом.на.пор.]]","v":0},{"$f":"Таблица1[[#This Row],[лом]]+Таблица1[[#This Row],[корр.масс]]","v":0},{"$f":"SUMIFS($T$62:$T$116,$C$62:$C$116,Таблица1[[#This Row],[Дл]],$D$62:$D$116,\"=500\",$F$62:$F$116,Таблица1[[#This Row],[АСТРА]])","v":0},{"$f":"SUMIFS($T$62:$T$116,$C$62:$C$116,\"<\"&Таблица1[[#This Row],[Дл]],$D$62:$D$116,\"=500\",$F$62:$F$116,Таблица1[[#This Row],[АСТРА]])","v":0},{"$f":"Таблица1[[#This Row],[Столбец17]]+Таблица1[[#This Row],[Столбец18]]+Таблица1[[#This Row],[лом.на.пор.]]","v":0},{"$f":"Таблица1[[#This Row],[Столбец19]]-Таблица1[[#This Row],[корр.масс]]","v":0},null,{"$f":"SUMIFS($X$62:$X$116,$C$62:$C$116,Таблица1[[#This Row],[Дл]],$D$62:$D$116,\"=500\",$F$62:$F$116,Таблица1[[#This Row],[АСТРА]])","v":0},{"$f":"SUMIFS($X$62:$X$116,$C$62:$C$116,\"<\"&Таблица1[[#This Row],[Дл]],$D$62:$D$116,\"=500\",$F$62:$F$116,Таблица1[[#This Row],[АСТРА]])","v":0},{"$f":"Таблица1[[#This Row],[Столбец23]]+Таблица1[[#This Row],[Столбец24]]","v":0},{"$f":"Таблица1[[#This Row],[лом.целых]]+Таблица1[[#This Row],[лом.делов]]-Таблица1[[#This Row],[лом.на.пор.]]","v":0},{"$f":"IF(Таблица1[[#This Row],[резы]]*Таблица1[[#This Row],[шир.рез]]/1000*Таблица1[[#This Row],[коэф]]/2<0,0,Таблица1[[#This Row],[резы]]*Таблица1[[#This Row],[шир.рез]]/1000*Таблица1[[#This Row],[коэф]]/2)","v":0},{"$f":"SUMIFS($Y$62:$Y$116,$C$62:$C$116,Таблица1[[#This Row],[Дл]],$D$62:$D$116,\"=500\",$F$62:$F$116,Таблица1[[#This Row],[АСТРА]])","v":0},{"$f":"SUMIFS($Y$62:$Y$116,$C$62:$C$116,\"<\"&Таблица1[[#This Row],[Дл]],$D$62:$D$116,\"=500\",$F$62:$F$116,Таблица1[[#This Row],[АСТРА]])","v":0},5,{"$f":"IF(Таблица1[[#This Row],[профиль]]=Таблица1[[#This Row],[толщ]],CONCATENATE(Таблица1[[#This Row],[Столбец33]],\" \",Таблица1[[#This Row],[толщ]]),CONCATENATE(Таблица1[[#This Row],[Столбец33]],\" \",Таблица1[[#This Row],[профиль]],\"х\",Таблица1[[#This Row],[толщ]]))","v":"Труба 60х20х1,5"},{"$f":"CONCATENATE(Таблица1[[#This Row],[Столбец33]],\" \",Таблица1[[#This Row],[профиль]])","v":"Труба 60х20"},"Труба 60х20, 1.5 мм","Труба",{"$f":"IF(Таблица1[[#This Row],[профиль]]=Таблица1[[#This Row],[толщ]],Таблица1[[#This Row],[толщ]],CONCATENATE(Таблица1[[#This Row],[профиль]],\"х\",Таблица1[[#This Row],[точка]]))","v":"60х20х1.5"},"60х20",1.5,{"$f":"SUBSTITUTE(Таблица1[[#This Row],[толщ]],\",\",\".\")","v":"1.5"},3.57,{"$f":"SUMIFS($U$8:$U$57,$K$8:$K$57,Таблица1[[#This Row],[ГОСТ]])","v":0}]
[{"$f":"IF(Таблица1[[#This Row],[Столбец19]]=0,\"z\",\"\")","v":"z"},null,null,6000,null,{"$f":"SUMIFS($G$62:$G$116,$D$62:$D$116,500,$C$62:$C$116,Таблица1[[#This Row],[Дл]],$F$62:$F$116,Таблица1[[#This Row],[АСТРА]])","v":0},{"$f":"Таблица1[[#This Row],[толщ]]","v":2},{"$f":"Таблица1[[#This Row],[ГОСТ]]","v":"Труба 60х20х2"},{"$f":"SUMIFS($N$62:$N$116,$C$62:$C$116,Таблица1[[#This Row],[Дл]],$D$62:$D$116,\"=500\",$F$62:$F$116,Таблица1[[#This Row],[АСТРА]])","v":0},{"$f":"SUMIFS($N$62:$N$116,$C$62:$C$116,\"<\"&Таблица1[[#This Row],[Дл]],$D$62:$D$116,\"=500\",$F$62:$F$116,Таблица1[[#This Row],[АСТРА]])","v":0},null,null,{"$f":"SUMIFS($J$8:$J$57,$K$8:$K$57,Таблица1[[#This Row],[Столбец5]])","v":0},{"$f":"Таблица1[[#This Row],[пол.мас.цел]]+Таблица1[[#This Row],[пол.мас.дел]]","v":0},{"$f":"SUMIFS($Q$62:$Q$116,$C$62:$C$116,Таблица1[[#This Row],[Дл]],$D$62:$D$116,\"=500\",$F$62:$F$116,Таблица1[[#This Row],[АСТРА]])","v":0},{"$f":"SUMIFS($Q$62:$Q$116,$C$62:$C$116,\"<\"&Таблица1[[#This Row],[Дл]],$D$62:$D$116,\"=500\",$F$62:$F$116,Таблица1[[#This Row],[АСТРА]])","v":0},{"$f":"Таблица1[[#This Row],[ост.с.цел]]+Таблица1[[#This Row],[ост.с.дел]]","v":0},{"$f":"Таблица1[[#This Row],[лом.целых]]+Таблица1[[#This Row],[лом.делов]]-Таблица1[[#This Row],[лом.на.пор.]]","v":0},{"$f":"Таблица1[[#This Row],[лом]]+Таблица1[[#This Row],[корр.масс]]","v":0},{"$f":"SUMIFS($T$62:$T$116,$C$62:$C$116,Таблица1[[#This Row],[Дл]],$D$62:$D$116,\"=500\",$F$62:$F$116,Таблица1[[#This Row],[АСТРА]])","v":0},{"$f":"SUMIFS($T$62:$T$116,$C$62:$C$116,\"<\"&Таблица1[[#This Row],[Дл]],$D$62:$D$116,\"=500\",$F$62:$F$116,Таблица1[[#This Row],[АСТРА]])","v":0},{"$f":"Таблица1[[#This Row],[Столбец17]]+Таблица1[[#This Row],[Столбец18]]+Таблица1[[#This Row],[лом.на.пор.]]","v":0},{"$f":"Таблица1[[#This Row],[Столбец19]]-Таблица1[[#This Row],[корр.масс]]","v":0},null,{"$f":"SUMIFS($X$62:$X$116,$C$62:$C$116,Таблица1[[#This Row],[Дл]],$D$62:$D$116,\"=500\",$F$62:$F$116,Таблица1[[#This Row],[АСТРА]])","v":0},{"$f":"SUMIFS($X$62:$X$116,$C$62:$C$116,\"<\"&Таблица1[[#This Row],[Дл]],$D$62:$D$116,\"=500\",$F$62:$F$116,Таблица1[[#This Row],[АСТРА]])","v":0},{"$f":"Таблица1[[#This Row],[Столбец23]]+Таблица1[[#This Row],[Столбец24]]","v":0},{"$f":"Таблица1[[#This Row],[лом.целых]]+Таблица1[[#This Row],[лом.делов]]-Таблица1[[#This Row],[лом.на.пор.]]","v":0},{"$f":"IF(Таблица1[[#This Row],[резы]]*Таблица1[[#This Row],[шир.рез]]/1000*Таблица1[[#This Row],[коэф]]/2<0,0,Таблица1[[#This Row],[резы]]*Таблица1[[#This Row],[шир.рез]]/1000*Таблица1[[#This Row],[коэф]]/2)","v":0},{"$f":"SUMIFS($Y$62:$Y$116,$C$62:$C$116,Таблица1[[#This Row],[Дл]],$D$62:$D$116,\"=500\",$F$62:$F$116,Таблица1[[#This Row],[АСТРА]])","v":0},{"$f":"SUMIFS($Y$62:$Y$116,$C$62:$C$116,\"<\"&Таблица1[[#This Row],[Дл]],$D$62:$D$116,\"=500\",$F$62:$F$116,Таблица1[[#This Row],[АСТРА]])","v":0},5,{"$f":"IF(Таблица1[[#This Row],[профиль]]=Таблица1[[#This Row],[толщ]],CONCATENATE(Таблица1[[#This Row],[Столбец33]],\" \",Таблица1[[#This Row],[толщ]]),CONCATENATE(Таблица1[[#This Row],[Столбец33]],\" \",Таблица1[[#This Row],[профиль]],\"х\",Таблица1[[#This Row],[толщ]]))","v":"Труба 60х20х2"},{"$f":"CONCATENATE(Таблица1[[#This Row],[Столбец33]],\" \",Таблица1[[#This Row],[профиль]])","v":"Труба 60х20"},"Труба 60х20, 2.0 мм","Труба",{"$f":"IF(Таблица1[[#This Row],[профиль]]=Таблица1[[#This Row],[толщ]],Таблица1[[#This Row],[толщ]],CONCATENATE(Таблица1[[#This Row],[профиль]],\"х\",Таблица1[[#This Row],[точка]]))","v":"60х20х2"},"60х20",2,{"$f":"SUBSTITUTE(Таблица1[[#This Row],[толщ]],\",\",\".\")","v":"2"},4.66,{"$f":"SUMIFS($U$8:$U$57,$K$8:$K$57,Таблица1[[#This Row],[ГОСТ]])","v":0}]
[{"$f":"IF(Таблица1[[#This Row],[Столбец19]]=0,\"z\",\"\")","v":"z"},null,null,6000,null,{"$f":"SUMIFS($G$62:$G$116,$D$62:$D$116,500,$C$62:$C$116,Таблица1[[#This Row],[Дл]],$F$62:$F$116,Таблица1[[#This Row],[АСТРА]])","v":0},{"$f":"Таблица1[[#This Row],[толщ]]","v":1.5},{"$f":"Таблица1[[#This Row],[ГОСТ]]","v":"Труба 60х30х1,5"},{"$f":"SUMIFS($N$62:$N$116,$C$62:$C$116,Таблица1[[#This Row],[Дл]],$D$62:$D$116,\"=500\",$F$62:$F$116,Таблица1[[#This Row],[АСТРА]])","v":0},{"$f":"SUMIFS($N$62:$N$116,$C$62:$C$116,\"<\"&Таблица1[[#This Row],[Дл]],$D$62:$D$116,\"=500\",$F$62:$F$116,Таблица1[[#This Row],[АСТРА]])","v":0},null,null,{"$f":"SUMIFS($J$8:$J$57,$K$8:$K$57,Таблица1[[#This Row],[Столбец5]])","v":0},{"$f":"Таблица1[[#This Row],[пол.мас.цел]]+Таблица1[[#This Row],[пол.мас.дел]]","v":0},{"$f":"SUMIFS($Q$62:$Q$116,$C$62:$C$116,Таблица1[[#This Row],[Дл]],$D$62:$D$116,\"=500\",$F$62:$F$116,Таблица1[[#This Row],[АСТРА]])","v":0},{"$f":"SUMIFS($Q$62:$Q$116,$C$62:$C$116,\"<\"&Таблица1[[#This Row],[Дл]],$D$62:$D$116,\"=500\",$F$62:$F$116,Таблица1[[#This Row],[АСТРА]])","v":0},{"$f":"Таблица1[[#This Row],[ост.с.цел]]+Таблица1[[#This Row],[ост.с.дел]]","v":0},{"$f":"Таблица1[[#This Row],[лом.целых]]+Таблица1[[#This Row],[лом.делов]]-Таблица1[[#This Row],[лом.на.пор.]]","v":0},{"$f":"Таблица1[[#This Row],[лом]]+Таблица1[[#This Row],[корр.масс]]","v":0},{"$f":"SUMIFS($T$62:$T$116,$C$62:$C$116,Таблица1[[#This Row],[Дл]],$D$62:$D$116,\"=500\",$F$62:$F$116,Таблица1[[#This Row],[АСТРА]])","v":0},{"$f":"SUMIFS($T$62:$T$116,$C$62:$C$116,\"<\"&Таблица1[[#This Row],[Дл]],$D$62:$D$116,\"=500\",$F$62:$F$116,Таблица1[[#This Row],[АСТРА]])","v":0},{"$f":"Таблица1[[#This Row],[Столбец17]]+Таблица1[[#This Row],[Столбец18]]+Таблица1[[#This Row],[лом.на.пор.]]","v":0},{"$f":"Таблица1[[#This Row],[Столбец19]]-Таблица1[[#This Row],[корр.масс]]","v":0},null,{"$f":"SUMIFS($X$62:$X$116,$C$62:$C$116,Таблица1[[#This Row],[Дл]],$D$62:$D$116,\"=500\",$F$62:$F$116,Таблица1[[#This Row],[АСТРА]])","v":0},{"$f":"SUMIFS($X$62:$X$116,$C$62:$C$116,\"<\"&Таблица1[[#This Row],[Дл]],$D$62:$D$116,\"=500\",$F$62:$F$116,Таблица1[[#This Row],[АСТРА]])","v":0},{"$f":"Таблица1[[#This Row],[Столбец23]]+Таблица1[[#This Row],[Столбец24]]","v":0},{"$f":"Таблица1[[#This Row],[лом.целых]]+Таблица1[[#This Row],[лом.делов]]-Таблица1[[#This Row],[лом.на.пор.]]","v":0},{"$f":"IF(Таблица1[[#This Row],[резы]]*Таблица1[[#This Row],[шир.рез]]/1000*Таблица1[[#This Row],[коэф]]/2<0,0,Таблица1[[#This Row],[резы]]*Таблица1[[#This Row],[шир.рез]]/1000*Таблица1[[#This Row],[коэф]]/2)","v":0},{"$f":"SUMIFS($Y$62:$Y$116,$C$62:$C$116,Таблица1[[#This Row],[Дл]],$D$62:$D$116,\"=500\",$F$62:$F$116,Таблица1[[#This Row],[АСТРА]])","v":0},{"$f":"SUMIFS($Y$62:$Y$116,$C$62:$C$116,\"<\"&Таблица1[[#This Row],[Дл]],$D$62:$D$116,\"=500\",$F$62:$F$116,Таблица1[[#This Row],[АСТРА]])","v":0},5,{"$f":"IF(Таблица1[[#This Row],[профиль]]=Таблица1[[#This Row],[толщ]],CONCATENATE(Таблица1[[#This Row],[Столбец33]],\" \",Таблица1[[#This Row],[толщ]]),CONCATENATE(Таблица1[[#This Row],[Столбец33]],\" \",Таблица1[[#This Row],[профиль]],\"х\",Таблица1[[#This Row],[толщ]]))","v":"Труба 60х30х1,5"},{"$f":"CONCATENATE(Таблица1[[#This Row],[Столбец33]],\" \",Таблица1[[#This Row],[профиль]])","v":"Труба 60х30"},"Труба 60х30, 1.5 мм, тр6030","Труба",{"$f":"IF(Таблица1[[#This Row],[профиль]]=Таблица1[[#This Row],[толщ]],Таблица1[[#This Row],[толщ]],CONCATENATE(Таблица1[[#This Row],[профиль]],\"х\",Таблица1[[#This Row],[точка]]))","v":"60х30х1.5"},"60х30",1.5,{"$f":"SUBSTITUTE(Таблица1[[#This Row],[толщ]],\",\",\".\")","v":"1.5"},4.04,{"$f":"SUMIFS($U$8:$U$57,$K$8:$K$57,Таблица1[[#This Row],[ГОСТ]])","v":0}]
[{"$f":"IF(Таблица1[[#This Row],[Столбец19]]=0,\"z\",\"\")","v":"z"},null,null,6000,null,{"$f":"SUMIFS($G$62:$G$116,$D$62:$D$116,500,$C$62:$C$116,Таблица1[[#This Row],[Дл]],$F$62:$F$116,Таблица1[[#This Row],[АСТРА]])","v":0},{"$f":"Таблица1[[#This Row],[толщ]]","v":2},{"$f":"Таблица1[[#This Row],[ГОСТ]]","v":"Труба 60х30х2"},{"$f":"SUMIFS($N$62:$N$116,$C$62:$C$116,Таблица1[[#This Row],[Дл]],$D$62:$D$116,\"=500\",$F$62:$F$116,Таблица1[[#This Row],[АСТРА]])","v":0},{"$f":"SUMIFS($N$62:$N$116,$C$62:$C$116,\"<\"&Таблица1[[#This Row],[Дл]],$D$62:$D$116,\"=500\",$F$62:$F$116,Таблица1[[#This Row],[АСТРА]])","v":0},null,null,{"$f":"SUMIFS($J$8:$J$57,$K$8:$K$57,Таблица1[[#This Row],[Столбец5]])","v":0},{"$f":"Таблица1[[#This Row],[пол.мас.цел]]+Таблица1[[#This Row],[пол.мас.дел]]","v":0},{"$f":"SUMIFS($Q$62:$Q$116,$C$62:$C$116,Таблица1[[#This Row],[Дл]],$D$62:$D$116,\"=500\",$F$62:$F$116,Таблица1[[#This Row],[АСТРА]])","v":0},{"$f":"SUMIFS($Q$62:$Q$116,$C$62:$C$116,\"<\"&Таблица1[[#This Row],[Дл]],$D$62:$D$116,\"=500\",$F$62:$F$116,Таблица1[[#This Row],[АСТРА]])","v":0},{"$f":"Таблица1[[#This Row],[ост.с.цел]]+Таблица1[[#This Row],[ост.с.дел]]","v":0},{"$f":"Таблица1[[#This Row],[лом.целых]]+Таблица1[[#This Row],[лом.делов]]-Таблица1[[#This Row],[лом.на.пор.]]","v":0},{"$f":"Таблица1[[#This Row],[лом]]+Таблица1[[#This Row],[корр.масс]]","v":0},{"$f":"SUMIFS($T$62:$T$116,$C$62:$C$116,Таблица1[[#This Row],[Дл]],$D$62:$D$116,\"=500\",$F$62:$F$116,Таблица1[[#This Row],[АСТРА]])","v":0},{"$f":"SUMIFS($T$62:$T$116,$C$62:$C$116,\"<\"&Таблица1[[#This Row],[Дл]],$D$62:$D$116,\"=500\",$F$62:$F$116,Таблица1[[#This Row],[АСТРА]])","v":0},{"$f":"Таблица1[[#This Row],[Столбец17]]+Таблица1[[#This Row],[Столбец18]]+Таблица1[[#This Row],[лом.на.пор.]]","v":0},{"$f":"Таблица1[[#This Row],[Столбец19]]-Таблица1[[#This Row],[корр.масс]]","v":0},null,{"$f":"SUMIFS($X$62:$X$116,$C$62:$C$116,Таблица1[[#This Row],[Дл]],$D$62:$D$116,\"=500\",$F$62:$F$116,Таблица1[[#This Row],[АСТРА]])","v":0},{"$f":"SUMIFS($X$62:$X$116,$C$62:$C$116,\"<\"&Таблица1[[#This Row],[Дл]],$D$62:$D$116,\"=500\",$F$62:$F$116,Таблица1[[#This Row],[АСТРА]])","v":0},{"$f":"Таблица1[[#This Row],[Столбец23]]+Таблица1[[#This Row],[Столбец24]]","v":0},{"$f":"Таблица1[[#This Row],[лом.целых]]+Таблица1[[#This Row],[лом.делов]]-Таблица1[[#This Row],[лом.на.пор.]]","v":0},{"$f":"IF(Таблица1[[#This Row],[резы]]*Таблица1[[#This Row],[шир.рез]]/1000*Таблица1[[#This Row],[коэф]]/2<0,0,Таблица1[[#This Row],[резы]]*Таблица1[[#This Row],[шир.рез]]/1000*Таблица1[[#This Row],[коэф]]/2)","v":0},{"$f":"SUMIFS($Y$62:$Y$116,$C$62:$C$116,Таблица1[[#This Row],[Дл]],$D$62:$D$116,\"=500\",$F$62:$F$116,Таблица1[[#This Row],[АСТРА]])","v":0},{"$f":"SUMIFS($Y$62:$Y$116,$C$62:$C$116,\"<\"&Таблица1[[#This Row],[Дл]],$D$62:$D$116,\"=500\",$F$62:$F$116,Таблица1[[#This Row],[АСТРА]])","v":0},5,{"$f":"IF(Таблица1[[#This Row],[профиль]]=Таблица1[[#This Row],[толщ]],CONCATENATE(Таблица1[[#This Row],[Столбец33]],\" \",Таблица1[[#This Row],[толщ]]),CONCATENATE(Таблица1[[#This Row],[Столбец33]],\" \",Таблица1[[#This Row],[профиль]],\"х\",Таблица1[[#This Row],[толщ]]))","v":"Труба 60х30х2"},{"$f":"CONCATENATE(Таблица1[[#This Row],[Столбец33]],\" \",Таблица1[[#This Row],[профиль]])","v":"Труба 60х30"},"Труба 60х30, 2.0 мм, тр6030","Труба",{"$f":"IF(Таблица1[[#This Row],[профиль]]=Таблица1[[#This Row],[толщ]],Таблица1[[#This Row],[толщ]],CONCATENATE(Таблица1[[#This Row],[профиль]],\"х\",Таблица1[[#This Row],[точка]]))","v":"60х30х2"},"60х30",2,{"$f":"SUBSTITUTE(Таблица1[[#This Row],[толщ]],\",\",\".\")","v":"2"},5.29,{"$f":"SUMIFS($U$8:$U$57,$K$8:$K$57,Таблица1[[#This Row],[ГОСТ]])","v":0}]
[{"$f":"IF(Таблица1[[#This Row],[Столбец19]]=0,\"z\",\"\")","v":"z"},null,null,500,null,{"$f":"SUMIFS($G$62:$G$116,$D$62:$D$116,500,$C$62:$C$116,Таблица1[[#This Row],[Дл]],$F$62:$F$116,Таблица1[[#This Row],[АСТРА]])","v":0},{"$f":"Таблица1[[#This Row],[толщ]]","v":4},{"$f":"Таблица1[[#This Row],[ГОСТ]]","v":"Труба 60х4"},{"$f":"SUMIFS($N$62:$N$116,$C$62:$C$116,Таблица1[[#This Row],[Дл]],$D$62:$D$116,\"=500\",$F$62:$F$116,Таблица1[[#This Row],[АСТРА]])","v":0},{"$f":"SUMIFS($N$62:$N$116,$C$62:$C$116,\"<\"&Таблица1[[#This Row],[Дл]],$D$62:$D$116,\"=500\",$F$62:$F$116,Таблица1[[#This Row],[АСТРА]])","v":0},null,null,{"$f":"SUMIFS($J$8:$J$57,$K$8:$K$57,Таблица1[[#This Row],[Столбец5]])","v":0},{"$f":"Таблица1[[#This Row],[пол.мас.цел]]+Таблица1[[#This Row],[пол.мас.дел]]","v":0},{"$f":"SUMIFS($Q$62:$Q$116,$C$62:$C$116,Таблица1[[#This Row],[Дл]],$D$62:$D$116,\"=500\",$F$62:$F$116,Таблица1[[#This Row],[АСТРА]])","v":0},{"$f":"SUMIFS($Q$62:$Q$116,$C$62:$C$116,\"<\"&Таблица1[[#This Row],[Дл]],$D$62:$D$116,\"=500\",$F$62:$F$116,Таблица1[[#This Row],[АСТРА]])","v":0},{"$f":"Таблица1[[#This Row],[ост.с.цел]]+Таблица1[[#This Row],[ост.с.дел]]","v":0},{"$f":"Таблица1[[#This Row],[лом.целых]]+Таблица1[[#This Row],[лом.делов]]-Таблица1[[#This Row],[лом.на.пор.]]","v":0},{"$f":"Таблица1[[#This Row],[лом]]+Таблица1[[#This Row],[корр.масс]]","v":0},{"$f":"SUMIFS($T$62:$T$116,$C$62:$C$116,Таблица1[[#This Row],[Дл]],$D$62:$D$116,\"=500\",$F$62:$F$116,Таблица1[[#This Row],[АСТРА]])","v":0},{"$f":"SUMIFS($T$62:$T$116,$C$62:$C$116,\"<\"&Таблица1[[#This Row],[Дл]],$D$62:$D$116,\"=500\",$F$62:$F$116,Таблица1[[#This Row],[АСТРА]])","v":0},{"$f":"Таблица1[[#This Row],[Столбец17]]+Таблица1[[#This Row],[Столбец18]]+Таблица1[[#This Row],[лом.на.пор.]]","v":0},{"$f":"Таблица1[[#This Row],[Столбец19]]-Таблица1[[#This Row],[корр.масс]]","v":0},null,{"$f":"SUMIFS($X$62:$X$116,$C$62:$C$116,Таблица1[[#This Row],[Дл]],$D$62:$D$116,\"=500\",$F$62:$F$116,Таблица1[[#This Row],[АСТРА]])","v":0},{"$f":"SUMIFS($X$62:$X$116,$C$62:$C$116,\"<\"&Таблица1[[#This Row],[Дл]],$D$62:$D$116,\"=500\",$F$62:$F$116,Таблица1[[#This Row],[АСТРА]])","v":0},{"$f":"Таблица1[[#This Row],[Столбец23]]+Таблица1[[#This Row],[Столбец24]]","v":0},{"$f":"Таблица1[[#This Row],[лом.целых]]+Таблица1[[#This Row],[лом.делов]]-Таблица1[[#This Row],[лом.на.пор.]]","v":0},{"$f":"IF(Таблица1[[#This Row],[резы]]*Таблица1[[#This Row],[шир.рез]]/1000*Таблица1[[#This Row],[коэф]]/2<0,0,Таблица1[[#This Row],[резы]]*Таблица1[[#This Row],[шир.рез]]/1000*Таблица1[[#This Row],[коэф]]/2)","v":0},{"$f":"SUMIFS($Y$62:$Y$116,$C$62:$C$116,Таблица1[[#This Row],[Дл]],$D$62:$D$116,\"=500\",$F$62:$F$116,Таблица1[[#This Row],[АСТРА]])","v":0},{"$f":"SUMIFS($Y$62:$Y$116,$C$62:$C$116,\"<\"&Таблица1[[#This Row],[Дл]],$D$62:$D$116,\"=500\",$F$62:$F$116,Таблица1[[#This Row],[АСТРА]])","v":0},5,{"$f":"IF(Таблица1[[#This Row],[профиль]]=Таблица1[[#This Row],[толщ]],CONCATENATE(Таблица1[[#This Row],[Столбец33]],\" \",Таблица1[[#This Row],[толщ]]),CONCATENATE(Таблица1[[#This Row],[Столбец33]],\" \",Таблица1[[#This Row],[профиль]],\"х\",Таблица1[[#This Row],[толщ]]))","v":"Труба 60х4"},{"$f":"CONCATENATE(Таблица1[[#This Row],[Столбец33]],\" \",Таблица1[[#This Row],[профиль]])","v":"Труба 60"},"Труба 60, 4.0 мм","Труба",{"$f":"IF(Таблица1[[#This Row],[профиль]]=Таблица1[[#This Row],[толщ]],Таблица1[[#This Row],[толщ]],CONCATENATE(Таблица1[[#This Row],[профиль]],\"х\",Таблица1[[#This Row],[точка]]))","v":"60х4"},60,4,{"$f":"SUBSTITUTE(Таблица1[[#This Row],[толщ]],\",\",\".\")","v":"4"},11.05,{"$f":"SUMIFS($U$8:$U$57,$K$8:$K$57,Таблица1[[#This Row],[ГОСТ]])","v":0}]
[{"$f":"IF(Таблица1[[#This Row],[Столбец19]]=0,\"z\",\"\")","v":"z"},null,null,6000,null,{"$f":"SUMIFS($G$62:$G$116,$D$62:$D$116,500,$C$62:$C$116,Таблица1[[#This Row],[Дл]],$F$62:$F$116,Таблица1[[#This Row],[АСТРА]])","v":0},{"$f":"Таблица1[[#This Row],[толщ]]","v":2},{"$f":"Таблица1[[#This Row],[ГОСТ]]","v":"Труба 60х60х2"},{"$f":"SUMIFS($N$62:$N$116,$C$62:$C$116,Таблица1[[#This Row],[Дл]],$D$62:$D$116,\"=500\",$F$62:$F$116,Таблица1[[#This Row],[АСТРА]])","v":0},{"$f":"SUMIFS($N$62:$N$116,$C$62:$C$116,\"<\"&Таблица1[[#This Row],[Дл]],$D$62:$D$116,\"=500\",$F$62:$F$116,Таблица1[[#This Row],[АСТРА]])","v":0},null,null,{"$f":"SUMIFS($J$8:$J$57,$K$8:$K$57,Таблица1[[#This Row],[Столбец5]])","v":0},{"$f":"Таблица1[[#This Row],[пол.мас.цел]]+Таблица1[[#This Row],[пол.мас.дел]]","v":0},{"$f":"SUMIFS($Q$62:$Q$116,$C$62:$C$116,Таблица1[[#This Row],[Дл]],$D$62:$D$116,\"=500\",$F$62:$F$116,Таблица1[[#This Row],[АСТРА]])","v":0},{"$f":"SUMIFS($Q$62:$Q$116,$C$62:$C$116,\"<\"&Таблица1[[#This Row],[Дл]],$D$62:$D$116,\"=500\",$F$62:$F$116,Таблица1[[#This Row],[АСТРА]])","v":0},{"$f":"Таблица1[[#This Row],[ост.с.цел]]+Таблица1[[#This Row],[ост.с.дел]]","v":0},{"$f":"Таблица1[[#This Row],[лом.целых]]+Таблица1[[#This Row],[лом.делов]]-Таблица1[[#This Row],[лом.на.пор.]]","v":0},{"$f":"Таблица1[[#This Row],[лом]]+Таблица1[[#This Row],[корр.масс]]","v":0},{"$f":"SUMIFS($T$62:$T$116,$C$62:$C$116,Таблица1[[#This Row],[Дл]],$D$62:$D$116,\"=500\",$F$62:$F$116,Таблица1[[#This Row],[АСТРА]])","v":0},{"$f":"SUMIFS($T$62:$T$116,$C$62:$C$116,\"<\"&Таблица1[[#This Row],[Дл]],$D$62:$D$116,\"=500\",$F$62:$F$116,Таблица1[[#This Row],[АСТРА]])","v":0},{"$f":"Таблица1[[#This Row],[Столбец17]]+Таблица1[[#This Row],[Столбец18]]+Таблица1[[#This Row],[лом.на.пор.]]","v":0},{"$f":"Таблица1[[#This Row],[Столбец19]]-Таблица1[[#This Row],[корр.масс]]","v":0},null,{"$f":"SUMIFS($X$62:$X$116,$C$62:$C$116,Таблица1[[#This Row],[Дл]],$D$62:$D$116,\"=500\",$F$62:$F$116,Таблица1[[#This Row],[АСТРА]])","v":0},{"$f":"SUMIFS($X$62:$X$116,$C$62:$C$116,\"<\"&Таблица1[[#This Row],[Дл]],$D$62:$D$116,\"=500\",$F$62:$F$116,Таблица1[[#This Row],[АСТРА]])","v":0},{"$f":"Таблица1[[#This Row],[Столбец23]]+Таблица1[[#This Row],[Столбец24]]","v":0},{"$f":"Таблица1[[#This Row],[лом.целых]]+Таблица1[[#This Row],[лом.делов]]-Таблица1[[#This Row],[лом.на.пор.]]","v":0},{"$f":"IF(Таблица1[[#This Row],[резы]]*Таблица1[[#This Row],[шир.рез]]/1000*Таблица1[[#This Row],[коэф]]/2<0,0,Таблица1[[#This Row],[резы]]*Таблица1[[#This Row],[шир.рез]]/1000*Таблица1[[#This Row],[коэф]]/2)","v":0},{"$f":"SUMIFS($Y$62:$Y$116,$C$62:$C$116,Таблица1[[#This Row],[Дл]],$D$62:$D$116,\"=500\",$F$62:$F$116,Таблица1[[#This Row],[АСТРА]])","v":0},{"$f":"SUMIFS($Y$62:$Y$116,$C$62:$C$116,\"<\"&Таблица1[[#This Row],[Дл]],$D$62:$D$116,\"=500\",$F$62:$F$116,Таблица1[[#This Row],[АСТРА]])","v":0},5,{"$f":"IF(Таблица1[[#This Row],[профиль]]=Таблица1[[#This Row],[толщ]],CONCATENATE(Таблица1[[#This Row],[Столбец33]],\" \",Таблица1[[#This Row],[толщ]]),CONCATENATE(Таблица1[[#This Row],[Столбец33]],\" \",Таблица1[[#This Row],[профиль]],\"х\",Таблица1[[#This Row],[толщ]]))","v":"Труба 60х60х2"},{"$f":"CONCATENATE(Таблица1[[#This Row],[Столбец33]],\" \",Таблица1[[#This Row],[профиль]])","v":"Труба 60х60"},"Труба 60х60, 2.0 мм, тр6060","Труба",{"$f":"IF(Таблица1[[#This Row],[профиль]]=Таблица1[[#This Row],[толщ]],Таблица1[[#This Row],[толщ]],CONCATENATE(Таблица1[[#This Row],[профиль]],\"х\",Таблица1[[#This Row],[точка]]))","v":"60х60х2"},"60х60",2,{"$f":"SUBSTITUTE(Таблица1[[#This Row],[толщ]],\",\",\".\")","v":"2"},7.18,{"$f":"SUMIFS($U$8:$U$57,$K$8:$K$57,Таблица1[[#This Row],[ГОСТ]])","v":0}]
[{"$f":"IF(Таблица1[[#This Row],[Столбец19]]=0,\"z\",\"\")","v":"z"},null,null,6000,null,{"$f":"SUMIFS($G$62:$G$116,$D$62:$D$116,500,$C$62:$C$116,Таблица1[[#This Row],[Дл]],$F$62:$F$116,Таблица1[[#This Row],[АСТРА]])","v":0},{"$f":"Таблица1[[#This Row],[толщ]]","v":3},{"$f":"Таблица1[[#This Row],[ГОСТ]]","v":"Труба 76х3"},{"$f":"SUMIFS($N$62:$N$116,$C$62:$C$116,Таблица1[[#This Row],[Дл]],$D$62:$D$116,\"=500\",$F$62:$F$116,Таблица1[[#This Row],[АСТРА]])","v":0},{"$f":"SUMIFS($N$62:$N$116,$C$62:$C$116,\"<\"&Таблица1[[#This Row],[Дл]],$D$62:$D$116,\"=500\",$F$62:$F$116,Таблица1[[#This Row],[АСТРА]])","v":0},null,null,{"$f":"SUMIFS($J$8:$J$57,$K$8:$K$57,Таблица1[[#This Row],[Столбец5]])","v":0},{"$f":"Таблица1[[#This Row],[пол.мас.цел]]+Таблица1[[#This Row],[пол.мас.дел]]","v":0},{"$f":"SUMIFS($Q$62:$Q$116,$C$62:$C$116,Таблица1[[#This Row],[Дл]],$D$62:$D$116,\"=500\",$F$62:$F$116,Таблица1[[#This Row],[АСТРА]])","v":0},{"$f":"SUMIFS($Q$62:$Q$116,$C$62:$C$116,\"<\"&Таблица1[[#This Row],[Дл]],$D$62:$D$116,\"=500\",$F$62:$F$116,Таблица1[[#This Row],[АСТРА]])","v":0},{"$f":"Таблица1[[#This Row],[ост.с.цел]]+Таблица1[[#This Row],[ост.с.дел]]","v":0},{"$f":"Таблица1[[#This Row],[лом.целых]]+Таблица1[[#This Row],[лом.делов]]-Таблица1[[#This Row],[лом.на.пор.]]","v":0},{"$f":"Таблица1[[#This Row],[лом]]+Таблица1[[#This Row],[корр.масс]]","v":0},{"$f":"SUMIFS($T$62:$T$116,$C$62:$C$116,Таблица1[[#This Row],[Дл]],$D$62:$D$116,\"=500\",$F$62:$F$116,Таблица1[[#This Row],[АСТРА]])","v":0},{"$f":"SUMIFS($T$62:$T$116,$C$62:$C$116,\"<\"&Таблица1[[#This Row],[Дл]],$D$62:$D$116,\"=500\",$F$62:$F$116,Таблица1[[#This Row],[АСТРА]])","v":0},{"$f":"Таблица1[[#This Row],[Столбец17]]+Таблица1[[#This Row],[Столбец18]]+Таблица1[[#This Row],[лом.на.пор.]]","v":0},{"$f":"Таблица1[[#This Row],[Столбец19]]-Таблица1[[#This Row],[корр.масс]]","v":0},null,{"$f":"SUMIFS($X$62:$X$116,$C$62:$C$116,Таблица1[[#This Row],[Дл]],$D$62:$D$116,\"=500\",$F$62:$F$116,Таблица1[[#This Row],[АСТРА]])","v":0},{"$f":"SUMIFS($X$62:$X$116,$C$62:$C$116,\"<\"&Таблица1[[#This Row],[Дл]],$D$62:$D$116,\"=500\",$F$62:$F$116,Таблица1[[#This Row],[АСТРА]])","v":0},{"$f":"Таблица1[[#This Row],[Столбец23]]+Таблица1[[#This Row],[Столбец24]]","v":0},{"$f":"Таблица1[[#This Row],[лом.целых]]+Таблица1[[#This Row],[лом.делов]]-Таблица1[[#This Row],[лом.на.пор.]]","v":0},{"$f":"IF(Таблица1[[#This Row],[резы]]*Таблица1[[#This Row],[шир.рез]]/1000*Таблица1[[#This Row],[коэф]]/2<0,0,Таблица1[[#This Row],[резы]]*Таблица1[[#This Row],[шир.рез]]/1000*Таблица1[[#This Row],[коэф]]/2)","v":0},{"$f":"SUMIFS($Y$62:$Y$116,$C$62:$C$116,Таблица1[[#This Row],[Дл]],$D$62:$D$116,\"=500\",$F$62:$F$116,Таблица1[[#This Row],[АСТРА]])","v":0},{"$f":"SUMIFS($Y$62:$Y$116,$C$62:$C$116,\"<\"&Таблица1[[#This Row],[Дл]],$D$62:$D$116,\"=500\",$F$62:$F$116,Таблица1[[#This Row],[АСТРА]])","v":0},5,{"$f":"IF(Таблица1[[#This Row],[профиль]]=Таблица1[[#This Row],[толщ]],CONCATENATE(Таблица1[[#This Row],[Столбец33]],\" \",Таблица1[[#This Row],[толщ]]),CONCATENATE(Таблица1[[#This Row],[Столбец33]],\" \",Таблица1[[#This Row],[профиль]],\"х\",Таблица1[[#This Row],[толщ]]))","v":"Труба 76х3"},{"$f":"CONCATENATE(Таблица1[[#This Row],[Столбец33]],\" \",Таблица1[[#This Row],[профиль]])","v":"Труба 76"},"Труба 76, 3.0 мм","Труба",{"$f":"IF(Таблица1[[#This Row],[профиль]]=Таблица1[[#This Row],[толщ]],Таблица1[[#This Row],[толщ]],CONCATENATE(Таблица1[[#This Row],[профиль]],\"х\",Таблица1[[#This Row],[точка]]))","v":"76х3"},76,3,{"$f":"SUBSTITUTE(Таблица1[[#This Row],[толщ]],\",\",\".\")","v":"3"},10.8,{"$f":"SUMIFS($U$8:$U$57,$K$8:$K$57,Таблица1[[#This Row],[ГОСТ]])","v":0}]
[{"$f":"IF(Таблица1[[#This Row],[Столбец19]]=0,\"z\",\"\")","v":"z"},null,null,6000,null,{"$f":"SUMIFS($G$62:$G$116,$D$62:$D$116,500,$C$62:$C$116,Таблица1[[#This Row],[Дл]],$F$62:$F$116,Таблица1[[#This Row],[АСТРА]])","v":0},{"$f":"Таблица1[[#This Row],[толщ]]","v":1.8},{"$f":"Таблица1[[#This Row],[ГОСТ]]","v":"Труба 80х30х1,8"},{"$f":"SUMIFS($N$62:$N$116,$C$62:$C$116,Таблица1[[#This Row],[Дл]],$D$62:$D$116,\"=500\",$F$62:$F$116,Таблица1[[#This Row],[АСТРА]])","v":0},{"$f":"SUMIFS($N$62:$N$116,$C$62:$C$116,\"<\"&Таблица1[[#This Row],[Дл]],$D$62:$D$116,\"=500\",$F$62:$F$116,Таблица1[[#This Row],[АСТРА]])","v":0},null,null,{"$f":"SUMIFS($J$8:$J$57,$K$8:$K$57,Таблица1[[#This Row],[Столбец5]])","v":0},{"$f":"Таблица1[[#This Row],[пол.мас.цел]]+Таблица1[[#This Row],[пол.мас.дел]]","v":0},{"$f":"SUMIFS($Q$62:$Q$116,$C$62:$C$116,Таблица1[[#This Row],[Дл]],$D$62:$D$116,\"=500\",$F$62:$F$116,Таблица1[[#This Row],[АСТРА]])","v":0},{"$f":"SUMIFS($Q$62:$Q$116,$C$62:$C$116,\"<\"&Таблица1[[#This Row],[Дл]],$D$62:$D$116,\"=500\",$F$62:$F$116,Таблица1[[#This Row],[АСТРА]])","v":0},{"$f":"Таблица1[[#This Row],[ост.с.цел]]+Таблица1[[#This Row],[ост.с.дел]]","v":0},{"$f":"Таблица1[[#This Row],[лом.целых]]+Таблица1[[#This Row],[лом.делов]]-Таблица1[[#This Row],[лом.на.пор.]]","v":0},{"$f":"Таблица1[[#This Row],[лом]]+Таблица1[[#This Row],[корр.масс]]","v":0},{"$f":"SUMIFS($T$62:$T$116,$C$62:$C$116,Таблица1[[#This Row],[Дл]],$D$62:$D$116,\"=500\",$F$62:$F$116,Таблица1[[#This Row],[АСТРА]])","v":0},{"$f":"SUMIFS($T$62:$T$116,$C$62:$C$116,\"<\"&Таблица1[[#This Row],[Дл]],$D$62:$D$116,\"=500\",$F$62:$F$116,Таблица1[[#This Row],[АСТРА]])","v":0},{"$f":"Таблица1[[#This Row],[Столбец17]]+Таблица1[[#This Row],[Столбец18]]+Таблица1[[#This Row],[лом.на.пор.]]","v":0},{"$f":"Таблица1[[#This Row],[Столбец19]]-Таблица1[[#This Row],[корр.масс]]","v":0},null,{"$f":"SUMIFS($X$62:$X$116,$C$62:$C$116,Таблица1[[#This Row],[Дл]],$D$62:$D$116,\"=500\",$F$62:$F$116,Таблица1[[#This Row],[АСТРА]])","v":0},{"$f":"SUMIFS($X$62:$X$116,$C$62:$C$116,\"<\"&Таблица1[[#This Row],[Дл]],$D$62:$D$116,\"=500\",$F$62:$F$116,Таблица1[[#This Row],[АСТРА]])","v":0},{"$f":"Таблица1[[#This Row],[Столбец23]]+Таблица1[[#This Row],[Столбец24]]","v":0},{"$f":"Таблица1[[#This Row],[лом.целых]]+Таблица1[[#This Row],[лом.делов]]-Таблица1[[#This Row],[лом.на.пор.]]","v":0},{"$f":"IF(Таблица1[[#This Row],[резы]]*Таблица1[[#This Row],[шир.рез]]/1000*Таблица1[[#This Row],[коэф]]/2<0,0,Таблица1[[#This Row],[резы]]*Таблица1[[#This Row],[шир.рез]]/1000*Таблица1[[#This Row],[коэф]]/2)","v":0},{"$f":"SUMIFS($Y$62:$Y$116,$C$62:$C$116,Таблица1[[#This Row],[Дл]],$D$62:$D$116,\"=500\",$F$62:$F$116,Таблица1[[#This Row],[АСТРА]])","v":0},{"$f":"SUMIFS($Y$62:$Y$116,$C$62:$C$116,\"<\"&Таблица1[[#This Row],[Дл]],$D$62:$D$116,\"=500\",$F$62:$F$116,Таблица1[[#This Row],[АСТРА]])","v":0},5,{"$f":"IF(Таблица1[[#This Row],[профиль]]=Таблица1[[#This Row],[толщ]],CONCATENATE(Таблица1[[#This Row],[Столбец33]],\" \",Таблица1[[#This Row],[толщ]]),CONCATENATE(Таблица1[[#This Row],[Столбец33]],\" \",Таблица1[[#This Row],[профиль]],\"х\",Таблица1[[#This Row],[толщ]]))","v":"Труба 80х30х1,8"},{"$f":"CONCATENATE(Таблица1[[#This Row],[Столбец33]],\" \",Таблица1[[#This Row],[профиль]])","v":"Труба 80х30"},"Труба 80х30, 1.8 мм, тр3080","Труба",{"$f":"IF(Таблица1[[#This Row],[профиль]]=Таблица1[[#This Row],[толщ]],Таблица1[[#This Row],[толщ]],CONCATENATE(Таблица1[[#This Row],[профиль]],\"х\",Таблица1[[#This Row],[точка]]))","v":"80х30х1.8"},"80х30",1.8,{"$f":"SUBSTITUTE(Таблица1[[#This Row],[толщ]],\",\",\".\")","v":"1.8"},5.93,{"$f":"SUMIFS($U$8:$U$57,$K$8:$K$57,Таблица1[[#This Row],[ГОСТ]])","v":0}]
[{"$f":"IF(Таблица1[[#This Row],[Столбец19]]=0,\"z\",\"\")","v":"z"},null,null,6000,null,{"$f":"SUMIFS($G$62:$G$116,$D$62:$D$116,500,$C$62:$C$116,Таблица1[[#This Row],[Дл]],$F$62:$F$116,Таблица1[[#This Row],[АСТРА]])","v":0},{"$f":"Таблица1[[#This Row],[толщ]]","v":2},{"$f":"Таблица1[[#This Row],[ГОСТ]]","v":"Труба 80х30х2"},{"$f":"SUMIFS($N$62:$N$116,$C$62:$C$116,Таблица1[[#This Row],[Дл]],$D$62:$D$116,\"=500\",$F$62:$F$116,Таблица1[[#This Row],[АСТРА]])","v":0},{"$f":"SUMIFS($N$62:$N$116,$C$62:$C$116,\"<\"&Таблица1[[#This Row],[Дл]],$D$62:$D$116,\"=500\",$F$62:$F$116,Таблица1[[#This Row],[АСТРА]])","v":0},null,null,{"$f":"SUMIFS($J$8:$J$57,$K$8:$K$57,Таблица1[[#This Row],[Столбец5]])","v":0},{"$f":"Таблица1[[#This Row],[пол.мас.цел]]+Таблица1[[#This Row],[пол.мас.дел]]","v":0},{"$f":"SUMIFS($Q$62:$Q$116,$C$62:$C$116,Таблица1[[#This Row],[Дл]],$D$62:$D$116,\"=500\",$F$62:$F$116,Таблица1[[#This Row],[АСТРА]])","v":0},{"$f":"SUMIFS($Q$62:$Q$116,$C$62:$C$116,\"<\"&Таблица1[[#This Row],[Дл]],$D$62:$D$116,\"=500\",$F$62:$F$116,Таблица1[[#This Row],[АСТРА]])","v":0},{"$f":"Таблица1[[#This Row],[ост.с.цел]]+Таблица1[[#This Row],[ост.с.дел]]","v":0},{"$f":"Таблица1[[#This Row],[лом.целых]]+Таблица1[[#This Row],[лом.делов]]-Таблица1[[#This Row],[лом.на.пор.]]","v":0},{"$f":"Таблица1[[#This Row],[лом]]+Таблица1[[#This Row],[корр.масс]]","v":0},{"$f":"SUMIFS($T$62:$T$116,$C$62:$C$116,Таблица1[[#This Row],[Дл]],$D$62:$D$116,\"=500\",$F$62:$F$116,Таблица1[[#This Row],[АСТРА]])","v":0},{"$f":"SUMIFS($T$62:$T$116,$C$62:$C$116,\"<\"&Таблица1[[#This Row],[Дл]],$D$62:$D$116,\"=500\",$F$62:$F$116,Таблица1[[#This Row],[АСТРА]])","v":0},{"$f":"Таблица1[[#This Row],[Столбец17]]+Таблица1[[#This Row],[Столбец18]]+Таблица1[[#This Row],[лом.на.пор.]]","v":0},{"$f":"Таблица1[[#This Row],[Столбец19]]-Таблица1[[#This Row],[корр.масс]]","v":0},null,{"$f":"SUMIFS($X$62:$X$116,$C$62:$C$116,Таблица1[[#This Row],[Дл]],$D$62:$D$116,\"=500\",$F$62:$F$116,Таблица1[[#This Row],[АСТРА]])","v":0},{"$f":"SUMIFS($X$62:$X$116,$C$62:$C$116,\"<\"&Таблица1[[#This Row],[Дл]],$D$62:$D$116,\"=500\",$F$62:$F$116,Таблица1[[#This Row],[АСТРА]])","v":0},{"$f":"Таблица1[[#This Row],[Столбец23]]+Таблица1[[#This Row],[Столбец24]]","v":0},{"$f":"Таблица1[[#This Row],[лом.целых]]+Таблица1[[#This Row],[лом.делов]]-Таблица1[[#This Row],[лом.на.пор.]]","v":0},{"$f":"IF(Таблица1[[#This Row],[резы]]*Таблица1[[#This Row],[шир.рез]]/1000*Таблица1[[#This Row],[коэф]]/2<0,0,Таблица1[[#This Row],[резы]]*Таблица1[[#This Row],[шир.рез]]/1000*Таблица1[[#This Row],[коэф]]/2)","v":0},{"$f":"SUMIFS($Y$62:$Y$116,$C$62:$C$116,Таблица1[[#This Row],[Дл]],$D$62:$D$116,\"=500\",$F$62:$F$116,Таблица1[[#This Row],[АСТРА]])","v":0},{"$f":"SUMIFS($Y$62:$Y$116,$C$62:$C$116,\"<\"&Таблица1[[#This Row],[Дл]],$D$62:$D$116,\"=500\",$F$62:$F$116,Таблица1[[#This Row],[АСТРА]])","v":0},5,{"$f":"IF(Таблица1[[#This Row],[профиль]]=Таблица1[[#This Row],[толщ]],CONCATENATE(Таблица1[[#This Row],[Столбец33]],\" \",Таблица1[[#This Row],[толщ]]),CONCATENATE(Таблица1[[#This Row],[Столбец33]],\" \",Таблица1[[#This Row],[профиль]],\"х\",Таблица1[[#This Row],[толщ]]))","v":"Труба 80х30х2"},{"$f":"CONCATENATE(Таблица1[[#This Row],[Столбец33]],\" \",Таблица1[[#This Row],[профиль]])","v":"Труба 80х30"},"Труба 80х30, 2.0 мм, тр3080","Труба",{"$f":"IF(Таблица1[[#This Row],[профиль]]=Таблица1[[#This Row],[толщ]],Таблица1[[#This Row],[толщ]],CONCATENATE(Таблица1[[#This Row],[профиль]],\"х\",Таблица1[[#This Row],[точка]]))","v":"80х30х2"},"80х30",2,{"$f":"SUBSTITUTE(Таблица1[[#This Row],[толщ]],\",\",\".\")","v":"2"},6.55,{"$f":"SUMIFS($U$8:$U$57,$K$8:$K$57,Таблица1[[#This Row],[ГОСТ]])","v":0}]
[{"$f":"IF(Таблица1[[#This Row],[Столбец19]]=0,\"z\",\"\")","v":"z"},null,null,6000,null,{"$f":"SUMIFS($G$62:$G$116,$D$62:$D$116,500,$C$62:$C$116,Таблица1[[#This Row],[Дл]],$F$62:$F$116,Таблица1[[#This Row],[АСТРА]])","v":0},{"$f":"Таблица1[[#This Row],[толщ]]","v":2},{"$f":"Таблица1[[#This Row],[ГОСТ]]","v":"Труба 80х40х2"},{"$f":"SUMIFS($N$62:$N$116,$C$62:$C$116,Таблица1[[#This Row],[Дл]],$D$62:$D$116,\"=500\",$F$62:$F$116,Таблица1[[#This Row],[АСТРА]])","v":0},{"$f":"SUMIFS($N$62:$N$116,$C$62:$C$116,\"<\"&Таблица1[[#This Row],[Дл]],$D$62:$D$116,\"=500\",$F$62:$F$116,Таблица1[[#This Row],[АСТРА]])","v":0},null,null,{"$f":"SUMIFS($J$8:$J$57,$K$8:$K$57,Таблица1[[#This Row],[Столбец5]])","v":0},{"$f":"Таблица1[[#This Row],[пол.мас.цел]]+Таблица1[[#This Row],[пол.мас.дел]]","v":0},{"$f":"SUMIFS($Q$62:$Q$116,$C$62:$C$116,Таблица1[[#This Row],[Дл]],$D$62:$D$116,\"=500\",$F$62:$F$116,Таблица1[[#This Row],[АСТРА]])","v":0},{"$f":"SUMIFS($Q$62:$Q$116,$C$62:$C$116,\"<\"&Таблица1[[#This Row],[Дл]],$D$62:$D$116,\"=500\",$F$62:$F$116,Таблица1[[#This Row],[АСТРА]])","v":0},{"$f":"Таблица1[[#This Row],[ост.с.цел]]+Таблица1[[#This Row],[ост.с.дел]]","v":0},{"$f":"Таблица1[[#This Row],[лом.целых]]+Таблица1[[#This Row],[лом.делов]]-Таблица1[[#This Row],[лом.на.пор.]]","v":0},{"$f":"Таблица1[[#This Row],[лом]]+Таблица1[[#This Row],[корр.масс]]","v":0},{"$f":"SUMIFS($T$62:$T$116,$C$62:$C$116,Таблица1[[#This Row],[Дл]],$D$62:$D$116,\"=500\",$F$62:$F$116,Таблица1[[#This Row],[АСТРА]])","v":0},{"$f":"SUMIFS($T$62:$T$116,$C$62:$C$116,\"<\"&Таблица1[[#This Row],[Дл]],$D$62:$D$116,\"=500\",$F$62:$F$116,Таблица1[[#This Row],[АСТРА]])","v":0},{"$f":"Таблица1[[#This Row],[Столбец17]]+Таблица1[[#This Row],[Столбец18]]+Таблица1[[#This Row],[лом.на.пор.]]","v":0},{"$f":"Таблица1[[#This Row],[Столбец19]]-Таблица1[[#This Row],[корр.масс]]","v":0},null,{"$f":"SUMIFS($X$62:$X$116,$C$62:$C$116,Таблица1[[#This Row],[Дл]],$D$62:$D$116,\"=500\",$F$62:$F$116,Таблица1[[#This Row],[АСТРА]])","v":0},{"$f":"SUMIFS($X$62:$X$116,$C$62:$C$116,\"<\"&Таблица1[[#This Row],[Дл]],$D$62:$D$116,\"=500\",$F$62:$F$116,Таблица1[[#This Row],[АСТРА]])","v":0},{"$f":"Таблица1[[#This Row],[Столбец23]]+Таблица1[[#This Row],[Столбец24]]","v":0},{"$f":"Таблица1[[#This Row],[лом.целых]]+Таблица1[[#This Row],[лом.делов]]-Таблица1[[#This Row],[лом.на.пор.]]","v":0},{"$f":"IF(Таблица1[[#This Row],[резы]]*Таблица1[[#This Row],[шир.рез]]/1000*Таблица1[[#This Row],[коэф]]/2<0,0,Таблица1[[#This Row],[резы]]*Таблица1[[#This Row],[шир.рез]]/1000*Таблица1[[#This Row],[коэф]]/2)","v":0},{"$f":"SUMIFS($Y$62:$Y$116,$C$62:$C$116,Таблица1[[#This Row],[Дл]],$D$62:$D$116,\"=500\",$F$62:$F$116,Таблица1[[#This Row],[АСТРА]])","v":0},{"$f":"SUMIFS($Y$62:$Y$116,$C$62:$C$116,\"<\"&Таблица1[[#This Row],[Дл]],$D$62:$D$116,\"=500\",$F$62:$F$116,Таблица1[[#This Row],[АСТРА]])","v":0},5,{"$f":"IF(Таблица1[[#This Row],[профиль]]=Таблица1[[#This Row],[толщ]],CONCATENATE(Таблица1[[#This Row],[Столбец33]],\" \",Таблица1[[#This Row],[толщ]]),CONCATENATE(Таблица1[[#This Row],[Столбец33]],\" \",Таблица1[[#This Row],[профиль]],\"х\",Таблица1[[#This Row],[толщ]]))","v":"Труба 80х40х2"},{"$f":"CONCATENATE(Таблица1[[#This Row],[Столбец33]],\" \",Таблица1[[#This Row],[профиль]])","v":"Труба 80х40"},"Труба 80х40, 2.0 мм, тр4080","Труба",{"$f":"IF(Таблица1[[#This Row],[профиль]]=Таблица1[[#This Row],[толщ]],Таблица1[[#This Row],[толщ]],CONCATENATE(Таблица1[[#This Row],[профиль]],\"х\",Таблица1[[#This Row],[точка]]))","v":"80х40х2"},"80х40",2,{"$f":"SUBSTITUTE(Таблица1[[#This Row],[толщ]],\",\",\".\")","v":"2"},7.18,{"$f":"SUMIFS($U$8:$U$57,$K$8:$K$57,Таблица1[[#This Row],[ГОСТ]])","v":0}]
[{"$f":"IF(Таблица1[[#This Row],[Столбец19]]=0,\"z\",\"\")","v":"z"},null,null,3000,null,{"$f":"SUMIFS($G$62:$G$116,$D$62:$D$116,500,$C$62:$C$116,Таблица1[[#This Row],[Дл]],$F$62:$F$116,Таблица1[[#This Row],[АСТРА]])","v":0},{"$f":"Таблица1[[#This Row],[толщ]]","v":3},{"$f":"Таблица1[[#This Row],[ГОСТ]]","v":"Труба 80х80х3"},{"$f":"SUMIFS($N$62:$N$116,$C$62:$C$116,Таблица1[[#This Row],[Дл]],$D$62:$D$116,\"=500\",$F$62:$F$116,Таблица1[[#This Row],[АСТРА]])","v":0},{"$f":"SUMIFS($N$62:$N$116,$C$62:$C$116,\"<\"&Таблица1[[#This Row],[Дл]],$D$62:$D$116,\"=500\",$F$62:$F$116,Таблица1[[#This Row],[АСТРА]])","v":0},null,null,{"$f":"SUMIFS($J$8:$J$57,$K$8:$K$57,Таблица1[[#This Row],[Столбец5]])","v":0},{"$f":"Таблица1[[#This Row],[пол.мас.цел]]+Таблица1[[#This Row],[пол.мас.дел]]","v":0},{"$f":"SUMIFS($Q$62:$Q$116,$C$62:$C$116,Таблица1[[#This Row],[Дл]],$D$62:$D$116,\"=500\",$F$62:$F$116,Таблица1[[#This Row],[АСТРА]])","v":0},{"$f":"SUMIFS($Q$62:$Q$116,$C$62:$C$116,\"<\"&Таблица1[[#This Row],[Дл]],$D$62:$D$116,\"=500\",$F$62:$F$116,Таблица1[[#This Row],[АСТРА]])","v":0},{"$f":"Таблица1[[#This Row],[ост.с.цел]]+Таблица1[[#This Row],[ост.с.дел]]","v":0},{"$f":"Таблица1[[#This Row],[лом.целых]]+Таблица1[[#This Row],[лом.делов]]-Таблица1[[#This Row],[лом.на.пор.]]","v":0},{"$f":"Таблица1[[#This Row],[лом]]+Таблица1[[#This Row],[корр.масс]]","v":0},{"$f":"SUMIFS($T$62:$T$116,$C$62:$C$116,Таблица1[[#This Row],[Дл]],$D$62:$D$116,\"=500\",$F$62:$F$116,Таблица1[[#This Row],[АСТРА]])","v":0},{"$f":"SUMIFS($T$62:$T$116,$C$62:$C$116,\"<\"&Таблица1[[#This Row],[Дл]],$D$62:$D$116,\"=500\",$F$62:$F$116,Таблица1[[#This Row],[АСТРА]])","v":0},{"$f":"Таблица1[[#This Row],[Столбец17]]+Таблица1[[#This Row],[Столбец18]]+Таблица1[[#This Row],[лом.на.пор.]]","v":0},{"$f":"Таблица1[[#This Row],[Столбец19]]-Таблица1[[#This Row],[корр.масс]]","v":0},null,{"$f":"SUMIFS($X$62:$X$116,$C$62:$C$116,Таблица1[[#This Row],[Дл]],$D$62:$D$116,\"=500\",$F$62:$F$116,Таблица1[[#This Row],[АСТРА]])","v":0},{"$f":"SUMIFS($X$62:$X$116,$C$62:$C$116,\"<\"&Таблица1[[#This Row],[Дл]],$D$62:$D$116,\"=500\",$F$62:$F$116,Таблица1[[#This Row],[АСТРА]])","v":0},{"$f":"Таблица1[[#This Row],[Столбец23]]+Таблица1[[#This Row],[Столбец24]]","v":0},{"$f":"Таблица1[[#This Row],[лом.целых]]+Таблица1[[#This Row],[лом.делов]]-Таблица1[[#This Row],[лом.на.пор.]]","v":0},{"$f":"IF(Таблица1[[#This Row],[резы]]*Таблица1[[#This Row],[шир.рез]]/1000*Таблица1[[#This Row],[коэф]]/2<0,0,Таблица1[[#This Row],[резы]]*Таблица1[[#This Row],[шир.рез]]/1000*Таблица1[[#This Row],[коэф]]/2)","v":0},{"$f":"SUMIFS($Y$62:$Y$116,$C$62:$C$116,Таблица1[[#This Row],[Дл]],$D$62:$D$116,\"=500\",$F$62:$F$116,Таблица1[[#This Row],[АСТРА]])","v":0},{"$f":"SUMIFS($Y$62:$Y$116,$C$62:$C$116,\"<\"&Таблица1[[#This Row],[Дл]],$D$62:$D$116,\"=500\",$F$62:$F$116,Таблица1[[#This Row],[АСТРА]])","v":0},5,{"$f":"IF(Таблица1[[#This Row],[профиль]]=Таблица1[[#This Row],[толщ]],CONCATENATE(Таблица1[[#This Row],[Столбец33]],\" \",Таблица1[[#This Row],[толщ]]),CONCATENATE(Таблица1[[#This Row],[Столбец33]],\" \",Таблица1[[#This Row],[профиль]],\"х\",Таблица1[[#This Row],[толщ]]))","v":"Труба 80х80х3"},{"$f":"CONCATENATE(Таблица1[[#This Row],[Столбец33]],\" \",Таблица1[[#This Row],[профиль]])","v":"Труба 80х80"},"Труба 80х80, 3.0 мм","Труба",{"$f":"IF(Таблица1[[#This Row],[профиль]]=Таблица1[[#This Row],[толщ]],Таблица1[[#This Row],[толщ]],CONCATENATE(Таблица1[[#This Row],[профиль]],\"х\",Таблица1[[#This Row],[точка]]))","v":"80х80х3"},"80х80",3,{"$f":"SUBSTITUTE(Таблица1[[#This Row],[толщ]],\",\",\".\")","v":"3"},14.26,{"$f":"SUMIFS($U$8:$U$57,$K$8:$K$57,Таблица1[[#This Row],[ГОСТ]])","v":0}]
[{"$f":"IF(Таблица1[[#This Row],[Столбец19]]=0,\"z\",\"\")","v":"z"},null,null,6000,null,{"$f":"SUMIFS($G$62:$G$116,$D$62:$D$116,500,$C$62:$C$116,Таблица1[[#This Row],[Дл]],$F$62:$F$116,Таблица1[[#This Row],[АСТРА]])","v":0},{"$f":"Таблица1[[#This Row],[толщ]]","v":1.5},{"$f":"Таблица1[[#This Row],[ГОСТ]]","v":"Труба Ал.анод. 25х1,5"},{"$f":"SUMIFS($N$62:$N$116,$C$62:$C$116,Таблица1[[#This Row],[Дл]],$D$62:$D$116,\"=500\",$F$62:$F$116,Таблица1[[#This Row],[АСТРА]])","v":0},{"$f":"SUMIFS($N$62:$N$116,$C$62:$C$116,\"<\"&Таблица1[[#This Row],[Дл]],$D$62:$D$116,\"=500\",$F$62:$F$116,Таблица1[[#This Row],[АСТРА]])","v":0},null,null,{"$f":"SUMIFS($J$8:$J$57,$K$8:$K$57,Таблица1[[#This Row],[Столбец5]])","v":0},{"$f":"Таблица1[[#This Row],[пол.мас.цел]]+Таблица1[[#This Row],[пол.мас.дел]]","v":0},{"$f":"SUMIFS($Q$62:$Q$116,$C$62:$C$116,Таблица1[[#This Row],[Дл]],$D$62:$D$116,\"=500\",$F$62:$F$116,Таблица1[[#This Row],[АСТРА]])","v":0},{"$f":"SUMIFS($Q$62:$Q$116,$C$62:$C$116,\"<\"&Таблица1[[#This Row],[Дл]],$D$62:$D$116,\"=500\",$F$62:$F$116,Таблица1[[#This Row],[АСТРА]])","v":0},{"$f":"Таблица1[[#This Row],[ост.с.цел]]+Таблица1[[#This Row],[ост.с.дел]]","v":0},{"$f":"Таблица1[[#This Row],[лом.целых]]+Таблица1[[#This Row],[лом.делов]]-Таблица1[[#This Row],[лом.на.пор.]]","v":0},{"$f":"Таблица1[[#This Row],[лом]]+Таблица1[[#This Row],[корр.масс]]","v":0},{"$f":"SUMIFS($T$62:$T$116,$C$62:$C$116,Таблица1[[#This Row],[Дл]],$D$62:$D$116,\"=500\",$F$62:$F$116,Таблица1[[#This Row],[АСТРА]])","v":0},{"$f":"SUMIFS($T$62:$T$116,$C$62:$C$116,\"<\"&Таблица1[[#This Row],[Дл]],$D$62:$D$116,\"=500\",$F$62:$F$116,Таблица1[[#This Row],[АСТРА]])","v":0},{"$f":"Таблица1[[#This Row],[Столбец17]]+Таблица1[[#This Row],[Столбец18]]+Таблица1[[#This Row],[лом.на.пор.]]","v":0},{"$f":"Таблица1[[#This Row],[Столбец19]]-Таблица1[[#This Row],[корр.масс]]","v":0},null,{"$f":"SUMIFS($X$62:$X$116,$C$62:$C$116,Таблица1[[#This Row],[Дл]],$D$62:$D$116,\"=500\",$F$62:$F$116,Таблица1[[#This Row],[АСТРА]])","v":0},{"$f":"SUMIFS($X$62:$X$116,$C$62:$C$116,\"<\"&Таблица1[[#This Row],[Дл]],$D$62:$D$116,\"=500\",$F$62:$F$116,Таблица1[[#This Row],[АСТРА]])","v":0},{"$f":"Таблица1[[#This Row],[Столбец23]]+Таблица1[[#This Row],[Столбец24]]","v":0},{"$f":"Таблица1[[#This Row],[лом.целых]]+Таблица1[[#This Row],[лом.делов]]-Таблица1[[#This Row],[лом.на.пор.]]","v":0},{"$f":"IF(Таблица1[[#This Row],[резы]]*Таблица1[[#This Row],[шир.рез]]/1000*Таблица1[[#This Row],[коэф]]/2<0,0,Таблица1[[#This Row],[резы]]*Таблица1[[#This Row],[шир.рез]]/1000*Таблица1[[#This Row],[коэф]]/2)","v":0},{"$f":"SUMIFS($Y$62:$Y$116,$C$62:$C$116,Таблица1[[#This Row],[Дл]],$D$62:$D$116,\"=500\",$F$62:$F$116,Таблица1[[#This Row],[АСТРА]])","v":0},{"$f":"SUMIFS($Y$62:$Y$116,$C$62:$C$116,\"<\"&Таблица1[[#This Row],[Дл]],$D$62:$D$116,\"=500\",$F$62:$F$116,Таблица1[[#This Row],[АСТРА]])","v":0},5,{"$f":"IF(Таблица1[[#This Row],[профиль]]=Таблица1[[#This Row],[толщ]],CONCATENATE(Таблица1[[#This Row],[Столбец33]],\" \",Таблица1[[#This Row],[толщ]]),CONCATENATE(Таблица1[[#This Row],[Столбец33]],\" \",Таблица1[[#This Row],[профиль]],\"х\",Таблица1[[#This Row],[толщ]]))","v":"Труба Ал.анод. 25х1,5"},{"$f":"CONCATENATE(Таблица1[[#This Row],[Столбец33]],\" \",Таблица1[[#This Row],[профиль]])","v":"Труба Ал.анод. 25"},"Труба Ал.анод. 25, 1.5 мм","Труба Ал.анод.",{"$f":"IF(Таблица1[[#This Row],[профиль]]=Таблица1[[#This Row],[толщ]],Таблица1[[#This Row],[толщ]],CONCATENATE(Таблица1[[#This Row],[профиль]],\"х\",Таблица1[[#This Row],[точка]]))","v":"25х1.5"},25,1.5,{"$f":"SUBSTITUTE(Таблица1[[#This Row],[толщ]],\",\",\".\")","v":"1.5"},0.6,{"$f":"SUMIFS($U$8:$U$57,$K$8:$K$57,Таблица1[[#This Row],[ГОСТ]])","v":0}]
[{"$f":"IF(Таблица1[[#This Row],[Столбец19]]=0,\"z\",\"\")","v":"z"},null,null,3000,null,{"$f":"SUMIFS($G$62:$G$116,$D$62:$D$116,500,$C$62:$C$116,Таблица1[[#This Row],[Дл]],$F$62:$F$116,Таблица1[[#This Row],[АСТРА]])","v":0},{"$f":"Таблица1[[#This Row],[толщ]]","v":2.8},{"$f":"Таблица1[[#This Row],[ГОСТ]]","v":"Труба ДУ15х2,8"},{"$f":"SUMIFS($N$62:$N$116,$C$62:$C$116,Таблица1[[#This Row],[Дл]],$D$62:$D$116,\"=500\",$F$62:$F$116,Таблица1[[#This Row],[АСТРА]])","v":0},{"$f":"SUMIFS($N$62:$N$116,$C$62:$C$116,\"<\"&Таблица1[[#This Row],[Дл]],$D$62:$D$116,\"=500\",$F$62:$F$116,Таблица1[[#This Row],[АСТРА]])","v":0},null,null,{"$f":"SUMIFS($J$8:$J$57,$K$8:$K$57,Таблица1[[#This Row],[Столбец5]])","v":0},{"$f":"Таблица1[[#This Row],[пол.мас.цел]]+Таблица1[[#This Row],[пол.мас.дел]]","v":0},{"$f":"SUMIFS($Q$62:$Q$116,$C$62:$C$116,Таблица1[[#This Row],[Дл]],$D$62:$D$116,\"=500\",$F$62:$F$116,Таблица1[[#This Row],[АСТРА]])","v":0},{"$f":"SUMIFS($Q$62:$Q$116,$C$62:$C$116,\"<\"&Таблица1[[#This Row],[Дл]],$D$62:$D$116,\"=500\",$F$62:$F$116,Таблица1[[#This Row],[АСТРА]])","v":0},{"$f":"Таблица1[[#This Row],[ост.с.цел]]+Таблица1[[#This Row],[ост.с.дел]]","v":0},{"$f":"Таблица1[[#This Row],[лом.целых]]+Таблица1[[#This Row],[лом.делов]]-Таблица1[[#This Row],[лом.на.пор.]]","v":0},{"$f":"Таблица1[[#This Row],[лом]]+Таблица1[[#This Row],[корр.масс]]","v":0},{"$f":"SUMIFS($T$62:$T$116,$C$62:$C$116,Таблица1[[#This Row],[Дл]],$D$62:$D$116,\"=500\",$F$62:$F$116,Таблица1[[#This Row],[АСТРА]])","v":0},{"$f":"SUMIFS($T$62:$T$116,$C$62:$C$116,\"<\"&Таблица1[[#This Row],[Дл]],$D$62:$D$116,\"=500\",$F$62:$F$116,Таблица1[[#This Row],[АСТРА]])","v":0},{"$f":"Таблица1[[#This Row],[Столбец17]]+Таблица1[[#This Row],[Столбец18]]+Таблица1[[#This Row],[лом.на.пор.]]","v":0},{"$f":"Таблица1[[#This Row],[Столбец19]]-Таблица1[[#This Row],[корр.масс]]","v":0},null,{"$f":"SUMIFS($X$62:$X$116,$C$62:$C$116,Таблица1[[#This Row],[Дл]],$D$62:$D$116,\"=500\",$F$62:$F$116,Таблица1[[#This Row],[АСТРА]])","v":0},{"$f":"SUMIFS($X$62:$X$116,$C$62:$C$116,\"<\"&Таблица1[[#This Row],[Дл]],$D$62:$D$116,\"=500\",$F$62:$F$116,Таблица1[[#This Row],[АСТРА]])","v":0},{"$f":"Таблица1[[#This Row],[Столбец23]]+Таблица1[[#This Row],[Столбец24]]","v":0},{"$f":"Таблица1[[#This Row],[лом.целых]]+Таблица1[[#This Row],[лом.делов]]-Таблица1[[#This Row],[лом.на.пор.]]","v":0},{"$f":"IF(Таблица1[[#This Row],[резы]]*Таблица1[[#This Row],[шир.рез]]/1000*Таблица1[[#This Row],[коэф]]/2<0,0,Таблица1[[#This Row],[резы]]*Таблица1[[#This Row],[шир.рез]]/1000*Таблица1[[#This Row],[коэф]]/2)","v":0},{"$f":"SUMIFS($Y$62:$Y$116,$C$62:$C$116,Таблица1[[#This Row],[Дл]],$D$62:$D$116,\"=500\",$F$62:$F$116,Таблица1[[#This Row],[АСТРА]])","v":0},{"$f":"SUMIFS($Y$62:$Y$116,$C$62:$C$116,\"<\"&Таблица1[[#This Row],[Дл]],$D$62:$D$116,\"=500\",$F$62:$F$116,Таблица1[[#This Row],[АСТРА]])","v":0},5,{"$f":"IF(Таблица1[[#This Row],[профиль]]=Таблица1[[#This Row],[толщ]],CONCATENATE(Таблица1[[#This Row],[Столбец33]],\" \",Таблица1[[#This Row],[толщ]]),CONCATENATE(Таблица1[[#This Row],[Столбец33]],\" \",Таблица1[[#This Row],[профиль]],\"х\",Таблица1[[#This Row],[толщ]]))","v":"Труба ДУ15х2,8"},{"$f":"CONCATENATE(Таблица1[[#This Row],[Столбец33]],\" \",Таблица1[[#This Row],[профиль]])","v":"Труба ДУ15"},"Труба ДУ15, 2.8 мм","Труба",{"$f":"IF(Таблица1[[#This Row],[профиль]]=Таблица1[[#This Row],[толщ]],Таблица1[[#This Row],[толщ]],CONCATENATE(Таблица1[[#This Row],[профиль]],\"х\",Таблица1[[#This Row],[точка]]))","v":"ДУ15х2.8"},"ДУ15",2.8,{"$f":"SUBSTITUTE(Таблица1[[#This Row],[толщ]],\",\",\".\")","v":"2.8"},{"$f":"1.28*2","v":2.56},{"$f":"SUMIFS($U$8:$U$57,$K$8:$K$57,Таблица1[[#This Row],[ГОСТ]])","v":0}]
[{"$f":"IF(Таблица1[[#This Row],[Столбец19]]=0,\"z\",\"\")","v":"z"},null,null,3000,null,{"$f":"SUMIFS($G$62:$G$116,$D$62:$D$116,500,$C$62:$C$116,Таблица1[[#This Row],[Дл]],$F$62:$F$116,Таблица1[[#This Row],[АСТРА]])","v":0},{"$f":"Таблица1[[#This Row],[толщ]]","v":2.8},{"$f":"Таблица1[[#This Row],[ГОСТ]]","v":"Труба ДУ20х2,8"},{"$f":"SUMIFS($N$62:$N$116,$C$62:$C$116,Таблица1[[#This Row],[Дл]],$D$62:$D$116,\"=500\",$F$62:$F$116,Таблица1[[#This Row],[АСТРА]])","v":0},{"$f":"SUMIFS($N$62:$N$116,$C$62:$C$116,\"<\"&Таблица1[[#This Row],[Дл]],$D$62:$D$116,\"=500\",$F$62:$F$116,Таблица1[[#This Row],[АСТРА]])","v":0},null,null,{"$f":"SUMIFS($J$8:$J$57,$K$8:$K$57,Таблица1[[#This Row],[Столбец5]])","v":0},{"$f":"Таблица1[[#This Row],[пол.мас.цел]]+Таблица1[[#This Row],[пол.мас.дел]]","v":0},{"$f":"SUMIFS($Q$62:$Q$116,$C$62:$C$116,Таблица1[[#This Row],[Дл]],$D$62:$D$116,\"=500\",$F$62:$F$116,Таблица1[[#This Row],[АСТРА]])","v":0},{"$f":"SUMIFS($Q$62:$Q$116,$C$62:$C$116,\"<\"&Таблица1[[#This Row],[Дл]],$D$62:$D$116,\"=500\",$F$62:$F$116,Таблица1[[#This Row],[АСТРА]])","v":0},{"$f":"Таблица1[[#This Row],[ост.с.цел]]+Таблица1[[#This Row],[ост.с.дел]]","v":0},{"$f":"Таблица1[[#This Row],[лом.целых]]+Таблица1[[#This Row],[лом.делов]]-Таблица1[[#This Row],[лом.на.пор.]]","v":0},{"$f":"Таблица1[[#This Row],[лом]]+Таблица1[[#This Row],[корр.масс]]","v":0},{"$f":"SUMIFS($T$62:$T$116,$C$62:$C$116,Таблица1[[#This Row],[Дл]],$D$62:$D$116,\"=500\",$F$62:$F$116,Таблица1[[#This Row],[АСТРА]])","v":0},{"$f":"SUMIFS($T$62:$T$116,$C$62:$C$116,\"<\"&Таблица1[[#This Row],[Дл]],$D$62:$D$116,\"=500\",$F$62:$F$116,Таблица1[[#This Row],[АСТРА]])","v":0},{"$f":"Таблица1[[#This Row],[Столбец17]]+Таблица1[[#This Row],[Столбец18]]+Таблица1[[#This Row],[лом.на.пор.]]","v":0},{"$f":"Таблица1[[#This Row],[Столбец19]]-Таблица1[[#This Row],[корр.масс]]","v":0},null,{"$f":"SUMIFS($X$62:$X$116,$C$62:$C$116,Таблица1[[#This Row],[Дл]],$D$62:$D$116,\"=500\",$F$62:$F$116,Таблица1[[#This Row],[АСТРА]])","v":0},{"$f":"SUMIFS($X$62:$X$116,$C$62:$C$116,\"<\"&Таблица1[[#This Row],[Дл]],$D$62:$D$116,\"=500\",$F$62:$F$116,Таблица1[[#This Row],[АСТРА]])","v":0},{"$f":"Таблица1[[#This Row],[Столбец23]]+Таблица1[[#This Row],[Столбец24]]","v":0},{"$f":"Таблица1[[#This Row],[лом.целых]]+Таблица1[[#This Row],[лом.делов]]-Таблица1[[#This Row],[лом.на.пор.]]","v":0},{"$f":"IF(Таблица1[[#This Row],[резы]]*Таблица1[[#This Row],[шир.рез]]/1000*Таблица1[[#This Row],[коэф]]/2<0,0,Таблица1[[#This Row],[резы]]*Таблица1[[#This Row],[шир.рез]]/1000*Таблица1[[#This Row],[коэф]]/2)","v":0},{"$f":"SUMIFS($Y$62:$Y$116,$C$62:$C$116,Таблица1[[#This Row],[Дл]],$D$62:$D$116,\"=500\",$F$62:$F$116,Таблица1[[#This Row],[АСТРА]])","v":0},{"$f":"SUMIFS($Y$62:$Y$116,$C$62:$C$116,\"<\"&Таблица1[[#This Row],[Дл]],$D$62:$D$116,\"=500\",$F$62:$F$116,Таблица1[[#This Row],[АСТРА]])","v":0},5,{"$f":"IF(Таблица1[[#This Row],[профиль]]=Таблица1[[#This Row],[толщ]],CONCATENATE(Таблица1[[#This Row],[Столбец33]],\" \",Таблица1[[#This Row],[толщ]]),CONCATENATE(Таблица1[[#This Row],[Столбец33]],\" \",Таблица1[[#This Row],[профиль]],\"х\",Таблица1[[#This Row],[толщ]]))","v":"Труба ДУ20х2,8"},{"$f":"CONCATENATE(Таблица1[[#This Row],[Столбец33]],\" \",Таблица1[[#This Row],[профиль]])","v":"Труба ДУ20"},"Труба ДУ20, 2.8 мм","Труба",{"$f":"IF(Таблица1[[#This Row],[профиль]]=Таблица1[[#This Row],[толщ]],Таблица1[[#This Row],[толщ]],CONCATENATE(Таблица1[[#This Row],[профиль]],\"х\",Таблица1[[#This Row],[точка]]))","v":"ДУ20х2.8"},"ДУ20",2.8,{"$f":"SUBSTITUTE(Таблица1[[#This Row],[толщ]],\",\",\".\")","v":"2.8"},{"$f":"1.66*2","v":3.32},{"$f":"SUMIFS($U$8:$U$57,$K$8:$K$57,Таблица1[[#This Row],[ГОСТ]])","v":0}]
[{"$f":"IF(Таблица1[[#This Row],[Столбец19]]=0,\"z\",\"\")","v":"z"},null,null,3000,null,{"$f":"SUMIFS($G$62:$G$116,$D$62:$D$116,500,$C$62:$C$116,Таблица1[[#This Row],[Дл]],$F$62:$F$116,Таблица1[[#This Row],[АСТРА]])","v":0},{"$f":"Таблица1[[#This Row],[толщ]]","v":3.2},{"$f":"Таблица1[[#This Row],[ГОСТ]]","v":"Труба ДУ25х3,2"},{"$f":"SUMIFS($N$62:$N$116,$C$62:$C$116,Таблица1[[#This Row],[Дл]],$D$62:$D$116,\"=500\",$F$62:$F$116,Таблица1[[#This Row],[АСТРА]])","v":0},{"$f":"SUMIFS($N$62:$N$116,$C$62:$C$116,\"<\"&Таблица1[[#This Row],[Дл]],$D$62:$D$116,\"=500\",$F$62:$F$116,Таблица1[[#This Row],[АСТРА]])","v":0},null,null,{"$f":"SUMIFS($J$8:$J$57,$K$8:$K$57,Таблица1[[#This Row],[Столбец5]])","v":0},{"$f":"Таблица1[[#This Row],[пол.мас.цел]]+Таблица1[[#This Row],[пол.мас.дел]]","v":0},{"$f":"SUMIFS($Q$62:$Q$116,$C$62:$C$116,Таблица1[[#This Row],[Дл]],$D$62:$D$116,\"=500\",$F$62:$F$116,Таблица1[[#This Row],[АСТРА]])","v":0},{"$f":"SUMIFS($Q$62:$Q$116,$C$62:$C$116,\"<\"&Таблица1[[#This Row],[Дл]],$D$62:$D$116,\"=500\",$F$62:$F$116,Таблица1[[#This Row],[АСТРА]])","v":0},{"$f":"Таблица1[[#This Row],[ост.с.цел]]+Таблица1[[#This Row],[ост.с.дел]]","v":0},{"$f":"Таблица1[[#This Row],[лом.целых]]+Таблица1[[#This Row],[лом.делов]]-Таблица1[[#This Row],[лом.на.пор.]]","v":0},{"$f":"Таблица1[[#This Row],[лом]]+Таблица1[[#This Row],[корр.масс]]","v":0},{"$f":"SUMIFS($T$62:$T$116,$C$62:$C$116,Таблица1[[#This Row],[Дл]],$D$62:$D$116,\"=500\",$F$62:$F$116,Таблица1[[#This Row],[АСТРА]])","v":0},{"$f":"SUMIFS($T$62:$T$116,$C$62:$C$116,\"<\"&Таблица1[[#This Row],[Дл]],$D$62:$D$116,\"=500\",$F$62:$F$116,Таблица1[[#This Row],[АСТРА]])","v":0},{"$f":"Таблица1[[#This Row],[Столбец17]]+Таблица1[[#This Row],[Столбец18]]+Таблица1[[#This Row],[лом.на.пор.]]","v":0},{"$f":"Таблица1[[#This Row],[Столбец19]]-Таблица1[[#This Row],[корр.масс]]","v":0},null,{"$f":"SUMIFS($X$62:$X$116,$C$62:$C$116,Таблица1[[#This Row],[Дл]],$D$62:$D$116,\"=500\",$F$62:$F$116,Таблица1[[#This Row],[АСТРА]])","v":0},{"$f":"SUMIFS($X$62:$X$116,$C$62:$C$116,\"<\"&Таблица1[[#This Row],[Дл]],$D$62:$D$116,\"=500\",$F$62:$F$116,Таблица1[[#This Row],[АСТРА]])","v":0},{"$f":"Таблица1[[#This Row],[Столбец23]]+Таблица1[[#This Row],[Столбец24]]","v":0},{"$f":"Таблица1[[#This Row],[лом.целых]]+Таблица1[[#This Row],[лом.делов]]-Таблица1[[#This Row],[лом.на.пор.]]","v":0},{"$f":"IF(Таблица1[[#This Row],[резы]]*Таблица1[[#This Row],[шир.рез]]/1000*Таблица1[[#This Row],[коэф]]/2<0,0,Таблица1[[#This Row],[резы]]*Таблица1[[#This Row],[шир.рез]]/1000*Таблица1[[#This Row],[коэф]]/2)","v":0},{"$f":"SUMIFS($Y$62:$Y$116,$C$62:$C$116,Таблица1[[#This Row],[Дл]],$D$62:$D$116,\"=500\",$F$62:$F$116,Таблица1[[#This Row],[АСТРА]])","v":0},{"$f":"SUMIFS($Y$62:$Y$116,$C$62:$C$116,\"<\"&Таблица1[[#This Row],[Дл]],$D$62:$D$116,\"=500\",$F$62:$F$116,Таблица1[[#This Row],[АСТРА]])","v":0},5,{"$f":"IF(Таблица1[[#This Row],[профиль]]=Таблица1[[#This Row],[толщ]],CONCATENATE(Таблица1[[#This Row],[Столбец33]],\" \",Таблица1[[#This Row],[толщ]]),CONCATENATE(Таблица1[[#This Row],[Столбец33]],\" \",Таблица1[[#This Row],[профиль]],\"х\",Таблица1[[#This Row],[толщ]]))","v":"Труба ДУ25х3,2"},{"$f":"CONCATENATE(Таблица1[[#This Row],[Столбец33]],\" \",Таблица1[[#This Row],[профиль]])","v":"Труба ДУ25"},"Труба ДУ25, 3.2 мм","Труба",{"$f":"IF(Таблица1[[#This Row],[профиль]]=Таблица1[[#This Row],[толщ]],Таблица1[[#This Row],[толщ]],CONCATENATE(Таблица1[[#This Row],[профиль]],\"х\",Таблица1[[#This Row],[точка]]))","v":"ДУ25х3.2"},"ДУ25",3.2,{"$f":"SUBSTITUTE(Таблица1[[#This Row],[толщ]],\",\",\".\")","v":"3.2"},{"$f":"2.39*2","v":4.78},{"$f":"SUMIFS($U$8:$U$57,$K$8:$K$57,Таблица1[[#This Row],[ГОСТ]])","v":0}]
[{"$f":"IF(Таблица1[[#This Row],[Столбец19]]=0,\"z\",\"\")","v":"z"},null,null,3000,null,{"$f":"SUMIFS($G$62:$G$116,$D$62:$D$116,500,$C$62:$C$116,Таблица1[[#This Row],[Дл]],$F$62:$F$116,Таблица1[[#This Row],[АСТРА]])","v":0},{"$f":"Таблица1[[#This Row],[толщ]]","v":3.5},{"$f":"Таблица1[[#This Row],[ГОСТ]]","v":"Труба ДУ40х3,5"},{"$f":"SUMIFS($N$62:$N$116,$C$62:$C$116,Таблица1[[#This Row],[Дл]],$D$62:$D$116,\"=500\",$F$62:$F$116,Таблица1[[#This Row],[АСТРА]])","v":0},{"$f":"SUMIFS($N$62:$N$116,$C$62:$C$116,\"<\"&Таблица1[[#This Row],[Дл]],$D$62:$D$116,\"=500\",$F$62:$F$116,Таблица1[[#This Row],[АСТРА]])","v":0},null,null,{"$f":"SUMIFS($J$8:$J$57,$K$8:$K$57,Таблица1[[#This Row],[Столбец5]])","v":0},{"$f":"Таблица1[[#This Row],[пол.мас.цел]]+Таблица1[[#This Row],[пол.мас.дел]]","v":0},{"$f":"SUMIFS($Q$62:$Q$116,$C$62:$C$116,Таблица1[[#This Row],[Дл]],$D$62:$D$116,\"=500\",$F$62:$F$116,Таблица1[[#This Row],[АСТРА]])","v":0},{"$f":"SUMIFS($Q$62:$Q$116,$C$62:$C$116,\"<\"&Таблица1[[#This Row],[Дл]],$D$62:$D$116,\"=500\",$F$62:$F$116,Таблица1[[#This Row],[АСТРА]])","v":0},{"$f":"Таблица1[[#This Row],[ост.с.цел]]+Таблица1[[#This Row],[ост.с.дел]]","v":0},{"$f":"Таблица1[[#This Row],[лом.целых]]+Таблица1[[#This Row],[лом.делов]]-Таблица1[[#This Row],[лом.на.пор.]]","v":0},{"$f":"Таблица1[[#This Row],[лом]]+Таблица1[[#This Row],[корр.масс]]","v":0},{"$f":"SUMIFS($T$62:$T$116,$C$62:$C$116,Таблица1[[#This Row],[Дл]],$D$62:$D$116,\"=500\",$F$62:$F$116,Таблица1[[#This Row],[АСТРА]])","v":0},{"$f":"SUMIFS($T$62:$T$116,$C$62:$C$116,\"<\"&Таблица1[[#This Row],[Дл]],$D$62:$D$116,\"=500\",$F$62:$F$116,Таблица1[[#This Row],[АСТРА]])","v":0},{"$f":"Таблица1[[#This Row],[Столбец17]]+Таблица1[[#This Row],[Столбец18]]+Таблица1[[#This Row],[лом.на.пор.]]","v":0},{"$f":"Таблица1[[#This Row],[Столбец19]]-Таблица1[[#This Row],[корр.масс]]","v":0},null,{"$f":"SUMIFS($X$62:$X$116,$C$62:$C$116,Таблица1[[#This Row],[Дл]],$D$62:$D$116,\"=500\",$F$62:$F$116,Таблица1[[#This Row],[АСТРА]])","v":0},{"$f":"SUMIFS($X$62:$X$116,$C$62:$C$116,\"<\"&Таблица1[[#This Row],[Дл]],$D$62:$D$116,\"=500\",$F$62:$F$116,Таблица1[[#This Row],[АСТРА]])","v":0},{"$f":"Таблица1[[#This Row],[Столбец23]]+Таблица1[[#This Row],[Столбец24]]","v":0},{"$f":"Таблица1[[#This Row],[лом.целых]]+Таблица1[[#This Row],[лом.делов]]-Таблица1[[#This Row],[лом.на.пор.]]","v":0},{"$f":"IF(Таблица1[[#This Row],[резы]]*Таблица1[[#This Row],[шир.рез]]/1000*Таблица1[[#This Row],[коэф]]/2<0,0,Таблица1[[#This Row],[резы]]*Таблица1[[#This Row],[шир.рез]]/1000*Таблица1[[#This Row],[коэф]]/2)","v":0},{"$f":"SUMIFS($Y$62:$Y$116,$C$62:$C$116,Таблица1[[#This Row],[Дл]],$D$62:$D$116,\"=500\",$F$62:$F$116,Таблица1[[#This Row],[АСТРА]])","v":0},{"$f":"SUMIFS($Y$62:$Y$116,$C$62:$C$116,\"<\"&Таблица1[[#This Row],[Дл]],$D$62:$D$116,\"=500\",$F$62:$F$116,Таблица1[[#This Row],[АСТРА]])","v":0},5,{"$f":"IF(Таблица1[[#This Row],[профиль]]=Таблица1[[#This Row],[толщ]],CONCATENATE(Таблица1[[#This Row],[Столбец33]],\" \",Таблица1[[#This Row],[толщ]]),CONCATENATE(Таблица1[[#This Row],[Столбец33]],\" \",Таблица1[[#This Row],[профиль]],\"х\",Таблица1[[#This Row],[толщ]]))","v":"Труба ДУ40х3,5"},{"$f":"CONCATENATE(Таблица1[[#This Row],[Столбец33]],\" \",Таблица1[[#This Row],[профиль]])","v":"Труба ДУ40"},"Труба ДУ40, 3.5 мм","Труба",{"$f":"IF(Таблица1[[#This Row],[профиль]]=Таблица1[[#This Row],[толщ]],Таблица1[[#This Row],[толщ]],CONCATENATE(Таблица1[[#This Row],[профиль]],\"х\",Таблица1[[#This Row],[точка]]))","v":"ДУ40х3.5"},"ДУ40",3.5,{"$f":"SUBSTITUTE(Таблица1[[#This Row],[толщ]],\",\",\".\")","v":"3.5"},{"$f":"3.84*2","v":7.68},{"$f":"SUMIFS($U$8:$U$57,$K$8:$K$57,Таблица1[[#This Row],[ГОСТ]])","v":0}]
[{"$f":"IF(Таблица1[[#This Row],[Столбец19]]=0,\"z\",\"\")","v":"z"},null,null,6000,null,{"$f":"SUMIFS($G$62:$G$116,$D$62:$D$116,500,$C$62:$C$116,Таблица1[[#This Row],[Дл]],$F$62:$F$116,Таблица1[[#This Row],[АСТРА]])","v":0},{"$f":"Таблица1[[#This Row],[толщ]]","v":1},{"$f":"Таблица1[[#This Row],[ГОСТ]]","v":"Труба пл.ов. 30х15х1"},{"$f":"SUMIFS($N$62:$N$116,$C$62:$C$116,Таблица1[[#This Row],[Дл]],$D$62:$D$116,\"=500\",$F$62:$F$116,Таблица1[[#This Row],[АСТРА]])","v":0},{"$f":"SUMIFS($N$62:$N$116,$C$62:$C$116,\"<\"&Таблица1[[#This Row],[Дл]],$D$62:$D$116,\"=500\",$F$62:$F$116,Таблица1[[#This Row],[АСТРА]])","v":0},null,null,{"$f":"SUMIFS($J$8:$J$57,$K$8:$K$57,Таблица1[[#This Row],[Столбец5]])","v":0},{"$f":"Таблица1[[#This Row],[пол.мас.цел]]+Таблица1[[#This Row],[пол.мас.дел]]","v":0},{"$f":"SUMIFS($Q$62:$Q$116,$C$62:$C$116,Таблица1[[#This Row],[Дл]],$D$62:$D$116,\"=500\",$F$62:$F$116,Таблица1[[#This Row],[АСТРА]])","v":0},{"$f":"SUMIFS($Q$62:$Q$116,$C$62:$C$116,\"<\"&Таблица1[[#This Row],[Дл]],$D$62:$D$116,\"=500\",$F$62:$F$116,Таблица1[[#This Row],[АСТРА]])","v":0},{"$f":"Таблица1[[#This Row],[ост.с.цел]]+Таблица1[[#This Row],[ост.с.дел]]","v":0},{"$f":"Таблица1[[#This Row],[лом.целых]]+Таблица1[[#This Row],[лом.делов]]-Таблица1[[#This Row],[лом.на.пор.]]","v":0},{"$f":"Таблица1[[#This Row],[лом]]+Таблица1[[#This Row],[корр.масс]]","v":0},{"$f":"SUMIFS($T$62:$T$116,$C$62:$C$116,Таблица1[[#This Row],[Дл]],$D$62:$D$116,\"=500\",$F$62:$F$116,Таблица1[[#This Row],[АСТРА]])","v":0},{"$f":"SUMIFS($T$62:$T$116,$C$62:$C$116,\"<\"&Таблица1[[#This Row],[Дл]],$D$62:$D$116,\"=500\",$F$62:$F$116,Таблица1[[#This Row],[АСТРА]])","v":0},{"$f":"Таблица1[[#This Row],[Столбец17]]+Таблица1[[#This Row],[Столбец18]]+Таблица1[[#This Row],[лом.на.пор.]]","v":0},{"$f":"Таблица1[[#This Row],[Столбец19]]-Таблица1[[#This Row],[корр.масс]]","v":0},null,{"$f":"SUMIFS($X$62:$X$116,$C$62:$C$116,Таблица1[[#This Row],[Дл]],$D$62:$D$116,\"=500\",$F$62:$F$116,Таблица1[[#This Row],[АСТРА]])","v":0},{"$f":"SUMIFS($X$62:$X$116,$C$62:$C$116,\"<\"&Таблица1[[#This Row],[Дл]],$D$62:$D$116,\"=500\",$F$62:$F$116,Таблица1[[#This Row],[АСТРА]])","v":0},{"$f":"Таблица1[[#This Row],[Столбец23]]+Таблица1[[#This Row],[Столбец24]]","v":0},{"$f":"Таблица1[[#This Row],[лом.целых]]+Таблица1[[#This Row],[лом.делов]]-Таблица1[[#This Row],[лом.на.пор.]]","v":0},{"$f":"IF(Таблица1[[#This Row],[резы]]*Таблица1[[#This Row],[шир.рез]]/1000*Таблица1[[#This Row],[коэф]]/2<0,0,Таблица1[[#This Row],[резы]]*Таблица1[[#This Row],[шир.рез]]/1000*Таблица1[[#This Row],[коэф]]/2)","v":0},{"$f":"SUMIFS($Y$62:$Y$116,$C$62:$C$116,Таблица1[[#This Row],[Дл]],$D$62:$D$116,\"=500\",$F$62:$F$116,Таблица1[[#This Row],[АСТРА]])","v":0},{"$f":"SUMIFS($Y$62:$Y$116,$C$62:$C$116,\"<\"&Таблица1[[#This Row],[Дл]],$D$62:$D$116,\"=500\",$F$62:$F$116,Таблица1[[#This Row],[АСТРА]])","v":0},5,{"$f":"IF(Таблица1[[#This Row],[профиль]]=Таблица1[[#This Row],[толщ]],CONCATENATE(Таблица1[[#This Row],[Столбец33]],\" \",Таблица1[[#This Row],[толщ]]),CONCATENATE(Таблица1[[#This Row],[Столбец33]],\" \",Таблица1[[#This Row],[профиль]],\"х\",Таблица1[[#This Row],[толщ]]))","v":"Труба пл.ов. 30х15х1"},{"$f":"CONCATENATE(Таблица1[[#This Row],[Столбец33]],\" \",Таблица1[[#This Row],[профиль]])","v":"Труба пл.ов. 30х15"},"Труба пл.ов. 30х15, 1.0 мм, трпл-ов3015","Труба пл.ов.",{"$f":"IF(Таблица1[[#This Row],[профиль]]=Таблица1[[#This Row],[толщ]],Таблица1[[#This Row],[толщ]],CONCATENATE(Таблица1[[#This Row],[профиль]],\"х\",Таблица1[[#This Row],[точка]]))","v":"30х15х1"},"30х15",1,{"$f":"SUBSTITUTE(Таблица1[[#This Row],[толщ]],\",\",\".\")","v":"1"},1.2,{"$f":"SUMIFS($U$8:$U$57,$K$8:$K$57,Таблица1[[#This Row],[ГОСТ]])","v":0}]
[{"$f":"IF(Таблица1[[#This Row],[Столбец19]]=0,\"z\",\"\")","v":"z"},null,null,6000,null,{"$f":"SUMIFS($G$62:$G$116,$D$62:$D$116,500,$C$62:$C$116,Таблица1[[#This Row],[Дл]],$F$62:$F$116,Таблица1[[#This Row],[АСТРА]])","v":0},{"$f":"Таблица1[[#This Row],[толщ]]","v":1.2},{"$f":"Таблица1[[#This Row],[ГОСТ]]","v":"Труба пл.ов. 30х15х1,2"},{"$f":"SUMIFS($N$62:$N$116,$C$62:$C$116,Таблица1[[#This Row],[Дл]],$D$62:$D$116,\"=500\",$F$62:$F$116,Таблица1[[#This Row],[АСТРА]])","v":0},{"$f":"SUMIFS($N$62:$N$116,$C$62:$C$116,\"<\"&Таблица1[[#This Row],[Дл]],$D$62:$D$116,\"=500\",$F$62:$F$116,Таблица1[[#This Row],[АСТРА]])","v":0},null,null,{"$f":"SUMIFS($J$8:$J$57,$K$8:$K$57,Таблица1[[#This Row],[Столбец5]])","v":0},{"$f":"Таблица1[[#This Row],[пол.мас.цел]]+Таблица1[[#This Row],[пол.мас.дел]]","v":0},{"$f":"SUMIFS($Q$62:$Q$116,$C$62:$C$116,Таблица1[[#This Row],[Дл]],$D$62:$D$116,\"=500\",$F$62:$F$116,Таблица1[[#This Row],[АСТРА]])","v":0},{"$f":"SUMIFS($Q$62:$Q$116,$C$62:$C$116,\"<\"&Таблица1[[#This Row],[Дл]],$D$62:$D$116,\"=500\",$F$62:$F$116,Таблица1[[#This Row],[АСТРА]])","v":0},{"$f":"Таблица1[[#This Row],[ост.с.цел]]+Таблица1[[#This Row],[ост.с.дел]]","v":0},{"$f":"Таблица1[[#This Row],[лом.целых]]+Таблица1[[#This Row],[лом.делов]]-Таблица1[[#This Row],[лом.на.пор.]]","v":0},{"$f":"Таблица1[[#This Row],[лом]]+Таблица1[[#This Row],[корр.масс]]","v":0},{"$f":"SUMIFS($T$62:$T$116,$C$62:$C$116,Таблица1[[#This Row],[Дл]],$D$62:$D$116,\"=500\",$F$62:$F$116,Таблица1[[#This Row],[АСТРА]])","v":0},{"$f":"SUMIFS($T$62:$T$116,$C$62:$C$116,\"<\"&Таблица1[[#This Row],[Дл]],$D$62:$D$116,\"=500\",$F$62:$F$116,Таблица1[[#This Row],[АСТРА]])","v":0},{"$f":"Таблица1[[#This Row],[Столбец17]]+Таблица1[[#This Row],[Столбец18]]+Таблица1[[#This Row],[лом.на.пор.]]","v":0},{"$f":"Таблица1[[#This Row],[Столбец19]]-Таблица1[[#This Row],[корр.масс]]","v":0},null,{"$f":"SUMIFS($X$62:$X$116,$C$62:$C$116,Таблица1[[#This Row],[Дл]],$D$62:$D$116,\"=500\",$F$62:$F$116,Таблица1[[#This Row],[АСТРА]])","v":0},{"$f":"SUMIFS($X$62:$X$116,$C$62:$C$116,\"<\"&Таблица1[[#This Row],[Дл]],$D$62:$D$116,\"=500\",$F$62:$F$116,Таблица1[[#This Row],[АСТРА]])","v":0},{"$f":"Таблица1[[#This Row],[Столбец23]]+Таблица1[[#This Row],[Столбец24]]","v":0},{"$f":"Таблица1[[#This Row],[лом.целых]]+Таблица1[[#This Row],[лом.делов]]-Таблица1[[#This Row],[лом.на.пор.]]","v":0},{"$f":"IF(Таблица1[[#This Row],[резы]]*Таблица1[[#This Row],[шир.рез]]/1000*Таблица1[[#This Row],[коэф]]/2<0,0,Таблица1[[#This Row],[резы]]*Таблица1[[#This Row],[шир.рез]]/1000*Таблица1[[#This Row],[коэф]]/2)","v":0},{"$f":"SUMIFS($Y$62:$Y$116,$C$62:$C$116,Таблица1[[#This Row],[Дл]],$D$62:$D$116,\"=500\",$F$62:$F$116,Таблица1[[#This Row],[АСТРА]])","v":0},{"$f":"SUMIFS($Y$62:$Y$116,$C$62:$C$116,\"<\"&Таблица1[[#This Row],[Дл]],$D$62:$D$116,\"=500\",$F$62:$F$116,Таблица1[[#This Row],[АСТРА]])","v":0},5,{"$f":"IF(Таблица1[[#This Row],[профиль]]=Таблица1[[#This Row],[толщ]],CONCATENATE(Таблица1[[#This Row],[Столбец33]],\" \",Таблица1[[#This Row],[толщ]]),CONCATENATE(Таблица1[[#This Row],[Столбец33]],\" \",Таблица1[[#This Row],[профиль]],\"х\",Таблица1[[#This Row],[толщ]]))","v":"Труба пл.ов. 30х15х1,2"},{"$f":"CONCATENATE(Таблица1[[#This Row],[Столбец33]],\" \",Таблица1[[#This Row],[профиль]])","v":"Труба пл.ов. 30х15"},"Труба пл.ов. 30х15, 1.2 мм, трпл-ов3015","Труба пл.ов.",{"$f":"IF(Таблица1[[#This Row],[профиль]]=Таблица1[[#This Row],[толщ]],Таблица1[[#This Row],[толщ]],CONCATENATE(Таблица1[[#This Row],[профиль]],\"х\",Таблица1[[#This Row],[точка]]))","v":"30х15х1.2"},"30х15",1.2,{"$f":"SUBSTITUTE(Таблица1[[#This Row],[толщ]],\",\",\".\")","v":"1.2"},1.4,{"$f":"SUMIFS($U$8:$U$57,$K$8:$K$57,Таблица1[[#This Row],[ГОСТ]])","v":0}]
[{"$f":"IF(Таблица1[[#This Row],[Столбец19]]=0,\"z\",\"\")","v":"z"},null,null,6000,null,{"$f":"SUMIFS($G$62:$G$116,$D$62:$D$116,500,$C$62:$C$116,Таблица1[[#This Row],[Дл]],$F$62:$F$116,Таблица1[[#This Row],[АСТРА]])","v":0},{"$f":"Таблица1[[#This Row],[толщ]]","v":1.5},{"$f":"Таблица1[[#This Row],[ГОСТ]]","v":"Труба пл.ов. 30х15х1,5"},{"$f":"SUMIFS($N$62:$N$116,$C$62:$C$116,Таблица1[[#This Row],[Дл]],$D$62:$D$116,\"=500\",$F$62:$F$116,Таблица1[[#This Row],[АСТРА]])","v":0},{"$f":"SUMIFS($N$62:$N$116,$C$62:$C$116,\"<\"&Таблица1[[#This Row],[Дл]],$D$62:$D$116,\"=500\",$F$62:$F$116,Таблица1[[#This Row],[АСТРА]])","v":0},null,null,{"$f":"SUMIFS($J$8:$J$57,$K$8:$K$57,Таблица1[[#This Row],[Столбец5]])","v":0},{"$f":"Таблица1[[#This Row],[пол.мас.цел]]+Таблица1[[#This Row],[пол.мас.дел]]","v":0},{"$f":"SUMIFS($Q$62:$Q$116,$C$62:$C$116,Таблица1[[#This Row],[Дл]],$D$62:$D$116,\"=500\",$F$62:$F$116,Таблица1[[#This Row],[АСТРА]])","v":0},{"$f":"SUMIFS($Q$62:$Q$116,$C$62:$C$116,\"<\"&Таблица1[[#This Row],[Дл]],$D$62:$D$116,\"=500\",$F$62:$F$116,Таблица1[[#This Row],[АСТРА]])","v":0},{"$f":"Таблица1[[#This Row],[ост.с.цел]]+Таблица1[[#This Row],[ост.с.дел]]","v":0},{"$f":"Таблица1[[#This Row],[лом.целых]]+Таблица1[[#This Row],[лом.делов]]-Таблица1[[#This Row],[лом.на.пор.]]","v":0},{"$f":"Таблица1[[#This Row],[лом]]+Таблица1[[#This Row],[корр.масс]]","v":0},{"$f":"SUMIFS($T$62:$T$116,$C$62:$C$116,Таблица1[[#This Row],[Дл]],$D$62:$D$116,\"=500\",$F$62:$F$116,Таблица1[[#This Row],[АСТРА]])","v":0},{"$f":"SUMIFS($T$62:$T$116,$C$62:$C$116,\"<\"&Таблица1[[#This Row],[Дл]],$D$62:$D$116,\"=500\",$F$62:$F$116,Таблица1[[#This Row],[АСТРА]])","v":0},{"$f":"Таблица1[[#This Row],[Столбец17]]+Таблица1[[#This Row],[Столбец18]]+Таблица1[[#This Row],[лом.на.пор.]]","v":0},{"$f":"Таблица1[[#This Row],[Столбец19]]-Таблица1[[#This Row],[корр.масс]]","v":0},null,{"$f":"SUMIFS($X$62:$X$116,$C$62:$C$116,Таблица1[[#This Row],[Дл]],$D$62:$D$116,\"=500\",$F$62:$F$116,Таблица1[[#This Row],[АСТРА]])","v":0},{"$f":"SUMIFS($X$62:$X$116,$C$62:$C$116,\"<\"&Таблица1[[#This Row],[Дл]],$D$62:$D$116,\"=500\",$F$62:$F$116,Таблица1[[#This Row],[АСТРА]])","v":0},{"$f":"Таблица1[[#This Row],[Столбец23]]+Таблица1[[#This Row],[Столбец24]]","v":0},{"$f":"Таблица1[[#This Row],[лом.целых]]+Таблица1[[#This Row],[лом.делов]]-Таблица1[[#This Row],[лом.на.пор.]]","v":0},{"$f":"IF(Таблица1[[#This Row],[резы]]*Таблица1[[#This Row],[шир.рез]]/1000*Таблица1[[#This Row],[коэф]]/2<0,0,Таблица1[[#This Row],[резы]]*Таблица1[[#This Row],[шир.рез]]/1000*Таблица1[[#This Row],[коэф]]/2)","v":0},{"$f":"SUMIFS($Y$62:$Y$116,$C$62:$C$116,Таблица1[[#This Row],[Дл]],$D$62:$D$116,\"=500\",$F$62:$F$116,Таблица1[[#This Row],[АСТРА]])","v":0},{"$f":"SUMIFS($Y$62:$Y$116,$C$62:$C$116,\"<\"&Таблица1[[#This Row],[Дл]],$D$62:$D$116,\"=500\",$F$62:$F$116,Таблица1[[#This Row],[АСТРА]])","v":0},5,{"$f":"IF(Таблица1[[#This Row],[профиль]]=Таблица1[[#This Row],[толщ]],CONCATENATE(Таблица1[[#This Row],[Столбец33]],\" \",Таблица1[[#This Row],[толщ]]),CONCATENATE(Таблица1[[#This Row],[Столбец33]],\" \",Таблица1[[#This Row],[профиль]],\"х\",Таблица1[[#This Row],[толщ]]))","v":"Труба пл.ов. 30х15х1,5"},{"$f":"CONCATENATE(Таблица1[[#This Row],[Столбец33]],\" \",Таблица1[[#This Row],[профиль]])","v":"Труба пл.ов. 30х15"},"Труба пл.ов. 30х15, 1.5 мм, трпл-ов3015","Труба пл.ов.",{"$f":"IF(Таблица1[[#This Row],[профиль]]=Таблица1[[#This Row],[толщ]],Таблица1[[#This Row],[толщ]],CONCATENATE(Таблица1[[#This Row],[профиль]],\"х\",Таблица1[[#This Row],[точка]]))","v":"30х15х1.5"},"30х15",1.5,{"$f":"SUBSTITUTE(Таблица1[[#This Row],[толщ]],\",\",\".\")","v":"1.5"},1.9179999999999999,{"$f":"SUMIFS($U$8:$U$57,$K$8:$K$57,Таблица1[[#This Row],[ГОСТ]])","v":0}]
[{"$f":"IF(Таблица1[[#This Row],[Столбец19]]=0,\"z\",\"\")","v":"z"},null,null,6000,null,{"$f":"SUMIFS($G$62:$G$116,$D$62:$D$116,500,$C$62:$C$116,Таблица1[[#This Row],[Дл]],$F$62:$F$116,Таблица1[[#This Row],[АСТРА]])","v":0},{"$f":"Таблица1[[#This Row],[толщ]]","v":3},{"$f":"Таблица1[[#This Row],[ГОСТ]]","v":"Уголок 20х20х3"},{"$f":"SUMIFS($N$62:$N$116,$C$62:$C$116,Таблица1[[#This Row],[Дл]],$D$62:$D$116,\"=500\",$F$62:$F$116,Таблица1[[#This Row],[АСТРА]])","v":0},{"$f":"SUMIFS($N$62:$N$116,$C$62:$C$116,\"<\"&Таблица1[[#This Row],[Дл]],$D$62:$D$116,\"=500\",$F$62:$F$116,Таблица1[[#This Row],[АСТРА]])","v":0},null,null,{"$f":"SUMIFS($J$8:$J$57,$K$8:$K$57,Таблица1[[#This Row],[Столбец5]])","v":0},{"$f":"Таблица1[[#This Row],[пол.мас.цел]]+Таблица1[[#This Row],[пол.мас.дел]]","v":0},{"$f":"SUMIFS($Q$62:$Q$116,$C$62:$C$116,Таблица1[[#This Row],[Дл]],$D$62:$D$116,\"=500\",$F$62:$F$116,Таблица1[[#This Row],[АСТРА]])","v":0},{"$f":"SUMIFS($Q$62:$Q$116,$C$62:$C$116,\"<\"&Таблица1[[#This Row],[Дл]],$D$62:$D$116,\"=500\",$F$62:$F$116,Таблица1[[#This Row],[АСТРА]])","v":0},{"$f":"Таблица1[[#This Row],[ост.с.цел]]+Таблица1[[#This Row],[ост.с.дел]]","v":0},{"$f":"Таблица1[[#This Row],[лом.целых]]+Таблица1[[#This Row],[лом.делов]]-Таблица1[[#This Row],[лом.на.пор.]]","v":0},{"$f":"Таблица1[[#This Row],[лом]]+Таблица1[[#This Row],[корр.масс]]","v":0},{"$f":"SUMIFS($T$62:$T$116,$C$62:$C$116,Таблица1[[#This Row],[Дл]],$D$62:$D$116,\"=500\",$F$62:$F$116,Таблица1[[#This Row],[АСТРА]])","v":0},{"$f":"SUMIFS($T$62:$T$116,$C$62:$C$116,\"<\"&Таблица1[[#This Row],[Дл]],$D$62:$D$116,\"=500\",$F$62:$F$116,Таблица1[[#This Row],[АСТРА]])","v":0},{"$f":"Таблица1[[#This Row],[Столбец17]]+Таблица1[[#This Row],[Столбец18]]+Таблица1[[#This Row],[лом.на.пор.]]","v":0},{"$f":"Таблица1[[#This Row],[Столбец19]]-Таблица1[[#This Row],[корр.масс]]","v":0},null,{"$f":"SUMIFS($X$62:$X$116,$C$62:$C$116,Таблица1[[#This Row],[Дл]],$D$62:$D$116,\"=500\",$F$62:$F$116,Таблица1[[#This Row],[АСТРА]])","v":0},{"$f":"SUMIFS($X$62:$X$116,$C$62:$C$116,\"<\"&Таблица1[[#This Row],[Дл]],$D$62:$D$116,\"=500\",$F$62:$F$116,Таблица1[[#This Row],[АСТРА]])","v":0},{"$f":"Таблица1[[#This Row],[Столбец23]]+Таблица1[[#This Row],[Столбец24]]","v":0},{"$f":"Таблица1[[#This Row],[лом.целых]]+Таблица1[[#This Row],[лом.делов]]-Таблица1[[#This Row],[лом.на.пор.]]","v":0},{"$f":"IF(Таблица1[[#This Row],[резы]]*Таблица1[[#This Row],[шир.рез]]/1000*Таблица1[[#This Row],[коэф]]/2<0,0,Таблица1[[#This Row],[резы]]*Таблица1[[#This Row],[шир.рез]]/1000*Таблица1[[#This Row],[коэф]]/2)","v":0},{"$f":"SUMIFS($Y$62:$Y$116,$C$62:$C$116,Таблица1[[#This Row],[Дл]],$D$62:$D$116,\"=500\",$F$62:$F$116,Таблица1[[#This Row],[АСТРА]])","v":0},{"$f":"SUMIFS($Y$62:$Y$116,$C$62:$C$116,\"<\"&Таблица1[[#This Row],[Дл]],$D$62:$D$116,\"=500\",$F$62:$F$116,Таблица1[[#This Row],[АСТРА]])","v":0},5,{"$f":"IF(Таблица1[[#This Row],[профиль]]=Таблица1[[#This Row],[толщ]],CONCATENATE(Таблица1[[#This Row],[Столбец33]],\" \",Таблица1[[#This Row],[толщ]]),CONCATENATE(Таблица1[[#This Row],[Столбец33]],\" \",Таблица1[[#This Row],[профиль]],\"х\",Таблица1[[#This Row],[толщ]]))","v":"Уголок 20х20х3"},{"$f":"CONCATENATE(Таблица1[[#This Row],[Столбец33]],\" \",Таблица1[[#This Row],[профиль]])","v":"Уголок 20х20"},"Уголок 20х20, 3.0 мм, у2020","Уголок",{"$f":"IF(Таблица1[[#This Row],[профиль]]=Таблица1[[#This Row],[толщ]],Таблица1[[#This Row],[толщ]],CONCATENATE(Таблица1[[#This Row],[профиль]],\"х\",Таблица1[[#This Row],[точка]]))","v":"20х20х3"},"20х20",3,{"$f":"SUBSTITUTE(Таблица1[[#This Row],[толщ]],\",\",\".\")","v":"3"},{"$f":"0.89*2","v":1.78},{"$f":"SUMIFS($U$8:$U$57,$K$8:$K$57,Таблица1[[#This Row],[ГОСТ]])","v":0}]
[{"$f":"IF(Таблица1[[#This Row],[Столбец19]]=0,\"z\",\"\")","v":"z"},null,null,6000,null,{"$f":"SUMIFS($G$62:$G$116,$D$62:$D$116,500,$C$62:$C$116,Таблица1[[#This Row],[Дл]],$F$62:$F$116,Таблица1[[#This Row],[АСТРА]])","v":0},{"$f":"Таблица1[[#This Row],[толщ]]","v":5},{"$f":"Таблица1[[#This Row],[ГОСТ]]","v":"Уголок 40х40х5"},{"$f":"SUMIFS($N$62:$N$116,$C$62:$C$116,Таблица1[[#This Row],[Дл]],$D$62:$D$116,\"=500\",$F$62:$F$116,Таблица1[[#This Row],[АСТРА]])","v":0},{"$f":"SUMIFS($N$62:$N$116,$C$62:$C$116,\"<\"&Таблица1[[#This Row],[Дл]],$D$62:$D$116,\"=500\",$F$62:$F$116,Таблица1[[#This Row],[АСТРА]])","v":0},null,null,{"$f":"SUMIFS($J$8:$J$57,$K$8:$K$57,Таблица1[[#This Row],[Столбец5]])","v":0},{"$f":"Таблица1[[#This Row],[пол.мас.цел]]+Таблица1[[#This Row],[пол.мас.дел]]","v":0},{"$f":"SUMIFS($Q$62:$Q$116,$C$62:$C$116,Таблица1[[#This Row],[Дл]],$D$62:$D$116,\"=500\",$F$62:$F$116,Таблица1[[#This Row],[АСТРА]])","v":0},{"$f":"SUMIFS($Q$62:$Q$116,$C$62:$C$116,\"<\"&Таблица1[[#This Row],[Дл]],$D$62:$D$116,\"=500\",$F$62:$F$116,Таблица1[[#This Row],[АСТРА]])","v":0},{"$f":"Таблица1[[#This Row],[ост.с.цел]]+Таблица1[[#This Row],[ост.с.дел]]","v":0},{"$f":"Таблица1[[#This Row],[лом.целых]]+Таблица1[[#This Row],[лом.делов]]-Таблица1[[#This Row],[лом.на.пор.]]","v":0},{"$f":"Таблица1[[#This Row],[лом]]+Таблица1[[#This Row],[корр.масс]]","v":0},{"$f":"SUMIFS($T$62:$T$116,$C$62:$C$116,Таблица1[[#This Row],[Дл]],$D$62:$D$116,\"=500\",$F$62:$F$116,Таблица1[[#This Row],[АСТРА]])","v":0},{"$f":"SUMIFS($T$62:$T$116,$C$62:$C$116,\"<\"&Таблица1[[#This Row],[Дл]],$D$62:$D$116,\"=500\",$F$62:$F$116,Таблица1[[#This Row],[АСТРА]])","v":0},{"$f":"Таблица1[[#This Row],[Столбец17]]+Таблица1[[#This Row],[Столбец18]]+Таблица1[[#This Row],[лом.на.пор.]]","v":0},{"$f":"Таблица1[[#This Row],[Столбец19]]-Таблица1[[#This Row],[корр.масс]]","v":0},null,{"$f":"SUMIFS($X$62:$X$116,$C$62:$C$116,Таблица1[[#This Row],[Дл]],$D$62:$D$116,\"=500\",$F$62:$F$116,Таблица1[[#This Row],[АСТРА]])","v":0},{"$f":"SUMIFS($X$62:$X$116,$C$62:$C$116,\"<\"&Таблица1[[#This Row],[Дл]],$D$62:$D$116,\"=500\",$F$62:$F$116,Таблица1[[#This Row],[АСТРА]])","v":0},{"$f":"Таблица1[[#This Row],[Столбец23]]+Таблица1[[#This Row],[Столбец24]]","v":0},{"$f":"Таблица1[[#This Row],[лом.целых]]+Таблица1[[#This Row],[лом.делов]]-Таблица1[[#This Row],[лом.на.пор.]]","v":0},{"$f":"IF(Таблица1[[#This Row],[резы]]*Таблица1[[#This Row],[шир.рез]]/1000*Таблица1[[#This Row],[коэф]]/2<0,0,Таблица1[[#This Row],[резы]]*Таблица1[[#This Row],[шир.рез]]/1000*Таблица1[[#This Row],[коэф]]/2)","v":0},{"$f":"SUMIFS($Y$62:$Y$116,$C$62:$C$116,Таблица1[[#This Row],[Дл]],$D$62:$D$116,\"=500\",$F$62:$F$116,Таблица1[[#This Row],[АСТРА]])","v":0},{"$f":"SUMIFS($Y$62:$Y$116,$C$62:$C$116,\"<\"&Таблица1[[#This Row],[Дл]],$D$62:$D$116,\"=500\",$F$62:$F$116,Таблица1[[#This Row],[АСТРА]])","v":0},5,{"$f":"IF(Таблица1[[#This Row],[профиль]]=Таблица1[[#This Row],[толщ]],CONCATENATE(Таблица1[[#This Row],[Столбец33]],\" \",Таблица1[[#This Row],[толщ]]),CONCATENATE(Таблица1[[#This Row],[Столбец33]],\" \",Таблица1[[#This Row],[профиль]],\"х\",Таблица1[[#This Row],[толщ]]))","v":"Уголок 40х40х5"},{"$f":"CONCATENATE(Таблица1[[#This Row],[Столбец33]],\" \",Таблица1[[#This Row],[профиль]])","v":"Уголок 40х40"},"Уголок 40х40, 5.0 мм","Уголок",{"$f":"IF(Таблица1[[#This Row],[профиль]]=Таблица1[[#This Row],[толщ]],Таблица1[[#This Row],[толщ]],CONCATENATE(Таблица1[[#This Row],[профиль]],\"х\",Таблица1[[#This Row],[точка]]))","v":"40х40х5"},"40х40",5,{"$f":"SUBSTITUTE(Таблица1[[#This Row],[толщ]],\",\",\".\")","v":"5"},{"$f":"2.98*2","v":5.96},{"$f":"SUMIFS($U$8:$U$57,$K$8:$K$57,Таблица1[[#This Row],[ГОСТ]])","v":0}]
[{"$f":"IF(Таблица1[[#This Row],[Столбец19]]=0,\"z\",\"\")","v":"z"},null,null,6000,null,{"$f":"SUMIFS($G$62:$G$116,$D$62:$D$116,500,$C$62:$C$116,Таблица1[[#This Row],[Дл]],$F$62:$F$116,Таблица1[[#This Row],[АСТРА]])","v":0},{"$f":"Таблица1[[#This Row],[толщ]]","v":5},{"$f":"Таблица1[[#This Row],[ГОСТ]]","v":"Уголок 50х50х5"},{"$f":"SUMIFS($N$62:$N$116,$C$62:$C$116,Таблица1[[#This Row],[Дл]],$D$62:$D$116,\"=500\",$F$62:$F$116,Таблица1[[#This Row],[АСТРА]])","v":0},{"$f":"SUMIFS($N$62:$N$116,$C$62:$C$116,\"<\"&Таблица1[[#This Row],[Дл]],$D$62:$D$116,\"=500\",$F$62:$F$116,Таблица1[[#This Row],[АСТРА]])","v":0},null,null,{"$f":"SUMIFS($J$8:$J$57,$K$8:$K$57,Таблица1[[#This Row],[Столбец5]])","v":0},{"$f":"Таблица1[[#This Row],[пол.мас.цел]]+Таблица1[[#This Row],[пол.мас.дел]]","v":0},{"$f":"SUMIFS($Q$62:$Q$116,$C$62:$C$116,Таблица1[[#This Row],[Дл]],$D$62:$D$116,\"=500\",$F$62:$F$116,Таблица1[[#This Row],[АСТРА]])","v":0},{"$f":"SUMIFS($Q$62:$Q$116,$C$62:$C$116,\"<\"&Таблица1[[#This Row],[Дл]],$D$62:$D$116,\"=500\",$F$62:$F$116,Таблица1[[#This Row],[АСТРА]])","v":0},{"$f":"Таблица1[[#This Row],[ост.с.цел]]+Таблица1[[#This Row],[ост.с.дел]]","v":0},{"$f":"Таблица1[[#This Row],[лом.целых]]+Таблица1[[#This Row],[лом.делов]]-Таблица1[[#This Row],[лом.на.пор.]]","v":0},{"$f":"Таблица1[[#This Row],[лом]]+Таблица1[[#This Row],[корр.масс]]","v":0},{"$f":"SUMIFS($T$62:$T$116,$C$62:$C$116,Таблица1[[#This Row],[Дл]],$D$62:$D$116,\"=500\",$F$62:$F$116,Таблица1[[#This Row],[АСТРА]])","v":0},{"$f":"SUMIFS($T$62:$T$116,$C$62:$C$116,\"<\"&Таблица1[[#This Row],[Дл]],$D$62:$D$116,\"=500\",$F$62:$F$116,Таблица1[[#This Row],[АСТРА]])","v":0},{"$f":"Таблица1[[#This Row],[Столбец17]]+Таблица1[[#This Row],[Столбец18]]+Таблица1[[#This Row],[лом.на.пор.]]","v":0},{"$f":"Таблица1[[#This Row],[Столбец19]]-Таблица1[[#This Row],[корр.масс]]","v":0},null,{"$f":"SUMIFS($X$62:$X$116,$C$62:$C$116,Таблица1[[#This Row],[Дл]],$D$62:$D$116,\"=500\",$F$62:$F$116,Таблица1[[#This Row],[АСТРА]])","v":0},{"$f":"SUMIFS($X$62:$X$116,$C$62:$C$116,\"<\"&Таблица1[[#This Row],[Дл]],$D$62:$D$116,\"=500\",$F$62:$F$116,Таблица1[[#This Row],[АСТРА]])","v":0},{"$f":"Таблица1[[#This Row],[Столбец23]]+Таблица1[[#This Row],[Столбец24]]","v":0},{"$f":"Таблица1[[#This Row],[лом.целых]]+Таблица1[[#This Row],[лом.делов]]-Таблица1[[#This Row],[лом.на.пор.]]","v":0},{"$f":"IF(Таблица1[[#This Row],[резы]]*Таблица1[[#This Row],[шир.рез]]/1000*Таблица1[[#This Row],[коэф]]/2<0,0,Таблица1[[#This Row],[резы]]*Таблица1[[#This Row],[шир.рез]]/1000*Таблица1[[#This Row],[коэф]]/2)","v":0},{"$f":"SUMIFS($Y$62:$Y$116,$C$62:$C$116,Таблица1[[#This Row],[Дл]],$D$62:$D$116,\"=500\",$F$62:$F$116,Таблица1[[#This Row],[АСТРА]])","v":0},{"$f":"SUMIFS($Y$62:$Y$116,$C$62:$C$116,\"<\"&Таблица1[[#This Row],[Дл]],$D$62:$D$116,\"=500\",$F$62:$F$116,Таблица1[[#This Row],[АСТРА]])","v":0},5,{"$f":"IF(Таблица1[[#This Row],[профиль]]=Таблица1[[#This Row],[толщ]],CONCATENATE(Таблица1[[#This Row],[Столбец33]],\" \",Таблица1[[#This Row],[толщ]]),CONCATENATE(Таблица1[[#This Row],[Столбец33]],\" \",Таблица1[[#This Row],[профиль]],\"х\",Таблица1[[#This Row],[толщ]]))","v":"Уголок 50х50х5"},{"$f":"CONCATENATE(Таблица1[[#This Row],[Столбец33]],\" \",Таблица1[[#This Row],[профиль]])","v":"Уголок 50х50"},"Уголок 50х50, 5.0 мм","Уголок",{"$f":"IF(Таблица1[[#This Row],[профиль]]=Таблица1[[#This Row],[толщ]],Таблица1[[#This Row],[толщ]],CONCATENATE(Таблица1[[#This Row],[профиль]],\"х\",Таблица1[[#This Row],[точка]]))","v":"50х50х5"},"50х50",5,{"$f":"SUBSTITUTE(Таблица1[[#This Row],[толщ]],\",\",\".\")","v":"5"},{"$f":"3.77 *2","v":7.54},{"$f":"SUMIFS($U$8:$U$57,$K$8:$K$57,Таблица1[[#This Row],[ГОСТ]])","v":0}]
[{"$f":"IF(Таблица1[[#This Row],[Столбец19]]=0,\"z\",\"\")","v":"z"},null,null,3000,null,{"$f":"SUMIFS($G$62:$G$116,$D$62:$D$116,500,$C$62:$C$116,Таблица1[[#This Row],[Дл]],$F$62:$F$116,Таблица1[[#This Row],[АСТРА]])","v":0},{"$f":"Таблица1[[#This Row],[толщ]]","v":6},{"$f":"Таблица1[[#This Row],[ГОСТ]]","v":"Уголок 90х90х6"},{"$f":"SUMIFS($N$62:$N$116,$C$62:$C$116,Таблица1[[#This Row],[Дл]],$D$62:$D$116,\"=500\",$F$62:$F$116,Таблица1[[#This Row],[АСТРА]])","v":0},{"$f":"SUMIFS($N$62:$N$116,$C$62:$C$116,\"<\"&Таблица1[[#This Row],[Дл]],$D$62:$D$116,\"=500\",$F$62:$F$116,Таблица1[[#This Row],[АСТРА]])","v":0},null,null,{"$f":"SUMIFS($J$8:$J$57,$K$8:$K$57,Таблица1[[#This Row],[Столбец5]])","v":0},{"$f":"Таблица1[[#This Row],[пол.мас.цел]]+Таблица1[[#This Row],[пол.мас.дел]]","v":0},{"$f":"SUMIFS($Q$62:$Q$116,$C$62:$C$116,Таблица1[[#This Row],[Дл]],$D$62:$D$116,\"=500\",$F$62:$F$116,Таблица1[[#This Row],[АСТРА]])","v":0},{"$f":"SUMIFS($Q$62:$Q$116,$C$62:$C$116,\"<\"&Таблица1[[#This Row],[Дл]],$D$62:$D$116,\"=500\",$F$62:$F$116,Таблица1[[#This Row],[АСТРА]])","v":0},{"$f":"Таблица1[[#This Row],[ост.с.цел]]+Таблица1[[#This Row],[ост.с.дел]]","v":0},{"$f":"Таблица1[[#This Row],[лом.целых]]+Таблица1[[#This Row],[лом.делов]]-Таблица1[[#This Row],[лом.на.пор.]]","v":0},{"$f":"Таблица1[[#This Row],[лом]]+Таблица1[[#This Row],[корр.масс]]","v":0},{"$f":"SUMIFS($T$62:$T$116,$C$62:$C$116,Таблица1[[#This Row],[Дл]],$D$62:$D$116,\"=500\",$F$62:$F$116,Таблица1[[#This Row],[АСТРА]])","v":0},{"$f":"SUMIFS($T$62:$T$116,$C$62:$C$116,\"<\"&Таблица1[[#This Row],[Дл]],$D$62:$D$116,\"=500\",$F$62:$F$116,Таблица1[[#This Row],[АСТРА]])","v":0},{"$f":"Таблица1[[#This Row],[Столбец17]]+Таблица1[[#This Row],[Столбец18]]+Таблица1[[#This Row],[лом.на.пор.]]","v":0},{"$f":"Таблица1[[#This Row],[Столбец19]]-Таблица1[[#This Row],[корр.масс]]","v":0},null,{"$f":"SUMIFS($X$62:$X$116,$C$62:$C$116,Таблица1[[#This Row],[Дл]],$D$62:$D$116,\"=500\",$F$62:$F$116,Таблица1[[#This Row],[АСТРА]])","v":0},{"$f":"SUMIFS($X$62:$X$116,$C$62:$C$116,\"<\"&Таблица1[[#This Row],[Дл]],$D$62:$D$116,\"=500\",$F$62:$F$116,Таблица1[[#This Row],[АСТРА]])","v":0},{"$f":"Таблица1[[#This Row],[Столбец23]]+Таблица1[[#This Row],[Столбец24]]","v":0},{"$f":"Таблица1[[#This Row],[лом.целых]]+Таблица1[[#This Row],[лом.делов]]-Таблица1[[#This Row],[лом.на.пор.]]","v":0},{"$f":"IF(Таблица1[[#This Row],[резы]]*Таблица1[[#This Row],[шир.рез]]/1000*Таблица1[[#This Row],[коэф]]/2<0,0,Таблица1[[#This Row],[резы]]*Таблица1[[#This Row],[шир.рез]]/1000*Таблица1[[#This Row],[коэф]]/2)","v":0},{"$f":"SUMIFS($Y$62:$Y$116,$C$62:$C$116,Таблица1[[#This Row],[Дл]],$D$62:$D$116,\"=500\",$F$62:$F$116,Таблица1[[#This Row],[АСТРА]])","v":0},{"$f":"SUMIFS($Y$62:$Y$116,$C$62:$C$116,\"<\"&Таблица1[[#This Row],[Дл]],$D$62:$D$116,\"=500\",$F$62:$F$116,Таблица1[[#This Row],[АСТРА]])","v":0},5,{"$f":"IF(Таблица1[[#This Row],[профиль]]=Таблица1[[#This Row],[толщ]],CONCATENATE(Таблица1[[#This Row],[Столбец33]],\" \",Таблица1[[#This Row],[толщ]]),CONCATENATE(Таблица1[[#This Row],[Столбец33]],\" \",Таблица1[[#This Row],[профиль]],\"х\",Таблица1[[#This Row],[толщ]]))","v":"Уголок 90х90х6"},{"$f":"CONCATENATE(Таблица1[[#This Row],[Столбец33]],\" \",Таблица1[[#This Row],[профиль]])","v":"Уголок 90х90"},"Уголок 90х90, 6.0 мм","Уголок",{"$f":"IF(Таблица1[[#This Row],[профиль]]=Таблица1[[#This Row],[толщ]],Таблица1[[#This Row],[толщ]],CONCATENATE(Таблица1[[#This Row],[профиль]],\"х\",Таблица1[[#This Row],[точка]]))","v":"90х90х6"},"90х90",6,{"$f":"SUBSTITUTE(Таблица1[[#This Row],[толщ]],\",\",\".\")","v":"6"},{"$f":"8.33*2","v":16.66},{"$f":"SUMIFS($U$8:$U$57,$K$8:$K$57,Таблица1[[#This Row],[ГОСТ]])","v":0}]
[]
[]
[null,null,null,"Подпись",null,null,null,"Инженер-технолог"]
[]
[null,null,null,"Подпись",null,null,null,"Нач техотдела"]
[]
[null,null,null,"Подпись",null,null,null,"Генеральный директор"]

{"sheet":"ПВХ","index":3,"n_rows":91,"n_cols":14,"rows_kept":91,"cut":false,"hidden":false,"merged":[[3,4,3,9],[7,4,7,6],[62,2,62,3]]}
["z",null,null,null,null,null,null,null,null,null,null,"z","z","z"]
[null,null,null,null,null,"            Приложение № 3 к ЛЗК _____"]
[null,null,null,null,null,null,null,null,null,{"$f":"TODAY()","v":"2023-08-05"}]
[null,null,null,null,{"$f":"ПРОВОЛОКА!M4","v":0}]
[null,null,null,null,null,{"$f":"CONCATENATE(\"Изделие из: \",IF(ПРОВОЛОКА!S259>0,\"ПРОВОЛОКА, \",\"\"),IF(ЛИСТ!L7>0,\"ЛИСТ, \",\"\"),IF(ТРУБА!M7>0,\"ТРУБА, \",\"\"),IF(ПВХ!L9>0,\"ПВХ \",\"\"))","v":"Изделие из: "}]
[null,null,null,null,null,null,null,null,null,null,null,"площадь раскроя"]
[null,null,null,null,null,"План",{"$f":"ПРОВОЛОКА!C5","v":1},null,null,null,null,{"$f":"SUM(Таблица2[[#All],[дет]])","v":0}]
[null,null,null,null,"Количество деталей на план",null,null,{"$f":"SUM(H10:H34)","v":0},"Общая",null,null,"площадь деталей"]
[null,"№\nп/п","Длина ","Ширина","Кол-во\nна\nизделие","Вращение детали\n1 - да\n0 - нет","S тол-на","материал","Наименование детали","Кол-во на план","ГОСТ",{"$f":"SUM(L10:L34)","v":0},"автономерация"]
[{"$f":"IF(E10=0,\"z\",\"\")","v":"z"},{"$f":"IF(E10=0,\"\",M10)","v":""},null,null,null,1,{"$f":"IF(K10=\"\",\"\",VLOOKUP(K10,Таблица2[[Мат]:[Столбец2]],9,0))","v":""},{"$f":"IF(K10=\"\",\"\",VLOOKUP(K10,Таблица2[[Мат]:[Столбец2]],8,0))","v":""},null,{"$f":"$G$7*E10","v":0},null,{"$f":"C10*D10*J10/1000000","v":0},{"$f":"IF(H10=0,0,1)","v":1}]
[{"$f":"IF(E11=0,\"z\",\"\")","v":"z"},"",null,null,null,1,{"$f":"IF(K11=\"\",\"\",VLOOKUP(K11,Таблица2[[Мат]:[Столбец2]],9,0))","v":""},{"$f":"IF(K11=\"\",\"\",VLOOKUP(K11,Таблица2[[Мат]:[Столбец2]],8,0))","v":""},null,{"$f":"$G$7*E11","v":0},null,{"$f":"C11*D11*J11/1000000","v":0},{"$f":"IF(H11=0,M10,M10+1)","v":2}]
["z","",null,null,null,1,{"$f":"IF(K12=\"\",\"\",VLOOKUP(K12,Таблица2[[Мат]:[Столбец2]],9,0))","v":""},{"$f":"IF(K12=\"\",\"\",VLOOKUP(K12,Таблица2[[Мат]:[Столбец2]],8,0))","v":""},null,0,null,0,3]
["z","",null,null,null,1,{"$f":"IF(K13=\"\",\"\",VLOOKUP(K13,Таблица2[[Мат]:[Столбец2]],9,0))","v":""},{"$f":"IF(K13=\"\",\"\",VLOOKUP(K13,Таблица2[[Мат]:[Столбец2]],8,0))","v":""},null,0,null,0,4]
["z","",null,null,null,1,{"$f":"IF(K14=\"\",\"\",VLOOKUP(K14,Таблица2[[Мат]:[Столбец2]],9,0))","v":""},{"$f":"IF(K14=\"\",\"\",VLOOKUP(K14,Таблица2[[Мат]:[Столбец2]],8,0))","v":""},null,0,null,0,5]
["z","",null,null,null,1,{"$f":"IF(K15=\"\",\"\",VLOOKUP(K15,Таблица2[[Мат]:[Столбец2]],9,0))","v":""},{"$f":"IF(K15=\"\",\"\",VLOOKUP(K15,Таблица2[[Мат]:[Столбец2]],8,0))","v":""},null,0,null,0,6]
["z","",null,null,null,1,{"$f":"IF(K16=\"\",\"\",VLOOKUP(K16,Таблица2[[Мат]:[Столбец2]],9,0))","v":""},{"$f":"IF(K16=\"\",\"\",VLOOKUP(K16,Таблица2[[Мат]:[Столбец2]],8,0))","v":""},null,0,null,0,7]
["z","",null,null,null,1,{"$f":"IF(K17=\"\",\"\",VLOOKUP(K17,Таблица2[[Мат]:[Столбец2]],9,0))","v":""},{"$f":"IF(K17=\"\",\"\",VLOOKUP(K17,Таблица2[[Мат]:[Столбец2]],8,0))","v":""},null,0,null,0,8]
["z","",null,null,null,1,{"$f":"IF(K18=\"\",\"\",VLOOKUP(K18,Таблица2[[Мат]:[Столбец2]],9,0))","v":""},{"$f":"IF(K18=\"\",\"\",VLOOKUP(K18,Таблица2[[Мат]:[Столбец2]],8,0))","v":""},null,0,null,0,9]
["z","",null,null,null,1,{"$f":"IF(K19=\"\",\"\",VLOOKUP(K19,Таблица2[[Мат]:[Столбец2]],9,0))","v":""},{"$f":"IF(K19=\"\",\"\",VLOOKUP(K19,Таблица2[[Мат]:[Столбец2]],8,0))","v":""},null,0,null,0,10]
["z","",null,null,null,1,{"$f":"IF(K20=\"\",\"\",VLOOKUP(K20,Таблица2[[Мат]:[Столбец2]],9,0))","v":""},{"$f":"IF(K20=\"\",\"\",VLOOKUP(K20,Таблица2[[Мат]:[Столбец2]],8,0))","v":""},null,0,null,0,11]
["z","",null,null,null,1,{"$f":"IF(K21=\"\",\"\",VLOOKUP(K21,Таблица2[[Мат]:[Столбец2]],9,0))","v":""},{"$f":"IF(K21=\"\",\"\",VLOOKUP(K21,Таблица2[[Мат]:[Столбец2]],8,0))","v":""},null,0,null,0,12]
["z","",null,null,null,1,{"$f":"IF(K22=\"\",\"\",VLOOKUP(K22,Таблица2[[Мат]:[Столбец2]],9,0))","v":""},{"$f":"IF(K22=\"\",\"\",VLOOKUP(K22,Таблица2[[Мат]:[Столбец2]],8,0))","v":""},null,0,null,0,13]
["z","",null,null,null,1,{"$f":"IF(K23=\"\",\"\",VLOOKUP(K23,Таблица2[[Мат]:[Столбец2]],9,0))","v":""},{"$f":"IF(K23=\"\",\"\",VLOOKUP(K23,Таблица2[[Мат]:[Столбец2]],8,0))","v":""},null,0,null,0,14]
["z","",null,null,null,1,{"$f":"IF(K24=\"\",\"\",VLOOKUP(K24,Таблица2[[Мат]:[Столбец2]],9,0))","v":""},{"$f":"IF(K24=\"\",\"\",VLOOKUP(K24,Таблица2[[Мат]:[Столбец2]],8,0))","v":""},null,0,null,0,15]
["z","",null,null,null,1,{"$f":"IF(K25=\"\",\"\",VLOOKUP(K25,Таблица2[[Мат]:[Столбец2]],9,0))","v":""},{"$f":"IF(K25=\"\",\"\",VLOOKUP(K25,Таблица2[[Мат]:[Столбец2]],8,0))","v":""},null,0,null,0,16]
[{"$f":"IF(E26=0,\"z\",\"\")","v":"z"},"",null,null,null,1,{"$f":"IF(K26=\"\",\"\",VLOOKUP(K26,Таблица2[[Мат]:[Столбец2]],9,0))","v":""},{"$f":"IF(K26=\"\",\"\",VLOOKUP(K26,Таблица2[[Мат]:[Столбец2]],8,0))","v":""},null,0,null,0,17]
["z","",null,null,null,1,{"$f":"IF(K27=\"\",\"\",VLOOKUP(K27,Таблица2[[Мат]:[Столбец2]],9,0))","v":""},{"$f":"IF(K27=\"\",\"\",VLOOKUP(K27,Таблица2[[Мат]:[Столбец2]],8,0))","v":""},null,0,null,0,18]
["z","",null,null,null,1,{"$f":"IF(K28=\"\",\"\",VLOOKUP(K28,Таблица2[[Мат]:[Столбец2]],9,0))","v":""},{"$f":"IF(K28=\"\",\"\",VLOOKUP(K28,Таблица2[[Мат]:[Столбец2]],8,0))","v":""},null,0,null,0,19]
["z","",null,null,null,1,{"$f":"IF(K29=\"\",\"\",VLOOKUP(K29,Таблица2[[Мат]:[Столбец2]],9,0))","v":""},{"$f":"IF(K29=\"\",\"\",VLOOKUP(K29,Таблица2[[Мат]:[Столбец2]],8,0))","v":""},null,0,null,0,20]
["z","",null,null,null,1,{"$f":"IF(K30=\"\",\"\",VLOOKUP(K30,Таблица2[[Мат]:[Столбец2]],9,0))","v":""},{"$f":"IF(K30=\"\",\"\",VLOOKUP(K30,Таблица2[[Мат]:[Столбец2]],8,0))","v":""},null,0,null,0,21]
["z","",null,null,null,1,{"$f":"IF(K31=\"\",\"\",VLOOKUP(K31,Таблица2[[Мат]:[Столбец2]],9,0))","v":""},{"$f":"IF(K31=\"\",\"\",VLOOKUP(K31,Таблица2[[Мат]:[Столбец2]],8,0))","v":""},null,0,null,0,22]
["z","",null,null,null,1,{"$f":"IF(K32=\"\",\"\",VLOOKUP(K32,Таблица2[[Мат]:[Столбец2]],9,0))","v":""},{"$f":"IF(K32=\"\",\"\",VLOOKUP(K32,Таблица2[[Мат]:[Столбец2]],8,0))","v":""},null,0,null,0,23]
["z","",null,null,null,1,{"$f":"IF(K33=\"\",\"\",VLOOKUP(K33,Таблица2[[Мат]:[Столбец2]],9,0))","v":""},{"$f":"IF(K33=\"\",\"\",VLOOKUP(K33,Таблица2[[Мат]:[Столбец2]],8,0))","v":""},null,0,null,0,24]
["z","",null,null,null,1,{"$f":"IF(K34=\"\",\"\",VLOOKUP(K34,Таблица2[[Мат]:[Столбец2]],9,0))","v":""},{"$f":"IF(K34=\"\",\"\",VLOOKUP(K34,Таблица2[[Мат]:[Столбец2]],8,0))","v":""},null,0,null,0,25]
[null,null,null,null,null,null,null,null,"Всего ",{"$f":"SUM(J10:J34)","v":0},null,0]
[null,null,null,null,null,null,null,null,null,null,{"$f":"G7","v":1}]
[null,"Карта раскроя \n№","Длина, мм","Ширина, мм","Толщина, мм","Марка материала","Кол-во","Площадь остатков всего\nм2","Площадь деталей всего\nм2","Количество деталей","Площадь листов/остатков со склада \nм2"]
[{"$f":"IF(G38=0,\"z\",\"\")","v":"z"},null,null,null,null,null,null,null,null,null,{"$f":"C38*D38*G38/1000000","v":0}]
[{"$f":"IF(G39=0,\"z\",\"\")","v":"z"},null,null,null,null,null,null,null,null,null,{"$f":"C39*D39*G39/1000000","v":0}]
[{"$f":"IF(G40=0,\"z\",\"\")","v":"z"},null,null,null,null,null,null,null,null,null,{"$f":"C40*D40*G40/1000000","v":0}]
["z",null,null,null,null,null,null,null,null,null,0]
["z",null,null,null,null,null,null,null,null,null,0]
["z",null,null,null,null,null,null,null,null,null,0]
["z",null,null,null,null,null,null,null,null,null,0]
["z",null,null,null,null,null,null,null,null,null,0]
["z",null,null,null,null,null,null,null,null,null,0]
["z",null,null,null,null,null,null,null,null,null,0]
["z",null,null,null,null,null,null,null,null,null,0]
["z",null,null,null,null,null,null,null,null,null,0]
["z",null,null,null,null,null,null,null,null,null,0]
["z",null,null,null,null,null,null,null,null,null,0]
["z",null,null,null,null,null,null,null,null,null,0]
["z",null,null,null,null,null,null,null,null,null,0]
["z",null,null,null,null,null,null,null,null,null,0]
["z",null,null,null,null,null,null,null,null,null,0]
["z",null,null,null,null,null,null,null,null,null,0]
["z",null,null,null,null,null,null,null,null,null,0]
["z",null,null,null,null,null,null,null,null,null,0]
["z",null,null,null,null,null,null,null,null,null,0]
["z",null,null,null,null,null,null,null,null,null,0]
[null,null,null,null,null,"Общая",null,{"$f":"SUM(H38:H60)","v":0},{"$f":"SUM(I38:I60)","v":0},{"$f":"SUM(J38:J60)","v":0},{"$f":"SUM(K38:K60)","v":0}]
[]
[null,null,"Стандартный р-р",null,null,null,"Общая","Общая","Общая","Общая","Общая"]
[null,"Кол-во \nлистов \nсо склада\nшт","Длина, \nмм","Ширина, мм","Толщина, мм","Марка материала","Площадь листов со склада \nм2","Площ-дь остатков со склада\nм2","Площадь остатков на склад \nм2","Площадь деталей\nм2","ЛОМ\nм2"]
["z"]
["z","кол","Дл","Шир","Толщ","Мат","пл.лист.цел","ост.на.склад","ост.на.скл","дет","лом","АСТРА","Столбец1","Столбец2"]
[{"$f":"IF(Таблица2[[#This Row],[дет]]=0,\"z\",\"\")","v":"z"},{"$f":"SUMIFS($G$38:$G$60,$D$38:$D$60,Таблица2[[#This Row],[Шир]],$C$38:$C$60,Таблица2[[#This Row],[Дл]],$F$38:$F$60,Таблица2[[#This Row],[АСТРА]])","v":0},1000,1400,0.4,{"$f":"CONCATENATE(Таблица2[[#This Row],[Столбец1]],\" \",Таблица2[[#This Row],[Столбец2]])","v":"ПВХ прозрачный 0.4"},{"$f":"SUMIFS($K$38:$K$60,$C$38:$C$60,Таблица2[[#This Row],[Дл]],$D$38:$D$60,Таблица2[[#This Row],[Шир]],$F$38:$F$60,Таблица2[[#This Row],[АСТРА]])","v":0},{"$f":"SUMIFS($K$38:$K$60,$C$38:$C$60,\"<\"&Таблица2[[#This Row],[Дл]],$D$38:$D$60,Таблица2[[#This Row],[Шир]],$F$38:$F$60,Таблица2[[#This Row],[АСТРА]])+SUMIFS($K$38:$K$60,$C$38:$C$60,Таблица2[[#This Row],[Дл]],$D$38:$D$60,\"<\"&Таблица2[[#This Row],[Шир]],$F$38:$F$60,Таблица2[[#This Row],[АСТРА]])+SUMIFS($K$38:$K$60,$C$38:$C$60,\"<\"&Таблица2[[#This Row],[Дл]],$D$38:$D$60,\"<\"&Таблица2[[#This Row],[Шир]],$F$38:$F$60,Таблица2[[#This Row],[АСТРА]])","v":0},{"$f":"SUMIFS($H$38:$H$60,$F$38:$F$60,Таблица2[[#This Row],[АСТРА]])","v":0},{"$f":"SUMIFS($I$38:$I$60,$F$38:$F$60,Таблица2[[#This Row],[АСТРА]])","v":0},{"$f":"Таблица2[[#This Row],[пл.лист.цел]]+Таблица2[[#This Row],[ост.на.склад]]-Таблица2[[#This Row],[ост.на.скл]]-Таблица2[[#This Row],[дет]]","v":0},"ПВХ прозрачный, 0.4 мм, пвх","ПВХ прозрачный",{"$f":"SUBSTITUTE(Таблица2[[#This Row],[Толщ]],\",\",\".\")","v":"0.4"}]
[{"$f":"IF(Таблица2[[#This Row],[дет]]=0,\"z\",\"\")","v":"z"},{"$f":"SUMIFS($G$38:$G$60,$D$38:$D$60,Таблица2[[#This Row],[Шир]],$C$38:$C$60,Таблица2[[#This Row],[Дл]],$F$38:$F$60,Таблица2[[#This Row],[АСТРА]])","v":0},1000,1400,0.5,{"$f":"CONCATENATE(Таблица2[[#This Row],[Столбец1]],\" \",Таблица2[[#This Row],[Столбец2]])","v":"ПВХ прозрачный 0.5"},{"$f":"SUMIFS($K$38:$K$60,$C$38:$C$60,Таблица2[[#This Row],[Дл]],$D$38:$D$60,Таблица2[[#This Row],[Шир]],$F$38:$F$60,Таблица2[[#This Row],[АСТРА]])","v":0},{"$f":"SUMIFS($K$38:$K$60,$C$38:$C$60,\"<\"&Таблица2[[#This Row],[Дл]],$D$38:$D$60,Таблица2[[#This Row],[Шир]],$F$38:$F$60,Таблица2[[#This Row],[АСТРА]])+SUMIFS($K$38:$K$60,$C$38:$C$60,Таблица2[[#This Row],[Дл]],$D$38:$D$60,\"<\"&Таблица2[[#This Row],[Шир]],$F$38:$F$60,Таблица2[[#This Row],[АСТРА]])+SUMIFS($K$38:$K$60,$C$38:$C$60,\"<\"&Таблица2[[#This Row],[Дл]],$D$38:$D$60,\"<\"&Таблица2[[#This Row],[Шир]],$F$38:$F$60,Таблица2[[#This Row],[АСТРА]])","v":0},{"$f":"SUMIFS($H$38:$H$60,$F$38:$F$60,Таблица2[[#This Row],[АСТРА]])","v":0},{"$f":"SUMIFS($I$38:$I$60,$F$38:$F$60,Таблица2[[#This Row],[АСТРА]])","v":0},{"$f":"Таблица2[[#This Row],[пл.лист.цел]]+Таблица2[[#This Row],[ост.на.склад]]-Таблица2[[#This Row],[ост.на.скл]]-Таблица2[[#This Row],[дет]]","v":0},"ПВХ прозрачный, 0.5 мм, пвх","ПВХ прозрачный",{"$f":"SUBSTITUTE(Таблица2[[#This Row],[Толщ]],\",\",\".\")","v":"0.5"}]
[{"$f":"IF(Таблица2[[#This Row],[дет]]=0,\"z\",\"\")","v":"z"},{"$f":"SUMIFS($G$38:$G$60,$D$38:$D$60,Таблица2[[#This Row],[Шир]],$C$38:$C$60,Таблица2[[#This Row],[Дл]],$F$38:$F$60,Таблица2[[#This Row],[АСТРА]])","v":0},1000,1400,0.8,{"$f":"CONCATENATE(Таблица2[[#This Row],[Столбец1]],\" \",Таблица2[[#This Row],[Столбец2]])","v":"ПВХ прозрачный 0.8"},{"$f":"SUMIFS($K$38:$K$60,$C$38:$C$60,Таблица2[[#This Row],[Дл]],$D$38:$D$60,Таблица2[[#This Row],[Шир]],$F$38:$F$60,Таблица2[[#This Row],[АСТРА]])","v":0},{"$f":"SUMIFS($K$38:$K$60,$C$38:$C$60,\"<\"&Таблица2[[#This Row],[Дл]],$D$38:$D$60,Таблица2[[#This Row],[Шир]],$F$38:$F$60,Таблица2[[#This Row],[АСТРА]])+SUMIFS($K$38:$K$60,$C$38:$C$60,Таблица2[[#This Row],[Дл]],$D$38:$D$60,\"<\"&Таблица2[[#This Row],[Шир]],$F$38:$F$60,Таблица2[[#This Row],[АСТРА]])+SUMIFS($K$38:$K$60,$C$38:$C$60,\"<\"&Таблица2[[#This Row],[Дл]],$D$38:$D$60,\"<\"&Таблица2[[#This Row],[Шир]],$F$38:$F$60,Таблица2[[#This Row],[АСТРА]])","v":0},{"$f":"SUMIFS($H$38:$H$60,$F$38:$F$60,Таблица2[[#This Row],[АСТРА]])","v":0},{"$f":"SUMIFS($I$38:$I$60,$F$38:$F$60,Таблица2[[#This Row],[АСТРА]])","v":0},{"$f":"Таблица2[[#This Row],[пл.лист.цел]]+Таблица2[[#This Row],[ост.на.склад]]-Таблица2[[#This Row],[ост.на.скл]]-Таблица2[[#This Row],[дет]]","v":0},"ПВХ прозрачный, 0.8 мм, пвх","ПВХ прозрачный",{"$f":"SUBSTITUTE(Таблица2[[#This Row],[Толщ]],\",\",\".\")","v":"0.8"}]
[{"$f":"IF(Таблица2[[#This Row],[дет]]=0,\"z\",\"\")","v":"z"},{"$f":"SUMIFS($G$38:$G$60,$D$38:$D$60,Таблица2[[#This Row],[Шир]],$C$38:$C$60,Таблица2[[#This Row],[Дл]],$F$38:$F$60,Таблица2[[#This Row],[АСТРА]])","v":0},1000,1400,1,{"$f":"CONCATENATE(Таблица2[[#This Row],[Столбец1]],\" \",Таблица2[[#This Row],[Столбец2]])","v":"ПВХ прозрачный 1"},{"$f":"SUMIFS($K$38:$K$60,$C$38:$C$60,Таблица2[[#This Row],[Дл]],$D$38:$D$60,Таблица2[[#This Row],[Шир]],$F$38:$F$60,Таблица2[[#This Row],[АСТРА]])","v":0},{"$f":"SUMIFS($K$38:$K$60,$C$38:$C$60,\"<\"&Таблица2[[#This Row],[Дл]],$D$38:$D$60,Таблица2[[#This Row],[Шир]],$F$38:$F$60,Таблица2[[#This Row],[АСТРА]])+SUMIFS($K$38:$K$60,$C$38:$C$60,Таблица2[[#This Row],[Дл]],$D$38:$D$60,\"<\"&Таблица2[[#This Row],[Шир]],$F$38:$F$60,Таблица2[[#This Row],[АСТРА]])+SUMIFS($K$38:$K$60,$C$38:$C$60,\"<\"&Таблица2[[#This Row],[Дл]],$D$38:$D$60,\"<\"&Таблица2[[#This Row],[Шир]],$F$38:$F$60,Таблица2[[#This Row],[АСТРА]])","v":0},{"$f":"SUMIFS($H$38:$H$60,$F$38:$F$60,Таблица2[[#This Row],[АСТРА]])","v":0},{"$f":"SUMIFS($I$38:$I$60,$F$38:$F$60,Таблица2[[#This Row],[АСТРА]])","v":0},{"$f":"Таблица2[[#This Row],[пл.лист.цел]]+Таблица2[[#This Row],[ост.на.склад]]-Таблица2[[#This Row],[ост.на.скл]]-Таблица2[[#This Row],[дет]]","v":0},"ПВХ прозрачный, 1.0 мм, пвх","ПВХ прозрачный",{"$f":"SUBSTITUTE(Таблица2[[#This Row],[Толщ]],\",\",\".\")","v":"1"}]
[{"$f":"IF(Таблица2[[#This Row],[дет]]=0,\"z\",\"\")","v":"z"},{"$f":"SUMIFS($G$38:$G$60,$D$38:$D$60,Таблица2[[#This Row],[Шир]],$C$38:$C$60,Таблица2[[#This Row],[Дл]],$F$38:$F$60,Таблица2[[#This Row],[АСТРА]])","v":0},2050,3050,3,{"$f":"CONCATENATE(Таблица2[[#This Row],[Столбец1]],\" \",Таблица2[[#This Row],[Столбец2]])","v":"Акрил 3"},{"$f":"SUMIFS($K$38:$K$60,$C$38:$C$60,Таблица2[[#This Row],[Дл]],$D$38:$D$60,Таблица2[[#This Row],[Шир]],$F$38:$F$60,Таблица2[[#This Row],[АСТРА]])","v":0},{"$f":"SUMIFS($K$38:$K$60,$C$38:$C$60,\"<\"&Таблица2[[#This Row],[Дл]],$D$38:$D$60,Таблица2[[#This Row],[Шир]],$F$38:$F$60,Таблица2[[#This Row],[АСТРА]])+SUMIFS($K$38:$K$60,$C$38:$C$60,Таблица2[[#This Row],[Дл]],$D$38:$D$60,\"<\"&Таблица2[[#This Row],[Шир]],$F$38:$F$60,Таблица2[[#This Row],[АСТРА]])+SUMIFS($K$38:$K$60,$C$38:$C$60,\"<\"&Таблица2[[#This Row],[Дл]],$D$38:$D$60,\"<\"&Таблица2[[#This Row],[Шир]],$F$38:$F$60,Таблица2[[#This Row],[АСТРА]])","v":0},{"$f":"SUMIFS($H$38:$H$60,$F$38:$F$60,Таблица2[[#This Row],[АСТРА]])","v":0},{"$f":"SUMIFS($I$38:$I$60,$F$38:$F$60,Таблица2[[#This Row],[АСТРА]])","v":0},{"$f":"Таблица2[[#This Row],[пл.лист.цел]]+Таблица2[[#This Row],[ост.на.склад]]-Таблица2[[#This Row],[ост.на.скл]]-Таблица2[[#This Row],[дет]]","v":0},"Акрил, 3.0 мм","Акрил",{"$f":"SUBSTITUTE(Таблица2[[#This Row],[Толщ]],\",\",\".\")","v":"3"}]
[{"$f":"IF(Таблица2[[#This Row],[дет]]=0,\"z\",\"\")","v":"z"},{"$f":"SUMIFS($G$38:$G$60,$D$38:$D$60,Таблица2[[#This Row],[Шир]],$C$38:$C$60,Таблица2[[#This Row],[Дл]],$F$38:$F$60,Таблица2[[#This Row],[АСТРА]])","v":0},2020,3050,3,{"$f":"CONCATENATE(Таблица2[[#This Row],[Столбец1]],\" \",Таблица2[[#This Row],[Столбец2]])","v":"ПВХ белый 3"},{"$f":"SUMIFS($K$38:$K$60,$C$38:$C$60,Таблица2[[#This Row],[Дл]],$D$38:$D$60,Таблица2[[#This Row],[Шир]],$F$38:$F$60,Таблица2[[#This Row],[АСТРА]])","v":0},{"$f":"SUMIFS($K$38:$K$60,$C$38:$C$60,\"<\"&Таблица2[[#This Row],[Дл]],$D$38:$D$60,Таблица2[[#This Row],[Шир]],$F$38:$F$60,Таблица2[[#This Row],[АСТРА]])+SUMIFS($K$38:$K$60,$C$38:$C$60,Таблица2[[#This Row],[Дл]],$D$38:$D$60,\"<\"&Таблица2[[#This Row],[Шир]],$F$38:$F$60,Таблица2[[#This Row],[АСТРА]])+SUMIFS($K$38:$K$60,$C$38:$C$60,\"<\"&Таблица2[[#This Row],[Дл]],$D$38:$D$60,\"<\"&Таблица2[[#This Row],[Шир]],$F$38:$F$60,Таблица2[[#This Row],[АСТРА]])","v":0},{"$f":"SUMIFS($H$38:$H$60,$F$38:$F$60,Таблица2[[#This Row],[АСТРА]])","v":0},{"$f":"SUMIFS($I$38:$I$60,$F$38:$F$60,Таблица2[[#This Row],[АСТРА]])","v":0},{"$f":"Таблица2[[#This Row],[пл.лист.цел]]+Таблица2[[#This Row],[ост.на.склад]]-Таблица2[[#This Row],[ост.на.скл]]-Таблица2[[#This Row],[дет]]","v":0},"ПВХ белый, 3.0 мм, пвхбел","ПВХ белый",{"$f":"SUBSTITUTE(Таблица2[[#This Row],[Толщ]],\",\",\".\")","v":"3"}]
[{"$f":"IF(Таблица2[[#This Row],[дет]]=0,\"z\",\"\")","v":"z"},{"$f":"SUMIFS($G$38:$G$60,$D$38:$D$60,Таблица2[[#This Row],[Шир]],$C$38:$C$60,Таблица2[[#This Row],[Дл]],$F$38:$F$60,Таблица2[[#This Row],[АСТРА]])","v":0},3000,2400,5,{"$f":"CONCATENATE(Таблица2[[#This Row],[Столбец1]],\" \",Таблица2[[#This Row],[Столбец2]])","v":"ПВХ белый 5"},{"$f":"SUMIFS($K$38:$K$60,$C$38:$C$60,Таблица2[[#This Row],[Дл]],$D$38:$D$60,Таблица2[[#This Row],[Шир]],$F$38:$F$60,Таблица2[[#This Row],[АСТРА]])","v":0},{"$f":"SUMIFS($K$38:$K$60,$C$38:$C$60,\"<\"&Таблица2[[#This Row],[Дл]],$D$38:$D$60,Таблица2[[#This Row],[Шир]],$F$38:$F$60,Таблица2[[#This Row],[АСТРА]])+SUMIFS($K$38:$K$60,$C$38:$C$60,Таблица2[[#This Row],[Дл]],$D$38:$D$60,\"<\"&Таблица2[[#This Row],[Шир]],$F$38:$F$60,Таблица2[[#This Row],[АСТРА]])+SUMIFS($K$38:$K$60,$C$38:$C$60,\"<\"&Таблица2[[#This Row],[Дл]],$D$38:$D$60,\"<\"&Таблица2[[#This Row],[Шир]],$F$38:$F$60,Таблица2[[#This Row],[АСТРА]])","v":0},{"$f":"SUMIFS($H$38:$H$60,$F$38:$F$60,Таблица2[[#This Row],[АСТРА]])","v":0},{"$f":"SUMIFS($I$38:$I$60,$F$38:$F$60,Таблица2[[#This Row],[АСТРА]])","v":0},{"$f":"Таблица2[[#This Row],[пл.лист.цел]]+Таблица2[[#This Row],[ост.на.склад]]-Таблица2[[#This Row],[ост.на.скл]]-Таблица2[[#This Row],[дет]]","v":0},"ПВХ белый, 5.0 мм, пвхбел","ПВХ белый",{"$f":"SUBSTITUTE(Таблица2[[#This Row],[Толщ]],\",\",\".\")","v":"5"}]
[{"$f":"IF(Таблица2[[#This Row],[дет]]=0,\"z\",\"\")","v":"z"},{"$f":"SUMIFS($G$38:$G$60,$D$38:$D$60,Таблица2[[#This Row],[Шир]],$C$38:$C$60,Таблица2[[#This Row],[Дл]],$F$38:$F$60,Таблица2[[#This Row],[АСТРА]])","v":0},1220,2440,3.2,{"$f":"CONCATENATE(Таблица2[[#This Row],[Столбец1]],\" \",Таблица2[[#This Row],[Столбец2]])","v":"ДВП 3.2"},{"$f":"SUMIFS($K$38:$K$60,$C$38:$C$60,Таблица2[[#This Row],[Дл]],$D$38:$D$60,Таблица2[[#This Row],[Шир]],$F$38:$F$60,Таблица2[[#This Row],[АСТРА]])","v":0},{"$f":"SUMIFS($K$38:$K$60,$C$38:$C$60,\"<\"&Таблица2[[#This Row],[Дл]],$D$38:$D$60,Таблица2[[#This Row],[Шир]],$F$38:$F$60,Таблица2[[#This Row],[АСТРА]])+SUMIFS($K$38:$K$60,$C$38:$C$60,Таблица2[[#This Row],[Дл]],$D$38:$D$60,\"<\"&Таблица2[[#This Row],[Шир]],$F$38:$F$60,Таблица2[[#This Row],[АСТРА]])+SUMIFS($K$38:$K$60,$C$38:$C$60,\"<\"&Таблица2[[#This Row],[Дл]],$D$38:$D$60,\"<\"&Таблица2[[#This Row],[Шир]],$F$38:$F$60,Таблица2[[#This Row],[АСТРА]])","v":0},{"$f":"SUMIFS($H$38:$H$60,$F$38:$F$60,Таблица2[[#This Row],[АСТРА]])","v":0},{"$f":"SUMIFS($I$38:$I$60,$F$38:$F$60,Таблица2[[#This Row],[АСТРА]])","v":0},{"$f":"Таблица2[[#This Row],[пл.лист.цел]]+Таблица2[[#This Row],[ост.на.склад]]-Таблица2[[#This Row],[ост.на.скл]]-Таблица2[[#This Row],[дет]]","v":0},"ДВП, 3.2 мм","ДВП",{"$f":"SUBSTITUTE(Таблица2[[#This Row],[Толщ]],\",\",\".\")","v":"3.2"}]
[{"$f":"IF(Таблица2[[#This Row],[дет]]=0,\"z\",\"\")","v":"z"},{"$f":"SUMIFS($G$38:$G$60,$D$38:$D$60,Таблица2[[#This Row],[Шир]],$C$38:$C$60,Таблица2[[#This Row],[Дл]],$F$38:$F$60,Таблица2[[#This Row],[АСТРА]])","v":0},3000,2400,3,{"$f":"CONCATENATE(Таблица2[[#This Row],[Столбец1]],\" \",Таблица2[[#This Row],[Столбец2]])","v":"Картон 3"},{"$f":"SUMIFS($K$38:$K$60,$C$38:$C$60,Таблица2[[#This Row],[Дл]],$D$38:$D$60,Таблица2[[#This Row],[Шир]],$F$38:$F$60,Таблица2[[#This Row],[АСТРА]])","v":0},{"$f":"SUMIFS($K$38:$K$60,$C$38:$C$60,\"<\"&Таблица2[[#This Row],[Дл]],$D$38:$D$60,Таблица2[[#This Row],[Шир]],$F$38:$F$60,Таблица2[[#This Row],[АСТРА]])+SUMIFS($K$38:$K$60,$C$38:$C$60,Таблица2[[#This Row],[Дл]],$D$38:$D$60,\"<\"&Таблица2[[#This Row],[Шир]],$F$38:$F$60,Таблица2[[#This Row],[АСТРА]])+SUMIFS($K$38:$K$60,$C$38:$C$60,\"<\"&Таблица2[[#This Row],[Дл]],$D$38:$D$60,\"<\"&Таблица2[[#This Row],[Шир]],$F$38:$F$60,Таблица2[[#This Row],[АСТРА]])","v":0},{"$f":"SUMIFS($H$38:$H$60,$F$38:$F$60,Таблица2[[#This Row],[АСТРА]])","v":0},{"$f":"SUMIFS($I$38:$I$60,$F$38:$F$60,Таблица2[[#This Row],[АСТРА]])","v":0},{"$f":"Таблица2[[#This Row],[пл.лист.цел]]+Таблица2[[#This Row],[ост.на.склад]]-Таблица2[[#This Row],[ост.на.скл]]-Таблица2[[#This Row],[дет]]","v":0},"Картон, 3.0 мм","Картон",{"$f":"SUBSTITUTE(Таблица2[[#This Row],[Толщ]],\",\",\".\")","v":"3"}]
[{"$f":"IF(Таблица2[[#This Row],[дет]]=0,\"z\",\"\")","v":"z"},{"$f":"SUMIFS($G$38:$G$60,$D$38:$D$60,Таблица2[[#This Row],[Шир]],$C$38:$C$60,Таблица2[[#This Row],[Дл]],$F$38:$F$60,Таблица2[[#This Row],[АСТРА]])","v":0},1500,2500,4,{"$f":"CONCATENATE(Таблица2[[#This Row],[Столбец1]],\" \",Таблица2[[#This Row],[Столбец2]])","v":"Картон 4"},{"$f":"SUMIFS($K$38:$K$60,$C$38:$C$60,Таблица2[[#This Row],[Дл]],$D$38:$D$60,Таблица2[[#This Row],[Шир]],$F$38:$F$60,Таблица2[[#This Row],[АСТРА]])","v":0},{"$f":"SUMIFS($K$38:$K$60,$C$38:$C$60,\"<\"&Таблица2[[#This Row],[Дл]],$D$38:$D$60,Таблица2[[#This Row],[Шир]],$F$38:$F$60,Таблица2[[#This Row],[АСТРА]])+SUMIFS($K$38:$K$60,$C$38:$C$60,Таблица2[[#This Row],[Дл]],$D$38:$D$60,\"<\"&Таблица2[[#This Row],[Шир]],$F$38:$F$60,Таблица2[[#This Row],[АСТРА]])+SUMIFS($K$38:$K$60,$C$38:$C$60,\"<\"&Таблица2[[#This Row],[Дл]],$D$38:$D$60,\"<\"&Таблица2[[#This Row],[Шир]],$F$38:$F$60,Таблица2[[#This Row],[АСТРА]])","v":0},{"$f":"SUMIFS($H$38:$H$60,$F$38:$F$60,Таблица2[[#This Row],[АСТРА]])","v":0},{"$f":"SUMIFS($I$38:$I$60,$F$38:$F$60,Таблица2[[#This Row],[АСТРА]])","v":0},{"$f":"Таблица2[[#This Row],[пл.лист.цел]]+Таблица2[[#This Row],[ост.на.склад]]-Таблица2[[#This Row],[ост.на.скл]]-Таблица2[[#This Row],[дет]]","v":0},"Картон, 4.0 мм","Картон",{"$f":"SUBSTITUTE(Таблица2[[#This Row],[Толщ]],\",\",\".\")","v":"4"}]
[]
[]
[null,"Подпись",null,null,null,"Инженер-технолог"]
[]
[null,"Подпись",null,null,null,"Нач техотдела"]
[]
[null,"Подпись",null,null,null,"Генеральный директор",null,null,null,{"$f":"SUM(Таблица2[[#All],[дет]])","v":0}]
[]
[]
[]
[]
[]
[]
[]
[null,null,null,null,null,"ЕСЛИ(ПВХ!B67=0;\"\";СЦЕПИТЬ(ПВХ!B67;\" шт.   \";ПВХ!C67;\"х\";ПВХ!D67))"]

{"sheet":"«З»","index":4,"n_rows":189,"n_cols":15,"rows_kept":189,"cut":false,"hidden":false,"merged":[[7,4,7,10],[4,6,4,8],[12,0,14,0],[55,11,55,14],[174,11,174,14],[12,3,12,10],[6,8,6,10],[13,5,14,5],[13,4,14,4],[13,3,14,3],[12,2,14,2],[12,1,14,1],[13,6,13,7],[13,8,13,9],[6,2,6,7],[9,1,9,2],[10,1,10,2],[12,11,14,11],[12,12,14,12],[12,13,14,13],[12,14,14,14],[13,10,14,10]]}
["z"]
[null,"Утверждено:"]
[null,null,null,null,null,null,"Лимит установил"]
[]
[null,"Дата:",null,null,null,null,"Не все данные!"]
[]
[null,null,"Лимитно-заборная карта ЛЗК №",null,null,null,null,null,"30272 (050.05.23) № 08",null,null,"З"]
[null,null,null,"на отпуск материалов на изделие  ",{"$f":"ПРОВОЛОКА!M4","v":0}]
[]
[null,"Количество общее: ",null,{"$f":"CONCATENATE(ПРОВОЛОКА!C5,\" шт.\")","v":"1 шт."}]
[]
[]
[null,"Остаток с \nпредыдущей\nЛЗК","Наименование","Количество",null,null,null,null,null,null,null,"Примечание","Дата выдачи","Ф.И.О. получателя","Подпись"]
[null,null,null,"Необходимо \nпо норме","Получить \nсо склада","Получено факт","Деловой остаток",null,"Вернуть лом"]
[null,null,null,null,null,null,"Теор.","∑","Теор.","∑"]
[{"$f":"IF(D16=\"\",\"z\",\"\")","v":"z"},null,"Проволока Ø 2",{"$f":"IF(ПРОВОЛОКА!S40=0,\"\",ПРОВОЛОКА!S40)","v":""},null,null,null,null,null,null,"кг"]
[{"$f":"IF(D17=\"\",\"z\",\"\")","v":"z"},null,"Проволока Ø 2,5",{"$f":"IF(ПРОВОЛОКА!S71=0,\"\",ПРОВОЛОКА!S71)","v":""},null,null,null,null,null,null,"кг"]
["z",null,"Проволока Ø 2,9",{"$f":"IF(ПРОВОЛОКА!S102=0,\"\",ПРОВОЛОКА!S102)","v":""},null,null,null,null,null,null,"кг"]
["z",null,"Проволока Ø 3,4",{"$f":"IF(ПРОВОЛОКА!S133=0,\"\",ПРОВОЛОКА!S133)","v":""},null,null,null,null,null,null,"кг"]
["z",null,"Проволока Ø 3,8",{"$f":"IF(ПРОВОЛОКА!S164=0,\"\",ПРОВОЛОКА!S164)","v":""},null,null,null,null,null,null,"кг"]
["z",null,"Проволока Ø 4,8",{"$f":"IF(ПРОВОЛОКА!S102=0,\"\",ПРОВОЛОКА!S102)","v":""},null,null,null,null,null,null,"кг"]
["z",null,"Проволока Ø 6",{"$f":"IF(ПРОВОЛОКА!S226=0,\"\",ПРОВОЛОКА!S226)","v":""},null,null,null,null,null,null,"кг"]
[null,null,"Проволока Ø 8",{"$f":"IF(ПРОВОЛОКА!S257=0,\"\",ПРОВОЛОКА!S257)","v":""},null,null,null,null,null,null,"кг"]
[]
["z",null,{"$f":"ЛИСТ!I124","v":"Лист 0,4"},{"$f":"IF(ЛИСТ!Z124=0,\"\",ROUND(ЛИСТ!Z124,3))","v":""},{"$f":"CONCATENATE(IF(ЛИСТ!M124=0,\"\",ROUND(ЛИСТ!M124,3)),IF(AND(ЛИСТ!M124>0,ЛИСТ!N124>0),\"+\",\"\"),IF(ЛИСТ!N124=0,\"\",CONCATENATE(\"(\",ROUND(ЛИСТ!N124,3),\")\")))","v":""},null,{"$f":"IF(ЛИСТ!R124=0,\"\",ROUND(ЛИСТ!R124,3))","v":""},null,{"$f":"IF(ЛИСТ!V124=0,\"\",ROUND(ЛИСТ!V124,3))","v":""},null,"кг",{"$f":"IF(ЛИСТ!G124=0,\"\",CONCATENATE(ЛИСТ!G124,\" шт.   \",ЛИСТ!C124,\"х\",ЛИСТ!D124))","v":""}]
[{"$f":"IF(D26=\"\",\"z\",\"\")","v":"z"},null,{"$f":"ЛИСТ!I125","v":"Лист 0,6"},{"$f":"IF(ЛИСТ!Z125=0,\"\",ROUND(ЛИСТ!Z125,3))","v":""},{"$f":"CONCATENATE(IF(ЛИСТ!M125=0,\"\",ROUND(ЛИСТ!M125,3)),IF(AND(ЛИСТ!M125>0,ЛИСТ!N125>0),\"+\",\"\"),IF(ЛИСТ!N125=0,\"\",CONCATENATE(\"(\",ROUND(ЛИСТ!N125,3),\")\")))","v":""},null,{"$f":"IF(ЛИСТ!R125=0,\"\",ROUND(ЛИСТ!R125,3))","v":""},null,{"$f":"IF(ЛИСТ!V125=0,\"\",ROUND(ЛИСТ!V125,3))","v":""},null,"кг",{"$f":"IF(ЛИСТ!G125=0,\"\",CONCATENATE(ЛИСТ!G125,\" шт.   \",ЛИСТ!C125,\"х\",ЛИСТ!D125))","v":""}]
["z",null,{"$f":"ЛИСТ!I126","v":"Лист 0,7"},{"$f":"IF(ЛИСТ!Z126=0,\"\",ROUND(ЛИСТ!Z126,3))","v":""},{"$f":"CONCATENATE(IF(ЛИСТ!M126=0,\"\",ROUND(ЛИСТ!M126,3)),IF(AND(ЛИСТ!M126>0,ЛИСТ!N126>0),\"+\",\"\"),IF(ЛИСТ!N126=0,\"\",CONCATENATE(\"(\",ROUND(ЛИСТ!N126,3),\")\")))","v":""},null,{"$f":"IF(ЛИСТ!R126=0,\"\",ROUND(ЛИСТ!R126,3))","v":""},null,{"$f":"IF(ЛИСТ!V126=0,\"\",ROUND(ЛИСТ!V126,3))","v":""},null,"кг",{"$f":"IF(ЛИСТ!G126=0,\"\",CONCATENATE(ЛИСТ!G126,\" шт.   \",ЛИСТ!C126,\"х\",ЛИСТ!D126))","v":""}]
["z",null,{"$f":"ЛИСТ!I127","v":"Лист 0,8"},{"$f":"IF(ЛИСТ!Z127=0,\"\",ROUND(ЛИСТ!Z127,3))","v":""},{"$f":"CONCATENATE(IF(ЛИСТ!M127=0,\"\",ROUND(ЛИСТ!M127,3)),IF(AND(ЛИСТ!M127>0,ЛИСТ!N127>0),\"+\",\"\"),IF(ЛИСТ!N127=0,\"\",CONCATENATE(\"(\",ROUND(ЛИСТ!N127,3),\")\")))","v":""},null,{"$f":"IF(ЛИСТ!R127=0,\"\",ROUND(ЛИСТ!R127,3))","v":""},null,{"$f":"IF(ЛИСТ!V127=0,\"\",ROUND(ЛИСТ!V127,3))","v":""},null,"кг",{"$f":"IF(ЛИСТ!G127=0,\"\",CONCATENATE(ЛИСТ!G127,\" шт.   \",ЛИСТ!C127,\"х\",ЛИСТ!D127))","v":""}]
["z",null,{"$f":"ЛИСТ!I128","v":"Лист 1"},{"$f":"IF(ЛИСТ!Z128=0,\"\",ROUND(ЛИСТ!Z128,3))","v":""},{"$f":"CONCATENATE(IF(ЛИСТ!M128=0,\"\",ROUND(ЛИСТ!M128,3)),IF(AND(ЛИСТ!M128>0,ЛИСТ!N128>0),\"+\",\"\"),IF(ЛИСТ!N128=0,\"\",CONCATENATE(\"(\",ROUND(ЛИСТ!N128,3),\")\")))","v":""},null,{"$f":"IF(ЛИСТ!R128=0,\"\",ROUND(ЛИСТ!R128,3))","v":""},null,{"$f":"IF(ЛИСТ!V128=0,\"\",ROUND(ЛИСТ!V128,3))","v":""},null,"кг",{"$f":"IF(ЛИСТ!G128=0,\"\",CONCATENATE(ЛИСТ!G128,\" шт.   \",ЛИСТ!C128,\"х\",ЛИСТ!D128))","v":""}]
["z",null,{"$f":"ЛИСТ!I129","v":"Лист 1,2"},{"$f":"IF(ЛИСТ!Z129=0,\"\",ROUND(ЛИСТ!Z129,3))","v":""},{"$f":"CONCATENATE(IF(ЛИСТ!M129=0,\"\",ROUND(ЛИСТ!M129,3)),IF(AND(ЛИСТ!M129>0,ЛИСТ!N129>0),\"+\",\"\"),IF(ЛИСТ!N129=0,\"\",CONCATENATE(\"(\",ROUND(ЛИСТ!N129,3),\")\")))","v":""},null,{"$f":"IF(ЛИСТ!R129=0,\"\",ROUND(ЛИСТ!R129,3))","v":""},null,{"$f":"IF(ЛИСТ!V129=0,\"\",ROUND(ЛИСТ!V129,3))","v":""},null,"кг",{"$f":"IF(ЛИСТ!G129=0,\"\",CONCATENATE(ЛИСТ!G129,\" шт.   \",ЛИСТ!C129,\"х\",ЛИСТ!D129))","v":""}]
["z",null,{"$f":"ЛИСТ!I130","v":"Лист 1,5"},{"$f":"IF(ЛИСТ!Z130=0,\"\",ROUND(ЛИСТ!Z130,3))","v":""},{"$f":"CONCATENATE(IF(ЛИСТ!M130=0,\"\",ROUND(ЛИСТ!M130,3)),IF(AND(ЛИСТ!M130>0,ЛИСТ!N130>0),\"+\",\"\"),IF(ЛИСТ!N130=0,\"\",CONCATENATE(\"(\",ROUND(ЛИСТ!N130,3),\")\")))","v":""},null,{"$f":"IF(ЛИСТ!R130=0,\"\",ROUND(ЛИСТ!R130,3))","v":""},null,{"$f":"IF(ЛИСТ!V130=0,\"\",ROUND(ЛИСТ!V130,3))","v":""},null,"кг",{"$f":"IF(ЛИСТ!G130=0,\"\",CONCATENATE(ЛИСТ!G130,\" шт.   \",ЛИСТ!C130,\"х\",ЛИСТ!D130))","v":""}]
["z",null,{"$f":"ЛИСТ!I131","v":"Лист 2"},{"$f":"IF(ЛИСТ!Z131=0,\"\",ROUND(ЛИСТ!Z131,3))","v":""},{"$f":"CONCATENATE(IF(ЛИСТ!M131=0,\"\",ROUND(ЛИСТ!M131,3)),IF(AND(ЛИСТ!M131>0,ЛИСТ!N131>0),\"+\",\"\"),IF(ЛИСТ!N131=0,\"\",CONCATENATE(\"(\",ROUND(ЛИСТ!N131,3),\")\")))","v":""},null,{"$f":"IF(ЛИСТ!R131=0,\"\",ROUND(ЛИСТ!R131,3))","v":""},null,{"$f":"IF(ЛИСТ!V131=0,\"\",ROUND(ЛИСТ!V131,3))","v":""},null,"кг",{"$f":"IF(ЛИСТ!G131=0,\"\",CONCATENATE(ЛИСТ!G131,\" шт.   \",ЛИСТ!C131,\"х\",ЛИСТ!D131))","v":""}]
["z",null,{"$f":"ЛИСТ!I132","v":"Лист 2,5"},{"$f":"IF(ЛИСТ!Z132=0,\"\",ROUND(ЛИСТ!Z132,3))","v":""},{"$f":"CONCATENATE(IF(ЛИСТ!M132=0,\"\",ROUND(ЛИСТ!M132,3)),IF(AND(ЛИСТ!M132>0,ЛИСТ!N132>0),\"+\",\"\"),IF(ЛИСТ!N132=0,\"\",CONCATENATE(\"(\",ROUND(ЛИСТ!N132,3),\")\")))","v":""},null,{"$f":"IF(ЛИСТ!R132=0,\"\",ROUND(ЛИСТ!R132,3))","v":""},null,{"$f":"IF(ЛИСТ!V132=0,\"\",ROUND(ЛИСТ!V132,3))","v":""},null,"кг",{"$f":"IF(ЛИСТ!G132=0,\"\",CONCATENATE(ЛИСТ!G132,\" шт.   \",ЛИСТ!C132,\"х\",ЛИСТ!D132))","v":""}]
["z",null,{"$f":"ЛИСТ!I133","v":"Лист 3"},{"$f":"IF(ЛИСТ!Z133=0,\"\",ROUND(ЛИСТ!Z133,3))","v":""},{"$f":"CONCATENATE(IF(ЛИСТ!M133=0,\"\",ROUND(ЛИСТ!M133,3)),IF(AND(ЛИСТ!M133>0,ЛИСТ!N133>0),\"+\",\"\"),IF(ЛИСТ!N133=0,\"\",CONCATENATE(\"(\",ROUND(ЛИСТ!N133,3),\")\")))","v":""},null,{"$f":"IF(ЛИСТ!R133=0,\"\",ROUND(ЛИСТ!R133,3))","v":""},null,{"$f":"IF(ЛИСТ!V133=0,\"\",ROUND(ЛИСТ!V133,3))","v":""},null,"кг",{"$f":"IF(ЛИСТ!G133=0,\"\",CONCATENATE(ЛИСТ!G133,\" шт.   \",ЛИСТ!C133,\"х\",ЛИСТ!D133))","v":""}]
["z",null,{"$f":"ЛИСТ!I134","v":"Лист 4"},{"$f":"IF(ЛИСТ!Z134=0,\"\",ROUND(ЛИСТ!Z134,3))","v":""},{"$f":"CONCATENATE(IF(ЛИСТ!M134=0,\"\",ROUND(ЛИСТ!M134,3)),IF(AND(ЛИСТ!M134>0,ЛИСТ!N134>0),\"+\",\"\"),IF(ЛИСТ!N134=0,\"\",CONCATENATE(\"(\",ROUND(ЛИСТ!N134,3),\")\")))","v":""},null,{"$f":"IF(ЛИСТ!R134=0,\"\",ROUND(ЛИСТ!R134,3))","v":""},null,{"$f":"IF(ЛИСТ!V134=0,\"\",ROUND(ЛИСТ!V134,3))","v":""},null,"кг",{"$f":"IF(ЛИСТ!G134=0,\"\",CONCATENATE(ЛИСТ!G134,\" шт.   \",ЛИСТ!C134,\"х\",ЛИСТ!D134))","v":""}]
["z",null,{"$f":"ЛИСТ!I135","v":"Лист 5"},{"$f":"IF(ЛИСТ!Z135=0,\"\",ROUND(ЛИСТ!Z135,3))","v":""},{"$f":"CONCATENATE(IF(ЛИСТ!M135=0,\"\",ROUND(ЛИСТ!M135,3)),IF(AND(ЛИСТ!M135>0,ЛИСТ!N135>0),\"+\",\"\"),IF(ЛИСТ!N135=0,\"\",CONCATENATE(\"(\",ROUND(ЛИСТ!N135,3),\")\")))","v":""},null,{"$f":"IF(ЛИСТ!R135=0,\"\",ROUND(ЛИСТ!R135,3))","v":""},null,{"$f":"IF(ЛИСТ!V135=0,\"\",ROUND(ЛИСТ!V135,3))","v":""},null,"кг",{"$f":"IF(ЛИСТ!G135=0,\"\",CONCATENATE(ЛИСТ!G135,\" шт.   \",ЛИСТ!C135,\"х\",ЛИСТ!D135))","v":""}]
["z",null,{"$f":"ЛИСТ!I136","v":"Лист 6"},{"$f":"IF(ЛИСТ!Z136=0,\"\",ROUND(ЛИСТ!Z136,3))","v":""},{"$f":"CONCATENATE(IF(ЛИСТ!M136=0,\"\",ROUND(ЛИСТ!M136,3)),IF(AND(ЛИСТ!M136>0,ЛИСТ!N136>0),\"+\",\"\"),IF(ЛИСТ!N136=0,\"\",CONCATENATE(\"(\",ROUND(ЛИСТ!N136,3),\")\")))","v":""},null,{"$f":"IF(ЛИСТ!R136=0,\"\",ROUND(ЛИСТ!R136,3))","v":""},null,{"$f":"IF(ЛИСТ!V136=0,\"\",ROUND(ЛИСТ!V136,3))","v":""},null,"кг",{"$f":"IF(ЛИСТ!G136=0,\"\",CONCATENATE(ЛИСТ!G136,\" шт.   \",ЛИСТ!C136,\"х\",ЛИСТ!D136))","v":""}]
["z",null,{"$f":"ЛИСТ!I137","v":"Лист 8"},{"$f":"IF(ЛИСТ!Z137=0,\"\",ROUND(ЛИСТ!Z137,3))","v":""},{"$f":"CONCATENATE(IF(ЛИСТ!M137=0,\"\",ROUND(ЛИСТ!M137,3)),IF(AND(ЛИСТ!M137>0,ЛИСТ!N137>0),\"+\",\"\"),IF(ЛИСТ!N137=0,\"\",CONCATENATE(\"(\",ROUND(ЛИСТ!N137,3),\")\")))","v":""},null,{"$f":"IF(ЛИСТ!R137=0,\"\",ROUND(ЛИСТ!R137,3))","v":""},null,{"$f":"IF(ЛИСТ!V137=0,\"\",ROUND(ЛИСТ!V137,3))","v":""},null,"кг",{"$f":"IF(ЛИСТ!G137=0,\"\",CONCATENATE(ЛИСТ!G137,\" шт.   \",ЛИСТ!C137,\"х\",ЛИСТ!D137))","v":""}]
["z",null,{"$f":"ЛИСТ!I138","v":"Лист НЖ AISI 304 1"},{"$f":"IF(ЛИСТ!Z138=0,\"\",ROUND(ЛИСТ!Z138,3))","v":""},{"$f":"CONCATENATE(IF(ЛИСТ!M138=0,\"\",ROUND(ЛИСТ!M138,3)),IF(AND(ЛИСТ!M138>0,ЛИСТ!N138>0),\"+\",\"\"),IF(ЛИСТ!N138=0,\"\",CONCATENATE(\"(\",ROUND(ЛИСТ!N138,3),\")\")))","v":""},null,{"$f":"IF(ЛИСТ!R138=0,\"\",ROUND(ЛИСТ!R138,3))","v":""},null,{"$f":"IF(ЛИСТ!V138=0,\"\",ROUND(ЛИСТ!V138,3))","v":""},null,"кг",{"$f":"IF(ЛИСТ!G138=0,\"\",CONCATENATE(ЛИСТ!G138,\" шт.   \",ЛИСТ!C138,\"х\",ЛИСТ!D138))","v":""}]
["z",null,{"$f":"ЛИСТ!I139","v":"Лист НЖ AISI 304 1,2"},{"$f":"IF(ЛИСТ!Z139=0,\"\",ROUND(ЛИСТ!Z139,3))","v":""},{"$f":"CONCATENATE(IF(ЛИСТ!M139=0,\"\",ROUND(ЛИСТ!M139,3)),IF(AND(ЛИСТ!M139>0,ЛИСТ!N139>0),\"+\",\"\"),IF(ЛИСТ!N139=0,\"\",CONCATENATE(\"(\",ROUND(ЛИСТ!N139,3),\")\")))","v":""},null,{"$f":"IF(ЛИСТ!R139=0,\"\",ROUND(ЛИСТ!R139,3))","v":""},null,{"$f":"IF(ЛИСТ!V139=0,\"\",ROUND(ЛИСТ!V139,3))","v":""},null,"кг",{"$f":"IF(ЛИСТ!G139=0,\"\",CONCATENATE(ЛИСТ!G139,\" шт.   \",ЛИСТ!C139,\"х\",ЛИСТ!D139))","v":""}]
["z",null,{"$f":"ЛИСТ!I140","v":"Лист НЖ AISI 304 1,5"},{"$f":"IF(ЛИСТ!Z140=0,\"\",ROUND(ЛИСТ!Z140,3))","v":""},{"$f":"CONCATENATE(IF(ЛИСТ!M140=0,\"\",ROUND(ЛИСТ!M140,3)),IF(AND(ЛИСТ!M140>0,ЛИСТ!N140>0),\"+\",\"\"),IF(ЛИСТ!N140=0,\"\",CONCATENATE(\"(\",ROUND(ЛИСТ!N140,3),\")\")))","v":""},null,{"$f":"IF(ЛИСТ!R140=0,\"\",ROUND(ЛИСТ!R140,3))","v":""},null,{"$f":"IF(ЛИСТ!V140=0,\"\",ROUND(ЛИСТ!V140,3))","v":""},null,"кг",{"$f":"IF(ЛИСТ!G140=0,\"\",CONCATENATE(ЛИСТ!G140,\" шт.   \",ЛИСТ!C140,\"х\",ЛИСТ!D140))","v":""}]
["z",null,{"$f":"ЛИСТ!I141","v":"Лист НЖ AISI 304 2"},{"$f":"IF(ЛИСТ!Z141=0,\"\",ROUND(ЛИСТ!Z141,3))","v":""},{"$f":"CONCATENATE(IF(ЛИСТ!M141=0,\"\",ROUND(ЛИСТ!M141,3)),IF(AND(ЛИСТ!M141>0,ЛИСТ!N141>0),\"+\",\"\"),IF(ЛИСТ!N141=0,\"\",CONCATENATE(\"(\",ROUND(ЛИСТ!N141,3),\")\")))","v":""},null,{"$f":"IF(ЛИСТ!R141=0,\"\",ROUND(ЛИСТ!R141,3))","v":""},null,{"$f":"IF(ЛИСТ!V141=0,\"\",ROUND(ЛИСТ!V141,3))","v":""},null,"кг",{"$f":"IF(ЛИСТ!G141=0,\"\",CONCATENATE(ЛИСТ!G141,\" шт.   \",ЛИСТ!C141,\"х\",ЛИСТ!D141))","v":""}]
["z",null,{"$f":"ЛИСТ!I142","v":"Лист НЖ AISI 304 3"},{"$f":"IF(ЛИСТ!Z142=0,\"\",ROUND(ЛИСТ!Z142,3))","v":""},{"$f":"CONCATENATE(IF(ЛИСТ!M142=0,\"\",ROUND(ЛИСТ!M142,3)),IF(AND(ЛИСТ!M142>0,ЛИСТ!N142>0),\"+\",\"\"),IF(ЛИСТ!N142=0,\"\",CONCATENATE(\"(\",ROUND(ЛИСТ!N142,3),\")\")))","v":""},null,{"$f":"IF(ЛИСТ!R142=0,\"\",ROUND(ЛИСТ!R142,3))","v":""},null,{"$f":"IF(ЛИСТ!V142=0,\"\",ROUND(ЛИСТ!V142,3))","v":""},null,"кг",{"$f":"IF(ЛИСТ!G142=0,\"\",CONCATENATE(ЛИСТ!G142,\" шт.   \",ЛИСТ!C142,\"х\",ЛИСТ!D142))","v":""}]
["z",null,{"$f":"ЛИСТ!I143","v":"Лист ОЦ 0,8"},{"$f":"IF(ЛИСТ!Z143=0,\"\",ROUND(ЛИСТ!Z143,3))","v":""},{"$f":"CONCATENATE(IF(ЛИСТ!M143=0,\"\",ROUND(ЛИСТ!M143,3)),IF(AND(ЛИСТ!M143>0,ЛИСТ!N143>0),\"+\",\"\"),IF(ЛИСТ!N143=0,\"\",CONCATENATE(\"(\",ROUND(ЛИСТ!N143,3),\")\")))","v":""},null,{"$f":"IF(ЛИСТ!R143=0,\"\",ROUND(ЛИСТ!R143,3))","v":""},null,{"$f":"IF(ЛИСТ!V143=0,\"\",ROUND(ЛИСТ!V143,3))","v":""},null,"кг",{"$f":"IF(ЛИСТ!G143=0,\"\",CONCATENATE(ЛИСТ!G143,\" шт.   \",ЛИСТ!C143,\"х\",ЛИСТ!D143))","v":""}]
["z",null,{"$f":"ЛИСТ!I144","v":"Лист ОЦ 1"},{"$f":"IF(ЛИСТ!Z144=0,\"\",ROUND(ЛИСТ!Z144,3))","v":""},{"$f":"CONCATENATE(IF(ЛИСТ!M144=0,\"\",ROUND(ЛИСТ!M144,3)),IF(AND(ЛИСТ!M144>0,ЛИСТ!N144>0),\"+\",\"\"),IF(ЛИСТ!N144=0,\"\",CONCATENATE(\"(\",ROUND(ЛИСТ!N144,3),\")\")))","v":""},null,{"$f":"IF(ЛИСТ!R144=0,\"\",ROUND(ЛИСТ!R144,3))","v":""},null,{"$f":"IF(ЛИСТ!V144=0,\"\",ROUND(ЛИСТ!V144,3))","v":""},null,"кг",{"$f":"IF(ЛИСТ!G144=0,\"\",CONCATENATE(ЛИСТ!G144,\" шт.   \",ЛИСТ!C144,\"х\",ЛИСТ!D144))","v":""}]
["z",null,{"$f":"ЛИСТ!I145","v":"Лист ОЦ 1,5"},{"$f":"IF(ЛИСТ!Z145=0,\"\",ROUND(ЛИСТ!Z145,3))","v":""},{"$f":"CONCATENATE(IF(ЛИСТ!M145=0,\"\",ROUND(ЛИСТ!M145,3)),IF(AND(ЛИСТ!M145>0,ЛИСТ!N145>0),\"+\",\"\"),IF(ЛИСТ!N145=0,\"\",CONCATENATE(\"(\",ROUND(ЛИСТ!N145,3),\")\")))","v":""},null,{"$f":"IF(ЛИСТ!R145=0,\"\",ROUND(ЛИСТ!R145,3))","v":""},null,{"$f":"IF(ЛИСТ!V145=0,\"\",ROUND(ЛИСТ!V145,3))","v":""},null,"кг",{"$f":"IF(ЛИСТ!G145=0,\"\",CONCATENATE(ЛИСТ!G145,\" шт.   \",ЛИСТ!C145,\"х\",ЛИСТ!D145))","v":""}]
["z",null,{"$f":"ЛИСТ!I146","v":"Лист ОЦ 2"},{"$f":"IF(ЛИСТ!Z146=0,\"\",ROUND(ЛИСТ!Z146,3))","v":""},{"$f":"CONCATENATE(IF(ЛИСТ!M146=0,\"\",ROUND(ЛИСТ!M146,3)),IF(AND(ЛИСТ!M146>0,ЛИСТ!N146>0),\"+\",\"\"),IF(ЛИСТ!N146=0,\"\",CONCATENATE(\"(\",ROUND(ЛИСТ!N146,3),\")\")))","v":""},null,{"$f":"IF(ЛИСТ!R146=0,\"\",ROUND(ЛИСТ!R146,3))","v":""},null,{"$f":"IF(ЛИСТ!V146=0,\"\",ROUND(ЛИСТ!V146,3))","v":""},null,"кг",{"$f":"IF(ЛИСТ!G146=0,\"\",CONCATENATE(ЛИСТ!G146,\" шт.   \",ЛИСТ!C146,\"х\",ЛИСТ!D146))","v":""}]
["z",null,{"$f":"ЛИСТ!I147","v":"Сетка ПВЛ 1"},{"$f":"IF(ЛИСТ!Z147=0,\"\",ROUND(ЛИСТ!Z147,3))","v":""},{"$f":"CONCATENATE(IF(ЛИСТ!M147=0,\"\",ROUND(ЛИСТ!M147,3)),IF(AND(ЛИСТ!M147>0,ЛИСТ!N147>0),\"+\",\"\"),IF(ЛИСТ!N147=0,\"\",CONCATENATE(\"(\",ROUND(ЛИСТ!N147,3),\")\")))","v":""},null,{"$f":"IF(ЛИСТ!R147=0,\"\",ROUND(ЛИСТ!R147,3))","v":""},null,{"$f":"IF(ЛИСТ!V147=0,\"\",ROUND(ЛИСТ!V147,3))","v":""},null,"кг",{"$f":"IF(ЛИСТ!G147=0,\"\",CONCATENATE(ЛИСТ!G147,\" шт.   \",ЛИСТ!C147,\"х\",ЛИСТ!D147))","v":""}]
["z",null,{"$f":"ЛИСТ!I148","v":"Сетка ПВЛ 5"},{"$f":"IF(ЛИСТ!Z148=0,\"\",ROUND(ЛИСТ!Z148,3))","v":""},{"$f":"CONCATENATE(IF(ЛИСТ!M148=0,\"\",ROUND(ЛИСТ!M148,3)),IF(AND(ЛИСТ!M148>0,ЛИСТ!N148>0),\"+\",\"\"),IF(ЛИСТ!N148=0,\"\",CONCATENATE(\"(\",ROUND(ЛИСТ!N148,3),\")\")))","v":""},null,{"$f":"IF(ЛИСТ!R148=0,\"\",ROUND(ЛИСТ!R148,3))","v":""},null,{"$f":"IF(ЛИСТ!V148=0,\"\",ROUND(ЛИСТ!V148,3))","v":""},null,"кг",{"$f":"IF(ЛИСТ!G148=0,\"\",CONCATENATE(ЛИСТ!G148,\" шт.   \",ЛИСТ!C148,\"х\",ЛИСТ!D148))","v":""}]
["z",null,{"$f":"ЛИСТ!I149","v":"Сталь котловая 3"},{"$f":"IF(ЛИСТ!Z149=0,\"\",ROUND(ЛИСТ!Z149,3))","v":""},{"$f":"CONCATENATE(IF(ЛИСТ!M149=0,\"\",ROUND(ЛИСТ!M149,3)),IF(AND(ЛИСТ!M149>0,ЛИСТ!N149>0),\"+\",\"\"),IF(ЛИСТ!N149=0,\"\",CONCATENATE(\"(\",ROUND(ЛИСТ!N149,3),\")\")))","v":""},null,{"$f":"IF(ЛИСТ!R149=0,\"\",ROUND(ЛИСТ!R149,3))","v":""},null,{"$f":"IF(ЛИСТ!V149=0,\"\",ROUND(ЛИСТ!V149,3))","v":""},null,"кг",{"$f":"IF(ЛИСТ!G149=0,\"\",CONCATENATE(ЛИСТ!G149,\" шт.   \",ЛИСТ!C149,\"х\",ЛИСТ!D149))","v":""}]
["z",null,{"$f":"ЛИСТ!I150","v":"Сталь котловая 4"},{"$f":"IF(ЛИСТ!Z150=0,\"\",ROUND(ЛИСТ!Z150,3))","v":""},{"$f":"CONCATENATE(IF(ЛИСТ!M150=0,\"\",ROUND(ЛИСТ!M150,3)),IF(AND(ЛИСТ!M150>0,ЛИСТ!N150>0),\"+\",\"\"),IF(ЛИСТ!N150=0,\"\",CONCATENATE(\"(\",ROUND(ЛИСТ!N150,3),\")\")))","v":""},null,{"$f":"IF(ЛИСТ!R150=0,\"\",ROUND(ЛИСТ!R150,3))","v":""},null,{"$f":"IF(ЛИСТ!V150=0,\"\",ROUND(ЛИСТ!V150,3))","v":""},null,"кг",{"$f":"IF(ЛИСТ!G150=0,\"\",CONCATENATE(ЛИСТ!G150,\" шт.   \",ЛИСТ!C150,\"х\",ЛИСТ!D150))","v":""}]
["z",null,{"$f":"ЛИСТ!I151","v":"Сталь котловая 5"},{"$f":"IF(ЛИСТ!Z151=0,\"\",ROUND(ЛИСТ!Z151,3))","v":""},{"$f":"CONCATENATE(IF(ЛИСТ!M151=0,\"\",ROUND(ЛИСТ!M151,3)),IF(AND(ЛИСТ!M151>0,ЛИСТ!N151>0),\"+\",\"\"),IF(ЛИСТ!N151=0,\"\",CONCATENATE(\"(\",ROUND(ЛИСТ!N151,3),\")\")))","v":""},null,{"$f":"IF(ЛИСТ!R151=0,\"\",ROUND(ЛИСТ!R151,3))","v":""},null,{"$f":"IF(ЛИСТ!V151=0,\"\",ROUND(ЛИСТ!V151,3))","v":""},null,"кг",{"$f":"IF(ЛИСТ!G151=0,\"\",CONCATENATE(ЛИСТ!G151,\" шт.   \",ЛИСТ!C151,\"х\",ЛИСТ!D151))","v":""}]
[{"$f":"IF(D53=\"\",\"z\",\"\")","v":"z"},null,{"$f":"ЛИСТ!I152","v":0},{"$f":"IF(ЛИСТ!Z152=0,\"\",ROUND(ЛИСТ!Z152,3))","v":""},{"$f":"CONCATENATE(IF(ЛИСТ!M152=0,\"\",ROUND(ЛИСТ!M152,3)),IF(AND(ЛИСТ!M152>0,ЛИСТ!N152>0),\"+\",\"\"),IF(ЛИСТ!N152=0,\"\",CONCATENATE(\"(\",ROUND(ЛИСТ!N152,3),\")\")))","v":""},null,{"$f":"IF(ЛИСТ!R152=0,\"\",ROUND(ЛИСТ!R152,3))","v":""},null,{"$f":"IF(ЛИСТ!V152=0,\"\",ROUND(ЛИСТ!V152,3))","v":""},null,"кг",{"$f":"IF(ЛИСТ!G152=0,\"\",CONCATENATE(ЛИСТ!G152,\" шт.   \",ЛИСТ!C152,\"х\",ЛИСТ!D152))","v":""}]
["z",null,{"$f":"ЛИСТ!I153","v":0},{"$f":"IF(ЛИСТ!Z153=0,\"\",ROUND(ЛИСТ!Z153,3))","v":""},{"$f":"CONCATENATE(IF(ЛИСТ!M153=0,\"\",ROUND(ЛИСТ!M153,3)),IF(AND(ЛИСТ!M153>0,ЛИСТ!N153>0),\"+\",\"\"),IF(ЛИСТ!N153=0,\"\",CONCATENATE(\"(\",ROUND(ЛИСТ!N153,3),\")\")))","v":""},null,{"$f":"IF(ЛИСТ!R153=0,\"\",ROUND(ЛИСТ!R153,3))","v":""},null,{"$f":"IF(ЛИСТ!V153=0,\"\",ROUND(ЛИСТ!V153,3))","v":""},null,"кг",{"$f":"IF(ЛИСТ!G153=0,\"\",CONCATENATE(ЛИСТ!G153,\" шт.   \",ЛИСТ!C153,\"х\",ЛИСТ!D153))","v":""}]
[]
[null,null,null,null,null,null,null,null,null,null,null,"Заготовительный лист"]
[{"$f":"IF(D57=\"\",\"z\",\"\")","v":"z"},null,null,null,null,null,null,null,null,null,"кг"]
[{"$f":"IF(D58=\"\",\"z\",\"\")","v":"z"},null,{"$f":"ТРУБА!H123","v":"Арматура 10"},{"$f":"IF(ТРУБА!W123 =0,\"\",ROUND(ТРУБА!W123,3))","v":""},{"$f":"CONCATENATE(IF(ТРУБА!I123=0,\"\",ROUND(ТРУБА!I123,3)),IF(AND(ТРУБА!I123>0,ТРУБА!J123>0),\"+\",\"\"),IF(ТРУБА!J123=0,\"\",CONCATENATE(\"(\",ROUND(ТРУБА!J123,3),\")\")))","v":""},null,{"$f":"IF(ТРУБА!Q123=0,\"\",ROUND(ТРУБА!Q123,3))","v":""},null,{"$f":"IF(ТРУБА!S123=0,\"\",ROUND(ТРУБА!S123,3))","v":""},null,"кг",{"$f":"IF(ТРУБА!F123=0,\"\",CONCATENATE(ТРУБА!F123,\" шт.   \",ТРУБА!D123))","v":""}]
[{"$f":"IF(D59=\"\",\"z\",\"\")","v":"z"},null,{"$f":"ТРУБА!H124","v":"Арматура 20"},{"$f":"IF(ТРУБА!W124 =0,\"\",ROUND(ТРУБА!W124,3))","v":""},{"$f":"CONCATENATE(IF(ТРУБА!I124=0,\"\",ROUND(ТРУБА!I124,3)),IF(AND(ТРУБА!I124>0,ТРУБА!J124>0),\"+\",\"\"),IF(ТРУБА!J124=0,\"\",CONCATENATE(\"(\",ROUND(ТРУБА!J124,3),\")\")))","v":""},null,{"$f":"IF(ТРУБА!Q124=0,\"\",ROUND(ТРУБА!Q124,3))","v":""},null,{"$f":"IF(ТРУБА!S124=0,\"\",ROUND(ТРУБА!S124,3))","v":""},null,"кг",{"$f":"IF(ТРУБА!F124=0,\"\",CONCATENATE(ТРУБА!F124,\" шт.   \",ТРУБА!D124))","v":""}]
["z",null,{"$f":"ТРУБА!H125","v":"Квадрат 25"},{"$f":"IF(ТРУБА!W125 =0,\"\",ROUND(ТРУБА!W125,3))","v":""},{"$f":"CONCATENATE(IF(ТРУБА!I125=0,\"\",ROUND(ТРУБА!I125,3)),IF(AND(ТРУБА!I125>0,ТРУБА!J125>0),\"+\",\"\"),IF(ТРУБА!J125=0,\"\",CONCATENATE(\"(\",ROUND(ТРУБА!J125,3),\")\")))","v":""},null,{"$f":"IF(ТРУБА!Q125=0,\"\",ROUND(ТРУБА!Q125,3))","v":""},null,{"$f":"IF(ТРУБА!S125=0,\"\",ROUND(ТРУБА!S125,3))","v":""},null,"кг",{"$f":"IF(ТРУБА!F125=0,\"\",CONCATENATE(ТРУБА!F125,\" шт.   \",ТРУБА!D125))","v":""}]
["z",null,{"$f":"ТРУБА!H126","v":"Квадрат 6"},{"$f":"IF(ТРУБА!W126 =0,\"\",ROUND(ТРУБА!W126,3))","v":""},{"$f":"CONCATENATE(IF(ТРУБА!I126=0,\"\",ROUND(ТРУБА!I126,3)),IF(AND(ТРУБА!I126>0,ТРУБА!J126>0),\"+\",\"\"),IF(ТРУБА!J126=0,\"\",CONCATENATE(\"(\",ROUND(ТРУБА!J126,3),\")\")))","v":""},null,{"$f":"IF(ТРУБА!Q126=0,\"\",ROUND(ТРУБА!Q126,3))","v":""},null,{"$f":"IF(ТРУБА!S126=0,\"\",ROUND(ТРУБА!S126,3))","v":""},null,"кг",{"$f":"IF(ТРУБА!F126=0,\"\",CONCATENATE(ТРУБА!F126,\" шт.   \",ТРУБА!D126))","v":""}]
["z",null,{"$f":"ТРУБА!H127","v":"Квадрат 8"},{"$f":"IF(ТРУБА!W127 =0,\"\",ROUND(ТРУБА!W127,3))","v":""},{"$f":"CONCATENATE(IF(ТРУБА!I127=0,\"\",ROUND(ТРУБА!I127,3)),IF(AND(ТРУБА!I127>0,ТРУБА!J127>0),\"+\",\"\"),IF(ТРУБА!J127=0,\"\",CONCATENATE(\"(\",ROUND(ТРУБА!J127,3),\")\")))","v":""},null,{"$f":"IF(ТРУБА!Q127=0,\"\",ROUND(ТРУБА!Q127,3))","v":""},null,{"$f":"IF(ТРУБА!S127=0,\"\",ROUND(ТРУБА!S127,3))","v":""},null,"кг",{"$f":"IF(ТРУБА!F127=0,\"\",CONCATENATE(ТРУБА!F127,\" шт.   \",ТРУБА!D127))","v":""}]
["z",null,{"$f":"ТРУБА!H128","v":"Круг 10"},{"$f":"IF(ТРУБА!W128 =0,\"\",ROUND(ТРУБА!W128,3))","v":""},{"$f":"CONCATENATE(IF(ТРУБА!I128=0,\"\",ROUND(ТРУБА!I128,3)),IF(AND(ТРУБА!I128>0,ТРУБА!J128>0),\"+\",\"\"),IF(ТРУБА!J128=0,\"\",CONCATENATE(\"(\",ROUND(ТРУБА!J128,3),\")\")))","v":""},null,{"$f":"IF(ТРУБА!Q128=0,\"\",ROUND(ТРУБА!Q128,3))","v":""},null,{"$f":"IF(ТРУБА!S128=0,\"\",ROUND(ТРУБА!S128,3))","v":""},null,"кг",{"$f":"IF(ТРУБА!F128=0,\"\",CONCATENATE(ТРУБА!F128,\" шт.   \",ТРУБА!D128))","v":""}]
["z",null,{"$f":"ТРУБА!H129","v":"Круг 12"},{"$f":"IF(ТРУБА!W129 =0,\"\",ROUND(ТРУБА!W129,3))","v":""},{"$f":"CONCATENATE(IF(ТРУБА!I129=0,\"\",ROUND(ТРУБА!I129,3)),IF(AND(ТРУБА!I129>0,ТРУБА!J129>0),\"+\",\"\"),IF(ТРУБА!J129=0,\"\",CONCATENATE(\"(\",ROUND(ТРУБА!J129,3),\")\")))","v":""},null,{"$f":"IF(ТРУБА!Q129=0,\"\",ROUND(ТРУБА!Q129,3))","v":""},null,{"$f":"IF(ТРУБА!S129=0,\"\",ROUND(ТРУБА!S129,3))","v":""},null,"кг",{"$f":"IF(ТРУБА!F129=0,\"\",CONCATENATE(ТРУБА!F129,\" шт.   \",ТРУБА!D129))","v":""}]
["z",null,{"$f":"ТРУБА!H130","v":"Круг 16"},{"$f":"IF(ТРУБА!W130 =0,\"\",ROUND(ТРУБА!W130,3))","v":""},{"$f":"CONCATENATE(IF(ТРУБА!I130=0,\"\",ROUND(ТРУБА!I130,3)),IF(AND(ТРУБА!I130>0,ТРУБА!J130>0),\"+\",\"\"),IF(ТРУБА!J130=0,\"\",CONCATENATE(\"(\",ROUND(ТРУБА!J130,3),\")\")))","v":""},null,{"$f":"IF(ТРУБА!Q130=0,\"\",ROUND(ТРУБА!Q130,3))","v":""},null,{"$f":"IF(ТРУБА!S130=0,\"\",ROUND(ТРУБА!S130,3))","v":""},null,"кг",{"$f":"IF(ТРУБА!F130=0,\"\",CONCATENATE(ТРУБА!F130,\" шт.   \",ТРУБА!D130))","v":""}]
[{"$f":"IF(D66=\"\",\"z\",\"\")","v":"z"},null,{"$f":"ТРУБА!H131","v":"Круг 160"},{"$f":"IF(ТРУБА!W131 =0,\"\",ROUND(ТРУБА!W131,3))","v":""},{"$f":"CONCATENATE(IF(ТРУБА!I131=0,\"\",ROUND(ТРУБА!I131,3)),IF(AND(ТРУБА!I131>0,ТРУБА!J131>0),\"+\",\"\"),IF(ТРУБА!J131=0,\"\",CONCATENATE(\"(\",ROUND(ТРУБА!J131,3),\")\")))","v":""},null,{"$f":"IF(ТРУБА!Q131=0,\"\",ROUND(ТРУБА!Q131,3))","v":""},null,{"$f":"IF(ТРУБА!S131=0,\"\",ROUND(ТРУБА!S131,3))","v":""},null,"кг",{"$f":"IF(ТРУБА!F131=0,\"\",CONCATENATE(ТРУБА!F131,\" шт.   \",ТРУБА!D131))","v":""}]
["z",null,{"$f":"ТРУБА!H132","v":"Круг 18"},{"$f":"IF(ТРУБА!W132 =0,\"\",ROUND(ТРУБА!W132,3))","v":""},{"$f":"CONCATENATE(IF(ТРУБА!I132=0,\"\",ROUND(ТРУБА!I132,3)),IF(AND(ТРУБА!I132>0,ТРУБА!J132>0),\"+\",\"\"),IF(ТРУБА!J132=0,\"\",CONCATENATE(\"(\",ROUND(ТРУБА!J132,3),\")\")))","v":""},null,{"$f":"IF(ТРУБА!Q132=0,\"\",ROUND(ТРУБА!Q132,3))","v":""},null,{"$f":"IF(ТРУБА!S132=0,\"\",ROUND(ТРУБА!S132,3))","v":""},null,"кг",{"$f":"IF(ТРУБА!F132=0,\"\",CONCATENATE(ТРУБА!F132,\" шт.   \",ТРУБА!D132))","v":""}]
["z",null,{"$f":"ТРУБА!H133","v":"Круг 20"},{"$f":"IF(ТРУБА!W133 =0,\"\",ROUND(ТРУБА!W133,3))","v":""},{"$f":"CONCATENATE(IF(ТРУБА!I133=0,\"\",ROUND(ТРУБА!I133,3)),IF(AND(ТРУБА!I133>0,ТРУБА!J133>0),\"+\",\"\"),IF(ТРУБА!J133=0,\"\",CONCATENATE(\"(\",ROUND(ТРУБА!J133,3),\")\")))","v":""},null,{"$f":"IF(ТРУБА!Q133=0,\"\",ROUND(ТРУБА!Q133,3))","v":""},null,{"$f":"IF(ТРУБА!S133=0,\"\",ROUND(ТРУБА!S133,3))","v":""},null,"кг",{"$f":"IF(ТРУБА!F133=0,\"\",CONCATENATE(ТРУБА!F133,\" шт.   \",ТРУБА!D133))","v":""}]
["z",null,{"$f":"ТРУБА!H134","v":"Круг 200"},{"$f":"IF(ТРУБА!W134 =0,\"\",ROUND(ТРУБА!W134,3))","v":""},{"$f":"CONCATENATE(IF(ТРУБА!I134=0,\"\",ROUND(ТРУБА!I134,3)),IF(AND(ТРУБА!I134>0,ТРУБА!J134>0),\"+\",\"\"),IF(ТРУБА!J134=0,\"\",CONCATENATE(\"(\",ROUND(ТРУБА!J134,3),\")\")))","v":""},null,{"$f":"IF(ТРУБА!Q134=0,\"\",ROUND(ТРУБА!Q134,3))","v":""},null,{"$f":"IF(ТРУБА!S134=0,\"\",ROUND(ТРУБА!S134,3))","v":""},null,"кг",{"$f":"IF(ТРУБА!F134=0,\"\",CONCATENATE(ТРУБА!F134,\" шт.   \",ТРУБА!D134))","v":""}]
["z",null,{"$f":"ТРУБА!H135","v":"Круг 22"},{"$f":"IF(ТРУБА!W135 =0,\"\",ROUND(ТРУБА!W135,3))","v":""},{"$f":"CONCATENATE(IF(ТРУБА!I135=0,\"\",ROUND(ТРУБА!I135,3)),IF(AND(ТРУБА!I135>0,ТРУБА!J135>0),\"+\",\"\"),IF(ТРУБА!J135=0,\"\",CONCATENATE(\"(\",ROUND(ТРУБА!J135,3),\")\")))","v":""},null,{"$f":"IF(ТРУБА!Q135=0,\"\",ROUND(ТРУБА!Q135,3))","v":""},null,{"$f":"IF(ТРУБА!S135=0,\"\",ROUND(ТРУБА!S135,3))","v":""},null,"кг",{"$f":"IF(ТРУБА!F135=0,\"\",CONCATENATE(ТРУБА!F135,\" шт.   \",ТРУБА!D135))","v":""}]
["z",null,{"$f":"ТРУБА!H136","v":"Круг 25"},{"$f":"IF(ТРУБА!W136 =0,\"\",ROUND(ТРУБА!W136,3))","v":""},{"$f":"CONCATENATE(IF(ТРУБА!I136=0,\"\",ROUND(ТРУБА!I136,3)),IF(AND(ТРУБА!I136>0,ТРУБА!J136>0),\"+\",\"\"),IF(ТРУБА!J136=0,\"\",CONCATENATE(\"(\",ROUND(ТРУБА!J136,3),\")\")))","v":""},null,{"$f":"IF(ТРУБА!Q136=0,\"\",ROUND(ТРУБА!Q136,3))","v":""},null,{"$f":"IF(ТРУБА!S136=0,\"\",ROUND(ТРУБА!S136,3))","v":""},null,"кг",{"$f":"IF(ТРУБА!F136=0,\"\",CONCATENATE(ТРУБА!F136,\" шт.   \",ТРУБА!D136))","v":""}]
["z",null,{"$f":"ТРУБА!H137","v":"Круг 30"},{"$f":"IF(ТРУБА!W137 =0,\"\",ROUND(ТРУБА!W137,3))","v":""},{"$f":"CONCATENATE(IF(ТРУБА!I137=0,\"\",ROUND(ТРУБА!I137,3)),IF(AND(ТРУБА!I137>0,ТРУБА!J137>0),\"+\",\"\"),IF(ТРУБА!J137=0,\"\",CONCATENATE(\"(\",ROUND(ТРУБА!J137,3),\")\")))","v":""},null,{"$f":"IF(ТРУБА!Q137=0,\"\",ROUND(ТРУБА!Q137,3))","v":""},null,{"$f":"IF(ТРУБА!S137=0,\"\",ROUND(ТРУБА!S137,3))","v":""},null,"кг",{"$f":"IF(ТРУБА!F137=0,\"\",CONCATENATE(ТРУБА!F137,\" шт.   \",ТРУБА!D137))","v":""}]
["z",null,{"$f":"ТРУБА!H138","v":"Круг 32"},{"$f":"IF(ТРУБА!W138 =0,\"\",ROUND(ТРУБА!W138,3))","v":""},{"$f":"CONCATENATE(IF(ТРУБА!I138=0,\"\",ROUND(ТРУБА!I138,3)),IF(AND(ТРУБА!I138>0,ТРУБА!J138>0),\"+\",\"\"),IF(ТРУБА!J138=0,\"\",CONCATENATE(\"(\",ROUND(ТРУБА!J138,3),\")\")))","v":""},null,{"$f":"IF(ТРУБА!Q138=0,\"\",ROUND(ТРУБА!Q138,3))","v":""},null,{"$f":"IF(ТРУБА!S138=0,\"\",ROUND(ТРУБА!S138,3))","v":""},null,"кг",{"$f":"IF(ТРУБА!F138=0,\"\",CONCATENATE(ТРУБА!F138,\" шт.   \",ТРУБА!D138))","v":""}]
["z",null,{"$f":"ТРУБА!H139","v":"Круг 35"},{"$f":"IF(ТРУБА!W139 =0,\"\",ROUND(ТРУБА!W139,3))","v":""},{"$f":"CONCATENATE(IF(ТРУБА!I139=0,\"\",ROUND(ТРУБА!I139,3)),IF(AND(ТРУБА!I139>0,ТРУБА!J139>0),\"+\",\"\"),IF(ТРУБА!J139=0,\"\",CONCATENATE(\"(\",ROUND(ТРУБА!J139,3),\")\")))","v":""},null,{"$f":"IF(ТРУБА!Q139=0,\"\",ROUND(ТРУБА!Q139,3))","v":""},null,{"$f":"IF(ТРУБА!S139=0,\"\",ROUND(ТРУБА!S139,3))","v":""},null,"кг",{"$f":"IF(ТРУБА!F139=0,\"\",CONCATENATE(ТРУБА!F139,\" шт.   \",ТРУБА!D139))","v":""}]
["z",null,{"$f":"ТРУБА!H140","v":"Круг 36"},{"$f":"IF(ТРУБА!W140 =0,\"\",ROUND(ТРУБА!W140,3))","v":""},{"$f":"CONCATENATE(IF(ТРУБА!I140=0,\"\",ROUND(ТРУБА!I140,3)),IF(AND(ТРУБА!I140>0,ТРУБА!J140>0),\"+\",\"\"),IF(ТРУБА!J140=0,\"\",CONCATENATE(\"(\",ROUND(ТРУБА!J140,3),\")\")))","v":""},null,{"$f":"IF(ТРУБА!Q140=0,\"\",ROUND(ТРУБА!Q140,3))","v":""},null,{"$f":"IF(ТРУБА!S140=0,\"\",ROUND(ТРУБА!S140,3))","v":""},null,"кг",{"$f":"IF(ТРУБА!F140=0,\"\",CONCATENATE(ТРУБА!F140,\" шт.   \",ТРУБА!D140))","v":""}]
["z",null,{"$f":"ТРУБА!H141","v":"Круг 40"},{"$f":"IF(ТРУБА!W141 =0,\"\",ROUND(ТРУБА!W141,3))","v":""},{"$f":"CONCATENATE(IF(ТРУБА!I141=0,\"\",ROUND(ТРУБА!I141,3)),IF(AND(ТРУБА!I141>0,ТРУБА!J141>0),\"+\",\"\"),IF(ТРУБА!J141=0,\"\",CONCATENATE(\"(\",ROUND(ТРУБА!J141,3),\")\")))","v":""},null,{"$f":"IF(ТРУБА!Q141=0,\"\",ROUND(ТРУБА!Q141,3))","v":""},null,{"$f":"IF(ТРУБА!S141=0,\"\",ROUND(ТРУБА!S141,3))","v":""},null,"кг",{"$f":"IF(ТРУБА!F141=0,\"\",CONCATENATE(ТРУБА!F141,\" шт.   \",ТРУБА!D141))","v":""}]
["z",null,{"$f":"ТРУБА!H142","v":"Круг 60"},{"$f":"IF(ТРУБА!W142 =0,\"\",ROUND(ТРУБА!W142,3))","v":""},{"$f":"CONCATENATE(IF(ТРУБА!I142=0,\"\",ROUND(ТРУБА!I142,3)),IF(AND(ТРУБА!I142>0,ТРУБА!J142>0),\"+\",\"\"),IF(ТРУБА!J142=0,\"\",CONCATENATE(\"(\",ROUND(ТРУБА!J142,3),\")\")))","v":""},null,{"$f":"IF(ТРУБА!Q142=0,\"\",ROUND(ТРУБА!Q142,3))","v":""},null,{"$f":"IF(ТРУБА!S142=0,\"\",ROUND(ТРУБА!S142,3))","v":""},null,"кг",{"$f":"IF(ТРУБА!F142=0,\"\",CONCATENATE(ТРУБА!F142,\" шт.   \",ТРУБА!D142))","v":""}]
["z",null,{"$f":"ТРУБА!H143","v":"Круг бронзовый 20"},{"$f":"IF(ТРУБА!W143 =0,\"\",ROUND(ТРУБА!W143,3))","v":""},{"$f":"CONCATENATE(IF(ТРУБА!I143=0,\"\",ROUND(ТРУБА!I143,3)),IF(AND(ТРУБА!I143>0,ТРУБА!J143>0),\"+\",\"\"),IF(ТРУБА!J143=0,\"\",CONCATENATE(\"(\",ROUND(ТРУБА!J143,3),\")\")))","v":""},null,{"$f":"IF(ТРУБА!Q143=0,\"\",ROUND(ТРУБА!Q143,3))","v":""},null,{"$f":"IF(ТРУБА!S143=0,\"\",ROUND(ТРУБА!S143,3))","v":""},null,"кг",{"$f":"IF(ТРУБА!F143=0,\"\",CONCATENATE(ТРУБА!F143,\" шт.   \",ТРУБА!D143))","v":""}]
["z",null,{"$f":"ТРУБА!H144","v":"Круг медный 20"},{"$f":"IF(ТРУБА!W144 =0,\"\",ROUND(ТРУБА!W144,3))","v":""},{"$f":"CONCATENATE(IF(ТРУБА!I144=0,\"\",ROUND(ТРУБА!I144,3)),IF(AND(ТРУБА!I144>0,ТРУБА!J144>0),\"+\",\"\"),IF(ТРУБА!J144=0,\"\",CONCATENATE(\"(\",ROUND(ТРУБА!J144,3),\")\")))","v":""},null,{"$f":"IF(ТРУБА!Q144=0,\"\",ROUND(ТРУБА!Q144,3))","v":""},null,{"$f":"IF(ТРУБА!S144=0,\"\",ROUND(ТРУБА!S144,3))","v":""},null,"кг",{"$f":"IF(ТРУБА!F144=0,\"\",CONCATENATE(ТРУБА!F144,\" шт.   \",ТРУБА!D144))","v":""}]
["z",null,{"$f":"ТРУБА!H145","v":"Труба 100х100х2"},{"$f":"IF(ТРУБА!W145 =0,\"\",ROUND(ТРУБА!W145,3))","v":""},{"$f":"CONCATENATE(IF(ТРУБА!I145=0,\"\",ROUND(ТРУБА!I145,3)),IF(AND(ТРУБА!I145>0,ТРУБА!J145>0),\"+\",\"\"),IF(ТРУБА!J145=0,\"\",CONCATENATE(\"(\",ROUND(ТРУБА!J145,3),\")\")))","v":""},null,{"$f":"IF(ТРУБА!Q145=0,\"\",ROUND(ТРУБА!Q145,3))","v":""},null,{"$f":"IF(ТРУБА!S145=0,\"\",ROUND(ТРУБА!S145,3))","v":""},null,"кг",{"$f":"IF(ТРУБА!F145=0,\"\",CONCATENATE(ТРУБА!F145,\" шт.   \",ТРУБА!D145))","v":""}]
["z",null,{"$f":"ТРУБА!H146","v":"Труба 100х60х3"},{"$f":"IF(ТРУБА!W146 =0,\"\",ROUND(ТРУБА!W146,3))","v":""},{"$f":"CONCATENATE(IF(ТРУБА!I146=0,\"\",ROUND(ТРУБА!I146,3)),IF(AND(ТРУБА!I146>0,ТРУБА!J146>0),\"+\",\"\"),IF(ТРУБА!J146=0,\"\",CONCATENATE(\"(\",ROUND(ТРУБА!J146,3),\")\")))","v":""},null,{"$f":"IF(ТРУБА!Q146=0,\"\",ROUND(ТРУБА!Q146,3))","v":""},null,{"$f":"IF(ТРУБА!S146=0,\"\",ROUND(ТРУБА!S146,3))","v":""},null,"кг",{"$f":"IF(ТРУБА!F146=0,\"\",CONCATENATE(ТРУБА!F146,\" шт.   \",ТРУБА!D146))","v":""}]
["z",null,{"$f":"ТРУБА!H147","v":"Труба 10х10х1"},{"$f":"IF(ТРУБА!W147 =0,\"\",ROUND(ТРУБА!W147,3))","v":""},{"$f":"CONCATENATE(IF(ТРУБА!I147=0,\"\",ROUND(ТРУБА!I147,3)),IF(AND(ТРУБА!I147>0,ТРУБА!J147>0),\"+\",\"\"),IF(ТРУБА!J147=0,\"\",CONCATENATE(\"(\",ROUND(ТРУБА!J147,3),\")\")))","v":""},null,{"$f":"IF(ТРУБА!Q147=0,\"\",ROUND(ТРУБА!Q147,3))","v":""},null,{"$f":"IF(ТРУБА!S147=0,\"\",ROUND(ТРУБА!S147,3))","v":""},null,"кг",{"$f":"IF(ТРУБА!F147=0,\"\",CONCATENATE(ТРУБА!F147,\" шт.   \",ТРУБА!D147))","v":""}]
["z",null,{"$f":"ТРУБА!H148","v":"Труба 10х10х1,2"},{"$f":"IF(ТРУБА!W148 =0,\"\",ROUND(ТРУБА!W148,3))","v":""},{"$f":"CONCATENATE(IF(ТРУБА!I148=0,\"\",ROUND(ТРУБА!I148,3)),IF(AND(ТРУБА!I148>0,ТРУБА!J148>0),\"+\",\"\"),IF(ТРУБА!J148=0,\"\",CONCATENATE(\"(\",ROUND(ТРУБА!J148,3),\")\")))","v":""},null,{"$f":"IF(ТРУБА!Q148=0,\"\",ROUND(ТРУБА!Q148,3))","v":""},null,{"$f":"IF(ТРУБА!S148=0,\"\",ROUND(ТРУБА!S148,3))","v":""},null,"кг",{"$f":"IF(ТРУБА!F148=0,\"\",CONCATENATE(ТРУБА!F148,\" шт.   \",ТРУБА!D148))","v":""}]
["z",null,{"$f":"ТРУБА!H149","v":"Труба 125х3"},{"$f":"IF(ТРУБА!W149 =0,\"\",ROUND(ТРУБА!W149,3))","v":""},{"$f":"CONCATENATE(IF(ТРУБА!I149=0,\"\",ROUND(ТРУБА!I149,3)),IF(AND(ТРУБА!I149>0,ТРУБА!J149>0),\"+\",\"\"),IF(ТРУБА!J149=0,\"\",CONCATENATE(\"(\",ROUND(ТРУБА!J149,3),\")\")))","v":""},null,{"$f":"IF(ТРУБА!Q149=0,\"\",ROUND(ТРУБА!Q149,3))","v":""},null,{"$f":"IF(ТРУБА!S149=0,\"\",ROUND(ТРУБА!S149,3))","v":""},null,"кг",{"$f":"IF(ТРУБА!F149=0,\"\",CONCATENATE(ТРУБА!F149,\" шт.   \",ТРУБА!D149))","v":""}]
["z",null,{"$f":"ТРУБА!H150","v":"Труба 14х1"},{"$f":"IF(ТРУБА!W150 =0,\"\",ROUND(ТРУБА!W150,3))","v":""},{"$f":"CONCATENATE(IF(ТРУБА!I150=0,\"\",ROUND(ТРУБА!I150,3)),IF(AND(ТРУБА!I150>0,ТРУБА!J150>0),\"+\",\"\"),IF(ТРУБА!J150=0,\"\",CONCATENATE(\"(\",ROUND(ТРУБА!J150,3),\")\")))","v":""},null,{"$f":"IF(ТРУБА!Q150=0,\"\",ROUND(ТРУБА!Q150,3))","v":""},null,{"$f":"IF(ТРУБА!S150=0,\"\",ROUND(ТРУБА!S150,3))","v":""},null,"кг",{"$f":"IF(ТРУБА!F150=0,\"\",CONCATENATE(ТРУБА!F150,\" шт.   \",ТРУБА!D150))","v":""}]
["z",null,{"$f":"ТРУБА!H151","v":"Труба 150х150х4"},{"$f":"IF(ТРУБА!W151 =0,\"\",ROUND(ТРУБА!W151,3))","v":""},{"$f":"CONCATENATE(IF(ТРУБА!I151=0,\"\",ROUND(ТРУБА!I151,3)),IF(AND(ТРУБА!I151>0,ТРУБА!J151>0),\"+\",\"\"),IF(ТРУБА!J151=0,\"\",CONCATENATE(\"(\",ROUND(ТРУБА!J151,3),\")\")))","v":""},null,{"$f":"IF(ТРУБА!Q151=0,\"\",ROUND(ТРУБА!Q151,3))","v":""},null,{"$f":"IF(ТРУБА!S151=0,\"\",ROUND(ТРУБА!S151,3))","v":""},null,"кг",{"$f":"IF(ТРУБА!F151=0,\"\",CONCATENATE(ТРУБА!F151,\" шт.   \",ТРУБА!D151))","v":""}]
["z",null,{"$f":"ТРУБА!H152","v":"Труба 15х10х1,5"},{"$f":"IF(ТРУБА!W152 =0,\"\",ROUND(ТРУБА!W152,3))","v":""},{"$f":"CONCATENATE(IF(ТРУБА!I152=0,\"\",ROUND(ТРУБА!I152,3)),IF(AND(ТРУБА!I152>0,ТРУБА!J152>0),\"+\",\"\"),IF(ТРУБА!J152=0,\"\",CONCATENATE(\"(\",ROUND(ТРУБА!J152,3),\")\")))","v":""},null,{"$f":"IF(ТРУБА!Q152=0,\"\",ROUND(ТРУБА!Q152,3))","v":""},null,{"$f":"IF(ТРУБА!S152=0,\"\",ROUND(ТРУБА!S152,3))","v":""},null,"кг",{"$f":"IF(ТРУБА!F152=0,\"\",CONCATENATE(ТРУБА!F152,\" шт.   \",ТРУБА!D152))","v":""}]
["z",null,{"$f":"ТРУБА!H153","v":"Труба 15х15х1"},{"$f":"IF(ТРУБА!W153 =0,\"\",ROUND(ТРУБА!W153,3))","v":""},{"$f":"CONCATENATE(IF(ТРУБА!I153=0,\"\",ROUND(ТРУБА!I153,3)),IF(AND(ТРУБА!I153>0,ТРУБА!J153>0),\"+\",\"\"),IF(ТРУБА!J153=0,\"\",CONCATENATE(\"(\",ROUND(ТРУБА!J153,3),\")\")))","v":""},null,{"$f":"IF(ТРУБА!Q153=0,\"\",ROUND(ТРУБА!Q153,3))","v":""},null,{"$f":"IF(ТРУБА!S153=0,\"\",ROUND(ТРУБА!S153,3))","v":""},null,"кг",{"$f":"IF(ТРУБА!F153=0,\"\",CONCATENATE(ТРУБА!F153,\" шт.   \",ТРУБА!D153))","v":""}]
["z",null,{"$f":"ТРУБА!H154","v":"Труба 16х1"},{"$f":"IF(ТРУБА!W154 =0,\"\",ROUND(ТРУБА!W154,3))","v":""},{"$f":"CONCATENATE(IF(ТРУБА!I154=0,\"\",ROUND(ТРУБА!I154,3)),IF(AND(ТРУБА!I154>0,ТРУБА!J154>0),\"+\",\"\"),IF(ТРУБА!J154=0,\"\",CONCATENATE(\"(\",ROUND(ТРУБА!J154,3),\")\")))","v":""},null,{"$f":"IF(ТРУБА!Q154=0,\"\",ROUND(ТРУБА!Q154,3))","v":""},null,{"$f":"IF(ТРУБА!S154=0,\"\",ROUND(ТРУБА!S154,3))","v":""},null,"кг",{"$f":"IF(ТРУБА!F154=0,\"\",CONCATENATE(ТРУБА!F154,\" шт.   \",ТРУБА!D154))","v":""}]
["z",null,{"$f":"ТРУБА!H155","v":"Труба 16х1,5"},{"$f":"IF(ТРУБА!W155 =0,\"\",ROUND(ТРУБА!W155,3))","v":""},{"$f":"CONCATENATE(IF(ТРУБА!I155=0,\"\",ROUND(ТРУБА!I155,3)),IF(AND(ТРУБА!I155>0,ТРУБА!J155>0),\"+\",\"\"),IF(ТРУБА!J155=0,\"\",CONCATENATE(\"(\",ROUND(ТРУБА!J155,3),\")\")))","v":""},null,{"$f":"IF(ТРУБА!Q155=0,\"\",ROUND(ТРУБА!Q155,3))","v":""},null,{"$f":"IF(ТРУБА!S155=0,\"\",ROUND(ТРУБА!S155,3))","v":""},null,"кг",{"$f":"IF(ТРУБА!F155=0,\"\",CONCATENATE(ТРУБА!F155,\" шт.   \",ТРУБА!D155))","v":""}]
["z",null,{"$f":"ТРУБА!H156","v":"Труба 17х17х1"},{"$f":"IF(ТРУБА!W156 =0,\"\",ROUND(ТРУБА!W156,3))","v":""},{"$f":"CONCATENATE(IF(ТРУБА!I156=0,\"\",ROUND(ТРУБА!I156,3)),IF(AND(ТРУБА!I156>0,ТРУБА!J156>0),\"+\",\"\"),IF(ТРУБА!J156=0,\"\",CONCATENATE(\"(\",ROUND(ТРУБА!J156,3),\")\")))","v":""},null,{"$f":"IF(ТРУБА!Q156=0,\"\",ROUND(ТРУБА!Q156,3))","v":""},null,{"$f":"IF(ТРУБА!S156=0,\"\",ROUND(ТРУБА!S156,3))","v":""},null,"кг",{"$f":"IF(ТРУБА!F156=0,\"\",CONCATENATE(ТРУБА!F156,\" шт.   \",ТРУБА!D156))","v":""}]
["z",null,{"$f":"ТРУБА!H157","v":"Труба 17х17х2"},{"$f":"IF(ТРУБА!W157 =0,\"\",ROUND(ТРУБА!W157,3))","v":""},{"$f":"CONCATENATE(IF(ТРУБА!I157=0,\"\",ROUND(ТРУБА!I157,3)),IF(AND(ТРУБА!I157>0,ТРУБА!J157>0),\"+\",\"\"),IF(ТРУБА!J157=0,\"\",CONCATENATE(\"(\",ROUND(ТРУБА!J157,3),\")\")))","v":""},null,{"$f":"IF(ТРУБА!Q157=0,\"\",ROUND(ТРУБА!Q157,3))","v":""},null,{"$f":"IF(ТРУБА!S157=0,\"\",ROUND(ТРУБА!S157,3))","v":""},null,"кг",{"$f":"IF(ТРУБА!F157=0,\"\",CONCATENATE(ТРУБА!F157,\" шт.   \",ТРУБА!D157))","v":""}]
["z",null,{"$f":"ТРУБА!H158","v":"Труба 20х0,6"},{"$f":"IF(ТРУБА!W158 =0,\"\",ROUND(ТРУБА!W158,3))","v":""},{"$f":"CONCATENATE(IF(ТРУБА!I158=0,\"\",ROUND(ТРУБА!I158,3)),IF(AND(ТРУБА!I158>0,ТРУБА!J158>0),\"+\",\"\"),IF(ТРУБА!J158=0,\"\",CONCATENATE(\"(\",ROUND(ТРУБА!J158,3),\")\")))","v":""},null,{"$f":"IF(ТРУБА!Q158=0,\"\",ROUND(ТРУБА!Q158,3))","v":""},null,{"$f":"IF(ТРУБА!S158=0,\"\",ROUND(ТРУБА!S158,3))","v":""},null,"кг",{"$f":"IF(ТРУБА!F158=0,\"\",CONCATENATE(ТРУБА!F158,\" шт.   \",ТРУБА!D158))","v":""}]
["z",null,{"$f":"ТРУБА!H159","v":"Труба 20х1"},{"$f":"IF(ТРУБА!W159 =0,\"\",ROUND(ТРУБА!W159,3))","v":""},{"$f":"CONCATENATE(IF(ТРУБА!I159=0,\"\",ROUND(ТРУБА!I159,3)),IF(AND(ТРУБА!I159>0,ТРУБА!J159>0),\"+\",\"\"),IF(ТРУБА!J159=0,\"\",CONCATENATE(\"(\",ROUND(ТРУБА!J159,3),\")\")))","v":""},null,{"$f":"IF(ТРУБА!Q159=0,\"\",ROUND(ТРУБА!Q159,3))","v":""},null,{"$f":"IF(ТРУБА!S159=0,\"\",ROUND(ТРУБА!S159,3))","v":""},null,"кг",{"$f":"IF(ТРУБА!F159=0,\"\",CONCATENATE(ТРУБА!F159,\" шт.   \",ТРУБА!D159))","v":""}]
["z",null,{"$f":"ТРУБА!H160","v":"Труба 20х1,5"},{"$f":"IF(ТРУБА!W160 =0,\"\",ROUND(ТРУБА!W160,3))","v":""},{"$f":"CONCATENATE(IF(ТРУБА!I160=0,\"\",ROUND(ТРУБА!I160,3)),IF(AND(ТРУБА!I160>0,ТРУБА!J160>0),\"+\",\"\"),IF(ТРУБА!J160=0,\"\",CONCATENATE(\"(\",ROUND(ТРУБА!J160,3),\")\")))","v":""},null,{"$f":"IF(ТРУБА!Q160=0,\"\",ROUND(ТРУБА!Q160,3))","v":""},null,{"$f":"IF(ТРУБА!S160=0,\"\",ROUND(ТРУБА!S160,3))","v":""},null,"кг",{"$f":"IF(ТРУБА!F160=0,\"\",CONCATENATE(ТРУБА!F160,\" шт.   \",ТРУБА!D160))","v":""}]
["z",null,{"$f":"ТРУБА!H161","v":"Труба 20х10х1,2"},{"$f":"IF(ТРУБА!W161 =0,\"\",ROUND(ТРУБА!W161,3))","v":""},{"$f":"CONCATENATE(IF(ТРУБА!I161=0,\"\",ROUND(ТРУБА!I161,3)),IF(AND(ТРУБА!I161>0,ТРУБА!J161>0),\"+\",\"\"),IF(ТРУБА!J161=0,\"\",CONCATENATE(\"(\",ROUND(ТРУБА!J161,3),\")\")))","v":""},null,{"$f":"IF(ТРУБА!Q161=0,\"\",ROUND(ТРУБА!Q161,3))","v":""},null,{"$f":"IF(ТРУБА!S161=0,\"\",ROUND(ТРУБА!S161,3))","v":""},null,"кг",{"$f":"IF(ТРУБА!F161=0,\"\",CONCATENATE(ТРУБА!F161,\" шт.   \",ТРУБА!D161))","v":""}]
["z",null,{"$f":"ТРУБА!H162","v":"Труба 20х10х1,5"},{"$f":"IF(ТРУБА!W162 =0,\"\",ROUND(ТРУБА!W162,3))","v":""},{"$f":"CONCATENATE(IF(ТРУБА!I162=0,\"\",ROUND(ТРУБА!I162,3)),IF(AND(ТРУБА!I162>0,ТРУБА!J162>0),\"+\",\"\"),IF(ТРУБА!J162=0,\"\",CONCATENATE(\"(\",ROUND(ТРУБА!J162,3),\")\")))","v":""},null,{"$f":"IF(ТРУБА!Q162=0,\"\",ROUND(ТРУБА!Q162,3))","v":""},null,{"$f":"IF(ТРУБА!S162=0,\"\",ROUND(ТРУБА!S162,3))","v":""},null,"кг",{"$f":"IF(ТРУБА!F162=0,\"\",CONCATENATE(ТРУБА!F162,\" шт.   \",ТРУБА!D162))","v":""}]
["z",null,{"$f":"ТРУБА!H163","v":"Труба 20х2"},{"$f":"IF(ТРУБА!W163 =0,\"\",ROUND(ТРУБА!W163,3))","v":""},{"$f":"CONCATENATE(IF(ТРУБА!I163=0,\"\",ROUND(ТРУБА!I163,3)),IF(AND(ТРУБА!I163>0,ТРУБА!J163>0),\"+\",\"\"),IF(ТРУБА!J163=0,\"\",CONCATENATE(\"(\",ROUND(ТРУБА!J163,3),\")\")))","v":""},null,{"$f":"IF(ТРУБА!Q163=0,\"\",ROUND(ТРУБА!Q163,3))","v":""},null,{"$f":"IF(ТРУБА!S163=0,\"\",ROUND(ТРУБА!S163,3))","v":""},null,"кг",{"$f":"IF(ТРУБА!F163=0,\"\",CONCATENATE(ТРУБА!F163,\" шт.   \",ТРУБА!D163))","v":""}]
["z",null,{"$f":"ТРУБА!H164","v":"Труба 20х20х1"},{"$f":"IF(ТРУБА!W164 =0,\"\",ROUND(ТРУБА!W164,3))","v":""},{"$f":"CONCATENATE(IF(ТРУБА!I164=0,\"\",ROUND(ТРУБА!I164,3)),IF(AND(ТРУБА!I164>0,ТРУБА!J164>0),\"+\",\"\"),IF(ТРУБА!J164=0,\"\",CONCATENATE(\"(\",ROUND(ТРУБА!J164,3),\")\")))","v":""},null,{"$f":"IF(ТРУБА!Q164=0,\"\",ROUND(ТРУБА!Q164,3))","v":""},null,{"$f":"IF(ТРУБА!S164=0,\"\",ROUND(ТРУБА!S164,3))","v":""},null,"кг",{"$f":"IF(ТРУБА!F164=0,\"\",CONCATENATE(ТРУБА!F164,\" шт.   \",ТРУБА!D164))","v":""}]
["z",null,{"$f":"ТРУБА!H165","v":"Труба 20х20х1,2"},{"$f":"IF(ТРУБА!W165 =0,\"\",ROUND(ТРУБА!W165,3))","v":""},{"$f":"CONCATENATE(IF(ТРУБА!I165=0,\"\",ROUND(ТРУБА!I165,3)),IF(AND(ТРУБА!I165>0,ТРУБА!J165>0),\"+\",\"\"),IF(ТРУБА!J165=0,\"\",CONCATENATE(\"(\",ROUND(ТРУБА!J165,3),\")\")))","v":""},null,{"$f":"IF(ТРУБА!Q165=0,\"\",ROUND(ТРУБА!Q165,3))","v":""},null,{"$f":"IF(ТРУБА!S165=0,\"\",ROUND(ТРУБА!S165,3))","v":""},null,"кг",{"$f":"IF(ТРУБА!F165=0,\"\",CONCATENATE(ТРУБА!F165,\" шт.   \",ТРУБА!D165))","v":""}]
["z",null,{"$f":"ТРУБА!H166","v":"Труба 20х20х1,5"},{"$f":"IF(ТРУБА!W166 =0,\"\",ROUND(ТРУБА!W166,3))","v":""},{"$f":"CONCATENATE(IF(ТРУБА!I166=0,\"\",ROUND(ТРУБА!I166,3)),IF(AND(ТРУБА!I166>0,ТРУБА!J166>0),\"+\",\"\"),IF(ТРУБА!J166=0,\"\",CONCATENATE(\"(\",ROUND(ТРУБА!J166,3),\")\")))","v":""},null,{"$f":"IF(ТРУБА!Q166=0,\"\",ROUND(ТРУБА!Q166,3))","v":""},null,{"$f":"IF(ТРУБА!S166=0,\"\",ROUND(ТРУБА!S166,3))","v":""},null,"кг",{"$f":"IF(ТРУБА!F166=0,\"\",CONCATENATE(ТРУБА!F166,\" шт.   \",ТРУБА!D166))","v":""}]
["z",null,{"$f":"ТРУБА!H167","v":"Труба 20х20х1,8"},{"$f":"IF(ТРУБА!W167 =0,\"\",ROUND(ТРУБА!W167,3))","v":""},{"$f":"CONCATENATE(IF(ТРУБА!I167=0,\"\",ROUND(ТРУБА!I167,3)),IF(AND(ТРУБА!I167>0,ТРУБА!J167>0),\"+\",\"\"),IF(ТРУБА!J167=0,\"\",CONCATENATE(\"(\",ROUND(ТРУБА!J167,3),\")\")))","v":""},null,{"$f":"IF(ТРУБА!Q167=0,\"\",ROUND(ТРУБА!Q167,3))","v":""},null,{"$f":"IF(ТРУБА!S167=0,\"\",ROUND(ТРУБА!S167,3))","v":""},null,"кг",{"$f":"IF(ТРУБА!F167=0,\"\",CONCATENATE(ТРУБА!F167,\" шт.   \",ТРУБА!D167))","v":""}]
["z",null,{"$f":"ТРУБА!H168","v":"Труба 20х20х2"},{"$f":"IF(ТРУБА!W168 =0,\"\",ROUND(ТРУБА!W168,3))","v":""},{"$f":"CONCATENATE(IF(ТРУБА!I168=0,\"\",ROUND(ТРУБА!I168,3)),IF(AND(ТРУБА!I168>0,ТРУБА!J168>0),\"+\",\"\"),IF(ТРУБА!J168=0,\"\",CONCATENATE(\"(\",ROUND(ТРУБА!J168,3),\")\")))","v":""},null,{"$f":"IF(ТРУБА!Q168=0,\"\",ROUND(ТРУБА!Q168,3))","v":""},null,{"$f":"IF(ТРУБА!S168=0,\"\",ROUND(ТРУБА!S168,3))","v":""},null,"кг",{"$f":"IF(ТРУБА!F168=0,\"\",CONCATENATE(ТРУБА!F168,\" шт.   \",ТРУБА!D168))","v":""}]
["z",null,{"$f":"ТРУБА!H169","v":"Труба 20х20х3"},{"$f":"IF(ТРУБА!W169 =0,\"\",ROUND(ТРУБА!W169,3))","v":""},{"$f":"CONCATENATE(IF(ТРУБА!I169=0,\"\",ROUND(ТРУБА!I169,3)),IF(AND(ТРУБА!I169>0,ТРУБА!J169>0),\"+\",\"\"),IF(ТРУБА!J169=0,\"\",CONCATENATE(\"(\",ROUND(ТРУБА!J169,3),\")\")))","v":""},null,{"$f":"IF(ТРУБА!Q169=0,\"\",ROUND(ТРУБА!Q169,3))","v":""},null,{"$f":"IF(ТРУБА!S169=0,\"\",ROUND(ТРУБА!S169,3))","v":""},null,"кг",{"$f":"IF(ТРУБА!F169=0,\"\",CONCATENATE(ТРУБА!F169,\" шт.   \",ТРУБА!D169))","v":""}]
["z",null,{"$f":"ТРУБА!H170","v":"Труба 21,3х2,5"},{"$f":"IF(ТРУБА!W170 =0,\"\",ROUND(ТРУБА!W170,3))","v":""},{"$f":"CONCATENATE(IF(ТРУБА!I170=0,\"\",ROUND(ТРУБА!I170,3)),IF(AND(ТРУБА!I170>0,ТРУБА!J170>0),\"+\",\"\"),IF(ТРУБА!J170=0,\"\",CONCATENATE(\"(\",ROUND(ТРУБА!J170,3),\")\")))","v":""},null,{"$f":"IF(ТРУБА!Q170=0,\"\",ROUND(ТРУБА!Q170,3))","v":""},null,{"$f":"IF(ТРУБА!S170=0,\"\",ROUND(ТРУБА!S170,3))","v":""},null,"кг",{"$f":"IF(ТРУБА!F170=0,\"\",CONCATENATE(ТРУБА!F170,\" шт.   \",ТРУБА!D170))","v":""}]
["z",null,{"$f":"ТРУБА!H171","v":"Труба 21,3х3"},{"$f":"IF(ТРУБА!W171 =0,\"\",ROUND(ТРУБА!W171,3))","v":""},{"$f":"CONCATENATE(IF(ТРУБА!I171=0,\"\",ROUND(ТРУБА!I171,3)),IF(AND(ТРУБА!I171>0,ТРУБА!J171>0),\"+\",\"\"),IF(ТРУБА!J171=0,\"\",CONCATENATE(\"(\",ROUND(ТРУБА!J171,3),\")\")))","v":""},null,{"$f":"IF(ТРУБА!Q171=0,\"\",ROUND(ТРУБА!Q171,3))","v":""},null,{"$f":"IF(ТРУБА!S171=0,\"\",ROUND(ТРУБА!S171,3))","v":""},null,"кг",{"$f":"IF(ТРУБА!F171=0,\"\",CONCATENATE(ТРУБА!F171,\" шт.   \",ТРУБА!D171))","v":""}]
["z",null,{"$f":"ТРУБА!H172","v":"Труба 22х1,5"},{"$f":"IF(ТРУБА!W172 =0,\"\",ROUND(ТРУБА!W172,3))","v":""},{"$f":"CONCATENATE(IF(ТРУБА!I172=0,\"\",ROUND(ТРУБА!I172,3)),IF(AND(ТРУБА!I172>0,ТРУБА!J172>0),\"+\",\"\"),IF(ТРУБА!J172=0,\"\",CONCATENATE(\"(\",ROUND(ТРУБА!J172,3),\")\")))","v":""},null,{"$f":"IF(ТРУБА!Q172=0,\"\",ROUND(ТРУБА!Q172,3))","v":""},null,{"$f":"IF(ТРУБА!S172=0,\"\",ROUND(ТРУБА!S172,3))","v":""},null,"кг",{"$f":"IF(ТРУБА!F172=0,\"\",CONCATENATE(ТРУБА!F172,\" шт.   \",ТРУБА!D172))","v":""}]
["z",null,{"$f":"ТРУБА!H173","v":"Труба 25х1"},{"$f":"IF(ТРУБА!W173 =0,\"\",ROUND(ТРУБА!W173,3))","v":""},{"$f":"CONCATENATE(IF(ТРУБА!I173=0,\"\",ROUND(ТРУБА!I173,3)),IF(AND(ТРУБА!I173>0,ТРУБА!J173>0),\"+\",\"\"),IF(ТРУБА!J173=0,\"\",CONCATENATE(\"(\",ROUND(ТРУБА!J173,3),\")\")))","v":""},null,{"$f":"IF(ТРУБА!Q173=0,\"\",ROUND(ТРУБА!Q173,3))","v":""},null,{"$f":"IF(ТРУБА!S173=0,\"\",ROUND(ТРУБА!S173,3))","v":""},null,"кг",{"$f":"IF(ТРУБА!F173=0,\"\",CONCATENATE(ТРУБА!F173,\" шт.   \",ТРУБА!D173))","v":""}]
["z",null,{"$f":"ТРУБА!H174","v":"Труба 25х1,5"},{"$f":"IF(ТРУБА!W174 =0,\"\",ROUND(ТРУБА!W174,3))","v":""},{"$f":"CONCATENATE(IF(ТРУБА!I174=0,\"\",ROUND(ТРУБА!I174,3)),IF(AND(ТРУБА!I174>0,ТРУБА!J174>0),\"+\",\"\"),IF(ТРУБА!J174=0,\"\",CONCATENATE(\"(\",ROUND(ТРУБА!J174,3),\")\")))","v":""},null,{"$f":"IF(ТРУБА!Q174=0,\"\",ROUND(ТРУБА!Q174,3))","v":""},null,{"$f":"IF(ТРУБА!S174=0,\"\",ROUND(ТРУБА!S174,3))","v":""},null,"кг",{"$f":"IF(ТРУБА!F174=0,\"\",CONCATENATE(ТРУБА!F174,\" шт.   \",ТРУБА!D174))","v":""}]
["z",null,{"$f":"ТРУБА!H175","v":"Труба 25х15х1,5"},{"$f":"IF(ТРУБА!W175 =0,\"\",ROUND(ТРУБА!W175,3))","v":""},{"$f":"CONCATENATE(IF(ТРУБА!I175=0,\"\",ROUND(ТРУБА!I175,3)),IF(AND(ТРУБА!I175>0,ТРУБА!J175>0),\"+\",\"\"),IF(ТРУБА!J175=0,\"\",CONCATENATE(\"(\",ROUND(ТРУБА!J175,3),\")\")))","v":""},null,{"$f":"IF(ТРУБА!Q175=0,\"\",ROUND(ТРУБА!Q175,3))","v":""},null,{"$f":"IF(ТРУБА!S175=0,\"\",ROUND(ТРУБА!S175,3))","v":""},null,"кг",{"$f":"IF(ТРУБА!F175=0,\"\",CONCATENATE(ТРУБА!F175,\" шт.   \",ТРУБА!D175))","v":""}]
["z",null,{"$f":"ТРУБА!H176","v":"Труба 25х15х2"},{"$f":"IF(ТРУБА!W176 =0,\"\",ROUND(ТРУБА!W176,3))","v":""},{"$f":"CONCATENATE(IF(ТРУБА!I176=0,\"\",ROUND(ТРУБА!I176,3)),IF(AND(ТРУБА!I176>0,ТРУБА!J176>0),\"+\",\"\"),IF(ТРУБА!J176=0,\"\",CONCATENATE(\"(\",ROUND(ТРУБА!J176,3),\")\")))","v":""},null,{"$f":"IF(ТРУБА!Q176=0,\"\",ROUND(ТРУБА!Q176,3))","v":""},null,{"$f":"IF(ТРУБА!S176=0,\"\",ROUND(ТРУБА!S176,3))","v":""},null,"кг",{"$f":"IF(ТРУБА!F176=0,\"\",CONCATENATE(ТРУБА!F176,\" шт.   \",ТРУБА!D176))","v":""}]
["z",null,{"$f":"ТРУБА!H177","v":"Труба 25х2"},{"$f":"IF(ТРУБА!W177 =0,\"\",ROUND(ТРУБА!W177,3))","v":""},{"$f":"CONCATENATE(IF(ТРУБА!I177=0,\"\",ROUND(ТРУБА!I177,3)),IF(AND(ТРУБА!I177>0,ТРУБА!J177>0),\"+\",\"\"),IF(ТРУБА!J177=0,\"\",CONCATENATE(\"(\",ROUND(ТРУБА!J177,3),\")\")))","v":""},null,{"$f":"IF(ТРУБА!Q177=0,\"\",ROUND(ТРУБА!Q177,3))","v":""},null,{"$f":"IF(ТРУБА!S177=0,\"\",ROUND(ТРУБА!S177,3))","v":""},null,"кг",{"$f":"IF(ТРУБА!F177=0,\"\",CONCATENATE(ТРУБА!F177,\" шт.   \",ТРУБА!D177))","v":""}]
["z",null,{"$f":"ТРУБА!H178","v":"Труба 25х25х1"},{"$f":"IF(ТРУБА!W178 =0,\"\",ROUND(ТРУБА!W178,3))","v":""},{"$f":"CONCATENATE(IF(ТРУБА!I178=0,\"\",ROUND(ТРУБА!I178,3)),IF(AND(ТРУБА!I178>0,ТРУБА!J178>0),\"+\",\"\"),IF(ТРУБА!J178=0,\"\",CONCATENATE(\"(\",ROUND(ТРУБА!J178,3),\")\")))","v":""},null,{"$f":"IF(ТРУБА!Q178=0,\"\",ROUND(ТРУБА!Q178,3))","v":""},null,{"$f":"IF(ТРУБА!S178=0,\"\",ROUND(ТРУБА!S178,3))","v":""},null,"кг",{"$f":"IF(ТРУБА!F178=0,\"\",CONCATENATE(ТРУБА!F178,\" шт.   \",ТРУБА!D178))","v":""}]
["z",null,{"$f":"ТРУБА!H179","v":"Труба 25х25х1,2"},{"$f":"IF(ТРУБА!W179 =0,\"\",ROUND(ТРУБА!W179,3))","v":""},{"$f":"CONCATENATE(IF(ТРУБА!I179=0,\"\",ROUND(ТРУБА!I179,3)),IF(AND(ТРУБА!I179>0,ТРУБА!J179>0),\"+\",\"\"),IF(ТРУБА!J179=0,\"\",CONCATENATE(\"(\",ROUND(ТРУБА!J179,3),\")\")))","v":""},null,{"$f":"IF(ТРУБА!Q179=0,\"\",ROUND(ТРУБА!Q179,3))","v":""},null,{"$f":"IF(ТРУБА!S179=0,\"\",ROUND(ТРУБА!S179,3))","v":""},null,"кг",{"$f":"IF(ТРУБА!F179=0,\"\",CONCATENATE(ТРУБА!F179,\" шт.   \",ТРУБА!D179))","v":""}]
["z",null,{"$f":"ТРУБА!H180","v":"Труба 25х25х1,5"},{"$f":"IF(ТРУБА!W180 =0,\"\",ROUND(ТРУБА!W180,3))","v":""},{"$f":"CONCATENATE(IF(ТРУБА!I180=0,\"\",ROUND(ТРУБА!I180,3)),IF(AND(ТРУБА!I180>0,ТРУБА!J180>0),\"+\",\"\"),IF(ТРУБА!J180=0,\"\",CONCATENATE(\"(\",ROUND(ТРУБА!J180,3),\")\")))","v":""},null,{"$f":"IF(ТРУБА!Q180=0,\"\",ROUND(ТРУБА!Q180,3))","v":""},null,{"$f":"IF(ТРУБА!S180=0,\"\",ROUND(ТРУБА!S180,3))","v":""},null,"кг",{"$f":"IF(ТРУБА!F180=0,\"\",CONCATENATE(ТРУБА!F180,\" шт.   \",ТРУБА!D180))","v":""}]
["z",null,{"$f":"ТРУБА!H181","v":"Труба 25х25х2"},{"$f":"IF(ТРУБА!W181 =0,\"\",ROUND(ТРУБА!W181,3))","v":""},{"$f":"CONCATENATE(IF(ТРУБА!I181=0,\"\",ROUND(ТРУБА!I181,3)),IF(AND(ТРУБА!I181>0,ТРУБА!J181>0),\"+\",\"\"),IF(ТРУБА!J181=0,\"\",CONCATENATE(\"(\",ROUND(ТРУБА!J181,3),\")\")))","v":""},null,{"$f":"IF(ТРУБА!Q181=0,\"\",ROUND(ТРУБА!Q181,3))","v":""},null,{"$f":"IF(ТРУБА!S181=0,\"\",ROUND(ТРУБА!S181,3))","v":""},null,"кг",{"$f":"IF(ТРУБА!F181=0,\"\",CONCATENATE(ТРУБА!F181,\" шт.   \",ТРУБА!D181))","v":""}]
["z",null,{"$f":"ТРУБА!H182","v":"Труба 30х1,5"},{"$f":"IF(ТРУБА!W182 =0,\"\",ROUND(ТРУБА!W182,3))","v":""},{"$f":"CONCATENATE(IF(ТРУБА!I182=0,\"\",ROUND(ТРУБА!I182,3)),IF(AND(ТРУБА!I182>0,ТРУБА!J182>0),\"+\",\"\"),IF(ТРУБА!J182=0,\"\",CONCATENATE(\"(\",ROUND(ТРУБА!J182,3),\")\")))","v":""},null,{"$f":"IF(ТРУБА!Q182=0,\"\",ROUND(ТРУБА!Q182,3))","v":""},null,{"$f":"IF(ТРУБА!S182=0,\"\",ROUND(ТРУБА!S182,3))","v":""},null,"кг",{"$f":"IF(ТРУБА!F182=0,\"\",CONCATENATE(ТРУБА!F182,\" шт.   \",ТРУБА!D182))","v":""}]
["z",null,{"$f":"ТРУБА!H183","v":"Труба 30х10х1"},{"$f":"IF(ТРУБА!W183 =0,\"\",ROUND(ТРУБА!W183,3))","v":""},{"$f":"CONCATENATE(IF(ТРУБА!I183=0,\"\",ROUND(ТРУБА!I183,3)),IF(AND(ТРУБА!I183>0,ТРУБА!J183>0),\"+\",\"\"),IF(ТРУБА!J183=0,\"\",CONCATENATE(\"(\",ROUND(ТРУБА!J183,3),\")\")))","v":""},null,{"$f":"IF(ТРУБА!Q183=0,\"\",ROUND(ТРУБА!Q183,3))","v":""},null,{"$f":"IF(ТРУБА!S183=0,\"\",ROUND(ТРУБА!S183,3))","v":""},null,"кг",{"$f":"IF(ТРУБА!F183=0,\"\",CONCATENATE(ТРУБА!F183,\" шт.   \",ТРУБА!D183))","v":""}]
["z",null,{"$f":"ТРУБА!H184","v":"Труба 30х10х1,2"},{"$f":"IF(ТРУБА!W184 =0,\"\",ROUND(ТРУБА!W184,3))","v":""},{"$f":"CONCATENATE(IF(ТРУБА!I184=0,\"\",ROUND(ТРУБА!I184,3)),IF(AND(ТРУБА!I184>0,ТРУБА!J184>0),\"+\",\"\"),IF(ТРУБА!J184=0,\"\",CONCATENATE(\"(\",ROUND(ТРУБА!J184,3),\")\")))","v":""},null,{"$f":"IF(ТРУБА!Q184=0,\"\",ROUND(ТРУБА!Q184,3))","v":""},null,{"$f":"IF(ТРУБА!S184=0,\"\",ROUND(ТРУБА!S184,3))","v":""},null,"кг",{"$f":"IF(ТРУБА!F184=0,\"\",CONCATENATE(ТРУБА!F184,\" шт.   \",ТРУБА!D184))","v":""}]
["z",null,{"$f":"ТРУБА!H185","v":"Труба 30х10х1,5"},{"$f":"IF(ТРУБА!W185 =0,\"\",ROUND(ТРУБА!W185,3))","v":""},{"$f":"CONCATENATE(IF(ТРУБА!I185=0,\"\",ROUND(ТРУБА!I185,3)),IF(AND(ТРУБА!I185>0,ТРУБА!J185>0),\"+\",\"\"),IF(ТРУБА!J185=0,\"\",CONCATENATE(\"(\",ROUND(ТРУБА!J185,3),\")\")))","v":""},null,{"$f":"IF(ТРУБА!Q185=0,\"\",ROUND(ТРУБА!Q185,3))","v":""},null,{"$f":"IF(ТРУБА!S185=0,\"\",ROUND(ТРУБА!S185,3))","v":""},null,"кг",{"$f":"IF(ТРУБА!F185=0,\"\",CONCATENATE(ТРУБА!F185,\" шт.   \",ТРУБА!D185))","v":""}]
["z",null,{"$f":"ТРУБА!H186","v":"Труба 30х15х1"},{"$f":"IF(ТРУБА!W186 =0,\"\",ROUND(ТРУБА!W186,3))","v":""},{"$f":"CONCATENATE(IF(ТРУБА!I186=0,\"\",ROUND(ТРУБА!I186,3)),IF(AND(ТРУБА!I186>0,ТРУБА!J186>0),\"+\",\"\"),IF(ТРУБА!J186=0,\"\",CONCATENATE(\"(\",ROUND(ТРУБА!J186,3),\")\")))","v":""},null,{"$f":"IF(ТРУБА!Q186=0,\"\",ROUND(ТРУБА!Q186,3))","v":""},null,{"$f":"IF(ТРУБА!S186=0,\"\",ROUND(ТРУБА!S186,3))","v":""},null,"кг",{"$f":"IF(ТРУБА!F186=0,\"\",CONCATENATE(ТРУБА!F186,\" шт.   \",ТРУБА!D186))","v":""}]
["z",null,{"$f":"ТРУБА!H187","v":"Труба 30х15х1,5"},{"$f":"IF(ТРУБА!W187 =0,\"\",ROUND(ТРУБА!W187,3))","v":""},{"$f":"CONCATENATE(IF(ТРУБА!I187=0,\"\",ROUND(ТРУБА!I187,3)),IF(AND(ТРУБА!I187>0,ТРУБА!J187>0),\"+\",\"\"),IF(ТРУБА!J187=0,\"\",CONCATENATE(\"(\",ROUND(ТРУБА!J187,3),\")\")))","v":""},null,{"$f":"IF(ТРУБА!Q187=0,\"\",ROUND(ТРУБА!Q187,3))","v":""},null,{"$f":"IF(ТРУБА!S187=0,\"\",ROUND(ТРУБА!S187,3))","v":""},null,"кг",{"$f":"IF(ТРУБА!F187=0,\"\",CONCATENATE(ТРУБА!F187,\" шт.   \",ТРУБА!D187))","v":""}]
["z",null,{"$f":"ТРУБА!H188","v":"Труба 30х15х2"},{"$f":"IF(ТРУБА!W188 =0,\"\",ROUND(ТРУБА!W188,3))","v":""},{"$f":"CONCATENATE(IF(ТРУБА!I188=0,\"\",ROUND(ТРУБА!I188,3)),IF(AND(ТРУБА!I188>0,ТРУБА!J188>0),\"+\",\"\"),IF(ТРУБА!J188=0,\"\",CONCATENATE(\"(\",ROUND(ТРУБА!J188,3),\")\")))","v":""},null,{"$f":"IF(ТРУБА!Q188=0,\"\",ROUND(ТРУБА!Q188,3))","v":""},null,{"$f":"IF(ТРУБА!S188=0,\"\",ROUND(ТРУБА!S188,3))","v":""},null,"кг",{"$f":"IF(ТРУБА!F188=0,\"\",CONCATENATE(ТРУБА!F188,\" шт.   \",ТРУБА!D188))","v":""}]
["z",null,{"$f":"ТРУБА!H189","v":"Труба 30х20х1"},{"$f":"IF(ТРУБА!W189 =0,\"\",ROUND(ТРУБА!W189,3))","v":""},{"$f":"CONCATENATE(IF(ТРУБА!I189=0,\"\",ROUND(ТРУБА!I189,3)),IF(AND(ТРУБА!I189>0,ТРУБА!J189>0),\"+\",\"\"),IF(ТРУБА!J189=0,\"\",CONCATENATE(\"(\",ROUND(ТРУБА!J189,3),\")\")))","v":""},null,{"$f":"IF(ТРУБА!Q189=0,\"\",ROUND(ТРУБА!Q189,3))","v":""},null,{"$f":"IF(ТРУБА!S189=0,\"\",ROUND(ТРУБА!S189,3))","v":""},null,"кг",{"$f":"IF(ТРУБА!F189=0,\"\",CONCATENATE(ТРУБА!F189,\" шт.   \",ТРУБА!D189))","v":""}]
["z",null,{"$f":"ТРУБА!H190","v":"Труба 30х20х1,2"},{"$f":"IF(ТРУБА!W190 =0,\"\",ROUND(ТРУБА!W190,3))","v":""},{"$f":"CONCATENATE(IF(ТРУБА!I190=0,\"\",ROUND(ТРУБА!I190,3)),IF(AND(ТРУБА!I190>0,ТРУБА!J190>0),\"+\",\"\"),IF(ТРУБА!J190=0,\"\",CONCATENATE(\"(\",ROUND(ТРУБА!J190,3),\")\")))","v":""},null,{"$f":"IF(ТРУБА!Q190=0,\"\",ROUND(ТРУБА!Q190,3))","v":""},null,{"$f":"IF(ТРУБА!S190=0,\"\",ROUND(ТРУБА!S190,3))","v":""},null,"кг",{"$f":"IF(ТРУБА!F190=0,\"\",CONCATENATE(ТРУБА!F190,\" шт.   \",ТРУБА!D190))","v":""}]
["z",null,{"$f":"ТРУБА!H191","v":"Труба 30х20х1,8"},{"$f":"IF(ТРУБА!W191 =0,\"\",ROUND(ТРУБА!W191,3))","v":""},{"$f":"CONCATENATE(IF(ТРУБА!I191=0,\"\",ROUND(ТРУБА!I191,3)),IF(AND(ТРУБА!I191>0,ТРУБА!J191>0),\"+\",\"\"),IF(ТРУБА!J191=0,\"\",CONCATENATE(\"(\",ROUND(ТРУБА!J191,3),\")\")))","v":""},null,{"$f":"IF(ТРУБА!Q191=0,\"\",ROUND(ТРУБА!Q191,3))","v":""},null,{"$f":"IF(ТРУБА!S191=0,\"\",ROUND(ТРУБА!S191,3))","v":""},null,"кг",{"$f":"IF(ТРУБА!F191=0,\"\",CONCATENATE(ТРУБА!F191,\" шт.   \",ТРУБА!D191))","v":""}]
["z",null,{"$f":"ТРУБА!H192","v":"Труба 30х20х2"},{"$f":"IF(ТРУБА!W192 =0,\"\",ROUND(ТРУБА!W192,3))","v":""},{"$f":"CONCATENATE(IF(ТРУБА!I192=0,\"\",ROUND(ТРУБА!I192,3)),IF(AND(ТРУБА!I192>0,ТРУБА!J192>0),\"+\",\"\"),IF(ТРУБА!J192=0,\"\",CONCATENATE(\"(\",ROUND(ТРУБА!J192,3),\")\")))","v":""},null,{"$f":"IF(ТРУБА!Q192=0,\"\",ROUND(ТРУБА!Q192,3))","v":""},null,{"$f":"IF(ТРУБА!S192=0,\"\",ROUND(ТРУБА!S192,3))","v":""},null,"кг",{"$f":"IF(ТРУБА!F192=0,\"\",CONCATENATE(ТРУБА!F192,\" шт.   \",ТРУБА!D192))","v":""}]
["z",null,{"$f":"ТРУБА!H193","v":"Труба 30х30х1"},{"$f":"IF(ТРУБА!W193 =0,\"\",ROUND(ТРУБА!W193,3))","v":""},{"$f":"CONCATENATE(IF(ТРУБА!I193=0,\"\",ROUND(ТРУБА!I193,3)),IF(AND(ТРУБА!I193>0,ТРУБА!J193>0),\"+\",\"\"),IF(ТРУБА!J193=0,\"\",CONCATENATE(\"(\",ROUND(ТРУБА!J193,3),\")\")))","v":""},null,{"$f":"IF(ТРУБА!Q193=0,\"\",ROUND(ТРУБА!Q193,3))","v":""},null,{"$f":"IF(ТРУБА!S193=0,\"\",ROUND(ТРУБА!S193,3))","v":""},null,"кг",{"$f":"IF(ТРУБА!F193=0,\"\",CONCATENATE(ТРУБА!F193,\" шт.   \",ТРУБА!D193))","v":""}]
["z",null,{"$f":"ТРУБА!H194","v":"Труба 30х30х1,5"},{"$f":"IF(ТРУБА!W194 =0,\"\",ROUND(ТРУБА!W194,3))","v":""},{"$f":"CONCATENATE(IF(ТРУБА!I194=0,\"\",ROUND(ТРУБА!I194,3)),IF(AND(ТРУБА!I194>0,ТРУБА!J194>0),\"+\",\"\"),IF(ТРУБА!J194=0,\"\",CONCATENATE(\"(\",ROUND(ТРУБА!J194,3),\")\")))","v":""},null,{"$f":"IF(ТРУБА!Q194=0,\"\",ROUND(ТРУБА!Q194,3))","v":""},null,{"$f":"IF(ТРУБА!S194=0,\"\",ROUND(ТРУБА!S194,3))","v":""},null,"кг",{"$f":"IF(ТРУБА!F194=0,\"\",CONCATENATE(ТРУБА!F194,\" шт.   \",ТРУБА!D194))","v":""}]
[{"$f":"IF(D130=\"\",\"z\",\"\")","v":"z"},null,{"$f":"ТРУБА!H195","v":"Труба 30х30х1,8"},{"$f":"IF(ТРУБА!W195 =0,\"\",ROUND(ТРУБА!W195,3))","v":""},{"$f":"CONCATENATE(IF(ТРУБА!I195=0,\"\",ROUND(ТРУБА!I195,3)),IF(AND(ТРУБА!I195>0,ТРУБА!J195>0),\"+\",\"\"),IF(ТРУБА!J195=0,\"\",CONCATENATE(\"(\",ROUND(ТРУБА!J195,3),\")\")))","v":""},null,{"$f":"IF(ТРУБА!Q195=0,\"\",ROUND(ТРУБА!Q195,3))","v":""},null,{"$f":"IF(ТРУБА!S195=0,\"\",ROUND(ТРУБА!S195,3))","v":""},null,"кг",{"$f":"IF(ТРУБА!F195=0,\"\",CONCATENATE(ТРУБА!F195,\" шт.   \",ТРУБА!D195))","v":""}]
["z",null,{"$f":"ТРУБА!H196","v":"Труба 30х30х2"},{"$f":"IF(ТРУБА!W196 =0,\"\",ROUND(ТРУБА!W196,3))","v":""},{"$f":"CONCATENATE(IF(ТРУБА!I196=0,\"\",ROUND(ТРУБА!I196,3)),IF(AND(ТРУБА!I196>0,ТРУБА!J196>0),\"+\",\"\"),IF(ТРУБА!J196=0,\"\",CONCATENATE(\"(\",ROUND(ТРУБА!J196,3),\")\")))","v":""},null,{"$f":"IF(ТРУБА!Q196=0,\"\",ROUND(ТРУБА!Q196,3))","v":""},null,{"$f":"IF(ТРУБА!S196=0,\"\",ROUND(ТРУБА!S196,3))","v":""},null,"кг",{"$f":"IF(ТРУБА!F196=0,\"\",CONCATENATE(ТРУБА!F196,\" шт.   \",ТРУБА!D196))","v":""}]
["z",null,{"$f":"ТРУБА!H197","v":"Труба 32,5х3"},{"$f":"IF(ТРУБА!W197 =0,\"\",ROUND(ТРУБА!W197,3))","v":""},{"$f":"CONCATENATE(IF(ТРУБА!I197=0,\"\",ROUND(ТРУБА!I197,3)),IF(AND(ТРУБА!I197>0,ТРУБА!J197>0),\"+\",\"\"),IF(ТРУБА!J197=0,\"\",CONCATENATE(\"(\",ROUND(ТРУБА!J197,3),\")\")))","v":""},null,{"$f":"IF(ТРУБА!Q197=0,\"\",ROUND(ТРУБА!Q197,3))","v":""},null,{"$f":"IF(ТРУБА!S197=0,\"\",ROUND(ТРУБА!S197,3))","v":""},null,"кг",{"$f":"IF(ТРУБА!F197=0,\"\",CONCATENATE(ТРУБА!F197,\" шт.   \",ТРУБА!D197))","v":""}]
["z",null,{"$f":"ТРУБА!H198","v":"Труба 40х2"},{"$f":"IF(ТРУБА!W198 =0,\"\",ROUND(ТРУБА!W198,3))","v":""},{"$f":"CONCATENATE(IF(ТРУБА!I198=0,\"\",ROUND(ТРУБА!I198,3)),IF(AND(ТРУБА!I198>0,ТРУБА!J198>0),\"+\",\"\"),IF(ТРУБА!J198=0,\"\",CONCATENATE(\"(\",ROUND(ТРУБА!J198,3),\")\")))","v":""},null,{"$f":"IF(ТРУБА!Q198=0,\"\",ROUND(ТРУБА!Q198,3))","v":""},null,{"$f":"IF(ТРУБА!S198=0,\"\",ROUND(ТРУБА!S198,3))","v":""},null,"кг",{"$f":"IF(ТРУБА!F198=0,\"\",CONCATENATE(ТРУБА!F198,\" шт.   \",ТРУБА!D198))","v":""}]
["z",null,{"$f":"ТРУБА!H199","v":"Труба 40х20х1"},{"$f":"IF(ТРУБА!W199 =0,\"\",ROUND(ТРУБА!W199,3))","v":""},{"$f":"CONCATENATE(IF(ТРУБА!I199=0,\"\",ROUND(ТРУБА!I199,3)),IF(AND(ТРУБА!I199>0,ТРУБА!J199>0),\"+\",\"\"),IF(ТРУБА!J199=0,\"\",CONCATENATE(\"(\",ROUND(ТРУБА!J199,3),\")\")))","v":""},null,{"$f":"IF(ТРУБА!Q199=0,\"\",ROUND(ТРУБА!Q199,3))","v":""},null,{"$f":"IF(ТРУБА!S199=0,\"\",ROUND(ТРУБА!S199,3))","v":""},null,"кг",{"$f":"IF(ТРУБА!F199=0,\"\",CONCATENATE(ТРУБА!F199,\" шт.   \",ТРУБА!D199))","v":""}]
["z",null,{"$f":"ТРУБА!H200","v":"Труба 40х20х1,2"},{"$f":"IF(ТРУБА!W200 =0,\"\",ROUND(ТРУБА!W200,3))","v":""},{"$f":"CONCATENATE(IF(ТРУБА!I200=0,\"\",ROUND(ТРУБА!I200,3)),IF(AND(ТРУБА!I200>0,ТРУБА!J200>0),\"+\",\"\"),IF(ТРУБА!J200=0,\"\",CONCATENATE(\"(\",ROUND(ТРУБА!J200,3),\")\")))","v":""},null,{"$f":"IF(ТРУБА!Q200=0,\"\",ROUND(ТРУБА!Q200,3))","v":""},null,{"$f":"IF(ТРУБА!S200=0,\"\",ROUND(ТРУБА!S200,3))","v":""},null,"кг",{"$f":"IF(ТРУБА!F200=0,\"\",CONCATENATE(ТРУБА!F200,\" шт.   \",ТРУБА!D200))","v":""}]
["z",null,{"$f":"ТРУБА!H201","v":"Труба 40х20х1,5"},{"$f":"IF(ТРУБА!W201 =0,\"\",ROUND(ТРУБА!W201,3))","v":""},{"$f":"CONCATENATE(IF(ТРУБА!I201=0,\"\",ROUND(ТРУБА!I201,3)),IF(AND(ТРУБА!I201>0,ТРУБА!J201>0),\"+\",\"\"),IF(ТРУБА!J201=0,\"\",CONCATENATE(\"(\",ROUND(ТРУБА!J201,3),\")\")))","v":""},null,{"$f":"IF(ТРУБА!Q201=0,\"\",ROUND(ТРУБА!Q201,3))","v":""},null,{"$f":"IF(ТРУБА!S201=0,\"\",ROUND(ТРУБА!S201,3))","v":""},null,"кг",{"$f":"IF(ТРУБА!F201=0,\"\",CONCATENATE(ТРУБА!F201,\" шт.   \",ТРУБА!D201))","v":""}]
["z",null,{"$f":"ТРУБА!H202","v":"Труба 40х20х1,8"},{"$f":"IF(ТРУБА!W202 =0,\"\",ROUND(ТРУБА!W202,3))","v":""},{"$f":"CONCATENATE(IF(ТРУБА!I202=0,\"\",ROUND(ТРУБА!I202,3)),IF(AND(ТРУБА!I202>0,ТРУБА!J202>0),\"+\",\"\"),IF(ТРУБА!J202=0,\"\",CONCATENATE(\"(\",ROUND(ТРУБА!J202,3),\")\")))","v":""},null,{"$f":"IF(ТРУБА!Q202=0,\"\",ROUND(ТРУБА!Q202,3))","v":""},null,{"$f":"IF(ТРУБА!S202=0,\"\",ROUND(ТРУБА!S202,3))","v":""},null,"кг",{"$f":"IF(ТРУБА!F202=0,\"\",CONCATENATE(ТРУБА!F202,\" шт.   \",ТРУБА!D202))","v":""}]
["z",null,{"$f":"ТРУБА!H203","v":"Труба 40х20х2"},{"$f":"IF(ТРУБА!W203 =0,\"\",ROUND(ТРУБА!W203,3))","v":""},{"$f":"CONCATENATE(IF(ТРУБА!I203=0,\"\",ROUND(ТРУБА!I203,3)),IF(AND(ТРУБА!I203>0,ТРУБА!J203>0),\"+\",\"\"),IF(ТРУБА!J203=0,\"\",CONCATENATE(\"(\",ROUND(ТРУБА!J203,3),\")\")))","v":""},null,{"$f":"IF(ТРУБА!Q203=0,\"\",ROUND(ТРУБА!Q203,3))","v":""},null,{"$f":"IF(ТРУБА!S203=0,\"\",ROUND(ТРУБА!S203,3))","v":""},null,"кг",{"$f":"IF(ТРУБА!F203=0,\"\",CONCATENATE(ТРУБА!F203,\" шт.   \",ТРУБА!D203))","v":""}]
["z",null,{"$f":"ТРУБА!H204","v":"Труба 40х25х1"},{"$f":"IF(ТРУБА!W204 =0,\"\",ROUND(ТРУБА!W204,3))","v":""},{"$f":"CONCATENATE(IF(ТРУБА!I204=0,\"\",ROUND(ТРУБА!I204,3)),IF(AND(ТРУБА!I204>0,ТРУБА!J204>0),\"+\",\"\"),IF(ТРУБА!J204=0,\"\",CONCATENATE(\"(\",ROUND(ТРУБА!J204,3),\")\")))","v":""},null,{"$f":"IF(ТРУБА!Q204=0,\"\",ROUND(ТРУБА!Q204,3))","v":""},null,{"$f":"IF(ТРУБА!S204=0,\"\",ROUND(ТРУБА!S204,3))","v":""},null,"кг",{"$f":"IF(ТРУБА!F204=0,\"\",CONCATENATE(ТРУБА!F204,\" шт.   \",ТРУБА!D204))","v":""}]
["z",null,{"$f":"ТРУБА!H205","v":"Труба 40х25х2"},{"$f":"IF(ТРУБА!W205 =0,\"\",ROUND(ТРУБА!W205,3))","v":""},{"$f":"CONCATENATE(IF(ТРУБА!I205=0,\"\",ROUND(ТРУБА!I205,3)),IF(AND(ТРУБА!I205>0,ТРУБА!J205>0),\"+\",\"\"),IF(ТРУБА!J205=0,\"\",CONCATENATE(\"(\",ROUND(ТРУБА!J205,3),\")\")))","v":""},null,{"$f":"IF(ТРУБА!Q205=0,\"\",ROUND(ТРУБА!Q205,3))","v":""},null,{"$f":"IF(ТРУБА!S205=0,\"\",ROUND(ТРУБА!S205,3))","v":""},null,"кг",{"$f":"IF(ТРУБА!F205=0,\"\",CONCATENATE(ТРУБА!F205,\" шт.   \",ТРУБА!D205))","v":""}]
["z",null,{"$f":"ТРУБА!H206","v":"Труба 40х30х2"},{"$f":"IF(ТРУБА!W206 =0,\"\",ROUND(ТРУБА!W206,3))","v":""},{"$f":"CONCATENATE(IF(ТРУБА!I206=0,\"\",ROUND(ТРУБА!I206,3)),IF(AND(ТРУБА!I206>0,ТРУБА!J206>0),\"+\",\"\"),IF(ТРУБА!J206=0,\"\",CONCATENATE(\"(\",ROUND(ТРУБА!J206,3),\")\")))","v":""},null,{"$f":"IF(ТРУБА!Q206=0,\"\",ROUND(ТРУБА!Q206,3))","v":""},null,{"$f":"IF(ТРУБА!S206=0,\"\",ROUND(ТРУБА!S206,3))","v":""},null,"кг",{"$f":"IF(ТРУБА!F206=0,\"\",CONCATENATE(ТРУБА!F206,\" шт.   \",ТРУБА!D206))","v":""}]
["z",null,{"$f":"ТРУБА!H207","v":"Труба 40х40х2"},{"$f":"IF(ТРУБА!W207 =0,\"\",ROUND(ТРУБА!W207,3))","v":""},{"$f":"CONCATENATE(IF(ТРУБА!I207=0,\"\",ROUND(ТРУБА!I207,3)),IF(AND(ТРУБА!I207>0,ТРУБА!J207>0),\"+\",\"\"),IF(ТРУБА!J207=0,\"\",CONCATENATE(\"(\",ROUND(ТРУБА!J207,3),\")\")))","v":""},null,{"$f":"IF(ТРУБА!Q207=0,\"\",ROUND(ТРУБА!Q207,3))","v":""},null,{"$f":"IF(ТРУБА!S207=0,\"\",ROUND(ТРУБА!S207,3))","v":""},null,"кг",{"$f":"IF(ТРУБА!F207=0,\"\",CONCATENATE(ТРУБА!F207,\" шт.   \",ТРУБА!D207))","v":""}]
["z",null,{"$f":"ТРУБА!H208","v":"Труба 42х3"},{"$f":"IF(ТРУБА!W208 =0,\"\",ROUND(ТРУБА!W208,3))","v":""},{"$f":"CONCATENATE(IF(ТРУБА!I208=0,\"\",ROUND(ТРУБА!I208,3)),IF(AND(ТРУБА!I208>0,ТРУБА!J208>0),\"+\",\"\"),IF(ТРУБА!J208=0,\"\",CONCATENATE(\"(\",ROUND(ТРУБА!J208,3),\")\")))","v":""},null,{"$f":"IF(ТРУБА!Q208=0,\"\",ROUND(ТРУБА!Q208,3))","v":""},null,{"$f":"IF(ТРУБА!S208=0,\"\",ROUND(ТРУБА!S208,3))","v":""},null,"кг",{"$f":"IF(ТРУБА!F208=0,\"\",CONCATENATE(ТРУБА!F208,\" шт.   \",ТРУБА!D208))","v":""}]
["z",null,{"$f":"ТРУБА!H209","v":"Труба 50х25х1,5"},{"$f":"IF(ТРУБА!W209 =0,\"\",ROUND(ТРУБА!W209,3))","v":""},{"$f":"CONCATENATE(IF(ТРУБА!I209=0,\"\",ROUND(ТРУБА!I209,3)),IF(AND(ТРУБА!I209>0,ТРУБА!J209>0),\"+\",\"\"),IF(ТРУБА!J209=0,\"\",CONCATENATE(\"(\",ROUND(ТРУБА!J209,3),\")\")))","v":""},null,{"$f":"IF(ТРУБА!Q209=0,\"\",ROUND(ТРУБА!Q209,3))","v":""},null,{"$f":"IF(ТРУБА!S209=0,\"\",ROUND(ТРУБА!S209,3))","v":""},null,"кг",{"$f":"IF(ТРУБА!F209=0,\"\",CONCATENATE(ТРУБА!F209,\" шт.   \",ТРУБА!D209))","v":""}]
["z",null,{"$f":"ТРУБА!H210","v":"Труба 50х25х2"},{"$f":"IF(ТРУБА!W210 =0,\"\",ROUND(ТРУБА!W210,3))","v":""},{"$f":"CONCATENATE(IF(ТРУБА!I210=0,\"\",ROUND(ТРУБА!I210,3)),IF(AND(ТРУБА!I210>0,ТРУБА!J210>0),\"+\",\"\"),IF(ТРУБА!J210=0,\"\",CONCATENATE(\"(\",ROUND(ТРУБА!J210,3),\")\")))","v":""},null,{"$f":"IF(ТРУБА!Q210=0,\"\",ROUND(ТРУБА!Q210,3))","v":""},null,{"$f":"IF(ТРУБА!S210=0,\"\",ROUND(ТРУБА!S210,3))","v":""},null,"кг",{"$f":"IF(ТРУБА!F210=0,\"\",CONCATENATE(ТРУБА!F210,\" шт.   \",ТРУБА!D210))","v":""}]
["z",null,{"$f":"ТРУБА!H211","v":"Труба 50х30х1,5"},{"$f":"IF(ТРУБА!W211 =0,\"\",ROUND(ТРУБА!W211,3))","v":""},{"$f":"CONCATENATE(IF(ТРУБА!I211=0,\"\",ROUND(ТРУБА!I211,3)),IF(AND(ТРУБА!I211>0,ТРУБА!J211>0),\"+\",\"\"),IF(ТРУБА!J211=0,\"\",CONCATENATE(\"(\",ROUND(ТРУБА!J211,3),\")\")))","v":""},null,{"$f":"IF(ТРУБА!Q211=0,\"\",ROUND(ТРУБА!Q211,3))","v":""},null,{"$f":"IF(ТРУБА!S211=0,\"\",ROUND(ТРУБА!S211,3))","v":""},null,"кг",{"$f":"IF(ТРУБА!F211=0,\"\",CONCATENATE(ТРУБА!F211,\" шт.   \",ТРУБА!D211))","v":""}]
["z",null,{"$f":"ТРУБА!H212","v":"Труба 50х30х2"},{"$f":"IF(ТРУБА!W212 =0,\"\",ROUND(ТРУБА!W212,3))","v":""},{"$f":"CONCATENATE(IF(ТРУБА!I212=0,\"\",ROUND(ТРУБА!I212,3)),IF(AND(ТРУБА!I212>0,ТРУБА!J212>0),\"+\",\"\"),IF(ТРУБА!J212=0,\"\",CONCATENATE(\"(\",ROUND(ТРУБА!J212,3),\")\")))","v":""},null,{"$f":"IF(ТРУБА!Q212=0,\"\",ROUND(ТРУБА!Q212,3))","v":""},null,{"$f":"IF(ТРУБА!S212=0,\"\",ROUND(ТРУБА!S212,3))","v":""},null,"кг",{"$f":"IF(ТРУБА!F212=0,\"\",CONCATENATE(ТРУБА!F212,\" шт.   \",ТРУБА!D212))","v":""}]
["z",null,{"$f":"ТРУБА!H213","v":"Труба 51х1,5"},{"$f":"IF(ТРУБА!W213 =0,\"\",ROUND(ТРУБА!W213,3))","v":""},{"$f":"CONCATENATE(IF(ТРУБА!I213=0,\"\",ROUND(ТРУБА!I213,3)),IF(AND(ТРУБА!I213>0,ТРУБА!J213>0),\"+\",\"\"),IF(ТРУБА!J213=0,\"\",CONCATENATE(\"(\",ROUND(ТРУБА!J213,3),\")\")))","v":""},null,{"$f":"IF(ТРУБА!Q213=0,\"\",ROUND(ТРУБА!Q213,3))","v":""},null,{"$f":"IF(ТРУБА!S213=0,\"\",ROUND(ТРУБА!S213,3))","v":""},null,"кг",{"$f":"IF(ТРУБА!F213=0,\"\",CONCATENATE(ТРУБА!F213,\" шт.   \",ТРУБА!D213))","v":""}]
["z",null,{"$f":"ТРУБА!H214","v":"Труба 60х20х1,5"},{"$f":"IF(ТРУБА!W214 =0,\"\",ROUND(ТРУБА!W214,3))","v":""},{"$f":"CONCATENATE(IF(ТРУБА!I214=0,\"\",ROUND(ТРУБА!I214,3)),IF(AND(ТРУБА!I214>0,ТРУБА!J214>0),\"+\",\"\"),IF(ТРУБА!J214=0,\"\",CONCATENATE(\"(\",ROUND(ТРУБА!J214,3),\")\")))","v":""},null,{"$f":"IF(ТРУБА!Q214=0,\"\",ROUND(ТРУБА!Q214,3))","v":""},null,{"$f":"IF(ТРУБА!S214=0,\"\",ROUND(ТРУБА!S214,3))","v":""},null,"кг",{"$f":"IF(ТРУБА!F214=0,\"\",CONCATENATE(ТРУБА!F214,\" шт.   \",ТРУБА!D214))","v":""}]
["z",null,{"$f":"ТРУБА!H215","v":"Труба 60х20х2"},{"$f":"IF(ТРУБА!W215 =0,\"\",ROUND(ТРУБА!W215,3))","v":""},{"$f":"CONCATENATE(IF(ТРУБА!I215=0,\"\",ROUND(ТРУБА!I215,3)),IF(AND(ТРУБА!I215>0,ТРУБА!J215>0),\"+\",\"\"),IF(ТРУБА!J215=0,\"\",CONCATENATE(\"(\",ROUND(ТРУБА!J215,3),\")\")))","v":""},null,{"$f":"IF(ТРУБА!Q215=0,\"\",ROUND(ТРУБА!Q215,3))","v":""},null,{"$f":"IF(ТРУБА!S215=0,\"\",ROUND(ТРУБА!S215,3))","v":""},null,"кг",{"$f":"IF(ТРУБА!F215=0,\"\",CONCATENATE(ТРУБА!F215,\" шт.   \",ТРУБА!D215))","v":""}]
["z",null,{"$f":"ТРУБА!H216","v":"Труба 60х30х1,5"},{"$f":"IF(ТРУБА!W216 =0,\"\",ROUND(ТРУБА!W216,3))","v":""},{"$f":"CONCATENATE(IF(ТРУБА!I216=0,\"\",ROUND(ТРУБА!I216,3)),IF(AND(ТРУБА!I216>0,ТРУБА!J216>0),\"+\",\"\"),IF(ТРУБА!J216=0,\"\",CONCATENATE(\"(\",ROUND(ТРУБА!J216,3),\")\")))","v":""},null,{"$f":"IF(ТРУБА!Q216=0,\"\",ROUND(ТРУБА!Q216,3))","v":""},null,{"$f":"IF(ТРУБА!S216=0,\"\",ROUND(ТРУБА!S216,3))","v":""},null,"кг",{"$f":"IF(ТРУБА!F216=0,\"\",CONCATENATE(ТРУБА!F216,\" шт.   \",ТРУБА!D216))","v":""}]
["z",null,{"$f":"ТРУБА!H217","v":"Труба 60х30х2"},{"$f":"IF(ТРУБА!W217 =0,\"\",ROUND(ТРУБА!W217,3))","v":""},{"$f":"CONCATENATE(IF(ТРУБА!I217=0,\"\",ROUND(ТРУБА!I217,3)),IF(AND(ТРУБА!I217>0,ТРУБА!J217>0),\"+\",\"\"),IF(ТРУБА!J217=0,\"\",CONCATENATE(\"(\",ROUND(ТРУБА!J217,3),\")\")))","v":""},null,{"$f":"IF(ТРУБА!Q217=0,\"\",ROUND(ТРУБА!Q217,3))","v":""},null,{"$f":"IF(ТРУБА!S217=0,\"\",ROUND(ТРУБА!S217,3))","v":""},null,"кг",{"$f":"IF(ТРУБА!F217=0,\"\",CONCATENATE(ТРУБА!F217,\" шт.   \",ТРУБА!D217))","v":""}]
["z",null,{"$f":"ТРУБА!H218","v":"Труба 60х4"},{"$f":"IF(ТРУБА!W218 =0,\"\",ROUND(ТРУБА!W218,3))","v":""},{"$f":"CONCATENATE(IF(ТРУБА!I218=0,\"\",ROUND(ТРУБА!I218,3)),IF(AND(ТРУБА!I218>0,ТРУБА!J218>0),\"+\",\"\"),IF(ТРУБА!J218=0,\"\",CONCATENATE(\"(\",ROUND(ТРУБА!J218,3),\")\")))","v":""},null,{"$f":"IF(ТРУБА!Q218=0,\"\",ROUND(ТРУБА!Q218,3))","v":""},null,{"$f":"IF(ТРУБА!S218=0,\"\",ROUND(ТРУБА!S218,3))","v":""},null,"кг",{"$f":"IF(ТРУБА!F218=0,\"\",CONCATENATE(ТРУБА!F218,\" шт.   \",ТРУБА!D218))","v":""}]
["z",null,{"$f":"ТРУБА!H219","v":"Труба 60х60х2"},{"$f":"IF(ТРУБА!W219 =0,\"\",ROUND(ТРУБА!W219,3))","v":""},{"$f":"CONCATENATE(IF(ТРУБА!I219=0,\"\",ROUND(ТРУБА!I219,3)),IF(AND(ТРУБА!I219>0,ТРУБА!J219>0),\"+\",\"\"),IF(ТРУБА!J219=0,\"\",CONCATENATE(\"(\",ROUND(ТРУБА!J219,3),\")\")))","v":""},null,{"$f":"IF(ТРУБА!Q219=0,\"\",ROUND(ТРУБА!Q219,3))","v":""},null,{"$f":"IF(ТРУБА!S219=0,\"\",ROUND(ТРУБА!S219,3))","v":""},null,"кг",{"$f":"IF(ТРУБА!F219=0,\"\",CONCATENATE(ТРУБА!F219,\" шт.   \",ТРУБА!D219))","v":""}]
["z",null,{"$f":"ТРУБА!H220","v":"Труба 76х3"},{"$f":"IF(ТРУБА!W220 =0,\"\",ROUND(ТРУБА!W220,3))","v":""},{"$f":"CONCATENATE(IF(ТРУБА!I220=0,\"\",ROUND(ТРУБА!I220,3)),IF(AND(ТРУБА!I220>0,ТРУБА!J220>0),\"+\",\"\"),IF(ТРУБА!J220=0,\"\",CONCATENATE(\"(\",ROUND(ТРУБА!J220,3),\")\")))","v":""},null,{"$f":"IF(ТРУБА!Q220=0,\"\",ROUND(ТРУБА!Q220,3))","v":""},null,{"$f":"IF(ТРУБА!S220=0,\"\",ROUND(ТРУБА!S220,3))","v":""},null,"кг",{"$f":"IF(ТРУБА!F220=0,\"\",CONCATENATE(ТРУБА!F220,\" шт.   \",ТРУБА!D220))","v":""}]
["z",null,{"$f":"ТРУБА!H221","v":"Труба 80х30х1,8"},{"$f":"IF(ТРУБА!W221 =0,\"\",ROUND(ТРУБА!W221,3))","v":""},{"$f":"CONCATENATE(IF(ТРУБА!I221=0,\"\",ROUND(ТРУБА!I221,3)),IF(AND(ТРУБА!I221>0,ТРУБА!J221>0),\"+\",\"\"),IF(ТРУБА!J221=0,\"\",CONCATENATE(\"(\",ROUND(ТРУБА!J221,3),\")\")))","v":""},null,{"$f":"IF(ТРУБА!Q221=0,\"\",ROUND(ТРУБА!Q221,3))","v":""},null,{"$f":"IF(ТРУБА!S221=0,\"\",ROUND(ТРУБА!S221,3))","v":""},null,"кг",{"$f":"IF(ТРУБА!F221=0,\"\",CONCATENATE(ТРУБА!F221,\" шт.   \",ТРУБА!D221))","v":""}]
["z",null,{"$f":"ТРУБА!H222","v":"Труба 80х30х2"},{"$f":"IF(ТРУБА!W222 =0,\"\",ROUND(ТРУБА!W222,3))","v":""},{"$f":"CONCATENATE(IF(ТРУБА!I222=0,\"\",ROUND(ТРУБА!I222,3)),IF(AND(ТРУБА!I222>0,ТРУБА!J222>0),\"+\",\"\"),IF(ТРУБА!J222=0,\"\",CONCATENATE(\"(\",ROUND(ТРУБА!J222,3),\")\")))","v":""},null,{"$f":"IF(ТРУБА!Q222=0,\"\",ROUND(ТРУБА!Q222,3))","v":""},null,{"$f":"IF(ТРУБА!S222=0,\"\",ROUND(ТРУБА!S222,3))","v":""},null,"кг",{"$f":"IF(ТРУБА!F222=0,\"\",CONCATENATE(ТРУБА!F222,\" шт.   \",ТРУБА!D222))","v":""}]
["z",null,{"$f":"ТРУБА!H223","v":"Труба 80х40х2"},{"$f":"IF(ТРУБА!W223 =0,\"\",ROUND(ТРУБА!W223,3))","v":""},{"$f":"CONCATENATE(IF(ТРУБА!I223=0,\"\",ROUND(ТРУБА!I223,3)),IF(AND(ТРУБА!I223>0,ТРУБА!J223>0),\"+\",\"\"),IF(ТРУБА!J223=0,\"\",CONCATENATE(\"(\",ROUND(ТРУБА!J223,3),\")\")))","v":""},null,{"$f":"IF(ТРУБА!Q223=0,\"\",ROUND(ТРУБА!Q223,3))","v":""},null,{"$f":"IF(ТРУБА!S223=0,\"\",ROUND(ТРУБА!S223,3))","v":""},null,"кг",{"$f":"IF(ТРУБА!F223=0,\"\",CONCATENATE(ТРУБА!F223,\" шт.   \",ТРУБА!D223))","v":""}]
["z",null,{"$f":"ТРУБА!H224","v":"Труба 80х80х3"},{"$f":"IF(ТРУБА!W224 =0,\"\",ROUND(ТРУБА!W224,3))","v":""},{"$f":"CONCATENATE(IF(ТРУБА!I224=0,\"\",ROUND(ТРУБА!I224,3)),IF(AND(ТРУБА!I224>0,ТРУБА!J224>0),\"+\",\"\"),IF(ТРУБА!J224=0,\"\",CONCATENATE(\"(\",ROUND(ТРУБА!J224,3),\")\")))","v":""},null,{"$f":"IF(ТРУБА!Q224=0,\"\",ROUND(ТРУБА!Q224,3))","v":""},null,{"$f":"IF(ТРУБА!S224=0,\"\",ROUND(ТРУБА!S224,3))","v":""},null,"кг",{"$f":"IF(ТРУБА!F224=0,\"\",CONCATENATE(ТРУБА!F224,\" шт.   \",ТРУБА!D224))","v":""}]
["z",null,{"$f":"ТРУБА!H225","v":"Труба Ал.анод. 25х1,5"},{"$f":"IF(ТРУБА!W225 =0,\"\",ROUND(ТРУБА!W225,3))","v":""},{"$f":"CONCATENATE(IF(ТРУБА!I225=0,\"\",ROUND(ТРУБА!I225,3)),IF(AND(ТРУБА!I225>0,ТРУБА!J225>0),\"+\",\"\"),IF(ТРУБА!J225=0,\"\",CONCATENATE(\"(\",ROUND(ТРУБА!J225,3),\")\")))","v":""},null,{"$f":"IF(ТРУБА!Q225=0,\"\",ROUND(ТРУБА!Q225,3))","v":""},null,{"$f":"IF(ТРУБА!S225=0,\"\",ROUND(ТРУБА!S225,3))","v":""},null,"кг",{"$f":"IF(ТРУБА!F225=0,\"\",CONCATENATE(ТРУБА!F225,\" шт.   \",ТРУБА!D225))","v":""}]
["z",null,{"$f":"ТРУБА!H226","v":"Труба ДУ15х2,8"},{"$f":"IF(ТРУБА!W226 =0,\"\",ROUND(ТРУБА!W226,3))","v":""},{"$f":"CONCATENATE(IF(ТРУБА!I226=0,\"\",ROUND(ТРУБА!I226,3)),IF(AND(ТРУБА!I226>0,ТРУБА!J226>0),\"+\",\"\"),IF(ТРУБА!J226=0,\"\",CONCATENATE(\"(\",ROUND(ТРУБА!J226,3),\")\")))","v":""},null,{"$f":"IF(ТРУБА!Q226=0,\"\",ROUND(ТРУБА!Q226,3))","v":""},null,{"$f":"IF(ТРУБА!S226=0,\"\",ROUND(ТРУБА!S226,3))","v":""},null,"кг",{"$f":"IF(ТРУБА!F226=0,\"\",CONCATENATE(ТРУБА!F226,\" шт.   \",ТРУБА!D226))","v":""}]
["z",null,{"$f":"ТРУБА!H227","v":"Труба ДУ20х2,8"},{"$f":"IF(ТРУБА!W227 =0,\"\",ROUND(ТРУБА!W227,3))","v":""},{"$f":"CONCATENATE(IF(ТРУБА!I227=0,\"\",ROUND(ТРУБА!I227,3)),IF(AND(ТРУБА!I227>0,ТРУБА!J227>0),\"+\",\"\"),IF(ТРУБА!J227=0,\"\",CONCATENATE(\"(\",ROUND(ТРУБА!J227,3),\")\")))","v":""},null,{"$f":"IF(ТРУБА!Q227=0,\"\",ROUND(ТРУБА!Q227,3))","v":""},null,{"$f":"IF(ТРУБА!S227=0,\"\",ROUND(ТРУБА!S227,3))","v":""},null,"кг",{"$f":"IF(ТРУБА!F227=0,\"\",CONCATENATE(ТРУБА!F227,\" шт.   \",ТРУБА!D227))","v":""}]
["z",null,{"$f":"ТРУБА!H228","v":"Труба ДУ25х3,2"},{"$f":"IF(ТРУБА!W228 =0,\"\",ROUND(ТРУБА!W228,3))","v":""},{"$f":"CONCATENATE(IF(ТРУБА!I228=0,\"\",ROUND(ТРУБА!I228,3)),IF(AND(ТРУБА!I228>0,ТРУБА!J228>0),\"+\",\"\"),IF(ТРУБА!J228=0,\"\",CONCATENATE(\"(\",ROUND(ТРУБА!J228,3),\")\")))","v":""},null,{"$f":"IF(ТРУБА!Q228=0,\"\",ROUND(ТРУБА!Q228,3))","v":""},null,{"$f":"IF(ТРУБА!S228=0,\"\",ROUND(ТРУБА!S228,3))","v":""},null,"кг",{"$f":"IF(ТРУБА!F228=0,\"\",CONCATENATE(ТРУБА!F228,\" шт.   \",ТРУБА!D228))","v":""}]
["z",null,{"$f":"ТРУБА!H229","v":"Труба ДУ40х3,5"},{"$f":"IF(ТРУБА!W229 =0,\"\",ROUND(ТРУБА!W229,3))","v":""},{"$f":"CONCATENATE(IF(ТРУБА!I229=0,\"\",ROUND(ТРУБА!I229,3)),IF(AND(ТРУБА!I229>0,ТРУБА!J229>0),\"+\",\"\"),IF(ТРУБА!J229=0,\"\",CONCATENATE(\"(\",ROUND(ТРУБА!J229,3),\")\")))","v":""},null,{"$f":"IF(ТРУБА!Q229=0,\"\",ROUND(ТРУБА!Q229,3))","v":""},null,{"$f":"IF(ТРУБА!S229=0,\"\",ROUND(ТРУБА!S229,3))","v":""},null,"кг",{"$f":"IF(ТРУБА!F229=0,\"\",CONCATENATE(ТРУБА!F229,\" шт.   \",ТРУБА!D229))","v":""}]
["z",null,{"$f":"ТРУБА!H230","v":"Труба пл.ов. 30х15х1"},{"$f":"IF(ТРУБА!W230 =0,\"\",ROUND(ТРУБА!W230,3))","v":""},{"$f":"CONCATENATE(IF(ТРУБА!I230=0,\"\",ROUND(ТРУБА!I230,3)),IF(AND(ТРУБА!I230>0,ТРУБА!J230>0),\"+\",\"\"),IF(ТРУБА!J230=0,\"\",CONCATENATE(\"(\",ROUND(ТРУБА!J230,3),\")\")))","v":""},null,{"$f":"IF(ТРУБА!Q230=0,\"\",ROUND(ТРУБА!Q230,3))","v":""},null,{"$f":"IF(ТРУБА!S230=0,\"\",ROUND(ТРУБА!S230,3))","v":""},null,"кг",{"$f":"IF(ТРУБА!F230=0,\"\",CONCATENATE(ТРУБА!F230,\" шт.   \",ТРУБА!D230))","v":""}]
["z",null,{"$f":"ТРУБА!H231","v":"Труба пл.ов. 30х15х1,2"},{"$f":"IF(ТРУБА!W231 =0,\"\",ROUND(ТРУБА!W231,3))","v":""},{"$f":"CONCATENATE(IF(ТРУБА!I231=0,\"\",ROUND(ТРУБА!I231,3)),IF(AND(ТРУБА!I231>0,ТРУБА!J231>0),\"+\",\"\"),IF(ТРУБА!J231=0,\"\",CONCATENATE(\"(\",ROUND(ТРУБА!J231,3),\")\")))","v":""},null,{"$f":"IF(ТРУБА!Q231=0,\"\",ROUND(ТРУБА!Q231,3))","v":""},null,{"$f":"IF(ТРУБА!S231=0,\"\",ROUND(ТРУБА!S231,3))","v":""},null,"кг",{"$f":"IF(ТРУБА!F231=0,\"\",CONCATENATE(ТРУБА!F231,\" шт.   \",ТРУБА!D231))","v":""}]
["z",null,{"$f":"ТРУБА!H232","v":"Труба пл.ов. 30х15х1,5"},{"$f":"IF(ТРУБА!W232 =0,\"\",ROUND(ТРУБА!W232,3))","v":""},{"$f":"CONCATENATE(IF(ТРУБА!I232=0,\"\",ROUND(ТРУБА!I232,3)),IF(AND(ТРУБА!I232>0,ТРУБА!J232>0),\"+\",\"\"),IF(ТРУБА!J232=0,\"\",CONCATENATE(\"(\",ROUND(ТРУБА!J232,3),\")\")))","v":""},null,{"$f":"IF(ТРУБА!Q232=0,\"\",ROUND(ТРУБА!Q232,3))","v":""},null,{"$f":"IF(ТРУБА!S232=0,\"\",ROUND(ТРУБА!S232,3))","v":""},null,"кг",{"$f":"IF(ТРУБА!F232=0,\"\",CONCATENATE(ТРУБА!F232,\" шт.   \",ТРУБА!D232))","v":""}]
["z",null,{"$f":"ТРУБА!H233","v":"Уголок 20х20х3"},{"$f":"IF(ТРУБА!W233 =0,\"\",ROUND(ТРУБА!W233,3))","v":""},{"$f":"CONCATENATE(IF(ТРУБА!I233=0,\"\",ROUND(ТРУБА!I233,3)),IF(AND(ТРУБА!I233>0,ТРУБА!J233>0),\"+\",\"\"),IF(ТРУБА!J233=0,\"\",CONCATENATE(\"(\",ROUND(ТРУБА!J233,3),\")\")))","v":""},null,{"$f":"IF(ТРУБА!Q233=0,\"\",ROUND(ТРУБА!Q233,3))","v":""},null,{"$f":"IF(ТРУБА!S233=0,\"\",ROUND(ТРУБА!S233,3))","v":""},null,"кг",{"$f":"IF(ТРУБА!F233=0,\"\",CONCATENATE(ТРУБА!F233,\" шт.   \",ТРУБА!D233))","v":""}]
[{"$f":"IF(D169=\"\",\"z\",\"\")","v":"z"},null,{"$f":"ТРУБА!H234","v":"Уголок 40х40х5"},{"$f":"IF(ТРУБА!W234 =0,\"\",ROUND(ТРУБА!W234,3))","v":""},{"$f":"CONCATENATE(IF(ТРУБА!I234=0,\"\",ROUND(ТРУБА!I234,3)),IF(AND(ТРУБА!I234>0,ТРУБА!J234>0),\"+\",\"\"),IF(ТРУБА!J234=0,\"\",CONCATENATE(\"(\",ROUND(ТРУБА!J234,3),\")\")))","v":""},null,{"$f":"IF(ТРУБА!Q234=0,\"\",ROUND(ТРУБА!Q234,3))","v":""},null,{"$f":"IF(ТРУБА!S234=0,\"\",ROUND(ТРУБА!S234,3))","v":""},null,"кг",{"$f":"IF(ТРУБА!F234=0,\"\",CONCATENATE(ТРУБА!F234,\" шт.   \",ТРУБА!D234))","v":""}]
["z",null,{"$f":"ТРУБА!H235","v":"Уголок 50х50х5"},{"$f":"IF(ТРУБА!W235 =0,\"\",ROUND(ТРУБА!W235,3))","v":""},{"$f":"CONCATENATE(IF(ТРУБА!I235=0,\"\",ROUND(ТРУБА!I235,3)),IF(AND(ТРУБА!I235>0,ТРУБА!J235>0),\"+\",\"\"),IF(ТРУБА!J235=0,\"\",CONCATENATE(\"(\",ROUND(ТРУБА!J235,3),\")\")))","v":""},null,{"$f":"IF(ТРУБА!Q235=0,\"\",ROUND(ТРУБА!Q235,3))","v":""},null,{"$f":"IF(ТРУБА!S235=0,\"\",ROUND(ТРУБА!S235,3))","v":""},null,"кг",{"$f":"IF(ТРУБА!F235=0,\"\",CONCATENATE(ТРУБА!F235,\" шт.   \",ТРУБА!D235))","v":""}]
["z",null,{"$f":"ТРУБА!H236","v":"Уголок 90х90х6"},{"$f":"IF(ТРУБА!W236 =0,\"\",ROUND(ТРУБА!W236,3))","v":""},{"$f":"CONCATENATE(IF(ТРУБА!I236=0,\"\",ROUND(ТРУБА!I236,3)),IF(AND(ТРУБА!I236>0,ТРУБА!J236>0),\"+\",\"\"),IF(ТРУБА!J236=0,\"\",CONCATENATE(\"(\",ROUND(ТРУБА!J236,3),\")\")))","v":""},null,{"$f":"IF(ТРУБА!Q236=0,\"\",ROUND(ТРУБА!Q236,3))","v":""},null,{"$f":"IF(ТРУБА!S236=0,\"\",ROUND(ТРУБА!S236,3))","v":""},null,"кг",{"$f":"IF(ТРУБА!F236=0,\"\",CONCATENATE(ТРУБА!F236,\" шт.   \",ТРУБА!D236))","v":""}]
["z",null,{"$f":"ТРУБА!H237","v":0},{"$f":"IF(ТРУБА!W237 =0,\"\",ROUND(ТРУБА!W237,3))","v":""},{"$f":"CONCATENATE(IF(ТРУБА!I237=0,\"\",ROUND(ТРУБА!I237,3)),IF(AND(ТРУБА!I237>0,ТРУБА!J237>0),\"+\",\"\"),IF(ТРУБА!J237=0,\"\",CONCATENATE(\"(\",ROUND(ТРУБА!J237,3),\")\")))","v":""},null,{"$f":"IF(ТРУБА!Q237=0,\"\",ROUND(ТРУБА!Q237,3))","v":""},null,{"$f":"IF(ТРУБА!S237=0,\"\",ROUND(ТРУБА!S237,3))","v":""},null,"кг",{"$f":"IF(ТРУБА!F237=0,\"\",CONCATENATE(ТРУБА!F237,\" шт.   \",ТРУБА!D237))","v":""}]
["z",null,{"$f":"ТРУБА!H238","v":0},{"$f":"IF(ТРУБА!W238 =0,\"\",ROUND(ТРУБА!W238,3))","v":""},{"$f":"CONCATENATE(IF(ТРУБА!I238=0,\"\",ROUND(ТРУБА!I238,3)),IF(AND(ТРУБА!I238>0,ТРУБА!J238>0),\"+\",\"\"),IF(ТРУБА!J238=0,\"\",CONCATENATE(\"(\",ROUND(ТРУБА!J238,3),\")\")))","v":""},null,{"$f":"IF(ТРУБА!Q238=0,\"\",ROUND(ТРУБА!Q238,3))","v":""},null,{"$f":"IF(ТРУБА!S238=0,\"\",ROUND(ТРУБА!S238,3))","v":""},null,"кг",{"$f":"IF(ТРУБА!F238=0,\"\",CONCATENATE(ТРУБА!F238,\" шт.   \",ТРУБА!D238))","v":""}]
[]
[null,null,null,null,null,null,null,null,null,null,null,"Заготовительный труба"]
[{"$f":"IF(D176=\"\",\"z\",\"\")","v":"z"}]
["z",null,{"$f":"ПВХ!F67","v":"ПВХ прозрачный 0.4"},{"$f":"IF(ПВХ!J67=0,\"\",ROUND(ПВХ!J67,3))","v":""},{"$f":"CONCATENATE(IF(ПВХ!G67=0,\"\",ROUND(ПВХ!G67,3)),IF(AND(ПВХ!G67>0,ПВХ!H67>0),\"+\",\"\"),IF(ПВХ!H67=0,\"\",CONCATENATE(\"(\",ROUND(ПВХ!H67,3),\")\")))","v":""},null,{"$f":"IF(ПВХ!I67=0,\"\",ROUND(ПВХ!I67,3))","v":""},null,{"$f":"IF(ПВХ!K67=0,\"\",ROUND(ПВХ!K67,3))","v":""},null,"м2",{"$f":"IF(ПВХ!B67=0,\"\",CONCATENATE(ПВХ!B67,\" шт.   \",ПВХ!C67,\"х\",ПВХ!D67))","v":""}]
["z",null,{"$f":"ПВХ!F68","v":"ПВХ прозрачный 0.5"},{"$f":"IF(ПВХ!J68=0,\"\",ROUND(ПВХ!J68,3))","v":""},{"$f":"CONCATENATE(IF(ПВХ!G68=0,\"\",ROUND(ПВХ!G68,3)),IF(AND(ПВХ!G68>0,ПВХ!H68>0),\"+\",\"\"),IF(ПВХ!H68=0,\"\",CONCATENATE(\"(\",ROUND(ПВХ!H68,3),\")\")))","v":""},null,{"$f":"IF(ПВХ!I68=0,\"\",ROUND(ПВХ!I68,3))","v":""},null,{"$f":"IF(ПВХ!K68=0,\"\",ROUND(ПВХ!K68,3))","v":""},null,"м2",{"$f":"IF(ПВХ!B68=0,\"\",CONCATENATE(ПВХ!B68,\" шт.   \",ПВХ!C68,\"х\",ПВХ!D68))","v":""}]
["z",null,{"$f":"ПВХ!F69","v":"ПВХ прозрачный 0.8"},{"$f":"IF(ПВХ!J69=0,\"\",ROUND(ПВХ!J69,3))","v":""},{"$f":"CONCATENATE(IF(ПВХ!G69=0,\"\",ROUND(ПВХ!G69,3)),IF(AND(ПВХ!G69>0,ПВХ!H69>0),\"+\",\"\"),IF(ПВХ!H69=0,\"\",CONCATENATE(\"(\",ROUND(ПВХ!H69,3),\")\")))","v":""},null,{"$f":"IF(ПВХ!I69=0,\"\",ROUND(ПВХ!I69,3))","v":""},null,{"$f":"IF(ПВХ!K69=0,\"\",ROUND(ПВХ!K69,3))","v":""},null,"м2",{"$f":"IF(ПВХ!B69=0,\"\",CONCATENATE(ПВХ!B69,\" шт.   \",ПВХ!C69,\"х\",ПВХ!D69))","v":""}]
["z",null,{"$f":"ПВХ!F70","v":"ПВХ прозрачный 1"},{"$f":"IF(ПВХ!J70=0,\"\",ROUND(ПВХ!J70,3))","v":""},{"$f":"CONCATENATE(IF(ПВХ!G70=0,\"\",ROUND(ПВХ!G70,3)),IF(AND(ПВХ!G70>0,ПВХ!H70>0),\"+\",\"\"),IF(ПВХ!H70=0,\"\",CONCATENATE(\"(\",ROUND(ПВХ!H70,3),\")\")))","v":""},null,{"$f":"IF(ПВХ!I70=0,\"\",ROUND(ПВХ!I70,3))","v":""},null,{"$f":"IF(ПВХ!K70=0,\"\",ROUND(ПВХ!K70,3))","v":""},null,"м2",{"$f":"IF(ПВХ!B70=0,\"\",CONCATENATE(ПВХ!B70,\" шт.   \",ПВХ!C70,\"х\",ПВХ!D70))","v":""}]
["z",null,{"$f":"ПВХ!F71","v":"Акрил 3"},{"$f":"IF(ПВХ!J71=0,\"\",ROUND(ПВХ!J71,3))","v":""},{"$f":"CONCATENATE(IF(ПВХ!G71=0,\"\",ROUND(ПВХ!G71,3)),IF(AND(ПВХ!G71>0,ПВХ!H71>0),\"+\",\"\"),IF(ПВХ!H71=0,\"\",CONCATENATE(\"(\",ROUND(ПВХ!H71,3),\")\")))","v":""},null,{"$f":"IF(ПВХ!I71=0,\"\",ROUND(ПВХ!I71,3))","v":""},null,{"$f":"IF(ПВХ!K71=0,\"\",ROUND(ПВХ!K71,3))","v":""},null,"м2",{"$f":"IF(ПВХ!B71=0,\"\",CONCATENATE(ПВХ!B71,\" шт.   \",ПВХ!C71,\"х\",ПВХ!D71))","v":""}]
["z",null,{"$f":"ПВХ!F72","v":"ПВХ белый 3"},{"$f":"IF(ПВХ!J72=0,\"\",ROUND(ПВХ!J72,3))","v":""},{"$f":"CONCATENATE(IF(ПВХ!G72=0,\"\",ROUND(ПВХ!G72,3)),IF(AND(ПВХ!G72>0,ПВХ!H72>0),\"+\",\"\"),IF(ПВХ!H72=0,\"\",CONCATENATE(\"(\",ROUND(ПВХ!H72,3),\")\")))","v":""},null,{"$f":"IF(ПВХ!I72=0,\"\",ROUND(ПВХ!I72,3))","v":""},null,{"$f":"IF(ПВХ!K72=0,\"\",ROUND(ПВХ!K72,3))","v":""},null,"м2",{"$f":"IF(ПВХ!B72=0,\"\",CONCATENATE(ПВХ!B72,\" шт.   \",ПВХ!C72,\"х\",ПВХ!D72))","v":""}]
["z",null,{"$f":"ПВХ!F73","v":"ПВХ белый 5"},{"$f":"IF(ПВХ!J73=0,\"\",ROUND(ПВХ!J73,3))","v":""},{"$f":"CONCATENATE(IF(ПВХ!G73=0,\"\",ROUND(ПВХ!G73,3)),IF(AND(ПВХ!G73>0,ПВХ!H73>0),\"+\",\"\"),IF(ПВХ!H73=0,\"\",CONCATENATE(\"(\",ROUND(ПВХ!H73,3),\")\")))","v":""},null,{"$f":"IF(ПВХ!I73=0,\"\",ROUND(ПВХ!I73,3))","v":""},null,{"$f":"IF(ПВХ!K73=0,\"\",ROUND(ПВХ!K73,3))","v":""},null,"м2",{"$f":"IF(ПВХ!B73=0,\"\",CONCATENATE(ПВХ!B73,\" шт.   \",ПВХ!C73,\"х\",ПВХ!D73))","v":""}]
["z",null,{"$f":"ПВХ!F74","v":"ДВП 3.2"},{"$f":"IF(ПВХ!J74=0,\"\",ROUND(ПВХ!J74,3))","v":""},{"$f":"CONCATENATE(IF(ПВХ!G74=0,\"\",ROUND(ПВХ!G74,3)),IF(AND(ПВХ!G74>0,ПВХ!H74>0),\"+\",\"\"),IF(ПВХ!H74=0,\"\",CONCATENATE(\"(\",ROUND(ПВХ!H74,3),\")\")))","v":""},null,{"$f":"IF(ПВХ!I74=0,\"\",ROUND(ПВХ!I74,3))","v":""},null,{"$f":"IF(ПВХ!K74=0,\"\",ROUND(ПВХ!K74,3))","v":""},null,"м2",{"$f":"IF(ПВХ!B74=0,\"\",CONCATENATE(ПВХ!B74,\" шт.   \",ПВХ!C74,\"х\",ПВХ!D74))","v":""}]
["z",null,{"$f":"ПВХ!F75","v":"Картон 3"},{"$f":"IF(ПВХ!J75=0,\"\",ROUND(ПВХ!J75,3))","v":""},{"$f":"CONCATENATE(IF(ПВХ!G75=0,\"\",ROUND(ПВХ!G75,3)),IF(AND(ПВХ!G75>0,ПВХ!H75>0),\"+\",\"\"),IF(ПВХ!H75=0,\"\",CONCATENATE(\"(\",ROUND(ПВХ!H75,3),\")\")))","v":""},null,{"$f":"IF(ПВХ!I75=0,\"\",ROUND(ПВХ!I75,3))","v":""},null,{"$f":"IF(ПВХ!K75=0,\"\",ROUND(ПВХ!K75,3))","v":""},null,"м2",{"$f":"IF(ПВХ!B75=0,\"\",CONCATENATE(ПВХ!B75,\" шт.   \",ПВХ!C75,\"х\",ПВХ!D75))","v":""}]
["z",null,{"$f":"ПВХ!F76","v":"Картон 4"},{"$f":"IF(ПВХ!J76=0,\"\",ROUND(ПВХ!J76,3))","v":""},{"$f":"CONCATENATE(IF(ПВХ!G76=0,\"\",ROUND(ПВХ!G76,3)),IF(AND(ПВХ!G76>0,ПВХ!H76>0),\"+\",\"\"),IF(ПВХ!H76=0,\"\",CONCATENATE(\"(\",ROUND(ПВХ!H76,3),\")\")))","v":""},null,{"$f":"IF(ПВХ!I76=0,\"\",ROUND(ПВХ!I76,3))","v":""},null,{"$f":"IF(ПВХ!K76=0,\"\",ROUND(ПВХ!K76,3))","v":""},null,"м2",{"$f":"IF(ПВХ!B76=0,\"\",CONCATENATE(ПВХ!B76,\" шт.   \",ПВХ!C76,\"х\",ПВХ!D76))","v":""}]
[{"$f":"IF(D187=\"\",\"z\",\"\")","v":"z"},null,{"$f":"ПВХ!F77","v":0},{"$f":"IF(ПВХ!J77=0,\"\",ROUND(ПВХ!J77,3))","v":""},{"$f":"CONCATENATE(IF(ПВХ!G77=0,\"\",ROUND(ПВХ!G77,3)),IF(AND(ПВХ!G77>0,ПВХ!H77>0),\"+\",\"\"),IF(ПВХ!H77=0,\"\",CONCATENATE(\"(\",ROUND(ПВХ!H77,3),\")\")))","v":""},null,{"$f":"IF(ПВХ!I77=0,\"\",ROUND(ПВХ!I77,3))","v":""},null,{"$f":"IF(ПВХ!K77=0,\"\",ROUND(ПВХ!K77,3))","v":""},null,"м2",{"$f":"IF(ПВХ!B77=0,\"\",CONCATENATE(ПВХ!B77,\" шт.   \",ПВХ!C77,\"х\",ПВХ!D77))","v":""}]
["z",null,{"$f":"ПВХ!F78","v":0},{"$f":"IF(ПВХ!J78=0,\"\",ROUND(ПВХ!J78,3))","v":""},{"$f":"CONCATENATE(IF(ПВХ!G78=0,\"\",ROUND(ПВХ!G78,3)),IF(AND(ПВХ!G78>0,ПВХ!H78>0),\"+\",\"\"),IF(ПВХ!H78=0,\"\",CONCATENATE(\"(\",ROUND(ПВХ!H78,3),\")\")))","v":""},null,{"$f":"IF(ПВХ!I78=0,\"\",ROUND(ПВХ!I78,3))","v":""},null,{"$f":"IF(ПВХ!K78=0,\"\",ROUND(ПВХ!K78,3))","v":""},null,"м2",{"$f":"IF(ПВХ!B78=0,\"\",CONCATENATE(ПВХ!B78,\" шт.   \",ПВХ!C78,\"х\",ПВХ!D78))","v":""}]
[null,null,"ВСЕГО",{"$f":"SUM(D16:D173)","v":0},null,null,null,null,null,null,"кг"]

{"sheet":"«Д»","index":5,"n_rows":380,"n_cols":10,"rows_kept":380,"cut":false,"hidden":false,"merged":[]}
[null,"Не все данные отображены!",null,"план","на1кт","кол.на.пл","вес1кт","вес.план"]
[{"$f":"IF(ПРОВОЛОКА!J13=0,\"z\",IF(ПРОВОЛОКА!J13=\"\",ПРОВОЛОКА!A13,IF(ПРОВОЛОКА!B13<>\"\",\"2Д/гиб\",ПРОВОЛОКА!A13)))","v":"z"},{"$f":"IF(ПРОВОЛОКА!J13=0,\"\",\"Проволока\")","v":""},{"$f":"IF(ПРОВОЛОКА!J13=0,\"\",CONCATENATE(ПРОВОЛОКА!C13,ПРОВОЛОКА!D13))","v":""},{"$f":"IF(ПРОВОЛОКА!J13=0,\"\",ПРОВОЛОКА!F13)","v":""},{"$f":"IF(ПРОВОЛОКА!J13=0,\"\",ПРОВОЛОКА!J13)","v":""},{"$f":"IF(ПРОВОЛОКА!J13=0,\"\",ПРОВОЛОКА!K13)","v":""},{"$f":"IF(ПРОВОЛОКА!J13=0,\"\",ПРОВОЛОКА!O13)","v":""},{"$f":"IF(ПРОВОЛОКА!J13=0,\"\",ПРОВОЛОКА!S13)","v":""}]
[{"$f":"IF(ПРОВОЛОКА!J14=0,\"z\",IF(ПРОВОЛОКА!J14=\"\",ПРОВОЛОКА!A14,IF(ПРОВОЛОКА!B14<>\"\",\"2Д/гиб\",ПРОВОЛОКА!A14)))","v":"z"},{"$f":"IF(ПРОВОЛОКА!J14=0,\"\",\"Проволока\")","v":""},{"$f":"IF(ПРОВОЛОКА!J14=0,\"\",CONCATENATE(ПРОВОЛОКА!C14,ПРОВОЛОКА!D14))","v":""},{"$f":"IF(ПРОВОЛОКА!J14=0,\"\",ПРОВОЛОКА!F14)","v":""},{"$f":"IF(ПРОВОЛОКА!J14=0,\"\",ПРОВОЛОКА!J14)","v":""},{"$f":"IF(ПРОВОЛОКА!J14=0,\"\",ПРОВОЛОКА!K14)","v":""},{"$f":"IF(ПРОВОЛОКА!J14=0,\"\",ПРОВОЛОКА!O14)","v":""},{"$f":"IF(ПРОВОЛОКА!J14=0,\"\",ПРОВОЛОКА!S14)","v":""}]
[{"$f":"IF(ПРОВОЛОКА!J15=0,\"z\",IF(ПРОВОЛОКА!J15=\"\",ПРОВОЛОКА!A15,IF(ПРОВОЛОКА!B15<>\"\",\"2Д/гиб\",ПРОВОЛОКА!A15)))","v":"z"},{"$f":"IF(ПРОВОЛОКА!J15=0,\"\",\"Проволока\")","v":""},{"$f":"IF(ПРОВОЛОКА!J15=0,\"\",CONCATENATE(ПРОВОЛОКА!C15,ПРОВОЛОКА!D15))","v":""},{"$f":"IF(ПРОВОЛОКА!J15=0,\"\",ПРОВОЛОКА!F15)","v":""},{"$f":"IF(ПРОВОЛОКА!J15=0,\"\",ПРОВОЛОКА!J15)","v":""},{"$f":"IF(ПРОВОЛОКА!J15=0,\"\",ПРОВОЛОКА!K15)","v":""},{"$f":"IF(ПРОВОЛОКА!J15=0,\"\",ПРОВОЛОКА!O15)","v":""},{"$f":"IF(ПРОВОЛОКА!J15=0,\"\",ПРОВОЛОКА!S15)","v":""}]
[{"$f":"IF(ПРОВОЛОКА!J16=0,\"z\",IF(ПРОВОЛОКА!J16=\"\",ПРОВОЛОКА!A16,IF(ПРОВОЛОКА!B16<>\"\",\"2Д/гиб\",ПРОВОЛОКА!A16)))","v":"z"},{"$f":"IF(ПРОВОЛОКА!J16=0,\"\",\"Проволока\")","v":""},{"$f":"IF(ПРОВОЛОКА!J16=0,\"\",CONCATENATE(ПРОВОЛОКА!C16,ПРОВОЛОКА!D16))","v":""},{"$f":"IF(ПРОВОЛОКА!J16=0,\"\",ПРОВОЛОКА!F16)","v":""},{"$f":"IF(ПРОВОЛОКА!J16=0,\"\",ПРОВОЛОКА!J16)","v":""},{"$f":"IF(ПРОВОЛОКА!J16=0,\"\",ПРОВОЛОКА!K16)","v":""},{"$f":"IF(ПРОВОЛОКА!J16=0,\"\",ПРОВОЛОКА!O16)","v":""},{"$f":"IF(ПРОВОЛОКА!J16=0,\"\",ПРОВОЛОКА!S16)","v":""}]
[{"$f":"IF(ПРОВОЛОКА!J17=0,\"z\",IF(ПРОВОЛОКА!J17=\"\",ПРОВОЛОКА!A17,IF(ПРОВОЛОКА!B17<>\"\",\"2Д/гиб\",ПРОВОЛОКА!A17)))","v":"z"},{"$f":"IF(ПРОВОЛОКА!J17=0,\"\",\"Проволока\")","v":""},{"$f":"IF(ПРОВОЛОКА!J17=0,\"\",CONCATENATE(ПРОВОЛОКА!C17,ПРОВОЛОКА!D17))","v":""},{"$f":"IF(ПРОВОЛОКА!J17=0,\"\",ПРОВОЛОКА!F17)","v":""},{"$f":"IF(ПРОВОЛОКА!J17=0,\"\",ПРОВОЛОКА!J17)","v":""},{"$f":"IF(ПРОВОЛОКА!J17=0,\"\",ПРОВОЛОКА!K17)","v":""},{"$f":"IF(ПРОВОЛОКА!J17=0,\"\",ПРОВОЛОКА!O17)","v":""},{"$f":"IF(ПРОВОЛОКА!J17=0,\"\",ПРОВОЛОКА!S17)","v":""}]
[{"$f":"IF(ПРОВОЛОКА!J18=0,\"z\",IF(ПРОВОЛОКА!J18=\"\",ПРОВОЛОКА!A18,IF(ПРОВОЛОКА!B18<>\"\",\"2Д/гиб\",ПРОВОЛОКА!A18)))","v":"z"},{"$f":"IF(ПРОВОЛОКА!J18=0,\"\",\"Проволока\")","v":""},{"$f":"IF(ПРОВОЛОКА!J18=0,\"\",CONCATENATE(ПРОВОЛОКА!C18,ПРОВОЛОКА!D18))","v":""},{"$f":"IF(ПРОВОЛОКА!J18=0,\"\",ПРОВОЛОКА!F18)","v":""},{"$f":"IF(ПРОВОЛОКА!J18=0,\"\",ПРОВОЛОКА!J18)","v":""},{"$f":"IF(ПРОВОЛОКА!J18=0,\"\",ПРОВОЛОКА!K18)","v":""},{"$f":"IF(ПРОВОЛОКА!J18=0,\"\",ПРОВОЛОКА!O18)","v":""},{"$f":"IF(ПРОВОЛОКА!J18=0,\"\",ПРОВОЛОКА!S18)","v":""}]
[{"$f":"IF(ПРОВОЛОКА!J19=0,\"z\",IF(ПРОВОЛОКА!J19=\"\",ПРОВОЛОКА!A19,IF(ПРОВОЛОКА!B19<>\"\",\"2Д/гиб\",ПРОВОЛОКА!A19)))","v":"z"},{"$f":"IF(ПРОВОЛОКА!J19=0,\"\",\"Проволока\")","v":""},{"$f":"IF(ПРОВОЛОКА!J19=0,\"\",CONCATENATE(ПРОВОЛОКА!C19,ПРОВОЛОКА!D19))","v":""},{"$f":"IF(ПРОВОЛОКА!J19=0,\"\",ПРОВОЛОКА!F19)","v":""},{"$f":"IF(ПРОВОЛОКА!J19=0,\"\",ПРОВОЛОКА!J19)","v":""},{"$f":"IF(ПРОВОЛОКА!J19=0,\"\",ПРОВОЛОКА!K19)","v":""},{"$f":"IF(ПРОВОЛОКА!J19=0,\"\",ПРОВОЛОКА!O19)","v":""},{"$f":"IF(ПРОВОЛОКА!J19=0,\"\",ПРОВОЛОКА!S19)","v":""}]
[{"$f":"IF(ПРОВОЛОКА!J20=0,\"z\",IF(ПРОВОЛОКА!J20=\"\",ПРОВОЛОКА!A20,IF(ПРОВОЛОКА!B20<>\"\",\"2Д/гиб\",ПРОВОЛОКА!A20)))","v":"z"},{"$f":"IF(ПРОВОЛОКА!J20=0,\"\",\"Проволока\")","v":""},{"$f":"IF(ПРОВОЛОКА!J20=0,\"\",CONCATENATE(ПРОВОЛОКА!C20,ПРОВОЛОКА!D20))","v":""},{"$f":"IF(ПРОВОЛОКА!J20=0,\"\",ПРОВОЛОКА!F20)","v":""},{"$f":"IF(ПРОВОЛОКА!J20=0,\"\",ПРОВОЛОКА!J20)","v":""},{"$f":"IF(ПРОВОЛОКА!J20=0,\"\",ПРОВОЛОКА!K20)","v":""},{"$f":"IF(ПРОВОЛОКА!J20=0,\"\",ПРОВОЛОКА!O20)","v":""},{"$f":"IF(ПРОВОЛОКА!J20=0,\"\",ПРОВОЛОКА!S20)","v":""}]
[{"$f":"IF(ПРОВОЛОКА!J21=0,\"z\",IF(ПРОВОЛОКА!J21=\"\",ПРОВОЛОКА!A21,IF(ПРОВОЛОКА!B21<>\"\",\"2Д/гиб\",ПРОВОЛОКА!A21)))","v":"z"},{"$f":"IF(ПРОВОЛОКА!J21=0,\"\",\"Проволока\")","v":""},{"$f":"IF(ПРОВОЛОКА!J21=0,\"\",CONCATENATE(ПРОВОЛОКА!C21,ПРОВОЛОКА!D21))","v":""},{"$f":"IF(ПРОВОЛОКА!J21=0,\"\",ПРОВОЛОКА!F21)","v":""},{"$f":"IF(ПРОВОЛОКА!J21=0,\"\",ПРОВОЛОКА!J21)","v":""},{"$f":"IF(ПРОВОЛОКА!J21=0,\"\",ПРОВОЛОКА!K21)","v":""},{"$f":"IF(ПРОВОЛОКА!J21=0,\"\",ПРОВОЛОКА!O21)","v":""},{"$f":"IF(ПРОВОЛОКА!J21=0,\"\",ПРОВОЛОКА!S21)","v":""}]
[{"$f":"IF(ПРОВОЛОКА!J22=0,\"z\",IF(ПРОВОЛОКА!J22=\"\",ПРОВОЛОКА!A22,IF(ПРОВОЛОКА!B22<>\"\",\"2Д/гиб\",ПРОВОЛОКА!A22)))","v":"z"},{"$f":"IF(ПРОВОЛОКА!J22=0,\"\",\"Проволока\")","v":""},{"$f":"IF(ПРОВОЛОКА!J22=0,\"\",CONCATENATE(ПРОВОЛОКА!C22,ПРОВОЛОКА!D22))","v":""},{"$f":"IF(ПРОВОЛОКА!J22=0,\"\",ПРОВОЛОКА!F22)","v":""},{"$f":"IF(ПРОВОЛОКА!J22=0,\"\",ПРОВОЛОКА!J22)","v":""},{"$f":"IF(ПРОВОЛОКА!J22=0,\"\",ПРОВОЛОКА!K22)","v":""},{"$f":"IF(ПРОВОЛОКА!J22=0,\"\",ПРОВОЛОКА!O22)","v":""},{"$f":"IF(ПРОВОЛОКА!J22=0,\"\",ПРОВОЛОКА!S22)","v":""}]
[{"$f":"IF(ПРОВОЛОКА!J23=0,\"z\",IF(ПРОВОЛОКА!J23=\"\",ПРОВОЛОКА!A23,IF(ПРОВОЛОКА!B23<>\"\",\"2Д/гиб\",ПРОВОЛОКА!A23)))","v":"z"},{"$f":"IF(ПРОВОЛОКА!J23=0,\"\",\"Проволока\")","v":""},{"$f":"IF(ПРОВОЛОКА!J23=0,\"\",CONCATENATE(ПРОВОЛОКА!C23,ПРОВОЛОКА!D23))","v":""},{"$f":"IF(ПРОВОЛОКА!J23=0,\"\",ПРОВОЛОКА!F23)","v":""},{"$f":"IF(ПРОВОЛОКА!J23=0,\"\",ПРОВОЛОКА!J23)","v":""},{"$f":"IF(ПРОВОЛОКА!J23=0,\"\",ПРОВОЛОКА!K23)","v":""},{"$f":"IF(ПРОВОЛОКА!J23=0,\"\",ПРОВОЛОКА!O23)","v":""},{"$f":"IF(ПРОВОЛОКА!J23=0,\"\",ПРОВОЛОКА!S23)","v":""}]
[{"$f":"IF(ПРОВОЛОКА!J24=0,\"z\",IF(ПРОВОЛОКА!J24=\"\",ПРОВОЛОКА!A24,IF(ПРОВОЛОКА!B24<>\"\",\"2Д/гиб\",ПРОВОЛОКА!A24)))","v":"z"},{"$f":"IF(ПРОВОЛОКА!J24=0,\"\",\"Проволока\")","v":""},{"$f":"IF(ПРОВОЛОКА!J24=0,\"\",CONCATENATE(ПРОВОЛОКА!C24,ПРОВОЛОКА!D24))","v":""},{"$f":"IF(ПРОВОЛОКА!J24=0,\"\",ПРОВОЛОКА!F24)","v":""},{"$f":"IF(ПРОВОЛОКА!J24=0,\"\",ПРОВОЛОКА!J24)","v":""},{"$f":"IF(ПРОВОЛОКА!J24=0,\"\",ПРОВОЛОКА!K24)","v":""},{"$f":"IF(ПРОВОЛОКА!J24=0,\"\",ПРОВОЛОКА!O24)","v":""},{"$f":"IF(ПРОВОЛОКА!J24=0,\"\",ПРОВОЛОКА!S24)","v":""}]
[{"$f":"IF(ПРОВОЛОКА!J25=0,\"z\",IF(ПРОВОЛОКА!J25=\"\",ПРОВОЛОКА!A25,IF(ПРОВОЛОКА!B25<>\"\",\"2Д/гиб\",ПРОВОЛОКА!A25)))","v":"z"},{"$f":"IF(ПРОВОЛОКА!J25=0,\"\",\"Проволока\")","v":""},{"$f":"IF(ПРОВОЛОКА!J25=0,\"\",CONCATENATE(ПРОВОЛОКА!C25,ПРОВОЛОКА!D25))","v":""},{"$f":"IF(ПРОВОЛОКА!J25=0,\"\",ПРОВОЛОКА!F25)","v":""},{"$f":"IF(ПРОВОЛОКА!J25=0,\"\",ПРОВОЛОКА!J25)","v":""},{"$f":"IF(ПРОВОЛОКА!J25=0,\"\",ПРОВОЛОКА!K25)","v":""},{"$f":"IF(ПРОВОЛОКА!J25=0,\"\",ПРОВОЛОКА!O25)","v":""},{"$f":"IF(ПРОВОЛОКА!J25=0,\"\",ПРОВОЛОКА!S25)","v":""}]
[{"$f":"IF(ПРОВОЛОКА!J26=0,\"z\",IF(ПРОВОЛОКА!J26=\"\",ПРОВОЛОКА!A26,IF(ПРОВОЛОКА!B26<>\"\",\"2Д/гиб\",ПРОВОЛОКА!A26)))","v":"z"},{"$f":"IF(ПРОВОЛОКА!J26=0,\"\",\"Проволока\")","v":""},{"$f":"IF(ПРОВОЛОКА!J26=0,\"\",CONCATENATE(ПРОВОЛОКА!C26,ПРОВОЛОКА!D26))","v":""},{"$f":"IF(ПРОВОЛОКА!J26=0,\"\",ПРОВОЛОКА!F26)","v":""},{"$f":"IF(ПРОВОЛОКА!J26=0,\"\",ПРОВОЛОКА!J26)","v":""},{"$f":"IF(ПРОВОЛОКА!J26=0,\"\",ПРОВОЛОКА!K26)","v":""},{"$f":"IF(ПРОВОЛОКА!J26=0,\"\",ПРОВОЛОКА!O26)","v":""},{"$f":"IF(ПРОВОЛОКА!J26=0,\"\",ПРОВОЛОКА!S26)","v":""}]
[{"$f":"IF(ПРОВОЛОКА!J27=0,\"z\",IF(ПРОВОЛОКА!J27=\"\",ПРОВОЛОКА!A27,IF(ПРОВОЛОКА!B27<>\"\",\"2Д/гиб\",ПРОВОЛОКА!A27)))","v":"z"},{"$f":"IF(ПРОВОЛОКА!J27=0,\"\",\"Проволока\")","v":""},{"$f":"IF(ПРОВОЛОКА!J27=0,\"\",CONCATENATE(ПРОВОЛОКА!C27,ПРОВОЛОКА!D27))","v":""},{"$f":"IF(ПРОВОЛОКА!J27=0,\"\",ПРОВОЛОКА!F27)","v":""},{"$f":"IF(ПРОВОЛОКА!J27=0,\"\",ПРОВОЛОКА!J27)","v":""},{"$f":"IF(ПРОВОЛОКА!J27=0,\"\",ПРОВОЛОКА!K27)","v":""},{"$f":"IF(ПРОВОЛОКА!J27=0,\"\",ПРОВОЛОКА!O27)","v":""},{"$f":"IF(ПРОВОЛОКА!J27=0,\"\",ПРОВОЛОКА!S27)","v":""}]
[{"$f":"IF(ПРОВОЛОКА!J28=0,\"z\",IF(ПРОВОЛОКА!J28=\"\",ПРОВОЛОКА!A28,IF(ПРОВОЛОКА!B28<>\"\",\"2Д/гиб\",ПРОВОЛОКА!A28)))","v":"z"},{"$f":"IF(ПРОВОЛОКА!J28=0,\"\",\"Проволока\")","v":""},{"$f":"IF(ПРОВОЛОКА!J28=0,\"\",CONCATENATE(ПРОВОЛОКА!C28,ПРОВОЛОКА!D28))","v":""},{"$f":"IF(ПРОВОЛОКА!J28=0,\"\",ПРОВОЛОКА!F28)","v":""},{"$f":"IF(ПРОВОЛОКА!J28=0,\"\",ПРОВОЛОКА!J28)","v":""},{"$f":"IF(ПРОВОЛОКА!J28=0,\"\",ПРОВОЛОКА!K28)","v":""},{"$f":"IF(ПРОВОЛОКА!J28=0,\"\",ПРОВОЛОКА!O28)","v":""},{"$f":"IF(ПРОВОЛОКА!J28=0,\"\",ПРОВОЛОКА!S28)","v":""}]
[{"$f":"IF(ПРОВОЛОКА!J29=0,\"z\",IF(ПРОВОЛОКА!J29=\"\",ПРОВОЛОКА!A29,IF(ПРОВОЛОКА!B29<>\"\",\"2Д/гиб\",ПРОВОЛОКА!A29)))","v":"z"},{"$f":"IF(ПРОВОЛОКА!J29=0,\"\",\"Проволока\")","v":""},{"$f":"IF(ПРОВОЛОКА!J29=0,\"\",CONCATENATE(ПРОВОЛОКА!C29,ПРОВОЛОКА!D29))","v":""},{"$f":"IF(ПРОВОЛОКА!J29=0,\"\",ПРОВОЛОКА!F29)","v":""},{"$f":"IF(ПРОВОЛОКА!J29=0,\"\",ПРОВОЛОКА!J29)","v":""},{"$f":"IF(ПРОВОЛОКА!J29=0,\"\",ПРОВОЛОКА!K29)","v":""},{"$f":"IF(ПРОВОЛОКА!J29=0,\"\",ПРОВОЛОКА!O29)","v":""},{"$f":"IF(ПРОВОЛОКА!J29=0,\"\",ПРОВОЛОКА!S29)","v":""}]
[{"$f":"IF(ПРОВОЛОКА!J30=0,\"z\",IF(ПРОВОЛОКА!J30=\"\",ПРОВОЛОКА!A30,IF(ПРОВОЛОКА!B30<>\"\",\"2Д/гиб\",ПРОВОЛОКА!A30)))","v":"z"},{"$f":"IF(ПРОВОЛОКА!J30=0,\"\",\"Проволока\")","v":""},{"$f":"IF(ПРОВОЛОКА!J30=0,\"\",CONCATENATE(ПРОВОЛОКА!C30,ПРОВОЛОКА!D30))","v":""},{"$f":"IF(ПРОВОЛОКА!J30=0,\"\",ПРОВОЛОКА!F30)","v":""},{"$f":"IF(ПРОВОЛОКА!J30=0,\"\",ПРОВОЛОКА!J30)","v":""},{"$f":"IF(ПРОВОЛОКА!J30=0,\"\",ПРОВОЛОКА!K30)","v":""},{"$f":"IF(ПРОВОЛОКА!J30=0,\"\",ПРОВОЛОКА!O30)","v":""},{"$f":"IF(ПРОВОЛОКА!J30=0,\"\",ПРОВОЛОКА!S30)","v":""}]
[{"$f":"IF(ПРОВОЛОКА!J31=0,\"z\",IF(ПРОВОЛОКА!J31=\"\",ПРОВОЛОКА!A31,IF(ПРОВОЛОКА!B31<>\"\",\"2Д/гиб\",ПРОВОЛОКА!A31)))","v":"z"},{"$f":"IF(ПРОВОЛОКА!J31=0,\"\",\"Проволока\")","v":""},{"$f":"IF(ПРОВОЛОКА!J31=0,\"\",CONCATENATE(ПРОВОЛОКА!C31,ПРОВОЛОКА!D31))","v":""},{"$f":"IF(ПРОВОЛОКА!J31=0,\"\",ПРОВОЛОКА!F31)","v":""},{"$f":"IF(ПРОВОЛОКА!J31=0,\"\",ПРОВОЛОКА!J31)","v":""},{"$f":"IF(ПРОВОЛОКА!J31=0,\"\",ПРОВОЛОКА!K31)","v":""},{"$f":"IF(ПРОВОЛОКА!J31=0,\"\",ПРОВОЛОКА!O31)","v":""},{"$f":"IF(ПРОВОЛОКА!J31=0,\"\",ПРОВОЛОКА!S31)","v":""}]
[{"$f":"IF(ПРОВОЛОКА!J32=0,\"z\",IF(ПРОВОЛОКА!J32=\"\",ПРОВОЛОКА!A32,IF(ПРОВОЛОКА!B32<>\"\",\"2Д/гиб\",ПРОВОЛОКА!A32)))","v":"z"},{"$f":"IF(ПРОВОЛОКА!J32=0,\"\",\"Проволока\")","v":""},{"$f":"IF(ПРОВОЛОКА!J32=0,\"\",CONCATENATE(ПРОВОЛОКА!C32,ПРОВОЛОКА!D32))","v":""},{"$f":"IF(ПРОВОЛОКА!J32=0,\"\",ПРОВОЛОКА!F32)","v":""},{"$f":"IF(ПРОВОЛОКА!J32=0,\"\",ПРОВОЛОКА!J32)","v":""},{"$f":"IF(ПРОВОЛОКА!J32=0,\"\",ПРОВОЛОКА!K32)","v":""},{"$f":"IF(ПРОВОЛОКА!J32=0,\"\",ПРОВОЛОКА!O32)","v":""},{"$f":"IF(ПРОВОЛОКА!J32=0,\"\",ПРОВОЛОКА!S32)","v":""}]
[{"$f":"IF(ПРОВОЛОКА!J33=0,\"z\",IF(ПРОВОЛОКА!J33=\"\",ПРОВОЛОКА!A33,IF(ПРОВОЛОКА!B33<>\"\",\"2Д/гиб\",ПРОВОЛОКА!A33)))","v":"z"},{"$f":"IF(ПРОВОЛОКА!J33=0,\"\",\"Проволока\")","v":""},{"$f":"IF(ПРОВОЛОКА!J33=0,\"\",CONCATENATE(ПРОВОЛОКА!C33,ПРОВОЛОКА!D33))","v":""},{"$f":"IF(ПРОВОЛОКА!J33=0,\"\",ПРОВОЛОКА!F33)","v":""},{"$f":"IF(ПРОВОЛОКА!J33=0,\"\",ПРОВОЛОКА!J33)","v":""},{"$f":"IF(ПРОВОЛОКА!J33=0,\"\",ПРОВОЛОКА!K33)","v":""},{"$f":"IF(ПРОВОЛОКА!J33=0,\"\",ПРОВОЛОКА!O33)","v":""},{"$f":"IF(ПРОВОЛОКА!J33=0,\"\",ПРОВОЛОКА!S33)","v":""}]
[{"$f":"IF(ПРОВОЛОКА!J34=0,\"z\",IF(ПРОВОЛОКА!J34=\"\",ПРОВОЛОКА!A34,IF(ПРОВОЛОКА!B34<>\"\",\"2Д/гиб\",ПРОВОЛОКА!A34)))","v":"z"},{"$f":"IF(ПРОВОЛОКА!J34=0,\"\",\"Проволока\")","v":""},{"$f":"IF(ПРОВОЛОКА!J34=0,\"\",CONCATENATE(ПРОВОЛОКА!C34,ПРОВОЛОКА!D34))","v":""},{"$f":"IF(ПРОВОЛОКА!J34=0,\"\",ПРОВОЛОКА!F34)","v":""},{"$f":"IF(ПРОВОЛОКА!J34=0,\"\",ПРОВОЛОКА!J34)","v":""},{"$f":"IF(ПРОВОЛОКА!J34=0,\"\",ПРОВОЛОКА!K34)","v":""},{"$f":"IF(ПРОВОЛОКА!J34=0,\"\",ПРОВОЛОКА!O34)","v":""},{"$f":"IF(ПРОВОЛОКА!J34=0,\"\",ПРОВОЛОКА!S34)","v":""}]
[{"$f":"IF(ПРОВОЛОКА!J35=0,\"z\",IF(ПРОВОЛОКА!J35=\"\",ПРОВОЛОКА!A35,IF(ПРОВОЛОКА!B35<>\"\",\"2Д/гиб\",ПРОВОЛОКА!A35)))","v":"z"},{"$f":"IF(ПРОВОЛОКА!J35=0,\"\",\"Проволока\")","v":""},{"$f":"IF(ПРОВОЛОКА!J35=0,\"\",CONCATENATE(ПРОВОЛОКА!C35,ПРОВОЛОКА!D35))","v":""},{"$f":"IF(ПРОВОЛОКА!J35=0,\"\",ПРОВОЛОКА!F35)","v":""},{"$f":"IF(ПРОВОЛОКА!J35=0,\"\",ПРОВОЛОКА!J35)","v":""},{"$f":"IF(ПРОВОЛОКА!J35=0,\"\",ПРОВОЛОКА!K35)","v":""},{"$f":"IF(ПРОВОЛОКА!J35=0,\"\",ПРОВОЛОКА!O35)","v":""},{"$f":"IF(ПРОВОЛОКА!J35=0,\"\",ПРОВОЛОКА!S35)","v":""}]
[{"$f":"IF(ПРОВОЛОКА!J36=0,\"z\",IF(ПРОВОЛОКА!J36=\"\",ПРОВОЛОКА!A36,IF(ПРОВОЛОКА!B36<>\"\",\"2Д/гиб\",ПРОВОЛОКА!A36)))","v":"z"},{"$f":"IF(ПРОВОЛОКА!J36=0,\"\",\"Проволока\")","v":""},{"$f":"IF(ПРОВОЛОКА!J36=0,\"\",CONCATENATE(ПРОВОЛОКА!C36,ПРОВОЛОКА!D36))","v":""},{"$f":"IF(ПРОВОЛОКА!J36=0,\"\",ПРОВОЛОКА!F36)","v":""},{"$f":"IF(ПРОВОЛОКА!J36=0,\"\",ПРОВОЛОКА!J36)","v":""},{"$f":"IF(ПРОВОЛОКА!J36=0,\"\",ПРОВОЛОКА!K36)","v":""},{"$f":"IF(ПРОВОЛОКА!J36=0,\"\",ПРОВОЛОКА!O36)","v":""},{"$f":"IF(ПРОВОЛОКА!J36=0,\"\",ПРОВОЛОКА!S36)","v":""}]
[{"$f":"IF(ПРОВОЛОКА!J37=0,\"z\",IF(ПРОВОЛОКА!J37=\"\",ПРОВОЛОКА!A37,IF(ПРОВОЛОКА!B37<>\"\",\"2Д/гиб\",ПРОВОЛОКА!A37)))","v":"z"},{"$f":"IF(ПРОВОЛОКА!J37=0,\"\",\"Проволока\")","v":""},{"$f":"IF(ПРОВОЛОКА!J37=0,\"\",CONCATENATE(ПРОВОЛОКА!C37,ПРОВОЛОКА!D37))","v":""},{"$f":"IF(ПРОВОЛОКА!J37=0,\"\",ПРОВОЛОКА!F37)","v":""},{"$f":"IF(ПРОВОЛОКА!J37=0,\"\",ПРОВОЛОКА!J37)","v":""},{"$f":"IF(ПРОВОЛОКА!J37=0,\"\",ПРОВОЛОКА!K37)","v":""},{"$f":"IF(ПРОВОЛОКА!J37=0,\"\",ПРОВОЛОКА!O37)","v":""},{"$f":"IF(ПРОВОЛОКА!J37=0,\"\",ПРОВОЛОКА!S37)","v":""}]
[{"$f":"IF(ПРОВОЛОКА!J38=0,\"z\",IF(ПРОВОЛОКА!J38=\"\",ПРОВОЛОКА!A38,IF(ПРОВОЛОКА!B38<>\"\",\"2Д/гиб\",ПРОВОЛОКА!A38)))","v":"z"},{"$f":"IF(ПРОВОЛОКА!J38=0,\"\",\"Проволока\")","v":""},{"$f":"IF(ПРОВОЛОКА!J38=0,\"\",CONCATENATE(ПРОВОЛОКА!C38,ПРОВОЛОКА!D38))","v":""},{"$f":"IF(ПРОВОЛОКА!J38=0,\"\",ПРОВОЛОКА!F38)","v":""},{"$f":"IF(ПРОВОЛОКА!J38=0,\"\",ПРОВОЛОКА!J38)","v":""},{"$f":"IF(ПРОВОЛОКА!J38=0,\"\",ПРОВОЛОКА!K38)","v":""},{"$f":"IF(ПРОВОЛОКА!J38=0,\"\",ПРОВОЛОКА!O38)","v":""},{"$f":"IF(ПРОВОЛОКА!J38=0,\"\",ПРОВОЛОКА!S38)","v":""}]
[{"$f":"IF(ПРОВОЛОКА!J39=0,\"z\",IF(ПРОВОЛОКА!J39=\"\",ПРОВОЛОКА!A39,IF(ПРОВОЛОКА!B39<>\"\",\"2Д/гиб\",ПРОВОЛОКА!A39)))","v":"z"},{"$f":"IF(ПРОВОЛОКА!J39=0,\"\",\"Проволока\")","v":""},{"$f":"IF(ПРОВОЛОКА!J39=0,\"\",CONCATENATE(ПРОВОЛОКА!C39,ПРОВОЛОКА!D39))","v":""},{"$f":"IF(ПРОВОЛОКА!J39=0,\"\",ПРОВОЛОКА!F39)","v":""},{"$f":"IF(ПРОВОЛОКА!J39=0,\"\",ПРОВОЛОКА!J39)","v":""},{"$f":"IF(ПРОВОЛОКА!J39=0,\"\",ПРОВОЛОКА!K39)","v":""},{"$f":"IF(ПРОВОЛОКА!J39=0,\"\",ПРОВОЛОКА!O39)","v":""},{"$f":"IF(ПРОВОЛОКА!J39=0,\"\",ПРОВОЛОКА!S39)","v":""}]
[{"$f":"IF(ПРОВОЛОКА!J40=0,\"z\",IF(ПРОВОЛОКА!J40=\"\",ПРОВОЛОКА!A40,IF(ПРОВОЛОКА!B40<>\"\",\"2Д/гиб\",ПРОВОЛОКА!A40)))","v":"z"},{"$f":"IF(ПРОВОЛОКА!J40=0,\"\",\"Проволока\")","v":""},{"$f":"IF(ПРОВОЛОКА!J40=0,\"\",CONCATENATE(ПРОВОЛОКА!C40,ПРОВОЛОКА!D40))","v":""},{"$f":"IF(ПРОВОЛОКА!J40=0,\"\",ПРОВОЛОКА!F40)","v":""},{"$f":"IF(ПРОВОЛОКА!J40=0,\"\",ПРОВОЛОКА!J40)","v":""},{"$f":"IF(ПРОВОЛОКА!J40=0,\"\",ПРОВОЛОКА!K40)","v":""},{"$f":"IF(ПРОВОЛОКА!J40=0,\"\",ПРОВОЛОКА!O40)","v":""},{"$f":"IF(ПРОВОЛОКА!J40=0,\"\",ПРОВОЛОКА!S40)","v":""}]
[{"$f":"IF(ПРОВОЛОКА!J42=0,\"z\",IF(ПРОВОЛОКА!J42=\"\",ПРОВОЛОКА!A42,IF(ПРОВОЛОКА!B42<>\"\",\"2Д/гиб\",ПРОВОЛОКА!A42)))","v":"z"},{"$f":"IF(ПРОВОЛОКА!J42=0,\"\",\"Проволока\")","v":""},{"$f":"IF(ПРОВОЛОКА!J42=0,\"\",CONCATENATE(ПРОВОЛОКА!C42,ПРОВОЛОКА!D42))","v":""},{"$f":"IF(ПРОВОЛОКА!J42=0,\"\",ПРОВОЛОКА!F42)","v":""},{"$f":"IF(ПРОВОЛОКА!J42=0,\"\",ПРОВОЛОКА!J42)","v":""},{"$f":"IF(ПРОВОЛОКА!J42=0,\"\",ПРОВОЛОКА!K42)","v":""},{"$f":"IF(ПРОВОЛОКА!J42=0,\"\",ПРОВОЛОКА!O42)","v":""},{"$f":"IF(ПРОВОЛОКА!J42=0,\"\",ПРОВОЛОКА!S42)","v":""}]
[{"$f":"IF(ПРОВОЛОКА!J43=0,\"z\",IF(ПРОВОЛОКА!J43=\"\",ПРОВОЛОКА!A43,IF(ПРОВОЛОКА!B43<>\"\",\"2Д/гиб\",ПРОВОЛОКА!A43)))","v":"z"},{"$f":"IF(ПРОВОЛОКА!J43=0,\"\",\"Проволока\")","v":""},{"$f":"IF(ПРОВОЛОКА!J43=0,\"\",CONCATENATE(ПРОВОЛОКА!C43,ПРОВОЛОКА!D43))","v":""},{"$f":"IF(ПРОВОЛОКА!J43=0,\"\",ПРОВОЛОКА!F43)","v":""},{"$f":"IF(ПРОВОЛОКА!J43=0,\"\",ПРОВОЛОКА!J43)","v":""},{"$f":"IF(ПРОВОЛОКА!J43=0,\"\",ПРОВОЛОКА!K43)","v":""},{"$f":"IF(ПРОВОЛОКА!J43=0,\"\",ПРОВОЛОКА!O43)","v":""},{"$f":"IF(ПРОВОЛОКА!J43=0,\"\",ПРОВОЛОКА!S43)","v":""}]
[{"$f":"IF(ПРОВОЛОКА!J44=0,\"z\",IF(ПРОВОЛОКА!J44=\"\",ПРОВОЛОКА!A44,IF(ПРОВОЛОКА!B44<>\"\",\"2Д/гиб\",ПРОВОЛОКА!A44)))","v":"z"},{"$f":"IF(ПРОВОЛОКА!J44=0,\"\",\"Проволока\")","v":""},{"$f":"IF(ПРОВОЛОКА!J44=0,\"\",CONCATENATE(ПРОВОЛОКА!C44,ПРОВОЛОКА!D44))","v":""},{"$f":"IF(ПРОВОЛОКА!J44=0,\"\",ПРОВОЛОКА!F44)","v":""},{"$f":"IF(ПРОВОЛОКА!J44=0,\"\",ПРОВОЛОКА!J44)","v":""},{"$f":"IF(ПРОВОЛОКА!J44=0,\"\",ПРОВОЛОКА!K44)","v":""},{"$f":"IF(ПРОВОЛОКА!J44=0,\"\",ПРОВОЛОКА!O44)","v":""},{"$f":"IF(ПРОВОЛОКА!J44=0,\"\",ПРОВОЛОКА!S44)","v":""}]
[{"$f":"IF(ПРОВОЛОКА!J45=0,\"z\",IF(ПРОВОЛОКА!J45=\"\",ПРОВОЛОКА!A45,IF(ПРОВОЛОКА!B45<>\"\",\"2Д/гиб\",ПРОВОЛОКА!A45)))","v":"z"},{"$f":"IF(ПРОВОЛОКА!J45=0,\"\",\"Проволока\")","v":""},{"$f":"IF(ПРОВОЛОКА!J45=0,\"\",CONCATENATE(ПРОВОЛОКА!C45,ПРОВОЛОКА!D45))","v":""},{"$f":"IF(ПРОВОЛОКА!J45=0,\"\",ПРОВОЛОКА!F45)","v":""},{"$f":"IF(ПРОВОЛОКА!J45=0,\"\",ПРОВОЛОКА!J45)","v":""},{"$f":"IF(ПРОВОЛОКА!J45=0,\"\",ПРОВОЛОКА!K45)","v":""},{"$f":"IF(ПРОВОЛОКА!J45=0,\"\",ПРОВОЛОКА!O45)","v":""},{"$f":"IF(ПРОВОЛОКА!J45=0,\"\",ПРОВОЛОКА!S45)","v":""}]
[{"$f":"IF(ПРОВОЛОКА!J46=0,\"z\",IF(ПРОВОЛОКА!J46=\"\",ПРОВОЛОКА!A46,IF(ПРОВОЛОКА!B46<>\"\",\"2Д/гиб\",ПРОВОЛОКА!A46)))","v":"z"},{"$f":"IF(ПРОВОЛОКА!J46=0,\"\",\"Проволока\")","v":""},{"$f":"IF(ПРОВОЛОКА!J46=0,\"\",CONCATENATE(ПРОВОЛОКА!C46,ПРОВОЛОКА!D46))","v":""},{"$f":"IF(ПРОВОЛОКА!J46=0,\"\",ПРОВОЛОКА!F46)","v":""},{"$f":"IF(ПРОВОЛОКА!J46=0,\"\",ПРОВОЛОКА!J46)","v":""},{"$f":"IF(ПРОВОЛОКА!J46=0,\"\",ПРОВОЛОКА!K46)","v":""},{"$f":"IF(ПРОВОЛОКА!J46=0,\"\",ПРОВОЛОКА!O46)","v":""},{"$f":"IF(ПРОВОЛОКА!J46=0,\"\",ПРОВОЛОКА!S46)","v":""}]
[{"$f":"IF(ПРОВОЛОКА!J47=0,\"z\",IF(ПРОВОЛОКА!J47=\"\",ПРОВОЛОКА!A47,IF(ПРОВОЛОКА!B47<>\"\",\"2Д/гиб\",ПРОВОЛОКА!A47)))","v":"z"},{"$f":"IF(ПРОВОЛОКА!J47=0,\"\",\"Проволока\")","v":""},{"$f":"IF(ПРОВОЛОКА!J47=0,\"\",CONCATENATE(ПРОВОЛОКА!C47,ПРОВОЛОКА!D47))","v":""},{"$f":"IF(ПРОВОЛОКА!J47=0,\"\",ПРОВОЛОКА!F47)","v":""},{"$f":"IF(ПРОВОЛОКА!J47=0,\"\",ПРОВОЛОКА!J47)","v":""},{"$f":"IF(ПРОВОЛОКА!J47=0,\"\",ПРОВОЛОКА!K47)","v":""},{"$f":"IF(ПРОВОЛОКА!J47=0,\"\",ПРОВОЛОКА!O47)","v":""},{"$f":"IF(ПРОВОЛОКА!J47=0,\"\",ПРОВОЛОКА!S47)","v":""}]
[{"$f":"IF(ПРОВОЛОКА!J48=0,\"z\",IF(ПРОВОЛОКА!J48=\"\",ПРОВОЛОКА!A48,IF(ПРОВОЛОКА!B48<>\"\",\"2Д/гиб\",ПРОВОЛОКА!A48)))","v":"z"},{"$f":"IF(ПРОВОЛОКА!J48=0,\"\",\"Проволока\")","v":""},{"$f":"IF(ПРОВОЛОКА!J48=0,\"\",CONCATENATE(ПРОВОЛОКА!C48,ПРОВОЛОКА!D48))","v":""},{"$f":"IF(ПРОВОЛОКА!J48=0,\"\",ПРОВОЛОКА!F48)","v":""},{"$f":"IF(ПРОВОЛОКА!J48=0,\"\",ПРОВОЛОКА!J48)","v":""},{"$f":"IF(ПРОВОЛОКА!J48=0,\"\",ПРОВОЛОКА!K48)","v":""},{"$f":"IF(ПРОВОЛОКА!J48=0,\"\",ПРОВОЛОКА!O48)","v":""},{"$f":"IF(ПРОВОЛОКА!J48=0,\"\",ПРОВОЛОКА!S48)","v":""}]
[{"$f":"IF(ПРОВОЛОКА!J49=0,\"z\",IF(ПРОВОЛОКА!J49=\"\",ПРОВОЛОКА!A49,IF(ПРОВОЛОКА!B49<>\"\",\"2Д/гиб\",ПРОВОЛОКА!A49)))","v":"z"},{"$f":"IF(ПРОВОЛОКА!J49=0,\"\",\"Проволока\")","v":""},{"$f":"IF(ПРОВОЛОКА!J49=0,\"\",CONCATENATE(ПРОВОЛОКА!C49,ПРОВОЛОКА!D49))","v":""},{"$f":"IF(ПРОВОЛОКА!J49=0,\"\",ПРОВОЛОКА!F49)","v":""},{"$f":"IF(ПРОВОЛОКА!J49=0,\"\",ПРОВОЛОКА!J49)","v":""},{"$f":"IF(ПРОВОЛОКА!J49=0,\"\",ПРОВОЛОКА!K49)","v":""},{"$f":"IF(ПРОВОЛОКА!J49=0,\"\",ПРОВОЛОКА!O49)","v":""},{"$f":"IF(ПРОВОЛОКА!J49=0,\"\",ПРОВОЛОКА!S49)","v":""}]
[{"$f":"IF(ПРОВОЛОКА!J50=0,\"z\",IF(ПРОВОЛОКА!J50=\"\",ПРОВОЛОКА!A50,IF(ПРОВОЛОКА!B50<>\"\",\"2Д/гиб\",ПРОВОЛОКА!A50)))","v":"z"},{"$f":"IF(ПРОВОЛОКА!J50=0,\"\",\"Проволока\")","v":""},{"$f":"IF(ПРОВОЛОКА!J50=0,\"\",CONCATENATE(ПРОВОЛОКА!C50,ПРОВОЛОКА!D50))","v":""},{"$f":"IF(ПРОВОЛОКА!J50=0,\"\",ПРОВОЛОКА!F50)","v":""},{"$f":"IF(ПРОВОЛОКА!J50=0,\"\",ПРОВОЛОКА!J50)","v":""},{"$f":"IF(ПРОВОЛОКА!J50=0,\"\",ПРОВОЛОКА!K50)","v":""},{"$f":"IF(ПРОВОЛОКА!J50=0,\"\",ПРОВОЛОКА!O50)","v":""},{"$f":"IF(ПРОВОЛОКА!J50=0,\"\",ПРОВОЛОКА!S50)","v":""}]
[{"$f":"IF(ПРОВОЛОКА!J51=0,\"z\",IF(ПРОВОЛОКА!J51=\"\",ПРОВОЛОКА!A51,IF(ПРОВОЛОКА!B51<>\"\",\"2Д/гиб\",ПРОВОЛОКА!A51)))","v":"z"},{"$f":"IF(ПРОВОЛОКА!J51=0,\"\",\"Проволока\")","v":""},{"$f":"IF(ПРОВОЛОКА!J51=0,\"\",CONCATENATE(ПРОВОЛОКА!C51,ПРОВОЛОКА!D51))","v":""},{"$f":"IF(ПРОВОЛОКА!J51=0,\"\",ПРОВОЛОКА!F51)","v":""},{"$f":"IF(ПРОВОЛОКА!J51=0,\"\",ПРОВОЛОКА!J51)","v":""},{"$f":"IF(ПРОВОЛОКА!J51=0,\"\",ПРОВОЛОКА!K51)","v":""},{"$f":"IF(ПРОВОЛОКА!J51=0,\"\",ПРОВОЛОКА!O51)","v":""},{"$f":"IF(ПРОВОЛОКА!J51=0,\"\",ПРОВОЛОКА!S51)","v":""}]
[{"$f":"IF(ПРОВОЛОКА!J52=0,\"z\",IF(ПРОВОЛОКА!J52=\"\",ПРОВОЛОКА!A52,IF(ПРОВОЛОКА!B52<>\"\",\"2Д/гиб\",ПРОВОЛОКА!A52)))","v":"z"},{"$f":"IF(ПРОВОЛОКА!J52=0,\"\",\"Проволока\")","v":""},{"$f":"IF(ПРОВОЛОКА!J52=0,\"\",CONCATENATE(ПРОВОЛОКА!C52,ПРОВОЛОКА!D52))","v":""},{"$f":"IF(ПРОВОЛОКА!J52=0,\"\",ПРОВОЛОКА!F52)","v":""},{"$f":"IF(ПРОВОЛОКА!J52=0,\"\",ПРОВОЛОКА!J52)","v":""},{"$f":"IF(ПРОВОЛОКА!J52=0,\"\",ПРОВОЛОКА!K52)","v":""},{"$f":"IF(ПРОВОЛОКА!J52=0,\"\",ПРОВОЛОКА!O52)","v":""},{"$f":"IF(ПРОВОЛОКА!J52=0,\"\",ПРОВОЛОКА!S52)","v":""}]
[{"$f":"IF(ПРОВОЛОКА!J53=0,\"z\",IF(ПРОВОЛОКА!J53=\"\",ПРОВОЛОКА!A53,IF(ПРОВОЛОКА!B53<>\"\",\"2Д/гиб\",ПРОВОЛОКА!A53)))","v":"z"},{"$f":"IF(ПРОВОЛОКА!J53=0,\"\",\"Проволока\")","v":""},{"$f":"IF(ПРОВОЛОКА!J53=0,\"\",CONCATENATE(ПРОВОЛОКА!C53,ПРОВОЛОКА!D53))","v":""},{"$f":"IF(ПРОВОЛОКА!J53=0,\"\",ПРОВОЛОКА!F53)","v":""},{"$f":"IF(ПРОВОЛОКА!J53=0,\"\",ПРОВОЛОКА!J53)","v":""},{"$f":"IF(ПРОВОЛОКА!J53=0,\"\",ПРОВОЛОКА!K53)","v":""},{"$f":"IF(ПРОВОЛОКА!J53=0,\"\",ПРОВОЛОКА!O53)","v":""},{"$f":"IF(ПРОВОЛОКА!J53=0,\"\",ПРОВОЛОКА!S53)","v":""}]
[{"$f":"IF(ПРОВОЛОКА!J54=0,\"z\",IF(ПРОВОЛОКА!J54=\"\",ПРОВОЛОКА!A54,IF(ПРОВОЛОКА!B54<>\"\",\"2Д/гиб\",ПРОВОЛОКА!A54)))","v":"z"},{"$f":"IF(ПРОВОЛОКА!J54=0,\"\",\"Проволока\")","v":""},{"$f":"IF(ПРОВОЛОКА!J54=0,\"\",CONCATENATE(ПРОВОЛОКА!C54,ПРОВОЛОКА!D54))","v":""},{"$f":"IF(ПРОВОЛОКА!J54=0,\"\",ПРОВОЛОКА!F54)","v":""},{"$f":"IF(ПРОВОЛОКА!J54=0,\"\",ПРОВОЛОКА!J54)","v":""},{"$f":"IF(ПРОВОЛОКА!J54=0,\"\",ПРОВОЛОКА!K54)","v":""},{"$f":"IF(ПРОВОЛОКА!J54=0,\"\",ПРОВОЛОКА!O54)","v":""},{"$f":"IF(ПРОВОЛОКА!J54=0,\"\",ПРОВОЛОКА!S54)","v":""}]
[{"$f":"IF(ПРОВОЛОКА!J55=0,\"z\",IF(ПРОВОЛОКА!J55=\"\",ПРОВОЛОКА!A55,IF(ПРОВОЛОКА!B55<>\"\",\"2Д/гиб\",ПРОВОЛОКА!A55)))","v":"z"},{"$f":"IF(ПРОВОЛОКА!J55=0,\"\",\"Проволока\")","v":""},{"$f":"IF(ПРОВОЛОКА!J55=0,\"\",CONCATENATE(ПРОВОЛОКА!C55,ПРОВОЛОКА!D55))","v":""},{"$f":"IF(ПРОВОЛОКА!J55=0,\"\",ПРОВОЛОКА!F55)","v":""},{"$f":"IF(ПРОВОЛОКА!J55=0,\"\",ПРОВОЛОКА!J55)","v":""},{"$f":"IF(ПРОВОЛОКА!J55=0,\"\",ПРОВОЛОКА!K55)","v":""},{"$f":"IF(ПРОВОЛОКА!J55=0,\"\",ПРОВОЛОКА!O55)","v":""},{"$f":"IF(ПРОВОЛОКА!J55=0,\"\",ПРОВОЛОКА!S55)","v":""}]
[{"$f":"IF(ПРОВОЛОКА!J56=0,\"z\",IF(ПРОВОЛОКА!J56=\"\",ПРОВОЛОКА!A56,IF(ПРОВОЛОКА!B56<>\"\",\"2Д/гиб\",ПРОВОЛОКА!A56)))","v":"z"},{"$f":"IF(ПРОВОЛОКА!J56=0,\"\",\"Проволока\")","v":""},{"$f":"IF(ПРОВОЛОКА!J56=0,\"\",CONCATENATE(ПРОВОЛОКА!C56,ПРОВОЛОКА!D56))","v":""},{"$f":"IF(ПРОВОЛОКА!J56=0,\"\",ПРОВОЛОКА!F56)","v":""},{"$f":"IF(ПРОВОЛОКА!J56=0,\"\",ПРОВОЛОКА!J56)","v":""},{"$f":"IF(ПРОВОЛОКА!J56=0,\"\",ПРОВОЛОКА!K56)","v":""},{"$f":"IF(ПРОВОЛОКА!J56=0,\"\",ПРОВОЛОКА!O56)","v":""},{"$f":"IF(ПРОВОЛОКА!J56=0,\"\",ПРОВОЛОКА!S56)","v":""}]
[{"$f":"IF(ПРОВОЛОКА!J57=0,\"z\",IF(ПРОВОЛОКА!J57=\"\",ПРОВОЛОКА!A57,IF(ПРОВОЛОКА!B57<>\"\",\"2Д/гиб\",ПРОВОЛОКА!A57)))","v":"z"},{"$f":"IF(ПРОВОЛОКА!J57=0,\"\",\"Проволока\")","v":""},{"$f":"IF(ПРОВОЛОКА!J57=0,\"\",CONCATENATE(ПРОВОЛОКА!C57,ПРОВОЛОКА!D57))","v":""},{"$f":"IF(ПРОВОЛОКА!J57=0,\"\",ПРОВОЛОКА!F57)","v":""},{"$f":"IF(ПРОВОЛОКА!J57=0,\"\",ПРОВОЛОКА!J57)","v":""},{"$f":"IF(ПРОВОЛОКА!J57=0,\"\",ПРОВОЛОКА!K57)","v":""},{"$f":"IF(ПРОВОЛОКА!J57=0,\"\",ПРОВОЛОКА!O57)","v":""},{"$f":"IF(ПРОВОЛОКА!J57=0,\"\",ПРОВОЛОКА!S57)","v":""}]
[{"$f":"IF(ПРОВОЛОКА!J58=0,\"z\",IF(ПРОВОЛОКА!J58=\"\",ПРОВОЛОКА!A58,IF(ПРОВОЛОКА!B58<>\"\",\"2Д/гиб\",ПРОВОЛОКА!A58)))","v":"z"},{"$f":"IF(ПРОВОЛОКА!J58=0,\"\",\"Проволока\")","v":""},{"$f":"IF(ПРОВОЛОКА!J58=0,\"\",CONCATENATE(ПРОВОЛОКА!C58,ПРОВОЛОКА!D58))","v":""},{"$f":"IF(ПРОВОЛОКА!J58=0,\"\",ПРОВОЛОКА!F58)","v":""},{"$f":"IF(ПРОВОЛОКА!J58=0,\"\",ПРОВОЛОКА!J58)","v":""},{"$f":"IF(ПРОВОЛОКА!J58=0,\"\",ПРОВОЛОКА!K58)","v":""},{"$f":"IF(ПРОВОЛОКА!J58=0,\"\",ПРОВОЛОКА!O58)","v":""},{"$f":"IF(ПРОВОЛОКА!J58=0,\"\",ПРОВОЛОКА!S58)","v":""}]
[{"$f":"IF(ПРОВОЛОКА!J59=0,\"z\",IF(ПРОВОЛОКА!J59=\"\",ПРОВОЛОКА!A59,IF(ПРОВОЛОКА!B59<>\"\",\"2Д/гиб\",ПРОВОЛОКА!A59)))","v":"z"},{"$f":"IF(ПРОВОЛОКА!J59=0,\"\",\"Проволока\")","v":""},{"$f":"IF(ПРОВОЛОКА!J59=0,\"\",CONCATENATE(ПРОВОЛОКА!C59,ПРОВОЛОКА!D59))","v":""},{"$f":"IF(ПРОВОЛОКА!J59=0,\"\",ПРОВОЛОКА!F59)","v":""},{"$f":"IF(ПРОВОЛОКА!J59=0,\"\",ПРОВОЛОКА!J59)","v":""},{"$f":"IF(ПРОВОЛОКА!J59=0,\"\",ПРОВОЛОКА!K59)","v":""},{"$f":"IF(ПРОВОЛОКА!J59=0,\"\",ПРОВОЛОКА!O59)","v":""},{"$f":"IF(ПРОВОЛОКА!J59=0,\"\",ПРОВОЛОКА!S59)","v":""}]
[{"$f":"IF(ПРОВОЛОКА!J60=0,\"z\",IF(ПРОВОЛОКА!J60=\"\",ПРОВОЛОКА!A60,IF(ПРОВОЛОКА!B60<>\"\",\"2Д/гиб\",ПРОВОЛОКА!A60)))","v":"z"},{"$f":"IF(ПРОВОЛОКА!J60=0,\"\",\"Проволока\")","v":""},{"$f":"IF(ПРОВОЛОКА!J60=0,\"\",CONCATENATE(ПРОВОЛОКА!C60,ПРОВОЛОКА!D60))","v":""},{"$f":"IF(ПРОВОЛОКА!J60=0,\"\",ПРОВОЛОКА!F60)","v":""},{"$f":"IF(ПРОВОЛОКА!J60=0,\"\",ПРОВОЛОКА!J60)","v":""},{"$f":"IF(ПРОВОЛОКА!J60=0,\"\",ПРОВОЛОКА!K60)","v":""},{"$f":"IF(ПРОВОЛОКА!J60=0,\"\",ПРОВОЛОКА!O60)","v":""},{"$f":"IF(ПРОВОЛОКА!J60=0,\"\",ПРОВОЛОКА!S60)","v":""}]
[{"$f":"IF(ПРОВОЛОКА!J61=0,\"z\",IF(ПРОВОЛОКА!J61=\"\",ПРОВОЛОКА!A61,IF(ПРОВОЛОКА!B61<>\"\",\"2Д/гиб\",ПРОВОЛОКА!A61)))","v":"z"},{"$f":"IF(ПРОВОЛОКА!J61=0,\"\",\"Проволока\")","v":""},{"$f":"IF(ПРОВОЛОКА!J61=0,\"\",CONCATENATE(ПРОВОЛОКА!C61,ПРОВОЛОКА!D61))","v":""},{"$f":"IF(ПРОВОЛОКА!J61=0,\"\",ПРОВОЛОКА!F61)","v":""},{"$f":"IF(ПРОВОЛОКА!J61=0,\"\",ПРОВОЛОКА!J61)","v":""},{"$f":"IF(ПРОВОЛОКА!J61=0,\"\",ПРОВОЛОКА!K61)","v":""},{"$f":"IF(ПРОВОЛОКА!J61=0,\"\",ПРОВОЛОКА!O61)","v":""},{"$f":"IF(ПРОВОЛОКА!J61=0,\"\",ПРОВОЛОКА!S61)","v":""}]
[{"$f":"IF(ПРОВОЛОКА!J62=0,\"z\",IF(ПРОВОЛОКА!J62=\"\",ПРОВОЛОКА!A62,IF(ПРОВОЛОКА!B62<>\"\",\"2Д/гиб\",ПРОВОЛОКА!A62)))","v":"z"},{"$f":"IF(ПРОВОЛОКА!J62=0,\"\",\"Проволока\")","v":""},{"$f":"IF(ПРОВОЛОКА!J62=0,\"\",CONCATENATE(ПРОВОЛОКА!C62,ПРОВОЛОКА!D62))","v":""},{"$f":"IF(ПРОВОЛОКА!J62=0,\"\",ПРОВОЛОКА!F62)","v":""},{"$f":"IF(ПРОВОЛОКА!J62=0,\"\",ПРОВОЛОКА!J62)","v":""},{"$f":"IF(ПРОВОЛОКА!J62=0,\"\",ПРОВОЛОКА!K62)","v":""},{"$f":"IF(ПРОВОЛОКА!J62=0,\"\",ПРОВОЛОКА!O62)","v":""},{"$f":"IF(ПРОВОЛОКА!J62=0,\"\",ПРОВОЛОКА!S62)","v":""}]
[{"$f":"IF(ПРОВОЛОКА!J63=0,\"z\",IF(ПРОВОЛОКА!J63=\"\",ПРОВОЛОКА!A63,IF(ПРОВОЛОКА!B63<>\"\",\"2Д/гиб\",ПРОВОЛОКА!A63)))","v":"z"},{"$f":"IF(ПРОВОЛОКА!J63=0,\"\",\"Проволока\")","v":""},{"$f":"IF(ПРОВОЛОКА!J63=0,\"\",CONCATENATE(ПРОВОЛОКА!C63,ПРОВОЛОКА!D63))","v":""},{"$f":"IF(ПРОВОЛОКА!J63=0,\"\",ПРОВОЛОКА!F63)","v":""},{"$f":"IF(ПРОВОЛОКА!J63=0,\"\",ПРОВОЛОКА!J63)","v":""},{"$f":"IF(ПРОВОЛОКА!J63=0,\"\",ПРОВОЛОКА!K63)","v":""},{"$f":"IF(ПРОВОЛОКА!J63=0,\"\",ПРОВОЛОКА!O63)","v":""},{"$f":"IF(ПРОВОЛОКА!J63=0,\"\",ПРОВОЛОКА!S63)","v":""}]
[{"$f":"IF(ПРОВОЛОКА!J64=0,\"z\",IF(ПРОВОЛОКА!J64=\"\",ПРОВОЛОКА!A64,IF(ПРОВОЛОКА!B64<>\"\",\"2Д/гиб\",ПРОВОЛОКА!A64)))","v":"z"},{"$f":"IF(ПРОВОЛОКА!J64=0,\"\",\"Проволока\")","v":""},{"$f":"IF(ПРОВОЛОКА!J64=0,\"\",CONCATENATE(ПРОВОЛОКА!C64,ПРОВОЛОКА!D64))","v":""},{"$f":"IF(ПРОВОЛОКА!J64=0,\"\",ПРОВОЛОКА!F64)","v":""},{"$f":"IF(ПРОВОЛОКА!J64=0,\"\",ПРОВОЛОКА!J64)","v":""},{"$f":"IF(ПРОВОЛОКА!J64=0,\"\",ПРОВОЛОКА!K64)","v":""},{"$f":"IF(ПРОВОЛОКА!J64=0,\"\",ПРОВОЛОКА!O64)","v":""},{"$f":"IF(ПРОВОЛОКА!J64=0,\"\",ПРОВОЛОКА!S64)","v":""}]
[{"$f":"IF(ПРОВОЛОКА!J65=0,\"z\",IF(ПРОВОЛОКА!J65=\"\",ПРОВОЛОКА!A65,IF(ПРОВОЛОКА!B65<>\"\",\"2Д/гиб\",ПРОВОЛОКА!A65)))","v":"z"},{"$f":"IF(ПРОВОЛОКА!J65=0,\"\",\"Проволока\")","v":""},{"$f":"IF(ПРОВОЛОКА!J65=0,\"\",CONCATENATE(ПРОВОЛОКА!C65,ПРОВОЛОКА!D65))","v":""},{"$f":"IF(ПРОВОЛОКА!J65=0,\"\",ПРОВОЛОКА!F65)","v":""},{"$f":"IF(ПРОВОЛОКА!J65=0,\"\",ПРОВОЛОКА!J65)","v":""},{"$f":"IF(ПРОВОЛОКА!J65=0,\"\",ПРОВОЛОКА!K65)","v":""},{"$f":"IF(ПРОВОЛОКА!J65=0,\"\",ПРОВОЛОКА!O65)","v":""},{"$f":"IF(ПРОВОЛОКА!J65=0,\"\",ПРОВОЛОКА!S65)","v":""}]
[{"$f":"IF(ПРОВОЛОКА!J66=0,\"z\",IF(ПРОВОЛОКА!J66=\"\",ПРОВОЛОКА!A66,IF(ПРОВОЛОКА!B66<>\"\",\"2Д/гиб\",ПРОВОЛОКА!A66)))","v":"z"},{"$f":"IF(ПРОВОЛОКА!J66=0,\"\",\"Проволока\")","v":""},{"$f":"IF(ПРОВОЛОКА!J66=0,\"\",CONCATENATE(ПРОВОЛОКА!C66,ПРОВОЛОКА!D66))","v":""},{"$f":"IF(ПРОВОЛОКА!J66=0,\"\",ПРОВОЛОКА!F66)","v":""},{"$f":"IF(ПРОВОЛОКА!J66=0,\"\",ПРОВОЛОКА!J66)","v":""},{"$f":"IF(ПРОВОЛОКА!J66=0,\"\",ПРОВОЛОКА!K66)","v":""},{"$f":"IF(ПРОВОЛОКА!J66=0,\"\",ПРОВОЛОКА!O66)","v":""},{"$f":"IF(ПРОВОЛОКА!J66=0,\"\",ПРОВОЛОКА!S66)","v":""}]
[{"$f":"IF(ПРОВОЛОКА!J67=0,\"z\",IF(ПРОВОЛОКА!J67=\"\",ПРОВОЛОКА!A67,IF(ПРОВОЛОКА!B67<>\"\",\"2Д/гиб\",ПРОВОЛОКА!A67)))","v":"z"},{"$f":"IF(ПРОВОЛОКА!J67=0,\"\",\"Проволока\")","v":""},{"$f":"IF(ПРОВОЛОКА!J67=0,\"\",CONCATENATE(ПРОВОЛОКА!C67,ПРОВОЛОКА!D67))","v":""},{"$f":"IF(ПРОВОЛОКА!J67=0,\"\",ПРОВОЛОКА!F67)","v":""},{"$f":"IF(ПРОВОЛОКА!J67=0,\"\",ПРОВОЛОКА!J67)","v":""},{"$f":"IF(ПРОВОЛОКА!J67=0,\"\",ПРОВОЛОКА!K67)","v":""},{"$f":"IF(ПРОВОЛОКА!J67=0,\"\",ПРОВОЛОКА!O67)","v":""},{"$f":"IF(ПРОВОЛОКА!J67=0,\"\",ПРОВОЛОКА!S67)","v":""}]
[{"$f":"IF(ПРОВОЛОКА!J68=0,\"z\",IF(ПРОВОЛОКА!J68=\"\",ПРОВОЛОКА!A68,IF(ПРОВОЛОКА!B68<>\"\",\"2Д/гиб\",ПРОВОЛОКА!A68)))","v":"z"},{"$f":"IF(ПРОВОЛОКА!J68=0,\"\",\"Проволока\")","v":""},{"$f":"IF(ПРОВОЛОКА!J68=0,\"\",CONCATENATE(ПРОВОЛОКА!C68,ПРОВОЛОКА!D68))","v":""},{"$f":"IF(ПРОВОЛОКА!J68=0,\"\",ПРОВОЛОКА!F68)","v":""},{"$f":"IF(ПРОВОЛОКА!J68=0,\"\",ПРОВОЛОКА!J68)","v":""},{"$f":"IF(ПРОВОЛОКА!J68=0,\"\",ПРОВОЛОКА!K68)","v":""},{"$f":"IF(ПРОВОЛОКА!J68=0,\"\",ПРОВОЛОКА!O68)","v":""},{"$f":"IF(ПРОВОЛОКА!J68=0,\"\",ПРОВОЛОКА!S68)","v":""}]
[{"$f":"IF(ПРОВОЛОКА!J69=0,\"z\",IF(ПРОВОЛОКА!J69=\"\",ПРОВОЛОКА!A69,IF(ПРОВОЛОКА!B69<>\"\",\"2Д/гиб\",ПРОВОЛОКА!A69)))","v":"z"},{"$f":"IF(ПРОВОЛОКА!J69=0,\"\",\"Проволока\")","v":""},{"$f":"IF(ПРОВОЛОКА!J69=0,\"\",CONCATENATE(ПРОВОЛОКА!C69,ПРОВОЛОКА!D69))","v":""},{"$f":"IF(ПРОВОЛОКА!J69=0,\"\",ПРОВОЛОКА!F69)","v":""},{"$f":"IF(ПРОВОЛОКА!J69=0,\"\",ПРОВОЛОКА!J69)","v":""},{"$f":"IF(ПРОВОЛОКА!J69=0,\"\",ПРОВОЛОКА!K69)","v":""},{"$f":"IF(ПРОВОЛОКА!J69=0,\"\",ПРОВОЛОКА!O69)","v":""},{"$f":"IF(ПРОВОЛОКА!J69=0,\"\",ПРОВОЛОКА!S69)","v":""}]
[{"$f":"IF(ПРОВОЛОКА!J70=0,\"z\",IF(ПРОВОЛОКА!J70=\"\",ПРОВОЛОКА!A70,IF(ПРОВОЛОКА!B70<>\"\",\"2Д/гиб\",ПРОВОЛОКА!A70)))","v":"z"},{"$f":"IF(ПРОВОЛОКА!J70=0,\"\",\"Проволока\")","v":""},{"$f":"IF(ПРОВОЛОКА!J70=0,\"\",CONCATENATE(ПРОВОЛОКА!C70,ПРОВОЛОКА!D70))","v":""},{"$f":"IF(ПРОВОЛОКА!J70=0,\"\",ПРОВОЛОКА!F70)","v":""},{"$f":"IF(ПРОВОЛОКА!J70=0,\"\",ПРОВОЛОКА!J70)","v":""},{"$f":"IF(ПРОВОЛОКА!J70=0,\"\",ПРОВОЛОКА!K70)","v":""},{"$f":"IF(ПРОВОЛОКА!J70=0,\"\",ПРОВОЛОКА!O70)","v":""},{"$f":"IF(ПРОВОЛОКА!J70=0,\"\",ПРОВОЛОКА!S70)","v":""}]
[{"$f":"IF(ПРОВОЛОКА!J71=0,\"z\",IF(ПРОВОЛОКА!J71=\"\",ПРОВОЛОКА!A71,IF(ПРОВОЛОКА!B71<>\"\",\"2Д/гиб\",ПРОВОЛОКА!A71)))","v":"z"},{"$f":"IF(ПРОВОЛОКА!J71=0,\"\",\"Проволока\")","v":""},{"$f":"IF(ПРОВОЛОКА!J71=0,\"\",CONCATENATE(ПРОВОЛОКА!C71,ПРОВОЛОКА!D71))","v":""},{"$f":"IF(ПРОВОЛОКА!J71=0,\"\",ПРОВОЛОКА!F71)","v":""},{"$f":"IF(ПРОВОЛОКА!J71=0,\"\",ПРОВОЛОКА!J71)","v":""},{"$f":"IF(ПРОВОЛОКА!J71=0,\"\",ПРОВОЛОКА!K71)","v":""},{"$f":"IF(ПРОВОЛОКА!J71=0,\"\",ПРОВОЛОКА!O71)","v":""},{"$f":"IF(ПРОВОЛОКА!J71=0,\"\",ПРОВОЛОКА!S71)","v":""}]
[{"$f":"IF(ПРОВОЛОКА!J74=0,\"z\",IF(ПРОВОЛОКА!J74=\"\",ПРОВОЛОКА!A74,IF(ПРОВОЛОКА!B74<>\"\",\"2Д/гиб\",ПРОВОЛОКА!A74)))","v":"z"},{"$f":"IF(ПРОВОЛОКА!J74=0,\"\",\"Проволока\")","v":""},{"$f":"IF(ПРОВОЛОКА!J74=0,\"\",CONCATENATE(ПРОВОЛОКА!C74,ПРОВОЛОКА!D74))","v":""},{"$f":"IF(ПРОВОЛОКА!J74=0,\"\",ПРОВОЛОКА!F74)","v":""},{"$f":"IF(ПРОВОЛОКА!J74=0,\"\",ПРОВОЛОКА!J74)","v":""},{"$f":"IF(ПРОВОЛОКА!J74=0,\"\",ПРОВОЛОКА!K74)","v":""},{"$f":"IF(ПРОВОЛОКА!J74=0,\"\",ПРОВОЛОКА!O74)","v":""},{"$f":"IF(ПРОВОЛОКА!J74=0,\"\",ПРОВОЛОКА!S74)","v":""}]
[{"$f":"IF(ПРОВОЛОКА!J75=0,\"z\",IF(ПРОВОЛОКА!J75=\"\",ПРОВОЛОКА!A75,IF(ПРОВОЛОКА!B75<>\"\",\"2Д/гиб\",ПРОВОЛОКА!A75)))","v":"z"},{"$f":"IF(ПРОВОЛОКА!J75=0,\"\",\"Проволока\")","v":""},{"$f":"IF(ПРОВОЛОКА!J75=0,\"\",CONCATENATE(ПРОВОЛОКА!C75,ПРОВОЛОКА!D75))","v":""},{"$f":"IF(ПРОВОЛОКА!J75=0,\"\",ПРОВОЛОКА!F75)","v":""},{"$f":"IF(ПРОВОЛОКА!J75=0,\"\",ПРОВОЛОКА!J75)","v":""},{"$f":"IF(ПРОВОЛОКА!J75=0,\"\",ПРОВОЛОКА!K75)","v":""},{"$f":"IF(ПРОВОЛОКА!J75=0,\"\",ПРОВОЛОКА!O75)","v":""},{"$f":"IF(ПРОВОЛОКА!J75=0,\"\",ПРОВОЛОКА!S75)","v":""}]
[{"$f":"IF(ПРОВОЛОКА!J76=0,\"z\",IF(ПРОВОЛОКА!J76=\"\",ПРОВОЛОКА!A76,IF(ПРОВОЛОКА!B76<>\"\",\"2Д/гиб\",ПРОВОЛОКА!A76)))","v":"z"},{"$f":"IF(ПРОВОЛОКА!J76=0,\"\",\"Проволока\")","v":""},{"$f":"IF(ПРОВОЛОКА!J76=0,\"\",CONCATENATE(ПРОВОЛОКА!C76,ПРОВОЛОКА!D76))","v":""},{"$f":"IF(ПРОВОЛОКА!J76=0,\"\",ПРОВОЛОКА!F76)","v":""},{"$f":"IF(ПРОВОЛОКА!J76=0,\"\",ПРОВОЛОКА!J76)","v":""},{"$f":"IF(ПРОВОЛОКА!J76=0,\"\",ПРОВОЛОКА!K76)","v":""},{"$f":"IF(ПРОВОЛОКА!J76=0,\"\",ПРОВОЛОКА!O76)","v":""},{"$f":"IF(ПРОВОЛОКА!J76=0,\"\",ПРОВОЛОКА!S76)","v":""}]
[{"$f":"IF(ПРОВОЛОКА!J77=0,\"z\",IF(ПРОВОЛОКА!J77=\"\",ПРОВОЛОКА!A77,IF(ПРОВОЛОКА!B77<>\"\",\"2Д/гиб\",ПРОВОЛОКА!A77)))","v":"z"},{"$f":"IF(ПРОВОЛОКА!J77=0,\"\",\"Проволока\")","v":""},{"$f":"IF(ПРОВОЛОКА!J77=0,\"\",CONCATENATE(ПРОВОЛОКА!C77,ПРОВОЛОКА!D77))","v":""},{"$f":"IF(ПРОВОЛОКА!J77=0,\"\",ПРОВОЛОКА!F77)","v":""},{"$f":"IF(ПРОВОЛОКА!J77=0,\"\",ПРОВОЛОКА!J77)","v":""},{"$f":"IF(ПРОВОЛОКА!J77=0,\"\",ПРОВОЛОКА!K77)","v":""},{"$f":"IF(ПРОВОЛОКА!J77=0,\"\",ПРОВОЛОКА!O77)","v":""},{"$f":"IF(ПРОВОЛОКА!J77=0,\"\",ПРОВОЛОКА!S77)","v":""}]
[{"$f":"IF(ПРОВОЛОКА!J78=0,\"z\",IF(ПРОВОЛОКА!J78=\"\",ПРОВОЛОКА!A78,IF(ПРОВОЛОКА!B78<>\"\",\"2Д/гиб\",ПРОВОЛОКА!A78)))","v":"z"},{"$f":"IF(ПРОВОЛОКА!J78=0,\"\",\"Проволока\")","v":""},{"$f":"IF(ПРОВОЛОКА!J78=0,\"\",CONCATENATE(ПРОВОЛОКА!C78,ПРОВОЛОКА!D78))","v":""},{"$f":"IF(ПРОВОЛОКА!J78=0,\"\",ПРОВОЛОКА!F78)","v":""},{"$f":"IF(ПРОВОЛОКА!J78=0,\"\",ПРОВОЛОКА!J78)","v":""},{"$f":"IF(ПРОВОЛОКА!J78=0,\"\",ПРОВОЛОКА!K78)","v":""},{"$f":"IF(ПРОВОЛОКА!J78=0,\"\",ПРОВОЛОКА!O78)","v":""},{"$f":"IF(ПРОВОЛОКА!J78=0,\"\",ПРОВОЛОКА!S78)","v":""}]
[{"$f":"IF(ПРОВОЛОКА!J79=0,\"z\",IF(ПРОВОЛОКА!J79=\"\",ПРОВОЛОКА!A79,IF(ПРОВОЛОКА!B79<>\"\",\"2Д/гиб\",ПРОВОЛОКА!A79)))","v":"z"},{"$f":"IF(ПРОВОЛОКА!J79=0,\"\",\"Проволока\")","v":""},{"$f":"IF(ПРОВОЛОКА!J79=0,\"\",CONCATENATE(ПРОВОЛОКА!C79,ПРОВОЛОКА!D79))","v":""},{"$f":"IF(ПРОВОЛОКА!J79=0,\"\",ПРОВОЛОКА!F79)","v":""},{"$f":"IF(ПРОВОЛОКА!J79=0,\"\",ПРОВОЛОКА!J79)","v":""},{"$f":"IF(ПРОВОЛОКА!J79=0,\"\",ПРОВОЛОКА!K79)","v":""},{"$f":"IF(ПРОВОЛОКА!J79=0,\"\",ПРОВОЛОКА!O79)","v":""},{"$f":"IF(ПРОВОЛОКА!J79=0,\"\",ПРОВОЛОКА!S79)","v":""}]
[{"$f":"IF(ПРОВОЛОКА!J80=0,\"z\",IF(ПРОВОЛОКА!J80=\"\",ПРОВОЛОКА!A80,IF(ПРОВОЛОКА!B80<>\"\",\"2Д/гиб\",ПРОВОЛОКА!A80)))","v":"z"},{"$f":"IF(ПРОВОЛОКА!J80=0,\"\",\"Проволока\")","v":""},{"$f":"IF(ПРОВОЛОКА!J80=0,\"\",CONCATENATE(ПРОВОЛОКА!C80,ПРОВОЛОКА!D80))","v":""},{"$f":"IF(ПРОВОЛОКА!J80=0,\"\",ПРОВОЛОКА!F80)","v":""},{"$f":"IF(ПРОВОЛОКА!J80=0,\"\",ПРОВОЛОКА!J80)","v":""},{"$f":"IF(ПРОВОЛОКА!J80=0,\"\",ПРОВОЛОКА!K80)","v":""},{"$f":"IF(ПРОВОЛОКА!J80=0,\"\",ПРОВОЛОКА!O80)","v":""},{"$f":"IF(ПРОВОЛОКА!J80=0,\"\",ПРОВОЛОКА!S80)","v":""}]
[{"$f":"IF(ПРОВОЛОКА!J81=0,\"z\",IF(ПРОВОЛОКА!J81=\"\",ПРОВОЛОКА!A81,IF(ПРОВОЛОКА!B81<>\"\",\"2Д/гиб\",ПРОВОЛОКА!A81)))","v":"z"},{"$f":"IF(ПРОВОЛОКА!J81=0,\"\",\"Проволока\")","v":""},{"$f":"IF(ПРОВОЛОКА!J81=0,\"\",CONCATENATE(ПРОВОЛОКА!C81,ПРОВОЛОКА!D81))","v":""},{"$f":"IF(ПРОВОЛОКА!J81=0,\"\",ПРОВОЛОКА!F81)","v":""},{"$f":"IF(ПРОВОЛОКА!J81=0,\"\",ПРОВОЛОКА!J81)","v":""},{"$f":"IF(ПРОВОЛОКА!J81=0,\"\",ПРОВОЛОКА!K81)","v":""},{"$f":"IF(ПРОВОЛОКА!J81=0,\"\",ПРОВОЛОКА!O81)","v":""},{"$f":"IF(ПРОВОЛОКА!J81=0,\"\",ПРОВОЛОКА!S81)","v":""}]
[{"$f":"IF(ПРОВОЛОКА!J82=0,\"z\",IF(ПРОВОЛОКА!J82=\"\",ПРОВОЛОКА!A82,IF(ПРОВОЛОКА!B82<>\"\",\"2Д/гиб\",ПРОВОЛОКА!A82)))","v":"z"},{"$f":"IF(ПРОВОЛОКА!J82=0,\"\",\"Проволока\")","v":""},{"$f":"IF(ПРОВОЛОКА!J82=0,\"\",CONCATENATE(ПРОВОЛОКА!C82,ПРОВОЛОКА!D82))","v":""},{"$f":"IF(ПРОВОЛОКА!J82=0,\"\",ПРОВОЛОКА!F82)","v":""},{"$f":"IF(ПРОВОЛОКА!J82=0,\"\",ПРОВОЛОКА!J82)","v":""},{"$f":"IF(ПРОВОЛОКА!J82=0,\"\",ПРОВОЛОКА!K82)","v":""},{"$f":"IF(ПРОВОЛОКА!J82=0,\"\",ПРОВОЛОКА!O82)","v":""},{"$f":"IF(ПРОВОЛОКА!J82=0,\"\",ПРОВОЛОКА!S82)","v":""}]
[{"$f":"IF(ПРОВОЛОКА!J83=0,\"z\",IF(ПРОВОЛОКА!J83=\"\",ПРОВОЛОКА!A83,IF(ПРОВОЛОКА!B83<>\"\",\"2Д/гиб\",ПРОВОЛОКА!A83)))","v":"z"},{"$f":"IF(ПРОВОЛОКА!J83=0,\"\",\"Проволока\")","v":""},{"$f":"IF(ПРОВОЛОКА!J83=0,\"\",CONCATENATE(ПРОВОЛОКА!C83,ПРОВОЛОКА!D83))","v":""},{"$f":"IF(ПРОВОЛОКА!J83=0,\"\",ПРОВОЛОКА!F83)","v":""},{"$f":"IF(ПРОВОЛОКА!J83=0,\"\",ПРОВОЛОКА!J83)","v":""},{"$f":"IF(ПРОВОЛОКА!J83=0,\"\",ПРОВОЛОКА!K83)","v":""},{"$f":"IF(ПРОВОЛОКА!J83=0,\"\",ПРОВОЛОКА!O83)","v":""},{"$f":"IF(ПРОВОЛОКА!J83=0,\"\",ПРОВОЛОКА!S83)","v":""}]
[{"$f":"IF(ПРОВОЛОКА!J84=0,\"z\",IF(ПРОВОЛОКА!J84=\"\",ПРОВОЛОКА!A84,IF(ПРОВОЛОКА!B84<>\"\",\"2Д/гиб\",ПРОВОЛОКА!A84)))","v":"z"},{"$f":"IF(ПРОВОЛОКА!J84=0,\"\",\"Проволока\")","v":""},{"$f":"IF(ПРОВОЛОКА!J84=0,\"\",CONCATENATE(ПРОВОЛОКА!C84,ПРОВОЛОКА!D84))","v":""},{"$f":"IF(ПРОВОЛОКА!J84=0,\"\",ПРОВОЛОКА!F84)","v":""},{"$f":"IF(ПРОВОЛОКА!J84=0,\"\",ПРОВОЛОКА!J84)","v":""},{"$f":"IF(ПРОВОЛОКА!J84=0,\"\",ПРОВОЛОКА!K84)","v":""},{"$f":"IF(ПРОВОЛОКА!J84=0,\"\",ПРОВОЛОКА!O84)","v":""},{"$f":"IF(ПРОВОЛОКА!J84=0,\"\",ПРОВОЛОКА!S84)","v":""}]
[{"$f":"IF(ПРОВОЛОКА!J85=0,\"z\",IF(ПРОВОЛОКА!J85=\"\",ПРОВОЛОКА!A85,IF(ПРОВОЛОКА!B85<>\"\",\"2Д/гиб\",ПРОВОЛОКА!A85)))","v":"z"},{"$f":"IF(ПРОВОЛОКА!J85=0,\"\",\"Проволока\")","v":""},{"$f":"IF(ПРОВОЛОКА!J85=0,\"\",CONCATENATE(ПРОВОЛОКА!C85,ПРОВОЛОКА!D85))","v":""},{"$f":"IF(ПРОВОЛОКА!J85=0,\"\",ПРОВОЛОКА!F85)","v":""},{"$f":"IF(ПРОВОЛОКА!J85=0,\"\",ПРОВОЛОКА!J85)","v":""},{"$f":"IF(ПРОВОЛОКА!J85=0,\"\",ПРОВОЛОКА!K85)","v":""},{"$f":"IF(ПРОВОЛОКА!J85=0,\"\",ПРОВОЛОКА!O85)","v":""},{"$f":"IF(ПРОВОЛОКА!J85=0,\"\",ПРОВОЛОКА!S85)","v":""}]
[{"$f":"IF(ПРОВОЛОКА!J86=0,\"z\",IF(ПРОВОЛОКА!J86=\"\",ПРОВОЛОКА!A86,IF(ПРОВОЛОКА!B86<>\"\",\"2Д/гиб\",ПРОВОЛОКА!A86)))","v":"z"},{"$f":"IF(ПРОВОЛОКА!J86=0,\"\",\"Проволока\")","v":""},{"$f":"IF(ПРОВОЛОКА!J86=0,\"\",CONCATENATE(ПРОВОЛОКА!C86,ПРОВОЛОКА!D86))","v":""},{"$f":"IF(ПРОВОЛОКА!J86=0,\"\",ПРОВОЛОКА!F86)","v":""},{"$f":"IF(ПРОВОЛОКА!J86=0,\"\",ПРОВОЛОКА!J86)","v":""},{"$f":"IF(ПРОВОЛОКА!J86=0,\"\",ПРОВОЛОКА!K86)","v":""},{"$f":"IF(ПРОВОЛОКА!J86=0,\"\",ПРОВОЛОКА!O86)","v":""},{"$f":"IF(ПРОВОЛОКА!J86=0,\"\",ПРОВОЛОКА!S86)","v":""}]
[{"$f":"IF(ПРОВОЛОКА!J87=0,\"z\",IF(ПРОВОЛОКА!J87=\"\",ПРОВОЛОКА!A87,IF(ПРОВОЛОКА!B87<>\"\",\"2Д/гиб\",ПРОВОЛОКА!A87)))","v":"z"},{"$f":"IF(ПРОВОЛОКА!J87=0,\"\",\"Проволока\")","v":""},{"$f":"IF(ПРОВОЛОКА!J87=0,\"\",CONCATENATE(ПРОВОЛОКА!C87,ПРОВОЛОКА!D87))","v":""},{"$f":"IF(ПРОВОЛОКА!J87=0,\"\",ПРОВОЛОКА!F87)","v":""},{"$f":"IF(ПРОВОЛОКА!J87=0,\"\",ПРОВОЛОКА!J87)","v":""},{"$f":"IF(ПРОВОЛОКА!J87=0,\"\",ПРОВОЛОКА!K87)","v":""},{"$f":"IF(ПРОВОЛОКА!J87=0,\"\",ПРОВОЛОКА!O87)","v":""},{"$f":"IF(ПРОВОЛОКА!J87=0,\"\",ПРОВОЛОКА!S87)","v":""}]
[{"$f":"IF(ПРОВОЛОКА!J88=0,\"z\",IF(ПРОВОЛОКА!J88=\"\",ПРОВОЛОКА!A88,IF(ПРОВОЛОКА!B88<>\"\",\"2Д/гиб\",ПРОВОЛОКА!A88)))","v":"z"},{"$f":"IF(ПРОВОЛОКА!J88=0,\"\",\"Проволока\")","v":""},{"$f":"IF(ПРОВОЛОКА!J88=0,\"\",CONCATENATE(ПРОВОЛОКА!C88,ПРОВОЛОКА!D88))","v":""},{"$f":"IF(ПРОВОЛОКА!J88=0,\"\",ПРОВОЛОКА!F88)","v":""},{"$f":"IF(ПРОВОЛОКА!J88=0,\"\",ПРОВОЛОКА!J88)","v":""},{"$f":"IF(ПРОВОЛОКА!J88=0,\"\",ПРОВОЛОКА!K88)","v":""},{"$f":"IF(ПРОВОЛОКА!J88=0,\"\",ПРОВОЛОКА!O88)","v":""},{"$f":"IF(ПРОВОЛОКА!J88=0,\"\",ПРОВОЛОКА!S88)","v":""}]
[{"$f":"IF(ПРОВОЛОКА!J89=0,\"z\",IF(ПРОВОЛОКА!J89=\"\",ПРОВОЛОКА!A89,IF(ПРОВОЛОКА!B89<>\"\",\"2Д/гиб\",ПРОВОЛОКА!A89)))","v":"z"},{"$f":"IF(ПРОВОЛОКА!J89=0,\"\",\"Проволока\")","v":""},{"$f":"IF(ПРОВОЛОКА!J89=0,\"\",CONCATENATE(ПРОВОЛОКА!C89,ПРОВОЛОКА!D89))","v":""},{"$f":"IF(ПРОВОЛОКА!J89=0,\"\",ПРОВОЛОКА!F89)","v":""},{"$f":"IF(ПРОВОЛОКА!J89=0,\"\",ПРОВОЛОКА!J89)","v":""},{"$f":"IF(ПРОВОЛОКА!J89=0,\"\",ПРОВОЛОКА!K89)","v":""},{"$f":"IF(ПРОВОЛОКА!J89=0,\"\",ПРОВОЛОКА!O89)","v":""},{"$f":"IF(ПРОВОЛОКА!J89=0,\"\",ПРОВОЛОКА!S89)","v":""}]
[{"$f":"IF(ПРОВОЛОКА!J90=0,\"z\",IF(ПРОВОЛОКА!J90=\"\",ПРОВОЛОКА!A90,IF(ПРОВОЛОКА!B90<>\"\",\"2Д/гиб\",ПРОВОЛОКА!A90)))","v":"z"},{"$f":"IF(ПРОВОЛОКА!J90=0,\"\",\"Проволока\")","v":""},{"$f":"IF(ПРОВОЛОКА!J90=0,\"\",CONCATENATE(ПРОВОЛОКА!C90,ПРОВОЛОКА!D90))","v":""},{"$f":"IF(ПРОВОЛОКА!J90=0,\"\",ПРОВОЛОКА!F90)","v":""},{"$f":"IF(ПРОВОЛОКА!J90=0,\"\",ПРОВОЛОКА!J90)","v":""},{"$f":"IF(ПРОВОЛОКА!J90=0,\"\",ПРОВОЛОКА!K90)","v":""},{"$f":"IF(ПРОВОЛОКА!J90=0,\"\",ПРОВОЛОКА!O90)","v":""},{"$f":"IF(ПРОВОЛОКА!J90=0,\"\",ПРОВОЛОКА!S90)","v":""}]
[{"$f":"IF(ПРОВОЛОКА!J91=0,\"z\",IF(ПРОВОЛОКА!J91=\"\",ПРОВОЛОКА!A91,IF(ПРОВОЛОКА!B91<>\"\",\"2Д/гиб\",ПРОВОЛОКА!A91)))","v":"z"},{"$f":"IF(ПРОВОЛОКА!J91=0,\"\",\"Проволока\")","v":""},{"$f":"IF(ПРОВОЛОКА!J91=0,\"\",CONCATENATE(ПРОВОЛОКА!C91,ПРОВОЛОКА!D91))","v":""},{"$f":"IF(ПРОВОЛОКА!J91=0,\"\",ПРОВОЛОКА!F91)","v":""},{"$f":"IF(ПРОВОЛОКА!J91=0,\"\",ПРОВОЛОКА!J91)","v":""},{"$f":"IF(ПРОВОЛОКА!J91=0,\"\",ПРОВОЛОКА!K91)","v":""},{"$f":"IF(ПРОВОЛОКА!J91=0,\"\",ПРОВОЛОКА!O91)","v":""},{"$f":"IF(ПРОВОЛОКА!J91=0,\"\",ПРОВОЛОКА!S91)","v":""}]
[{"$f":"IF(ПРОВОЛОКА!J92=0,\"z\",IF(ПРОВОЛОКА!J92=\"\",ПРОВОЛОКА!A92,IF(ПРОВОЛОКА!B92<>\"\",\"2Д/гиб\",ПРОВОЛОКА!A92)))","v":"z"},{"$f":"IF(ПРОВОЛОКА!J92=0,\"\",\"Проволока\")","v":""},{"$f":"IF(ПРОВОЛОКА!J92=0,\"\",CONCATENATE(ПРОВОЛОКА!C92,ПРОВОЛОКА!D92))","v":""},{"$f":"IF(ПРОВОЛОКА!J92=0,\"\",ПРОВОЛОКА!F92)","v":""},{"$f":"IF(ПРОВОЛОКА!J92=0,\"\",ПРОВОЛОКА!J92)","v":""},{"$f":"IF(ПРОВОЛОКА!J92=0,\"\",ПРОВОЛОКА!K92)","v":""},{"$f":"IF(ПРОВОЛОКА!J92=0,\"\",ПРОВОЛОКА!O92)","v":""},{"$f":"IF(ПРОВОЛОКА!J92=0,\"\",ПРОВОЛОКА!S92)","v":""}]
[{"$f":"IF(ПРОВОЛОКА!J93=0,\"z\",IF(ПРОВОЛОКА!J93=\"\",ПРОВОЛОКА!A93,IF(ПРОВОЛОКА!B93<>\"\",\"2Д/гиб\",ПРОВОЛОКА!A93)))","v":"z"},{"$f":"IF(ПРОВОЛОКА!J93=0,\"\",\"Проволока\")","v":""},{"$f":"IF(ПРОВОЛОКА!J93=0,\"\",CONCATENATE(ПРОВОЛОКА!C93,ПРОВОЛОКА!D93))","v":""},{"$f":"IF(ПРОВОЛОКА!J93=0,\"\",ПРОВОЛОКА!F93)","v":""},{"$f":"IF(ПРОВОЛОКА!J93=0,\"\",ПРОВОЛОКА!J93)","v":""},{"$f":"IF(ПРОВОЛОКА!J93=0,\"\",ПРОВОЛОКА!K93)","v":""},{"$f":"IF(ПРОВОЛОКА!J93=0,\"\",ПРОВОЛОКА!O93)","v":""},{"$f":"IF(ПРОВОЛОКА!J93=0,\"\",ПРОВОЛОКА!S93)","v":""}]
[{"$f":"IF(ПРОВОЛОКА!J94=0,\"z\",IF(ПРОВОЛОКА!J94=\"\",ПРОВОЛОКА!A94,IF(ПРОВОЛОКА!B94<>\"\",\"2Д/гиб\",ПРОВОЛОКА!A94)))","v":"z"},{"$f":"IF(ПРОВОЛОКА!J94=0,\"\",\"Проволока\")","v":""},{"$f":"IF(ПРОВОЛОКА!J94=0,\"\",CONCATENATE(ПРОВОЛОКА!C94,ПРОВОЛОКА!D94))","v":""},{"$f":"IF(ПРОВОЛОКА!J94=0,\"\",ПРОВОЛОКА!F94)","v":""},{"$f":"IF(ПРОВОЛОКА!J94=0,\"\",ПРОВОЛОКА!J94)","v":""},{"$f":"IF(ПРОВОЛОКА!J94=0,\"\",ПРОВОЛОКА!K94)","v":""},{"$f":"IF(ПРОВОЛОКА!J94=0,\"\",ПРОВОЛОКА!O94)","v":""},{"$f":"IF(ПРОВОЛОКА!J94=0,\"\",ПРОВОЛОКА!S94)","v":""}]
[{"$f":"IF(ПРОВОЛОКА!J95=0,\"z\",IF(ПРОВОЛОКА!J95=\"\",ПРОВОЛОКА!A95,IF(ПРОВОЛОКА!B95<>\"\",\"2Д/гиб\",ПРОВОЛОКА!A95)))","v":"z"},{"$f":"IF(ПРОВОЛОКА!J95=0,\"\",\"Проволока\")","v":""},{"$f":"IF(ПРОВОЛОКА!J95=0,\"\",CONCATENATE(ПРОВОЛОКА!C95,ПРОВОЛОКА!D95))","v":""},{"$f":"IF(ПРОВОЛОКА!J95=0,\"\",ПРОВОЛОКА!F95)","v":""},{"$f":"IF(ПРОВОЛОКА!J95=0,\"\",ПРОВОЛОКА!J95)","v":""},{"$f":"IF(ПРОВОЛОКА!J95=0,\"\",ПРОВОЛОКА!K95)","v":""},{"$f":"IF(ПРОВОЛОКА!J95=0,\"\",ПРОВОЛОКА!O95)","v":""},{"$f":"IF(ПРОВОЛОКА!J95=0,\"\",ПРОВОЛОКА!S95)","v":""}]
[{"$f":"IF(ПРОВОЛОКА!J96=0,\"z\",IF(ПРОВОЛОКА!J96=\"\",ПРОВОЛОКА!A96,IF(ПРОВОЛОКА!B96<>\"\",\"2Д/гиб\",ПРОВОЛОКА!A96)))","v":"z"},{"$f":"IF(ПРОВОЛОКА!J96=0,\"\",\"Проволока\")","v":""},{"$f":"IF(ПРОВОЛОКА!J96=0,\"\",CONCATENATE(ПРОВОЛОКА!C96,ПРОВОЛОКА!D96))","v":""},{"$f":"IF(ПРОВОЛОКА!J96=0,\"\",ПРОВОЛОКА!F96)","v":""},{"$f":"IF(ПРОВОЛОКА!J96=0,\"\",ПРОВОЛОКА!J96)","v":""},{"$f":"IF(ПРОВОЛОКА!J96=0,\"\",ПРОВОЛОКА!K96)","v":""},{"$f":"IF(ПРОВОЛОКА!J96=0,\"\",ПРОВОЛОКА!O96)","v":""},{"$f":"IF(ПРОВОЛОКА!J96=0,\"\",ПРОВОЛОКА!S96)","v":""}]
[{"$f":"IF(ПРОВОЛОКА!J97=0,\"z\",IF(ПРОВОЛОКА!J97=\"\",ПРОВОЛОКА!A97,IF(ПРОВОЛОКА!B97<>\"\",\"2Д/гиб\",ПРОВОЛОКА!A97)))","v":"z"},{"$f":"IF(ПРОВОЛОКА!J97=0,\"\",\"Проволока\")","v":""},{"$f":"IF(ПРОВОЛОКА!J97=0,\"\",CONCATENATE(ПРОВОЛОКА!C97,ПРОВОЛОКА!D97))","v":""},{"$f":"IF(ПРОВОЛОКА!J97=0,\"\",ПРОВОЛОКА!F97)","v":""},{"$f":"IF(ПРОВОЛОКА!J97=0,\"\",ПРОВОЛОКА!J97)","v":""},{"$f":"IF(ПРОВОЛОКА!J97=0,\"\",ПРОВОЛОКА!K97)","v":""},{"$f":"IF(ПРОВОЛОКА!J97=0,\"\",ПРОВОЛОКА!O97)","v":""},{"$f":"IF(ПРОВОЛОКА!J97=0,\"\",ПРОВОЛОКА!S97)","v":""}]
[{"$f":"IF(ПРОВОЛОКА!J98=0,\"z\",IF(ПРОВОЛОКА!J98=\"\",ПРОВОЛОКА!A98,IF(ПРОВОЛОКА!B98<>\"\",\"2Д/гиб\",ПРОВОЛОКА!A98)))","v":"z"},{"$f":"IF(ПРОВОЛОКА!J98=0,\"\",\"Проволока\")","v":""},{"$f":"IF(ПРОВОЛОКА!J98=0,\"\",CONCATENATE(ПРОВОЛОКА!C98,ПРОВОЛОКА!D98))","v":""},{"$f":"IF(ПРОВОЛОКА!J98=0,\"\",ПРОВОЛОКА!F98)","v":""},{"$f":"IF(ПРОВОЛОКА!J98=0,\"\",ПРОВОЛОКА!J98)","v":""},{"$f":"IF(ПРОВОЛОКА!J98=0,\"\",ПРОВОЛОКА!K98)","v":""},{"$f":"IF(ПРОВОЛОКА!J98=0,\"\",ПРОВОЛОКА!O98)","v":""},{"$f":"IF(ПРОВОЛОКА!J98=0,\"\",ПРОВОЛОКА!S98)","v":""}]
[{"$f":"IF(ПРОВОЛОКА!J99=0,\"z\",IF(ПРОВОЛОКА!J99=\"\",ПРОВОЛОКА!A99,IF(ПРОВОЛОКА!B99<>\"\",\"2Д/гиб\",ПРОВОЛОКА!A99)))","v":"z"},{"$f":"IF(ПРОВОЛОКА!J99=0,\"\",\"Проволока\")","v":""},{"$f":"IF(ПРОВОЛОКА!J99=0,\"\",CONCATENATE(ПРОВОЛОКА!C99,ПРОВОЛОКА!D99))","v":""},{"$f":"IF(ПРОВОЛОКА!J99=0,\"\",ПРОВОЛОКА!F99)","v":""},{"$f":"IF(ПРОВОЛОКА!J99=0,\"\",ПРОВОЛОКА!J99)","v":""},{"$f":"IF(ПРОВОЛОКА!J99=0,\"\",ПРОВОЛОКА!K99)","v":""},{"$f":"IF(ПРОВОЛОКА!J99=0,\"\",ПРОВОЛОКА!O99)","v":""},{"$f":"IF(ПРОВОЛОКА!J99=0,\"\",ПРОВОЛОКА!S99)","v":""}]
[{"$f":"IF(ПРОВОЛОКА!J100=0,\"z\",IF(ПРОВОЛОКА!J100=\"\",ПРОВОЛОКА!A100,IF(ПРОВОЛОКА!B100<>\"\",\"2Д/гиб\",ПРОВОЛОКА!A100)))","v":"z"},{"$f":"IF(ПРОВОЛОКА!J100=0,\"\",\"Проволока\")","v":""},{"$f":"IF(ПРОВОЛОКА!J100=0,\"\",CONCATENATE(ПРОВОЛОКА!C100,ПРОВОЛОКА!D100))","v":""},{"$f":"IF(ПРОВОЛОКА!J100=0,\"\",ПРОВОЛОКА!F100)","v":""},{"$f":"IF(ПРОВОЛОКА!J100=0,\"\",ПРОВОЛОКА!J100)","v":""},{"$f":"IF(ПРОВОЛОКА!J100=0,\"\",ПРОВОЛОКА!K100)","v":""},{"$f":"IF(ПРОВОЛОКА!J100=0,\"\",ПРОВОЛОКА!O100)","v":""},{"$f":"IF(ПРОВОЛОКА!J100=0,\"\",ПРОВОЛОКА!S100)","v":""}]
[{"$f":"IF(ПРОВОЛОКА!J101=0,\"z\",IF(ПРОВОЛОКА!J101=\"\",ПРОВОЛОКА!A101,IF(ПРОВОЛОКА!B101<>\"\",\"2Д/гиб\",ПРОВОЛОКА!A101)))","v":"z"},{"$f":"IF(ПРОВОЛОКА!J101=0,\"\",\"Проволока\")","v":""},{"$f":"IF(ПРОВОЛОКА!J101=0,\"\",CONCATENATE(ПРОВОЛОКА!C101,ПРОВОЛОКА!D101))","v":""},{"$f":"IF(ПРОВОЛОКА!J101=0,\"\",ПРОВОЛОКА!F101)","v":""},{"$f":"IF(ПРОВОЛОКА!J101=0,\"\",ПРОВОЛОКА!J101)","v":""},{"$f":"IF(ПРОВОЛОКА!J101=0,\"\",ПРОВОЛОКА!K101)","v":""},{"$f":"IF(ПРОВОЛОКА!J101=0,\"\",ПРОВОЛОКА!O101)","v":""},{"$f":"IF(ПРОВОЛОКА!J101=0,\"\",ПРОВОЛОКА!S101)","v":""}]
[{"$f":"IF(ПРОВОЛОКА!J102=0,\"z\",IF(ПРОВОЛОКА!J102=\"\",ПРОВОЛОКА!A102,IF(ПРОВОЛОКА!B102<>\"\",\"2Д/гиб\",ПРОВОЛОКА!A102)))","v":"z"},{"$f":"IF(ПРОВОЛОКА!J102=0,\"\",\"Проволока\")","v":""},{"$f":"IF(ПРОВОЛОКА!J102=0,\"\",CONCATENATE(ПРОВОЛОКА!C102,ПРОВОЛОКА!D102))","v":""},{"$f":"IF(ПРОВОЛОКА!J102=0,\"\",ПРОВОЛОКА!F102)","v":""},{"$f":"IF(ПРОВОЛОКА!J102=0,\"\",ПРОВОЛОКА!J102)","v":""},{"$f":"IF(ПРОВОЛОКА!J102=0,\"\",ПРОВОЛОКА!K102)","v":""},{"$f":"IF(ПРОВОЛОКА!J102=0,\"\",ПРОВОЛОКА!O102)","v":""},{"$f":"IF(ПРОВОЛОКА!J102=0,\"\",ПРОВОЛОКА!S102)","v":""}]
[{"$f":"IF(ПРОВОЛОКА!J103=0,\"z\",IF(ПРОВОЛОКА!J103=\"\",ПРОВОЛОКА!A103,IF(ПРОВОЛОКА!B103<>\"\",\"2Д/гиб\",ПРОВОЛОКА!A103)))","v":"z"},{"$f":"IF(ПРОВОЛОКА!J103=0,\"\",\"Проволока\")","v":""},{"$f":"IF(ПРОВОЛОКА!J103=0,\"\",CONCATENATE(ПРОВОЛОКА!C103,ПРОВОЛОКА!D103))","v":""},{"$f":"IF(ПРОВОЛОКА!J103=0,\"\",ПРОВОЛОКА!F103)","v":""},{"$f":"IF(ПРОВОЛОКА!J103=0,\"\",ПРОВОЛОКА!J103)","v":""},{"$f":"IF(ПРОВОЛОКА!J103=0,\"\",ПРОВОЛОКА!K103)","v":""},{"$f":"IF(ПРОВОЛОКА!J103=0,\"\",ПРОВОЛОКА!O103)","v":""},{"$f":"IF(ПРОВОЛОКА!J103=0,\"\",ПРОВОЛОКА!S103)","v":""}]
[{"$f":"IF(ПРОВОЛОКА!J104=0,\"z\",IF(ПРОВОЛОКА!J104=\"\",ПРОВОЛОКА!A104,IF(ПРОВОЛОКА!B104<>\"\",\"2Д/гиб\",ПРОВОЛОКА!A104)))","v":"z"},{"$f":"IF(ПРОВОЛОКА!J104=0,\"\",\"Проволока\")","v":""},{"$f":"IF(ПРОВОЛОКА!J104=0,\"\",CONCATENATE(ПРОВОЛОКА!C104,ПРОВОЛОКА!D104))","v":""},{"$f":"IF(ПРОВОЛОКА!J104=0,\"\",ПРОВОЛОКА!F104)","v":""},{"$f":"IF(ПРОВОЛОКА!J104=0,\"\",ПРОВОЛОКА!J104)","v":""},{"$f":"IF(ПРОВОЛОКА!J104=0,\"\",ПРОВОЛОКА!K104)","v":""},{"$f":"IF(ПРОВОЛОКА!J104=0,\"\",ПРОВОЛОКА!O104)","v":""},{"$f":"IF(ПРОВОЛОКА!J104=0,\"\",ПРОВОЛОКА!S104)","v":""}]
[{"$f":"IF(ПРОВОЛОКА!J105=0,\"z\",IF(ПРОВОЛОКА!J105=\"\",ПРОВОЛОКА!A105,IF(ПРОВОЛОКА!B105<>\"\",\"2Д/гиб\",ПРОВОЛОКА!A105)))","v":"z"},{"$f":"IF(ПРОВОЛОКА!J105=0,\"\",\"Проволока\")","v":""},{"$f":"IF(ПРОВОЛОКА!J105=0,\"\",CONCATENATE(ПРОВОЛОКА!C105,ПРОВОЛОКА!D105))","v":""},{"$f":"IF(ПРОВОЛОКА!J105=0,\"\",ПРОВОЛОКА!F105)","v":""},{"$f":"IF(ПРОВОЛОКА!J105=0,\"\",ПРОВОЛОКА!J105)","v":""},{"$f":"IF(ПРОВОЛОКА!J105=0,\"\",ПРОВОЛОКА!K105)","v":""},{"$f":"IF(ПРОВОЛОКА!J105=0,\"\",ПРОВОЛОКА!O105)","v":""},{"$f":"IF(ПРОВОЛОКА!J105=0,\"\",ПРОВОЛОКА!S105)","v":""}]
[{"$f":"IF(ПРОВОЛОКА!J106=0,\"z\",IF(ПРОВОЛОКА!J106=\"\",ПРОВОЛОКА!A106,IF(ПРОВОЛОКА!B106<>\"\",\"2Д/гиб\",ПРОВОЛОКА!A106)))","v":"z"},{"$f":"IF(ПРОВОЛОКА!J106=0,\"\",\"Проволока\")","v":""},{"$f":"IF(ПРОВОЛОКА!J106=0,\"\",CONCATENATE(ПРОВОЛОКА!C106,ПРОВОЛОКА!D106))","v":""},{"$f":"IF(ПРОВОЛОКА!J106=0,\"\",ПРОВОЛОКА!F106)","v":""},{"$f":"IF(ПРОВОЛОКА!J106=0,\"\",ПРОВОЛОКА!J106)","v":""},{"$f":"IF(ПРОВОЛОКА!J106=0,\"\",ПРОВОЛОКА!K106)","v":""},{"$f":"IF(ПРОВОЛОКА!J106=0,\"\",ПРОВОЛОКА!O106)","v":""},{"$f":"IF(ПРОВОЛОКА!J106=0,\"\",ПРОВОЛОКА!S106)","v":""}]
[{"$f":"IF(ПРОВОЛОКА!J107=0,\"z\",IF(ПРОВОЛОКА!J107=\"\",ПРОВОЛОКА!A107,IF(ПРОВОЛОКА!B107<>\"\",\"2Д/гиб\",ПРОВОЛОКА!A107)))","v":"z"},{"$f":"IF(ПРОВОЛОКА!J107=0,\"\",\"Проволока\")","v":""},{"$f":"IF(ПРОВОЛОКА!J107=0,\"\",CONCATENATE(ПРОВОЛОКА!C107,ПРОВОЛОКА!D107))","v":""},{"$f":"IF(ПРОВОЛОКА!J107=0,\"\",ПРОВОЛОКА!F107)","v":""},{"$f":"IF(ПРОВОЛОКА!J107=0,\"\",ПРОВОЛОКА!J107)","v":""},{"$f":"IF(ПРОВОЛОКА!J107=0,\"\",ПРОВОЛОКА!K107)","v":""},{"$f":"IF(ПРОВОЛОКА!J107=0,\"\",ПРОВОЛОКА!O107)","v":""},{"$f":"IF(ПРОВОЛОКА!J107=0,\"\",ПРОВОЛОКА!S107)","v":""}]
[{"$f":"IF(ПРОВОЛОКА!J108=0,\"z\",IF(ПРОВОЛОКА!J108=\"\",ПРОВОЛОКА!A108,IF(ПРОВОЛОКА!B108<>\"\",\"2Д/гиб\",ПРОВОЛОКА!A108)))","v":"z"},{"$f":"IF(ПРОВОЛОКА!J108=0,\"\",\"Проволока\")","v":""},{"$f":"IF(ПРОВОЛОКА!J108=0,\"\",CONCATENATE(ПРОВОЛОКА!C108,ПРОВОЛОКА!D108))","v":""},{"$f":"IF(ПРОВОЛОКА!J108=0,\"\",ПРОВОЛОКА!F108)","v":""},{"$f":"IF(ПРОВОЛОКА!J108=0,\"\",ПРОВОЛОКА!J108)","v":""},{"$f":"IF(ПРОВОЛОКА!J108=0,\"\",ПРОВОЛОКА!K108)","v":""},{"$f":"IF(ПРОВОЛОКА!J108=0,\"\",ПРОВОЛОКА!O108)","v":""},{"$f":"IF(ПРОВОЛОКА!J108=0,\"\",ПРОВОЛОКА!S108)","v":""}]
[{"$f":"IF(ПРОВОЛОКА!J109=0,\"z\",IF(ПРОВОЛОКА!J109=\"\",ПРОВОЛОКА!A109,IF(ПРОВОЛОКА!B109<>\"\",\"2Д/гиб\",ПРОВОЛОКА!A109)))","v":"z"},{"$f":"IF(ПРОВОЛОКА!J109=0,\"\",\"Проволока\")","v":""},{"$f":"IF(ПРОВОЛОКА!J109=0,\"\",CONCATENATE(ПРОВОЛОКА!C109,ПРОВОЛОКА!D109))","v":""},{"$f":"IF(ПРОВОЛОКА!J109=0,\"\",ПРОВОЛОКА!F109)","v":""},{"$f":"IF(ПРОВОЛОКА!J109=0,\"\",ПРОВОЛОКА!J109)","v":""},{"$f":"IF(ПРОВОЛОКА!J109=0,\"\",ПРОВОЛОКА!K109)","v":""},{"$f":"IF(ПРОВОЛОКА!J109=0,\"\",ПРОВОЛОКА!O109)","v":""},{"$f":"IF(ПРОВОЛОКА!J109=0,\"\",ПРОВОЛОКА!S109)","v":""}]
[{"$f":"IF(ПРОВОЛОКА!J110=0,\"z\",IF(ПРОВОЛОКА!J110=\"\",ПРОВОЛОКА!A110,IF(ПРОВОЛОКА!B110<>\"\",\"2Д/гиб\",ПРОВОЛОКА!A110)))","v":"z"},{"$f":"IF(ПРОВОЛОКА!J110=0,\"\",\"Проволока\")","v":""},{"$f":"IF(ПРОВОЛОКА!J110=0,\"\",CONCATENATE(ПРОВОЛОКА!C110,ПРОВОЛОКА!D110))","v":""},{"$f":"IF(ПРОВОЛОКА!J110=0,\"\",ПРОВОЛОКА!F110)","v":""},{"$f":"IF(ПРОВОЛОКА!J110=0,\"\",ПРОВОЛОКА!J110)","v":""},{"$f":"IF(ПРОВОЛОКА!J110=0,\"\",ПРОВОЛОКА!K110)","v":""},{"$f":"IF(ПРОВОЛОКА!J110=0,\"\",ПРОВОЛОКА!O110)","v":""},{"$f":"IF(ПРОВОЛОКА!J110=0,\"\",ПРОВОЛОКА!S110)","v":""}]
[{"$f":"IF(ПРОВОЛОКА!J111=0,\"z\",IF(ПРОВОЛОКА!J111=\"\",ПРОВОЛОКА!A111,IF(ПРОВОЛОКА!B111<>\"\",\"2Д/гиб\",ПРОВОЛОКА!A111)))","v":"z"},{"$f":"IF(ПРОВОЛОКА!J111=0,\"\",\"Проволока\")","v":""},{"$f":"IF(ПРОВОЛОКА!J111=0,\"\",CONCATENATE(ПРОВОЛОКА!C111,ПРОВОЛОКА!D111))","v":""},{"$f":"IF(ПРОВОЛОКА!J111=0,\"\",ПРОВОЛОКА!F111)","v":""},{"$f":"IF(ПРОВОЛОКА!J111=0,\"\",ПРОВОЛОКА!J111)","v":""},{"$f":"IF(ПРОВОЛОКА!J111=0,\"\",ПРОВОЛОКА!K111)","v":""},{"$f":"IF(ПРОВОЛОКА!J111=0,\"\",ПРОВОЛОКА!O111)","v":""},{"$f":"IF(ПРОВОЛОКА!J111=0,\"\",ПРОВОЛОКА!S111)","v":""}]
[{"$f":"IF(ПРОВОЛОКА!J112=0,\"z\",IF(ПРОВОЛОКА!J112=\"\",ПРОВОЛОКА!A112,IF(ПРОВОЛОКА!B112<>\"\",\"2Д/гиб\",ПРОВОЛОКА!A112)))","v":"z"},{"$f":"IF(ПРОВОЛОКА!J112=0,\"\",\"Проволока\")","v":""},{"$f":"IF(ПРОВОЛОКА!J112=0,\"\",CONCATENATE(ПРОВОЛОКА!C112,ПРОВОЛОКА!D112))","v":""},{"$f":"IF(ПРОВОЛОКА!J112=0,\"\",ПРОВОЛОКА!F112)","v":""},{"$f":"IF(ПРОВОЛОКА!J112=0,\"\",ПРОВОЛОКА!J112)","v":""},{"$f":"IF(ПРОВОЛОКА!J112=0,\"\",ПРОВОЛОКА!K112)","v":""},{"$f":"IF(ПРОВОЛОКА!J112=0,\"\",ПРОВОЛОКА!O112)","v":""},{"$f":"IF(ПРОВОЛОКА!J112=0,\"\",ПРОВОЛОКА!S112)","v":""}]
[{"$f":"IF(ПРОВОЛОКА!J113=0,\"z\",IF(ПРОВОЛОКА!J113=\"\",ПРОВОЛОКА!A113,IF(ПРОВОЛОКА!B113<>\"\",\"2Д/гиб\",ПРОВОЛОКА!A113)))","v":"z"},{"$f":"IF(ПРОВОЛОКА!J113=0,\"\",\"Проволока\")","v":""},{"$f":"IF(ПРОВОЛОКА!J113=0,\"\",CONCATENATE(ПРОВОЛОКА!C113,ПРОВОЛОКА!D113))","v":""},{"$f":"IF(ПРОВОЛОКА!J113=0,\"\",ПРОВОЛОКА!F113)","v":""},{"$f":"IF(ПРОВОЛОКА!J113=0,\"\",ПРОВОЛОКА!J113)","v":""},{"$f":"IF(ПРОВОЛОКА!J113=0,\"\",ПРОВОЛОКА!K113)","v":""},{"$f":"IF(ПРОВОЛОКА!J113=0,\"\",ПРОВОЛОКА!O113)","v":""},{"$f":"IF(ПРОВОЛОКА!J113=0,\"\",ПРОВОЛОКА!S113)","v":""}]
[{"$f":"IF(ПРОВОЛОКА!J114=0,\"z\",IF(ПРОВОЛОКА!J114=\"\",ПРОВОЛОКА!A114,IF(ПРОВОЛОКА!B114<>\"\",\"2Д/гиб\",ПРОВОЛОКА!A114)))","v":"z"},{"$f":"IF(ПРОВОЛОКА!J114=0,\"\",\"Проволока\")","v":""},{"$f":"IF(ПРОВОЛОКА!J114=0,\"\",CONCATENATE(ПРОВОЛОКА!C114,ПРОВОЛОКА!D114))","v":""},{"$f":"IF(ПРОВОЛОКА!J114=0,\"\",ПРОВОЛОКА!F114)","v":""},{"$f":"IF(ПРОВОЛОКА!J114=0,\"\",ПРОВОЛОКА!J114)","v":""},{"$f":"IF(ПРОВОЛОКА!J114=0,\"\",ПРОВОЛОКА!K114)","v":""},{"$f":"IF(ПРОВОЛОКА!J114=0,\"\",ПРОВОЛОКА!O114)","v":""},{"$f":"IF(ПРОВОЛОКА!J114=0,\"\",ПРОВОЛОКА!S114)","v":""}]
[{"$f":"IF(ПРОВОЛОКА!J115=0,\"z\",IF(ПРОВОЛОКА!J115=\"\",ПРОВОЛОКА!A115,IF(ПРОВОЛОКА!B115<>\"\",\"2Д/гиб\",ПРОВОЛОКА!A115)))","v":"z"},{"$f":"IF(ПРОВОЛОКА!J115=0,\"\",\"Проволока\")","v":""},{"$f":"IF(ПРОВОЛОКА!J115=0,\"\",CONCATENATE(ПРОВОЛОКА!C115,ПРОВОЛОКА!D115))","v":""},{"$f":"IF(ПРОВОЛОКА!J115=0,\"\",ПРОВОЛОКА!F115)","v":""},{"$f":"IF(ПРОВОЛОКА!J115=0,\"\",ПРОВОЛОКА!J115)","v":""},{"$f":"IF(ПРОВОЛОКА!J115=0,\"\",ПРОВОЛОКА!K115)","v":""},{"$f":"IF(ПРОВОЛОКА!J115=0,\"\",ПРОВОЛОКА!O115)","v":""},{"$f":"IF(ПРОВОЛОКА!J115=0,\"\",ПРОВОЛОКА!S115)","v":""}]
[{"$f":"IF(ПРОВОЛОКА!J116=0,\"z\",IF(ПРОВОЛОКА!J116=\"\",ПРОВОЛОКА!A116,IF(ПРОВОЛОКА!B116<>\"\",\"2Д/гиб\",ПРОВОЛОКА!A116)))","v":"z"},{"$f":"IF(ПРОВОЛОКА!J116=0,\"\",\"Проволока\")","v":""},{"$f":"IF(ПРОВОЛОКА!J116=0,\"\",CONCATENATE(ПРОВОЛОКА!C116,ПРОВОЛОКА!D116))","v":""},{"$f":"IF(ПРОВОЛОКА!J116=0,\"\",ПРОВОЛОКА!F116)","v":""},{"$f":"IF(ПРОВОЛОКА!J116=0,\"\",ПРОВОЛОКА!J116)","v":""},{"$f":"IF(ПРОВОЛОКА!J116=0,\"\",ПРОВОЛОКА!K116)","v":""},{"$f":"IF(ПРОВОЛОКА!J116=0,\"\",ПРОВОЛОКА!O116)","v":""},{"$f":"IF(ПРОВОЛОКА!J116=0,\"\",ПРОВОЛОКА!S116)","v":""}]
[{"$f":"IF(ПРОВОЛОКА!J117=0,\"z\",IF(ПРОВОЛОКА!J117=\"\",ПРОВОЛОКА!A117,IF(ПРОВОЛОКА!B117<>\"\",\"2Д/гиб\",ПРОВОЛОКА!A117)))","v":"z"},{"$f":"IF(ПРОВОЛОКА!J117=0,\"\",\"Проволока\")","v":""},{"$f":"IF(ПРОВОЛОКА!J117=0,\"\",CONCATENATE(ПРОВОЛОКА!C117,ПРОВОЛОКА!D117))","v":""},{"$f":"IF(ПРОВОЛОКА!J117=0,\"\",ПРОВОЛОКА!F117)","v":""},{"$f":"IF(ПРОВОЛОКА!J117=0,\"\",ПРОВОЛОКА!J117)","v":""},{"$f":"IF(ПРОВОЛОКА!J117=0,\"\",ПРОВОЛОКА!K117)","v":""},{"$f":"IF(ПРОВОЛОКА!J117=0,\"\",ПРОВОЛОКА!O117)","v":""},{"$f":"IF(ПРОВОЛОКА!J117=0,\"\",ПРОВОЛОКА!S117)","v":""}]
[{"$f":"IF(ПРОВОЛОКА!J118=0,\"z\",IF(ПРОВОЛОКА!J118=\"\",ПРОВОЛОКА!A118,IF(ПРОВОЛОКА!B118<>\"\",\"2Д/гиб\",ПРОВОЛОКА!A118)))","v":"z"},{"$f":"IF(ПРОВОЛОКА!J118=0,\"\",\"Проволока\")","v":""},{"$f":"IF(ПРОВОЛОКА!J118=0,\"\",CONCATENATE(ПРОВОЛОКА!C118,ПРОВОЛОКА!D118))","v":""},{"$f":"IF(ПРОВОЛОКА!J118=0,\"\",ПРОВОЛОКА!F118)","v":""},{"$f":"IF(ПРОВОЛОКА!J118=0,\"\",ПРОВОЛОКА!J118)","v":""},{"$f":"IF(ПРОВОЛОКА!J118=0,\"\",ПРОВОЛОКА!K118)","v":""},{"$f":"IF(ПРОВОЛОКА!J118=0,\"\",ПРОВОЛОКА!O118)","v":""},{"$f":"IF(ПРОВОЛОКА!J118=0,\"\",ПРОВОЛОКА!S118)","v":""}]
[{"$f":"IF(ПРОВОЛОКА!J119=0,\"z\",IF(ПРОВОЛОКА!J119=\"\",ПРОВОЛОКА!A119,IF(ПРОВОЛОКА!B119<>\"\",\"2Д/гиб\",ПРОВОЛОКА!A119)))","v":"z"},{"$f":"IF(ПРОВОЛОКА!J119=0,\"\",\"Проволока\")","v":""},{"$f":"IF(ПРОВОЛОКА!J119=0,\"\",CONCATENATE(ПРОВОЛОКА!C119,ПРОВОЛОКА!D119))","v":""},{"$f":"IF(ПРОВОЛОКА!J119=0,\"\",ПРОВОЛОКА!F119)","v":""},{"$f":"IF(ПРОВОЛОКА!J119=0,\"\",ПРОВОЛОКА!J119)","v":""},{"$f":"IF(ПРОВОЛОКА!J119=0,\"\",ПРОВОЛОКА!K119)","v":""},{"$f":"IF(ПРОВОЛОКА!J119=0,\"\",ПРОВОЛОКА!O119)","v":""},{"$f":"IF(ПРОВОЛОКА!J119=0,\"\",ПРОВОЛОКА!S119)","v":""}]
[{"$f":"IF(ПРОВОЛОКА!J120=0,\"z\",IF(ПРОВОЛОКА!J120=\"\",ПРОВОЛОКА!A120,IF(ПРОВОЛОКА!B120<>\"\",\"2Д/гиб\",ПРОВОЛОКА!A120)))","v":"z"},{"$f":"IF(ПРОВОЛОКА!J120=0,\"\",\"Проволока\")","v":""},{"$f":"IF(ПРОВОЛОКА!J120=0,\"\",CONCATENATE(ПРОВОЛОКА!C120,ПРОВОЛОКА!D120))","v":""},{"$f":"IF(ПРОВОЛОКА!J120=0,\"\",ПРОВОЛОКА!F120)","v":""},{"$f":"IF(ПРОВОЛОКА!J120=0,\"\",ПРОВОЛОКА!J120)","v":""},{"$f":"IF(ПРОВОЛОКА!J120=0,\"\",ПРОВОЛОКА!K120)","v":""},{"$f":"IF(ПРОВОЛОКА!J120=0,\"\",ПРОВОЛОКА!O120)","v":""},{"$f":"IF(ПРОВОЛОКА!J120=0,\"\",ПРОВОЛОКА!S120)","v":""}]
[{"$f":"IF(ПРОВОЛОКА!J121=0,\"z\",IF(ПРОВОЛОКА!J121=\"\",ПРОВОЛОКА!A121,IF(ПРОВОЛОКА!B121<>\"\",\"2Д/гиб\",ПРОВОЛОКА!A121)))","v":"z"},{"$f":"IF(ПРОВОЛОКА!J121=0,\"\",\"Проволока\")","v":""},{"$f":"IF(ПРОВОЛОКА!J121=0,\"\",CONCATENATE(ПРОВОЛОКА!C121,ПРОВОЛОКА!D121))","v":""},{"$f":"IF(ПРОВОЛОКА!J121=0,\"\",ПРОВОЛОКА!F121)","v":""},{"$f":"IF(ПРОВОЛОКА!J121=0,\"\",ПРОВОЛОКА!J121)","v":""},{"$f":"IF(ПРОВОЛОКА!J121=0,\"\",ПРОВОЛОКА!K121)","v":""},{"$f":"IF(ПРОВОЛОКА!J121=0,\"\",ПРОВОЛОКА!O121)","v":""},{"$f":"IF(ПРОВОЛОКА!J121=0,\"\",ПРОВОЛОКА!S121)","v":""}]
[{"$f":"IF(ПРОВОЛОКА!J122=0,\"z\",IF(ПРОВОЛОКА!J122=\"\",ПРОВОЛОКА!A122,IF(ПРОВОЛОКА!B122<>\"\",\"2Д/гиб\",ПРОВОЛОКА!A122)))","v":"z"},{"$f":"IF(ПРОВОЛОКА!J122=0,\"\",\"Проволока\")","v":""},{"$f":"IF(ПРОВОЛОКА!J122=0,\"\",CONCATENATE(ПРОВОЛОКА!C122,ПРОВОЛОКА!D122))","v":""},{"$f":"IF(ПРОВОЛОКА!J122=0,\"\",ПРОВОЛОКА!F122)","v":""},{"$f":"IF(ПРОВОЛОКА!J122=0,\"\",ПРОВОЛОКА!J122)","v":""},{"$f":"IF(ПРОВОЛОКА!J122=0,\"\",ПРОВОЛОКА!K122)","v":""},{"$f":"IF(ПРОВОЛОКА!J122=0,\"\",ПРОВОЛОКА!O122)","v":""},{"$f":"IF(ПРОВОЛОКА!J122=0,\"\",ПРОВОЛОКА!S122)","v":""}]
[{"$f":"IF(ПРОВОЛОКА!J123=0,\"z\",IF(ПРОВОЛОКА!J123=\"\",ПРОВОЛОКА!A123,IF(ПРОВОЛОКА!B123<>\"\",\"2Д/гиб\",ПРОВОЛОКА!A123)))","v":"z"},{"$f":"IF(ПРОВОЛОКА!J123=0,\"\",\"Проволока\")","v":""},{"$f":"IF(ПРОВОЛОКА!J123=0,\"\",CONCATENATE(ПРОВОЛОКА!C123,ПРОВОЛОКА!D123))","v":""},{"$f":"IF(ПРОВОЛОКА!J123=0,\"\",ПРОВОЛОКА!F123)","v":""},{"$f":"IF(ПРОВОЛОКА!J123=0,\"\",ПРОВОЛОКА!J123)","v":""},{"$f":"IF(ПРОВОЛОКА!J123=0,\"\",ПРОВОЛОКА!K123)","v":""},{"$f":"IF(ПРОВОЛОКА!J123=0,\"\",ПРОВОЛОКА!O123)","v":""},{"$f":"IF(ПРОВОЛОКА!J123=0,\"\",ПРОВОЛОКА!S123)","v":""}]
[{"$f":"IF(ПРОВОЛОКА!J124=0,\"z\",IF(ПРОВОЛОКА!J124=\"\",ПРОВОЛОКА!A124,IF(ПРОВОЛОКА!B124<>\"\",\"2Д/гиб\",ПРОВОЛОКА!A124)))","v":"z"},{"$f":"IF(ПРОВОЛОКА!J124=0,\"\",\"Проволока\")","v":""},{"$f":"IF(ПРОВОЛОКА!J124=0,\"\",CONCATENATE(ПРОВОЛОКА!C124,ПРОВОЛОКА!D124))","v":""},{"$f":"IF(ПРОВОЛОКА!J124=0,\"\",ПРОВОЛОКА!F124)","v":""},{"$f":"IF(ПРОВОЛОКА!J124=0,\"\",ПРОВОЛОКА!J124)","v":""},{"$f":"IF(ПРОВОЛОКА!J124=0,\"\",ПРОВОЛОКА!K124)","v":""},{"$f":"IF(ПРОВОЛОКА!J124=0,\"\",ПРОВОЛОКА!O124)","v":""},{"$f":"IF(ПРОВОЛОКА!J124=0,\"\",ПРОВОЛОКА!S124)","v":""}]
[{"$f":"IF(ПРОВОЛОКА!J125=0,\"z\",IF(ПРОВОЛОКА!J125=\"\",ПРОВОЛОКА!A125,IF(ПРОВОЛОКА!B125<>\"\",\"2Д/гиб\",ПРОВОЛОКА!A125)))","v":"z"},{"$f":"IF(ПРОВОЛОКА!J125=0,\"\",\"Проволока\")","v":""},{"$f":"IF(ПРОВОЛОКА!J125=0,\"\",CONCATENATE(ПРОВОЛОКА!C125,ПРОВОЛОКА!D125))","v":""},{"$f":"IF(ПРОВОЛОКА!J125=0,\"\",ПРОВОЛОКА!F125)","v":""},{"$f":"IF(ПРОВОЛОКА!J125=0,\"\",ПРОВОЛОКА!J125)","v":""},{"$f":"IF(ПРОВОЛОКА!J125=0,\"\",ПРОВОЛОКА!K125)","v":""},{"$f":"IF(ПРОВОЛОКА!J125=0,\"\",ПРОВОЛОКА!O125)","v":""},{"$f":"IF(ПРОВОЛОКА!J125=0,\"\",ПРОВОЛОКА!S125)","v":""}]
[{"$f":"IF(ПРОВОЛОКА!J126=0,\"z\",IF(ПРОВОЛОКА!J126=\"\",ПРОВОЛОКА!A126,IF(ПРОВОЛОКА!B126<>\"\",\"2Д/гиб\",ПРОВОЛОКА!A126)))","v":"z"},{"$f":"IF(ПРОВОЛОКА!J126=0,\"\",\"Проволока\")","v":""},{"$f":"IF(ПРОВОЛОКА!J126=0,\"\",CONCATENATE(ПРОВОЛОКА!C126,ПРОВОЛОКА!D126))","v":""},{"$f":"IF(ПРОВОЛОКА!J126=0,\"\",ПРОВОЛОКА!F126)","v":""},{"$f":"IF(ПРОВОЛОКА!J126=0,\"\",ПРОВОЛОКА!J126)","v":""},{"$f":"IF(ПРОВОЛОКА!J126=0,\"\",ПРОВОЛОКА!K126)","v":""},{"$f":"IF(ПРОВОЛОКА!J126=0,\"\",ПРОВОЛОКА!O126)","v":""},{"$f":"IF(ПРОВОЛОКА!J126=0,\"\",ПРОВОЛОКА!S126)","v":""}]
[{"$f":"IF(ПРОВОЛОКА!J127=0,\"z\",IF(ПРОВОЛОКА!J127=\"\",ПРОВОЛОКА!A127,IF(ПРОВОЛОКА!B127<>\"\",\"2Д/гиб\",ПРОВОЛОКА!A127)))","v":"z"},{"$f":"IF(ПРОВОЛОКА!J127=0,\"\",\"Проволока\")","v":""},{"$f":"IF(ПРОВОЛОКА!J127=0,\"\",CONCATENATE(ПРОВОЛОКА!C127,ПРОВОЛОКА!D127))","v":""},{"$f":"IF(ПРОВОЛОКА!J127=0,\"\",ПРОВОЛОКА!F127)","v":""},{"$f":"IF(ПРОВОЛОКА!J127=0,\"\",ПРОВОЛОКА!J127)","v":""},{"$f":"IF(ПРОВОЛОКА!J127=0,\"\",ПРОВОЛОКА!K127)","v":""},{"$f":"IF(ПРОВОЛОКА!J127=0,\"\",ПРОВОЛОКА!O127)","v":""},{"$f":"IF(ПРОВОЛОКА!J127=0,\"\",ПРОВОЛОКА!S127)","v":""}]
[{"$f":"IF(ПРОВОЛОКА!J128=0,\"z\",IF(ПРОВОЛОКА!J128=\"\",ПРОВОЛОКА!A128,IF(ПРОВОЛОКА!B128<>\"\",\"2Д/гиб\",ПРОВОЛОКА!A128)))","v":"z"},{"$f":"IF(ПРОВОЛОКА!J128=0,\"\",\"Проволока\")","v":""},{"$f":"IF(ПРОВОЛОКА!J128=0,\"\",CONCATENATE(ПРОВОЛОКА!C128,ПРОВОЛОКА!D128))","v":""},{"$f":"IF(ПРОВОЛОКА!J128=0,\"\",ПРОВОЛОКА!F128)","v":""},{"$f":"IF(ПРОВОЛОКА!J128=0,\"\",ПРОВОЛОКА!J128)","v":""},{"$f":"IF(ПРОВОЛОКА!J128=0,\"\",ПРОВОЛОКА!K128)","v":""},{"$f":"IF(ПРОВОЛОКА!J128=0,\"\",ПРОВОЛОКА!O128)","v":""},{"$f":"IF(ПРОВОЛОКА!J128=0,\"\",ПРОВОЛОКА!S128)","v":""}]
[{"$f":"IF(ПРОВОЛОКА!J129=0,\"z\",IF(ПРОВОЛОКА!J129=\"\",ПРОВОЛОКА!A129,IF(ПРОВОЛОКА!B129<>\"\",\"2Д/гиб\",ПРОВОЛОКА!A129)))","v":"z"},{"$f":"IF(ПРОВОЛОКА!J129=0,\"\",\"Проволока\")","v":""},{"$f":"IF(ПРОВОЛОКА!J129=0,\"\",CONCATENATE(ПРОВОЛОКА!C129,ПРОВОЛОКА!D129))","v":""},{"$f":"IF(ПРОВОЛОКА!J129=0,\"\",ПРОВОЛОКА!F129)","v":""},{"$f":"IF(ПРОВОЛОКА!J129=0,\"\",ПРОВОЛОКА!J129)","v":""},{"$f":"IF(ПРОВОЛОКА!J129=0,\"\",ПРОВОЛОКА!K129)","v":""},{"$f":"IF(ПРОВОЛОКА!J129=0,\"\",ПРОВОЛОКА!O129)","v":""},{"$f":"IF(ПРОВОЛОКА!J129=0,\"\",ПРОВОЛОКА!S129)","v":""}]
[{"$f":"IF(ПРОВОЛОКА!J130=0,\"z\",IF(ПРОВОЛОКА!J130=\"\",ПРОВОЛОКА!A130,IF(ПРОВОЛОКА!B130<>\"\",\"2Д/гиб\",ПРОВОЛОКА!A130)))","v":"z"},{"$f":"IF(ПРОВОЛОКА!J130=0,\"\",\"Проволока\")","v":""},{"$f":"IF(ПРОВОЛОКА!J130=0,\"\",CONCATENATE(ПРОВОЛОКА!C130,ПРОВОЛОКА!D130))","v":""},{"$f":"IF(ПРОВОЛОКА!J130=0,\"\",ПРОВОЛОКА!F130)","v":""},{"$f":"IF(ПРОВОЛОКА!J130=0,\"\",ПРОВОЛОКА!J130)","v":""},{"$f":"IF(ПРОВОЛОКА!J130=0,\"\",ПРОВОЛОКА!K130)","v":""},{"$f":"IF(ПРОВОЛОКА!J130=0,\"\",ПРОВОЛОКА!O130)","v":""},{"$f":"IF(ПРОВОЛОКА!J130=0,\"\",ПРОВОЛОКА!S130)","v":""}]
[{"$f":"IF(ПРОВОЛОКА!J131=0,\"z\",IF(ПРОВОЛОКА!J131=\"\",ПРОВОЛОКА!A131,IF(ПРОВОЛОКА!B131<>\"\",\"2Д/гиб\",ПРОВОЛОКА!A131)))","v":"z"},{"$f":"IF(ПРОВОЛОКА!J131=0,\"\",\"Проволока\")","v":""},{"$f":"IF(ПРОВОЛОКА!J131=0,\"\",CONCATENATE(ПРОВОЛОКА!C131,ПРОВОЛОКА!D131))","v":""},{"$f":"IF(ПРОВОЛОКА!J131=0,\"\",ПРОВОЛОКА!F131)","v":""},{"$f":"IF(ПРОВОЛОКА!J131=0,\"\",ПРОВОЛОКА!J131)","v":""},{"$f":"IF(ПРОВОЛОКА!J131=0,\"\",ПРОВОЛОКА!K131)","v":""},{"$f":"IF(ПРОВОЛОКА!J131=0,\"\",ПРОВОЛОКА!O131)","v":""},{"$f":"IF(ПРОВОЛОКА!J131=0,\"\",ПРОВОЛОКА!S131)","v":""}]
[{"$f":"IF(ПРОВОЛОКА!J132=0,\"z\",IF(ПРОВОЛОКА!J132=\"\",ПРОВОЛОКА!A132,IF(ПРОВОЛОКА!B132<>\"\",\"2Д/гиб\",ПРОВОЛОКА!A132)))","v":"z"},{"$f":"IF(ПРОВОЛОКА!J132=0,\"\",\"Проволока\")","v":""},{"$f":"IF(ПРОВОЛОКА!J132=0,\"\",CONCATENATE(ПРОВОЛОКА!C132,ПРОВОЛОКА!D132))","v":""},{"$f":"IF(ПРОВОЛОКА!J132=0,\"\",ПРОВОЛОКА!F132)","v":""},{"$f":"IF(ПРОВОЛОКА!J132=0,\"\",ПРОВОЛОКА!J132)","v":""},{"$f":"IF(ПРОВОЛОКА!J132=0,\"\",ПРОВОЛОКА!K132)","v":""},{"$f":"IF(ПРОВОЛОКА!J132=0,\"\",ПРОВОЛОКА!O132)","v":""},{"$f":"IF(ПРОВОЛОКА!J132=0,\"\",ПРОВОЛОКА!S132)","v":""}]
[{"$f":"IF(ПРОВОЛОКА!J133=0,\"z\",IF(ПРОВОЛОКА!J133=\"\",ПРОВОЛОКА!A133,IF(ПРОВОЛОКА!B133<>\"\",\"2Д/гиб\",ПРОВОЛОКА!A133)))","v":"z"},{"$f":"IF(ПРОВОЛОКА!J133=0,\"\",\"Проволока\")","v":""},{"$f":"IF(ПРОВОЛОКА!J133=0,\"\",CONCATENATE(ПРОВОЛОКА!C133,ПРОВОЛОКА!D133))","v":""},{"$f":"IF(ПРОВОЛОКА!J133=0,\"\",ПРОВОЛОКА!F133)","v":""},{"$f":"IF(ПРОВОЛОКА!J133=0,\"\",ПРОВОЛОКА!J133)","v":""},{"$f":"IF(ПРОВОЛОКА!J133=0,\"\",ПРОВОЛОКА!K133)","v":""},{"$f":"IF(ПРОВОЛОКА!J133=0,\"\",ПРОВОЛОКА!O133)","v":""},{"$f":"IF(ПРОВОЛОКА!J133=0,\"\",ПРОВОЛОКА!S133)","v":""}]
[{"$f":"IF(ПРОВОЛОКА!J135=0,\"z\",IF(ПРОВОЛОКА!J135=\"\",ПРОВОЛОКА!A135,IF(ПРОВОЛОКА!B135<>\"\",\"2Д/гиб\",ПРОВОЛОКА!A135)))","v":"z"},{"$f":"IF(ПРОВОЛОКА!J135=0,\"\",\"Проволока\")","v":""},{"$f":"IF(ПРОВОЛОКА!J135=0,\"\",CONCATENATE(ПРОВОЛОКА!C135,ПРОВОЛОКА!D135))","v":""},{"$f":"IF(ПРОВОЛОКА!J135=0,\"\",ПРОВОЛОКА!F135)","v":""},{"$f":"IF(ПРОВОЛОКА!J135=0,\"\",ПРОВОЛОКА!J135)","v":""},{"$f":"IF(ПРОВОЛОКА!J135=0,\"\",ПРОВОЛОКА!K135)","v":""},{"$f":"IF(ПРОВОЛОКА!J135=0,\"\",ПРОВОЛОКА!O135)","v":""},{"$f":"IF(ПРОВОЛОКА!J135=0,\"\",ПРОВОЛОКА!S135)","v":""}]
[{"$f":"IF(ПРОВОЛОКА!J136=0,\"z\",IF(ПРОВОЛОКА!J136=\"\",ПРОВОЛОКА!A136,IF(ПРОВОЛОКА!B136<>\"\",\"2Д/гиб\",ПРОВОЛОКА!A136)))","v":"z"},{"$f":"IF(ПРОВОЛОКА!J136=0,\"\",\"Проволока\")","v":""},{"$f":"IF(ПРОВОЛОКА!J136=0,\"\",CONCATENATE(ПРОВОЛОКА!C136,ПРОВОЛОКА!D136))","v":""},{"$f":"IF(ПРОВОЛОКА!J136=0,\"\",ПРОВОЛОКА!F136)","v":""},{"$f":"IF(ПРОВОЛОКА!J136=0,\"\",ПРОВОЛОКА!J136)","v":""},{"$f":"IF(ПРОВОЛОКА!J136=0,\"\",ПРОВОЛОКА!K136)","v":""},{"$f":"IF(ПРОВОЛОКА!J136=0,\"\",ПРОВОЛОКА!O136)","v":""},{"$f":"IF(ПРОВОЛОКА!J136=0,\"\",ПРОВОЛОКА!S136)","v":""}]
[{"$f":"IF(ПРОВОЛОКА!J137=0,\"z\",IF(ПРОВОЛОКА!J137=\"\",ПРОВОЛОКА!A137,IF(ПРОВОЛОКА!B137<>\"\",\"2Д/гиб\",ПРОВОЛОКА!A137)))","v":"z"},{"$f":"IF(ПРОВОЛОКА!J137=0,\"\",\"Проволока\")","v":""},{"$f":"IF(ПРОВОЛОКА!J137=0,\"\",CONCATENATE(ПРОВОЛОКА!C137,ПРОВОЛОКА!D137))","v":""},{"$f":"IF(ПРОВОЛОКА!J137=0,\"\",ПРОВОЛОКА!F137)","v":""},{"$f":"IF(ПРОВОЛОКА!J137=0,\"\",ПРОВОЛОКА!J137)","v":""},{"$f":"IF(ПРОВОЛОКА!J137=0,\"\",ПРОВОЛОКА!K137)","v":""},{"$f":"IF(ПРОВОЛОКА!J137=0,\"\",ПРОВОЛОКА!O137)","v":""},{"$f":"IF(ПРОВОЛОКА!J137=0,\"\",ПРОВОЛОКА!S137)","v":""}]
[{"$f":"IF(ПРОВОЛОКА!J138=0,\"z\",IF(ПРОВОЛОКА!J138=\"\",ПРОВОЛОКА!A138,IF(ПРОВОЛОКА!B138<>\"\",\"2Д/гиб\",ПРОВОЛОКА!A138)))","v":"z"},{"$f":"IF(ПРОВОЛОКА!J138=0,\"\",\"Проволока\")","v":""},{"$f":"IF(ПРОВОЛОКА!J138=0,\"\",CONCATENATE(ПРОВОЛОКА!C138,ПРОВОЛОКА!D138))","v":""},{"$f":"IF(ПРОВОЛОКА!J138=0,\"\",ПРОВОЛОКА!F138)","v":""},{"$f":"IF(ПРОВОЛОКА!J138=0,\"\",ПРОВОЛОКА!J138)","v":""},{"$f":"IF(ПРОВОЛОКА!J138=0,\"\",ПРОВОЛОКА!K138)","v":""},{"$f":"IF(ПРОВОЛОКА!J138=0,\"\",ПРОВОЛОКА!O138)","v":""},{"$f":"IF(ПРОВОЛОКА!J138=0,\"\",ПРОВОЛОКА!S138)","v":""}]
[{"$f":"IF(ПРОВОЛОКА!J139=0,\"z\",IF(ПРОВОЛОКА!J139=\"\",ПРОВОЛОКА!A139,IF(ПРОВОЛОКА!B139<>\"\",\"2Д/гиб\",ПРОВОЛОКА!A139)))","v":"z"},{"$f":"IF(ПРОВОЛОКА!J139=0,\"\",\"Проволока\")","v":""},{"$f":"IF(ПРОВОЛОКА!J139=0,\"\",CONCATENATE(ПРОВОЛОКА!C139,ПРОВОЛОКА!D139))","v":""},{"$f":"IF(ПРОВОЛОКА!J139=0,\"\",ПРОВОЛОКА!F139)","v":""},{"$f":"IF(ПРОВОЛОКА!J139=0,\"\",ПРОВОЛОКА!J139)","v":""},{"$f":"IF(ПРОВОЛОКА!J139=0,\"\",ПРОВОЛОКА!K139)","v":""},{"$f":"IF(ПРОВОЛОКА!J139=0,\"\",ПРОВОЛОКА!O139)","v":""},{"$f":"IF(ПРОВОЛОКА!J139=0,\"\",ПРОВОЛОКА!S139)","v":""}]
[{"$f":"IF(ПРОВОЛОКА!J140=0,\"z\",IF(ПРОВОЛОКА!J140=\"\",ПРОВОЛОКА!A140,IF(ПРОВОЛОКА!B140<>\"\",\"2Д/гиб\",ПРОВОЛОКА!A140)))","v":"z"},{"$f":"IF(ПРОВОЛОКА!J140=0,\"\",\"Проволока\")","v":""},{"$f":"IF(ПРОВОЛОКА!J140=0,\"\",CONCATENATE(ПРОВОЛОКА!C140,ПРОВОЛОКА!D140))","v":""},{"$f":"IF(ПРОВОЛОКА!J140=0,\"\",ПРОВОЛОКА!F140)","v":""},{"$f":"IF(ПРОВОЛОКА!J140=0,\"\",ПРОВОЛОКА!J140)","v":""},{"$f":"IF(ПРОВОЛОКА!J140=0,\"\",ПРОВОЛОКА!K140)","v":""},{"$f":"IF(ПРОВОЛОКА!J140=0,\"\",ПРОВОЛОКА!O140)","v":""},{"$f":"IF(ПРОВОЛОКА!J140=0,\"\",ПРОВОЛОКА!S140)","v":""}]
[{"$f":"IF(ПРОВОЛОКА!J141=0,\"z\",IF(ПРОВОЛОКА!J141=\"\",ПРОВОЛОКА!A141,IF(ПРОВОЛОКА!B141<>\"\",\"2Д/гиб\",ПРОВОЛОКА!A141)))","v":"z"},{"$f":"IF(ПРОВОЛОКА!J141=0,\"\",\"Проволока\")","v":""},{"$f":"IF(ПРОВОЛОКА!J141=0,\"\",CONCATENATE(ПРОВОЛОКА!C141,ПРОВОЛОКА!D141))","v":""},{"$f":"IF(ПРОВОЛОКА!J141=0,\"\",ПРОВОЛОКА!F141)","v":""},{"$f":"IF(ПРОВОЛОКА!J141=0,\"\",ПРОВОЛОКА!J141)","v":""},{"$f":"IF(ПРОВОЛОКА!J141=0,\"\",ПРОВОЛОКА!K141)","v":""},{"$f":"IF(ПРОВОЛОКА!J141=0,\"\",ПРОВОЛОКА!O141)","v":""},{"$f":"IF(ПРОВОЛОКА!J141=0,\"\",ПРОВОЛОКА!S141)","v":""}]
[{"$f":"IF(ПРОВОЛОКА!J142=0,\"z\",IF(ПРОВОЛОКА!J142=\"\",ПРОВОЛОКА!A142,IF(ПРОВОЛОКА!B142<>\"\",\"2Д/гиб\",ПРОВОЛОКА!A142)))","v":"z"},{"$f":"IF(ПРОВОЛОКА!J142=0,\"\",\"Проволока\")","v":""},{"$f":"IF(ПРОВОЛОКА!J142=0,\"\",CONCATENATE(ПРОВОЛОКА!C142,ПРОВОЛОКА!D142))","v":""},{"$f":"IF(ПРОВОЛОКА!J142=0,\"\",ПРОВОЛОКА!F142)","v":""},{"$f":"IF(ПРОВОЛОКА!J142=0,\"\",ПРОВОЛОКА!J142)","v":""},{"$f":"IF(ПРОВОЛОКА!J142=0,\"\",ПРОВОЛОКА!K142)","v":""},{"$f":"IF(ПРОВОЛОКА!J142=0,\"\",ПРОВОЛОКА!O142)","v":""},{"$f":"IF(ПРОВОЛОКА!J142=0,\"\",ПРОВОЛОКА!S142)","v":""}]
[{"$f":"IF(ПРОВОЛОКА!J143=0,\"z\",IF(ПРОВОЛОКА!J143=\"\",ПРОВОЛОКА!A143,IF(ПРОВОЛОКА!B143<>\"\",\"2Д/гиб\",ПРОВОЛОКА!A143)))","v":"z"},{"$f":"IF(ПРОВОЛОКА!J143=0,\"\",\"Проволока\")","v":""},{"$f":"IF(ПРОВОЛОКА!J143=0,\"\",CONCATENATE(ПРОВОЛОКА!C143,ПРОВОЛОКА!D143))","v":""},{"$f":"IF(ПРОВОЛОКА!J143=0,\"\",ПРОВОЛОКА!F143)","v":""},{"$f":"IF(ПРОВОЛОКА!J143=0,\"\",ПРОВОЛОКА!J143)","v":""},{"$f":"IF(ПРОВОЛОКА!J143=0,\"\",ПРОВОЛОКА!K143)","v":""},{"$f":"IF(ПРОВОЛОКА!J143=0,\"\",ПРОВОЛОКА!O143)","v":""},{"$f":"IF(ПРОВОЛОКА!J143=0,\"\",ПРОВОЛОКА!S143)","v":""}]
[{"$f":"IF(ПРОВОЛОКА!J144=0,\"z\",IF(ПРОВОЛОКА!J144=\"\",ПРОВОЛОКА!A144,IF(ПРОВОЛОКА!B144<>\"\",\"2Д/гиб\",ПРОВОЛОКА!A144)))","v":"z"},{"$f":"IF(ПРОВОЛОКА!J144=0,\"\",\"Проволока\")","v":""},{"$f":"IF(ПРОВОЛОКА!J144=0,\"\",CONCATENATE(ПРОВОЛОКА!C144,ПРОВОЛОКА!D144))","v":""},{"$f":"IF(ПРОВОЛОКА!J144=0,\"\",ПРОВОЛОКА!F144)","v":""},{"$f":"IF(ПРОВОЛОКА!J144=0,\"\",ПРОВОЛОКА!J144)","v":""},{"$f":"IF(ПРОВОЛОКА!J144=0,\"\",ПРОВОЛОКА!K144)","v":""},{"$f":"IF(ПРОВОЛОКА!J144=0,\"\",ПРОВОЛОКА!O144)","v":""},{"$f":"IF(ПРОВОЛОКА!J144=0,\"\",ПРОВОЛОКА!S144)","v":""}]
[{"$f":"IF(ПРОВОЛОКА!J145=0,\"z\",IF(ПРОВОЛОКА!J145=\"\",ПРОВОЛОКА!A145,IF(ПРОВОЛОКА!B145<>\"\",\"2Д/гиб\",ПРОВОЛОКА!A145)))","v":"z"},{"$f":"IF(ПРОВОЛОКА!J145=0,\"\",\"Проволока\")","v":""},{"$f":"IF(ПРОВОЛОКА!J145=0,\"\",CONCATENATE(ПРОВОЛОКА!C145,ПРОВОЛОКА!D145))","v":""},{"$f":"IF(ПРОВОЛОКА!J145=0,\"\",ПРОВОЛОКА!F145)","v":""},{"$f":"IF(ПРОВОЛОКА!J145=0,\"\",ПРОВОЛОКА!J145)","v":""},{"$f":"IF(ПРОВОЛОКА!J145=0,\"\",ПРОВОЛОКА!K145)","v":""},{"$f":"IF(ПРОВОЛОКА!J145=0,\"\",ПРОВОЛОКА!O145)","v":""},{"$f":"IF(ПРОВОЛОКА!J145=0,\"\",ПРОВОЛОКА!S145)","v":""}]
[{"$f":"IF(ПРОВОЛОКА!J146=0,\"z\",IF(ПРОВОЛОКА!J146=\"\",ПРОВОЛОКА!A146,IF(ПРОВОЛОКА!B146<>\"\",\"2Д/гиб\",ПРОВОЛОКА!A146)))","v":"z"},{"$f":"IF(ПРОВОЛОКА!J146=0,\"\",\"Проволока\")","v":""},{"$f":"IF(ПРОВОЛОКА!J146=0,\"\",CONCATENATE(ПРОВОЛОКА!C146,ПРОВОЛОКА!D146))","v":""},{"$f":"IF(ПРОВОЛОКА!J146=0,\"\",ПРОВОЛОКА!F146)","v":""},{"$f":"IF(ПРОВОЛОКА!J146=0,\"\",ПРОВОЛОКА!J146)","v":""},{"$f":"IF(ПРОВОЛОКА!J146=0,\"\",ПРОВОЛОКА!K146)","v":""},{"$f":"IF(ПРОВОЛОКА!J146=0,\"\",ПРОВОЛОКА!O146)","v":""},{"$f":"IF(ПРОВОЛОКА!J146=0,\"\",ПРОВОЛОКА!S146)","v":""}]
[{"$f":"IF(ПРОВОЛОКА!J147=0,\"z\",IF(ПРОВОЛОКА!J147=\"\",ПРОВОЛОКА!A147,IF(ПРОВОЛОКА!B147<>\"\",\"2Д/гиб\",ПРОВОЛОКА!A147)))","v":"z"},{"$f":"IF(ПРОВОЛОКА!J147=0,\"\",\"Проволока\")","v":""},{"$f":"IF(ПРОВОЛОКА!J147=0,\"\",CONCATENATE(ПРОВОЛОКА!C147,ПРОВОЛОКА!D147))","v":""},{"$f":"IF(ПРОВОЛОКА!J147=0,\"\",ПРОВОЛОКА!F147)","v":""},{"$f":"IF(ПРОВОЛОКА!J147=0,\"\",ПРОВОЛОКА!J147)","v":""},{"$f":"IF(ПРОВОЛОКА!J147=0,\"\",ПРОВОЛОКА!K147)","v":""},{"$f":"IF(ПРОВОЛОКА!J147=0,\"\",ПРОВОЛОКА!O147)","v":""},{"$f":"IF(ПРОВОЛОКА!J147=0,\"\",ПРОВОЛОКА!S147)","v":""}]
[{"$f":"IF(ПРОВОЛОКА!J148=0,\"z\",IF(ПРОВОЛОКА!J148=\"\",ПРОВОЛОКА!A148,IF(ПРОВОЛОКА!B148<>\"\",\"2Д/гиб\",ПРОВОЛОКА!A148)))","v":"z"},{"$f":"IF(ПРОВОЛОКА!J148=0,\"\",\"Проволока\")","v":""},{"$f":"IF(ПРОВОЛОКА!J148=0,\"\",CONCATENATE(ПРОВОЛОКА!C148,ПРОВОЛОКА!D148))","v":""},{"$f":"IF(ПРОВОЛОКА!J148=0,\"\",ПРОВОЛОКА!F148)","v":""},{"$f":"IF(ПРОВОЛОКА!J148=0,\"\",ПРОВОЛОКА!J148)","v":""},{"$f":"IF(ПРОВОЛОКА!J148=0,\"\",ПРОВОЛОКА!K148)","v":""},{"$f":"IF(ПРОВОЛОКА!J148=0,\"\",ПРОВОЛОКА!O148)","v":""},{"$f":"IF(ПРОВОЛОКА!J148=0,\"\",ПРОВОЛОКА!S148)","v":""}]
[{"$f":"IF(ПРОВОЛОКА!J149=0,\"z\",IF(ПРОВОЛОКА!J149=\"\",ПРОВОЛОКА!A149,IF(ПРОВОЛОКА!B149<>\"\",\"2Д/гиб\",ПРОВОЛОКА!A149)))","v":"z"},{"$f":"IF(ПРОВОЛОКА!J149=0,\"\",\"Проволока\")","v":""},{"$f":"IF(ПРОВОЛОКА!J149=0,\"\",CONCATENATE(ПРОВОЛОКА!C149,ПРОВОЛОКА!D149))","v":""},{"$f":"IF(ПРОВОЛОКА!J149=0,\"\",ПРОВОЛОКА!F149)","v":""},{"$f":"IF(ПРОВОЛОКА!J149=0,\"\",ПРОВОЛОКА!J149)","v":""},{"$f":"IF(ПРОВОЛОКА!J149=0,\"\",ПРОВОЛОКА!K149)","v":""},{"$f":"IF(ПРОВОЛОКА!J149=0,\"\",ПРОВОЛОКА!O149)","v":""},{"$f":"IF(ПРОВОЛОКА!J149=0,\"\",ПРОВОЛОКА!S149)","v":""}]
[{"$f":"IF(ПРОВОЛОКА!J150=0,\"z\",IF(ПРОВОЛОКА!J150=\"\",ПРОВОЛОКА!A150,IF(ПРОВОЛОКА!B150<>\"\",\"2Д/гиб\",ПРОВОЛОКА!A150)))","v":"z"},{"$f":"IF(ПРОВОЛОКА!J150=0,\"\",\"Проволока\")","v":""},{"$f":"IF(ПРОВОЛОКА!J150=0,\"\",CONCATENATE(ПРОВОЛОКА!C150,ПРОВОЛОКА!D150))","v":""},{"$f":"IF(ПРОВОЛОКА!J150=0,\"\",ПРОВОЛОКА!F150)","v":""},{"$f":"IF(ПРОВОЛОКА!J150=0,\"\",ПРОВОЛОКА!J150)","v":""},{"$f":"IF(ПРОВОЛОКА!J150=0,\"\",ПРОВОЛОКА!K150)","v":""},{"$f":"IF(ПРОВОЛОКА!J150=0,\"\",ПРОВОЛОКА!O150)","v":""},{"$f":"IF(ПРОВОЛОКА!J150=0,\"\",ПРОВОЛОКА!S150)","v":""}]
[{"$f":"IF(ПРОВОЛОКА!J151=0,\"z\",IF(ПРОВОЛОКА!J151=\"\",ПРОВОЛОКА!A151,IF(ПРОВОЛОКА!B151<>\"\",\"2Д/гиб\",ПРОВОЛОКА!A151)))","v":"z"},{"$f":"IF(ПРОВОЛОКА!J151=0,\"\",\"Проволока\")","v":""},{"$f":"IF(ПРОВОЛОКА!J151=0,\"\",CONCATENATE(ПРОВОЛОКА!C151,ПРОВОЛОКА!D151))","v":""},{"$f":"IF(ПРОВОЛОКА!J151=0,\"\",ПРОВОЛОКА!F151)","v":""},{"$f":"IF(ПРОВОЛОКА!J151=0,\"\",ПРОВОЛОКА!J151)","v":""},{"$f":"IF(ПРОВОЛОКА!J151=0,\"\",ПРОВОЛОКА!K151)","v":""},{"$f":"IF(ПРОВОЛОКА!J151=0,\"\",ПРОВОЛОКА!O151)","v":""},{"$f":"IF(ПРОВОЛОКА!J151=0,\"\",ПРОВОЛОКА!S151)","v":""}]
[{"$f":"IF(ПРОВОЛОКА!J152=0,\"z\",IF(ПРОВОЛОКА!J152=\"\",ПРОВОЛОКА!A152,IF(ПРОВОЛОКА!B152<>\"\",\"2Д/гиб\",ПРОВОЛОКА!A152)))","v":"z"},{"$f":"IF(ПРОВОЛОКА!J152=0,\"\",\"Проволока\")","v":""},{"$f":"IF(ПРОВОЛОКА!J152=0,\"\",CONCATENATE(ПРОВОЛОКА!C152,ПРОВОЛОКА!D152))","v":""},{"$f":"IF(ПРОВОЛОКА!J152=0,\"\",ПРОВОЛОКА!F152)","v":""},{"$f":"IF(ПРОВОЛОКА!J152=0,\"\",ПРОВОЛОКА!J152)","v":""},{"$f":"IF(ПРОВОЛОКА!J152=0,\"\",ПРОВОЛОКА!K152)","v":""},{"$f":"IF(ПРОВОЛОКА!J152=0,\"\",ПРОВОЛОКА!O152)","v":""},{"$f":"IF(ПРОВОЛОКА!J152=0,\"\",ПРОВОЛОКА!S152)","v":""}]
[{"$f":"IF(ПРОВОЛОКА!J153=0,\"z\",IF(ПРОВОЛОКА!J153=\"\",ПРОВОЛОКА!A153,IF(ПРОВОЛОКА!B153<>\"\",\"2Д/гиб\",ПРОВОЛОКА!A153)))","v":"z"},{"$f":"IF(ПРОВОЛОКА!J153=0,\"\",\"Проволока\")","v":""},{"$f":"IF(ПРОВОЛОКА!J153=0,\"\",CONCATENATE(ПРОВОЛОКА!C153,ПРОВОЛОКА!D153))","v":""},{"$f":"IF(ПРОВОЛОКА!J153=0,\"\",ПРОВОЛОКА!F153)","v":""},{"$f":"IF(ПРОВОЛОКА!J153=0,\"\",ПРОВОЛОКА!J153)","v":""},{"$f":"IF(ПРОВОЛОКА!J153=0,\"\",ПРОВОЛОКА!K153)","v":""},{"$f":"IF(ПРОВОЛОКА!J153=0,\"\",ПРОВОЛОКА!O153)","v":""},{"$f":"IF(ПРОВОЛОКА!J153=0,\"\",ПРОВОЛОКА!S153)","v":""}]
[{"$f":"IF(ПРОВОЛОКА!J154=0,\"z\",IF(ПРОВОЛОКА!J154=\"\",ПРОВОЛОКА!A154,IF(ПРОВОЛОКА!B154<>\"\",\"2Д/гиб\",ПРОВОЛОКА!A154)))","v":"z"},{"$f":"IF(ПРОВОЛОКА!J154=0,\"\",\"Проволока\")","v":""},{"$f":"IF(ПРОВОЛОКА!J154=0,\"\",CONCATENATE(ПРОВОЛОКА!C154,ПРОВОЛОКА!D154))","v":""},{"$f":"IF(ПРОВОЛОКА!J154=0,\"\",ПРОВОЛОКА!F154)","v":""},{"$f":"IF(ПРОВОЛОКА!J154=0,\"\",ПРОВОЛОКА!J154)","v":""},{"$f":"IF(ПРОВОЛОКА!J154=0,\"\",ПРОВОЛОКА!K154)","v":""},{"$f":"IF(ПРОВОЛОКА!J154=0,\"\",ПРОВОЛОКА!O154)","v":""},{"$f":"IF(ПРОВОЛОКА!J154=0,\"\",ПРОВОЛОКА!S154)","v":""}]
[{"$f":"IF(ПРОВОЛОКА!J155=0,\"z\",IF(ПРОВОЛОКА!J155=\"\",ПРОВОЛОКА!A155,IF(ПРОВОЛОКА!B155<>\"\",\"2Д/гиб\",ПРОВОЛОКА!A155)))","v":"z"},{"$f":"IF(ПРОВОЛОКА!J155=0,\"\",\"Проволока\")","v":""},{"$f":"IF(ПРОВОЛОКА!J155=0,\"\",CONCATENATE(ПРОВОЛОКА!C155,ПРОВОЛОКА!D155))","v":""},{"$f":"IF(ПРОВОЛОКА!J155=0,\"\",ПРОВОЛОКА!F155)","v":""},{"$f":"IF(ПРОВОЛОКА!J155=0,\"\",ПРОВОЛОКА!J155)","v":""},{"$f":"IF(ПРОВОЛОКА!J155=0,\"\",ПРОВОЛОКА!K155)","v":""},{"$f":"IF(ПРОВОЛОКА!J155=0,\"\",ПРОВОЛОКА!O155)","v":""},{"$f":"IF(ПРОВОЛОКА!J155=0,\"\",ПРОВОЛОКА!S155)","v":""}]
[{"$f":"IF(ПРОВОЛОКА!J156=0,\"z\",IF(ПРОВОЛОКА!J156=\"\",ПРОВОЛОКА!A156,IF(ПРОВОЛОКА!B156<>\"\",\"2Д/гиб\",ПРОВОЛОКА!A156)))","v":"z"},{"$f":"IF(ПРОВОЛОКА!J156=0,\"\",\"Проволока\")","v":""},{"$f":"IF(ПРОВОЛОКА!J156=0,\"\",CONCATENATE(ПРОВОЛОКА!C156,ПРОВОЛОКА!D156))","v":""},{"$f":"IF(ПРОВОЛОКА!J156=0,\"\",ПРОВОЛОКА!F156)","v":""},{"$f":"IF(ПРОВОЛОКА!J156=0,\"\",ПРОВОЛОКА!J156)","v":""},{"$f":"IF(ПРОВОЛОКА!J156=0,\"\",ПРОВОЛОКА!K156)","v":""},{"$f":"IF(ПРОВОЛОКА!J156=0,\"\",ПРОВОЛОКА!O156)","v":""},{"$f":"IF(ПРОВОЛОКА!J156=0,\"\",ПРОВОЛОКА!S156)","v":""}]
[{"$f":"IF(ПРОВОЛОКА!J157=0,\"z\",IF(ПРОВОЛОКА!J157=\"\",ПРОВОЛОКА!A157,IF(ПРОВОЛОКА!B157<>\"\",\"2Д/гиб\",ПРОВОЛОКА!A157)))","v":"z"},{"$f":"IF(ПРОВОЛОКА!J157=0,\"\",\"Проволока\")","v":""},{"$f":"IF(ПРОВОЛОКА!J157=0,\"\",CONCATENATE(ПРОВОЛОКА!C157,ПРОВОЛОКА!D157))","v":""},{"$f":"IF(ПРОВОЛОКА!J157=0,\"\",ПРОВОЛОКА!F157)","v":""},{"$f":"IF(ПРОВОЛОКА!J157=0,\"\",ПРОВОЛОКА!J157)","v":""},{"$f":"IF(ПРОВОЛОКА!J157=0,\"\",ПРОВОЛОКА!K157)","v":""},{"$f":"IF(ПРОВОЛОКА!J157=0,\"\",ПРОВОЛОКА!O157)","v":""},{"$f":"IF(ПРОВОЛОКА!J157=0,\"\",ПРОВОЛОКА!S157)","v":""}]
[{"$f":"IF(ПРОВОЛОКА!J158=0,\"z\",IF(ПРОВОЛОКА!J158=\"\",ПРОВОЛОКА!A158,IF(ПРОВОЛОКА!B158<>\"\",\"2Д/гиб\",ПРОВОЛОКА!A158)))","v":"z"},{"$f":"IF(ПРОВОЛОКА!J158=0,\"\",\"Проволока\")","v":""},{"$f":"IF(ПРОВОЛОКА!J158=0,\"\",CONCATENATE(ПРОВОЛОКА!C158,ПРОВОЛОКА!D158))","v":""},{"$f":"IF(ПРОВОЛОКА!J158=0,\"\",ПРОВОЛОКА!F158)","v":""},{"$f":"IF(ПРОВОЛОКА!J158=0,\"\",ПРОВОЛОКА!J158)","v":""},{"$f":"IF(ПРОВОЛОКА!J158=0,\"\",ПРОВОЛОКА!K158)","v":""},{"$f":"IF(ПРОВОЛОКА!J158=0,\"\",ПРОВОЛОКА!O158)","v":""},{"$f":"IF(ПРОВОЛОКА!J158=0,\"\",ПРОВОЛОКА!S158)","v":""}]
[{"$f":"IF(ПРОВОЛОКА!J159=0,\"z\",IF(ПРОВОЛОКА!J159=\"\",ПРОВОЛОКА!A159,IF(ПРОВОЛОКА!B159<>\"\",\"2Д/гиб\",ПРОВОЛОКА!A159)))","v":"z"},{"$f":"IF(ПРОВОЛОКА!J159=0,\"\",\"Проволока\")","v":""},{"$f":"IF(ПРОВОЛОКА!J159=0,\"\",CONCATENATE(ПРОВОЛОКА!C159,ПРОВОЛОКА!D159))","v":""},{"$f":"IF(ПРОВОЛОКА!J159=0,\"\",ПРОВОЛОКА!F159)","v":""},{"$f":"IF(ПРОВОЛОКА!J159=0,\"\",ПРОВОЛОКА!J159)","v":""},{"$f":"IF(ПРОВОЛОКА!J159=0,\"\",ПРОВОЛОКА!K159)","v":""},{"$f":"IF(ПРОВОЛОКА!J159=0,\"\",ПРОВОЛОКА!O159)","v":""},{"$f":"IF(ПРОВОЛОКА!J159=0,\"\",ПРОВОЛОКА!S159)","v":""}]
[{"$f":"IF(ПРОВОЛОКА!J160=0,\"z\",IF(ПРОВОЛОКА!J160=\"\",ПРОВОЛОКА!A160,IF(ПРОВОЛОКА!B160<>\"\",\"2Д/гиб\",ПРОВОЛОКА!A160)))","v":"z"},{"$f":"IF(ПРОВОЛОКА!J160=0,\"\",\"Проволока\")","v":""},{"$f":"IF(ПРОВОЛОКА!J160=0,\"\",CONCATENATE(ПРОВОЛОКА!C160,ПРОВОЛОКА!D160))","v":""},{"$f":"IF(ПРОВОЛОКА!J160=0,\"\",ПРОВОЛОКА!F160)","v":""},{"$f":"IF(ПРОВОЛОКА!J160=0,\"\",ПРОВОЛОКА!J160)","v":""},{"$f":"IF(ПРОВОЛОКА!J160=0,\"\",ПРОВОЛОКА!K160)","v":""},{"$f":"IF(ПРОВОЛОКА!J160=0,\"\",ПРОВОЛОКА!O160)","v":""},{"$f":"IF(ПРОВОЛОКА!J160=0,\"\",ПРОВОЛОКА!S160)","v":""}]
[{"$f":"IF(ПРОВОЛОКА!J161=0,\"z\",IF(ПРОВОЛОКА!J161=\"\",ПРОВОЛОКА!A161,IF(ПРОВОЛОКА!B161<>\"\",\"2Д/гиб\",ПРОВОЛОКА!A161)))","v":"z"},{"$f":"IF(ПРОВОЛОКА!J161=0,\"\",\"Проволока\")","v":""},{"$f":"IF(ПРОВОЛОКА!J161=0,\"\",CONCATENATE(ПРОВОЛОКА!C161,ПРОВОЛОКА!D161))","v":""},{"$f":"IF(ПРОВОЛОКА!J161=0,\"\",ПРОВОЛОКА!F161)","v":""},{"$f":"IF(ПРОВОЛОКА!J161=0,\"\",ПРОВОЛОКА!J161)","v":""},{"$f":"IF(ПРОВОЛОКА!J161=0,\"\",ПРОВОЛОКА!K161)","v":""},{"$f":"IF(ПРОВОЛОКА!J161=0,\"\",ПРОВОЛОКА!O161)","v":""},{"$f":"IF(ПРОВОЛОКА!J161=0,\"\",ПРОВОЛОКА!S161)","v":""}]
[{"$f":"IF(ПРОВОЛОКА!J162=0,\"z\",IF(ПРОВОЛОКА!J162=\"\",ПРОВОЛОКА!A162,IF(ПРОВОЛОКА!B162<>\"\",\"2Д/гиб\",ПРОВОЛОКА!A162)))","v":"z"},{"$f":"IF(ПРОВОЛОКА!J162=0,\"\",\"Проволока\")","v":""},{"$f":"IF(ПРОВОЛОКА!J162=0,\"\",CONCATENATE(ПРОВОЛОКА!C162,ПРОВОЛОКА!D162))","v":""},{"$f":"IF(ПРОВОЛОКА!J162=0,\"\",ПРОВОЛОКА!F162)","v":""},{"$f":"IF(ПРОВОЛОКА!J162=0,\"\",ПРОВОЛОКА!J162)","v":""},{"$f":"IF(ПРОВОЛОКА!J162=0,\"\",ПРОВОЛОКА!K162)","v":""},{"$f":"IF(ПРОВОЛОКА!J162=0,\"\",ПРОВОЛОКА!O162)","v":""},{"$f":"IF(ПРОВОЛОКА!J162=0,\"\",ПРОВОЛОКА!S162)","v":""}]
[{"$f":"IF(ПРОВОЛОКА!J163=0,\"z\",IF(ПРОВОЛОКА!J163=\"\",ПРОВОЛОКА!A163,IF(ПРОВОЛОКА!B163<>\"\",\"2Д/гиб\",ПРОВОЛОКА!A163)))","v":"z"},{"$f":"IF(ПРОВОЛОКА!J163=0,\"\",\"Проволока\")","v":""},{"$f":"IF(ПРОВОЛОКА!J163=0,\"\",CONCATENATE(ПРОВОЛОКА!C163,ПРОВОЛОКА!D163))","v":""},{"$f":"IF(ПРОВОЛОКА!J163=0,\"\",ПРОВОЛОКА!F163)","v":""},{"$f":"IF(ПРОВОЛОКА!J163=0,\"\",ПРОВОЛОКА!J163)","v":""},{"$f":"IF(ПРОВОЛОКА!J163=0,\"\",ПРОВОЛОКА!K163)","v":""},{"$f":"IF(ПРОВОЛОКА!J163=0,\"\",ПРОВОЛОКА!O163)","v":""},{"$f":"IF(ПРОВОЛОКА!J163=0,\"\",ПРОВОЛОКА!S163)","v":""}]
[{"$f":"IF(ПРОВОЛОКА!J164=0,\"z\",IF(ПРОВОЛОКА!J164=\"\",ПРОВОЛОКА!A164,IF(ПРОВОЛОКА!B164<>\"\",\"2Д/гиб\",ПРОВОЛОКА!A164)))","v":"z"},{"$f":"IF(ПРОВОЛОКА!J164=0,\"\",\"Проволока\")","v":""},{"$f":"IF(ПРОВОЛОКА!J164=0,\"\",CONCATENATE(ПРОВОЛОКА!C164,ПРОВОЛОКА!D164))","v":""},{"$f":"IF(ПРОВОЛОКА!J164=0,\"\",ПРОВОЛОКА!F164)","v":""},{"$f":"IF(ПРОВОЛОКА!J164=0,\"\",ПРОВОЛОКА!J164)","v":""},{"$f":"IF(ПРОВОЛОКА!J164=0,\"\",ПРОВОЛОКА!K164)","v":""},{"$f":"IF(ПРОВОЛОКА!J164=0,\"\",ПРОВОЛОКА!O164)","v":""},{"$f":"IF(ПРОВОЛОКА!J164=0,\"\",ПРОВОЛОКА!S164)","v":""}]
[{"$f":"IF(ПРОВОЛОКА!J166=0,\"z\",IF(ПРОВОЛОКА!J166=\"\",ПРОВОЛОКА!A166,IF(ПРОВОЛОКА!B166<>\"\",\"2Д/гиб\",ПРОВОЛОКА!A166)))","v":"z"},{"$f":"IF(ПРОВОЛОКА!J166=0,\"\",\"Проволока\")","v":""},{"$f":"IF(ПРОВОЛОКА!J166=0,\"\",CONCATENATE(ПРОВОЛОКА!C166,ПРОВОЛОКА!D166))","v":""},{"$f":"IF(ПРОВОЛОКА!J166=0,\"\",ПРОВОЛОКА!F166)","v":""},{"$f":"IF(ПРОВОЛОКА!J166=0,\"\",ПРОВОЛОКА!J166)","v":""},{"$f":"IF(ПРОВОЛОКА!J166=0,\"\",ПРОВОЛОКА!K166)","v":""},{"$f":"IF(ПРОВОЛОКА!J166=0,\"\",ПРОВОЛОКА!O166)","v":""},{"$f":"IF(ПРОВОЛОКА!J166=0,\"\",ПРОВОЛОКА!S166)","v":""}]
[{"$f":"IF(ПРОВОЛОКА!J167=0,\"z\",IF(ПРОВОЛОКА!J167=\"\",ПРОВОЛОКА!A167,IF(ПРОВОЛОКА!B167<>\"\",\"2Д/гиб\",ПРОВОЛОКА!A167)))","v":"z"},{"$f":"IF(ПРОВОЛОКА!J167=0,\"\",\"Проволока\")","v":""},{"$f":"IF(ПРОВОЛОКА!J167=0,\"\",CONCATENATE(ПРОВОЛОКА!C167,ПРОВОЛОКА!D167))","v":""},{"$f":"IF(ПРОВОЛОКА!J167=0,\"\",ПРОВОЛОКА!F167)","v":""},{"$f":"IF(ПРОВОЛОКА!J167=0,\"\",ПРОВОЛОКА!J167)","v":""},{"$f":"IF(ПРОВОЛОКА!J167=0,\"\",ПРОВОЛОКА!K167)","v":""},{"$f":"IF(ПРОВОЛОКА!J167=0,\"\",ПРОВОЛОКА!O167)","v":""},{"$f":"IF(ПРОВОЛОКА!J167=0,\"\",ПРОВОЛОКА!S167)","v":""}]
[{"$f":"IF(ПРОВОЛОКА!J168=0,\"z\",IF(ПРОВОЛОКА!J168=\"\",ПРОВОЛОКА!A168,IF(ПРОВОЛОКА!B168<>\"\",\"2Д/гиб\",ПРОВОЛОКА!A168)))","v":"z"},{"$f":"IF(ПРОВОЛОКА!J168=0,\"\",\"Проволока\")","v":""},{"$f":"IF(ПРОВОЛОКА!J168=0,\"\",CONCATENATE(ПРОВОЛОКА!C168,ПРОВОЛОКА!D168))","v":""},{"$f":"IF(ПРОВОЛОКА!J168=0,\"\",ПРОВОЛОКА!F168)","v":""},{"$f":"IF(ПРОВОЛОКА!J168=0,\"\",ПРОВОЛОКА!J168)","v":""},{"$f":"IF(ПРОВОЛОКА!J168=0,\"\",ПРОВОЛОКА!K168)","v":""},{"$f":"IF(ПРОВОЛОКА!J168=0,\"\",ПРОВОЛОКА!O168)","v":""},{"$f":"IF(ПРОВОЛОКА!J168=0,\"\",ПРОВОЛОКА!S168)","v":""}]
[{"$f":"IF(ПРОВОЛОКА!J169=0,\"z\",IF(ПРОВОЛОКА!J169=\"\",ПРОВОЛОКА!A169,IF(ПРОВОЛОКА!B169<>\"\",\"2Д/гиб\",ПРОВОЛОКА!A169)))","v":"z"},{"$f":"IF(ПРОВОЛОКА!J169=0,\"\",\"Проволока\")","v":""},{"$f":"IF(ПРОВОЛОКА!J169=0,\"\",CONCATENATE(ПРОВОЛОКА!C169,ПРОВОЛОКА!D169))","v":""},{"$f":"IF(ПРОВОЛОКА!J169=0,\"\",ПРОВОЛОКА!F169)","v":""},{"$f":"IF(ПРОВОЛОКА!J169=0,\"\",ПРОВОЛОКА!J169)","v":""},{"$f":"IF(ПРОВОЛОКА!J169=0,\"\",ПРОВОЛОКА!K169)","v":""},{"$f":"IF(ПРОВОЛОКА!J169=0,\"\",ПРОВОЛОКА!O169)","v":""},{"$f":"IF(ПРОВОЛОКА!J169=0,\"\",ПРОВОЛОКА!S169)","v":""}]
[{"$f":"IF(ПРОВОЛОКА!J170=0,\"z\",IF(ПРОВОЛОКА!J170=\"\",ПРОВОЛОКА!A170,IF(ПРОВОЛОКА!B170<>\"\",\"2Д/гиб\",ПРОВОЛОКА!A170)))","v":"z"},{"$f":"IF(ПРОВОЛОКА!J170=0,\"\",\"Проволока\")","v":""},{"$f":"IF(ПРОВОЛОКА!J170=0,\"\",CONCATENATE(ПРОВОЛОКА!C170,ПРОВОЛОКА!D170))","v":""},{"$f":"IF(ПРОВОЛОКА!J170=0,\"\",ПРОВОЛОКА!F170)","v":""},{"$f":"IF(ПРОВОЛОКА!J170=0,\"\",ПРОВОЛОКА!J170)","v":""},{"$f":"IF(ПРОВОЛОКА!J170=0,\"\",ПРОВОЛОКА!K170)","v":""},{"$f":"IF(ПРОВОЛОКА!J170=0,\"\",ПРОВОЛОКА!O170)","v":""},{"$f":"IF(ПРОВОЛОКА!J170=0,\"\",ПРОВОЛОКА!S170)","v":""}]
[{"$f":"IF(ПРОВОЛОКА!J171=0,\"z\",IF(ПРОВОЛОКА!J171=\"\",ПРОВОЛОКА!A171,IF(ПРОВОЛОКА!B171<>\"\",\"2Д/гиб\",ПРОВОЛОКА!A171)))","v":"z"},{"$f":"IF(ПРОВОЛОКА!J171=0,\"\",\"Проволока\")","v":""},{"$f":"IF(ПРОВОЛОКА!J171=0,\"\",CONCATENATE(ПРОВОЛОКА!C171,ПРОВОЛОКА!D171))","v":""},{"$f":"IF(ПРОВОЛОКА!J171=0,\"\",ПРОВОЛОКА!F171)","v":""},{"$f":"IF(ПРОВОЛОКА!J171=0,\"\",ПРОВОЛОКА!J171)","v":""},{"$f":"IF(ПРОВОЛОКА!J171=0,\"\",ПРОВОЛОКА!K171)","v":""},{"$f":"IF(ПРОВОЛОКА!J171=0,\"\",ПРОВОЛОКА!O171)","v":""},{"$f":"IF(ПРОВОЛОКА!J171=0,\"\",ПРОВОЛОКА!S171)","v":""}]
[{"$f":"IF(ПРОВОЛОКА!J172=0,\"z\",IF(ПРОВОЛОКА!J172=\"\",ПРОВОЛОКА!A172,IF(ПРОВОЛОКА!B172<>\"\",\"2Д/гиб\",ПРОВОЛОКА!A172)))","v":"z"},{"$f":"IF(ПРОВОЛОКА!J172=0,\"\",\"Проволока\")","v":""},{"$f":"IF(ПРОВОЛОКА!J172=0,\"\",CONCATENATE(ПРОВОЛОКА!C172,ПРОВОЛОКА!D172))","v":""},{"$f":"IF(ПРОВОЛОКА!J172=0,\"\",ПРОВОЛОКА!F172)","v":""},{"$f":"IF(ПРОВОЛОКА!J172=0,\"\",ПРОВОЛОКА!J172)","v":""},{"$f":"IF(ПРОВОЛОКА!J172=0,\"\",ПРОВОЛОКА!K172)","v":""},{"$f":"IF(ПРОВОЛОКА!J172=0,\"\",ПРОВОЛОКА!O172)","v":""},{"$f":"IF(ПРОВОЛОКА!J172=0,\"\",ПРОВОЛОКА!S172)","v":""}]
[{"$f":"IF(ПРОВОЛОКА!J173=0,\"z\",IF(ПРОВОЛОКА!J173=\"\",ПРОВОЛОКА!A173,IF(ПРОВОЛОКА!B173<>\"\",\"2Д/гиб\",ПРОВОЛОКА!A173)))","v":"z"},{"$f":"IF(ПРОВОЛОКА!J173=0,\"\",\"Проволока\")","v":""},{"$f":"IF(ПРОВОЛОКА!J173=0,\"\",CONCATENATE(ПРОВОЛОКА!C173,ПРОВОЛОКА!D173))","v":""},{"$f":"IF(ПРОВОЛОКА!J173=0,\"\",ПРОВОЛОКА!F173)","v":""},{"$f":"IF(ПРОВОЛОКА!J173=0,\"\",ПРОВОЛОКА!J173)","v":""},{"$f":"IF(ПРОВОЛОКА!J173=0,\"\",ПРОВОЛОКА!K173)","v":""},{"$f":"IF(ПРОВОЛОКА!J173=0,\"\",ПРОВОЛОКА!O173)","v":""},{"$f":"IF(ПРОВОЛОКА!J173=0,\"\",ПРОВОЛОКА!S173)","v":""}]
[{"$f":"IF(ПРОВОЛОКА!J174=0,\"z\",IF(ПРОВОЛОКА!J174=\"\",ПРОВОЛОКА!A174,IF(ПРОВОЛОКА!B174<>\"\",\"2Д/гиб\",ПРОВОЛОКА!A174)))","v":"z"},{"$f":"IF(ПРОВОЛОКА!J174=0,\"\",\"Проволока\")","v":""},{"$f":"IF(ПРОВОЛОКА!J174=0,\"\",CONCATENATE(ПРОВОЛОКА!C174,ПРОВОЛОКА!D174))","v":""},{"$f":"IF(ПРОВОЛОКА!J174=0,\"\",ПРОВОЛОКА!F174)","v":""},{"$f":"IF(ПРОВОЛОКА!J174=0,\"\",ПРОВОЛОКА!J174)","v":""},{"$f":"IF(ПРОВОЛОКА!J174=0,\"\",ПРОВОЛОКА!K174)","v":""},{"$f":"IF(ПРОВОЛОКА!J174=0,\"\",ПРОВОЛОКА!O174)","v":""},{"$f":"IF(ПРОВОЛОКА!J174=0,\"\",ПРОВОЛОКА!S174)","v":""}]
[{"$f":"IF(ПРОВОЛОКА!J175=0,\"z\",IF(ПРОВОЛОКА!J175=\"\",ПРОВОЛОКА!A175,IF(ПРОВОЛОКА!B175<>\"\",\"2Д/гиб\",ПРОВОЛОКА!A175)))","v":"z"},{"$f":"IF(ПРОВОЛОКА!J175=0,\"\",\"Проволока\")","v":""},{"$f":"IF(ПРОВОЛОКА!J175=0,\"\",CONCATENATE(ПРОВОЛОКА!C175,ПРОВОЛОКА!D175))","v":""},{"$f":"IF(ПРОВОЛОКА!J175=0,\"\",ПРОВОЛОКА!F175)","v":""},{"$f":"IF(ПРОВОЛОКА!J175=0,\"\",ПРОВОЛОКА!J175)","v":""},{"$f":"IF(ПРОВОЛОКА!J175=0,\"\",ПРОВОЛОКА!K175)","v":""},{"$f":"IF(ПРОВОЛОКА!J175=0,\"\",ПРОВОЛОКА!O175)","v":""},{"$f":"IF(ПРОВОЛОКА!J175=0,\"\",ПРОВОЛОКА!S175)","v":""}]
[{"$f":"IF(ПРОВОЛОКА!J176=0,\"z\",IF(ПРОВОЛОКА!J176=\"\",ПРОВОЛОКА!A176,IF(ПРОВОЛОКА!B176<>\"\",\"2Д/гиб\",ПРОВОЛОКА!A176)))","v":"z"},{"$f":"IF(ПРОВОЛОКА!J176=0,\"\",\"Проволока\")","v":""},{"$f":"IF(ПРОВОЛОКА!J176=0,\"\",CONCATENATE(ПРОВОЛОКА!C176,ПРОВОЛОКА!D176))","v":""},{"$f":"IF(ПРОВОЛОКА!J176=0,\"\",ПРОВОЛОКА!F176)","v":""},{"$f":"IF(ПРОВОЛОКА!J176=0,\"\",ПРОВОЛОКА!J176)","v":""},{"$f":"IF(ПРОВОЛОКА!J176=0,\"\",ПРОВОЛОКА!K176)","v":""},{"$f":"IF(ПРОВОЛОКА!J176=0,\"\",ПРОВОЛОКА!O176)","v":""},{"$f":"IF(ПРОВОЛОКА!J176=0,\"\",ПРОВОЛОКА!S176)","v":""}]
[{"$f":"IF(ПРОВОЛОКА!J177=0,\"z\",IF(ПРОВОЛОКА!J177=\"\",ПРОВОЛОКА!A177,IF(ПРОВОЛОКА!B177<>\"\",\"2Д/гиб\",ПРОВОЛОКА!A177)))","v":"z"},{"$f":"IF(ПРОВОЛОКА!J177=0,\"\",\"Проволока\")","v":""},{"$f":"IF(ПРОВОЛОКА!J177=0,\"\",CONCATENATE(ПРОВОЛОКА!C177,ПРОВОЛОКА!D177))","v":""},{"$f":"IF(ПРОВОЛОКА!J177=0,\"\",ПРОВОЛОКА!F177)","v":""},{"$f":"IF(ПРОВОЛОКА!J177=0,\"\",ПРОВОЛОКА!J177)","v":""},{"$f":"IF(ПРОВОЛОКА!J177=0,\"\",ПРОВОЛОКА!K177)","v":""},{"$f":"IF(ПРОВОЛОКА!J177=0,\"\",ПРОВОЛОКА!O177)","v":""},{"$f":"IF(ПРОВОЛОКА!J177=0,\"\",ПРОВОЛОКА!S177)","v":""}]
[{"$f":"IF(ПРОВОЛОКА!J178=0,\"z\",IF(ПРОВОЛОКА!J178=\"\",ПРОВОЛОКА!A178,IF(ПРОВОЛОКА!B178<>\"\",\"2Д/гиб\",ПРОВОЛОКА!A178)))","v":"z"},{"$f":"IF(ПРОВОЛОКА!J178=0,\"\",\"Проволока\")","v":""},{"$f":"IF(ПРОВОЛОКА!J178=0,\"\",CONCATENATE(ПРОВОЛОКА!C178,ПРОВОЛОКА!D178))","v":""},{"$f":"IF(ПРОВОЛОКА!J178=0,\"\",ПРОВОЛОКА!F178)","v":""},{"$f":"IF(ПРОВОЛОКА!J178=0,\"\",ПРОВОЛОКА!J178)","v":""},{"$f":"IF(ПРОВОЛОКА!J178=0,\"\",ПРОВОЛОКА!K178)","v":""},{"$f":"IF(ПРОВОЛОКА!J178=0,\"\",ПРОВОЛОКА!O178)","v":""},{"$f":"IF(ПРОВОЛОКА!J178=0,\"\",ПРОВОЛОКА!S178)","v":""}]
[{"$f":"IF(ПРОВОЛОКА!J179=0,\"z\",IF(ПРОВОЛОКА!J179=\"\",ПРОВОЛОКА!A179,IF(ПРОВОЛОКА!B179<>\"\",\"2Д/гиб\",ПРОВОЛОКА!A179)))","v":"z"},{"$f":"IF(ПРОВОЛОКА!J179=0,\"\",\"Проволока\")","v":""},{"$f":"IF(ПРОВОЛОКА!J179=0,\"\",CONCATENATE(ПРОВОЛОКА!C179,ПРОВОЛОКА!D179))","v":""},{"$f":"IF(ПРОВОЛОКА!J179=0,\"\",ПРОВОЛОКА!F179)","v":""},{"$f":"IF(ПРОВОЛОКА!J179=0,\"\",ПРОВОЛОКА!J179)","v":""},{"$f":"IF(ПРОВОЛОКА!J179=0,\"\",ПРОВОЛОКА!K179)","v":""},{"$f":"IF(ПРОВОЛОКА!J179=0,\"\",ПРОВОЛОКА!O179)","v":""},{"$f":"IF(ПРОВОЛОКА!J179=0,\"\",ПРОВОЛОКА!S179)","v":""}]
[{"$f":"IF(ПРОВОЛОКА!J180=0,\"z\",IF(ПРОВОЛОКА!J180=\"\",ПРОВОЛОКА!A180,IF(ПРОВОЛОКА!B180<>\"\",\"2Д/гиб\",ПРОВОЛОКА!A180)))","v":"z"},{"$f":"IF(ПРОВОЛОКА!J180=0,\"\",\"Проволока\")","v":""},{"$f":"IF(ПРОВОЛОКА!J180=0,\"\",CONCATENATE(ПРОВОЛОКА!C180,ПРОВОЛОКА!D180))","v":""},{"$f":"IF(ПРОВОЛОКА!J180=0,\"\",ПРОВОЛОКА!F180)","v":""},{"$f":"IF(ПРОВОЛОКА!J180=0,\"\",ПРОВОЛОКА!J180)","v":""},{"$f":"IF(ПРОВОЛОКА!J180=0,\"\",ПРОВОЛОКА!K180)","v":""},{"$f":"IF(ПРОВОЛОКА!J180=0,\"\",ПРОВОЛОКА!O180)","v":""},{"$f":"IF(ПРОВОЛОКА!J180=0,\"\",ПРОВОЛОКА!S180)","v":""}]
[{"$f":"IF(ПРОВОЛОКА!J181=0,\"z\",IF(ПРОВОЛОКА!J181=\"\",ПРОВОЛОКА!A181,IF(ПРОВОЛОКА!B181<>\"\",\"2Д/гиб\",ПРОВОЛОКА!A181)))","v":"z"},{"$f":"IF(ПРОВОЛОКА!J181=0,\"\",\"Проволока\")","v":""},{"$f":"IF(ПРОВОЛОКА!J181=0,\"\",CONCATENATE(ПРОВОЛОКА!C181,ПРОВОЛОКА!D181))","v":""},{"$f":"IF(ПРОВОЛОКА!J181=0,\"\",ПРОВОЛОКА!F181)","v":""},{"$f":"IF(ПРОВОЛОКА!J181=0,\"\",ПРОВОЛОКА!J181)","v":""},{"$f":"IF(ПРОВОЛОКА!J181=0,\"\",ПРОВОЛОКА!K181)","v":""},{"$f":"IF(ПРОВОЛОКА!J181=0,\"\",ПРОВОЛОКА!O181)","v":""},{"$f":"IF(ПРОВОЛОКА!J181=0,\"\",ПРОВОЛОКА!S181)","v":""}]
[{"$f":"IF(ПРОВОЛОКА!J182=0,\"z\",IF(ПРОВОЛОКА!J182=\"\",ПРОВОЛОКА!A182,IF(ПРОВОЛОКА!B182<>\"\",\"2Д/гиб\",ПРОВОЛОКА!A182)))","v":"z"},{"$f":"IF(ПРОВОЛОКА!J182=0,\"\",\"Проволока\")","v":""},{"$f":"IF(ПРОВОЛОКА!J182=0,\"\",CONCATENATE(ПРОВОЛОКА!C182,ПРОВОЛОКА!D182))","v":""},{"$f":"IF(ПРОВОЛОКА!J182=0,\"\",ПРОВОЛОКА!F182)","v":""},{"$f":"IF(ПРОВОЛОКА!J182=0,\"\",ПРОВОЛОКА!J182)","v":""},{"$f":"IF(ПРОВОЛОКА!J182=0,\"\",ПРОВОЛОКА!K182)","v":""},{"$f":"IF(ПРОВОЛОКА!J182=0,\"\",ПРОВОЛОКА!O182)","v":""},{"$f":"IF(ПРОВОЛОКА!J182=0,\"\",ПРОВОЛОКА!S182)","v":""}]
[{"$f":"IF(ПРОВОЛОКА!J183=0,\"z\",IF(ПРОВОЛОКА!J183=\"\",ПРОВОЛОКА!A183,IF(ПРОВОЛОКА!B183<>\"\",\"2Д/гиб\",ПРОВОЛОКА!A183)))","v":"z"},{"$f":"IF(ПРОВОЛОКА!J183=0,\"\",\"Проволока\")","v":""},{"$f":"IF(ПРОВОЛОКА!J183=0,\"\",CONCATENATE(ПРОВОЛОКА!C183,ПРОВОЛОКА!D183))","v":""},{"$f":"IF(ПРОВОЛОКА!J183=0,\"\",ПРОВОЛОКА!F183)","v":""},{"$f":"IF(ПРОВОЛОКА!J183=0,\"\",ПРОВОЛОКА!J183)","v":""},{"$f":"IF(ПРОВОЛОКА!J183=0,\"\",ПРОВОЛОКА!K183)","v":""},{"$f":"IF(ПРОВОЛОКА!J183=0,\"\",ПРОВОЛОКА!O183)","v":""},{"$f":"IF(ПРОВОЛОКА!J183=0,\"\",ПРОВОЛОКА!S183)","v":""}]
[{"$f":"IF(ПРОВОЛОКА!J184=0,\"z\",IF(ПРОВОЛОКА!J184=\"\",ПРОВОЛОКА!A184,IF(ПРОВОЛОКА!B184<>\"\",\"2Д/гиб\",ПРОВОЛОКА!A184)))","v":"z"},{"$f":"IF(ПРОВОЛОКА!J184=0,\"\",\"Проволока\")","v":""},{"$f":"IF(ПРОВОЛОКА!J184=0,\"\",CONCATENATE(ПРОВОЛОКА!C184,ПРОВОЛОКА!D184))","v":""},{"$f":"IF(ПРОВОЛОКА!J184=0,\"\",ПРОВОЛОКА!F184)","v":""},{"$f":"IF(ПРОВОЛОКА!J184=0,\"\",ПРОВОЛОКА!J184)","v":""},{"$f":"IF(ПРОВОЛОКА!J184=0,\"\",ПРОВОЛОКА!K184)","v":""},{"$f":"IF(ПРОВОЛОКА!J184=0,\"\",ПРОВОЛОКА!O184)","v":""},{"$f":"IF(ПРОВОЛОКА!J184=0,\"\",ПРОВОЛОКА!S184)","v":""}]
[{"$f":"IF(ПРОВОЛОКА!J185=0,\"z\",IF(ПРОВОЛОКА!J185=\"\",ПРОВОЛОКА!A185,IF(ПРОВОЛОКА!B185<>\"\",\"2Д/гиб\",ПРОВОЛОКА!A185)))","v":"z"},{"$f":"IF(ПРОВОЛОКА!J185=0,\"\",\"Проволока\")","v":""},{"$f":"IF(ПРОВОЛОКА!J185=0,\"\",CONCATENATE(ПРОВОЛОКА!C185,ПРОВОЛОКА!D185))","v":""},{"$f":"IF(ПРОВОЛОКА!J185=0,\"\",ПРОВОЛОКА!F185)","v":""},{"$f":"IF(ПРОВОЛОКА!J185=0,\"\",ПРОВОЛОКА!J185)","v":""},{"$f":"IF(ПРОВОЛОКА!J185=0,\"\",ПРОВОЛОКА!K185)","v":""},{"$f":"IF(ПРОВОЛОКА!J185=0,\"\",ПРОВОЛОКА!O185)","v":""},{"$f":"IF(ПРОВОЛОКА!J185=0,\"\",ПРОВОЛОКА!S185)","v":""}]
[{"$f":"IF(ПРОВОЛОКА!J186=0,\"z\",IF(ПРОВОЛОКА!J186=\"\",ПРОВОЛОКА!A186,IF(ПРОВОЛОКА!B186<>\"\",\"2Д/гиб\",ПРОВОЛОКА!A186)))","v":"z"},{"$f":"IF(ПРОВОЛОКА!J186=0,\"\",\"Проволока\")","v":""},{"$f":"IF(ПРОВОЛОКА!J186=0,\"\",CONCATENATE(ПРОВОЛОКА!C186,ПРОВОЛОКА!D186))","v":""},{"$f":"IF(ПРОВОЛОКА!J186=0,\"\",ПРОВОЛОКА!F186)","v":""},{"$f":"IF(ПРОВОЛОКА!J186=0,\"\",ПРОВОЛОКА!J186)","v":""},{"$f":"IF(ПРОВОЛОКА!J186=0,\"\",ПРОВОЛОКА!K186)","v":""},{"$f":"IF(ПРОВОЛОКА!J186=0,\"\",ПРОВОЛОКА!O186)","v":""},{"$f":"IF(ПРОВОЛОКА!J186=0,\"\",ПРОВОЛОКА!S186)","v":""}]
[{"$f":"IF(ПРОВОЛОКА!J187=0,\"z\",IF(ПРОВОЛОКА!J187=\"\",ПРОВОЛОКА!A187,IF(ПРОВОЛОКА!B187<>\"\",\"2Д/гиб\",ПРОВОЛОКА!A187)))","v":"z"},{"$f":"IF(ПРОВОЛОКА!J187=0,\"\",\"Проволока\")","v":""},{"$f":"IF(ПРОВОЛОКА!J187=0,\"\",CONCATENATE(ПРОВОЛОКА!C187,ПРОВОЛОКА!D187))","v":""},{"$f":"IF(ПРОВОЛОКА!J187=0,\"\",ПРОВОЛОКА!F187)","v":""},{"$f":"IF(ПРОВОЛОКА!J187=0,\"\",ПРОВОЛОКА!J187)","v":""},{"$f":"IF(ПРОВОЛОКА!J187=0,\"\",ПРОВОЛОКА!K187)","v":""},{"$f":"IF(ПРОВОЛОКА!J187=0,\"\",ПРОВОЛОКА!O187)","v":""},{"$f":"IF(ПРОВОЛОКА!J187=0,\"\",ПРОВОЛОКА!S187)","v":""}]
[{"$f":"IF(ПРОВОЛОКА!J188=0,\"z\",IF(ПРОВОЛОКА!J188=\"\",ПРОВОЛОКА!A188,IF(ПРОВОЛОКА!B188<>\"\",\"2Д/гиб\",ПРОВОЛОКА!A188)))","v":"z"},{"$f":"IF(ПРОВОЛОКА!J188=0,\"\",\"Проволока\")","v":""},{"$f":"IF(ПРОВОЛОКА!J188=0,\"\",CONCATENATE(ПРОВОЛОКА!C188,ПРОВОЛОКА!D188))","v":""},{"$f":"IF(ПРОВОЛОКА!J188=0,\"\",ПРОВОЛОКА!F188)","v":""},{"$f":"IF(ПРОВОЛОКА!J188=0,\"\",ПРОВОЛОКА!J188)","v":""},{"$f":"IF(ПРОВОЛОКА!J188=0,\"\",ПРОВОЛОКА!K188)","v":""},{"$f":"IF(ПРОВОЛОКА!J188=0,\"\",ПРОВОЛОКА!O188)","v":""},{"$f":"IF(ПРОВОЛОКА!J188=0,\"\",ПРОВОЛОКА!S188)","v":""}]
[{"$f":"IF(ПРОВОЛОКА!J189=0,\"z\",IF(ПРОВОЛОКА!J189=\"\",ПРОВОЛОКА!A189,IF(ПРОВОЛОКА!B189<>\"\",\"2Д/гиб\",ПРОВОЛОКА!A189)))","v":"z"},{"$f":"IF(ПРОВОЛОКА!J189=0,\"\",\"Проволока\")","v":""},{"$f":"IF(ПРОВОЛОКА!J189=0,\"\",CONCATENATE(ПРОВОЛОКА!C189,ПРОВОЛОКА!D189))","v":""},{"$f":"IF(ПРОВОЛОКА!J189=0,\"\",ПРОВОЛОКА!F189)","v":""},{"$f":"IF(ПРОВОЛОКА!J189=0,\"\",ПРОВОЛОКА!J189)","v":""},{"$f":"IF(ПРОВОЛОКА!J189=0,\"\",ПРОВОЛОКА!K189)","v":""},{"$f":"IF(ПРОВОЛОКА!J189=0,\"\",ПРОВОЛОКА!O189)","v":""},{"$f":"IF(ПРОВОЛОКА!J189=0,\"\",ПРОВОЛОКА!S189)","v":""}]
[{"$f":"IF(ПРОВОЛОКА!J190=0,\"z\",IF(ПРОВОЛОКА!J190=\"\",ПРОВОЛОКА!A190,IF(ПРОВОЛОКА!B190<>\"\",\"2Д/гиб\",ПРОВОЛОКА!A190)))","v":"z"},{"$f":"IF(ПРОВОЛОКА!J190=0,\"\",\"Проволока\")","v":""},{"$f":"IF(ПРОВОЛОКА!J190=0,\"\",CONCATENATE(ПРОВОЛОКА!C190,ПРОВОЛОКА!D190))","v":""},{"$f":"IF(ПРОВОЛОКА!J190=0,\"\",ПРОВОЛОКА!F190)","v":""},{"$f":"IF(ПРОВОЛОКА!J190=0,\"\",ПРОВОЛОКА!J190)","v":""},{"$f":"IF(ПРОВОЛОКА!J190=0,\"\",ПРОВОЛОКА!K190)","v":""},{"$f":"IF(ПРОВОЛОКА!J190=0,\"\",ПРОВОЛОКА!O190)","v":""},{"$f":"IF(ПРОВОЛОКА!J190=0,\"\",ПРОВОЛОКА!S190)","v":""}]
[{"$f":"IF(ПРОВОЛОКА!J191=0,\"z\",IF(ПРОВОЛОКА!J191=\"\",ПРОВОЛОКА!A191,IF(ПРОВОЛОКА!B191<>\"\",\"2Д/гиб\",ПРОВОЛОКА!A191)))","v":"z"},{"$f":"IF(ПРОВОЛОКА!J191=0,\"\",\"Проволока\")","v":""},{"$f":"IF(ПРОВОЛОКА!J191=0,\"\",CONCATENATE(ПРОВОЛОКА!C191,ПРОВОЛОКА!D191))","v":""},{"$f":"IF(ПРОВОЛОКА!J191=0,\"\",ПРОВОЛОКА!F191)","v":""},{"$f":"IF(ПРОВОЛОКА!J191=0,\"\",ПРОВОЛОКА!J191)","v":""},{"$f":"IF(ПРОВОЛОКА!J191=0,\"\",ПРОВОЛОКА!K191)","v":""},{"$f":"IF(ПРОВОЛОКА!J191=0,\"\",ПРОВОЛОКА!O191)","v":""},{"$f":"IF(ПРОВОЛОКА!J191=0,\"\",ПРОВОЛОКА!S191)","v":""}]
[{"$f":"IF(ПРОВОЛОКА!J192=0,\"z\",IF(ПРОВОЛОКА!J192=\"\",ПРОВОЛОКА!A192,IF(ПРОВОЛОКА!B192<>\"\",\"2Д/гиб\",ПРОВОЛОКА!A192)))","v":"z"},{"$f":"IF(ПРОВОЛОКА!J192=0,\"\",\"Проволока\")","v":""},{"$f":"IF(ПРОВОЛОКА!J192=0,\"\",CONCATENATE(ПРОВОЛОКА!C192,ПРОВОЛОКА!D192))","v":""},{"$f":"IF(ПРОВОЛОКА!J192=0,\"\",ПРОВОЛОКА!F192)","v":""},{"$f":"IF(ПРОВОЛОКА!J192=0,\"\",ПРОВОЛОКА!J192)","v":""},{"$f":"IF(ПРОВОЛОКА!J192=0,\"\",ПРОВОЛОКА!K192)","v":""},{"$f":"IF(ПРОВОЛОКА!J192=0,\"\",ПРОВОЛОКА!O192)","v":""},{"$f":"IF(ПРОВОЛОКА!J192=0,\"\",ПРОВОЛОКА!S192)","v":""}]
[{"$f":"IF(ПРОВОЛОКА!J193=0,\"z\",IF(ПРОВОЛОКА!J193=\"\",ПРОВОЛОКА!A193,IF(ПРОВОЛОКА!B193<>\"\",\"2Д/гиб\",ПРОВОЛОКА!A193)))","v":"z"},{"$f":"IF(ПРОВОЛОКА!J193=0,\"\",\"Проволока\")","v":""},{"$f":"IF(ПРОВОЛОКА!J193=0,\"\",CONCATENATE(ПРОВОЛОКА!C193,ПРОВОЛОКА!D193))","v":""},{"$f":"IF(ПРОВОЛОКА!J193=0,\"\",ПРОВОЛОКА!F193)","v":""},{"$f":"IF(ПРОВОЛОКА!J193=0,\"\",ПРОВОЛОКА!J193)","v":""},{"$f":"IF(ПРОВОЛОКА!J193=0,\"\",ПРОВОЛОКА!K193)","v":""},{"$f":"IF(ПРОВОЛОКА!J193=0,\"\",ПРОВОЛОКА!O193)","v":""},{"$f":"IF(ПРОВОЛОКА!J193=0,\"\",ПРОВОЛОКА!S193)","v":""}]
[{"$f":"IF(ПРОВОЛОКА!J194=0,\"z\",IF(ПРОВОЛОКА!J194=\"\",ПРОВОЛОКА!A194,IF(ПРОВОЛОКА!B194<>\"\",\"2Д/гиб\",ПРОВОЛОКА!A194)))","v":"z"},{"$f":"IF(ПРОВОЛОКА!J194=0,\"\",\"Проволока\")","v":""},{"$f":"IF(ПРОВОЛОКА!J194=0,\"\",CONCATENATE(ПРОВОЛОКА!C194,ПРОВОЛОКА!D194))","v":""},{"$f":"IF(ПРОВОЛОКА!J194=0,\"\",ПРОВОЛОКА!F194)","v":""},{"$f":"IF(ПРОВОЛОКА!J194=0,\"\",ПРОВОЛОКА!J194)","v":""},{"$f":"IF(ПРОВОЛОКА!J194=0,\"\",ПРОВОЛОКА!K194)","v":""},{"$f":"IF(ПРОВОЛОКА!J194=0,\"\",ПРОВОЛОКА!O194)","v":""},{"$f":"IF(ПРОВОЛОКА!J194=0,\"\",ПРОВОЛОКА!S194)","v":""}]
[{"$f":"IF(ПРОВОЛОКА!J195=0,\"z\",IF(ПРОВОЛОКА!J195=\"\",ПРОВОЛОКА!A195,IF(ПРОВОЛОКА!B195<>\"\",\"2Д/гиб\",ПРОВОЛОКА!A195)))","v":"z"},{"$f":"IF(ПРОВОЛОКА!J195=0,\"\",\"Проволока\")","v":""},{"$f":"IF(ПРОВОЛОКА!J195=0,\"\",CONCATENATE(ПРОВОЛОКА!C195,ПРОВОЛОКА!D195))","v":""},{"$f":"IF(ПРОВОЛОКА!J195=0,\"\",ПРОВОЛОКА!F195)","v":""},{"$f":"IF(ПРОВОЛОКА!J195=0,\"\",ПРОВОЛОКА!J195)","v":""},{"$f":"IF(ПРОВОЛОКА!J195=0,\"\",ПРОВОЛОКА!K195)","v":""},{"$f":"IF(ПРОВОЛОКА!J195=0,\"\",ПРОВОЛОКА!O195)","v":""},{"$f":"IF(ПРОВОЛОКА!J195=0,\"\",ПРОВОЛОКА!S195)","v":""}]
[{"$f":"IF(ПРОВОЛОКА!J197=0,\"z\",IF(ПРОВОЛОКА!J197=\"\",ПРОВОЛОКА!A197,IF(ПРОВОЛОКА!B197<>\"\",\"2Д/гиб\",ПРОВОЛОКА!A197)))","v":"z"},{"$f":"IF(ПРОВОЛОКА!J197=0,\"\",\"Проволока\")","v":""},{"$f":"IF(ПРОВОЛОКА!J197=0,\"\",CONCATENATE(ПРОВОЛОКА!C197,ПРОВОЛОКА!D197))","v":""},{"$f":"IF(ПРОВОЛОКА!J197=0,\"\",ПРОВОЛОКА!F197)","v":""},{"$f":"IF(ПРОВОЛОКА!J197=0,\"\",ПРОВОЛОКА!J197)","v":""},{"$f":"IF(ПРОВОЛОКА!J197=0,\"\",ПРОВОЛОКА!K197)","v":""},{"$f":"IF(ПРОВОЛОКА!J197=0,\"\",ПРОВОЛОКА!O197)","v":""},{"$f":"IF(ПРОВОЛОКА!J197=0,\"\",ПРОВОЛОКА!S197)","v":""}]
[{"$f":"IF(ПРОВОЛОКА!J198=0,\"z\",IF(ПРОВОЛОКА!J198=\"\",ПРОВОЛОКА!A198,IF(ПРОВОЛОКА!B198<>\"\",\"2Д/гиб\",ПРОВОЛОКА!A198)))","v":"z"},{"$f":"IF(ПРОВОЛОКА!J198=0,\"\",\"Проволока\")","v":""},{"$f":"IF(ПРОВОЛОКА!J198=0,\"\",CONCATENATE(ПРОВОЛОКА!C198,ПРОВОЛОКА!D198))","v":""},{"$f":"IF(ПРОВОЛОКА!J198=0,\"\",ПРОВОЛОКА!F198)","v":""},{"$f":"IF(ПРОВОЛОКА!J198=0,\"\",ПРОВОЛОКА!J198)","v":""},{"$f":"IF(ПРОВОЛОКА!J198=0,\"\",ПРОВОЛОКА!K198)","v":""},{"$f":"IF(ПРОВОЛОКА!J198=0,\"\",ПРОВОЛОКА!O198)","v":""},{"$f":"IF(ПРОВОЛОКА!J198=0,\"\",ПРОВОЛОКА!S198)","v":""}]
[{"$f":"IF(ПРОВОЛОКА!J199=0,\"z\",IF(ПРОВОЛОКА!J199=\"\",ПРОВОЛОКА!A199,IF(ПРОВОЛОКА!B199<>\"\",\"2Д/гиб\",ПРОВОЛОКА!A199)))","v":"z"},{"$f":"IF(ПРОВОЛОКА!J199=0,\"\",\"Проволока\")","v":""},{"$f":"IF(ПРОВОЛОКА!J199=0,\"\",CONCATENATE(ПРОВОЛОКА!C199,ПРОВОЛОКА!D199))","v":""},{"$f":"IF(ПРОВОЛОКА!J199=0,\"\",ПРОВОЛОКА!F199)","v":""},{"$f":"IF(ПРОВОЛОКА!J199=0,\"\",ПРОВОЛОКА!J199)","v":""},{"$f":"IF(ПРОВОЛОКА!J199=0,\"\",ПРОВОЛОКА!K199)","v":""},{"$f":"IF(ПРОВОЛОКА!J199=0,\"\",ПРОВОЛОКА!O199)","v":""},{"$f":"IF(ПРОВОЛОКА!J199=0,\"\",ПРОВОЛОКА!S199)","v":""}]
[{"$f":"IF(ПРОВОЛОКА!J200=0,\"z\",IF(ПРОВОЛОКА!J200=\"\",ПРОВОЛОКА!A200,IF(ПРОВОЛОКА!B200<>\"\",\"2Д/гиб\",ПРОВОЛОКА!A200)))","v":"z"},{"$f":"IF(ПРОВОЛОКА!J200=0,\"\",\"Проволока\")","v":""},{"$f":"IF(ПРОВОЛОКА!J200=0,\"\",CONCATENATE(ПРОВОЛОКА!C200,ПРОВОЛОКА!D200))","v":""},{"$f":"IF(ПРОВОЛОКА!J200=0,\"\",ПРОВОЛОКА!F200)","v":""},{"$f":"IF(ПРОВОЛОКА!J200=0,\"\",ПРОВОЛОКА!J200)","v":""},{"$f":"IF(ПРОВОЛОКА!J200=0,\"\",ПРОВОЛОКА!K200)","v":""},{"$f":"IF(ПРОВОЛОКА!J200=0,\"\",ПРОВОЛОКА!O200)","v":""},{"$f":"IF(ПРОВОЛОКА!J200=0,\"\",ПРОВОЛОКА!S200)","v":""}]
[{"$f":"IF(ПРОВОЛОКА!J201=0,\"z\",IF(ПРОВОЛОКА!J201=\"\",ПРОВОЛОКА!A201,IF(ПРОВОЛОКА!B201<>\"\",\"2Д/гиб\",ПРОВОЛОКА!A201)))","v":"z"},{"$f":"IF(ПРОВОЛОКА!J201=0,\"\",\"Проволока\")","v":""},{"$f":"IF(ПРОВОЛОКА!J201=0,\"\",CONCATENATE(ПРОВОЛОКА!C201,ПРОВОЛОКА!D201))","v":""},{"$f":"IF(ПРОВОЛОКА!J201=0,\"\",ПРОВОЛОКА!F201)","v":""},{"$f":"IF(ПРОВОЛОКА!J201=0,\"\",ПРОВОЛОКА!J201)","v":""},{"$f":"IF(ПРОВОЛОКА!J201=0,\"\",ПРОВОЛОКА!K201)","v":""},{"$f":"IF(ПРОВОЛОКА!J201=0,\"\",ПРОВОЛОКА!O201)","v":""},{"$f":"IF(ПРОВОЛОКА!J201=0,\"\",ПРОВОЛОКА!S201)","v":""}]
[{"$f":"IF(ПРОВОЛОКА!J202=0,\"z\",IF(ПРОВОЛОКА!J202=\"\",ПРОВОЛОКА!A202,IF(ПРОВОЛОКА!B202<>\"\",\"2Д/гиб\",ПРОВОЛОКА!A202)))","v":"z"},{"$f":"IF(ПРОВОЛОКА!J202=0,\"\",\"Проволока\")","v":""},{"$f":"IF(ПРОВОЛОКА!J202=0,\"\",CONCATENATE(ПРОВОЛОКА!C202,ПРОВОЛОКА!D202))","v":""},{"$f":"IF(ПРОВОЛОКА!J202=0,\"\",ПРОВОЛОКА!F202)","v":""},{"$f":"IF(ПРОВОЛОКА!J202=0,\"\",ПРОВОЛОКА!J202)","v":""},{"$f":"IF(ПРОВОЛОКА!J202=0,\"\",ПРОВОЛОКА!K202)","v":""},{"$f":"IF(ПРОВОЛОКА!J202=0,\"\",ПРОВОЛОКА!O202)","v":""},{"$f":"IF(ПРОВОЛОКА!J202=0,\"\",ПРОВОЛОКА!S202)","v":""}]
[{"$f":"IF(ПРОВОЛОКА!J203=0,\"z\",IF(ПРОВОЛОКА!J203=\"\",ПРОВОЛОКА!A203,IF(ПРОВОЛОКА!B203<>\"\",\"2Д/гиб\",ПРОВОЛОКА!A203)))","v":"z"},{"$f":"IF(ПРОВОЛОКА!J203=0,\"\",\"Проволока\")","v":""},{"$f":"IF(ПРОВОЛОКА!J203=0,\"\",CONCATENATE(ПРОВОЛОКА!C203,ПРОВОЛОКА!D203))","v":""},{"$f":"IF(ПРОВОЛОКА!J203=0,\"\",ПРОВОЛОКА!F203)","v":""},{"$f":"IF(ПРОВОЛОКА!J203=0,\"\",ПРОВОЛОКА!J203)","v":""},{"$f":"IF(ПРОВОЛОКА!J203=0,\"\",ПРОВОЛОКА!K203)","v":""},{"$f":"IF(ПРОВОЛОКА!J203=0,\"\",ПРОВОЛОКА!O203)","v":""},{"$f":"IF(ПРОВОЛОКА!J203=0,\"\",ПРОВОЛОКА!S203)","v":""}]
[{"$f":"IF(ПРОВОЛОКА!J204=0,\"z\",IF(ПРОВОЛОКА!J204=\"\",ПРОВОЛОКА!A204,IF(ПРОВОЛОКА!B204<>\"\",\"2Д/гиб\",ПРОВОЛОКА!A204)))","v":"z"},{"$f":"IF(ПРОВОЛОКА!J204=0,\"\",\"Проволока\")","v":""},{"$f":"IF(ПРОВОЛОКА!J204=0,\"\",CONCATENATE(ПРОВОЛОКА!C204,ПРОВОЛОКА!D204))","v":""},{"$f":"IF(ПРОВОЛОКА!J204=0,\"\",ПРОВОЛОКА!F204)","v":""},{"$f":"IF(ПРОВОЛОКА!J204=0,\"\",ПРОВОЛОКА!J204)","v":""},{"$f":"IF(ПРОВОЛОКА!J204=0,\"\",ПРОВОЛОКА!K204)","v":""},{"$f":"IF(ПРОВОЛОКА!J204=0,\"\",ПРОВОЛОКА!O204)","v":""},{"$f":"IF(ПРОВОЛОКА!J204=0,\"\",ПРОВОЛОКА!S204)","v":""}]
[{"$f":"IF(ПРОВОЛОКА!J205=0,\"z\",IF(ПРОВОЛОКА!J205=\"\",ПРОВОЛОКА!A205,IF(ПРОВОЛОКА!B205<>\"\",\"2Д/гиб\",ПРОВОЛОКА!A205)))","v":"z"},{"$f":"IF(ПРОВОЛОКА!J205=0,\"\",\"Проволока\")","v":""},{"$f":"IF(ПРОВОЛОКА!J205=0,\"\",CONCATENATE(ПРОВОЛОКА!C205,ПРОВОЛОКА!D205))","v":""},{"$f":"IF(ПРОВОЛОКА!J205=0,\"\",ПРОВОЛОКА!F205)","v":""},{"$f":"IF(ПРОВОЛОКА!J205=0,\"\",ПРОВОЛОКА!J205)","v":""},{"$f":"IF(ПРОВОЛОКА!J205=0,\"\",ПРОВОЛОКА!K205)","v":""},{"$f":"IF(ПРОВОЛОКА!J205=0,\"\",ПРОВОЛОКА!O205)","v":""},{"$f":"IF(ПРОВОЛОКА!J205=0,\"\",ПРОВОЛОКА!S205)","v":""}]
[{"$f":"IF(ПРОВОЛОКА!J206=0,\"z\",IF(ПРОВОЛОКА!J206=\"\",ПРОВОЛОКА!A206,IF(ПРОВОЛОКА!B206<>\"\",\"2Д/гиб\",ПРОВОЛОКА!A206)))","v":"z"},{"$f":"IF(ПРОВОЛОКА!J206=0,\"\",\"Проволока\")","v":""},{"$f":"IF(ПРОВОЛОКА!J206=0,\"\",CONCATENATE(ПРОВОЛОКА!C206,ПРОВОЛОКА!D206))","v":""},{"$f":"IF(ПРОВОЛОКА!J206=0,\"\",ПРОВОЛОКА!F206)","v":""},{"$f":"IF(ПРОВОЛОКА!J206=0,\"\",ПРОВОЛОКА!J206)","v":""},{"$f":"IF(ПРОВОЛОКА!J206=0,\"\",ПРОВОЛОКА!K206)","v":""},{"$f":"IF(ПРОВОЛОКА!J206=0,\"\",ПРОВОЛОКА!O206)","v":""},{"$f":"IF(ПРОВОЛОКА!J206=0,\"\",ПРОВОЛОКА!S206)","v":""}]
[{"$f":"IF(ПРОВОЛОКА!J207=0,\"z\",IF(ПРОВОЛОКА!J207=\"\",ПРОВОЛОКА!A207,IF(ПРОВОЛОКА!B207<>\"\",\"2Д/гиб\",ПРОВОЛОКА!A207)))","v":"z"},{"$f":"IF(ПРОВОЛОКА!J207=0,\"\",\"Проволока\")","v":""},{"$f":"IF(ПРОВОЛОКА!J207=0,\"\",CONCATENATE(ПРОВОЛОКА!C207,ПРОВОЛОКА!D207))","v":""},{"$f":"IF(ПРОВОЛОКА!J207=0,\"\",ПРОВОЛОКА!F207)","v":""},{"$f":"IF(ПРОВОЛОКА!J207=0,\"\",ПРОВОЛОКА!J207)","v":""},{"$f":"IF(ПРОВОЛОКА!J207=0,\"\",ПРОВОЛОКА!K207)","v":""},{"$f":"IF(ПРОВОЛОКА!J207=0,\"\",ПРОВОЛОКА!O207)","v":""},{"$f":"IF(ПРОВОЛОКА!J207=0,\"\",ПРОВОЛОКА!S207)","v":""}]
[{"$f":"IF(ПРОВОЛОКА!J208=0,\"z\",IF(ПРОВОЛОКА!J208=\"\",ПРОВОЛОКА!A208,IF(ПРОВОЛОКА!B208<>\"\",\"2Д/гиб\",ПРОВОЛОКА!A208)))","v":"z"},{"$f":"IF(ПРОВОЛОКА!J208=0,\"\",\"Проволока\")","v":""},{"$f":"IF(ПРОВОЛОКА!J208=0,\"\",CONCATENATE(ПРОВОЛОКА!C208,ПРОВОЛОКА!D208))","v":""},{"$f":"IF(ПРОВОЛОКА!J208=0,\"\",ПРОВОЛОКА!F208)","v":""},{"$f":"IF(ПРОВОЛОКА!J208=0,\"\",ПРОВОЛОКА!J208)","v":""},{"$f":"IF(ПРОВОЛОКА!J208=0,\"\",ПРОВОЛОКА!K208)","v":""},{"$f":"IF(ПРОВОЛОКА!J208=0,\"\",ПРОВОЛОКА!O208)","v":""},{"$f":"IF(ПРОВОЛОКА!J208=0,\"\",ПРОВОЛОКА!S208)","v":""}]
[{"$f":"IF(ПРОВОЛОКА!J209=0,\"z\",IF(ПРОВОЛОКА!J209=\"\",ПРОВОЛОКА!A209,IF(ПРОВОЛОКА!B209<>\"\",\"2Д/гиб\",ПРОВОЛОКА!A209)))","v":"z"},{"$f":"IF(ПРОВОЛОКА!J209=0,\"\",\"Проволока\")","v":""},{"$f":"IF(ПРОВОЛОКА!J209=0,\"\",CONCATENATE(ПРОВОЛОКА!C209,ПРОВОЛОКА!D209))","v":""},{"$f":"IF(ПРОВОЛОКА!J209=0,\"\",ПРОВОЛОКА!F209)","v":""},{"$f":"IF(ПРОВОЛОКА!J209=0,\"\",ПРОВОЛОКА!J209)","v":""},{"$f":"IF(ПРОВОЛОКА!J209=0,\"\",ПРОВОЛОКА!K209)","v":""},{"$f":"IF(ПРОВОЛОКА!J209=0,\"\",ПРОВОЛОКА!O209)","v":""},{"$f":"IF(ПРОВОЛОКА!J209=0,\"\",ПРОВОЛОКА!S209)","v":""}]
[{"$f":"IF(ПРОВОЛОКА!J210=0,\"z\",IF(ПРОВОЛОКА!J210=\"\",ПРОВОЛОКА!A210,IF(ПРОВОЛОКА!B210<>\"\",\"2Д/гиб\",ПРОВОЛОКА!A210)))","v":"z"},{"$f":"IF(ПРОВОЛОКА!J210=0,\"\",\"Проволока\")","v":""},{"$f":"IF(ПРОВОЛОКА!J210=0,\"\",CONCATENATE(ПРОВОЛОКА!C210,ПРОВОЛОКА!D210))","v":""},{"$f":"IF(ПРОВОЛОКА!J210=0,\"\",ПРОВОЛОКА!F210)","v":""},{"$f":"IF(ПРОВОЛОКА!J210=0,\"\",ПРОВОЛОКА!J210)","v":""},{"$f":"IF(ПРОВОЛОКА!J210=0,\"\",ПРОВОЛОКА!K210)","v":""},{"$f":"IF(ПРОВОЛОКА!J210=0,\"\",ПРОВОЛОКА!O210)","v":""},{"$f":"IF(ПРОВОЛОКА!J210=0,\"\",ПРОВОЛОКА!S210)","v":""}]
[{"$f":"IF(ПРОВОЛОКА!J211=0,\"z\",IF(ПРОВОЛОКА!J211=\"\",ПРОВОЛОКА!A211,IF(ПРОВОЛОКА!B211<>\"\",\"2Д/гиб\",ПРОВОЛОКА!A211)))","v":"z"},{"$f":"IF(ПРОВОЛОКА!J211=0,\"\",\"Проволока\")","v":""},{"$f":"IF(ПРОВОЛОКА!J211=0,\"\",CONCATENATE(ПРОВОЛОКА!C211,ПРОВОЛОКА!D211))","v":""},{"$f":"IF(ПРОВОЛОКА!J211=0,\"\",ПРОВОЛОКА!F211)","v":""},{"$f":"IF(ПРОВОЛОКА!J211=0,\"\",ПРОВОЛОКА!J211)","v":""},{"$f":"IF(ПРОВОЛОКА!J211=0,\"\",ПРОВОЛОКА!K211)","v":""},{"$f":"IF(ПРОВОЛОКА!J211=0,\"\",ПРОВОЛОКА!O211)","v":""},{"$f":"IF(ПРОВОЛОКА!J211=0,\"\",ПРОВОЛОКА!S211)","v":""}]
[{"$f":"IF(ПРОВОЛОКА!J212=0,\"z\",IF(ПРОВОЛОКА!J212=\"\",ПРОВОЛОКА!A212,IF(ПРОВОЛОКА!B212<>\"\",\"2Д/гиб\",ПРОВОЛОКА!A212)))","v":"z"},{"$f":"IF(ПРОВОЛОКА!J212=0,\"\",\"Проволока\")","v":""},{"$f":"IF(ПРОВОЛОКА!J212=0,\"\",CONCATENATE(ПРОВОЛОКА!C212,ПРОВОЛОКА!D212))","v":""},{"$f":"IF(ПРОВОЛОКА!J212=0,\"\",ПРОВОЛОКА!F212)","v":""},{"$f":"IF(ПРОВОЛОКА!J212=0,\"\",ПРОВОЛОКА!J212)","v":""},{"$f":"IF(ПРОВОЛОКА!J212=0,\"\",ПРОВОЛОКА!K212)","v":""},{"$f":"IF(ПРОВОЛОКА!J212=0,\"\",ПРОВОЛОКА!O212)","v":""},{"$f":"IF(ПРОВОЛОКА!J212=0,\"\",ПРОВОЛОКА!S212)","v":""}]
[{"$f":"IF(ПРОВОЛОКА!J213=0,\"z\",IF(ПРОВОЛОКА!J213=\"\",ПРОВОЛОКА!A213,IF(ПРОВОЛОКА!B213<>\"\",\"2Д/гиб\",ПРОВОЛОКА!A213)))","v":"z"},{"$f":"IF(ПРОВОЛОКА!J213=0,\"\",\"Проволока\")","v":""},{"$f":"IF(ПРОВОЛОКА!J213=0,\"\",CONCATENATE(ПРОВОЛОКА!C213,ПРОВОЛОКА!D213))","v":""},{"$f":"IF(ПРОВОЛОКА!J213=0,\"\",ПРОВОЛОКА!F213)","v":""},{"$f":"IF(ПРОВОЛОКА!J213=0,\"\",ПРОВОЛОКА!J213)","v":""},{"$f":"IF(ПРОВОЛОКА!J213=0,\"\",ПРОВОЛОКА!K213)","v":""},{"$f":"IF(ПРОВОЛОКА!J213=0,\"\",ПРОВОЛОКА!O213)","v":""},{"$f":"IF(ПРОВОЛОКА!J213=0,\"\",ПРОВОЛОКА!S213)","v":""}]
[{"$f":"IF(ПРОВОЛОКА!J214=0,\"z\",IF(ПРОВОЛОКА!J214=\"\",ПРОВОЛОКА!A214,IF(ПРОВОЛОКА!B214<>\"\",\"2Д/гиб\",ПРОВОЛОКА!A214)))","v":"z"},{"$f":"IF(ПРОВОЛОКА!J214=0,\"\",\"Проволока\")","v":""},{"$f":"IF(ПРОВОЛОКА!J214=0,\"\",CONCATENATE(ПРОВОЛОКА!C214,ПРОВОЛОКА!D214))","v":""},{"$f":"IF(ПРОВОЛОКА!J214=0,\"\",ПРОВОЛОКА!F214)","v":""},{"$f":"IF(ПРОВОЛОКА!J214=0,\"\",ПРОВОЛОКА!J214)","v":""},{"$f":"IF(ПРОВОЛОКА!J214=0,\"\",ПРОВОЛОКА!K214)","v":""},{"$f":"IF(ПРОВОЛОКА!J214=0,\"\",ПРОВОЛОКА!O214)","v":""},{"$f":"IF(ПРОВОЛОКА!J214=0,\"\",ПРОВОЛОКА!S214)","v":""}]
[{"$f":"IF(ПРОВОЛОКА!J215=0,\"z\",IF(ПРОВОЛОКА!J215=\"\",ПРОВОЛОКА!A215,IF(ПРОВОЛОКА!B215<>\"\",\"2Д/гиб\",ПРОВОЛОКА!A215)))","v":"z"},{"$f":"IF(ПРОВОЛОКА!J215=0,\"\",\"Проволока\")","v":""},{"$f":"IF(ПРОВОЛОКА!J215=0,\"\",CONCATENATE(ПРОВОЛОКА!C215,ПРОВОЛОКА!D215))","v":""},{"$f":"IF(ПРОВОЛОКА!J215=0,\"\",ПРОВОЛОКА!F215)","v":""},{"$f":"IF(ПРОВОЛОКА!J215=0,\"\",ПРОВОЛОКА!J215)","v":""},{"$f":"IF(ПРОВОЛОКА!J215=0,\"\",ПРОВОЛОКА!K215)","v":""},{"$f":"IF(ПРОВОЛОКА!J215=0,\"\",ПРОВОЛОКА!O215)","v":""},{"$f":"IF(ПРОВОЛОКА!J215=0,\"\",ПРОВОЛОКА!S215)","v":""}]
[{"$f":"IF(ПРОВОЛОКА!J216=0,\"z\",IF(ПРОВОЛОКА!J216=\"\",ПРОВОЛОКА!A216,IF(ПРОВОЛОКА!B216<>\"\",\"2Д/гиб\",ПРОВОЛОКА!A216)))","v":"z"},{"$f":"IF(ПРОВОЛОКА!J216=0,\"\",\"Проволока\")","v":""},{"$f":"IF(ПРОВОЛОКА!J216=0,\"\",CONCATENATE(ПРОВОЛОКА!C216,ПРОВОЛОКА!D216))","v":""},{"$f":"IF(ПРОВОЛОКА!J216=0,\"\",ПРОВОЛОКА!F216)","v":""},{"$f":"IF(ПРОВОЛОКА!J216=0,\"\",ПРОВОЛОКА!J216)","v":""},{"$f":"IF(ПРОВОЛОКА!J216=0,\"\",ПРОВОЛОКА!K216)","v":""},{"$f":"IF(ПРОВОЛОКА!J216=0,\"\",ПРОВОЛОКА!O216)","v":""},{"$f":"IF(ПРОВОЛОКА!J216=0,\"\",ПРОВОЛОКА!S216)","v":""}]
[{"$f":"IF(ПРОВОЛОКА!J217=0,\"z\",IF(ПРОВОЛОКА!J217=\"\",ПРОВОЛОКА!A217,IF(ПРОВОЛОКА!B217<>\"\",\"2Д/гиб\",ПРОВОЛОКА!A217)))","v":"z"},{"$f":"IF(ПРОВОЛОКА!J217=0,\"\",\"Проволока\")","v":""},{"$f":"IF(ПРОВОЛОКА!J217=0,\"\",CONCATENATE(ПРОВОЛОКА!C217,ПРОВОЛОКА!D217))","v":""},{"$f":"IF(ПРОВОЛОКА!J217=0,\"\",ПРОВОЛОКА!F217)","v":""},{"$f":"IF(ПРОВОЛОКА!J217=0,\"\",ПРОВОЛОКА!J217)","v":""},{"$f":"IF(ПРОВОЛОКА!J217=0,\"\",ПРОВОЛОКА!K217)","v":""},{"$f":"IF(ПРОВОЛОКА!J217=0,\"\",ПРОВОЛОКА!O217)","v":""},{"$f":"IF(ПРОВОЛОКА!J217=0,\"\",ПРОВОЛОКА!S217)","v":""}]
[{"$f":"IF(ПРОВОЛОКА!J218=0,\"z\",IF(ПРОВОЛОКА!J218=\"\",ПРОВОЛОКА!A218,IF(ПРОВОЛОКА!B218<>\"\",\"2Д/гиб\",ПРОВОЛОКА!A218)))","v":"z"},{"$f":"IF(ПРОВОЛОКА!J218=0,\"\",\"Проволока\")","v":""},{"$f":"IF(ПРОВОЛОКА!J218=0,\"\",CONCATENATE(ПРОВОЛОКА!C218,ПРОВОЛОКА!D218))","v":""},{"$f":"IF(ПРОВОЛОКА!J218=0,\"\",ПРОВОЛОКА!F218)","v":""},{"$f":"IF(ПРОВОЛОКА!J218=0,\"\",ПРОВОЛОКА!J218)","v":""},{"$f":"IF(ПРОВОЛОКА!J218=0,\"\",ПРОВОЛОКА!K218)","v":""},{"$f":"IF(ПРОВОЛОКА!J218=0,\"\",ПРОВОЛОКА!O218)","v":""},{"$f":"IF(ПРОВОЛОКА!J218=0,\"\",ПРОВОЛОКА!S218)","v":""}]
[{"$f":"IF(ПРОВОЛОКА!J219=0,\"z\",IF(ПРОВОЛОКА!J219=\"\",ПРОВОЛОКА!A219,IF(ПРОВОЛОКА!B219<>\"\",\"2Д/гиб\",ПРОВОЛОКА!A219)))","v":"z"},{"$f":"IF(ПРОВОЛОКА!J219=0,\"\",\"Проволока\")","v":""},{"$f":"IF(ПРОВОЛОКА!J219=0,\"\",CONCATENATE(ПРОВОЛОКА!C219,ПРОВОЛОКА!D219))","v":""},{"$f":"IF(ПРОВОЛОКА!J219=0,\"\",ПРОВОЛОКА!F219)","v":""},{"$f":"IF(ПРОВОЛОКА!J219=0,\"\",ПРОВОЛОКА!J219)","v":""},{"$f":"IF(ПРОВОЛОКА!J219=0,\"\",ПРОВОЛОКА!K219)","v":""},{"$f":"IF(ПРОВОЛОКА!J219=0,\"\",ПРОВОЛОКА!O219)","v":""},{"$f":"IF(ПРОВОЛОКА!J219=0,\"\",ПРОВОЛОКА!S219)","v":""}]
[{"$f":"IF(ПРОВОЛОКА!J220=0,\"z\",IF(ПРОВОЛОКА!J220=\"\",ПРОВОЛОКА!A220,IF(ПРОВОЛОКА!B220<>\"\",\"2Д/гиб\",ПРОВОЛОКА!A220)))","v":"z"},{"$f":"IF(ПРОВОЛОКА!J220=0,\"\",\"Проволока\")","v":""},{"$f":"IF(ПРОВОЛОКА!J220=0,\"\",CONCATENATE(ПРОВОЛОКА!C220,ПРОВОЛОКА!D220))","v":""},{"$f":"IF(ПРОВОЛОКА!J220=0,\"\",ПРОВОЛОКА!F220)","v":""},{"$f":"IF(ПРОВОЛОКА!J220=0,\"\",ПРОВОЛОКА!J220)","v":""},{"$f":"IF(ПРОВОЛОКА!J220=0,\"\",ПРОВОЛОКА!K220)","v":""},{"$f":"IF(ПРОВОЛОКА!J220=0,\"\",ПРОВОЛОКА!O220)","v":""},{"$f":"IF(ПРОВОЛОКА!J220=0,\"\",ПРОВОЛОКА!S220)","v":""}]
[{"$f":"IF(ПРОВОЛОКА!J221=0,\"z\",IF(ПРОВОЛОКА!J221=\"\",ПРОВОЛОКА!A221,IF(ПРОВОЛОКА!B221<>\"\",\"2Д/гиб\",ПРОВОЛОКА!A221)))","v":"z"},{"$f":"IF(ПРОВОЛОКА!J221=0,\"\",\"Проволока\")","v":""},{"$f":"IF(ПРОВОЛОКА!J221=0,\"\",CONCATENATE(ПРОВОЛОКА!C221,ПРОВОЛОКА!D221))","v":""},{"$f":"IF(ПРОВОЛОКА!J221=0,\"\",ПРОВОЛОКА!F221)","v":""},{"$f":"IF(ПРОВОЛОКА!J221=0,\"\",ПРОВОЛОКА!J221)","v":""},{"$f":"IF(ПРОВОЛОКА!J221=0,\"\",ПРОВОЛОКА!K221)","v":""},{"$f":"IF(ПРОВОЛОКА!J221=0,\"\",ПРОВОЛОКА!O221)","v":""},{"$f":"IF(ПРОВОЛОКА!J221=0,\"\",ПРОВОЛОКА!S221)","v":""}]
[{"$f":"IF(ПРОВОЛОКА!J222=0,\"z\",IF(ПРОВОЛОКА!J222=\"\",ПРОВОЛОКА!A222,IF(ПРОВОЛОКА!B222<>\"\",\"2Д/гиб\",ПРОВОЛОКА!A222)))","v":"z"},{"$f":"IF(ПРОВОЛОКА!J222=0,\"\",\"Проволока\")","v":""},{"$f":"IF(ПРОВОЛОКА!J222=0,\"\",CONCATENATE(ПРОВОЛОКА!C222,ПРОВОЛОКА!D222))","v":""},{"$f":"IF(ПРОВОЛОКА!J222=0,\"\",ПРОВОЛОКА!F222)","v":""},{"$f":"IF(ПРОВОЛОКА!J222=0,\"\",ПРОВОЛОКА!J222)","v":""},{"$f":"IF(ПРОВОЛОКА!J222=0,\"\",ПРОВОЛОКА!K222)","v":""},{"$f":"IF(ПРОВОЛОКА!J222=0,\"\",ПРОВОЛОКА!O222)","v":""},{"$f":"IF(ПРОВОЛОКА!J222=0,\"\",ПРОВОЛОКА!S222)","v":""}]
[{"$f":"IF(ПРОВОЛОКА!J223=0,\"z\",IF(ПРОВОЛОКА!J223=\"\",ПРОВОЛОКА!A223,IF(ПРОВОЛОКА!B223<>\"\",\"2Д/гиб\",ПРОВОЛОКА!A223)))","v":"z"},{"$f":"IF(ПРОВОЛОКА!J223=0,\"\",\"Проволока\")","v":""},{"$f":"IF(ПРОВОЛОКА!J223=0,\"\",CONCATENATE(ПРОВОЛОКА!C223,ПРОВОЛОКА!D223))","v":""},{"$f":"IF(ПРОВОЛОКА!J223=0,\"\",ПРОВОЛОКА!F223)","v":""},{"$f":"IF(ПРОВОЛОКА!J223=0,\"\",ПРОВОЛОКА!J223)","v":""},{"$f":"IF(ПРОВОЛОКА!J223=0,\"\",ПРОВОЛОКА!K223)","v":""},{"$f":"IF(ПРОВОЛОКА!J223=0,\"\",ПРОВОЛОКА!O223)","v":""},{"$f":"IF(ПРОВОЛОКА!J223=0,\"\",ПРОВОЛОКА!S223)","v":""}]
[{"$f":"IF(ПРОВОЛОКА!J224=0,\"z\",IF(ПРОВОЛОКА!J224=\"\",ПРОВОЛОКА!A224,IF(ПРОВОЛОКА!B224<>\"\",\"2Д/гиб\",ПРОВОЛОКА!A224)))","v":"z"},{"$f":"IF(ПРОВОЛОКА!J224=0,\"\",\"Проволока\")","v":""},{"$f":"IF(ПРОВОЛОКА!J224=0,\"\",CONCATENATE(ПРОВОЛОКА!C224,ПРОВОЛОКА!D224))","v":""},{"$f":"IF(ПРОВОЛОКА!J224=0,\"\",ПРОВОЛОКА!F224)","v":""},{"$f":"IF(ПРОВОЛОКА!J224=0,\"\",ПРОВОЛОКА!J224)","v":""},{"$f":"IF(ПРОВОЛОКА!J224=0,\"\",ПРОВОЛОКА!K224)","v":""},{"$f":"IF(ПРОВОЛОКА!J224=0,\"\",ПРОВОЛОКА!O224)","v":""},{"$f":"IF(ПРОВОЛОКА!J224=0,\"\",ПРОВОЛОКА!S224)","v":""}]
[{"$f":"IF(ПРОВОЛОКА!J225=0,\"z\",IF(ПРОВОЛОКА!J225=\"\",ПРОВОЛОКА!A225,IF(ПРОВОЛОКА!B225<>\"\",\"2Д/гиб\",ПРОВОЛОКА!A225)))","v":"z"},{"$f":"IF(ПРОВОЛОКА!J225=0,\"\",\"Проволока\")","v":""},{"$f":"IF(ПРОВОЛОКА!J225=0,\"\",CONCATENATE(ПРОВОЛОКА!C225,ПРОВОЛОКА!D225))","v":""},{"$f":"IF(ПРОВОЛОКА!J225=0,\"\",ПРОВОЛОКА!F225)","v":""},{"$f":"IF(ПРОВОЛОКА!J225=0,\"\",ПРОВОЛОКА!J225)","v":""},{"$f":"IF(ПРОВОЛОКА!J225=0,\"\",ПРОВОЛОКА!K225)","v":""},{"$f":"IF(ПРОВОЛОКА!J225=0,\"\",ПРОВОЛОКА!O225)","v":""},{"$f":"IF(ПРОВОЛОКА!J225=0,\"\",ПРОВОЛОКА!S225)","v":""}]
[{"$f":"IF(ПРОВОЛОКА!J226=0,\"z\",IF(ПРОВОЛОКА!J226=\"\",ПРОВОЛОКА!A226,IF(ПРОВОЛОКА!B226<>\"\",\"2Д/гиб\",ПРОВОЛОКА!A226)))","v":"z"},{"$f":"IF(ПРОВОЛОКА!J226=0,\"\",\"Проволока\")","v":""},{"$f":"IF(ПРОВОЛОКА!J226=0,\"\",CONCATENATE(ПРОВОЛОКА!C226,ПРОВОЛОКА!D226))","v":""},{"$f":"IF(ПРОВОЛОКА!J226=0,\"\",ПРОВОЛОКА!F226)","v":""},{"$f":"IF(ПРОВОЛОКА!J226=0,\"\",ПРОВОЛОКА!J226)","v":""},{"$f":"IF(ПРОВОЛОКА!J226=0,\"\",ПРОВОЛОКА!K226)","v":""},{"$f":"IF(ПРОВОЛОКА!J226=0,\"\",ПРОВОЛОКА!O226)","v":""},{"$f":"IF(ПРОВОЛОКА!J226=0,\"\",ПРОВОЛОКА!S226)","v":""}]
[{"$f":"IF(ПРОВОЛОКА!J229=0,\"z\",IF(ПРОВОЛОКА!J229=\"\",ПРОВОЛОКА!A229,IF(ПРОВОЛОКА!B229<>\"\",\"2Д/гиб\",ПРОВОЛОКА!A229)))","v":"z"},{"$f":"IF(ПРОВОЛОКА!J229=0,\"\",\"Проволока\")","v":""},{"$f":"IF(ПРОВОЛОКА!J229=0,\"\",CONCATENATE(ПРОВОЛОКА!C229,ПРОВОЛОКА!D229))","v":""},{"$f":"IF(ПРОВОЛОКА!J229=0,\"\",ПРОВОЛОКА!F229)","v":""},{"$f":"IF(ПРОВОЛОКА!J229=0,\"\",ПРОВОЛОКА!J229)","v":""},{"$f":"IF(ПРОВОЛОКА!J229=0,\"\",ПРОВОЛОКА!K229)","v":""},{"$f":"IF(ПРОВОЛОКА!J229=0,\"\",ПРОВОЛОКА!O229)","v":""},{"$f":"IF(ПРОВОЛОКА!J229=0,\"\",ПРОВОЛОКА!S229)","v":""}]
[{"$f":"IF(ПРОВОЛОКА!J230=0,\"z\",IF(ПРОВОЛОКА!J230=\"\",ПРОВОЛОКА!A230,IF(ПРОВОЛОКА!B230<>\"\",\"2Д/гиб\",ПРОВОЛОКА!A230)))","v":"z"},{"$f":"IF(ПРОВОЛОКА!J230=0,\"\",\"Проволока\")","v":""},{"$f":"IF(ПРОВОЛОКА!J230=0,\"\",CONCATENATE(ПРОВОЛОКА!C230,ПРОВОЛОКА!D230))","v":""},{"$f":"IF(ПРОВОЛОКА!J230=0,\"\",ПРОВОЛОКА!F230)","v":""},{"$f":"IF(ПРОВОЛОКА!J230=0,\"\",ПРОВОЛОКА!J230)","v":""},{"$f":"IF(ПРОВОЛОКА!J230=0,\"\",ПРОВОЛОКА!K230)","v":""},{"$f":"IF(ПРОВОЛОКА!J230=0,\"\",ПРОВОЛОКА!O230)","v":""},{"$f":"IF(ПРОВОЛОКА!J230=0,\"\",ПРОВОЛОКА!S230)","v":""}]
[{"$f":"IF(ПРОВОЛОКА!J231=0,\"z\",IF(ПРОВОЛОКА!J231=\"\",ПРОВОЛОКА!A231,IF(ПРОВОЛОКА!B231<>\"\",\"2Д/гиб\",ПРОВОЛОКА!A231)))","v":"z"},{"$f":"IF(ПРОВОЛОКА!J231=0,\"\",\"Проволока\")","v":""},{"$f":"IF(ПРОВОЛОКА!J231=0,\"\",CONCATENATE(ПРОВОЛОКА!C231,ПРОВОЛОКА!D231))","v":""},{"$f":"IF(ПРОВОЛОКА!J231=0,\"\",ПРОВОЛОКА!F231)","v":""},{"$f":"IF(ПРОВОЛОКА!J231=0,\"\",ПРОВОЛОКА!J231)","v":""},{"$f":"IF(ПРОВОЛОКА!J231=0,\"\",ПРОВОЛОКА!K231)","v":""},{"$f":"IF(ПРОВОЛОКА!J231=0,\"\",ПРОВОЛОКА!O231)","v":""},{"$f":"IF(ПРОВОЛОКА!J231=0,\"\",ПРОВОЛОКА!S231)","v":""}]
[{"$f":"IF(ПРОВОЛОКА!J232=0,\"z\",IF(ПРОВОЛОКА!J232=\"\",ПРОВОЛОКА!A232,IF(ПРОВОЛОКА!B232<>\"\",\"2Д/гиб\",ПРОВОЛОКА!A232)))","v":"z"},{"$f":"IF(ПРОВОЛОКА!J232=0,\"\",\"Проволока\")","v":""},{"$f":"IF(ПРОВОЛОКА!J232=0,\"\",CONCATENATE(ПРОВОЛОКА!C232,ПРОВОЛОКА!D232))","v":""},{"$f":"IF(ПРОВОЛОКА!J232=0,\"\",ПРОВОЛОКА!F232)","v":""},{"$f":"IF(ПРОВОЛОКА!J232=0,\"\",ПРОВОЛОКА!J232)","v":""},{"$f":"IF(ПРОВОЛОКА!J232=0,\"\",ПРОВОЛОКА!K232)","v":""},{"$f":"IF(ПРОВОЛОКА!J232=0,\"\",ПРОВОЛОКА!O232)","v":""},{"$f":"IF(ПРОВОЛОКА!J232=0,\"\",ПРОВОЛОКА!S232)","v":""}]
[{"$f":"IF(ПРОВОЛОКА!J233=0,\"z\",IF(ПРОВОЛОКА!J233=\"\",ПРОВОЛОКА!A233,IF(ПРОВОЛОКА!B233<>\"\",\"2Д/гиб\",ПРОВОЛОКА!A233)))","v":"z"},{"$f":"IF(ПРОВОЛОКА!J233=0,\"\",\"Проволока\")","v":""},{"$f":"IF(ПРОВОЛОКА!J233=0,\"\",CONCATENATE(ПРОВОЛОКА!C233,ПРОВОЛОКА!D233))","v":""},{"$f":"IF(ПРОВОЛОКА!J233=0,\"\",ПРОВОЛОКА!F233)","v":""},{"$f":"IF(ПРОВОЛОКА!J233=0,\"\",ПРОВОЛОКА!J233)","v":""},{"$f":"IF(ПРОВОЛОКА!J233=0,\"\",ПРОВОЛОКА!K233)","v":""},{"$f":"IF(ПРОВОЛОКА!J233=0,\"\",ПРОВОЛОКА!O233)","v":""},{"$f":"IF(ПРОВОЛОКА!J233=0,\"\",ПРОВОЛОКА!S233)","v":""}]
[{"$f":"IF(ПРОВОЛОКА!J234=0,\"z\",IF(ПРОВОЛОКА!J234=\"\",ПРОВОЛОКА!A234,IF(ПРОВОЛОКА!B234<>\"\",\"2Д/гиб\",ПРОВОЛОКА!A234)))","v":"z"},{"$f":"IF(ПРОВОЛОКА!J234=0,\"\",\"Проволока\")","v":""},{"$f":"IF(ПРОВОЛОКА!J234=0,\"\",CONCATENATE(ПРОВОЛОКА!C234,ПРОВОЛОКА!D234))","v":""},{"$f":"IF(ПРОВОЛОКА!J234=0,\"\",ПРОВОЛОКА!F234)","v":""},{"$f":"IF(ПРОВОЛОКА!J234=0,\"\",ПРОВОЛОКА!J234)","v":""},{"$f":"IF(ПРОВОЛОКА!J234=0,\"\",ПРОВОЛОКА!K234)","v":""},{"$f":"IF(ПРОВОЛОКА!J234=0,\"\",ПРОВОЛОКА!O234)","v":""},{"$f":"IF(ПРОВОЛОКА!J234=0,\"\",ПРОВОЛОКА!S234)","v":""}]
[{"$f":"IF(ПРОВОЛОКА!J235=0,\"z\",IF(ПРОВОЛОКА!J235=\"\",ПРОВОЛОКА!A235,IF(ПРОВОЛОКА!B235<>\"\",\"2Д/гиб\",ПРОВОЛОКА!A235)))","v":"z"},{"$f":"IF(ПРОВОЛОКА!J235=0,\"\",\"Проволока\")","v":""},{"$f":"IF(ПРОВОЛОКА!J235=0,\"\",CONCATENATE(ПРОВОЛОКА!C235,ПРОВОЛОКА!D235))","v":""},{"$f":"IF(ПРОВОЛОКА!J235=0,\"\",ПРОВОЛОКА!F235)","v":""},{"$f":"IF(ПРОВОЛОКА!J235=0,\"\",ПРОВОЛОКА!J235)","v":""},{"$f":"IF(ПРОВОЛОКА!J235=0,\"\",ПРОВОЛОКА!K235)","v":""},{"$f":"IF(ПРОВОЛОКА!J235=0,\"\",ПРОВОЛОКА!O235)","v":""},{"$f":"IF(ПРОВОЛОКА!J235=0,\"\",ПРОВОЛОКА!S235)","v":""}]
[{"$f":"IF(ПРОВОЛОКА!J236=0,\"z\",IF(ПРОВОЛОКА!J236=\"\",ПРОВОЛОКА!A236,IF(ПРОВОЛОКА!B236<>\"\",\"2Д/гиб\",ПРОВОЛОКА!A236)))","v":"z"},{"$f":"IF(ПРОВОЛОКА!J236=0,\"\",\"Проволока\")","v":""},{"$f":"IF(ПРОВОЛОКА!J236=0,\"\",CONCATENATE(ПРОВОЛОКА!C236,ПРОВОЛОКА!D236))","v":""},{"$f":"IF(ПРОВОЛОКА!J236=0,\"\",ПРОВОЛОКА!F236)","v":""},{"$f":"IF(ПРОВОЛОКА!J236=0,\"\",ПРОВОЛОКА!J236)","v":""},{"$f":"IF(ПРОВОЛОКА!J236=0,\"\",ПРОВОЛОКА!K236)","v":""},{"$f":"IF(ПРОВОЛОКА!J236=0,\"\",ПРОВОЛОКА!O236)","v":""},{"$f":"IF(ПРОВОЛОКА!J236=0,\"\",ПРОВОЛОКА!S236)","v":""}]
[{"$f":"IF(ПРОВОЛОКА!J237=0,\"z\",IF(ПРОВОЛОКА!J237=\"\",ПРОВОЛОКА!A237,IF(ПРОВОЛОКА!B237<>\"\",\"2Д/гиб\",ПРОВОЛОКА!A237)))","v":"z"},{"$f":"IF(ПРОВОЛОКА!J237=0,\"\",\"Проволока\")","v":""},{"$f":"IF(ПРОВОЛОКА!J237=0,\"\",CONCATENATE(ПРОВОЛОКА!C237,ПРОВОЛОКА!D237))","v":""},{"$f":"IF(ПРОВОЛОКА!J237=0,\"\",ПРОВОЛОКА!F237)","v":""},{"$f":"IF(ПРОВОЛОКА!J237=0,\"\",ПРОВОЛОКА!J237)","v":""},{"$f":"IF(ПРОВОЛОКА!J237=0,\"\",ПРОВОЛОКА!K237)","v":""},{"$f":"IF(ПРОВОЛОКА!J237=0,\"\",ПРОВОЛОКА!O237)","v":""},{"$f":"IF(ПРОВОЛОКА!J237=0,\"\",ПРОВОЛОКА!S237)","v":""}]
[{"$f":"IF(ПРОВОЛОКА!J238=0,\"z\",IF(ПРОВОЛОКА!J238=\"\",ПРОВОЛОКА!A238,IF(ПРОВОЛОКА!B238<>\"\",\"2Д/гиб\",ПРОВОЛОКА!A238)))","v":"z"},{"$f":"IF(ПРОВОЛОКА!J238=0,\"\",\"Проволока\")","v":""},{"$f":"IF(ПРОВОЛОКА!J238=0,\"\",CONCATENATE(ПРОВОЛОКА!C238,ПРОВОЛОКА!D238))","v":""},{"$f":"IF(ПРОВОЛОКА!J238=0,\"\",ПРОВОЛОКА!F238)","v":""},{"$f":"IF(ПРОВОЛОКА!J238=0,\"\",ПРОВОЛОКА!J238)","v":""},{"$f":"IF(ПРОВОЛОКА!J238=0,\"\",ПРОВОЛОКА!K238)","v":""},{"$f":"IF(ПРОВОЛОКА!J238=0,\"\",ПРОВОЛОКА!O238)","v":""},{"$f":"IF(ПРОВОЛОКА!J238=0,\"\",ПРОВОЛОКА!S238)","v":""}]
[{"$f":"IF(ПРОВОЛОКА!J239=0,\"z\",IF(ПРОВОЛОКА!J239=\"\",ПРОВОЛОКА!A239,IF(ПРОВОЛОКА!B239<>\"\",\"2Д/гиб\",ПРОВОЛОКА!A239)))","v":"z"},{"$f":"IF(ПРОВОЛОКА!J239=0,\"\",\"Проволока\")","v":""},{"$f":"IF(ПРОВОЛОКА!J239=0,\"\",CONCATENATE(ПРОВОЛОКА!C239,ПРОВОЛОКА!D239))","v":""},{"$f":"IF(ПРОВОЛОКА!J239=0,\"\",ПРОВОЛОКА!F239)","v":""},{"$f":"IF(ПРОВОЛОКА!J239=0,\"\",ПРОВОЛОКА!J239)","v":""},{"$f":"IF(ПРОВОЛОКА!J239=0,\"\",ПРОВОЛОКА!K239)","v":""},{"$f":"IF(ПРОВОЛОКА!J239=0,\"\",ПРОВОЛОКА!O239)","v":""},{"$f":"IF(ПРОВОЛОКА!J239=0,\"\",ПРОВОЛОКА!S239)","v":""}]
[{"$f":"IF(ПРОВОЛОКА!J240=0,\"z\",IF(ПРОВОЛОКА!J240=\"\",ПРОВОЛОКА!A240,IF(ПРОВОЛОКА!B240<>\"\",\"2Д/гиб\",ПРОВОЛОКА!A240)))","v":"z"},{"$f":"IF(ПРОВОЛОКА!J240=0,\"\",\"Проволока\")","v":""},{"$f":"IF(ПРОВОЛОКА!J240=0,\"\",CONCATENATE(ПРОВОЛОКА!C240,ПРОВОЛОКА!D240))","v":""},{"$f":"IF(ПРОВОЛОКА!J240=0,\"\",ПРОВОЛОКА!F240)","v":""},{"$f":"IF(ПРОВОЛОКА!J240=0,\"\",ПРОВОЛОКА!J240)","v":""},{"$f":"IF(ПРОВОЛОКА!J240=0,\"\",ПРОВОЛОКА!K240)","v":""},{"$f":"IF(ПРОВОЛОКА!J240=0,\"\",ПРОВОЛОКА!O240)","v":""},{"$f":"IF(ПРОВОЛОКА!J240=0,\"\",ПРОВОЛОКА!S240)","v":""}]
[{"$f":"IF(ПРОВОЛОКА!J241=0,\"z\",IF(ПРОВОЛОКА!J241=\"\",ПРОВОЛОКА!A241,IF(ПРОВОЛОКА!B241<>\"\",\"2Д/гиб\",ПРОВОЛОКА!A241)))","v":"z"},{"$f":"IF(ПРОВОЛОКА!J241=0,\"\",\"Проволока\")","v":""},{"$f":"IF(ПРОВОЛОКА!J241=0,\"\",CONCATENATE(ПРОВОЛОКА!C241,ПРОВОЛОКА!D241))","v":""},{"$f":"IF(ПРОВОЛОКА!J241=0,\"\",ПРОВОЛОКА!F241)","v":""},{"$f":"IF(ПРОВОЛОКА!J241=0,\"\",ПРОВОЛОКА!J241)","v":""},{"$f":"IF(ПРОВОЛОКА!J241=0,\"\",ПРОВОЛОКА!K241)","v":""},{"$f":"IF(ПРОВОЛОКА!J241=0,\"\",ПРОВОЛОКА!O241)","v":""},{"$f":"IF(ПРОВОЛОКА!J241=0,\"\",ПРОВОЛОКА!S241)","v":""}]
[{"$f":"IF(ПРОВОЛОКА!J242=0,\"z\",IF(ПРОВОЛОКА!J242=\"\",ПРОВОЛОКА!A242,IF(ПРОВОЛОКА!B242<>\"\",\"2Д/гиб\",ПРОВОЛОКА!A242)))","v":"z"},{"$f":"IF(ПРОВОЛОКА!J242=0,\"\",\"Проволока\")","v":""},{"$f":"IF(ПРОВОЛОКА!J242=0,\"\",CONCATENATE(ПРОВОЛОКА!C242,ПРОВОЛОКА!D242))","v":""},{"$f":"IF(ПРОВОЛОКА!J242=0,\"\",ПРОВОЛОКА!F242)","v":""},{"$f":"IF(ПРОВОЛОКА!J242=0,\"\",ПРОВОЛОКА!J242)","v":""},{"$f":"IF(ПРОВОЛОКА!J242=0,\"\",ПРОВОЛОКА!K242)","v":""},{"$f":"IF(ПРОВОЛОКА!J242=0,\"\",ПРОВОЛОКА!O242)","v":""},{"$f":"IF(ПРОВОЛОКА!J242=0,\"\",ПРОВОЛОКА!S242)","v":""}]
[{"$f":"IF(ПРОВОЛОКА!J243=0,\"z\",IF(ПРОВОЛОКА!J243=\"\",ПРОВОЛОКА!A243,IF(ПРОВОЛОКА!B243<>\"\",\"2Д/гиб\",ПРОВОЛОКА!A243)))","v":"z"},{"$f":"IF(ПРОВОЛОКА!J243=0,\"\",\"Проволока\")","v":""},{"$f":"IF(ПРОВОЛОКА!J243=0,\"\",CONCATENATE(ПРОВОЛОКА!C243,ПРОВОЛОКА!D243))","v":""},{"$f":"IF(ПРОВОЛОКА!J243=0,\"\",ПРОВОЛОКА!F243)","v":""},{"$f":"IF(ПРОВОЛОКА!J243=0,\"\",ПРОВОЛОКА!J243)","v":""},{"$f":"IF(ПРОВОЛОКА!J243=0,\"\",ПРОВОЛОКА!K243)","v":""},{"$f":"IF(ПРОВОЛОКА!J243=0,\"\",ПРОВОЛОКА!O243)","v":""},{"$f":"IF(ПРОВОЛОКА!J243=0,\"\",ПРОВОЛОКА!S243)","v":""}]
[{"$f":"IF(ПРОВОЛОКА!J244=0,\"z\",IF(ПРОВОЛОКА!J244=\"\",ПРОВОЛОКА!A244,IF(ПРОВОЛОКА!B244<>\"\",\"2Д/гиб\",ПРОВОЛОКА!A244)))","v":"z"},{"$f":"IF(ПРОВОЛОКА!J244=0,\"\",\"Проволока\")","v":""},{"$f":"IF(ПРОВОЛОКА!J244=0,\"\",CONCATENATE(ПРОВОЛОКА!C244,ПРОВОЛОКА!D244))","v":""},{"$f":"IF(ПРОВОЛОКА!J244=0,\"\",ПРОВОЛОКА!F244)","v":""},{"$f":"IF(ПРОВОЛОКА!J244=0,\"\",ПРОВОЛОКА!J244)","v":""},{"$f":"IF(ПРОВОЛОКА!J244=0,\"\",ПРОВОЛОКА!K244)","v":""},{"$f":"IF(ПРОВОЛОКА!J244=0,\"\",ПРОВОЛОКА!O244)","v":""},{"$f":"IF(ПРОВОЛОКА!J244=0,\"\",ПРОВОЛОКА!S244)","v":""}]
[{"$f":"IF(ПРОВОЛОКА!J245=0,\"z\",IF(ПРОВОЛОКА!J245=\"\",ПРОВОЛОКА!A245,IF(ПРОВОЛОКА!B245<>\"\",\"2Д/гиб\",ПРОВОЛОКА!A245)))","v":"z"},{"$f":"IF(ПРОВОЛОКА!J245=0,\"\",\"Проволока\")","v":""},{"$f":"IF(ПРОВОЛОКА!J245=0,\"\",CONCATENATE(ПРОВОЛОКА!C245,ПРОВОЛОКА!D245))","v":""},{"$f":"IF(ПРОВОЛОКА!J245=0,\"\",ПРОВОЛОКА!F245)","v":""},{"$f":"IF(ПРОВОЛОКА!J245=0,\"\",ПРОВОЛОКА!J245)","v":""},{"$f":"IF(ПРОВОЛОКА!J245=0,\"\",ПРОВОЛОКА!K245)","v":""},{"$f":"IF(ПРОВОЛОКА!J245=0,\"\",ПРОВОЛОКА!O245)","v":""},{"$f":"IF(ПРОВОЛОКА!J245=0,\"\",ПРОВОЛОКА!S245)","v":""}]
[{"$f":"IF(ПРОВОЛОКА!J246=0,\"z\",IF(ПРОВОЛОКА!J246=\"\",ПРОВОЛОКА!A246,IF(ПРОВОЛОКА!B246<>\"\",\"2Д/гиб\",ПРОВОЛОКА!A246)))","v":"z"},{"$f":"IF(ПРОВОЛОКА!J246=0,\"\",\"Проволока\")","v":""},{"$f":"IF(ПРОВОЛОКА!J246=0,\"\",CONCATENATE(ПРОВОЛОКА!C246,ПРОВОЛОКА!D246))","v":""},{"$f":"IF(ПРОВОЛОКА!J246=0,\"\",ПРОВОЛОКА!F246)","v":""},{"$f":"IF(ПРОВОЛОКА!J246=0,\"\",ПРОВОЛОКА!J246)","v":""},{"$f":"IF(ПРОВОЛОКА!J246=0,\"\",ПРОВОЛОКА!K246)","v":""},{"$f":"IF(ПРОВОЛОКА!J246=0,\"\",ПРОВОЛОКА!O246)","v":""},{"$f":"IF(ПРОВОЛОКА!J246=0,\"\",ПРОВОЛОКА!S246)","v":""}]
[{"$f":"IF(ПРОВОЛОКА!J247=0,\"z\",IF(ПРОВОЛОКА!J247=\"\",ПРОВОЛОКА!A247,IF(ПРОВОЛОКА!B247<>\"\",\"2Д/гиб\",ПРОВОЛОКА!A247)))","v":"z"},{"$f":"IF(ПРОВОЛОКА!J247=0,\"\",\"Проволока\")","v":""},{"$f":"IF(ПРОВОЛОКА!J247=0,\"\",CONCATENATE(ПРОВОЛОКА!C247,ПРОВОЛОКА!D247))","v":""},{"$f":"IF(ПРОВОЛОКА!J247=0,\"\",ПРОВОЛОКА!F247)","v":""},{"$f":"IF(ПРОВОЛОКА!J247=0,\"\",ПРОВОЛОКА!J247)","v":""},{"$f":"IF(ПРОВОЛОКА!J247=0,\"\",ПРОВОЛОКА!K247)","v":""},{"$f":"IF(ПРОВОЛОКА!J247=0,\"\",ПРОВОЛОКА!O247)","v":""},{"$f":"IF(ПРОВОЛОКА!J247=0,\"\",ПРОВОЛОКА!S247)","v":""}]
[{"$f":"IF(ПРОВОЛОКА!J248=0,\"z\",IF(ПРОВОЛОКА!J248=\"\",ПРОВОЛОКА!A248,IF(ПРОВОЛОКА!B248<>\"\",\"2Д/гиб\",ПРОВОЛОКА!A248)))","v":"z"},{"$f":"IF(ПРОВОЛОКА!J248=0,\"\",\"Проволока\")","v":""},{"$f":"IF(ПРОВОЛОКА!J248=0,\"\",CONCATENATE(ПРОВОЛОКА!C248,ПРОВОЛОКА!D248))","v":""},{"$f":"IF(ПРОВОЛОКА!J248=0,\"\",ПРОВОЛОКА!F248)","v":""},{"$f":"IF(ПРОВОЛОКА!J248=0,\"\",ПРОВОЛОКА!J248)","v":""},{"$f":"IF(ПРОВОЛОКА!J248=0,\"\",ПРОВОЛОКА!K248)","v":""},{"$f":"IF(ПРОВОЛОКА!J248=0,\"\",ПРОВОЛОКА!O248)","v":""},{"$f":"IF(ПРОВОЛОКА!J248=0,\"\",ПРОВОЛОКА!S248)","v":""}]
[{"$f":"IF(ПРОВОЛОКА!J249=0,\"z\",IF(ПРОВОЛОКА!J249=\"\",ПРОВОЛОКА!A249,IF(ПРОВОЛОКА!B249<>\"\",\"2Д/гиб\",ПРОВОЛОКА!A249)))","v":"z"},{"$f":"IF(ПРОВОЛОКА!J249=0,\"\",\"Проволока\")","v":""},{"$f":"IF(ПРОВОЛОКА!J249=0,\"\",CONCATENATE(ПРОВОЛОКА!C249,ПРОВОЛОКА!D249))","v":""},{"$f":"IF(ПРОВОЛОКА!J249=0,\"\",ПРОВОЛОКА!F249)","v":""},{"$f":"IF(ПРОВОЛОКА!J249=0,\"\",ПРОВОЛОКА!J249)","v":""},{"$f":"IF(ПРОВОЛОКА!J249=0,\"\",ПРОВОЛОКА!K249)","v":""},{"$f":"IF(ПРОВОЛОКА!J249=0,\"\",ПРОВОЛОКА!O249)","v":""},{"$f":"IF(ПРОВОЛОКА!J249=0,\"\",ПРОВОЛОКА!S249)","v":""}]
[{"$f":"IF(ПРОВОЛОКА!J250=0,\"z\",IF(ПРОВОЛОКА!J250=\"\",ПРОВОЛОКА!A250,IF(ПРОВОЛОКА!B250<>\"\",\"2Д/гиб\",ПРОВОЛОКА!A250)))","v":"z"},{"$f":"IF(ПРОВОЛОКА!J250=0,\"\",\"Проволока\")","v":""},{"$f":"IF(ПРОВОЛОКА!J250=0,\"\",CONCATENATE(ПРОВОЛОКА!C250,ПРОВОЛОКА!D250))","v":""},{"$f":"IF(ПРОВОЛОКА!J250=0,\"\",ПРОВОЛОКА!F250)","v":""},{"$f":"IF(ПРОВОЛОКА!J250=0,\"\",ПРОВОЛОКА!J250)","v":""},{"$f":"IF(ПРОВОЛОКА!J250=0,\"\",ПРОВОЛОКА!K250)","v":""},{"$f":"IF(ПРОВОЛОКА!J250=0,\"\",ПРОВОЛОКА!O250)","v":""},{"$f":"IF(ПРОВОЛОКА!J250=0,\"\",ПРОВОЛОКА!S250)","v":""}]
[{"$f":"IF(ПРОВОЛОКА!J251=0,\"z\",IF(ПРОВОЛОКА!J251=\"\",ПРОВОЛОКА!A251,IF(ПРОВОЛОКА!B251<>\"\",\"2Д/гиб\",ПРОВОЛОКА!A251)))","v":"z"},{"$f":"IF(ПРОВОЛОКА!J251=0,\"\",\"Проволока\")","v":""},{"$f":"IF(ПРОВОЛОКА!J251=0,\"\",CONCATENATE(ПРОВОЛОКА!C251,ПРОВОЛОКА!D251))","v":""},{"$f":"IF(ПРОВОЛОКА!J251=0,\"\",ПРОВОЛОКА!F251)","v":""},{"$f":"IF(ПРОВОЛОКА!J251=0,\"\",ПРОВОЛОКА!J251)","v":""},{"$f":"IF(ПРОВОЛОКА!J251=0,\"\",ПРОВОЛОКА!K251)","v":""},{"$f":"IF(ПРОВОЛОКА!J251=0,\"\",ПРОВОЛОКА!O251)","v":""},{"$f":"IF(ПРОВОЛОКА!J251=0,\"\",ПРОВОЛОКА!S251)","v":""}]
[{"$f":"IF(ПРОВОЛОКА!J252=0,\"z\",IF(ПРОВОЛОКА!J252=\"\",ПРОВОЛОКА!A252,IF(ПРОВОЛОКА!B252<>\"\",\"2Д/гиб\",ПРОВОЛОКА!A252)))","v":"z"},{"$f":"IF(ПРОВОЛОКА!J252=0,\"\",\"Проволока\")","v":""},{"$f":"IF(ПРОВОЛОКА!J252=0,\"\",CONCATENATE(ПРОВОЛОКА!C252,ПРОВОЛОКА!D252))","v":""},{"$f":"IF(ПРОВОЛОКА!J252=0,\"\",ПРОВОЛОКА!F252)","v":""},{"$f":"IF(ПРОВОЛОКА!J252=0,\"\",ПРОВОЛОКА!J252)","v":""},{"$f":"IF(ПРОВОЛОКА!J252=0,\"\",ПРОВОЛОКА!K252)","v":""},{"$f":"IF(ПРОВОЛОКА!J252=0,\"\",ПРОВОЛОКА!O252)","v":""},{"$f":"IF(ПРОВОЛОКА!J252=0,\"\",ПРОВОЛОКА!S252)","v":""}]
[{"$f":"IF(ПРОВОЛОКА!J253=0,\"z\",IF(ПРОВОЛОКА!J253=\"\",ПРОВОЛОКА!A253,IF(ПРОВОЛОКА!B253<>\"\",\"2Д/гиб\",ПРОВОЛОКА!A253)))","v":"z"},{"$f":"IF(ПРОВОЛОКА!J253=0,\"\",\"Проволока\")","v":""},{"$f":"IF(ПРОВОЛОКА!J253=0,\"\",CONCATENATE(ПРОВОЛОКА!C253,ПРОВОЛОКА!D253))","v":""},{"$f":"IF(ПРОВОЛОКА!J253=0,\"\",ПРОВОЛОКА!F253)","v":""},{"$f":"IF(ПРОВОЛОКА!J253=0,\"\",ПРОВОЛОКА!J253)","v":""},{"$f":"IF(ПРОВОЛОКА!J253=0,\"\",ПРОВОЛОКА!K253)","v":""},{"$f":"IF(ПРОВОЛОКА!J253=0,\"\",ПРОВОЛОКА!O253)","v":""},{"$f":"IF(ПРОВОЛОКА!J253=0,\"\",ПРОВОЛОКА!S253)","v":""}]
[{"$f":"IF(ПРОВОЛОКА!J254=0,\"z\",IF(ПРОВОЛОКА!J254=\"\",ПРОВОЛОКА!A254,IF(ПРОВОЛОКА!B254<>\"\",\"2Д/гиб\",ПРОВОЛОКА!A254)))","v":"z"},{"$f":"IF(ПРОВОЛОКА!J254=0,\"\",\"Проволока\")","v":""},{"$f":"IF(ПРОВОЛОКА!J254=0,\"\",CONCATENATE(ПРОВОЛОКА!C254,ПРОВОЛОКА!D254))","v":""},{"$f":"IF(ПРОВОЛОКА!J254=0,\"\",ПРОВОЛОКА!F254)","v":""},{"$f":"IF(ПРОВОЛОКА!J254=0,\"\",ПРОВОЛОКА!J254)","v":""},{"$f":"IF(ПРОВОЛОКА!J254=0,\"\",ПРОВОЛОКА!K254)","v":""},{"$f":"IF(ПРОВОЛОКА!J254=0,\"\",ПРОВОЛОКА!O254)","v":""},{"$f":"IF(ПРОВОЛОКА!J254=0,\"\",ПРОВОЛОКА!S254)","v":""}]
[{"$f":"IF(ПРОВОЛОКА!J255=0,\"z\",IF(ПРОВОЛОКА!J255=\"\",ПРОВОЛОКА!A255,IF(ПРОВОЛОКА!B255<>\"\",\"2Д/гиб\",ПРОВОЛОКА!A255)))","v":"z"},{"$f":"IF(ПРОВОЛОКА!J255=0,\"\",\"Проволока\")","v":""},{"$f":"IF(ПРОВОЛОКА!J255=0,\"\",CONCATENATE(ПРОВОЛОКА!C255,ПРОВОЛОКА!D255))","v":""},{"$f":"IF(ПРОВОЛОКА!J255=0,\"\",ПРОВОЛОКА!F255)","v":""},{"$f":"IF(ПРОВОЛОКА!J255=0,\"\",ПРОВОЛОКА!J255)","v":""},{"$f":"IF(ПРОВОЛОКА!J255=0,\"\",ПРОВОЛОКА!K255)","v":""},{"$f":"IF(ПРОВОЛОКА!J255=0,\"\",ПРОВОЛОКА!O255)","v":""},{"$f":"IF(ПРОВОЛОКА!J255=0,\"\",ПРОВОЛОКА!S255)","v":""}]
[{"$f":"IF(ПРОВОЛОКА!J256=0,\"z\",IF(ПРОВОЛОКА!J256=\"\",ПРОВОЛОКА!A256,IF(ПРОВОЛОКА!B256<>\"\",\"2Д/гиб\",ПРОВОЛОКА!A256)))","v":"z"},{"$f":"IF(ПРОВОЛОКА!J256=0,\"\",\"Проволока\")","v":""},{"$f":"IF(ПРОВОЛОКА!J256=0,\"\",CONCATENATE(ПРОВОЛОКА!C256,ПРОВОЛОКА!D256))","v":""},{"$f":"IF(ПРОВОЛОКА!J256=0,\"\",ПРОВОЛОКА!F256)","v":""},{"$f":"IF(ПРОВОЛОКА!J256=0,\"\",ПРОВОЛОКА!J256)","v":""},{"$f":"IF(ПРОВОЛОКА!J256=0,\"\",ПРОВОЛОКА!K256)","v":""},{"$f":"IF(ПРОВОЛОКА!J256=0,\"\",ПРОВОЛОКА!O256)","v":""},{"$f":"IF(ПРОВОЛОКА!J256=0,\"\",ПРОВОЛОКА!S256)","v":""}]
[{"$f":"IF(ПРОВОЛОКА!J257=0,\"z\",IF(ПРОВОЛОКА!J257=\"\",ПРОВОЛОКА!A257,IF(ПРОВОЛОКА!B257<>\"\",\"2Д/гиб\",ПРОВОЛОКА!A257)))","v":"z"},{"$f":"IF(ПРОВОЛОКА!J257=0,\"\",\"Проволока\")","v":""},{"$f":"IF(ПРОВОЛОКА!J257=0,\"\",CONCATENATE(ПРОВОЛОКА!C257,ПРОВОЛОКА!D257))","v":""},{"$f":"IF(ПРОВОЛОКА!J257=0,\"\",ПРОВОЛОКА!F257)","v":""},{"$f":"IF(ПРОВОЛОКА!J257=0,\"\",ПРОВОЛОКА!J257)","v":""},{"$f":"IF(ПРОВОЛОКА!J257=0,\"\",ПРОВОЛОКА!K257)","v":""},{"$f":"IF(ПРОВОЛОКА!J257=0,\"\",ПРОВОЛОКА!O257)","v":""},{"$f":"IF(ПРОВОЛОКА!J257=0,\"\",ПРОВОЛОКА!S257)","v":""}]
[{"$f":"IF(ПРОВОЛОКА!J72=0,\"z\",IF(ПРОВОЛОКА!J72=\"\",ПРОВОЛОКА!A72,IF(ПРОВОЛОКА!B72<>\"\",\"2Д/гиб\",ПРОВОЛОКА!A72)))","v":"z"},{"$f":"IF(ПРОВОЛОКА!J72=0,\"\",\"Проволока\")","v":""},{"$f":"IF(ПРОВОЛОКА!J72=0,\"\",CONCATENATE(ПРОВОЛОКА!C72,ПРОВОЛОКА!D72))","v":""},{"$f":"IF(ПРОВОЛОКА!J72=0,\"\",ПРОВОЛОКА!F72)","v":""},{"$f":"IF(ПРОВОЛОКА!J72=0,\"\",ПРОВОЛОКА!J72)","v":""},{"$f":"IF(ПРОВОЛОКА!J72=0,\"\",ПРОВОЛОКА!K72)","v":""},{"$f":"IF(ПРОВОЛОКА!J72=0,\"\",ПРОВОЛОКА!O72)","v":""},{"$f":"IF(ПРОВОЛОКА!J72=0,\"\",ПРОВОЛОКА!S72)","v":""}]
[{"$f":"IF(ПРОВОЛОКА!J134=0,\"z\",IF(ПРОВОЛОКА!J134=\"\",ПРОВОЛОКА!A134,IF(ПРОВОЛОКА!B134<>\"\",\"2Д/гиб\",ПРОВОЛОКА!A134)))","v":"z"},{"$f":"IF(ПРОВОЛОКА!J134=0,\"\",\"Проволока\")","v":""},{"$f":"IF(ПРОВОЛОКА!J134=0,\"\",CONCATENATE(ПРОВОЛОКА!C134,ПРОВОЛОКА!D134))","v":""},{"$f":"IF(ПРОВОЛОКА!J134=0,\"\",ПРОВОЛОКА!F134)","v":""},{"$f":"IF(ПРОВОЛОКА!J134=0,\"\",ПРОВОЛОКА!J134)","v":""},{"$f":"IF(ПРОВОЛОКА!J134=0,\"\",ПРОВОЛОКА!K134)","v":""},{"$f":"IF(ПРОВОЛОКА!J134=0,\"\",ПРОВОЛОКА!O134)","v":""},{"$f":"IF(ПРОВОЛОКА!J134=0,\"\",ПРОВОЛОКА!S134)","v":""}]
[{"$f":"IF(ПРОВОЛОКА!J196=0,\"z\",IF(ПРОВОЛОКА!J196=\"\",ПРОВОЛОКА!A196,IF(ПРОВОЛОКА!B196<>\"\",\"2Д/гиб\",ПРОВОЛОКА!A196)))","v":"z"},{"$f":"IF(ПРОВОЛОКА!J196=0,\"\",\"Проволока\")","v":""},{"$f":"IF(ПРОВОЛОКА!J196=0,\"\",CONCATENATE(ПРОВОЛОКА!C196,ПРОВОЛОКА!D196))","v":""},{"$f":"IF(ПРОВОЛОКА!J196=0,\"\",ПРОВОЛОКА!F196)","v":""},{"$f":"IF(ПРОВОЛОКА!J196=0,\"\",ПРОВОЛОКА!J196)","v":""},{"$f":"IF(ПРОВОЛОКА!J196=0,\"\",ПРОВОЛОКА!K196)","v":""},{"$f":"IF(ПРОВОЛОКА!J196=0,\"\",ПРОВОЛОКА!O196)","v":""},{"$f":"IF(ПРОВОЛОКА!J196=0,\"\",ПРОВОЛОКА!S196)","v":""}]
[{"$f":"IF(ПРОВОЛОКА!J228=0,\"z\",IF(ПРОВОЛОКА!J228=\"\",ПРОВОЛОКА!A228,IF(ПРОВОЛОКА!B228<>\"\",\"2Д/гиб\",ПРОВОЛОКА!A228)))","v":"z"},{"$f":"IF(ПРОВОЛОКА!J228=0,\"\",\"Проволока\")","v":""},{"$f":"IF(ПРОВОЛОКА!J228=0,\"\",CONCATENATE(ПРОВОЛОКА!C228,ПРОВОЛОКА!D228))","v":""},{"$f":"IF(ПРОВОЛОКА!J228=0,\"\",ПРОВОЛОКА!F228)","v":""},{"$f":"IF(ПРОВОЛОКА!J228=0,\"\",ПРОВОЛОКА!J228)","v":""},{"$f":"IF(ПРОВОЛОКА!J228=0,\"\",ПРОВОЛОКА!K228)","v":""},{"$f":"IF(ПРОВОЛОКА!J228=0,\"\",ПРОВОЛОКА!O228)","v":""},{"$f":"IF(ПРОВОЛОКА!J228=0,\"\",ПРОВОЛОКА!S228)","v":""}]
[{"$f":"IF(ПРОВОЛОКА!J11=0,\"z\",IF(ПРОВОЛОКА!J11=\"\",ПРОВОЛОКА!A11,IF(ПРОВОЛОКА!B11<>\"\",\"2Д/гиб\",ПРОВОЛОКА!A11)))","v":"z"},{"$f":"IF(ПРОВОЛОКА!J11=0,\"\",\"Проволока\")","v":""},{"$f":"IF(ПРОВОЛОКА!J11=0,\"\",CONCATENATE(ПРОВОЛОКА!C11,ПРОВОЛОКА!D11))","v":""},{"$f":"IF(ПРОВОЛОКА!J11=0,\"\",ПРОВОЛОКА!F11)","v":""},{"$f":"IF(ПРОВОЛОКА!J11=0,\"\",ПРОВОЛОКА!J11)","v":""},{"$f":"IF(ПРОВОЛОКА!J11=0,\"\",ПРОВОЛОКА!K11)","v":""},{"$f":"IF(ПРОВОЛОКА!J11=0,\"\",ПРОВОЛОКА!O11)","v":""},{"$f":"IF(ПРОВОЛОКА!J11=0,\"\",ПРОВОЛОКА!S11)","v":""}]
[{"$f":"IF(ПРОВОЛОКА!J12=0,\"z\",IF(ПРОВОЛОКА!J12=\"\",ПРОВОЛОКА!A12,IF(ПРОВОЛОКА!B12<>\"\",\"2Д/гиб\",ПРОВОЛОКА!A12)))","v":"z"},{"$f":"IF(ПРОВОЛОКА!J12=0,\"\",\"Проволока\")","v":""},{"$f":"IF(ПРОВОЛОКА!J12=0,\"\",CONCATENATE(ПРОВОЛОКА!C12,ПРОВОЛОКА!D12))","v":""},{"$f":"IF(ПРОВОЛОКА!J12=0,\"\",ПРОВОЛОКА!F12)","v":""},{"$f":"IF(ПРОВОЛОКА!J12=0,\"\",ПРОВОЛОКА!J12)","v":""},{"$f":"IF(ПРОВОЛОКА!J12=0,\"\",ПРОВОЛОКА!K12)","v":""},{"$f":"IF(ПРОВОЛОКА!J12=0,\"\",ПРОВОЛОКА!O12)","v":""},{"$f":"IF(ПРОВОЛОКА!J12=0,\"\",ПРОВОЛОКА!S12)","v":""}]
[{"$f":"IF(ПРОВОЛОКА!J41=0,\"z\",IF(ПРОВОЛОКА!J41=\"\",ПРОВОЛОКА!A41,IF(ПРОВОЛОКА!B41<>\"\",\"2Д/гиб\",ПРОВОЛОКА!A41)))","v":"z"},{"$f":"IF(ПРОВОЛОКА!J41=0,\"\",\"Проволока\")","v":""},{"$f":"IF(ПРОВОЛОКА!J41=0,\"\",CONCATENATE(ПРОВОЛОКА!C41,ПРОВОЛОКА!D41))","v":""},{"$f":"IF(ПРОВОЛОКА!J41=0,\"\",ПРОВОЛОКА!F41)","v":""},{"$f":"IF(ПРОВОЛОКА!J41=0,\"\",ПРОВОЛОКА!J41)","v":""},{"$f":"IF(ПРОВОЛОКА!J41=0,\"\",ПРОВОЛОКА!K41)","v":""},{"$f":"IF(ПРОВОЛОКА!J41=0,\"\",ПРОВОЛОКА!O41)","v":""},{"$f":"IF(ПРОВОЛОКА!J41=0,\"\",ПРОВОЛОКА!S41)","v":""}]
[{"$f":"IF(ПРОВОЛОКА!J227=0,\"z\",IF(ПРОВОЛОКА!J227=\"\",ПРОВОЛОКА!A227,IF(ПРОВОЛОКА!B227<>\"\",\"2Д/гиб\",ПРОВОЛОКА!A227)))","v":"z"},{"$f":"IF(ПРОВОЛОКА!J227=0,\"\",\"Проволока\")","v":""},{"$f":"IF(ПРОВОЛОКА!J227=0,\"\",CONCATENATE(ПРОВОЛОКА!C227,ПРОВОЛОКА!D227))","v":""},{"$f":"IF(ПРОВОЛОКА!J227=0,\"\",ПРОВОЛОКА!F227)","v":""},{"$f":"IF(ПРОВОЛОКА!J227=0,\"\",ПРОВОЛОКА!J227)","v":""},{"$f":"IF(ПРОВОЛОКА!J227=0,\"\",ПРОВОЛОКА!K227)","v":""},{"$f":"IF(ПРОВОЛОКА!J227=0,\"\",ПРОВОЛОКА!O227)","v":""},{"$f":"IF(ПРОВОЛОКА!J227=0,\"\",ПРОВОЛОКА!S227)","v":""}]
[{"$f":"IF(ПРОВОЛОКА!J10=0,\"z\",IF(ПРОВОЛОКА!J10=\"\",ПРОВОЛОКА!A10,IF(ПРОВОЛОКА!B10<>\"\",\"2Д/гиб\",ПРОВОЛОКА!A10)))","v":"z"},{"$f":"IF(ПРОВОЛОКА!J10=0,\"\",\"Проволока\")","v":""},{"$f":"IF(ПРОВОЛОКА!J10=0,\"\",CONCATENATE(ПРОВОЛОКА!C10,ПРОВОЛОКА!D10))","v":""},{"$f":"IF(ПРОВОЛОКА!J10=0,\"\",ПРОВОЛОКА!F10)","v":""},{"$f":"IF(ПРОВОЛОКА!J10=0,\"\",ПРОВОЛОКА!J10)","v":""},{"$f":"IF(ПРОВОЛОКА!J10=0,\"\",ПРОВОЛОКА!K10)","v":""},{"$f":"IF(ПРОВОЛОКА!J10=0,\"\",ПРОВОЛОКА!O10)","v":""},{"$f":"IF(ПРОВОЛОКА!J10=0,\"\",ПРОВОЛОКА!S10)","v":""}]
[{"$f":"IF(ПРОВОЛОКА!J165=0,\"z\",IF(ПРОВОЛОКА!J165=\"\",ПРОВОЛОКА!A165,IF(ПРОВОЛОКА!B165<>\"\",\"2Д/гиб\",ПРОВОЛОКА!A165)))","v":"z"},{"$f":"IF(ПРОВОЛОКА!J165=0,\"\",\"Проволока\")","v":""},{"$f":"IF(ПРОВОЛОКА!J165=0,\"\",CONCATENATE(ПРОВОЛОКА!C165,ПРОВОЛОКА!D165))","v":""},{"$f":"IF(ПРОВОЛОКА!J165=0,\"\",ПРОВОЛОКА!F165)","v":""},{"$f":"IF(ПРОВОЛОКА!J165=0,\"\",ПРОВОЛОКА!J165)","v":""},{"$f":"IF(ПРОВОЛОКА!J165=0,\"\",ПРОВОЛОКА!K165)","v":""},{"$f":"IF(ПРОВОЛОКА!J165=0,\"\",ПРОВОЛОКА!O165)","v":""},{"$f":"IF(ПРОВОЛОКА!J165=0,\"\",ПРОВОЛОКА!S165)","v":""}]
[{"$f":"IF(ПРОВОЛОКА!J73=0,\"z\",IF(ПРОВОЛОКА!J73=\"\",ПРОВОЛОКА!A73,IF(ПРОВОЛОКА!B73<>\"\",\"2Д/гиб\",ПРОВОЛОКА!A73)))","v":"z"},{"$f":"IF(ПРОВОЛОКА!J73=0,\"\",\"Проволока\")","v":""},{"$f":"IF(ПРОВОЛОКА!J73=0,\"\",CONCATENATE(ПРОВОЛОКА!C73,ПРОВОЛОКА!D73))","v":""},{"$f":"IF(ПРОВОЛОКА!J73=0,\"\",ПРОВОЛОКА!F73)","v":""},{"$f":"IF(ПРОВОЛОКА!J73=0,\"\",ПРОВОЛОКА!J73)","v":""},{"$f":"IF(ПРОВОЛОКА!J73=0,\"\",ПРОВОЛОКА!K73)","v":""},{"$f":"IF(ПРОВОЛОКА!J73=0,\"\",ПРОВОЛОКА!O73)","v":""},{"$f":"IF(ПРОВОЛОКА!J73=0,\"\",ПРОВОЛОКА!S73)","v":""}]
[{"$f":"IF(ПРОВОЛОКА!J258=0,\"z\",IF(ПРОВОЛОКА!J258=\"\",ПРОВОЛОКА!A258,IF(ПРОВОЛОКА!B258<>\"\",\"2Д/гиб\",ПРОВОЛОКА!A258)))","v":"z"},{"$f":"IF(ПРОВОЛОКА!J258=0,\"\",\"Проволока\")","v":""},{"$f":"IF(ПРОВОЛОКА!J258=0,\"\",CONCATENATE(ПРОВОЛОКА!C258,ПРОВОЛОКА!D258))","v":""},{"$f":"IF(ПРОВОЛОКА!J258=0,\"\",ПРОВОЛОКА!F258)","v":""},{"$f":"IF(ПРОВОЛОКА!J258=0,\"\",ПРОВОЛОКА!J258)","v":""},{"$f":"IF(ПРОВОЛОКА!J258=0,\"\",ПРОВОЛОКА!K258)","v":""},{"$f":"IF(ПРОВОЛОКА!J258=0,\"\",ПРОВОЛОКА!O258)","v":""},{"$f":"IF(ПРОВОЛОКА!J258=0,\"\",ПРОВОЛОКА!S258)","v":""}]
[{"$f":"IF(ЛИСТ!J8=0,\"z\",\"\")","v":"z"},{"$f":"VLOOKUP(ЛИСТ!H8,Таблица3[[#All],[Столбец28]:[Столбец30]],2,0)","v":{"$error":"#N/A"}},{"$f":"CONCATENATE(ЛИСТ!C8,\"х\",ЛИСТ!D8,\"х\",ЛИСТ!G8)","v":"хх"},{"$f":"ЛИСТ!$H$6","v":1},{"$f":"ЛИСТ!E8","v":0},{"$f":"ЛИСТ!J8","v":0},{"$f":"ЛИСТ!L8/ЛИСТ!$H$6","v":{"$error":"#VALUE!"}},{"$f":"ЛИСТ!L8","v":""},null,1]
[{"$f":"IF(ЛИСТ!J9=0,\"z\",\"\")","v":"z"},{"$f":"VLOOKUP(ЛИСТ!H9,Таблица3[[#All],[Столбец28]:[Столбец30]],2,0)","v":{"$error":"#N/A"}},{"$f":"CONCATENATE(ЛИСТ!C9,\"х\",ЛИСТ!D9,\"х\",ЛИСТ!G9)","v":"хх"},{"$f":"ЛИСТ!$H$6","v":1},{"$f":"ЛИСТ!E9","v":0},{"$f":"ЛИСТ!J9","v":0},{"$f":"ЛИСТ!L9/ЛИСТ!$H$6","v":{"$error":"#VALUE!"}},{"$f":"ЛИСТ!L9","v":""},null,2]
[{"$f":"IF(ЛИСТ!J10=0,\"z\",\"\")","v":"z"},{"$f":"VLOOKUP(ЛИСТ!H10,Таблица3[[#All],[Столбец28]:[Столбец30]],2,0)","v":{"$error":"#N/A"}},{"$f":"CONCATENATE(ЛИСТ!C10,\"х\",ЛИСТ!D10,\"х\",ЛИСТ!G10)","v":"хх"},{"$f":"ЛИСТ!$H$6","v":1},{"$f":"ЛИСТ!E10","v":0},{"$f":"ЛИСТ!J10","v":0},{"$f":"ЛИСТ!L10/ЛИСТ!$H$6","v":{"$error":"#VALUE!"}},{"$f":"ЛИСТ!L10","v":""},null,3]
[{"$f":"IF(ЛИСТ!J11=0,\"z\",\"\")","v":"z"},{"$f":"VLOOKUP(ЛИСТ!H11,Таблица3[[#All],[Столбец28]:[Столбец30]],2,0)","v":{"$error":"#N/A"}},{"$f":"CONCATENATE(ЛИСТ!C11,\"х\",ЛИСТ!D11,\"х\",ЛИСТ!G11)","v":"хх"},{"$f":"ЛИСТ!$H$6","v":1},{"$f":"ЛИСТ!E11","v":0},{"$f":"ЛИСТ!J11","v":0},{"$f":"ЛИСТ!L11/ЛИСТ!$H$6","v":{"$error":"#VALUE!"}},{"$f":"ЛИСТ!L11","v":""},null,4]
[{"$f":"IF(ЛИСТ!J12=0,\"z\",\"\")","v":"z"},{"$f":"VLOOKUP(ЛИСТ!H12,Таблица3[[#All],[Столбец28]:[Столбец30]],2,0)","v":{"$error":"#N/A"}},{"$f":"CONCATENATE(ЛИСТ!C12,\"х\",ЛИСТ!D12,\"х\",ЛИСТ!G12)","v":"хх"},{"$f":"ЛИСТ!$H$6","v":1},{"$f":"ЛИСТ!E12","v":0},{"$f":"ЛИСТ!J12","v":0},{"$f":"ЛИСТ!L12/ЛИСТ!$H$6","v":{"$error":"#VALUE!"}},{"$f":"ЛИСТ!L12","v":""},null,5]
[{"$f":"IF(ЛИСТ!J13=0,\"z\",\"\")","v":"z"},{"$f":"VLOOKUP(ЛИСТ!H13,Таблица3[[#All],[Столбец28]:[Столбец30]],2,0)","v":{"$error":"#N/A"}},{"$f":"CONCATENATE(ЛИСТ!C13,\"х\",ЛИСТ!D13,\"х\",ЛИСТ!G13)","v":"хх"},{"$f":"ЛИСТ!$H$6","v":1},{"$f":"ЛИСТ!E13","v":0},{"$f":"ЛИСТ!J13","v":0},{"$f":"ЛИСТ!L13/ЛИСТ!$H$6","v":{"$error":"#VALUE!"}},{"$f":"ЛИСТ!L13","v":""},null,6]
[{"$f":"IF(ЛИСТ!J14=0,\"z\",\"\")","v":"z"},{"$f":"VLOOKUP(ЛИСТ!H14,Таблица3[[#All],[Столбец28]:[Столбец30]],2,0)","v":{"$error":"#N/A"}},{"$f":"CONCATENATE(ЛИСТ!C14,\"х\",ЛИСТ!D14,\"х\",ЛИСТ!G14)","v":"хх"},{"$f":"ЛИСТ!$H$6","v":1},{"$f":"ЛИСТ!E14","v":0},{"$f":"ЛИСТ!J14","v":0},{"$f":"ЛИСТ!L14/ЛИСТ!$H$6","v":{"$error":"#VALUE!"}},{"$f":"ЛИСТ!L14","v":""},null,7]
[{"$f":"IF(ЛИСТ!J15=0,\"z\",\"\")","v":"z"},{"$f":"VLOOKUP(ЛИСТ!H15,Таблица3[[#All],[Столбец28]:[Столбец30]],2,0)","v":{"$error":"#N/A"}},{"$f":"CONCATENATE(ЛИСТ!C15,\"х\",ЛИСТ!D15,\"х\",ЛИСТ!G15)","v":"хх"},{"$f":"ЛИСТ!$H$6","v":1},{"$f":"ЛИСТ!E15","v":0},{"$f":"ЛИСТ!J15","v":0},{"$f":"ЛИСТ!L15/ЛИСТ!$H$6","v":{"$error":"#VALUE!"}},{"$f":"ЛИСТ!L15","v":""},null,8]
[{"$f":"IF(ЛИСТ!J16=0,\"z\",\"\")","v":"z"},{"$f":"VLOOKUP(ЛИСТ!H16,Таблица3[[#All],[Столбец28]:[Столбец30]],2,0)","v":{"$error":"#N/A"}},{"$f":"CONCATENATE(ЛИСТ!C16,\"х\",ЛИСТ!D16,\"х\",ЛИСТ!G16)","v":"хх"},{"$f":"ЛИСТ!$H$6","v":1},{"$f":"ЛИСТ!E16","v":0},{"$f":"ЛИСТ!J16","v":0},{"$f":"ЛИСТ!L16/ЛИСТ!$H$6","v":{"$error":"#VALUE!"}},{"$f":"ЛИСТ!L16","v":""},null,9]
[{"$f":"IF(ЛИСТ!J17=0,\"z\",\"\")","v":"z"},{"$f":"VLOOKUP(ЛИСТ!H17,Таблица3[[#All],[Столбец28]:[Столбец30]],2,0)","v":{"$error":"#N/A"}},{"$f":"CONCATENATE(ЛИСТ!C17,\"х\",ЛИСТ!D17,\"х\",ЛИСТ!G17)","v":"хх"},{"$f":"ЛИСТ!$H$6","v":1},{"$f":"ЛИСТ!E17","v":0},{"$f":"ЛИСТ!J17","v":0},{"$f":"ЛИСТ!L17/ЛИСТ!$H$6","v":{"$error":"#VALUE!"}},{"$f":"ЛИСТ!L17","v":""},null,10]
[{"$f":"IF(ЛИСТ!J18=0,\"z\",\"\")","v":"z"},{"$f":"VLOOKUP(ЛИСТ!H18,Таблица3[[#All],[Столбец28]:[Столбец30]],2,0)","v":{"$error":"#N/A"}},{"$f":"CONCATENATE(ЛИСТ!C18,\"х\",ЛИСТ!D18,\"х\",ЛИСТ!G18)","v":"хх"},{"$f":"ЛИСТ!$H$6","v":1},{"$f":"ЛИСТ!E18","v":0},{"$f":"ЛИСТ!J18","v":0},{"$f":"ЛИСТ!L18/ЛИСТ!$H$6","v":{"$error":"#VALUE!"}},{"$f":"ЛИСТ!L18","v":""},null,11]
[{"$f":"IF(ЛИСТ!J19=0,\"z\",\"\")","v":"z"},{"$f":"VLOOKUP(ЛИСТ!H19,Таблица3[[#All],[Столбец28]:[Столбец30]],2,0)","v":{"$error":"#N/A"}},{"$f":"CONCATENATE(ЛИСТ!C19,\"х\",ЛИСТ!D19,\"х\",ЛИСТ!G19)","v":"хх"},{"$f":"ЛИСТ!$H$6","v":1},{"$f":"ЛИСТ!E19","v":0},{"$f":"ЛИСТ!J19","v":0},{"$f":"ЛИСТ!L19/ЛИСТ!$H$6","v":{"$error":"#VALUE!"}},{"$f":"ЛИСТ!L19","v":""},null,12]
[{"$f":"IF(ЛИСТ!J20=0,\"z\",\"\")","v":"z"},{"$f":"VLOOKUP(ЛИСТ!H20,Таблица3[[#All],[Столбец28]:[Столбец30]],2,0)","v":{"$error":"#N/A"}},{"$f":"CONCATENATE(ЛИСТ!C20,\"х\",ЛИСТ!D20,\"х\",ЛИСТ!G20)","v":"хх"},{"$f":"ЛИСТ!$H$6","v":1},{"$f":"ЛИСТ!E20","v":0},{"$f":"ЛИСТ!J20","v":0},{"$f":"ЛИСТ!L20/ЛИСТ!$H$6","v":{"$error":"#VALUE!"}},{"$f":"ЛИСТ!L20","v":""},null,13]
[{"$f":"IF(ЛИСТ!J21=0,\"z\",\"\")","v":"z"},{"$f":"VLOOKUP(ЛИСТ!H21,Таблица3[[#All],[Столбец28]:[Столбец30]],2,0)","v":{"$error":"#N/A"}},{"$f":"CONCATENATE(ЛИСТ!C21,\"х\",ЛИСТ!D21,\"х\",ЛИСТ!G21)","v":"хх"},{"$f":"ЛИСТ!$H$6","v":1},{"$f":"ЛИСТ!E21","v":0},{"$f":"ЛИСТ!J21","v":0},{"$f":"ЛИСТ!L21/ЛИСТ!$H$6","v":{"$error":"#VALUE!"}},{"$f":"ЛИСТ!L21","v":""},null,14]
[{"$f":"IF(ЛИСТ!J22=0,\"z\",\"\")","v":"z"},{"$f":"VLOOKUP(ЛИСТ!H22,Таблица3[[#All],[Столбец28]:[Столбец30]],2,0)","v":{"$error":"#N/A"}},{"$f":"CONCATENATE(ЛИСТ!C22,\"х\",ЛИСТ!D22,\"х\",ЛИСТ!G22)","v":"хх"},{"$f":"ЛИСТ!$H$6","v":1},{"$f":"ЛИСТ!E22","v":0},{"$f":"ЛИСТ!J22","v":0},{"$f":"ЛИСТ!L22/ЛИСТ!$H$6","v":{"$error":"#VALUE!"}},{"$f":"ЛИСТ!L22","v":""},null,15]
[{"$f":"IF(ЛИСТ!J23=0,\"z\",\"\")","v":"z"},{"$f":"VLOOKUP(ЛИСТ!H23,Таблица3[[#All],[Столбец28]:[Столбец30]],2,0)","v":{"$error":"#N/A"}},{"$f":"CONCATENATE(ЛИСТ!C23,\"х\",ЛИСТ!D23,\"х\",ЛИСТ!G23)","v":"хх"},{"$f":"ЛИСТ!$H$6","v":1},{"$f":"ЛИСТ!E23","v":0},{"$f":"ЛИСТ!J23","v":0},{"$f":"ЛИСТ!L23/ЛИСТ!$H$6","v":{"$error":"#VALUE!"}},{"$f":"ЛИСТ!L23","v":""},null,16]
[{"$f":"IF(ЛИСТ!J24=0,\"z\",\"\")","v":"z"},{"$f":"VLOOKUP(ЛИСТ!H24,Таблица3[[#All],[Столбец28]:[Столбец30]],2,0)","v":{"$error":"#N/A"}},{"$f":"CONCATENATE(ЛИСТ!C24,\"х\",ЛИСТ!D24,\"х\",ЛИСТ!G24)","v":"хх"},{"$f":"ЛИСТ!$H$6","v":1},{"$f":"ЛИСТ!E24","v":0},{"$f":"ЛИСТ!J24","v":0},{"$f":"ЛИСТ!L24/ЛИСТ!$H$6","v":{"$error":"#VALUE!"}},{"$f":"ЛИСТ!L24","v":""},null,17]
[{"$f":"IF(ЛИСТ!J25=0,\"z\",\"\")","v":"z"},{"$f":"VLOOKUP(ЛИСТ!H25,Таблица3[[#All],[Столбец28]:[Столбец30]],2,0)","v":{"$error":"#N/A"}},{"$f":"CONCATENATE(ЛИСТ!C25,\"х\",ЛИСТ!D25,\"х\",ЛИСТ!G25)","v":"хх"},{"$f":"ЛИСТ!$H$6","v":1},{"$f":"ЛИСТ!E25","v":0},{"$f":"ЛИСТ!J25","v":0},{"$f":"ЛИСТ!L25/ЛИСТ!$H$6","v":{"$error":"#VALUE!"}},{"$f":"ЛИСТ!L25","v":""},null,18]
[{"$f":"IF(ЛИСТ!J26=0,\"z\",\"\")","v":"z"},{"$f":"VLOOKUP(ЛИСТ!H26,Таблица3[[#All],[Столбец28]:[Столбец30]],2,0)","v":{"$error":"#N/A"}},{"$f":"CONCATENATE(ЛИСТ!C26,\"х\",ЛИСТ!D26,\"х\",ЛИСТ!G26)","v":"хх"},{"$f":"ЛИСТ!$H$6","v":1},{"$f":"ЛИСТ!E26","v":0},{"$f":"ЛИСТ!J26","v":0},{"$f":"ЛИСТ!L26/ЛИСТ!$H$6","v":{"$error":"#VALUE!"}},{"$f":"ЛИСТ!L26","v":""},null,19]
[{"$f":"IF(ЛИСТ!J27=0,\"z\",\"\")","v":"z"},{"$f":"VLOOKUP(ЛИСТ!H27,Таблица3[[#All],[Столбец28]:[Столбец30]],2,0)","v":{"$error":"#N/A"}},{"$f":"CONCATENATE(ЛИСТ!C27,\"х\",ЛИСТ!D27,\"х\",ЛИСТ!G27)","v":"хх"},{"$f":"ЛИСТ!$H$6","v":1},{"$f":"ЛИСТ!E27","v":0},{"$f":"ЛИСТ!J27","v":0},{"$f":"ЛИСТ!L27/ЛИСТ!$H$6","v":{"$error":"#VALUE!"}},{"$f":"ЛИСТ!L27","v":""},null,20]
[{"$f":"IF(ЛИСТ!J28=0,\"z\",\"\")","v":"z"},{"$f":"VLOOKUP(ЛИСТ!H28,Таблица3[[#All],[Столбец28]:[Столбец30]],2,0)","v":{"$error":"#N/A"}},{"$f":"CONCATENATE(ЛИСТ!C28,\"х\",ЛИСТ!D28,\"х\",ЛИСТ!G28)","v":"хх"},{"$f":"ЛИСТ!$H$6","v":1},{"$f":"ЛИСТ!E28","v":0},{"$f":"ЛИСТ!J28","v":0},{"$f":"ЛИСТ!L28/ЛИСТ!$H$6","v":{"$error":"#VALUE!"}},{"$f":"ЛИСТ!L28","v":""},null,21]
[{"$f":"IF(ЛИСТ!J29=0,\"z\",\"\")","v":"z"},{"$f":"VLOOKUP(ЛИСТ!H29,Таблица3[[#All],[Столбец28]:[Столбец30]],2,0)","v":{"$error":"#N/A"}},{"$f":"CONCATENATE(ЛИСТ!C29,\"х\",ЛИСТ!D29,\"х\",ЛИСТ!G29)","v":"хх"},{"$f":"ЛИСТ!$H$6","v":1},{"$f":"ЛИСТ!E29","v":0},{"$f":"ЛИСТ!J29","v":0},{"$f":"ЛИСТ!L29/ЛИСТ!$H$6","v":{"$error":"#VALUE!"}},{"$f":"ЛИСТ!L29","v":""},null,22]
[{"$f":"IF(ЛИСТ!J30=0,\"z\",\"\")","v":"z"},{"$f":"VLOOKUP(ЛИСТ!H30,Таблица3[[#All],[Столбец28]:[Столбец30]],2,0)","v":{"$error":"#N/A"}},{"$f":"CONCATENATE(ЛИСТ!C30,\"х\",ЛИСТ!D30,\"х\",ЛИСТ!G30)","v":"хх"},{"$f":"ЛИСТ!$H$6","v":1},{"$f":"ЛИСТ!E30","v":0},{"$f":"ЛИСТ!J30","v":0},{"$f":"ЛИСТ!L30/ЛИСТ!$H$6","v":{"$error":"#VALUE!"}},{"$f":"ЛИСТ!L30","v":""},null,23]
[{"$f":"IF(ЛИСТ!J31=0,\"z\",\"\")","v":"z"},{"$f":"VLOOKUP(ЛИСТ!H31,Таблица3[[#All],[Столбец28]:[Столбец30]],2,0)","v":{"$error":"#N/A"}},{"$f":"CONCATENATE(ЛИСТ!C31,\"х\",ЛИСТ!D31,\"х\",ЛИСТ!G31)","v":"хх"},{"$f":"ЛИСТ!$H$6","v":1},{"$f":"ЛИСТ!E31","v":0},{"$f":"ЛИСТ!J31","v":0},{"$f":"ЛИСТ!L31/ЛИСТ!$H$6","v":{"$error":"#VALUE!"}},{"$f":"ЛИСТ!L31","v":""},null,24]
[{"$f":"IF(ЛИСТ!J32=0,\"z\",\"\")","v":"z"},{"$f":"VLOOKUP(ЛИСТ!H32,Таблица3[[#All],[Столбец28]:[Столбец30]],2,0)","v":{"$error":"#N/A"}},{"$f":"CONCATENATE(ЛИСТ!C32,\"х\",ЛИСТ!D32,\"х\",ЛИСТ!G32)","v":"хх"},{"$f":"ЛИСТ!$H$6","v":1},{"$f":"ЛИСТ!E32","v":0},{"$f":"ЛИСТ!J32","v":0},{"$f":"ЛИСТ!L32/ЛИСТ!$H$6","v":{"$error":"#VALUE!"}},{"$f":"ЛИСТ!L32","v":""},null,25]
[{"$f":"IF(ЛИСТ!J33=0,\"z\",\"\")","v":"z"},{"$f":"VLOOKUP(ЛИСТ!H33,Таблица3[[#All],[Столбец28]:[Столбец30]],2,0)","v":{"$error":"#N/A"}},{"$f":"CONCATENATE(ЛИСТ!C33,\"х\",ЛИСТ!D33,\"х\",ЛИСТ!G33)","v":"хх"},{"$f":"ЛИСТ!$H$6","v":1},{"$f":"ЛИСТ!E33","v":0},{"$f":"ЛИСТ!J33","v":0},{"$f":"ЛИСТ!L33/ЛИСТ!$H$6","v":{"$error":"#VALUE!"}},{"$f":"ЛИСТ!L33","v":""},null,26]
[{"$f":"IF(ЛИСТ!J34=0,\"z\",\"\")","v":"z"},{"$f":"VLOOKUP(ЛИСТ!H34,Таблица3[[#All],[Столбец28]:[Столбец30]],2,0)","v":{"$error":"#N/A"}},{"$f":"CONCATENATE(ЛИСТ!C34,\"х\",ЛИСТ!D34,\"х\",ЛИСТ!G34)","v":"хх"},{"$f":"ЛИСТ!$H$6","v":1},{"$f":"ЛИСТ!E34","v":0},{"$f":"ЛИСТ!J34","v":0},{"$f":"ЛИСТ!L34/ЛИСТ!$H$6","v":{"$error":"#VALUE!"}},{"$f":"ЛИСТ!L34","v":""},null,27]
[{"$f":"IF(ЛИСТ!J35=0,\"z\",\"\")","v":"z"},{"$f":"VLOOKUP(ЛИСТ!H35,Таблица3[[#All],[Столбец28]:[Столбец30]],2,0)","v":{"$error":"#N/A"}},{"$f":"CONCATENATE(ЛИСТ!C35,\"х\",ЛИСТ!D35,\"х\",ЛИСТ!G35)","v":"хх"},{"$f":"ЛИСТ!$H$6","v":1},{"$f":"ЛИСТ!E35","v":0},{"$f":"ЛИСТ!J35","v":0},{"$f":"ЛИСТ!L35/ЛИСТ!$H$6","v":{"$error":"#VALUE!"}},{"$f":"ЛИСТ!L35","v":""},null,28]
[{"$f":"IF(ЛИСТ!J36=0,\"z\",\"\")","v":"z"},{"$f":"VLOOKUP(ЛИСТ!H36,Таблица3[[#All],[Столбец28]:[Столбец30]],2,0)","v":{"$error":"#N/A"}},{"$f":"CONCATENATE(ЛИСТ!C36,\"х\",ЛИСТ!D36,\"х\",ЛИСТ!G36)","v":"хх"},{"$f":"ЛИСТ!$H$6","v":1},{"$f":"ЛИСТ!E36","v":0},{"$f":"ЛИСТ!J36","v":0},{"$f":"ЛИСТ!L36/ЛИСТ!$H$6","v":{"$error":"#VALUE!"}},{"$f":"ЛИСТ!L36","v":""},null,29]
[{"$f":"IF(ЛИСТ!J37=0,\"z\",\"\")","v":"z"},{"$f":"VLOOKUP(ЛИСТ!H37,Таблица3[[#All],[Столбец28]:[Столбец30]],2,0)","v":{"$error":"#N/A"}},{"$f":"CONCATENATE(ЛИСТ!C37,\"х\",ЛИСТ!D37,\"х\",ЛИСТ!G37)","v":"хх"},{"$f":"ЛИСТ!$H$6","v":1},{"$f":"ЛИСТ!E37","v":0},{"$f":"ЛИСТ!J37","v":0},{"$f":"ЛИСТ!L37/ЛИСТ!$H$6","v":{"$error":"#VALUE!"}},{"$f":"ЛИСТ!L37","v":""},null,30]
[{"$f":"IF(ЛИСТ!J38=0,\"z\",\"\")","v":"z"},{"$f":"VLOOKUP(ЛИСТ!H38,Таблица3[[#All],[Столбец28]:[Столбец30]],2,0)","v":{"$error":"#N/A"}},{"$f":"CONCATENATE(ЛИСТ!C38,\"х\",ЛИСТ!D38,\"х\",ЛИСТ!G38)","v":"хх"},{"$f":"ЛИСТ!$H$6","v":1},{"$f":"ЛИСТ!E38","v":0},{"$f":"ЛИСТ!J38","v":0},{"$f":"ЛИСТ!L38/ЛИСТ!$H$6","v":{"$error":"#VALUE!"}},{"$f":"ЛИСТ!L38","v":""},null,31]
[{"$f":"IF(ЛИСТ!J39=0,\"z\",\"\")","v":"z"},{"$f":"VLOOKUP(ЛИСТ!H39,Таблица3[[#All],[Столбец28]:[Столбец30]],2,0)","v":{"$error":"#N/A"}},{"$f":"CONCATENATE(ЛИСТ!C39,\"х\",ЛИСТ!D39,\"х\",ЛИСТ!G39)","v":"хх"},{"$f":"ЛИСТ!$H$6","v":1},{"$f":"ЛИСТ!E39","v":0},{"$f":"ЛИСТ!J39","v":0},{"$f":"ЛИСТ!L39/ЛИСТ!$H$6","v":{"$error":"#VALUE!"}},{"$f":"ЛИСТ!L39","v":""},null,32]
[{"$f":"IF(ЛИСТ!J40=0,\"z\",\"\")","v":"z"},{"$f":"VLOOKUP(ЛИСТ!H40,Таблица3[[#All],[Столбец28]:[Столбец30]],2,0)","v":{"$error":"#N/A"}},{"$f":"CONCATENATE(ЛИСТ!C40,\"х\",ЛИСТ!D40,\"х\",ЛИСТ!G40)","v":"хх"},{"$f":"ЛИСТ!$H$6","v":1},{"$f":"ЛИСТ!E40","v":0},{"$f":"ЛИСТ!J40","v":0},{"$f":"ЛИСТ!L40/ЛИСТ!$H$6","v":{"$error":"#VALUE!"}},{"$f":"ЛИСТ!L40","v":""},null,33]
[{"$f":"IF(ЛИСТ!J41=0,\"z\",\"\")","v":"z"},{"$f":"VLOOKUP(ЛИСТ!H41,Таблица3[[#All],[Столбец28]:[Столбец30]],2,0)","v":{"$error":"#N/A"}},{"$f":"CONCATENATE(ЛИСТ!C41,\"х\",ЛИСТ!D41,\"х\",ЛИСТ!G41)","v":"хх"},{"$f":"ЛИСТ!$H$6","v":1},{"$f":"ЛИСТ!E41","v":0},{"$f":"ЛИСТ!J41","v":0},{"$f":"ЛИСТ!L41/ЛИСТ!$H$6","v":{"$error":"#VALUE!"}},{"$f":"ЛИСТ!L41","v":""},null,34]
[{"$f":"IF(ЛИСТ!J42=0,\"z\",\"\")","v":"z"},{"$f":"VLOOKUP(ЛИСТ!H42,Таблица3[[#All],[Столбец28]:[Столбец30]],2,0)","v":{"$error":"#N/A"}},{"$f":"CONCATENATE(ЛИСТ!C42,\"х\",ЛИСТ!D42,\"х\",ЛИСТ!G42)","v":"хх"},{"$f":"ЛИСТ!$H$6","v":1},{"$f":"ЛИСТ!E42","v":0},{"$f":"ЛИСТ!J42","v":0},{"$f":"ЛИСТ!L42/ЛИСТ!$H$6","v":{"$error":"#VALUE!"}},{"$f":"ЛИСТ!L42","v":""},null,35]
[{"$f":"IF(ЛИСТ!J43=0,\"z\",\"\")","v":"z"},{"$f":"VLOOKUP(ЛИСТ!H43,Таблица3[[#All],[Столбец28]:[Столбец30]],2,0)","v":{"$error":"#N/A"}},{"$f":"CONCATENATE(ЛИСТ!C43,\"х\",ЛИСТ!D43,\"х\",ЛИСТ!G43)","v":"хх"},{"$f":"ЛИСТ!$H$6","v":1},{"$f":"ЛИСТ!E43","v":0},{"$f":"ЛИСТ!J43","v":0},{"$f":"ЛИСТ!L43/ЛИСТ!$H$6","v":{"$error":"#VALUE!"}},{"$f":"ЛИСТ!L43","v":""},null,36]
[{"$f":"IF(ЛИСТ!J44=0,\"z\",\"\")","v":"z"},{"$f":"VLOOKUP(ЛИСТ!H44,Таблица3[[#All],[Столбец28]:[Столбец30]],2,0)","v":{"$error":"#N/A"}},{"$f":"CONCATENATE(ЛИСТ!C44,\"х\",ЛИСТ!D44,\"х\",ЛИСТ!G44)","v":"хх"},{"$f":"ЛИСТ!$H$6","v":1},{"$f":"ЛИСТ!E44","v":0},{"$f":"ЛИСТ!J44","v":0},{"$f":"ЛИСТ!L44/ЛИСТ!$H$6","v":{"$error":"#VALUE!"}},{"$f":"ЛИСТ!L44","v":""},null,37]
[{"$f":"IF(ЛИСТ!J45=0,\"z\",\"\")","v":"z"},{"$f":"VLOOKUP(ЛИСТ!H45,Таблица3[[#All],[Столбец28]:[Столбец30]],2,0)","v":{"$error":"#N/A"}},{"$f":"CONCATENATE(ЛИСТ!C45,\"х\",ЛИСТ!D45,\"х\",ЛИСТ!G45)","v":"хх"},{"$f":"ЛИСТ!$H$6","v":1},{"$f":"ЛИСТ!E45","v":0},{"$f":"ЛИСТ!J45","v":0},{"$f":"ЛИСТ!L45/ЛИСТ!$H$6","v":{"$error":"#VALUE!"}},{"$f":"ЛИСТ!L45","v":""},null,38]
[{"$f":"IF(ЛИСТ!J46=0,\"z\",\"\")","v":"z"},{"$f":"VLOOKUP(ЛИСТ!H46,Таблица3[[#All],[Столбец28]:[Столбец30]],2,0)","v":{"$error":"#N/A"}},{"$f":"CONCATENATE(ЛИСТ!C46,\"х\",ЛИСТ!D46,\"х\",ЛИСТ!G46)","v":"хх"},{"$f":"ЛИСТ!$H$6","v":1},{"$f":"ЛИСТ!E46","v":0},{"$f":"ЛИСТ!J46","v":0},{"$f":"ЛИСТ!L46/ЛИСТ!$H$6","v":{"$error":"#VALUE!"}},{"$f":"ЛИСТ!L46","v":""},null,39]
[{"$f":"IF(ЛИСТ!J47=0,\"z\",\"\")","v":"z"},{"$f":"VLOOKUP(ЛИСТ!H47,Таблица3[[#All],[Столбец28]:[Столбец30]],2,0)","v":{"$error":"#N/A"}},{"$f":"CONCATENATE(ЛИСТ!C47,\"х\",ЛИСТ!D47,\"х\",ЛИСТ!G47)","v":"хх"},{"$f":"ЛИСТ!$H$6","v":1},{"$f":"ЛИСТ!E47","v":0},{"$f":"ЛИСТ!J47","v":0},{"$f":"ЛИСТ!L47/ЛИСТ!$H$6","v":{"$error":"#VALUE!"}},{"$f":"ЛИСТ!L47","v":""},null,40]
[{"$f":"IF(ЛИСТ!J48=0,\"z\",\"\")","v":"z"},{"$f":"VLOOKUP(ЛИСТ!H48,Таблица3[[#All],[Столбец28]:[Столбец30]],2,0)","v":{"$error":"#N/A"}},{"$f":"CONCATENATE(ЛИСТ!C48,\"х\",ЛИСТ!D48,\"х\",ЛИСТ!G48)","v":"хх"},{"$f":"ЛИСТ!$H$6","v":1},{"$f":"ЛИСТ!E48","v":0},{"$f":"ЛИСТ!J48","v":0},{"$f":"ЛИСТ!L48/ЛИСТ!$H$6","v":{"$error":"#VALUE!"}},{"$f":"ЛИСТ!L48","v":""},null,41]
[{"$f":"IF(ЛИСТ!J49=0,\"z\",\"\")","v":"z"},{"$f":"VLOOKUP(ЛИСТ!H49,Таблица3[[#All],[Столбец28]:[Столбец30]],2,0)","v":{"$error":"#N/A"}},{"$f":"CONCATENATE(ЛИСТ!C49,\"х\",ЛИСТ!D49,\"х\",ЛИСТ!G49)","v":"хх"},{"$f":"ЛИСТ!$H$6","v":1},{"$f":"ЛИСТ!E49","v":0},{"$f":"ЛИСТ!J49","v":0},{"$f":"ЛИСТ!L49/ЛИСТ!$H$6","v":{"$error":"#VALUE!"}},{"$f":"ЛИСТ!L49","v":""},null,42]
[{"$f":"IF(ЛИСТ!J50=0,\"z\",\"\")","v":"z"},{"$f":"VLOOKUP(ЛИСТ!H50,Таблица3[[#All],[Столбец28]:[Столбец30]],2,0)","v":{"$error":"#N/A"}},{"$f":"CONCATENATE(ЛИСТ!C50,\"х\",ЛИСТ!D50,\"х\",ЛИСТ!G50)","v":"хх"},{"$f":"ЛИСТ!$H$6","v":1},{"$f":"ЛИСТ!E50","v":0},{"$f":"ЛИСТ!J50","v":0},{"$f":"ЛИСТ!L50/ЛИСТ!$H$6","v":{"$error":"#VALUE!"}},{"$f":"ЛИСТ!L50","v":""},null,43]
[{"$f":"IF(ЛИСТ!J51=0,\"z\",\"\")","v":"z"},{"$f":"VLOOKUP(ЛИСТ!H51,Таблица3[[#All],[Столбец28]:[Столбец30]],2,0)","v":{"$error":"#N/A"}},{"$f":"CONCATENATE(ЛИСТ!C51,\"х\",ЛИСТ!D51,\"х\",ЛИСТ!G51)","v":"хх"},{"$f":"ЛИСТ!$H$6","v":1},{"$f":"ЛИСТ!E51","v":0},{"$f":"ЛИСТ!J51","v":0},{"$f":"ЛИСТ!L51/ЛИСТ!$H$6","v":{"$error":"#VALUE!"}},{"$f":"ЛИСТ!L51","v":""},null,44]
[{"$f":"IF(ЛИСТ!J52=0,\"z\",\"\")","v":"z"},{"$f":"VLOOKUP(ЛИСТ!H52,Таблица3[[#All],[Столбец28]:[Столбец30]],2,0)","v":{"$error":"#N/A"}},{"$f":"CONCATENATE(ЛИСТ!C52,\"х\",ЛИСТ!D52,\"х\",ЛИСТ!G52)","v":"хх"},{"$f":"ЛИСТ!$H$6","v":1},{"$f":"ЛИСТ!E52","v":0},{"$f":"ЛИСТ!J52","v":0},{"$f":"ЛИСТ!L52/ЛИСТ!$H$6","v":{"$error":"#VALUE!"}},{"$f":"ЛИСТ!L52","v":""},null,45]
[{"$f":"IF(ЛИСТ!J53=0,\"z\",\"\")","v":"z"},{"$f":"VLOOKUP(ЛИСТ!H53,Таблица3[[#All],[Столбец28]:[Столбец30]],2,0)","v":{"$error":"#N/A"}},{"$f":"CONCATENATE(ЛИСТ!C53,\"х\",ЛИСТ!D53,\"х\",ЛИСТ!G53)","v":"хх"},{"$f":"ЛИСТ!$H$6","v":1},{"$f":"ЛИСТ!E53","v":0},{"$f":"ЛИСТ!J53","v":0},{"$f":"ЛИСТ!L53/ЛИСТ!$H$6","v":{"$error":"#VALUE!"}},{"$f":"ЛИСТ!L53","v":""},null,46]
[{"$f":"IF(ЛИСТ!J54=0,\"z\",\"\")","v":"z"},{"$f":"VLOOKUP(ЛИСТ!H54,Таблица3[[#All],[Столбец28]:[Столбец30]],2,0)","v":{"$error":"#N/A"}},{"$f":"CONCATENATE(ЛИСТ!C54,\"х\",ЛИСТ!D54,\"х\",ЛИСТ!G54)","v":"хх"},{"$f":"ЛИСТ!$H$6","v":1},{"$f":"ЛИСТ!E54","v":0},{"$f":"ЛИСТ!J54","v":0},{"$f":"ЛИСТ!L54/ЛИСТ!$H$6","v":{"$error":"#VALUE!"}},{"$f":"ЛИСТ!L54","v":""},null,47]
[{"$f":"IF(ЛИСТ!J55=0,\"z\",\"\")","v":"z"},{"$f":"VLOOKUP(ЛИСТ!H55,Таблица3[[#All],[Столбец28]:[Столбец30]],2,0)","v":{"$error":"#N/A"}},{"$f":"CONCATENATE(ЛИСТ!C55,\"х\",ЛИСТ!D55,\"х\",ЛИСТ!G55)","v":"хх"},{"$f":"ЛИСТ!$H$6","v":1},{"$f":"ЛИСТ!E55","v":0},{"$f":"ЛИСТ!J55","v":0},{"$f":"ЛИСТ!L55/ЛИСТ!$H$6","v":{"$error":"#VALUE!"}},{"$f":"ЛИСТ!L55","v":""},null,48]
[{"$f":"IF(ЛИСТ!J56=0,\"z\",\"\")","v":"z"},{"$f":"VLOOKUP(ЛИСТ!H56,Таблица3[[#All],[Столбец28]:[Столбец30]],2,0)","v":{"$error":"#N/A"}},{"$f":"CONCATENATE(ЛИСТ!C56,\"х\",ЛИСТ!D56,\"х\",ЛИСТ!G56)","v":"хх"},{"$f":"ЛИСТ!$H$6","v":1},{"$f":"ЛИСТ!E56","v":0},{"$f":"ЛИСТ!J56","v":0},{"$f":"ЛИСТ!L56/ЛИСТ!$H$6","v":{"$error":"#VALUE!"}},{"$f":"ЛИСТ!L56","v":""},null,49]
[{"$f":"IF(ЛИСТ!J57=0,\"z\",\"\")","v":"z"},{"$f":"VLOOKUP(ЛИСТ!H57,Таблица3[[#All],[Столбец28]:[Столбец30]],2,0)","v":{"$error":"#N/A"}},{"$f":"CONCATENATE(ЛИСТ!C57,\"х\",ЛИСТ!D57,\"х\",ЛИСТ!G57)","v":"хх"},{"$f":"ЛИСТ!$H$6","v":1},{"$f":"ЛИСТ!E57","v":0},{"$f":"ЛИСТ!J57","v":0},{"$f":"ЛИСТ!L57/ЛИСТ!$H$6","v":{"$error":"#VALUE!"}},{"$f":"ЛИСТ!L57","v":""},null,50]
["z"]
[{"$f":"IF(ТРУБА!J8=0,\"z\",\"\")","v":"z"},{"$f":"VLOOKUP(ТРУБА!K8,Таблица1[[#All],[ГОСТ]:[коэф]],4,0)","v":{"$error":"#N/A"}},{"$f":"CONCATENATE(VLOOKUP(ТРУБА!K8,Таблица1[[#All],[ГОСТ]:[Столбец34]],5,0),\"х\",ТРУБА!C8)","v":{"$error":"#N/A"}},{"$f":"ТРУБА!$J$6","v":1},{"$f":"ТРУБА!E8","v":0},{"$f":"ТРУБА!J8","v":0},{"$f":"ТРУБА!M8/ТРУБА!$J$6","v":{"$error":"#VALUE!"}},{"$f":"ТРУБА!M8","v":""},null,1]
[{"$f":"IF(ТРУБА!J9=0,\"z\",\"\")","v":"z"},{"$f":"VLOOKUP(ТРУБА!K9,Таблица1[[#All],[ГОСТ]:[коэф]],4,0)","v":{"$error":"#N/A"}},{"$f":"CONCATENATE(VLOOKUP(ТРУБА!K9,Таблица1[[#All],[ГОСТ]:[Столбец34]],5,0),\"х\",ТРУБА!C9)","v":{"$error":"#N/A"}},{"$f":"ТРУБА!$J$6","v":1},{"$f":"ТРУБА!E9","v":0},{"$f":"ТРУБА!J9","v":0},{"$f":"ТРУБА!M9/ТРУБА!$J$6","v":{"$error":"#VALUE!"}},{"$f":"ТРУБА!M9","v":""},null,2]
[{"$f":"IF(ТРУБА!J10=0,\"z\",\"\")","v":"z"},{"$f":"VLOOKUP(ТРУБА!K10,Таблица1[[#All],[ГОСТ]:[коэф]],4,0)","v":{"$error":"#N/A"}},{"$f":"CONCATENATE(VLOOKUP(ТРУБА!K10,Таблица1[[#All],[ГОСТ]:[Столбец34]],5,0),\"х\",ТРУБА!C10)","v":{"$error":"#N/A"}},{"$f":"ТРУБА!$J$6","v":1},{"$f":"ТРУБА!E10","v":0},{"$f":"ТРУБА!J10","v":0},{"$f":"ТРУБА!M10/ТРУБА!$J$6","v":{"$error":"#VALUE!"}},{"$f":"ТРУБА!M10","v":""},null,3]
[{"$f":"IF(ТРУБА!J11=0,\"z\",\"\")","v":"z"},{"$f":"VLOOKUP(ТРУБА!K11,Таблица1[[#All],[ГОСТ]:[коэф]],4,0)","v":{"$error":"#N/A"}},{"$f":"CONCATENATE(VLOOKUP(ТРУБА!K11,Таблица1[[#All],[ГОСТ]:[Столбец34]],5,0),\"х\",ТРУБА!C11)","v":{"$error":"#N/A"}},{"$f":"ТРУБА!$J$6","v":1},{"$f":"ТРУБА!E11","v":0},{"$f":"ТРУБА!J11","v":0},{"$f":"ТРУБА!M11/ТРУБА!$J$6","v":{"$error":"#VALUE!"}},{"$f":"ТРУБА!M11","v":""},null,4]
[{"$f":"IF(ТРУБА!J12=0,\"z\",\"\")","v":"z"},{"$f":"VLOOKUP(ТРУБА!K12,Таблица1[[#All],[ГОСТ]:[коэф]],4,0)","v":{"$error":"#N/A"}},{"$f":"CONCATENATE(VLOOKUP(ТРУБА!K12,Таблица1[[#All],[ГОСТ]:[Столбец34]],5,0),\"х\",ТРУБА!C12)","v":{"$error":"#N/A"}},{"$f":"ТРУБА!$J$6","v":1},{"$f":"ТРУБА!E12","v":0},{"$f":"ТРУБА!J12","v":0},{"$f":"ТРУБА!M12/ТРУБА!$J$6","v":{"$error":"#VALUE!"}},{"$f":"ТРУБА!M12","v":""},null,5]
[{"$f":"IF(ТРУБА!J13=0,\"z\",\"\")","v":"z"},{"$f":"VLOOKUP(ТРУБА!K13,Таблица1[[#All],[ГОСТ]:[коэф]],4,0)","v":{"$error":"#N/A"}},{"$f":"CONCATENATE(VLOOKUP(ТРУБА!K13,Таблица1[[#All],[ГОСТ]:[Столбец34]],5,0),\"х\",ТРУБА!C13)","v":{"$error":"#N/A"}},{"$f":"ТРУБА!$J$6","v":1},{"$f":"ТРУБА!E13","v":0},{"$f":"ТРУБА!J13","v":0},{"$f":"ТРУБА!M13/ТРУБА!$J$6","v":{"$error":"#VALUE!"}},{"$f":"ТРУБА!M13","v":""},null,6]
[{"$f":"IF(ТРУБА!J14=0,\"z\",\"\")","v":"z"},{"$f":"VLOOKUP(ТРУБА!K14,Таблица1[[#All],[ГОСТ]:[коэф]],4,0)","v":{"$error":"#N/A"}},{"$f":"CONCATENATE(VLOOKUP(ТРУБА!K14,Таблица1[[#All],[ГОСТ]:[Столбец34]],5,0),\"х\",ТРУБА!C14)","v":{"$error":"#N/A"}},{"$f":"ТРУБА!$J$6","v":1},{"$f":"ТРУБА!E14","v":0},{"$f":"ТРУБА!J14","v":0},{"$f":"ТРУБА!M14/ТРУБА!$J$6","v":{"$error":"#VALUE!"}},{"$f":"ТРУБА!M14","v":""},null,7]
[{"$f":"IF(ТРУБА!J15=0,\"z\",\"\")","v":"z"},{"$f":"VLOOKUP(ТРУБА!K15,Таблица1[[#All],[ГОСТ]:[коэф]],4,0)","v":{"$error":"#N/A"}},{"$f":"CONCATENATE(VLOOKUP(ТРУБА!K15,Таблица1[[#All],[ГОСТ]:[Столбец34]],5,0),\"х\",ТРУБА!C15)","v":{"$error":"#N/A"}},{"$f":"ТРУБА!$J$6","v":1},{"$f":"ТРУБА!E15","v":0},{"$f":"ТРУБА!J15","v":0},{"$f":"ТРУБА!M15/ТРУБА!$J$6","v":{"$error":"#VALUE!"}},{"$f":"ТРУБА!M15","v":""},null,8]
[{"$f":"IF(ТРУБА!J16=0,\"z\",\"\")","v":"z"},{"$f":"VLOOKUP(ТРУБА!K16,Таблица1[[#All],[ГОСТ]:[коэф]],4,0)","v":{"$error":"#N/A"}},{"$f":"CONCATENATE(VLOOKUP(ТРУБА!K16,Таблица1[[#All],[ГОСТ]:[Столбец34]],5,0),\"х\",ТРУБА!C16)","v":{"$error":"#N/A"}},{"$f":"ТРУБА!$J$6","v":1},{"$f":"ТРУБА!E16","v":0},{"$f":"ТРУБА!J16","v":0},{"$f":"ТРУБА!M16/ТРУБА!$J$6","v":{"$error":"#VALUE!"}},{"$f":"ТРУБА!M16","v":""},null,9]
[{"$f":"IF(ТРУБА!J17=0,\"z\",\"\")","v":"z"},{"$f":"VLOOKUP(ТРУБА!K17,Таблица1[[#All],[ГОСТ]:[коэф]],4,0)","v":{"$error":"#N/A"}},{"$f":"CONCATENATE(VLOOKUP(ТРУБА!K17,Таблица1[[#All],[ГОСТ]:[Столбец34]],5,0),\"х\",ТРУБА!C17)","v":{"$error":"#N/A"}},{"$f":"ТРУБА!$J$6","v":1},{"$f":"ТРУБА!E17","v":0},{"$f":"ТРУБА!J17","v":0},{"$f":"ТРУБА!M17/ТРУБА!$J$6","v":{"$error":"#VALUE!"}},{"$f":"ТРУБА!M17","v":""},null,10]
[{"$f":"IF(ТРУБА!J18=0,\"z\",\"\")","v":"z"},{"$f":"VLOOKUP(ТРУБА!K18,Таблица1[[#All],[ГОСТ]:[коэф]],4,0)","v":{"$error":"#N/A"}},{"$f":"CONCATENATE(VLOOKUP(ТРУБА!K18,Таблица1[[#All],[ГОСТ]:[Столбец34]],5,0),\"х\",ТРУБА!C18)","v":{"$error":"#N/A"}},{"$f":"ТРУБА!$J$6","v":1},{"$f":"ТРУБА!E18","v":0},{"$f":"ТРУБА!J18","v":0},{"$f":"ТРУБА!M18/ТРУБА!$J$6","v":{"$error":"#VALUE!"}},{"$f":"ТРУБА!M18","v":""},null,11]
[{"$f":"IF(ТРУБА!J19=0,\"z\",\"\")","v":"z"},{"$f":"VLOOKUP(ТРУБА!K19,Таблица1[[#All],[ГОСТ]:[коэф]],4,0)","v":{"$error":"#N/A"}},{"$f":"CONCATENATE(VLOOKUP(ТРУБА!K19,Таблица1[[#All],[ГОСТ]:[Столбец34]],5,0),\"х\",ТРУБА!C19)","v":{"$error":"#N/A"}},{"$f":"ТРУБА!$J$6","v":1},{"$f":"ТРУБА!E19","v":0},{"$f":"ТРУБА!J19","v":0},{"$f":"ТРУБА!M19/ТРУБА!$J$6","v":{"$error":"#VALUE!"}},{"$f":"ТРУБА!M19","v":""},null,12]
[{"$f":"IF(ТРУБА!J20=0,\"z\",\"\")","v":"z"},{"$f":"VLOOKUP(ТРУБА!K20,Таблица1[[#All],[ГОСТ]:[коэф]],4,0)","v":{"$error":"#N/A"}},{"$f":"CONCATENATE(VLOOKUP(ТРУБА!K20,Таблица1[[#All],[ГОСТ]:[Столбец34]],5,0),\"х\",ТРУБА!C20)","v":{"$error":"#N/A"}},{"$f":"ТРУБА!$J$6","v":1},{"$f":"ТРУБА!E20","v":0},{"$f":"ТРУБА!J20","v":0},{"$f":"ТРУБА!M20/ТРУБА!$J$6","v":{"$error":"#VALUE!"}},{"$f":"ТРУБА!M20","v":""},null,13]
[{"$f":"IF(ТРУБА!J21=0,\"z\",\"\")","v":"z"},{"$f":"VLOOKUP(ТРУБА!K21,Таблица1[[#All],[ГОСТ]:[коэф]],4,0)","v":{"$error":"#N/A"}},{"$f":"CONCATENATE(VLOOKUP(ТРУБА!K21,Таблица1[[#All],[ГОСТ]:[Столбец34]],5,0),\"х\",ТРУБА!C21)","v":{"$error":"#N/A"}},{"$f":"ТРУБА!$J$6","v":1},{"$f":"ТРУБА!E21","v":0},{"$f":"ТРУБА!J21","v":0},{"$f":"ТРУБА!M21/ТРУБА!$J$6","v":{"$error":"#VALUE!"}},{"$f":"ТРУБА!M21","v":""},null,14]
[{"$f":"IF(ТРУБА!J22=0,\"z\",\"\")","v":"z"},{"$f":"VLOOKUP(ТРУБА!K22,Таблица1[[#All],[ГОСТ]:[коэф]],4,0)","v":{"$error":"#N/A"}},{"$f":"CONCATENATE(VLOOKUP(ТРУБА!K22,Таблица1[[#All],[ГОСТ]:[Столбец34]],5,0),\"х\",ТРУБА!C22)","v":{"$error":"#N/A"}},{"$f":"ТРУБА!$J$6","v":1},{"$f":"ТРУБА!E22","v":0},{"$f":"ТРУБА!J22","v":0},{"$f":"ТРУБА!M22/ТРУБА!$J$6","v":{"$error":"#VALUE!"}},{"$f":"ТРУБА!M22","v":""},null,15]
[{"$f":"IF(ТРУБА!J23=0,\"z\",\"\")","v":"z"},{"$f":"VLOOKUP(ТРУБА!K23,Таблица1[[#All],[ГОСТ]:[коэф]],4,0)","v":{"$error":"#N/A"}},{"$f":"CONCATENATE(VLOOKUP(ТРУБА!K23,Таблица1[[#All],[ГОСТ]:[Столбец34]],5,0),\"х\",ТРУБА!C23)","v":{"$error":"#N/A"}},{"$f":"ТРУБА!$J$6","v":1},{"$f":"ТРУБА!E23","v":0},{"$f":"ТРУБА!J23","v":0},{"$f":"ТРУБА!M23/ТРУБА!$J$6","v":{"$error":"#VALUE!"}},{"$f":"ТРУБА!M23","v":""},null,16]
[{"$f":"IF(ТРУБА!J24=0,\"z\",\"\")","v":"z"},{"$f":"VLOOKUP(ТРУБА!K24,Таблица1[[#All],[ГОСТ]:[коэф]],4,0)","v":{"$error":"#N/A"}},{"$f":"CONCATENATE(VLOOKUP(ТРУБА!K24,Таблица1[[#All],[ГОСТ]:[Столбец34]],5,0),\"х\",ТРУБА!C24)","v":{"$error":"#N/A"}},{"$f":"ТРУБА!$J$6","v":1},{"$f":"ТРУБА!E24","v":0},{"$f":"ТРУБА!J24","v":0},{"$f":"ТРУБА!M24/ТРУБА!$J$6","v":{"$error":"#VALUE!"}},{"$f":"ТРУБА!M24","v":""},null,17]
[{"$f":"IF(ТРУБА!J25=0,\"z\",\"\")","v":"z"},{"$f":"VLOOKUP(ТРУБА!K25,Таблица1[[#All],[ГОСТ]:[коэф]],4,0)","v":{"$error":"#N/A"}},{"$f":"CONCATENATE(VLOOKUP(ТРУБА!K25,Таблица1[[#All],[ГОСТ]:[Столбец34]],5,0),\"х\",ТРУБА!C25)","v":{"$error":"#N/A"}},{"$f":"ТРУБА!$J$6","v":1},{"$f":"ТРУБА!E25","v":0},{"$f":"ТРУБА!J25","v":0},{"$f":"ТРУБА!M25/ТРУБА!$J$6","v":{"$error":"#VALUE!"}},{"$f":"ТРУБА!M25","v":""},null,18]
[{"$f":"IF(ТРУБА!J26=0,\"z\",\"\")","v":"z"},{"$f":"VLOOKUP(ТРУБА!K26,Таблица1[[#All],[ГОСТ]:[коэф]],4,0)","v":{"$error":"#N/A"}},{"$f":"CONCATENATE(VLOOKUP(ТРУБА!K26,Таблица1[[#All],[ГОСТ]:[Столбец34]],5,0),\"х\",ТРУБА!C26)","v":{"$error":"#N/A"}},{"$f":"ТРУБА!$J$6","v":1},{"$f":"ТРУБА!E26","v":0},{"$f":"ТРУБА!J26","v":0},{"$f":"ТРУБА!M26/ТРУБА!$J$6","v":{"$error":"#VALUE!"}},{"$f":"ТРУБА!M26","v":""},null,19]
[{"$f":"IF(ТРУБА!J27=0,\"z\",\"\")","v":"z"},{"$f":"VLOOKUP(ТРУБА!K27,Таблица1[[#All],[ГОСТ]:[коэф]],4,0)","v":{"$error":"#N/A"}},{"$f":"CONCATENATE(VLOOKUP(ТРУБА!K27,Таблица1[[#All],[ГОСТ]:[Столбец34]],5,0),\"х\",ТРУБА!C27)","v":{"$error":"#N/A"}},{"$f":"ТРУБА!$J$6","v":1},{"$f":"ТРУБА!E27","v":0},{"$f":"ТРУБА!J27","v":0},{"$f":"ТРУБА!M27/ТРУБА!$J$6","v":{"$error":"#VALUE!"}},{"$f":"ТРУБА!M27","v":""},null,20]
[{"$f":"IF(ТРУБА!J28=0,\"z\",\"\")","v":"z"},{"$f":"VLOOKUP(ТРУБА!K28,Таблица1[[#All],[ГОСТ]:[коэф]],4,0)","v":{"$error":"#N/A"}},{"$f":"CONCATENATE(VLOOKUP(ТРУБА!K28,Таблица1[[#All],[ГОСТ]:[Столбец34]],5,0),\"х\",ТРУБА!C28)","v":{"$error":"#N/A"}},{"$f":"ТРУБА!$J$6","v":1},{"$f":"ТРУБА!E28","v":0},{"$f":"ТРУБА!J28","v":0},{"$f":"ТРУБА!M28/ТРУБА!$J$6","v":{"$error":"#VALUE!"}},{"$f":"ТРУБА!M28","v":""},null,21]
[{"$f":"IF(ТРУБА!J29=0,\"z\",\"\")","v":"z"},{"$f":"VLOOKUP(ТРУБА!K29,Таблица1[[#All],[ГОСТ]:[коэф]],4,0)","v":{"$error":"#N/A"}},{"$f":"CONCATENATE(VLOOKUP(ТРУБА!K29,Таблица1[[#All],[ГОСТ]:[Столбец34]],5,0),\"х\",ТРУБА!C29)","v":{"$error":"#N/A"}},{"$f":"ТРУБА!$J$6","v":1},{"$f":"ТРУБА!E29","v":0},{"$f":"ТРУБА!J29","v":0},{"$f":"ТРУБА!M29/ТРУБА!$J$6","v":{"$error":"#VALUE!"}},{"$f":"ТРУБА!M29","v":""},null,22]
[{"$f":"IF(ТРУБА!J30=0,\"z\",\"\")","v":"z"},{"$f":"VLOOKUP(ТРУБА!K30,Таблица1[[#All],[ГОСТ]:[коэф]],4,0)","v":{"$error":"#N/A"}},{"$f":"CONCATENATE(VLOOKUP(ТРУБА!K30,Таблица1[[#All],[ГОСТ]:[Столбец34]],5,0),\"х\",ТРУБА!C30)","v":{"$error":"#N/A"}},{"$f":"ТРУБА!$J$6","v":1},{"$f":"ТРУБА!E30","v":0},{"$f":"ТРУБА!J30","v":0},{"$f":"ТРУБА!M30/ТРУБА!$J$6","v":{"$error":"#VALUE!"}},{"$f":"ТРУБА!M30","v":""},null,23]
[{"$f":"IF(ТРУБА!J31=0,\"z\",\"\")","v":"z"},{"$f":"VLOOKUP(ТРУБА!K31,Таблица1[[#All],[ГОСТ]:[коэф]],4,0)","v":{"$error":"#N/A"}},{"$f":"CONCATENATE(VLOOKUP(ТРУБА!K31,Таблица1[[#All],[ГОСТ]:[Столбец34]],5,0),\"х\",ТРУБА!C31)","v":{"$error":"#N/A"}},{"$f":"ТРУБА!$J$6","v":1},{"$f":"ТРУБА!E31","v":0},{"$f":"ТРУБА!J31","v":0},{"$f":"ТРУБА!M31/ТРУБА!$J$6","v":{"$error":"#VALUE!"}},{"$f":"ТРУБА!M31","v":""},null,24]
[{"$f":"IF(ТРУБА!J32=0,\"z\",\"\")","v":"z"},{"$f":"VLOOKUP(ТРУБА!K32,Таблица1[[#All],[ГОСТ]:[коэф]],4,0)","v":{"$error":"#N/A"}},{"$f":"CONCATENATE(VLOOKUP(ТРУБА!K32,Таблица1[[#All],[ГОСТ]:[Столбец34]],5,0),\"х\",ТРУБА!C32)","v":{"$error":"#N/A"}},{"$f":"ТРУБА!$J$6","v":1},{"$f":"ТРУБА!E32","v":0},{"$f":"ТРУБА!J32","v":0},{"$f":"ТРУБА!M32/ТРУБА!$J$6","v":{"$error":"#VALUE!"}},{"$f":"ТРУБА!M32","v":""},null,25]
[{"$f":"IF(ТРУБА!J33=0,\"z\",\"\")","v":"z"},{"$f":"VLOOKUP(ТРУБА!K33,Таблица1[[#All],[ГОСТ]:[коэф]],4,0)","v":{"$error":"#N/A"}},{"$f":"CONCATENATE(VLOOKUP(ТРУБА!K33,Таблица1[[#All],[ГОСТ]:[Столбец34]],5,0),\"х\",ТРУБА!C33)","v":{"$error":"#N/A"}},{"$f":"ТРУБА!$J$6","v":1},{"$f":"ТРУБА!E33","v":0},{"$f":"ТРУБА!J33","v":0},{"$f":"ТРУБА!M33/ТРУБА!$J$6","v":{"$error":"#VALUE!"}},{"$f":"ТРУБА!M33","v":""},null,26]
[{"$f":"IF(ТРУБА!J34=0,\"z\",\"\")","v":"z"},{"$f":"VLOOKUP(ТРУБА!K34,Таблица1[[#All],[ГОСТ]:[коэф]],4,0)","v":{"$error":"#N/A"}},{"$f":"CONCATENATE(VLOOKUP(ТРУБА!K34,Таблица1[[#All],[ГОСТ]:[Столбец34]],5,0),\"х\",ТРУБА!C34)","v":{"$error":"#N/A"}},{"$f":"ТРУБА!$J$6","v":1},{"$f":"ТРУБА!E34","v":0},{"$f":"ТРУБА!J34","v":0},{"$f":"ТРУБА!M34/ТРУБА!$J$6","v":{"$error":"#VALUE!"}},{"$f":"ТРУБА!M34","v":""},null,27]
[{"$f":"IF(ТРУБА!J35=0,\"z\",\"\")","v":"z"},{"$f":"VLOOKUP(ТРУБА!K35,Таблица1[[#All],[ГОСТ]:[коэф]],4,0)","v":{"$error":"#N/A"}},{"$f":"CONCATENATE(VLOOKUP(ТРУБА!K35,Таблица1[[#All],[ГОСТ]:[Столбец34]],5,0),\"х\",ТРУБА!C35)","v":{"$error":"#N/A"}},{"$f":"ТРУБА!$J$6","v":1},{"$f":"ТРУБА!E35","v":0},{"$f":"ТРУБА!J35","v":0},{"$f":"ТРУБА!M35/ТРУБА!$J$6","v":{"$error":"#VALUE!"}},{"$f":"ТРУБА!M35","v":""},null,28]
[{"$f":"IF(ТРУБА!J36=0,\"z\",\"\")","v":"z"},{"$f":"VLOOKUP(ТРУБА!K36,Таблица1[[#All],[ГОСТ]:[коэф]],4,0)","v":{"$error":"#N/A"}},{"$f":"CONCATENATE(VLOOKUP(ТРУБА!K36,Таблица1[[#All],[ГОСТ]:[Столбец34]],5,0),\"х\",ТРУБА!C36)","v":{"$error":"#N/A"}},{"$f":"ТРУБА!$J$6","v":1},{"$f":"ТРУБА!E36","v":0},{"$f":"ТРУБА!J36","v":0},{"$f":"ТРУБА!M36/ТРУБА!$J$6","v":{"$error":"#VALUE!"}},{"$f":"ТРУБА!M36","v":""},null,29]
[{"$f":"IF(ТРУБА!J37=0,\"z\",\"\")","v":"z"},{"$f":"VLOOKUP(ТРУБА!K37,Таблица1[[#All],[ГОСТ]:[коэф]],4,0)","v":{"$error":"#N/A"}},{"$f":"CONCATENATE(VLOOKUP(ТРУБА!K37,Таблица1[[#All],[ГОСТ]:[Столбец34]],5,0),\"х\",ТРУБА!C37)","v":{"$error":"#N/A"}},{"$f":"ТРУБА!$J$6","v":1},{"$f":"ТРУБА!E37","v":0},{"$f":"ТРУБА!J37","v":0},{"$f":"ТРУБА!M37/ТРУБА!$J$6","v":{"$error":"#VALUE!"}},{"$f":"ТРУБА!M37","v":""},null,30]
[{"$f":"IF(ТРУБА!J38=0,\"z\",\"\")","v":"z"},{"$f":"VLOOKUP(ТРУБА!K38,Таблица1[[#All],[ГОСТ]:[коэф]],4,0)","v":{"$error":"#N/A"}},{"$f":"CONCATENATE(VLOOKUP(ТРУБА!K38,Таблица1[[#All],[ГОСТ]:[Столбец34]],5,0),\"х\",ТРУБА!C38)","v":{"$error":"#N/A"}},{"$f":"ТРУБА!$J$6","v":1},{"$f":"ТРУБА!E38","v":0},{"$f":"ТРУБА!J38","v":0},{"$f":"ТРУБА!M38/ТРУБА!$J$6","v":{"$error":"#VALUE!"}},{"$f":"ТРУБА!M38","v":""},null,31]
[{"$f":"IF(ТРУБА!J39=0,\"z\",\"\")","v":"z"},{"$f":"VLOOKUP(ТРУБА!K39,Таблица1[[#All],[ГОСТ]:[коэф]],4,0)","v":{"$error":"#N/A"}},{"$f":"CONCATENATE(VLOOKUP(ТРУБА!K39,Таблица1[[#All],[ГОСТ]:[Столбец34]],5,0),\"х\",ТРУБА!C39)","v":{"$error":"#N/A"}},{"$f":"ТРУБА!$J$6","v":1},{"$f":"ТРУБА!E39","v":0},{"$f":"ТРУБА!J39","v":0},{"$f":"ТРУБА!M39/ТРУБА!$J$6","v":{"$error":"#VALUE!"}},{"$f":"ТРУБА!M39","v":""},null,32]
[{"$f":"IF(ТРУБА!J40=0,\"z\",\"\")","v":"z"},{"$f":"VLOOKUP(ТРУБА!K40,Таблица1[[#All],[ГОСТ]:[коэф]],4,0)","v":{"$error":"#N/A"}},{"$f":"CONCATENATE(VLOOKUP(ТРУБА!K40,Таблица1[[#All],[ГОСТ]:[Столбец34]],5,0),\"х\",ТРУБА!C40)","v":{"$error":"#N/A"}},{"$f":"ТРУБА!$J$6","v":1},{"$f":"ТРУБА!E40","v":0},{"$f":"ТРУБА!J40","v":0},{"$f":"ТРУБА!M40/ТРУБА!$J$6","v":{"$error":"#VALUE!"}},{"$f":"ТРУБА!M40","v":""},null,33]
[{"$f":"IF(ТРУБА!J41=0,\"z\",\"\")","v":"z"},{"$f":"VLOOKUP(ТРУБА!K41,Таблица1[[#All],[ГОСТ]:[коэф]],4,0)","v":{"$error":"#N/A"}},{"$f":"CONCATENATE(VLOOKUP(ТРУБА!K41,Таблица1[[#All],[ГОСТ]:[Столбец34]],5,0),\"х\",ТРУБА!C41)","v":{"$error":"#N/A"}},{"$f":"ТРУБА!$J$6","v":1},{"$f":"ТРУБА!E41","v":0},{"$f":"ТРУБА!J41","v":0},{"$f":"ТРУБА!M41/ТРУБА!$J$6","v":{"$error":"#VALUE!"}},{"$f":"ТРУБА!M41","v":""},null,34]
[{"$f":"IF(ТРУБА!J42=0,\"z\",\"\")","v":"z"},{"$f":"VLOOKUP(ТРУБА!K42,Таблица1[[#All],[ГОСТ]:[коэф]],4,0)","v":{"$error":"#N/A"}},{"$f":"CONCATENATE(VLOOKUP(ТРУБА!K42,Таблица1[[#All],[ГОСТ]:[Столбец34]],5,0),\"х\",ТРУБА!C42)","v":{"$error":"#N/A"}},{"$f":"ТРУБА!$J$6","v":1},{"$f":"ТРУБА!E42","v":0},{"$f":"ТРУБА!J42","v":0},{"$f":"ТРУБА!M42/ТРУБА!$J$6","v":{"$error":"#VALUE!"}},{"$f":"ТРУБА!M42","v":""},null,35]
[{"$f":"IF(ТРУБА!J43=0,\"z\",\"\")","v":"z"},{"$f":"VLOOKUP(ТРУБА!K43,Таблица1[[#All],[ГОСТ]:[коэф]],4,0)","v":{"$error":"#N/A"}},{"$f":"CONCATENATE(VLOOKUP(ТРУБА!K43,Таблица1[[#All],[ГОСТ]:[Столбец34]],5,0),\"х\",ТРУБА!C43)","v":{"$error":"#N/A"}},{"$f":"ТРУБА!$J$6","v":1},{"$f":"ТРУБА!E43","v":0},{"$f":"ТРУБА!J43","v":0},{"$f":"ТРУБА!M43/ТРУБА!$J$6","v":{"$error":"#VALUE!"}},{"$f":"ТРУБА!M43","v":""},null,36]
[{"$f":"IF(ТРУБА!J44=0,\"z\",\"\")","v":"z"},{"$f":"VLOOKUP(ТРУБА!K44,Таблица1[[#All],[ГОСТ]:[коэф]],4,0)","v":{"$error":"#N/A"}},{"$f":"CONCATENATE(VLOOKUP(ТРУБА!K44,Таблица1[[#All],[ГОСТ]:[Столбец34]],5,0),\"х\",ТРУБА!C44)","v":{"$error":"#N/A"}},{"$f":"ТРУБА!$J$6","v":1},{"$f":"ТРУБА!E44","v":0},{"$f":"ТРУБА!J44","v":0},{"$f":"ТРУБА!M44/ТРУБА!$J$6","v":{"$error":"#VALUE!"}},{"$f":"ТРУБА!M44","v":""},null,37]
[{"$f":"IF(ТРУБА!J45=0,\"z\",\"\")","v":"z"},{"$f":"VLOOKUP(ТРУБА!K45,Таблица1[[#All],[ГОСТ]:[коэф]],4,0)","v":{"$error":"#N/A"}},{"$f":"CONCATENATE(VLOOKUP(ТРУБА!K45,Таблица1[[#All],[ГОСТ]:[Столбец34]],5,0),\"х\",ТРУБА!C45)","v":{"$error":"#N/A"}},{"$f":"ТРУБА!$J$6","v":1},{"$f":"ТРУБА!E45","v":0},{"$f":"ТРУБА!J45","v":0},{"$f":"ТРУБА!M45/ТРУБА!$J$6","v":{"$error":"#VALUE!"}},{"$f":"ТРУБА!M45","v":""},null,38]
[{"$f":"IF(ТРУБА!J46=0,\"z\",\"\")","v":"z"},{"$f":"VLOOKUP(ТРУБА!K46,Таблица1[[#All],[ГОСТ]:[коэф]],4,0)","v":{"$error":"#N/A"}},{"$f":"CONCATENATE(VLOOKUP(ТРУБА!K46,Таблица1[[#All],[ГОСТ]:[Столбец34]],5,0),\"х\",ТРУБА!C46)","v":{"$error":"#N/A"}},{"$f":"ТРУБА!$J$6","v":1},{"$f":"ТРУБА!E46","v":0},{"$f":"ТРУБА!J46","v":0},{"$f":"ТРУБА!M46/ТРУБА!$J$6","v":{"$error":"#VALUE!"}},{"$f":"ТРУБА!M46","v":""},null,39]
[{"$f":"IF(ТРУБА!J47=0,\"z\",\"\")","v":"z"},{"$f":"VLOOKUP(ТРУБА!K47,Таблица1[[#All],[ГОСТ]:[коэф]],4,0)","v":{"$error":"#N/A"}},{"$f":"CONCATENATE(VLOOKUP(ТРУБА!K47,Таблица1[[#All],[ГОСТ]:[Столбец34]],5,0),\"х\",ТРУБА!C47)","v":{"$error":"#N/A"}},{"$f":"ТРУБА!$J$6","v":1},{"$f":"ТРУБА!E47","v":0},{"$f":"ТРУБА!J47","v":0},{"$f":"ТРУБА!M47/ТРУБА!$J$6","v":{"$error":"#VALUE!"}},{"$f":"ТРУБА!M47","v":""},null,40]
[{"$f":"IF(ТРУБА!J48=0,\"z\",\"\")","v":"z"},{"$f":"VLOOKUP(ТРУБА!K48,Таблица1[[#All],[ГОСТ]:[коэф]],4,0)","v":{"$error":"#N/A"}},{"$f":"CONCATENATE(VLOOKUP(ТРУБА!K48,Таблица1[[#All],[ГОСТ]:[Столбец34]],5,0),\"х\",ТРУБА!C48)","v":{"$error":"#N/A"}},{"$f":"ТРУБА!$J$6","v":1},{"$f":"ТРУБА!E48","v":0},{"$f":"ТРУБА!J48","v":0},{"$f":"ТРУБА!M48/ТРУБА!$J$6","v":{"$error":"#VALUE!"}},{"$f":"ТРУБА!M48","v":""},null,41]
[{"$f":"IF(ТРУБА!J49=0,\"z\",\"\")","v":"z"},{"$f":"VLOOKUP(ТРУБА!K49,Таблица1[[#All],[ГОСТ]:[коэф]],4,0)","v":{"$error":"#N/A"}},{"$f":"CONCATENATE(VLOOKUP(ТРУБА!K49,Таблица1[[#All],[ГОСТ]:[Столбец34]],5,0),\"х\",ТРУБА!C49)","v":{"$error":"#N/A"}},{"$f":"ТРУБА!$J$6","v":1},{"$f":"ТРУБА!E49","v":0},{"$f":"ТРУБА!J49","v":0},{"$f":"ТРУБА!M49/ТРУБА!$J$6","v":{"$error":"#VALUE!"}},{"$f":"ТРУБА!M49","v":""},null,42]
[{"$f":"IF(ТРУБА!J50=0,\"z\",\"\")","v":"z"},{"$f":"VLOOKUP(ТРУБА!K50,Таблица1[[#All],[ГОСТ]:[коэф]],4,0)","v":{"$error":"#N/A"}},{"$f":"CONCATENATE(VLOOKUP(ТРУБА!K50,Таблица1[[#All],[ГОСТ]:[Столбец34]],5,0),\"х\",ТРУБА!C50)","v":{"$error":"#N/A"}},{"$f":"ТРУБА!$J$6","v":1},{"$f":"ТРУБА!E50","v":0},{"$f":"ТРУБА!J50","v":0},{"$f":"ТРУБА!M50/ТРУБА!$J$6","v":{"$error":"#VALUE!"}},{"$f":"ТРУБА!M50","v":""},null,43]
[{"$f":"IF(ТРУБА!J51=0,\"z\",\"\")","v":"z"},{"$f":"VLOOKUP(ТРУБА!K51,Таблица1[[#All],[ГОСТ]:[коэф]],4,0)","v":{"$error":"#N/A"}},{"$f":"CONCATENATE(VLOOKUP(ТРУБА!K51,Таблица1[[#All],[ГОСТ]:[Столбец34]],5,0),\"х\",ТРУБА!C51)","v":{"$error":"#N/A"}},{"$f":"ТРУБА!$J$6","v":1},{"$f":"ТРУБА!E51","v":0},{"$f":"ТРУБА!J51","v":0},{"$f":"ТРУБА!M51/ТРУБА!$J$6","v":{"$error":"#VALUE!"}},{"$f":"ТРУБА!M51","v":""},null,44]
[{"$f":"IF(ТРУБА!J52=0,\"z\",\"\")","v":"z"},{"$f":"VLOOKUP(ТРУБА!K52,Таблица1[[#All],[ГОСТ]:[коэф]],4,0)","v":{"$error":"#N/A"}},{"$f":"CONCATENATE(VLOOKUP(ТРУБА!K52,Таблица1[[#All],[ГОСТ]:[Столбец34]],5,0),\"х\",ТРУБА!C52)","v":{"$error":"#N/A"}},{"$f":"ТРУБА!$J$6","v":1},{"$f":"ТРУБА!E52","v":0},{"$f":"ТРУБА!J52","v":0},{"$f":"ТРУБА!M52/ТРУБА!$J$6","v":{"$error":"#VALUE!"}},{"$f":"ТРУБА!M52","v":""},null,45]
[{"$f":"IF(ТРУБА!J53=0,\"z\",\"\")","v":"z"},{"$f":"VLOOKUP(ТРУБА!K53,Таблица1[[#All],[ГОСТ]:[коэф]],4,0)","v":{"$error":"#N/A"}},{"$f":"CONCATENATE(VLOOKUP(ТРУБА!K53,Таблица1[[#All],[ГОСТ]:[Столбец34]],5,0),\"х\",ТРУБА!C53)","v":{"$error":"#N/A"}},{"$f":"ТРУБА!$J$6","v":1},{"$f":"ТРУБА!E53","v":0},{"$f":"ТРУБА!J53","v":0},{"$f":"ТРУБА!M53/ТРУБА!$J$6","v":{"$error":"#VALUE!"}},{"$f":"ТРУБА!M53","v":""},null,46]
[{"$f":"IF(ТРУБА!J54=0,\"z\",\"\")","v":"z"},{"$f":"VLOOKUP(ТРУБА!K54,Таблица1[[#All],[ГОСТ]:[коэф]],4,0)","v":{"$error":"#N/A"}},{"$f":"CONCATENATE(VLOOKUP(ТРУБА!K54,Таблица1[[#All],[ГОСТ]:[Столбец34]],5,0),\"х\",ТРУБА!C54)","v":{"$error":"#N/A"}},{"$f":"ТРУБА!$J$6","v":1},{"$f":"ТРУБА!E54","v":0},{"$f":"ТРУБА!J54","v":0},{"$f":"ТРУБА!M54/ТРУБА!$J$6","v":{"$error":"#VALUE!"}},{"$f":"ТРУБА!M54","v":""},null,47]
[{"$f":"IF(ТРУБА!J55=0,\"z\",\"\")","v":"z"},{"$f":"VLOOKUP(ТРУБА!K55,Таблица1[[#All],[ГОСТ]:[коэф]],4,0)","v":{"$error":"#N/A"}},{"$f":"CONCATENATE(VLOOKUP(ТРУБА!K55,Таблица1[[#All],[ГОСТ]:[Столбец34]],5,0),\"х\",ТРУБА!C55)","v":{"$error":"#N/A"}},{"$f":"ТРУБА!$J$6","v":1},{"$f":"ТРУБА!E55","v":0},{"$f":"ТРУБА!J55","v":0},{"$f":"ТРУБА!M55/ТРУБА!$J$6","v":{"$error":"#VALUE!"}},{"$f":"ТРУБА!M55","v":""},null,48]
[{"$f":"IF(ТРУБА!J56=0,\"z\",\"\")","v":"z"},{"$f":"VLOOKUP(ТРУБА!K56,Таблица1[[#All],[ГОСТ]:[коэф]],4,0)","v":{"$error":"#N/A"}},{"$f":"CONCATENATE(VLOOKUP(ТРУБА!K56,Таблица1[[#All],[ГОСТ]:[Столбец34]],5,0),\"х\",ТРУБА!C56)","v":{"$error":"#N/A"}},{"$f":"ТРУБА!$J$6","v":1},{"$f":"ТРУБА!E56","v":0},{"$f":"ТРУБА!J56","v":0},{"$f":"ТРУБА!M56/ТРУБА!$J$6","v":{"$error":"#VALUE!"}},{"$f":"ТРУБА!M56","v":""},null,49]
[{"$f":"IF(ТРУБА!J57=0,\"z\",\"\")","v":"z"},{"$f":"VLOOKUP(ТРУБА!K57,Таблица1[[#All],[ГОСТ]:[коэф]],4,0)","v":{"$error":"#N/A"}},{"$f":"CONCATENATE(VLOOKUP(ТРУБА!K57,Таблица1[[#All],[ГОСТ]:[Столбец34]],5,0),\"х\",ТРУБА!C57)","v":{"$error":"#N/A"}},{"$f":"ТРУБА!$J$6","v":1},{"$f":"ТРУБА!E57","v":0},{"$f":"ТРУБА!J57","v":0},{"$f":"ТРУБА!M57/ТРУБА!$J$6","v":{"$error":"#VALUE!"}},{"$f":"ТРУБА!M57","v":""},null,50]
["z"]
[{"$f":"IF(ПВХ!E10=0,\"z\",\"\")","v":"z"},{"$f":"CONCATENATE(ПВХ!H10,\" \",ПВХ!G10)","v":" "},{"$f":"CONCATENATE(ПВХ!C10,\"х\",ПВХ!D10,\"х\",ПВХ!G10)","v":"хх"},{"$f":"ПВХ!$G$7","v":1},{"$f":"ПВХ!E10","v":0},{"$f":"ПВХ!J10","v":0},null,null,null,1]
[{"$f":"IF(ПВХ!E11=0,\"z\",\"\")","v":"z"},{"$f":"CONCATENATE(ПВХ!H11,\" \",ПВХ!G11)","v":" "},{"$f":"CONCATENATE(ПВХ!C11,\"х\",ПВХ!D11,\"х\",ПВХ!G11)","v":"хх"},{"$f":"ПВХ!$G$7","v":1},{"$f":"ПВХ!E11","v":0},{"$f":"ПВХ!J11","v":0},null,null,null,2]
[{"$f":"IF(ПВХ!E12=0,\"z\",\"\")","v":"z"},{"$f":"CONCATENATE(ПВХ!H12,\" \",ПВХ!G12)","v":" "},{"$f":"CONCATENATE(ПВХ!C12,\"х\",ПВХ!D12,\"х\",ПВХ!G12)","v":"хх"},{"$f":"ПВХ!$G$7","v":1},{"$f":"ПВХ!E12","v":0},{"$f":"ПВХ!J12","v":0},null,null,null,3]
[{"$f":"IF(ПВХ!E13=0,\"z\",\"\")","v":"z"},{"$f":"CONCATENATE(ПВХ!H13,\" \",ПВХ!G13)","v":" "},{"$f":"CONCATENATE(ПВХ!C13,\"х\",ПВХ!D13,\"х\",ПВХ!G13)","v":"хх"},{"$f":"ПВХ!$G$7","v":1},{"$f":"ПВХ!E13","v":0},{"$f":"ПВХ!J13","v":0},null,null,null,4]
[{"$f":"IF(ПВХ!E14=0,\"z\",\"\")","v":"z"},{"$f":"CONCATENATE(ПВХ!H14,\" \",ПВХ!G14)","v":" "},{"$f":"CONCATENATE(ПВХ!C14,\"х\",ПВХ!D14,\"х\",ПВХ!G14)","v":"хх"},{"$f":"ПВХ!$G$7","v":1},{"$f":"ПВХ!E14","v":0},{"$f":"ПВХ!J14","v":0},null,null,null,5]
[{"$f":"IF(ПВХ!E15=0,\"z\",\"\")","v":"z"},{"$f":"CONCATENATE(ПВХ!H15,\" \",ПВХ!G15)","v":" "},{"$f":"CONCATENATE(ПВХ!C15,\"х\",ПВХ!D15,\"х\",ПВХ!G15)","v":"хх"},{"$f":"ПВХ!$G$7","v":1},{"$f":"ПВХ!E15","v":0},{"$f":"ПВХ!J15","v":0},null,null,null,6]
[{"$f":"IF(ПВХ!E16=0,\"z\",\"\")","v":"z"},{"$f":"CONCATENATE(ПВХ!H16,\" \",ПВХ!G16)","v":" "},{"$f":"CONCATENATE(ПВХ!C16,\"х\",ПВХ!D16,\"х\",ПВХ!G16)","v":"хх"},{"$f":"ПВХ!$G$7","v":1},{"$f":"ПВХ!E16","v":0},{"$f":"ПВХ!J16","v":0},null,null,null,7]
[{"$f":"IF(ПВХ!E17=0,\"z\",\"\")","v":"z"},{"$f":"CONCATENATE(ПВХ!H17,\" \",ПВХ!G17)","v":" "},{"$f":"CONCATENATE(ПВХ!C17,\"х\",ПВХ!D17,\"х\",ПВХ!G17)","v":"хх"},{"$f":"ПВХ!$G$7","v":1},{"$f":"ПВХ!E17","v":0},{"$f":"ПВХ!J17","v":0},null,null,null,8]
[{"$f":"IF(ПВХ!E18=0,\"z\",\"\")","v":"z"},{"$f":"CONCATENATE(ПВХ!H18,\" \",ПВХ!G18)","v":" "},{"$f":"CONCATENATE(ПВХ!C18,\"х\",ПВХ!D18,\"х\",ПВХ!G18)","v":"хх"},{"$f":"ПВХ!$G$7","v":1},{"$f":"ПВХ!E18","v":0},{"$f":"ПВХ!J18","v":0},null,null,null,9]
[{"$f":"IF(ПВХ!E19=0,\"z\",\"\")","v":"z"},{"$f":"CONCATENATE(ПВХ!H19,\" \",ПВХ!G19)","v":" "},{"$f":"CONCATENATE(ПВХ!C19,\"х\",ПВХ!D19,\"х\",ПВХ!G19)","v":"хх"},{"$f":"ПВХ!$G$7","v":1},{"$f":"ПВХ!E19","v":0},{"$f":"ПВХ!J19","v":0},null,null,null,10]
[{"$f":"IF(ПВХ!E20=0,\"z\",\"\")","v":"z"},{"$f":"CONCATENATE(ПВХ!H20,\" \",ПВХ!G20)","v":" "},{"$f":"CONCATENATE(ПВХ!C20,\"х\",ПВХ!D20,\"х\",ПВХ!G20)","v":"хх"},{"$f":"ПВХ!$G$7","v":1},{"$f":"ПВХ!E20","v":0},{"$f":"ПВХ!J20","v":0},null,null,null,11]
[{"$f":"IF(ПВХ!E21=0,\"z\",\"\")","v":"z"},{"$f":"CONCATENATE(ПВХ!H21,\" \",ПВХ!G21)","v":" "},{"$f":"CONCATENATE(ПВХ!C21,\"х\",ПВХ!D21,\"х\",ПВХ!G21)","v":"хх"},{"$f":"ПВХ!$G$7","v":1},{"$f":"ПВХ!E21","v":0},{"$f":"ПВХ!J21","v":0},null,null,null,12]
[{"$f":"IF(ПВХ!E22=0,\"z\",\"\")","v":"z"},{"$f":"CONCATENATE(ПВХ!H22,\" \",ПВХ!G22)","v":" "},{"$f":"CONCATENATE(ПВХ!C22,\"х\",ПВХ!D22,\"х\",ПВХ!G22)","v":"хх"},{"$f":"ПВХ!$G$7","v":1},{"$f":"ПВХ!E22","v":0},{"$f":"ПВХ!J22","v":0},null,null,null,13]
[{"$f":"IF(ПВХ!E23=0,\"z\",\"\")","v":"z"},{"$f":"CONCATENATE(ПВХ!H23,\" \",ПВХ!G23)","v":" "},{"$f":"CONCATENATE(ПВХ!C23,\"х\",ПВХ!D23,\"х\",ПВХ!G23)","v":"хх"},{"$f":"ПВХ!$G$7","v":1},{"$f":"ПВХ!E23","v":0},{"$f":"ПВХ!J23","v":0},null,null,null,14]
[{"$f":"IF(ПВХ!E24=0,\"z\",\"\")","v":"z"},{"$f":"CONCATENATE(ПВХ!H24,\" \",ПВХ!G24)","v":" "},{"$f":"CONCATENATE(ПВХ!C24,\"х\",ПВХ!D24,\"х\",ПВХ!G24)","v":"хх"},{"$f":"ПВХ!$G$7","v":1},{"$f":"ПВХ!E24","v":0},{"$f":"ПВХ!J24","v":0},null,null,null,15]
[{"$f":"IF(ПВХ!E25=0,\"z\",\"\")","v":"z"},{"$f":"CONCATENATE(ПВХ!H25,\" \",ПВХ!G25)","v":" "},{"$f":"CONCATENATE(ПВХ!C25,\"х\",ПВХ!D25,\"х\",ПВХ!G25)","v":"хх"},{"$f":"ПВХ!$G$7","v":1},{"$f":"ПВХ!E25","v":0},{"$f":"ПВХ!J25","v":0},null,null,null,16]
[{"$f":"IF(ПВХ!E26=0,\"z\",\"\")","v":"z"},{"$f":"CONCATENATE(ПВХ!H26,\" \",ПВХ!G26)","v":" "},{"$f":"CONCATENATE(ПВХ!C26,\"х\",ПВХ!D26,\"х\",ПВХ!G26)","v":"хх"},{"$f":"ПВХ!$G$7","v":1},{"$f":"ПВХ!E26","v":0},{"$f":"ПВХ!J26","v":0},null,null,null,17]
[{"$f":"IF(ПВХ!E27=0,\"z\",\"\")","v":"z"},{"$f":"CONCATENATE(ПВХ!H27,\" \",ПВХ!G27)","v":" "},{"$f":"CONCATENATE(ПВХ!C27,\"х\",ПВХ!D27,\"х\",ПВХ!G27)","v":"хх"},{"$f":"ПВХ!$G$7","v":1},{"$f":"ПВХ!E27","v":0},{"$f":"ПВХ!J27","v":0},null,null,null,18]
[{"$f":"IF(ПВХ!E28=0,\"z\",\"\")","v":"z"},{"$f":"CONCATENATE(ПВХ!H28,\" \",ПВХ!G28)","v":" "},{"$f":"CONCATENATE(ПВХ!C28,\"х\",ПВХ!D28,\"х\",ПВХ!G28)","v":"хх"},{"$f":"ПВХ!$G$7","v":1},{"$f":"ПВХ!E28","v":0},{"$f":"ПВХ!J28","v":0},null,null,null,19]
[{"$f":"IF(ПВХ!E29=0,\"z\",\"\")","v":"z"},{"$f":"CONCATENATE(ПВХ!H29,\" \",ПВХ!G29)","v":" "},{"$f":"CONCATENATE(ПВХ!C29,\"х\",ПВХ!D29,\"х\",ПВХ!G29)","v":"хх"},{"$f":"ПВХ!$G$7","v":1},{"$f":"ПВХ!E29","v":0},{"$f":"ПВХ!J29","v":0},null,null,null,20]
[{"$f":"IF(ПВХ!E30=0,\"z\",\"\")","v":"z"},{"$f":"CONCATENATE(ПВХ!H30,\" \",ПВХ!G30)","v":" "},{"$f":"CONCATENATE(ПВХ!C30,\"х\",ПВХ!D30,\"х\",ПВХ!G30)","v":"хх"},{"$f":"ПВХ!$G$7","v":1},{"$f":"ПВХ!E30","v":0},{"$f":"ПВХ!J30","v":0},null,null,null,21]
[{"$f":"IF(ПВХ!E31=0,\"z\",\"\")","v":"z"},{"$f":"CONCATENATE(ПВХ!H31,\" \",ПВХ!G31)","v":" "},{"$f":"CONCATENATE(ПВХ!C31,\"х\",ПВХ!D31,\"х\",ПВХ!G31)","v":"хх"},{"$f":"ПВХ!$G$7","v":1},{"$f":"ПВХ!E31","v":0},{"$f":"ПВХ!J31","v":0},null,null,null,22]
[{"$f":"IF(ПВХ!E32=0,\"z\",\"\")","v":"z"},{"$f":"CONCATENATE(ПВХ!H32,\" \",ПВХ!G32)","v":" "},{"$f":"CONCATENATE(ПВХ!C32,\"х\",ПВХ!D32,\"х\",ПВХ!G32)","v":"хх"},{"$f":"ПВХ!$G$7","v":1},{"$f":"ПВХ!E32","v":0},{"$f":"ПВХ!J32","v":0},null,null,null,23]
[{"$f":"IF(ПВХ!E33=0,\"z\",\"\")","v":"z"},{"$f":"CONCATENATE(ПВХ!H33,\" \",ПВХ!G33)","v":" "},{"$f":"CONCATENATE(ПВХ!C33,\"х\",ПВХ!D33,\"х\",ПВХ!G33)","v":"хх"},{"$f":"ПВХ!$G$7","v":1},{"$f":"ПВХ!E33","v":0},{"$f":"ПВХ!J33","v":0},null,null,null,24]
[{"$f":"IF(ПВХ!E34=0,\"z\",\"\")","v":"z"},{"$f":"CONCATENATE(ПВХ!H34,\" \",ПВХ!G34)","v":" "},{"$f":"CONCATENATE(ПВХ!C34,\"х\",ПВХ!D34,\"х\",ПВХ!G34)","v":"хх"},{"$f":"ПВХ!$G$7","v":1},{"$f":"ПВХ!E34","v":0},{"$f":"ПВХ!J34","v":0},null,null,null,25]
[]
[]
[null,null,null,null,null,null,null,{"$f":"SUBTOTAL(109,H2:H352)","v":0}]