{"text_format":"1","workbook":"xlsx","n_sheets":3,"sheets":["Реєстр","Настройка","Путевой лист"],"not_rendered":{"charts":0,"images":0,"macros":1,"external_links":0,"defined_names":4,"comments":0,"pivot_tables":0},"unopened":[],"bounds":{"document_bytes":16777216,"sheet_cells":100000,"rows_first":2000,"rows_last":500,"rows_between":2000,"halvings":0,"cell_chars":16384,"cell_head_chars":4096},"cells_cut":0,"cells_raw":0,"read":"whole","date_system":"1900"}

{"sheet":"Реєстр","index":0,"n_rows":36,"n_cols":10,"rows_kept":36,"cut":false,"hidden":false,"merged":[[1,2,1,9]]}
[null,"ctrl+q"]
[null,null,"Журнал даних по витраченому бензину та проїханих кілометрах"]
[null,null,1,2,3,4,5,6,7,8]
[null,null,"Дата","Покази при виїзді, км","Проїхано, км","Покази при повернені, км","К-сть літрів, л","Залишок при виїзді, л","Залишок при повернені, л","Особливі відмітки:"]
[null,1,{"$f":"Настройка!C$6","v":"01.07.2013"},{"$f":"Настройка!C21","v":45000},100,{"$f":"IF(E5=\"\",\" \",D5+E5)","v":45100},10,{"$f":"Настройка!C22","v":5},{"$f":"IF($E5>0,IF(Настройка!$G$7=\"Літо\",$H5-($E5*(Настройка!$E$7/100))+$G5,$H5-($E5*(Настройка!$E$8/100))+$G5),\"\")","v":6},"один"]
[null,2,{"$f":"IF(MONTH(C$5)=MONTH(WORKDAY.INTL(C$5,ROW(A1),1,Настройка!C$8:C$19)),WORKDAY.INTL(C$5,ROW(A1),1,Настройка!C$8:C$19),\"\")","v":"2013-07-02"},{"$f":"IF(C6=\"\",\"\",F5)","v":45100},15,{"$f":"IF(E6=\"\",\" \",D6+E6)","v":45115},null,{"$f":"IF(C6=\"\",\"\",I5)","v":6},{"$f":"IF($E6>0,IF(Настройка!$G$7=\"Літо\",$H6-($E6*(Настройка!$E$7/100))+$G6,$H6-($E6*(Настройка!$E$8/100))+$G6),\"\")","v":4.7},"два"]
[null,3,{"$f":"IF(MONTH(C$5)=MONTH(WORKDAY.INTL(C$5,ROW(A2),1,Настройка!C$8:C$19)),WORKDAY.INTL(C$5,ROW(A2),1,Настройка!C$8:C$19),\"\")","v":"2013-07-03"},45115,156,{"$f":"IF(E7=\"\",\" \",D7+E7)","v":45271},15,4.7,{"$f":"IF($E7>0,IF(Настройка!$G$7=\"Літо\",$H7-($E7*(Настройка!$E$7/100))+$G7,$H7-($E7*(Настройка!$E$8/100))+$G7),\"\")","v":5.7},"три"]
[null,4,{"$f":"IF(MONTH(C$5)=MONTH(WORKDAY.INTL(C$5,ROW(A3),1,Настройка!C$8:C$19)),WORKDAY.INTL(C$5,ROW(A3),1,Настройка!C$8:C$19),\"\")","v":"2013-07-04"},45271,48,{"$f":"IF(E8=\"\",\" \",D8+E8)","v":45319},null,5.7,{"$f":"IF($E8>0,IF(Настройка!$G$7=\"Літо\",$H8-($E8*(Настройка!$E$7/100))+$G8,$H8-($E8*(Настройка!$E$8/100))+$G8),\"\")","v":1.4},"чотири"]
[null,5,{"$f":"IF(MONTH(C$5)=MONTH(WORKDAY.INTL(C$5,ROW(A4),1,Настройка!C$8:C$19)),WORKDAY.INTL(C$5,ROW(A4),1,Настройка!C$8:C$19),\"\")","v":"2013-07-05"},45319,85,{"$f":"IF(E9=\"\",\" \",D9+E9)","v":45404},25,1.4,{"$f":"IF($E9>0,IF(Настройка!$G$7=\"Літо\",$H9-($E9*(Настройка!$E$7/100))+$G9,$H9-($E9*(Настройка!$E$8/100))+$G9),\"\")","v":18.8},"пять"]
[null,6,{"$f":"IF(MONTH(C$5)=MONTH(WORKDAY.INTL(C$5,ROW(A5),1,Настройка!C$8:C$19)),WORKDAY.INTL(C$5,ROW(A5),1,Настройка!C$8:C$19),\"\")","v":"2013-07-08"},45404,198,{"$f":"IF(E10=\"\",\" \",D10+E10)","v":45602},null,18.8,{"$f":"IF($E10>0,IF(Настройка!$G$7=\"Літо\",$H10-($E10*(Настройка!$E$7/100))+$G10,$H10-($E10*(Настройка!$E$8/100))+$G10),\"\")","v":1},"шість"]
[null,7,{"$f":"IF(MONTH(C$5)=MONTH(WORKDAY.INTL(C$5,ROW(A6),1,Настройка!C$8:C$19)),WORKDAY.INTL(C$5,ROW(A6),1,Настройка!C$8:C$19),\"\")","v":"2013-07-09"},45602,null,{"$f":"IF(E11=\"\",\" \",D11+E11)","v":" "},null,1,{"$f":"IF($E11>0,IF(Настройка!$G$7=\"Літо\",$H11-($E11*(Настройка!$E$7/100))+$G11,$H11-($E11*(Настройка!$E$8/100))+$G11),\"\")","v":""}]
[null,8,{"$f":"IF(MONTH(C$5)=MONTH(WORKDAY.INTL(C$5,ROW(A7),1,Настройка!C$8:C$19)),WORKDAY.INTL(C$5,ROW(A7),1,Настройка!C$8:C$19),\"\")","v":"2013-07-10"}," ",null,{"$f":"IF(E12=\"\",\" \",D12+E12)","v":" "},null,"",{"$f":"IF($E12>0,IF(Настройка!$G$7=\"Літо\",$H12-($E12*(Настройка!$E$7/100))+$G12,$H12-($E12*(Настройка!$E$8/100))+$G12),\"\")","v":""}]
[null,9,{"$f":"IF(MONTH(C$5)=MONTH(WORKDAY.INTL(C$5,ROW(A8),1,Настройка!C$8:C$19)),WORKDAY.INTL(C$5,ROW(A8),1,Настройка!C$8:C$19),\"\")","v":"2013-07-11"}," ",null,{"$f":"IF(E13=\"\",\" \",D13+E13)","v":" "},null,"",{"$f":"IF($E13>0,IF(Настройка!$G$7=\"Літо\",$H13-($E13*(Настройка!$E$7/100))+$G13,$H13-($E13*(Настройка!$E$8/100))+$G13),\"\")","v":""}]
[null,10,{"$f":"IF(MONTH(C$5)=MONTH(WORKDAY.INTL(C$5,ROW(A9),1,Настройка!C$8:C$19)),WORKDAY.INTL(C$5,ROW(A9),1,Настройка!C$8:C$19),\"\")","v":"2013-07-12"}," ",null,{"$f":"IF(E14=\"\",\" \",D14+E14)","v":" "},null,"",{"$f":"IF($E14>0,IF(Настройка!$G$7=\"Літо\",$H14-($E14*(Настройка!$E$7/100))+$G14,$H14-($E14*(Настройка!$E$8/100))+$G14),\"\")","v":""}]
[null,11,{"$f":"IF(MONTH(C$5)=MONTH(WORKDAY.INTL(C$5,ROW(A10),1,Настройка!C$8:C$19)),WORKDAY.INTL(C$5,ROW(A10),1,Настройка!C$8:C$19),\"\")","v":"2013-07-15"}," ",null,{"$f":"IF(E15=\"\",\" \",D15+E15)","v":" "},null,"",{"$f":"IF($E15>0,IF(Настройка!$G$7=\"Літо\",$H15-($E15*(Настройка!$E$7/100))+$G15,$H15-($E15*(Настройка!$E$8/100))+$G15),\"\")","v":""}]
[null,12,{"$f":"IF(MONTH(C$5)=MONTH(WORKDAY.INTL(C$5,ROW(A11),1,Настройка!C$8:C$19)),WORKDAY.INTL(C$5,ROW(A11),1,Настройка!C$8:C$19),\"\")","v":"2013-07-16"}," ",null,{"$f":"IF(E16=\"\",\" \",D16+E16)","v":" "},null,"",{"$f":"IF($E16>0,IF(Настройка!$G$7=\"Літо\",$H16-($E16*(Настройка!$E$7/100))+$G16,$H16-($E16*(Настройка!$E$8/100))+$G16),\"\")","v":""}]
[null,13,{"$f":"IF(MONTH(C$5)=MONTH(WORKDAY.INTL(C$5,ROW(A12),1,Настройка!C$8:C$19)),WORKDAY.INTL(C$5,ROW(A12),1,Настройка!C$8:C$19),\"\")","v":"2013-07-17"}," ",null,{"$f":"IF(E17=\"\",\" \",D17+E17)","v":" "},null,"",{"$f":"IF($E17>0,IF(Настройка!$G$7=\"Літо\",$H17-($E17*(Настройка!$E$7/100))+$G17,$H17-($E17*(Настройка!$E$8/100))+$G17),\"\")","v":""}]
[null,14,{"$f":"IF(MONTH(C$5)=MONTH(WORKDAY.INTL(C$5,ROW(A13),1,Настройка!C$8:C$19)),WORKDAY.INTL(C$5,ROW(A13),1,Настройка!C$8:C$19),\"\")","v":"2013-07-18"}," ",null,{"$f":"IF(E18=\"\",\" \",D18+E18)","v":" "},null,"",{"$f":"IF($E18>0,IF(Настройка!$G$7=\"Літо\",$H18-($E18*(Настройка!$E$7/100))+$G18,$H18-($E18*(Настройка!$E$8/100))+$G18),\"\")","v":""}]
[null,15,{"$f":"IF(MONTH(C$5)=MONTH(WORKDAY.INTL(C$5,ROW(A14),1,Настройка!C$8:C$19)),WORKDAY.INTL(C$5,ROW(A14),1,Настройка!C$8:C$19),\"\")","v":"2013-07-19"}," ",null,{"$f":"IF(E19=\"\",\" \",D19+E19)","v":" "},null,"",{"$f":"IF($E19>0,IF(Настройка!$G$7=\"Літо\",$H19-($E19*(Настройка!$E$7/100))+$G19,$H19-($E19*(Настройка!$E$8/100))+$G19),\"\")","v":""}]
[null,16,{"$f":"IF(MONTH(C$5)=MONTH(WORKDAY.INTL(C$5,ROW(A15),1,Настройка!C$8:C$19)),WORKDAY.INTL(C$5,ROW(A15),1,Настройка!C$8:C$19),\"\")","v":"2013-07-22"}," ",null,{"$f":"IF(E20=\"\",\" \",D20+E20)","v":" "},null,"",{"$f":"IF($E20>0,IF(Настройка!$G$7=\"Літо\",$H20-($E20*(Настройка!$E$7/100))+$G20,$H20-($E20*(Настройка!$E$8/100))+$G20),\"\")","v":""}]
[null,17,{"$f":"IF(MONTH(C$5)=MONTH(WORKDAY.INTL(C$5,ROW(A16),1,Настройка!C$8:C$19)),WORKDAY.INTL(C$5,ROW(A16),1,Настройка!C$8:C$19),\"\")","v":"2013-07-23"}," ",null,{"$f":"IF(E21=\"\",\" \",D21+E21)","v":" "},null,"",{"$f":"IF($E21>0,IF(Настройка!$G$7=\"Літо\",$H21-($E21*(Настройка!$E$7/100))+$G21,$H21-($E21*(Настройка!$E$8/100))+$G21),\"\")","v":""}]
[null,18,{"$f":"IF(MONTH(C$5)=MONTH(WORKDAY.INTL(C$5,ROW(A17),1,Настройка!C$8:C$19)),WORKDAY.INTL(C$5,ROW(A17),1,Настройка!C$8:C$19),\"\")","v":"2013-07-24"}," ",null,{"$f":"IF(E22=\"\",\" \",D22+E22)","v":" "},null,"",{"$f":"IF($E22>0,IF(Настройка!$G$7=\"Літо\",$H22-($E22*(Настройка!$E$7/100))+$G22,$H22-($E22*(Настройка!$E$8/100))+$G22),\"\")","v":""}]
[null,19,{"$f":"IF(MONTH(C$5)=MONTH(WORKDAY.INTL(C$5,ROW(A18),1,Настройка!C$8:C$19)),WORKDAY.INTL(C$5,ROW(A18),1,Настройка!C$8:C$19),\"\")","v":"2013-07-25"}," ",null,{"$f":"IF(E23=\"\",\" \",D23+E23)","v":" "},null,"",{"$f":"IF($E23>0,IF(Настройка!$G$7=\"Літо\",$H23-($E23*(Настройка!$E$7/100))+$G23,$H23-($E23*(Настройка!$E$8/100))+$G23),\"\")","v":""}]
[null,20,{"$f":"IF(MONTH(C$5)=MONTH(WORKDAY.INTL(C$5,ROW(A19),1,Настройка!C$8:C$19)),WORKDAY.INTL(C$5,ROW(A19),1,Настройка!C$8:C$19),\"\")","v":"2013-07-26"}," ",null,{"$f":"IF(E24=\"\",\" \",D24+E24)","v":" "},null,"",{"$f":"IF($E24>0,IF(Настройка!$G$7=\"Літо\",$H24-($E24*(Настройка!$E$7/100))+$G24,$H24-($E24*(Настройка!$E$8/100))+$G24),\"\")","v":""}]
[null,21,{"$f":"IF(MONTH(C$5)=MONTH(WORKDAY.INTL(C$5,ROW(A20),1,Настройка!C$8:C$19)),WORKDAY.INTL(C$5,ROW(A20),1,Настройка!C$8:C$19),\"\")","v":"2013-07-29"}," ",null,{"$f":"IF(E25=\"\",\" \",D25+E25)","v":" "},null,"",{"$f":"IF($E25>0,IF(Настройка!$G$7=\"Літо\",$H25-($E25*(Настройка!$E$7/100))+$G25,$H25-($E25*(Настройка!$E$8/100))+$G25),\"\")","v":""}]
[null,22,{"$f":"IF(MONTH(C$5)=MONTH(WORKDAY.INTL(C$5,ROW(A21),1,Настройка!C$8:C$19)),WORKDAY.INTL(C$5,ROW(A21),1,Настройка!C$8:C$19),\"\")","v":"2013-07-30"}," ",null,{"$f":"IF(E26=\"\",\" \",D26+E26)","v":" "},null,"",{"$f":"IF($E26>0,IF(Настройка!$G$7=\"Літо\",$H26-($E26*(Настройка!$E$7/100))+$G26,$H26-($E26*(Настройка!$E$8/100))+$G26),\"\")","v":""}]
[null,23,{"$f":"IF(MONTH(C$5)=MONTH(WORKDAY.INTL(C$5,ROW(A22),1,Настройка!C$8:C$19)),WORKDAY.INTL(C$5,ROW(A22),1,Настройка!C$8:C$19),\"\")","v":"2013-07-31"}," ",null,{"$f":"IF(E27=\"\",\" \",D27+E27)","v":" "},null,"",{"$f":"IF($E27>0,IF(Настройка!$G$7=\"Літо\",$H27-($E27*(Настройка!$E$7/100))+$G27,$H27-($E27*(Настройка!$E$8/100))+$G27),\"\")","v":""}]
[null,24,{"$f":"IF(MONTH(C$5)=MONTH(WORKDAY.INTL(C$5,ROW(A23),1,Настройка!C$8:C$19)),WORKDAY.INTL(C$5,ROW(A23),1,Настройка!C$8:C$19),\"\")","v":""},"",null,{"$f":"IF(E28=\"\",\" \",D28+E28)","v":" "},null,"",{"$f":"IF($E28>0,IF(Настройка!$G$7=\"Літо\",$H28-($E28*(Настройка!$E$7/100))+$G28,$H28-($E28*(Настройка!$E$8/100))+$G28),\"\")","v":""}]
[null,25,{"$f":"IF(MONTH(C$5)=MONTH(WORKDAY.INTL(C$5,ROW(A24),1,Настройка!C$8:C$19)),WORKDAY.INTL(C$5,ROW(A24),1,Настройка!C$8:C$19),\"\")","v":""},"",null,{"$f":"IF(E29=\"\",\" \",D29+E29)","v":" "},null,"",{"$f":"IF($E29>0,IF(Настройка!$G$7=\"Літо\",$H29-($E29*(Настройка!$E$7/100))+$G29,$H29-($E29*(Настройка!$E$8/100))+$G29),\"\")","v":""}]
[null,26,{"$f":"IF(MONTH(C$5)=MONTH(WORKDAY.INTL(C$5,ROW(A25),1,Настройка!C$8:C$19)),WORKDAY.INTL(C$5,ROW(A25),1,Настройка!C$8:C$19),\"\")","v":""},"",null,{"$f":"IF(E30=\"\",\" \",D30+E30)","v":" "},null,"",{"$f":"IF($E30>0,IF(Настройка!$G$7=\"Літо\",$H30-($E30*(Настройка!$E$7/100))+$G30,$H30-($E30*(Настройка!$E$8/100))+$G30),\"\")","v":""}]
[null,27,{"$f":"IF(MONTH(C$5)=MONTH(WORKDAY.INTL(C$5,ROW(A26),1,Настройка!C$8:C$19)),WORKDAY.INTL(C$5,ROW(A26),1,Настройка!C$8:C$19),\"\")","v":""},"",null,{"$f":"IF(E31=\"\",\" \",D31+E31)","v":" "},null,"",{"$f":"IF($E31>0,IF(Настройка!$G$7=\"Літо\",$H31-($E31*(Настройка!$E$7/100))+$G31,$H31-($E31*(Настройка!$E$8/100))+$G31),\"\")","v":""}]
[null,28,{"$f":"IF(MONTH(C$5)=MONTH(WORKDAY.INTL(C$5,ROW(A27),1,Настройка!C$8:C$19)),WORKDAY.INTL(C$5,ROW(A27),1,Настройка!C$8:C$19),\"\")","v":""},"",null,{"$f":"IF(E32=\"\",\" \",D32+E32)","v":" "},null,"",{"$f":"IF($E32>0,IF(Настройка!$G$7=\"Літо\",$H32-($E32*(Настройка!$E$7/100))+$G32,$H32-($E32*(Настройка!$E$8/100))+$G32),\"\")","v":""}]
[null,29,{"$f":"IF(MONTH(C$5)=MONTH(WORKDAY.INTL(C$5,ROW(A28),1,Настройка!C$8:C$19)),WORKDAY.INTL(C$5,ROW(A28),1,Настройка!C$8:C$19),\"\")","v":""},"",null,{"$f":"IF(E33=\"\",\" \",D33+E33)","v":" "},null,"",{"$f":"IF($E33>0,IF(Настройка!$G$7=\"Літо\",$H33-($E33*(Настройка!$E$7/100))+$G33,$H33-($E33*(Настройка!$E$8/100))+$G33),\"\")","v":""}]
[null,30,{"$f":"IF(MONTH(C$5)=MONTH(WORKDAY.INTL(C$5,ROW(A30),1,Настройка!C$8:C$19)),WORKDAY.INTL(C$5,ROW(A30),1,Настройка!C$8:C$19),\"\")","v":""},{"$f":"IF(C34=\"\",\"\",#REF!)","v":""},null,{"$f":"IF(E34=\"\",\" \",D34+E34)","v":" "},null,{"$f":"IF(C34=\"\",\"\",#REF!)","v":""},{"$f":"IF($E34>0,IF(Настройка!$G$7=\"Літо\",$H34-($E34*(Настройка!$E$7/100))+$G34,$H34-($E34*(Настройка!$E$8/100))+$G34),\"\")","v":""}]
[null,null,null,null,"Проїхано, км","Покази спідометра в кінці","К-сть літрів, л","Залишок на кінець, л","Використано, л"]
[null,"Вивод:",null,null,{"$f":"SUM(E5:E34)","v":602},{"$f":"LOOKUP(9E+307,F5:F34)","v":45602},{"$f":"SUM(G5:G34)","v":50},{"$f":"LOOKUP(9E+307,H5:H34)","v":1},{"$f":"IF(Настройка!G7=\"Літо\",E36*(Настройка!E7/100),E36*(Настройка!E8/100))","v":54.2}]

{"sheet":"Настройка","index":1,"n_rows":78,"n_cols":7,"rows_kept":78,"cut":false,"hidden":false,"merged":[[72,1,74,1],[76,1,77,1],[7,1,18,1],[6,6,7,6]]}
[null,"№ дор. Листа:","002833","Марка пального:","Режим водія:"]
[null,"Водій:","DAdadad"]
[null,"Авто:",625255515,"А-92","без графіка"]
[null,"Держ номер",525055205,"А-95","з 9:00 до 18:00"]
[null,"Хто використовує?","В 62620","А-98"]
[null,"Дата початку робочого місяця","01.07.2013",null,"Норма:","Дата закінчення пори року:","Пора року:"]
[null,"Вибрана марка пального",null,"Літній період:",9,"31.03.2013",{"$f":"IF(MONTH($C$6)>MONTH(F7),IF(MONTH($C$6)>MONTH(F8),\"Зима\",\"Літо\"))","v":"Літо"}]
[null,"Не робочі дні:",null,"Зимовий період:",10,"31.10.2013"]
[]
[]
[]
[]
[]
[]
[]
[]
[]
[]
[]
[null,"Роб режим:"]
[null,"покази при виїзді",45000]
[null,"Залишок бензину при виїзді",5]
[]
[]
[]
[]
[]
[]
[]
[]
[]
[]
[]
[]
[]
[]
[]
[]
[]
[]
[]
[]
[]
[]
[]
[]
[]
[]
[]
[]
[]
[]
[]
[]
[]
[]
[]
[]
[]
[]
[]
[]
[]
[]
[]
[]
[]
[]
[]
[]
[]
[]
[null,"марка пального:","А-92"]
[null,null,"А-95"]
[null,null,"А-98"]
[]
[null,"Режим водія:","без графіка"]
[null,null,"з 9:00 до 18:00"]

{"sheet":"Путевой лист","index":2,"n_rows":74,"n_cols":16,"rows_kept":74,"cut":false,"hidden":false,"merged":[[26,1,26,2],[25,1,25,2],[25,5,25,7],[1,5,1,7],[6,2,6,5],[5,2,5,5],[18,2,19,4],[35,10,35,11],[16,9,16,16],[19,9,20,16],[24,9,24,16],[28,9,28,16],[29,1,29,2],[27,1,27,2],[26,5,26,7],[27,5,27,7],[33,5,33,7],[35,5,35,7],[34,1,34,7],[35,1,35,4],[30,1,31,2],[32,5,32,7],[32,1,32,2],[30,5,30,7],[29,5,29,7],[30,3,31,3],[16,2,16,3],[30,4,31,4],[31,5,31,7],[28,5,28,7],[28,1,28,2],[11,9,15,16],[24,5,24,7],[15,1,15,4],[15,5,15,7],[19,6,20,6],[19,7,20,7],[20,2,20,3],[21,2,21,3],[22,2,22,3],[11,4,11,5],[13,4,13,6],[17,2,17,3],[12,2,12,5],[13,1,13,3],[22,5,22,7],[23,1,23,4],[23,5,23,7],[24,1,24,4],[18,1,19,1],[4,1,4,7],[8,1,8,3],[9,1,9,3],[8,4,8,5],[0,9,0,16],[1,9,1,10],[1,11,2,11],[1,12,2,12],[10,14,10,15],[3,13,3,14],[3,15,3,16],[1,13,2,14],[1,15,2,16],[9,4,9,5],[10,2,10,6],[36,9,36,16],[37,5,37,7],[37,9,37,10],[37,11,38,11],[37,12,38,12],[37,13,38,14],[37,15,38,16],[39,13,39,14],[39,15,39,16],[40,1,40,7],[41,2,41,5],[42,2,42,5],[44,1,44,3],[44,4,44,5],[45,1,45,3],[45,4,45,5],[46,2,46,6],[46,14,46,15],[47,4,47,5],[47,9,51,16],[48,2,48,5],[49,1,49,3],[49,4,49,6],[51,1,51,4],[51,5,51,7],[52,2,52,3],[52,9,52,16],[53,2,53,3],[54,1,55,1],[54,2,55,4],[55,6,56,6],[55,7,56,7],[55,9,56,16],[56,2,56,3],[57,2,57,3],[58,2,58,3],[58,5,58,7],[59,1,59,4],[59,5,59,7],[60,1,60,4],[60,5,60,7],[60,9,60,16],[61,1,61,2],[61,5,61,7],[62,1,62,2],[62,5,62,7],[68,1,68,2],[68,5,68,7],[69,5,69,7],[70,1,70,7],[71,1,71,4],[71,5,71,7],[71,10,71,11],[63,1,63,2],[63,5,63,7],[64,1,64,2],[64,5,64,7],[64,9,64,16],[65,1,65,2],[65,5,65,7],[66,1,67,2],[66,3,67,3],[66,4,67,4],[66,5,66,7],[67,5,67,7]]}
[null,"Місце печатки ",null,null,null,null,null,"Типова форма N 3","   .","IV. Результати роботи автомобіля"]
[null,"(штампу) підприємства",null,null,null,"Затверджено Наказом Державного комітету статистики України",null,null,"   .","Витрати пального, л",null,"Загальний пробіг, км","Час у наряді, год","Розрахунок вартості послуг",null,"Розрахунок зарплати водієві"]
[null,null,null,null,null,null,null,"від 17 лютого 1998 р. N 74","   .","за нормою","фактично"]
[null,null,null,null,null,null,null,null,"   ."]
[null,"ПОДОРОЖНІЙ ЛИСТ СЛУЖБОВОГО ЛЕГКОВОГО АВТОМОБІЛЯ",null,null,null,null,null,null,"   .",{"$f":"IF(Настройка!$G$7=\"Літо\",Настройка!$E$7,Настройка!$E$8)","v":9},{"$f":"IF(Настройка!$G$7=\"Літо\",Настройка!$E$7,Настройка!$E$8)","v":9},{"$f":"Реєстр!E28","v":0},null,"за пробіг",null,"за пробіг"]
[null,null,{"$f":"CONCATENATE(\"№ \",Настройка!C1)","v":"№ 002833"},null,null,null,null,null,"   .",null,null,null,null,"за час у наряді",null,"за час у наряді"]
[null,null,{"$f":"CONCATENATE(\"від \",TEXT($B$73,\"[$-FC22]d mmmm yyyy\"&\" року\"))","v":"від 31 липня 2013 року"},null,null,null,null,null,"   .",null,null,null,null,"Всього",null,"Всього"]
[null,null,null,null,null,null,null,null,"   ."]
[null,"Режим роботи водія",null,null,{"$f":"Настройка!$C$20","v":0},null,null,"Коди","   ."]
[null,"Автомобіль",null,null,{"$f":"CONCATENATE(Настройка!$C$3,\", \",Настройка!$C$4)","v":"625255515, 525055205"},null,null,null,"   .","Особа, яка користувалася автомобілем:"]
[null,null,"марка, державний номер, гаражний номер",null,null,null,null,null,"   .",null,null,null,null,null,"     підпис, печатка (штамп)"]
[null,"Водій",null,null,null,null,null,null,"   .",{"$f":"\"Особливі відмітки: \"&Реєстр!J28","v":"Особливі відмітки: "}]
[null,null,"прізвище, ім'я, по батькові; номер посвідчення водія",null,null,null,null,null,"   ."]
[null,"колона ___________",null,null," бригада _________________",null,null,null,"   ."]
[null,null,null,null,null,null,null,null,"   ."]
[null," I. Завдання водієві",null,null,null,"III. Рух пального, літрів",null,null,"   ."]
[null,"У чиє розпорядження "," Час прибуття",null,"Час вибуття ","Марка пального ",8,{"$f":"Настройка!C7","v":0},"   ."]
[null,1,2,null,3,"Код марки ",9,"-","   ."]
[null,{"$f":"Настройка!C5","v":"В 62620"},{"$f":"Настройка!C20","v":"00:00:00"},null,null,"Видано ",10,{"$f":"Реєстр!G27","v":0},"   ."]
[null,null,null,null,null,"Залишок: ",11,{"$f":"Реєстр!H27","v":""},"   ."]
[null,null," ",null," ","при виїзді ",null,null,"   ."]
[null," "," ",null," ","при поверненні ",12,{"$f":"Реєстр!I27","v":""},"   ."]
[null," "," ",null," ","Заправник  ",null,null,"   ."]
[null,null,null,null,null,"прізвище, підпис",null,null,"   ."]
[null,"II. Робота водія та автомобіля",null,null,null,"Водій за станом здоров'я до керування допущений",null,null,"   ."]
[null,"Показники спідометра",null,null,"Х","допущений",null,null,"   ."]
[null,"при виїзді з гаража",null,4,{"$f":"Реєстр!D27","v":" "},"Лікар      ___________________",null,null,"   ."]
[null,"при поверненні до гаража",null,5,{"$f":"Реєстр!F27","v":" "},"Виїзд дозволений",null,null,"   ."]
[null,null,null,null,null,"Механік ___________________________",null,null,"   ."]
[null,"Час фактичний",null,null,"Х","Автомобіль прийняв ___________",null,null,"   ."]
[null,"при виїзді з гаража",null,6,"09:05:00","                               підпис водія",null,null,"   ."]
[null,null,null,null,null,"Автомобіль здав __________________",null,null,"   ."]
[null,"при поверненні до гаражу",null,7,"17:55:00","Автомобіль прийняв ______________",null,null,"   ."]
[null,null,null,null,null,"                               підпис механіка",null,null,"   ."]
[null,"Посвідчення водія перевірив, завдання видав ______________________________",null,null,null,null,null,null,"   .","Бухгалтер __________________",null,null,null,"Таксувальник _________________"]
[null,null,null,null,null,"підпис диспетчера",null,null,"   .",null,"підпис",null,null,null,"     підпис"]
[null,"Місце печатки ",null,null,null,null,null,"Типова форма N 3",null,"IV. Результати роботи автомобіля"]
[null,"(штампу) підприємства",null,null,null,"Затверджено Наказом Державного комітету статистики України",null,null,null,"Витрати пального, л",null,"Загальний пробіг, км","Час у наряді, год","Розрахунок вартості послуг",null,"Розрахунок зарплати водієві"]
[null,null,null,null,null,null,null,"від 17 лютого 1998 р. N 74",null,"за нормою","фактично"]
[]
[null,"ПОДОРОЖНІЙ ЛИСТ СЛУЖБОВОГО ЛЕГКОВОГО АВТОМОБІЛЯ",null,null,null,null,null,null,null,{"$f":"IF(Настройка!$G$7=\"Літо\",Настройка!$E$7,Настройка!$E$8)","v":9},{"$f":"IF(Настройка!$G$7=\"Літо\",Настройка!$E$7,Настройка!$E$8)","v":9},{"$f":"Реєстр!E27","v":0},null,"за пробіг",null,"за пробіг"]
[null,null,{"$f":"CONCATENATE(\"№ \",Настройка!C1)","v":"№ 002833"},null,null,null,null,null,null,null,null,null,null,"за час у наряді",null,"за час у наряді"]
[null,null,{"$f":"CONCATENATE(\"від \",TEXT($B$74,\"[$-FC22]d mmmm yyyy\"&\" року\"))","v":"від "},null,null,null,null,null,null,null,null,null,null,"Всього",null,"Всього"]
[]
[null,"Режим роботи водія",null,null,{"$f":"Настройка!$C$20","v":0},null,null,"Коди"]
[null,"Автомобіль",null,null,{"$f":"CONCATENATE(Настройка!$C$3,\", \",Настройка!$C$4)","v":"625255515, 525055205"},null,null,null,null,"Особа, яка користувалася автомобілем:"]
[null,null,"марка, державний номер, гаражний номер",null,null,null,null,null,null,null,null,null,null,null,"     підпис, печатка (штамп)"]
[null,"Водій",null,null,null,null,null,null,null,{"$f":"\"Особливі відмітки: \"&Реєстр!J27","v":"Особливі відмітки: "}]
[null,null,"прізвище, ім'я, по батькові; номер посвідчення водія"]
[null,"колона ___________",null,null," бригада _________________"]
[]
[null," I. Завдання водієві",null,null,null,"III. Рух пального, літрів"]
[null,"У чиє розпорядження "," Час прибуття",null,"Час вибуття ","Марка пального ",8,{"$f":"Настройка!C43","v":0}]
[null,1,2,null,3,"Код марки ",9,"-"]
[null,{"$f":"Настройка!C41","v":0},{"$f":"Настройка!C56","v":"00:00:00"},null,null,"Видано ",10,{"$f":"Реєстр!G28","v":0}]
[null,null,null,null,null,"Залишок: ",11,{"$f":"Реєстр!H28","v":""}]
[null,null," ",null," ","при виїзді "]
[null," "," ",null," ","при поверненні ",12,{"$f":"Реєстр!I28","v":""}]
[null," "," ",null," ","Заправник  "]
[null,null,null,null,null,"прізвище, підпис"]
[null,"II. Робота водія та автомобіля",null,null,null,"Водій за станом здоров'я до керування допущений"]
[null,"Показники спідометра",null,null,"Х","допущений"]
[null,"при виїзді з гаража",null,4,{"$f":"Реєстр!D28","v":""},"Лікар      ___________________"]
[null,"при поверненні до гаража",null,5,{"$f":"Реєстр!F28","v":" "},"Виїзд дозволений"]
[null,null,null,null,null,"Механік ___________________________"]
[null,"Час фактичний",null,null,"Х","Автомобіль прийняв ___________"]
[null,"при виїзді з гаража",null,6,"09:05:00","                               підпис водія"]
[null,null,null,null,null,"Автомобіль здав __________________"]
[null,"при поверненні до гаражу",null,7,"17:55:00","Автомобіль прийняв ______________"]
[null,null,null,null,null,"                               підпис механіка"]
[null,"Посвідчення водія перевірив, завдання видав ______________________________",null,null,null,null,null,null,null,"Бухгалтер __________________",null,null,null,"Таксувальник _________________"]
[null,null,null,null,null,"підпис диспетчера",null,null,null,null,"підпис",null,null,null,"     підпис"]
[null,{"$f":"Реєстр!C27","v":41486},"дата"]
[null,{"$f":"Реєстр!C28","v":""},"дата"]