{"text_format":"1","workbook":"xlsx","n_sheets":5,"sheets":["Лист1","Лист2","Лист3","Лист4","Лист5"],"not_rendered":{"charts":0,"images":0,"macros":1,"external_links":0,"defined_names":2,"comments":0,"pivot_tables":0},"unopened":[],"bounds":{"document_bytes":16777216,"sheet_cells":100000,"rows_first":2000,"rows_last":500,"rows_between":2000,"halvings":0,"cell_chars":16384,"cell_head_chars":4096},"cells_cut":0,"cells_raw":0,"read":"whole","date_system":"1900"}

{"sheet":"Лист1","index":0,"n_rows":31,"n_cols":12,"rows_kept":31,"cut":false,"hidden":true,"merged":[]}
["Имя файла","Размер","Дата изменения","MD5","CRC32","SHA1",null,"MD5",null,"Отсечение разрешения файла","Добавление в конец \"-УЛ\"","Выбор алгоритма "]
["75G16.tif",1883462,"2022-07-14T18:26:43",null,"7EE15D81",null,null,"CRC32",null,{"$f":"IF(A2=\"\",\"\",LEFT(A2,SEARCH(\".\",A2)-1))","v":"75G16"},{"$f":"IF(J2=\"\",\"\",J2&\"-УЛ\")","v":"75G16-УЛ"},{"$f":"UPPER((IF(Лист5!$H$6=\"MD5\",D2,IF(Лист5!$H$6=\"CRC32\",E2,IF(Лист5!$H$6=\"SHA1\",F2,\"\")))))","v":""}]
["88A5.tif",2786364,"2022-07-14T18:32:08",null,"13D5208C",null,null,"SHA1",null,"88A5",{"$f":"IF(J3=\"\",\"\",J3&\"-УЛ\")","v":"88A5-УЛ"},{"$f":"UPPER((IF(Лист5!$H$6=\"MD5\",D3,IF(Лист5!$H$6=\"CRC32\",E3,IF(Лист5!$H$6=\"SHA1\",F3,\"\")))))","v":""}]
["Вариант 1.bak",232992,"2024-04-18T15:10:32",null,"C2DB85B2",null,null,null,null,"Вариант 1","Вариант 1-УЛ",{"$f":"UPPER((IF(Лист5!$H$6=\"MD5\",D4,IF(Лист5!$H$6=\"CRC32\",E4,IF(Лист5!$H$6=\"SHA1\",F4,\"\")))))","v":""}]
["Вариант 1.dwg",231712,"2024-04-18T15:10:53",null,"E3E14A83",null,null,null,null,"Вариант 1","Вариант 1-УЛ",{"$f":"UPPER((IF(Лист5!$H$6=\"MD5\",D5,IF(Лист5!$H$6=\"CRC32\",E5,IF(Лист5!$H$6=\"SHA1\",F5,\"\")))))","v":""}]
["Вариант 2.bak",227392,"2024-04-18T15:05:43",null,"288F1218",null,null,null,null,"Вариант 2","Вариант 2-УЛ",{"$f":"UPPER((IF(Лист5!$H$6=\"MD5\",D6,IF(Лист5!$H$6=\"CRC32\",E6,IF(Лист5!$H$6=\"SHA1\",F6,\"\")))))","v":""}]
["Вариант 2.dwg",222528,"2024-04-18T15:11:06",null,"B04D1B4A",null,null,null,null,"Вариант 2","Вариант 2-УЛ",{"$f":"UPPER((IF(Лист5!$H$6=\"MD5\",D7,IF(Лист5!$H$6=\"CRC32\",E7,IF(Лист5!$H$6=\"SHA1\",F7,\"\")))))","v":""}]
["СХЕМА_ГП_01.03.2024.dwg",6506976,"2024-04-18T11:50:37",null,"4EACC293",null,null,null,null,"СХЕМА_ГП_01","СХЕМА_ГП_01-УЛ",{"$f":"UPPER((IF(Лист5!$H$6=\"MD5\",D8,IF(Лист5!$H$6=\"CRC32\",E8,IF(Лист5!$H$6=\"SHA1\",F8,\"\")))))","v":""}]
[null,null,null,null,null,null,null,null,null,"","",{"$f":"UPPER((IF(Лист5!$H$6=\"MD5\",D9,IF(Лист5!$H$6=\"CRC32\",E9,IF(Лист5!$H$6=\"SHA1\",F9,\"\")))))","v":""}]
[null,null,null,null,null,null,null,null,null,"","",{"$f":"UPPER((IF(Лист5!$H$6=\"MD5\",D10,IF(Лист5!$H$6=\"CRC32\",E10,IF(Лист5!$H$6=\"SHA1\",F10,\"\")))))","v":""}]
[null,null,null,null,null,null,null,null,null,"","",{"$f":"UPPER((IF(Лист5!$H$6=\"MD5\",D11,IF(Лист5!$H$6=\"CRC32\",E11,IF(Лист5!$H$6=\"SHA1\",F11,\"\")))))","v":""}]
[null,null,null,null,null,null,null,null,null,"","",{"$f":"UPPER((IF(Лист5!$H$6=\"MD5\",D12,IF(Лист5!$H$6=\"CRC32\",E12,IF(Лист5!$H$6=\"SHA1\",F12,\"\")))))","v":""}]
[null,null,null,null,null,null,null,null,null,"","",{"$f":"UPPER((IF(Лист5!$H$6=\"MD5\",D13,IF(Лист5!$H$6=\"CRC32\",E13,IF(Лист5!$H$6=\"SHA1\",F13,\"\")))))","v":""}]
[null,null,null,null,null,null,null,null,null,"","",{"$f":"UPPER((IF(Лист5!$H$6=\"MD5\",D14,IF(Лист5!$H$6=\"CRC32\",E14,IF(Лист5!$H$6=\"SHA1\",F14,\"\")))))","v":""}]
[null,null,null,null,null,null,null,null,null,"","",{"$f":"UPPER((IF(Лист5!$H$6=\"MD5\",D15,IF(Лист5!$H$6=\"CRC32\",E15,IF(Лист5!$H$6=\"SHA1\",F15,\"\")))))","v":""}]
[null,null,null,null,null,null,null,null,null,"","",{"$f":"UPPER((IF(Лист5!$H$6=\"MD5\",D16,IF(Лист5!$H$6=\"CRC32\",E16,IF(Лист5!$H$6=\"SHA1\",F16,\"\")))))","v":""}]
[null,null,null,null,null,null,null,null,null,"","",{"$f":"UPPER((IF(Лист5!$H$6=\"MD5\",D17,IF(Лист5!$H$6=\"CRC32\",E17,IF(Лист5!$H$6=\"SHA1\",F17,\"\")))))","v":""}]
[null,null,null,null,null,null,null,null,null,"","",{"$f":"UPPER((IF(Лист5!$H$6=\"MD5\",D18,IF(Лист5!$H$6=\"CRC32\",E18,IF(Лист5!$H$6=\"SHA1\",F18,\"\")))))","v":""}]
[null,null,null,null,null,null,null,null,null,"","",{"$f":"UPPER((IF(Лист5!$H$6=\"MD5\",D19,IF(Лист5!$H$6=\"CRC32\",E19,IF(Лист5!$H$6=\"SHA1\",F19,\"\")))))","v":""}]
[null,null,null,null,null,null,null,null,null,"","",{"$f":"UPPER((IF(Лист5!$H$6=\"MD5\",D20,IF(Лист5!$H$6=\"CRC32\",E20,IF(Лист5!$H$6=\"SHA1\",F20,\"\")))))","v":""}]
[null,null,null,null,null,null,null,null,null,"","",{"$f":"UPPER((IF(Лист5!$H$6=\"MD5\",D21,IF(Лист5!$H$6=\"CRC32\",E21,IF(Лист5!$H$6=\"SHA1\",F21,\"\")))))","v":""}]
[null,null,null,null,null,null,null,null,null,"","",{"$f":"UPPER((IF(Лист5!$H$6=\"MD5\",D22,IF(Лист5!$H$6=\"CRC32\",E22,IF(Лист5!$H$6=\"SHA1\",F22,\"\")))))","v":""}]
[null,null,null,null,null,null,null,null,null,"","",{"$f":"UPPER((IF(Лист5!$H$6=\"MD5\",D23,IF(Лист5!$H$6=\"CRC32\",E23,IF(Лист5!$H$6=\"SHA1\",F23,\"\")))))","v":""}]
[null,null,null,null,null,null,null,null,null,"","",{"$f":"UPPER((IF(Лист5!$H$6=\"MD5\",D24,IF(Лист5!$H$6=\"CRC32\",E24,IF(Лист5!$H$6=\"SHA1\",F24,\"\")))))","v":""}]
[null,null,null,null,null,null,null,null,null,"","",{"$f":"UPPER((IF(Лист5!$H$6=\"MD5\",D25,IF(Лист5!$H$6=\"CRC32\",E25,IF(Лист5!$H$6=\"SHA1\",F25,\"\")))))","v":""}]
[null,null,null,null,null,null,null,null,null,"","",{"$f":"UPPER((IF(Лист5!$H$6=\"MD5\",D26,IF(Лист5!$H$6=\"CRC32\",E26,IF(Лист5!$H$6=\"SHA1\",F26,\"\")))))","v":""}]
[null,null,null,null,null,null,null,null,null,"","",{"$f":"UPPER((IF(Лист5!$H$6=\"MD5\",D27,IF(Лист5!$H$6=\"CRC32\",E27,IF(Лист5!$H$6=\"SHA1\",F27,\"\")))))","v":""}]
[null,null,null,null,null,null,null,null,null,"","",{"$f":"UPPER((IF(Лист5!$H$6=\"MD5\",D28,IF(Лист5!$H$6=\"CRC32\",E28,IF(Лист5!$H$6=\"SHA1\",F28,\"\")))))","v":""}]
[null,null,null,null,null,null,null,null,null,"","",{"$f":"UPPER((IF(Лист5!$H$6=\"MD5\",D29,IF(Лист5!$H$6=\"CRC32\",E29,IF(Лист5!$H$6=\"SHA1\",F29,\"\")))))","v":""}]
[null,null,null,null,null,null,null,null,null,"","",{"$f":"UPPER((IF(Лист5!$H$6=\"MD5\",D30,IF(Лист5!$H$6=\"CRC32\",E30,IF(Лист5!$H$6=\"SHA1\",F30,\"\")))))","v":""}]
[null,null,null,null,null,null,null,null,null,"","",{"$f":"UPPER((IF(Лист5!$H$6=\"MD5\",D31,IF(Лист5!$H$6=\"CRC32\",E31,IF(Лист5!$H$6=\"SHA1\",F31,\"\")))))","v":""}]

{"sheet":"Лист2","index":1,"n_rows":31,"n_cols":16,"rows_kept":31,"cut":false,"hidden":false,"merged":[[0,4,0,8],[0,9,0,13],[0,15,0,22]]}
["№ п/п","Наименование файла","Наименование изделия, вид документа","Номер последнего изменения","Характер работы",null,null,null,null,"ФИО",null,null,null,null,null,"Если есть совпадение"]
[{"$f":"IF(ISBLANK(B2),\"\",COUNTA($B$2:B2))","v":1},"75G16.tif","Архив профиля",1,"Инженер","ГИП","Директор",null,null,"Иванов","Петров","Сидоров",null,null,null,{"$f":"IF(SEARCH(\"*ПОС*\", B2), \"Проект организации строительства\", \"\")","v":{"$error":"#VALUE!"}}]
[{"$f":"IF(ISBLANK(B3),\"\",COUNTA($B$2:B3))","v":2},"88A5.tif","Таблица колодцев",1,"Инженер","ГИП","Директор",null,null,"Иванов","Петров","Сидоров"]
[{"$f":"IF(ISBLANK(B4),\"\",COUNTA($B$2:B4))","v":3},"Вариант 1.bak","Пояснительная записка",1,"Инженер","ГИП","Директор",null,null,"Иванов","Петров","Сидоров"]
[{"$f":"IF(ISBLANK(B5),\"\",COUNTA($B$2:B5))","v":4},"Вариант 1.dwg","Пояснительная записка",2,"Инженер","ГИП","Директор",null,null,"Иванов","Петров","Сидоров"]
[{"$f":"IF(ISBLANK(B6),\"\",COUNTA($B$2:B6))","v":5},"Вариант 2.bak"]
[{"$f":"IF(ISBLANK(B7),\"\",COUNTA($B$2:B7))","v":6},"Вариант 2.dwg"]
[{"$f":"IF(ISBLANK(B8),\"\",COUNTA($B$2:B8))","v":7},"СХЕМА_ГП_01.03.2024.dwg"]
[{"$f":"IF(ISBLANK(B9),\"\",COUNTA($B$2:B9))","v":""}]
[{"$f":"IF(ISBLANK(B10),\"\",COUNTA($B$2:B10))","v":""}]
[{"$f":"IF(ISBLANK(B11),\"\",COUNTA($B$2:B11))","v":""}]
[{"$f":"IF(ISBLANK(B12),\"\",COUNTA($B$2:B12))","v":""}]
[{"$f":"IF(ISBLANK(B13),\"\",COUNTA($B$2:B13))","v":""}]
[{"$f":"IF(ISBLANK(B14),\"\",COUNTA($B$2:B14))","v":""}]
[{"$f":"IF(ISBLANK(B15),\"\",COUNTA($B$2:B15))","v":""}]
[{"$f":"IF(ISBLANK(B16),\"\",COUNTA($B$2:B16))","v":""}]
[{"$f":"IF(ISBLANK(B17),\"\",COUNTA($B$2:B17))","v":""}]
[{"$f":"IF(ISBLANK(B18),\"\",COUNTA($B$2:B18))","v":""}]
[{"$f":"IF(ISBLANK(B19),\"\",COUNTA($B$2:B19))","v":""}]
[{"$f":"IF(ISBLANK(B20),\"\",COUNTA($B$2:B20))","v":""}]
[{"$f":"IF(ISBLANK(B21),\"\",COUNTA($B$2:B21))","v":""}]
[{"$f":"IF(ISBLANK(B22),\"\",COUNTA($B$2:B22))","v":""}]
[{"$f":"IF(ISBLANK(B23),\"\",COUNTA($B$2:B23))","v":""}]
[{"$f":"IF(ISBLANK(B24),\"\",COUNTA($B$2:B24))","v":""}]
[{"$f":"IF(ISBLANK(B25),\"\",COUNTA($B$2:B25))","v":""}]
[{"$f":"IF(ISBLANK(B26),\"\",COUNTA($B$2:B26))","v":""}]
[{"$f":"IF(ISBLANK(B27),\"\",COUNTA($B$2:B27))","v":""}]
[{"$f":"IF(ISBLANK(B28),\"\",COUNTA($B$2:B28))","v":""}]
[{"$f":"IF(ISBLANK(B29),\"\",COUNTA($B$2:B29))","v":""}]
[{"$f":"IF(ISBLANK(B30),\"\",COUNTA($B$2:B30))","v":""}]
[{"$f":"IF(ISBLANK(B31),\"\",COUNTA($B$2:B31))","v":""}]

{"sheet":"Лист3","index":2,"n_rows":51,"n_cols":10,"rows_kept":51,"cut":false,"hidden":true,"merged":[[29,0,32,2],[29,3,32,5],[29,6,32,7],[29,8,32,9],[33,0,36,2],[33,3,36,5],[33,6,36,7],[33,8,36,9],[49,7,50,9],[41,0,42,9],[45,0,46,2],[45,3,46,7],[37,0,40,2],[37,3,40,5],[37,6,40,7],[37,8,40,9],[21,0,24,2],[21,3,24,5],[21,6,24,7],[21,8,24,9],[25,0,28,2],[25,3,28,5],[25,6,28,7],[25,8,28,9],[19,8,20,9],[19,6,20,7],[19,3,20,5],[19,0,20,2],[13,4,14,6],[13,7,14,9],[13,0,14,3],[15,0,16,3],[15,4,16,6],[15,7,16,9],[5,7,6,9],[9,4,10,9],[3,0,4,0],[3,1,4,3],[3,4,4,6],[3,7,4,9],[5,0,6,0],[5,1,6,3],[5,4,6,6],[9,3,10,3],[9,0,10,2]]}
[null,null,null,"ИНФОРМАЦИОННО-УДОСТОВЕРЯЮЩИЙ ЛИСТ"]
[]
[]
["№\nп/п","Обозначение документа",null,null,"Наименование изделия, вид документа",null,null,"Номер последнего изменения (версия)"]
[]
[1]
[]
[]
[]
["Алгоритм расчета контрольной суммы",null,null,{"$f":"Лист5!$H$6","v":"MD5"}]
[]
[]
[]
["Наименование файла",null,null,null,"Дата и время последнего изменения файла",null,null,"Размер файла (байт)"]
[]
[]
[]
[]
[]
["Характер работы",null,null,"ФИО",null,null,"Подпись",null,"Дата подписания"]
[]
[null,null,null,null,null,null,null,null,{"$f":"IF(A22=\"\",\"\",TODAY())","v":""}]
[]
[]
[]
[null,null,null,null,null,null,null,null,{"$f":"IF(A26=\"\",\"\",TODAY())","v":""}]
[]
[]
[]
[null,null,null,null,null,null,null,null,{"$f":"IF(A30=\"\",\"\",TODAY())","v":""}]
[]
[]
[]
[null,null,null,null,null,null,null,null,{"$f":"IF(A34=\"\",\"\",TODAY())","v":""}]
[]
[]
[]
[null,null,null,null,null,null,null,null,{"$f":"IF(A38=\"\",\"\",TODAY())","v":""}]
[]
[]
[]
[" * – характер работы, выполняемой лицом, подписавшим документ «Разработал», «Проверил», «Нормоконтроль», «Утвердил» (ГИП, ГАП) и т.д. "]
[]
[]
[]
["Информационно-удостоверяющий лист",null,null,null,null,null,null,null,"Лист","Листов"]
[null,null,null,null,null,null,null,null,1,1]
[]
[]
[{"$f":"Лист5!$H$4","v":"Директор"},null,null,null,null,null,null,{"$f":"Лист5!$H$5","v":"И.И. Иванов"}]
[{"$f":"Лист5!$H$3","v":"ООО \"Рога и копыта\""}]

{"sheet":"Лист4","index":3,"n_rows":357,"n_cols":10,"rows_kept":357,"cut":false,"hidden":false,"merged":[[198,0,199,2],[198,3,199,7],[202,7,203,9],[186,0,189,2],[186,3,189,5],[186,6,189,7],[186,8,189,9],[190,0,193,2],[190,3,193,5],[190,6,193,7],[190,8,193,9],[194,0,195,9],[174,0,177,2],[174,3,177,5],[174,6,177,7],[174,8,177,9],[178,0,181,2],[178,3,181,5],[178,6,181,7],[178,8,181,9],[182,0,185,2],[182,3,185,5],[182,6,185,7],[182,8,185,9],[166,0,167,3],[166,4,167,6],[166,7,167,9],[168,0,169,3],[168,4,169,6],[168,7,169,9],[172,0,173,2],[172,3,173,5],[172,6,173,7],[172,8,173,9],[156,0,157,0],[156,1,157,3],[156,4,157,6],[156,7,157,9],[158,0,159,0],[158,1,159,3],[158,4,159,6],[158,7,159,9],[162,0,163,2],[162,3,163,3],[162,4,163,9],[84,0,87,2],[84,3,87,5],[84,6,87,7],[84,8,87,9],[88,0,91,2],[88,3,91,5],[88,6,91,7],[88,8,91,9],[143,0,144,9],[127,0,130,2],[127,3,130,5],[127,6,130,7],[127,8,130,9],[131,0,134,2],[131,3,134,5],[131,6,134,7],[131,8,134,9],[117,0,118,3],[117,4,118,6],[117,7,118,9],[123,0,126,2],[123,3,126,5],[123,6,126,7],[123,8,126,9],[147,0,148,2],[147,3,148,7],[151,7,152,9],[139,0,142,2],[139,3,142,5],[139,6,142,7],[139,8,142,9],[135,0,138,2],[135,3,138,5],[135,6,138,7],[135,8,138,9],[107,0,108,0],[107,1,108,3],[107,4,108,6],[107,7,108,9],[111,0,112,2],[111,3,112,3],[111,4,112,9],[115,0,116,3],[115,4,116,6],[115,7,116,9],[92,0,93,9],[96,0,97,2],[96,3,97,7],[100,7,101,9],[105,0,106,0],[105,1,106,3],[105,4,106,6],[105,7,106,9],[70,6,71,7],[70,8,71,9],[70,0,71,2],[70,3,71,5],[72,0,75,2],[72,3,75,5],[72,6,75,7],[72,8,75,9],[76,0,79,2],[76,3,79,5],[76,6,79,7],[76,8,79,9],[80,0,83,2],[80,3,83,5],[80,6,83,7],[80,8,83,9],[45,0,46,2],[45,3,46,7],[49,7,50,9],[54,0,55,0],[54,1,55,3],[54,4,55,6],[54,7,55,9],[56,0,57,0],[56,1,57,3],[56,4,57,6],[56,7,57,9],[121,0,122,2],[121,3,122,5],[121,6,122,7],[121,8,122,9],[3,0,4,0],[3,1,4,3],[3,4,4,6],[3,7,4,9],[5,0,6,0],[5,1,6,3],[5,4,6,6],[5,7,6,9],[9,0,10,2],[9,3,10,3],[9,4,10,9],[13,0,14,3],[13,4,14,6],[13,7,14,9],[15,0,16,3],[15,4,16,6],[15,7,16,9],[19,0,20,2],[19,3,20,5],[41,0,42,9],[19,6,20,7],[21,0,24,2],[21,3,24,5],[21,6,24,7],[21,8,24,9],[25,0,28,2],[25,3,28,5],[25,6,28,7],[25,8,28,9],[19,8,20,9],[29,0,32,2],[29,3,32,5],[29,6,32,7],[29,8,32,9],[33,0,36,2],[33,3,36,5],[33,6,36,7],[33,8,36,9],[37,0,40,2],[37,3,40,5],[37,6,40,7],[37,8,40,9],[60,0,61,2],[60,3,61,3],[60,4,61,9],[64,0,65,3],[64,4,65,6],[64,7,65,9],[66,0,67,3],[66,4,67,6],[66,7,67,9],[207,0,208,0],[207,1,208,3],[207,4,208,6],[207,7,208,9],[209,0,210,0],[209,1,210,3],[209,4,210,6],[209,7,210,9],[213,0,214,2],[213,3,214,3],[213,4,214,9],[217,0,218,3],[217,4,218,6],[217,7,218,9],[219,0,220,3],[219,4,220,6],[219,7,220,9],[223,0,224,2],[223,3,224,5],[223,6,224,7],[223,8,224,9],[225,0,228,2],[225,3,228,5],[225,6,228,7],[225,8,228,9],[229,0,232,2],[229,3,232,5],[229,6,232,7],[229,8,232,9],[233,0,236,2],[233,3,236,5],[233,6,236,7],[233,8,236,9],[237,0,240,2],[237,3,240,5],[237,6,240,7],[237,8,240,9],[241,0,244,2],[241,3,244,5],[241,6,244,7],[241,8,244,9],[245,0,246,9],[249,0,250,2],[249,3,250,7],[253,7,254,9],[258,0,259,0],[258,1,259,3],[258,4,259,6],[258,7,259,9],[260,0,261,0],[260,1,261,3],[260,4,261,6],[260,7,261,9],[264,0,265,2],[264,3,265,3],[264,4,265,9],[268,0,269,3],[268,4,269,6],[268,7,269,9],[270,0,271,3],[270,4,271,6],[270,7,271,9],[274,0,275,2],[274,3,275,5],[274,6,275,7],[274,8,275,9],[276,0,279,2],[276,3,279,5],[276,6,279,7],[276,8,279,9],[280,0,283,2],[280,3,283,5],[280,6,283,7],[280,8,283,9],[284,0,287,2],[284,3,287,5],[284,6,287,7],[284,8,287,9],[288,0,291,2],[288,3,291,5],[288,6,291,7],[288,8,291,9],[292,0,295,2],[292,3,295,5],[292,6,295,7],[292,8,295,9],[296,0,297,9],[300,0,301,2],[300,3,301,7],[304,7,305,9],[309,0,310,0],[309,1,310,3],[309,4,310,6],[309,7,310,9],[311,0,312,0],[311,1,312,3],[311,4,312,6],[311,7,312,9],[315,0,316,2],[315,3,316,3],[315,4,316,9],[319,0,320,3],[319,4,320,6],[319,7,320,9],[321,0,322,3],[321,4,322,6],[321,7,322,9],[325,0,326,2],[325,3,326,5],[325,6,326,7],[325,8,326,9],[327,0,330,2],[327,3,330,5],[327,6,330,7],[327,8,330,9],[331,0,334,2],[331,3,334,5],[331,6,334,7],[331,8,334,9],[347,0,348,9],[351,0,352,2],[351,3,352,7],[355,7,356,9],[335,0,338,2],[335,3,338,5],[335,6,338,7],[335,8,338,9],[339,0,342,2],[339,3,342,5],[339,6,342,7],[339,8,342,9],[343,0,346,2],[343,3,346,5],[343,6,346,7],[343,8,346,9]]}
[null,null,null,"ИНФОРМАЦИОННО-УДОСТОВЕРЯЮЩИЙ ЛИСТ"]
[]
[]
["№\nп/п","Обозначение документа",null,null,"Наименование изделия, вид документа",null,null,"Номер последнего изменения (версия)"]
[]
[1,"75G16",null,null,"Архив профиля",null,null,1]
[]
[]
[]
["Алгоритм расчета контрольной суммы",null,null,{"$f":"Лист5!$H$6","v":"MD5"}]
[]
[]
[]
["Наименование файла",null,null,null,"Дата и время последнего изменения файла",null,null,"Размер файла (байт)"]
[]
["75G16.tif",null,null,null,"2022-07-14T18:26:43",null,null,1883462]
[]
[]
[]
["Характер работы",null,null,"ФИО",null,null,"Подпись",null,"Дата подписания"]
[]
["Инженер",null,null,"Иванов",null,null,null,null,{"$f":"IF(A22=\"\",\"\",TODAY())","v":"2024-05-06"}]
[]
[]
[]
["ГИП",null,null,"Петров",null,null,null,null,{"$f":"IF(A26=\"\",\"\",TODAY())","v":"2024-05-06"}]
[]
[]
[]
["Директор",null,null,"Сидоров",null,null,null,null,{"$f":"IF(A30=\"\",\"\",TODAY())","v":"2024-05-06"}]
[]
[]
[]
[null,null,null,null,null,null,null,null,{"$f":"IF(A34=\"\",\"\",TODAY())","v":""}]
[]
[]
[]
[null,null,null,null,null,null,null,null,{"$f":"IF(A38=\"\",\"\",TODAY())","v":""}]
[]
[]
[]
[" * – характер работы, выполняемой лицом, подписавшим документ «Разработал», «Проверил», «Нормоконтроль», «Утвердил» (ГИП, ГАП) и т.д. "]
[]
[]
[]
["Информационно-удостоверяющий лист",null,null,"75G16-УЛ",null,null,null,null,"Лист","Листов"]
[null,null,null,null,null,null,null,null,1,1]
[]
[]
[{"$f":"Лист5!$H$4","v":"Директор"},null,null,null,null,null,null,{"$f":"Лист5!$H$5","v":"И.И. Иванов"}]
[{"$f":"Лист5!$H$3","v":"ООО \"Рога и копыта\""}]
[null,null,null,"ИНФОРМАЦИОННО-УДОСТОВЕРЯЮЩИЙ ЛИСТ"]
[]
[]
["№\nп/п","Обозначение документа",null,null,"Наименование изделия, вид документа",null,null,"Номер последнего изменения (версия)"]
[]
[1,"88A5",null,null,"Таблица колодцев",null,null,1]
[]
[]
[]
["Алгоритм расчета контрольной суммы",null,null,{"$f":"Лист5!$H$6","v":"MD5"}]
[]
[]
[]
["Наименование файла",null,null,null,"Дата и время последнего изменения файла",null,null,"Размер файла (байт)"]
[]
["88A5.tif",null,null,null,"2022-07-14T18:32:08",null,null,2786364]
[]
[]
[]
["Характер работы",null,null,"ФИО",null,null,"Подпись",null,"Дата подписания"]
[]
["Инженер",null,null,"Иванов",null,null,null,null,{"$f":"IF(A73=\"\",\"\",TODAY())","v":"2024-05-06"}]
[]
[]
[]
["ГИП",null,null,"Петров",null,null,null,null,{"$f":"IF(A77=\"\",\"\",TODAY())","v":"2024-05-06"}]
[]
[]
[]
["Директор",null,null,"Сидоров",null,null,null,null,{"$f":"IF(A81=\"\",\"\",TODAY())","v":"2024-05-06"}]
[]
[]
[]
[null,null,null,null,null,null,null,null,{"$f":"IF(A85=\"\",\"\",TODAY())","v":""}]
[]
[]
[]
[null,null,null,null,null,null,null,null,{"$f":"IF(A89=\"\",\"\",TODAY())","v":""}]
[]
[]
[]
[" * – характер работы, выполняемой лицом, подписавшим документ «Разработал», «Проверил», «Нормоконтроль», «Утвердил» (ГИП, ГАП) и т.д. "]
[]
[]
[]
["Информационно-удостоверяющий лист",null,null,"88A5-УЛ",null,null,null,null,"Лист","Листов"]
[null,null,null,null,null,null,null,null,1,1]
[]
[]
[{"$f":"Лист5!$H$4","v":"Директор"},null,null,null,null,null,null,{"$f":"Лист5!$H$5","v":"И.И. Иванов"}]
[{"$f":"Лист5!$H$3","v":"ООО \"Рога и копыта\""}]
[null,null,null,"ИНФОРМАЦИОННО-УДОСТОВЕРЯЮЩИЙ ЛИСТ"]
[]
[]
["№\nп/п","Обозначение документа",null,null,"Наименование изделия, вид документа",null,null,"Номер последнего изменения (версия)"]
[]
[1,"Вариант 1",null,null,"Пояснительная записка",null,null,1]
[]
[]
[]
["Алгоритм расчета контрольной суммы",null,null,{"$f":"Лист5!$H$6","v":"MD5"}]
[]
[]
[]
["Наименование файла",null,null,null,"Дата и время последнего изменения файла",null,null,"Размер файла (байт)"]
[]
["Вариант 1.bak",null,null,null,"2024-04-18T15:10:32",null,null,232992]
[]
[]
[]
["Характер работы",null,null,"ФИО",null,null,"Подпись",null,"Дата подписания"]
[]
["Инженер",null,null,"Иванов",null,null,null,null,{"$f":"IF(A124=\"\",\"\",TODAY())","v":"2024-05-06"}]
[]
[]
[]
["ГИП",null,null,"Петров",null,null,null,null,{"$f":"IF(A128=\"\",\"\",TODAY())","v":"2024-05-06"}]
[]
[]
[]
["Директор",null,null,"Сидоров",null,null,null,null,{"$f":"IF(A132=\"\",\"\",TODAY())","v":"2024-05-06"}]
[]
[]
[]
[null,null,null,null,null,null,null,null,{"$f":"IF(A136=\"\",\"\",TODAY())","v":""}]
[]
[]
[]
[null,null,null,null,null,null,null,null,{"$f":"IF(A140=\"\",\"\",TODAY())","v":""}]
[]
[]
[]
[" * – характер работы, выполняемой лицом, подписавшим документ «Разработал», «Проверил», «Нормоконтроль», «Утвердил» (ГИП, ГАП) и т.д. "]
[]
[]
[]
["Информационно-удостоверяющий лист",null,null,"Вариант 1-УЛ",null,null,null,null,"Лист","Листов"]
[null,null,null,null,null,null,null,null,1,1]
[]
[]
[{"$f":"Лист5!$H$4","v":"Директор"},null,null,null,null,null,null,{"$f":"Лист5!$H$5","v":"И.И. Иванов"}]
[{"$f":"Лист5!$H$3","v":"ООО \"Рога и копыта\""}]
[null,null,null,"ИНФОРМАЦИОННО-УДОСТОВЕРЯЮЩИЙ ЛИСТ"]
[]
[]
["№\nп/п","Обозначение документа",null,null,"Наименование изделия, вид документа",null,null,"Номер последнего изменения (версия)"]
[]
[1,"Вариант 1",null,null,"Пояснительная записка",null,null,2]
[]
[]
[]
["Алгоритм расчета контрольной суммы",null,null,{"$f":"Лист5!$H$6","v":"MD5"}]
[]
[]
[]
["Наименование файла",null,null,null,"Дата и время последнего изменения файла",null,null,"Размер файла (байт)"]
[]
["Вариант 1.dwg",null,null,null,"2024-04-18T15:10:53",null,null,231712]
[]
[]
[]
["Характер работы",null,null,"ФИО",null,null,"Подпись",null,"Дата подписания"]
[]
["Инженер",null,null,"Иванов",null,null,null,null,{"$f":"IF(A175=\"\",\"\",TODAY())","v":"2024-05-06"}]
[]
[]
[]
["ГИП",null,null,"Петров",null,null,null,null,{"$f":"IF(A179=\"\",\"\",TODAY())","v":"2024-05-06"}]
[]
[]
[]
["Директор",null,null,"Сидоров",null,null,null,null,{"$f":"IF(A183=\"\",\"\",TODAY())","v":"2024-05-06"}]
[]
[]
[]
[null,null,null,null,null,null,null,null,{"$f":"IF(A187=\"\",\"\",TODAY())","v":""}]
[]
[]
[]
[null,null,null,null,null,null,null,null,{"$f":"IF(A191=\"\",\"\",TODAY())","v":""}]
[]
[]
[]
[" * – характер работы, выполняемой лицом, подписавшим документ «Разработал», «Проверил», «Нормоконтроль», «Утвердил» (ГИП, ГАП) и т.д. "]
[]
[]
[]
["Информационно-удостоверяющий лист",null,null,"Вариант 1-УЛ",null,null,null,null,"Лист","Листов"]
[null,null,null,null,null,null,null,null,1,1]
[]
[]
[{"$f":"Лист5!$H$4","v":"Директор"},null,null,null,null,null,null,{"$f":"Лист5!$H$5","v":"И.И. Иванов"}]
[{"$f":"Лист5!$H$3","v":"ООО \"Рога и копыта\""}]
[null,null,null,"ИНФОРМАЦИОННО-УДОСТОВЕРЯЮЩИЙ ЛИСТ"]
[]
[]
["№\nп/п","Обозначение документа",null,null,"Наименование изделия, вид документа",null,null,"Номер последнего изменения (версия)"]
[]
[1,"Вариант 2"]
[]
[]
[]
["Алгоритм расчета контрольной суммы",null,null,{"$f":"Лист5!$H$6","v":"MD5"}]
[]
[]
[]
["Наименование файла",null,null,null,"Дата и время последнего изменения файла",null,null,"Размер файла (байт)"]
[]
["Вариант 2.bak",null,null,null,"2024-04-18T15:05:43",null,null,227392]
[]
[]
[]
["Характер работы",null,null,"ФИО",null,null,"Подпись",null,"Дата подписания"]
[]
[null,null,null,null,null,null,null,null,{"$f":"IF(A226=\"\",\"\",TODAY())","v":""}]
[]
[]
[]
[null,null,null,null,null,null,null,null,{"$f":"IF(A230=\"\",\"\",TODAY())","v":""}]
[]
[]
[]
[null,null,null,null,null,null,null,null,{"$f":"IF(A234=\"\",\"\",TODAY())","v":""}]
[]
[]
[]
[null,null,null,null,null,null,null,null,{"$f":"IF(A238=\"\",\"\",TODAY())","v":""}]
[]
[]
[]
[null,null,null,null,null,null,null,null,{"$f":"IF(A242=\"\",\"\",TODAY())","v":""}]
[]
[]
[]
[" * – характер работы, выполняемой лицом, подписавшим документ «Разработал», «Проверил», «Нормоконтроль», «Утвердил» (ГИП, ГАП) и т.д. "]
[]
[]
[]
["Информационно-удостоверяющий лист",null,null,"Вариант 2-УЛ",null,null,null,null,"Лист","Листов"]
[null,null,null,null,null,null,null,null,1,1]
[]
[]
[{"$f":"Лист5!$H$4","v":"Директор"},null,null,null,null,null,null,{"$f":"Лист5!$H$5","v":"И.И. Иванов"}]
[{"$f":"Лист5!$H$3","v":"ООО \"Рога и копыта\""}]
[null,null,null,"ИНФОРМАЦИОННО-УДОСТОВЕРЯЮЩИЙ ЛИСТ"]
[]
[]
["№\nп/п","Обозначение документа",null,null,"Наименование изделия, вид документа",null,null,"Номер последнего изменения (версия)"]
[]
[1,"Вариант 2"]
[]
[]
[]
["Алгоритм расчета контрольной суммы",null,null,{"$f":"Лист5!$H$6","v":"MD5"}]
[]
[]
[]
["Наименование файла",null,null,null,"Дата и время последнего изменения файла",null,null,"Размер файла (байт)"]
[]
["Вариант 2.dwg",null,null,null,"2024-04-18T15:11:06",null,null,222528]
[]
[]
[]
["Характер работы",null,null,"ФИО",null,null,"Подпись",null,"Дата подписания"]
[]
[null,null,null,null,null,null,null,null,{"$f":"IF(A277=\"\",\"\",TODAY())","v":""}]
[]
[]
[]
[null,null,null,null,null,null,null,null,{"$f":"IF(A281=\"\",\"\",TODAY())","v":""}]
[]
[]
[]
[null,null,null,null,null,null,null,null,{"$f":"IF(A285=\"\",\"\",TODAY())","v":""}]
[]
[]
[]
[null,null,null,null,null,null,null,null,{"$f":"IF(A289=\"\",\"\",TODAY())","v":""}]
[]
[]
[]
[null,null,null,null,null,null,null,null,{"$f":"IF(A293=\"\",\"\",TODAY())","v":""}]
[]
[]
[]
[" * – характер работы, выполняемой лицом, подписавшим документ «Разработал», «Проверил», «Нормоконтроль», «Утвердил» (ГИП, ГАП) и т.д. "]
[]
[]
[]
["Информационно-удостоверяющий лист",null,null,"Вариант 2-УЛ",null,null,null,null,"Лист","Листов"]
[null,null,null,null,null,null,null,null,1,1]
[]
[]
[{"$f":"Лист5!$H$4","v":"Директор"},null,null,null,null,null,null,{"$f":"Лист5!$H$5","v":"И.И. Иванов"}]
[{"$f":"Лист5!$H$3","v":"ООО \"Рога и копыта\""}]
[null,null,null,"ИНФОРМАЦИОННО-УДОСТОВЕРЯЮЩИЙ ЛИСТ"]
[]
[]
["№\nп/п","Обозначение документа",null,null,"Наименование изделия, вид документа",null,null,"Номер последнего изменения (версия)"]
[]
[1,"СХЕМА_ГП_01"]
[]
[]
[]
["Алгоритм расчета контрольной суммы",null,null,{"$f":"Лист5!$H$6","v":"MD5"}]
[]
[]
[]
["Наименование файла",null,null,null,"Дата и время последнего изменения файла",null,null,"Размер файла (байт)"]
[]
["СХЕМА_ГП_01.03.2024.dwg",null,null,null,"2024-04-18T11:50:37",null,null,6506976]
[]
[]
[]
["Характер работы",null,null,"ФИО",null,null,"Подпись",null,"Дата подписания"]
[]
[null,null,null,null,null,null,null,null,{"$f":"IF(A328=\"\",\"\",TODAY())","v":""}]
[]
[]
[]
[null,null,null,null,null,null,null,null,{"$f":"IF(A332=\"\",\"\",TODAY())","v":""}]
[]
[]
[]
[null,null,null,null,null,null,null,null,{"$f":"IF(A336=\"\",\"\",TODAY())","v":""}]
[]
[]
[]
[null,null,null,null,null,null,null,null,{"$f":"IF(A340=\"\",\"\",TODAY())","v":""}]
[]
[]
[]
[null,null,null,null,null,null,null,null,{"$f":"IF(A344=\"\",\"\",TODAY())","v":""}]
[]
[]
[]
[" * – характер работы, выполняемой лицом, подписавшим документ «Разработал», «Проверил», «Нормоконтроль», «Утвердил» (ГИП, ГАП) и т.д. "]
[]
[]
[]
["Информационно-удостоверяющий лист",null,null,"СХЕМА_ГП_01-УЛ",null,null,null,null,"Лист","Листов"]
[null,null,null,null,null,null,null,null,1,1]
[]
[]
[{"$f":"Лист5!$H$4","v":"Директор"},null,null,null,null,null,null,{"$f":"Лист5!$H$5","v":"И.И. Иванов"}]
[{"$f":"Лист5!$H$3","v":"ООО \"Рога и копыта\""}]

{"sheet":"Лист5","index":4,"n_rows":6,"n_cols":8,"rows_kept":6,"cut":false,"hidden":false,"merged":[[0,6,1,7]]}
[null,null,null,null,null,null,"Заполните данные и выполните Шаг 1 - 3"]
[]
[null,null,null,null,null,null,"Наименование организации","ООО \"Рога и копыта\""]
[null,null,null,null,null,null,"Должность руководителя","Директор"]
[null,null,null,null,null,null,"ФИО руководителя","И.И. Иванов"]
[null,null,null,null,null,null,"Алгоритм расчета\nконтрольной суммы","MD5"]