{"text_format":"1","workbook":"xlsx","n_sheets":8,"sheets":["стр.1","график 7,8","Лист1","отсутствия","РВД","доплаты","читать","месяц"],"not_rendered":{"charts":0,"images":0,"macros":1,"external_links":0,"defined_names":6,"comments":2,"pivot_tables":0},"unopened":[],"bounds":{"document_bytes":16777216,"sheet_cells":100000,"rows_first":2000,"rows_last":500,"rows_between":2000,"halvings":0,"cell_chars":16384,"cell_head_chars":4096},"cells_cut":0,"cells_raw":0,"read":"whole","date_system":"1900"}

{"sheet":"стр.1","index":0,"n_rows":126,"n_cols":43,"rows_kept":126,"cut":false,"hidden":false,"merged":[[80,3,81,3],[82,3,83,3],[84,3,85,3],[86,3,87,3],[88,3,89,3],[90,3,91,3],[92,3,93,3],[94,3,95,3],[96,3,97,3],[66,3,67,3],[56,3,57,3],[64,3,65,3],[46,3,47,3],[74,3,75,3],[76,3,77,3],[78,3,79,3],[68,3,69,3],[12,3,13,3],[14,3,15,3],[16,3,17,3],[18,3,19,3],[20,3,21,3],[22,3,23,3],[26,3,27,3],[28,3,29,3],[30,3,31,3],[32,3,33,3],[34,3,35,3],[36,3,37,3],[38,3,39,3],[42,3,43,3],[48,3,49,3],[50,3,51,3],[60,3,61,3],[62,3,63,3],[1,36,1,39],[2,36,2,39],[3,36,3,39],[4,36,4,39],[5,36,5,39],[6,36,6,39],[7,36,7,39],[4,2,4,28],[5,2,5,28],[6,2,6,28],[0,41,1,41],[3,16,3,18],[104,1,105,1],[104,2,105,2],[102,1,103,1],[102,2,103,2],[100,1,101,1],[100,2,101,2],[98,1,99,1],[68,1,69,1],[68,2,69,2],[66,1,67,1],[66,2,67,2],[64,1,65,1],[64,2,65,2],[62,1,63,1],[62,2,63,2],[60,1,61,1],[60,2,61,2],[24,3,25,3],[40,3,41,3],[44,3,45,3],[52,3,53,3],[54,3,55,3],[58,1,59,1],[58,2,59,2],[56,1,57,1],[56,2,57,2],[58,3,59,3],[54,1,55,1],[54,2,55,2],[52,1,53,1],[52,2,53,2],[50,1,51,1],[50,2,51,2],[48,1,49,1],[48,2,49,2],[46,1,47,1],[46,2,47,2],[44,1,45,1],[44,2,45,2],[42,1,43,1],[42,2,43,2],[40,1,41,1],[40,2,41,2],[38,1,39,1],[38,2,39,2],[36,1,37,1],[36,2,37,2],[34,1,35,1],[34,2,35,2],[32,1,33,1],[32,2,33,2],[30,1,31,1],[30,2,31,2],[28,1,29,1],[28,2,29,2],[26,1,27,1],[26,2,27,2],[24,1,25,1],[24,2,25,2],[22,1,23,1],[22,2,23,2],[9,1,10,1],[9,3,10,3],[9,4,9,39],[9,2,10,2],[0,16,0,19],[1,3,1,28],[3,13,3,14],[109,3,109,4],[109,5,109,8],[109,9,109,13],[109,17,109,35],[88,2,89,2],[94,1,95,1],[94,2,95,2],[20,1,21,1],[20,2,21,2],[18,1,19,1],[18,2,19,2],[12,1,13,1],[12,2,13,2],[16,1,17,1],[16,2,17,2],[14,1,15,1],[14,2,15,2],[118,25,118,28],[118,29,118,35],[116,2,116,3],[116,8,116,12],[119,5,119,7],[111,20,111,24],[111,25,111,28],[111,29,111,35],[112,5,112,7],[112,9,112,13],[113,20,113,24],[113,25,113,28],[113,29,113,35],[115,5,115,7],[115,9,115,13],[115,19,115,22],[88,1,89,1],[120,20,120,23],[121,2,121,3],[121,5,121,7],[121,8,121,12],[122,2,122,3],[122,5,122,7],[122,8,122,12],[119,2,119,3],[119,8,119,12],[116,5,116,7],[118,5,118,7],[118,9,118,13],[118,20,118,24],[98,2,99,2],[96,1,97,1],[96,2,97,2],[92,1,93,1],[92,2,93,2],[98,3,99,3],[100,3,101,3],[102,3,103,3],[104,3,105,3],[70,3,71,3],[72,3,73,3],[124,15,124,18],[124,20,124,24],[70,1,71,1],[70,2,71,2],[72,1,73,1],[72,2,73,2],[74,1,75,1],[74,2,75,2],[78,1,79,1],[78,2,79,2],[76,1,77,1],[76,2,77,2],[80,1,81,1],[80,2,81,2],[82,1,83,1],[82,2,83,2],[84,1,85,1],[84,2,85,2],[90,1,91,1],[90,2,91,2],[86,1,87,1],[86,2,87,2]]}
[null,null,null,null,null,null,null,null,null,null,null,null,null,null,null,"Т а б е л ь  № ",null,null,null,null,null,null,null,null,null,null,null,null,null,null,null,null,null,null,null,null,null,null,null,null,null,"Дата составления",{"$f":"INDEX('график 7,8'!$B$28:$AF$39,MONTH(стр.1!$N$4),стр.1!E$11)","v":"В"}]
[null,null,null,"учета использования рабочего времени",null,null,null,null,null,null,null,null,null,null,null,null,null,null,null,null,null,null,null,null,null,null,null,null,null,null,null,null,null,null,null,null,"Коды"]
[null,null,null,null,null,null,null,null,null,null,null,null,null,null,null,null,null,null,null,null,null,null,null,null,null,null,null,null,null,null,null,null,null,"Форма по ОКУД",null,null,"0504421",null,null,null,null,"2026-03-31"]
[null,null,null,null,null,null,null,null,null,null,null,"за период с  ",null,{"$f":"DATE(YEAR($AP$3),MONTH($AP$3),1)","v":"2026-03-01"},null,"по",{"$f":"IF(AND(DAY(AP3)>6,DAY(AP3)<18),DATE(YEAR($AP$3),MONTH($AP$3),15),EOMONTH(AP3,0))","v":"2026-03-31"},null,null,null,null,null,null,null,null,null,null,null,null,null,null,null,null,null,"Дата"]
[null,"Учреждение",null,null,null,null,null,null,null,null,null,null,null,null,null,null,null,null,null,null,null,null,null,null,null,null,null,null,null,null,null,null,null,null,"по ОКПО",null,"05342188 "]
[null,"Структурное подразделение"]
[null,"Вид табеля",null,null,null,null,null,null,null,null,null,null,null,null,null,null,null,null,null,null,null,null,null,null,null,null,null,null,null,null,null,null,"Номер корректировки"]
[null,null,null,null,null,null,null,null,null,null,null,null,null,null,null,null,null,null,null,null,null,null,null,null,null,null,null,null,null,null,null,"Дата формирования документа"]
[]
[null,"Фамилия, имя\nотчество","Учетный номер","Должность\n(профессия)"]
[null,null,null,null,1,2,3,4,5,6,7,8,9,10,11,12,13,14,15,"Итого дней (часов) явок (неявок)\nс 1 по 15",16,17,18,19,20,21,22,23,24,25,26,27,28,29,30,31,"Всего дней (часов) явок (неявок)\nза месяц","Работа в праздн. день","молоко","Доплаты/ надбавки  (%)"]
[null,1,2,4,5,6,7,8,9,10,11,12,13,14,15,16,17,18,19,20,21,22,23,24,25,26,27,28,29,30,31,32,33,34,35,36,37,38,null,39]
[{"$f":"C13","v":3849},"Копытов",3849,"сборная",{"$f":"IFERROR(INDEX(РВД!$D:$I,MATCH($C13,РВД!$A:$A,)+1,MATCH($N$4+E$11-1,INDEX(РВД!$D:$I,MATCH($C13,РВД!$A:$A,),),)),IF(E14=\"Я\",INDEX('график 7,8'!$B$5:$AF$16,MONTH($AP$3),E$11),\"\"))","v":""},{"$f":"IFERROR(INDEX(РВД!$D:$I,MATCH($C13,РВД!$A:$A,)+1,MATCH($N$4+F$11-1,INDEX(РВД!$D:$I,MATCH($C13,РВД!$A:$A,),),)),IF(F14=\"Я\",INDEX('график 7,8'!$B$5:$AF$16,MONTH($AP$3),F$11),\"\"))","v":7.8},{"$f":"IFERROR(INDEX(РВД!$D:$I,MATCH($C13,РВД!$A:$A,)+1,MATCH($N$4+G$11-1,INDEX(РВД!$D:$I,MATCH($C13,РВД!$A:$A,),),)),IF(G14=\"Я\",INDEX('график 7,8'!$B$5:$AF$16,MONTH($AP$3),G$11),\"\"))","v":7.8},{"$f":"IFERROR(INDEX(РВД!$D:$I,MATCH($C13,РВД!$A:$A,)+1,MATCH($N$4+H$11-1,INDEX(РВД!$D:$I,MATCH($C13,РВД!$A:$A,),),)),IF(H14=\"Я\",INDEX('график 7,8'!$B$5:$AF$16,MONTH($AP$3),H$11),\"\"))","v":7.8},{"$f":"IFERROR(INDEX(РВД!$D:$I,MATCH($C13,РВД!$A:$A,)+1,MATCH($N$4+I$11-1,INDEX(РВД!$D:$I,MATCH($C13,РВД!$A:$A,),),)),IF(I14=\"Я\",INDEX('график 7,8'!$B$5:$AF$16,MONTH($AP$3),I$11),\"\"))","v":7.8},{"$f":"IFERROR(INDEX(РВД!$D:$I,MATCH($C13,РВД!$A:$A,)+1,MATCH($N$4+J$11-1,INDEX(РВД!$D:$I,MATCH($C13,РВД!$A:$A,),),)),IF(J14=\"Я\",INDEX('график 7,8'!$B$5:$AF$16,MONTH($AP$3),J$11),\"\"))","v":7.8},{"$f":"IFERROR(INDEX(РВД!$D:$I,MATCH($C13,РВД!$A:$A,)+1,MATCH($N$4+K$11-1,INDEX(РВД!$D:$I,MATCH($C13,РВД!$A:$A,),),)),IF(K14=\"Я\",INDEX('график 7,8'!$B$5:$AF$16,MONTH($AP$3),K$11),\"\"))","v":""},{"$f":"IFERROR(INDEX(РВД!$D:$I,MATCH($C13,РВД!$A:$A,)+1,MATCH($N$4+L$11-1,INDEX(РВД!$D:$I,MATCH($C13,РВД!$A:$A,),),)),IF(L14=\"Я\",INDEX('график 7,8'!$B$5:$AF$16,MONTH($AP$3),L$11),\"\"))","v":""},{"$f":"IFERROR(INDEX(РВД!$D:$I,MATCH($C13,РВД!$A:$A,)+1,MATCH($N$4+M$11-1,INDEX(РВД!$D:$I,MATCH($C13,РВД!$A:$A,),),)),IF(M14=\"Я\",INDEX('график 7,8'!$B$5:$AF$16,MONTH($AP$3),M$11),\"\"))","v":""},{"$f":"IFERROR(INDEX(РВД!$D:$I,MATCH($C13,РВД!$A:$A,)+1,MATCH($N$4+N$11-1,INDEX(РВД!$D:$I,MATCH($C13,РВД!$A:$A,),),)),IF(N14=\"Я\",INDEX('график 7,8'!$B$5:$AF$16,MONTH($AP$3),N$11),\"\"))","v":7.8},{"$f":"IFERROR(INDEX(РВД!$D:$I,MATCH($C13,РВД!$A:$A,)+1,MATCH($N$4+O$11-1,INDEX(РВД!$D:$I,MATCH($C13,РВД!$A:$A,),),)),IF(O14=\"Я\",INDEX('график 7,8'!$B$5:$AF$16,MONTH($AP$3),O$11),\"\"))","v":7.8},{"$f":"IFERROR(INDEX(РВД!$D:$I,MATCH($C13,РВД!$A:$A,)+1,MATCH($N$4+P$11-1,INDEX(РВД!$D:$I,MATCH($C13,РВД!$A:$A,),),)),IF(P14=\"Я\",INDEX('график 7,8'!$B$5:$AF$16,MONTH($AP$3),P$11),\"\"))","v":7.8},{"$f":"IFERROR(INDEX(РВД!$D:$I,MATCH($C13,РВД!$A:$A,)+1,MATCH($N$4+Q$11-1,INDEX(РВД!$D:$I,MATCH($C13,РВД!$A:$A,),),)),IF(Q14=\"Я\",INDEX('график 7,8'!$B$5:$AF$16,MONTH($AP$3),Q$11),\"\"))","v":7.8},{"$f":"IFERROR(INDEX(РВД!$D:$I,MATCH($C13,РВД!$A:$A,)+1,MATCH($N$4+R$11-1,INDEX(РВД!$D:$I,MATCH($C13,РВД!$A:$A,),),)),IF(R14=\"Я\",INDEX('график 7,8'!$B$5:$AF$16,MONTH($AP$3),R$11),\"\"))","v":""},{"$f":"IFERROR(INDEX(РВД!$D:$I,MATCH($C13,РВД!$A:$A,)+1,MATCH($N$4+S$11-1,INDEX(РВД!$D:$I,MATCH($C13,РВД!$A:$A,),),)),IF(S14=\"Я\",INDEX('график 7,8'!$B$5:$AF$16,MONTH($AP$3),S$11),\"\"))","v":""},{"$f":"SUMIF(E14:S14,\"Я\",E13:S13)","v":70.199999999999989},{"$f":"IFERROR(INDEX(РВД!$D:$I,MATCH($C13,РВД!$A:$A,)+1,MATCH($N$4+U$11-1,INDEX(РВД!$D:$I,MATCH($C13,РВД!$A:$A,),),)),IF(U14=\"Я\",INDEX('график 7,8'!$B$5:$AF$16,MONTH($AP$3),U$11),\"\"))","v":7.8},{"$f":"IFERROR(INDEX(РВД!$D:$I,MATCH($C13,РВД!$A:$A,)+1,MATCH($N$4+V$11-1,INDEX(РВД!$D:$I,MATCH($C13,РВД!$A:$A,),),)),IF(V14=\"Я\",INDEX('график 7,8'!$B$5:$AF$16,MONTH($AP$3),V$11),\"\"))","v":7.8},{"$f":"IFERROR(INDEX(РВД!$D:$I,MATCH($C13,РВД!$A:$A,)+1,MATCH($N$4+W$11-1,INDEX(РВД!$D:$I,MATCH($C13,РВД!$A:$A,),),)),IF(W14=\"Я\",INDEX('график 7,8'!$B$5:$AF$16,MONTH($AP$3),W$11),\"\"))","v":7.8},{"$f":"IFERROR(INDEX(РВД!$D:$I,MATCH($C13,РВД!$A:$A,)+1,MATCH($N$4+X$11-1,INDEX(РВД!$D:$I,MATCH($C13,РВД!$A:$A,),),)),IF(X14=\"Я\",INDEX('график 7,8'!$B$5:$AF$16,MONTH($AP$3),X$11),\"\"))","v":7.8},{"$f":"IFERROR(INDEX(РВД!$D:$I,MATCH($C13,РВД!$A:$A,)+1,MATCH($N$4+Y$11-1,INDEX(РВД!$D:$I,MATCH($C13,РВД!$A:$A,),),)),IF(Y14=\"Я\",INDEX('график 7,8'!$B$5:$AF$16,MONTH($AP$3),Y$11),\"\"))","v":7.8},{"$f":"IFERROR(INDEX(РВД!$D:$I,MATCH($C13,РВД!$A:$A,)+1,MATCH($N$4+Z$11-1,INDEX(РВД!$D:$I,MATCH($C13,РВД!$A:$A,),),)),IF(Z14=\"Я\",INDEX('график 7,8'!$B$5:$AF$16,MONTH($AP$3),Z$11),\"\"))","v":""},{"$f":"IFERROR(INDEX(РВД!$D:$I,MATCH($C13,РВД!$A:$A,)+1,MATCH($N$4+AA$11-1,INDEX(РВД!$D:$I,MATCH($C13,РВД!$A:$A,),),)),IF(AA14=\"Я\",INDEX('график 7,8'!$B$5:$AF$16,MONTH($AP$3),AA$11),\"\"))","v":""},{"$f":"IFERROR(INDEX(РВД!$D:$I,MATCH($C13,РВД!$A:$A,)+1,MATCH($N$4+AB$11-1,INDEX(РВД!$D:$I,MATCH($C13,РВД!$A:$A,),),)),IF(AB14=\"Я\",INDEX('график 7,8'!$B$5:$AF$16,MONTH($AP$3),AB$11),\"\"))","v":7.8},{"$f":"IFERROR(INDEX(РВД!$D:$I,MATCH($C13,РВД!$A:$A,)+1,MATCH($N$4+AC$11-1,INDEX(РВД!$D:$I,MATCH($C13,РВД!$A:$A,),),)),IF(AC14=\"Я\",INDEX('график 7,8'!$B$5:$AF$16,MONTH($AP$3),AC$11),\"\"))","v":7.8},{"$f":"IFERROR(INDEX(РВД!$D:$I,MATCH($C13,РВД!$A:$A,)+1,MATCH($N$4+AD$11-1,INDEX(РВД!$D:$I,MATCH($C13,РВД!$A:$A,),),)),IF(AD14=\"Я\",INDEX('график 7,8'!$B$5:$AF$16,MONTH($AP$3),AD$11),\"\"))","v":7.8},{"$f":"IFERROR(INDEX(РВД!$D:$I,MATCH($C13,РВД!$A:$A,)+1,MATCH($N$4+AE$11-1,INDEX(РВД!$D:$I,MATCH($C13,РВД!$A:$A,),),)),IF(AE14=\"Я\",INDEX('график 7,8'!$B$5:$AF$16,MONTH($AP$3),AE$11),\"\"))","v":7.8},{"$f":"IFERROR(INDEX(РВД!$D:$I,MATCH($C13,РВД!$A:$A,)+1,MATCH($N$4+AF$11-1,INDEX(РВД!$D:$I,MATCH($C13,РВД!$A:$A,),),)),IF(AF14=\"Я\",INDEX('график 7,8'!$B$5:$AF$16,MONTH($AP$3),AF$11),\"\"))","v":7.8},{"$f":"IFERROR(INDEX(РВД!$D:$I,MATCH($C13,РВД!$A:$A,)+1,MATCH($N$4+AG$11-1,INDEX(РВД!$D:$I,MATCH($C13,РВД!$A:$A,),),)),IF(AG14=\"Я\",INDEX('график 7,8'!$B$5:$AF$16,MONTH($AP$3),AG$11),\"\"))","v":""},{"$f":"IFERROR(INDEX(РВД!$D:$I,MATCH($C13,РВД!$A:$A,)+1,MATCH($N$4+AH$11-1,INDEX(РВД!$D:$I,MATCH($C13,РВД!$A:$A,),),)),IF(AH14=\"Я\",INDEX('график 7,8'!$B$5:$AF$16,MONTH($AP$3),AH$11),\"\"))","v":""},{"$f":"IFERROR(INDEX(РВД!$D:$I,MATCH($C13,РВД!$A:$A,)+1,MATCH($N$4+AI$11-1,INDEX(РВД!$D:$I,MATCH($C13,РВД!$A:$A,),),)),IF(AI14=\"Я\",INDEX('график 7,8'!$B$5:$AF$16,MONTH($AP$3),AI$11),\"\"))","v":7.8},{"$f":"IFERROR(INDEX(РВД!$D:$I,MATCH($C13,РВД!$A:$A,)+1,MATCH($N$4+AJ$11-1,INDEX(РВД!$D:$I,MATCH($C13,РВД!$A:$A,),),)),IF(AJ14=\"Я\",INDEX('график 7,8'!$B$5:$AF$16,MONTH($AP$3),AJ$11),\"\"))","v":7.8},{"$f":"\"Я/\"&SUMIF(E14:AJ14,\"Я\",E13:AJ13)","v":"Я/163,8"},{"$f":"(SUMIF(E14:AJ14,\"В\",E13:AJ13)+SUMIF(E14:AJ14,\"В.\",E13:AJ13))*2","v":0},{"$f":"COUNTIFS(E14:AJ14,\"Я\",E13:AJ13,\"<>\")","v":21},{"$f":"IFERROR(VLOOKUP(C13,доплаты!$A$5:$P$118,16,0),\"\")","v":"17,17,15,30,17"}]
[null,null,null,null,{"$f":"TRIM(LEFT(TRIM(INDEX(отсутствия!$N:$AR,MATCH($C13,отсутствия!$A:$A,),E$11)&\" \"&TEXT(INDEX('график 7,8'!$B$5:$AF$16,MONTH($AP$3),E$11)&\"\",\"Я\")),2))","v":"В"},{"$f":"TRIM(LEFT(TRIM(INDEX(отсутствия!$N:$AR,MATCH($C13,отсутствия!$A:$A,),F$11)&\" \"&TEXT(INDEX('график 7,8'!$B$5:$AF$16,MONTH($AP$3),F$11)&\"\",\"Я\")),2))","v":"Я"},{"$f":"TRIM(LEFT(TRIM(INDEX(отсутствия!$N:$AR,MATCH($C13,отсутствия!$A:$A,),G$11)&\" \"&TEXT(INDEX('график 7,8'!$B$5:$AF$16,MONTH($AP$3),G$11)&\"\",\"Я\")),2))","v":"Я"},{"$f":"TRIM(LEFT(TRIM(INDEX(отсутствия!$N:$AR,MATCH($C13,отсутствия!$A:$A,),H$11)&\" \"&TEXT(INDEX('график 7,8'!$B$5:$AF$16,MONTH($AP$3),H$11)&\"\",\"Я\")),2))","v":"Я"},{"$f":"TRIM(LEFT(TRIM(INDEX(отсутствия!$N:$AR,MATCH($C13,отсутствия!$A:$A,),I$11)&\" \"&TEXT(INDEX('график 7,8'!$B$5:$AF$16,MONTH($AP$3),I$11)&\"\",\"Я\")),2))","v":"Я"},{"$f":"TRIM(LEFT(TRIM(INDEX(отсутствия!$N:$AR,MATCH($C13,отсутствия!$A:$A,),J$11)&\" \"&TEXT(INDEX('график 7,8'!$B$5:$AF$16,MONTH($AP$3),J$11)&\"\",\"Я\")),2))","v":"Я"},{"$f":"TRIM(LEFT(TRIM(INDEX(отсутствия!$N:$AR,MATCH($C13,отсутствия!$A:$A,),K$11)&\" \"&TEXT(INDEX('график 7,8'!$B$5:$AF$16,MONTH($AP$3),K$11)&\"\",\"Я\")),2))","v":"В"},{"$f":"TRIM(LEFT(TRIM(INDEX(отсутствия!$N:$AR,MATCH($C13,отсутствия!$A:$A,),L$11)&\" \"&TEXT(INDEX('график 7,8'!$B$5:$AF$16,MONTH($AP$3),L$11)&\"\",\"Я\")),2))","v":"В."},{"$f":"TRIM(LEFT(TRIM(INDEX(отсутствия!$N:$AR,MATCH($C13,отсутствия!$A:$A,),M$11)&\" \"&TEXT(INDEX('график 7,8'!$B$5:$AF$16,MONTH($AP$3),M$11)&\"\",\"Я\")),2))","v":"В"},{"$f":"TRIM(LEFT(TRIM(INDEX(отсутствия!$N:$AR,MATCH($C13,отсутствия!$A:$A,),N$11)&\" \"&TEXT(INDEX('график 7,8'!$B$5:$AF$16,MONTH($AP$3),N$11)&\"\",\"Я\")),2))","v":"Я"},{"$f":"TRIM(LEFT(TRIM(INDEX(отсутствия!$N:$AR,MATCH($C13,отсутствия!$A:$A,),O$11)&\" \"&TEXT(INDEX('график 7,8'!$B$5:$AF$16,MONTH($AP$3),O$11)&\"\",\"Я\")),2))","v":"Я"},{"$f":"TRIM(LEFT(TRIM(INDEX(отсутствия!$N:$AR,MATCH($C13,отсутствия!$A:$A,),P$11)&\" \"&TEXT(INDEX('график 7,8'!$B$5:$AF$16,MONTH($AP$3),P$11)&\"\",\"Я\")),2))","v":"Я"},{"$f":"TRIM(LEFT(TRIM(INDEX(отсутствия!$N:$AR,MATCH($C13,отсутствия!$A:$A,),Q$11)&\" \"&TEXT(INDEX('график 7,8'!$B$5:$AF$16,MONTH($AP$3),Q$11)&\"\",\"Я\")),2))","v":"Я"},{"$f":"TRIM(LEFT(TRIM(INDEX(отсутствия!$N:$AR,MATCH($C13,отсутствия!$A:$A,),R$11)&\" \"&TEXT(INDEX('график 7,8'!$B$5:$AF$16,MONTH($AP$3),R$11)&\"\",\"Я\")),2))","v":"В"},{"$f":"TRIM(LEFT(TRIM(INDEX(отсутствия!$N:$AR,MATCH($C13,отсутствия!$A:$A,),S$11)&\" \"&TEXT(INDEX('график 7,8'!$B$5:$AF$16,MONTH($AP$3),S$11)&\"\",\"Я\")),2))","v":"В"},null,{"$f":"TRIM(LEFT(TRIM(INDEX(отсутствия!$N:$AR,MATCH($C13,отсутствия!$A:$A,),U$11)&\" \"&TEXT(INDEX('график 7,8'!$B$5:$AF$16,MONTH($AP$3),U$11)&\"\",\"Я\")),2))","v":"Я"},{"$f":"TRIM(LEFT(TRIM(INDEX(отсутствия!$N:$AR,MATCH($C13,отсутствия!$A:$A,),V$11)&\" \"&TEXT(INDEX('график 7,8'!$B$5:$AF$16,MONTH($AP$3),V$11)&\"\",\"Я\")),2))","v":"Я"},{"$f":"TRIM(LEFT(TRIM(INDEX(отсутствия!$N:$AR,MATCH($C13,отсутствия!$A:$A,),W$11)&\" \"&TEXT(INDEX('график 7,8'!$B$5:$AF$16,MONTH($AP$3),W$11)&\"\",\"Я\")),2))","v":"Я"},{"$f":"TRIM(LEFT(TRIM(INDEX(отсутствия!$N:$AR,MATCH($C13,отсутствия!$A:$A,),X$11)&\" \"&TEXT(INDEX('график 7,8'!$B$5:$AF$16,MONTH($AP$3),X$11)&\"\",\"Я\")),2))","v":"Я"},{"$f":"TRIM(LEFT(TRIM(INDEX(отсутствия!$N:$AR,MATCH($C13,отсутствия!$A:$A,),Y$11)&\" \"&TEXT(INDEX('график 7,8'!$B$5:$AF$16,MONTH($AP$3),Y$11)&\"\",\"Я\")),2))","v":"Я"},{"$f":"TRIM(LEFT(TRIM(INDEX(отсутствия!$N:$AR,MATCH($C13,отсутствия!$A:$A,),Z$11)&\" \"&TEXT(INDEX('график 7,8'!$B$5:$AF$16,MONTH($AP$3),Z$11)&\"\",\"Я\")),2))","v":"В"},{"$f":"TRIM(LEFT(TRIM(INDEX(отсутствия!$N:$AR,MATCH($C13,отсутствия!$A:$A,),AA$11)&\" \"&TEXT(INDEX('график 7,8'!$B$5:$AF$16,MONTH($AP$3),AA$11)&\"\",\"Я\")),2))","v":"В"},{"$f":"TRIM(LEFT(TRIM(INDEX(отсутствия!$N:$AR,MATCH($C13,отсутствия!$A:$A,),AB$11)&\" \"&TEXT(INDEX('график 7,8'!$B$5:$AF$16,MONTH($AP$3),AB$11)&\"\",\"Я\")),2))","v":"Я"},{"$f":"TRIM(LEFT(TRIM(INDEX(отсутствия!$N:$AR,MATCH($C13,отсутствия!$A:$A,),AC$11)&\" \"&TEXT(INDEX('график 7,8'!$B$5:$AF$16,MONTH($AP$3),AC$11)&\"\",\"Я\")),2))","v":"Я"},{"$f":"TRIM(LEFT(TRIM(INDEX(отсутствия!$N:$AR,MATCH($C13,отсутствия!$A:$A,),AD$11)&\" \"&TEXT(INDEX('график 7,8'!$B$5:$AF$16,MONTH($AP$3),AD$11)&\"\",\"Я\")),2))","v":"Я"},{"$f":"TRIM(LEFT(TRIM(INDEX(отсутствия!$N:$AR,MATCH($C13,отсутствия!$A:$A,),AE$11)&\" \"&TEXT(INDEX('график 7,8'!$B$5:$AF$16,MONTH($AP$3),AE$11)&\"\",\"Я\")),2))","v":"Я"},{"$f":"TRIM(LEFT(TRIM(INDEX(отсутствия!$N:$AR,MATCH($C13,отсутствия!$A:$A,),AF$11)&\" \"&TEXT(INDEX('график 7,8'!$B$5:$AF$16,MONTH($AP$3),AF$11)&\"\",\"Я\")),2))","v":"Я"},{"$f":"TRIM(LEFT(TRIM(INDEX(отсутствия!$N:$AR,MATCH($C13,отсутствия!$A:$A,),AG$11)&\" \"&TEXT(INDEX('график 7,8'!$B$5:$AF$16,MONTH($AP$3),AG$11)&\"\",\"Я\")),2))","v":"В"},{"$f":"TRIM(LEFT(TRIM(INDEX(отсутствия!$N:$AR,MATCH($C13,отсутствия!$A:$A,),AH$11)&\" \"&TEXT(INDEX('график 7,8'!$B$5:$AF$16,MONTH($AP$3),AH$11)&\"\",\"Я\")),2))","v":"В"},{"$f":"TRIM(LEFT(TRIM(INDEX(отсутствия!$N:$AR,MATCH($C13,отсутствия!$A:$A,),AI$11)&\" \"&TEXT(INDEX('график 7,8'!$B$5:$AF$16,MONTH($AP$3),AI$11)&\"\",\"Я\")),2))","v":"Я"},{"$f":"TRIM(LEFT(TRIM(INDEX(отсутствия!$N:$AR,MATCH($C13,отсутствия!$A:$A,),AJ$11)&\" \"&TEXT(INDEX('график 7,8'!$B$5:$AF$16,MONTH($AP$3),AJ$11)&\"\",\"Я\")),2))","v":"Я"}]
[{"$f":"C15","v":4571},"Воснецов",4571,"сборная",{"$f":"IFERROR(INDEX(РВД!$D:$I,MATCH($C15,РВД!$A:$A,)+1,MATCH($N$4+E$11-1,INDEX(РВД!$D:$I,MATCH($C15,РВД!$A:$A,),),)),IF(E16=\"Я\",INDEX('график 7,8'!$B$5:$AF$16,MONTH($AP$3),E$11),\"\"))","v":""},{"$f":"IFERROR(INDEX(РВД!$D:$I,MATCH($C15,РВД!$A:$A,)+1,MATCH($N$4+F$11-1,INDEX(РВД!$D:$I,MATCH($C15,РВД!$A:$A,),),)),IF(F16=\"Я\",INDEX('график 7,8'!$B$5:$AF$16,MONTH($AP$3),F$11),\"\"))","v":7.8},{"$f":"IFERROR(INDEX(РВД!$D:$I,MATCH($C15,РВД!$A:$A,)+1,MATCH($N$4+G$11-1,INDEX(РВД!$D:$I,MATCH($C15,РВД!$A:$A,),),)),IF(G16=\"Я\",INDEX('график 7,8'!$B$5:$AF$16,MONTH($AP$3),G$11),\"\"))","v":7.8},{"$f":"IFERROR(INDEX(РВД!$D:$I,MATCH($C15,РВД!$A:$A,)+1,MATCH($N$4+H$11-1,INDEX(РВД!$D:$I,MATCH($C15,РВД!$A:$A,),),)),IF(H16=\"Я\",INDEX('график 7,8'!$B$5:$AF$16,MONTH($AP$3),H$11),\"\"))","v":7.8},{"$f":"IFERROR(INDEX(РВД!$D:$I,MATCH($C15,РВД!$A:$A,)+1,MATCH($N$4+I$11-1,INDEX(РВД!$D:$I,MATCH($C15,РВД!$A:$A,),),)),IF(I16=\"Я\",INDEX('график 7,8'!$B$5:$AF$16,MONTH($AP$3),I$11),\"\"))","v":7.8},{"$f":"IFERROR(INDEX(РВД!$D:$I,MATCH($C15,РВД!$A:$A,)+1,MATCH($N$4+J$11-1,INDEX(РВД!$D:$I,MATCH($C15,РВД!$A:$A,),),)),IF(J16=\"Я\",INDEX('график 7,8'!$B$5:$AF$16,MONTH($AP$3),J$11),\"\"))","v":7.8},{"$f":"IFERROR(INDEX(РВД!$D:$I,MATCH($C15,РВД!$A:$A,)+1,MATCH($N$4+K$11-1,INDEX(РВД!$D:$I,MATCH($C15,РВД!$A:$A,),),)),IF(K16=\"Я\",INDEX('график 7,8'!$B$5:$AF$16,MONTH($AP$3),K$11),\"\"))","v":""},{"$f":"IFERROR(INDEX(РВД!$D:$I,MATCH($C15,РВД!$A:$A,)+1,MATCH($N$4+L$11-1,INDEX(РВД!$D:$I,MATCH($C15,РВД!$A:$A,),),)),IF(L16=\"Я\",INDEX('график 7,8'!$B$5:$AF$16,MONTH($AP$3),L$11),\"\"))","v":""},{"$f":"IFERROR(INDEX(РВД!$D:$I,MATCH($C15,РВД!$A:$A,)+1,MATCH($N$4+M$11-1,INDEX(РВД!$D:$I,MATCH($C15,РВД!$A:$A,),),)),IF(M16=\"Я\",INDEX('график 7,8'!$B$5:$AF$16,MONTH($AP$3),M$11),\"\"))","v":""},{"$f":"IFERROR(INDEX(РВД!$D:$I,MATCH($C15,РВД!$A:$A,)+1,MATCH($N$4+N$11-1,INDEX(РВД!$D:$I,MATCH($C15,РВД!$A:$A,),),)),IF(N16=\"Я\",INDEX('график 7,8'!$B$5:$AF$16,MONTH($AP$3),N$11),\"\"))","v":7.8},{"$f":"IFERROR(INDEX(РВД!$D:$I,MATCH($C15,РВД!$A:$A,)+1,MATCH($N$4+O$11-1,INDEX(РВД!$D:$I,MATCH($C15,РВД!$A:$A,),),)),IF(O16=\"Я\",INDEX('график 7,8'!$B$5:$AF$16,MONTH($AP$3),O$11),\"\"))","v":7.8},{"$f":"IFERROR(INDEX(РВД!$D:$I,MATCH($C15,РВД!$A:$A,)+1,MATCH($N$4+P$11-1,INDEX(РВД!$D:$I,MATCH($C15,РВД!$A:$A,),),)),IF(P16=\"Я\",INDEX('график 7,8'!$B$5:$AF$16,MONTH($AP$3),P$11),\"\"))","v":7.8},{"$f":"IFERROR(INDEX(РВД!$D:$I,MATCH($C15,РВД!$A:$A,)+1,MATCH($N$4+Q$11-1,INDEX(РВД!$D:$I,MATCH($C15,РВД!$A:$A,),),)),IF(Q16=\"Я\",INDEX('график 7,8'!$B$5:$AF$16,MONTH($AP$3),Q$11),\"\"))","v":7.8},{"$f":"IFERROR(INDEX(РВД!$D:$I,MATCH($C15,РВД!$A:$A,)+1,MATCH($N$4+R$11-1,INDEX(РВД!$D:$I,MATCH($C15,РВД!$A:$A,),),)),IF(R16=\"Я\",INDEX('график 7,8'!$B$5:$AF$16,MONTH($AP$3),R$11),\"\"))","v":""},{"$f":"IFERROR(INDEX(РВД!$D:$I,MATCH($C15,РВД!$A:$A,)+1,MATCH($N$4+S$11-1,INDEX(РВД!$D:$I,MATCH($C15,РВД!$A:$A,),),)),IF(S16=\"Я\",INDEX('график 7,8'!$B$5:$AF$16,MONTH($AP$3),S$11),\"\"))","v":""},{"$f":"SUMIF(E16:S16,\"Я\",E15:S15)","v":70.199999999999989},{"$f":"IFERROR(INDEX(РВД!$D:$I,MATCH($C15,РВД!$A:$A,)+1,MATCH($N$4+U$11-1,INDEX(РВД!$D:$I,MATCH($C15,РВД!$A:$A,),),)),IF(U16=\"Я\",INDEX('график 7,8'!$B$5:$AF$16,MONTH($AP$3),U$11),\"\"))","v":7.8},{"$f":"IFERROR(INDEX(РВД!$D:$I,MATCH($C15,РВД!$A:$A,)+1,MATCH($N$4+V$11-1,INDEX(РВД!$D:$I,MATCH($C15,РВД!$A:$A,),),)),IF(V16=\"Я\",INDEX('график 7,8'!$B$5:$AF$16,MONTH($AP$3),V$11),\"\"))","v":7.8},{"$f":"IFERROR(INDEX(РВД!$D:$I,MATCH($C15,РВД!$A:$A,)+1,MATCH($N$4+W$11-1,INDEX(РВД!$D:$I,MATCH($C15,РВД!$A:$A,),),)),IF(W16=\"Я\",INDEX('график 7,8'!$B$5:$AF$16,MONTH($AP$3),W$11),\"\"))","v":7.8},{"$f":"IFERROR(INDEX(РВД!$D:$I,MATCH($C15,РВД!$A:$A,)+1,MATCH($N$4+X$11-1,INDEX(РВД!$D:$I,MATCH($C15,РВД!$A:$A,),),)),IF(X16=\"Я\",INDEX('график 7,8'!$B$5:$AF$16,MONTH($AP$3),X$11),\"\"))","v":7.8},{"$f":"IFERROR(INDEX(РВД!$D:$I,MATCH($C15,РВД!$A:$A,)+1,MATCH($N$4+Y$11-1,INDEX(РВД!$D:$I,MATCH($C15,РВД!$A:$A,),),)),IF(Y16=\"Я\",INDEX('график 7,8'!$B$5:$AF$16,MONTH($AP$3),Y$11),\"\"))","v":7.8},{"$f":"IFERROR(INDEX(РВД!$D:$I,MATCH($C15,РВД!$A:$A,)+1,MATCH($N$4+Z$11-1,INDEX(РВД!$D:$I,MATCH($C15,РВД!$A:$A,),),)),IF(Z16=\"Я\",INDEX('график 7,8'!$B$5:$AF$16,MONTH($AP$3),Z$11),\"\"))","v":""},{"$f":"IFERROR(INDEX(РВД!$D:$I,MATCH($C15,РВД!$A:$A,)+1,MATCH($N$4+AA$11-1,INDEX(РВД!$D:$I,MATCH($C15,РВД!$A:$A,),),)),IF(AA16=\"Я\",INDEX('график 7,8'!$B$5:$AF$16,MONTH($AP$3),AA$11),\"\"))","v":""},{"$f":"IFERROR(INDEX(РВД!$D:$I,MATCH($C15,РВД!$A:$A,)+1,MATCH($N$4+AB$11-1,INDEX(РВД!$D:$I,MATCH($C15,РВД!$A:$A,),),)),IF(AB16=\"Я\",INDEX('график 7,8'!$B$5:$AF$16,MONTH($AP$3),AB$11),\"\"))","v":7.8},{"$f":"IFERROR(INDEX(РВД!$D:$I,MATCH($C15,РВД!$A:$A,)+1,MATCH($N$4+AC$11-1,INDEX(РВД!$D:$I,MATCH($C15,РВД!$A:$A,),),)),IF(AC16=\"Я\",INDEX('график 7,8'!$B$5:$AF$16,MONTH($AP$3),AC$11),\"\"))","v":7.8},{"$f":"IFERROR(INDEX(РВД!$D:$I,MATCH($C15,РВД!$A:$A,)+1,MATCH($N$4+AD$11-1,INDEX(РВД!$D:$I,MATCH($C15,РВД!$A:$A,),),)),IF(AD16=\"Я\",INDEX('график 7,8'!$B$5:$AF$16,MONTH($AP$3),AD$11),\"\"))","v":7.8},{"$f":"IFERROR(INDEX(РВД!$D:$I,MATCH($C15,РВД!$A:$A,)+1,MATCH($N$4+AE$11-1,INDEX(РВД!$D:$I,MATCH($C15,РВД!$A:$A,),),)),IF(AE16=\"Я\",INDEX('график 7,8'!$B$5:$AF$16,MONTH($AP$3),AE$11),\"\"))","v":7.8},{"$f":"IFERROR(INDEX(РВД!$D:$I,MATCH($C15,РВД!$A:$A,)+1,MATCH($N$4+AF$11-1,INDEX(РВД!$D:$I,MATCH($C15,РВД!$A:$A,),),)),IF(AF16=\"Я\",INDEX('график 7,8'!$B$5:$AF$16,MONTH($AP$3),AF$11),\"\"))","v":7.8},{"$f":"IFERROR(INDEX(РВД!$D:$I,MATCH($C15,РВД!$A:$A,)+1,MATCH($N$4+AG$11-1,INDEX(РВД!$D:$I,MATCH($C15,РВД!$A:$A,),),)),IF(AG16=\"Я\",INDEX('график 7,8'!$B$5:$AF$16,MONTH($AP$3),AG$11),\"\"))","v":""},{"$f":"IFERROR(INDEX(РВД!$D:$I,MATCH($C15,РВД!$A:$A,)+1,MATCH($N$4+AH$11-1,INDEX(РВД!$D:$I,MATCH($C15,РВД!$A:$A,),),)),IF(AH16=\"Я\",INDEX('график 7,8'!$B$5:$AF$16,MONTH($AP$3),AH$11),\"\"))","v":""},{"$f":"IFERROR(INDEX(РВД!$D:$I,MATCH($C15,РВД!$A:$A,)+1,MATCH($N$4+AI$11-1,INDEX(РВД!$D:$I,MATCH($C15,РВД!$A:$A,),),)),IF(AI16=\"Я\",INDEX('график 7,8'!$B$5:$AF$16,MONTH($AP$3),AI$11),\"\"))","v":7.8},{"$f":"IFERROR(INDEX(РВД!$D:$I,MATCH($C15,РВД!$A:$A,)+1,MATCH($N$4+AJ$11-1,INDEX(РВД!$D:$I,MATCH($C15,РВД!$A:$A,),),)),IF(AJ16=\"Я\",INDEX('график 7,8'!$B$5:$AF$16,MONTH($AP$3),AJ$11),\"\"))","v":7.8},{"$f":"\"Я/\"&SUMIF(E16:AJ16,\"Я\",E15:AJ15)","v":"Я/163,8"},{"$f":"(SUMIF(E16:AJ16,\"В\",E15:AJ15)+SUMIF(E16:AJ16,\"В.\",E15:AJ15))*2","v":0},{"$f":"COUNTIFS(E16:AJ16,\"Я\",E15:AJ15,\"<>\")","v":21},{"$f":"IFERROR(VLOOKUP(C15,доплаты!$A$5:$P$118,16,0),\"\")","v":"24"}]
[null,null,null,null,{"$f":"TRIM(LEFT(TRIM(INDEX(отсутствия!$N:$AR,MATCH($C15,отсутствия!$A:$A,),E$11)&\" \"&TEXT(INDEX('график 7,8'!$B$5:$AF$16,MONTH($AP$3),E$11)&\"\",\"Я\")),2))","v":"В"},{"$f":"TRIM(LEFT(TRIM(INDEX(отсутствия!$N:$AR,MATCH($C15,отсутствия!$A:$A,),F$11)&\" \"&TEXT(INDEX('график 7,8'!$B$5:$AF$16,MONTH($AP$3),F$11)&\"\",\"Я\")),2))","v":"Я"},{"$f":"TRIM(LEFT(TRIM(INDEX(отсутствия!$N:$AR,MATCH($C15,отсутствия!$A:$A,),G$11)&\" \"&TEXT(INDEX('график 7,8'!$B$5:$AF$16,MONTH($AP$3),G$11)&\"\",\"Я\")),2))","v":"Я"},{"$f":"TRIM(LEFT(TRIM(INDEX(отсутствия!$N:$AR,MATCH($C15,отсутствия!$A:$A,),H$11)&\" \"&TEXT(INDEX('график 7,8'!$B$5:$AF$16,MONTH($AP$3),H$11)&\"\",\"Я\")),2))","v":"Я"},{"$f":"TRIM(LEFT(TRIM(INDEX(отсутствия!$N:$AR,MATCH($C15,отсутствия!$A:$A,),I$11)&\" \"&TEXT(INDEX('график 7,8'!$B$5:$AF$16,MONTH($AP$3),I$11)&\"\",\"Я\")),2))","v":"Я"},{"$f":"TRIM(LEFT(TRIM(INDEX(отсутствия!$N:$AR,MATCH($C15,отсутствия!$A:$A,),J$11)&\" \"&TEXT(INDEX('график 7,8'!$B$5:$AF$16,MONTH($AP$3),J$11)&\"\",\"Я\")),2))","v":"Я"},{"$f":"TRIM(LEFT(TRIM(INDEX(отсутствия!$N:$AR,MATCH($C15,отсутствия!$A:$A,),K$11)&\" \"&TEXT(INDEX('график 7,8'!$B$5:$AF$16,MONTH($AP$3),K$11)&\"\",\"Я\")),2))","v":"В"},{"$f":"TRIM(LEFT(TRIM(INDEX(отсутствия!$N:$AR,MATCH($C15,отсутствия!$A:$A,),L$11)&\" \"&TEXT(INDEX('график 7,8'!$B$5:$AF$16,MONTH($AP$3),L$11)&\"\",\"Я\")),2))","v":"В."},{"$f":"TRIM(LEFT(TRIM(INDEX(отсутствия!$N:$AR,MATCH($C15,отсутствия!$A:$A,),M$11)&\" \"&TEXT(INDEX('график 7,8'!$B$5:$AF$16,MONTH($AP$3),M$11)&\"\",\"Я\")),2))","v":"В"},{"$f":"TRIM(LEFT(TRIM(INDEX(отсутствия!$N:$AR,MATCH($C15,отсутствия!$A:$A,),N$11)&\" \"&TEXT(INDEX('график 7,8'!$B$5:$AF$16,MONTH($AP$3),N$11)&\"\",\"Я\")),2))","v":"Я"},{"$f":"TRIM(LEFT(TRIM(INDEX(отсутствия!$N:$AR,MATCH($C15,отсутствия!$A:$A,),O$11)&\" \"&TEXT(INDEX('график 7,8'!$B$5:$AF$16,MONTH($AP$3),O$11)&\"\",\"Я\")),2))","v":"Я"},{"$f":"TRIM(LEFT(TRIM(INDEX(отсутствия!$N:$AR,MATCH($C15,отсутствия!$A:$A,),P$11)&\" \"&TEXT(INDEX('график 7,8'!$B$5:$AF$16,MONTH($AP$3),P$11)&\"\",\"Я\")),2))","v":"Я"},{"$f":"TRIM(LEFT(TRIM(INDEX(отсутствия!$N:$AR,MATCH($C15,отсутствия!$A:$A,),Q$11)&\" \"&TEXT(INDEX('график 7,8'!$B$5:$AF$16,MONTH($AP$3),Q$11)&\"\",\"Я\")),2))","v":"Я"},{"$f":"TRIM(LEFT(TRIM(INDEX(отсутствия!$N:$AR,MATCH($C15,отсутствия!$A:$A,),R$11)&\" \"&TEXT(INDEX('график 7,8'!$B$5:$AF$16,MONTH($AP$3),R$11)&\"\",\"Я\")),2))","v":"В"},{"$f":"TRIM(LEFT(TRIM(INDEX(отсутствия!$N:$AR,MATCH($C15,отсутствия!$A:$A,),S$11)&\" \"&TEXT(INDEX('график 7,8'!$B$5:$AF$16,MONTH($AP$3),S$11)&\"\",\"Я\")),2))","v":"В"},null,{"$f":"TRIM(LEFT(TRIM(INDEX(отсутствия!$N:$AR,MATCH($C15,отсутствия!$A:$A,),U$11)&\" \"&TEXT(INDEX('график 7,8'!$B$5:$AF$16,MONTH($AP$3),U$11)&\"\",\"Я\")),2))","v":"Я"},{"$f":"TRIM(LEFT(TRIM(INDEX(отсутствия!$N:$AR,MATCH($C15,отсутствия!$A:$A,),V$11)&\" \"&TEXT(INDEX('график 7,8'!$B$5:$AF$16,MONTH($AP$3),V$11)&\"\",\"Я\")),2))","v":"Я"},{"$f":"TRIM(LEFT(TRIM(INDEX(отсутствия!$N:$AR,MATCH($C15,отсутствия!$A:$A,),W$11)&\" \"&TEXT(INDEX('график 7,8'!$B$5:$AF$16,MONTH($AP$3),W$11)&\"\",\"Я\")),2))","v":"Я"},{"$f":"TRIM(LEFT(TRIM(INDEX(отсутствия!$N:$AR,MATCH($C15,отсутствия!$A:$A,),X$11)&\" \"&TEXT(INDEX('график 7,8'!$B$5:$AF$16,MONTH($AP$3),X$11)&\"\",\"Я\")),2))","v":"Я"},{"$f":"TRIM(LEFT(TRIM(INDEX(отсутствия!$N:$AR,MATCH($C15,отсутствия!$A:$A,),Y$11)&\" \"&TEXT(INDEX('график 7,8'!$B$5:$AF$16,MONTH($AP$3),Y$11)&\"\",\"Я\")),2))","v":"Я"},{"$f":"TRIM(LEFT(TRIM(INDEX(отсутствия!$N:$AR,MATCH($C15,отсутствия!$A:$A,),Z$11)&\" \"&TEXT(INDEX('график 7,8'!$B$5:$AF$16,MONTH($AP$3),Z$11)&\"\",\"Я\")),2))","v":"В"},{"$f":"TRIM(LEFT(TRIM(INDEX(отсутствия!$N:$AR,MATCH($C15,отсутствия!$A:$A,),AA$11)&\" \"&TEXT(INDEX('график 7,8'!$B$5:$AF$16,MONTH($AP$3),AA$11)&\"\",\"Я\")),2))","v":"В"},{"$f":"TRIM(LEFT(TRIM(INDEX(отсутствия!$N:$AR,MATCH($C15,отсутствия!$A:$A,),AB$11)&\" \"&TEXT(INDEX('график 7,8'!$B$5:$AF$16,MONTH($AP$3),AB$11)&\"\",\"Я\")),2))","v":"Я"},{"$f":"TRIM(LEFT(TRIM(INDEX(отсутствия!$N:$AR,MATCH($C15,отсутствия!$A:$A,),AC$11)&\" \"&TEXT(INDEX('график 7,8'!$B$5:$AF$16,MONTH($AP$3),AC$11)&\"\",\"Я\")),2))","v":"Я"},{"$f":"TRIM(LEFT(TRIM(INDEX(отсутствия!$N:$AR,MATCH($C15,отсутствия!$A:$A,),AD$11)&\" \"&TEXT(INDEX('график 7,8'!$B$5:$AF$16,MONTH($AP$3),AD$11)&\"\",\"Я\")),2))","v":"Я"},{"$f":"TRIM(LEFT(TRIM(INDEX(отсутствия!$N:$AR,MATCH($C15,отсутствия!$A:$A,),AE$11)&\" \"&TEXT(INDEX('график 7,8'!$B$5:$AF$16,MONTH($AP$3),AE$11)&\"\",\"Я\")),2))","v":"Я"},{"$f":"TRIM(LEFT(TRIM(INDEX(отсутствия!$N:$AR,MATCH($C15,отсутствия!$A:$A,),AF$11)&\" \"&TEXT(INDEX('график 7,8'!$B$5:$AF$16,MONTH($AP$3),AF$11)&\"\",\"Я\")),2))","v":"Я"},{"$f":"TRIM(LEFT(TRIM(INDEX(отсутствия!$N:$AR,MATCH($C15,отсутствия!$A:$A,),AG$11)&\" \"&TEXT(INDEX('график 7,8'!$B$5:$AF$16,MONTH($AP$3),AG$11)&\"\",\"Я\")),2))","v":"В"},{"$f":"TRIM(LEFT(TRIM(INDEX(отсутствия!$N:$AR,MATCH($C15,отсутствия!$A:$A,),AH$11)&\" \"&TEXT(INDEX('график 7,8'!$B$5:$AF$16,MONTH($AP$3),AH$11)&\"\",\"Я\")),2))","v":"В"},{"$f":"TRIM(LEFT(TRIM(INDEX(отсутствия!$N:$AR,MATCH($C15,отсутствия!$A:$A,),AI$11)&\" \"&TEXT(INDEX('график 7,8'!$B$5:$AF$16,MONTH($AP$3),AI$11)&\"\",\"Я\")),2))","v":"Я"},{"$f":"TRIM(LEFT(TRIM(INDEX(отсутствия!$N:$AR,MATCH($C15,отсутствия!$A:$A,),AJ$11)&\" \"&TEXT(INDEX('график 7,8'!$B$5:$AF$16,MONTH($AP$3),AJ$11)&\"\",\"Я\")),2))","v":"Я"}]
[5019,"Лебедев",5019,"сборная",{"$f":"IFERROR(INDEX(РВД!$D:$I,MATCH($C17,РВД!$A:$A,)+1,MATCH($N$4+E$11-1,INDEX(РВД!$D:$I,MATCH($C17,РВД!$A:$A,),),)),IF(E18=\"Я\",INDEX('график 7,8'!$B$5:$AF$16,MONTH($AP$3),E$11),\"\"))","v":""},{"$f":"IFERROR(INDEX(РВД!$D:$I,MATCH($C17,РВД!$A:$A,)+1,MATCH($N$4+F$11-1,INDEX(РВД!$D:$I,MATCH($C17,РВД!$A:$A,),),)),IF(F18=\"Я\",INDEX('график 7,8'!$B$5:$AF$16,MONTH($AP$3),F$11),\"\"))","v":7.8},{"$f":"IFERROR(INDEX(РВД!$D:$I,MATCH($C17,РВД!$A:$A,)+1,MATCH($N$4+G$11-1,INDEX(РВД!$D:$I,MATCH($C17,РВД!$A:$A,),),)),IF(G18=\"Я\",INDEX('график 7,8'!$B$5:$AF$16,MONTH($AP$3),G$11),\"\"))","v":7.8},{"$f":"IFERROR(INDEX(РВД!$D:$I,MATCH($C17,РВД!$A:$A,)+1,MATCH($N$4+H$11-1,INDEX(РВД!$D:$I,MATCH($C17,РВД!$A:$A,),),)),IF(H18=\"Я\",INDEX('график 7,8'!$B$5:$AF$16,MONTH($AP$3),H$11),\"\"))","v":7.8},{"$f":"IFERROR(INDEX(РВД!$D:$I,MATCH($C17,РВД!$A:$A,)+1,MATCH($N$4+I$11-1,INDEX(РВД!$D:$I,MATCH($C17,РВД!$A:$A,),),)),IF(I18=\"Я\",INDEX('график 7,8'!$B$5:$AF$16,MONTH($AP$3),I$11),\"\"))","v":7.8},{"$f":"IFERROR(INDEX(РВД!$D:$I,MATCH($C17,РВД!$A:$A,)+1,MATCH($N$4+J$11-1,INDEX(РВД!$D:$I,MATCH($C17,РВД!$A:$A,),),)),IF(J18=\"Я\",INDEX('график 7,8'!$B$5:$AF$16,MONTH($AP$3),J$11),\"\"))","v":7.8},{"$f":"IFERROR(INDEX(РВД!$D:$I,MATCH($C17,РВД!$A:$A,)+1,MATCH($N$4+K$11-1,INDEX(РВД!$D:$I,MATCH($C17,РВД!$A:$A,),),)),IF(K18=\"Я\",INDEX('график 7,8'!$B$5:$AF$16,MONTH($AP$3),K$11),\"\"))","v":""},{"$f":"IFERROR(INDEX(РВД!$D:$I,MATCH($C17,РВД!$A:$A,)+1,MATCH($N$4+L$11-1,INDEX(РВД!$D:$I,MATCH($C17,РВД!$A:$A,),),)),IF(L18=\"Я\",INDEX('график 7,8'!$B$5:$AF$16,MONTH($AP$3),L$11),\"\"))","v":""},{"$f":"IFERROR(INDEX(РВД!$D:$I,MATCH($C17,РВД!$A:$A,)+1,MATCH($N$4+M$11-1,INDEX(РВД!$D:$I,MATCH($C17,РВД!$A:$A,),),)),IF(M18=\"Я\",INDEX('график 7,8'!$B$5:$AF$16,MONTH($AP$3),M$11),\"\"))","v":""},{"$f":"IFERROR(INDEX(РВД!$D:$I,MATCH($C17,РВД!$A:$A,)+1,MATCH($N$4+N$11-1,INDEX(РВД!$D:$I,MATCH($C17,РВД!$A:$A,),),)),IF(N18=\"Я\",INDEX('график 7,8'!$B$5:$AF$16,MONTH($AP$3),N$11),\"\"))","v":7.8},{"$f":"IFERROR(INDEX(РВД!$D:$I,MATCH($C17,РВД!$A:$A,)+1,MATCH($N$4+O$11-1,INDEX(РВД!$D:$I,MATCH($C17,РВД!$A:$A,),),)),IF(O18=\"Я\",INDEX('график 7,8'!$B$5:$AF$16,MONTH($AP$3),O$11),\"\"))","v":7.8},{"$f":"IFERROR(INDEX(РВД!$D:$I,MATCH($C17,РВД!$A:$A,)+1,MATCH($N$4+P$11-1,INDEX(РВД!$D:$I,MATCH($C17,РВД!$A:$A,),),)),IF(P18=\"Я\",INDEX('график 7,8'!$B$5:$AF$16,MONTH($AP$3),P$11),\"\"))","v":7.8},{"$f":"IFERROR(INDEX(РВД!$D:$I,MATCH($C17,РВД!$A:$A,)+1,MATCH($N$4+Q$11-1,INDEX(РВД!$D:$I,MATCH($C17,РВД!$A:$A,),),)),IF(Q18=\"Я\",INDEX('график 7,8'!$B$5:$AF$16,MONTH($AP$3),Q$11),\"\"))","v":7.8},{"$f":"IFERROR(INDEX(РВД!$D:$I,MATCH($C17,РВД!$A:$A,)+1,MATCH($N$4+R$11-1,INDEX(РВД!$D:$I,MATCH($C17,РВД!$A:$A,),),)),IF(R18=\"Я\",INDEX('график 7,8'!$B$5:$AF$16,MONTH($AP$3),R$11),\"\"))","v":""},{"$f":"IFERROR(INDEX(РВД!$D:$I,MATCH($C17,РВД!$A:$A,)+1,MATCH($N$4+S$11-1,INDEX(РВД!$D:$I,MATCH($C17,РВД!$A:$A,),),)),IF(S18=\"Я\",INDEX('график 7,8'!$B$5:$AF$16,MONTH($AP$3),S$11),\"\"))","v":""},{"$f":"SUMIF(E18:S18,\"Я\",E17:S17)","v":70.199999999999989},{"$f":"IFERROR(INDEX(РВД!$D:$I,MATCH($C17,РВД!$A:$A,)+1,MATCH($N$4+U$11-1,INDEX(РВД!$D:$I,MATCH($C17,РВД!$A:$A,),),)),IF(U18=\"Я\",INDEX('график 7,8'!$B$5:$AF$16,MONTH($AP$3),U$11),\"\"))","v":7.8},{"$f":"IFERROR(INDEX(РВД!$D:$I,MATCH($C17,РВД!$A:$A,)+1,MATCH($N$4+V$11-1,INDEX(РВД!$D:$I,MATCH($C17,РВД!$A:$A,),),)),IF(V18=\"Я\",INDEX('график 7,8'!$B$5:$AF$16,MONTH($AP$3),V$11),\"\"))","v":7.8},{"$f":"IFERROR(INDEX(РВД!$D:$I,MATCH($C17,РВД!$A:$A,)+1,MATCH($N$4+W$11-1,INDEX(РВД!$D:$I,MATCH($C17,РВД!$A:$A,),),)),IF(W18=\"Я\",INDEX('график 7,8'!$B$5:$AF$16,MONTH($AP$3),W$11),\"\"))","v":7.8},{"$f":"IFERROR(INDEX(РВД!$D:$I,MATCH($C17,РВД!$A:$A,)+1,MATCH($N$4+X$11-1,INDEX(РВД!$D:$I,MATCH($C17,РВД!$A:$A,),),)),IF(X18=\"Я\",INDEX('график 7,8'!$B$5:$AF$16,MONTH($AP$3),X$11),\"\"))","v":7.8},{"$f":"IFERROR(INDEX(РВД!$D:$I,MATCH($C17,РВД!$A:$A,)+1,MATCH($N$4+Y$11-1,INDEX(РВД!$D:$I,MATCH($C17,РВД!$A:$A,),),)),IF(Y18=\"Я\",INDEX('график 7,8'!$B$5:$AF$16,MONTH($AP$3),Y$11),\"\"))","v":7.8},{"$f":"IFERROR(INDEX(РВД!$D:$I,MATCH($C17,РВД!$A:$A,)+1,MATCH($N$4+Z$11-1,INDEX(РВД!$D:$I,MATCH($C17,РВД!$A:$A,),),)),IF(Z18=\"Я\",INDEX('график 7,8'!$B$5:$AF$16,MONTH($AP$3),Z$11),\"\"))","v":""},{"$f":"IFERROR(INDEX(РВД!$D:$I,MATCH($C17,РВД!$A:$A,)+1,MATCH($N$4+AA$11-1,INDEX(РВД!$D:$I,MATCH($C17,РВД!$A:$A,),),)),IF(AA18=\"Я\",INDEX('график 7,8'!$B$5:$AF$16,MONTH($AP$3),AA$11),\"\"))","v":""},{"$f":"IFERROR(INDEX(РВД!$D:$I,MATCH($C17,РВД!$A:$A,)+1,MATCH($N$4+AB$11-1,INDEX(РВД!$D:$I,MATCH($C17,РВД!$A:$A,),),)),IF(AB18=\"Я\",INDEX('график 7,8'!$B$5:$AF$16,MONTH($AP$3),AB$11),\"\"))","v":7.8},{"$f":"IFERROR(INDEX(РВД!$D:$I,MATCH($C17,РВД!$A:$A,)+1,MATCH($N$4+AC$11-1,INDEX(РВД!$D:$I,MATCH($C17,РВД!$A:$A,),),)),IF(AC18=\"Я\",INDEX('график 7,8'!$B$5:$AF$16,MONTH($AP$3),AC$11),\"\"))","v":7.8},{"$f":"IFERROR(INDEX(РВД!$D:$I,MATCH($C17,РВД!$A:$A,)+1,MATCH($N$4+AD$11-1,INDEX(РВД!$D:$I,MATCH($C17,РВД!$A:$A,),),)),IF(AD18=\"Я\",INDEX('график 7,8'!$B$5:$AF$16,MONTH($AP$3),AD$11),\"\"))","v":7.8},{"$f":"IFERROR(INDEX(РВД!$D:$I,MATCH($C17,РВД!$A:$A,)+1,MATCH($N$4+AE$11-1,INDEX(РВД!$D:$I,MATCH($C17,РВД!$A:$A,),),)),IF(AE18=\"Я\",INDEX('график 7,8'!$B$5:$AF$16,MONTH($AP$3),AE$11),\"\"))","v":7.8},{"$f":"IFERROR(INDEX(РВД!$D:$I,MATCH($C17,РВД!$A:$A,)+1,MATCH($N$4+AF$11-1,INDEX(РВД!$D:$I,MATCH($C17,РВД!$A:$A,),),)),IF(AF18=\"Я\",INDEX('график 7,8'!$B$5:$AF$16,MONTH($AP$3),AF$11),\"\"))","v":7.8},{"$f":"IFERROR(INDEX(РВД!$D:$I,MATCH($C17,РВД!$A:$A,)+1,MATCH($N$4+AG$11-1,INDEX(РВД!$D:$I,MATCH($C17,РВД!$A:$A,),),)),IF(AG18=\"Я\",INDEX('график 7,8'!$B$5:$AF$16,MONTH($AP$3),AG$11),\"\"))","v":""},{"$f":"IFERROR(INDEX(РВД!$D:$I,MATCH($C17,РВД!$A:$A,)+1,MATCH($N$4+AH$11-1,INDEX(РВД!$D:$I,MATCH($C17,РВД!$A:$A,),),)),IF(AH18=\"Я\",INDEX('график 7,8'!$B$5:$AF$16,MONTH($AP$3),AH$11),\"\"))","v":""},{"$f":"IFERROR(INDEX(РВД!$D:$I,MATCH($C17,РВД!$A:$A,)+1,MATCH($N$4+AI$11-1,INDEX(РВД!$D:$I,MATCH($C17,РВД!$A:$A,),),)),IF(AI18=\"Я\",INDEX('график 7,8'!$B$5:$AF$16,MONTH($AP$3),AI$11),\"\"))","v":7.8},{"$f":"IFERROR(INDEX(РВД!$D:$I,MATCH($C17,РВД!$A:$A,)+1,MATCH($N$4+AJ$11-1,INDEX(РВД!$D:$I,MATCH($C17,РВД!$A:$A,),),)),IF(AJ18=\"Я\",INDEX('график 7,8'!$B$5:$AF$16,MONTH($AP$3),AJ$11),\"\"))","v":7.8},{"$f":"\"Я/\"&SUMIF(E18:AJ18,\"Я\",E17:AJ17)","v":"Я/163,8"},{"$f":"(SUMIF(E18:AJ18,\"В\",E17:AJ17)+SUMIF(E18:AJ18,\"В.\",E17:AJ17))*2","v":0},{"$f":"COUNTIFS(E18:AJ18,\"Я\",E17:AJ17,\"<>\")","v":21},{"$f":"IFERROR(VLOOKUP(C17,доплаты!$A$5:$P$118,16,0),\"\")","v":"24"}]
[null,null,null,null,{"$f":"TRIM(LEFT(TRIM(INDEX(отсутствия!$N:$AR,MATCH($C17,отсутствия!$A:$A,),E$11)&\" \"&TEXT(INDEX('график 7,8'!$B$5:$AF$16,MONTH($AP$3),E$11)&\"\",\"Я\")),2))","v":"В"},{"$f":"TRIM(LEFT(TRIM(INDEX(отсутствия!$N:$AR,MATCH($C17,отсутствия!$A:$A,),F$11)&\" \"&TEXT(INDEX('график 7,8'!$B$5:$AF$16,MONTH($AP$3),F$11)&\"\",\"Я\")),2))","v":"Я"},{"$f":"TRIM(LEFT(TRIM(INDEX(отсутствия!$N:$AR,MATCH($C17,отсутствия!$A:$A,),G$11)&\" \"&TEXT(INDEX('график 7,8'!$B$5:$AF$16,MONTH($AP$3),G$11)&\"\",\"Я\")),2))","v":"Я"},{"$f":"TRIM(LEFT(TRIM(INDEX(отсутствия!$N:$AR,MATCH($C17,отсутствия!$A:$A,),H$11)&\" \"&TEXT(INDEX('график 7,8'!$B$5:$AF$16,MONTH($AP$3),H$11)&\"\",\"Я\")),2))","v":"Я"},{"$f":"TRIM(LEFT(TRIM(INDEX(отсутствия!$N:$AR,MATCH($C17,отсутствия!$A:$A,),I$11)&\" \"&TEXT(INDEX('график 7,8'!$B$5:$AF$16,MONTH($AP$3),I$11)&\"\",\"Я\")),2))","v":"Я"},{"$f":"TRIM(LEFT(TRIM(INDEX(отсутствия!$N:$AR,MATCH($C17,отсутствия!$A:$A,),J$11)&\" \"&TEXT(INDEX('график 7,8'!$B$5:$AF$16,MONTH($AP$3),J$11)&\"\",\"Я\")),2))","v":"Я"},{"$f":"TRIM(LEFT(TRIM(INDEX(отсутствия!$N:$AR,MATCH($C17,отсутствия!$A:$A,),K$11)&\" \"&TEXT(INDEX('график 7,8'!$B$5:$AF$16,MONTH($AP$3),K$11)&\"\",\"Я\")),2))","v":"В"},{"$f":"TRIM(LEFT(TRIM(INDEX(отсутствия!$N:$AR,MATCH($C17,отсутствия!$A:$A,),L$11)&\" \"&TEXT(INDEX('график 7,8'!$B$5:$AF$16,MONTH($AP$3),L$11)&\"\",\"Я\")),2))","v":"В."},{"$f":"TRIM(LEFT(TRIM(INDEX(отсутствия!$N:$AR,MATCH($C17,отсутствия!$A:$A,),M$11)&\" \"&TEXT(INDEX('график 7,8'!$B$5:$AF$16,MONTH($AP$3),M$11)&\"\",\"Я\")),2))","v":"В"},{"$f":"TRIM(LEFT(TRIM(INDEX(отсутствия!$N:$AR,MATCH($C17,отсутствия!$A:$A,),N$11)&\" \"&TEXT(INDEX('график 7,8'!$B$5:$AF$16,MONTH($AP$3),N$11)&\"\",\"Я\")),2))","v":"Я"},{"$f":"TRIM(LEFT(TRIM(INDEX(отсутствия!$N:$AR,MATCH($C17,отсутствия!$A:$A,),O$11)&\" \"&TEXT(INDEX('график 7,8'!$B$5:$AF$16,MONTH($AP$3),O$11)&\"\",\"Я\")),2))","v":"Я"},{"$f":"TRIM(LEFT(TRIM(INDEX(отсутствия!$N:$AR,MATCH($C17,отсутствия!$A:$A,),P$11)&\" \"&TEXT(INDEX('график 7,8'!$B$5:$AF$16,MONTH($AP$3),P$11)&\"\",\"Я\")),2))","v":"Я"},{"$f":"TRIM(LEFT(TRIM(INDEX(отсутствия!$N:$AR,MATCH($C17,отсутствия!$A:$A,),Q$11)&\" \"&TEXT(INDEX('график 7,8'!$B$5:$AF$16,MONTH($AP$3),Q$11)&\"\",\"Я\")),2))","v":"Я"},{"$f":"TRIM(LEFT(TRIM(INDEX(отсутствия!$N:$AR,MATCH($C17,отсутствия!$A:$A,),R$11)&\" \"&TEXT(INDEX('график 7,8'!$B$5:$AF$16,MONTH($AP$3),R$11)&\"\",\"Я\")),2))","v":"В"},{"$f":"TRIM(LEFT(TRIM(INDEX(отсутствия!$N:$AR,MATCH($C17,отсутствия!$A:$A,),S$11)&\" \"&TEXT(INDEX('график 7,8'!$B$5:$AF$16,MONTH($AP$3),S$11)&\"\",\"Я\")),2))","v":"В"},null,{"$f":"TRIM(LEFT(TRIM(INDEX(отсутствия!$N:$AR,MATCH($C17,отсутствия!$A:$A,),U$11)&\" \"&TEXT(INDEX('график 7,8'!$B$5:$AF$16,MONTH($AP$3),U$11)&\"\",\"Я\")),2))","v":"Я"},{"$f":"TRIM(LEFT(TRIM(INDEX(отсутствия!$N:$AR,MATCH($C17,отсутствия!$A:$A,),V$11)&\" \"&TEXT(INDEX('график 7,8'!$B$5:$AF$16,MONTH($AP$3),V$11)&\"\",\"Я\")),2))","v":"Я"},{"$f":"TRIM(LEFT(TRIM(INDEX(отсутствия!$N:$AR,MATCH($C17,отсутствия!$A:$A,),W$11)&\" \"&TEXT(INDEX('график 7,8'!$B$5:$AF$16,MONTH($AP$3),W$11)&\"\",\"Я\")),2))","v":"Я"},{"$f":"TRIM(LEFT(TRIM(INDEX(отсутствия!$N:$AR,MATCH($C17,отсутствия!$A:$A,),X$11)&\" \"&TEXT(INDEX('график 7,8'!$B$5:$AF$16,MONTH($AP$3),X$11)&\"\",\"Я\")),2))","v":"Я"},{"$f":"TRIM(LEFT(TRIM(INDEX(отсутствия!$N:$AR,MATCH($C17,отсутствия!$A:$A,),Y$11)&\" \"&TEXT(INDEX('график 7,8'!$B$5:$AF$16,MONTH($AP$3),Y$11)&\"\",\"Я\")),2))","v":"Я"},{"$f":"TRIM(LEFT(TRIM(INDEX(отсутствия!$N:$AR,MATCH($C17,отсутствия!$A:$A,),Z$11)&\" \"&TEXT(INDEX('график 7,8'!$B$5:$AF$16,MONTH($AP$3),Z$11)&\"\",\"Я\")),2))","v":"В"},{"$f":"TRIM(LEFT(TRIM(INDEX(отсутствия!$N:$AR,MATCH($C17,отсутствия!$A:$A,),AA$11)&\" \"&TEXT(INDEX('график 7,8'!$B$5:$AF$16,MONTH($AP$3),AA$11)&\"\",\"Я\")),2))","v":"В"},{"$f":"TRIM(LEFT(TRIM(INDEX(отсутствия!$N:$AR,MATCH($C17,отсутствия!$A:$A,),AB$11)&\" \"&TEXT(INDEX('график 7,8'!$B$5:$AF$16,MONTH($AP$3),AB$11)&\"\",\"Я\")),2))","v":"Я"},{"$f":"TRIM(LEFT(TRIM(INDEX(отсутствия!$N:$AR,MATCH($C17,отсутствия!$A:$A,),AC$11)&\" \"&TEXT(INDEX('график 7,8'!$B$5:$AF$16,MONTH($AP$3),AC$11)&\"\",\"Я\")),2))","v":"Я"},{"$f":"TRIM(LEFT(TRIM(INDEX(отсутствия!$N:$AR,MATCH($C17,отсутствия!$A:$A,),AD$11)&\" \"&TEXT(INDEX('график 7,8'!$B$5:$AF$16,MONTH($AP$3),AD$11)&\"\",\"Я\")),2))","v":"Я"},{"$f":"TRIM(LEFT(TRIM(INDEX(отсутствия!$N:$AR,MATCH($C17,отсутствия!$A:$A,),AE$11)&\" \"&TEXT(INDEX('график 7,8'!$B$5:$AF$16,MONTH($AP$3),AE$11)&\"\",\"Я\")),2))","v":"Я"},{"$f":"TRIM(LEFT(TRIM(INDEX(отсутствия!$N:$AR,MATCH($C17,отсутствия!$A:$A,),AF$11)&\" \"&TEXT(INDEX('график 7,8'!$B$5:$AF$16,MONTH($AP$3),AF$11)&\"\",\"Я\")),2))","v":"Я"},{"$f":"TRIM(LEFT(TRIM(INDEX(отсутствия!$N:$AR,MATCH($C17,отсутствия!$A:$A,),AG$11)&\" \"&TEXT(INDEX('график 7,8'!$B$5:$AF$16,MONTH($AP$3),AG$11)&\"\",\"Я\")),2))","v":"В"},{"$f":"TRIM(LEFT(TRIM(INDEX(отсутствия!$N:$AR,MATCH($C17,отсутствия!$A:$A,),AH$11)&\" \"&TEXT(INDEX('график 7,8'!$B$5:$AF$16,MONTH($AP$3),AH$11)&\"\",\"Я\")),2))","v":"В"},{"$f":"TRIM(LEFT(TRIM(INDEX(отсутствия!$N:$AR,MATCH($C17,отсутствия!$A:$A,),AI$11)&\" \"&TEXT(INDEX('график 7,8'!$B$5:$AF$16,MONTH($AP$3),AI$11)&\"\",\"Я\")),2))","v":"Я"},{"$f":"TRIM(LEFT(TRIM(INDEX(отсутствия!$N:$AR,MATCH($C17,отсутствия!$A:$A,),AJ$11)&\" \"&TEXT(INDEX('график 7,8'!$B$5:$AF$16,MONTH($AP$3),AJ$11)&\"\",\"Я\")),2))","v":"Я"}]
[2628,"Морозов",2628,"сборная",{"$f":"IFERROR(INDEX(РВД!$D:$I,MATCH($C19,РВД!$A:$A,)+1,MATCH($N$4+E$11-1,INDEX(РВД!$D:$I,MATCH($C19,РВД!$A:$A,),),)),IF(E20=\"Я\",INDEX('график 7,8'!$B$5:$AF$16,MONTH($AP$3),E$11),\"\"))","v":""},{"$f":"IFERROR(INDEX(РВД!$D:$I,MATCH($C19,РВД!$A:$A,)+1,MATCH($N$4+F$11-1,INDEX(РВД!$D:$I,MATCH($C19,РВД!$A:$A,),),)),IF(F20=\"Я\",INDEX('график 7,8'!$B$5:$AF$16,MONTH($AP$3),F$11),\"\"))","v":7.8},{"$f":"IFERROR(INDEX(РВД!$D:$I,MATCH($C19,РВД!$A:$A,)+1,MATCH($N$4+G$11-1,INDEX(РВД!$D:$I,MATCH($C19,РВД!$A:$A,),),)),IF(G20=\"Я\",INDEX('график 7,8'!$B$5:$AF$16,MONTH($AP$3),G$11),\"\"))","v":7.8},{"$f":"IFERROR(INDEX(РВД!$D:$I,MATCH($C19,РВД!$A:$A,)+1,MATCH($N$4+H$11-1,INDEX(РВД!$D:$I,MATCH($C19,РВД!$A:$A,),),)),IF(H20=\"Я\",INDEX('график 7,8'!$B$5:$AF$16,MONTH($AP$3),H$11),\"\"))","v":7.8},{"$f":"IFERROR(INDEX(РВД!$D:$I,MATCH($C19,РВД!$A:$A,)+1,MATCH($N$4+I$11-1,INDEX(РВД!$D:$I,MATCH($C19,РВД!$A:$A,),),)),IF(I20=\"Я\",INDEX('график 7,8'!$B$5:$AF$16,MONTH($AP$3),I$11),\"\"))","v":7.8},{"$f":"IFERROR(INDEX(РВД!$D:$I,MATCH($C19,РВД!$A:$A,)+1,MATCH($N$4+J$11-1,INDEX(РВД!$D:$I,MATCH($C19,РВД!$A:$A,),),)),IF(J20=\"Я\",INDEX('график 7,8'!$B$5:$AF$16,MONTH($AP$3),J$11),\"\"))","v":7.8},{"$f":"IFERROR(INDEX(РВД!$D:$I,MATCH($C19,РВД!$A:$A,)+1,MATCH($N$4+K$11-1,INDEX(РВД!$D:$I,MATCH($C19,РВД!$A:$A,),),)),IF(K20=\"Я\",INDEX('график 7,8'!$B$5:$AF$16,MONTH($AP$3),K$11),\"\"))","v":""},{"$f":"IFERROR(INDEX(РВД!$D:$I,MATCH($C19,РВД!$A:$A,)+1,MATCH($N$4+L$11-1,INDEX(РВД!$D:$I,MATCH($C19,РВД!$A:$A,),),)),IF(L20=\"Я\",INDEX('график 7,8'!$B$5:$AF$16,MONTH($AP$3),L$11),\"\"))","v":""},{"$f":"IFERROR(INDEX(РВД!$D:$I,MATCH($C19,РВД!$A:$A,)+1,MATCH($N$4+M$11-1,INDEX(РВД!$D:$I,MATCH($C19,РВД!$A:$A,),),)),IF(M20=\"Я\",INDEX('график 7,8'!$B$5:$AF$16,MONTH($AP$3),M$11),\"\"))","v":""},{"$f":"IFERROR(INDEX(РВД!$D:$I,MATCH($C19,РВД!$A:$A,)+1,MATCH($N$4+N$11-1,INDEX(РВД!$D:$I,MATCH($C19,РВД!$A:$A,),),)),IF(N20=\"Я\",INDEX('график 7,8'!$B$5:$AF$16,MONTH($AP$3),N$11),\"\"))","v":7.8},{"$f":"IFERROR(INDEX(РВД!$D:$I,MATCH($C19,РВД!$A:$A,)+1,MATCH($N$4+O$11-1,INDEX(РВД!$D:$I,MATCH($C19,РВД!$A:$A,),),)),IF(O20=\"Я\",INDEX('график 7,8'!$B$5:$AF$16,MONTH($AP$3),O$11),\"\"))","v":7.8},{"$f":"IFERROR(INDEX(РВД!$D:$I,MATCH($C19,РВД!$A:$A,)+1,MATCH($N$4+P$11-1,INDEX(РВД!$D:$I,MATCH($C19,РВД!$A:$A,),),)),IF(P20=\"Я\",INDEX('график 7,8'!$B$5:$AF$16,MONTH($AP$3),P$11),\"\"))","v":7.8},{"$f":"IFERROR(INDEX(РВД!$D:$I,MATCH($C19,РВД!$A:$A,)+1,MATCH($N$4+Q$11-1,INDEX(РВД!$D:$I,MATCH($C19,РВД!$A:$A,),),)),IF(Q20=\"Я\",INDEX('график 7,8'!$B$5:$AF$16,MONTH($AP$3),Q$11),\"\"))","v":7.8},{"$f":"IFERROR(INDEX(РВД!$D:$I,MATCH($C19,РВД!$A:$A,)+1,MATCH($N$4+R$11-1,INDEX(РВД!$D:$I,MATCH($C19,РВД!$A:$A,),),)),IF(R20=\"Я\",INDEX('график 7,8'!$B$5:$AF$16,MONTH($AP$3),R$11),\"\"))","v":""},{"$f":"IFERROR(INDEX(РВД!$D:$I,MATCH($C19,РВД!$A:$A,)+1,MATCH($N$4+S$11-1,INDEX(РВД!$D:$I,MATCH($C19,РВД!$A:$A,),),)),IF(S20=\"Я\",INDEX('график 7,8'!$B$5:$AF$16,MONTH($AP$3),S$11),\"\"))","v":""},{"$f":"SUMIF(E20:S20,\"Я\",E19:S19)","v":70.199999999999989},{"$f":"IFERROR(INDEX(РВД!$D:$I,MATCH($C19,РВД!$A:$A,)+1,MATCH($N$4+U$11-1,INDEX(РВД!$D:$I,MATCH($C19,РВД!$A:$A,),),)),IF(U20=\"Я\",INDEX('график 7,8'!$B$5:$AF$16,MONTH($AP$3),U$11),\"\"))","v":7.8},{"$f":"IFERROR(INDEX(РВД!$D:$I,MATCH($C19,РВД!$A:$A,)+1,MATCH($N$4+V$11-1,INDEX(РВД!$D:$I,MATCH($C19,РВД!$A:$A,),),)),IF(V20=\"Я\",INDEX('график 7,8'!$B$5:$AF$16,MONTH($AP$3),V$11),\"\"))","v":7.8},{"$f":"IFERROR(INDEX(РВД!$D:$I,MATCH($C19,РВД!$A:$A,)+1,MATCH($N$4+W$11-1,INDEX(РВД!$D:$I,MATCH($C19,РВД!$A:$A,),),)),IF(W20=\"Я\",INDEX('график 7,8'!$B$5:$AF$16,MONTH($AP$3),W$11),\"\"))","v":7.8},{"$f":"IFERROR(INDEX(РВД!$D:$I,MATCH($C19,РВД!$A:$A,)+1,MATCH($N$4+X$11-1,INDEX(РВД!$D:$I,MATCH($C19,РВД!$A:$A,),),)),IF(X20=\"Я\",INDEX('график 7,8'!$B$5:$AF$16,MONTH($AP$3),X$11),\"\"))","v":7.8},{"$f":"IFERROR(INDEX(РВД!$D:$I,MATCH($C19,РВД!$A:$A,)+1,MATCH($N$4+Y$11-1,INDEX(РВД!$D:$I,MATCH($C19,РВД!$A:$A,),),)),IF(Y20=\"Я\",INDEX('график 7,8'!$B$5:$AF$16,MONTH($AP$3),Y$11),\"\"))","v":7.8},{"$f":"IFERROR(INDEX(РВД!$D:$I,MATCH($C19,РВД!$A:$A,)+1,MATCH($N$4+Z$11-1,INDEX(РВД!$D:$I,MATCH($C19,РВД!$A:$A,),),)),IF(Z20=\"Я\",INDEX('график 7,8'!$B$5:$AF$16,MONTH($AP$3),Z$11),\"\"))","v":""},{"$f":"IFERROR(INDEX(РВД!$D:$I,MATCH($C19,РВД!$A:$A,)+1,MATCH($N$4+AA$11-1,INDEX(РВД!$D:$I,MATCH($C19,РВД!$A:$A,),),)),IF(AA20=\"Я\",INDEX('график 7,8'!$B$5:$AF$16,MONTH($AP$3),AA$11),\"\"))","v":""},{"$f":"IFERROR(INDEX(РВД!$D:$I,MATCH($C19,РВД!$A:$A,)+1,MATCH($N$4+AB$11-1,INDEX(РВД!$D:$I,MATCH($C19,РВД!$A:$A,),),)),IF(AB20=\"Я\",INDEX('график 7,8'!$B$5:$AF$16,MONTH($AP$3),AB$11),\"\"))","v":7.8},{"$f":"IFERROR(INDEX(РВД!$D:$I,MATCH($C19,РВД!$A:$A,)+1,MATCH($N$4+AC$11-1,INDEX(РВД!$D:$I,MATCH($C19,РВД!$A:$A,),),)),IF(AC20=\"Я\",INDEX('график 7,8'!$B$5:$AF$16,MONTH($AP$3),AC$11),\"\"))","v":7.8},{"$f":"IFERROR(INDEX(РВД!$D:$I,MATCH($C19,РВД!$A:$A,)+1,MATCH($N$4+AD$11-1,INDEX(РВД!$D:$I,MATCH($C19,РВД!$A:$A,),),)),IF(AD20=\"Я\",INDEX('график 7,8'!$B$5:$AF$16,MONTH($AP$3),AD$11),\"\"))","v":7.8},{"$f":"IFERROR(INDEX(РВД!$D:$I,MATCH($C19,РВД!$A:$A,)+1,MATCH($N$4+AE$11-1,INDEX(РВД!$D:$I,MATCH($C19,РВД!$A:$A,),),)),IF(AE20=\"Я\",INDEX('график 7,8'!$B$5:$AF$16,MONTH($AP$3),AE$11),\"\"))","v":7.8},{"$f":"IFERROR(INDEX(РВД!$D:$I,MATCH($C19,РВД!$A:$A,)+1,MATCH($N$4+AF$11-1,INDEX(РВД!$D:$I,MATCH($C19,РВД!$A:$A,),),)),IF(AF20=\"Я\",INDEX('график 7,8'!$B$5:$AF$16,MONTH($AP$3),AF$11),\"\"))","v":7.8},{"$f":"IFERROR(INDEX(РВД!$D:$I,MATCH($C19,РВД!$A:$A,)+1,MATCH($N$4+AG$11-1,INDEX(РВД!$D:$I,MATCH($C19,РВД!$A:$A,),),)),IF(AG20=\"Я\",INDEX('график 7,8'!$B$5:$AF$16,MONTH($AP$3),AG$11),\"\"))","v":""},{"$f":"IFERROR(INDEX(РВД!$D:$I,MATCH($C19,РВД!$A:$A,)+1,MATCH($N$4+AH$11-1,INDEX(РВД!$D:$I,MATCH($C19,РВД!$A:$A,),),)),IF(AH20=\"Я\",INDEX('график 7,8'!$B$5:$AF$16,MONTH($AP$3),AH$11),\"\"))","v":""},{"$f":"IFERROR(INDEX(РВД!$D:$I,MATCH($C19,РВД!$A:$A,)+1,MATCH($N$4+AI$11-1,INDEX(РВД!$D:$I,MATCH($C19,РВД!$A:$A,),),)),IF(AI20=\"Я\",INDEX('график 7,8'!$B$5:$AF$16,MONTH($AP$3),AI$11),\"\"))","v":7.8},{"$f":"IFERROR(INDEX(РВД!$D:$I,MATCH($C19,РВД!$A:$A,)+1,MATCH($N$4+AJ$11-1,INDEX(РВД!$D:$I,MATCH($C19,РВД!$A:$A,),),)),IF(AJ20=\"Я\",INDEX('график 7,8'!$B$5:$AF$16,MONTH($AP$3),AJ$11),\"\"))","v":7.8},{"$f":"\"Я/\"&SUMIF(E20:AJ20,\"Я\",E19:AJ19)","v":"Я/163,8"},{"$f":"(SUMIF(E20:AJ20,\"В\",E19:AJ19)+SUMIF(E20:AJ20,\"В.\",E19:AJ19))*2","v":0},{"$f":"COUNTIFS(E20:AJ20,\"Я\",E19:AJ19,\"<>\")","v":21},{"$f":"IFERROR(VLOOKUP(C19,доплаты!$A$5:$P$118,16,0),\"\")","v":"24"}]
[null,null,null,null,{"$f":"TRIM(LEFT(TRIM(INDEX(отсутствия!$N:$AR,MATCH($C19,отсутствия!$A:$A,),E$11)&\" \"&TEXT(INDEX('график 7,8'!$B$5:$AF$16,MONTH($AP$3),E$11)&\"\",\"Я\")),2))","v":"В"},{"$f":"TRIM(LEFT(TRIM(INDEX(отсутствия!$N:$AR,MATCH($C19,отсутствия!$A:$A,),F$11)&\" \"&TEXT(INDEX('график 7,8'!$B$5:$AF$16,MONTH($AP$3),F$11)&\"\",\"Я\")),2))","v":"Я"},{"$f":"TRIM(LEFT(TRIM(INDEX(отсутствия!$N:$AR,MATCH($C19,отсутствия!$A:$A,),G$11)&\" \"&TEXT(INDEX('график 7,8'!$B$5:$AF$16,MONTH($AP$3),G$11)&\"\",\"Я\")),2))","v":"Я"},{"$f":"TRIM(LEFT(TRIM(INDEX(отсутствия!$N:$AR,MATCH($C19,отсутствия!$A:$A,),H$11)&\" \"&TEXT(INDEX('график 7,8'!$B$5:$AF$16,MONTH($AP$3),H$11)&\"\",\"Я\")),2))","v":"Я"},{"$f":"TRIM(LEFT(TRIM(INDEX(отсутствия!$N:$AR,MATCH($C19,отсутствия!$A:$A,),I$11)&\" \"&TEXT(INDEX('график 7,8'!$B$5:$AF$16,MONTH($AP$3),I$11)&\"\",\"Я\")),2))","v":"Я"},{"$f":"TRIM(LEFT(TRIM(INDEX(отсутствия!$N:$AR,MATCH($C19,отсутствия!$A:$A,),J$11)&\" \"&TEXT(INDEX('график 7,8'!$B$5:$AF$16,MONTH($AP$3),J$11)&\"\",\"Я\")),2))","v":"Я"},{"$f":"TRIM(LEFT(TRIM(INDEX(отсутствия!$N:$AR,MATCH($C19,отсутствия!$A:$A,),K$11)&\" \"&TEXT(INDEX('график 7,8'!$B$5:$AF$16,MONTH($AP$3),K$11)&\"\",\"Я\")),2))","v":"В"},{"$f":"TRIM(LEFT(TRIM(INDEX(отсутствия!$N:$AR,MATCH($C19,отсутствия!$A:$A,),L$11)&\" \"&TEXT(INDEX('график 7,8'!$B$5:$AF$16,MONTH($AP$3),L$11)&\"\",\"Я\")),2))","v":"В."},{"$f":"TRIM(LEFT(TRIM(INDEX(отсутствия!$N:$AR,MATCH($C19,отсутствия!$A:$A,),M$11)&\" \"&TEXT(INDEX('график 7,8'!$B$5:$AF$16,MONTH($AP$3),M$11)&\"\",\"Я\")),2))","v":"В"},{"$f":"TRIM(LEFT(TRIM(INDEX(отсутствия!$N:$AR,MATCH($C19,отсутствия!$A:$A,),N$11)&\" \"&TEXT(INDEX('график 7,8'!$B$5:$AF$16,MONTH($AP$3),N$11)&\"\",\"Я\")),2))","v":"Я"},{"$f":"TRIM(LEFT(TRIM(INDEX(отсутствия!$N:$AR,MATCH($C19,отсутствия!$A:$A,),O$11)&\" \"&TEXT(INDEX('график 7,8'!$B$5:$AF$16,MONTH($AP$3),O$11)&\"\",\"Я\")),2))","v":"Я"},{"$f":"TRIM(LEFT(TRIM(INDEX(отсутствия!$N:$AR,MATCH($C19,отсутствия!$A:$A,),P$11)&\" \"&TEXT(INDEX('график 7,8'!$B$5:$AF$16,MONTH($AP$3),P$11)&\"\",\"Я\")),2))","v":"Я"},{"$f":"TRIM(LEFT(TRIM(INDEX(отсутствия!$N:$AR,MATCH($C19,отсутствия!$A:$A,),Q$11)&\" \"&TEXT(INDEX('график 7,8'!$B$5:$AF$16,MONTH($AP$3),Q$11)&\"\",\"Я\")),2))","v":"Я"},{"$f":"TRIM(LEFT(TRIM(INDEX(отсутствия!$N:$AR,MATCH($C19,отсутствия!$A:$A,),R$11)&\" \"&TEXT(INDEX('график 7,8'!$B$5:$AF$16,MONTH($AP$3),R$11)&\"\",\"Я\")),2))","v":"В"},{"$f":"TRIM(LEFT(TRIM(INDEX(отсутствия!$N:$AR,MATCH($C19,отсутствия!$A:$A,),S$11)&\" \"&TEXT(INDEX('график 7,8'!$B$5:$AF$16,MONTH($AP$3),S$11)&\"\",\"Я\")),2))","v":"В"},null,{"$f":"TRIM(LEFT(TRIM(INDEX(отсутствия!$N:$AR,MATCH($C19,отсутствия!$A:$A,),U$11)&\" \"&TEXT(INDEX('график 7,8'!$B$5:$AF$16,MONTH($AP$3),U$11)&\"\",\"Я\")),2))","v":"Я"},{"$f":"TRIM(LEFT(TRIM(INDEX(отсутствия!$N:$AR,MATCH($C19,отсутствия!$A:$A,),V$11)&\" \"&TEXT(INDEX('график 7,8'!$B$5:$AF$16,MONTH($AP$3),V$11)&\"\",\"Я\")),2))","v":"Я"},{"$f":"TRIM(LEFT(TRIM(INDEX(отсутствия!$N:$AR,MATCH($C19,отсутствия!$A:$A,),W$11)&\" \"&TEXT(INDEX('график 7,8'!$B$5:$AF$16,MONTH($AP$3),W$11)&\"\",\"Я\")),2))","v":"Я"},{"$f":"TRIM(LEFT(TRIM(INDEX(отсутствия!$N:$AR,MATCH($C19,отсутствия!$A:$A,),X$11)&\" \"&TEXT(INDEX('график 7,8'!$B$5:$AF$16,MONTH($AP$3),X$11)&\"\",\"Я\")),2))","v":"Я"},{"$f":"TRIM(LEFT(TRIM(INDEX(отсутствия!$N:$AR,MATCH($C19,отсутствия!$A:$A,),Y$11)&\" \"&TEXT(INDEX('график 7,8'!$B$5:$AF$16,MONTH($AP$3),Y$11)&\"\",\"Я\")),2))","v":"Я"},{"$f":"TRIM(LEFT(TRIM(INDEX(отсутствия!$N:$AR,MATCH($C19,отсутствия!$A:$A,),Z$11)&\" \"&TEXT(INDEX('график 7,8'!$B$5:$AF$16,MONTH($AP$3),Z$11)&\"\",\"Я\")),2))","v":"В"},{"$f":"TRIM(LEFT(TRIM(INDEX(отсутствия!$N:$AR,MATCH($C19,отсутствия!$A:$A,),AA$11)&\" \"&TEXT(INDEX('график 7,8'!$B$5:$AF$16,MONTH($AP$3),AA$11)&\"\",\"Я\")),2))","v":"В"},{"$f":"TRIM(LEFT(TRIM(INDEX(отсутствия!$N:$AR,MATCH($C19,отсутствия!$A:$A,),AB$11)&\" \"&TEXT(INDEX('график 7,8'!$B$5:$AF$16,MONTH($AP$3),AB$11)&\"\",\"Я\")),2))","v":"Я"},{"$f":"TRIM(LEFT(TRIM(INDEX(отсутствия!$N:$AR,MATCH($C19,отсутствия!$A:$A,),AC$11)&\" \"&TEXT(INDEX('график 7,8'!$B$5:$AF$16,MONTH($AP$3),AC$11)&\"\",\"Я\")),2))","v":"Я"},{"$f":"TRIM(LEFT(TRIM(INDEX(отсутствия!$N:$AR,MATCH($C19,отсутствия!$A:$A,),AD$11)&\" \"&TEXT(INDEX('график 7,8'!$B$5:$AF$16,MONTH($AP$3),AD$11)&\"\",\"Я\")),2))","v":"Я"},{"$f":"TRIM(LEFT(TRIM(INDEX(отсутствия!$N:$AR,MATCH($C19,отсутствия!$A:$A,),AE$11)&\" \"&TEXT(INDEX('график 7,8'!$B$5:$AF$16,MONTH($AP$3),AE$11)&\"\",\"Я\")),2))","v":"Я"},{"$f":"TRIM(LEFT(TRIM(INDEX(отсутствия!$N:$AR,MATCH($C19,отсутствия!$A:$A,),AF$11)&\" \"&TEXT(INDEX('график 7,8'!$B$5:$AF$16,MONTH($AP$3),AF$11)&\"\",\"Я\")),2))","v":"Я"},{"$f":"TRIM(LEFT(TRIM(INDEX(отсутствия!$N:$AR,MATCH($C19,отсутствия!$A:$A,),AG$11)&\" \"&TEXT(INDEX('график 7,8'!$B$5:$AF$16,MONTH($AP$3),AG$11)&\"\",\"Я\")),2))","v":"В"},{"$f":"TRIM(LEFT(TRIM(INDEX(отсутствия!$N:$AR,MATCH($C19,отсутствия!$A:$A,),AH$11)&\" \"&TEXT(INDEX('график 7,8'!$B$5:$AF$16,MONTH($AP$3),AH$11)&\"\",\"Я\")),2))","v":"В"},{"$f":"TRIM(LEFT(TRIM(INDEX(отсутствия!$N:$AR,MATCH($C19,отсутствия!$A:$A,),AI$11)&\" \"&TEXT(INDEX('график 7,8'!$B$5:$AF$16,MONTH($AP$3),AI$11)&\"\",\"Я\")),2))","v":"Я"},{"$f":"TRIM(LEFT(TRIM(INDEX(отсутствия!$N:$AR,MATCH($C19,отсутствия!$A:$A,),AJ$11)&\" \"&TEXT(INDEX('график 7,8'!$B$5:$AF$16,MONTH($AP$3),AJ$11)&\"\",\"Я\")),2))","v":"Я"}]
[4439,"Шустов",4439,"сборная",{"$f":"IFERROR(INDEX(РВД!$D:$I,MATCH($C21,РВД!$A:$A,)+1,MATCH($N$4+E$11-1,INDEX(РВД!$D:$I,MATCH($C21,РВД!$A:$A,),),)),IF(E22=\"Я\",INDEX('график 7,8'!$B$5:$AF$16,MONTH($AP$3),E$11),\"\"))","v":""},{"$f":"IFERROR(INDEX(РВД!$D:$I,MATCH($C21,РВД!$A:$A,)+1,MATCH($N$4+F$11-1,INDEX(РВД!$D:$I,MATCH($C21,РВД!$A:$A,),),)),IF(F22=\"Я\",INDEX('график 7,8'!$B$5:$AF$16,MONTH($AP$3),F$11),\"\"))","v":7.8},{"$f":"IFERROR(INDEX(РВД!$D:$I,MATCH($C21,РВД!$A:$A,)+1,MATCH($N$4+G$11-1,INDEX(РВД!$D:$I,MATCH($C21,РВД!$A:$A,),),)),IF(G22=\"Я\",INDEX('график 7,8'!$B$5:$AF$16,MONTH($AP$3),G$11),\"\"))","v":7.8},{"$f":"IFERROR(INDEX(РВД!$D:$I,MATCH($C21,РВД!$A:$A,)+1,MATCH($N$4+H$11-1,INDEX(РВД!$D:$I,MATCH($C21,РВД!$A:$A,),),)),IF(H22=\"Я\",INDEX('график 7,8'!$B$5:$AF$16,MONTH($AP$3),H$11),\"\"))","v":7.8},{"$f":"IFERROR(INDEX(РВД!$D:$I,MATCH($C21,РВД!$A:$A,)+1,MATCH($N$4+I$11-1,INDEX(РВД!$D:$I,MATCH($C21,РВД!$A:$A,),),)),IF(I22=\"Я\",INDEX('график 7,8'!$B$5:$AF$16,MONTH($AP$3),I$11),\"\"))","v":7.8},{"$f":"IFERROR(INDEX(РВД!$D:$I,MATCH($C21,РВД!$A:$A,)+1,MATCH($N$4+J$11-1,INDEX(РВД!$D:$I,MATCH($C21,РВД!$A:$A,),),)),IF(J22=\"Я\",INDEX('график 7,8'!$B$5:$AF$16,MONTH($AP$3),J$11),\"\"))","v":7.8},{"$f":"IFERROR(INDEX(РВД!$D:$I,MATCH($C21,РВД!$A:$A,)+1,MATCH($N$4+K$11-1,INDEX(РВД!$D:$I,MATCH($C21,РВД!$A:$A,),),)),IF(K22=\"Я\",INDEX('график 7,8'!$B$5:$AF$16,MONTH($AP$3),K$11),\"\"))","v":""},{"$f":"IFERROR(INDEX(РВД!$D:$I,MATCH($C21,РВД!$A:$A,)+1,MATCH($N$4+L$11-1,INDEX(РВД!$D:$I,MATCH($C21,РВД!$A:$A,),),)),IF(L22=\"Я\",INDEX('график 7,8'!$B$5:$AF$16,MONTH($AP$3),L$11),\"\"))","v":""},{"$f":"IFERROR(INDEX(РВД!$D:$I,MATCH($C21,РВД!$A:$A,)+1,MATCH($N$4+M$11-1,INDEX(РВД!$D:$I,MATCH($C21,РВД!$A:$A,),),)),IF(M22=\"Я\",INDEX('график 7,8'!$B$5:$AF$16,MONTH($AP$3),M$11),\"\"))","v":""},{"$f":"IFERROR(INDEX(РВД!$D:$I,MATCH($C21,РВД!$A:$A,)+1,MATCH($N$4+N$11-1,INDEX(РВД!$D:$I,MATCH($C21,РВД!$A:$A,),),)),IF(N22=\"Я\",INDEX('график 7,8'!$B$5:$AF$16,MONTH($AP$3),N$11),\"\"))","v":7.8},{"$f":"IFERROR(INDEX(РВД!$D:$I,MATCH($C21,РВД!$A:$A,)+1,MATCH($N$4+O$11-1,INDEX(РВД!$D:$I,MATCH($C21,РВД!$A:$A,),),)),IF(O22=\"Я\",INDEX('график 7,8'!$B$5:$AF$16,MONTH($AP$3),O$11),\"\"))","v":7.8},{"$f":"IFERROR(INDEX(РВД!$D:$I,MATCH($C21,РВД!$A:$A,)+1,MATCH($N$4+P$11-1,INDEX(РВД!$D:$I,MATCH($C21,РВД!$A:$A,),),)),IF(P22=\"Я\",INDEX('график 7,8'!$B$5:$AF$16,MONTH($AP$3),P$11),\"\"))","v":7.8},{"$f":"IFERROR(INDEX(РВД!$D:$I,MATCH($C21,РВД!$A:$A,)+1,MATCH($N$4+Q$11-1,INDEX(РВД!$D:$I,MATCH($C21,РВД!$A:$A,),),)),IF(Q22=\"Я\",INDEX('график 7,8'!$B$5:$AF$16,MONTH($AP$3),Q$11),\"\"))","v":7.8},{"$f":"IFERROR(INDEX(РВД!$D:$I,MATCH($C21,РВД!$A:$A,)+1,MATCH($N$4+R$11-1,INDEX(РВД!$D:$I,MATCH($C21,РВД!$A:$A,),),)),IF(R22=\"Я\",INDEX('график 7,8'!$B$5:$AF$16,MONTH($AP$3),R$11),\"\"))","v":""},{"$f":"IFERROR(INDEX(РВД!$D:$I,MATCH($C21,РВД!$A:$A,)+1,MATCH($N$4+S$11-1,INDEX(РВД!$D:$I,MATCH($C21,РВД!$A:$A,),),)),IF(S22=\"Я\",INDEX('график 7,8'!$B$5:$AF$16,MONTH($AP$3),S$11),\"\"))","v":""},{"$f":"SUMIF(E22:S22,\"Я\",E21:S21)","v":70.199999999999989},{"$f":"IFERROR(INDEX(РВД!$D:$I,MATCH($C21,РВД!$A:$A,)+1,MATCH($N$4+U$11-1,INDEX(РВД!$D:$I,MATCH($C21,РВД!$A:$A,),),)),IF(U22=\"Я\",INDEX('график 7,8'!$B$5:$AF$16,MONTH($AP$3),U$11),\"\"))","v":7.8},{"$f":"IFERROR(INDEX(РВД!$D:$I,MATCH($C21,РВД!$A:$A,)+1,MATCH($N$4+V$11-1,INDEX(РВД!$D:$I,MATCH($C21,РВД!$A:$A,),),)),IF(V22=\"Я\",INDEX('график 7,8'!$B$5:$AF$16,MONTH($AP$3),V$11),\"\"))","v":7.8},{"$f":"IFERROR(INDEX(РВД!$D:$I,MATCH($C21,РВД!$A:$A,)+1,MATCH($N$4+W$11-1,INDEX(РВД!$D:$I,MATCH($C21,РВД!$A:$A,),),)),IF(W22=\"Я\",INDEX('график 7,8'!$B$5:$AF$16,MONTH($AP$3),W$11),\"\"))","v":7.8},{"$f":"IFERROR(INDEX(РВД!$D:$I,MATCH($C21,РВД!$A:$A,)+1,MATCH($N$4+X$11-1,INDEX(РВД!$D:$I,MATCH($C21,РВД!$A:$A,),),)),IF(X22=\"Я\",INDEX('график 7,8'!$B$5:$AF$16,MONTH($AP$3),X$11),\"\"))","v":7.8},{"$f":"IFERROR(INDEX(РВД!$D:$I,MATCH($C21,РВД!$A:$A,)+1,MATCH($N$4+Y$11-1,INDEX(РВД!$D:$I,MATCH($C21,РВД!$A:$A,),),)),IF(Y22=\"Я\",INDEX('график 7,8'!$B$5:$AF$16,MONTH($AP$3),Y$11),\"\"))","v":7.8},{"$f":"IFERROR(INDEX(РВД!$D:$I,MATCH($C21,РВД!$A:$A,)+1,MATCH($N$4+Z$11-1,INDEX(РВД!$D:$I,MATCH($C21,РВД!$A:$A,),),)),IF(Z22=\"Я\",INDEX('график 7,8'!$B$5:$AF$16,MONTH($AP$3),Z$11),\"\"))","v":""},{"$f":"IFERROR(INDEX(РВД!$D:$I,MATCH($C21,РВД!$A:$A,)+1,MATCH($N$4+AA$11-1,INDEX(РВД!$D:$I,MATCH($C21,РВД!$A:$A,),),)),IF(AA22=\"Я\",INDEX('график 7,8'!$B$5:$AF$16,MONTH($AP$3),AA$11),\"\"))","v":""},{"$f":"IFERROR(INDEX(РВД!$D:$I,MATCH($C21,РВД!$A:$A,)+1,MATCH($N$4+AB$11-1,INDEX(РВД!$D:$I,MATCH($C21,РВД!$A:$A,),),)),IF(AB22=\"Я\",INDEX('график 7,8'!$B$5:$AF$16,MONTH($AP$3),AB$11),\"\"))","v":7.8},{"$f":"IFERROR(INDEX(РВД!$D:$I,MATCH($C21,РВД!$A:$A,)+1,MATCH($N$4+AC$11-1,INDEX(РВД!$D:$I,MATCH($C21,РВД!$A:$A,),),)),IF(AC22=\"Я\",INDEX('график 7,8'!$B$5:$AF$16,MONTH($AP$3),AC$11),\"\"))","v":7.8},{"$f":"IFERROR(INDEX(РВД!$D:$I,MATCH($C21,РВД!$A:$A,)+1,MATCH($N$4+AD$11-1,INDEX(РВД!$D:$I,MATCH($C21,РВД!$A:$A,),),)),IF(AD22=\"Я\",INDEX('график 7,8'!$B$5:$AF$16,MONTH($AP$3),AD$11),\"\"))","v":7.8},{"$f":"IFERROR(INDEX(РВД!$D:$I,MATCH($C21,РВД!$A:$A,)+1,MATCH($N$4+AE$11-1,INDEX(РВД!$D:$I,MATCH($C21,РВД!$A:$A,),),)),IF(AE22=\"Я\",INDEX('график 7,8'!$B$5:$AF$16,MONTH($AP$3),AE$11),\"\"))","v":7.8},{"$f":"IFERROR(INDEX(РВД!$D:$I,MATCH($C21,РВД!$A:$A,)+1,MATCH($N$4+AF$11-1,INDEX(РВД!$D:$I,MATCH($C21,РВД!$A:$A,),),)),IF(AF22=\"Я\",INDEX('график 7,8'!$B$5:$AF$16,MONTH($AP$3),AF$11),\"\"))","v":7.8},{"$f":"IFERROR(INDEX(РВД!$D:$I,MATCH($C21,РВД!$A:$A,)+1,MATCH($N$4+AG$11-1,INDEX(РВД!$D:$I,MATCH($C21,РВД!$A:$A,),),)),IF(AG22=\"Я\",INDEX('график 7,8'!$B$5:$AF$16,MONTH($AP$3),AG$11),\"\"))","v":""},{"$f":"IFERROR(INDEX(РВД!$D:$I,MATCH($C21,РВД!$A:$A,)+1,MATCH($N$4+AH$11-1,INDEX(РВД!$D:$I,MATCH($C21,РВД!$A:$A,),),)),IF(AH22=\"Я\",INDEX('график 7,8'!$B$5:$AF$16,MONTH($AP$3),AH$11),\"\"))","v":""},{"$f":"IFERROR(INDEX(РВД!$D:$I,MATCH($C21,РВД!$A:$A,)+1,MATCH($N$4+AI$11-1,INDEX(РВД!$D:$I,MATCH($C21,РВД!$A:$A,),),)),IF(AI22=\"Я\",INDEX('график 7,8'!$B$5:$AF$16,MONTH($AP$3),AI$11),\"\"))","v":7.8},{"$f":"IFERROR(INDEX(РВД!$D:$I,MATCH($C21,РВД!$A:$A,)+1,MATCH($N$4+AJ$11-1,INDEX(РВД!$D:$I,MATCH($C21,РВД!$A:$A,),),)),IF(AJ22=\"Я\",INDEX('график 7,8'!$B$5:$AF$16,MONTH($AP$3),AJ$11),\"\"))","v":7.8},{"$f":"\"Я/\"&SUMIF(E22:AJ22,\"Я\",E21:AJ21)","v":"Я/163,8"},{"$f":"(SUMIF(E22:AJ22,\"В\",E21:AJ21)+SUMIF(E22:AJ22,\"В.\",E21:AJ21))*2","v":0},{"$f":"COUNTIFS(E22:AJ22,\"Я\",E21:AJ21,\"<>\")","v":21},{"$f":"IFERROR(VLOOKUP(C21,доплаты!$A$5:$P$118,16,0),\"\")","v":"24"}]
[null,null,null,null,{"$f":"TRIM(LEFT(TRIM(INDEX(отсутствия!$N:$AR,MATCH($C21,отсутствия!$A:$A,),E$11)&\" \"&TEXT(INDEX('график 7,8'!$B$5:$AF$16,MONTH($AP$3),E$11)&\"\",\"Я\")),2))","v":"В"},{"$f":"TRIM(LEFT(TRIM(INDEX(отсутствия!$N:$AR,MATCH($C21,отсутствия!$A:$A,),F$11)&\" \"&TEXT(INDEX('график 7,8'!$B$5:$AF$16,MONTH($AP$3),F$11)&\"\",\"Я\")),2))","v":"Я"},{"$f":"TRIM(LEFT(TRIM(INDEX(отсутствия!$N:$AR,MATCH($C21,отсутствия!$A:$A,),G$11)&\" \"&TEXT(INDEX('график 7,8'!$B$5:$AF$16,MONTH($AP$3),G$11)&\"\",\"Я\")),2))","v":"Я"},{"$f":"TRIM(LEFT(TRIM(INDEX(отсутствия!$N:$AR,MATCH($C21,отсутствия!$A:$A,),H$11)&\" \"&TEXT(INDEX('график 7,8'!$B$5:$AF$16,MONTH($AP$3),H$11)&\"\",\"Я\")),2))","v":"Я"},{"$f":"TRIM(LEFT(TRIM(INDEX(отсутствия!$N:$AR,MATCH($C21,отсутствия!$A:$A,),I$11)&\" \"&TEXT(INDEX('график 7,8'!$B$5:$AF$16,MONTH($AP$3),I$11)&\"\",\"Я\")),2))","v":"Я"},{"$f":"TRIM(LEFT(TRIM(INDEX(отсутствия!$N:$AR,MATCH($C21,отсутствия!$A:$A,),J$11)&\" \"&TEXT(INDEX('график 7,8'!$B$5:$AF$16,MONTH($AP$3),J$11)&\"\",\"Я\")),2))","v":"Я"},{"$f":"TRIM(LEFT(TRIM(INDEX(отсутствия!$N:$AR,MATCH($C21,отсутствия!$A:$A,),K$11)&\" \"&TEXT(INDEX('график 7,8'!$B$5:$AF$16,MONTH($AP$3),K$11)&\"\",\"Я\")),2))","v":"В"},{"$f":"TRIM(LEFT(TRIM(INDEX(отсутствия!$N:$AR,MATCH($C21,отсутствия!$A:$A,),L$11)&\" \"&TEXT(INDEX('график 7,8'!$B$5:$AF$16,MONTH($AP$3),L$11)&\"\",\"Я\")),2))","v":"В."},{"$f":"TRIM(LEFT(TRIM(INDEX(отсутствия!$N:$AR,MATCH($C21,отсутствия!$A:$A,),M$11)&\" \"&TEXT(INDEX('график 7,8'!$B$5:$AF$16,MONTH($AP$3),M$11)&\"\",\"Я\")),2))","v":"В"},{"$f":"TRIM(LEFT(TRIM(INDEX(отсутствия!$N:$AR,MATCH($C21,отсутствия!$A:$A,),N$11)&\" \"&TEXT(INDEX('график 7,8'!$B$5:$AF$16,MONTH($AP$3),N$11)&\"\",\"Я\")),2))","v":"Я"},{"$f":"TRIM(LEFT(TRIM(INDEX(отсутствия!$N:$AR,MATCH($C21,отсутствия!$A:$A,),O$11)&\" \"&TEXT(INDEX('график 7,8'!$B$5:$AF$16,MONTH($AP$3),O$11)&\"\",\"Я\")),2))","v":"Я"},{"$f":"TRIM(LEFT(TRIM(INDEX(отсутствия!$N:$AR,MATCH($C21,отсутствия!$A:$A,),P$11)&\" \"&TEXT(INDEX('график 7,8'!$B$5:$AF$16,MONTH($AP$3),P$11)&\"\",\"Я\")),2))","v":"Я"},{"$f":"TRIM(LEFT(TRIM(INDEX(отсутствия!$N:$AR,MATCH($C21,отсутствия!$A:$A,),Q$11)&\" \"&TEXT(INDEX('график 7,8'!$B$5:$AF$16,MONTH($AP$3),Q$11)&\"\",\"Я\")),2))","v":"Я"},{"$f":"TRIM(LEFT(TRIM(INDEX(отсутствия!$N:$AR,MATCH($C21,отсутствия!$A:$A,),R$11)&\" \"&TEXT(INDEX('график 7,8'!$B$5:$AF$16,MONTH($AP$3),R$11)&\"\",\"Я\")),2))","v":"В"},{"$f":"TRIM(LEFT(TRIM(INDEX(отсутствия!$N:$AR,MATCH($C21,отсутствия!$A:$A,),S$11)&\" \"&TEXT(INDEX('график 7,8'!$B$5:$AF$16,MONTH($AP$3),S$11)&\"\",\"Я\")),2))","v":"В"},null,{"$f":"TRIM(LEFT(TRIM(INDEX(отсутствия!$N:$AR,MATCH($C21,отсутствия!$A:$A,),U$11)&\" \"&TEXT(INDEX('график 7,8'!$B$5:$AF$16,MONTH($AP$3),U$11)&\"\",\"Я\")),2))","v":"Я"},{"$f":"TRIM(LEFT(TRIM(INDEX(отсутствия!$N:$AR,MATCH($C21,отсутствия!$A:$A,),V$11)&\" \"&TEXT(INDEX('график 7,8'!$B$5:$AF$16,MONTH($AP$3),V$11)&\"\",\"Я\")),2))","v":"Я"},{"$f":"TRIM(LEFT(TRIM(INDEX(отсутствия!$N:$AR,MATCH($C21,отсутствия!$A:$A,),W$11)&\" \"&TEXT(INDEX('график 7,8'!$B$5:$AF$16,MONTH($AP$3),W$11)&\"\",\"Я\")),2))","v":"Я"},{"$f":"TRIM(LEFT(TRIM(INDEX(отсутствия!$N:$AR,MATCH($C21,отсутствия!$A:$A,),X$11)&\" \"&TEXT(INDEX('график 7,8'!$B$5:$AF$16,MONTH($AP$3),X$11)&\"\",\"Я\")),2))","v":"Я"},{"$f":"TRIM(LEFT(TRIM(INDEX(отсутствия!$N:$AR,MATCH($C21,отсутствия!$A:$A,),Y$11)&\" \"&TEXT(INDEX('график 7,8'!$B$5:$AF$16,MONTH($AP$3),Y$11)&\"\",\"Я\")),2))","v":"Я"},{"$f":"TRIM(LEFT(TRIM(INDEX(отсутствия!$N:$AR,MATCH($C21,отсутствия!$A:$A,),Z$11)&\" \"&TEXT(INDEX('график 7,8'!$B$5:$AF$16,MONTH($AP$3),Z$11)&\"\",\"Я\")),2))","v":"В"},{"$f":"TRIM(LEFT(TRIM(INDEX(отсутствия!$N:$AR,MATCH($C21,отсутствия!$A:$A,),AA$11)&\" \"&TEXT(INDEX('график 7,8'!$B$5:$AF$16,MONTH($AP$3),AA$11)&\"\",\"Я\")),2))","v":"В"},{"$f":"TRIM(LEFT(TRIM(INDEX(отсутствия!$N:$AR,MATCH($C21,отсутствия!$A:$A,),AB$11)&\" \"&TEXT(INDEX('график 7,8'!$B$5:$AF$16,MONTH($AP$3),AB$11)&\"\",\"Я\")),2))","v":"Я"},{"$f":"TRIM(LEFT(TRIM(INDEX(отсутствия!$N:$AR,MATCH($C21,отсутствия!$A:$A,),AC$11)&\" \"&TEXT(INDEX('график 7,8'!$B$5:$AF$16,MONTH($AP$3),AC$11)&\"\",\"Я\")),2))","v":"Я"},{"$f":"TRIM(LEFT(TRIM(INDEX(отсутствия!$N:$AR,MATCH($C21,отсутствия!$A:$A,),AD$11)&\" \"&TEXT(INDEX('график 7,8'!$B$5:$AF$16,MONTH($AP$3),AD$11)&\"\",\"Я\")),2))","v":"Я"},{"$f":"TRIM(LEFT(TRIM(INDEX(отсутствия!$N:$AR,MATCH($C21,отсутствия!$A:$A,),AE$11)&\" \"&TEXT(INDEX('график 7,8'!$B$5:$AF$16,MONTH($AP$3),AE$11)&\"\",\"Я\")),2))","v":"Я"},{"$f":"TRIM(LEFT(TRIM(INDEX(отсутствия!$N:$AR,MATCH($C21,отсутствия!$A:$A,),AF$11)&\" \"&TEXT(INDEX('график 7,8'!$B$5:$AF$16,MONTH($AP$3),AF$11)&\"\",\"Я\")),2))","v":"Я"},{"$f":"TRIM(LEFT(TRIM(INDEX(отсутствия!$N:$AR,MATCH($C21,отсутствия!$A:$A,),AG$11)&\" \"&TEXT(INDEX('график 7,8'!$B$5:$AF$16,MONTH($AP$3),AG$11)&\"\",\"Я\")),2))","v":"В"},{"$f":"TRIM(LEFT(TRIM(INDEX(отсутствия!$N:$AR,MATCH($C21,отсутствия!$A:$A,),AH$11)&\" \"&TEXT(INDEX('график 7,8'!$B$5:$AF$16,MONTH($AP$3),AH$11)&\"\",\"Я\")),2))","v":"В"},{"$f":"TRIM(LEFT(TRIM(INDEX(отсутствия!$N:$AR,MATCH($C21,отсутствия!$A:$A,),AI$11)&\" \"&TEXT(INDEX('график 7,8'!$B$5:$AF$16,MONTH($AP$3),AI$11)&\"\",\"Я\")),2))","v":"Я"},{"$f":"TRIM(LEFT(TRIM(INDEX(отсутствия!$N:$AR,MATCH($C21,отсутствия!$A:$A,),AJ$11)&\" \"&TEXT(INDEX('график 7,8'!$B$5:$AF$16,MONTH($AP$3),AJ$11)&\"\",\"Я\")),2))","v":"Я"}]
[4813,"Овечкин",4813,"сборная",{"$f":"IFERROR(INDEX(РВД!$D:$I,MATCH($C23,РВД!$A:$A,)+1,MATCH($N$4+E$11-1,INDEX(РВД!$D:$I,MATCH($C23,РВД!$A:$A,),),)),IF(E24=\"Я\",INDEX('график 7,8'!$B$5:$AF$16,MONTH($AP$3),E$11),\"\"))","v":""},{"$f":"IFERROR(INDEX(РВД!$D:$I,MATCH($C23,РВД!$A:$A,)+1,MATCH($N$4+F$11-1,INDEX(РВД!$D:$I,MATCH($C23,РВД!$A:$A,),),)),IF(F24=\"Я\",INDEX('график 7,8'!$B$5:$AF$16,MONTH($AP$3),F$11),\"\"))","v":7.8},{"$f":"IFERROR(INDEX(РВД!$D:$I,MATCH($C23,РВД!$A:$A,)+1,MATCH($N$4+G$11-1,INDEX(РВД!$D:$I,MATCH($C23,РВД!$A:$A,),),)),IF(G24=\"Я\",INDEX('график 7,8'!$B$5:$AF$16,MONTH($AP$3),G$11),\"\"))","v":7.8},{"$f":"IFERROR(INDEX(РВД!$D:$I,MATCH($C23,РВД!$A:$A,)+1,MATCH($N$4+H$11-1,INDEX(РВД!$D:$I,MATCH($C23,РВД!$A:$A,),),)),IF(H24=\"Я\",INDEX('график 7,8'!$B$5:$AF$16,MONTH($AP$3),H$11),\"\"))","v":7.8},{"$f":"IFERROR(INDEX(РВД!$D:$I,MATCH($C23,РВД!$A:$A,)+1,MATCH($N$4+I$11-1,INDEX(РВД!$D:$I,MATCH($C23,РВД!$A:$A,),),)),IF(I24=\"Я\",INDEX('график 7,8'!$B$5:$AF$16,MONTH($AP$3),I$11),\"\"))","v":7.8},{"$f":"IFERROR(INDEX(РВД!$D:$I,MATCH($C23,РВД!$A:$A,)+1,MATCH($N$4+J$11-1,INDEX(РВД!$D:$I,MATCH($C23,РВД!$A:$A,),),)),IF(J24=\"Я\",INDEX('график 7,8'!$B$5:$AF$16,MONTH($AP$3),J$11),\"\"))","v":7.8},{"$f":"IFERROR(INDEX(РВД!$D:$I,MATCH($C23,РВД!$A:$A,)+1,MATCH($N$4+K$11-1,INDEX(РВД!$D:$I,MATCH($C23,РВД!$A:$A,),),)),IF(K24=\"Я\",INDEX('график 7,8'!$B$5:$AF$16,MONTH($AP$3),K$11),\"\"))","v":""},{"$f":"IFERROR(INDEX(РВД!$D:$I,MATCH($C23,РВД!$A:$A,)+1,MATCH($N$4+L$11-1,INDEX(РВД!$D:$I,MATCH($C23,РВД!$A:$A,),),)),IF(L24=\"Я\",INDEX('график 7,8'!$B$5:$AF$16,MONTH($AP$3),L$11),\"\"))","v":""},{"$f":"IFERROR(INDEX(РВД!$D:$I,MATCH($C23,РВД!$A:$A,)+1,MATCH($N$4+M$11-1,INDEX(РВД!$D:$I,MATCH($C23,РВД!$A:$A,),),)),IF(M24=\"Я\",INDEX('график 7,8'!$B$5:$AF$16,MONTH($AP$3),M$11),\"\"))","v":""},{"$f":"IFERROR(INDEX(РВД!$D:$I,MATCH($C23,РВД!$A:$A,)+1,MATCH($N$4+N$11-1,INDEX(РВД!$D:$I,MATCH($C23,РВД!$A:$A,),),)),IF(N24=\"Я\",INDEX('график 7,8'!$B$5:$AF$16,MONTH($AP$3),N$11),\"\"))","v":7.8},{"$f":"IFERROR(INDEX(РВД!$D:$I,MATCH($C23,РВД!$A:$A,)+1,MATCH($N$4+O$11-1,INDEX(РВД!$D:$I,MATCH($C23,РВД!$A:$A,),),)),IF(O24=\"Я\",INDEX('график 7,8'!$B$5:$AF$16,MONTH($AP$3),O$11),\"\"))","v":7.8},{"$f":"IFERROR(INDEX(РВД!$D:$I,MATCH($C23,РВД!$A:$A,)+1,MATCH($N$4+P$11-1,INDEX(РВД!$D:$I,MATCH($C23,РВД!$A:$A,),),)),IF(P24=\"Я\",INDEX('график 7,8'!$B$5:$AF$16,MONTH($AP$3),P$11),\"\"))","v":7.8},{"$f":"IFERROR(INDEX(РВД!$D:$I,MATCH($C23,РВД!$A:$A,)+1,MATCH($N$4+Q$11-1,INDEX(РВД!$D:$I,MATCH($C23,РВД!$A:$A,),),)),IF(Q24=\"Я\",INDEX('график 7,8'!$B$5:$AF$16,MONTH($AP$3),Q$11),\"\"))","v":7.8},{"$f":"IFERROR(INDEX(РВД!$D:$I,MATCH($C23,РВД!$A:$A,)+1,MATCH($N$4+R$11-1,INDEX(РВД!$D:$I,MATCH($C23,РВД!$A:$A,),),)),IF(R24=\"Я\",INDEX('график 7,8'!$B$5:$AF$16,MONTH($AP$3),R$11),\"\"))","v":""},{"$f":"IFERROR(INDEX(РВД!$D:$I,MATCH($C23,РВД!$A:$A,)+1,MATCH($N$4+S$11-1,INDEX(РВД!$D:$I,MATCH($C23,РВД!$A:$A,),),)),IF(S24=\"Я\",INDEX('график 7,8'!$B$5:$AF$16,MONTH($AP$3),S$11),\"\"))","v":""},{"$f":"SUMIF(E24:S24,\"Я\",E23:S23)","v":70.199999999999989},{"$f":"IFERROR(INDEX(РВД!$D:$I,MATCH($C23,РВД!$A:$A,)+1,MATCH($N$4+U$11-1,INDEX(РВД!$D:$I,MATCH($C23,РВД!$A:$A,),),)),IF(U24=\"Я\",INDEX('график 7,8'!$B$5:$AF$16,MONTH($AP$3),U$11),\"\"))","v":7.8},{"$f":"IFERROR(INDEX(РВД!$D:$I,MATCH($C23,РВД!$A:$A,)+1,MATCH($N$4+V$11-1,INDEX(РВД!$D:$I,MATCH($C23,РВД!$A:$A,),),)),IF(V24=\"Я\",INDEX('график 7,8'!$B$5:$AF$16,MONTH($AP$3),V$11),\"\"))","v":7.8},{"$f":"IFERROR(INDEX(РВД!$D:$I,MATCH($C23,РВД!$A:$A,)+1,MATCH($N$4+W$11-1,INDEX(РВД!$D:$I,MATCH($C23,РВД!$A:$A,),),)),IF(W24=\"Я\",INDEX('график 7,8'!$B$5:$AF$16,MONTH($AP$3),W$11),\"\"))","v":7.8},{"$f":"IFERROR(INDEX(РВД!$D:$I,MATCH($C23,РВД!$A:$A,)+1,MATCH($N$4+X$11-1,INDEX(РВД!$D:$I,MATCH($C23,РВД!$A:$A,),),)),IF(X24=\"Я\",INDEX('график 7,8'!$B$5:$AF$16,MONTH($AP$3),X$11),\"\"))","v":7.8},{"$f":"IFERROR(INDEX(РВД!$D:$I,MATCH($C23,РВД!$A:$A,)+1,MATCH($N$4+Y$11-1,INDEX(РВД!$D:$I,MATCH($C23,РВД!$A:$A,),),)),IF(Y24=\"Я\",INDEX('график 7,8'!$B$5:$AF$16,MONTH($AP$3),Y$11),\"\"))","v":7.8},{"$f":"IFERROR(INDEX(РВД!$D:$I,MATCH($C23,РВД!$A:$A,)+1,MATCH($N$4+Z$11-1,INDEX(РВД!$D:$I,MATCH($C23,РВД!$A:$A,),),)),IF(Z24=\"Я\",INDEX('график 7,8'!$B$5:$AF$16,MONTH($AP$3),Z$11),\"\"))","v":""},{"$f":"IFERROR(INDEX(РВД!$D:$I,MATCH($C23,РВД!$A:$A,)+1,MATCH($N$4+AA$11-1,INDEX(РВД!$D:$I,MATCH($C23,РВД!$A:$A,),),)),IF(AA24=\"Я\",INDEX('график 7,8'!$B$5:$AF$16,MONTH($AP$3),AA$11),\"\"))","v":""},{"$f":"IFERROR(INDEX(РВД!$D:$I,MATCH($C23,РВД!$A:$A,)+1,MATCH($N$4+AB$11-1,INDEX(РВД!$D:$I,MATCH($C23,РВД!$A:$A,),),)),IF(AB24=\"Я\",INDEX('график 7,8'!$B$5:$AF$16,MONTH($AP$3),AB$11),\"\"))","v":7.8},{"$f":"IFERROR(INDEX(РВД!$D:$I,MATCH($C23,РВД!$A:$A,)+1,MATCH($N$4+AC$11-1,INDEX(РВД!$D:$I,MATCH($C23,РВД!$A:$A,),),)),IF(AC24=\"Я\",INDEX('график 7,8'!$B$5:$AF$16,MONTH($AP$3),AC$11),\"\"))","v":7.8},{"$f":"IFERROR(INDEX(РВД!$D:$I,MATCH($C23,РВД!$A:$A,)+1,MATCH($N$4+AD$11-1,INDEX(РВД!$D:$I,MATCH($C23,РВД!$A:$A,),),)),IF(AD24=\"Я\",INDEX('график 7,8'!$B$5:$AF$16,MONTH($AP$3),AD$11),\"\"))","v":7.8},{"$f":"IFERROR(INDEX(РВД!$D:$I,MATCH($C23,РВД!$A:$A,)+1,MATCH($N$4+AE$11-1,INDEX(РВД!$D:$I,MATCH($C23,РВД!$A:$A,),),)),IF(AE24=\"Я\",INDEX('график 7,8'!$B$5:$AF$16,MONTH($AP$3),AE$11),\"\"))","v":7.8},{"$f":"IFERROR(INDEX(РВД!$D:$I,MATCH($C23,РВД!$A:$A,)+1,MATCH($N$4+AF$11-1,INDEX(РВД!$D:$I,MATCH($C23,РВД!$A:$A,),),)),IF(AF24=\"Я\",INDEX('график 7,8'!$B$5:$AF$16,MONTH($AP$3),AF$11),\"\"))","v":7.8},{"$f":"IFERROR(INDEX(РВД!$D:$I,MATCH($C23,РВД!$A:$A,)+1,MATCH($N$4+AG$11-1,INDEX(РВД!$D:$I,MATCH($C23,РВД!$A:$A,),),)),IF(AG24=\"Я\",INDEX('график 7,8'!$B$5:$AF$16,MONTH($AP$3),AG$11),\"\"))","v":""},{"$f":"IFERROR(INDEX(РВД!$D:$I,MATCH($C23,РВД!$A:$A,)+1,MATCH($N$4+AH$11-1,INDEX(РВД!$D:$I,MATCH($C23,РВД!$A:$A,),),)),IF(AH24=\"Я\",INDEX('график 7,8'!$B$5:$AF$16,MONTH($AP$3),AH$11),\"\"))","v":""},{"$f":"IFERROR(INDEX(РВД!$D:$I,MATCH($C23,РВД!$A:$A,)+1,MATCH($N$4+AI$11-1,INDEX(РВД!$D:$I,MATCH($C23,РВД!$A:$A,),),)),IF(AI24=\"Я\",INDEX('график 7,8'!$B$5:$AF$16,MONTH($AP$3),AI$11),\"\"))","v":7.8},{"$f":"IFERROR(INDEX(РВД!$D:$I,MATCH($C23,РВД!$A:$A,)+1,MATCH($N$4+AJ$11-1,INDEX(РВД!$D:$I,MATCH($C23,РВД!$A:$A,),),)),IF(AJ24=\"Я\",INDEX('график 7,8'!$B$5:$AF$16,MONTH($AP$3),AJ$11),\"\"))","v":7.8},{"$f":"\"Я/\"&SUMIF(E24:AJ24,\"Я\",E23:AJ23)","v":"Я/163,8"},{"$f":"(SUMIF(E24:AJ24,\"В\",E23:AJ23)+SUMIF(E24:AJ24,\"В.\",E23:AJ23))*2","v":0},{"$f":"COUNTIFS(E24:AJ24,\"Я\",E23:AJ23,\"<>\")","v":21},{"$f":"IFERROR(VLOOKUP(C23,доплаты!$A$5:$P$118,16,0),\"\")","v":"17,17,17,30"}]
[null,null,null,null,{"$f":"TRIM(LEFT(TRIM(INDEX(отсутствия!$N:$AR,MATCH($C23,отсутствия!$A:$A,),E$11)&\" \"&TEXT(INDEX('график 7,8'!$B$5:$AF$16,MONTH($AP$3),E$11)&\"\",\"Я\")),2))","v":"В"},{"$f":"TRIM(LEFT(TRIM(INDEX(отсутствия!$N:$AR,MATCH($C23,отсутствия!$A:$A,),F$11)&\" \"&TEXT(INDEX('график 7,8'!$B$5:$AF$16,MONTH($AP$3),F$11)&\"\",\"Я\")),2))","v":"Я"},{"$f":"TRIM(LEFT(TRIM(INDEX(отсутствия!$N:$AR,MATCH($C23,отсутствия!$A:$A,),G$11)&\" \"&TEXT(INDEX('график 7,8'!$B$5:$AF$16,MONTH($AP$3),G$11)&\"\",\"Я\")),2))","v":"Я"},{"$f":"TRIM(LEFT(TRIM(INDEX(отсутствия!$N:$AR,MATCH($C23,отсутствия!$A:$A,),H$11)&\" \"&TEXT(INDEX('график 7,8'!$B$5:$AF$16,MONTH($AP$3),H$11)&\"\",\"Я\")),2))","v":"Я"},{"$f":"TRIM(LEFT(TRIM(INDEX(отсутствия!$N:$AR,MATCH($C23,отсутствия!$A:$A,),I$11)&\" \"&TEXT(INDEX('график 7,8'!$B$5:$AF$16,MONTH($AP$3),I$11)&\"\",\"Я\")),2))","v":"Я"},{"$f":"TRIM(LEFT(TRIM(INDEX(отсутствия!$N:$AR,MATCH($C23,отсутствия!$A:$A,),J$11)&\" \"&TEXT(INDEX('график 7,8'!$B$5:$AF$16,MONTH($AP$3),J$11)&\"\",\"Я\")),2))","v":"Я"},{"$f":"TRIM(LEFT(TRIM(INDEX(отсутствия!$N:$AR,MATCH($C23,отсутствия!$A:$A,),K$11)&\" \"&TEXT(INDEX('график 7,8'!$B$5:$AF$16,MONTH($AP$3),K$11)&\"\",\"Я\")),2))","v":"В"},{"$f":"TRIM(LEFT(TRIM(INDEX(отсутствия!$N:$AR,MATCH($C23,отсутствия!$A:$A,),L$11)&\" \"&TEXT(INDEX('график 7,8'!$B$5:$AF$16,MONTH($AP$3),L$11)&\"\",\"Я\")),2))","v":"В."},{"$f":"TRIM(LEFT(TRIM(INDEX(отсутствия!$N:$AR,MATCH($C23,отсутствия!$A:$A,),M$11)&\" \"&TEXT(INDEX('график 7,8'!$B$5:$AF$16,MONTH($AP$3),M$11)&\"\",\"Я\")),2))","v":"В"},{"$f":"TRIM(LEFT(TRIM(INDEX(отсутствия!$N:$AR,MATCH($C23,отсутствия!$A:$A,),N$11)&\" \"&TEXT(INDEX('график 7,8'!$B$5:$AF$16,MONTH($AP$3),N$11)&\"\",\"Я\")),2))","v":"Я"},{"$f":"TRIM(LEFT(TRIM(INDEX(отсутствия!$N:$AR,MATCH($C23,отсутствия!$A:$A,),O$11)&\" \"&TEXT(INDEX('график 7,8'!$B$5:$AF$16,MONTH($AP$3),O$11)&\"\",\"Я\")),2))","v":"Я"},{"$f":"TRIM(LEFT(TRIM(INDEX(отсутствия!$N:$AR,MATCH($C23,отсутствия!$A:$A,),P$11)&\" \"&TEXT(INDEX('график 7,8'!$B$5:$AF$16,MONTH($AP$3),P$11)&\"\",\"Я\")),2))","v":"Я"},{"$f":"TRIM(LEFT(TRIM(INDEX(отсутствия!$N:$AR,MATCH($C23,отсутствия!$A:$A,),Q$11)&\" \"&TEXT(INDEX('график 7,8'!$B$5:$AF$16,MONTH($AP$3),Q$11)&\"\",\"Я\")),2))","v":"Я"},{"$f":"TRIM(LEFT(TRIM(INDEX(отсутствия!$N:$AR,MATCH($C23,отсутствия!$A:$A,),R$11)&\" \"&TEXT(INDEX('график 7,8'!$B$5:$AF$16,MONTH($AP$3),R$11)&\"\",\"Я\")),2))","v":"В"},{"$f":"TRIM(LEFT(TRIM(INDEX(отсутствия!$N:$AR,MATCH($C23,отсутствия!$A:$A,),S$11)&\" \"&TEXT(INDEX('график 7,8'!$B$5:$AF$16,MONTH($AP$3),S$11)&\"\",\"Я\")),2))","v":"В"},null,{"$f":"TRIM(LEFT(TRIM(INDEX(отсутствия!$N:$AR,MATCH($C23,отсутствия!$A:$A,),U$11)&\" \"&TEXT(INDEX('график 7,8'!$B$5:$AF$16,MONTH($AP$3),U$11)&\"\",\"Я\")),2))","v":"Я"},{"$f":"TRIM(LEFT(TRIM(INDEX(отсутствия!$N:$AR,MATCH($C23,отсутствия!$A:$A,),V$11)&\" \"&TEXT(INDEX('график 7,8'!$B$5:$AF$16,MONTH($AP$3),V$11)&\"\",\"Я\")),2))","v":"Я"},{"$f":"TRIM(LEFT(TRIM(INDEX(отсутствия!$N:$AR,MATCH($C23,отсутствия!$A:$A,),W$11)&\" \"&TEXT(INDEX('график 7,8'!$B$5:$AF$16,MONTH($AP$3),W$11)&\"\",\"Я\")),2))","v":"Я"},{"$f":"TRIM(LEFT(TRIM(INDEX(отсутствия!$N:$AR,MATCH($C23,отсутствия!$A:$A,),X$11)&\" \"&TEXT(INDEX('график 7,8'!$B$5:$AF$16,MONTH($AP$3),X$11)&\"\",\"Я\")),2))","v":"Я"},{"$f":"TRIM(LEFT(TRIM(INDEX(отсутствия!$N:$AR,MATCH($C23,отсутствия!$A:$A,),Y$11)&\" \"&TEXT(INDEX('график 7,8'!$B$5:$AF$16,MONTH($AP$3),Y$11)&\"\",\"Я\")),2))","v":"Я"},{"$f":"TRIM(LEFT(TRIM(INDEX(отсутствия!$N:$AR,MATCH($C23,отсутствия!$A:$A,),Z$11)&\" \"&TEXT(INDEX('график 7,8'!$B$5:$AF$16,MONTH($AP$3),Z$11)&\"\",\"Я\")),2))","v":"В"},{"$f":"TRIM(LEFT(TRIM(INDEX(отсутствия!$N:$AR,MATCH($C23,отсутствия!$A:$A,),AA$11)&\" \"&TEXT(INDEX('график 7,8'!$B$5:$AF$16,MONTH($AP$3),AA$11)&\"\",\"Я\")),2))","v":"В"},{"$f":"TRIM(LEFT(TRIM(INDEX(отсутствия!$N:$AR,MATCH($C23,отсутствия!$A:$A,),AB$11)&\" \"&TEXT(INDEX('график 7,8'!$B$5:$AF$16,MONTH($AP$3),AB$11)&\"\",\"Я\")),2))","v":"Я"},{"$f":"TRIM(LEFT(TRIM(INDEX(отсутствия!$N:$AR,MATCH($C23,отсутствия!$A:$A,),AC$11)&\" \"&TEXT(INDEX('график 7,8'!$B$5:$AF$16,MONTH($AP$3),AC$11)&\"\",\"Я\")),2))","v":"Я"},{"$f":"TRIM(LEFT(TRIM(INDEX(отсутствия!$N:$AR,MATCH($C23,отсутствия!$A:$A,),AD$11)&\" \"&TEXT(INDEX('график 7,8'!$B$5:$AF$16,MONTH($AP$3),AD$11)&\"\",\"Я\")),2))","v":"Я"},{"$f":"TRIM(LEFT(TRIM(INDEX(отсутствия!$N:$AR,MATCH($C23,отсутствия!$A:$A,),AE$11)&\" \"&TEXT(INDEX('график 7,8'!$B$5:$AF$16,MONTH($AP$3),AE$11)&\"\",\"Я\")),2))","v":"Я"},{"$f":"TRIM(LEFT(TRIM(INDEX(отсутствия!$N:$AR,MATCH($C23,отсутствия!$A:$A,),AF$11)&\" \"&TEXT(INDEX('график 7,8'!$B$5:$AF$16,MONTH($AP$3),AF$11)&\"\",\"Я\")),2))","v":"Я"},{"$f":"TRIM(LEFT(TRIM(INDEX(отсутствия!$N:$AR,MATCH($C23,отсутствия!$A:$A,),AG$11)&\" \"&TEXT(INDEX('график 7,8'!$B$5:$AF$16,MONTH($AP$3),AG$11)&\"\",\"Я\")),2))","v":"В"},{"$f":"TRIM(LEFT(TRIM(INDEX(отсутствия!$N:$AR,MATCH($C23,отсутствия!$A:$A,),AH$11)&\" \"&TEXT(INDEX('график 7,8'!$B$5:$AF$16,MONTH($AP$3),AH$11)&\"\",\"Я\")),2))","v":"В"},{"$f":"TRIM(LEFT(TRIM(INDEX(отсутствия!$N:$AR,MATCH($C23,отсутствия!$A:$A,),AI$11)&\" \"&TEXT(INDEX('график 7,8'!$B$5:$AF$16,MONTH($AP$3),AI$11)&\"\",\"Я\")),2))","v":"Я"},{"$f":"TRIM(LEFT(TRIM(INDEX(отсутствия!$N:$AR,MATCH($C23,отсутствия!$A:$A,),AJ$11)&\" \"&TEXT(INDEX('график 7,8'!$B$5:$AF$16,MONTH($AP$3),AJ$11)&\"\",\"Я\")),2))","v":"Я"}]
[2231,"Фитисов",2231,"сборная",{"$f":"IFERROR(INDEX(РВД!$D:$I,MATCH($C25,РВД!$A:$A,)+1,MATCH($N$4+E$11-1,INDEX(РВД!$D:$I,MATCH($C25,РВД!$A:$A,),),)),IF(E26=\"Я\",INDEX('график 7,8'!$B$5:$AF$16,MONTH($AP$3),E$11),\"\"))","v":""},{"$f":"IFERROR(INDEX(РВД!$D:$I,MATCH($C25,РВД!$A:$A,)+1,MATCH($N$4+F$11-1,INDEX(РВД!$D:$I,MATCH($C25,РВД!$A:$A,),),)),IF(F26=\"Я\",INDEX('график 7,8'!$B$5:$AF$16,MONTH($AP$3),F$11),\"\"))","v":7.8},{"$f":"IFERROR(INDEX(РВД!$D:$I,MATCH($C25,РВД!$A:$A,)+1,MATCH($N$4+G$11-1,INDEX(РВД!$D:$I,MATCH($C25,РВД!$A:$A,),),)),IF(G26=\"Я\",INDEX('график 7,8'!$B$5:$AF$16,MONTH($AP$3),G$11),\"\"))","v":7.8},{"$f":"IFERROR(INDEX(РВД!$D:$I,MATCH($C25,РВД!$A:$A,)+1,MATCH($N$4+H$11-1,INDEX(РВД!$D:$I,MATCH($C25,РВД!$A:$A,),),)),IF(H26=\"Я\",INDEX('график 7,8'!$B$5:$AF$16,MONTH($AP$3),H$11),\"\"))","v":7.8},{"$f":"IFERROR(INDEX(РВД!$D:$I,MATCH($C25,РВД!$A:$A,)+1,MATCH($N$4+I$11-1,INDEX(РВД!$D:$I,MATCH($C25,РВД!$A:$A,),),)),IF(I26=\"Я\",INDEX('график 7,8'!$B$5:$AF$16,MONTH($AP$3),I$11),\"\"))","v":7.8},{"$f":"IFERROR(INDEX(РВД!$D:$I,MATCH($C25,РВД!$A:$A,)+1,MATCH($N$4+J$11-1,INDEX(РВД!$D:$I,MATCH($C25,РВД!$A:$A,),),)),IF(J26=\"Я\",INDEX('график 7,8'!$B$5:$AF$16,MONTH($AP$3),J$11),\"\"))","v":7.8},{"$f":"IFERROR(INDEX(РВД!$D:$I,MATCH($C25,РВД!$A:$A,)+1,MATCH($N$4+K$11-1,INDEX(РВД!$D:$I,MATCH($C25,РВД!$A:$A,),),)),IF(K26=\"Я\",INDEX('график 7,8'!$B$5:$AF$16,MONTH($AP$3),K$11),\"\"))","v":""},{"$f":"IFERROR(INDEX(РВД!$D:$I,MATCH($C25,РВД!$A:$A,)+1,MATCH($N$4+L$11-1,INDEX(РВД!$D:$I,MATCH($C25,РВД!$A:$A,),),)),IF(L26=\"Я\",INDEX('график 7,8'!$B$5:$AF$16,MONTH($AP$3),L$11),\"\"))","v":""},{"$f":"IFERROR(INDEX(РВД!$D:$I,MATCH($C25,РВД!$A:$A,)+1,MATCH($N$4+M$11-1,INDEX(РВД!$D:$I,MATCH($C25,РВД!$A:$A,),),)),IF(M26=\"Я\",INDEX('график 7,8'!$B$5:$AF$16,MONTH($AP$3),M$11),\"\"))","v":""},{"$f":"IFERROR(INDEX(РВД!$D:$I,MATCH($C25,РВД!$A:$A,)+1,MATCH($N$4+N$11-1,INDEX(РВД!$D:$I,MATCH($C25,РВД!$A:$A,),),)),IF(N26=\"Я\",INDEX('график 7,8'!$B$5:$AF$16,MONTH($AP$3),N$11),\"\"))","v":7.8},{"$f":"IFERROR(INDEX(РВД!$D:$I,MATCH($C25,РВД!$A:$A,)+1,MATCH($N$4+O$11-1,INDEX(РВД!$D:$I,MATCH($C25,РВД!$A:$A,),),)),IF(O26=\"Я\",INDEX('график 7,8'!$B$5:$AF$16,MONTH($AP$3),O$11),\"\"))","v":7.8},{"$f":"IFERROR(INDEX(РВД!$D:$I,MATCH($C25,РВД!$A:$A,)+1,MATCH($N$4+P$11-1,INDEX(РВД!$D:$I,MATCH($C25,РВД!$A:$A,),),)),IF(P26=\"Я\",INDEX('график 7,8'!$B$5:$AF$16,MONTH($AP$3),P$11),\"\"))","v":7.8},{"$f":"IFERROR(INDEX(РВД!$D:$I,MATCH($C25,РВД!$A:$A,)+1,MATCH($N$4+Q$11-1,INDEX(РВД!$D:$I,MATCH($C25,РВД!$A:$A,),),)),IF(Q26=\"Я\",INDEX('график 7,8'!$B$5:$AF$16,MONTH($AP$3),Q$11),\"\"))","v":7.8},{"$f":"IFERROR(INDEX(РВД!$D:$I,MATCH($C25,РВД!$A:$A,)+1,MATCH($N$4+R$11-1,INDEX(РВД!$D:$I,MATCH($C25,РВД!$A:$A,),),)),IF(R26=\"Я\",INDEX('график 7,8'!$B$5:$AF$16,MONTH($AP$3),R$11),\"\"))","v":""},{"$f":"IFERROR(INDEX(РВД!$D:$I,MATCH($C25,РВД!$A:$A,)+1,MATCH($N$4+S$11-1,INDEX(РВД!$D:$I,MATCH($C25,РВД!$A:$A,),),)),IF(S26=\"Я\",INDEX('график 7,8'!$B$5:$AF$16,MONTH($AP$3),S$11),\"\"))","v":""},{"$f":"SUMIF(E26:S26,\"Я\",E25:S25)","v":70.199999999999989},{"$f":"IFERROR(INDEX(РВД!$D:$I,MATCH($C25,РВД!$A:$A,)+1,MATCH($N$4+U$11-1,INDEX(РВД!$D:$I,MATCH($C25,РВД!$A:$A,),),)),IF(U26=\"Я\",INDEX('график 7,8'!$B$5:$AF$16,MONTH($AP$3),U$11),\"\"))","v":7.8},{"$f":"IFERROR(INDEX(РВД!$D:$I,MATCH($C25,РВД!$A:$A,)+1,MATCH($N$4+V$11-1,INDEX(РВД!$D:$I,MATCH($C25,РВД!$A:$A,),),)),IF(V26=\"Я\",INDEX('график 7,8'!$B$5:$AF$16,MONTH($AP$3),V$11),\"\"))","v":7.8},{"$f":"IFERROR(INDEX(РВД!$D:$I,MATCH($C25,РВД!$A:$A,)+1,MATCH($N$4+W$11-1,INDEX(РВД!$D:$I,MATCH($C25,РВД!$A:$A,),),)),IF(W26=\"Я\",INDEX('график 7,8'!$B$5:$AF$16,MONTH($AP$3),W$11),\"\"))","v":7.8},{"$f":"IFERROR(INDEX(РВД!$D:$I,MATCH($C25,РВД!$A:$A,)+1,MATCH($N$4+X$11-1,INDEX(РВД!$D:$I,MATCH($C25,РВД!$A:$A,),),)),IF(X26=\"Я\",INDEX('график 7,8'!$B$5:$AF$16,MONTH($AP$3),X$11),\"\"))","v":7.8},{"$f":"IFERROR(INDEX(РВД!$D:$I,MATCH($C25,РВД!$A:$A,)+1,MATCH($N$4+Y$11-1,INDEX(РВД!$D:$I,MATCH($C25,РВД!$A:$A,),),)),IF(Y26=\"Я\",INDEX('график 7,8'!$B$5:$AF$16,MONTH($AP$3),Y$11),\"\"))","v":7.8},{"$f":"IFERROR(INDEX(РВД!$D:$I,MATCH($C25,РВД!$A:$A,)+1,MATCH($N$4+Z$11-1,INDEX(РВД!$D:$I,MATCH($C25,РВД!$A:$A,),),)),IF(Z26=\"Я\",INDEX('график 7,8'!$B$5:$AF$16,MONTH($AP$3),Z$11),\"\"))","v":""},{"$f":"IFERROR(INDEX(РВД!$D:$I,MATCH($C25,РВД!$A:$A,)+1,MATCH($N$4+AA$11-1,INDEX(РВД!$D:$I,MATCH($C25,РВД!$A:$A,),),)),IF(AA26=\"Я\",INDEX('график 7,8'!$B$5:$AF$16,MONTH($AP$3),AA$11),\"\"))","v":""},{"$f":"IFERROR(INDEX(РВД!$D:$I,MATCH($C25,РВД!$A:$A,)+1,MATCH($N$4+AB$11-1,INDEX(РВД!$D:$I,MATCH($C25,РВД!$A:$A,),),)),IF(AB26=\"Я\",INDEX('график 7,8'!$B$5:$AF$16,MONTH($AP$3),AB$11),\"\"))","v":7.8},{"$f":"IFERROR(INDEX(РВД!$D:$I,MATCH($C25,РВД!$A:$A,)+1,MATCH($N$4+AC$11-1,INDEX(РВД!$D:$I,MATCH($C25,РВД!$A:$A,),),)),IF(AC26=\"Я\",INDEX('график 7,8'!$B$5:$AF$16,MONTH($AP$3),AC$11),\"\"))","v":7.8},{"$f":"IFERROR(INDEX(РВД!$D:$I,MATCH($C25,РВД!$A:$A,)+1,MATCH($N$4+AD$11-1,INDEX(РВД!$D:$I,MATCH($C25,РВД!$A:$A,),),)),IF(AD26=\"Я\",INDEX('график 7,8'!$B$5:$AF$16,MONTH($AP$3),AD$11),\"\"))","v":7.8},{"$f":"IFERROR(INDEX(РВД!$D:$I,MATCH($C25,РВД!$A:$A,)+1,MATCH($N$4+AE$11-1,INDEX(РВД!$D:$I,MATCH($C25,РВД!$A:$A,),),)),IF(AE26=\"Я\",INDEX('график 7,8'!$B$5:$AF$16,MONTH($AP$3),AE$11),\"\"))","v":7.8},{"$f":"IFERROR(INDEX(РВД!$D:$I,MATCH($C25,РВД!$A:$A,)+1,MATCH($N$4+AF$11-1,INDEX(РВД!$D:$I,MATCH($C25,РВД!$A:$A,),),)),IF(AF26=\"Я\",INDEX('график 7,8'!$B$5:$AF$16,MONTH($AP$3),AF$11),\"\"))","v":7.8},{"$f":"IFERROR(INDEX(РВД!$D:$I,MATCH($C25,РВД!$A:$A,)+1,MATCH($N$4+AG$11-1,INDEX(РВД!$D:$I,MATCH($C25,РВД!$A:$A,),),)),IF(AG26=\"Я\",INDEX('график 7,8'!$B$5:$AF$16,MONTH($AP$3),AG$11),\"\"))","v":""},{"$f":"IFERROR(INDEX(РВД!$D:$I,MATCH($C25,РВД!$A:$A,)+1,MATCH($N$4+AH$11-1,INDEX(РВД!$D:$I,MATCH($C25,РВД!$A:$A,),),)),IF(AH26=\"Я\",INDEX('график 7,8'!$B$5:$AF$16,MONTH($AP$3),AH$11),\"\"))","v":""},{"$f":"IFERROR(INDEX(РВД!$D:$I,MATCH($C25,РВД!$A:$A,)+1,MATCH($N$4+AI$11-1,INDEX(РВД!$D:$I,MATCH($C25,РВД!$A:$A,),),)),IF(AI26=\"Я\",INDEX('график 7,8'!$B$5:$AF$16,MONTH($AP$3),AI$11),\"\"))","v":7.8},{"$f":"IFERROR(INDEX(РВД!$D:$I,MATCH($C25,РВД!$A:$A,)+1,MATCH($N$4+AJ$11-1,INDEX(РВД!$D:$I,MATCH($C25,РВД!$A:$A,),),)),IF(AJ26=\"Я\",INDEX('график 7,8'!$B$5:$AF$16,MONTH($AP$3),AJ$11),\"\"))","v":7.8},{"$f":"\"Я/\"&SUMIF(E26:AJ26,\"Я\",E25:AJ25)","v":"Я/163,8"},{"$f":"(SUMIF(E26:AJ26,\"В\",E25:AJ25)+SUMIF(E26:AJ26,\"В.\",E25:AJ25))*2","v":0},{"$f":"COUNTIFS(E26:AJ26,\"Я\",E25:AJ25,\"<>\")","v":21},{"$f":"IFERROR(VLOOKUP(C25,доплаты!$A$5:$P$118,16,0),\"\")","v":""}]
[null,null,null,null,{"$f":"TRIM(LEFT(TRIM(INDEX(отсутствия!$N:$AR,MATCH($C25,отсутствия!$A:$A,),E$11)&\" \"&TEXT(INDEX('график 7,8'!$B$5:$AF$16,MONTH($AP$3),E$11)&\"\",\"Я\")),2))","v":"В"},{"$f":"TRIM(LEFT(TRIM(INDEX(отсутствия!$N:$AR,MATCH($C25,отсутствия!$A:$A,),F$11)&\" \"&TEXT(INDEX('график 7,8'!$B$5:$AF$16,MONTH($AP$3),F$11)&\"\",\"Я\")),2))","v":"Я"},{"$f":"TRIM(LEFT(TRIM(INDEX(отсутствия!$N:$AR,MATCH($C25,отсутствия!$A:$A,),G$11)&\" \"&TEXT(INDEX('график 7,8'!$B$5:$AF$16,MONTH($AP$3),G$11)&\"\",\"Я\")),2))","v":"Я"},{"$f":"TRIM(LEFT(TRIM(INDEX(отсутствия!$N:$AR,MATCH($C25,отсутствия!$A:$A,),H$11)&\" \"&TEXT(INDEX('график 7,8'!$B$5:$AF$16,MONTH($AP$3),H$11)&\"\",\"Я\")),2))","v":"Я"},{"$f":"TRIM(LEFT(TRIM(INDEX(отсутствия!$N:$AR,MATCH($C25,отсутствия!$A:$A,),I$11)&\" \"&TEXT(INDEX('график 7,8'!$B$5:$AF$16,MONTH($AP$3),I$11)&\"\",\"Я\")),2))","v":"Я"},{"$f":"TRIM(LEFT(TRIM(INDEX(отсутствия!$N:$AR,MATCH($C25,отсутствия!$A:$A,),J$11)&\" \"&TEXT(INDEX('график 7,8'!$B$5:$AF$16,MONTH($AP$3),J$11)&\"\",\"Я\")),2))","v":"Я"},{"$f":"TRIM(LEFT(TRIM(INDEX(отсутствия!$N:$AR,MATCH($C25,отсутствия!$A:$A,),K$11)&\" \"&TEXT(INDEX('график 7,8'!$B$5:$AF$16,MONTH($AP$3),K$11)&\"\",\"Я\")),2))","v":"В"},{"$f":"TRIM(LEFT(TRIM(INDEX(отсутствия!$N:$AR,MATCH($C25,отсутствия!$A:$A,),L$11)&\" \"&TEXT(INDEX('график 7,8'!$B$5:$AF$16,MONTH($AP$3),L$11)&\"\",\"Я\")),2))","v":"В."},{"$f":"TRIM(LEFT(TRIM(INDEX(отсутствия!$N:$AR,MATCH($C25,отсутствия!$A:$A,),M$11)&\" \"&TEXT(INDEX('график 7,8'!$B$5:$AF$16,MONTH($AP$3),M$11)&\"\",\"Я\")),2))","v":"В"},{"$f":"TRIM(LEFT(TRIM(INDEX(отсутствия!$N:$AR,MATCH($C25,отсутствия!$A:$A,),N$11)&\" \"&TEXT(INDEX('график 7,8'!$B$5:$AF$16,MONTH($AP$3),N$11)&\"\",\"Я\")),2))","v":"Я"},{"$f":"TRIM(LEFT(TRIM(INDEX(отсутствия!$N:$AR,MATCH($C25,отсутствия!$A:$A,),O$11)&\" \"&TEXT(INDEX('график 7,8'!$B$5:$AF$16,MONTH($AP$3),O$11)&\"\",\"Я\")),2))","v":"Я"},{"$f":"TRIM(LEFT(TRIM(INDEX(отсутствия!$N:$AR,MATCH($C25,отсутствия!$A:$A,),P$11)&\" \"&TEXT(INDEX('график 7,8'!$B$5:$AF$16,MONTH($AP$3),P$11)&\"\",\"Я\")),2))","v":"Я"},{"$f":"TRIM(LEFT(TRIM(INDEX(отсутствия!$N:$AR,MATCH($C25,отсутствия!$A:$A,),Q$11)&\" \"&TEXT(INDEX('график 7,8'!$B$5:$AF$16,MONTH($AP$3),Q$11)&\"\",\"Я\")),2))","v":"Я"},{"$f":"TRIM(LEFT(TRIM(INDEX(отсутствия!$N:$AR,MATCH($C25,отсутствия!$A:$A,),R$11)&\" \"&TEXT(INDEX('график 7,8'!$B$5:$AF$16,MONTH($AP$3),R$11)&\"\",\"Я\")),2))","v":"В"},{"$f":"TRIM(LEFT(TRIM(INDEX(отсутствия!$N:$AR,MATCH($C25,отсутствия!$A:$A,),S$11)&\" \"&TEXT(INDEX('график 7,8'!$B$5:$AF$16,MONTH($AP$3),S$11)&\"\",\"Я\")),2))","v":"В"},null,{"$f":"TRIM(LEFT(TRIM(INDEX(отсутствия!$N:$AR,MATCH($C25,отсутствия!$A:$A,),U$11)&\" \"&TEXT(INDEX('график 7,8'!$B$5:$AF$16,MONTH($AP$3),U$11)&\"\",\"Я\")),2))","v":"Я"},{"$f":"TRIM(LEFT(TRIM(INDEX(отсутствия!$N:$AR,MATCH($C25,отсутствия!$A:$A,),V$11)&\" \"&TEXT(INDEX('график 7,8'!$B$5:$AF$16,MONTH($AP$3),V$11)&\"\",\"Я\")),2))","v":"Я"},{"$f":"TRIM(LEFT(TRIM(INDEX(отсутствия!$N:$AR,MATCH($C25,отсутствия!$A:$A,),W$11)&\" \"&TEXT(INDEX('график 7,8'!$B$5:$AF$16,MONTH($AP$3),W$11)&\"\",\"Я\")),2))","v":"Я"},{"$f":"TRIM(LEFT(TRIM(INDEX(отсутствия!$N:$AR,MATCH($C25,отсутствия!$A:$A,),X$11)&\" \"&TEXT(INDEX('график 7,8'!$B$5:$AF$16,MONTH($AP$3),X$11)&\"\",\"Я\")),2))","v":"Я"},{"$f":"TRIM(LEFT(TRIM(INDEX(отсутствия!$N:$AR,MATCH($C25,отсутствия!$A:$A,),Y$11)&\" \"&TEXT(INDEX('график 7,8'!$B$5:$AF$16,MONTH($AP$3),Y$11)&\"\",\"Я\")),2))","v":"Я"},{"$f":"TRIM(LEFT(TRIM(INDEX(отсутствия!$N:$AR,MATCH($C25,отсутствия!$A:$A,),Z$11)&\" \"&TEXT(INDEX('график 7,8'!$B$5:$AF$16,MONTH($AP$3),Z$11)&\"\",\"Я\")),2))","v":"В"},{"$f":"TRIM(LEFT(TRIM(INDEX(отсутствия!$N:$AR,MATCH($C25,отсутствия!$A:$A,),AA$11)&\" \"&TEXT(INDEX('график 7,8'!$B$5:$AF$16,MONTH($AP$3),AA$11)&\"\",\"Я\")),2))","v":"В"},{"$f":"TRIM(LEFT(TRIM(INDEX(отсутствия!$N:$AR,MATCH($C25,отсутствия!$A:$A,),AB$11)&\" \"&TEXT(INDEX('график 7,8'!$B$5:$AF$16,MONTH($AP$3),AB$11)&\"\",\"Я\")),2))","v":"Я"},{"$f":"TRIM(LEFT(TRIM(INDEX(отсутствия!$N:$AR,MATCH($C25,отсутствия!$A:$A,),AC$11)&\" \"&TEXT(INDEX('график 7,8'!$B$5:$AF$16,MONTH($AP$3),AC$11)&\"\",\"Я\")),2))","v":"Я"},{"$f":"TRIM(LEFT(TRIM(INDEX(отсутствия!$N:$AR,MATCH($C25,отсутствия!$A:$A,),AD$11)&\" \"&TEXT(INDEX('график 7,8'!$B$5:$AF$16,MONTH($AP$3),AD$11)&\"\",\"Я\")),2))","v":"Я"},{"$f":"TRIM(LEFT(TRIM(INDEX(отсутствия!$N:$AR,MATCH($C25,отсутствия!$A:$A,),AE$11)&\" \"&TEXT(INDEX('график 7,8'!$B$5:$AF$16,MONTH($AP$3),AE$11)&\"\",\"Я\")),2))","v":"Я"},{"$f":"TRIM(LEFT(TRIM(INDEX(отсутствия!$N:$AR,MATCH($C25,отсутствия!$A:$A,),AF$11)&\" \"&TEXT(INDEX('график 7,8'!$B$5:$AF$16,MONTH($AP$3),AF$11)&\"\",\"Я\")),2))","v":"Я"},{"$f":"TRIM(LEFT(TRIM(INDEX(отсутствия!$N:$AR,MATCH($C25,отсутствия!$A:$A,),AG$11)&\" \"&TEXT(INDEX('график 7,8'!$B$5:$AF$16,MONTH($AP$3),AG$11)&\"\",\"Я\")),2))","v":"В"},{"$f":"TRIM(LEFT(TRIM(INDEX(отсутствия!$N:$AR,MATCH($C25,отсутствия!$A:$A,),AH$11)&\" \"&TEXT(INDEX('график 7,8'!$B$5:$AF$16,MONTH($AP$3),AH$11)&\"\",\"Я\")),2))","v":"В"},{"$f":"TRIM(LEFT(TRIM(INDEX(отсутствия!$N:$AR,MATCH($C25,отсутствия!$A:$A,),AI$11)&\" \"&TEXT(INDEX('график 7,8'!$B$5:$AF$16,MONTH($AP$3),AI$11)&\"\",\"Я\")),2))","v":"Я"},{"$f":"TRIM(LEFT(TRIM(INDEX(отсутствия!$N:$AR,MATCH($C25,отсутствия!$A:$A,),AJ$11)&\" \"&TEXT(INDEX('график 7,8'!$B$5:$AF$16,MONTH($AP$3),AJ$11)&\"\",\"Я\")),2))","v":"Я"}]
[4552,"Ларионов",4552,"сборная",{"$f":"IFERROR(INDEX(РВД!$D:$I,MATCH($C27,РВД!$A:$A,)+1,MATCH($N$4+E$11-1,INDEX(РВД!$D:$I,MATCH($C27,РВД!$A:$A,),),)),IF(E28=\"Я\",INDEX('график 7,8'!$B$5:$AF$16,MONTH($AP$3),E$11),\"\"))","v":""},{"$f":"IFERROR(INDEX(РВД!$D:$I,MATCH($C27,РВД!$A:$A,)+1,MATCH($N$4+F$11-1,INDEX(РВД!$D:$I,MATCH($C27,РВД!$A:$A,),),)),IF(F28=\"Я\",INDEX('график 7,8'!$B$5:$AF$16,MONTH($AP$3),F$11),\"\"))","v":7.8},{"$f":"IFERROR(INDEX(РВД!$D:$I,MATCH($C27,РВД!$A:$A,)+1,MATCH($N$4+G$11-1,INDEX(РВД!$D:$I,MATCH($C27,РВД!$A:$A,),),)),IF(G28=\"Я\",INDEX('график 7,8'!$B$5:$AF$16,MONTH($AP$3),G$11),\"\"))","v":7.8},{"$f":"IFERROR(INDEX(РВД!$D:$I,MATCH($C27,РВД!$A:$A,)+1,MATCH($N$4+H$11-1,INDEX(РВД!$D:$I,MATCH($C27,РВД!$A:$A,),),)),IF(H28=\"Я\",INDEX('график 7,8'!$B$5:$AF$16,MONTH($AP$3),H$11),\"\"))","v":7.8},{"$f":"IFERROR(INDEX(РВД!$D:$I,MATCH($C27,РВД!$A:$A,)+1,MATCH($N$4+I$11-1,INDEX(РВД!$D:$I,MATCH($C27,РВД!$A:$A,),),)),IF(I28=\"Я\",INDEX('график 7,8'!$B$5:$AF$16,MONTH($AP$3),I$11),\"\"))","v":7.8},{"$f":"IFERROR(INDEX(РВД!$D:$I,MATCH($C27,РВД!$A:$A,)+1,MATCH($N$4+J$11-1,INDEX(РВД!$D:$I,MATCH($C27,РВД!$A:$A,),),)),IF(J28=\"Я\",INDEX('график 7,8'!$B$5:$AF$16,MONTH($AP$3),J$11),\"\"))","v":7.8},{"$f":"IFERROR(INDEX(РВД!$D:$I,MATCH($C27,РВД!$A:$A,)+1,MATCH($N$4+K$11-1,INDEX(РВД!$D:$I,MATCH($C27,РВД!$A:$A,),),)),IF(K28=\"Я\",INDEX('график 7,8'!$B$5:$AF$16,MONTH($AP$3),K$11),\"\"))","v":""},{"$f":"IFERROR(INDEX(РВД!$D:$I,MATCH($C27,РВД!$A:$A,)+1,MATCH($N$4+L$11-1,INDEX(РВД!$D:$I,MATCH($C27,РВД!$A:$A,),),)),IF(L28=\"Я\",INDEX('график 7,8'!$B$5:$AF$16,MONTH($AP$3),L$11),\"\"))","v":""},{"$f":"IFERROR(INDEX(РВД!$D:$I,MATCH($C27,РВД!$A:$A,)+1,MATCH($N$4+M$11-1,INDEX(РВД!$D:$I,MATCH($C27,РВД!$A:$A,),),)),IF(M28=\"Я\",INDEX('график 7,8'!$B$5:$AF$16,MONTH($AP$3),M$11),\"\"))","v":""},{"$f":"IFERROR(INDEX(РВД!$D:$I,MATCH($C27,РВД!$A:$A,)+1,MATCH($N$4+N$11-1,INDEX(РВД!$D:$I,MATCH($C27,РВД!$A:$A,),),)),IF(N28=\"Я\",INDEX('график 7,8'!$B$5:$AF$16,MONTH($AP$3),N$11),\"\"))","v":7.8},{"$f":"IFERROR(INDEX(РВД!$D:$I,MATCH($C27,РВД!$A:$A,)+1,MATCH($N$4+O$11-1,INDEX(РВД!$D:$I,MATCH($C27,РВД!$A:$A,),),)),IF(O28=\"Я\",INDEX('график 7,8'!$B$5:$AF$16,MONTH($AP$3),O$11),\"\"))","v":7.8},{"$f":"IFERROR(INDEX(РВД!$D:$I,MATCH($C27,РВД!$A:$A,)+1,MATCH($N$4+P$11-1,INDEX(РВД!$D:$I,MATCH($C27,РВД!$A:$A,),),)),IF(P28=\"Я\",INDEX('график 7,8'!$B$5:$AF$16,MONTH($AP$3),P$11),\"\"))","v":7.8},{"$f":"IFERROR(INDEX(РВД!$D:$I,MATCH($C27,РВД!$A:$A,)+1,MATCH($N$4+Q$11-1,INDEX(РВД!$D:$I,MATCH($C27,РВД!$A:$A,),),)),IF(Q28=\"Я\",INDEX('график 7,8'!$B$5:$AF$16,MONTH($AP$3),Q$11),\"\"))","v":7.8},{"$f":"IFERROR(INDEX(РВД!$D:$I,MATCH($C27,РВД!$A:$A,)+1,MATCH($N$4+R$11-1,INDEX(РВД!$D:$I,MATCH($C27,РВД!$A:$A,),),)),IF(R28=\"Я\",INDEX('график 7,8'!$B$5:$AF$16,MONTH($AP$3),R$11),\"\"))","v":""},{"$f":"IFERROR(INDEX(РВД!$D:$I,MATCH($C27,РВД!$A:$A,)+1,MATCH($N$4+S$11-1,INDEX(РВД!$D:$I,MATCH($C27,РВД!$A:$A,),),)),IF(S28=\"Я\",INDEX('график 7,8'!$B$5:$AF$16,MONTH($AP$3),S$11),\"\"))","v":""},{"$f":"SUMIF(E28:S28,\"Я\",E27:S27)","v":70.199999999999989},{"$f":"IFERROR(INDEX(РВД!$D:$I,MATCH($C27,РВД!$A:$A,)+1,MATCH($N$4+U$11-1,INDEX(РВД!$D:$I,MATCH($C27,РВД!$A:$A,),),)),IF(U28=\"Я\",INDEX('график 7,8'!$B$5:$AF$16,MONTH($AP$3),U$11),\"\"))","v":7.8},{"$f":"IFERROR(INDEX(РВД!$D:$I,MATCH($C27,РВД!$A:$A,)+1,MATCH($N$4+V$11-1,INDEX(РВД!$D:$I,MATCH($C27,РВД!$A:$A,),),)),IF(V28=\"Я\",INDEX('график 7,8'!$B$5:$AF$16,MONTH($AP$3),V$11),\"\"))","v":7.8},{"$f":"IFERROR(INDEX(РВД!$D:$I,MATCH($C27,РВД!$A:$A,)+1,MATCH($N$4+W$11-1,INDEX(РВД!$D:$I,MATCH($C27,РВД!$A:$A,),),)),IF(W28=\"Я\",INDEX('график 7,8'!$B$5:$AF$16,MONTH($AP$3),W$11),\"\"))","v":7.8},{"$f":"IFERROR(INDEX(РВД!$D:$I,MATCH($C27,РВД!$A:$A,)+1,MATCH($N$4+X$11-1,INDEX(РВД!$D:$I,MATCH($C27,РВД!$A:$A,),),)),IF(X28=\"Я\",INDEX('график 7,8'!$B$5:$AF$16,MONTH($AP$3),X$11),\"\"))","v":7.8},{"$f":"IFERROR(INDEX(РВД!$D:$I,MATCH($C27,РВД!$A:$A,)+1,MATCH($N$4+Y$11-1,INDEX(РВД!$D:$I,MATCH($C27,РВД!$A:$A,),),)),IF(Y28=\"Я\",INDEX('график 7,8'!$B$5:$AF$16,MONTH($AP$3),Y$11),\"\"))","v":7.8},{"$f":"IFERROR(INDEX(РВД!$D:$I,MATCH($C27,РВД!$A:$A,)+1,MATCH($N$4+Z$11-1,INDEX(РВД!$D:$I,MATCH($C27,РВД!$A:$A,),),)),IF(Z28=\"Я\",INDEX('график 7,8'!$B$5:$AF$16,MONTH($AP$3),Z$11),\"\"))","v":""},{"$f":"IFERROR(INDEX(РВД!$D:$I,MATCH($C27,РВД!$A:$A,)+1,MATCH($N$4+AA$11-1,INDEX(РВД!$D:$I,MATCH($C27,РВД!$A:$A,),),)),IF(AA28=\"Я\",INDEX('график 7,8'!$B$5:$AF$16,MONTH($AP$3),AA$11),\"\"))","v":""},{"$f":"IFERROR(INDEX(РВД!$D:$I,MATCH($C27,РВД!$A:$A,)+1,MATCH($N$4+AB$11-1,INDEX(РВД!$D:$I,MATCH($C27,РВД!$A:$A,),),)),IF(AB28=\"Я\",INDEX('график 7,8'!$B$5:$AF$16,MONTH($AP$3),AB$11),\"\"))","v":7.8},{"$f":"IFERROR(INDEX(РВД!$D:$I,MATCH($C27,РВД!$A:$A,)+1,MATCH($N$4+AC$11-1,INDEX(РВД!$D:$I,MATCH($C27,РВД!$A:$A,),),)),IF(AC28=\"Я\",INDEX('график 7,8'!$B$5:$AF$16,MONTH($AP$3),AC$11),\"\"))","v":7.8},{"$f":"IFERROR(INDEX(РВД!$D:$I,MATCH($C27,РВД!$A:$A,)+1,MATCH($N$4+AD$11-1,INDEX(РВД!$D:$I,MATCH($C27,РВД!$A:$A,),),)),IF(AD28=\"Я\",INDEX('график 7,8'!$B$5:$AF$16,MONTH($AP$3),AD$11),\"\"))","v":7.8},{"$f":"IFERROR(INDEX(РВД!$D:$I,MATCH($C27,РВД!$A:$A,)+1,MATCH($N$4+AE$11-1,INDEX(РВД!$D:$I,MATCH($C27,РВД!$A:$A,),),)),IF(AE28=\"Я\",INDEX('график 7,8'!$B$5:$AF$16,MONTH($AP$3),AE$11),\"\"))","v":7.8},{"$f":"IFERROR(INDEX(РВД!$D:$I,MATCH($C27,РВД!$A:$A,)+1,MATCH($N$4+AF$11-1,INDEX(РВД!$D:$I,MATCH($C27,РВД!$A:$A,),),)),IF(AF28=\"Я\",INDEX('график 7,8'!$B$5:$AF$16,MONTH($AP$3),AF$11),\"\"))","v":7.8},{"$f":"IFERROR(INDEX(РВД!$D:$I,MATCH($C27,РВД!$A:$A,)+1,MATCH($N$4+AG$11-1,INDEX(РВД!$D:$I,MATCH($C27,РВД!$A:$A,),),)),IF(AG28=\"Я\",INDEX('график 7,8'!$B$5:$AF$16,MONTH($AP$3),AG$11),\"\"))","v":""},{"$f":"IFERROR(INDEX(РВД!$D:$I,MATCH($C27,РВД!$A:$A,)+1,MATCH($N$4+AH$11-1,INDEX(РВД!$D:$I,MATCH($C27,РВД!$A:$A,),),)),IF(AH28=\"Я\",INDEX('график 7,8'!$B$5:$AF$16,MONTH($AP$3),AH$11),\"\"))","v":""},{"$f":"IFERROR(INDEX(РВД!$D:$I,MATCH($C27,РВД!$A:$A,)+1,MATCH($N$4+AI$11-1,INDEX(РВД!$D:$I,MATCH($C27,РВД!$A:$A,),),)),IF(AI28=\"Я\",INDEX('график 7,8'!$B$5:$AF$16,MONTH($AP$3),AI$11),\"\"))","v":7.8},{"$f":"IFERROR(INDEX(РВД!$D:$I,MATCH($C27,РВД!$A:$A,)+1,MATCH($N$4+AJ$11-1,INDEX(РВД!$D:$I,MATCH($C27,РВД!$A:$A,),),)),IF(AJ28=\"Я\",INDEX('график 7,8'!$B$5:$AF$16,MONTH($AP$3),AJ$11),\"\"))","v":7.8},{"$f":"\"Я/\"&SUMIF(E28:AJ28,\"Я\",E27:AJ27)","v":"Я/163,8"},{"$f":"(SUMIF(E28:AJ28,\"В\",E27:AJ27)+SUMIF(E28:AJ28,\"В.\",E27:AJ27))*2","v":0},{"$f":"COUNTIFS(E28:AJ28,\"Я\",E27:AJ27,\"<>\")","v":21},{"$f":"IFERROR(VLOOKUP(C27,доплаты!$A$5:$P$118,16,0),\"\")","v":"24"}]
[null,null,null,null,{"$f":"TRIM(LEFT(TRIM(INDEX(отсутствия!$N:$AR,MATCH($C27,отсутствия!$A:$A,),E$11)&\" \"&TEXT(INDEX('график 7,8'!$B$5:$AF$16,MONTH($AP$3),E$11)&\"\",\"Я\")),2))","v":"В"},{"$f":"TRIM(LEFT(TRIM(INDEX(отсутствия!$N:$AR,MATCH($C27,отсутствия!$A:$A,),F$11)&\" \"&TEXT(INDEX('график 7,8'!$B$5:$AF$16,MONTH($AP$3),F$11)&\"\",\"Я\")),2))","v":"Я"},{"$f":"TRIM(LEFT(TRIM(INDEX(отсутствия!$N:$AR,MATCH($C27,отсутствия!$A:$A,),G$11)&\" \"&TEXT(INDEX('график 7,8'!$B$5:$AF$16,MONTH($AP$3),G$11)&\"\",\"Я\")),2))","v":"Я"},{"$f":"TRIM(LEFT(TRIM(INDEX(отсутствия!$N:$AR,MATCH($C27,отсутствия!$A:$A,),H$11)&\" \"&TEXT(INDEX('график 7,8'!$B$5:$AF$16,MONTH($AP$3),H$11)&\"\",\"Я\")),2))","v":"Я"},{"$f":"TRIM(LEFT(TRIM(INDEX(отсутствия!$N:$AR,MATCH($C27,отсутствия!$A:$A,),I$11)&\" \"&TEXT(INDEX('график 7,8'!$B$5:$AF$16,MONTH($AP$3),I$11)&\"\",\"Я\")),2))","v":"Я"},{"$f":"TRIM(LEFT(TRIM(INDEX(отсутствия!$N:$AR,MATCH($C27,отсутствия!$A:$A,),J$11)&\" \"&TEXT(INDEX('график 7,8'!$B$5:$AF$16,MONTH($AP$3),J$11)&\"\",\"Я\")),2))","v":"Я"},{"$f":"TRIM(LEFT(TRIM(INDEX(отсутствия!$N:$AR,MATCH($C27,отсутствия!$A:$A,),K$11)&\" \"&TEXT(INDEX('график 7,8'!$B$5:$AF$16,MONTH($AP$3),K$11)&\"\",\"Я\")),2))","v":"В"},{"$f":"TRIM(LEFT(TRIM(INDEX(отсутствия!$N:$AR,MATCH($C27,отсутствия!$A:$A,),L$11)&\" \"&TEXT(INDEX('график 7,8'!$B$5:$AF$16,MONTH($AP$3),L$11)&\"\",\"Я\")),2))","v":"В."},{"$f":"TRIM(LEFT(TRIM(INDEX(отсутствия!$N:$AR,MATCH($C27,отсутствия!$A:$A,),M$11)&\" \"&TEXT(INDEX('график 7,8'!$B$5:$AF$16,MONTH($AP$3),M$11)&\"\",\"Я\")),2))","v":"В"},{"$f":"TRIM(LEFT(TRIM(INDEX(отсутствия!$N:$AR,MATCH($C27,отсутствия!$A:$A,),N$11)&\" \"&TEXT(INDEX('график 7,8'!$B$5:$AF$16,MONTH($AP$3),N$11)&\"\",\"Я\")),2))","v":"Я"},{"$f":"TRIM(LEFT(TRIM(INDEX(отсутствия!$N:$AR,MATCH($C27,отсутствия!$A:$A,),O$11)&\" \"&TEXT(INDEX('график 7,8'!$B$5:$AF$16,MONTH($AP$3),O$11)&\"\",\"Я\")),2))","v":"Я"},{"$f":"TRIM(LEFT(TRIM(INDEX(отсутствия!$N:$AR,MATCH($C27,отсутствия!$A:$A,),P$11)&\" \"&TEXT(INDEX('график 7,8'!$B$5:$AF$16,MONTH($AP$3),P$11)&\"\",\"Я\")),2))","v":"Я"},{"$f":"TRIM(LEFT(TRIM(INDEX(отсутствия!$N:$AR,MATCH($C27,отсутствия!$A:$A,),Q$11)&\" \"&TEXT(INDEX('график 7,8'!$B$5:$AF$16,MONTH($AP$3),Q$11)&\"\",\"Я\")),2))","v":"Я"},{"$f":"TRIM(LEFT(TRIM(INDEX(отсутствия!$N:$AR,MATCH($C27,отсутствия!$A:$A,),R$11)&\" \"&TEXT(INDEX('график 7,8'!$B$5:$AF$16,MONTH($AP$3),R$11)&\"\",\"Я\")),2))","v":"В"},{"$f":"TRIM(LEFT(TRIM(INDEX(отсутствия!$N:$AR,MATCH($C27,отсутствия!$A:$A,),S$11)&\" \"&TEXT(INDEX('график 7,8'!$B$5:$AF$16,MONTH($AP$3),S$11)&\"\",\"Я\")),2))","v":"В"},null,{"$f":"TRIM(LEFT(TRIM(INDEX(отсутствия!$N:$AR,MATCH($C27,отсутствия!$A:$A,),U$11)&\" \"&TEXT(INDEX('график 7,8'!$B$5:$AF$16,MONTH($AP$3),U$11)&\"\",\"Я\")),2))","v":"Я"},{"$f":"TRIM(LEFT(TRIM(INDEX(отсутствия!$N:$AR,MATCH($C27,отсутствия!$A:$A,),V$11)&\" \"&TEXT(INDEX('график 7,8'!$B$5:$AF$16,MONTH($AP$3),V$11)&\"\",\"Я\")),2))","v":"Я"},{"$f":"TRIM(LEFT(TRIM(INDEX(отсутствия!$N:$AR,MATCH($C27,отсутствия!$A:$A,),W$11)&\" \"&TEXT(INDEX('график 7,8'!$B$5:$AF$16,MONTH($AP$3),W$11)&\"\",\"Я\")),2))","v":"Я"},{"$f":"TRIM(LEFT(TRIM(INDEX(отсутствия!$N:$AR,MATCH($C27,отсутствия!$A:$A,),X$11)&\" \"&TEXT(INDEX('график 7,8'!$B$5:$AF$16,MONTH($AP$3),X$11)&\"\",\"Я\")),2))","v":"Я"},{"$f":"TRIM(LEFT(TRIM(INDEX(отсутствия!$N:$AR,MATCH($C27,отсутствия!$A:$A,),Y$11)&\" \"&TEXT(INDEX('график 7,8'!$B$5:$AF$16,MONTH($AP$3),Y$11)&\"\",\"Я\")),2))","v":"Я"},{"$f":"TRIM(LEFT(TRIM(INDEX(отсутствия!$N:$AR,MATCH($C27,отсутствия!$A:$A,),Z$11)&\" \"&TEXT(INDEX('график 7,8'!$B$5:$AF$16,MONTH($AP$3),Z$11)&\"\",\"Я\")),2))","v":"В"},{"$f":"TRIM(LEFT(TRIM(INDEX(отсутствия!$N:$AR,MATCH($C27,отсутствия!$A:$A,),AA$11)&\" \"&TEXT(INDEX('график 7,8'!$B$5:$AF$16,MONTH($AP$3),AA$11)&\"\",\"Я\")),2))","v":"В"},{"$f":"TRIM(LEFT(TRIM(INDEX(отсутствия!$N:$AR,MATCH($C27,отсутствия!$A:$A,),AB$11)&\" \"&TEXT(INDEX('график 7,8'!$B$5:$AF$16,MONTH($AP$3),AB$11)&\"\",\"Я\")),2))","v":"Я"},{"$f":"TRIM(LEFT(TRIM(INDEX(отсутствия!$N:$AR,MATCH($C27,отсутствия!$A:$A,),AC$11)&\" \"&TEXT(INDEX('график 7,8'!$B$5:$AF$16,MONTH($AP$3),AC$11)&\"\",\"Я\")),2))","v":"Я"},{"$f":"TRIM(LEFT(TRIM(INDEX(отсутствия!$N:$AR,MATCH($C27,отсутствия!$A:$A,),AD$11)&\" \"&TEXT(INDEX('график 7,8'!$B$5:$AF$16,MONTH($AP$3),AD$11)&\"\",\"Я\")),2))","v":"Я"},{"$f":"TRIM(LEFT(TRIM(INDEX(отсутствия!$N:$AR,MATCH($C27,отсутствия!$A:$A,),AE$11)&\" \"&TEXT(INDEX('график 7,8'!$B$5:$AF$16,MONTH($AP$3),AE$11)&\"\",\"Я\")),2))","v":"Я"},{"$f":"TRIM(LEFT(TRIM(INDEX(отсутствия!$N:$AR,MATCH($C27,отсутствия!$A:$A,),AF$11)&\" \"&TEXT(INDEX('график 7,8'!$B$5:$AF$16,MONTH($AP$3),AF$11)&\"\",\"Я\")),2))","v":"Я"},{"$f":"TRIM(LEFT(TRIM(INDEX(отсутствия!$N:$AR,MATCH($C27,отсутствия!$A:$A,),AG$11)&\" \"&TEXT(INDEX('график 7,8'!$B$5:$AF$16,MONTH($AP$3),AG$11)&\"\",\"Я\")),2))","v":"В"},{"$f":"TRIM(LEFT(TRIM(INDEX(отсутствия!$N:$AR,MATCH($C27,отсутствия!$A:$A,),AH$11)&\" \"&TEXT(INDEX('график 7,8'!$B$5:$AF$16,MONTH($AP$3),AH$11)&\"\",\"Я\")),2))","v":"В"},{"$f":"TRIM(LEFT(TRIM(INDEX(отсутствия!$N:$AR,MATCH($C27,отсутствия!$A:$A,),AI$11)&\" \"&TEXT(INDEX('график 7,8'!$B$5:$AF$16,MONTH($AP$3),AI$11)&\"\",\"Я\")),2))","v":"Я"},{"$f":"TRIM(LEFT(TRIM(INDEX(отсутствия!$N:$AR,MATCH($C27,отсутствия!$A:$A,),AJ$11)&\" \"&TEXT(INDEX('график 7,8'!$B$5:$AF$16,MONTH($AP$3),AJ$11)&\"\",\"Я\")),2))","v":"Я"}]
[2833,"Макаров",2833,"сборная",{"$f":"IFERROR(INDEX(РВД!$D:$I,MATCH($C29,РВД!$A:$A,)+1,MATCH($N$4+E$11-1,INDEX(РВД!$D:$I,MATCH($C29,РВД!$A:$A,),),)),IF(E30=\"Я\",INDEX('график 7,8'!$B$5:$AF$16,MONTH($AP$3),E$11),\"\"))","v":""},{"$f":"IFERROR(INDEX(РВД!$D:$I,MATCH($C29,РВД!$A:$A,)+1,MATCH($N$4+F$11-1,INDEX(РВД!$D:$I,MATCH($C29,РВД!$A:$A,),),)),IF(F30=\"Я\",INDEX('график 7,8'!$B$5:$AF$16,MONTH($AP$3),F$11),\"\"))","v":7.8},{"$f":"IFERROR(INDEX(РВД!$D:$I,MATCH($C29,РВД!$A:$A,)+1,MATCH($N$4+G$11-1,INDEX(РВД!$D:$I,MATCH($C29,РВД!$A:$A,),),)),IF(G30=\"Я\",INDEX('график 7,8'!$B$5:$AF$16,MONTH($AP$3),G$11),\"\"))","v":7.8},{"$f":"IFERROR(INDEX(РВД!$D:$I,MATCH($C29,РВД!$A:$A,)+1,MATCH($N$4+H$11-1,INDEX(РВД!$D:$I,MATCH($C29,РВД!$A:$A,),),)),IF(H30=\"Я\",INDEX('график 7,8'!$B$5:$AF$16,MONTH($AP$3),H$11),\"\"))","v":7.8},{"$f":"IFERROR(INDEX(РВД!$D:$I,MATCH($C29,РВД!$A:$A,)+1,MATCH($N$4+I$11-1,INDEX(РВД!$D:$I,MATCH($C29,РВД!$A:$A,),),)),IF(I30=\"Я\",INDEX('график 7,8'!$B$5:$AF$16,MONTH($AP$3),I$11),\"\"))","v":7.8},{"$f":"IFERROR(INDEX(РВД!$D:$I,MATCH($C29,РВД!$A:$A,)+1,MATCH($N$4+J$11-1,INDEX(РВД!$D:$I,MATCH($C29,РВД!$A:$A,),),)),IF(J30=\"Я\",INDEX('график 7,8'!$B$5:$AF$16,MONTH($AP$3),J$11),\"\"))","v":7.8},{"$f":"IFERROR(INDEX(РВД!$D:$I,MATCH($C29,РВД!$A:$A,)+1,MATCH($N$4+K$11-1,INDEX(РВД!$D:$I,MATCH($C29,РВД!$A:$A,),),)),IF(K30=\"Я\",INDEX('график 7,8'!$B$5:$AF$16,MONTH($AP$3),K$11),\"\"))","v":""},{"$f":"IFERROR(INDEX(РВД!$D:$I,MATCH($C29,РВД!$A:$A,)+1,MATCH($N$4+L$11-1,INDEX(РВД!$D:$I,MATCH($C29,РВД!$A:$A,),),)),IF(L30=\"Я\",INDEX('график 7,8'!$B$5:$AF$16,MONTH($AP$3),L$11),\"\"))","v":""},{"$f":"IFERROR(INDEX(РВД!$D:$I,MATCH($C29,РВД!$A:$A,)+1,MATCH($N$4+M$11-1,INDEX(РВД!$D:$I,MATCH($C29,РВД!$A:$A,),),)),IF(M30=\"Я\",INDEX('график 7,8'!$B$5:$AF$16,MONTH($AP$3),M$11),\"\"))","v":""},{"$f":"IFERROR(INDEX(РВД!$D:$I,MATCH($C29,РВД!$A:$A,)+1,MATCH($N$4+N$11-1,INDEX(РВД!$D:$I,MATCH($C29,РВД!$A:$A,),),)),IF(N30=\"Я\",INDEX('график 7,8'!$B$5:$AF$16,MONTH($AP$3),N$11),\"\"))","v":7.8},{"$f":"IFERROR(INDEX(РВД!$D:$I,MATCH($C29,РВД!$A:$A,)+1,MATCH($N$4+O$11-1,INDEX(РВД!$D:$I,MATCH($C29,РВД!$A:$A,),),)),IF(O30=\"Я\",INDEX('график 7,8'!$B$5:$AF$16,MONTH($AP$3),O$11),\"\"))","v":7.8},{"$f":"IFERROR(INDEX(РВД!$D:$I,MATCH($C29,РВД!$A:$A,)+1,MATCH($N$4+P$11-1,INDEX(РВД!$D:$I,MATCH($C29,РВД!$A:$A,),),)),IF(P30=\"Я\",INDEX('график 7,8'!$B$5:$AF$16,MONTH($AP$3),P$11),\"\"))","v":7.8},{"$f":"IFERROR(INDEX(РВД!$D:$I,MATCH($C29,РВД!$A:$A,)+1,MATCH($N$4+Q$11-1,INDEX(РВД!$D:$I,MATCH($C29,РВД!$A:$A,),),)),IF(Q30=\"Я\",INDEX('график 7,8'!$B$5:$AF$16,MONTH($AP$3),Q$11),\"\"))","v":7.8},{"$f":"IFERROR(INDEX(РВД!$D:$I,MATCH($C29,РВД!$A:$A,)+1,MATCH($N$4+R$11-1,INDEX(РВД!$D:$I,MATCH($C29,РВД!$A:$A,),),)),IF(R30=\"Я\",INDEX('график 7,8'!$B$5:$AF$16,MONTH($AP$3),R$11),\"\"))","v":""},{"$f":"IFERROR(INDEX(РВД!$D:$I,MATCH($C29,РВД!$A:$A,)+1,MATCH($N$4+S$11-1,INDEX(РВД!$D:$I,MATCH($C29,РВД!$A:$A,),),)),IF(S30=\"Я\",INDEX('график 7,8'!$B$5:$AF$16,MONTH($AP$3),S$11),\"\"))","v":""},{"$f":"SUMIF(E30:S30,\"Я\",E29:S29)","v":70.199999999999989},{"$f":"IFERROR(INDEX(РВД!$D:$I,MATCH($C29,РВД!$A:$A,)+1,MATCH($N$4+U$11-1,INDEX(РВД!$D:$I,MATCH($C29,РВД!$A:$A,),),)),IF(U30=\"Я\",INDEX('график 7,8'!$B$5:$AF$16,MONTH($AP$3),U$11),\"\"))","v":7.8},{"$f":"IFERROR(INDEX(РВД!$D:$I,MATCH($C29,РВД!$A:$A,)+1,MATCH($N$4+V$11-1,INDEX(РВД!$D:$I,MATCH($C29,РВД!$A:$A,),),)),IF(V30=\"Я\",INDEX('график 7,8'!$B$5:$AF$16,MONTH($AP$3),V$11),\"\"))","v":7.8},{"$f":"IFERROR(INDEX(РВД!$D:$I,MATCH($C29,РВД!$A:$A,)+1,MATCH($N$4+W$11-1,INDEX(РВД!$D:$I,MATCH($C29,РВД!$A:$A,),),)),IF(W30=\"Я\",INDEX('график 7,8'!$B$5:$AF$16,MONTH($AP$3),W$11),\"\"))","v":7.8},{"$f":"IFERROR(INDEX(РВД!$D:$I,MATCH($C29,РВД!$A:$A,)+1,MATCH($N$4+X$11-1,INDEX(РВД!$D:$I,MATCH($C29,РВД!$A:$A,),),)),IF(X30=\"Я\",INDEX('график 7,8'!$B$5:$AF$16,MONTH($AP$3),X$11),\"\"))","v":7.8},{"$f":"IFERROR(INDEX(РВД!$D:$I,MATCH($C29,РВД!$A:$A,)+1,MATCH($N$4+Y$11-1,INDEX(РВД!$D:$I,MATCH($C29,РВД!$A:$A,),),)),IF(Y30=\"Я\",INDEX('график 7,8'!$B$5:$AF$16,MONTH($AP$3),Y$11),\"\"))","v":7.8},{"$f":"IFERROR(INDEX(РВД!$D:$I,MATCH($C29,РВД!$A:$A,)+1,MATCH($N$4+Z$11-1,INDEX(РВД!$D:$I,MATCH($C29,РВД!$A:$A,),),)),IF(Z30=\"Я\",INDEX('график 7,8'!$B$5:$AF$16,MONTH($AP$3),Z$11),\"\"))","v":""},{"$f":"IFERROR(INDEX(РВД!$D:$I,MATCH($C29,РВД!$A:$A,)+1,MATCH($N$4+AA$11-1,INDEX(РВД!$D:$I,MATCH($C29,РВД!$A:$A,),),)),IF(AA30=\"Я\",INDEX('график 7,8'!$B$5:$AF$16,MONTH($AP$3),AA$11),\"\"))","v":""},{"$f":"IFERROR(INDEX(РВД!$D:$I,MATCH($C29,РВД!$A:$A,)+1,MATCH($N$4+AB$11-1,INDEX(РВД!$D:$I,MATCH($C29,РВД!$A:$A,),),)),IF(AB30=\"Я\",INDEX('график 7,8'!$B$5:$AF$16,MONTH($AP$3),AB$11),\"\"))","v":7.8},{"$f":"IFERROR(INDEX(РВД!$D:$I,MATCH($C29,РВД!$A:$A,)+1,MATCH($N$4+AC$11-1,INDEX(РВД!$D:$I,MATCH($C29,РВД!$A:$A,),),)),IF(AC30=\"Я\",INDEX('график 7,8'!$B$5:$AF$16,MONTH($AP$3),AC$11),\"\"))","v":7.8},{"$f":"IFERROR(INDEX(РВД!$D:$I,MATCH($C29,РВД!$A:$A,)+1,MATCH($N$4+AD$11-1,INDEX(РВД!$D:$I,MATCH($C29,РВД!$A:$A,),),)),IF(AD30=\"Я\",INDEX('график 7,8'!$B$5:$AF$16,MONTH($AP$3),AD$11),\"\"))","v":7.8},{"$f":"IFERROR(INDEX(РВД!$D:$I,MATCH($C29,РВД!$A:$A,)+1,MATCH($N$4+AE$11-1,INDEX(РВД!$D:$I,MATCH($C29,РВД!$A:$A,),),)),IF(AE30=\"Я\",INDEX('график 7,8'!$B$5:$AF$16,MONTH($AP$3),AE$11),\"\"))","v":7.8},{"$f":"IFERROR(INDEX(РВД!$D:$I,MATCH($C29,РВД!$A:$A,)+1,MATCH($N$4+AF$11-1,INDEX(РВД!$D:$I,MATCH($C29,РВД!$A:$A,),),)),IF(AF30=\"Я\",INDEX('график 7,8'!$B$5:$AF$16,MONTH($AP$3),AF$11),\"\"))","v":7.8},{"$f":"IFERROR(INDEX(РВД!$D:$I,MATCH($C29,РВД!$A:$A,)+1,MATCH($N$4+AG$11-1,INDEX(РВД!$D:$I,MATCH($C29,РВД!$A:$A,),),)),IF(AG30=\"Я\",INDEX('график 7,8'!$B$5:$AF$16,MONTH($AP$3),AG$11),\"\"))","v":""},{"$f":"IFERROR(INDEX(РВД!$D:$I,MATCH($C29,РВД!$A:$A,)+1,MATCH($N$4+AH$11-1,INDEX(РВД!$D:$I,MATCH($C29,РВД!$A:$A,),),)),IF(AH30=\"Я\",INDEX('график 7,8'!$B$5:$AF$16,MONTH($AP$3),AH$11),\"\"))","v":""},{"$f":"IFERROR(INDEX(РВД!$D:$I,MATCH($C29,РВД!$A:$A,)+1,MATCH($N$4+AI$11-1,INDEX(РВД!$D:$I,MATCH($C29,РВД!$A:$A,),),)),IF(AI30=\"Я\",INDEX('график 7,8'!$B$5:$AF$16,MONTH($AP$3),AI$11),\"\"))","v":7.8},{"$f":"IFERROR(INDEX(РВД!$D:$I,MATCH($C29,РВД!$A:$A,)+1,MATCH($N$4+AJ$11-1,INDEX(РВД!$D:$I,MATCH($C29,РВД!$A:$A,),),)),IF(AJ30=\"Я\",INDEX('график 7,8'!$B$5:$AF$16,MONTH($AP$3),AJ$11),\"\"))","v":7.8},{"$f":"\"Я/\"&SUMIF(E30:AJ30,\"Я\",E29:AJ29)","v":"Я/163,8"},{"$f":"(SUMIF(E30:AJ30,\"В\",E29:AJ29)+SUMIF(E30:AJ30,\"В.\",E29:AJ29))*2","v":0},{"$f":"COUNTIFS(E30:AJ30,\"Я\",E29:AJ29,\"<>\")","v":21},{"$f":"IFERROR(VLOOKUP(C29,доплаты!$A$5:$P$118,16,0),\"\")","v":"20,100"}]
[null,null,null,null,{"$f":"TRIM(LEFT(TRIM(INDEX(отсутствия!$N:$AR,MATCH($C29,отсутствия!$A:$A,),E$11)&\" \"&TEXT(INDEX('график 7,8'!$B$5:$AF$16,MONTH($AP$3),E$11)&\"\",\"Я\")),2))","v":"В"},{"$f":"TRIM(LEFT(TRIM(INDEX(отсутствия!$N:$AR,MATCH($C29,отсутствия!$A:$A,),F$11)&\" \"&TEXT(INDEX('график 7,8'!$B$5:$AF$16,MONTH($AP$3),F$11)&\"\",\"Я\")),2))","v":"Я"},{"$f":"TRIM(LEFT(TRIM(INDEX(отсутствия!$N:$AR,MATCH($C29,отсутствия!$A:$A,),G$11)&\" \"&TEXT(INDEX('график 7,8'!$B$5:$AF$16,MONTH($AP$3),G$11)&\"\",\"Я\")),2))","v":"Я"},{"$f":"TRIM(LEFT(TRIM(INDEX(отсутствия!$N:$AR,MATCH($C29,отсутствия!$A:$A,),H$11)&\" \"&TEXT(INDEX('график 7,8'!$B$5:$AF$16,MONTH($AP$3),H$11)&\"\",\"Я\")),2))","v":"Я"},{"$f":"TRIM(LEFT(TRIM(INDEX(отсутствия!$N:$AR,MATCH($C29,отсутствия!$A:$A,),I$11)&\" \"&TEXT(INDEX('график 7,8'!$B$5:$AF$16,MONTH($AP$3),I$11)&\"\",\"Я\")),2))","v":"Я"},{"$f":"TRIM(LEFT(TRIM(INDEX(отсутствия!$N:$AR,MATCH($C29,отсутствия!$A:$A,),J$11)&\" \"&TEXT(INDEX('график 7,8'!$B$5:$AF$16,MONTH($AP$3),J$11)&\"\",\"Я\")),2))","v":"Я"},{"$f":"TRIM(LEFT(TRIM(INDEX(отсутствия!$N:$AR,MATCH($C29,отсутствия!$A:$A,),K$11)&\" \"&TEXT(INDEX('график 7,8'!$B$5:$AF$16,MONTH($AP$3),K$11)&\"\",\"Я\")),2))","v":"В"},{"$f":"TRIM(LEFT(TRIM(INDEX(отсутствия!$N:$AR,MATCH($C29,отсутствия!$A:$A,),L$11)&\" \"&TEXT(INDEX('график 7,8'!$B$5:$AF$16,MONTH($AP$3),L$11)&\"\",\"Я\")),2))","v":"В."},{"$f":"TRIM(LEFT(TRIM(INDEX(отсутствия!$N:$AR,MATCH($C29,отсутствия!$A:$A,),M$11)&\" \"&TEXT(INDEX('график 7,8'!$B$5:$AF$16,MONTH($AP$3),M$11)&\"\",\"Я\")),2))","v":"В"},{"$f":"TRIM(LEFT(TRIM(INDEX(отсутствия!$N:$AR,MATCH($C29,отсутствия!$A:$A,),N$11)&\" \"&TEXT(INDEX('график 7,8'!$B$5:$AF$16,MONTH($AP$3),N$11)&\"\",\"Я\")),2))","v":"Я"},{"$f":"TRIM(LEFT(TRIM(INDEX(отсутствия!$N:$AR,MATCH($C29,отсутствия!$A:$A,),O$11)&\" \"&TEXT(INDEX('график 7,8'!$B$5:$AF$16,MONTH($AP$3),O$11)&\"\",\"Я\")),2))","v":"Я"},{"$f":"TRIM(LEFT(TRIM(INDEX(отсутствия!$N:$AR,MATCH($C29,отсутствия!$A:$A,),P$11)&\" \"&TEXT(INDEX('график 7,8'!$B$5:$AF$16,MONTH($AP$3),P$11)&\"\",\"Я\")),2))","v":"Я"},{"$f":"TRIM(LEFT(TRIM(INDEX(отсутствия!$N:$AR,MATCH($C29,отсутствия!$A:$A,),Q$11)&\" \"&TEXT(INDEX('график 7,8'!$B$5:$AF$16,MONTH($AP$3),Q$11)&\"\",\"Я\")),2))","v":"Я"},{"$f":"TRIM(LEFT(TRIM(INDEX(отсутствия!$N:$AR,MATCH($C29,отсутствия!$A:$A,),R$11)&\" \"&TEXT(INDEX('график 7,8'!$B$5:$AF$16,MONTH($AP$3),R$11)&\"\",\"Я\")),2))","v":"В"},{"$f":"TRIM(LEFT(TRIM(INDEX(отсутствия!$N:$AR,MATCH($C29,отсутствия!$A:$A,),S$11)&\" \"&TEXT(INDEX('график 7,8'!$B$5:$AF$16,MONTH($AP$3),S$11)&\"\",\"Я\")),2))","v":"В"},null,{"$f":"TRIM(LEFT(TRIM(INDEX(отсутствия!$N:$AR,MATCH($C29,отсутствия!$A:$A,),U$11)&\" \"&TEXT(INDEX('график 7,8'!$B$5:$AF$16,MONTH($AP$3),U$11)&\"\",\"Я\")),2))","v":"Я"},{"$f":"TRIM(LEFT(TRIM(INDEX(отсутствия!$N:$AR,MATCH($C29,отсутствия!$A:$A,),V$11)&\" \"&TEXT(INDEX('график 7,8'!$B$5:$AF$16,MONTH($AP$3),V$11)&\"\",\"Я\")),2))","v":"Я"},{"$f":"TRIM(LEFT(TRIM(INDEX(отсутствия!$N:$AR,MATCH($C29,отсутствия!$A:$A,),W$11)&\" \"&TEXT(INDEX('график 7,8'!$B$5:$AF$16,MONTH($AP$3),W$11)&\"\",\"Я\")),2))","v":"Я"},{"$f":"TRIM(LEFT(TRIM(INDEX(отсутствия!$N:$AR,MATCH($C29,отсутствия!$A:$A,),X$11)&\" \"&TEXT(INDEX('график 7,8'!$B$5:$AF$16,MONTH($AP$3),X$11)&\"\",\"Я\")),2))","v":"Я"},{"$f":"TRIM(LEFT(TRIM(INDEX(отсутствия!$N:$AR,MATCH($C29,отсутствия!$A:$A,),Y$11)&\" \"&TEXT(INDEX('график 7,8'!$B$5:$AF$16,MONTH($AP$3),Y$11)&\"\",\"Я\")),2))","v":"Я"},{"$f":"TRIM(LEFT(TRIM(INDEX(отсутствия!$N:$AR,MATCH($C29,отсутствия!$A:$A,),Z$11)&\" \"&TEXT(INDEX('график 7,8'!$B$5:$AF$16,MONTH($AP$3),Z$11)&\"\",\"Я\")),2))","v":"В"},{"$f":"TRIM(LEFT(TRIM(INDEX(отсутствия!$N:$AR,MATCH($C29,отсутствия!$A:$A,),AA$11)&\" \"&TEXT(INDEX('график 7,8'!$B$5:$AF$16,MONTH($AP$3),AA$11)&\"\",\"Я\")),2))","v":"В"},{"$f":"TRIM(LEFT(TRIM(INDEX(отсутствия!$N:$AR,MATCH($C29,отсутствия!$A:$A,),AB$11)&\" \"&TEXT(INDEX('график 7,8'!$B$5:$AF$16,MONTH($AP$3),AB$11)&\"\",\"Я\")),2))","v":"Я"},{"$f":"TRIM(LEFT(TRIM(INDEX(отсутствия!$N:$AR,MATCH($C29,отсутствия!$A:$A,),AC$11)&\" \"&TEXT(INDEX('график 7,8'!$B$5:$AF$16,MONTH($AP$3),AC$11)&\"\",\"Я\")),2))","v":"Я"},{"$f":"TRIM(LEFT(TRIM(INDEX(отсутствия!$N:$AR,MATCH($C29,отсутствия!$A:$A,),AD$11)&\" \"&TEXT(INDEX('график 7,8'!$B$5:$AF$16,MONTH($AP$3),AD$11)&\"\",\"Я\")),2))","v":"Я"},{"$f":"TRIM(LEFT(TRIM(INDEX(отсутствия!$N:$AR,MATCH($C29,отсутствия!$A:$A,),AE$11)&\" \"&TEXT(INDEX('график 7,8'!$B$5:$AF$16,MONTH($AP$3),AE$11)&\"\",\"Я\")),2))","v":"Я"},{"$f":"TRIM(LEFT(TRIM(INDEX(отсутствия!$N:$AR,MATCH($C29,отсутствия!$A:$A,),AF$11)&\" \"&TEXT(INDEX('график 7,8'!$B$5:$AF$16,MONTH($AP$3),AF$11)&\"\",\"Я\")),2))","v":"Я"},{"$f":"TRIM(LEFT(TRIM(INDEX(отсутствия!$N:$AR,MATCH($C29,отсутствия!$A:$A,),AG$11)&\" \"&TEXT(INDEX('график 7,8'!$B$5:$AF$16,MONTH($AP$3),AG$11)&\"\",\"Я\")),2))","v":"В"},{"$f":"TRIM(LEFT(TRIM(INDEX(отсутствия!$N:$AR,MATCH($C29,отсутствия!$A:$A,),AH$11)&\" \"&TEXT(INDEX('график 7,8'!$B$5:$AF$16,MONTH($AP$3),AH$11)&\"\",\"Я\")),2))","v":"В"},{"$f":"TRIM(LEFT(TRIM(INDEX(отсутствия!$N:$AR,MATCH($C29,отсутствия!$A:$A,),AI$11)&\" \"&TEXT(INDEX('график 7,8'!$B$5:$AF$16,MONTH($AP$3),AI$11)&\"\",\"Я\")),2))","v":"Я"},{"$f":"TRIM(LEFT(TRIM(INDEX(отсутствия!$N:$AR,MATCH($C29,отсутствия!$A:$A,),AJ$11)&\" \"&TEXT(INDEX('график 7,8'!$B$5:$AF$16,MONTH($AP$3),AJ$11)&\"\",\"Я\")),2))","v":"Я"}]
[4814,"Касатонов",4814,"сборная",{"$f":"IFERROR(INDEX(РВД!$D:$I,MATCH($C31,РВД!$A:$A,)+1,MATCH($N$4+E$11-1,INDEX(РВД!$D:$I,MATCH($C31,РВД!$A:$A,),),)),IF(E32=\"Я\",INDEX('график 7,8'!$B$5:$AF$16,MONTH($AP$3),E$11),\"\"))","v":""},{"$f":"IFERROR(INDEX(РВД!$D:$I,MATCH($C31,РВД!$A:$A,)+1,MATCH($N$4+F$11-1,INDEX(РВД!$D:$I,MATCH($C31,РВД!$A:$A,),),)),IF(F32=\"Я\",INDEX('график 7,8'!$B$5:$AF$16,MONTH($AP$3),F$11),\"\"))","v":7.8},{"$f":"IFERROR(INDEX(РВД!$D:$I,MATCH($C31,РВД!$A:$A,)+1,MATCH($N$4+G$11-1,INDEX(РВД!$D:$I,MATCH($C31,РВД!$A:$A,),),)),IF(G32=\"Я\",INDEX('график 7,8'!$B$5:$AF$16,MONTH($AP$3),G$11),\"\"))","v":7.8},{"$f":"IFERROR(INDEX(РВД!$D:$I,MATCH($C31,РВД!$A:$A,)+1,MATCH($N$4+H$11-1,INDEX(РВД!$D:$I,MATCH($C31,РВД!$A:$A,),),)),IF(H32=\"Я\",INDEX('график 7,8'!$B$5:$AF$16,MONTH($AP$3),H$11),\"\"))","v":7.8},{"$f":"IFERROR(INDEX(РВД!$D:$I,MATCH($C31,РВД!$A:$A,)+1,MATCH($N$4+I$11-1,INDEX(РВД!$D:$I,MATCH($C31,РВД!$A:$A,),),)),IF(I32=\"Я\",INDEX('график 7,8'!$B$5:$AF$16,MONTH($AP$3),I$11),\"\"))","v":7.8},{"$f":"IFERROR(INDEX(РВД!$D:$I,MATCH($C31,РВД!$A:$A,)+1,MATCH($N$4+J$11-1,INDEX(РВД!$D:$I,MATCH($C31,РВД!$A:$A,),),)),IF(J32=\"Я\",INDEX('график 7,8'!$B$5:$AF$16,MONTH($AP$3),J$11),\"\"))","v":7.8},{"$f":"IFERROR(INDEX(РВД!$D:$I,MATCH($C31,РВД!$A:$A,)+1,MATCH($N$4+K$11-1,INDEX(РВД!$D:$I,MATCH($C31,РВД!$A:$A,),),)),IF(K32=\"Я\",INDEX('график 7,8'!$B$5:$AF$16,MONTH($AP$3),K$11),\"\"))","v":""},{"$f":"IFERROR(INDEX(РВД!$D:$I,MATCH($C31,РВД!$A:$A,)+1,MATCH($N$4+L$11-1,INDEX(РВД!$D:$I,MATCH($C31,РВД!$A:$A,),),)),IF(L32=\"Я\",INDEX('график 7,8'!$B$5:$AF$16,MONTH($AP$3),L$11),\"\"))","v":""},{"$f":"IFERROR(INDEX(РВД!$D:$I,MATCH($C31,РВД!$A:$A,)+1,MATCH($N$4+M$11-1,INDEX(РВД!$D:$I,MATCH($C31,РВД!$A:$A,),),)),IF(M32=\"Я\",INDEX('график 7,8'!$B$5:$AF$16,MONTH($AP$3),M$11),\"\"))","v":""},{"$f":"IFERROR(INDEX(РВД!$D:$I,MATCH($C31,РВД!$A:$A,)+1,MATCH($N$4+N$11-1,INDEX(РВД!$D:$I,MATCH($C31,РВД!$A:$A,),),)),IF(N32=\"Я\",INDEX('график 7,8'!$B$5:$AF$16,MONTH($AP$3),N$11),\"\"))","v":7.8},{"$f":"IFERROR(INDEX(РВД!$D:$I,MATCH($C31,РВД!$A:$A,)+1,MATCH($N$4+O$11-1,INDEX(РВД!$D:$I,MATCH($C31,РВД!$A:$A,),),)),IF(O32=\"Я\",INDEX('график 7,8'!$B$5:$AF$16,MONTH($AP$3),O$11),\"\"))","v":7.8},{"$f":"IFERROR(INDEX(РВД!$D:$I,MATCH($C31,РВД!$A:$A,)+1,MATCH($N$4+P$11-1,INDEX(РВД!$D:$I,MATCH($C31,РВД!$A:$A,),),)),IF(P32=\"Я\",INDEX('график 7,8'!$B$5:$AF$16,MONTH($AP$3),P$11),\"\"))","v":7.8},{"$f":"IFERROR(INDEX(РВД!$D:$I,MATCH($C31,РВД!$A:$A,)+1,MATCH($N$4+Q$11-1,INDEX(РВД!$D:$I,MATCH($C31,РВД!$A:$A,),),)),IF(Q32=\"Я\",INDEX('график 7,8'!$B$5:$AF$16,MONTH($AP$3),Q$11),\"\"))","v":7.8},{"$f":"IFERROR(INDEX(РВД!$D:$I,MATCH($C31,РВД!$A:$A,)+1,MATCH($N$4+R$11-1,INDEX(РВД!$D:$I,MATCH($C31,РВД!$A:$A,),),)),IF(R32=\"Я\",INDEX('график 7,8'!$B$5:$AF$16,MONTH($AP$3),R$11),\"\"))","v":""},{"$f":"IFERROR(INDEX(РВД!$D:$I,MATCH($C31,РВД!$A:$A,)+1,MATCH($N$4+S$11-1,INDEX(РВД!$D:$I,MATCH($C31,РВД!$A:$A,),),)),IF(S32=\"Я\",INDEX('график 7,8'!$B$5:$AF$16,MONTH($AP$3),S$11),\"\"))","v":""},{"$f":"SUMIF(E32:S32,\"Я\",E31:S31)","v":70.199999999999989},{"$f":"IFERROR(INDEX(РВД!$D:$I,MATCH($C31,РВД!$A:$A,)+1,MATCH($N$4+U$11-1,INDEX(РВД!$D:$I,MATCH($C31,РВД!$A:$A,),),)),IF(U32=\"Я\",INDEX('график 7,8'!$B$5:$AF$16,MONTH($AP$3),U$11),\"\"))","v":7.8},{"$f":"IFERROR(INDEX(РВД!$D:$I,MATCH($C31,РВД!$A:$A,)+1,MATCH($N$4+V$11-1,INDEX(РВД!$D:$I,MATCH($C31,РВД!$A:$A,),),)),IF(V32=\"Я\",INDEX('график 7,8'!$B$5:$AF$16,MONTH($AP$3),V$11),\"\"))","v":7.8},{"$f":"IFERROR(INDEX(РВД!$D:$I,MATCH($C31,РВД!$A:$A,)+1,MATCH($N$4+W$11-1,INDEX(РВД!$D:$I,MATCH($C31,РВД!$A:$A,),),)),IF(W32=\"Я\",INDEX('график 7,8'!$B$5:$AF$16,MONTH($AP$3),W$11),\"\"))","v":7.8},{"$f":"IFERROR(INDEX(РВД!$D:$I,MATCH($C31,РВД!$A:$A,)+1,MATCH($N$4+X$11-1,INDEX(РВД!$D:$I,MATCH($C31,РВД!$A:$A,),),)),IF(X32=\"Я\",INDEX('график 7,8'!$B$5:$AF$16,MONTH($AP$3),X$11),\"\"))","v":7.8},{"$f":"IFERROR(INDEX(РВД!$D:$I,MATCH($C31,РВД!$A:$A,)+1,MATCH($N$4+Y$11-1,INDEX(РВД!$D:$I,MATCH($C31,РВД!$A:$A,),),)),IF(Y32=\"Я\",INDEX('график 7,8'!$B$5:$AF$16,MONTH($AP$3),Y$11),\"\"))","v":7.8},{"$f":"IFERROR(INDEX(РВД!$D:$I,MATCH($C31,РВД!$A:$A,)+1,MATCH($N$4+Z$11-1,INDEX(РВД!$D:$I,MATCH($C31,РВД!$A:$A,),),)),IF(Z32=\"Я\",INDEX('график 7,8'!$B$5:$AF$16,MONTH($AP$3),Z$11),\"\"))","v":""},{"$f":"IFERROR(INDEX(РВД!$D:$I,MATCH($C31,РВД!$A:$A,)+1,MATCH($N$4+AA$11-1,INDEX(РВД!$D:$I,MATCH($C31,РВД!$A:$A,),),)),IF(AA32=\"Я\",INDEX('график 7,8'!$B$5:$AF$16,MONTH($AP$3),AA$11),\"\"))","v":""},{"$f":"IFERROR(INDEX(РВД!$D:$I,MATCH($C31,РВД!$A:$A,)+1,MATCH($N$4+AB$11-1,INDEX(РВД!$D:$I,MATCH($C31,РВД!$A:$A,),),)),IF(AB32=\"Я\",INDEX('график 7,8'!$B$5:$AF$16,MONTH($AP$3),AB$11),\"\"))","v":7.8},{"$f":"IFERROR(INDEX(РВД!$D:$I,MATCH($C31,РВД!$A:$A,)+1,MATCH($N$4+AC$11-1,INDEX(РВД!$D:$I,MATCH($C31,РВД!$A:$A,),),)),IF(AC32=\"Я\",INDEX('график 7,8'!$B$5:$AF$16,MONTH($AP$3),AC$11),\"\"))","v":7.8},{"$f":"IFERROR(INDEX(РВД!$D:$I,MATCH($C31,РВД!$A:$A,)+1,MATCH($N$4+AD$11-1,INDEX(РВД!$D:$I,MATCH($C31,РВД!$A:$A,),),)),IF(AD32=\"Я\",INDEX('график 7,8'!$B$5:$AF$16,MONTH($AP$3),AD$11),\"\"))","v":7.8},{"$f":"IFERROR(INDEX(РВД!$D:$I,MATCH($C31,РВД!$A:$A,)+1,MATCH($N$4+AE$11-1,INDEX(РВД!$D:$I,MATCH($C31,РВД!$A:$A,),),)),IF(AE32=\"Я\",INDEX('график 7,8'!$B$5:$AF$16,MONTH($AP$3),AE$11),\"\"))","v":7.8},{"$f":"IFERROR(INDEX(РВД!$D:$I,MATCH($C31,РВД!$A:$A,)+1,MATCH($N$4+AF$11-1,INDEX(РВД!$D:$I,MATCH($C31,РВД!$A:$A,),),)),IF(AF32=\"Я\",INDEX('график 7,8'!$B$5:$AF$16,MONTH($AP$3),AF$11),\"\"))","v":7.8},{"$f":"IFERROR(INDEX(РВД!$D:$I,MATCH($C31,РВД!$A:$A,)+1,MATCH($N$4+AG$11-1,INDEX(РВД!$D:$I,MATCH($C31,РВД!$A:$A,),),)),IF(AG32=\"Я\",INDEX('график 7,8'!$B$5:$AF$16,MONTH($AP$3),AG$11),\"\"))","v":""},{"$f":"IFERROR(INDEX(РВД!$D:$I,MATCH($C31,РВД!$A:$A,)+1,MATCH($N$4+AH$11-1,INDEX(РВД!$D:$I,MATCH($C31,РВД!$A:$A,),),)),IF(AH32=\"Я\",INDEX('график 7,8'!$B$5:$AF$16,MONTH($AP$3),AH$11),\"\"))","v":""},{"$f":"IFERROR(INDEX(РВД!$D:$I,MATCH($C31,РВД!$A:$A,)+1,MATCH($N$4+AI$11-1,INDEX(РВД!$D:$I,MATCH($C31,РВД!$A:$A,),),)),IF(AI32=\"Я\",INDEX('график 7,8'!$B$5:$AF$16,MONTH($AP$3),AI$11),\"\"))","v":7.8},{"$f":"IFERROR(INDEX(РВД!$D:$I,MATCH($C31,РВД!$A:$A,)+1,MATCH($N$4+AJ$11-1,INDEX(РВД!$D:$I,MATCH($C31,РВД!$A:$A,),),)),IF(AJ32=\"Я\",INDEX('график 7,8'!$B$5:$AF$16,MONTH($AP$3),AJ$11),\"\"))","v":7.8},{"$f":"\"Я/\"&SUMIF(E32:AJ32,\"Я\",E31:AJ31)","v":"Я/163,8"},{"$f":"(SUMIF(E32:AJ32,\"В\",E31:AJ31)+SUMIF(E32:AJ32,\"В.\",E31:AJ31))*2","v":0},{"$f":"COUNTIFS(E32:AJ32,\"Я\",E31:AJ31,\"<>\")","v":21},{"$f":"IFERROR(VLOOKUP(C31,доплаты!$A$5:$P$118,16,0),\"\")","v":"17,30"}]
[null,null,null,null,{"$f":"TRIM(LEFT(TRIM(INDEX(отсутствия!$N:$AR,MATCH($C31,отсутствия!$A:$A,),E$11)&\" \"&TEXT(INDEX('график 7,8'!$B$5:$AF$16,MONTH($AP$3),E$11)&\"\",\"Я\")),2))","v":"В"},{"$f":"TRIM(LEFT(TRIM(INDEX(отсутствия!$N:$AR,MATCH($C31,отсутствия!$A:$A,),F$11)&\" \"&TEXT(INDEX('график 7,8'!$B$5:$AF$16,MONTH($AP$3),F$11)&\"\",\"Я\")),2))","v":"Я"},{"$f":"TRIM(LEFT(TRIM(INDEX(отсутствия!$N:$AR,MATCH($C31,отсутствия!$A:$A,),G$11)&\" \"&TEXT(INDEX('график 7,8'!$B$5:$AF$16,MONTH($AP$3),G$11)&\"\",\"Я\")),2))","v":"Я"},{"$f":"TRIM(LEFT(TRIM(INDEX(отсутствия!$N:$AR,MATCH($C31,отсутствия!$A:$A,),H$11)&\" \"&TEXT(INDEX('график 7,8'!$B$5:$AF$16,MONTH($AP$3),H$11)&\"\",\"Я\")),2))","v":"Я"},{"$f":"TRIM(LEFT(TRIM(INDEX(отсутствия!$N:$AR,MATCH($C31,отсутствия!$A:$A,),I$11)&\" \"&TEXT(INDEX('график 7,8'!$B$5:$AF$16,MONTH($AP$3),I$11)&\"\",\"Я\")),2))","v":"Я"},{"$f":"TRIM(LEFT(TRIM(INDEX(отсутствия!$N:$AR,MATCH($C31,отсутствия!$A:$A,),J$11)&\" \"&TEXT(INDEX('график 7,8'!$B$5:$AF$16,MONTH($AP$3),J$11)&\"\",\"Я\")),2))","v":"Я"},{"$f":"TRIM(LEFT(TRIM(INDEX(отсутствия!$N:$AR,MATCH($C31,отсутствия!$A:$A,),K$11)&\" \"&TEXT(INDEX('график 7,8'!$B$5:$AF$16,MONTH($AP$3),K$11)&\"\",\"Я\")),2))","v":"В"},{"$f":"TRIM(LEFT(TRIM(INDEX(отсутствия!$N:$AR,MATCH($C31,отсутствия!$A:$A,),L$11)&\" \"&TEXT(INDEX('график 7,8'!$B$5:$AF$16,MONTH($AP$3),L$11)&\"\",\"Я\")),2))","v":"В."},{"$f":"TRIM(LEFT(TRIM(INDEX(отсутствия!$N:$AR,MATCH($C31,отсутствия!$A:$A,),M$11)&\" \"&TEXT(INDEX('график 7,8'!$B$5:$AF$16,MONTH($AP$3),M$11)&\"\",\"Я\")),2))","v":"В"},{"$f":"TRIM(LEFT(TRIM(INDEX(отсутствия!$N:$AR,MATCH($C31,отсутствия!$A:$A,),N$11)&\" \"&TEXT(INDEX('график 7,8'!$B$5:$AF$16,MONTH($AP$3),N$11)&\"\",\"Я\")),2))","v":"Я"},{"$f":"TRIM(LEFT(TRIM(INDEX(отсутствия!$N:$AR,MATCH($C31,отсутствия!$A:$A,),O$11)&\" \"&TEXT(INDEX('график 7,8'!$B$5:$AF$16,MONTH($AP$3),O$11)&\"\",\"Я\")),2))","v":"Я"},{"$f":"TRIM(LEFT(TRIM(INDEX(отсутствия!$N:$AR,MATCH($C31,отсутствия!$A:$A,),P$11)&\" \"&TEXT(INDEX('график 7,8'!$B$5:$AF$16,MONTH($AP$3),P$11)&\"\",\"Я\")),2))","v":"Я"},{"$f":"TRIM(LEFT(TRIM(INDEX(отсутствия!$N:$AR,MATCH($C31,отсутствия!$A:$A,),Q$11)&\" \"&TEXT(INDEX('график 7,8'!$B$5:$AF$16,MONTH($AP$3),Q$11)&\"\",\"Я\")),2))","v":"Я"},{"$f":"TRIM(LEFT(TRIM(INDEX(отсутствия!$N:$AR,MATCH($C31,отсутствия!$A:$A,),R$11)&\" \"&TEXT(INDEX('график 7,8'!$B$5:$AF$16,MONTH($AP$3),R$11)&\"\",\"Я\")),2))","v":"В"},{"$f":"TRIM(LEFT(TRIM(INDEX(отсутствия!$N:$AR,MATCH($C31,отсутствия!$A:$A,),S$11)&\" \"&TEXT(INDEX('график 7,8'!$B$5:$AF$16,MONTH($AP$3),S$11)&\"\",\"Я\")),2))","v":"В"},null,{"$f":"TRIM(LEFT(TRIM(INDEX(отсутствия!$N:$AR,MATCH($C31,отсутствия!$A:$A,),U$11)&\" \"&TEXT(INDEX('график 7,8'!$B$5:$AF$16,MONTH($AP$3),U$11)&\"\",\"Я\")),2))","v":"Я"},{"$f":"TRIM(LEFT(TRIM(INDEX(отсутствия!$N:$AR,MATCH($C31,отсутствия!$A:$A,),V$11)&\" \"&TEXT(INDEX('график 7,8'!$B$5:$AF$16,MONTH($AP$3),V$11)&\"\",\"Я\")),2))","v":"Я"},{"$f":"TRIM(LEFT(TRIM(INDEX(отсутствия!$N:$AR,MATCH($C31,отсутствия!$A:$A,),W$11)&\" \"&TEXT(INDEX('график 7,8'!$B$5:$AF$16,MONTH($AP$3),W$11)&\"\",\"Я\")),2))","v":"Я"},{"$f":"TRIM(LEFT(TRIM(INDEX(отсутствия!$N:$AR,MATCH($C31,отсутствия!$A:$A,),X$11)&\" \"&TEXT(INDEX('график 7,8'!$B$5:$AF$16,MONTH($AP$3),X$11)&\"\",\"Я\")),2))","v":"Я"},{"$f":"TRIM(LEFT(TRIM(INDEX(отсутствия!$N:$AR,MATCH($C31,отсутствия!$A:$A,),Y$11)&\" \"&TEXT(INDEX('график 7,8'!$B$5:$AF$16,MONTH($AP$3),Y$11)&\"\",\"Я\")),2))","v":"Я"},{"$f":"TRIM(LEFT(TRIM(INDEX(отсутствия!$N:$AR,MATCH($C31,отсутствия!$A:$A,),Z$11)&\" \"&TEXT(INDEX('график 7,8'!$B$5:$AF$16,MONTH($AP$3),Z$11)&\"\",\"Я\")),2))","v":"В"},{"$f":"TRIM(LEFT(TRIM(INDEX(отсутствия!$N:$AR,MATCH($C31,отсутствия!$A:$A,),AA$11)&\" \"&TEXT(INDEX('график 7,8'!$B$5:$AF$16,MONTH($AP$3),AA$11)&\"\",\"Я\")),2))","v":"В"},{"$f":"TRIM(LEFT(TRIM(INDEX(отсутствия!$N:$AR,MATCH($C31,отсутствия!$A:$A,),AB$11)&\" \"&TEXT(INDEX('график 7,8'!$B$5:$AF$16,MONTH($AP$3),AB$11)&\"\",\"Я\")),2))","v":"Я"},{"$f":"TRIM(LEFT(TRIM(INDEX(отсутствия!$N:$AR,MATCH($C31,отсутствия!$A:$A,),AC$11)&\" \"&TEXT(INDEX('график 7,8'!$B$5:$AF$16,MONTH($AP$3),AC$11)&\"\",\"Я\")),2))","v":"Я"},{"$f":"TRIM(LEFT(TRIM(INDEX(отсутствия!$N:$AR,MATCH($C31,отсутствия!$A:$A,),AD$11)&\" \"&TEXT(INDEX('график 7,8'!$B$5:$AF$16,MONTH($AP$3),AD$11)&\"\",\"Я\")),2))","v":"Я"},{"$f":"TRIM(LEFT(TRIM(INDEX(отсутствия!$N:$AR,MATCH($C31,отсутствия!$A:$A,),AE$11)&\" \"&TEXT(INDEX('график 7,8'!$B$5:$AF$16,MONTH($AP$3),AE$11)&\"\",\"Я\")),2))","v":"Я"},{"$f":"TRIM(LEFT(TRIM(INDEX(отсутствия!$N:$AR,MATCH($C31,отсутствия!$A:$A,),AF$11)&\" \"&TEXT(INDEX('график 7,8'!$B$5:$AF$16,MONTH($AP$3),AF$11)&\"\",\"Я\")),2))","v":"Я"},{"$f":"TRIM(LEFT(TRIM(INDEX(отсутствия!$N:$AR,MATCH($C31,отсутствия!$A:$A,),AG$11)&\" \"&TEXT(INDEX('график 7,8'!$B$5:$AF$16,MONTH($AP$3),AG$11)&\"\",\"Я\")),2))","v":"В"},{"$f":"TRIM(LEFT(TRIM(INDEX(отсутствия!$N:$AR,MATCH($C31,отсутствия!$A:$A,),AH$11)&\" \"&TEXT(INDEX('график 7,8'!$B$5:$AF$16,MONTH($AP$3),AH$11)&\"\",\"Я\")),2))","v":"В"},{"$f":"TRIM(LEFT(TRIM(INDEX(отсутствия!$N:$AR,MATCH($C31,отсутствия!$A:$A,),AI$11)&\" \"&TEXT(INDEX('график 7,8'!$B$5:$AF$16,MONTH($AP$3),AI$11)&\"\",\"Я\")),2))","v":"Я"},{"$f":"TRIM(LEFT(TRIM(INDEX(отсутствия!$N:$AR,MATCH($C31,отсутствия!$A:$A,),AJ$11)&\" \"&TEXT(INDEX('график 7,8'!$B$5:$AF$16,MONTH($AP$3),AJ$11)&\"\",\"Я\")),2))","v":"Я"}]
[484,"Крутов",484,"сборная",{"$f":"IFERROR(INDEX(РВД!$D:$I,MATCH($C33,РВД!$A:$A,)+1,MATCH($N$4+E$11-1,INDEX(РВД!$D:$I,MATCH($C33,РВД!$A:$A,),),)),IF(E34=\"Я\",INDEX('график 7,8'!$B$5:$AF$16,MONTH($AP$3),E$11),\"\"))","v":""},{"$f":"IFERROR(INDEX(РВД!$D:$I,MATCH($C33,РВД!$A:$A,)+1,MATCH($N$4+F$11-1,INDEX(РВД!$D:$I,MATCH($C33,РВД!$A:$A,),),)),IF(F34=\"Я\",INDEX('график 7,8'!$B$5:$AF$16,MONTH($AP$3),F$11),\"\"))","v":7.8},{"$f":"IFERROR(INDEX(РВД!$D:$I,MATCH($C33,РВД!$A:$A,)+1,MATCH($N$4+G$11-1,INDEX(РВД!$D:$I,MATCH($C33,РВД!$A:$A,),),)),IF(G34=\"Я\",INDEX('график 7,8'!$B$5:$AF$16,MONTH($AP$3),G$11),\"\"))","v":7.8},{"$f":"IFERROR(INDEX(РВД!$D:$I,MATCH($C33,РВД!$A:$A,)+1,MATCH($N$4+H$11-1,INDEX(РВД!$D:$I,MATCH($C33,РВД!$A:$A,),),)),IF(H34=\"Я\",INDEX('график 7,8'!$B$5:$AF$16,MONTH($AP$3),H$11),\"\"))","v":7.8},{"$f":"IFERROR(INDEX(РВД!$D:$I,MATCH($C33,РВД!$A:$A,)+1,MATCH($N$4+I$11-1,INDEX(РВД!$D:$I,MATCH($C33,РВД!$A:$A,),),)),IF(I34=\"Я\",INDEX('график 7,8'!$B$5:$AF$16,MONTH($AP$3),I$11),\"\"))","v":7.8},{"$f":"IFERROR(INDEX(РВД!$D:$I,MATCH($C33,РВД!$A:$A,)+1,MATCH($N$4+J$11-1,INDEX(РВД!$D:$I,MATCH($C33,РВД!$A:$A,),),)),IF(J34=\"Я\",INDEX('график 7,8'!$B$5:$AF$16,MONTH($AP$3),J$11),\"\"))","v":7.8},{"$f":"IFERROR(INDEX(РВД!$D:$I,MATCH($C33,РВД!$A:$A,)+1,MATCH($N$4+K$11-1,INDEX(РВД!$D:$I,MATCH($C33,РВД!$A:$A,),),)),IF(K34=\"Я\",INDEX('график 7,8'!$B$5:$AF$16,MONTH($AP$3),K$11),\"\"))","v":""},{"$f":"IFERROR(INDEX(РВД!$D:$I,MATCH($C33,РВД!$A:$A,)+1,MATCH($N$4+L$11-1,INDEX(РВД!$D:$I,MATCH($C33,РВД!$A:$A,),),)),IF(L34=\"Я\",INDEX('график 7,8'!$B$5:$AF$16,MONTH($AP$3),L$11),\"\"))","v":""},{"$f":"IFERROR(INDEX(РВД!$D:$I,MATCH($C33,РВД!$A:$A,)+1,MATCH($N$4+M$11-1,INDEX(РВД!$D:$I,MATCH($C33,РВД!$A:$A,),),)),IF(M34=\"Я\",INDEX('график 7,8'!$B$5:$AF$16,MONTH($AP$3),M$11),\"\"))","v":""},{"$f":"IFERROR(INDEX(РВД!$D:$I,MATCH($C33,РВД!$A:$A,)+1,MATCH($N$4+N$11-1,INDEX(РВД!$D:$I,MATCH($C33,РВД!$A:$A,),),)),IF(N34=\"Я\",INDEX('график 7,8'!$B$5:$AF$16,MONTH($AP$3),N$11),\"\"))","v":7.8},{"$f":"IFERROR(INDEX(РВД!$D:$I,MATCH($C33,РВД!$A:$A,)+1,MATCH($N$4+O$11-1,INDEX(РВД!$D:$I,MATCH($C33,РВД!$A:$A,),),)),IF(O34=\"Я\",INDEX('график 7,8'!$B$5:$AF$16,MONTH($AP$3),O$11),\"\"))","v":7.8},{"$f":"IFERROR(INDEX(РВД!$D:$I,MATCH($C33,РВД!$A:$A,)+1,MATCH($N$4+P$11-1,INDEX(РВД!$D:$I,MATCH($C33,РВД!$A:$A,),),)),IF(P34=\"Я\",INDEX('график 7,8'!$B$5:$AF$16,MONTH($AP$3),P$11),\"\"))","v":7.8},{"$f":"IFERROR(INDEX(РВД!$D:$I,MATCH($C33,РВД!$A:$A,)+1,MATCH($N$4+Q$11-1,INDEX(РВД!$D:$I,MATCH($C33,РВД!$A:$A,),),)),IF(Q34=\"Я\",INDEX('график 7,8'!$B$5:$AF$16,MONTH($AP$3),Q$11),\"\"))","v":7.8},{"$f":"IFERROR(INDEX(РВД!$D:$I,MATCH($C33,РВД!$A:$A,)+1,MATCH($N$4+R$11-1,INDEX(РВД!$D:$I,MATCH($C33,РВД!$A:$A,),),)),IF(R34=\"Я\",INDEX('график 7,8'!$B$5:$AF$16,MONTH($AP$3),R$11),\"\"))","v":""},{"$f":"IFERROR(INDEX(РВД!$D:$I,MATCH($C33,РВД!$A:$A,)+1,MATCH($N$4+S$11-1,INDEX(РВД!$D:$I,MATCH($C33,РВД!$A:$A,),),)),IF(S34=\"Я\",INDEX('график 7,8'!$B$5:$AF$16,MONTH($AP$3),S$11),\"\"))","v":""},{"$f":"SUMIF(E34:S34,\"Я\",E33:S33)","v":70.199999999999989},{"$f":"IFERROR(INDEX(РВД!$D:$I,MATCH($C33,РВД!$A:$A,)+1,MATCH($N$4+U$11-1,INDEX(РВД!$D:$I,MATCH($C33,РВД!$A:$A,),),)),IF(U34=\"Я\",INDEX('график 7,8'!$B$5:$AF$16,MONTH($AP$3),U$11),\"\"))","v":7.8},{"$f":"IFERROR(INDEX(РВД!$D:$I,MATCH($C33,РВД!$A:$A,)+1,MATCH($N$4+V$11-1,INDEX(РВД!$D:$I,MATCH($C33,РВД!$A:$A,),),)),IF(V34=\"Я\",INDEX('график 7,8'!$B$5:$AF$16,MONTH($AP$3),V$11),\"\"))","v":7.8},{"$f":"IFERROR(INDEX(РВД!$D:$I,MATCH($C33,РВД!$A:$A,)+1,MATCH($N$4+W$11-1,INDEX(РВД!$D:$I,MATCH($C33,РВД!$A:$A,),),)),IF(W34=\"Я\",INDEX('график 7,8'!$B$5:$AF$16,MONTH($AP$3),W$11),\"\"))","v":7.8},{"$f":"IFERROR(INDEX(РВД!$D:$I,MATCH($C33,РВД!$A:$A,)+1,MATCH($N$4+X$11-1,INDEX(РВД!$D:$I,MATCH($C33,РВД!$A:$A,),),)),IF(X34=\"Я\",INDEX('график 7,8'!$B$5:$AF$16,MONTH($AP$3),X$11),\"\"))","v":7.8},{"$f":"IFERROR(INDEX(РВД!$D:$I,MATCH($C33,РВД!$A:$A,)+1,MATCH($N$4+Y$11-1,INDEX(РВД!$D:$I,MATCH($C33,РВД!$A:$A,),),)),IF(Y34=\"Я\",INDEX('график 7,8'!$B$5:$AF$16,MONTH($AP$3),Y$11),\"\"))","v":7.8},{"$f":"IFERROR(INDEX(РВД!$D:$I,MATCH($C33,РВД!$A:$A,)+1,MATCH($N$4+Z$11-1,INDEX(РВД!$D:$I,MATCH($C33,РВД!$A:$A,),),)),IF(Z34=\"Я\",INDEX('график 7,8'!$B$5:$AF$16,MONTH($AP$3),Z$11),\"\"))","v":""},{"$f":"IFERROR(INDEX(РВД!$D:$I,MATCH($C33,РВД!$A:$A,)+1,MATCH($N$4+AA$11-1,INDEX(РВД!$D:$I,MATCH($C33,РВД!$A:$A,),),)),IF(AA34=\"Я\",INDEX('график 7,8'!$B$5:$AF$16,MONTH($AP$3),AA$11),\"\"))","v":""},{"$f":"IFERROR(INDEX(РВД!$D:$I,MATCH($C33,РВД!$A:$A,)+1,MATCH($N$4+AB$11-1,INDEX(РВД!$D:$I,MATCH($C33,РВД!$A:$A,),),)),IF(AB34=\"Я\",INDEX('график 7,8'!$B$5:$AF$16,MONTH($AP$3),AB$11),\"\"))","v":7.8},{"$f":"IFERROR(INDEX(РВД!$D:$I,MATCH($C33,РВД!$A:$A,)+1,MATCH($N$4+AC$11-1,INDEX(РВД!$D:$I,MATCH($C33,РВД!$A:$A,),),)),IF(AC34=\"Я\",INDEX('график 7,8'!$B$5:$AF$16,MONTH($AP$3),AC$11),\"\"))","v":7.8},{"$f":"IFERROR(INDEX(РВД!$D:$I,MATCH($C33,РВД!$A:$A,)+1,MATCH($N$4+AD$11-1,INDEX(РВД!$D:$I,MATCH($C33,РВД!$A:$A,),),)),IF(AD34=\"Я\",INDEX('график 7,8'!$B$5:$AF$16,MONTH($AP$3),AD$11),\"\"))","v":7.8},{"$f":"IFERROR(INDEX(РВД!$D:$I,MATCH($C33,РВД!$A:$A,)+1,MATCH($N$4+AE$11-1,INDEX(РВД!$D:$I,MATCH($C33,РВД!$A:$A,),),)),IF(AE34=\"Я\",INDEX('график 7,8'!$B$5:$AF$16,MONTH($AP$3),AE$11),\"\"))","v":7.8},{"$f":"IFERROR(INDEX(РВД!$D:$I,MATCH($C33,РВД!$A:$A,)+1,MATCH($N$4+AF$11-1,INDEX(РВД!$D:$I,MATCH($C33,РВД!$A:$A,),),)),IF(AF34=\"Я\",INDEX('график 7,8'!$B$5:$AF$16,MONTH($AP$3),AF$11),\"\"))","v":7.8},{"$f":"IFERROR(INDEX(РВД!$D:$I,MATCH($C33,РВД!$A:$A,)+1,MATCH($N$4+AG$11-1,INDEX(РВД!$D:$I,MATCH($C33,РВД!$A:$A,),),)),IF(AG34=\"Я\",INDEX('график 7,8'!$B$5:$AF$16,MONTH($AP$3),AG$11),\"\"))","v":""},{"$f":"IFERROR(INDEX(РВД!$D:$I,MATCH($C33,РВД!$A:$A,)+1,MATCH($N$4+AH$11-1,INDEX(РВД!$D:$I,MATCH($C33,РВД!$A:$A,),),)),IF(AH34=\"Я\",INDEX('график 7,8'!$B$5:$AF$16,MONTH($AP$3),AH$11),\"\"))","v":""},{"$f":"IFERROR(INDEX(РВД!$D:$I,MATCH($C33,РВД!$A:$A,)+1,MATCH($N$4+AI$11-1,INDEX(РВД!$D:$I,MATCH($C33,РВД!$A:$A,),),)),IF(AI34=\"Я\",INDEX('график 7,8'!$B$5:$AF$16,MONTH($AP$3),AI$11),\"\"))","v":7.8},{"$f":"IFERROR(INDEX(РВД!$D:$I,MATCH($C33,РВД!$A:$A,)+1,MATCH($N$4+AJ$11-1,INDEX(РВД!$D:$I,MATCH($C33,РВД!$A:$A,),),)),IF(AJ34=\"Я\",INDEX('график 7,8'!$B$5:$AF$16,MONTH($AP$3),AJ$11),\"\"))","v":7.8},{"$f":"\"Я/\"&SUMIF(E34:AJ34,\"Я\",E33:AJ33)","v":"Я/163,8"},{"$f":"(SUMIF(E34:AJ34,\"В\",E33:AJ33)+SUMIF(E34:AJ34,\"В.\",E33:AJ33))*2","v":0},{"$f":"COUNTIFS(E34:AJ34,\"Я\",E33:AJ33,\"<>\")","v":21},{"$f":"IFERROR(VLOOKUP(C33,доплаты!$A$5:$P$118,16,0),\"\")","v":"17,90,82,17,17"}]
[null,null,null,null,{"$f":"TRIM(LEFT(TRIM(INDEX(отсутствия!$N:$AR,MATCH($C33,отсутствия!$A:$A,),E$11)&\" \"&TEXT(INDEX('график 7,8'!$B$5:$AF$16,MONTH($AP$3),E$11)&\"\",\"Я\")),2))","v":"В"},{"$f":"TRIM(LEFT(TRIM(INDEX(отсутствия!$N:$AR,MATCH($C33,отсутствия!$A:$A,),F$11)&\" \"&TEXT(INDEX('график 7,8'!$B$5:$AF$16,MONTH($AP$3),F$11)&\"\",\"Я\")),2))","v":"Я"},{"$f":"TRIM(LEFT(TRIM(INDEX(отсутствия!$N:$AR,MATCH($C33,отсутствия!$A:$A,),G$11)&\" \"&TEXT(INDEX('график 7,8'!$B$5:$AF$16,MONTH($AP$3),G$11)&\"\",\"Я\")),2))","v":"Я"},{"$f":"TRIM(LEFT(TRIM(INDEX(отсутствия!$N:$AR,MATCH($C33,отсутствия!$A:$A,),H$11)&\" \"&TEXT(INDEX('график 7,8'!$B$5:$AF$16,MONTH($AP$3),H$11)&\"\",\"Я\")),2))","v":"Я"},{"$f":"TRIM(LEFT(TRIM(INDEX(отсутствия!$N:$AR,MATCH($C33,отсутствия!$A:$A,),I$11)&\" \"&TEXT(INDEX('график 7,8'!$B$5:$AF$16,MONTH($AP$3),I$11)&\"\",\"Я\")),2))","v":"Я"},{"$f":"TRIM(LEFT(TRIM(INDEX(отсутствия!$N:$AR,MATCH($C33,отсутствия!$A:$A,),J$11)&\" \"&TEXT(INDEX('график 7,8'!$B$5:$AF$16,MONTH($AP$3),J$11)&\"\",\"Я\")),2))","v":"Я"},{"$f":"TRIM(LEFT(TRIM(INDEX(отсутствия!$N:$AR,MATCH($C33,отсутствия!$A:$A,),K$11)&\" \"&TEXT(INDEX('график 7,8'!$B$5:$AF$16,MONTH($AP$3),K$11)&\"\",\"Я\")),2))","v":"В"},{"$f":"TRIM(LEFT(TRIM(INDEX(отсутствия!$N:$AR,MATCH($C33,отсутствия!$A:$A,),L$11)&\" \"&TEXT(INDEX('график 7,8'!$B$5:$AF$16,MONTH($AP$3),L$11)&\"\",\"Я\")),2))","v":"В."},{"$f":"TRIM(LEFT(TRIM(INDEX(отсутствия!$N:$AR,MATCH($C33,отсутствия!$A:$A,),M$11)&\" \"&TEXT(INDEX('график 7,8'!$B$5:$AF$16,MONTH($AP$3),M$11)&\"\",\"Я\")),2))","v":"В"},{"$f":"TRIM(LEFT(TRIM(INDEX(отсутствия!$N:$AR,MATCH($C33,отсутствия!$A:$A,),N$11)&\" \"&TEXT(INDEX('график 7,8'!$B$5:$AF$16,MONTH($AP$3),N$11)&\"\",\"Я\")),2))","v":"Я"},{"$f":"TRIM(LEFT(TRIM(INDEX(отсутствия!$N:$AR,MATCH($C33,отсутствия!$A:$A,),O$11)&\" \"&TEXT(INDEX('график 7,8'!$B$5:$AF$16,MONTH($AP$3),O$11)&\"\",\"Я\")),2))","v":"Я"},{"$f":"TRIM(LEFT(TRIM(INDEX(отсутствия!$N:$AR,MATCH($C33,отсутствия!$A:$A,),P$11)&\" \"&TEXT(INDEX('график 7,8'!$B$5:$AF$16,MONTH($AP$3),P$11)&\"\",\"Я\")),2))","v":"Я"},{"$f":"TRIM(LEFT(TRIM(INDEX(отсутствия!$N:$AR,MATCH($C33,отсутствия!$A:$A,),Q$11)&\" \"&TEXT(INDEX('график 7,8'!$B$5:$AF$16,MONTH($AP$3),Q$11)&\"\",\"Я\")),2))","v":"Я"},{"$f":"TRIM(LEFT(TRIM(INDEX(отсутствия!$N:$AR,MATCH($C33,отсутствия!$A:$A,),R$11)&\" \"&TEXT(INDEX('график 7,8'!$B$5:$AF$16,MONTH($AP$3),R$11)&\"\",\"Я\")),2))","v":"В"},{"$f":"TRIM(LEFT(TRIM(INDEX(отсутствия!$N:$AR,MATCH($C33,отсутствия!$A:$A,),S$11)&\" \"&TEXT(INDEX('график 7,8'!$B$5:$AF$16,MONTH($AP$3),S$11)&\"\",\"Я\")),2))","v":"В"},null,{"$f":"TRIM(LEFT(TRIM(INDEX(отсутствия!$N:$AR,MATCH($C33,отсутствия!$A:$A,),U$11)&\" \"&TEXT(INDEX('график 7,8'!$B$5:$AF$16,MONTH($AP$3),U$11)&\"\",\"Я\")),2))","v":"Я"},{"$f":"TRIM(LEFT(TRIM(INDEX(отсутствия!$N:$AR,MATCH($C33,отсутствия!$A:$A,),V$11)&\" \"&TEXT(INDEX('график 7,8'!$B$5:$AF$16,MONTH($AP$3),V$11)&\"\",\"Я\")),2))","v":"Я"},{"$f":"TRIM(LEFT(TRIM(INDEX(отсутствия!$N:$AR,MATCH($C33,отсутствия!$A:$A,),W$11)&\" \"&TEXT(INDEX('график 7,8'!$B$5:$AF$16,MONTH($AP$3),W$11)&\"\",\"Я\")),2))","v":"Я"},{"$f":"TRIM(LEFT(TRIM(INDEX(отсутствия!$N:$AR,MATCH($C33,отсутствия!$A:$A,),X$11)&\" \"&TEXT(INDEX('график 7,8'!$B$5:$AF$16,MONTH($AP$3),X$11)&\"\",\"Я\")),2))","v":"Я"},{"$f":"TRIM(LEFT(TRIM(INDEX(отсутствия!$N:$AR,MATCH($C33,отсутствия!$A:$A,),Y$11)&\" \"&TEXT(INDEX('график 7,8'!$B$5:$AF$16,MONTH($AP$3),Y$11)&\"\",\"Я\")),2))","v":"Я"},{"$f":"TRIM(LEFT(TRIM(INDEX(отсутствия!$N:$AR,MATCH($C33,отсутствия!$A:$A,),Z$11)&\" \"&TEXT(INDEX('график 7,8'!$B$5:$AF$16,MONTH($AP$3),Z$11)&\"\",\"Я\")),2))","v":"В"},{"$f":"TRIM(LEFT(TRIM(INDEX(отсутствия!$N:$AR,MATCH($C33,отсутствия!$A:$A,),AA$11)&\" \"&TEXT(INDEX('график 7,8'!$B$5:$AF$16,MONTH($AP$3),AA$11)&\"\",\"Я\")),2))","v":"В"},{"$f":"TRIM(LEFT(TRIM(INDEX(отсутствия!$N:$AR,MATCH($C33,отсутствия!$A:$A,),AB$11)&\" \"&TEXT(INDEX('график 7,8'!$B$5:$AF$16,MONTH($AP$3),AB$11)&\"\",\"Я\")),2))","v":"Я"},{"$f":"TRIM(LEFT(TRIM(INDEX(отсутствия!$N:$AR,MATCH($C33,отсутствия!$A:$A,),AC$11)&\" \"&TEXT(INDEX('график 7,8'!$B$5:$AF$16,MONTH($AP$3),AC$11)&\"\",\"Я\")),2))","v":"Я"},{"$f":"TRIM(LEFT(TRIM(INDEX(отсутствия!$N:$AR,MATCH($C33,отсутствия!$A:$A,),AD$11)&\" \"&TEXT(INDEX('график 7,8'!$B$5:$AF$16,MONTH($AP$3),AD$11)&\"\",\"Я\")),2))","v":"Я"},{"$f":"TRIM(LEFT(TRIM(INDEX(отсутствия!$N:$AR,MATCH($C33,отсутствия!$A:$A,),AE$11)&\" \"&TEXT(INDEX('график 7,8'!$B$5:$AF$16,MONTH($AP$3),AE$11)&\"\",\"Я\")),2))","v":"Я"},{"$f":"TRIM(LEFT(TRIM(INDEX(отсутствия!$N:$AR,MATCH($C33,отсутствия!$A:$A,),AF$11)&\" \"&TEXT(INDEX('график 7,8'!$B$5:$AF$16,MONTH($AP$3),AF$11)&\"\",\"Я\")),2))","v":"Я"},{"$f":"TRIM(LEFT(TRIM(INDEX(отсутствия!$N:$AR,MATCH($C33,отсутствия!$A:$A,),AG$11)&\" \"&TEXT(INDEX('график 7,8'!$B$5:$AF$16,MONTH($AP$3),AG$11)&\"\",\"Я\")),2))","v":"В"},{"$f":"TRIM(LEFT(TRIM(INDEX(отсутствия!$N:$AR,MATCH($C33,отсутствия!$A:$A,),AH$11)&\" \"&TEXT(INDEX('график 7,8'!$B$5:$AF$16,MONTH($AP$3),AH$11)&\"\",\"Я\")),2))","v":"В"},{"$f":"TRIM(LEFT(TRIM(INDEX(отсутствия!$N:$AR,MATCH($C33,отсутствия!$A:$A,),AI$11)&\" \"&TEXT(INDEX('график 7,8'!$B$5:$AF$16,MONTH($AP$3),AI$11)&\"\",\"Я\")),2))","v":"Я"},{"$f":"TRIM(LEFT(TRIM(INDEX(отсутствия!$N:$AR,MATCH($C33,отсутствия!$A:$A,),AJ$11)&\" \"&TEXT(INDEX('график 7,8'!$B$5:$AF$16,MONTH($AP$3),AJ$11)&\"\",\"Я\")),2))","v":"Я"}]
[3496,"Тихонов",3496,"сборная",{"$f":"IFERROR(INDEX(РВД!$D:$I,MATCH($C35,РВД!$A:$A,)+1,MATCH($N$4+E$11-1,INDEX(РВД!$D:$I,MATCH($C35,РВД!$A:$A,),),)),IF(E36=\"Я\",INDEX('график 7,8'!$B$28:$AF$39,MONTH($AP$3),E$11),\"\"))","v":""},{"$f":"IFERROR(INDEX(РВД!$D:$I,MATCH($C35,РВД!$A:$A,)+1,MATCH($N$4+F$11-1,INDEX(РВД!$D:$I,MATCH($C35,РВД!$A:$A,),),)),IF(F36=\"Я\",INDEX('график 7,8'!$B$28:$AF$39,MONTH($AP$3),F$11),\"\"))","v":5.85},{"$f":"IFERROR(INDEX(РВД!$D:$I,MATCH($C35,РВД!$A:$A,)+1,MATCH($N$4+G$11-1,INDEX(РВД!$D:$I,MATCH($C35,РВД!$A:$A,),),)),IF(G36=\"Я\",INDEX('график 7,8'!$B$28:$AF$39,MONTH($AP$3),G$11),\"\"))","v":5.85},{"$f":"IFERROR(INDEX(РВД!$D:$I,MATCH($C35,РВД!$A:$A,)+1,MATCH($N$4+H$11-1,INDEX(РВД!$D:$I,MATCH($C35,РВД!$A:$A,),),)),IF(H36=\"Я\",INDEX('график 7,8'!$B$28:$AF$39,MONTH($AP$3),H$11),\"\"))","v":5.85},{"$f":"IFERROR(INDEX(РВД!$D:$I,MATCH($C35,РВД!$A:$A,)+1,MATCH($N$4+I$11-1,INDEX(РВД!$D:$I,MATCH($C35,РВД!$A:$A,),),)),IF(I36=\"Я\",INDEX('график 7,8'!$B$28:$AF$39,MONTH($AP$3),I$11),\"\"))","v":5.85},{"$f":"IFERROR(INDEX(РВД!$D:$I,MATCH($C35,РВД!$A:$A,)+1,MATCH($N$4+J$11-1,INDEX(РВД!$D:$I,MATCH($C35,РВД!$A:$A,),),)),IF(J36=\"Я\",INDEX('график 7,8'!$B$28:$AF$39,MONTH($AP$3),J$11),\"\"))","v":5.85},{"$f":"IFERROR(INDEX(РВД!$D:$I,MATCH($C35,РВД!$A:$A,)+1,MATCH($N$4+K$11-1,INDEX(РВД!$D:$I,MATCH($C35,РВД!$A:$A,),),)),IF(K36=\"Я\",INDEX('график 7,8'!$B$28:$AF$39,MONTH($AP$3),K$11),\"\"))","v":""},{"$f":"IFERROR(INDEX(РВД!$D:$I,MATCH($C35,РВД!$A:$A,)+1,MATCH($N$4+L$11-1,INDEX(РВД!$D:$I,MATCH($C35,РВД!$A:$A,),),)),IF(L36=\"Я\",INDEX('график 7,8'!$B$28:$AF$39,MONTH($AP$3),L$11),\"\"))","v":""},{"$f":"IFERROR(INDEX(РВД!$D:$I,MATCH($C35,РВД!$A:$A,)+1,MATCH($N$4+M$11-1,INDEX(РВД!$D:$I,MATCH($C35,РВД!$A:$A,),),)),IF(M36=\"Я\",INDEX('график 7,8'!$B$28:$AF$39,MONTH($AP$3),M$11),\"\"))","v":""},{"$f":"IFERROR(INDEX(РВД!$D:$I,MATCH($C35,РВД!$A:$A,)+1,MATCH($N$4+N$11-1,INDEX(РВД!$D:$I,MATCH($C35,РВД!$A:$A,),),)),IF(N36=\"Я\",INDEX('график 7,8'!$B$28:$AF$39,MONTH($AP$3),N$11),\"\"))","v":5.85},{"$f":"IFERROR(INDEX(РВД!$D:$I,MATCH($C35,РВД!$A:$A,)+1,MATCH($N$4+O$11-1,INDEX(РВД!$D:$I,MATCH($C35,РВД!$A:$A,),),)),IF(O36=\"Я\",INDEX('график 7,8'!$B$28:$AF$39,MONTH($AP$3),O$11),\"\"))","v":5.85},{"$f":"IFERROR(INDEX(РВД!$D:$I,MATCH($C35,РВД!$A:$A,)+1,MATCH($N$4+P$11-1,INDEX(РВД!$D:$I,MATCH($C35,РВД!$A:$A,),),)),IF(P36=\"Я\",INDEX('график 7,8'!$B$28:$AF$39,MONTH($AP$3),P$11),\"\"))","v":5.85},{"$f":"IFERROR(INDEX(РВД!$D:$I,MATCH($C35,РВД!$A:$A,)+1,MATCH($N$4+Q$11-1,INDEX(РВД!$D:$I,MATCH($C35,РВД!$A:$A,),),)),IF(Q36=\"Я\",INDEX('график 7,8'!$B$28:$AF$39,MONTH($AP$3),Q$11),\"\"))","v":5.85},{"$f":"IFERROR(INDEX(РВД!$D:$I,MATCH($C35,РВД!$A:$A,)+1,MATCH($N$4+R$11-1,INDEX(РВД!$D:$I,MATCH($C35,РВД!$A:$A,),),)),IF(R36=\"Я\",INDEX('график 7,8'!$B$28:$AF$39,MONTH($AP$3),R$11),\"\"))","v":""},{"$f":"IFERROR(INDEX(РВД!$D:$I,MATCH($C35,РВД!$A:$A,)+1,MATCH($N$4+S$11-1,INDEX(РВД!$D:$I,MATCH($C35,РВД!$A:$A,),),)),IF(S36=\"Я\",INDEX('график 7,8'!$B$28:$AF$39,MONTH($AP$3),S$11),\"\"))","v":""},{"$f":"SUMIF(E36:S36,\"Я\",E35:S35)","v":52.650000000000006},{"$f":"IFERROR(INDEX(РВД!$D:$I,MATCH($C35,РВД!$A:$A,)+1,MATCH($N$4+U$11-1,INDEX(РВД!$D:$I,MATCH($C35,РВД!$A:$A,),),)),IF(U36=\"Я\",INDEX('график 7,8'!$B$28:$AF$39,MONTH($AP$3),U$11),\"\"))","v":5.85},{"$f":"IFERROR(INDEX(РВД!$D:$I,MATCH($C35,РВД!$A:$A,)+1,MATCH($N$4+V$11-1,INDEX(РВД!$D:$I,MATCH($C35,РВД!$A:$A,),),)),IF(V36=\"Я\",INDEX('график 7,8'!$B$28:$AF$39,MONTH($AP$3),V$11),\"\"))","v":5.85},{"$f":"IFERROR(INDEX(РВД!$D:$I,MATCH($C35,РВД!$A:$A,)+1,MATCH($N$4+W$11-1,INDEX(РВД!$D:$I,MATCH($C35,РВД!$A:$A,),),)),IF(W36=\"Я\",INDEX('график 7,8'!$B$28:$AF$39,MONTH($AP$3),W$11),\"\"))","v":5.85},{"$f":"IFERROR(INDEX(РВД!$D:$I,MATCH($C35,РВД!$A:$A,)+1,MATCH($N$4+X$11-1,INDEX(РВД!$D:$I,MATCH($C35,РВД!$A:$A,),),)),IF(X36=\"Я\",INDEX('график 7,8'!$B$28:$AF$39,MONTH($AP$3),X$11),\"\"))","v":5.85},{"$f":"IFERROR(INDEX(РВД!$D:$I,MATCH($C35,РВД!$A:$A,)+1,MATCH($N$4+Y$11-1,INDEX(РВД!$D:$I,MATCH($C35,РВД!$A:$A,),),)),IF(Y36=\"Я\",INDEX('график 7,8'!$B$28:$AF$39,MONTH($AP$3),Y$11),\"\"))","v":5.85},{"$f":"IFERROR(INDEX(РВД!$D:$I,MATCH($C35,РВД!$A:$A,)+1,MATCH($N$4+Z$11-1,INDEX(РВД!$D:$I,MATCH($C35,РВД!$A:$A,),),)),IF(Z36=\"Я\",INDEX('график 7,8'!$B$28:$AF$39,MONTH($AP$3),Z$11),\"\"))","v":""},{"$f":"IFERROR(INDEX(РВД!$D:$I,MATCH($C35,РВД!$A:$A,)+1,MATCH($N$4+AA$11-1,INDEX(РВД!$D:$I,MATCH($C35,РВД!$A:$A,),),)),IF(AA36=\"Я\",INDEX('график 7,8'!$B$28:$AF$39,MONTH($AP$3),AA$11),\"\"))","v":""},{"$f":"IFERROR(INDEX(РВД!$D:$I,MATCH($C35,РВД!$A:$A,)+1,MATCH($N$4+AB$11-1,INDEX(РВД!$D:$I,MATCH($C35,РВД!$A:$A,),),)),IF(AB36=\"Я\",INDEX('график 7,8'!$B$28:$AF$39,MONTH($AP$3),AB$11),\"\"))","v":5.85},{"$f":"IFERROR(INDEX(РВД!$D:$I,MATCH($C35,РВД!$A:$A,)+1,MATCH($N$4+AC$11-1,INDEX(РВД!$D:$I,MATCH($C35,РВД!$A:$A,),),)),IF(AC36=\"Я\",INDEX('график 7,8'!$B$28:$AF$39,MONTH($AP$3),AC$11),\"\"))","v":5.85},{"$f":"IFERROR(INDEX(РВД!$D:$I,MATCH($C35,РВД!$A:$A,)+1,MATCH($N$4+AD$11-1,INDEX(РВД!$D:$I,MATCH($C35,РВД!$A:$A,),),)),IF(AD36=\"Я\",INDEX('график 7,8'!$B$28:$AF$39,MONTH($AP$3),AD$11),\"\"))","v":5.85},{"$f":"IFERROR(INDEX(РВД!$D:$I,MATCH($C35,РВД!$A:$A,)+1,MATCH($N$4+AE$11-1,INDEX(РВД!$D:$I,MATCH($C35,РВД!$A:$A,),),)),IF(AE36=\"Я\",INDEX('график 7,8'!$B$28:$AF$39,MONTH($AP$3),AE$11),\"\"))","v":5.85},{"$f":"IFERROR(INDEX(РВД!$D:$I,MATCH($C35,РВД!$A:$A,)+1,MATCH($N$4+AF$11-1,INDEX(РВД!$D:$I,MATCH($C35,РВД!$A:$A,),),)),IF(AF36=\"Я\",INDEX('график 7,8'!$B$28:$AF$39,MONTH($AP$3),AF$11),\"\"))","v":5.85},{"$f":"IFERROR(INDEX(РВД!$D:$I,MATCH($C35,РВД!$A:$A,)+1,MATCH($N$4+AG$11-1,INDEX(РВД!$D:$I,MATCH($C35,РВД!$A:$A,),),)),IF(AG36=\"Я\",INDEX('график 7,8'!$B$28:$AF$39,MONTH($AP$3),AG$11),\"\"))","v":""},{"$f":"IFERROR(INDEX(РВД!$D:$I,MATCH($C35,РВД!$A:$A,)+1,MATCH($N$4+AH$11-1,INDEX(РВД!$D:$I,MATCH($C35,РВД!$A:$A,),),)),IF(AH36=\"Я\",INDEX('график 7,8'!$B$28:$AF$39,MONTH($AP$3),AH$11),\"\"))","v":""},{"$f":"IFERROR(INDEX(РВД!$D:$I,MATCH($C35,РВД!$A:$A,)+1,MATCH($N$4+AI$11-1,INDEX(РВД!$D:$I,MATCH($C35,РВД!$A:$A,),),)),IF(AI36=\"Я\",INDEX('график 7,8'!$B$28:$AF$39,MONTH($AP$3),AI$11),\"\"))","v":5.85},{"$f":"IFERROR(INDEX(РВД!$D:$I,MATCH($C35,РВД!$A:$A,)+1,MATCH($N$4+AJ$11-1,INDEX(РВД!$D:$I,MATCH($C35,РВД!$A:$A,),),)),IF(AJ36=\"Я\",INDEX('график 7,8'!$B$28:$AF$39,MONTH($AP$3),AJ$11),\"\"))","v":5.85},{"$f":"\"Я/\"&SUMIF(E36:AJ36,\"Я\",E35:AJ35)","v":"Я/122,85"},{"$f":"(SUMIF(E36:AJ36,\"В\",E35:AJ35)+SUMIF(E36:AJ36,\"В.\",E35:AJ35))*2","v":0},{"$f":"COUNTIFS(E36:AJ36,\"Я\",E35:AJ35,\"<>\")","v":21},{"$f":"IFERROR(VLOOKUP(C35,доплаты!$A$5:$P$118,16,0),\"\")","v":"30"}]
[null,null,null,null,{"$f":"TRIM(LEFT(TRIM(INDEX(отсутствия!$N:$AR,MATCH($C35,отсутствия!$A:$A,),E$11)&\" \"&TEXT(INDEX('график 7,8'!$B$28:$AF$39,MONTH($AP$3),E$11)&\"\",\"Я\")),2))","v":"В"},{"$f":"TRIM(LEFT(TRIM(INDEX(отсутствия!$N:$AR,MATCH($C35,отсутствия!$A:$A,),F$11)&\" \"&TEXT(INDEX('график 7,8'!$B$28:$AF$39,MONTH($AP$3),F$11)&\"\",\"Я\")),2))","v":"Я"},{"$f":"TRIM(LEFT(TRIM(INDEX(отсутствия!$N:$AR,MATCH($C35,отсутствия!$A:$A,),G$11)&\" \"&TEXT(INDEX('график 7,8'!$B$28:$AF$39,MONTH($AP$3),G$11)&\"\",\"Я\")),2))","v":"Я"},{"$f":"TRIM(LEFT(TRIM(INDEX(отсутствия!$N:$AR,MATCH($C35,отсутствия!$A:$A,),H$11)&\" \"&TEXT(INDEX('график 7,8'!$B$28:$AF$39,MONTH($AP$3),H$11)&\"\",\"Я\")),2))","v":"Я"},{"$f":"TRIM(LEFT(TRIM(INDEX(отсутствия!$N:$AR,MATCH($C35,отсутствия!$A:$A,),I$11)&\" \"&TEXT(INDEX('график 7,8'!$B$28:$AF$39,MONTH($AP$3),I$11)&\"\",\"Я\")),2))","v":"Я"},{"$f":"TRIM(LEFT(TRIM(INDEX(отсутствия!$N:$AR,MATCH($C35,отсутствия!$A:$A,),J$11)&\" \"&TEXT(INDEX('график 7,8'!$B$28:$AF$39,MONTH($AP$3),J$11)&\"\",\"Я\")),2))","v":"Я"},{"$f":"TRIM(LEFT(TRIM(INDEX(отсутствия!$N:$AR,MATCH($C35,отсутствия!$A:$A,),K$11)&\" \"&TEXT(INDEX('график 7,8'!$B$28:$AF$39,MONTH($AP$3),K$11)&\"\",\"Я\")),2))","v":"В"},{"$f":"TRIM(LEFT(TRIM(INDEX(отсутствия!$N:$AR,MATCH($C35,отсутствия!$A:$A,),L$11)&\" \"&TEXT(INDEX('график 7,8'!$B$28:$AF$39,MONTH($AP$3),L$11)&\"\",\"Я\")),2))","v":"В."},{"$f":"TRIM(LEFT(TRIM(INDEX(отсутствия!$N:$AR,MATCH($C35,отсутствия!$A:$A,),M$11)&\" \"&TEXT(INDEX('график 7,8'!$B$28:$AF$39,MONTH($AP$3),M$11)&\"\",\"Я\")),2))","v":"В"},{"$f":"TRIM(LEFT(TRIM(INDEX(отсутствия!$N:$AR,MATCH($C35,отсутствия!$A:$A,),N$11)&\" \"&TEXT(INDEX('график 7,8'!$B$28:$AF$39,MONTH($AP$3),N$11)&\"\",\"Я\")),2))","v":"Я"},{"$f":"TRIM(LEFT(TRIM(INDEX(отсутствия!$N:$AR,MATCH($C35,отсутствия!$A:$A,),O$11)&\" \"&TEXT(INDEX('график 7,8'!$B$28:$AF$39,MONTH($AP$3),O$11)&\"\",\"Я\")),2))","v":"Я"},{"$f":"TRIM(LEFT(TRIM(INDEX(отсутствия!$N:$AR,MATCH($C35,отсутствия!$A:$A,),P$11)&\" \"&TEXT(INDEX('график 7,8'!$B$28:$AF$39,MONTH($AP$3),P$11)&\"\",\"Я\")),2))","v":"Я"},{"$f":"TRIM(LEFT(TRIM(INDEX(отсутствия!$N:$AR,MATCH($C35,отсутствия!$A:$A,),Q$11)&\" \"&TEXT(INDEX('график 7,8'!$B$28:$AF$39,MONTH($AP$3),Q$11)&\"\",\"Я\")),2))","v":"Я"},{"$f":"TRIM(LEFT(TRIM(INDEX(отсутствия!$N:$AR,MATCH($C35,отсутствия!$A:$A,),R$11)&\" \"&TEXT(INDEX('график 7,8'!$B$28:$AF$39,MONTH($AP$3),R$11)&\"\",\"Я\")),2))","v":"В"},{"$f":"TRIM(LEFT(TRIM(INDEX(отсутствия!$N:$AR,MATCH($C35,отсутствия!$A:$A,),S$11)&\" \"&TEXT(INDEX('график 7,8'!$B$28:$AF$39,MONTH($AP$3),S$11)&\"\",\"Я\")),2))","v":"В"},null,{"$f":"TRIM(LEFT(TRIM(INDEX(отсутствия!$N:$AR,MATCH($C35,отсутствия!$A:$A,),U$11)&\" \"&TEXT(INDEX('график 7,8'!$B$28:$AF$39,MONTH($AP$3),U$11)&\"\",\"Я\")),2))","v":"Я"},{"$f":"TRIM(LEFT(TRIM(INDEX(отсутствия!$N:$AR,MATCH($C35,отсутствия!$A:$A,),V$11)&\" \"&TEXT(INDEX('график 7,8'!$B$28:$AF$39,MONTH($AP$3),V$11)&\"\",\"Я\")),2))","v":"Я"},{"$f":"TRIM(LEFT(TRIM(INDEX(отсутствия!$N:$AR,MATCH($C35,отсутствия!$A:$A,),W$11)&\" \"&TEXT(INDEX('график 7,8'!$B$28:$AF$39,MONTH($AP$3),W$11)&\"\",\"Я\")),2))","v":"Я"},{"$f":"TRIM(LEFT(TRIM(INDEX(отсутствия!$N:$AR,MATCH($C35,отсутствия!$A:$A,),X$11)&\" \"&TEXT(INDEX('график 7,8'!$B$28:$AF$39,MONTH($AP$3),X$11)&\"\",\"Я\")),2))","v":"Я"},{"$f":"TRIM(LEFT(TRIM(INDEX(отсутствия!$N:$AR,MATCH($C35,отсутствия!$A:$A,),Y$11)&\" \"&TEXT(INDEX('график 7,8'!$B$28:$AF$39,MONTH($AP$3),Y$11)&\"\",\"Я\")),2))","v":"Я"},{"$f":"TRIM(LEFT(TRIM(INDEX(отсутствия!$N:$AR,MATCH($C35,отсутствия!$A:$A,),Z$11)&\" \"&TEXT(INDEX('график 7,8'!$B$28:$AF$39,MONTH($AP$3),Z$11)&\"\",\"Я\")),2))","v":"В"},{"$f":"TRIM(LEFT(TRIM(INDEX(отсутствия!$N:$AR,MATCH($C35,отсутствия!$A:$A,),AA$11)&\" \"&TEXT(INDEX('график 7,8'!$B$28:$AF$39,MONTH($AP$3),AA$11)&\"\",\"Я\")),2))","v":"В"},{"$f":"TRIM(LEFT(TRIM(INDEX(отсутствия!$N:$AR,MATCH($C35,отсутствия!$A:$A,),AB$11)&\" \"&TEXT(INDEX('график 7,8'!$B$28:$AF$39,MONTH($AP$3),AB$11)&\"\",\"Я\")),2))","v":"Я"},{"$f":"TRIM(LEFT(TRIM(INDEX(отсутствия!$N:$AR,MATCH($C35,отсутствия!$A:$A,),AC$11)&\" \"&TEXT(INDEX('график 7,8'!$B$28:$AF$39,MONTH($AP$3),AC$11)&\"\",\"Я\")),2))","v":"Я"},{"$f":"TRIM(LEFT(TRIM(INDEX(отсутствия!$N:$AR,MATCH($C35,отсутствия!$A:$A,),AD$11)&\" \"&TEXT(INDEX('график 7,8'!$B$28:$AF$39,MONTH($AP$3),AD$11)&\"\",\"Я\")),2))","v":"Я"},{"$f":"TRIM(LEFT(TRIM(INDEX(отсутствия!$N:$AR,MATCH($C35,отсутствия!$A:$A,),AE$11)&\" \"&TEXT(INDEX('график 7,8'!$B$28:$AF$39,MONTH($AP$3),AE$11)&\"\",\"Я\")),2))","v":"Я"},{"$f":"TRIM(LEFT(TRIM(INDEX(отсутствия!$N:$AR,MATCH($C35,отсутствия!$A:$A,),AF$11)&\" \"&TEXT(INDEX('график 7,8'!$B$28:$AF$39,MONTH($AP$3),AF$11)&\"\",\"Я\")),2))","v":"Я"},{"$f":"TRIM(LEFT(TRIM(INDEX(отсутствия!$N:$AR,MATCH($C35,отсутствия!$A:$A,),AG$11)&\" \"&TEXT(INDEX('график 7,8'!$B$28:$AF$39,MONTH($AP$3),AG$11)&\"\",\"Я\")),2))","v":"В"},{"$f":"TRIM(LEFT(TRIM(INDEX(отсутствия!$N:$AR,MATCH($C35,отсутствия!$A:$A,),AH$11)&\" \"&TEXT(INDEX('график 7,8'!$B$28:$AF$39,MONTH($AP$3),AH$11)&\"\",\"Я\")),2))","v":"В"},{"$f":"TRIM(LEFT(TRIM(INDEX(отсутствия!$N:$AR,MATCH($C35,отсутствия!$A:$A,),AI$11)&\" \"&TEXT(INDEX('график 7,8'!$B$28:$AF$39,MONTH($AP$3),AI$11)&\"\",\"Я\")),2))","v":"Я"},{"$f":"TRIM(LEFT(TRIM(INDEX(отсутствия!$N:$AR,MATCH($C35,отсутствия!$A:$A,),AJ$11)&\" \"&TEXT(INDEX('график 7,8'!$B$28:$AF$39,MONTH($AP$3),AJ$11)&\"\",\"Я\")),2))","v":"Я"}]
[4453,"Малкин",4453,"сборная",{"$f":"IFERROR(INDEX(РВД!$D:$I,MATCH($C37,РВД!$A:$A,)+1,MATCH($N$4+E$11-1,INDEX(РВД!$D:$I,MATCH($C37,РВД!$A:$A,),),)),IF(E38=\"Я\",INDEX('график 7,8'!$B$5:$AF$16,MONTH($AP$3),E$11),\"\"))","v":""},{"$f":"IFERROR(INDEX(РВД!$D:$I,MATCH($C37,РВД!$A:$A,)+1,MATCH($N$4+F$11-1,INDEX(РВД!$D:$I,MATCH($C37,РВД!$A:$A,),),)),IF(F38=\"Я\",INDEX('график 7,8'!$B$5:$AF$16,MONTH($AP$3),F$11),\"\"))","v":7.8},{"$f":"IFERROR(INDEX(РВД!$D:$I,MATCH($C37,РВД!$A:$A,)+1,MATCH($N$4+G$11-1,INDEX(РВД!$D:$I,MATCH($C37,РВД!$A:$A,),),)),IF(G38=\"Я\",INDEX('график 7,8'!$B$5:$AF$16,MONTH($AP$3),G$11),\"\"))","v":7.8},{"$f":"IFERROR(INDEX(РВД!$D:$I,MATCH($C37,РВД!$A:$A,)+1,MATCH($N$4+H$11-1,INDEX(РВД!$D:$I,MATCH($C37,РВД!$A:$A,),),)),IF(H38=\"Я\",INDEX('график 7,8'!$B$5:$AF$16,MONTH($AP$3),H$11),\"\"))","v":7.8},{"$f":"IFERROR(INDEX(РВД!$D:$I,MATCH($C37,РВД!$A:$A,)+1,MATCH($N$4+I$11-1,INDEX(РВД!$D:$I,MATCH($C37,РВД!$A:$A,),),)),IF(I38=\"Я\",INDEX('график 7,8'!$B$5:$AF$16,MONTH($AP$3),I$11),\"\"))","v":7.8},{"$f":"IFERROR(INDEX(РВД!$D:$I,MATCH($C37,РВД!$A:$A,)+1,MATCH($N$4+J$11-1,INDEX(РВД!$D:$I,MATCH($C37,РВД!$A:$A,),),)),IF(J38=\"Я\",INDEX('график 7,8'!$B$5:$AF$16,MONTH($AP$3),J$11),\"\"))","v":7.8},{"$f":"IFERROR(INDEX(РВД!$D:$I,MATCH($C37,РВД!$A:$A,)+1,MATCH($N$4+K$11-1,INDEX(РВД!$D:$I,MATCH($C37,РВД!$A:$A,),),)),IF(K38=\"Я\",INDEX('график 7,8'!$B$5:$AF$16,MONTH($AP$3),K$11),\"\"))","v":""},{"$f":"IFERROR(INDEX(РВД!$D:$I,MATCH($C37,РВД!$A:$A,)+1,MATCH($N$4+L$11-1,INDEX(РВД!$D:$I,MATCH($C37,РВД!$A:$A,),),)),IF(L38=\"Я\",INDEX('график 7,8'!$B$5:$AF$16,MONTH($AP$3),L$11),\"\"))","v":""},{"$f":"IFERROR(INDEX(РВД!$D:$I,MATCH($C37,РВД!$A:$A,)+1,MATCH($N$4+M$11-1,INDEX(РВД!$D:$I,MATCH($C37,РВД!$A:$A,),),)),IF(M38=\"Я\",INDEX('график 7,8'!$B$5:$AF$16,MONTH($AP$3),M$11),\"\"))","v":""},{"$f":"IFERROR(INDEX(РВД!$D:$I,MATCH($C37,РВД!$A:$A,)+1,MATCH($N$4+N$11-1,INDEX(РВД!$D:$I,MATCH($C37,РВД!$A:$A,),),)),IF(N38=\"Я\",INDEX('график 7,8'!$B$5:$AF$16,MONTH($AP$3),N$11),\"\"))","v":7.8},{"$f":"IFERROR(INDEX(РВД!$D:$I,MATCH($C37,РВД!$A:$A,)+1,MATCH($N$4+O$11-1,INDEX(РВД!$D:$I,MATCH($C37,РВД!$A:$A,),),)),IF(O38=\"Я\",INDEX('график 7,8'!$B$5:$AF$16,MONTH($AP$3),O$11),\"\"))","v":7.8},{"$f":"IFERROR(INDEX(РВД!$D:$I,MATCH($C37,РВД!$A:$A,)+1,MATCH($N$4+P$11-1,INDEX(РВД!$D:$I,MATCH($C37,РВД!$A:$A,),),)),IF(P38=\"Я\",INDEX('график 7,8'!$B$5:$AF$16,MONTH($AP$3),P$11),\"\"))","v":7.8},{"$f":"IFERROR(INDEX(РВД!$D:$I,MATCH($C37,РВД!$A:$A,)+1,MATCH($N$4+Q$11-1,INDEX(РВД!$D:$I,MATCH($C37,РВД!$A:$A,),),)),IF(Q38=\"Я\",INDEX('график 7,8'!$B$5:$AF$16,MONTH($AP$3),Q$11),\"\"))","v":7.8},{"$f":"IFERROR(INDEX(РВД!$D:$I,MATCH($C37,РВД!$A:$A,)+1,MATCH($N$4+R$11-1,INDEX(РВД!$D:$I,MATCH($C37,РВД!$A:$A,),),)),IF(R38=\"Я\",INDEX('график 7,8'!$B$5:$AF$16,MONTH($AP$3),R$11),\"\"))","v":""},{"$f":"IFERROR(INDEX(РВД!$D:$I,MATCH($C37,РВД!$A:$A,)+1,MATCH($N$4+S$11-1,INDEX(РВД!$D:$I,MATCH($C37,РВД!$A:$A,),),)),IF(S38=\"Я\",INDEX('график 7,8'!$B$5:$AF$16,MONTH($AP$3),S$11),\"\"))","v":""},{"$f":"SUMIF(E38:S38,\"Я\",E37:S37)","v":70.199999999999989},{"$f":"IFERROR(INDEX(РВД!$D:$I,MATCH($C37,РВД!$A:$A,)+1,MATCH($N$4+U$11-1,INDEX(РВД!$D:$I,MATCH($C37,РВД!$A:$A,),),)),IF(U38=\"Я\",INDEX('график 7,8'!$B$5:$AF$16,MONTH($AP$3),U$11),\"\"))","v":7.8},{"$f":"IFERROR(INDEX(РВД!$D:$I,MATCH($C37,РВД!$A:$A,)+1,MATCH($N$4+V$11-1,INDEX(РВД!$D:$I,MATCH($C37,РВД!$A:$A,),),)),IF(V38=\"Я\",INDEX('график 7,8'!$B$5:$AF$16,MONTH($AP$3),V$11),\"\"))","v":7.8},{"$f":"IFERROR(INDEX(РВД!$D:$I,MATCH($C37,РВД!$A:$A,)+1,MATCH($N$4+W$11-1,INDEX(РВД!$D:$I,MATCH($C37,РВД!$A:$A,),),)),IF(W38=\"Я\",INDEX('график 7,8'!$B$5:$AF$16,MONTH($AP$3),W$11),\"\"))","v":7.8},{"$f":"IFERROR(INDEX(РВД!$D:$I,MATCH($C37,РВД!$A:$A,)+1,MATCH($N$4+X$11-1,INDEX(РВД!$D:$I,MATCH($C37,РВД!$A:$A,),),)),IF(X38=\"Я\",INDEX('график 7,8'!$B$5:$AF$16,MONTH($AP$3),X$11),\"\"))","v":7.8},{"$f":"IFERROR(INDEX(РВД!$D:$I,MATCH($C37,РВД!$A:$A,)+1,MATCH($N$4+Y$11-1,INDEX(РВД!$D:$I,MATCH($C37,РВД!$A:$A,),),)),IF(Y38=\"Я\",INDEX('график 7,8'!$B$5:$AF$16,MONTH($AP$3),Y$11),\"\"))","v":7.8},{"$f":"IFERROR(INDEX(РВД!$D:$I,MATCH($C37,РВД!$A:$A,)+1,MATCH($N$4+Z$11-1,INDEX(РВД!$D:$I,MATCH($C37,РВД!$A:$A,),),)),IF(Z38=\"Я\",INDEX('график 7,8'!$B$5:$AF$16,MONTH($AP$3),Z$11),\"\"))","v":""},{"$f":"IFERROR(INDEX(РВД!$D:$I,MATCH($C37,РВД!$A:$A,)+1,MATCH($N$4+AA$11-1,INDEX(РВД!$D:$I,MATCH($C37,РВД!$A:$A,),),)),IF(AA38=\"Я\",INDEX('график 7,8'!$B$5:$AF$16,MONTH($AP$3),AA$11),\"\"))","v":""},{"$f":"IFERROR(INDEX(РВД!$D:$I,MATCH($C37,РВД!$A:$A,)+1,MATCH($N$4+AB$11-1,INDEX(РВД!$D:$I,MATCH($C37,РВД!$A:$A,),),)),IF(AB38=\"Я\",INDEX('график 7,8'!$B$5:$AF$16,MONTH($AP$3),AB$11),\"\"))","v":7.8},{"$f":"IFERROR(INDEX(РВД!$D:$I,MATCH($C37,РВД!$A:$A,)+1,MATCH($N$4+AC$11-1,INDEX(РВД!$D:$I,MATCH($C37,РВД!$A:$A,),),)),IF(AC38=\"Я\",INDEX('график 7,8'!$B$5:$AF$16,MONTH($AP$3),AC$11),\"\"))","v":7.8},{"$f":"IFERROR(INDEX(РВД!$D:$I,MATCH($C37,РВД!$A:$A,)+1,MATCH($N$4+AD$11-1,INDEX(РВД!$D:$I,MATCH($C37,РВД!$A:$A,),),)),IF(AD38=\"Я\",INDEX('график 7,8'!$B$5:$AF$16,MONTH($AP$3),AD$11),\"\"))","v":7.8},{"$f":"IFERROR(INDEX(РВД!$D:$I,MATCH($C37,РВД!$A:$A,)+1,MATCH($N$4+AE$11-1,INDEX(РВД!$D:$I,MATCH($C37,РВД!$A:$A,),),)),IF(AE38=\"Я\",INDEX('график 7,8'!$B$5:$AF$16,MONTH($AP$3),AE$11),\"\"))","v":7.8},{"$f":"IFERROR(INDEX(РВД!$D:$I,MATCH($C37,РВД!$A:$A,)+1,MATCH($N$4+AF$11-1,INDEX(РВД!$D:$I,MATCH($C37,РВД!$A:$A,),),)),IF(AF38=\"Я\",INDEX('график 7,8'!$B$5:$AF$16,MONTH($AP$3),AF$11),\"\"))","v":7.8},{"$f":"IFERROR(INDEX(РВД!$D:$I,MATCH($C37,РВД!$A:$A,)+1,MATCH($N$4+AG$11-1,INDEX(РВД!$D:$I,MATCH($C37,РВД!$A:$A,),),)),IF(AG38=\"Я\",INDEX('график 7,8'!$B$5:$AF$16,MONTH($AP$3),AG$11),\"\"))","v":""},{"$f":"IFERROR(INDEX(РВД!$D:$I,MATCH($C37,РВД!$A:$A,)+1,MATCH($N$4+AH$11-1,INDEX(РВД!$D:$I,MATCH($C37,РВД!$A:$A,),),)),IF(AH38=\"Я\",INDEX('график 7,8'!$B$5:$AF$16,MONTH($AP$3),AH$11),\"\"))","v":""},{"$f":"IFERROR(INDEX(РВД!$D:$I,MATCH($C37,РВД!$A:$A,)+1,MATCH($N$4+AI$11-1,INDEX(РВД!$D:$I,MATCH($C37,РВД!$A:$A,),),)),IF(AI38=\"Я\",INDEX('график 7,8'!$B$5:$AF$16,MONTH($AP$3),AI$11),\"\"))","v":7.8},{"$f":"IFERROR(INDEX(РВД!$D:$I,MATCH($C37,РВД!$A:$A,)+1,MATCH($N$4+AJ$11-1,INDEX(РВД!$D:$I,MATCH($C37,РВД!$A:$A,),),)),IF(AJ38=\"Я\",INDEX('график 7,8'!$B$5:$AF$16,MONTH($AP$3),AJ$11),\"\"))","v":7.8},{"$f":"\"Я/\"&SUMIF(E38:AJ38,\"Я\",E37:AJ37)","v":"Я/163,8"},{"$f":"(SUMIF(E38:AJ38,\"В\",E37:AJ37)+SUMIF(E38:AJ38,\"В.\",E37:AJ37))*2","v":0},{"$f":"COUNTIFS(E38:AJ38,\"Я\",E37:AJ37,\"<>\")","v":21},{"$f":"IFERROR(VLOOKUP(C37,доплаты!$A$5:$P$118,16,0),\"\")","v":"17,17"}]
[null,null,null,null,{"$f":"TRIM(LEFT(TRIM(INDEX(отсутствия!$N:$AR,MATCH($C37,отсутствия!$A:$A,),E$11)&\" \"&TEXT(INDEX('график 7,8'!$B$5:$AF$16,MONTH($AP$3),E$11)&\"\",\"Я\")),2))","v":"В"},{"$f":"TRIM(LEFT(TRIM(INDEX(отсутствия!$N:$AR,MATCH($C37,отсутствия!$A:$A,),F$11)&\" \"&TEXT(INDEX('график 7,8'!$B$5:$AF$16,MONTH($AP$3),F$11)&\"\",\"Я\")),2))","v":"Я"},{"$f":"TRIM(LEFT(TRIM(INDEX(отсутствия!$N:$AR,MATCH($C37,отсутствия!$A:$A,),G$11)&\" \"&TEXT(INDEX('график 7,8'!$B$5:$AF$16,MONTH($AP$3),G$11)&\"\",\"Я\")),2))","v":"Я"},{"$f":"TRIM(LEFT(TRIM(INDEX(отсутствия!$N:$AR,MATCH($C37,отсутствия!$A:$A,),H$11)&\" \"&TEXT(INDEX('график 7,8'!$B$5:$AF$16,MONTH($AP$3),H$11)&\"\",\"Я\")),2))","v":"Я"},{"$f":"TRIM(LEFT(TRIM(INDEX(отсутствия!$N:$AR,MATCH($C37,отсутствия!$A:$A,),I$11)&\" \"&TEXT(INDEX('график 7,8'!$B$5:$AF$16,MONTH($AP$3),I$11)&\"\",\"Я\")),2))","v":"Я"},{"$f":"TRIM(LEFT(TRIM(INDEX(отсутствия!$N:$AR,MATCH($C37,отсутствия!$A:$A,),J$11)&\" \"&TEXT(INDEX('график 7,8'!$B$5:$AF$16,MONTH($AP$3),J$11)&\"\",\"Я\")),2))","v":"Я"},{"$f":"TRIM(LEFT(TRIM(INDEX(отсутствия!$N:$AR,MATCH($C37,отсутствия!$A:$A,),K$11)&\" \"&TEXT(INDEX('график 7,8'!$B$5:$AF$16,MONTH($AP$3),K$11)&\"\",\"Я\")),2))","v":"В"},{"$f":"TRIM(LEFT(TRIM(INDEX(отсутствия!$N:$AR,MATCH($C37,отсутствия!$A:$A,),L$11)&\" \"&TEXT(INDEX('график 7,8'!$B$5:$AF$16,MONTH($AP$3),L$11)&\"\",\"Я\")),2))","v":"В."},{"$f":"TRIM(LEFT(TRIM(INDEX(отсутствия!$N:$AR,MATCH($C37,отсутствия!$A:$A,),M$11)&\" \"&TEXT(INDEX('график 7,8'!$B$5:$AF$16,MONTH($AP$3),M$11)&\"\",\"Я\")),2))","v":"В"},{"$f":"TRIM(LEFT(TRIM(INDEX(отсутствия!$N:$AR,MATCH($C37,отсутствия!$A:$A,),N$11)&\" \"&TEXT(INDEX('график 7,8'!$B$5:$AF$16,MONTH($AP$3),N$11)&\"\",\"Я\")),2))","v":"Я"},{"$f":"TRIM(LEFT(TRIM(INDEX(отсутствия!$N:$AR,MATCH($C37,отсутствия!$A:$A,),O$11)&\" \"&TEXT(INDEX('график 7,8'!$B$5:$AF$16,MONTH($AP$3),O$11)&\"\",\"Я\")),2))","v":"Я"},{"$f":"TRIM(LEFT(TRIM(INDEX(отсутствия!$N:$AR,MATCH($C37,отсутствия!$A:$A,),P$11)&\" \"&TEXT(INDEX('график 7,8'!$B$5:$AF$16,MONTH($AP$3),P$11)&\"\",\"Я\")),2))","v":"Я"},{"$f":"TRIM(LEFT(TRIM(INDEX(отсутствия!$N:$AR,MATCH($C37,отсутствия!$A:$A,),Q$11)&\" \"&TEXT(INDEX('график 7,8'!$B$5:$AF$16,MONTH($AP$3),Q$11)&\"\",\"Я\")),2))","v":"Я"},{"$f":"TRIM(LEFT(TRIM(INDEX(отсутствия!$N:$AR,MATCH($C37,отсутствия!$A:$A,),R$11)&\" \"&TEXT(INDEX('график 7,8'!$B$5:$AF$16,MONTH($AP$3),R$11)&\"\",\"Я\")),2))","v":"В"},{"$f":"TRIM(LEFT(TRIM(INDEX(отсутствия!$N:$AR,MATCH($C37,отсутствия!$A:$A,),S$11)&\" \"&TEXT(INDEX('график 7,8'!$B$5:$AF$16,MONTH($AP$3),S$11)&\"\",\"Я\")),2))","v":"В"},null,{"$f":"TRIM(LEFT(TRIM(INDEX(отсутствия!$N:$AR,MATCH($C37,отсутствия!$A:$A,),U$11)&\" \"&TEXT(INDEX('график 7,8'!$B$5:$AF$16,MONTH($AP$3),U$11)&\"\",\"Я\")),2))","v":"Я"},{"$f":"TRIM(LEFT(TRIM(INDEX(отсутствия!$N:$AR,MATCH($C37,отсутствия!$A:$A,),V$11)&\" \"&TEXT(INDEX('график 7,8'!$B$5:$AF$16,MONTH($AP$3),V$11)&\"\",\"Я\")),2))","v":"Я"},{"$f":"TRIM(LEFT(TRIM(INDEX(отсутствия!$N:$AR,MATCH($C37,отсутствия!$A:$A,),W$11)&\" \"&TEXT(INDEX('график 7,8'!$B$5:$AF$16,MONTH($AP$3),W$11)&\"\",\"Я\")),2))","v":"Я"},{"$f":"TRIM(LEFT(TRIM(INDEX(отсутствия!$N:$AR,MATCH($C37,отсутствия!$A:$A,),X$11)&\" \"&TEXT(INDEX('график 7,8'!$B$5:$AF$16,MONTH($AP$3),X$11)&\"\",\"Я\")),2))","v":"Я"},{"$f":"TRIM(LEFT(TRIM(INDEX(отсутствия!$N:$AR,MATCH($C37,отсутствия!$A:$A,),Y$11)&\" \"&TEXT(INDEX('график 7,8'!$B$5:$AF$16,MONTH($AP$3),Y$11)&\"\",\"Я\")),2))","v":"Я"},{"$f":"TRIM(LEFT(TRIM(INDEX(отсутствия!$N:$AR,MATCH($C37,отсутствия!$A:$A,),Z$11)&\" \"&TEXT(INDEX('график 7,8'!$B$5:$AF$16,MONTH($AP$3),Z$11)&\"\",\"Я\")),2))","v":"В"},{"$f":"TRIM(LEFT(TRIM(INDEX(отсутствия!$N:$AR,MATCH($C37,отсутствия!$A:$A,),AA$11)&\" \"&TEXT(INDEX('график 7,8'!$B$5:$AF$16,MONTH($AP$3),AA$11)&\"\",\"Я\")),2))","v":"В"},{"$f":"TRIM(LEFT(TRIM(INDEX(отсутствия!$N:$AR,MATCH($C37,отсутствия!$A:$A,),AB$11)&\" \"&TEXT(INDEX('график 7,8'!$B$5:$AF$16,MONTH($AP$3),AB$11)&\"\",\"Я\")),2))","v":"Я"},{"$f":"TRIM(LEFT(TRIM(INDEX(отсутствия!$N:$AR,MATCH($C37,отсутствия!$A:$A,),AC$11)&\" \"&TEXT(INDEX('график 7,8'!$B$5:$AF$16,MONTH($AP$3),AC$11)&\"\",\"Я\")),2))","v":"Я"},{"$f":"TRIM(LEFT(TRIM(INDEX(отсутствия!$N:$AR,MATCH($C37,отсутствия!$A:$A,),AD$11)&\" \"&TEXT(INDEX('график 7,8'!$B$5:$AF$16,MONTH($AP$3),AD$11)&\"\",\"Я\")),2))","v":"Я"},{"$f":"TRIM(LEFT(TRIM(INDEX(отсутствия!$N:$AR,MATCH($C37,отсутствия!$A:$A,),AE$11)&\" \"&TEXT(INDEX('график 7,8'!$B$5:$AF$16,MONTH($AP$3),AE$11)&\"\",\"Я\")),2))","v":"Я"},{"$f":"TRIM(LEFT(TRIM(INDEX(отсутствия!$N:$AR,MATCH($C37,отсутствия!$A:$A,),AF$11)&\" \"&TEXT(INDEX('график 7,8'!$B$5:$AF$16,MONTH($AP$3),AF$11)&\"\",\"Я\")),2))","v":"Я"},{"$f":"TRIM(LEFT(TRIM(INDEX(отсутствия!$N:$AR,MATCH($C37,отсутствия!$A:$A,),AG$11)&\" \"&TEXT(INDEX('график 7,8'!$B$5:$AF$16,MONTH($AP$3),AG$11)&\"\",\"Я\")),2))","v":"В"},{"$f":"TRIM(LEFT(TRIM(INDEX(отсутствия!$N:$AR,MATCH($C37,отсутствия!$A:$A,),AH$11)&\" \"&TEXT(INDEX('график 7,8'!$B$5:$AF$16,MONTH($AP$3),AH$11)&\"\",\"Я\")),2))","v":"В"},{"$f":"TRIM(LEFT(TRIM(INDEX(отсутствия!$N:$AR,MATCH($C37,отсутствия!$A:$A,),AI$11)&\" \"&TEXT(INDEX('график 7,8'!$B$5:$AF$16,MONTH($AP$3),AI$11)&\"\",\"Я\")),2))","v":"Я"},{"$f":"TRIM(LEFT(TRIM(INDEX(отсутствия!$N:$AR,MATCH($C37,отсутствия!$A:$A,),AJ$11)&\" \"&TEXT(INDEX('график 7,8'!$B$5:$AF$16,MONTH($AP$3),AJ$11)&\"\",\"Я\")),2))","v":"Я"}]
[4671,"Буре",4671,"сборная",{"$f":"IFERROR(INDEX(РВД!$D:$I,MATCH($C39,РВД!$A:$A,)+1,MATCH($N$4+E$11-1,INDEX(РВД!$D:$I,MATCH($C39,РВД!$A:$A,),),)),IF(E40=\"Я\",INDEX('график 7,8'!$B$5:$AF$16,MONTH($AP$3),E$11),\"\"))","v":""},{"$f":"IFERROR(INDEX(РВД!$D:$I,MATCH($C39,РВД!$A:$A,)+1,MATCH($N$4+F$11-1,INDEX(РВД!$D:$I,MATCH($C39,РВД!$A:$A,),),)),IF(F40=\"Я\",INDEX('график 7,8'!$B$5:$AF$16,MONTH($AP$3),F$11),\"\"))","v":7.8},{"$f":"IFERROR(INDEX(РВД!$D:$I,MATCH($C39,РВД!$A:$A,)+1,MATCH($N$4+G$11-1,INDEX(РВД!$D:$I,MATCH($C39,РВД!$A:$A,),),)),IF(G40=\"Я\",INDEX('график 7,8'!$B$5:$AF$16,MONTH($AP$3),G$11),\"\"))","v":7.8},{"$f":"IFERROR(INDEX(РВД!$D:$I,MATCH($C39,РВД!$A:$A,)+1,MATCH($N$4+H$11-1,INDEX(РВД!$D:$I,MATCH($C39,РВД!$A:$A,),),)),IF(H40=\"Я\",INDEX('график 7,8'!$B$5:$AF$16,MONTH($AP$3),H$11),\"\"))","v":7.8},{"$f":"IFERROR(INDEX(РВД!$D:$I,MATCH($C39,РВД!$A:$A,)+1,MATCH($N$4+I$11-1,INDEX(РВД!$D:$I,MATCH($C39,РВД!$A:$A,),),)),IF(I40=\"Я\",INDEX('график 7,8'!$B$5:$AF$16,MONTH($AP$3),I$11),\"\"))","v":7.8},{"$f":"IFERROR(INDEX(РВД!$D:$I,MATCH($C39,РВД!$A:$A,)+1,MATCH($N$4+J$11-1,INDEX(РВД!$D:$I,MATCH($C39,РВД!$A:$A,),),)),IF(J40=\"Я\",INDEX('график 7,8'!$B$5:$AF$16,MONTH($AP$3),J$11),\"\"))","v":7.8},{"$f":"IFERROR(INDEX(РВД!$D:$I,MATCH($C39,РВД!$A:$A,)+1,MATCH($N$4+K$11-1,INDEX(РВД!$D:$I,MATCH($C39,РВД!$A:$A,),),)),IF(K40=\"Я\",INDEX('график 7,8'!$B$5:$AF$16,MONTH($AP$3),K$11),\"\"))","v":""},{"$f":"IFERROR(INDEX(РВД!$D:$I,MATCH($C39,РВД!$A:$A,)+1,MATCH($N$4+L$11-1,INDEX(РВД!$D:$I,MATCH($C39,РВД!$A:$A,),),)),IF(L40=\"Я\",INDEX('график 7,8'!$B$5:$AF$16,MONTH($AP$3),L$11),\"\"))","v":""},{"$f":"IFERROR(INDEX(РВД!$D:$I,MATCH($C39,РВД!$A:$A,)+1,MATCH($N$4+M$11-1,INDEX(РВД!$D:$I,MATCH($C39,РВД!$A:$A,),),)),IF(M40=\"Я\",INDEX('график 7,8'!$B$5:$AF$16,MONTH($AP$3),M$11),\"\"))","v":""},{"$f":"IFERROR(INDEX(РВД!$D:$I,MATCH($C39,РВД!$A:$A,)+1,MATCH($N$4+N$11-1,INDEX(РВД!$D:$I,MATCH($C39,РВД!$A:$A,),),)),IF(N40=\"Я\",INDEX('график 7,8'!$B$5:$AF$16,MONTH($AP$3),N$11),\"\"))","v":7.8},{"$f":"IFERROR(INDEX(РВД!$D:$I,MATCH($C39,РВД!$A:$A,)+1,MATCH($N$4+O$11-1,INDEX(РВД!$D:$I,MATCH($C39,РВД!$A:$A,),),)),IF(O40=\"Я\",INDEX('график 7,8'!$B$5:$AF$16,MONTH($AP$3),O$11),\"\"))","v":7.8},{"$f":"IFERROR(INDEX(РВД!$D:$I,MATCH($C39,РВД!$A:$A,)+1,MATCH($N$4+P$11-1,INDEX(РВД!$D:$I,MATCH($C39,РВД!$A:$A,),),)),IF(P40=\"Я\",INDEX('график 7,8'!$B$5:$AF$16,MONTH($AP$3),P$11),\"\"))","v":7.8},{"$f":"IFERROR(INDEX(РВД!$D:$I,MATCH($C39,РВД!$A:$A,)+1,MATCH($N$4+Q$11-1,INDEX(РВД!$D:$I,MATCH($C39,РВД!$A:$A,),),)),IF(Q40=\"Я\",INDEX('график 7,8'!$B$5:$AF$16,MONTH($AP$3),Q$11),\"\"))","v":7.8},{"$f":"IFERROR(INDEX(РВД!$D:$I,MATCH($C39,РВД!$A:$A,)+1,MATCH($N$4+R$11-1,INDEX(РВД!$D:$I,MATCH($C39,РВД!$A:$A,),),)),IF(R40=\"Я\",INDEX('график 7,8'!$B$5:$AF$16,MONTH($AP$3),R$11),\"\"))","v":""},{"$f":"IFERROR(INDEX(РВД!$D:$I,MATCH($C39,РВД!$A:$A,)+1,MATCH($N$4+S$11-1,INDEX(РВД!$D:$I,MATCH($C39,РВД!$A:$A,),),)),IF(S40=\"Я\",INDEX('график 7,8'!$B$5:$AF$16,MONTH($AP$3),S$11),\"\"))","v":""},{"$f":"SUMIF(E40:S40,\"Я\",E39:S39)","v":70.199999999999989},{"$f":"IFERROR(INDEX(РВД!$D:$I,MATCH($C39,РВД!$A:$A,)+1,MATCH($N$4+U$11-1,INDEX(РВД!$D:$I,MATCH($C39,РВД!$A:$A,),),)),IF(U40=\"Я\",INDEX('график 7,8'!$B$5:$AF$16,MONTH($AP$3),U$11),\"\"))","v":7.8},{"$f":"IFERROR(INDEX(РВД!$D:$I,MATCH($C39,РВД!$A:$A,)+1,MATCH($N$4+V$11-1,INDEX(РВД!$D:$I,MATCH($C39,РВД!$A:$A,),),)),IF(V40=\"Я\",INDEX('график 7,8'!$B$5:$AF$16,MONTH($AP$3),V$11),\"\"))","v":7.8},{"$f":"IFERROR(INDEX(РВД!$D:$I,MATCH($C39,РВД!$A:$A,)+1,MATCH($N$4+W$11-1,INDEX(РВД!$D:$I,MATCH($C39,РВД!$A:$A,),),)),IF(W40=\"Я\",INDEX('график 7,8'!$B$5:$AF$16,MONTH($AP$3),W$11),\"\"))","v":7.8},{"$f":"IFERROR(INDEX(РВД!$D:$I,MATCH($C39,РВД!$A:$A,)+1,MATCH($N$4+X$11-1,INDEX(РВД!$D:$I,MATCH($C39,РВД!$A:$A,),),)),IF(X40=\"Я\",INDEX('график 7,8'!$B$5:$AF$16,MONTH($AP$3),X$11),\"\"))","v":7.8},{"$f":"IFERROR(INDEX(РВД!$D:$I,MATCH($C39,РВД!$A:$A,)+1,MATCH($N$4+Y$11-1,INDEX(РВД!$D:$I,MATCH($C39,РВД!$A:$A,),),)),IF(Y40=\"Я\",INDEX('график 7,8'!$B$5:$AF$16,MONTH($AP$3),Y$11),\"\"))","v":7.8},{"$f":"IFERROR(INDEX(РВД!$D:$I,MATCH($C39,РВД!$A:$A,)+1,MATCH($N$4+Z$11-1,INDEX(РВД!$D:$I,MATCH($C39,РВД!$A:$A,),),)),IF(Z40=\"Я\",INDEX('график 7,8'!$B$5:$AF$16,MONTH($AP$3),Z$11),\"\"))","v":""},{"$f":"IFERROR(INDEX(РВД!$D:$I,MATCH($C39,РВД!$A:$A,)+1,MATCH($N$4+AA$11-1,INDEX(РВД!$D:$I,MATCH($C39,РВД!$A:$A,),),)),IF(AA40=\"Я\",INDEX('график 7,8'!$B$5:$AF$16,MONTH($AP$3),AA$11),\"\"))","v":""},{"$f":"IFERROR(INDEX(РВД!$D:$I,MATCH($C39,РВД!$A:$A,)+1,MATCH($N$4+AB$11-1,INDEX(РВД!$D:$I,MATCH($C39,РВД!$A:$A,),),)),IF(AB40=\"Я\",INDEX('график 7,8'!$B$5:$AF$16,MONTH($AP$3),AB$11),\"\"))","v":7.8},{"$f":"IFERROR(INDEX(РВД!$D:$I,MATCH($C39,РВД!$A:$A,)+1,MATCH($N$4+AC$11-1,INDEX(РВД!$D:$I,MATCH($C39,РВД!$A:$A,),),)),IF(AC40=\"Я\",INDEX('график 7,8'!$B$5:$AF$16,MONTH($AP$3),AC$11),\"\"))","v":7.8},{"$f":"IFERROR(INDEX(РВД!$D:$I,MATCH($C39,РВД!$A:$A,)+1,MATCH($N$4+AD$11-1,INDEX(РВД!$D:$I,MATCH($C39,РВД!$A:$A,),),)),IF(AD40=\"Я\",INDEX('график 7,8'!$B$5:$AF$16,MONTH($AP$3),AD$11),\"\"))","v":7.8},{"$f":"IFERROR(INDEX(РВД!$D:$I,MATCH($C39,РВД!$A:$A,)+1,MATCH($N$4+AE$11-1,INDEX(РВД!$D:$I,MATCH($C39,РВД!$A:$A,),),)),IF(AE40=\"Я\",INDEX('график 7,8'!$B$5:$AF$16,MONTH($AP$3),AE$11),\"\"))","v":7.8},{"$f":"IFERROR(INDEX(РВД!$D:$I,MATCH($C39,РВД!$A:$A,)+1,MATCH($N$4+AF$11-1,INDEX(РВД!$D:$I,MATCH($C39,РВД!$A:$A,),),)),IF(AF40=\"Я\",INDEX('график 7,8'!$B$5:$AF$16,MONTH($AP$3),AF$11),\"\"))","v":7.8},{"$f":"IFERROR(INDEX(РВД!$D:$I,MATCH($C39,РВД!$A:$A,)+1,MATCH($N$4+AG$11-1,INDEX(РВД!$D:$I,MATCH($C39,РВД!$A:$A,),),)),IF(AG40=\"Я\",INDEX('график 7,8'!$B$5:$AF$16,MONTH($AP$3),AG$11),\"\"))","v":""},{"$f":"IFERROR(INDEX(РВД!$D:$I,MATCH($C39,РВД!$A:$A,)+1,MATCH($N$4+AH$11-1,INDEX(РВД!$D:$I,MATCH($C39,РВД!$A:$A,),),)),IF(AH40=\"Я\",INDEX('график 7,8'!$B$5:$AF$16,MONTH($AP$3),AH$11),\"\"))","v":""},{"$f":"IFERROR(INDEX(РВД!$D:$I,MATCH($C39,РВД!$A:$A,)+1,MATCH($N$4+AI$11-1,INDEX(РВД!$D:$I,MATCH($C39,РВД!$A:$A,),),)),IF(AI40=\"Я\",INDEX('график 7,8'!$B$5:$AF$16,MONTH($AP$3),AI$11),\"\"))","v":7.8},{"$f":"IFERROR(INDEX(РВД!$D:$I,MATCH($C39,РВД!$A:$A,)+1,MATCH($N$4+AJ$11-1,INDEX(РВД!$D:$I,MATCH($C39,РВД!$A:$A,),),)),IF(AJ40=\"Я\",INDEX('график 7,8'!$B$5:$AF$16,MONTH($AP$3),AJ$11),\"\"))","v":7.8},{"$f":"\"Я/\"&SUMIF(E40:AJ40,\"Я\",E39:AJ39)","v":"Я/163,8"},{"$f":"(SUMIF(E40:AJ40,\"В\",E39:AJ39)+SUMIF(E40:AJ40,\"В.\",E39:AJ39))*2","v":0},{"$f":"COUNTIFS(E40:AJ40,\"Я\",E39:AJ39,\"<>\")","v":21},{"$f":"IFERROR(VLOOKUP(C39,доплаты!$A$5:$P$118,16,0),\"\")","v":"24"}]
[null,null,null,null,{"$f":"TRIM(LEFT(TRIM(INDEX(отсутствия!$N:$AR,MATCH($C39,отсутствия!$A:$A,),E$11)&\" \"&TEXT(INDEX('график 7,8'!$B$5:$AF$16,MONTH($AP$3),E$11)&\"\",\"Я\")),2))","v":"В"},{"$f":"TRIM(LEFT(TRIM(INDEX(отсутствия!$N:$AR,MATCH($C39,отсутствия!$A:$A,),F$11)&\" \"&TEXT(INDEX('график 7,8'!$B$5:$AF$16,MONTH($AP$3),F$11)&\"\",\"Я\")),2))","v":"Я"},{"$f":"TRIM(LEFT(TRIM(INDEX(отсутствия!$N:$AR,MATCH($C39,отсутствия!$A:$A,),G$11)&\" \"&TEXT(INDEX('график 7,8'!$B$5:$AF$16,MONTH($AP$3),G$11)&\"\",\"Я\")),2))","v":"Я"},{"$f":"TRIM(LEFT(TRIM(INDEX(отсутствия!$N:$AR,MATCH($C39,отсутствия!$A:$A,),H$11)&\" \"&TEXT(INDEX('график 7,8'!$B$5:$AF$16,MONTH($AP$3),H$11)&\"\",\"Я\")),2))","v":"Я"},{"$f":"TRIM(LEFT(TRIM(INDEX(отсутствия!$N:$AR,MATCH($C39,отсутствия!$A:$A,),I$11)&\" \"&TEXT(INDEX('график 7,8'!$B$5:$AF$16,MONTH($AP$3),I$11)&\"\",\"Я\")),2))","v":"Я"},{"$f":"TRIM(LEFT(TRIM(INDEX(отсутствия!$N:$AR,MATCH($C39,отсутствия!$A:$A,),J$11)&\" \"&TEXT(INDEX('график 7,8'!$B$5:$AF$16,MONTH($AP$3),J$11)&\"\",\"Я\")),2))","v":"Я"},{"$f":"TRIM(LEFT(TRIM(INDEX(отсутствия!$N:$AR,MATCH($C39,отсутствия!$A:$A,),K$11)&\" \"&TEXT(INDEX('график 7,8'!$B$5:$AF$16,MONTH($AP$3),K$11)&\"\",\"Я\")),2))","v":"В"},{"$f":"TRIM(LEFT(TRIM(INDEX(отсутствия!$N:$AR,MATCH($C39,отсутствия!$A:$A,),L$11)&\" \"&TEXT(INDEX('график 7,8'!$B$5:$AF$16,MONTH($AP$3),L$11)&\"\",\"Я\")),2))","v":"В."},{"$f":"TRIM(LEFT(TRIM(INDEX(отсутствия!$N:$AR,MATCH($C39,отсутствия!$A:$A,),M$11)&\" \"&TEXT(INDEX('график 7,8'!$B$5:$AF$16,MONTH($AP$3),M$11)&\"\",\"Я\")),2))","v":"В"},{"$f":"TRIM(LEFT(TRIM(INDEX(отсутствия!$N:$AR,MATCH($C39,отсутствия!$A:$A,),N$11)&\" \"&TEXT(INDEX('график 7,8'!$B$5:$AF$16,MONTH($AP$3),N$11)&\"\",\"Я\")),2))","v":"Я"},{"$f":"TRIM(LEFT(TRIM(INDEX(отсутствия!$N:$AR,MATCH($C39,отсутствия!$A:$A,),O$11)&\" \"&TEXT(INDEX('график 7,8'!$B$5:$AF$16,MONTH($AP$3),O$11)&\"\",\"Я\")),2))","v":"Я"},{"$f":"TRIM(LEFT(TRIM(INDEX(отсутствия!$N:$AR,MATCH($C39,отсутствия!$A:$A,),P$11)&\" \"&TEXT(INDEX('график 7,8'!$B$5:$AF$16,MONTH($AP$3),P$11)&\"\",\"Я\")),2))","v":"Я"},{"$f":"TRIM(LEFT(TRIM(INDEX(отсутствия!$N:$AR,MATCH($C39,отсутствия!$A:$A,),Q$11)&\" \"&TEXT(INDEX('график 7,8'!$B$5:$AF$16,MONTH($AP$3),Q$11)&\"\",\"Я\")),2))","v":"Я"},{"$f":"TRIM(LEFT(TRIM(INDEX(отсутствия!$N:$AR,MATCH($C39,отсутствия!$A:$A,),R$11)&\" \"&TEXT(INDEX('график 7,8'!$B$5:$AF$16,MONTH($AP$3),R$11)&\"\",\"Я\")),2))","v":"В"},{"$f":"TRIM(LEFT(TRIM(INDEX(отсутствия!$N:$AR,MATCH($C39,отсутствия!$A:$A,),S$11)&\" \"&TEXT(INDEX('график 7,8'!$B$5:$AF$16,MONTH($AP$3),S$11)&\"\",\"Я\")),2))","v":"В"},null,{"$f":"TRIM(LEFT(TRIM(INDEX(отсутствия!$N:$AR,MATCH($C39,отсутствия!$A:$A,),U$11)&\" \"&TEXT(INDEX('график 7,8'!$B$5:$AF$16,MONTH($AP$3),U$11)&\"\",\"Я\")),2))","v":"Я"},{"$f":"TRIM(LEFT(TRIM(INDEX(отсутствия!$N:$AR,MATCH($C39,отсутствия!$A:$A,),V$11)&\" \"&TEXT(INDEX('график 7,8'!$B$5:$AF$16,MONTH($AP$3),V$11)&\"\",\"Я\")),2))","v":"Я"},{"$f":"TRIM(LEFT(TRIM(INDEX(отсутствия!$N:$AR,MATCH($C39,отсутствия!$A:$A,),W$11)&\" \"&TEXT(INDEX('график 7,8'!$B$5:$AF$16,MONTH($AP$3),W$11)&\"\",\"Я\")),2))","v":"Я"},{"$f":"TRIM(LEFT(TRIM(INDEX(отсутствия!$N:$AR,MATCH($C39,отсутствия!$A:$A,),X$11)&\" \"&TEXT(INDEX('график 7,8'!$B$5:$AF$16,MONTH($AP$3),X$11)&\"\",\"Я\")),2))","v":"Я"},{"$f":"TRIM(LEFT(TRIM(INDEX(отсутствия!$N:$AR,MATCH($C39,отсутствия!$A:$A,),Y$11)&\" \"&TEXT(INDEX('график 7,8'!$B$5:$AF$16,MONTH($AP$3),Y$11)&\"\",\"Я\")),2))","v":"Я"},{"$f":"TRIM(LEFT(TRIM(INDEX(отсутствия!$N:$AR,MATCH($C39,отсутствия!$A:$A,),Z$11)&\" \"&TEXT(INDEX('график 7,8'!$B$5:$AF$16,MONTH($AP$3),Z$11)&\"\",\"Я\")),2))","v":"В"},{"$f":"TRIM(LEFT(TRIM(INDEX(отсутствия!$N:$AR,MATCH($C39,отсутствия!$A:$A,),AA$11)&\" \"&TEXT(INDEX('график 7,8'!$B$5:$AF$16,MONTH($AP$3),AA$11)&\"\",\"Я\")),2))","v":"В"},{"$f":"TRIM(LEFT(TRIM(INDEX(отсутствия!$N:$AR,MATCH($C39,отсутствия!$A:$A,),AB$11)&\" \"&TEXT(INDEX('график 7,8'!$B$5:$AF$16,MONTH($AP$3),AB$11)&\"\",\"Я\")),2))","v":"Я"},{"$f":"TRIM(LEFT(TRIM(INDEX(отсутствия!$N:$AR,MATCH($C39,отсутствия!$A:$A,),AC$11)&\" \"&TEXT(INDEX('график 7,8'!$B$5:$AF$16,MONTH($AP$3),AC$11)&\"\",\"Я\")),2))","v":"Я"},{"$f":"TRIM(LEFT(TRIM(INDEX(отсутствия!$N:$AR,MATCH($C39,отсутствия!$A:$A,),AD$11)&\" \"&TEXT(INDEX('график 7,8'!$B$5:$AF$16,MONTH($AP$3),AD$11)&\"\",\"Я\")),2))","v":"Я"},{"$f":"TRIM(LEFT(TRIM(INDEX(отсутствия!$N:$AR,MATCH($C39,отсутствия!$A:$A,),AE$11)&\" \"&TEXT(INDEX('график 7,8'!$B$5:$AF$16,MONTH($AP$3),AE$11)&\"\",\"Я\")),2))","v":"Я"},{"$f":"TRIM(LEFT(TRIM(INDEX(отсутствия!$N:$AR,MATCH($C39,отсутствия!$A:$A,),AF$11)&\" \"&TEXT(INDEX('график 7,8'!$B$5:$AF$16,MONTH($AP$3),AF$11)&\"\",\"Я\")),2))","v":"Я"},{"$f":"TRIM(LEFT(TRIM(INDEX(отсутствия!$N:$AR,MATCH($C39,отсутствия!$A:$A,),AG$11)&\" \"&TEXT(INDEX('график 7,8'!$B$5:$AF$16,MONTH($AP$3),AG$11)&\"\",\"Я\")),2))","v":"В"},{"$f":"TRIM(LEFT(TRIM(INDEX(отсутствия!$N:$AR,MATCH($C39,отсутствия!$A:$A,),AH$11)&\" \"&TEXT(INDEX('график 7,8'!$B$5:$AF$16,MONTH($AP$3),AH$11)&\"\",\"Я\")),2))","v":"В"},{"$f":"TRIM(LEFT(TRIM(INDEX(отсутствия!$N:$AR,MATCH($C39,отсутствия!$A:$A,),AI$11)&\" \"&TEXT(INDEX('график 7,8'!$B$5:$AF$16,MONTH($AP$3),AI$11)&\"\",\"Я\")),2))","v":"Я"},{"$f":"TRIM(LEFT(TRIM(INDEX(отсутствия!$N:$AR,MATCH($C39,отсутствия!$A:$A,),AJ$11)&\" \"&TEXT(INDEX('график 7,8'!$B$5:$AF$16,MONTH($AP$3),AJ$11)&\"\",\"Я\")),2))","v":"Я"}]
[4883,"Дасаев",4883,"сборная",{"$f":"IFERROR(INDEX(РВД!$D:$I,MATCH($C41,РВД!$A:$A,)+1,MATCH($N$4+E$11-1,INDEX(РВД!$D:$I,MATCH($C41,РВД!$A:$A,),),)),IF(E42=\"Я\",INDEX('график 7,8'!$B$52:$AF$63,MONTH($AP$3),E$11),\"\"))","v":""},{"$f":"IFERROR(INDEX(РВД!$D:$I,MATCH($C41,РВД!$A:$A,)+1,MATCH($N$4+F$11-1,INDEX(РВД!$D:$I,MATCH($C41,РВД!$A:$A,),),)),IF(F42=\"Я\",INDEX('график 7,8'!$B$52:$AF$63,MONTH($AP$3),F$11),\"\"))","v":3.9},{"$f":"IFERROR(INDEX(РВД!$D:$I,MATCH($C41,РВД!$A:$A,)+1,MATCH($N$4+G$11-1,INDEX(РВД!$D:$I,MATCH($C41,РВД!$A:$A,),),)),IF(G42=\"Я\",INDEX('график 7,8'!$B$52:$AF$63,MONTH($AP$3),G$11),\"\"))","v":3.9},{"$f":"IFERROR(INDEX(РВД!$D:$I,MATCH($C41,РВД!$A:$A,)+1,MATCH($N$4+H$11-1,INDEX(РВД!$D:$I,MATCH($C41,РВД!$A:$A,),),)),IF(H42=\"Я\",INDEX('график 7,8'!$B$52:$AF$63,MONTH($AP$3),H$11),\"\"))","v":3.9},{"$f":"IFERROR(INDEX(РВД!$D:$I,MATCH($C41,РВД!$A:$A,)+1,MATCH($N$4+I$11-1,INDEX(РВД!$D:$I,MATCH($C41,РВД!$A:$A,),),)),IF(I42=\"Я\",INDEX('график 7,8'!$B$52:$AF$63,MONTH($AP$3),I$11),\"\"))","v":3.9},{"$f":"IFERROR(INDEX(РВД!$D:$I,MATCH($C41,РВД!$A:$A,)+1,MATCH($N$4+J$11-1,INDEX(РВД!$D:$I,MATCH($C41,РВД!$A:$A,),),)),IF(J42=\"Я\",INDEX('график 7,8'!$B$52:$AF$63,MONTH($AP$3),J$11),\"\"))","v":3.9},{"$f":"IFERROR(INDEX(РВД!$D:$I,MATCH($C41,РВД!$A:$A,)+1,MATCH($N$4+K$11-1,INDEX(РВД!$D:$I,MATCH($C41,РВД!$A:$A,),),)),IF(K42=\"Я\",INDEX('график 7,8'!$B$52:$AF$63,MONTH($AP$3),K$11),\"\"))","v":""},{"$f":"IFERROR(INDEX(РВД!$D:$I,MATCH($C41,РВД!$A:$A,)+1,MATCH($N$4+L$11-1,INDEX(РВД!$D:$I,MATCH($C41,РВД!$A:$A,),),)),IF(L42=\"Я\",INDEX('график 7,8'!$B$52:$AF$63,MONTH($AP$3),L$11),\"\"))","v":""},{"$f":"IFERROR(INDEX(РВД!$D:$I,MATCH($C41,РВД!$A:$A,)+1,MATCH($N$4+M$11-1,INDEX(РВД!$D:$I,MATCH($C41,РВД!$A:$A,),),)),IF(M42=\"Я\",INDEX('график 7,8'!$B$52:$AF$63,MONTH($AP$3),M$11),\"\"))","v":""},{"$f":"IFERROR(INDEX(РВД!$D:$I,MATCH($C41,РВД!$A:$A,)+1,MATCH($N$4+N$11-1,INDEX(РВД!$D:$I,MATCH($C41,РВД!$A:$A,),),)),IF(N42=\"Я\",INDEX('график 7,8'!$B$52:$AF$63,MONTH($AP$3),N$11),\"\"))","v":3.9},{"$f":"IFERROR(INDEX(РВД!$D:$I,MATCH($C41,РВД!$A:$A,)+1,MATCH($N$4+O$11-1,INDEX(РВД!$D:$I,MATCH($C41,РВД!$A:$A,),),)),IF(O42=\"Я\",INDEX('график 7,8'!$B$52:$AF$63,MONTH($AP$3),O$11),\"\"))","v":3.9},{"$f":"IFERROR(INDEX(РВД!$D:$I,MATCH($C41,РВД!$A:$A,)+1,MATCH($N$4+P$11-1,INDEX(РВД!$D:$I,MATCH($C41,РВД!$A:$A,),),)),IF(P42=\"Я\",INDEX('график 7,8'!$B$52:$AF$63,MONTH($AP$3),P$11),\"\"))","v":3.9},{"$f":"IFERROR(INDEX(РВД!$D:$I,MATCH($C41,РВД!$A:$A,)+1,MATCH($N$4+Q$11-1,INDEX(РВД!$D:$I,MATCH($C41,РВД!$A:$A,),),)),IF(Q42=\"Я\",INDEX('график 7,8'!$B$52:$AF$63,MONTH($AP$3),Q$11),\"\"))","v":3.9},{"$f":"IFERROR(INDEX(РВД!$D:$I,MATCH($C41,РВД!$A:$A,)+1,MATCH($N$4+R$11-1,INDEX(РВД!$D:$I,MATCH($C41,РВД!$A:$A,),),)),IF(R42=\"Я\",INDEX('график 7,8'!$B$52:$AF$63,MONTH($AP$3),R$11),\"\"))","v":""},{"$f":"IFERROR(INDEX(РВД!$D:$I,MATCH($C41,РВД!$A:$A,)+1,MATCH($N$4+S$11-1,INDEX(РВД!$D:$I,MATCH($C41,РВД!$A:$A,),),)),IF(S42=\"Я\",INDEX('график 7,8'!$B$52:$AF$63,MONTH($AP$3),S$11),\"\"))","v":""},{"$f":"SUMIF(E42:S42,\"Я\",E41:S41)","v":35.099999999999994},{"$f":"IFERROR(INDEX(РВД!$D:$I,MATCH($C41,РВД!$A:$A,)+1,MATCH($N$4+U$11-1,INDEX(РВД!$D:$I,MATCH($C41,РВД!$A:$A,),),)),IF(U42=\"Я\",INDEX('график 7,8'!$B$52:$AF$63,MONTH($AP$3),U$11),\"\"))","v":3.9},{"$f":"IFERROR(INDEX(РВД!$D:$I,MATCH($C41,РВД!$A:$A,)+1,MATCH($N$4+V$11-1,INDEX(РВД!$D:$I,MATCH($C41,РВД!$A:$A,),),)),IF(V42=\"Я\",INDEX('график 7,8'!$B$52:$AF$63,MONTH($AP$3),V$11),\"\"))","v":3.9},{"$f":"IFERROR(INDEX(РВД!$D:$I,MATCH($C41,РВД!$A:$A,)+1,MATCH($N$4+W$11-1,INDEX(РВД!$D:$I,MATCH($C41,РВД!$A:$A,),),)),IF(W42=\"Я\",INDEX('график 7,8'!$B$52:$AF$63,MONTH($AP$3),W$11),\"\"))","v":3.9},{"$f":"IFERROR(INDEX(РВД!$D:$I,MATCH($C41,РВД!$A:$A,)+1,MATCH($N$4+X$11-1,INDEX(РВД!$D:$I,MATCH($C41,РВД!$A:$A,),),)),IF(X42=\"Я\",INDEX('график 7,8'!$B$52:$AF$63,MONTH($AP$3),X$11),\"\"))","v":3.9},{"$f":"IFERROR(INDEX(РВД!$D:$I,MATCH($C41,РВД!$A:$A,)+1,MATCH($N$4+Y$11-1,INDEX(РВД!$D:$I,MATCH($C41,РВД!$A:$A,),),)),IF(Y42=\"Я\",INDEX('график 7,8'!$B$52:$AF$63,MONTH($AP$3),Y$11),\"\"))","v":3.9},{"$f":"IFERROR(INDEX(РВД!$D:$I,MATCH($C41,РВД!$A:$A,)+1,MATCH($N$4+Z$11-1,INDEX(РВД!$D:$I,MATCH($C41,РВД!$A:$A,),),)),IF(Z42=\"Я\",INDEX('график 7,8'!$B$52:$AF$63,MONTH($AP$3),Z$11),\"\"))","v":""},{"$f":"IFERROR(INDEX(РВД!$D:$I,MATCH($C41,РВД!$A:$A,)+1,MATCH($N$4+AA$11-1,INDEX(РВД!$D:$I,MATCH($C41,РВД!$A:$A,),),)),IF(AA42=\"Я\",INDEX('график 7,8'!$B$52:$AF$63,MONTH($AP$3),AA$11),\"\"))","v":""},{"$f":"IFERROR(INDEX(РВД!$D:$I,MATCH($C41,РВД!$A:$A,)+1,MATCH($N$4+AB$11-1,INDEX(РВД!$D:$I,MATCH($C41,РВД!$A:$A,),),)),IF(AB42=\"Я\",INDEX('график 7,8'!$B$52:$AF$63,MONTH($AP$3),AB$11),\"\"))","v":3.9},{"$f":"IFERROR(INDEX(РВД!$D:$I,MATCH($C41,РВД!$A:$A,)+1,MATCH($N$4+AC$11-1,INDEX(РВД!$D:$I,MATCH($C41,РВД!$A:$A,),),)),IF(AC42=\"Я\",INDEX('график 7,8'!$B$52:$AF$63,MONTH($AP$3),AC$11),\"\"))","v":3.9},{"$f":"IFERROR(INDEX(РВД!$D:$I,MATCH($C41,РВД!$A:$A,)+1,MATCH($N$4+AD$11-1,INDEX(РВД!$D:$I,MATCH($C41,РВД!$A:$A,),),)),IF(AD42=\"Я\",INDEX('график 7,8'!$B$52:$AF$63,MONTH($AP$3),AD$11),\"\"))","v":3.9},{"$f":"IFERROR(INDEX(РВД!$D:$I,MATCH($C41,РВД!$A:$A,)+1,MATCH($N$4+AE$11-1,INDEX(РВД!$D:$I,MATCH($C41,РВД!$A:$A,),),)),IF(AE42=\"Я\",INDEX('график 7,8'!$B$52:$AF$63,MONTH($AP$3),AE$11),\"\"))","v":3.9},{"$f":"IFERROR(INDEX(РВД!$D:$I,MATCH($C41,РВД!$A:$A,)+1,MATCH($N$4+AF$11-1,INDEX(РВД!$D:$I,MATCH($C41,РВД!$A:$A,),),)),IF(AF42=\"Я\",INDEX('график 7,8'!$B$52:$AF$63,MONTH($AP$3),AF$11),\"\"))","v":3.9},{"$f":"IFERROR(INDEX(РВД!$D:$I,MATCH($C41,РВД!$A:$A,)+1,MATCH($N$4+AG$11-1,INDEX(РВД!$D:$I,MATCH($C41,РВД!$A:$A,),),)),IF(AG42=\"Я\",INDEX('график 7,8'!$B$52:$AF$63,MONTH($AP$3),AG$11),\"\"))","v":""},{"$f":"IFERROR(INDEX(РВД!$D:$I,MATCH($C41,РВД!$A:$A,)+1,MATCH($N$4+AH$11-1,INDEX(РВД!$D:$I,MATCH($C41,РВД!$A:$A,),),)),IF(AH42=\"Я\",INDEX('график 7,8'!$B$52:$AF$63,MONTH($AP$3),AH$11),\"\"))","v":""},{"$f":"IFERROR(INDEX(РВД!$D:$I,MATCH($C41,РВД!$A:$A,)+1,MATCH($N$4+AI$11-1,INDEX(РВД!$D:$I,MATCH($C41,РВД!$A:$A,),),)),IF(AI42=\"Я\",INDEX('график 7,8'!$B$52:$AF$63,MONTH($AP$3),AI$11),\"\"))","v":3.9},{"$f":"IFERROR(INDEX(РВД!$D:$I,MATCH($C41,РВД!$A:$A,)+1,MATCH($N$4+AJ$11-1,INDEX(РВД!$D:$I,MATCH($C41,РВД!$A:$A,),),)),IF(AJ42=\"Я\",INDEX('график 7,8'!$B$52:$AF$63,MONTH($AP$3),AJ$11),\"\"))","v":3.9},{"$f":"\"Я/\"&SUMIF(E42:AJ42,\"Я\",E41:AJ41)","v":"Я/81,9"},{"$f":"(SUMIF(E42:AJ42,\"В\",E41:AJ41)+SUMIF(E42:AJ42,\"В.\",E41:AJ41))*2","v":0},{"$f":"COUNTIFS(E42:AJ42,\"Я\",E41:AJ41,\"<>\")","v":21},{"$f":"IFERROR(VLOOKUP(C41,доплаты!$A$5:$P$118,16,0),\"\")","v":"28"}]
[null,null,null,null,{"$f":"TRIM(LEFT(TRIM(INDEX(отсутствия!$N:$AR,MATCH($C41,отсутствия!$A:$A,),E$11)&\" \"&TEXT(INDEX('график 7,8'!$B$52:$AF$63,MONTH($AP$3),E$11)&\"\",\"Я\")),2))","v":"В"},{"$f":"TRIM(LEFT(TRIM(INDEX(отсутствия!$N:$AR,MATCH($C41,отсутствия!$A:$A,),F$11)&\" \"&TEXT(INDEX('график 7,8'!$B$52:$AF$63,MONTH($AP$3),F$11)&\"\",\"Я\")),2))","v":"Я"},{"$f":"TRIM(LEFT(TRIM(INDEX(отсутствия!$N:$AR,MATCH($C41,отсутствия!$A:$A,),G$11)&\" \"&TEXT(INDEX('график 7,8'!$B$52:$AF$63,MONTH($AP$3),G$11)&\"\",\"Я\")),2))","v":"Я"},{"$f":"TRIM(LEFT(TRIM(INDEX(отсутствия!$N:$AR,MATCH($C41,отсутствия!$A:$A,),H$11)&\" \"&TEXT(INDEX('график 7,8'!$B$52:$AF$63,MONTH($AP$3),H$11)&\"\",\"Я\")),2))","v":"Я"},{"$f":"TRIM(LEFT(TRIM(INDEX(отсутствия!$N:$AR,MATCH($C41,отсутствия!$A:$A,),I$11)&\" \"&TEXT(INDEX('график 7,8'!$B$52:$AF$63,MONTH($AP$3),I$11)&\"\",\"Я\")),2))","v":"Я"},{"$f":"TRIM(LEFT(TRIM(INDEX(отсутствия!$N:$AR,MATCH($C41,отсутствия!$A:$A,),J$11)&\" \"&TEXT(INDEX('график 7,8'!$B$52:$AF$63,MONTH($AP$3),J$11)&\"\",\"Я\")),2))","v":"Я"},{"$f":"TRIM(LEFT(TRIM(INDEX(отсутствия!$N:$AR,MATCH($C41,отсутствия!$A:$A,),K$11)&\" \"&TEXT(INDEX('график 7,8'!$B$52:$AF$63,MONTH($AP$3),K$11)&\"\",\"Я\")),2))","v":"В"},{"$f":"TRIM(LEFT(TRIM(INDEX(отсутствия!$N:$AR,MATCH($C41,отсутствия!$A:$A,),L$11)&\" \"&TEXT(INDEX('график 7,8'!$B$52:$AF$63,MONTH($AP$3),L$11)&\"\",\"Я\")),2))","v":"В."},{"$f":"TRIM(LEFT(TRIM(INDEX(отсутствия!$N:$AR,MATCH($C41,отсутствия!$A:$A,),M$11)&\" \"&TEXT(INDEX('график 7,8'!$B$52:$AF$63,MONTH($AP$3),M$11)&\"\",\"Я\")),2))","v":"В"},{"$f":"TRIM(LEFT(TRIM(INDEX(отсутствия!$N:$AR,MATCH($C41,отсутствия!$A:$A,),N$11)&\" \"&TEXT(INDEX('график 7,8'!$B$52:$AF$63,MONTH($AP$3),N$11)&\"\",\"Я\")),2))","v":"Я"},{"$f":"TRIM(LEFT(TRIM(INDEX(отсутствия!$N:$AR,MATCH($C41,отсутствия!$A:$A,),O$11)&\" \"&TEXT(INDEX('график 7,8'!$B$52:$AF$63,MONTH($AP$3),O$11)&\"\",\"Я\")),2))","v":"Я"},{"$f":"TRIM(LEFT(TRIM(INDEX(отсутствия!$N:$AR,MATCH($C41,отсутствия!$A:$A,),P$11)&\" \"&TEXT(INDEX('график 7,8'!$B$52:$AF$63,MONTH($AP$3),P$11)&\"\",\"Я\")),2))","v":"Я"},{"$f":"TRIM(LEFT(TRIM(INDEX(отсутствия!$N:$AR,MATCH($C41,отсутствия!$A:$A,),Q$11)&\" \"&TEXT(INDEX('график 7,8'!$B$52:$AF$63,MONTH($AP$3),Q$11)&\"\",\"Я\")),2))","v":"Я"},{"$f":"TRIM(LEFT(TRIM(INDEX(отсутствия!$N:$AR,MATCH($C41,отсутствия!$A:$A,),R$11)&\" \"&TEXT(INDEX('график 7,8'!$B$52:$AF$63,MONTH($AP$3),R$11)&\"\",\"Я\")),2))","v":"В"},{"$f":"TRIM(LEFT(TRIM(INDEX(отсутствия!$N:$AR,MATCH($C41,отсутствия!$A:$A,),S$11)&\" \"&TEXT(INDEX('график 7,8'!$B$52:$AF$63,MONTH($AP$3),S$11)&\"\",\"Я\")),2))","v":"В"},null,{"$f":"TRIM(LEFT(TRIM(INDEX(отсутствия!$N:$AR,MATCH($C41,отсутствия!$A:$A,),U$11)&\" \"&TEXT(INDEX('график 7,8'!$B$52:$AF$63,MONTH($AP$3),U$11)&\"\",\"Я\")),2))","v":"Я"},{"$f":"TRIM(LEFT(TRIM(INDEX(отсутствия!$N:$AR,MATCH($C41,отсутствия!$A:$A,),V$11)&\" \"&TEXT(INDEX('график 7,8'!$B$52:$AF$63,MONTH($AP$3),V$11)&\"\",\"Я\")),2))","v":"Я"},{"$f":"TRIM(LEFT(TRIM(INDEX(отсутствия!$N:$AR,MATCH($C41,отсутствия!$A:$A,),W$11)&\" \"&TEXT(INDEX('график 7,8'!$B$52:$AF$63,MONTH($AP$3),W$11)&\"\",\"Я\")),2))","v":"Я"},{"$f":"TRIM(LEFT(TRIM(INDEX(отсутствия!$N:$AR,MATCH($C41,отсутствия!$A:$A,),X$11)&\" \"&TEXT(INDEX('график 7,8'!$B$52:$AF$63,MONTH($AP$3),X$11)&\"\",\"Я\")),2))","v":"Я"},{"$f":"TRIM(LEFT(TRIM(INDEX(отсутствия!$N:$AR,MATCH($C41,отсутствия!$A:$A,),Y$11)&\" \"&TEXT(INDEX('график 7,8'!$B$52:$AF$63,MONTH($AP$3),Y$11)&\"\",\"Я\")),2))","v":"Я"},{"$f":"TRIM(LEFT(TRIM(INDEX(отсутствия!$N:$AR,MATCH($C41,отсутствия!$A:$A,),Z$11)&\" \"&TEXT(INDEX('график 7,8'!$B$52:$AF$63,MONTH($AP$3),Z$11)&\"\",\"Я\")),2))","v":"В"},{"$f":"TRIM(LEFT(TRIM(INDEX(отсутствия!$N:$AR,MATCH($C41,отсутствия!$A:$A,),AA$11)&\" \"&TEXT(INDEX('график 7,8'!$B$52:$AF$63,MONTH($AP$3),AA$11)&\"\",\"Я\")),2))","v":"В"},{"$f":"TRIM(LEFT(TRIM(INDEX(отсутствия!$N:$AR,MATCH($C41,отсутствия!$A:$A,),AB$11)&\" \"&TEXT(INDEX('график 7,8'!$B$52:$AF$63,MONTH($AP$3),AB$11)&\"\",\"Я\")),2))","v":"Я"},{"$f":"TRIM(LEFT(TRIM(INDEX(отсутствия!$N:$AR,MATCH($C41,отсутствия!$A:$A,),AC$11)&\" \"&TEXT(INDEX('график 7,8'!$B$52:$AF$63,MONTH($AP$3),AC$11)&\"\",\"Я\")),2))","v":"Я"},{"$f":"TRIM(LEFT(TRIM(INDEX(отсутствия!$N:$AR,MATCH($C41,отсутствия!$A:$A,),AD$11)&\" \"&TEXT(INDEX('график 7,8'!$B$52:$AF$63,MONTH($AP$3),AD$11)&\"\",\"Я\")),2))","v":"Я"},{"$f":"TRIM(LEFT(TRIM(INDEX(отсутствия!$N:$AR,MATCH($C41,отсутствия!$A:$A,),AE$11)&\" \"&TEXT(INDEX('график 7,8'!$B$52:$AF$63,MONTH($AP$3),AE$11)&\"\",\"Я\")),2))","v":"Я"},{"$f":"TRIM(LEFT(TRIM(INDEX(отсутствия!$N:$AR,MATCH($C41,отсутствия!$A:$A,),AF$11)&\" \"&TEXT(INDEX('график 7,8'!$B$52:$AF$63,MONTH($AP$3),AF$11)&\"\",\"Я\")),2))","v":"Я"},{"$f":"TRIM(LEFT(TRIM(INDEX(отсутствия!$N:$AR,MATCH($C41,отсутствия!$A:$A,),AG$11)&\" \"&TEXT(INDEX('график 7,8'!$B$52:$AF$63,MONTH($AP$3),AG$11)&\"\",\"Я\")),2))","v":"В"},{"$f":"TRIM(LEFT(TRIM(INDEX(отсутствия!$N:$AR,MATCH($C41,отсутствия!$A:$A,),AH$11)&\" \"&TEXT(INDEX('график 7,8'!$B$52:$AF$63,MONTH($AP$3),AH$11)&\"\",\"Я\")),2))","v":"В"},{"$f":"TRIM(LEFT(TRIM(INDEX(отсутствия!$N:$AR,MATCH($C41,отсутствия!$A:$A,),AI$11)&\" \"&TEXT(INDEX('график 7,8'!$B$52:$AF$63,MONTH($AP$3),AI$11)&\"\",\"Я\")),2))","v":"Я"},{"$f":"TRIM(LEFT(TRIM(INDEX(отсутствия!$N:$AR,MATCH($C41,отсутствия!$A:$A,),AJ$11)&\" \"&TEXT(INDEX('график 7,8'!$B$52:$AF$63,MONTH($AP$3),AJ$11)&\"\",\"Я\")),2))","v":"Я"}]
[4991,"Федоров",4991,"сборная",{"$f":"IFERROR(INDEX(РВД!$D:$I,MATCH($C43,РВД!$A:$A,)+1,MATCH($N$4+E$11-1,INDEX(РВД!$D:$I,MATCH($C43,РВД!$A:$A,),),)),IF(E44=\"Я\",INDEX('график 7,8'!$B$5:$AF$16,MONTH($AP$3),E$11),\"\"))","v":""},{"$f":"IFERROR(INDEX(РВД!$D:$I,MATCH($C43,РВД!$A:$A,)+1,MATCH($N$4+F$11-1,INDEX(РВД!$D:$I,MATCH($C43,РВД!$A:$A,),),)),IF(F44=\"Я\",INDEX('график 7,8'!$B$5:$AF$16,MONTH($AP$3),F$11),\"\"))","v":7.8},{"$f":"IFERROR(INDEX(РВД!$D:$I,MATCH($C43,РВД!$A:$A,)+1,MATCH($N$4+G$11-1,INDEX(РВД!$D:$I,MATCH($C43,РВД!$A:$A,),),)),IF(G44=\"Я\",INDEX('график 7,8'!$B$5:$AF$16,MONTH($AP$3),G$11),\"\"))","v":7.8},{"$f":"IFERROR(INDEX(РВД!$D:$I,MATCH($C43,РВД!$A:$A,)+1,MATCH($N$4+H$11-1,INDEX(РВД!$D:$I,MATCH($C43,РВД!$A:$A,),),)),IF(H44=\"Я\",INDEX('график 7,8'!$B$5:$AF$16,MONTH($AP$3),H$11),\"\"))","v":7.8},{"$f":"IFERROR(INDEX(РВД!$D:$I,MATCH($C43,РВД!$A:$A,)+1,MATCH($N$4+I$11-1,INDEX(РВД!$D:$I,MATCH($C43,РВД!$A:$A,),),)),IF(I44=\"Я\",INDEX('график 7,8'!$B$5:$AF$16,MONTH($AP$3),I$11),\"\"))","v":7.8},{"$f":"IFERROR(INDEX(РВД!$D:$I,MATCH($C43,РВД!$A:$A,)+1,MATCH($N$4+J$11-1,INDEX(РВД!$D:$I,MATCH($C43,РВД!$A:$A,),),)),IF(J44=\"Я\",INDEX('график 7,8'!$B$5:$AF$16,MONTH($AP$3),J$11),\"\"))","v":7.8},{"$f":"IFERROR(INDEX(РВД!$D:$I,MATCH($C43,РВД!$A:$A,)+1,MATCH($N$4+K$11-1,INDEX(РВД!$D:$I,MATCH($C43,РВД!$A:$A,),),)),IF(K44=\"Я\",INDEX('график 7,8'!$B$5:$AF$16,MONTH($AP$3),K$11),\"\"))","v":""},{"$f":"IFERROR(INDEX(РВД!$D:$I,MATCH($C43,РВД!$A:$A,)+1,MATCH($N$4+L$11-1,INDEX(РВД!$D:$I,MATCH($C43,РВД!$A:$A,),),)),IF(L44=\"Я\",INDEX('график 7,8'!$B$5:$AF$16,MONTH($AP$3),L$11),\"\"))","v":""},{"$f":"IFERROR(INDEX(РВД!$D:$I,MATCH($C43,РВД!$A:$A,)+1,MATCH($N$4+M$11-1,INDEX(РВД!$D:$I,MATCH($C43,РВД!$A:$A,),),)),IF(M44=\"Я\",INDEX('график 7,8'!$B$5:$AF$16,MONTH($AP$3),M$11),\"\"))","v":""},{"$f":"IFERROR(INDEX(РВД!$D:$I,MATCH($C43,РВД!$A:$A,)+1,MATCH($N$4+N$11-1,INDEX(РВД!$D:$I,MATCH($C43,РВД!$A:$A,),),)),IF(N44=\"Я\",INDEX('график 7,8'!$B$5:$AF$16,MONTH($AP$3),N$11),\"\"))","v":7.8},{"$f":"IFERROR(INDEX(РВД!$D:$I,MATCH($C43,РВД!$A:$A,)+1,MATCH($N$4+O$11-1,INDEX(РВД!$D:$I,MATCH($C43,РВД!$A:$A,),),)),IF(O44=\"Я\",INDEX('график 7,8'!$B$5:$AF$16,MONTH($AP$3),O$11),\"\"))","v":7.8},{"$f":"IFERROR(INDEX(РВД!$D:$I,MATCH($C43,РВД!$A:$A,)+1,MATCH($N$4+P$11-1,INDEX(РВД!$D:$I,MATCH($C43,РВД!$A:$A,),),)),IF(P44=\"Я\",INDEX('график 7,8'!$B$5:$AF$16,MONTH($AP$3),P$11),\"\"))","v":7.8},{"$f":"IFERROR(INDEX(РВД!$D:$I,MATCH($C43,РВД!$A:$A,)+1,MATCH($N$4+Q$11-1,INDEX(РВД!$D:$I,MATCH($C43,РВД!$A:$A,),),)),IF(Q44=\"Я\",INDEX('график 7,8'!$B$5:$AF$16,MONTH($AP$3),Q$11),\"\"))","v":7.8},{"$f":"IFERROR(INDEX(РВД!$D:$I,MATCH($C43,РВД!$A:$A,)+1,MATCH($N$4+R$11-1,INDEX(РВД!$D:$I,MATCH($C43,РВД!$A:$A,),),)),IF(R44=\"Я\",INDEX('график 7,8'!$B$5:$AF$16,MONTH($AP$3),R$11),\"\"))","v":""},{"$f":"IFERROR(INDEX(РВД!$D:$I,MATCH($C43,РВД!$A:$A,)+1,MATCH($N$4+S$11-1,INDEX(РВД!$D:$I,MATCH($C43,РВД!$A:$A,),),)),IF(S44=\"Я\",INDEX('график 7,8'!$B$5:$AF$16,MONTH($AP$3),S$11),\"\"))","v":""},{"$f":"SUMIF(E44:S44,\"Я\",E43:S43)","v":70.199999999999989},{"$f":"IFERROR(INDEX(РВД!$D:$I,MATCH($C43,РВД!$A:$A,)+1,MATCH($N$4+U$11-1,INDEX(РВД!$D:$I,MATCH($C43,РВД!$A:$A,),),)),IF(U44=\"Я\",INDEX('график 7,8'!$B$5:$AF$16,MONTH($AP$3),U$11),\"\"))","v":7.8},{"$f":"IFERROR(INDEX(РВД!$D:$I,MATCH($C43,РВД!$A:$A,)+1,MATCH($N$4+V$11-1,INDEX(РВД!$D:$I,MATCH($C43,РВД!$A:$A,),),)),IF(V44=\"Я\",INDEX('график 7,8'!$B$5:$AF$16,MONTH($AP$3),V$11),\"\"))","v":7.8},{"$f":"IFERROR(INDEX(РВД!$D:$I,MATCH($C43,РВД!$A:$A,)+1,MATCH($N$4+W$11-1,INDEX(РВД!$D:$I,MATCH($C43,РВД!$A:$A,),),)),IF(W44=\"Я\",INDEX('график 7,8'!$B$5:$AF$16,MONTH($AP$3),W$11),\"\"))","v":7.8},{"$f":"IFERROR(INDEX(РВД!$D:$I,MATCH($C43,РВД!$A:$A,)+1,MATCH($N$4+X$11-1,INDEX(РВД!$D:$I,MATCH($C43,РВД!$A:$A,),),)),IF(X44=\"Я\",INDEX('график 7,8'!$B$5:$AF$16,MONTH($AP$3),X$11),\"\"))","v":7.8},{"$f":"IFERROR(INDEX(РВД!$D:$I,MATCH($C43,РВД!$A:$A,)+1,MATCH($N$4+Y$11-1,INDEX(РВД!$D:$I,MATCH($C43,РВД!$A:$A,),),)),IF(Y44=\"Я\",INDEX('график 7,8'!$B$5:$AF$16,MONTH($AP$3),Y$11),\"\"))","v":7.8},{"$f":"IFERROR(INDEX(РВД!$D:$I,MATCH($C43,РВД!$A:$A,)+1,MATCH($N$4+Z$11-1,INDEX(РВД!$D:$I,MATCH($C43,РВД!$A:$A,),),)),IF(Z44=\"Я\",INDEX('график 7,8'!$B$5:$AF$16,MONTH($AP$3),Z$11),\"\"))","v":""},{"$f":"IFERROR(INDEX(РВД!$D:$I,MATCH($C43,РВД!$A:$A,)+1,MATCH($N$4+AA$11-1,INDEX(РВД!$D:$I,MATCH($C43,РВД!$A:$A,),),)),IF(AA44=\"Я\",INDEX('график 7,8'!$B$5:$AF$16,MONTH($AP$3),AA$11),\"\"))","v":""},{"$f":"IFERROR(INDEX(РВД!$D:$I,MATCH($C43,РВД!$A:$A,)+1,MATCH($N$4+AB$11-1,INDEX(РВД!$D:$I,MATCH($C43,РВД!$A:$A,),),)),IF(AB44=\"Я\",INDEX('график 7,8'!$B$5:$AF$16,MONTH($AP$3),AB$11),\"\"))","v":7.8},{"$f":"IFERROR(INDEX(РВД!$D:$I,MATCH($C43,РВД!$A:$A,)+1,MATCH($N$4+AC$11-1,INDEX(РВД!$D:$I,MATCH($C43,РВД!$A:$A,),),)),IF(AC44=\"Я\",INDEX('график 7,8'!$B$5:$AF$16,MONTH($AP$3),AC$11),\"\"))","v":7.8},{"$f":"IFERROR(INDEX(РВД!$D:$I,MATCH($C43,РВД!$A:$A,)+1,MATCH($N$4+AD$11-1,INDEX(РВД!$D:$I,MATCH($C43,РВД!$A:$A,),),)),IF(AD44=\"Я\",INDEX('график 7,8'!$B$5:$AF$16,MONTH($AP$3),AD$11),\"\"))","v":7.8},{"$f":"IFERROR(INDEX(РВД!$D:$I,MATCH($C43,РВД!$A:$A,)+1,MATCH($N$4+AE$11-1,INDEX(РВД!$D:$I,MATCH($C43,РВД!$A:$A,),),)),IF(AE44=\"Я\",INDEX('график 7,8'!$B$5:$AF$16,MONTH($AP$3),AE$11),\"\"))","v":7.8},{"$f":"IFERROR(INDEX(РВД!$D:$I,MATCH($C43,РВД!$A:$A,)+1,MATCH($N$4+AF$11-1,INDEX(РВД!$D:$I,MATCH($C43,РВД!$A:$A,),),)),IF(AF44=\"Я\",INDEX('график 7,8'!$B$5:$AF$16,MONTH($AP$3),AF$11),\"\"))","v":7.8},{"$f":"IFERROR(INDEX(РВД!$D:$I,MATCH($C43,РВД!$A:$A,)+1,MATCH($N$4+AG$11-1,INDEX(РВД!$D:$I,MATCH($C43,РВД!$A:$A,),),)),IF(AG44=\"Я\",INDEX('график 7,8'!$B$5:$AF$16,MONTH($AP$3),AG$11),\"\"))","v":""},{"$f":"IFERROR(INDEX(РВД!$D:$I,MATCH($C43,РВД!$A:$A,)+1,MATCH($N$4+AH$11-1,INDEX(РВД!$D:$I,MATCH($C43,РВД!$A:$A,),),)),IF(AH44=\"Я\",INDEX('график 7,8'!$B$5:$AF$16,MONTH($AP$3),AH$11),\"\"))","v":""},{"$f":"IFERROR(INDEX(РВД!$D:$I,MATCH($C43,РВД!$A:$A,)+1,MATCH($N$4+AI$11-1,INDEX(РВД!$D:$I,MATCH($C43,РВД!$A:$A,),),)),IF(AI44=\"Я\",INDEX('график 7,8'!$B$5:$AF$16,MONTH($AP$3),AI$11),\"\"))","v":7.8},{"$f":"IFERROR(INDEX(РВД!$D:$I,MATCH($C43,РВД!$A:$A,)+1,MATCH($N$4+AJ$11-1,INDEX(РВД!$D:$I,MATCH($C43,РВД!$A:$A,),),)),IF(AJ44=\"Я\",INDEX('график 7,8'!$B$5:$AF$16,MONTH($AP$3),AJ$11),\"\"))","v":7.8},{"$f":"\"Я/\"&SUMIF(E44:AJ44,\"Я\",E43:AJ43)","v":"Я/163,8"},{"$f":"(SUMIF(E44:AJ44,\"В\",E43:AJ43)+SUMIF(E44:AJ44,\"В.\",E43:AJ43))*2","v":0},{"$f":"COUNTIFS(E44:AJ44,\"Я\",E43:AJ43,\"<>\")","v":21},{"$f":"IFERROR(VLOOKUP(C43,доплаты!$A$5:$P$118,16,0),\"\")","v":"24"}]
[null,null,null,null,{"$f":"TRIM(LEFT(TRIM(INDEX(отсутствия!$N:$AR,MATCH($C43,отсутствия!$A:$A,),E$11)&\" \"&TEXT(INDEX('график 7,8'!$B$5:$AF$16,MONTH($AP$3),E$11)&\"\",\"Я\")),2))","v":"В"},{"$f":"TRIM(LEFT(TRIM(INDEX(отсутствия!$N:$AR,MATCH($C43,отсутствия!$A:$A,),F$11)&\" \"&TEXT(INDEX('график 7,8'!$B$5:$AF$16,MONTH($AP$3),F$11)&\"\",\"Я\")),2))","v":"Я"},{"$f":"TRIM(LEFT(TRIM(INDEX(отсутствия!$N:$AR,MATCH($C43,отсутствия!$A:$A,),G$11)&\" \"&TEXT(INDEX('график 7,8'!$B$5:$AF$16,MONTH($AP$3),G$11)&\"\",\"Я\")),2))","v":"Я"},{"$f":"TRIM(LEFT(TRIM(INDEX(отсутствия!$N:$AR,MATCH($C43,отсутствия!$A:$A,),H$11)&\" \"&TEXT(INDEX('график 7,8'!$B$5:$AF$16,MONTH($AP$3),H$11)&\"\",\"Я\")),2))","v":"Я"},{"$f":"TRIM(LEFT(TRIM(INDEX(отсутствия!$N:$AR,MATCH($C43,отсутствия!$A:$A,),I$11)&\" \"&TEXT(INDEX('график 7,8'!$B$5:$AF$16,MONTH($AP$3),I$11)&\"\",\"Я\")),2))","v":"Я"},{"$f":"TRIM(LEFT(TRIM(INDEX(отсутствия!$N:$AR,MATCH($C43,отсутствия!$A:$A,),J$11)&\" \"&TEXT(INDEX('график 7,8'!$B$5:$AF$16,MONTH($AP$3),J$11)&\"\",\"Я\")),2))","v":"Я"},{"$f":"TRIM(LEFT(TRIM(INDEX(отсутствия!$N:$AR,MATCH($C43,отсутствия!$A:$A,),K$11)&\" \"&TEXT(INDEX('график 7,8'!$B$5:$AF$16,MONTH($AP$3),K$11)&\"\",\"Я\")),2))","v":"В"},{"$f":"TRIM(LEFT(TRIM(INDEX(отсутствия!$N:$AR,MATCH($C43,отсутствия!$A:$A,),L$11)&\" \"&TEXT(INDEX('график 7,8'!$B$5:$AF$16,MONTH($AP$3),L$11)&\"\",\"Я\")),2))","v":"В."},{"$f":"TRIM(LEFT(TRIM(INDEX(отсутствия!$N:$AR,MATCH($C43,отсутствия!$A:$A,),M$11)&\" \"&TEXT(INDEX('график 7,8'!$B$5:$AF$16,MONTH($AP$3),M$11)&\"\",\"Я\")),2))","v":"В"},{"$f":"TRIM(LEFT(TRIM(INDEX(отсутствия!$N:$AR,MATCH($C43,отсутствия!$A:$A,),N$11)&\" \"&TEXT(INDEX('график 7,8'!$B$5:$AF$16,MONTH($AP$3),N$11)&\"\",\"Я\")),2))","v":"Я"},{"$f":"TRIM(LEFT(TRIM(INDEX(отсутствия!$N:$AR,MATCH($C43,отсутствия!$A:$A,),O$11)&\" \"&TEXT(INDEX('график 7,8'!$B$5:$AF$16,MONTH($AP$3),O$11)&\"\",\"Я\")),2))","v":"Я"},{"$f":"TRIM(LEFT(TRIM(INDEX(отсутствия!$N:$AR,MATCH($C43,отсутствия!$A:$A,),P$11)&\" \"&TEXT(INDEX('график 7,8'!$B$5:$AF$16,MONTH($AP$3),P$11)&\"\",\"Я\")),2))","v":"Я"},{"$f":"TRIM(LEFT(TRIM(INDEX(отсутствия!$N:$AR,MATCH($C43,отсутствия!$A:$A,),Q$11)&\" \"&TEXT(INDEX('график 7,8'!$B$5:$AF$16,MONTH($AP$3),Q$11)&\"\",\"Я\")),2))","v":"Я"},{"$f":"TRIM(LEFT(TRIM(INDEX(отсутствия!$N:$AR,MATCH($C43,отсутствия!$A:$A,),R$11)&\" \"&TEXT(INDEX('график 7,8'!$B$5:$AF$16,MONTH($AP$3),R$11)&\"\",\"Я\")),2))","v":"В"},{"$f":"TRIM(LEFT(TRIM(INDEX(отсутствия!$N:$AR,MATCH($C43,отсутствия!$A:$A,),S$11)&\" \"&TEXT(INDEX('график 7,8'!$B$5:$AF$16,MONTH($AP$3),S$11)&\"\",\"Я\")),2))","v":"В"},null,{"$f":"TRIM(LEFT(TRIM(INDEX(отсутствия!$N:$AR,MATCH($C43,отсутствия!$A:$A,),U$11)&\" \"&TEXT(INDEX('график 7,8'!$B$5:$AF$16,MONTH($AP$3),U$11)&\"\",\"Я\")),2))","v":"Я"},{"$f":"TRIM(LEFT(TRIM(INDEX(отсутствия!$N:$AR,MATCH($C43,отсутствия!$A:$A,),V$11)&\" \"&TEXT(INDEX('график 7,8'!$B$5:$AF$16,MONTH($AP$3),V$11)&\"\",\"Я\")),2))","v":"Я"},{"$f":"TRIM(LEFT(TRIM(INDEX(отсутствия!$N:$AR,MATCH($C43,отсутствия!$A:$A,),W$11)&\" \"&TEXT(INDEX('график 7,8'!$B$5:$AF$16,MONTH($AP$3),W$11)&\"\",\"Я\")),2))","v":"Я"},{"$f":"TRIM(LEFT(TRIM(INDEX(отсутствия!$N:$AR,MATCH($C43,отсутствия!$A:$A,),X$11)&\" \"&TEXT(INDEX('график 7,8'!$B$5:$AF$16,MONTH($AP$3),X$11)&\"\",\"Я\")),2))","v":"Я"},{"$f":"TRIM(LEFT(TRIM(INDEX(отсутствия!$N:$AR,MATCH($C43,отсутствия!$A:$A,),Y$11)&\" \"&TEXT(INDEX('график 7,8'!$B$5:$AF$16,MONTH($AP$3),Y$11)&\"\",\"Я\")),2))","v":"Я"},{"$f":"TRIM(LEFT(TRIM(INDEX(отсутствия!$N:$AR,MATCH($C43,отсутствия!$A:$A,),Z$11)&\" \"&TEXT(INDEX('график 7,8'!$B$5:$AF$16,MONTH($AP$3),Z$11)&\"\",\"Я\")),2))","v":"В"},{"$f":"TRIM(LEFT(TRIM(INDEX(отсутствия!$N:$AR,MATCH($C43,отсутствия!$A:$A,),AA$11)&\" \"&TEXT(INDEX('график 7,8'!$B$5:$AF$16,MONTH($AP$3),AA$11)&\"\",\"Я\")),2))","v":"В"},{"$f":"TRIM(LEFT(TRIM(INDEX(отсутствия!$N:$AR,MATCH($C43,отсутствия!$A:$A,),AB$11)&\" \"&TEXT(INDEX('график 7,8'!$B$5:$AF$16,MONTH($AP$3),AB$11)&\"\",\"Я\")),2))","v":"Я"},{"$f":"TRIM(LEFT(TRIM(INDEX(отсутствия!$N:$AR,MATCH($C43,отсутствия!$A:$A,),AC$11)&\" \"&TEXT(INDEX('график 7,8'!$B$5:$AF$16,MONTH($AP$3),AC$11)&\"\",\"Я\")),2))","v":"Я"},{"$f":"TRIM(LEFT(TRIM(INDEX(отсутствия!$N:$AR,MATCH($C43,отсутствия!$A:$A,),AD$11)&\" \"&TEXT(INDEX('график 7,8'!$B$5:$AF$16,MONTH($AP$3),AD$11)&\"\",\"Я\")),2))","v":"Я"},{"$f":"TRIM(LEFT(TRIM(INDEX(отсутствия!$N:$AR,MATCH($C43,отсутствия!$A:$A,),AE$11)&\" \"&TEXT(INDEX('график 7,8'!$B$5:$AF$16,MONTH($AP$3),AE$11)&\"\",\"Я\")),2))","v":"Я"},{"$f":"TRIM(LEFT(TRIM(INDEX(отсутствия!$N:$AR,MATCH($C43,отсутствия!$A:$A,),AF$11)&\" \"&TEXT(INDEX('график 7,8'!$B$5:$AF$16,MONTH($AP$3),AF$11)&\"\",\"Я\")),2))","v":"Я"},{"$f":"TRIM(LEFT(TRIM(INDEX(отсутствия!$N:$AR,MATCH($C43,отсутствия!$A:$A,),AG$11)&\" \"&TEXT(INDEX('график 7,8'!$B$5:$AF$16,MONTH($AP$3),AG$11)&\"\",\"Я\")),2))","v":"В"},{"$f":"TRIM(LEFT(TRIM(INDEX(отсутствия!$N:$AR,MATCH($C43,отсутствия!$A:$A,),AH$11)&\" \"&TEXT(INDEX('график 7,8'!$B$5:$AF$16,MONTH($AP$3),AH$11)&\"\",\"Я\")),2))","v":"В"},{"$f":"TRIM(LEFT(TRIM(INDEX(отсутствия!$N:$AR,MATCH($C43,отсутствия!$A:$A,),AI$11)&\" \"&TEXT(INDEX('график 7,8'!$B$5:$AF$16,MONTH($AP$3),AI$11)&\"\",\"Я\")),2))","v":"Я"},{"$f":"TRIM(LEFT(TRIM(INDEX(отсутствия!$N:$AR,MATCH($C43,отсутствия!$A:$A,),AJ$11)&\" \"&TEXT(INDEX('график 7,8'!$B$5:$AF$16,MONTH($AP$3),AJ$11)&\"\",\"Я\")),2))","v":"Я"}]
[4990,"Ковальчук",4990,"сборная",{"$f":"IFERROR(INDEX(РВД!$D:$I,MATCH($C45,РВД!$A:$A,)+1,MATCH($N$4+E$11-1,INDEX(РВД!$D:$I,MATCH($C45,РВД!$A:$A,),),)),IF(E46=\"Я\",INDEX('график 7,8'!$B$52:$AF$63,MONTH($AP$3),E$11),\"\"))","v":""},{"$f":"IFERROR(INDEX(РВД!$D:$I,MATCH($C45,РВД!$A:$A,)+1,MATCH($N$4+F$11-1,INDEX(РВД!$D:$I,MATCH($C45,РВД!$A:$A,),),)),IF(F46=\"Я\",INDEX('график 7,8'!$B$52:$AF$63,MONTH($AP$3),F$11),\"\"))","v":3.9},{"$f":"IFERROR(INDEX(РВД!$D:$I,MATCH($C45,РВД!$A:$A,)+1,MATCH($N$4+G$11-1,INDEX(РВД!$D:$I,MATCH($C45,РВД!$A:$A,),),)),IF(G46=\"Я\",INDEX('график 7,8'!$B$52:$AF$63,MONTH($AP$3),G$11),\"\"))","v":3.9},{"$f":"IFERROR(INDEX(РВД!$D:$I,MATCH($C45,РВД!$A:$A,)+1,MATCH($N$4+H$11-1,INDEX(РВД!$D:$I,MATCH($C45,РВД!$A:$A,),),)),IF(H46=\"Я\",INDEX('график 7,8'!$B$52:$AF$63,MONTH($AP$3),H$11),\"\"))","v":3.9},{"$f":"IFERROR(INDEX(РВД!$D:$I,MATCH($C45,РВД!$A:$A,)+1,MATCH($N$4+I$11-1,INDEX(РВД!$D:$I,MATCH($C45,РВД!$A:$A,),),)),IF(I46=\"Я\",INDEX('график 7,8'!$B$52:$AF$63,MONTH($AP$3),I$11),\"\"))","v":3.9},{"$f":"IFERROR(INDEX(РВД!$D:$I,MATCH($C45,РВД!$A:$A,)+1,MATCH($N$4+J$11-1,INDEX(РВД!$D:$I,MATCH($C45,РВД!$A:$A,),),)),IF(J46=\"Я\",INDEX('график 7,8'!$B$52:$AF$63,MONTH($AP$3),J$11),\"\"))","v":3.9},{"$f":"IFERROR(INDEX(РВД!$D:$I,MATCH($C45,РВД!$A:$A,)+1,MATCH($N$4+K$11-1,INDEX(РВД!$D:$I,MATCH($C45,РВД!$A:$A,),),)),IF(K46=\"Я\",INDEX('график 7,8'!$B$52:$AF$63,MONTH($AP$3),K$11),\"\"))","v":""},{"$f":"IFERROR(INDEX(РВД!$D:$I,MATCH($C45,РВД!$A:$A,)+1,MATCH($N$4+L$11-1,INDEX(РВД!$D:$I,MATCH($C45,РВД!$A:$A,),),)),IF(L46=\"Я\",INDEX('график 7,8'!$B$52:$AF$63,MONTH($AP$3),L$11),\"\"))","v":""},{"$f":"IFERROR(INDEX(РВД!$D:$I,MATCH($C45,РВД!$A:$A,)+1,MATCH($N$4+M$11-1,INDEX(РВД!$D:$I,MATCH($C45,РВД!$A:$A,),),)),IF(M46=\"Я\",INDEX('график 7,8'!$B$52:$AF$63,MONTH($AP$3),M$11),\"\"))","v":""},{"$f":"IFERROR(INDEX(РВД!$D:$I,MATCH($C45,РВД!$A:$A,)+1,MATCH($N$4+N$11-1,INDEX(РВД!$D:$I,MATCH($C45,РВД!$A:$A,),),)),IF(N46=\"Я\",INDEX('график 7,8'!$B$52:$AF$63,MONTH($AP$3),N$11),\"\"))","v":3.9},{"$f":"IFERROR(INDEX(РВД!$D:$I,MATCH($C45,РВД!$A:$A,)+1,MATCH($N$4+O$11-1,INDEX(РВД!$D:$I,MATCH($C45,РВД!$A:$A,),),)),IF(O46=\"Я\",INDEX('график 7,8'!$B$52:$AF$63,MONTH($AP$3),O$11),\"\"))","v":3.9},{"$f":"IFERROR(INDEX(РВД!$D:$I,MATCH($C45,РВД!$A:$A,)+1,MATCH($N$4+P$11-1,INDEX(РВД!$D:$I,MATCH($C45,РВД!$A:$A,),),)),IF(P46=\"Я\",INDEX('график 7,8'!$B$52:$AF$63,MONTH($AP$3),P$11),\"\"))","v":3.9},{"$f":"IFERROR(INDEX(РВД!$D:$I,MATCH($C45,РВД!$A:$A,)+1,MATCH($N$4+Q$11-1,INDEX(РВД!$D:$I,MATCH($C45,РВД!$A:$A,),),)),IF(Q46=\"Я\",INDEX('график 7,8'!$B$52:$AF$63,MONTH($AP$3),Q$11),\"\"))","v":3.9},{"$f":"IFERROR(INDEX(РВД!$D:$I,MATCH($C45,РВД!$A:$A,)+1,MATCH($N$4+R$11-1,INDEX(РВД!$D:$I,MATCH($C45,РВД!$A:$A,),),)),IF(R46=\"Я\",INDEX('график 7,8'!$B$52:$AF$63,MONTH($AP$3),R$11),\"\"))","v":""},{"$f":"IFERROR(INDEX(РВД!$D:$I,MATCH($C45,РВД!$A:$A,)+1,MATCH($N$4+S$11-1,INDEX(РВД!$D:$I,MATCH($C45,РВД!$A:$A,),),)),IF(S46=\"Я\",INDEX('график 7,8'!$B$52:$AF$63,MONTH($AP$3),S$11),\"\"))","v":""},{"$f":"SUMIF(E46:S46,\"Я\",E45:S45)","v":35.099999999999994},{"$f":"IFERROR(INDEX(РВД!$D:$I,MATCH($C45,РВД!$A:$A,)+1,MATCH($N$4+U$11-1,INDEX(РВД!$D:$I,MATCH($C45,РВД!$A:$A,),),)),IF(U46=\"Я\",INDEX('график 7,8'!$B$52:$AF$63,MONTH($AP$3),U$11),\"\"))","v":3.9},{"$f":"IFERROR(INDEX(РВД!$D:$I,MATCH($C45,РВД!$A:$A,)+1,MATCH($N$4+V$11-1,INDEX(РВД!$D:$I,MATCH($C45,РВД!$A:$A,),),)),IF(V46=\"Я\",INDEX('график 7,8'!$B$52:$AF$63,MONTH($AP$3),V$11),\"\"))","v":3.9},{"$f":"IFERROR(INDEX(РВД!$D:$I,MATCH($C45,РВД!$A:$A,)+1,MATCH($N$4+W$11-1,INDEX(РВД!$D:$I,MATCH($C45,РВД!$A:$A,),),)),IF(W46=\"Я\",INDEX('график 7,8'!$B$52:$AF$63,MONTH($AP$3),W$11),\"\"))","v":3.9},{"$f":"IFERROR(INDEX(РВД!$D:$I,MATCH($C45,РВД!$A:$A,)+1,MATCH($N$4+X$11-1,INDEX(РВД!$D:$I,MATCH($C45,РВД!$A:$A,),),)),IF(X46=\"Я\",INDEX('график 7,8'!$B$52:$AF$63,MONTH($AP$3),X$11),\"\"))","v":3.9},{"$f":"IFERROR(INDEX(РВД!$D:$I,MATCH($C45,РВД!$A:$A,)+1,MATCH($N$4+Y$11-1,INDEX(РВД!$D:$I,MATCH($C45,РВД!$A:$A,),),)),IF(Y46=\"Я\",INDEX('график 7,8'!$B$52:$AF$63,MONTH($AP$3),Y$11),\"\"))","v":3.9},{"$f":"IFERROR(INDEX(РВД!$D:$I,MATCH($C45,РВД!$A:$A,)+1,MATCH($N$4+Z$11-1,INDEX(РВД!$D:$I,MATCH($C45,РВД!$A:$A,),),)),IF(Z46=\"Я\",INDEX('график 7,8'!$B$52:$AF$63,MONTH($AP$3),Z$11),\"\"))","v":""},{"$f":"IFERROR(INDEX(РВД!$D:$I,MATCH($C45,РВД!$A:$A,)+1,MATCH($N$4+AA$11-1,INDEX(РВД!$D:$I,MATCH($C45,РВД!$A:$A,),),)),IF(AA46=\"Я\",INDEX('график 7,8'!$B$52:$AF$63,MONTH($AP$3),AA$11),\"\"))","v":""},{"$f":"IFERROR(INDEX(РВД!$D:$I,MATCH($C45,РВД!$A:$A,)+1,MATCH($N$4+AB$11-1,INDEX(РВД!$D:$I,MATCH($C45,РВД!$A:$A,),),)),IF(AB46=\"Я\",INDEX('график 7,8'!$B$52:$AF$63,MONTH($AP$3),AB$11),\"\"))","v":3.9},{"$f":"IFERROR(INDEX(РВД!$D:$I,MATCH($C45,РВД!$A:$A,)+1,MATCH($N$4+AC$11-1,INDEX(РВД!$D:$I,MATCH($C45,РВД!$A:$A,),),)),IF(AC46=\"Я\",INDEX('график 7,8'!$B$52:$AF$63,MONTH($AP$3),AC$11),\"\"))","v":3.9},{"$f":"IFERROR(INDEX(РВД!$D:$I,MATCH($C45,РВД!$A:$A,)+1,MATCH($N$4+AD$11-1,INDEX(РВД!$D:$I,MATCH($C45,РВД!$A:$A,),),)),IF(AD46=\"Я\",INDEX('график 7,8'!$B$52:$AF$63,MONTH($AP$3),AD$11),\"\"))","v":3.9},{"$f":"IFERROR(INDEX(РВД!$D:$I,MATCH($C45,РВД!$A:$A,)+1,MATCH($N$4+AE$11-1,INDEX(РВД!$D:$I,MATCH($C45,РВД!$A:$A,),),)),IF(AE46=\"Я\",INDEX('график 7,8'!$B$52:$AF$63,MONTH($AP$3),AE$11),\"\"))","v":3.9},{"$f":"IFERROR(INDEX(РВД!$D:$I,MATCH($C45,РВД!$A:$A,)+1,MATCH($N$4+AF$11-1,INDEX(РВД!$D:$I,MATCH($C45,РВД!$A:$A,),),)),IF(AF46=\"Я\",INDEX('график 7,8'!$B$52:$AF$63,MONTH($AP$3),AF$11),\"\"))","v":3.9},{"$f":"IFERROR(INDEX(РВД!$D:$I,MATCH($C45,РВД!$A:$A,)+1,MATCH($N$4+AG$11-1,INDEX(РВД!$D:$I,MATCH($C45,РВД!$A:$A,),),)),IF(AG46=\"Я\",INDEX('график 7,8'!$B$52:$AF$63,MONTH($AP$3),AG$11),\"\"))","v":""},{"$f":"IFERROR(INDEX(РВД!$D:$I,MATCH($C45,РВД!$A:$A,)+1,MATCH($N$4+AH$11-1,INDEX(РВД!$D:$I,MATCH($C45,РВД!$A:$A,),),)),IF(AH46=\"Я\",INDEX('график 7,8'!$B$52:$AF$63,MONTH($AP$3),AH$11),\"\"))","v":""},{"$f":"IFERROR(INDEX(РВД!$D:$I,MATCH($C45,РВД!$A:$A,)+1,MATCH($N$4+AI$11-1,INDEX(РВД!$D:$I,MATCH($C45,РВД!$A:$A,),),)),IF(AI46=\"Я\",INDEX('график 7,8'!$B$52:$AF$63,MONTH($AP$3),AI$11),\"\"))","v":3.9},{"$f":"IFERROR(INDEX(РВД!$D:$I,MATCH($C45,РВД!$A:$A,)+1,MATCH($N$4+AJ$11-1,INDEX(РВД!$D:$I,MATCH($C45,РВД!$A:$A,),),)),IF(AJ46=\"Я\",INDEX('график 7,8'!$B$52:$AF$63,MONTH($AP$3),AJ$11),\"\"))","v":3.9},{"$f":"\"Я/\"&SUMIF(E46:AJ46,\"Я\",E45:AJ45)","v":"Я/81,9"},{"$f":"(SUMIF(E46:AJ46,\"В\",E45:AJ45)+SUMIF(E46:AJ46,\"В.\",E45:AJ45))*2","v":0},{"$f":"COUNTIFS(E46:AJ46,\"Я\",E45:AJ45,\"<>\")","v":21},{"$f":"IFERROR(VLOOKUP(C45,доплаты!$A$5:$P$118,16,0),\"\")","v":"28"}]
[null,null,null,null,{"$f":"TRIM(LEFT(TRIM(INDEX(отсутствия!$N:$AR,MATCH($C45,отсутствия!$A:$A,),E$11)&\" \"&TEXT(INDEX('график 7,8'!$B$52:$AF$63,MONTH($AP$3),E$11)&\"\",\"Я\")),2))","v":"В"},{"$f":"TRIM(LEFT(TRIM(INDEX(отсутствия!$N:$AR,MATCH($C45,отсутствия!$A:$A,),F$11)&\" \"&TEXT(INDEX('график 7,8'!$B$52:$AF$63,MONTH($AP$3),F$11)&\"\",\"Я\")),2))","v":"Я"},{"$f":"TRIM(LEFT(TRIM(INDEX(отсутствия!$N:$AR,MATCH($C45,отсутствия!$A:$A,),G$11)&\" \"&TEXT(INDEX('график 7,8'!$B$52:$AF$63,MONTH($AP$3),G$11)&\"\",\"Я\")),2))","v":"Я"},{"$f":"TRIM(LEFT(TRIM(INDEX(отсутствия!$N:$AR,MATCH($C45,отсутствия!$A:$A,),H$11)&\" \"&TEXT(INDEX('график 7,8'!$B$52:$AF$63,MONTH($AP$3),H$11)&\"\",\"Я\")),2))","v":"Я"},{"$f":"TRIM(LEFT(TRIM(INDEX(отсутствия!$N:$AR,MATCH($C45,отсутствия!$A:$A,),I$11)&\" \"&TEXT(INDEX('график 7,8'!$B$52:$AF$63,MONTH($AP$3),I$11)&\"\",\"Я\")),2))","v":"Я"},{"$f":"TRIM(LEFT(TRIM(INDEX(отсутствия!$N:$AR,MATCH($C45,отсутствия!$A:$A,),J$11)&\" \"&TEXT(INDEX('график 7,8'!$B$52:$AF$63,MONTH($AP$3),J$11)&\"\",\"Я\")),2))","v":"Я"},{"$f":"TRIM(LEFT(TRIM(INDEX(отсутствия!$N:$AR,MATCH($C45,отсутствия!$A:$A,),K$11)&\" \"&TEXT(INDEX('график 7,8'!$B$52:$AF$63,MONTH($AP$3),K$11)&\"\",\"Я\")),2))","v":"В"},{"$f":"TRIM(LEFT(TRIM(INDEX(отсутствия!$N:$AR,MATCH($C45,отсутствия!$A:$A,),L$11)&\" \"&TEXT(INDEX('график 7,8'!$B$52:$AF$63,MONTH($AP$3),L$11)&\"\",\"Я\")),2))","v":"В."},{"$f":"TRIM(LEFT(TRIM(INDEX(отсутствия!$N:$AR,MATCH($C45,отсутствия!$A:$A,),M$11)&\" \"&TEXT(INDEX('график 7,8'!$B$52:$AF$63,MONTH($AP$3),M$11)&\"\",\"Я\")),2))","v":"В"},{"$f":"TRIM(LEFT(TRIM(INDEX(отсутствия!$N:$AR,MATCH($C45,отсутствия!$A:$A,),N$11)&\" \"&TEXT(INDEX('график 7,8'!$B$52:$AF$63,MONTH($AP$3),N$11)&\"\",\"Я\")),2))","v":"Я"},{"$f":"TRIM(LEFT(TRIM(INDEX(отсутствия!$N:$AR,MATCH($C45,отсутствия!$A:$A,),O$11)&\" \"&TEXT(INDEX('график 7,8'!$B$52:$AF$63,MONTH($AP$3),O$11)&\"\",\"Я\")),2))","v":"Я"},{"$f":"TRIM(LEFT(TRIM(INDEX(отсутствия!$N:$AR,MATCH($C45,отсутствия!$A:$A,),P$11)&\" \"&TEXT(INDEX('график 7,8'!$B$52:$AF$63,MONTH($AP$3),P$11)&\"\",\"Я\")),2))","v":"Я"},{"$f":"TRIM(LEFT(TRIM(INDEX(отсутствия!$N:$AR,MATCH($C45,отсутствия!$A:$A,),Q$11)&\" \"&TEXT(INDEX('график 7,8'!$B$52:$AF$63,MONTH($AP$3),Q$11)&\"\",\"Я\")),2))","v":"Я"},{"$f":"TRIM(LEFT(TRIM(INDEX(отсутствия!$N:$AR,MATCH($C45,отсутствия!$A:$A,),R$11)&\" \"&TEXT(INDEX('график 7,8'!$B$52:$AF$63,MONTH($AP$3),R$11)&\"\",\"Я\")),2))","v":"В"},{"$f":"TRIM(LEFT(TRIM(INDEX(отсутствия!$N:$AR,MATCH($C45,отсутствия!$A:$A,),S$11)&\" \"&TEXT(INDEX('график 7,8'!$B$52:$AF$63,MONTH($AP$3),S$11)&\"\",\"Я\")),2))","v":"В"},null,{"$f":"TRIM(LEFT(TRIM(INDEX(отсутствия!$N:$AR,MATCH($C45,отсутствия!$A:$A,),U$11)&\" \"&TEXT(INDEX('график 7,8'!$B$52:$AF$63,MONTH($AP$3),U$11)&\"\",\"Я\")),2))","v":"Я"},{"$f":"TRIM(LEFT(TRIM(INDEX(отсутствия!$N:$AR,MATCH($C45,отсутствия!$A:$A,),V$11)&\" \"&TEXT(INDEX('график 7,8'!$B$52:$AF$63,MONTH($AP$3),V$11)&\"\",\"Я\")),2))","v":"Я"},{"$f":"TRIM(LEFT(TRIM(INDEX(отсутствия!$N:$AR,MATCH($C45,отсутствия!$A:$A,),W$11)&\" \"&TEXT(INDEX('график 7,8'!$B$52:$AF$63,MONTH($AP$3),W$11)&\"\",\"Я\")),2))","v":"Я"},{"$f":"TRIM(LEFT(TRIM(INDEX(отсутствия!$N:$AR,MATCH($C45,отсутствия!$A:$A,),X$11)&\" \"&TEXT(INDEX('график 7,8'!$B$52:$AF$63,MONTH($AP$3),X$11)&\"\",\"Я\")),2))","v":"Я"},{"$f":"TRIM(LEFT(TRIM(INDEX(отсутствия!$N:$AR,MATCH($C45,отсутствия!$A:$A,),Y$11)&\" \"&TEXT(INDEX('график 7,8'!$B$52:$AF$63,MONTH($AP$3),Y$11)&\"\",\"Я\")),2))","v":"Я"},{"$f":"TRIM(LEFT(TRIM(INDEX(отсутствия!$N:$AR,MATCH($C45,отсутствия!$A:$A,),Z$11)&\" \"&TEXT(INDEX('график 7,8'!$B$52:$AF$63,MONTH($AP$3),Z$11)&\"\",\"Я\")),2))","v":"В"},{"$f":"TRIM(LEFT(TRIM(INDEX(отсутствия!$N:$AR,MATCH($C45,отсутствия!$A:$A,),AA$11)&\" \"&TEXT(INDEX('график 7,8'!$B$52:$AF$63,MONTH($AP$3),AA$11)&\"\",\"Я\")),2))","v":"В"},{"$f":"TRIM(LEFT(TRIM(INDEX(отсутствия!$N:$AR,MATCH($C45,отсутствия!$A:$A,),AB$11)&\" \"&TEXT(INDEX('график 7,8'!$B$52:$AF$63,MONTH($AP$3),AB$11)&\"\",\"Я\")),2))","v":"Я"},{"$f":"TRIM(LEFT(TRIM(INDEX(отсутствия!$N:$AR,MATCH($C45,отсутствия!$A:$A,),AC$11)&\" \"&TEXT(INDEX('график 7,8'!$B$52:$AF$63,MONTH($AP$3),AC$11)&\"\",\"Я\")),2))","v":"Я"},{"$f":"TRIM(LEFT(TRIM(INDEX(отсутствия!$N:$AR,MATCH($C45,отсутствия!$A:$A,),AD$11)&\" \"&TEXT(INDEX('график 7,8'!$B$52:$AF$63,MONTH($AP$3),AD$11)&\"\",\"Я\")),2))","v":"Я"},{"$f":"TRIM(LEFT(TRIM(INDEX(отсутствия!$N:$AR,MATCH($C45,отсутствия!$A:$A,),AE$11)&\" \"&TEXT(INDEX('график 7,8'!$B$52:$AF$63,MONTH($AP$3),AE$11)&\"\",\"Я\")),2))","v":"Я"},{"$f":"TRIM(LEFT(TRIM(INDEX(отсутствия!$N:$AR,MATCH($C45,отсутствия!$A:$A,),AF$11)&\" \"&TEXT(INDEX('график 7,8'!$B$52:$AF$63,MONTH($AP$3),AF$11)&\"\",\"Я\")),2))","v":"Я"},{"$f":"TRIM(LEFT(TRIM(INDEX(отсутствия!$N:$AR,MATCH($C45,отсутствия!$A:$A,),AG$11)&\" \"&TEXT(INDEX('график 7,8'!$B$52:$AF$63,MONTH($AP$3),AG$11)&\"\",\"Я\")),2))","v":"В"},{"$f":"TRIM(LEFT(TRIM(INDEX(отсутствия!$N:$AR,MATCH($C45,отсутствия!$A:$A,),AH$11)&\" \"&TEXT(INDEX('график 7,8'!$B$52:$AF$63,MONTH($AP$3),AH$11)&\"\",\"Я\")),2))","v":"В"},{"$f":"TRIM(LEFT(TRIM(INDEX(отсутствия!$N:$AR,MATCH($C45,отсутствия!$A:$A,),AI$11)&\" \"&TEXT(INDEX('график 7,8'!$B$52:$AF$63,MONTH($AP$3),AI$11)&\"\",\"Я\")),2))","v":"Я"},{"$f":"TRIM(LEFT(TRIM(INDEX(отсутствия!$N:$AR,MATCH($C45,отсутствия!$A:$A,),AJ$11)&\" \"&TEXT(INDEX('график 7,8'!$B$52:$AF$63,MONTH($AP$3),AJ$11)&\"\",\"Я\")),2))","v":"Я"}]
[5015,"Аршавин",5015,"сборная",{"$f":"IFERROR(INDEX(РВД!$D:$I,MATCH($C47,РВД!$A:$A,)+1,MATCH($N$4+E$11-1,INDEX(РВД!$D:$I,MATCH($C47,РВД!$A:$A,),),)),IF(E48=\"Я\",INDEX('график 7,8'!$B$5:$AF$16,MONTH($AP$3),E$11),\"\"))","v":""},{"$f":"IFERROR(INDEX(РВД!$D:$I,MATCH($C47,РВД!$A:$A,)+1,MATCH($N$4+F$11-1,INDEX(РВД!$D:$I,MATCH($C47,РВД!$A:$A,),),)),IF(F48=\"Я\",INDEX('график 7,8'!$B$5:$AF$16,MONTH($AP$3),F$11),\"\"))","v":7.8},{"$f":"IFERROR(INDEX(РВД!$D:$I,MATCH($C47,РВД!$A:$A,)+1,MATCH($N$4+G$11-1,INDEX(РВД!$D:$I,MATCH($C47,РВД!$A:$A,),),)),IF(G48=\"Я\",INDEX('график 7,8'!$B$5:$AF$16,MONTH($AP$3),G$11),\"\"))","v":7.8},{"$f":"IFERROR(INDEX(РВД!$D:$I,MATCH($C47,РВД!$A:$A,)+1,MATCH($N$4+H$11-1,INDEX(РВД!$D:$I,MATCH($C47,РВД!$A:$A,),),)),IF(H48=\"Я\",INDEX('график 7,8'!$B$5:$AF$16,MONTH($AP$3),H$11),\"\"))","v":7.8},{"$f":"IFERROR(INDEX(РВД!$D:$I,MATCH($C47,РВД!$A:$A,)+1,MATCH($N$4+I$11-1,INDEX(РВД!$D:$I,MATCH($C47,РВД!$A:$A,),),)),IF(I48=\"Я\",INDEX('график 7,8'!$B$5:$AF$16,MONTH($AP$3),I$11),\"\"))","v":7.8},{"$f":"IFERROR(INDEX(РВД!$D:$I,MATCH($C47,РВД!$A:$A,)+1,MATCH($N$4+J$11-1,INDEX(РВД!$D:$I,MATCH($C47,РВД!$A:$A,),),)),IF(J48=\"Я\",INDEX('график 7,8'!$B$5:$AF$16,MONTH($AP$3),J$11),\"\"))","v":7.8},{"$f":"IFERROR(INDEX(РВД!$D:$I,MATCH($C47,РВД!$A:$A,)+1,MATCH($N$4+K$11-1,INDEX(РВД!$D:$I,MATCH($C47,РВД!$A:$A,),),)),IF(K48=\"Я\",INDEX('график 7,8'!$B$5:$AF$16,MONTH($AP$3),K$11),\"\"))","v":""},{"$f":"IFERROR(INDEX(РВД!$D:$I,MATCH($C47,РВД!$A:$A,)+1,MATCH($N$4+L$11-1,INDEX(РВД!$D:$I,MATCH($C47,РВД!$A:$A,),),)),IF(L48=\"Я\",INDEX('график 7,8'!$B$5:$AF$16,MONTH($AP$3),L$11),\"\"))","v":""},{"$f":"IFERROR(INDEX(РВД!$D:$I,MATCH($C47,РВД!$A:$A,)+1,MATCH($N$4+M$11-1,INDEX(РВД!$D:$I,MATCH($C47,РВД!$A:$A,),),)),IF(M48=\"Я\",INDEX('график 7,8'!$B$5:$AF$16,MONTH($AP$3),M$11),\"\"))","v":""},{"$f":"IFERROR(INDEX(РВД!$D:$I,MATCH($C47,РВД!$A:$A,)+1,MATCH($N$4+N$11-1,INDEX(РВД!$D:$I,MATCH($C47,РВД!$A:$A,),),)),IF(N48=\"Я\",INDEX('график 7,8'!$B$5:$AF$16,MONTH($AP$3),N$11),\"\"))","v":7.8},{"$f":"IFERROR(INDEX(РВД!$D:$I,MATCH($C47,РВД!$A:$A,)+1,MATCH($N$4+O$11-1,INDEX(РВД!$D:$I,MATCH($C47,РВД!$A:$A,),),)),IF(O48=\"Я\",INDEX('график 7,8'!$B$5:$AF$16,MONTH($AP$3),O$11),\"\"))","v":7.8},{"$f":"IFERROR(INDEX(РВД!$D:$I,MATCH($C47,РВД!$A:$A,)+1,MATCH($N$4+P$11-1,INDEX(РВД!$D:$I,MATCH($C47,РВД!$A:$A,),),)),IF(P48=\"Я\",INDEX('график 7,8'!$B$5:$AF$16,MONTH($AP$3),P$11),\"\"))","v":7.8},{"$f":"IFERROR(INDEX(РВД!$D:$I,MATCH($C47,РВД!$A:$A,)+1,MATCH($N$4+Q$11-1,INDEX(РВД!$D:$I,MATCH($C47,РВД!$A:$A,),),)),IF(Q48=\"Я\",INDEX('график 7,8'!$B$5:$AF$16,MONTH($AP$3),Q$11),\"\"))","v":7.8},{"$f":"IFERROR(INDEX(РВД!$D:$I,MATCH($C47,РВД!$A:$A,)+1,MATCH($N$4+R$11-1,INDEX(РВД!$D:$I,MATCH($C47,РВД!$A:$A,),),)),IF(R48=\"Я\",INDEX('график 7,8'!$B$5:$AF$16,MONTH($AP$3),R$11),\"\"))","v":""},{"$f":"IFERROR(INDEX(РВД!$D:$I,MATCH($C47,РВД!$A:$A,)+1,MATCH($N$4+S$11-1,INDEX(РВД!$D:$I,MATCH($C47,РВД!$A:$A,),),)),IF(S48=\"Я\",INDEX('график 7,8'!$B$5:$AF$16,MONTH($AP$3),S$11),\"\"))","v":""},{"$f":"SUMIF(E48:S48,\"Я\",E47:S47)","v":70.199999999999989},{"$f":"IFERROR(INDEX(РВД!$D:$I,MATCH($C47,РВД!$A:$A,)+1,MATCH($N$4+U$11-1,INDEX(РВД!$D:$I,MATCH($C47,РВД!$A:$A,),),)),IF(U48=\"Я\",INDEX('график 7,8'!$B$5:$AF$16,MONTH($AP$3),U$11),\"\"))","v":7.8},{"$f":"IFERROR(INDEX(РВД!$D:$I,MATCH($C47,РВД!$A:$A,)+1,MATCH($N$4+V$11-1,INDEX(РВД!$D:$I,MATCH($C47,РВД!$A:$A,),),)),IF(V48=\"Я\",INDEX('график 7,8'!$B$5:$AF$16,MONTH($AP$3),V$11),\"\"))","v":7.8},{"$f":"IFERROR(INDEX(РВД!$D:$I,MATCH($C47,РВД!$A:$A,)+1,MATCH($N$4+W$11-1,INDEX(РВД!$D:$I,MATCH($C47,РВД!$A:$A,),),)),IF(W48=\"Я\",INDEX('график 7,8'!$B$5:$AF$16,MONTH($AP$3),W$11),\"\"))","v":7.8},{"$f":"IFERROR(INDEX(РВД!$D:$I,MATCH($C47,РВД!$A:$A,)+1,MATCH($N$4+X$11-1,INDEX(РВД!$D:$I,MATCH($C47,РВД!$A:$A,),),)),IF(X48=\"Я\",INDEX('график 7,8'!$B$5:$AF$16,MONTH($AP$3),X$11),\"\"))","v":7.8},{"$f":"IFERROR(INDEX(РВД!$D:$I,MATCH($C47,РВД!$A:$A,)+1,MATCH($N$4+Y$11-1,INDEX(РВД!$D:$I,MATCH($C47,РВД!$A:$A,),),)),IF(Y48=\"Я\",INDEX('график 7,8'!$B$5:$AF$16,MONTH($AP$3),Y$11),\"\"))","v":7.8},{"$f":"IFERROR(INDEX(РВД!$D:$I,MATCH($C47,РВД!$A:$A,)+1,MATCH($N$4+Z$11-1,INDEX(РВД!$D:$I,MATCH($C47,РВД!$A:$A,),),)),IF(Z48=\"Я\",INDEX('график 7,8'!$B$5:$AF$16,MONTH($AP$3),Z$11),\"\"))","v":""},{"$f":"IFERROR(INDEX(РВД!$D:$I,MATCH($C47,РВД!$A:$A,)+1,MATCH($N$4+AA$11-1,INDEX(РВД!$D:$I,MATCH($C47,РВД!$A:$A,),),)),IF(AA48=\"Я\",INDEX('график 7,8'!$B$5:$AF$16,MONTH($AP$3),AA$11),\"\"))","v":""},{"$f":"IFERROR(INDEX(РВД!$D:$I,MATCH($C47,РВД!$A:$A,)+1,MATCH($N$4+AB$11-1,INDEX(РВД!$D:$I,MATCH($C47,РВД!$A:$A,),),)),IF(AB48=\"Я\",INDEX('график 7,8'!$B$5:$AF$16,MONTH($AP$3),AB$11),\"\"))","v":7.8},{"$f":"IFERROR(INDEX(РВД!$D:$I,MATCH($C47,РВД!$A:$A,)+1,MATCH($N$4+AC$11-1,INDEX(РВД!$D:$I,MATCH($C47,РВД!$A:$A,),),)),IF(AC48=\"Я\",INDEX('график 7,8'!$B$5:$AF$16,MONTH($AP$3),AC$11),\"\"))","v":7.8},{"$f":"IFERROR(INDEX(РВД!$D:$I,MATCH($C47,РВД!$A:$A,)+1,MATCH($N$4+AD$11-1,INDEX(РВД!$D:$I,MATCH($C47,РВД!$A:$A,),),)),IF(AD48=\"Я\",INDEX('график 7,8'!$B$5:$AF$16,MONTH($AP$3),AD$11),\"\"))","v":7.8},{"$f":"IFERROR(INDEX(РВД!$D:$I,MATCH($C47,РВД!$A:$A,)+1,MATCH($N$4+AE$11-1,INDEX(РВД!$D:$I,MATCH($C47,РВД!$A:$A,),),)),IF(AE48=\"Я\",INDEX('график 7,8'!$B$5:$AF$16,MONTH($AP$3),AE$11),\"\"))","v":7.8},{"$f":"IFERROR(INDEX(РВД!$D:$I,MATCH($C47,РВД!$A:$A,)+1,MATCH($N$4+AF$11-1,INDEX(РВД!$D:$I,MATCH($C47,РВД!$A:$A,),),)),IF(AF48=\"Я\",INDEX('график 7,8'!$B$5:$AF$16,MONTH($AP$3),AF$11),\"\"))","v":7.8},{"$f":"IFERROR(INDEX(РВД!$D:$I,MATCH($C47,РВД!$A:$A,)+1,MATCH($N$4+AG$11-1,INDEX(РВД!$D:$I,MATCH($C47,РВД!$A:$A,),),)),IF(AG48=\"Я\",INDEX('график 7,8'!$B$5:$AF$16,MONTH($AP$3),AG$11),\"\"))","v":""},{"$f":"IFERROR(INDEX(РВД!$D:$I,MATCH($C47,РВД!$A:$A,)+1,MATCH($N$4+AH$11-1,INDEX(РВД!$D:$I,MATCH($C47,РВД!$A:$A,),),)),IF(AH48=\"Я\",INDEX('график 7,8'!$B$5:$AF$16,MONTH($AP$3),AH$11),\"\"))","v":""},{"$f":"IFERROR(INDEX(РВД!$D:$I,MATCH($C47,РВД!$A:$A,)+1,MATCH($N$4+AI$11-1,INDEX(РВД!$D:$I,MATCH($C47,РВД!$A:$A,),),)),IF(AI48=\"Я\",INDEX('график 7,8'!$B$5:$AF$16,MONTH($AP$3),AI$11),\"\"))","v":7.8},{"$f":"IFERROR(INDEX(РВД!$D:$I,MATCH($C47,РВД!$A:$A,)+1,MATCH($N$4+AJ$11-1,INDEX(РВД!$D:$I,MATCH($C47,РВД!$A:$A,),),)),IF(AJ48=\"Я\",INDEX('график 7,8'!$B$5:$AF$16,MONTH($AP$3),AJ$11),\"\"))","v":7.8},{"$f":"\"Я/\"&SUMIF(E48:AJ48,\"Я\",E47:AJ47)","v":"Я/163,8"},{"$f":"(SUMIF(E48:AJ48,\"В\",E47:AJ47)+SUMIF(E48:AJ48,\"В.\",E47:AJ47))*2","v":0},{"$f":"COUNTIFS(E48:AJ48,\"Я\",E47:AJ47,\"<>\")","v":21},{"$f":"IFERROR(VLOOKUP(C47,доплаты!$A$5:$P$118,16,0),\"\")","v":"20,100"}]
[null,null,null,null,{"$f":"TRIM(LEFT(TRIM(INDEX(отсутствия!$N:$AR,MATCH($C47,отсутствия!$A:$A,),E$11)&\" \"&TEXT(INDEX('график 7,8'!$B$5:$AF$16,MONTH($AP$3),E$11)&\"\",\"Я\")),2))","v":"В"},{"$f":"TRIM(LEFT(TRIM(INDEX(отсутствия!$N:$AR,MATCH($C47,отсутствия!$A:$A,),F$11)&\" \"&TEXT(INDEX('график 7,8'!$B$5:$AF$16,MONTH($AP$3),F$11)&\"\",\"Я\")),2))","v":"Я"},{"$f":"TRIM(LEFT(TRIM(INDEX(отсутствия!$N:$AR,MATCH($C47,отсутствия!$A:$A,),G$11)&\" \"&TEXT(INDEX('график 7,8'!$B$5:$AF$16,MONTH($AP$3),G$11)&\"\",\"Я\")),2))","v":"Я"},{"$f":"TRIM(LEFT(TRIM(INDEX(отсутствия!$N:$AR,MATCH($C47,отсутствия!$A:$A,),H$11)&\" \"&TEXT(INDEX('график 7,8'!$B$5:$AF$16,MONTH($AP$3),H$11)&\"\",\"Я\")),2))","v":"Я"},{"$f":"TRIM(LEFT(TRIM(INDEX(отсутствия!$N:$AR,MATCH($C47,отсутствия!$A:$A,),I$11)&\" \"&TEXT(INDEX('график 7,8'!$B$5:$AF$16,MONTH($AP$3),I$11)&\"\",\"Я\")),2))","v":"Я"},{"$f":"TRIM(LEFT(TRIM(INDEX(отсутствия!$N:$AR,MATCH($C47,отсутствия!$A:$A,),J$11)&\" \"&TEXT(INDEX('график 7,8'!$B$5:$AF$16,MONTH($AP$3),J$11)&\"\",\"Я\")),2))","v":"Я"},{"$f":"TRIM(LEFT(TRIM(INDEX(отсутствия!$N:$AR,MATCH($C47,отсутствия!$A:$A,),K$11)&\" \"&TEXT(INDEX('график 7,8'!$B$5:$AF$16,MONTH($AP$3),K$11)&\"\",\"Я\")),2))","v":"В"},{"$f":"TRIM(LEFT(TRIM(INDEX(отсутствия!$N:$AR,MATCH($C47,отсутствия!$A:$A,),L$11)&\" \"&TEXT(INDEX('график 7,8'!$B$5:$AF$16,MONTH($AP$3),L$11)&\"\",\"Я\")),2))","v":"В."},{"$f":"TRIM(LEFT(TRIM(INDEX(отсутствия!$N:$AR,MATCH($C47,отсутствия!$A:$A,),M$11)&\" \"&TEXT(INDEX('график 7,8'!$B$5:$AF$16,MONTH($AP$3),M$11)&\"\",\"Я\")),2))","v":"В"},{"$f":"TRIM(LEFT(TRIM(INDEX(отсутствия!$N:$AR,MATCH($C47,отсутствия!$A:$A,),N$11)&\" \"&TEXT(INDEX('график 7,8'!$B$5:$AF$16,MONTH($AP$3),N$11)&\"\",\"Я\")),2))","v":"Я"},{"$f":"TRIM(LEFT(TRIM(INDEX(отсутствия!$N:$AR,MATCH($C47,отсутствия!$A:$A,),O$11)&\" \"&TEXT(INDEX('график 7,8'!$B$5:$AF$16,MONTH($AP$3),O$11)&\"\",\"Я\")),2))","v":"Я"},{"$f":"TRIM(LEFT(TRIM(INDEX(отсутствия!$N:$AR,MATCH($C47,отсутствия!$A:$A,),P$11)&\" \"&TEXT(INDEX('график 7,8'!$B$5:$AF$16,MONTH($AP$3),P$11)&\"\",\"Я\")),2))","v":"Я"},{"$f":"TRIM(LEFT(TRIM(INDEX(отсутствия!$N:$AR,MATCH($C47,отсутствия!$A:$A,),Q$11)&\" \"&TEXT(INDEX('график 7,8'!$B$5:$AF$16,MONTH($AP$3),Q$11)&\"\",\"Я\")),2))","v":"Я"},{"$f":"TRIM(LEFT(TRIM(INDEX(отсутствия!$N:$AR,MATCH($C47,отсутствия!$A:$A,),R$11)&\" \"&TEXT(INDEX('график 7,8'!$B$5:$AF$16,MONTH($AP$3),R$11)&\"\",\"Я\")),2))","v":"В"},{"$f":"TRIM(LEFT(TRIM(INDEX(отсутствия!$N:$AR,MATCH($C47,отсутствия!$A:$A,),S$11)&\" \"&TEXT(INDEX('график 7,8'!$B$5:$AF$16,MONTH($AP$3),S$11)&\"\",\"Я\")),2))","v":"В"},null,{"$f":"TRIM(LEFT(TRIM(INDEX(отсутствия!$N:$AR,MATCH($C47,отсутствия!$A:$A,),U$11)&\" \"&TEXT(INDEX('график 7,8'!$B$5:$AF$16,MONTH($AP$3),U$11)&\"\",\"Я\")),2))","v":"Я"},{"$f":"TRIM(LEFT(TRIM(INDEX(отсутствия!$N:$AR,MATCH($C47,отсутствия!$A:$A,),V$11)&\" \"&TEXT(INDEX('график 7,8'!$B$5:$AF$16,MONTH($AP$3),V$11)&\"\",\"Я\")),2))","v":"Я"},{"$f":"TRIM(LEFT(TRIM(INDEX(отсутствия!$N:$AR,MATCH($C47,отсутствия!$A:$A,),W$11)&\" \"&TEXT(INDEX('график 7,8'!$B$5:$AF$16,MONTH($AP$3),W$11)&\"\",\"Я\")),2))","v":"Я"},{"$f":"TRIM(LEFT(TRIM(INDEX(отсутствия!$N:$AR,MATCH($C47,отсутствия!$A:$A,),X$11)&\" \"&TEXT(INDEX('график 7,8'!$B$5:$AF$16,MONTH($AP$3),X$11)&\"\",\"Я\")),2))","v":"Я"},{"$f":"TRIM(LEFT(TRIM(INDEX(отсутствия!$N:$AR,MATCH($C47,отсутствия!$A:$A,),Y$11)&\" \"&TEXT(INDEX('график 7,8'!$B$5:$AF$16,MONTH($AP$3),Y$11)&\"\",\"Я\")),2))","v":"Я"},{"$f":"TRIM(LEFT(TRIM(INDEX(отсутствия!$N:$AR,MATCH($C47,отсутствия!$A:$A,),Z$11)&\" \"&TEXT(INDEX('график 7,8'!$B$5:$AF$16,MONTH($AP$3),Z$11)&\"\",\"Я\")),2))","v":"В"},{"$f":"TRIM(LEFT(TRIM(INDEX(отсутствия!$N:$AR,MATCH($C47,отсутствия!$A:$A,),AA$11)&\" \"&TEXT(INDEX('график 7,8'!$B$5:$AF$16,MONTH($AP$3),AA$11)&\"\",\"Я\")),2))","v":"В"},{"$f":"TRIM(LEFT(TRIM(INDEX(отсутствия!$N:$AR,MATCH($C47,отсутствия!$A:$A,),AB$11)&\" \"&TEXT(INDEX('график 7,8'!$B$5:$AF$16,MONTH($AP$3),AB$11)&\"\",\"Я\")),2))","v":"Я"},{"$f":"TRIM(LEFT(TRIM(INDEX(отсутствия!$N:$AR,MATCH($C47,отсутствия!$A:$A,),AC$11)&\" \"&TEXT(INDEX('график 7,8'!$B$5:$AF$16,MONTH($AP$3),AC$11)&\"\",\"Я\")),2))","v":"Я"},{"$f":"TRIM(LEFT(TRIM(INDEX(отсутствия!$N:$AR,MATCH($C47,отсутствия!$A:$A,),AD$11)&\" \"&TEXT(INDEX('график 7,8'!$B$5:$AF$16,MONTH($AP$3),AD$11)&\"\",\"Я\")),2))","v":"Я"},{"$f":"TRIM(LEFT(TRIM(INDEX(отсутствия!$N:$AR,MATCH($C47,отсутствия!$A:$A,),AE$11)&\" \"&TEXT(INDEX('график 7,8'!$B$5:$AF$16,MONTH($AP$3),AE$11)&\"\",\"Я\")),2))","v":"Я"},{"$f":"TRIM(LEFT(TRIM(INDEX(отсутствия!$N:$AR,MATCH($C47,отсутствия!$A:$A,),AF$11)&\" \"&TEXT(INDEX('график 7,8'!$B$5:$AF$16,MONTH($AP$3),AF$11)&\"\",\"Я\")),2))","v":"Я"},{"$f":"TRIM(LEFT(TRIM(INDEX(отсутствия!$N:$AR,MATCH($C47,отсутствия!$A:$A,),AG$11)&\" \"&TEXT(INDEX('график 7,8'!$B$5:$AF$16,MONTH($AP$3),AG$11)&\"\",\"Я\")),2))","v":"В"},{"$f":"TRIM(LEFT(TRIM(INDEX(отсутствия!$N:$AR,MATCH($C47,отсутствия!$A:$A,),AH$11)&\" \"&TEXT(INDEX('график 7,8'!$B$5:$AF$16,MONTH($AP$3),AH$11)&\"\",\"Я\")),2))","v":"В"},{"$f":"TRIM(LEFT(TRIM(INDEX(отсутствия!$N:$AR,MATCH($C47,отсутствия!$A:$A,),AI$11)&\" \"&TEXT(INDEX('график 7,8'!$B$5:$AF$16,MONTH($AP$3),AI$11)&\"\",\"Я\")),2))","v":"Я"},{"$f":"TRIM(LEFT(TRIM(INDEX(отсутствия!$N:$AR,MATCH($C47,отсутствия!$A:$A,),AJ$11)&\" \"&TEXT(INDEX('график 7,8'!$B$5:$AF$16,MONTH($AP$3),AJ$11)&\"\",\"Я\")),2))","v":"Я"}]
[5021,"Яшин",5021,"сборная",{"$f":"IFERROR(INDEX(РВД!$D:$I,MATCH($C49,РВД!$A:$A,)+1,MATCH($N$4+E$11-1,INDEX(РВД!$D:$I,MATCH($C49,РВД!$A:$A,),),)),IF(E50=\"Я\",INDEX('график 7,8'!$B$5:$AF$16,MONTH($AP$3),E$11),\"\"))","v":""},{"$f":"IFERROR(INDEX(РВД!$D:$I,MATCH($C49,РВД!$A:$A,)+1,MATCH($N$4+F$11-1,INDEX(РВД!$D:$I,MATCH($C49,РВД!$A:$A,),),)),IF(F50=\"Я\",INDEX('график 7,8'!$B$5:$AF$16,MONTH($AP$3),F$11),\"\"))","v":7.8},{"$f":"IFERROR(INDEX(РВД!$D:$I,MATCH($C49,РВД!$A:$A,)+1,MATCH($N$4+G$11-1,INDEX(РВД!$D:$I,MATCH($C49,РВД!$A:$A,),),)),IF(G50=\"Я\",INDEX('график 7,8'!$B$5:$AF$16,MONTH($AP$3),G$11),\"\"))","v":7.8},{"$f":"IFERROR(INDEX(РВД!$D:$I,MATCH($C49,РВД!$A:$A,)+1,MATCH($N$4+H$11-1,INDEX(РВД!$D:$I,MATCH($C49,РВД!$A:$A,),),)),IF(H50=\"Я\",INDEX('график 7,8'!$B$5:$AF$16,MONTH($AP$3),H$11),\"\"))","v":7.8},{"$f":"IFERROR(INDEX(РВД!$D:$I,MATCH($C49,РВД!$A:$A,)+1,MATCH($N$4+I$11-1,INDEX(РВД!$D:$I,MATCH($C49,РВД!$A:$A,),),)),IF(I50=\"Я\",INDEX('график 7,8'!$B$5:$AF$16,MONTH($AP$3),I$11),\"\"))","v":7.8},{"$f":"IFERROR(INDEX(РВД!$D:$I,MATCH($C49,РВД!$A:$A,)+1,MATCH($N$4+J$11-1,INDEX(РВД!$D:$I,MATCH($C49,РВД!$A:$A,),),)),IF(J50=\"Я\",INDEX('график 7,8'!$B$5:$AF$16,MONTH($AP$3),J$11),\"\"))","v":7.8},{"$f":"IFERROR(INDEX(РВД!$D:$I,MATCH($C49,РВД!$A:$A,)+1,MATCH($N$4+K$11-1,INDEX(РВД!$D:$I,MATCH($C49,РВД!$A:$A,),),)),IF(K50=\"Я\",INDEX('график 7,8'!$B$5:$AF$16,MONTH($AP$3),K$11),\"\"))","v":""},{"$f":"IFERROR(INDEX(РВД!$D:$I,MATCH($C49,РВД!$A:$A,)+1,MATCH($N$4+L$11-1,INDEX(РВД!$D:$I,MATCH($C49,РВД!$A:$A,),),)),IF(L50=\"Я\",INDEX('график 7,8'!$B$5:$AF$16,MONTH($AP$3),L$11),\"\"))","v":""},{"$f":"IFERROR(INDEX(РВД!$D:$I,MATCH($C49,РВД!$A:$A,)+1,MATCH($N$4+M$11-1,INDEX(РВД!$D:$I,MATCH($C49,РВД!$A:$A,),),)),IF(M50=\"Я\",INDEX('график 7,8'!$B$5:$AF$16,MONTH($AP$3),M$11),\"\"))","v":""},{"$f":"IFERROR(INDEX(РВД!$D:$I,MATCH($C49,РВД!$A:$A,)+1,MATCH($N$4+N$11-1,INDEX(РВД!$D:$I,MATCH($C49,РВД!$A:$A,),),)),IF(N50=\"Я\",INDEX('график 7,8'!$B$5:$AF$16,MONTH($AP$3),N$11),\"\"))","v":7.8},{"$f":"IFERROR(INDEX(РВД!$D:$I,MATCH($C49,РВД!$A:$A,)+1,MATCH($N$4+O$11-1,INDEX(РВД!$D:$I,MATCH($C49,РВД!$A:$A,),),)),IF(O50=\"Я\",INDEX('график 7,8'!$B$5:$AF$16,MONTH($AP$3),O$11),\"\"))","v":7.8},{"$f":"IFERROR(INDEX(РВД!$D:$I,MATCH($C49,РВД!$A:$A,)+1,MATCH($N$4+P$11-1,INDEX(РВД!$D:$I,MATCH($C49,РВД!$A:$A,),),)),IF(P50=\"Я\",INDEX('график 7,8'!$B$5:$AF$16,MONTH($AP$3),P$11),\"\"))","v":7.8},{"$f":"IFERROR(INDEX(РВД!$D:$I,MATCH($C49,РВД!$A:$A,)+1,MATCH($N$4+Q$11-1,INDEX(РВД!$D:$I,MATCH($C49,РВД!$A:$A,),),)),IF(Q50=\"Я\",INDEX('график 7,8'!$B$5:$AF$16,MONTH($AP$3),Q$11),\"\"))","v":7.8},{"$f":"IFERROR(INDEX(РВД!$D:$I,MATCH($C49,РВД!$A:$A,)+1,MATCH($N$4+R$11-1,INDEX(РВД!$D:$I,MATCH($C49,РВД!$A:$A,),),)),IF(R50=\"Я\",INDEX('график 7,8'!$B$5:$AF$16,MONTH($AP$3),R$11),\"\"))","v":""},{"$f":"IFERROR(INDEX(РВД!$D:$I,MATCH($C49,РВД!$A:$A,)+1,MATCH($N$4+S$11-1,INDEX(РВД!$D:$I,MATCH($C49,РВД!$A:$A,),),)),IF(S50=\"Я\",INDEX('график 7,8'!$B$5:$AF$16,MONTH($AP$3),S$11),\"\"))","v":""},{"$f":"SUMIF(E50:S50,\"Я\",E49:S49)","v":70.199999999999989},{"$f":"IFERROR(INDEX(РВД!$D:$I,MATCH($C49,РВД!$A:$A,)+1,MATCH($N$4+U$11-1,INDEX(РВД!$D:$I,MATCH($C49,РВД!$A:$A,),),)),IF(U50=\"Я\",INDEX('график 7,8'!$B$5:$AF$16,MONTH($AP$3),U$11),\"\"))","v":7.8},{"$f":"IFERROR(INDEX(РВД!$D:$I,MATCH($C49,РВД!$A:$A,)+1,MATCH($N$4+V$11-1,INDEX(РВД!$D:$I,MATCH($C49,РВД!$A:$A,),),)),IF(V50=\"Я\",INDEX('график 7,8'!$B$5:$AF$16,MONTH($AP$3),V$11),\"\"))","v":7.8},{"$f":"IFERROR(INDEX(РВД!$D:$I,MATCH($C49,РВД!$A:$A,)+1,MATCH($N$4+W$11-1,INDEX(РВД!$D:$I,MATCH($C49,РВД!$A:$A,),),)),IF(W50=\"Я\",INDEX('график 7,8'!$B$5:$AF$16,MONTH($AP$3),W$11),\"\"))","v":7.8},{"$f":"IFERROR(INDEX(РВД!$D:$I,MATCH($C49,РВД!$A:$A,)+1,MATCH($N$4+X$11-1,INDEX(РВД!$D:$I,MATCH($C49,РВД!$A:$A,),),)),IF(X50=\"Я\",INDEX('график 7,8'!$B$5:$AF$16,MONTH($AP$3),X$11),\"\"))","v":7.8},{"$f":"IFERROR(INDEX(РВД!$D:$I,MATCH($C49,РВД!$A:$A,)+1,MATCH($N$4+Y$11-1,INDEX(РВД!$D:$I,MATCH($C49,РВД!$A:$A,),),)),IF(Y50=\"Я\",INDEX('график 7,8'!$B$5:$AF$16,MONTH($AP$3),Y$11),\"\"))","v":7.8},{"$f":"IFERROR(INDEX(РВД!$D:$I,MATCH($C49,РВД!$A:$A,)+1,MATCH($N$4+Z$11-1,INDEX(РВД!$D:$I,MATCH($C49,РВД!$A:$A,),),)),IF(Z50=\"Я\",INDEX('график 7,8'!$B$5:$AF$16,MONTH($AP$3),Z$11),\"\"))","v":""},{"$f":"IFERROR(INDEX(РВД!$D:$I,MATCH($C49,РВД!$A:$A,)+1,MATCH($N$4+AA$11-1,INDEX(РВД!$D:$I,MATCH($C49,РВД!$A:$A,),),)),IF(AA50=\"Я\",INDEX('график 7,8'!$B$5:$AF$16,MONTH($AP$3),AA$11),\"\"))","v":""},{"$f":"IFERROR(INDEX(РВД!$D:$I,MATCH($C49,РВД!$A:$A,)+1,MATCH($N$4+AB$11-1,INDEX(РВД!$D:$I,MATCH($C49,РВД!$A:$A,),),)),IF(AB50=\"Я\",INDEX('график 7,8'!$B$5:$AF$16,MONTH($AP$3),AB$11),\"\"))","v":7.8},{"$f":"IFERROR(INDEX(РВД!$D:$I,MATCH($C49,РВД!$A:$A,)+1,MATCH($N$4+AC$11-1,INDEX(РВД!$D:$I,MATCH($C49,РВД!$A:$A,),),)),IF(AC50=\"Я\",INDEX('график 7,8'!$B$5:$AF$16,MONTH($AP$3),AC$11),\"\"))","v":7.8},{"$f":"IFERROR(INDEX(РВД!$D:$I,MATCH($C49,РВД!$A:$A,)+1,MATCH($N$4+AD$11-1,INDEX(РВД!$D:$I,MATCH($C49,РВД!$A:$A,),),)),IF(AD50=\"Я\",INDEX('график 7,8'!$B$5:$AF$16,MONTH($AP$3),AD$11),\"\"))","v":7.8},{"$f":"IFERROR(INDEX(РВД!$D:$I,MATCH($C49,РВД!$A:$A,)+1,MATCH($N$4+AE$11-1,INDEX(РВД!$D:$I,MATCH($C49,РВД!$A:$A,),),)),IF(AE50=\"Я\",INDEX('график 7,8'!$B$5:$AF$16,MONTH($AP$3),AE$11),\"\"))","v":7.8},{"$f":"IFERROR(INDEX(РВД!$D:$I,MATCH($C49,РВД!$A:$A,)+1,MATCH($N$4+AF$11-1,INDEX(РВД!$D:$I,MATCH($C49,РВД!$A:$A,),),)),IF(AF50=\"Я\",INDEX('график 7,8'!$B$5:$AF$16,MONTH($AP$3),AF$11),\"\"))","v":7.8},{"$f":"IFERROR(INDEX(РВД!$D:$I,MATCH($C49,РВД!$A:$A,)+1,MATCH($N$4+AG$11-1,INDEX(РВД!$D:$I,MATCH($C49,РВД!$A:$A,),),)),IF(AG50=\"Я\",INDEX('график 7,8'!$B$5:$AF$16,MONTH($AP$3),AG$11),\"\"))","v":""},{"$f":"IFERROR(INDEX(РВД!$D:$I,MATCH($C49,РВД!$A:$A,)+1,MATCH($N$4+AH$11-1,INDEX(РВД!$D:$I,MATCH($C49,РВД!$A:$A,),),)),IF(AH50=\"Я\",INDEX('график 7,8'!$B$5:$AF$16,MONTH($AP$3),AH$11),\"\"))","v":""},{"$f":"IFERROR(INDEX(РВД!$D:$I,MATCH($C49,РВД!$A:$A,)+1,MATCH($N$4+AI$11-1,INDEX(РВД!$D:$I,MATCH($C49,РВД!$A:$A,),),)),IF(AI50=\"Я\",INDEX('график 7,8'!$B$5:$AF$16,MONTH($AP$3),AI$11),\"\"))","v":7.8},{"$f":"IFERROR(INDEX(РВД!$D:$I,MATCH($C49,РВД!$A:$A,)+1,MATCH($N$4+AJ$11-1,INDEX(РВД!$D:$I,MATCH($C49,РВД!$A:$A,),),)),IF(AJ50=\"Я\",INDEX('график 7,8'!$B$5:$AF$16,MONTH($AP$3),AJ$11),\"\"))","v":7.8},{"$f":"\"Я/\"&SUMIF(E50:AJ50,\"Я\",E49:AJ49)","v":"Я/163,8"},{"$f":"(SUMIF(E50:AJ50,\"В\",E49:AJ49)+SUMIF(E50:AJ50,\"В.\",E49:AJ49))*2","v":0},{"$f":"COUNTIFS(E50:AJ50,\"Я\",E49:AJ49,\"<>\")","v":21},{"$f":"IFERROR(VLOOKUP(C49,доплаты!$A$5:$P$118,16,0),\"\")","v":"17"}]
[null,null,null,null,{"$f":"TRIM(LEFT(TRIM(INDEX(отсутствия!$N:$AR,MATCH($C49,отсутствия!$A:$A,),E$11)&\" \"&TEXT(INDEX('график 7,8'!$B$5:$AF$16,MONTH($AP$3),E$11)&\"\",\"Я\")),2))","v":"В"},{"$f":"TRIM(LEFT(TRIM(INDEX(отсутствия!$N:$AR,MATCH($C49,отсутствия!$A:$A,),F$11)&\" \"&TEXT(INDEX('график 7,8'!$B$5:$AF$16,MONTH($AP$3),F$11)&\"\",\"Я\")),2))","v":"Я"},{"$f":"TRIM(LEFT(TRIM(INDEX(отсутствия!$N:$AR,MATCH($C49,отсутствия!$A:$A,),G$11)&\" \"&TEXT(INDEX('график 7,8'!$B$5:$AF$16,MONTH($AP$3),G$11)&\"\",\"Я\")),2))","v":"Я"},{"$f":"TRIM(LEFT(TRIM(INDEX(отсутствия!$N:$AR,MATCH($C49,отсутствия!$A:$A,),H$11)&\" \"&TEXT(INDEX('график 7,8'!$B$5:$AF$16,MONTH($AP$3),H$11)&\"\",\"Я\")),2))","v":"Я"},{"$f":"TRIM(LEFT(TRIM(INDEX(отсутствия!$N:$AR,MATCH($C49,отсутствия!$A:$A,),I$11)&\" \"&TEXT(INDEX('график 7,8'!$B$5:$AF$16,MONTH($AP$3),I$11)&\"\",\"Я\")),2))","v":"Я"},{"$f":"TRIM(LEFT(TRIM(INDEX(отсутствия!$N:$AR,MATCH($C49,отсутствия!$A:$A,),J$11)&\" \"&TEXT(INDEX('график 7,8'!$B$5:$AF$16,MONTH($AP$3),J$11)&\"\",\"Я\")),2))","v":"Я"},{"$f":"TRIM(LEFT(TRIM(INDEX(отсутствия!$N:$AR,MATCH($C49,отсутствия!$A:$A,),K$11)&\" \"&TEXT(INDEX('график 7,8'!$B$5:$AF$16,MONTH($AP$3),K$11)&\"\",\"Я\")),2))","v":"В"},{"$f":"TRIM(LEFT(TRIM(INDEX(отсутствия!$N:$AR,MATCH($C49,отсутствия!$A:$A,),L$11)&\" \"&TEXT(INDEX('график 7,8'!$B$5:$AF$16,MONTH($AP$3),L$11)&\"\",\"Я\")),2))","v":"В."},{"$f":"TRIM(LEFT(TRIM(INDEX(отсутствия!$N:$AR,MATCH($C49,отсутствия!$A:$A,),M$11)&\" \"&TEXT(INDEX('график 7,8'!$B$5:$AF$16,MONTH($AP$3),M$11)&\"\",\"Я\")),2))","v":"В"},{"$f":"TRIM(LEFT(TRIM(INDEX(отсутствия!$N:$AR,MATCH($C49,отсутствия!$A:$A,),N$11)&\" \"&TEXT(INDEX('график 7,8'!$B$5:$AF$16,MONTH($AP$3),N$11)&\"\",\"Я\")),2))","v":"Я"},{"$f":"TRIM(LEFT(TRIM(INDEX(отсутствия!$N:$AR,MATCH($C49,отсутствия!$A:$A,),O$11)&\" \"&TEXT(INDEX('график 7,8'!$B$5:$AF$16,MONTH($AP$3),O$11)&\"\",\"Я\")),2))","v":"Я"},{"$f":"TRIM(LEFT(TRIM(INDEX(отсутствия!$N:$AR,MATCH($C49,отсутствия!$A:$A,),P$11)&\" \"&TEXT(INDEX('график 7,8'!$B$5:$AF$16,MONTH($AP$3),P$11)&\"\",\"Я\")),2))","v":"Я"},{"$f":"TRIM(LEFT(TRIM(INDEX(отсутствия!$N:$AR,MATCH($C49,отсутствия!$A:$A,),Q$11)&\" \"&TEXT(INDEX('график 7,8'!$B$5:$AF$16,MONTH($AP$3),Q$11)&\"\",\"Я\")),2))","v":"Я"},{"$f":"TRIM(LEFT(TRIM(INDEX(отсутствия!$N:$AR,MATCH($C49,отсутствия!$A:$A,),R$11)&\" \"&TEXT(INDEX('график 7,8'!$B$5:$AF$16,MONTH($AP$3),R$11)&\"\",\"Я\")),2))","v":"В"},{"$f":"TRIM(LEFT(TRIM(INDEX(отсутствия!$N:$AR,MATCH($C49,отсутствия!$A:$A,),S$11)&\" \"&TEXT(INDEX('график 7,8'!$B$5:$AF$16,MONTH($AP$3),S$11)&\"\",\"Я\")),2))","v":"В"},null,{"$f":"TRIM(LEFT(TRIM(INDEX(отсутствия!$N:$AR,MATCH($C49,отсутствия!$A:$A,),U$11)&\" \"&TEXT(INDEX('график 7,8'!$B$5:$AF$16,MONTH($AP$3),U$11)&\"\",\"Я\")),2))","v":"Я"},{"$f":"TRIM(LEFT(TRIM(INDEX(отсутствия!$N:$AR,MATCH($C49,отсутствия!$A:$A,),V$11)&\" \"&TEXT(INDEX('график 7,8'!$B$5:$AF$16,MONTH($AP$3),V$11)&\"\",\"Я\")),2))","v":"Я"},{"$f":"TRIM(LEFT(TRIM(INDEX(отсутствия!$N:$AR,MATCH($C49,отсутствия!$A:$A,),W$11)&\" \"&TEXT(INDEX('график 7,8'!$B$5:$AF$16,MONTH($AP$3),W$11)&\"\",\"Я\")),2))","v":"Я"},{"$f":"TRIM(LEFT(TRIM(INDEX(отсутствия!$N:$AR,MATCH($C49,отсутствия!$A:$A,),X$11)&\" \"&TEXT(INDEX('график 7,8'!$B$5:$AF$16,MONTH($AP$3),X$11)&\"\",\"Я\")),2))","v":"Я"},{"$f":"TRIM(LEFT(TRIM(INDEX(отсутствия!$N:$AR,MATCH($C49,отсутствия!$A:$A,),Y$11)&\" \"&TEXT(INDEX('график 7,8'!$B$5:$AF$16,MONTH($AP$3),Y$11)&\"\",\"Я\")),2))","v":"Я"},{"$f":"TRIM(LEFT(TRIM(INDEX(отсутствия!$N:$AR,MATCH($C49,отсутствия!$A:$A,),Z$11)&\" \"&TEXT(INDEX('график 7,8'!$B$5:$AF$16,MONTH($AP$3),Z$11)&\"\",\"Я\")),2))","v":"В"},{"$f":"TRIM(LEFT(TRIM(INDEX(отсутствия!$N:$AR,MATCH($C49,отсутствия!$A:$A,),AA$11)&\" \"&TEXT(INDEX('график 7,8'!$B$5:$AF$16,MONTH($AP$3),AA$11)&\"\",\"Я\")),2))","v":"В"},{"$f":"TRIM(LEFT(TRIM(INDEX(отсутствия!$N:$AR,MATCH($C49,отсутствия!$A:$A,),AB$11)&\" \"&TEXT(INDEX('график 7,8'!$B$5:$AF$16,MONTH($AP$3),AB$11)&\"\",\"Я\")),2))","v":"Я"},{"$f":"TRIM(LEFT(TRIM(INDEX(отсутствия!$N:$AR,MATCH($C49,отсутствия!$A:$A,),AC$11)&\" \"&TEXT(INDEX('график 7,8'!$B$5:$AF$16,MONTH($AP$3),AC$11)&\"\",\"Я\")),2))","v":"Я"},{"$f":"TRIM(LEFT(TRIM(INDEX(отсутствия!$N:$AR,MATCH($C49,отсутствия!$A:$A,),AD$11)&\" \"&TEXT(INDEX('график 7,8'!$B$5:$AF$16,MONTH($AP$3),AD$11)&\"\",\"Я\")),2))","v":"Я"},{"$f":"TRIM(LEFT(TRIM(INDEX(отсутствия!$N:$AR,MATCH($C49,отсутствия!$A:$A,),AE$11)&\" \"&TEXT(INDEX('график 7,8'!$B$5:$AF$16,MONTH($AP$3),AE$11)&\"\",\"Я\")),2))","v":"Я"},{"$f":"TRIM(LEFT(TRIM(INDEX(отсутствия!$N:$AR,MATCH($C49,отсутствия!$A:$A,),AF$11)&\" \"&TEXT(INDEX('график 7,8'!$B$5:$AF$16,MONTH($AP$3),AF$11)&\"\",\"Я\")),2))","v":"Я"},{"$f":"TRIM(LEFT(TRIM(INDEX(отсутствия!$N:$AR,MATCH($C49,отсутствия!$A:$A,),AG$11)&\" \"&TEXT(INDEX('график 7,8'!$B$5:$AF$16,MONTH($AP$3),AG$11)&\"\",\"Я\")),2))","v":"В"},{"$f":"TRIM(LEFT(TRIM(INDEX(отсутствия!$N:$AR,MATCH($C49,отсутствия!$A:$A,),AH$11)&\" \"&TEXT(INDEX('график 7,8'!$B$5:$AF$16,MONTH($AP$3),AH$11)&\"\",\"Я\")),2))","v":"В"},{"$f":"TRIM(LEFT(TRIM(INDEX(отсутствия!$N:$AR,MATCH($C49,отсутствия!$A:$A,),AI$11)&\" \"&TEXT(INDEX('график 7,8'!$B$5:$AF$16,MONTH($AP$3),AI$11)&\"\",\"Я\")),2))","v":"Я"},{"$f":"TRIM(LEFT(TRIM(INDEX(отсутствия!$N:$AR,MATCH($C49,отсутствия!$A:$A,),AJ$11)&\" \"&TEXT(INDEX('график 7,8'!$B$5:$AF$16,MONTH($AP$3),AJ$11)&\"\",\"Я\")),2))","v":"Я"}]
[5035,"Кузнецов",5035,"сборная",{"$f":"IFERROR(INDEX(РВД!$D:$I,MATCH($C51,РВД!$A:$A,)+1,MATCH($N$4+E$11-1,INDEX(РВД!$D:$I,MATCH($C51,РВД!$A:$A,),),)),IF(E52=\"Я\",INDEX('график 7,8'!$B$5:$AF$16,MONTH($AP$3),E$11),\"\"))","v":""},{"$f":"IFERROR(INDEX(РВД!$D:$I,MATCH($C51,РВД!$A:$A,)+1,MATCH($N$4+F$11-1,INDEX(РВД!$D:$I,MATCH($C51,РВД!$A:$A,),),)),IF(F52=\"Я\",INDEX('график 7,8'!$B$5:$AF$16,MONTH($AP$3),F$11),\"\"))","v":7.8},{"$f":"IFERROR(INDEX(РВД!$D:$I,MATCH($C51,РВД!$A:$A,)+1,MATCH($N$4+G$11-1,INDEX(РВД!$D:$I,MATCH($C51,РВД!$A:$A,),),)),IF(G52=\"Я\",INDEX('график 7,8'!$B$5:$AF$16,MONTH($AP$3),G$11),\"\"))","v":7.8},{"$f":"IFERROR(INDEX(РВД!$D:$I,MATCH($C51,РВД!$A:$A,)+1,MATCH($N$4+H$11-1,INDEX(РВД!$D:$I,MATCH($C51,РВД!$A:$A,),),)),IF(H52=\"Я\",INDEX('график 7,8'!$B$5:$AF$16,MONTH($AP$3),H$11),\"\"))","v":7.8},{"$f":"IFERROR(INDEX(РВД!$D:$I,MATCH($C51,РВД!$A:$A,)+1,MATCH($N$4+I$11-1,INDEX(РВД!$D:$I,MATCH($C51,РВД!$A:$A,),),)),IF(I52=\"Я\",INDEX('график 7,8'!$B$5:$AF$16,MONTH($AP$3),I$11),\"\"))","v":7.8},{"$f":"IFERROR(INDEX(РВД!$D:$I,MATCH($C51,РВД!$A:$A,)+1,MATCH($N$4+J$11-1,INDEX(РВД!$D:$I,MATCH($C51,РВД!$A:$A,),),)),IF(J52=\"Я\",INDEX('график 7,8'!$B$5:$AF$16,MONTH($AP$3),J$11),\"\"))","v":7.8},{"$f":"IFERROR(INDEX(РВД!$D:$I,MATCH($C51,РВД!$A:$A,)+1,MATCH($N$4+K$11-1,INDEX(РВД!$D:$I,MATCH($C51,РВД!$A:$A,),),)),IF(K52=\"Я\",INDEX('график 7,8'!$B$5:$AF$16,MONTH($AP$3),K$11),\"\"))","v":""},{"$f":"IFERROR(INDEX(РВД!$D:$I,MATCH($C51,РВД!$A:$A,)+1,MATCH($N$4+L$11-1,INDEX(РВД!$D:$I,MATCH($C51,РВД!$A:$A,),),)),IF(L52=\"Я\",INDEX('график 7,8'!$B$5:$AF$16,MONTH($AP$3),L$11),\"\"))","v":""},{"$f":"IFERROR(INDEX(РВД!$D:$I,MATCH($C51,РВД!$A:$A,)+1,MATCH($N$4+M$11-1,INDEX(РВД!$D:$I,MATCH($C51,РВД!$A:$A,),),)),IF(M52=\"Я\",INDEX('график 7,8'!$B$5:$AF$16,MONTH($AP$3),M$11),\"\"))","v":""},{"$f":"IFERROR(INDEX(РВД!$D:$I,MATCH($C51,РВД!$A:$A,)+1,MATCH($N$4+N$11-1,INDEX(РВД!$D:$I,MATCH($C51,РВД!$A:$A,),),)),IF(N52=\"Я\",INDEX('график 7,8'!$B$5:$AF$16,MONTH($AP$3),N$11),\"\"))","v":7.8},{"$f":"IFERROR(INDEX(РВД!$D:$I,MATCH($C51,РВД!$A:$A,)+1,MATCH($N$4+O$11-1,INDEX(РВД!$D:$I,MATCH($C51,РВД!$A:$A,),),)),IF(O52=\"Я\",INDEX('график 7,8'!$B$5:$AF$16,MONTH($AP$3),O$11),\"\"))","v":7.8},{"$f":"IFERROR(INDEX(РВД!$D:$I,MATCH($C51,РВД!$A:$A,)+1,MATCH($N$4+P$11-1,INDEX(РВД!$D:$I,MATCH($C51,РВД!$A:$A,),),)),IF(P52=\"Я\",INDEX('график 7,8'!$B$5:$AF$16,MONTH($AP$3),P$11),\"\"))","v":7.8},{"$f":"IFERROR(INDEX(РВД!$D:$I,MATCH($C51,РВД!$A:$A,)+1,MATCH($N$4+Q$11-1,INDEX(РВД!$D:$I,MATCH($C51,РВД!$A:$A,),),)),IF(Q52=\"Я\",INDEX('график 7,8'!$B$5:$AF$16,MONTH($AP$3),Q$11),\"\"))","v":7.8},{"$f":"IFERROR(INDEX(РВД!$D:$I,MATCH($C51,РВД!$A:$A,)+1,MATCH($N$4+R$11-1,INDEX(РВД!$D:$I,MATCH($C51,РВД!$A:$A,),),)),IF(R52=\"Я\",INDEX('график 7,8'!$B$5:$AF$16,MONTH($AP$3),R$11),\"\"))","v":""},{"$f":"IFERROR(INDEX(РВД!$D:$I,MATCH($C51,РВД!$A:$A,)+1,MATCH($N$4+S$11-1,INDEX(РВД!$D:$I,MATCH($C51,РВД!$A:$A,),),)),IF(S52=\"Я\",INDEX('график 7,8'!$B$5:$AF$16,MONTH($AP$3),S$11),\"\"))","v":""},{"$f":"SUMIF(E52:S52,\"Я\",E51:S51)","v":70.199999999999989},{"$f":"IFERROR(INDEX(РВД!$D:$I,MATCH($C51,РВД!$A:$A,)+1,MATCH($N$4+U$11-1,INDEX(РВД!$D:$I,MATCH($C51,РВД!$A:$A,),),)),IF(U52=\"Я\",INDEX('график 7,8'!$B$5:$AF$16,MONTH($AP$3),U$11),\"\"))","v":7.8},{"$f":"IFERROR(INDEX(РВД!$D:$I,MATCH($C51,РВД!$A:$A,)+1,MATCH($N$4+V$11-1,INDEX(РВД!$D:$I,MATCH($C51,РВД!$A:$A,),),)),IF(V52=\"Я\",INDEX('график 7,8'!$B$5:$AF$16,MONTH($AP$3),V$11),\"\"))","v":7.8},{"$f":"IFERROR(INDEX(РВД!$D:$I,MATCH($C51,РВД!$A:$A,)+1,MATCH($N$4+W$11-1,INDEX(РВД!$D:$I,MATCH($C51,РВД!$A:$A,),),)),IF(W52=\"Я\",INDEX('график 7,8'!$B$5:$AF$16,MONTH($AP$3),W$11),\"\"))","v":7.8},{"$f":"IFERROR(INDEX(РВД!$D:$I,MATCH($C51,РВД!$A:$A,)+1,MATCH($N$4+X$11-1,INDEX(РВД!$D:$I,MATCH($C51,РВД!$A:$A,),),)),IF(X52=\"Я\",INDEX('график 7,8'!$B$5:$AF$16,MONTH($AP$3),X$11),\"\"))","v":7.8},{"$f":"IFERROR(INDEX(РВД!$D:$I,MATCH($C51,РВД!$A:$A,)+1,MATCH($N$4+Y$11-1,INDEX(РВД!$D:$I,MATCH($C51,РВД!$A:$A,),),)),IF(Y52=\"Я\",INDEX('график 7,8'!$B$5:$AF$16,MONTH($AP$3),Y$11),\"\"))","v":7.8},{"$f":"IFERROR(INDEX(РВД!$D:$I,MATCH($C51,РВД!$A:$A,)+1,MATCH($N$4+Z$11-1,INDEX(РВД!$D:$I,MATCH($C51,РВД!$A:$A,),),)),IF(Z52=\"Я\",INDEX('график 7,8'!$B$5:$AF$16,MONTH($AP$3),Z$11),\"\"))","v":""},{"$f":"IFERROR(INDEX(РВД!$D:$I,MATCH($C51,РВД!$A:$A,)+1,MATCH($N$4+AA$11-1,INDEX(РВД!$D:$I,MATCH($C51,РВД!$A:$A,),),)),IF(AA52=\"Я\",INDEX('график 7,8'!$B$5:$AF$16,MONTH($AP$3),AA$11),\"\"))","v":""},{"$f":"IFERROR(INDEX(РВД!$D:$I,MATCH($C51,РВД!$A:$A,)+1,MATCH($N$4+AB$11-1,INDEX(РВД!$D:$I,MATCH($C51,РВД!$A:$A,),),)),IF(AB52=\"Я\",INDEX('график 7,8'!$B$5:$AF$16,MONTH($AP$3),AB$11),\"\"))","v":7.8},{"$f":"IFERROR(INDEX(РВД!$D:$I,MATCH($C51,РВД!$A:$A,)+1,MATCH($N$4+AC$11-1,INDEX(РВД!$D:$I,MATCH($C51,РВД!$A:$A,),),)),IF(AC52=\"Я\",INDEX('график 7,8'!$B$5:$AF$16,MONTH($AP$3),AC$11),\"\"))","v":7.8},{"$f":"IFERROR(INDEX(РВД!$D:$I,MATCH($C51,РВД!$A:$A,)+1,MATCH($N$4+AD$11-1,INDEX(РВД!$D:$I,MATCH($C51,РВД!$A:$A,),),)),IF(AD52=\"Я\",INDEX('график 7,8'!$B$5:$AF$16,MONTH($AP$3),AD$11),\"\"))","v":7.8},{"$f":"IFERROR(INDEX(РВД!$D:$I,MATCH($C51,РВД!$A:$A,)+1,MATCH($N$4+AE$11-1,INDEX(РВД!$D:$I,MATCH($C51,РВД!$A:$A,),),)),IF(AE52=\"Я\",INDEX('график 7,8'!$B$5:$AF$16,MONTH($AP$3),AE$11),\"\"))","v":7.8},{"$f":"IFERROR(INDEX(РВД!$D:$I,MATCH($C51,РВД!$A:$A,)+1,MATCH($N$4+AF$11-1,INDEX(РВД!$D:$I,MATCH($C51,РВД!$A:$A,),),)),IF(AF52=\"Я\",INDEX('график 7,8'!$B$5:$AF$16,MONTH($AP$3),AF$11),\"\"))","v":7.8},{"$f":"IFERROR(INDEX(РВД!$D:$I,MATCH($C51,РВД!$A:$A,)+1,MATCH($N$4+AG$11-1,INDEX(РВД!$D:$I,MATCH($C51,РВД!$A:$A,),),)),IF(AG52=\"Я\",INDEX('график 7,8'!$B$5:$AF$16,MONTH($AP$3),AG$11),\"\"))","v":""},{"$f":"IFERROR(INDEX(РВД!$D:$I,MATCH($C51,РВД!$A:$A,)+1,MATCH($N$4+AH$11-1,INDEX(РВД!$D:$I,MATCH($C51,РВД!$A:$A,),),)),IF(AH52=\"Я\",INDEX('график 7,8'!$B$5:$AF$16,MONTH($AP$3),AH$11),\"\"))","v":""},{"$f":"IFERROR(INDEX(РВД!$D:$I,MATCH($C51,РВД!$A:$A,)+1,MATCH($N$4+AI$11-1,INDEX(РВД!$D:$I,MATCH($C51,РВД!$A:$A,),),)),IF(AI52=\"Я\",INDEX('график 7,8'!$B$5:$AF$16,MONTH($AP$3),AI$11),\"\"))","v":7.8},{"$f":"IFERROR(INDEX(РВД!$D:$I,MATCH($C51,РВД!$A:$A,)+1,MATCH($N$4+AJ$11-1,INDEX(РВД!$D:$I,MATCH($C51,РВД!$A:$A,),),)),IF(AJ52=\"Я\",INDEX('график 7,8'!$B$5:$AF$16,MONTH($AP$3),AJ$11),\"\"))","v":7.8},{"$f":"\"Я/\"&SUMIF(E52:AJ52,\"Я\",E51:AJ51)","v":"Я/163,8"},{"$f":"(SUMIF(E52:AJ52,\"В\",E51:AJ51)+SUMIF(E52:AJ52,\"В.\",E51:AJ51))*2","v":0},{"$f":"COUNTIFS(E52:AJ52,\"Я\",E51:AJ51,\"<>\")","v":21},{"$f":"IFERROR(VLOOKUP(C51,доплаты!$A$5:$P$118,16,0),\"\")","v":"17,30"}]
[null,null,null,null,{"$f":"TRIM(LEFT(TRIM(INDEX(отсутствия!$N:$AR,MATCH($C51,отсутствия!$A:$A,),E$11)&\" \"&TEXT(INDEX('график 7,8'!$B$5:$AF$16,MONTH($AP$3),E$11)&\"\",\"Я\")),2))","v":"В"},{"$f":"TRIM(LEFT(TRIM(INDEX(отсутствия!$N:$AR,MATCH($C51,отсутствия!$A:$A,),F$11)&\" \"&TEXT(INDEX('график 7,8'!$B$5:$AF$16,MONTH($AP$3),F$11)&\"\",\"Я\")),2))","v":"Я"},{"$f":"TRIM(LEFT(TRIM(INDEX(отсутствия!$N:$AR,MATCH($C51,отсутствия!$A:$A,),G$11)&\" \"&TEXT(INDEX('график 7,8'!$B$5:$AF$16,MONTH($AP$3),G$11)&\"\",\"Я\")),2))","v":"Я"},{"$f":"TRIM(LEFT(TRIM(INDEX(отсутствия!$N:$AR,MATCH($C51,отсутствия!$A:$A,),H$11)&\" \"&TEXT(INDEX('график 7,8'!$B$5:$AF$16,MONTH($AP$3),H$11)&\"\",\"Я\")),2))","v":"Я"},{"$f":"TRIM(LEFT(TRIM(INDEX(отсутствия!$N:$AR,MATCH($C51,отсутствия!$A:$A,),I$11)&\" \"&TEXT(INDEX('график 7,8'!$B$5:$AF$16,MONTH($AP$3),I$11)&\"\",\"Я\")),2))","v":"Я"},{"$f":"TRIM(LEFT(TRIM(INDEX(отсутствия!$N:$AR,MATCH($C51,отсутствия!$A:$A,),J$11)&\" \"&TEXT(INDEX('график 7,8'!$B$5:$AF$16,MONTH($AP$3),J$11)&\"\",\"Я\")),2))","v":"Я"},{"$f":"TRIM(LEFT(TRIM(INDEX(отсутствия!$N:$AR,MATCH($C51,отсутствия!$A:$A,),K$11)&\" \"&TEXT(INDEX('график 7,8'!$B$5:$AF$16,MONTH($AP$3),K$11)&\"\",\"Я\")),2))","v":"В"},{"$f":"TRIM(LEFT(TRIM(INDEX(отсутствия!$N:$AR,MATCH($C51,отсутствия!$A:$A,),L$11)&\" \"&TEXT(INDEX('график 7,8'!$B$5:$AF$16,MONTH($AP$3),L$11)&\"\",\"Я\")),2))","v":"В."},{"$f":"TRIM(LEFT(TRIM(INDEX(отсутствия!$N:$AR,MATCH($C51,отсутствия!$A:$A,),M$11)&\" \"&TEXT(INDEX('график 7,8'!$B$5:$AF$16,MONTH($AP$3),M$11)&\"\",\"Я\")),2))","v":"В"},{"$f":"TRIM(LEFT(TRIM(INDEX(отсутствия!$N:$AR,MATCH($C51,отсутствия!$A:$A,),N$11)&\" \"&TEXT(INDEX('график 7,8'!$B$5:$AF$16,MONTH($AP$3),N$11)&\"\",\"Я\")),2))","v":"Я"},{"$f":"TRIM(LEFT(TRIM(INDEX(отсутствия!$N:$AR,MATCH($C51,отсутствия!$A:$A,),O$11)&\" \"&TEXT(INDEX('график 7,8'!$B$5:$AF$16,MONTH($AP$3),O$11)&\"\",\"Я\")),2))","v":"Я"},{"$f":"TRIM(LEFT(TRIM(INDEX(отсутствия!$N:$AR,MATCH($C51,отсутствия!$A:$A,),P$11)&\" \"&TEXT(INDEX('график 7,8'!$B$5:$AF$16,MONTH($AP$3),P$11)&\"\",\"Я\")),2))","v":"Я"},{"$f":"TRIM(LEFT(TRIM(INDEX(отсутствия!$N:$AR,MATCH($C51,отсутствия!$A:$A,),Q$11)&\" \"&TEXT(INDEX('график 7,8'!$B$5:$AF$16,MONTH($AP$3),Q$11)&\"\",\"Я\")),2))","v":"Я"},{"$f":"TRIM(LEFT(TRIM(INDEX(отсутствия!$N:$AR,MATCH($C51,отсутствия!$A:$A,),R$11)&\" \"&TEXT(INDEX('график 7,8'!$B$5:$AF$16,MONTH($AP$3),R$11)&\"\",\"Я\")),2))","v":"В"},{"$f":"TRIM(LEFT(TRIM(INDEX(отсутствия!$N:$AR,MATCH($C51,отсутствия!$A:$A,),S$11)&\" \"&TEXT(INDEX('график 7,8'!$B$5:$AF$16,MONTH($AP$3),S$11)&\"\",\"Я\")),2))","v":"В"},null,{"$f":"TRIM(LEFT(TRIM(INDEX(отсутствия!$N:$AR,MATCH($C51,отсутствия!$A:$A,),U$11)&\" \"&TEXT(INDEX('график 7,8'!$B$5:$AF$16,MONTH($AP$3),U$11)&\"\",\"Я\")),2))","v":"Я"},{"$f":"TRIM(LEFT(TRIM(INDEX(отсутствия!$N:$AR,MATCH($C51,отсутствия!$A:$A,),V$11)&\" \"&TEXT(INDEX('график 7,8'!$B$5:$AF$16,MONTH($AP$3),V$11)&\"\",\"Я\")),2))","v":"Я"},{"$f":"TRIM(LEFT(TRIM(INDEX(отсутствия!$N:$AR,MATCH($C51,отсутствия!$A:$A,),W$11)&\" \"&TEXT(INDEX('график 7,8'!$B$5:$AF$16,MONTH($AP$3),W$11)&\"\",\"Я\")),2))","v":"Я"},{"$f":"TRIM(LEFT(TRIM(INDEX(отсутствия!$N:$AR,MATCH($C51,отсутствия!$A:$A,),X$11)&\" \"&TEXT(INDEX('график 7,8'!$B$5:$AF$16,MONTH($AP$3),X$11)&\"\",\"Я\")),2))","v":"Я"},{"$f":"TRIM(LEFT(TRIM(INDEX(отсутствия!$N:$AR,MATCH($C51,отсутствия!$A:$A,),Y$11)&\" \"&TEXT(INDEX('график 7,8'!$B$5:$AF$16,MONTH($AP$3),Y$11)&\"\",\"Я\")),2))","v":"Я"},{"$f":"TRIM(LEFT(TRIM(INDEX(отсутствия!$N:$AR,MATCH($C51,отсутствия!$A:$A,),Z$11)&\" \"&TEXT(INDEX('график 7,8'!$B$5:$AF$16,MONTH($AP$3),Z$11)&\"\",\"Я\")),2))","v":"В"},{"$f":"TRIM(LEFT(TRIM(INDEX(отсутствия!$N:$AR,MATCH($C51,отсутствия!$A:$A,),AA$11)&\" \"&TEXT(INDEX('график 7,8'!$B$5:$AF$16,MONTH($AP$3),AA$11)&\"\",\"Я\")),2))","v":"В"},{"$f":"TRIM(LEFT(TRIM(INDEX(отсутствия!$N:$AR,MATCH($C51,отсутствия!$A:$A,),AB$11)&\" \"&TEXT(INDEX('график 7,8'!$B$5:$AF$16,MONTH($AP$3),AB$11)&\"\",\"Я\")),2))","v":"Я"},{"$f":"TRIM(LEFT(TRIM(INDEX(отсутствия!$N:$AR,MATCH($C51,отсутствия!$A:$A,),AC$11)&\" \"&TEXT(INDEX('график 7,8'!$B$5:$AF$16,MONTH($AP$3),AC$11)&\"\",\"Я\")),2))","v":"Я"},{"$f":"TRIM(LEFT(TRIM(INDEX(отсутствия!$N:$AR,MATCH($C51,отсутствия!$A:$A,),AD$11)&\" \"&TEXT(INDEX('график 7,8'!$B$5:$AF$16,MONTH($AP$3),AD$11)&\"\",\"Я\")),2))","v":"Я"},{"$f":"TRIM(LEFT(TRIM(INDEX(отсутствия!$N:$AR,MATCH($C51,отсутствия!$A:$A,),AE$11)&\" \"&TEXT(INDEX('график 7,8'!$B$5:$AF$16,MONTH($AP$3),AE$11)&\"\",\"Я\")),2))","v":"Я"},{"$f":"TRIM(LEFT(TRIM(INDEX(отсутствия!$N:$AR,MATCH($C51,отсутствия!$A:$A,),AF$11)&\" \"&TEXT(INDEX('график 7,8'!$B$5:$AF$16,MONTH($AP$3),AF$11)&\"\",\"Я\")),2))","v":"Я"},{"$f":"TRIM(LEFT(TRIM(INDEX(отсутствия!$N:$AR,MATCH($C51,отсутствия!$A:$A,),AG$11)&\" \"&TEXT(INDEX('график 7,8'!$B$5:$AF$16,MONTH($AP$3),AG$11)&\"\",\"Я\")),2))","v":"В"},{"$f":"TRIM(LEFT(TRIM(INDEX(отсутствия!$N:$AR,MATCH($C51,отсутствия!$A:$A,),AH$11)&\" \"&TEXT(INDEX('график 7,8'!$B$5:$AF$16,MONTH($AP$3),AH$11)&\"\",\"Я\")),2))","v":"В"},{"$f":"TRIM(LEFT(TRIM(INDEX(отсутствия!$N:$AR,MATCH($C51,отсутствия!$A:$A,),AI$11)&\" \"&TEXT(INDEX('график 7,8'!$B$5:$AF$16,MONTH($AP$3),AI$11)&\"\",\"Я\")),2))","v":"Я"},{"$f":"TRIM(LEFT(TRIM(INDEX(отсутствия!$N:$AR,MATCH($C51,отсутствия!$A:$A,),AJ$11)&\" \"&TEXT(INDEX('график 7,8'!$B$5:$AF$16,MONTH($AP$3),AJ$11)&\"\",\"Я\")),2))","v":"Я"}]
[5119,"Зубов",5119,"сборная",{"$f":"IFERROR(INDEX(РВД!$D:$I,MATCH($C53,РВД!$A:$A,)+1,MATCH($N$4+E$11-1,INDEX(РВД!$D:$I,MATCH($C53,РВД!$A:$A,),),)),IF(E54=\"Я\",INDEX('график 7,8'!$B$52:$AF$63,MONTH($AP$3),E$11),\"\"))","v":""},{"$f":"IFERROR(INDEX(РВД!$D:$I,MATCH($C53,РВД!$A:$A,)+1,MATCH($N$4+F$11-1,INDEX(РВД!$D:$I,MATCH($C53,РВД!$A:$A,),),)),IF(F54=\"Я\",INDEX('график 7,8'!$B$52:$AF$63,MONTH($AP$3),F$11),\"\"))","v":3.9},{"$f":"IFERROR(INDEX(РВД!$D:$I,MATCH($C53,РВД!$A:$A,)+1,MATCH($N$4+G$11-1,INDEX(РВД!$D:$I,MATCH($C53,РВД!$A:$A,),),)),IF(G54=\"Я\",INDEX('график 7,8'!$B$52:$AF$63,MONTH($AP$3),G$11),\"\"))","v":3.9},{"$f":"IFERROR(INDEX(РВД!$D:$I,MATCH($C53,РВД!$A:$A,)+1,MATCH($N$4+H$11-1,INDEX(РВД!$D:$I,MATCH($C53,РВД!$A:$A,),),)),IF(H54=\"Я\",INDEX('график 7,8'!$B$52:$AF$63,MONTH($AP$3),H$11),\"\"))","v":3.9},{"$f":"IFERROR(INDEX(РВД!$D:$I,MATCH($C53,РВД!$A:$A,)+1,MATCH($N$4+I$11-1,INDEX(РВД!$D:$I,MATCH($C53,РВД!$A:$A,),),)),IF(I54=\"Я\",INDEX('график 7,8'!$B$52:$AF$63,MONTH($AP$3),I$11),\"\"))","v":3.9},{"$f":"IFERROR(INDEX(РВД!$D:$I,MATCH($C53,РВД!$A:$A,)+1,MATCH($N$4+J$11-1,INDEX(РВД!$D:$I,MATCH($C53,РВД!$A:$A,),),)),IF(J54=\"Я\",INDEX('график 7,8'!$B$52:$AF$63,MONTH($AP$3),J$11),\"\"))","v":3.9},{"$f":"IFERROR(INDEX(РВД!$D:$I,MATCH($C53,РВД!$A:$A,)+1,MATCH($N$4+K$11-1,INDEX(РВД!$D:$I,MATCH($C53,РВД!$A:$A,),),)),IF(K54=\"Я\",INDEX('график 7,8'!$B$52:$AF$63,MONTH($AP$3),K$11),\"\"))","v":""},{"$f":"IFERROR(INDEX(РВД!$D:$I,MATCH($C53,РВД!$A:$A,)+1,MATCH($N$4+L$11-1,INDEX(РВД!$D:$I,MATCH($C53,РВД!$A:$A,),),)),IF(L54=\"Я\",INDEX('график 7,8'!$B$52:$AF$63,MONTH($AP$3),L$11),\"\"))","v":""},{"$f":"IFERROR(INDEX(РВД!$D:$I,MATCH($C53,РВД!$A:$A,)+1,MATCH($N$4+M$11-1,INDEX(РВД!$D:$I,MATCH($C53,РВД!$A:$A,),),)),IF(M54=\"Я\",INDEX('график 7,8'!$B$52:$AF$63,MONTH($AP$3),M$11),\"\"))","v":""},{"$f":"IFERROR(INDEX(РВД!$D:$I,MATCH($C53,РВД!$A:$A,)+1,MATCH($N$4+N$11-1,INDEX(РВД!$D:$I,MATCH($C53,РВД!$A:$A,),),)),IF(N54=\"Я\",INDEX('график 7,8'!$B$52:$AF$63,MONTH($AP$3),N$11),\"\"))","v":3.9},{"$f":"IFERROR(INDEX(РВД!$D:$I,MATCH($C53,РВД!$A:$A,)+1,MATCH($N$4+O$11-1,INDEX(РВД!$D:$I,MATCH($C53,РВД!$A:$A,),),)),IF(O54=\"Я\",INDEX('график 7,8'!$B$52:$AF$63,MONTH($AP$3),O$11),\"\"))","v":3.9},{"$f":"IFERROR(INDEX(РВД!$D:$I,MATCH($C53,РВД!$A:$A,)+1,MATCH($N$4+P$11-1,INDEX(РВД!$D:$I,MATCH($C53,РВД!$A:$A,),),)),IF(P54=\"Я\",INDEX('график 7,8'!$B$52:$AF$63,MONTH($AP$3),P$11),\"\"))","v":3.9},{"$f":"IFERROR(INDEX(РВД!$D:$I,MATCH($C53,РВД!$A:$A,)+1,MATCH($N$4+Q$11-1,INDEX(РВД!$D:$I,MATCH($C53,РВД!$A:$A,),),)),IF(Q54=\"Я\",INDEX('график 7,8'!$B$52:$AF$63,MONTH($AP$3),Q$11),\"\"))","v":3.9},{"$f":"IFERROR(INDEX(РВД!$D:$I,MATCH($C53,РВД!$A:$A,)+1,MATCH($N$4+R$11-1,INDEX(РВД!$D:$I,MATCH($C53,РВД!$A:$A,),),)),IF(R54=\"Я\",INDEX('график 7,8'!$B$52:$AF$63,MONTH($AP$3),R$11),\"\"))","v":""},{"$f":"IFERROR(INDEX(РВД!$D:$I,MATCH($C53,РВД!$A:$A,)+1,MATCH($N$4+S$11-1,INDEX(РВД!$D:$I,MATCH($C53,РВД!$A:$A,),),)),IF(S54=\"Я\",INDEX('график 7,8'!$B$52:$AF$63,MONTH($AP$3),S$11),\"\"))","v":""},{"$f":"SUMIF(E54:S54,\"Я\",E53:S53)","v":35.099999999999994},{"$f":"IFERROR(INDEX(РВД!$D:$I,MATCH($C53,РВД!$A:$A,)+1,MATCH($N$4+U$11-1,INDEX(РВД!$D:$I,MATCH($C53,РВД!$A:$A,),),)),IF(U54=\"Я\",INDEX('график 7,8'!$B$52:$AF$63,MONTH($AP$3),U$11),\"\"))","v":3.9},{"$f":"IFERROR(INDEX(РВД!$D:$I,MATCH($C53,РВД!$A:$A,)+1,MATCH($N$4+V$11-1,INDEX(РВД!$D:$I,MATCH($C53,РВД!$A:$A,),),)),IF(V54=\"Я\",INDEX('график 7,8'!$B$52:$AF$63,MONTH($AP$3),V$11),\"\"))","v":3.9},{"$f":"IFERROR(INDEX(РВД!$D:$I,MATCH($C53,РВД!$A:$A,)+1,MATCH($N$4+W$11-1,INDEX(РВД!$D:$I,MATCH($C53,РВД!$A:$A,),),)),IF(W54=\"Я\",INDEX('график 7,8'!$B$52:$AF$63,MONTH($AP$3),W$11),\"\"))","v":3.9},{"$f":"IFERROR(INDEX(РВД!$D:$I,MATCH($C53,РВД!$A:$A,)+1,MATCH($N$4+X$11-1,INDEX(РВД!$D:$I,MATCH($C53,РВД!$A:$A,),),)),IF(X54=\"Я\",INDEX('график 7,8'!$B$52:$AF$63,MONTH($AP$3),X$11),\"\"))","v":3.9},{"$f":"IFERROR(INDEX(РВД!$D:$I,MATCH($C53,РВД!$A:$A,)+1,MATCH($N$4+Y$11-1,INDEX(РВД!$D:$I,MATCH($C53,РВД!$A:$A,),),)),IF(Y54=\"Я\",INDEX('график 7,8'!$B$52:$AF$63,MONTH($AP$3),Y$11),\"\"))","v":3.9},{"$f":"IFERROR(INDEX(РВД!$D:$I,MATCH($C53,РВД!$A:$A,)+1,MATCH($N$4+Z$11-1,INDEX(РВД!$D:$I,MATCH($C53,РВД!$A:$A,),),)),IF(Z54=\"Я\",INDEX('график 7,8'!$B$52:$AF$63,MONTH($AP$3),Z$11),\"\"))","v":""},{"$f":"IFERROR(INDEX(РВД!$D:$I,MATCH($C53,РВД!$A:$A,)+1,MATCH($N$4+AA$11-1,INDEX(РВД!$D:$I,MATCH($C53,РВД!$A:$A,),),)),IF(AA54=\"Я\",INDEX('график 7,8'!$B$52:$AF$63,MONTH($AP$3),AA$11),\"\"))","v":""},{"$f":"IFERROR(INDEX(РВД!$D:$I,MATCH($C53,РВД!$A:$A,)+1,MATCH($N$4+AB$11-1,INDEX(РВД!$D:$I,MATCH($C53,РВД!$A:$A,),),)),IF(AB54=\"Я\",INDEX('график 7,8'!$B$52:$AF$63,MONTH($AP$3),AB$11),\"\"))","v":3.9},{"$f":"IFERROR(INDEX(РВД!$D:$I,MATCH($C53,РВД!$A:$A,)+1,MATCH($N$4+AC$11-1,INDEX(РВД!$D:$I,MATCH($C53,РВД!$A:$A,),),)),IF(AC54=\"Я\",INDEX('график 7,8'!$B$52:$AF$63,MONTH($AP$3),AC$11),\"\"))","v":3.9},{"$f":"IFERROR(INDEX(РВД!$D:$I,MATCH($C53,РВД!$A:$A,)+1,MATCH($N$4+AD$11-1,INDEX(РВД!$D:$I,MATCH($C53,РВД!$A:$A,),),)),IF(AD54=\"Я\",INDEX('график 7,8'!$B$52:$AF$63,MONTH($AP$3),AD$11),\"\"))","v":3.9},{"$f":"IFERROR(INDEX(РВД!$D:$I,MATCH($C53,РВД!$A:$A,)+1,MATCH($N$4+AE$11-1,INDEX(РВД!$D:$I,MATCH($C53,РВД!$A:$A,),),)),IF(AE54=\"Я\",INDEX('график 7,8'!$B$52:$AF$63,MONTH($AP$3),AE$11),\"\"))","v":3.9},{"$f":"IFERROR(INDEX(РВД!$D:$I,MATCH($C53,РВД!$A:$A,)+1,MATCH($N$4+AF$11-1,INDEX(РВД!$D:$I,MATCH($C53,РВД!$A:$A,),),)),IF(AF54=\"Я\",INDEX('график 7,8'!$B$52:$AF$63,MONTH($AP$3),AF$11),\"\"))","v":3.9},{"$f":"IFERROR(INDEX(РВД!$D:$I,MATCH($C53,РВД!$A:$A,)+1,MATCH($N$4+AG$11-1,INDEX(РВД!$D:$I,MATCH($C53,РВД!$A:$A,),),)),IF(AG54=\"Я\",INDEX('график 7,8'!$B$52:$AF$63,MONTH($AP$3),AG$11),\"\"))","v":""},{"$f":"IFERROR(INDEX(РВД!$D:$I,MATCH($C53,РВД!$A:$A,)+1,MATCH($N$4+AH$11-1,INDEX(РВД!$D:$I,MATCH($C53,РВД!$A:$A,),),)),IF(AH54=\"Я\",INDEX('график 7,8'!$B$52:$AF$63,MONTH($AP$3),AH$11),\"\"))","v":""},{"$f":"IFERROR(INDEX(РВД!$D:$I,MATCH($C53,РВД!$A:$A,)+1,MATCH($N$4+AI$11-1,INDEX(РВД!$D:$I,MATCH($C53,РВД!$A:$A,),),)),IF(AI54=\"Я\",INDEX('график 7,8'!$B$52:$AF$63,MONTH($AP$3),AI$11),\"\"))","v":3.9},{"$f":"IFERROR(INDEX(РВД!$D:$I,MATCH($C53,РВД!$A:$A,)+1,MATCH($N$4+AJ$11-1,INDEX(РВД!$D:$I,MATCH($C53,РВД!$A:$A,),),)),IF(AJ54=\"Я\",INDEX('график 7,8'!$B$52:$AF$63,MONTH($AP$3),AJ$11),\"\"))","v":3.9},{"$f":"\"Я/\"&SUMIF(E54:AJ54,\"Я\",E53:AJ53)","v":"Я/81,9"},{"$f":"(SUMIF(E54:AJ54,\"В\",E53:AJ53)+SUMIF(E54:AJ54,\"В.\",E53:AJ53))*2","v":0},{"$f":"COUNTIFS(E54:AJ54,\"Я\",E53:AJ53,\"<>\")","v":21},{"$f":"IFERROR(VLOOKUP(C53,доплаты!$A$5:$P$118,16,0),\"\")","v":"100"}]
[null,null,null,null,{"$f":"TRIM(LEFT(TRIM(INDEX(отсутствия!$N:$AR,MATCH($C53,отсутствия!$A:$A,),E$11)&\" \"&TEXT(INDEX('график 7,8'!$B$52:$AF$63,MONTH($AP$3),E$11)&\"\",\"Я\")),2))","v":"В"},{"$f":"TRIM(LEFT(TRIM(INDEX(отсутствия!$N:$AR,MATCH($C53,отсутствия!$A:$A,),F$11)&\" \"&TEXT(INDEX('график 7,8'!$B$52:$AF$63,MONTH($AP$3),F$11)&\"\",\"Я\")),2))","v":"Я"},{"$f":"TRIM(LEFT(TRIM(INDEX(отсутствия!$N:$AR,MATCH($C53,отсутствия!$A:$A,),G$11)&\" \"&TEXT(INDEX('график 7,8'!$B$52:$AF$63,MONTH($AP$3),G$11)&\"\",\"Я\")),2))","v":"Я"},{"$f":"TRIM(LEFT(TRIM(INDEX(отсутствия!$N:$AR,MATCH($C53,отсутствия!$A:$A,),H$11)&\" \"&TEXT(INDEX('график 7,8'!$B$52:$AF$63,MONTH($AP$3),H$11)&\"\",\"Я\")),2))","v":"Я"},{"$f":"TRIM(LEFT(TRIM(INDEX(отсутствия!$N:$AR,MATCH($C53,отсутствия!$A:$A,),I$11)&\" \"&TEXT(INDEX('график 7,8'!$B$52:$AF$63,MONTH($AP$3),I$11)&\"\",\"Я\")),2))","v":"Я"},{"$f":"TRIM(LEFT(TRIM(INDEX(отсутствия!$N:$AR,MATCH($C53,отсутствия!$A:$A,),J$11)&\" \"&TEXT(INDEX('график 7,8'!$B$52:$AF$63,MONTH($AP$3),J$11)&\"\",\"Я\")),2))","v":"Я"},{"$f":"TRIM(LEFT(TRIM(INDEX(отсутствия!$N:$AR,MATCH($C53,отсутствия!$A:$A,),K$11)&\" \"&TEXT(INDEX('график 7,8'!$B$52:$AF$63,MONTH($AP$3),K$11)&\"\",\"Я\")),2))","v":"В"},{"$f":"TRIM(LEFT(TRIM(INDEX(отсутствия!$N:$AR,MATCH($C53,отсутствия!$A:$A,),L$11)&\" \"&TEXT(INDEX('график 7,8'!$B$52:$AF$63,MONTH($AP$3),L$11)&\"\",\"Я\")),2))","v":"В."},{"$f":"TRIM(LEFT(TRIM(INDEX(отсутствия!$N:$AR,MATCH($C53,отсутствия!$A:$A,),M$11)&\" \"&TEXT(INDEX('график 7,8'!$B$52:$AF$63,MONTH($AP$3),M$11)&\"\",\"Я\")),2))","v":"В"},{"$f":"TRIM(LEFT(TRIM(INDEX(отсутствия!$N:$AR,MATCH($C53,отсутствия!$A:$A,),N$11)&\" \"&TEXT(INDEX('график 7,8'!$B$52:$AF$63,MONTH($AP$3),N$11)&\"\",\"Я\")),2))","v":"Я"},{"$f":"TRIM(LEFT(TRIM(INDEX(отсутствия!$N:$AR,MATCH($C53,отсутствия!$A:$A,),O$11)&\" \"&TEXT(INDEX('график 7,8'!$B$52:$AF$63,MONTH($AP$3),O$11)&\"\",\"Я\")),2))","v":"Я"},{"$f":"TRIM(LEFT(TRIM(INDEX(отсутствия!$N:$AR,MATCH($C53,отсутствия!$A:$A,),P$11)&\" \"&TEXT(INDEX('график 7,8'!$B$52:$AF$63,MONTH($AP$3),P$11)&\"\",\"Я\")),2))","v":"Я"},{"$f":"TRIM(LEFT(TRIM(INDEX(отсутствия!$N:$AR,MATCH($C53,отсутствия!$A:$A,),Q$11)&\" \"&TEXT(INDEX('график 7,8'!$B$52:$AF$63,MONTH($AP$3),Q$11)&\"\",\"Я\")),2))","v":"Я"},{"$f":"TRIM(LEFT(TRIM(INDEX(отсутствия!$N:$AR,MATCH($C53,отсутствия!$A:$A,),R$11)&\" \"&TEXT(INDEX('график 7,8'!$B$52:$AF$63,MONTH($AP$3),R$11)&\"\",\"Я\")),2))","v":"В"},{"$f":"TRIM(LEFT(TRIM(INDEX(отсутствия!$N:$AR,MATCH($C53,отсутствия!$A:$A,),S$11)&\" \"&TEXT(INDEX('график 7,8'!$B$52:$AF$63,MONTH($AP$3),S$11)&\"\",\"Я\")),2))","v":"В"},null,{"$f":"TRIM(LEFT(TRIM(INDEX(отсутствия!$N:$AR,MATCH($C53,отсутствия!$A:$A,),U$11)&\" \"&TEXT(INDEX('график 7,8'!$B$52:$AF$63,MONTH($AP$3),U$11)&\"\",\"Я\")),2))","v":"Я"},{"$f":"TRIM(LEFT(TRIM(INDEX(отсутствия!$N:$AR,MATCH($C53,отсутствия!$A:$A,),V$11)&\" \"&TEXT(INDEX('график 7,8'!$B$52:$AF$63,MONTH($AP$3),V$11)&\"\",\"Я\")),2))","v":"Я"},{"$f":"TRIM(LEFT(TRIM(INDEX(отсутствия!$N:$AR,MATCH($C53,отсутствия!$A:$A,),W$11)&\" \"&TEXT(INDEX('график 7,8'!$B$52:$AF$63,MONTH($AP$3),W$11)&\"\",\"Я\")),2))","v":"Я"},{"$f":"TRIM(LEFT(TRIM(INDEX(отсутствия!$N:$AR,MATCH($C53,отсутствия!$A:$A,),X$11)&\" \"&TEXT(INDEX('график 7,8'!$B$52:$AF$63,MONTH($AP$3),X$11)&\"\",\"Я\")),2))","v":"Я"},{"$f":"TRIM(LEFT(TRIM(INDEX(отсутствия!$N:$AR,MATCH($C53,отсутствия!$A:$A,),Y$11)&\" \"&TEXT(INDEX('график 7,8'!$B$52:$AF$63,MONTH($AP$3),Y$11)&\"\",\"Я\")),2))","v":"Я"},{"$f":"TRIM(LEFT(TRIM(INDEX(отсутствия!$N:$AR,MATCH($C53,отсутствия!$A:$A,),Z$11)&\" \"&TEXT(INDEX('график 7,8'!$B$52:$AF$63,MONTH($AP$3),Z$11)&\"\",\"Я\")),2))","v":"В"},{"$f":"TRIM(LEFT(TRIM(INDEX(отсутствия!$N:$AR,MATCH($C53,отсутствия!$A:$A,),AA$11)&\" \"&TEXT(INDEX('график 7,8'!$B$52:$AF$63,MONTH($AP$3),AA$11)&\"\",\"Я\")),2))","v":"В"},{"$f":"TRIM(LEFT(TRIM(INDEX(отсутствия!$N:$AR,MATCH($C53,отсутствия!$A:$A,),AB$11)&\" \"&TEXT(INDEX('график 7,8'!$B$52:$AF$63,MONTH($AP$3),AB$11)&\"\",\"Я\")),2))","v":"Я"},{"$f":"TRIM(LEFT(TRIM(INDEX(отсутствия!$N:$AR,MATCH($C53,отсутствия!$A:$A,),AC$11)&\" \"&TEXT(INDEX('график 7,8'!$B$52:$AF$63,MONTH($AP$3),AC$11)&\"\",\"Я\")),2))","v":"Я"},{"$f":"TRIM(LEFT(TRIM(INDEX(отсутствия!$N:$AR,MATCH($C53,отсутствия!$A:$A,),AD$11)&\" \"&TEXT(INDEX('график 7,8'!$B$52:$AF$63,MONTH($AP$3),AD$11)&\"\",\"Я\")),2))","v":"Я"},{"$f":"TRIM(LEFT(TRIM(INDEX(отсутствия!$N:$AR,MATCH($C53,отсутствия!$A:$A,),AE$11)&\" \"&TEXT(INDEX('график 7,8'!$B$52:$AF$63,MONTH($AP$3),AE$11)&\"\",\"Я\")),2))","v":"Я"},{"$f":"TRIM(LEFT(TRIM(INDEX(отсутствия!$N:$AR,MATCH($C53,отсутствия!$A:$A,),AF$11)&\" \"&TEXT(INDEX('график 7,8'!$B$52:$AF$63,MONTH($AP$3),AF$11)&\"\",\"Я\")),2))","v":"Я"},{"$f":"TRIM(LEFT(TRIM(INDEX(отсутствия!$N:$AR,MATCH($C53,отсутствия!$A:$A,),AG$11)&\" \"&TEXT(INDEX('график 7,8'!$B$52:$AF$63,MONTH($AP$3),AG$11)&\"\",\"Я\")),2))","v":"В"},{"$f":"TRIM(LEFT(TRIM(INDEX(отсутствия!$N:$AR,MATCH($C53,отсутствия!$A:$A,),AH$11)&\" \"&TEXT(INDEX('график 7,8'!$B$52:$AF$63,MONTH($AP$3),AH$11)&\"\",\"Я\")),2))","v":"В"},{"$f":"TRIM(LEFT(TRIM(INDEX(отсутствия!$N:$AR,MATCH($C53,отсутствия!$A:$A,),AI$11)&\" \"&TEXT(INDEX('график 7,8'!$B$52:$AF$63,MONTH($AP$3),AI$11)&\"\",\"Я\")),2))","v":"Я"},{"$f":"TRIM(LEFT(TRIM(INDEX(отсутствия!$N:$AR,MATCH($C53,отсутствия!$A:$A,),AJ$11)&\" \"&TEXT(INDEX('график 7,8'!$B$52:$AF$63,MONTH($AP$3),AJ$11)&\"\",\"Я\")),2))","v":"Я"}]
[5140,"Семин",5140,"сборная",{"$f":"IFERROR(INDEX(РВД!$D:$I,MATCH($C55,РВД!$A:$A,)+1,MATCH($N$4+E$11-1,INDEX(РВД!$D:$I,MATCH($C55,РВД!$A:$A,),),)),IF(E56=\"Я\",INDEX('график 7,8'!$B$52:$AF$63,MONTH($AP$3),E$11),\"\"))","v":""},{"$f":"IFERROR(INDEX(РВД!$D:$I,MATCH($C55,РВД!$A:$A,)+1,MATCH($N$4+F$11-1,INDEX(РВД!$D:$I,MATCH($C55,РВД!$A:$A,),),)),IF(F56=\"Я\",INDEX('график 7,8'!$B$52:$AF$63,MONTH($AP$3),F$11),\"\"))","v":3.9},{"$f":"IFERROR(INDEX(РВД!$D:$I,MATCH($C55,РВД!$A:$A,)+1,MATCH($N$4+G$11-1,INDEX(РВД!$D:$I,MATCH($C55,РВД!$A:$A,),),)),IF(G56=\"Я\",INDEX('график 7,8'!$B$52:$AF$63,MONTH($AP$3),G$11),\"\"))","v":3.9},{"$f":"IFERROR(INDEX(РВД!$D:$I,MATCH($C55,РВД!$A:$A,)+1,MATCH($N$4+H$11-1,INDEX(РВД!$D:$I,MATCH($C55,РВД!$A:$A,),),)),IF(H56=\"Я\",INDEX('график 7,8'!$B$52:$AF$63,MONTH($AP$3),H$11),\"\"))","v":3.9},{"$f":"IFERROR(INDEX(РВД!$D:$I,MATCH($C55,РВД!$A:$A,)+1,MATCH($N$4+I$11-1,INDEX(РВД!$D:$I,MATCH($C55,РВД!$A:$A,),),)),IF(I56=\"Я\",INDEX('график 7,8'!$B$52:$AF$63,MONTH($AP$3),I$11),\"\"))","v":3.9},{"$f":"IFERROR(INDEX(РВД!$D:$I,MATCH($C55,РВД!$A:$A,)+1,MATCH($N$4+J$11-1,INDEX(РВД!$D:$I,MATCH($C55,РВД!$A:$A,),),)),IF(J56=\"Я\",INDEX('график 7,8'!$B$52:$AF$63,MONTH($AP$3),J$11),\"\"))","v":3.9},{"$f":"IFERROR(INDEX(РВД!$D:$I,MATCH($C55,РВД!$A:$A,)+1,MATCH($N$4+K$11-1,INDEX(РВД!$D:$I,MATCH($C55,РВД!$A:$A,),),)),IF(K56=\"Я\",INDEX('график 7,8'!$B$52:$AF$63,MONTH($AP$3),K$11),\"\"))","v":""},{"$f":"IFERROR(INDEX(РВД!$D:$I,MATCH($C55,РВД!$A:$A,)+1,MATCH($N$4+L$11-1,INDEX(РВД!$D:$I,MATCH($C55,РВД!$A:$A,),),)),IF(L56=\"Я\",INDEX('график 7,8'!$B$52:$AF$63,MONTH($AP$3),L$11),\"\"))","v":""},{"$f":"IFERROR(INDEX(РВД!$D:$I,MATCH($C55,РВД!$A:$A,)+1,MATCH($N$4+M$11-1,INDEX(РВД!$D:$I,MATCH($C55,РВД!$A:$A,),),)),IF(M56=\"Я\",INDEX('график 7,8'!$B$52:$AF$63,MONTH($AP$3),M$11),\"\"))","v":""},{"$f":"IFERROR(INDEX(РВД!$D:$I,MATCH($C55,РВД!$A:$A,)+1,MATCH($N$4+N$11-1,INDEX(РВД!$D:$I,MATCH($C55,РВД!$A:$A,),),)),IF(N56=\"Я\",INDEX('график 7,8'!$B$52:$AF$63,MONTH($AP$3),N$11),\"\"))","v":3.9},{"$f":"IFERROR(INDEX(РВД!$D:$I,MATCH($C55,РВД!$A:$A,)+1,MATCH($N$4+O$11-1,INDEX(РВД!$D:$I,MATCH($C55,РВД!$A:$A,),),)),IF(O56=\"Я\",INDEX('график 7,8'!$B$52:$AF$63,MONTH($AP$3),O$11),\"\"))","v":3.9},{"$f":"IFERROR(INDEX(РВД!$D:$I,MATCH($C55,РВД!$A:$A,)+1,MATCH($N$4+P$11-1,INDEX(РВД!$D:$I,MATCH($C55,РВД!$A:$A,),),)),IF(P56=\"Я\",INDEX('график 7,8'!$B$52:$AF$63,MONTH($AP$3),P$11),\"\"))","v":3.9},{"$f":"IFERROR(INDEX(РВД!$D:$I,MATCH($C55,РВД!$A:$A,)+1,MATCH($N$4+Q$11-1,INDEX(РВД!$D:$I,MATCH($C55,РВД!$A:$A,),),)),IF(Q56=\"Я\",INDEX('график 7,8'!$B$52:$AF$63,MONTH($AP$3),Q$11),\"\"))","v":3.9},{"$f":"IFERROR(INDEX(РВД!$D:$I,MATCH($C55,РВД!$A:$A,)+1,MATCH($N$4+R$11-1,INDEX(РВД!$D:$I,MATCH($C55,РВД!$A:$A,),),)),IF(R56=\"Я\",INDEX('график 7,8'!$B$52:$AF$63,MONTH($AP$3),R$11),\"\"))","v":""},{"$f":"IFERROR(INDEX(РВД!$D:$I,MATCH($C55,РВД!$A:$A,)+1,MATCH($N$4+S$11-1,INDEX(РВД!$D:$I,MATCH($C55,РВД!$A:$A,),),)),IF(S56=\"Я\",INDEX('график 7,8'!$B$52:$AF$63,MONTH($AP$3),S$11),\"\"))","v":""},{"$f":"SUMIF(E56:S56,\"Я\",E55:S55)","v":35.099999999999994},{"$f":"IFERROR(INDEX(РВД!$D:$I,MATCH($C55,РВД!$A:$A,)+1,MATCH($N$4+U$11-1,INDEX(РВД!$D:$I,MATCH($C55,РВД!$A:$A,),),)),IF(U56=\"Я\",INDEX('график 7,8'!$B$52:$AF$63,MONTH($AP$3),U$11),\"\"))","v":3.9},{"$f":"IFERROR(INDEX(РВД!$D:$I,MATCH($C55,РВД!$A:$A,)+1,MATCH($N$4+V$11-1,INDEX(РВД!$D:$I,MATCH($C55,РВД!$A:$A,),),)),IF(V56=\"Я\",INDEX('график 7,8'!$B$52:$AF$63,MONTH($AP$3),V$11),\"\"))","v":3.9},{"$f":"IFERROR(INDEX(РВД!$D:$I,MATCH($C55,РВД!$A:$A,)+1,MATCH($N$4+W$11-1,INDEX(РВД!$D:$I,MATCH($C55,РВД!$A:$A,),),)),IF(W56=\"Я\",INDEX('график 7,8'!$B$52:$AF$63,MONTH($AP$3),W$11),\"\"))","v":3.9},{"$f":"IFERROR(INDEX(РВД!$D:$I,MATCH($C55,РВД!$A:$A,)+1,MATCH($N$4+X$11-1,INDEX(РВД!$D:$I,MATCH($C55,РВД!$A:$A,),),)),IF(X56=\"Я\",INDEX('график 7,8'!$B$52:$AF$63,MONTH($AP$3),X$11),\"\"))","v":3.9},{"$f":"IFERROR(INDEX(РВД!$D:$I,MATCH($C55,РВД!$A:$A,)+1,MATCH($N$4+Y$11-1,INDEX(РВД!$D:$I,MATCH($C55,РВД!$A:$A,),),)),IF(Y56=\"Я\",INDEX('график 7,8'!$B$52:$AF$63,MONTH($AP$3),Y$11),\"\"))","v":3.9},{"$f":"IFERROR(INDEX(РВД!$D:$I,MATCH($C55,РВД!$A:$A,)+1,MATCH($N$4+Z$11-1,INDEX(РВД!$D:$I,MATCH($C55,РВД!$A:$A,),),)),IF(Z56=\"Я\",INDEX('график 7,8'!$B$52:$AF$63,MONTH($AP$3),Z$11),\"\"))","v":""},{"$f":"IFERROR(INDEX(РВД!$D:$I,MATCH($C55,РВД!$A:$A,)+1,MATCH($N$4+AA$11-1,INDEX(РВД!$D:$I,MATCH($C55,РВД!$A:$A,),),)),IF(AA56=\"Я\",INDEX('график 7,8'!$B$52:$AF$63,MONTH($AP$3),AA$11),\"\"))","v":""},{"$f":"IFERROR(INDEX(РВД!$D:$I,MATCH($C55,РВД!$A:$A,)+1,MATCH($N$4+AB$11-1,INDEX(РВД!$D:$I,MATCH($C55,РВД!$A:$A,),),)),IF(AB56=\"Я\",INDEX('график 7,8'!$B$52:$AF$63,MONTH($AP$3),AB$11),\"\"))","v":3.9},{"$f":"IFERROR(INDEX(РВД!$D:$I,MATCH($C55,РВД!$A:$A,)+1,MATCH($N$4+AC$11-1,INDEX(РВД!$D:$I,MATCH($C55,РВД!$A:$A,),),)),IF(AC56=\"Я\",INDEX('график 7,8'!$B$52:$AF$63,MONTH($AP$3),AC$11),\"\"))","v":3.9},{"$f":"IFERROR(INDEX(РВД!$D:$I,MATCH($C55,РВД!$A:$A,)+1,MATCH($N$4+AD$11-1,INDEX(РВД!$D:$I,MATCH($C55,РВД!$A:$A,),),)),IF(AD56=\"Я\",INDEX('график 7,8'!$B$52:$AF$63,MONTH($AP$3),AD$11),\"\"))","v":3.9},{"$f":"IFERROR(INDEX(РВД!$D:$I,MATCH($C55,РВД!$A:$A,)+1,MATCH($N$4+AE$11-1,INDEX(РВД!$D:$I,MATCH($C55,РВД!$A:$A,),),)),IF(AE56=\"Я\",INDEX('график 7,8'!$B$52:$AF$63,MONTH($AP$3),AE$11),\"\"))","v":3.9},{"$f":"IFERROR(INDEX(РВД!$D:$I,MATCH($C55,РВД!$A:$A,)+1,MATCH($N$4+AF$11-1,INDEX(РВД!$D:$I,MATCH($C55,РВД!$A:$A,),),)),IF(AF56=\"Я\",INDEX('график 7,8'!$B$52:$AF$63,MONTH($AP$3),AF$11),\"\"))","v":3.9},{"$f":"IFERROR(INDEX(РВД!$D:$I,MATCH($C55,РВД!$A:$A,)+1,MATCH($N$4+AG$11-1,INDEX(РВД!$D:$I,MATCH($C55,РВД!$A:$A,),),)),IF(AG56=\"Я\",INDEX('график 7,8'!$B$52:$AF$63,MONTH($AP$3),AG$11),\"\"))","v":""},{"$f":"IFERROR(INDEX(РВД!$D:$I,MATCH($C55,РВД!$A:$A,)+1,MATCH($N$4+AH$11-1,INDEX(РВД!$D:$I,MATCH($C55,РВД!$A:$A,),),)),IF(AH56=\"Я\",INDEX('график 7,8'!$B$52:$AF$63,MONTH($AP$3),AH$11),\"\"))","v":""},{"$f":"IFERROR(INDEX(РВД!$D:$I,MATCH($C55,РВД!$A:$A,)+1,MATCH($N$4+AI$11-1,INDEX(РВД!$D:$I,MATCH($C55,РВД!$A:$A,),),)),IF(AI56=\"Я\",INDEX('график 7,8'!$B$52:$AF$63,MONTH($AP$3),AI$11),\"\"))","v":3.9},{"$f":"IFERROR(INDEX(РВД!$D:$I,MATCH($C55,РВД!$A:$A,)+1,MATCH($N$4+AJ$11-1,INDEX(РВД!$D:$I,MATCH($C55,РВД!$A:$A,),),)),IF(AJ56=\"Я\",INDEX('график 7,8'!$B$52:$AF$63,MONTH($AP$3),AJ$11),\"\"))","v":3.9},{"$f":"\"Я/\"&SUMIF(E56:AJ56,\"Я\",E55:AJ55)","v":"Я/81,9"},{"$f":"(SUMIF(E56:AJ56,\"В\",E55:AJ55)+SUMIF(E56:AJ56,\"В.\",E55:AJ55))*2","v":0},{"$f":"COUNTIFS(E56:AJ56,\"Я\",E55:AJ55,\"<>\")","v":21},{"$f":"IFERROR(VLOOKUP(C55,доплаты!$A$5:$P$118,16,0),\"\")","v":"28"}]
[null,null,null,null,{"$f":"TRIM(LEFT(TRIM(INDEX(отсутствия!$N:$AR,MATCH($C55,отсутствия!$A:$A,),E$11)&\" \"&TEXT(INDEX('график 7,8'!$B$52:$AF$63,MONTH($AP$3),E$11)&\"\",\"Я\")),2))","v":"В"},{"$f":"TRIM(LEFT(TRIM(INDEX(отсутствия!$N:$AR,MATCH($C55,отсутствия!$A:$A,),F$11)&\" \"&TEXT(INDEX('график 7,8'!$B$52:$AF$63,MONTH($AP$3),F$11)&\"\",\"Я\")),2))","v":"Я"},{"$f":"TRIM(LEFT(TRIM(INDEX(отсутствия!$N:$AR,MATCH($C55,отсутствия!$A:$A,),G$11)&\" \"&TEXT(INDEX('график 7,8'!$B$52:$AF$63,MONTH($AP$3),G$11)&\"\",\"Я\")),2))","v":"Я"},{"$f":"TRIM(LEFT(TRIM(INDEX(отсутствия!$N:$AR,MATCH($C55,отсутствия!$A:$A,),H$11)&\" \"&TEXT(INDEX('график 7,8'!$B$52:$AF$63,MONTH($AP$3),H$11)&\"\",\"Я\")),2))","v":"Я"},{"$f":"TRIM(LEFT(TRIM(INDEX(отсутствия!$N:$AR,MATCH($C55,отсутствия!$A:$A,),I$11)&\" \"&TEXT(INDEX('график 7,8'!$B$52:$AF$63,MONTH($AP$3),I$11)&\"\",\"Я\")),2))","v":"Я"},{"$f":"TRIM(LEFT(TRIM(INDEX(отсутствия!$N:$AR,MATCH($C55,отсутствия!$A:$A,),J$11)&\" \"&TEXT(INDEX('график 7,8'!$B$52:$AF$63,MONTH($AP$3),J$11)&\"\",\"Я\")),2))","v":"Я"},{"$f":"TRIM(LEFT(TRIM(INDEX(отсутствия!$N:$AR,MATCH($C55,отсутствия!$A:$A,),K$11)&\" \"&TEXT(INDEX('график 7,8'!$B$52:$AF$63,MONTH($AP$3),K$11)&\"\",\"Я\")),2))","v":"В"},{"$f":"TRIM(LEFT(TRIM(INDEX(отсутствия!$N:$AR,MATCH($C55,отсутствия!$A:$A,),L$11)&\" \"&TEXT(INDEX('график 7,8'!$B$52:$AF$63,MONTH($AP$3),L$11)&\"\",\"Я\")),2))","v":"В."},{"$f":"TRIM(LEFT(TRIM(INDEX(отсутствия!$N:$AR,MATCH($C55,отсутствия!$A:$A,),M$11)&\" \"&TEXT(INDEX('график 7,8'!$B$52:$AF$63,MONTH($AP$3),M$11)&\"\",\"Я\")),2))","v":"В"},{"$f":"TRIM(LEFT(TRIM(INDEX(отсутствия!$N:$AR,MATCH($C55,отсутствия!$A:$A,),N$11)&\" \"&TEXT(INDEX('график 7,8'!$B$52:$AF$63,MONTH($AP$3),N$11)&\"\",\"Я\")),2))","v":"Я"},{"$f":"TRIM(LEFT(TRIM(INDEX(отсутствия!$N:$AR,MATCH($C55,отсутствия!$A:$A,),O$11)&\" \"&TEXT(INDEX('график 7,8'!$B$52:$AF$63,MONTH($AP$3),O$11)&\"\",\"Я\")),2))","v":"Я"},{"$f":"TRIM(LEFT(TRIM(INDEX(отсутствия!$N:$AR,MATCH($C55,отсутствия!$A:$A,),P$11)&\" \"&TEXT(INDEX('график 7,8'!$B$52:$AF$63,MONTH($AP$3),P$11)&\"\",\"Я\")),2))","v":"Я"},{"$f":"TRIM(LEFT(TRIM(INDEX(отсутствия!$N:$AR,MATCH($C55,отсутствия!$A:$A,),Q$11)&\" \"&TEXT(INDEX('график 7,8'!$B$52:$AF$63,MONTH($AP$3),Q$11)&\"\",\"Я\")),2))","v":"Я"},{"$f":"TRIM(LEFT(TRIM(INDEX(отсутствия!$N:$AR,MATCH($C55,отсутствия!$A:$A,),R$11)&\" \"&TEXT(INDEX('график 7,8'!$B$52:$AF$63,MONTH($AP$3),R$11)&\"\",\"Я\")),2))","v":"В"},{"$f":"TRIM(LEFT(TRIM(INDEX(отсутствия!$N:$AR,MATCH($C55,отсутствия!$A:$A,),S$11)&\" \"&TEXT(INDEX('график 7,8'!$B$52:$AF$63,MONTH($AP$3),S$11)&\"\",\"Я\")),2))","v":"В"},null,{"$f":"TRIM(LEFT(TRIM(INDEX(отсутствия!$N:$AR,MATCH($C55,отсутствия!$A:$A,),U$11)&\" \"&TEXT(INDEX('график 7,8'!$B$52:$AF$63,MONTH($AP$3),U$11)&\"\",\"Я\")),2))","v":"Я"},{"$f":"TRIM(LEFT(TRIM(INDEX(отсутствия!$N:$AR,MATCH($C55,отсутствия!$A:$A,),V$11)&\" \"&TEXT(INDEX('график 7,8'!$B$52:$AF$63,MONTH($AP$3),V$11)&\"\",\"Я\")),2))","v":"Я"},{"$f":"TRIM(LEFT(TRIM(INDEX(отсутствия!$N:$AR,MATCH($C55,отсутствия!$A:$A,),W$11)&\" \"&TEXT(INDEX('график 7,8'!$B$52:$AF$63,MONTH($AP$3),W$11)&\"\",\"Я\")),2))","v":"Я"},{"$f":"TRIM(LEFT(TRIM(INDEX(отсутствия!$N:$AR,MATCH($C55,отсутствия!$A:$A,),X$11)&\" \"&TEXT(INDEX('график 7,8'!$B$52:$AF$63,MONTH($AP$3),X$11)&\"\",\"Я\")),2))","v":"Я"},{"$f":"TRIM(LEFT(TRIM(INDEX(отсутствия!$N:$AR,MATCH($C55,отсутствия!$A:$A,),Y$11)&\" \"&TEXT(INDEX('график 7,8'!$B$52:$AF$63,MONTH($AP$3),Y$11)&\"\",\"Я\")),2))","v":"Я"},{"$f":"TRIM(LEFT(TRIM(INDEX(отсутствия!$N:$AR,MATCH($C55,отсутствия!$A:$A,),Z$11)&\" \"&TEXT(INDEX('график 7,8'!$B$52:$AF$63,MONTH($AP$3),Z$11)&\"\",\"Я\")),2))","v":"В"},{"$f":"TRIM(LEFT(TRIM(INDEX(отсутствия!$N:$AR,MATCH($C55,отсутствия!$A:$A,),AA$11)&\" \"&TEXT(INDEX('график 7,8'!$B$52:$AF$63,MONTH($AP$3),AA$11)&\"\",\"Я\")),2))","v":"В"},{"$f":"TRIM(LEFT(TRIM(INDEX(отсутствия!$N:$AR,MATCH($C55,отсутствия!$A:$A,),AB$11)&\" \"&TEXT(INDEX('график 7,8'!$B$52:$AF$63,MONTH($AP$3),AB$11)&\"\",\"Я\")),2))","v":"Я"},{"$f":"TRIM(LEFT(TRIM(INDEX(отсутствия!$N:$AR,MATCH($C55,отсутствия!$A:$A,),AC$11)&\" \"&TEXT(INDEX('график 7,8'!$B$52:$AF$63,MONTH($AP$3),AC$11)&\"\",\"Я\")),2))","v":"Я"},{"$f":"TRIM(LEFT(TRIM(INDEX(отсутствия!$N:$AR,MATCH($C55,отсутствия!$A:$A,),AD$11)&\" \"&TEXT(INDEX('график 7,8'!$B$52:$AF$63,MONTH($AP$3),AD$11)&\"\",\"Я\")),2))","v":"Я"},{"$f":"TRIM(LEFT(TRIM(INDEX(отсутствия!$N:$AR,MATCH($C55,отсутствия!$A:$A,),AE$11)&\" \"&TEXT(INDEX('график 7,8'!$B$52:$AF$63,MONTH($AP$3),AE$11)&\"\",\"Я\")),2))","v":"Я"},{"$f":"TRIM(LEFT(TRIM(INDEX(отсутствия!$N:$AR,MATCH($C55,отсутствия!$A:$A,),AF$11)&\" \"&TEXT(INDEX('график 7,8'!$B$52:$AF$63,MONTH($AP$3),AF$11)&\"\",\"Я\")),2))","v":"Я"},{"$f":"TRIM(LEFT(TRIM(INDEX(отсутствия!$N:$AR,MATCH($C55,отсутствия!$A:$A,),AG$11)&\" \"&TEXT(INDEX('график 7,8'!$B$52:$AF$63,MONTH($AP$3),AG$11)&\"\",\"Я\")),2))","v":"В"},{"$f":"TRIM(LEFT(TRIM(INDEX(отсутствия!$N:$AR,MATCH($C55,отсутствия!$A:$A,),AH$11)&\" \"&TEXT(INDEX('график 7,8'!$B$52:$AF$63,MONTH($AP$3),AH$11)&\"\",\"Я\")),2))","v":"В"},{"$f":"TRIM(LEFT(TRIM(INDEX(отсутствия!$N:$AR,MATCH($C55,отсутствия!$A:$A,),AI$11)&\" \"&TEXT(INDEX('график 7,8'!$B$52:$AF$63,MONTH($AP$3),AI$11)&\"\",\"Я\")),2))","v":"Я"},{"$f":"TRIM(LEFT(TRIM(INDEX(отсутствия!$N:$AR,MATCH($C55,отсутствия!$A:$A,),AJ$11)&\" \"&TEXT(INDEX('график 7,8'!$B$52:$AF$63,MONTH($AP$3),AJ$11)&\"\",\"Я\")),2))","v":"Я"}]
[5241,"Радулов",5241,"сборная",{"$f":"IFERROR(INDEX(РВД!$D:$I,MATCH($C57,РВД!$A:$A,)+1,MATCH($N$4+E$11-1,INDEX(РВД!$D:$I,MATCH($C57,РВД!$A:$A,),),)),IF(E58=\"Я\",INDEX('график 7,8'!$B$52:$AF$63,MONTH($AP$3),E$11),\"\"))","v":""},{"$f":"IFERROR(INDEX(РВД!$D:$I,MATCH($C57,РВД!$A:$A,)+1,MATCH($N$4+F$11-1,INDEX(РВД!$D:$I,MATCH($C57,РВД!$A:$A,),),)),IF(F58=\"Я\",INDEX('график 7,8'!$B$52:$AF$63,MONTH($AP$3),F$11),\"\"))","v":3.9},{"$f":"IFERROR(INDEX(РВД!$D:$I,MATCH($C57,РВД!$A:$A,)+1,MATCH($N$4+G$11-1,INDEX(РВД!$D:$I,MATCH($C57,РВД!$A:$A,),),)),IF(G58=\"Я\",INDEX('график 7,8'!$B$52:$AF$63,MONTH($AP$3),G$11),\"\"))","v":3.9},{"$f":"IFERROR(INDEX(РВД!$D:$I,MATCH($C57,РВД!$A:$A,)+1,MATCH($N$4+H$11-1,INDEX(РВД!$D:$I,MATCH($C57,РВД!$A:$A,),),)),IF(H58=\"Я\",INDEX('график 7,8'!$B$52:$AF$63,MONTH($AP$3),H$11),\"\"))","v":3.9},{"$f":"IFERROR(INDEX(РВД!$D:$I,MATCH($C57,РВД!$A:$A,)+1,MATCH($N$4+I$11-1,INDEX(РВД!$D:$I,MATCH($C57,РВД!$A:$A,),),)),IF(I58=\"Я\",INDEX('график 7,8'!$B$52:$AF$63,MONTH($AP$3),I$11),\"\"))","v":3.9},{"$f":"IFERROR(INDEX(РВД!$D:$I,MATCH($C57,РВД!$A:$A,)+1,MATCH($N$4+J$11-1,INDEX(РВД!$D:$I,MATCH($C57,РВД!$A:$A,),),)),IF(J58=\"Я\",INDEX('график 7,8'!$B$52:$AF$63,MONTH($AP$3),J$11),\"\"))","v":3.9},{"$f":"IFERROR(INDEX(РВД!$D:$I,MATCH($C57,РВД!$A:$A,)+1,MATCH($N$4+K$11-1,INDEX(РВД!$D:$I,MATCH($C57,РВД!$A:$A,),),)),IF(K58=\"Я\",INDEX('график 7,8'!$B$52:$AF$63,MONTH($AP$3),K$11),\"\"))","v":""},{"$f":"IFERROR(INDEX(РВД!$D:$I,MATCH($C57,РВД!$A:$A,)+1,MATCH($N$4+L$11-1,INDEX(РВД!$D:$I,MATCH($C57,РВД!$A:$A,),),)),IF(L58=\"Я\",INDEX('график 7,8'!$B$52:$AF$63,MONTH($AP$3),L$11),\"\"))","v":""},{"$f":"IFERROR(INDEX(РВД!$D:$I,MATCH($C57,РВД!$A:$A,)+1,MATCH($N$4+M$11-1,INDEX(РВД!$D:$I,MATCH($C57,РВД!$A:$A,),),)),IF(M58=\"Я\",INDEX('график 7,8'!$B$52:$AF$63,MONTH($AP$3),M$11),\"\"))","v":""},{"$f":"IFERROR(INDEX(РВД!$D:$I,MATCH($C57,РВД!$A:$A,)+1,MATCH($N$4+N$11-1,INDEX(РВД!$D:$I,MATCH($C57,РВД!$A:$A,),),)),IF(N58=\"Я\",INDEX('график 7,8'!$B$52:$AF$63,MONTH($AP$3),N$11),\"\"))","v":3.9},{"$f":"IFERROR(INDEX(РВД!$D:$I,MATCH($C57,РВД!$A:$A,)+1,MATCH($N$4+O$11-1,INDEX(РВД!$D:$I,MATCH($C57,РВД!$A:$A,),),)),IF(O58=\"Я\",INDEX('график 7,8'!$B$52:$AF$63,MONTH($AP$3),O$11),\"\"))","v":3.9},{"$f":"IFERROR(INDEX(РВД!$D:$I,MATCH($C57,РВД!$A:$A,)+1,MATCH($N$4+P$11-1,INDEX(РВД!$D:$I,MATCH($C57,РВД!$A:$A,),),)),IF(P58=\"Я\",INDEX('график 7,8'!$B$52:$AF$63,MONTH($AP$3),P$11),\"\"))","v":3.9},{"$f":"IFERROR(INDEX(РВД!$D:$I,MATCH($C57,РВД!$A:$A,)+1,MATCH($N$4+Q$11-1,INDEX(РВД!$D:$I,MATCH($C57,РВД!$A:$A,),),)),IF(Q58=\"Я\",INDEX('график 7,8'!$B$52:$AF$63,MONTH($AP$3),Q$11),\"\"))","v":3.9},{"$f":"IFERROR(INDEX(РВД!$D:$I,MATCH($C57,РВД!$A:$A,)+1,MATCH($N$4+R$11-1,INDEX(РВД!$D:$I,MATCH($C57,РВД!$A:$A,),),)),IF(R58=\"Я\",INDEX('график 7,8'!$B$52:$AF$63,MONTH($AP$3),R$11),\"\"))","v":""},{"$f":"IFERROR(INDEX(РВД!$D:$I,MATCH($C57,РВД!$A:$A,)+1,MATCH($N$4+S$11-1,INDEX(РВД!$D:$I,MATCH($C57,РВД!$A:$A,),),)),IF(S58=\"Я\",INDEX('график 7,8'!$B$52:$AF$63,MONTH($AP$3),S$11),\"\"))","v":""},{"$f":"SUMIF(E58:S58,\"Я\",E57:S57)","v":35.099999999999994},{"$f":"IFERROR(INDEX(РВД!$D:$I,MATCH($C57,РВД!$A:$A,)+1,MATCH($N$4+U$11-1,INDEX(РВД!$D:$I,MATCH($C57,РВД!$A:$A,),),)),IF(U58=\"Я\",INDEX('график 7,8'!$B$52:$AF$63,MONTH($AP$3),U$11),\"\"))","v":3.9},{"$f":"IFERROR(INDEX(РВД!$D:$I,MATCH($C57,РВД!$A:$A,)+1,MATCH($N$4+V$11-1,INDEX(РВД!$D:$I,MATCH($C57,РВД!$A:$A,),),)),IF(V58=\"Я\",INDEX('график 7,8'!$B$52:$AF$63,MONTH($AP$3),V$11),\"\"))","v":3.9},{"$f":"IFERROR(INDEX(РВД!$D:$I,MATCH($C57,РВД!$A:$A,)+1,MATCH($N$4+W$11-1,INDEX(РВД!$D:$I,MATCH($C57,РВД!$A:$A,),),)),IF(W58=\"Я\",INDEX('график 7,8'!$B$52:$AF$63,MONTH($AP$3),W$11),\"\"))","v":3.9},{"$f":"IFERROR(INDEX(РВД!$D:$I,MATCH($C57,РВД!$A:$A,)+1,MATCH($N$4+X$11-1,INDEX(РВД!$D:$I,MATCH($C57,РВД!$A:$A,),),)),IF(X58=\"Я\",INDEX('график 7,8'!$B$52:$AF$63,MONTH($AP$3),X$11),\"\"))","v":3.9},{"$f":"IFERROR(INDEX(РВД!$D:$I,MATCH($C57,РВД!$A:$A,)+1,MATCH($N$4+Y$11-1,INDEX(РВД!$D:$I,MATCH($C57,РВД!$A:$A,),),)),IF(Y58=\"Я\",INDEX('график 7,8'!$B$52:$AF$63,MONTH($AP$3),Y$11),\"\"))","v":3.9},{"$f":"IFERROR(INDEX(РВД!$D:$I,MATCH($C57,РВД!$A:$A,)+1,MATCH($N$4+Z$11-1,INDEX(РВД!$D:$I,MATCH($C57,РВД!$A:$A,),),)),IF(Z58=\"Я\",INDEX('график 7,8'!$B$52:$AF$63,MONTH($AP$3),Z$11),\"\"))","v":""},{"$f":"IFERROR(INDEX(РВД!$D:$I,MATCH($C57,РВД!$A:$A,)+1,MATCH($N$4+AA$11-1,INDEX(РВД!$D:$I,MATCH($C57,РВД!$A:$A,),),)),IF(AA58=\"Я\",INDEX('график 7,8'!$B$52:$AF$63,MONTH($AP$3),AA$11),\"\"))","v":""},{"$f":"IFERROR(INDEX(РВД!$D:$I,MATCH($C57,РВД!$A:$A,)+1,MATCH($N$4+AB$11-1,INDEX(РВД!$D:$I,MATCH($C57,РВД!$A:$A,),),)),IF(AB58=\"Я\",INDEX('график 7,8'!$B$52:$AF$63,MONTH($AP$3),AB$11),\"\"))","v":3.9},{"$f":"IFERROR(INDEX(РВД!$D:$I,MATCH($C57,РВД!$A:$A,)+1,MATCH($N$4+AC$11-1,INDEX(РВД!$D:$I,MATCH($C57,РВД!$A:$A,),),)),IF(AC58=\"Я\",INDEX('график 7,8'!$B$52:$AF$63,MONTH($AP$3),AC$11),\"\"))","v":3.9},{"$f":"IFERROR(INDEX(РВД!$D:$I,MATCH($C57,РВД!$A:$A,)+1,MATCH($N$4+AD$11-1,INDEX(РВД!$D:$I,MATCH($C57,РВД!$A:$A,),),)),IF(AD58=\"Я\",INDEX('график 7,8'!$B$52:$AF$63,MONTH($AP$3),AD$11),\"\"))","v":3.9},{"$f":"IFERROR(INDEX(РВД!$D:$I,MATCH($C57,РВД!$A:$A,)+1,MATCH($N$4+AE$11-1,INDEX(РВД!$D:$I,MATCH($C57,РВД!$A:$A,),),)),IF(AE58=\"Я\",INDEX('график 7,8'!$B$52:$AF$63,MONTH($AP$3),AE$11),\"\"))","v":3.9},{"$f":"IFERROR(INDEX(РВД!$D:$I,MATCH($C57,РВД!$A:$A,)+1,MATCH($N$4+AF$11-1,INDEX(РВД!$D:$I,MATCH($C57,РВД!$A:$A,),),)),IF(AF58=\"Я\",INDEX('график 7,8'!$B$52:$AF$63,MONTH($AP$3),AF$11),\"\"))","v":3.9},{"$f":"IFERROR(INDEX(РВД!$D:$I,MATCH($C57,РВД!$A:$A,)+1,MATCH($N$4+AG$11-1,INDEX(РВД!$D:$I,MATCH($C57,РВД!$A:$A,),),)),IF(AG58=\"Я\",INDEX('график 7,8'!$B$52:$AF$63,MONTH($AP$3),AG$11),\"\"))","v":""},{"$f":"IFERROR(INDEX(РВД!$D:$I,MATCH($C57,РВД!$A:$A,)+1,MATCH($N$4+AH$11-1,INDEX(РВД!$D:$I,MATCH($C57,РВД!$A:$A,),),)),IF(AH58=\"Я\",INDEX('график 7,8'!$B$52:$AF$63,MONTH($AP$3),AH$11),\"\"))","v":""},{"$f":"IFERROR(INDEX(РВД!$D:$I,MATCH($C57,РВД!$A:$A,)+1,MATCH($N$4+AI$11-1,INDEX(РВД!$D:$I,MATCH($C57,РВД!$A:$A,),),)),IF(AI58=\"Я\",INDEX('график 7,8'!$B$52:$AF$63,MONTH($AP$3),AI$11),\"\"))","v":3.9},{"$f":"IFERROR(INDEX(РВД!$D:$I,MATCH($C57,РВД!$A:$A,)+1,MATCH($N$4+AJ$11-1,INDEX(РВД!$D:$I,MATCH($C57,РВД!$A:$A,),),)),IF(AJ58=\"Я\",INDEX('график 7,8'!$B$52:$AF$63,MONTH($AP$3),AJ$11),\"\"))","v":3.9},{"$f":"\"Я/\"&SUMIF(E58:AJ58,\"Я\",E57:AJ57)","v":"Я/81,9"},{"$f":"(SUMIF(E58:AJ58,\"В\",E57:AJ57)+SUMIF(E58:AJ58,\"В.\",E57:AJ57))*2","v":0},null,{"$f":"IFERROR(VLOOKUP(C57,доплаты!$A$5:$P$118,16,0),\"\")","v":"125,100"}]
[null,null,null,null,{"$f":"TRIM(LEFT(TRIM(INDEX(отсутствия!$N:$AR,MATCH($C57,отсутствия!$A:$A,),E$11)&\" \"&TEXT(INDEX('график 7,8'!$B$52:$AF$63,MONTH($AP$3),E$11)&\"\",\"Я\")),2))","v":"В"},{"$f":"TRIM(LEFT(TRIM(INDEX(отсутствия!$N:$AR,MATCH($C57,отсутствия!$A:$A,),F$11)&\" \"&TEXT(INDEX('график 7,8'!$B$52:$AF$63,MONTH($AP$3),F$11)&\"\",\"Я\")),2))","v":"Я"},{"$f":"TRIM(LEFT(TRIM(INDEX(отсутствия!$N:$AR,MATCH($C57,отсутствия!$A:$A,),G$11)&\" \"&TEXT(INDEX('график 7,8'!$B$52:$AF$63,MONTH($AP$3),G$11)&\"\",\"Я\")),2))","v":"Я"},{"$f":"TRIM(LEFT(TRIM(INDEX(отсутствия!$N:$AR,MATCH($C57,отсутствия!$A:$A,),H$11)&\" \"&TEXT(INDEX('график 7,8'!$B$52:$AF$63,MONTH($AP$3),H$11)&\"\",\"Я\")),2))","v":"Я"},{"$f":"TRIM(LEFT(TRIM(INDEX(отсутствия!$N:$AR,MATCH($C57,отсутствия!$A:$A,),I$11)&\" \"&TEXT(INDEX('график 7,8'!$B$52:$AF$63,MONTH($AP$3),I$11)&\"\",\"Я\")),2))","v":"Я"},{"$f":"TRIM(LEFT(TRIM(INDEX(отсутствия!$N:$AR,MATCH($C57,отсутствия!$A:$A,),J$11)&\" \"&TEXT(INDEX('график 7,8'!$B$52:$AF$63,MONTH($AP$3),J$11)&\"\",\"Я\")),2))","v":"Я"},{"$f":"TRIM(LEFT(TRIM(INDEX(отсутствия!$N:$AR,MATCH($C57,отсутствия!$A:$A,),K$11)&\" \"&TEXT(INDEX('график 7,8'!$B$52:$AF$63,MONTH($AP$3),K$11)&\"\",\"Я\")),2))","v":"В"},{"$f":"TRIM(LEFT(TRIM(INDEX(отсутствия!$N:$AR,MATCH($C57,отсутствия!$A:$A,),L$11)&\" \"&TEXT(INDEX('график 7,8'!$B$52:$AF$63,MONTH($AP$3),L$11)&\"\",\"Я\")),2))","v":"В."},{"$f":"TRIM(LEFT(TRIM(INDEX(отсутствия!$N:$AR,MATCH($C57,отсутствия!$A:$A,),M$11)&\" \"&TEXT(INDEX('график 7,8'!$B$52:$AF$63,MONTH($AP$3),M$11)&\"\",\"Я\")),2))","v":"В"},{"$f":"TRIM(LEFT(TRIM(INDEX(отсутствия!$N:$AR,MATCH($C57,отсутствия!$A:$A,),N$11)&\" \"&TEXT(INDEX('график 7,8'!$B$52:$AF$63,MONTH($AP$3),N$11)&\"\",\"Я\")),2))","v":"Я"},{"$f":"TRIM(LEFT(TRIM(INDEX(отсутствия!$N:$AR,MATCH($C57,отсутствия!$A:$A,),O$11)&\" \"&TEXT(INDEX('график 7,8'!$B$52:$AF$63,MONTH($AP$3),O$11)&\"\",\"Я\")),2))","v":"Я"},{"$f":"TRIM(LEFT(TRIM(INDEX(отсутствия!$N:$AR,MATCH($C57,отсутствия!$A:$A,),P$11)&\" \"&TEXT(INDEX('график 7,8'!$B$52:$AF$63,MONTH($AP$3),P$11)&\"\",\"Я\")),2))","v":"Я"},{"$f":"TRIM(LEFT(TRIM(INDEX(отсутствия!$N:$AR,MATCH($C57,отсутствия!$A:$A,),Q$11)&\" \"&TEXT(INDEX('график 7,8'!$B$52:$AF$63,MONTH($AP$3),Q$11)&\"\",\"Я\")),2))","v":"Я"},{"$f":"TRIM(LEFT(TRIM(INDEX(отсутствия!$N:$AR,MATCH($C57,отсутствия!$A:$A,),R$11)&\" \"&TEXT(INDEX('график 7,8'!$B$52:$AF$63,MONTH($AP$3),R$11)&\"\",\"Я\")),2))","v":"В"},{"$f":"TRIM(LEFT(TRIM(INDEX(отсутствия!$N:$AR,MATCH($C57,отсутствия!$A:$A,),S$11)&\" \"&TEXT(INDEX('график 7,8'!$B$52:$AF$63,MONTH($AP$3),S$11)&\"\",\"Я\")),2))","v":"В"},null,{"$f":"TRIM(LEFT(TRIM(INDEX(отсутствия!$N:$AR,MATCH($C57,отсутствия!$A:$A,),U$11)&\" \"&TEXT(INDEX('график 7,8'!$B$52:$AF$63,MONTH($AP$3),U$11)&\"\",\"Я\")),2))","v":"Я"},{"$f":"TRIM(LEFT(TRIM(INDEX(отсутствия!$N:$AR,MATCH($C57,отсутствия!$A:$A,),V$11)&\" \"&TEXT(INDEX('график 7,8'!$B$52:$AF$63,MONTH($AP$3),V$11)&\"\",\"Я\")),2))","v":"Я"},{"$f":"TRIM(LEFT(TRIM(INDEX(отсутствия!$N:$AR,MATCH($C57,отсутствия!$A:$A,),W$11)&\" \"&TEXT(INDEX('график 7,8'!$B$52:$AF$63,MONTH($AP$3),W$11)&\"\",\"Я\")),2))","v":"Я"},{"$f":"TRIM(LEFT(TRIM(INDEX(отсутствия!$N:$AR,MATCH($C57,отсутствия!$A:$A,),X$11)&\" \"&TEXT(INDEX('график 7,8'!$B$52:$AF$63,MONTH($AP$3),X$11)&\"\",\"Я\")),2))","v":"Я"},{"$f":"TRIM(LEFT(TRIM(INDEX(отсутствия!$N:$AR,MATCH($C57,отсутствия!$A:$A,),Y$11)&\" \"&TEXT(INDEX('график 7,8'!$B$52:$AF$63,MONTH($AP$3),Y$11)&\"\",\"Я\")),2))","v":"Я"},{"$f":"TRIM(LEFT(TRIM(INDEX(отсутствия!$N:$AR,MATCH($C57,отсутствия!$A:$A,),Z$11)&\" \"&TEXT(INDEX('график 7,8'!$B$52:$AF$63,MONTH($AP$3),Z$11)&\"\",\"Я\")),2))","v":"В"},{"$f":"TRIM(LEFT(TRIM(INDEX(отсутствия!$N:$AR,MATCH($C57,отсутствия!$A:$A,),AA$11)&\" \"&TEXT(INDEX('график 7,8'!$B$52:$AF$63,MONTH($AP$3),AA$11)&\"\",\"Я\")),2))","v":"В"},{"$f":"TRIM(LEFT(TRIM(INDEX(отсутствия!$N:$AR,MATCH($C57,отсутствия!$A:$A,),AB$11)&\" \"&TEXT(INDEX('график 7,8'!$B$52:$AF$63,MONTH($AP$3),AB$11)&\"\",\"Я\")),2))","v":"Я"},{"$f":"TRIM(LEFT(TRIM(INDEX(отсутствия!$N:$AR,MATCH($C57,отсутствия!$A:$A,),AC$11)&\" \"&TEXT(INDEX('график 7,8'!$B$52:$AF$63,MONTH($AP$3),AC$11)&\"\",\"Я\")),2))","v":"Я"},{"$f":"TRIM(LEFT(TRIM(INDEX(отсутствия!$N:$AR,MATCH($C57,отсутствия!$A:$A,),AD$11)&\" \"&TEXT(INDEX('график 7,8'!$B$52:$AF$63,MONTH($AP$3),AD$11)&\"\",\"Я\")),2))","v":"Я"},{"$f":"TRIM(LEFT(TRIM(INDEX(отсутствия!$N:$AR,MATCH($C57,отсутствия!$A:$A,),AE$11)&\" \"&TEXT(INDEX('график 7,8'!$B$52:$AF$63,MONTH($AP$3),AE$11)&\"\",\"Я\")),2))","v":"Я"},{"$f":"TRIM(LEFT(TRIM(INDEX(отсутствия!$N:$AR,MATCH($C57,отсутствия!$A:$A,),AF$11)&\" \"&TEXT(INDEX('график 7,8'!$B$52:$AF$63,MONTH($AP$3),AF$11)&\"\",\"Я\")),2))","v":"Я"},{"$f":"TRIM(LEFT(TRIM(INDEX(отсутствия!$N:$AR,MATCH($C57,отсутствия!$A:$A,),AG$11)&\" \"&TEXT(INDEX('график 7,8'!$B$52:$AF$63,MONTH($AP$3),AG$11)&\"\",\"Я\")),2))","v":"В"},{"$f":"TRIM(LEFT(TRIM(INDEX(отсутствия!$N:$AR,MATCH($C57,отсутствия!$A:$A,),AH$11)&\" \"&TEXT(INDEX('график 7,8'!$B$52:$AF$63,MONTH($AP$3),AH$11)&\"\",\"Я\")),2))","v":"В"},{"$f":"TRIM(LEFT(TRIM(INDEX(отсутствия!$N:$AR,MATCH($C57,отсутствия!$A:$A,),AI$11)&\" \"&TEXT(INDEX('график 7,8'!$B$52:$AF$63,MONTH($AP$3),AI$11)&\"\",\"Я\")),2))","v":"Я"},{"$f":"TRIM(LEFT(TRIM(INDEX(отсутствия!$N:$AR,MATCH($C57,отсутствия!$A:$A,),AJ$11)&\" \"&TEXT(INDEX('график 7,8'!$B$52:$AF$63,MONTH($AP$3),AJ$11)&\"\",\"Я\")),2))","v":"Я"}]
[5144,"Малахов",5144,"сборная",{"$f":"IFERROR(INDEX(РВД!$D:$I,MATCH($C59,РВД!$A:$A,)+1,MATCH($N$4+E$11-1,INDEX(РВД!$D:$I,MATCH($C59,РВД!$A:$A,),),)),IF(E60=\"Я\",INDEX('график 7,8'!$B$52:$AF$63,MONTH($AP$3),E$11),\"\"))","v":""},{"$f":"IFERROR(INDEX(РВД!$D:$I,MATCH($C59,РВД!$A:$A,)+1,MATCH($N$4+F$11-1,INDEX(РВД!$D:$I,MATCH($C59,РВД!$A:$A,),),)),IF(F60=\"Я\",INDEX('график 7,8'!$B$52:$AF$63,MONTH($AP$3),F$11),\"\"))","v":3.9},{"$f":"IFERROR(INDEX(РВД!$D:$I,MATCH($C59,РВД!$A:$A,)+1,MATCH($N$4+G$11-1,INDEX(РВД!$D:$I,MATCH($C59,РВД!$A:$A,),),)),IF(G60=\"Я\",INDEX('график 7,8'!$B$52:$AF$63,MONTH($AP$3),G$11),\"\"))","v":3.9},{"$f":"IFERROR(INDEX(РВД!$D:$I,MATCH($C59,РВД!$A:$A,)+1,MATCH($N$4+H$11-1,INDEX(РВД!$D:$I,MATCH($C59,РВД!$A:$A,),),)),IF(H60=\"Я\",INDEX('график 7,8'!$B$52:$AF$63,MONTH($AP$3),H$11),\"\"))","v":3.9},{"$f":"IFERROR(INDEX(РВД!$D:$I,MATCH($C59,РВД!$A:$A,)+1,MATCH($N$4+I$11-1,INDEX(РВД!$D:$I,MATCH($C59,РВД!$A:$A,),),)),IF(I60=\"Я\",INDEX('график 7,8'!$B$52:$AF$63,MONTH($AP$3),I$11),\"\"))","v":3.9},{"$f":"IFERROR(INDEX(РВД!$D:$I,MATCH($C59,РВД!$A:$A,)+1,MATCH($N$4+J$11-1,INDEX(РВД!$D:$I,MATCH($C59,РВД!$A:$A,),),)),IF(J60=\"Я\",INDEX('график 7,8'!$B$52:$AF$63,MONTH($AP$3),J$11),\"\"))","v":3.9},{"$f":"IFERROR(INDEX(РВД!$D:$I,MATCH($C59,РВД!$A:$A,)+1,MATCH($N$4+K$11-1,INDEX(РВД!$D:$I,MATCH($C59,РВД!$A:$A,),),)),IF(K60=\"Я\",INDEX('график 7,8'!$B$52:$AF$63,MONTH($AP$3),K$11),\"\"))","v":""},{"$f":"IFERROR(INDEX(РВД!$D:$I,MATCH($C59,РВД!$A:$A,)+1,MATCH($N$4+L$11-1,INDEX(РВД!$D:$I,MATCH($C59,РВД!$A:$A,),),)),IF(L60=\"Я\",INDEX('график 7,8'!$B$52:$AF$63,MONTH($AP$3),L$11),\"\"))","v":""},{"$f":"IFERROR(INDEX(РВД!$D:$I,MATCH($C59,РВД!$A:$A,)+1,MATCH($N$4+M$11-1,INDEX(РВД!$D:$I,MATCH($C59,РВД!$A:$A,),),)),IF(M60=\"Я\",INDEX('график 7,8'!$B$52:$AF$63,MONTH($AP$3),M$11),\"\"))","v":""},{"$f":"IFERROR(INDEX(РВД!$D:$I,MATCH($C59,РВД!$A:$A,)+1,MATCH($N$4+N$11-1,INDEX(РВД!$D:$I,MATCH($C59,РВД!$A:$A,),),)),IF(N60=\"Я\",INDEX('график 7,8'!$B$52:$AF$63,MONTH($AP$3),N$11),\"\"))","v":3.9},{"$f":"IFERROR(INDEX(РВД!$D:$I,MATCH($C59,РВД!$A:$A,)+1,MATCH($N$4+O$11-1,INDEX(РВД!$D:$I,MATCH($C59,РВД!$A:$A,),),)),IF(O60=\"Я\",INDEX('график 7,8'!$B$52:$AF$63,MONTH($AP$3),O$11),\"\"))","v":3.9},{"$f":"IFERROR(INDEX(РВД!$D:$I,MATCH($C59,РВД!$A:$A,)+1,MATCH($N$4+P$11-1,INDEX(РВД!$D:$I,MATCH($C59,РВД!$A:$A,),),)),IF(P60=\"Я\",INDEX('график 7,8'!$B$52:$AF$63,MONTH($AP$3),P$11),\"\"))","v":3.9},{"$f":"IFERROR(INDEX(РВД!$D:$I,MATCH($C59,РВД!$A:$A,)+1,MATCH($N$4+Q$11-1,INDEX(РВД!$D:$I,MATCH($C59,РВД!$A:$A,),),)),IF(Q60=\"Я\",INDEX('график 7,8'!$B$52:$AF$63,MONTH($AP$3),Q$11),\"\"))","v":3.9},{"$f":"IFERROR(INDEX(РВД!$D:$I,MATCH($C59,РВД!$A:$A,)+1,MATCH($N$4+R$11-1,INDEX(РВД!$D:$I,MATCH($C59,РВД!$A:$A,),),)),IF(R60=\"Я\",INDEX('график 7,8'!$B$52:$AF$63,MONTH($AP$3),R$11),\"\"))","v":""},{"$f":"IFERROR(INDEX(РВД!$D:$I,MATCH($C59,РВД!$A:$A,)+1,MATCH($N$4+S$11-1,INDEX(РВД!$D:$I,MATCH($C59,РВД!$A:$A,),),)),IF(S60=\"Я\",INDEX('график 7,8'!$B$52:$AF$63,MONTH($AP$3),S$11),\"\"))","v":""},{"$f":"SUMIF(E60:S60,\"Я\",E59:S59)","v":35.099999999999994},{"$f":"IFERROR(INDEX(РВД!$D:$I,MATCH($C59,РВД!$A:$A,)+1,MATCH($N$4+U$11-1,INDEX(РВД!$D:$I,MATCH($C59,РВД!$A:$A,),),)),IF(U60=\"Я\",INDEX('график 7,8'!$B$52:$AF$63,MONTH($AP$3),U$11),\"\"))","v":3.9},{"$f":"IFERROR(INDEX(РВД!$D:$I,MATCH($C59,РВД!$A:$A,)+1,MATCH($N$4+V$11-1,INDEX(РВД!$D:$I,MATCH($C59,РВД!$A:$A,),),)),IF(V60=\"Я\",INDEX('график 7,8'!$B$52:$AF$63,MONTH($AP$3),V$11),\"\"))","v":3.9},{"$f":"IFERROR(INDEX(РВД!$D:$I,MATCH($C59,РВД!$A:$A,)+1,MATCH($N$4+W$11-1,INDEX(РВД!$D:$I,MATCH($C59,РВД!$A:$A,),),)),IF(W60=\"Я\",INDEX('график 7,8'!$B$52:$AF$63,MONTH($AP$3),W$11),\"\"))","v":3.9},{"$f":"IFERROR(INDEX(РВД!$D:$I,MATCH($C59,РВД!$A:$A,)+1,MATCH($N$4+X$11-1,INDEX(РВД!$D:$I,MATCH($C59,РВД!$A:$A,),),)),IF(X60=\"Я\",INDEX('график 7,8'!$B$52:$AF$63,MONTH($AP$3),X$11),\"\"))","v":3.9},{"$f":"IFERROR(INDEX(РВД!$D:$I,MATCH($C59,РВД!$A:$A,)+1,MATCH($N$4+Y$11-1,INDEX(РВД!$D:$I,MATCH($C59,РВД!$A:$A,),),)),IF(Y60=\"Я\",INDEX('график 7,8'!$B$52:$AF$63,MONTH($AP$3),Y$11),\"\"))","v":3.9},{"$f":"IFERROR(INDEX(РВД!$D:$I,MATCH($C59,РВД!$A:$A,)+1,MATCH($N$4+Z$11-1,INDEX(РВД!$D:$I,MATCH($C59,РВД!$A:$A,),),)),IF(Z60=\"Я\",INDEX('график 7,8'!$B$52:$AF$63,MONTH($AP$3),Z$11),\"\"))","v":""},{"$f":"IFERROR(INDEX(РВД!$D:$I,MATCH($C59,РВД!$A:$A,)+1,MATCH($N$4+AA$11-1,INDEX(РВД!$D:$I,MATCH($C59,РВД!$A:$A,),),)),IF(AA60=\"Я\",INDEX('график 7,8'!$B$52:$AF$63,MONTH($AP$3),AA$11),\"\"))","v":""},{"$f":"IFERROR(INDEX(РВД!$D:$I,MATCH($C59,РВД!$A:$A,)+1,MATCH($N$4+AB$11-1,INDEX(РВД!$D:$I,MATCH($C59,РВД!$A:$A,),),)),IF(AB60=\"Я\",INDEX('график 7,8'!$B$52:$AF$63,MONTH($AP$3),AB$11),\"\"))","v":3.9},{"$f":"IFERROR(INDEX(РВД!$D:$I,MATCH($C59,РВД!$A:$A,)+1,MATCH($N$4+AC$11-1,INDEX(РВД!$D:$I,MATCH($C59,РВД!$A:$A,),),)),IF(AC60=\"Я\",INDEX('график 7,8'!$B$52:$AF$63,MONTH($AP$3),AC$11),\"\"))","v":3.9},{"$f":"IFERROR(INDEX(РВД!$D:$I,MATCH($C59,РВД!$A:$A,)+1,MATCH($N$4+AD$11-1,INDEX(РВД!$D:$I,MATCH($C59,РВД!$A:$A,),),)),IF(AD60=\"Я\",INDEX('график 7,8'!$B$52:$AF$63,MONTH($AP$3),AD$11),\"\"))","v":3.9},{"$f":"IFERROR(INDEX(РВД!$D:$I,MATCH($C59,РВД!$A:$A,)+1,MATCH($N$4+AE$11-1,INDEX(РВД!$D:$I,MATCH($C59,РВД!$A:$A,),),)),IF(AE60=\"Я\",INDEX('график 7,8'!$B$52:$AF$63,MONTH($AP$3),AE$11),\"\"))","v":3.9},{"$f":"IFERROR(INDEX(РВД!$D:$I,MATCH($C59,РВД!$A:$A,)+1,MATCH($N$4+AF$11-1,INDEX(РВД!$D:$I,MATCH($C59,РВД!$A:$A,),),)),IF(AF60=\"Я\",INDEX('график 7,8'!$B$52:$AF$63,MONTH($AP$3),AF$11),\"\"))","v":3.9},{"$f":"IFERROR(INDEX(РВД!$D:$I,MATCH($C59,РВД!$A:$A,)+1,MATCH($N$4+AG$11-1,INDEX(РВД!$D:$I,MATCH($C59,РВД!$A:$A,),),)),IF(AG60=\"Я\",INDEX('график 7,8'!$B$52:$AF$63,MONTH($AP$3),AG$11),\"\"))","v":""},{"$f":"IFERROR(INDEX(РВД!$D:$I,MATCH($C59,РВД!$A:$A,)+1,MATCH($N$4+AH$11-1,INDEX(РВД!$D:$I,MATCH($C59,РВД!$A:$A,),),)),IF(AH60=\"Я\",INDEX('график 7,8'!$B$52:$AF$63,MONTH($AP$3),AH$11),\"\"))","v":""},{"$f":"IFERROR(INDEX(РВД!$D:$I,MATCH($C59,РВД!$A:$A,)+1,MATCH($N$4+AI$11-1,INDEX(РВД!$D:$I,MATCH($C59,РВД!$A:$A,),),)),IF(AI60=\"Я\",INDEX('график 7,8'!$B$52:$AF$63,MONTH($AP$3),AI$11),\"\"))","v":3.9},{"$f":"IFERROR(INDEX(РВД!$D:$I,MATCH($C59,РВД!$A:$A,)+1,MATCH($N$4+AJ$11-1,INDEX(РВД!$D:$I,MATCH($C59,РВД!$A:$A,),),)),IF(AJ60=\"Я\",INDEX('график 7,8'!$B$52:$AF$63,MONTH($AP$3),AJ$11),\"\"))","v":3.9},{"$f":"\"Я/\"&SUMIF(E60:AJ60,\"Я\",E59:AJ59)","v":"Я/81,9"},{"$f":"(SUMIF(E60:AJ60,\"В\",E59:AJ59)+SUMIF(E60:AJ60,\"В.\",E59:AJ59))*2","v":0},{"$f":"COUNTIFS(E60:AJ60,\"Я\",E59:AJ59,\"<>\")","v":21},{"$f":"IFERROR(VLOOKUP(C59,доплаты!$A$5:$P$118,16,0),\"\")","v":"28"}]
[null,null,null,null,{"$f":"TRIM(LEFT(TRIM(INDEX(отсутствия!$N:$AR,MATCH($C59,отсутствия!$A:$A,),E$11)&\" \"&TEXT(INDEX('график 7,8'!$B$52:$AF$63,MONTH($AP$3),E$11)&\"\",\"Я\")),2))","v":"В"},{"$f":"TRIM(LEFT(TRIM(INDEX(отсутствия!$N:$AR,MATCH($C59,отсутствия!$A:$A,),F$11)&\" \"&TEXT(INDEX('график 7,8'!$B$52:$AF$63,MONTH($AP$3),F$11)&\"\",\"Я\")),2))","v":"Я"},{"$f":"TRIM(LEFT(TRIM(INDEX(отсутствия!$N:$AR,MATCH($C59,отсутствия!$A:$A,),G$11)&\" \"&TEXT(INDEX('график 7,8'!$B$52:$AF$63,MONTH($AP$3),G$11)&\"\",\"Я\")),2))","v":"Я"},{"$f":"TRIM(LEFT(TRIM(INDEX(отсутствия!$N:$AR,MATCH($C59,отсутствия!$A:$A,),H$11)&\" \"&TEXT(INDEX('график 7,8'!$B$52:$AF$63,MONTH($AP$3),H$11)&\"\",\"Я\")),2))","v":"Я"},{"$f":"TRIM(LEFT(TRIM(INDEX(отсутствия!$N:$AR,MATCH($C59,отсутствия!$A:$A,),I$11)&\" \"&TEXT(INDEX('график 7,8'!$B$52:$AF$63,MONTH($AP$3),I$11)&\"\",\"Я\")),2))","v":"Я"},{"$f":"TRIM(LEFT(TRIM(INDEX(отсутствия!$N:$AR,MATCH($C59,отсутствия!$A:$A,),J$11)&\" \"&TEXT(INDEX('график 7,8'!$B$52:$AF$63,MONTH($AP$3),J$11)&\"\",\"Я\")),2))","v":"Я"},{"$f":"TRIM(LEFT(TRIM(INDEX(отсутствия!$N:$AR,MATCH($C59,отсутствия!$A:$A,),K$11)&\" \"&TEXT(INDEX('график 7,8'!$B$52:$AF$63,MONTH($AP$3),K$11)&\"\",\"Я\")),2))","v":"В"},{"$f":"TRIM(LEFT(TRIM(INDEX(отсутствия!$N:$AR,MATCH($C59,отсутствия!$A:$A,),L$11)&\" \"&TEXT(INDEX('график 7,8'!$B$52:$AF$63,MONTH($AP$3),L$11)&\"\",\"Я\")),2))","v":"В."},{"$f":"TRIM(LEFT(TRIM(INDEX(отсутствия!$N:$AR,MATCH($C59,отсутствия!$A:$A,),M$11)&\" \"&TEXT(INDEX('график 7,8'!$B$52:$AF$63,MONTH($AP$3),M$11)&\"\",\"Я\")),2))","v":"В"},{"$f":"TRIM(LEFT(TRIM(INDEX(отсутствия!$N:$AR,MATCH($C59,отсутствия!$A:$A,),N$11)&\" \"&TEXT(INDEX('график 7,8'!$B$52:$AF$63,MONTH($AP$3),N$11)&\"\",\"Я\")),2))","v":"Я"},{"$f":"TRIM(LEFT(TRIM(INDEX(отсутствия!$N:$AR,MATCH($C59,отсутствия!$A:$A,),O$11)&\" \"&TEXT(INDEX('график 7,8'!$B$52:$AF$63,MONTH($AP$3),O$11)&\"\",\"Я\")),2))","v":"Я"},{"$f":"TRIM(LEFT(TRIM(INDEX(отсутствия!$N:$AR,MATCH($C59,отсутствия!$A:$A,),P$11)&\" \"&TEXT(INDEX('график 7,8'!$B$52:$AF$63,MONTH($AP$3),P$11)&\"\",\"Я\")),2))","v":"Я"},{"$f":"TRIM(LEFT(TRIM(INDEX(отсутствия!$N:$AR,MATCH($C59,отсутствия!$A:$A,),Q$11)&\" \"&TEXT(INDEX('график 7,8'!$B$52:$AF$63,MONTH($AP$3),Q$11)&\"\",\"Я\")),2))","v":"Я"},{"$f":"TRIM(LEFT(TRIM(INDEX(отсутствия!$N:$AR,MATCH($C59,отсутствия!$A:$A,),R$11)&\" \"&TEXT(INDEX('график 7,8'!$B$52:$AF$63,MONTH($AP$3),R$11)&\"\",\"Я\")),2))","v":"В"},{"$f":"TRIM(LEFT(TRIM(INDEX(отсутствия!$N:$AR,MATCH($C59,отсутствия!$A:$A,),S$11)&\" \"&TEXT(INDEX('график 7,8'!$B$52:$AF$63,MONTH($AP$3),S$11)&\"\",\"Я\")),2))","v":"В"},null,{"$f":"TRIM(LEFT(TRIM(INDEX(отсутствия!$N:$AR,MATCH($C59,отсутствия!$A:$A,),U$11)&\" \"&TEXT(INDEX('график 7,8'!$B$52:$AF$63,MONTH($AP$3),U$11)&\"\",\"Я\")),2))","v":"Я"},{"$f":"TRIM(LEFT(TRIM(INDEX(отсутствия!$N:$AR,MATCH($C59,отсутствия!$A:$A,),V$11)&\" \"&TEXT(INDEX('график 7,8'!$B$52:$AF$63,MONTH($AP$3),V$11)&\"\",\"Я\")),2))","v":"Я"},{"$f":"TRIM(LEFT(TRIM(INDEX(отсутствия!$N:$AR,MATCH($C59,отсутствия!$A:$A,),W$11)&\" \"&TEXT(INDEX('график 7,8'!$B$52:$AF$63,MONTH($AP$3),W$11)&\"\",\"Я\")),2))","v":"Я"},{"$f":"TRIM(LEFT(TRIM(INDEX(отсутствия!$N:$AR,MATCH($C59,отсутствия!$A:$A,),X$11)&\" \"&TEXT(INDEX('график 7,8'!$B$52:$AF$63,MONTH($AP$3),X$11)&\"\",\"Я\")),2))","v":"Я"},{"$f":"TRIM(LEFT(TRIM(INDEX(отсутствия!$N:$AR,MATCH($C59,отсутствия!$A:$A,),Y$11)&\" \"&TEXT(INDEX('график 7,8'!$B$52:$AF$63,MONTH($AP$3),Y$11)&\"\",\"Я\")),2))","v":"Я"},{"$f":"TRIM(LEFT(TRIM(INDEX(отсутствия!$N:$AR,MATCH($C59,отсутствия!$A:$A,),Z$11)&\" \"&TEXT(INDEX('график 7,8'!$B$52:$AF$63,MONTH($AP$3),Z$11)&\"\",\"Я\")),2))","v":"В"},{"$f":"TRIM(LEFT(TRIM(INDEX(отсутствия!$N:$AR,MATCH($C59,отсутствия!$A:$A,),AA$11)&\" \"&TEXT(INDEX('график 7,8'!$B$52:$AF$63,MONTH($AP$3),AA$11)&\"\",\"Я\")),2))","v":"В"},{"$f":"TRIM(LEFT(TRIM(INDEX(отсутствия!$N:$AR,MATCH($C59,отсутствия!$A:$A,),AB$11)&\" \"&TEXT(INDEX('график 7,8'!$B$52:$AF$63,MONTH($AP$3),AB$11)&\"\",\"Я\")),2))","v":"Я"},{"$f":"TRIM(LEFT(TRIM(INDEX(отсутствия!$N:$AR,MATCH($C59,отсутствия!$A:$A,),AC$11)&\" \"&TEXT(INDEX('график 7,8'!$B$52:$AF$63,MONTH($AP$3),AC$11)&\"\",\"Я\")),2))","v":"Я"},{"$f":"TRIM(LEFT(TRIM(INDEX(отсутствия!$N:$AR,MATCH($C59,отсутствия!$A:$A,),AD$11)&\" \"&TEXT(INDEX('график 7,8'!$B$52:$AF$63,MONTH($AP$3),AD$11)&\"\",\"Я\")),2))","v":"Я"},{"$f":"TRIM(LEFT(TRIM(INDEX(отсутствия!$N:$AR,MATCH($C59,отсутствия!$A:$A,),AE$11)&\" \"&TEXT(INDEX('график 7,8'!$B$52:$AF$63,MONTH($AP$3),AE$11)&\"\",\"Я\")),2))","v":"Я"},{"$f":"TRIM(LEFT(TRIM(INDEX(отсутствия!$N:$AR,MATCH($C59,отсутствия!$A:$A,),AF$11)&\" \"&TEXT(INDEX('график 7,8'!$B$52:$AF$63,MONTH($AP$3),AF$11)&\"\",\"Я\")),2))","v":"Я"},{"$f":"TRIM(LEFT(TRIM(INDEX(отсутствия!$N:$AR,MATCH($C59,отсутствия!$A:$A,),AG$11)&\" \"&TEXT(INDEX('график 7,8'!$B$52:$AF$63,MONTH($AP$3),AG$11)&\"\",\"Я\")),2))","v":"В"},{"$f":"TRIM(LEFT(TRIM(INDEX(отсутствия!$N:$AR,MATCH($C59,отсутствия!$A:$A,),AH$11)&\" \"&TEXT(INDEX('график 7,8'!$B$52:$AF$63,MONTH($AP$3),AH$11)&\"\",\"Я\")),2))","v":"В"},{"$f":"TRIM(LEFT(TRIM(INDEX(отсутствия!$N:$AR,MATCH($C59,отсутствия!$A:$A,),AI$11)&\" \"&TEXT(INDEX('график 7,8'!$B$52:$AF$63,MONTH($AP$3),AI$11)&\"\",\"Я\")),2))","v":"Я"},{"$f":"TRIM(LEFT(TRIM(INDEX(отсутствия!$N:$AR,MATCH($C59,отсутствия!$A:$A,),AJ$11)&\" \"&TEXT(INDEX('график 7,8'!$B$52:$AF$63,MONTH($AP$3),AJ$11)&\"\",\"Я\")),2))","v":"Я"}]
[5147,"Королев",5147,"сборная",{"$f":"IFERROR(INDEX(РВД!$D:$I,MATCH($C61,РВД!$A:$A,)+1,MATCH($N$4+E$11-1,INDEX(РВД!$D:$I,MATCH($C61,РВД!$A:$A,),),)),IF(E62=\"Я\",INDEX('график 7,8'!$B$52:$AF$63,MONTH($AP$3),E$11),\"\"))","v":""},{"$f":"IFERROR(INDEX(РВД!$D:$I,MATCH($C61,РВД!$A:$A,)+1,MATCH($N$4+F$11-1,INDEX(РВД!$D:$I,MATCH($C61,РВД!$A:$A,),),)),IF(F62=\"Я\",INDEX('график 7,8'!$B$52:$AF$63,MONTH($AP$3),F$11),\"\"))","v":3.9},{"$f":"IFERROR(INDEX(РВД!$D:$I,MATCH($C61,РВД!$A:$A,)+1,MATCH($N$4+G$11-1,INDEX(РВД!$D:$I,MATCH($C61,РВД!$A:$A,),),)),IF(G62=\"Я\",INDEX('график 7,8'!$B$52:$AF$63,MONTH($AP$3),G$11),\"\"))","v":3.9},{"$f":"IFERROR(INDEX(РВД!$D:$I,MATCH($C61,РВД!$A:$A,)+1,MATCH($N$4+H$11-1,INDEX(РВД!$D:$I,MATCH($C61,РВД!$A:$A,),),)),IF(H62=\"Я\",INDEX('график 7,8'!$B$52:$AF$63,MONTH($AP$3),H$11),\"\"))","v":3.9},{"$f":"IFERROR(INDEX(РВД!$D:$I,MATCH($C61,РВД!$A:$A,)+1,MATCH($N$4+I$11-1,INDEX(РВД!$D:$I,MATCH($C61,РВД!$A:$A,),),)),IF(I62=\"Я\",INDEX('график 7,8'!$B$52:$AF$63,MONTH($AP$3),I$11),\"\"))","v":3.9},{"$f":"IFERROR(INDEX(РВД!$D:$I,MATCH($C61,РВД!$A:$A,)+1,MATCH($N$4+J$11-1,INDEX(РВД!$D:$I,MATCH($C61,РВД!$A:$A,),),)),IF(J62=\"Я\",INDEX('график 7,8'!$B$52:$AF$63,MONTH($AP$3),J$11),\"\"))","v":3.9},{"$f":"IFERROR(INDEX(РВД!$D:$I,MATCH($C61,РВД!$A:$A,)+1,MATCH($N$4+K$11-1,INDEX(РВД!$D:$I,MATCH($C61,РВД!$A:$A,),),)),IF(K62=\"Я\",INDEX('график 7,8'!$B$52:$AF$63,MONTH($AP$3),K$11),\"\"))","v":""},{"$f":"IFERROR(INDEX(РВД!$D:$I,MATCH($C61,РВД!$A:$A,)+1,MATCH($N$4+L$11-1,INDEX(РВД!$D:$I,MATCH($C61,РВД!$A:$A,),),)),IF(L62=\"Я\",INDEX('график 7,8'!$B$52:$AF$63,MONTH($AP$3),L$11),\"\"))","v":""},{"$f":"IFERROR(INDEX(РВД!$D:$I,MATCH($C61,РВД!$A:$A,)+1,MATCH($N$4+M$11-1,INDEX(РВД!$D:$I,MATCH($C61,РВД!$A:$A,),),)),IF(M62=\"Я\",INDEX('график 7,8'!$B$52:$AF$63,MONTH($AP$3),M$11),\"\"))","v":""},{"$f":"IFERROR(INDEX(РВД!$D:$I,MATCH($C61,РВД!$A:$A,)+1,MATCH($N$4+N$11-1,INDEX(РВД!$D:$I,MATCH($C61,РВД!$A:$A,),),)),IF(N62=\"Я\",INDEX('график 7,8'!$B$52:$AF$63,MONTH($AP$3),N$11),\"\"))","v":3.9},{"$f":"IFERROR(INDEX(РВД!$D:$I,MATCH($C61,РВД!$A:$A,)+1,MATCH($N$4+O$11-1,INDEX(РВД!$D:$I,MATCH($C61,РВД!$A:$A,),),)),IF(O62=\"Я\",INDEX('график 7,8'!$B$52:$AF$63,MONTH($AP$3),O$11),\"\"))","v":3.9},{"$f":"IFERROR(INDEX(РВД!$D:$I,MATCH($C61,РВД!$A:$A,)+1,MATCH($N$4+P$11-1,INDEX(РВД!$D:$I,MATCH($C61,РВД!$A:$A,),),)),IF(P62=\"Я\",INDEX('график 7,8'!$B$52:$AF$63,MONTH($AP$3),P$11),\"\"))","v":3.9},{"$f":"IFERROR(INDEX(РВД!$D:$I,MATCH($C61,РВД!$A:$A,)+1,MATCH($N$4+Q$11-1,INDEX(РВД!$D:$I,MATCH($C61,РВД!$A:$A,),),)),IF(Q62=\"Я\",INDEX('график 7,8'!$B$52:$AF$63,MONTH($AP$3),Q$11),\"\"))","v":3.9},{"$f":"IFERROR(INDEX(РВД!$D:$I,MATCH($C61,РВД!$A:$A,)+1,MATCH($N$4+R$11-1,INDEX(РВД!$D:$I,MATCH($C61,РВД!$A:$A,),),)),IF(R62=\"Я\",INDEX('график 7,8'!$B$52:$AF$63,MONTH($AP$3),R$11),\"\"))","v":""},{"$f":"IFERROR(INDEX(РВД!$D:$I,MATCH($C61,РВД!$A:$A,)+1,MATCH($N$4+S$11-1,INDEX(РВД!$D:$I,MATCH($C61,РВД!$A:$A,),),)),IF(S62=\"Я\",INDEX('график 7,8'!$B$52:$AF$63,MONTH($AP$3),S$11),\"\"))","v":""},{"$f":"SUMIF(E62:S62,\"Я\",E61:S61)","v":35.099999999999994},{"$f":"IFERROR(INDEX(РВД!$D:$I,MATCH($C61,РВД!$A:$A,)+1,MATCH($N$4+U$11-1,INDEX(РВД!$D:$I,MATCH($C61,РВД!$A:$A,),),)),IF(U62=\"Я\",INDEX('график 7,8'!$B$52:$AF$63,MONTH($AP$3),U$11),\"\"))","v":3.9},{"$f":"IFERROR(INDEX(РВД!$D:$I,MATCH($C61,РВД!$A:$A,)+1,MATCH($N$4+V$11-1,INDEX(РВД!$D:$I,MATCH($C61,РВД!$A:$A,),),)),IF(V62=\"Я\",INDEX('график 7,8'!$B$52:$AF$63,MONTH($AP$3),V$11),\"\"))","v":3.9},{"$f":"IFERROR(INDEX(РВД!$D:$I,MATCH($C61,РВД!$A:$A,)+1,MATCH($N$4+W$11-1,INDEX(РВД!$D:$I,MATCH($C61,РВД!$A:$A,),),)),IF(W62=\"Я\",INDEX('график 7,8'!$B$52:$AF$63,MONTH($AP$3),W$11),\"\"))","v":3.9},{"$f":"IFERROR(INDEX(РВД!$D:$I,MATCH($C61,РВД!$A:$A,)+1,MATCH($N$4+X$11-1,INDEX(РВД!$D:$I,MATCH($C61,РВД!$A:$A,),),)),IF(X62=\"Я\",INDEX('график 7,8'!$B$52:$AF$63,MONTH($AP$3),X$11),\"\"))","v":3.9},{"$f":"IFERROR(INDEX(РВД!$D:$I,MATCH($C61,РВД!$A:$A,)+1,MATCH($N$4+Y$11-1,INDEX(РВД!$D:$I,MATCH($C61,РВД!$A:$A,),),)),IF(Y62=\"Я\",INDEX('график 7,8'!$B$52:$AF$63,MONTH($AP$3),Y$11),\"\"))","v":3.9},{"$f":"IFERROR(INDEX(РВД!$D:$I,MATCH($C61,РВД!$A:$A,)+1,MATCH($N$4+Z$11-1,INDEX(РВД!$D:$I,MATCH($C61,РВД!$A:$A,),),)),IF(Z62=\"Я\",INDEX('график 7,8'!$B$52:$AF$63,MONTH($AP$3),Z$11),\"\"))","v":""},{"$f":"IFERROR(INDEX(РВД!$D:$I,MATCH($C61,РВД!$A:$A,)+1,MATCH($N$4+AA$11-1,INDEX(РВД!$D:$I,MATCH($C61,РВД!$A:$A,),),)),IF(AA62=\"Я\",INDEX('график 7,8'!$B$52:$AF$63,MONTH($AP$3),AA$11),\"\"))","v":""},{"$f":"IFERROR(INDEX(РВД!$D:$I,MATCH($C61,РВД!$A:$A,)+1,MATCH($N$4+AB$11-1,INDEX(РВД!$D:$I,MATCH($C61,РВД!$A:$A,),),)),IF(AB62=\"Я\",INDEX('график 7,8'!$B$52:$AF$63,MONTH($AP$3),AB$11),\"\"))","v":3.9},{"$f":"IFERROR(INDEX(РВД!$D:$I,MATCH($C61,РВД!$A:$A,)+1,MATCH($N$4+AC$11-1,INDEX(РВД!$D:$I,MATCH($C61,РВД!$A:$A,),),)),IF(AC62=\"Я\",INDEX('график 7,8'!$B$52:$AF$63,MONTH($AP$3),AC$11),\"\"))","v":3.9},{"$f":"IFERROR(INDEX(РВД!$D:$I,MATCH($C61,РВД!$A:$A,)+1,MATCH($N$4+AD$11-1,INDEX(РВД!$D:$I,MATCH($C61,РВД!$A:$A,),),)),IF(AD62=\"Я\",INDEX('график 7,8'!$B$52:$AF$63,MONTH($AP$3),AD$11),\"\"))","v":3.9},{"$f":"IFERROR(INDEX(РВД!$D:$I,MATCH($C61,РВД!$A:$A,)+1,MATCH($N$4+AE$11-1,INDEX(РВД!$D:$I,MATCH($C61,РВД!$A:$A,),),)),IF(AE62=\"Я\",INDEX('график 7,8'!$B$52:$AF$63,MONTH($AP$3),AE$11),\"\"))","v":3.9},{"$f":"IFERROR(INDEX(РВД!$D:$I,MATCH($C61,РВД!$A:$A,)+1,MATCH($N$4+AF$11-1,INDEX(РВД!$D:$I,MATCH($C61,РВД!$A:$A,),),)),IF(AF62=\"Я\",INDEX('график 7,8'!$B$52:$AF$63,MONTH($AP$3),AF$11),\"\"))","v":3.9},{"$f":"IFERROR(INDEX(РВД!$D:$I,MATCH($C61,РВД!$A:$A,)+1,MATCH($N$4+AG$11-1,INDEX(РВД!$D:$I,MATCH($C61,РВД!$A:$A,),),)),IF(AG62=\"Я\",INDEX('график 7,8'!$B$52:$AF$63,MONTH($AP$3),AG$11),\"\"))","v":""},{"$f":"IFERROR(INDEX(РВД!$D:$I,MATCH($C61,РВД!$A:$A,)+1,MATCH($N$4+AH$11-1,INDEX(РВД!$D:$I,MATCH($C61,РВД!$A:$A,),),)),IF(AH62=\"Я\",INDEX('график 7,8'!$B$52:$AF$63,MONTH($AP$3),AH$11),\"\"))","v":""},{"$f":"IFERROR(INDEX(РВД!$D:$I,MATCH($C61,РВД!$A:$A,)+1,MATCH($N$4+AI$11-1,INDEX(РВД!$D:$I,MATCH($C61,РВД!$A:$A,),),)),IF(AI62=\"Я\",INDEX('график 7,8'!$B$52:$AF$63,MONTH($AP$3),AI$11),\"\"))","v":3.9},{"$f":"IFERROR(INDEX(РВД!$D:$I,MATCH($C61,РВД!$A:$A,)+1,MATCH($N$4+AJ$11-1,INDEX(РВД!$D:$I,MATCH($C61,РВД!$A:$A,),),)),IF(AJ62=\"Я\",INDEX('график 7,8'!$B$52:$AF$63,MONTH($AP$3),AJ$11),\"\"))","v":3.9},{"$f":"\"Я/\"&SUMIF(E62:AJ62,\"Я\",E61:AJ61)","v":"Я/81,9"},{"$f":"(SUMIF(E62:AJ62,\"В\",E61:AJ61)+SUMIF(E62:AJ62,\"В.\",E61:AJ61))*2","v":0},{"$f":"COUNTIFS(E62:AJ62,\"Я\",E61:AJ61,\"<>\")","v":21},{"$f":"IFERROR(VLOOKUP(C61,доплаты!$A$5:$P$118,16,0),\"\")","v":"100"}]
[null,null,null,null,{"$f":"TRIM(LEFT(TRIM(INDEX(отсутствия!$N:$AR,MATCH($C61,отсутствия!$A:$A,),E$11)&\" \"&TEXT(INDEX('график 7,8'!$B$52:$AF$63,MONTH($AP$3),E$11)&\"\",\"Я\")),2))","v":"В"},{"$f":"TRIM(LEFT(TRIM(INDEX(отсутствия!$N:$AR,MATCH($C61,отсутствия!$A:$A,),F$11)&\" \"&TEXT(INDEX('график 7,8'!$B$52:$AF$63,MONTH($AP$3),F$11)&\"\",\"Я\")),2))","v":"Я"},{"$f":"TRIM(LEFT(TRIM(INDEX(отсутствия!$N:$AR,MATCH($C61,отсутствия!$A:$A,),G$11)&\" \"&TEXT(INDEX('график 7,8'!$B$52:$AF$63,MONTH($AP$3),G$11)&\"\",\"Я\")),2))","v":"Я"},{"$f":"TRIM(LEFT(TRIM(INDEX(отсутствия!$N:$AR,MATCH($C61,отсутствия!$A:$A,),H$11)&\" \"&TEXT(INDEX('график 7,8'!$B$52:$AF$63,MONTH($AP$3),H$11)&\"\",\"Я\")),2))","v":"Я"},{"$f":"TRIM(LEFT(TRIM(INDEX(отсутствия!$N:$AR,MATCH($C61,отсутствия!$A:$A,),I$11)&\" \"&TEXT(INDEX('график 7,8'!$B$52:$AF$63,MONTH($AP$3),I$11)&\"\",\"Я\")),2))","v":"Я"},{"$f":"TRIM(LEFT(TRIM(INDEX(отсутствия!$N:$AR,MATCH($C61,отсутствия!$A:$A,),J$11)&\" \"&TEXT(INDEX('график 7,8'!$B$52:$AF$63,MONTH($AP$3),J$11)&\"\",\"Я\")),2))","v":"Я"},{"$f":"TRIM(LEFT(TRIM(INDEX(отсутствия!$N:$AR,MATCH($C61,отсутствия!$A:$A,),K$11)&\" \"&TEXT(INDEX('график 7,8'!$B$52:$AF$63,MONTH($AP$3),K$11)&\"\",\"Я\")),2))","v":"В"},{"$f":"TRIM(LEFT(TRIM(INDEX(отсутствия!$N:$AR,MATCH($C61,отсутствия!$A:$A,),L$11)&\" \"&TEXT(INDEX('график 7,8'!$B$52:$AF$63,MONTH($AP$3),L$11)&\"\",\"Я\")),2))","v":"В."},{"$f":"TRIM(LEFT(TRIM(INDEX(отсутствия!$N:$AR,MATCH($C61,отсутствия!$A:$A,),M$11)&\" \"&TEXT(INDEX('график 7,8'!$B$52:$AF$63,MONTH($AP$3),M$11)&\"\",\"Я\")),2))","v":"В"},{"$f":"TRIM(LEFT(TRIM(INDEX(отсутствия!$N:$AR,MATCH($C61,отсутствия!$A:$A,),N$11)&\" \"&TEXT(INDEX('график 7,8'!$B$52:$AF$63,MONTH($AP$3),N$11)&\"\",\"Я\")),2))","v":"Я"},{"$f":"TRIM(LEFT(TRIM(INDEX(отсутствия!$N:$AR,MATCH($C61,отсутствия!$A:$A,),O$11)&\" \"&TEXT(INDEX('график 7,8'!$B$52:$AF$63,MONTH($AP$3),O$11)&\"\",\"Я\")),2))","v":"Я"},{"$f":"TRIM(LEFT(TRIM(INDEX(отсутствия!$N:$AR,MATCH($C61,отсутствия!$A:$A,),P$11)&\" \"&TEXT(INDEX('график 7,8'!$B$52:$AF$63,MONTH($AP$3),P$11)&\"\",\"Я\")),2))","v":"Я"},{"$f":"TRIM(LEFT(TRIM(INDEX(отсутствия!$N:$AR,MATCH($C61,отсутствия!$A:$A,),Q$11)&\" \"&TEXT(INDEX('график 7,8'!$B$52:$AF$63,MONTH($AP$3),Q$11)&\"\",\"Я\")),2))","v":"Я"},{"$f":"TRIM(LEFT(TRIM(INDEX(отсутствия!$N:$AR,MATCH($C61,отсутствия!$A:$A,),R$11)&\" \"&TEXT(INDEX('график 7,8'!$B$52:$AF$63,MONTH($AP$3),R$11)&\"\",\"Я\")),2))","v":"В"},{"$f":"TRIM(LEFT(TRIM(INDEX(отсутствия!$N:$AR,MATCH($C61,отсутствия!$A:$A,),S$11)&\" \"&TEXT(INDEX('график 7,8'!$B$52:$AF$63,MONTH($AP$3),S$11)&\"\",\"Я\")),2))","v":"В"},null,{"$f":"TRIM(LEFT(TRIM(INDEX(отсутствия!$N:$AR,MATCH($C61,отсутствия!$A:$A,),U$11)&\" \"&TEXT(INDEX('график 7,8'!$B$52:$AF$63,MONTH($AP$3),U$11)&\"\",\"Я\")),2))","v":"Я"},{"$f":"TRIM(LEFT(TRIM(INDEX(отсутствия!$N:$AR,MATCH($C61,отсутствия!$A:$A,),V$11)&\" \"&TEXT(INDEX('график 7,8'!$B$52:$AF$63,MONTH($AP$3),V$11)&\"\",\"Я\")),2))","v":"Я"},{"$f":"TRIM(LEFT(TRIM(INDEX(отсутствия!$N:$AR,MATCH($C61,отсутствия!$A:$A,),W$11)&\" \"&TEXT(INDEX('график 7,8'!$B$52:$AF$63,MONTH($AP$3),W$11)&\"\",\"Я\")),2))","v":"Я"},{"$f":"TRIM(LEFT(TRIM(INDEX(отсутствия!$N:$AR,MATCH($C61,отсутствия!$A:$A,),X$11)&\" \"&TEXT(INDEX('график 7,8'!$B$52:$AF$63,MONTH($AP$3),X$11)&\"\",\"Я\")),2))","v":"Я"},{"$f":"TRIM(LEFT(TRIM(INDEX(отсутствия!$N:$AR,MATCH($C61,отсутствия!$A:$A,),Y$11)&\" \"&TEXT(INDEX('график 7,8'!$B$52:$AF$63,MONTH($AP$3),Y$11)&\"\",\"Я\")),2))","v":"Я"},{"$f":"TRIM(LEFT(TRIM(INDEX(отсутствия!$N:$AR,MATCH($C61,отсутствия!$A:$A,),Z$11)&\" \"&TEXT(INDEX('график 7,8'!$B$52:$AF$63,MONTH($AP$3),Z$11)&\"\",\"Я\")),2))","v":"В"},{"$f":"TRIM(LEFT(TRIM(INDEX(отсутствия!$N:$AR,MATCH($C61,отсутствия!$A:$A,),AA$11)&\" \"&TEXT(INDEX('график 7,8'!$B$52:$AF$63,MONTH($AP$3),AA$11)&\"\",\"Я\")),2))","v":"В"},{"$f":"TRIM(LEFT(TRIM(INDEX(отсутствия!$N:$AR,MATCH($C61,отсутствия!$A:$A,),AB$11)&\" \"&TEXT(INDEX('график 7,8'!$B$52:$AF$63,MONTH($AP$3),AB$11)&\"\",\"Я\")),2))","v":"Я"},{"$f":"TRIM(LEFT(TRIM(INDEX(отсутствия!$N:$AR,MATCH($C61,отсутствия!$A:$A,),AC$11)&\" \"&TEXT(INDEX('график 7,8'!$B$52:$AF$63,MONTH($AP$3),AC$11)&\"\",\"Я\")),2))","v":"Я"},{"$f":"TRIM(LEFT(TRIM(INDEX(отсутствия!$N:$AR,MATCH($C61,отсутствия!$A:$A,),AD$11)&\" \"&TEXT(INDEX('график 7,8'!$B$52:$AF$63,MONTH($AP$3),AD$11)&\"\",\"Я\")),2))","v":"Я"},{"$f":"TRIM(LEFT(TRIM(INDEX(отсутствия!$N:$AR,MATCH($C61,отсутствия!$A:$A,),AE$11)&\" \"&TEXT(INDEX('график 7,8'!$B$52:$AF$63,MONTH($AP$3),AE$11)&\"\",\"Я\")),2))","v":"Я"},{"$f":"TRIM(LEFT(TRIM(INDEX(отсутствия!$N:$AR,MATCH($C61,отсутствия!$A:$A,),AF$11)&\" \"&TEXT(INDEX('график 7,8'!$B$52:$AF$63,MONTH($AP$3),AF$11)&\"\",\"Я\")),2))","v":"Я"},{"$f":"TRIM(LEFT(TRIM(INDEX(отсутствия!$N:$AR,MATCH($C61,отсутствия!$A:$A,),AG$11)&\" \"&TEXT(INDEX('график 7,8'!$B$52:$AF$63,MONTH($AP$3),AG$11)&\"\",\"Я\")),2))","v":"В"},{"$f":"TRIM(LEFT(TRIM(INDEX(отсутствия!$N:$AR,MATCH($C61,отсутствия!$A:$A,),AH$11)&\" \"&TEXT(INDEX('график 7,8'!$B$52:$AF$63,MONTH($AP$3),AH$11)&\"\",\"Я\")),2))","v":"В"},{"$f":"TRIM(LEFT(TRIM(INDEX(отсутствия!$N:$AR,MATCH($C61,отсутствия!$A:$A,),AI$11)&\" \"&TEXT(INDEX('график 7,8'!$B$52:$AF$63,MONTH($AP$3),AI$11)&\"\",\"Я\")),2))","v":"Я"},{"$f":"TRIM(LEFT(TRIM(INDEX(отсутствия!$N:$AR,MATCH($C61,отсутствия!$A:$A,),AJ$11)&\" \"&TEXT(INDEX('график 7,8'!$B$52:$AF$63,MONTH($AP$3),AJ$11)&\"\",\"Я\")),2))","v":"Я"}]
[5055,"Орлов",5055,"сборная",{"$f":"IFERROR(INDEX(РВД!$D:$I,MATCH($C63,РВД!$A:$A,)+1,MATCH($N$4+E$11-1,INDEX(РВД!$D:$I,MATCH($C63,РВД!$A:$A,),),)),IF(E64=\"Я\",INDEX('график 7,8'!$B$52:$AF$63,MONTH($AP$3),E$11),\"\"))","v":""},{"$f":"IFERROR(INDEX(РВД!$D:$I,MATCH($C63,РВД!$A:$A,)+1,MATCH($N$4+F$11-1,INDEX(РВД!$D:$I,MATCH($C63,РВД!$A:$A,),),)),IF(F64=\"Я\",INDEX('график 7,8'!$B$52:$AF$63,MONTH($AP$3),F$11),\"\"))","v":3.9},{"$f":"IFERROR(INDEX(РВД!$D:$I,MATCH($C63,РВД!$A:$A,)+1,MATCH($N$4+G$11-1,INDEX(РВД!$D:$I,MATCH($C63,РВД!$A:$A,),),)),IF(G64=\"Я\",INDEX('график 7,8'!$B$52:$AF$63,MONTH($AP$3),G$11),\"\"))","v":3.9},{"$f":"IFERROR(INDEX(РВД!$D:$I,MATCH($C63,РВД!$A:$A,)+1,MATCH($N$4+H$11-1,INDEX(РВД!$D:$I,MATCH($C63,РВД!$A:$A,),),)),IF(H64=\"Я\",INDEX('график 7,8'!$B$52:$AF$63,MONTH($AP$3),H$11),\"\"))","v":3.9},{"$f":"IFERROR(INDEX(РВД!$D:$I,MATCH($C63,РВД!$A:$A,)+1,MATCH($N$4+I$11-1,INDEX(РВД!$D:$I,MATCH($C63,РВД!$A:$A,),),)),IF(I64=\"Я\",INDEX('график 7,8'!$B$52:$AF$63,MONTH($AP$3),I$11),\"\"))","v":3.9},{"$f":"IFERROR(INDEX(РВД!$D:$I,MATCH($C63,РВД!$A:$A,)+1,MATCH($N$4+J$11-1,INDEX(РВД!$D:$I,MATCH($C63,РВД!$A:$A,),),)),IF(J64=\"Я\",INDEX('график 7,8'!$B$52:$AF$63,MONTH($AP$3),J$11),\"\"))","v":3.9},{"$f":"IFERROR(INDEX(РВД!$D:$I,MATCH($C63,РВД!$A:$A,)+1,MATCH($N$4+K$11-1,INDEX(РВД!$D:$I,MATCH($C63,РВД!$A:$A,),),)),IF(K64=\"Я\",INDEX('график 7,8'!$B$52:$AF$63,MONTH($AP$3),K$11),\"\"))","v":""},{"$f":"IFERROR(INDEX(РВД!$D:$I,MATCH($C63,РВД!$A:$A,)+1,MATCH($N$4+L$11-1,INDEX(РВД!$D:$I,MATCH($C63,РВД!$A:$A,),),)),IF(L64=\"Я\",INDEX('график 7,8'!$B$52:$AF$63,MONTH($AP$3),L$11),\"\"))","v":""},{"$f":"IFERROR(INDEX(РВД!$D:$I,MATCH($C63,РВД!$A:$A,)+1,MATCH($N$4+M$11-1,INDEX(РВД!$D:$I,MATCH($C63,РВД!$A:$A,),),)),IF(M64=\"Я\",INDEX('график 7,8'!$B$52:$AF$63,MONTH($AP$3),M$11),\"\"))","v":""},{"$f":"IFERROR(INDEX(РВД!$D:$I,MATCH($C63,РВД!$A:$A,)+1,MATCH($N$4+N$11-1,INDEX(РВД!$D:$I,MATCH($C63,РВД!$A:$A,),),)),IF(N64=\"Я\",INDEX('график 7,8'!$B$52:$AF$63,MONTH($AP$3),N$11),\"\"))","v":3.9},{"$f":"IFERROR(INDEX(РВД!$D:$I,MATCH($C63,РВД!$A:$A,)+1,MATCH($N$4+O$11-1,INDEX(РВД!$D:$I,MATCH($C63,РВД!$A:$A,),),)),IF(O64=\"Я\",INDEX('график 7,8'!$B$52:$AF$63,MONTH($AP$3),O$11),\"\"))","v":3.9},{"$f":"IFERROR(INDEX(РВД!$D:$I,MATCH($C63,РВД!$A:$A,)+1,MATCH($N$4+P$11-1,INDEX(РВД!$D:$I,MATCH($C63,РВД!$A:$A,),),)),IF(P64=\"Я\",INDEX('график 7,8'!$B$52:$AF$63,MONTH($AP$3),P$11),\"\"))","v":3.9},{"$f":"IFERROR(INDEX(РВД!$D:$I,MATCH($C63,РВД!$A:$A,)+1,MATCH($N$4+Q$11-1,INDEX(РВД!$D:$I,MATCH($C63,РВД!$A:$A,),),)),IF(Q64=\"Я\",INDEX('график 7,8'!$B$52:$AF$63,MONTH($AP$3),Q$11),\"\"))","v":3.9},{"$f":"IFERROR(INDEX(РВД!$D:$I,MATCH($C63,РВД!$A:$A,)+1,MATCH($N$4+R$11-1,INDEX(РВД!$D:$I,MATCH($C63,РВД!$A:$A,),),)),IF(R64=\"Я\",INDEX('график 7,8'!$B$52:$AF$63,MONTH($AP$3),R$11),\"\"))","v":""},{"$f":"IFERROR(INDEX(РВД!$D:$I,MATCH($C63,РВД!$A:$A,)+1,MATCH($N$4+S$11-1,INDEX(РВД!$D:$I,MATCH($C63,РВД!$A:$A,),),)),IF(S64=\"Я\",INDEX('график 7,8'!$B$52:$AF$63,MONTH($AP$3),S$11),\"\"))","v":""},{"$f":"SUMIF(E64:S64,\"Я\",E63:S63)","v":35.099999999999994},{"$f":"IFERROR(INDEX(РВД!$D:$I,MATCH($C63,РВД!$A:$A,)+1,MATCH($N$4+U$11-1,INDEX(РВД!$D:$I,MATCH($C63,РВД!$A:$A,),),)),IF(U64=\"Я\",INDEX('график 7,8'!$B$52:$AF$63,MONTH($AP$3),U$11),\"\"))","v":3.9},{"$f":"IFERROR(INDEX(РВД!$D:$I,MATCH($C63,РВД!$A:$A,)+1,MATCH($N$4+V$11-1,INDEX(РВД!$D:$I,MATCH($C63,РВД!$A:$A,),),)),IF(V64=\"Я\",INDEX('график 7,8'!$B$52:$AF$63,MONTH($AP$3),V$11),\"\"))","v":3.9},{"$f":"IFERROR(INDEX(РВД!$D:$I,MATCH($C63,РВД!$A:$A,)+1,MATCH($N$4+W$11-1,INDEX(РВД!$D:$I,MATCH($C63,РВД!$A:$A,),),)),IF(W64=\"Я\",INDEX('график 7,8'!$B$52:$AF$63,MONTH($AP$3),W$11),\"\"))","v":3.9},{"$f":"IFERROR(INDEX(РВД!$D:$I,MATCH($C63,РВД!$A:$A,)+1,MATCH($N$4+X$11-1,INDEX(РВД!$D:$I,MATCH($C63,РВД!$A:$A,),),)),IF(X64=\"Я\",INDEX('график 7,8'!$B$52:$AF$63,MONTH($AP$3),X$11),\"\"))","v":3.9},{"$f":"IFERROR(INDEX(РВД!$D:$I,MATCH($C63,РВД!$A:$A,)+1,MATCH($N$4+Y$11-1,INDEX(РВД!$D:$I,MATCH($C63,РВД!$A:$A,),),)),IF(Y64=\"Я\",INDEX('график 7,8'!$B$52:$AF$63,MONTH($AP$3),Y$11),\"\"))","v":3.9},{"$f":"IFERROR(INDEX(РВД!$D:$I,MATCH($C63,РВД!$A:$A,)+1,MATCH($N$4+Z$11-1,INDEX(РВД!$D:$I,MATCH($C63,РВД!$A:$A,),),)),IF(Z64=\"Я\",INDEX('график 7,8'!$B$52:$AF$63,MONTH($AP$3),Z$11),\"\"))","v":""},{"$f":"IFERROR(INDEX(РВД!$D:$I,MATCH($C63,РВД!$A:$A,)+1,MATCH($N$4+AA$11-1,INDEX(РВД!$D:$I,MATCH($C63,РВД!$A:$A,),),)),IF(AA64=\"Я\",INDEX('график 7,8'!$B$52:$AF$63,MONTH($AP$3),AA$11),\"\"))","v":""},{"$f":"IFERROR(INDEX(РВД!$D:$I,MATCH($C63,РВД!$A:$A,)+1,MATCH($N$4+AB$11-1,INDEX(РВД!$D:$I,MATCH($C63,РВД!$A:$A,),),)),IF(AB64=\"Я\",INDEX('график 7,8'!$B$52:$AF$63,MONTH($AP$3),AB$11),\"\"))","v":3.9},{"$f":"IFERROR(INDEX(РВД!$D:$I,MATCH($C63,РВД!$A:$A,)+1,MATCH($N$4+AC$11-1,INDEX(РВД!$D:$I,MATCH($C63,РВД!$A:$A,),),)),IF(AC64=\"Я\",INDEX('график 7,8'!$B$52:$AF$63,MONTH($AP$3),AC$11),\"\"))","v":3.9},{"$f":"IFERROR(INDEX(РВД!$D:$I,MATCH($C63,РВД!$A:$A,)+1,MATCH($N$4+AD$11-1,INDEX(РВД!$D:$I,MATCH($C63,РВД!$A:$A,),),)),IF(AD64=\"Я\",INDEX('график 7,8'!$B$52:$AF$63,MONTH($AP$3),AD$11),\"\"))","v":3.9},{"$f":"IFERROR(INDEX(РВД!$D:$I,MATCH($C63,РВД!$A:$A,)+1,MATCH($N$4+AE$11-1,INDEX(РВД!$D:$I,MATCH($C63,РВД!$A:$A,),),)),IF(AE64=\"Я\",INDEX('график 7,8'!$B$52:$AF$63,MONTH($AP$3),AE$11),\"\"))","v":3.9},{"$f":"IFERROR(INDEX(РВД!$D:$I,MATCH($C63,РВД!$A:$A,)+1,MATCH($N$4+AF$11-1,INDEX(РВД!$D:$I,MATCH($C63,РВД!$A:$A,),),)),IF(AF64=\"Я\",INDEX('график 7,8'!$B$52:$AF$63,MONTH($AP$3),AF$11),\"\"))","v":3.9},{"$f":"IFERROR(INDEX(РВД!$D:$I,MATCH($C63,РВД!$A:$A,)+1,MATCH($N$4+AG$11-1,INDEX(РВД!$D:$I,MATCH($C63,РВД!$A:$A,),),)),IF(AG64=\"Я\",INDEX('график 7,8'!$B$52:$AF$63,MONTH($AP$3),AG$11),\"\"))","v":""},{"$f":"IFERROR(INDEX(РВД!$D:$I,MATCH($C63,РВД!$A:$A,)+1,MATCH($N$4+AH$11-1,INDEX(РВД!$D:$I,MATCH($C63,РВД!$A:$A,),),)),IF(AH64=\"Я\",INDEX('график 7,8'!$B$52:$AF$63,MONTH($AP$3),AH$11),\"\"))","v":""},{"$f":"IFERROR(INDEX(РВД!$D:$I,MATCH($C63,РВД!$A:$A,)+1,MATCH($N$4+AI$11-1,INDEX(РВД!$D:$I,MATCH($C63,РВД!$A:$A,),),)),IF(AI64=\"Я\",INDEX('график 7,8'!$B$52:$AF$63,MONTH($AP$3),AI$11),\"\"))","v":3.9},{"$f":"IFERROR(INDEX(РВД!$D:$I,MATCH($C63,РВД!$A:$A,)+1,MATCH($N$4+AJ$11-1,INDEX(РВД!$D:$I,MATCH($C63,РВД!$A:$A,),),)),IF(AJ64=\"Я\",INDEX('график 7,8'!$B$52:$AF$63,MONTH($AP$3),AJ$11),\"\"))","v":3.9},{"$f":"\"Я/\"&SUMIF(E64:AJ64,\"Я\",E63:AJ63)","v":"Я/81,9"},{"$f":"(SUMIF(E64:AJ64,\"В\",E63:AJ63)+SUMIF(E64:AJ64,\"В.\",E63:AJ63))*2","v":0},null,{"$f":"IFERROR(VLOOKUP(C63,доплаты!$A$5:$P$118,16,0),\"\")","v":"100"}]
[null,null,null,null,{"$f":"TRIM(LEFT(TRIM(INDEX(отсутствия!$N:$AR,MATCH($C63,отсутствия!$A:$A,),E$11)&\" \"&TEXT(INDEX('график 7,8'!$B$52:$AF$63,MONTH($AP$3),E$11)&\"\",\"Я\")),2))","v":"В"},{"$f":"TRIM(LEFT(TRIM(INDEX(отсутствия!$N:$AR,MATCH($C63,отсутствия!$A:$A,),F$11)&\" \"&TEXT(INDEX('график 7,8'!$B$52:$AF$63,MONTH($AP$3),F$11)&\"\",\"Я\")),2))","v":"Я"},{"$f":"TRIM(LEFT(TRIM(INDEX(отсутствия!$N:$AR,MATCH($C63,отсутствия!$A:$A,),G$11)&\" \"&TEXT(INDEX('график 7,8'!$B$52:$AF$63,MONTH($AP$3),G$11)&\"\",\"Я\")),2))","v":"Я"},{"$f":"TRIM(LEFT(TRIM(INDEX(отсутствия!$N:$AR,MATCH($C63,отсутствия!$A:$A,),H$11)&\" \"&TEXT(INDEX('график 7,8'!$B$52:$AF$63,MONTH($AP$3),H$11)&\"\",\"Я\")),2))","v":"Я"},{"$f":"TRIM(LEFT(TRIM(INDEX(отсутствия!$N:$AR,MATCH($C63,отсутствия!$A:$A,),I$11)&\" \"&TEXT(INDEX('график 7,8'!$B$52:$AF$63,MONTH($AP$3),I$11)&\"\",\"Я\")),2))","v":"Я"},{"$f":"TRIM(LEFT(TRIM(INDEX(отсутствия!$N:$AR,MATCH($C63,отсутствия!$A:$A,),J$11)&\" \"&TEXT(INDEX('график 7,8'!$B$52:$AF$63,MONTH($AP$3),J$11)&\"\",\"Я\")),2))","v":"Я"},{"$f":"TRIM(LEFT(TRIM(INDEX(отсутствия!$N:$AR,MATCH($C63,отсутствия!$A:$A,),K$11)&\" \"&TEXT(INDEX('график 7,8'!$B$52:$AF$63,MONTH($AP$3),K$11)&\"\",\"Я\")),2))","v":"В"},{"$f":"TRIM(LEFT(TRIM(INDEX(отсутствия!$N:$AR,MATCH($C63,отсутствия!$A:$A,),L$11)&\" \"&TEXT(INDEX('график 7,8'!$B$52:$AF$63,MONTH($AP$3),L$11)&\"\",\"Я\")),2))","v":"В."},{"$f":"TRIM(LEFT(TRIM(INDEX(отсутствия!$N:$AR,MATCH($C63,отсутствия!$A:$A,),M$11)&\" \"&TEXT(INDEX('график 7,8'!$B$52:$AF$63,MONTH($AP$3),M$11)&\"\",\"Я\")),2))","v":"В"},{"$f":"TRIM(LEFT(TRIM(INDEX(отсутствия!$N:$AR,MATCH($C63,отсутствия!$A:$A,),N$11)&\" \"&TEXT(INDEX('график 7,8'!$B$52:$AF$63,MONTH($AP$3),N$11)&\"\",\"Я\")),2))","v":"Я"},{"$f":"TRIM(LEFT(TRIM(INDEX(отсутствия!$N:$AR,MATCH($C63,отсутствия!$A:$A,),O$11)&\" \"&TEXT(INDEX('график 7,8'!$B$52:$AF$63,MONTH($AP$3),O$11)&\"\",\"Я\")),2))","v":"Я"},{"$f":"TRIM(LEFT(TRIM(INDEX(отсутствия!$N:$AR,MATCH($C63,отсутствия!$A:$A,),P$11)&\" \"&TEXT(INDEX('график 7,8'!$B$52:$AF$63,MONTH($AP$3),P$11)&\"\",\"Я\")),2))","v":"Я"},{"$f":"TRIM(LEFT(TRIM(INDEX(отсутствия!$N:$AR,MATCH($C63,отсутствия!$A:$A,),Q$11)&\" \"&TEXT(INDEX('график 7,8'!$B$52:$AF$63,MONTH($AP$3),Q$11)&\"\",\"Я\")),2))","v":"Я"},{"$f":"TRIM(LEFT(TRIM(INDEX(отсутствия!$N:$AR,MATCH($C63,отсутствия!$A:$A,),R$11)&\" \"&TEXT(INDEX('график 7,8'!$B$52:$AF$63,MONTH($AP$3),R$11)&\"\",\"Я\")),2))","v":"В"},{"$f":"TRIM(LEFT(TRIM(INDEX(отсутствия!$N:$AR,MATCH($C63,отсутствия!$A:$A,),S$11)&\" \"&TEXT(INDEX('график 7,8'!$B$52:$AF$63,MONTH($AP$3),S$11)&\"\",\"Я\")),2))","v":"В"},null,{"$f":"TRIM(LEFT(TRIM(INDEX(отсутствия!$N:$AR,MATCH($C63,отсутствия!$A:$A,),U$11)&\" \"&TEXT(INDEX('график 7,8'!$B$52:$AF$63,MONTH($AP$3),U$11)&\"\",\"Я\")),2))","v":"Я"},{"$f":"TRIM(LEFT(TRIM(INDEX(отсутствия!$N:$AR,MATCH($C63,отсутствия!$A:$A,),V$11)&\" \"&TEXT(INDEX('график 7,8'!$B$52:$AF$63,MONTH($AP$3),V$11)&\"\",\"Я\")),2))","v":"Я"},{"$f":"TRIM(LEFT(TRIM(INDEX(отсутствия!$N:$AR,MATCH($C63,отсутствия!$A:$A,),W$11)&\" \"&TEXT(INDEX('график 7,8'!$B$52:$AF$63,MONTH($AP$3),W$11)&\"\",\"Я\")),2))","v":"Я"},{"$f":"TRIM(LEFT(TRIM(INDEX(отсутствия!$N:$AR,MATCH($C63,отсутствия!$A:$A,),X$11)&\" \"&TEXT(INDEX('график 7,8'!$B$52:$AF$63,MONTH($AP$3),X$11)&\"\",\"Я\")),2))","v":"Я"},{"$f":"TRIM(LEFT(TRIM(INDEX(отсутствия!$N:$AR,MATCH($C63,отсутствия!$A:$A,),Y$11)&\" \"&TEXT(INDEX('график 7,8'!$B$52:$AF$63,MONTH($AP$3),Y$11)&\"\",\"Я\")),2))","v":"Я"},{"$f":"TRIM(LEFT(TRIM(INDEX(отсутствия!$N:$AR,MATCH($C63,отсутствия!$A:$A,),Z$11)&\" \"&TEXT(INDEX('график 7,8'!$B$52:$AF$63,MONTH($AP$3),Z$11)&\"\",\"Я\")),2))","v":"В"},{"$f":"TRIM(LEFT(TRIM(INDEX(отсутствия!$N:$AR,MATCH($C63,отсутствия!$A:$A,),AA$11)&\" \"&TEXT(INDEX('график 7,8'!$B$52:$AF$63,MONTH($AP$3),AA$11)&\"\",\"Я\")),2))","v":"В"},{"$f":"TRIM(LEFT(TRIM(INDEX(отсутствия!$N:$AR,MATCH($C63,отсутствия!$A:$A,),AB$11)&\" \"&TEXT(INDEX('график 7,8'!$B$52:$AF$63,MONTH($AP$3),AB$11)&\"\",\"Я\")),2))","v":"Я"},{"$f":"TRIM(LEFT(TRIM(INDEX(отсутствия!$N:$AR,MATCH($C63,отсутствия!$A:$A,),AC$11)&\" \"&TEXT(INDEX('график 7,8'!$B$52:$AF$63,MONTH($AP$3),AC$11)&\"\",\"Я\")),2))","v":"Я"},{"$f":"TRIM(LEFT(TRIM(INDEX(отсутствия!$N:$AR,MATCH($C63,отсутствия!$A:$A,),AD$11)&\" \"&TEXT(INDEX('график 7,8'!$B$52:$AF$63,MONTH($AP$3),AD$11)&\"\",\"Я\")),2))","v":"Я"},{"$f":"TRIM(LEFT(TRIM(INDEX(отсутствия!$N:$AR,MATCH($C63,отсутствия!$A:$A,),AE$11)&\" \"&TEXT(INDEX('график 7,8'!$B$52:$AF$63,MONTH($AP$3),AE$11)&\"\",\"Я\")),2))","v":"Я"},{"$f":"TRIM(LEFT(TRIM(INDEX(отсутствия!$N:$AR,MATCH($C63,отсутствия!$A:$A,),AF$11)&\" \"&TEXT(INDEX('график 7,8'!$B$52:$AF$63,MONTH($AP$3),AF$11)&\"\",\"Я\")),2))","v":"Я"},{"$f":"TRIM(LEFT(TRIM(INDEX(отсутствия!$N:$AR,MATCH($C63,отсутствия!$A:$A,),AG$11)&\" \"&TEXT(INDEX('график 7,8'!$B$52:$AF$63,MONTH($AP$3),AG$11)&\"\",\"Я\")),2))","v":"В"},{"$f":"TRIM(LEFT(TRIM(INDEX(отсутствия!$N:$AR,MATCH($C63,отсутствия!$A:$A,),AH$11)&\" \"&TEXT(INDEX('график 7,8'!$B$52:$AF$63,MONTH($AP$3),AH$11)&\"\",\"Я\")),2))","v":"В"},{"$f":"TRIM(LEFT(TRIM(INDEX(отсутствия!$N:$AR,MATCH($C63,отсутствия!$A:$A,),AI$11)&\" \"&TEXT(INDEX('график 7,8'!$B$52:$AF$63,MONTH($AP$3),AI$11)&\"\",\"Я\")),2))","v":"Я"},{"$f":"TRIM(LEFT(TRIM(INDEX(отсутствия!$N:$AR,MATCH($C63,отсутствия!$A:$A,),AJ$11)&\" \"&TEXT(INDEX('график 7,8'!$B$52:$AF$63,MONTH($AP$3),AJ$11)&\"\",\"Я\")),2))","v":"Я"}]
[5155,"Мышкин",5155,"сборная",{"$f":"IFERROR(INDEX(РВД!$D:$I,MATCH($C65,РВД!$A:$A,)+1,MATCH($N$4+E$11-1,INDEX(РВД!$D:$I,MATCH($C65,РВД!$A:$A,),),)),IF(E66=\"Я\",INDEX('график 7,8'!$B$52:$AF$63,MONTH($AP$3),E$11),\"\"))","v":""},{"$f":"IFERROR(INDEX(РВД!$D:$I,MATCH($C65,РВД!$A:$A,)+1,MATCH($N$4+F$11-1,INDEX(РВД!$D:$I,MATCH($C65,РВД!$A:$A,),),)),IF(F66=\"Я\",INDEX('график 7,8'!$B$52:$AF$63,MONTH($AP$3),F$11),\"\"))","v":3.9},{"$f":"IFERROR(INDEX(РВД!$D:$I,MATCH($C65,РВД!$A:$A,)+1,MATCH($N$4+G$11-1,INDEX(РВД!$D:$I,MATCH($C65,РВД!$A:$A,),),)),IF(G66=\"Я\",INDEX('график 7,8'!$B$52:$AF$63,MONTH($AP$3),G$11),\"\"))","v":3.9},{"$f":"IFERROR(INDEX(РВД!$D:$I,MATCH($C65,РВД!$A:$A,)+1,MATCH($N$4+H$11-1,INDEX(РВД!$D:$I,MATCH($C65,РВД!$A:$A,),),)),IF(H66=\"Я\",INDEX('график 7,8'!$B$52:$AF$63,MONTH($AP$3),H$11),\"\"))","v":3.9},{"$f":"IFERROR(INDEX(РВД!$D:$I,MATCH($C65,РВД!$A:$A,)+1,MATCH($N$4+I$11-1,INDEX(РВД!$D:$I,MATCH($C65,РВД!$A:$A,),),)),IF(I66=\"Я\",INDEX('график 7,8'!$B$52:$AF$63,MONTH($AP$3),I$11),\"\"))","v":3.9},{"$f":"IFERROR(INDEX(РВД!$D:$I,MATCH($C65,РВД!$A:$A,)+1,MATCH($N$4+J$11-1,INDEX(РВД!$D:$I,MATCH($C65,РВД!$A:$A,),),)),IF(J66=\"Я\",INDEX('график 7,8'!$B$52:$AF$63,MONTH($AP$3),J$11),\"\"))","v":3.9},{"$f":"IFERROR(INDEX(РВД!$D:$I,MATCH($C65,РВД!$A:$A,)+1,MATCH($N$4+K$11-1,INDEX(РВД!$D:$I,MATCH($C65,РВД!$A:$A,),),)),IF(K66=\"Я\",INDEX('график 7,8'!$B$52:$AF$63,MONTH($AP$3),K$11),\"\"))","v":""},{"$f":"IFERROR(INDEX(РВД!$D:$I,MATCH($C65,РВД!$A:$A,)+1,MATCH($N$4+L$11-1,INDEX(РВД!$D:$I,MATCH($C65,РВД!$A:$A,),),)),IF(L66=\"Я\",INDEX('график 7,8'!$B$52:$AF$63,MONTH($AP$3),L$11),\"\"))","v":""},{"$f":"IFERROR(INDEX(РВД!$D:$I,MATCH($C65,РВД!$A:$A,)+1,MATCH($N$4+M$11-1,INDEX(РВД!$D:$I,MATCH($C65,РВД!$A:$A,),),)),IF(M66=\"Я\",INDEX('график 7,8'!$B$52:$AF$63,MONTH($AP$3),M$11),\"\"))","v":""},{"$f":"IFERROR(INDEX(РВД!$D:$I,MATCH($C65,РВД!$A:$A,)+1,MATCH($N$4+N$11-1,INDEX(РВД!$D:$I,MATCH($C65,РВД!$A:$A,),),)),IF(N66=\"Я\",INDEX('график 7,8'!$B$52:$AF$63,MONTH($AP$3),N$11),\"\"))","v":3.9},{"$f":"IFERROR(INDEX(РВД!$D:$I,MATCH($C65,РВД!$A:$A,)+1,MATCH($N$4+O$11-1,INDEX(РВД!$D:$I,MATCH($C65,РВД!$A:$A,),),)),IF(O66=\"Я\",INDEX('график 7,8'!$B$52:$AF$63,MONTH($AP$3),O$11),\"\"))","v":3.9},{"$f":"IFERROR(INDEX(РВД!$D:$I,MATCH($C65,РВД!$A:$A,)+1,MATCH($N$4+P$11-1,INDEX(РВД!$D:$I,MATCH($C65,РВД!$A:$A,),),)),IF(P66=\"Я\",INDEX('график 7,8'!$B$52:$AF$63,MONTH($AP$3),P$11),\"\"))","v":3.9},{"$f":"IFERROR(INDEX(РВД!$D:$I,MATCH($C65,РВД!$A:$A,)+1,MATCH($N$4+Q$11-1,INDEX(РВД!$D:$I,MATCH($C65,РВД!$A:$A,),),)),IF(Q66=\"Я\",INDEX('график 7,8'!$B$52:$AF$63,MONTH($AP$3),Q$11),\"\"))","v":3.9},{"$f":"IFERROR(INDEX(РВД!$D:$I,MATCH($C65,РВД!$A:$A,)+1,MATCH($N$4+R$11-1,INDEX(РВД!$D:$I,MATCH($C65,РВД!$A:$A,),),)),IF(R66=\"Я\",INDEX('график 7,8'!$B$52:$AF$63,MONTH($AP$3),R$11),\"\"))","v":""},{"$f":"IFERROR(INDEX(РВД!$D:$I,MATCH($C65,РВД!$A:$A,)+1,MATCH($N$4+S$11-1,INDEX(РВД!$D:$I,MATCH($C65,РВД!$A:$A,),),)),IF(S66=\"Я\",INDEX('график 7,8'!$B$52:$AF$63,MONTH($AP$3),S$11),\"\"))","v":""},{"$f":"SUMIF(E66:S66,\"Я\",E65:S65)","v":35.099999999999994},{"$f":"IFERROR(INDEX(РВД!$D:$I,MATCH($C65,РВД!$A:$A,)+1,MATCH($N$4+U$11-1,INDEX(РВД!$D:$I,MATCH($C65,РВД!$A:$A,),),)),IF(U66=\"Я\",INDEX('график 7,8'!$B$52:$AF$63,MONTH($AP$3),U$11),\"\"))","v":3.9},{"$f":"IFERROR(INDEX(РВД!$D:$I,MATCH($C65,РВД!$A:$A,)+1,MATCH($N$4+V$11-1,INDEX(РВД!$D:$I,MATCH($C65,РВД!$A:$A,),),)),IF(V66=\"Я\",INDEX('график 7,8'!$B$52:$AF$63,MONTH($AP$3),V$11),\"\"))","v":3.9},{"$f":"IFERROR(INDEX(РВД!$D:$I,MATCH($C65,РВД!$A:$A,)+1,MATCH($N$4+W$11-1,INDEX(РВД!$D:$I,MATCH($C65,РВД!$A:$A,),),)),IF(W66=\"Я\",INDEX('график 7,8'!$B$52:$AF$63,MONTH($AP$3),W$11),\"\"))","v":3.9},{"$f":"IFERROR(INDEX(РВД!$D:$I,MATCH($C65,РВД!$A:$A,)+1,MATCH($N$4+X$11-1,INDEX(РВД!$D:$I,MATCH($C65,РВД!$A:$A,),),)),IF(X66=\"Я\",INDEX('график 7,8'!$B$52:$AF$63,MONTH($AP$3),X$11),\"\"))","v":3.9},{"$f":"IFERROR(INDEX(РВД!$D:$I,MATCH($C65,РВД!$A:$A,)+1,MATCH($N$4+Y$11-1,INDEX(РВД!$D:$I,MATCH($C65,РВД!$A:$A,),),)),IF(Y66=\"Я\",INDEX('график 7,8'!$B$52:$AF$63,MONTH($AP$3),Y$11),\"\"))","v":3.9},{"$f":"IFERROR(INDEX(РВД!$D:$I,MATCH($C65,РВД!$A:$A,)+1,MATCH($N$4+Z$11-1,INDEX(РВД!$D:$I,MATCH($C65,РВД!$A:$A,),),)),IF(Z66=\"Я\",INDEX('график 7,8'!$B$52:$AF$63,MONTH($AP$3),Z$11),\"\"))","v":""},{"$f":"IFERROR(INDEX(РВД!$D:$I,MATCH($C65,РВД!$A:$A,)+1,MATCH($N$4+AA$11-1,INDEX(РВД!$D:$I,MATCH($C65,РВД!$A:$A,),),)),IF(AA66=\"Я\",INDEX('график 7,8'!$B$52:$AF$63,MONTH($AP$3),AA$11),\"\"))","v":""},{"$f":"IFERROR(INDEX(РВД!$D:$I,MATCH($C65,РВД!$A:$A,)+1,MATCH($N$4+AB$11-1,INDEX(РВД!$D:$I,MATCH($C65,РВД!$A:$A,),),)),IF(AB66=\"Я\",INDEX('график 7,8'!$B$52:$AF$63,MONTH($AP$3),AB$11),\"\"))","v":3.9},{"$f":"IFERROR(INDEX(РВД!$D:$I,MATCH($C65,РВД!$A:$A,)+1,MATCH($N$4+AC$11-1,INDEX(РВД!$D:$I,MATCH($C65,РВД!$A:$A,),),)),IF(AC66=\"Я\",INDEX('график 7,8'!$B$52:$AF$63,MONTH($AP$3),AC$11),\"\"))","v":3.9},{"$f":"IFERROR(INDEX(РВД!$D:$I,MATCH($C65,РВД!$A:$A,)+1,MATCH($N$4+AD$11-1,INDEX(РВД!$D:$I,MATCH($C65,РВД!$A:$A,),),)),IF(AD66=\"Я\",INDEX('график 7,8'!$B$52:$AF$63,MONTH($AP$3),AD$11),\"\"))","v":3.9},{"$f":"IFERROR(INDEX(РВД!$D:$I,MATCH($C65,РВД!$A:$A,)+1,MATCH($N$4+AE$11-1,INDEX(РВД!$D:$I,MATCH($C65,РВД!$A:$A,),),)),IF(AE66=\"Я\",INDEX('график 7,8'!$B$52:$AF$63,MONTH($AP$3),AE$11),\"\"))","v":3.9},{"$f":"IFERROR(INDEX(РВД!$D:$I,MATCH($C65,РВД!$A:$A,)+1,MATCH($N$4+AF$11-1,INDEX(РВД!$D:$I,MATCH($C65,РВД!$A:$A,),),)),IF(AF66=\"Я\",INDEX('график 7,8'!$B$52:$AF$63,MONTH($AP$3),AF$11),\"\"))","v":3.9},{"$f":"IFERROR(INDEX(РВД!$D:$I,MATCH($C65,РВД!$A:$A,)+1,MATCH($N$4+AG$11-1,INDEX(РВД!$D:$I,MATCH($C65,РВД!$A:$A,),),)),IF(AG66=\"Я\",INDEX('график 7,8'!$B$52:$AF$63,MONTH($AP$3),AG$11),\"\"))","v":""},{"$f":"IFERROR(INDEX(РВД!$D:$I,MATCH($C65,РВД!$A:$A,)+1,MATCH($N$4+AH$11-1,INDEX(РВД!$D:$I,MATCH($C65,РВД!$A:$A,),),)),IF(AH66=\"Я\",INDEX('график 7,8'!$B$52:$AF$63,MONTH($AP$3),AH$11),\"\"))","v":""},{"$f":"IFERROR(INDEX(РВД!$D:$I,MATCH($C65,РВД!$A:$A,)+1,MATCH($N$4+AI$11-1,INDEX(РВД!$D:$I,MATCH($C65,РВД!$A:$A,),),)),IF(AI66=\"Я\",INDEX('график 7,8'!$B$52:$AF$63,MONTH($AP$3),AI$11),\"\"))","v":3.9},{"$f":"IFERROR(INDEX(РВД!$D:$I,MATCH($C65,РВД!$A:$A,)+1,MATCH($N$4+AJ$11-1,INDEX(РВД!$D:$I,MATCH($C65,РВД!$A:$A,),),)),IF(AJ66=\"Я\",INDEX('график 7,8'!$B$52:$AF$63,MONTH($AP$3),AJ$11),\"\"))","v":3.9},{"$f":"\"Я/\"&SUMIF(E66:AJ66,\"Я\",E65:AJ65)","v":"Я/81,9"},{"$f":"(SUMIF(E66:AJ66,\"В\",E65:AJ65)+SUMIF(E66:AJ66,\"В.\",E65:AJ65))*2","v":0},{"$f":"COUNTIFS(E66:AJ66,\"Я\",E65:AJ65,\"<>\")","v":21},{"$f":"IFERROR(VLOOKUP(C65,доплаты!$A$5:$P$118,16,0),\"\")","v":""}]
[null,null,null,null,{"$f":"TRIM(LEFT(TRIM(INDEX(отсутствия!$N:$AR,MATCH($C65,отсутствия!$A:$A,),E$11)&\" \"&TEXT(INDEX('график 7,8'!$B$52:$AF$63,MONTH($AP$3),E$11)&\"\",\"Я\")),2))","v":"В"},{"$f":"TRIM(LEFT(TRIM(INDEX(отсутствия!$N:$AR,MATCH($C65,отсутствия!$A:$A,),F$11)&\" \"&TEXT(INDEX('график 7,8'!$B$52:$AF$63,MONTH($AP$3),F$11)&\"\",\"Я\")),2))","v":"Я"},{"$f":"TRIM(LEFT(TRIM(INDEX(отсутствия!$N:$AR,MATCH($C65,отсутствия!$A:$A,),G$11)&\" \"&TEXT(INDEX('график 7,8'!$B$52:$AF$63,MONTH($AP$3),G$11)&\"\",\"Я\")),2))","v":"Я"},{"$f":"TRIM(LEFT(TRIM(INDEX(отсутствия!$N:$AR,MATCH($C65,отсутствия!$A:$A,),H$11)&\" \"&TEXT(INDEX('график 7,8'!$B$52:$AF$63,MONTH($AP$3),H$11)&\"\",\"Я\")),2))","v":"Я"},{"$f":"TRIM(LEFT(TRIM(INDEX(отсутствия!$N:$AR,MATCH($C65,отсутствия!$A:$A,),I$11)&\" \"&TEXT(INDEX('график 7,8'!$B$52:$AF$63,MONTH($AP$3),I$11)&\"\",\"Я\")),2))","v":"Я"},{"$f":"TRIM(LEFT(TRIM(INDEX(отсутствия!$N:$AR,MATCH($C65,отсутствия!$A:$A,),J$11)&\" \"&TEXT(INDEX('график 7,8'!$B$52:$AF$63,MONTH($AP$3),J$11)&\"\",\"Я\")),2))","v":"Я"},{"$f":"TRIM(LEFT(TRIM(INDEX(отсутствия!$N:$AR,MATCH($C65,отсутствия!$A:$A,),K$11)&\" \"&TEXT(INDEX('график 7,8'!$B$52:$AF$63,MONTH($AP$3),K$11)&\"\",\"Я\")),2))","v":"В"},{"$f":"TRIM(LEFT(TRIM(INDEX(отсутствия!$N:$AR,MATCH($C65,отсутствия!$A:$A,),L$11)&\" \"&TEXT(INDEX('график 7,8'!$B$52:$AF$63,MONTH($AP$3),L$11)&\"\",\"Я\")),2))","v":"В."},{"$f":"TRIM(LEFT(TRIM(INDEX(отсутствия!$N:$AR,MATCH($C65,отсутствия!$A:$A,),M$11)&\" \"&TEXT(INDEX('график 7,8'!$B$52:$AF$63,MONTH($AP$3),M$11)&\"\",\"Я\")),2))","v":"В"},{"$f":"TRIM(LEFT(TRIM(INDEX(отсутствия!$N:$AR,MATCH($C65,отсутствия!$A:$A,),N$11)&\" \"&TEXT(INDEX('график 7,8'!$B$52:$AF$63,MONTH($AP$3),N$11)&\"\",\"Я\")),2))","v":"Я"},{"$f":"TRIM(LEFT(TRIM(INDEX(отсутствия!$N:$AR,MATCH($C65,отсутствия!$A:$A,),O$11)&\" \"&TEXT(INDEX('график 7,8'!$B$52:$AF$63,MONTH($AP$3),O$11)&\"\",\"Я\")),2))","v":"Я"},{"$f":"TRIM(LEFT(TRIM(INDEX(отсутствия!$N:$AR,MATCH($C65,отсутствия!$A:$A,),P$11)&\" \"&TEXT(INDEX('график 7,8'!$B$52:$AF$63,MONTH($AP$3),P$11)&\"\",\"Я\")),2))","v":"Я"},{"$f":"TRIM(LEFT(TRIM(INDEX(отсутствия!$N:$AR,MATCH($C65,отсутствия!$A:$A,),Q$11)&\" \"&TEXT(INDEX('график 7,8'!$B$52:$AF$63,MONTH($AP$3),Q$11)&\"\",\"Я\")),2))","v":"Я"},{"$f":"TRIM(LEFT(TRIM(INDEX(отсутствия!$N:$AR,MATCH($C65,отсутствия!$A:$A,),R$11)&\" \"&TEXT(INDEX('график 7,8'!$B$52:$AF$63,MONTH($AP$3),R$11)&\"\",\"Я\")),2))","v":"В"},{"$f":"TRIM(LEFT(TRIM(INDEX(отсутствия!$N:$AR,MATCH($C65,отсутствия!$A:$A,),S$11)&\" \"&TEXT(INDEX('график 7,8'!$B$52:$AF$63,MONTH($AP$3),S$11)&\"\",\"Я\")),2))","v":"В"},null,{"$f":"TRIM(LEFT(TRIM(INDEX(отсутствия!$N:$AR,MATCH($C65,отсутствия!$A:$A,),U$11)&\" \"&TEXT(INDEX('график 7,8'!$B$52:$AF$63,MONTH($AP$3),U$11)&\"\",\"Я\")),2))","v":"Я"},{"$f":"TRIM(LEFT(TRIM(INDEX(отсутствия!$N:$AR,MATCH($C65,отсутствия!$A:$A,),V$11)&\" \"&TEXT(INDEX('график 7,8'!$B$52:$AF$63,MONTH($AP$3),V$11)&\"\",\"Я\")),2))","v":"Я"},{"$f":"TRIM(LEFT(TRIM(INDEX(отсутствия!$N:$AR,MATCH($C65,отсутствия!$A:$A,),W$11)&\" \"&TEXT(INDEX('график 7,8'!$B$52:$AF$63,MONTH($AP$3),W$11)&\"\",\"Я\")),2))","v":"Я"},{"$f":"TRIM(LEFT(TRIM(INDEX(отсутствия!$N:$AR,MATCH($C65,отсутствия!$A:$A,),X$11)&\" \"&TEXT(INDEX('график 7,8'!$B$52:$AF$63,MONTH($AP$3),X$11)&\"\",\"Я\")),2))","v":"Я"},{"$f":"TRIM(LEFT(TRIM(INDEX(отсутствия!$N:$AR,MATCH($C65,отсутствия!$A:$A,),Y$11)&\" \"&TEXT(INDEX('график 7,8'!$B$52:$AF$63,MONTH($AP$3),Y$11)&\"\",\"Я\")),2))","v":"Я"},{"$f":"TRIM(LEFT(TRIM(INDEX(отсутствия!$N:$AR,MATCH($C65,отсутствия!$A:$A,),Z$11)&\" \"&TEXT(INDEX('график 7,8'!$B$52:$AF$63,MONTH($AP$3),Z$11)&\"\",\"Я\")),2))","v":"В"},{"$f":"TRIM(LEFT(TRIM(INDEX(отсутствия!$N:$AR,MATCH($C65,отсутствия!$A:$A,),AA$11)&\" \"&TEXT(INDEX('график 7,8'!$B$52:$AF$63,MONTH($AP$3),AA$11)&\"\",\"Я\")),2))","v":"В"},{"$f":"TRIM(LEFT(TRIM(INDEX(отсутствия!$N:$AR,MATCH($C65,отсутствия!$A:$A,),AB$11)&\" \"&TEXT(INDEX('график 7,8'!$B$52:$AF$63,MONTH($AP$3),AB$11)&\"\",\"Я\")),2))","v":"Я"},{"$f":"TRIM(LEFT(TRIM(INDEX(отсутствия!$N:$AR,MATCH($C65,отсутствия!$A:$A,),AC$11)&\" \"&TEXT(INDEX('график 7,8'!$B$52:$AF$63,MONTH($AP$3),AC$11)&\"\",\"Я\")),2))","v":"Я"},{"$f":"TRIM(LEFT(TRIM(INDEX(отсутствия!$N:$AR,MATCH($C65,отсутствия!$A:$A,),AD$11)&\" \"&TEXT(INDEX('график 7,8'!$B$52:$AF$63,MONTH($AP$3),AD$11)&\"\",\"Я\")),2))","v":"Я"},{"$f":"TRIM(LEFT(TRIM(INDEX(отсутствия!$N:$AR,MATCH($C65,отсутствия!$A:$A,),AE$11)&\" \"&TEXT(INDEX('график 7,8'!$B$52:$AF$63,MONTH($AP$3),AE$11)&\"\",\"Я\")),2))","v":"Я"},{"$f":"TRIM(LEFT(TRIM(INDEX(отсутствия!$N:$AR,MATCH($C65,отсутствия!$A:$A,),AF$11)&\" \"&TEXT(INDEX('график 7,8'!$B$52:$AF$63,MONTH($AP$3),AF$11)&\"\",\"Я\")),2))","v":"Я"},{"$f":"TRIM(LEFT(TRIM(INDEX(отсутствия!$N:$AR,MATCH($C65,отсутствия!$A:$A,),AG$11)&\" \"&TEXT(INDEX('график 7,8'!$B$52:$AF$63,MONTH($AP$3),AG$11)&\"\",\"Я\")),2))","v":"В"},{"$f":"TRIM(LEFT(TRIM(INDEX(отсутствия!$N:$AR,MATCH($C65,отсутствия!$A:$A,),AH$11)&\" \"&TEXT(INDEX('график 7,8'!$B$52:$AF$63,MONTH($AP$3),AH$11)&\"\",\"Я\")),2))","v":"В"},{"$f":"TRIM(LEFT(TRIM(INDEX(отсутствия!$N:$AR,MATCH($C65,отсутствия!$A:$A,),AI$11)&\" \"&TEXT(INDEX('график 7,8'!$B$52:$AF$63,MONTH($AP$3),AI$11)&\"\",\"Я\")),2))","v":"Я"},{"$f":"TRIM(LEFT(TRIM(INDEX(отсутствия!$N:$AR,MATCH($C65,отсутствия!$A:$A,),AJ$11)&\" \"&TEXT(INDEX('график 7,8'!$B$52:$AF$63,MONTH($AP$3),AJ$11)&\"\",\"Я\")),2))","v":"Я"}]
[5141,"Куликов",5141,"сборная",{"$f":"IFERROR(INDEX(РВД!$D:$I,MATCH($C67,РВД!$A:$A,)+1,MATCH($N$4+E$11-1,INDEX(РВД!$D:$I,MATCH($C67,РВД!$A:$A,),),)),IF(E68=\"Я\",INDEX('график 7,8'!$B$28:$AF$39,MONTH($AP$3),E$11),\"\"))","v":""},{"$f":"IFERROR(INDEX(РВД!$D:$I,MATCH($C67,РВД!$A:$A,)+1,MATCH($N$4+F$11-1,INDEX(РВД!$D:$I,MATCH($C67,РВД!$A:$A,),),)),IF(F68=\"Я\",INDEX('график 7,8'!$B$28:$AF$39,MONTH($AP$3),F$11),\"\"))","v":5.85},{"$f":"IFERROR(INDEX(РВД!$D:$I,MATCH($C67,РВД!$A:$A,)+1,MATCH($N$4+G$11-1,INDEX(РВД!$D:$I,MATCH($C67,РВД!$A:$A,),),)),IF(G68=\"Я\",INDEX('график 7,8'!$B$28:$AF$39,MONTH($AP$3),G$11),\"\"))","v":5.85},{"$f":"IFERROR(INDEX(РВД!$D:$I,MATCH($C67,РВД!$A:$A,)+1,MATCH($N$4+H$11-1,INDEX(РВД!$D:$I,MATCH($C67,РВД!$A:$A,),),)),IF(H68=\"Я\",INDEX('график 7,8'!$B$28:$AF$39,MONTH($AP$3),H$11),\"\"))","v":5.85},{"$f":"IFERROR(INDEX(РВД!$D:$I,MATCH($C67,РВД!$A:$A,)+1,MATCH($N$4+I$11-1,INDEX(РВД!$D:$I,MATCH($C67,РВД!$A:$A,),),)),IF(I68=\"Я\",INDEX('график 7,8'!$B$28:$AF$39,MONTH($AP$3),I$11),\"\"))","v":5.85},{"$f":"IFERROR(INDEX(РВД!$D:$I,MATCH($C67,РВД!$A:$A,)+1,MATCH($N$4+J$11-1,INDEX(РВД!$D:$I,MATCH($C67,РВД!$A:$A,),),)),IF(J68=\"Я\",INDEX('график 7,8'!$B$28:$AF$39,MONTH($AP$3),J$11),\"\"))","v":5.85},{"$f":"IFERROR(INDEX(РВД!$D:$I,MATCH($C67,РВД!$A:$A,)+1,MATCH($N$4+K$11-1,INDEX(РВД!$D:$I,MATCH($C67,РВД!$A:$A,),),)),IF(K68=\"Я\",INDEX('график 7,8'!$B$28:$AF$39,MONTH($AP$3),K$11),\"\"))","v":""},{"$f":"IFERROR(INDEX(РВД!$D:$I,MATCH($C67,РВД!$A:$A,)+1,MATCH($N$4+L$11-1,INDEX(РВД!$D:$I,MATCH($C67,РВД!$A:$A,),),)),IF(L68=\"Я\",INDEX('график 7,8'!$B$28:$AF$39,MONTH($AP$3),L$11),\"\"))","v":""},{"$f":"IFERROR(INDEX(РВД!$D:$I,MATCH($C67,РВД!$A:$A,)+1,MATCH($N$4+M$11-1,INDEX(РВД!$D:$I,MATCH($C67,РВД!$A:$A,),),)),IF(M68=\"Я\",INDEX('график 7,8'!$B$28:$AF$39,MONTH($AP$3),M$11),\"\"))","v":""},{"$f":"IFERROR(INDEX(РВД!$D:$I,MATCH($C67,РВД!$A:$A,)+1,MATCH($N$4+N$11-1,INDEX(РВД!$D:$I,MATCH($C67,РВД!$A:$A,),),)),IF(N68=\"Я\",INDEX('график 7,8'!$B$28:$AF$39,MONTH($AP$3),N$11),\"\"))","v":5.85},{"$f":"IFERROR(INDEX(РВД!$D:$I,MATCH($C67,РВД!$A:$A,)+1,MATCH($N$4+O$11-1,INDEX(РВД!$D:$I,MATCH($C67,РВД!$A:$A,),),)),IF(O68=\"Я\",INDEX('график 7,8'!$B$28:$AF$39,MONTH($AP$3),O$11),\"\"))","v":5.85},{"$f":"IFERROR(INDEX(РВД!$D:$I,MATCH($C67,РВД!$A:$A,)+1,MATCH($N$4+P$11-1,INDEX(РВД!$D:$I,MATCH($C67,РВД!$A:$A,),),)),IF(P68=\"Я\",INDEX('график 7,8'!$B$28:$AF$39,MONTH($AP$3),P$11),\"\"))","v":5.85},{"$f":"IFERROR(INDEX(РВД!$D:$I,MATCH($C67,РВД!$A:$A,)+1,MATCH($N$4+Q$11-1,INDEX(РВД!$D:$I,MATCH($C67,РВД!$A:$A,),),)),IF(Q68=\"Я\",INDEX('график 7,8'!$B$28:$AF$39,MONTH($AP$3),Q$11),\"\"))","v":5.85},{"$f":"IFERROR(INDEX(РВД!$D:$I,MATCH($C67,РВД!$A:$A,)+1,MATCH($N$4+R$11-1,INDEX(РВД!$D:$I,MATCH($C67,РВД!$A:$A,),),)),IF(R68=\"Я\",INDEX('график 7,8'!$B$28:$AF$39,MONTH($AP$3),R$11),\"\"))","v":""},{"$f":"IFERROR(INDEX(РВД!$D:$I,MATCH($C67,РВД!$A:$A,)+1,MATCH($N$4+S$11-1,INDEX(РВД!$D:$I,MATCH($C67,РВД!$A:$A,),),)),IF(S68=\"Я\",INDEX('график 7,8'!$B$28:$AF$39,MONTH($AP$3),S$11),\"\"))","v":""},{"$f":"SUMIF(E68:S68,\"Я\",E67:S67)","v":52.650000000000006},{"$f":"IFERROR(INDEX(РВД!$D:$I,MATCH($C67,РВД!$A:$A,)+1,MATCH($N$4+U$11-1,INDEX(РВД!$D:$I,MATCH($C67,РВД!$A:$A,),),)),IF(U68=\"Я\",INDEX('график 7,8'!$B$28:$AF$39,MONTH($AP$3),U$11),\"\"))","v":5.85},{"$f":"IFERROR(INDEX(РВД!$D:$I,MATCH($C67,РВД!$A:$A,)+1,MATCH($N$4+V$11-1,INDEX(РВД!$D:$I,MATCH($C67,РВД!$A:$A,),),)),IF(V68=\"Я\",INDEX('график 7,8'!$B$28:$AF$39,MONTH($AP$3),V$11),\"\"))","v":5.85},{"$f":"IFERROR(INDEX(РВД!$D:$I,MATCH($C67,РВД!$A:$A,)+1,MATCH($N$4+W$11-1,INDEX(РВД!$D:$I,MATCH($C67,РВД!$A:$A,),),)),IF(W68=\"Я\",INDEX('график 7,8'!$B$28:$AF$39,MONTH($AP$3),W$11),\"\"))","v":5.85},{"$f":"IFERROR(INDEX(РВД!$D:$I,MATCH($C67,РВД!$A:$A,)+1,MATCH($N$4+X$11-1,INDEX(РВД!$D:$I,MATCH($C67,РВД!$A:$A,),),)),IF(X68=\"Я\",INDEX('график 7,8'!$B$28:$AF$39,MONTH($AP$3),X$11),\"\"))","v":5.85},{"$f":"IFERROR(INDEX(РВД!$D:$I,MATCH($C67,РВД!$A:$A,)+1,MATCH($N$4+Y$11-1,INDEX(РВД!$D:$I,MATCH($C67,РВД!$A:$A,),),)),IF(Y68=\"Я\",INDEX('график 7,8'!$B$28:$AF$39,MONTH($AP$3),Y$11),\"\"))","v":5.85},{"$f":"IFERROR(INDEX(РВД!$D:$I,MATCH($C67,РВД!$A:$A,)+1,MATCH($N$4+Z$11-1,INDEX(РВД!$D:$I,MATCH($C67,РВД!$A:$A,),),)),IF(Z68=\"Я\",INDEX('график 7,8'!$B$28:$AF$39,MONTH($AP$3),Z$11),\"\"))","v":""},{"$f":"IFERROR(INDEX(РВД!$D:$I,MATCH($C67,РВД!$A:$A,)+1,MATCH($N$4+AA$11-1,INDEX(РВД!$D:$I,MATCH($C67,РВД!$A:$A,),),)),IF(AA68=\"Я\",INDEX('график 7,8'!$B$28:$AF$39,MONTH($AP$3),AA$11),\"\"))","v":""},{"$f":"IFERROR(INDEX(РВД!$D:$I,MATCH($C67,РВД!$A:$A,)+1,MATCH($N$4+AB$11-1,INDEX(РВД!$D:$I,MATCH($C67,РВД!$A:$A,),),)),IF(AB68=\"Я\",INDEX('график 7,8'!$B$28:$AF$39,MONTH($AP$3),AB$11),\"\"))","v":5.85},{"$f":"IFERROR(INDEX(РВД!$D:$I,MATCH($C67,РВД!$A:$A,)+1,MATCH($N$4+AC$11-1,INDEX(РВД!$D:$I,MATCH($C67,РВД!$A:$A,),),)),IF(AC68=\"Я\",INDEX('график 7,8'!$B$28:$AF$39,MONTH($AP$3),AC$11),\"\"))","v":5.85},{"$f":"IFERROR(INDEX(РВД!$D:$I,MATCH($C67,РВД!$A:$A,)+1,MATCH($N$4+AD$11-1,INDEX(РВД!$D:$I,MATCH($C67,РВД!$A:$A,),),)),IF(AD68=\"Я\",INDEX('график 7,8'!$B$28:$AF$39,MONTH($AP$3),AD$11),\"\"))","v":5.85},{"$f":"IFERROR(INDEX(РВД!$D:$I,MATCH($C67,РВД!$A:$A,)+1,MATCH($N$4+AE$11-1,INDEX(РВД!$D:$I,MATCH($C67,РВД!$A:$A,),),)),IF(AE68=\"Я\",INDEX('график 7,8'!$B$28:$AF$39,MONTH($AP$3),AE$11),\"\"))","v":5.85},{"$f":"IFERROR(INDEX(РВД!$D:$I,MATCH($C67,РВД!$A:$A,)+1,MATCH($N$4+AF$11-1,INDEX(РВД!$D:$I,MATCH($C67,РВД!$A:$A,),),)),IF(AF68=\"Я\",INDEX('график 7,8'!$B$28:$AF$39,MONTH($AP$3),AF$11),\"\"))","v":5.85},{"$f":"IFERROR(INDEX(РВД!$D:$I,MATCH($C67,РВД!$A:$A,)+1,MATCH($N$4+AG$11-1,INDEX(РВД!$D:$I,MATCH($C67,РВД!$A:$A,),),)),IF(AG68=\"Я\",INDEX('график 7,8'!$B$28:$AF$39,MONTH($AP$3),AG$11),\"\"))","v":""},{"$f":"IFERROR(INDEX(РВД!$D:$I,MATCH($C67,РВД!$A:$A,)+1,MATCH($N$4+AH$11-1,INDEX(РВД!$D:$I,MATCH($C67,РВД!$A:$A,),),)),IF(AH68=\"Я\",INDEX('график 7,8'!$B$28:$AF$39,MONTH($AP$3),AH$11),\"\"))","v":""},{"$f":"IFERROR(INDEX(РВД!$D:$I,MATCH($C67,РВД!$A:$A,)+1,MATCH($N$4+AI$11-1,INDEX(РВД!$D:$I,MATCH($C67,РВД!$A:$A,),),)),IF(AI68=\"Я\",INDEX('график 7,8'!$B$28:$AF$39,MONTH($AP$3),AI$11),\"\"))","v":5.85},{"$f":"IFERROR(INDEX(РВД!$D:$I,MATCH($C67,РВД!$A:$A,)+1,MATCH($N$4+AJ$11-1,INDEX(РВД!$D:$I,MATCH($C67,РВД!$A:$A,),),)),IF(AJ68=\"Я\",INDEX('график 7,8'!$B$28:$AF$39,MONTH($AP$3),AJ$11),\"\"))","v":5.85},{"$f":"\"Я/\"&SUMIF(E68:AJ68,\"Я\",E67:AJ67)","v":"Я/122,85"},{"$f":"(SUMIF(E68:AJ68,\"В\",E67:AJ67)+SUMIF(E68:AJ68,\"В.\",E67:AJ67))*2","v":0},{"$f":"COUNTIFS(E68:AJ68,\"Я\",E67:AJ67,\"<>\")","v":21},{"$f":"IFERROR(VLOOKUP(C67,доплаты!$A$5:$P$118,16,0),\"\")","v":"28"}]
[null,null,null,null,{"$f":"TRIM(LEFT(TRIM(INDEX(отсутствия!$N:$AR,MATCH($C67,отсутствия!$A:$A,),E$11)&\" \"&TEXT(INDEX('график 7,8'!$B$28:$AF$39,MONTH($AP$3),E$11)&\"\",\"Я\")),2))","v":"В"},{"$f":"TRIM(LEFT(TRIM(INDEX(отсутствия!$N:$AR,MATCH($C67,отсутствия!$A:$A,),F$11)&\" \"&TEXT(INDEX('график 7,8'!$B$28:$AF$39,MONTH($AP$3),F$11)&\"\",\"Я\")),2))","v":"Я"},{"$f":"TRIM(LEFT(TRIM(INDEX(отсутствия!$N:$AR,MATCH($C67,отсутствия!$A:$A,),G$11)&\" \"&TEXT(INDEX('график 7,8'!$B$28:$AF$39,MONTH($AP$3),G$11)&\"\",\"Я\")),2))","v":"Я"},{"$f":"TRIM(LEFT(TRIM(INDEX(отсутствия!$N:$AR,MATCH($C67,отсутствия!$A:$A,),H$11)&\" \"&TEXT(INDEX('график 7,8'!$B$28:$AF$39,MONTH($AP$3),H$11)&\"\",\"Я\")),2))","v":"Я"},{"$f":"TRIM(LEFT(TRIM(INDEX(отсутствия!$N:$AR,MATCH($C67,отсутствия!$A:$A,),I$11)&\" \"&TEXT(INDEX('график 7,8'!$B$28:$AF$39,MONTH($AP$3),I$11)&\"\",\"Я\")),2))","v":"Я"},{"$f":"TRIM(LEFT(TRIM(INDEX(отсутствия!$N:$AR,MATCH($C67,отсутствия!$A:$A,),J$11)&\" \"&TEXT(INDEX('график 7,8'!$B$28:$AF$39,MONTH($AP$3),J$11)&\"\",\"Я\")),2))","v":"Я"},{"$f":"TRIM(LEFT(TRIM(INDEX(отсутствия!$N:$AR,MATCH($C67,отсутствия!$A:$A,),K$11)&\" \"&TEXT(INDEX('график 7,8'!$B$28:$AF$39,MONTH($AP$3),K$11)&\"\",\"Я\")),2))","v":"В"},{"$f":"TRIM(LEFT(TRIM(INDEX(отсутствия!$N:$AR,MATCH($C67,отсутствия!$A:$A,),L$11)&\" \"&TEXT(INDEX('график 7,8'!$B$28:$AF$39,MONTH($AP$3),L$11)&\"\",\"Я\")),2))","v":"В."},{"$f":"TRIM(LEFT(TRIM(INDEX(отсутствия!$N:$AR,MATCH($C67,отсутствия!$A:$A,),M$11)&\" \"&TEXT(INDEX('график 7,8'!$B$28:$AF$39,MONTH($AP$3),M$11)&\"\",\"Я\")),2))","v":"В"},{"$f":"TRIM(LEFT(TRIM(INDEX(отсутствия!$N:$AR,MATCH($C67,отсутствия!$A:$A,),N$11)&\" \"&TEXT(INDEX('график 7,8'!$B$28:$AF$39,MONTH($AP$3),N$11)&\"\",\"Я\")),2))","v":"Я"},{"$f":"TRIM(LEFT(TRIM(INDEX(отсутствия!$N:$AR,MATCH($C67,отсутствия!$A:$A,),O$11)&\" \"&TEXT(INDEX('график 7,8'!$B$28:$AF$39,MONTH($AP$3),O$11)&\"\",\"Я\")),2))","v":"Я"},{"$f":"TRIM(LEFT(TRIM(INDEX(отсутствия!$N:$AR,MATCH($C67,отсутствия!$A:$A,),P$11)&\" \"&TEXT(INDEX('график 7,8'!$B$28:$AF$39,MONTH($AP$3),P$11)&\"\",\"Я\")),2))","v":"Я"},{"$f":"TRIM(LEFT(TRIM(INDEX(отсутствия!$N:$AR,MATCH($C67,отсутствия!$A:$A,),Q$11)&\" \"&TEXT(INDEX('график 7,8'!$B$28:$AF$39,MONTH($AP$3),Q$11)&\"\",\"Я\")),2))","v":"Я"},{"$f":"TRIM(LEFT(TRIM(INDEX(отсутствия!$N:$AR,MATCH($C67,отсутствия!$A:$A,),R$11)&\" \"&TEXT(INDEX('график 7,8'!$B$28:$AF$39,MONTH($AP$3),R$11)&\"\",\"Я\")),2))","v":"В"},{"$f":"TRIM(LEFT(TRIM(INDEX(отсутствия!$N:$AR,MATCH($C67,отсутствия!$A:$A,),S$11)&\" \"&TEXT(INDEX('график 7,8'!$B$28:$AF$39,MONTH($AP$3),S$11)&\"\",\"Я\")),2))","v":"В"},null,{"$f":"TRIM(LEFT(TRIM(INDEX(отсутствия!$N:$AR,MATCH($C67,отсутствия!$A:$A,),U$11)&\" \"&TEXT(INDEX('график 7,8'!$B$28:$AF$39,MONTH($AP$3),U$11)&\"\",\"Я\")),2))","v":"Я"},{"$f":"TRIM(LEFT(TRIM(INDEX(отсутствия!$N:$AR,MATCH($C67,отсутствия!$A:$A,),V$11)&\" \"&TEXT(INDEX('график 7,8'!$B$28:$AF$39,MONTH($AP$3),V$11)&\"\",\"Я\")),2))","v":"Я"},{"$f":"TRIM(LEFT(TRIM(INDEX(отсутствия!$N:$AR,MATCH($C67,отсутствия!$A:$A,),W$11)&\" \"&TEXT(INDEX('график 7,8'!$B$28:$AF$39,MONTH($AP$3),W$11)&\"\",\"Я\")),2))","v":"Я"},{"$f":"TRIM(LEFT(TRIM(INDEX(отсутствия!$N:$AR,MATCH($C67,отсутствия!$A:$A,),X$11)&\" \"&TEXT(INDEX('график 7,8'!$B$28:$AF$39,MONTH($AP$3),X$11)&\"\",\"Я\")),2))","v":"Я"},{"$f":"TRIM(LEFT(TRIM(INDEX(отсутствия!$N:$AR,MATCH($C67,отсутствия!$A:$A,),Y$11)&\" \"&TEXT(INDEX('график 7,8'!$B$28:$AF$39,MONTH($AP$3),Y$11)&\"\",\"Я\")),2))","v":"Я"},{"$f":"TRIM(LEFT(TRIM(INDEX(отсутствия!$N:$AR,MATCH($C67,отсутствия!$A:$A,),Z$11)&\" \"&TEXT(INDEX('график 7,8'!$B$28:$AF$39,MONTH($AP$3),Z$11)&\"\",\"Я\")),2))","v":"В"},{"$f":"TRIM(LEFT(TRIM(INDEX(отсутствия!$N:$AR,MATCH($C67,отсутствия!$A:$A,),AA$11)&\" \"&TEXT(INDEX('график 7,8'!$B$28:$AF$39,MONTH($AP$3),AA$11)&\"\",\"Я\")),2))","v":"В"},{"$f":"TRIM(LEFT(TRIM(INDEX(отсутствия!$N:$AR,MATCH($C67,отсутствия!$A:$A,),AB$11)&\" \"&TEXT(INDEX('график 7,8'!$B$28:$AF$39,MONTH($AP$3),AB$11)&\"\",\"Я\")),2))","v":"Я"},{"$f":"TRIM(LEFT(TRIM(INDEX(отсутствия!$N:$AR,MATCH($C67,отсутствия!$A:$A,),AC$11)&\" \"&TEXT(INDEX('график 7,8'!$B$28:$AF$39,MONTH($AP$3),AC$11)&\"\",\"Я\")),2))","v":"Я"},{"$f":"TRIM(LEFT(TRIM(INDEX(отсутствия!$N:$AR,MATCH($C67,отсутствия!$A:$A,),AD$11)&\" \"&TEXT(INDEX('график 7,8'!$B$28:$AF$39,MONTH($AP$3),AD$11)&\"\",\"Я\")),2))","v":"Я"},{"$f":"TRIM(LEFT(TRIM(INDEX(отсутствия!$N:$AR,MATCH($C67,отсутствия!$A:$A,),AE$11)&\" \"&TEXT(INDEX('график 7,8'!$B$28:$AF$39,MONTH($AP$3),AE$11)&\"\",\"Я\")),2))","v":"Я"},{"$f":"TRIM(LEFT(TRIM(INDEX(отсутствия!$N:$AR,MATCH($C67,отсутствия!$A:$A,),AF$11)&\" \"&TEXT(INDEX('график 7,8'!$B$28:$AF$39,MONTH($AP$3),AF$11)&\"\",\"Я\")),2))","v":"Я"},{"$f":"TRIM(LEFT(TRIM(INDEX(отсутствия!$N:$AR,MATCH($C67,отсутствия!$A:$A,),AG$11)&\" \"&TEXT(INDEX('график 7,8'!$B$28:$AF$39,MONTH($AP$3),AG$11)&\"\",\"Я\")),2))","v":"В"},{"$f":"TRIM(LEFT(TRIM(INDEX(отсутствия!$N:$AR,MATCH($C67,отсутствия!$A:$A,),AH$11)&\" \"&TEXT(INDEX('график 7,8'!$B$28:$AF$39,MONTH($AP$3),AH$11)&\"\",\"Я\")),2))","v":"В"},{"$f":"TRIM(LEFT(TRIM(INDEX(отсутствия!$N:$AR,MATCH($C67,отсутствия!$A:$A,),AI$11)&\" \"&TEXT(INDEX('график 7,8'!$B$28:$AF$39,MONTH($AP$3),AI$11)&\"\",\"Я\")),2))","v":"Я"},{"$f":"TRIM(LEFT(TRIM(INDEX(отсутствия!$N:$AR,MATCH($C67,отсутствия!$A:$A,),AJ$11)&\" \"&TEXT(INDEX('график 7,8'!$B$28:$AF$39,MONTH($AP$3),AJ$11)&\"\",\"Я\")),2))","v":"Я"}]
[5158,"Селиванов",5158,"сборная",{"$f":"IFERROR(INDEX(РВД!$D:$I,MATCH($C69,РВД!$A:$A,)+1,MATCH($N$4+E$11-1,INDEX(РВД!$D:$I,MATCH($C69,РВД!$A:$A,),),)),IF(E70=\"Я\",INDEX('график 7,8'!$B$5:$AF$16,MONTH($AP$3),E$11),\"\"))","v":""},{"$f":"IFERROR(INDEX(РВД!$D:$I,MATCH($C69,РВД!$A:$A,)+1,MATCH($N$4+F$11-1,INDEX(РВД!$D:$I,MATCH($C69,РВД!$A:$A,),),)),IF(F70=\"Я\",INDEX('график 7,8'!$B$5:$AF$16,MONTH($AP$3),F$11),\"\"))","v":""},{"$f":"IFERROR(INDEX(РВД!$D:$I,MATCH($C69,РВД!$A:$A,)+1,MATCH($N$4+G$11-1,INDEX(РВД!$D:$I,MATCH($C69,РВД!$A:$A,),),)),IF(G70=\"Я\",INDEX('график 7,8'!$B$5:$AF$16,MONTH($AP$3),G$11),\"\"))","v":""},{"$f":"IFERROR(INDEX(РВД!$D:$I,MATCH($C69,РВД!$A:$A,)+1,MATCH($N$4+H$11-1,INDEX(РВД!$D:$I,MATCH($C69,РВД!$A:$A,),),)),IF(H70=\"Я\",INDEX('график 7,8'!$B$5:$AF$16,MONTH($AP$3),H$11),\"\"))","v":""},{"$f":"IFERROR(INDEX(РВД!$D:$I,MATCH($C69,РВД!$A:$A,)+1,MATCH($N$4+I$11-1,INDEX(РВД!$D:$I,MATCH($C69,РВД!$A:$A,),),)),IF(I70=\"Я\",INDEX('график 7,8'!$B$5:$AF$16,MONTH($AP$3),I$11),\"\"))","v":""},{"$f":"IFERROR(INDEX(РВД!$D:$I,MATCH($C69,РВД!$A:$A,)+1,MATCH($N$4+J$11-1,INDEX(РВД!$D:$I,MATCH($C69,РВД!$A:$A,),),)),IF(J70=\"Я\",INDEX('график 7,8'!$B$5:$AF$16,MONTH($AP$3),J$11),\"\"))","v":""},{"$f":"IFERROR(INDEX(РВД!$D:$I,MATCH($C69,РВД!$A:$A,)+1,MATCH($N$4+K$11-1,INDEX(РВД!$D:$I,MATCH($C69,РВД!$A:$A,),),)),IF(K70=\"Я\",INDEX('график 7,8'!$B$5:$AF$16,MONTH($AP$3),K$11),\"\"))","v":""},{"$f":"IFERROR(INDEX(РВД!$D:$I,MATCH($C69,РВД!$A:$A,)+1,MATCH($N$4+L$11-1,INDEX(РВД!$D:$I,MATCH($C69,РВД!$A:$A,),),)),IF(L70=\"Я\",INDEX('график 7,8'!$B$5:$AF$16,MONTH($AP$3),L$11),\"\"))","v":""},{"$f":"IFERROR(INDEX(РВД!$D:$I,MATCH($C69,РВД!$A:$A,)+1,MATCH($N$4+M$11-1,INDEX(РВД!$D:$I,MATCH($C69,РВД!$A:$A,),),)),IF(M70=\"Я\",INDEX('график 7,8'!$B$5:$AF$16,MONTH($AP$3),M$11),\"\"))","v":""},{"$f":"IFERROR(INDEX(РВД!$D:$I,MATCH($C69,РВД!$A:$A,)+1,MATCH($N$4+N$11-1,INDEX(РВД!$D:$I,MATCH($C69,РВД!$A:$A,),),)),IF(N70=\"Я\",INDEX('график 7,8'!$B$5:$AF$16,MONTH($AP$3),N$11),\"\"))","v":""},{"$f":"IFERROR(INDEX(РВД!$D:$I,MATCH($C69,РВД!$A:$A,)+1,MATCH($N$4+O$11-1,INDEX(РВД!$D:$I,MATCH($C69,РВД!$A:$A,),),)),IF(O70=\"Я\",INDEX('график 7,8'!$B$5:$AF$16,MONTH($AP$3),O$11),\"\"))","v":""},{"$f":"IFERROR(INDEX(РВД!$D:$I,MATCH($C69,РВД!$A:$A,)+1,MATCH($N$4+P$11-1,INDEX(РВД!$D:$I,MATCH($C69,РВД!$A:$A,),),)),IF(P70=\"Я\",INDEX('график 7,8'!$B$5:$AF$16,MONTH($AP$3),P$11),\"\"))","v":""},{"$f":"IFERROR(INDEX(РВД!$D:$I,MATCH($C69,РВД!$A:$A,)+1,MATCH($N$4+Q$11-1,INDEX(РВД!$D:$I,MATCH($C69,РВД!$A:$A,),),)),IF(Q70=\"Я\",INDEX('график 7,8'!$B$5:$AF$16,MONTH($AP$3),Q$11),\"\"))","v":""},{"$f":"IFERROR(INDEX(РВД!$D:$I,MATCH($C69,РВД!$A:$A,)+1,MATCH($N$4+R$11-1,INDEX(РВД!$D:$I,MATCH($C69,РВД!$A:$A,),),)),IF(R70=\"Я\",INDEX('график 7,8'!$B$5:$AF$16,MONTH($AP$3),R$11),\"\"))","v":""},{"$f":"IFERROR(INDEX(РВД!$D:$I,MATCH($C69,РВД!$A:$A,)+1,MATCH($N$4+S$11-1,INDEX(РВД!$D:$I,MATCH($C69,РВД!$A:$A,),),)),IF(S70=\"Я\",INDEX('график 7,8'!$B$5:$AF$16,MONTH($AP$3),S$11),\"\"))","v":""},{"$f":"SUMIF(E70:S70,\"Я\",E69:S69)","v":0},{"$f":"IFERROR(INDEX(РВД!$D:$I,MATCH($C69,РВД!$A:$A,)+1,MATCH($N$4+U$11-1,INDEX(РВД!$D:$I,MATCH($C69,РВД!$A:$A,),),)),IF(U70=\"Я\",INDEX('график 7,8'!$B$5:$AF$16,MONTH($AP$3),U$11),\"\"))","v":7.8},{"$f":"IFERROR(INDEX(РВД!$D:$I,MATCH($C69,РВД!$A:$A,)+1,MATCH($N$4+V$11-1,INDEX(РВД!$D:$I,MATCH($C69,РВД!$A:$A,),),)),IF(V70=\"Я\",INDEX('график 7,8'!$B$5:$AF$16,MONTH($AP$3),V$11),\"\"))","v":7.8},{"$f":"IFERROR(INDEX(РВД!$D:$I,MATCH($C69,РВД!$A:$A,)+1,MATCH($N$4+W$11-1,INDEX(РВД!$D:$I,MATCH($C69,РВД!$A:$A,),),)),IF(W70=\"Я\",INDEX('график 7,8'!$B$5:$AF$16,MONTH($AP$3),W$11),\"\"))","v":7.8},{"$f":"IFERROR(INDEX(РВД!$D:$I,MATCH($C69,РВД!$A:$A,)+1,MATCH($N$4+X$11-1,INDEX(РВД!$D:$I,MATCH($C69,РВД!$A:$A,),),)),IF(X70=\"Я\",INDEX('график 7,8'!$B$5:$AF$16,MONTH($AP$3),X$11),\"\"))","v":7.8},{"$f":"IFERROR(INDEX(РВД!$D:$I,MATCH($C69,РВД!$A:$A,)+1,MATCH($N$4+Y$11-1,INDEX(РВД!$D:$I,MATCH($C69,РВД!$A:$A,),),)),IF(Y70=\"Я\",INDEX('график 7,8'!$B$5:$AF$16,MONTH($AP$3),Y$11),\"\"))","v":7.8},{"$f":"IFERROR(INDEX(РВД!$D:$I,MATCH($C69,РВД!$A:$A,)+1,MATCH($N$4+Z$11-1,INDEX(РВД!$D:$I,MATCH($C69,РВД!$A:$A,),),)),IF(Z70=\"Я\",INDEX('график 7,8'!$B$5:$AF$16,MONTH($AP$3),Z$11),\"\"))","v":""},{"$f":"IFERROR(INDEX(РВД!$D:$I,MATCH($C69,РВД!$A:$A,)+1,MATCH($N$4+AA$11-1,INDEX(РВД!$D:$I,MATCH($C69,РВД!$A:$A,),),)),IF(AA70=\"Я\",INDEX('график 7,8'!$B$5:$AF$16,MONTH($AP$3),AA$11),\"\"))","v":""},{"$f":"IFERROR(INDEX(РВД!$D:$I,MATCH($C69,РВД!$A:$A,)+1,MATCH($N$4+AB$11-1,INDEX(РВД!$D:$I,MATCH($C69,РВД!$A:$A,),),)),IF(AB70=\"Я\",INDEX('график 7,8'!$B$5:$AF$16,MONTH($AP$3),AB$11),\"\"))","v":7.8},{"$f":"IFERROR(INDEX(РВД!$D:$I,MATCH($C69,РВД!$A:$A,)+1,MATCH($N$4+AC$11-1,INDEX(РВД!$D:$I,MATCH($C69,РВД!$A:$A,),),)),IF(AC70=\"Я\",INDEX('график 7,8'!$B$5:$AF$16,MONTH($AP$3),AC$11),\"\"))","v":7.8},{"$f":"IFERROR(INDEX(РВД!$D:$I,MATCH($C69,РВД!$A:$A,)+1,MATCH($N$4+AD$11-1,INDEX(РВД!$D:$I,MATCH($C69,РВД!$A:$A,),),)),IF(AD70=\"Я\",INDEX('график 7,8'!$B$5:$AF$16,MONTH($AP$3),AD$11),\"\"))","v":7.8},{"$f":"IFERROR(INDEX(РВД!$D:$I,MATCH($C69,РВД!$A:$A,)+1,MATCH($N$4+AE$11-1,INDEX(РВД!$D:$I,MATCH($C69,РВД!$A:$A,),),)),IF(AE70=\"Я\",INDEX('график 7,8'!$B$5:$AF$16,MONTH($AP$3),AE$11),\"\"))","v":7.8},{"$f":"IFERROR(INDEX(РВД!$D:$I,MATCH($C69,РВД!$A:$A,)+1,MATCH($N$4+AF$11-1,INDEX(РВД!$D:$I,MATCH($C69,РВД!$A:$A,),),)),IF(AF70=\"Я\",INDEX('график 7,8'!$B$5:$AF$16,MONTH($AP$3),AF$11),\"\"))","v":7.8},{"$f":"IFERROR(INDEX(РВД!$D:$I,MATCH($C69,РВД!$A:$A,)+1,MATCH($N$4+AG$11-1,INDEX(РВД!$D:$I,MATCH($C69,РВД!$A:$A,),),)),IF(AG70=\"Я\",INDEX('график 7,8'!$B$5:$AF$16,MONTH($AP$3),AG$11),\"\"))","v":""},{"$f":"IFERROR(INDEX(РВД!$D:$I,MATCH($C69,РВД!$A:$A,)+1,MATCH($N$4+AH$11-1,INDEX(РВД!$D:$I,MATCH($C69,РВД!$A:$A,),),)),IF(AH70=\"Я\",INDEX('график 7,8'!$B$5:$AF$16,MONTH($AP$3),AH$11),\"\"))","v":""},{"$f":"IFERROR(INDEX(РВД!$D:$I,MATCH($C69,РВД!$A:$A,)+1,MATCH($N$4+AI$11-1,INDEX(РВД!$D:$I,MATCH($C69,РВД!$A:$A,),),)),IF(AI70=\"Я\",INDEX('график 7,8'!$B$5:$AF$16,MONTH($AP$3),AI$11),\"\"))","v":7.8},{"$f":"IFERROR(INDEX(РВД!$D:$I,MATCH($C69,РВД!$A:$A,)+1,MATCH($N$4+AJ$11-1,INDEX(РВД!$D:$I,MATCH($C69,РВД!$A:$A,),),)),IF(AJ70=\"Я\",INDEX('график 7,8'!$B$5:$AF$16,MONTH($AP$3),AJ$11),\"\"))","v":7.8},{"$f":"\"Я/\"&SUMIF(E70:AJ70,\"Я\",E69:AJ69)","v":"Я/93,6"},{"$f":"(SUMIF(E70:AJ70,\"В\",E69:AJ69)+SUMIF(E70:AJ70,\"В.\",E69:AJ69))*2","v":0},{"$f":"COUNTIFS(E70:AJ70,\"Я\",E69:AJ69,\"<>\")","v":12},{"$f":"IFERROR(VLOOKUP(C69,доплаты!$A$5:$P$118,16,0),\"\")","v":"24"}]
[null,null,null,null,{"$f":"TRIM(LEFT(TRIM(INDEX(отсутствия!$N:$AR,MATCH($C69,отсутствия!$A:$A,),E$11)&\" \"&TEXT(INDEX('график 7,8'!$B$5:$AF$16,MONTH($AP$3),E$11)&\"\",\"Я\")),2))","v":"Б"},{"$f":"TRIM(LEFT(TRIM(INDEX(отсутствия!$N:$AR,MATCH($C69,отсутствия!$A:$A,),F$11)&\" \"&TEXT(INDEX('график 7,8'!$B$5:$AF$16,MONTH($AP$3),F$11)&\"\",\"Я\")),2))","v":"Б"},{"$f":"TRIM(LEFT(TRIM(INDEX(отсутствия!$N:$AR,MATCH($C69,отсутствия!$A:$A,),G$11)&\" \"&TEXT(INDEX('график 7,8'!$B$5:$AF$16,MONTH($AP$3),G$11)&\"\",\"Я\")),2))","v":"Б"},{"$f":"TRIM(LEFT(TRIM(INDEX(отсутствия!$N:$AR,MATCH($C69,отсутствия!$A:$A,),H$11)&\" \"&TEXT(INDEX('график 7,8'!$B$5:$AF$16,MONTH($AP$3),H$11)&\"\",\"Я\")),2))","v":"Б"},{"$f":"TRIM(LEFT(TRIM(INDEX(отсутствия!$N:$AR,MATCH($C69,отсутствия!$A:$A,),I$11)&\" \"&TEXT(INDEX('график 7,8'!$B$5:$AF$16,MONTH($AP$3),I$11)&\"\",\"Я\")),2))","v":"Б"},{"$f":"TRIM(LEFT(TRIM(INDEX(отсутствия!$N:$AR,MATCH($C69,отсутствия!$A:$A,),J$11)&\" \"&TEXT(INDEX('график 7,8'!$B$5:$AF$16,MONTH($AP$3),J$11)&\"\",\"Я\")),2))","v":"Б"},{"$f":"TRIM(LEFT(TRIM(INDEX(отсутствия!$N:$AR,MATCH($C69,отсутствия!$A:$A,),K$11)&\" \"&TEXT(INDEX('график 7,8'!$B$5:$AF$16,MONTH($AP$3),K$11)&\"\",\"Я\")),2))","v":"Б"},{"$f":"TRIM(LEFT(TRIM(INDEX(отсутствия!$N:$AR,MATCH($C69,отсутствия!$A:$A,),L$11)&\" \"&TEXT(INDEX('график 7,8'!$B$5:$AF$16,MONTH($AP$3),L$11)&\"\",\"Я\")),2))","v":"Б"},{"$f":"TRIM(LEFT(TRIM(INDEX(отсутствия!$N:$AR,MATCH($C69,отсутствия!$A:$A,),M$11)&\" \"&TEXT(INDEX('график 7,8'!$B$5:$AF$16,MONTH($AP$3),M$11)&\"\",\"Я\")),2))","v":"Б"},{"$f":"TRIM(LEFT(TRIM(INDEX(отсутствия!$N:$AR,MATCH($C69,отсутствия!$A:$A,),N$11)&\" \"&TEXT(INDEX('график 7,8'!$B$5:$AF$16,MONTH($AP$3),N$11)&\"\",\"Я\")),2))","v":"Б"},{"$f":"TRIM(LEFT(TRIM(INDEX(отсутствия!$N:$AR,MATCH($C69,отсутствия!$A:$A,),O$11)&\" \"&TEXT(INDEX('график 7,8'!$B$5:$AF$16,MONTH($AP$3),O$11)&\"\",\"Я\")),2))","v":"Б"},{"$f":"TRIM(LEFT(TRIM(INDEX(отсутствия!$N:$AR,MATCH($C69,отсутствия!$A:$A,),P$11)&\" \"&TEXT(INDEX('график 7,8'!$B$5:$AF$16,MONTH($AP$3),P$11)&\"\",\"Я\")),2))","v":"Б"},{"$f":"TRIM(LEFT(TRIM(INDEX(отсутствия!$N:$AR,MATCH($C69,отсутствия!$A:$A,),Q$11)&\" \"&TEXT(INDEX('график 7,8'!$B$5:$AF$16,MONTH($AP$3),Q$11)&\"\",\"Я\")),2))","v":"Б"},{"$f":"TRIM(LEFT(TRIM(INDEX(отсутствия!$N:$AR,MATCH($C69,отсутствия!$A:$A,),R$11)&\" \"&TEXT(INDEX('график 7,8'!$B$5:$AF$16,MONTH($AP$3),R$11)&\"\",\"Я\")),2))","v":"Б"},{"$f":"TRIM(LEFT(TRIM(INDEX(отсутствия!$N:$AR,MATCH($C69,отсутствия!$A:$A,),S$11)&\" \"&TEXT(INDEX('график 7,8'!$B$5:$AF$16,MONTH($AP$3),S$11)&\"\",\"Я\")),2))","v":"Б"},null,{"$f":"TRIM(LEFT(TRIM(INDEX(отсутствия!$N:$AR,MATCH($C69,отсутствия!$A:$A,),U$11)&\" \"&TEXT(INDEX('график 7,8'!$B$5:$AF$16,MONTH($AP$3),U$11)&\"\",\"Я\")),2))","v":"Я"},{"$f":"TRIM(LEFT(TRIM(INDEX(отсутствия!$N:$AR,MATCH($C69,отсутствия!$A:$A,),V$11)&\" \"&TEXT(INDEX('график 7,8'!$B$5:$AF$16,MONTH($AP$3),V$11)&\"\",\"Я\")),2))","v":"Я"},{"$f":"TRIM(LEFT(TRIM(INDEX(отсутствия!$N:$AR,MATCH($C69,отсутствия!$A:$A,),W$11)&\" \"&TEXT(INDEX('график 7,8'!$B$5:$AF$16,MONTH($AP$3),W$11)&\"\",\"Я\")),2))","v":"Я"},{"$f":"TRIM(LEFT(TRIM(INDEX(отсутствия!$N:$AR,MATCH($C69,отсутствия!$A:$A,),X$11)&\" \"&TEXT(INDEX('график 7,8'!$B$5:$AF$16,MONTH($AP$3),X$11)&\"\",\"Я\")),2))","v":"Я"},{"$f":"TRIM(LEFT(TRIM(INDEX(отсутствия!$N:$AR,MATCH($C69,отсутствия!$A:$A,),Y$11)&\" \"&TEXT(INDEX('график 7,8'!$B$5:$AF$16,MONTH($AP$3),Y$11)&\"\",\"Я\")),2))","v":"Я"},{"$f":"TRIM(LEFT(TRIM(INDEX(отсутствия!$N:$AR,MATCH($C69,отсутствия!$A:$A,),Z$11)&\" \"&TEXT(INDEX('график 7,8'!$B$5:$AF$16,MONTH($AP$3),Z$11)&\"\",\"Я\")),2))","v":"В"},{"$f":"TRIM(LEFT(TRIM(INDEX(отсутствия!$N:$AR,MATCH($C69,отсутствия!$A:$A,),AA$11)&\" \"&TEXT(INDEX('график 7,8'!$B$5:$AF$16,MONTH($AP$3),AA$11)&\"\",\"Я\")),2))","v":"В"},{"$f":"TRIM(LEFT(TRIM(INDEX(отсутствия!$N:$AR,MATCH($C69,отсутствия!$A:$A,),AB$11)&\" \"&TEXT(INDEX('график 7,8'!$B$5:$AF$16,MONTH($AP$3),AB$11)&\"\",\"Я\")),2))","v":"Я"},{"$f":"TRIM(LEFT(TRIM(INDEX(отсутствия!$N:$AR,MATCH($C69,отсутствия!$A:$A,),AC$11)&\" \"&TEXT(INDEX('график 7,8'!$B$5:$AF$16,MONTH($AP$3),AC$11)&\"\",\"Я\")),2))","v":"Я"},{"$f":"TRIM(LEFT(TRIM(INDEX(отсутствия!$N:$AR,MATCH($C69,отсутствия!$A:$A,),AD$11)&\" \"&TEXT(INDEX('график 7,8'!$B$5:$AF$16,MONTH($AP$3),AD$11)&\"\",\"Я\")),2))","v":"Я"},{"$f":"TRIM(LEFT(TRIM(INDEX(отсутствия!$N:$AR,MATCH($C69,отсутствия!$A:$A,),AE$11)&\" \"&TEXT(INDEX('график 7,8'!$B$5:$AF$16,MONTH($AP$3),AE$11)&\"\",\"Я\")),2))","v":"Я"},{"$f":"TRIM(LEFT(TRIM(INDEX(отсутствия!$N:$AR,MATCH($C69,отсутствия!$A:$A,),AF$11)&\" \"&TEXT(INDEX('график 7,8'!$B$5:$AF$16,MONTH($AP$3),AF$11)&\"\",\"Я\")),2))","v":"Я"},{"$f":"TRIM(LEFT(TRIM(INDEX(отсутствия!$N:$AR,MATCH($C69,отсутствия!$A:$A,),AG$11)&\" \"&TEXT(INDEX('график 7,8'!$B$5:$AF$16,MONTH($AP$3),AG$11)&\"\",\"Я\")),2))","v":"В"},{"$f":"TRIM(LEFT(TRIM(INDEX(отсутствия!$N:$AR,MATCH($C69,отсутствия!$A:$A,),AH$11)&\" \"&TEXT(INDEX('график 7,8'!$B$5:$AF$16,MONTH($AP$3),AH$11)&\"\",\"Я\")),2))","v":"В"},{"$f":"TRIM(LEFT(TRIM(INDEX(отсутствия!$N:$AR,MATCH($C69,отсутствия!$A:$A,),AI$11)&\" \"&TEXT(INDEX('график 7,8'!$B$5:$AF$16,MONTH($AP$3),AI$11)&\"\",\"Я\")),2))","v":"Я"},{"$f":"TRIM(LEFT(TRIM(INDEX(отсутствия!$N:$AR,MATCH($C69,отсутствия!$A:$A,),AJ$11)&\" \"&TEXT(INDEX('график 7,8'!$B$5:$AF$16,MONTH($AP$3),AJ$11)&\"\",\"Я\")),2))","v":"Я"}]
[null,null,null,null,null,null,null,null,null,null,null,null,null,null,null,null,null,null,null,null,null,null,null,null,null,null,null,null,null,null,null,null,null,null,null,null,null,null,null,{"$f":"IFERROR(VLOOKUP(C71,доплаты!$A$5:$P$118,16,0),\"\")","v":""}]
[]
[]
[]
[]
[]
[]
[]
[]
[]
[]
[]
[]
[]
[]
[]
[]
[]
[]
[]
[]
[]
[]
[]
[]
[]
[]
[]
[]
[]
[]
[]
[]
[]
[]
[]
[]
[]
[]
[null,"Ответственный",null,null,null,null,null,null,null,null,null,null,null,null,null,null,null,"Отметка бухгалтерии о принятии настоящего табеля"]
[null,"исполнитель",null,"(должность)",null,null,"(подпись)",null,null,"(расшифровка подписи)"]
[null,null,null,null,null,null,null,null,null,null,null,null,null,null,null,null,null,"Исполнитель"]
[]
[null,null,null,null,null,null,"(подпись)",null,null,"(расшифровка подписи)",null,null,null,null,null,null,null,null,null,null,null,null,null,null,null,"(подпись)"]
[]
[null,"Исполнитель",null,null,null,null,null,null,null,null,null,null,null,null,null,null,null,null,null,null,null,null,null,20,"26"," г."]
[null,null,"(должность)",null,null,"(подпись)",null,null,"(расшифровка подписи)"]
[]
[null,"Руководитель"]
[null,"подразделения","(должность)",null,null,"(подпись)",null,null,"(расшифровка подписи)"]
[]
[]
[null,null,"(должность)",null,null,"(подпись)",null,null,"(расшифровка подписи)"]
[]
[]
[null,null,{"$f":"DAY(AP3)","v":31},{"$f":"(N4)","v":"2026-03-01"},"2026г"]

{"sheet":"график 7,8","index":1,"n_rows":79,"n_cols":39,"rows_kept":79,"cut":false,"hidden":false,"merged":[[47,0,47,34],[65,0,66,0],[65,1,65,31],[65,32,65,33],[49,0,50,0],[49,1,49,31],[49,32,49,33],[25,0,26,0],[25,1,25,31],[25,32,25,33],[39,25,39,31],[16,25,16,31],[22,0,22,34],[0,0,0,34],[1,0,1,34],[2,0,3,0],[2,1,2,31],[2,32,2,33]]}
["Производственный календарь на 2026 год"]
[]
["Месяцы","Ч И С Л А  М Е С Я Ц А",null,null,null,null,null,null,null,null,null,null,null,null,null,null,null,null,null,null,null,null,null,null,null,null,null,null,null,null,null,null,"Рабочие дни",null,"Фонд рабочего времени, час. "]
[null,1,2,3,4,5,6,7,8,9,10,11,12,13,14,15,16,17,18,19,20,21,22,23,24,25,26,27,28,29,30,31,"кол-во      раб. дней","кол-во нераб. дней","39-часовая рабочая неделя"]
["январь","В.","В.","В.","В.","В.","В.","В.","В.","В","В","В",7.8,7.8,7.8,7.8,7.8,"В","В",7.8,7.8,7.8,7.8,7.8,"В","В",7.8,7.8,7.8,7.8,7.8,"В",{"$f":"COUNTIF(B5:AF5,\"7,8\")+COUNTIF(B5:AF5,\"6,8\")","v":15},{"$f":"COUNTIF(B5:AF5,\"В\")+COUNTIF(B5:AF5,\"ФВ\")","v":8},{"$f":"SUM(B5:AF5)","v":116.99999999999997},"2026-01-01","2026-01-31",117,1]
["февраль","В",7.8,7.8,7.8,7.8,7.8,"В","В",7.8,7.8,7.8,7.8,7.8,"В","В",7.8,7.8,7.8,7.8,7.8,"В","В","В.",7.8,7.8,7.8,7.8,"В",null,null,null,{"$f":"COUNTIF(B6:AF6,\"7,8\")+COUNTIF(B6:AF6,\"6,8\")","v":19},{"$f":"COUNTIF(B6:AF6,\"В\")+COUNTIF(B6:AF6,\"ФВ\")","v":8},{"$f":"SUM(B6:AF6)","v":148.19999999999999},"2026-02-01","2026-02-28",148.19999999999999,2]
["март","В",7.8,7.8,7.8,7.8,7.8,"В","В.","В",7.8,7.8,7.8,7.8,"В","В",7.8,7.8,7.8,7.8,7.8,"В","В",7.8,7.8,7.8,7.8,7.8,"В","В",7.8,7.8,21,9,{"$f":"SUM(B7:AF7)","v":163.80000000000001},"2026-03-01","2026-03-31",163.80000000000001,3]
["апрель",7.8,7.8,7.8,"В","В",7.8,7.8,7.8,7.8,7.8,"В","В",7.8,7.8,7.8,7.8,7.8,"В","В",7.8,7.8,7.8,7.8,7.8,"В","В",7.8,7.8,7.8,6.8,null,22,8,170.60000000000002,"2026-04-01","2026-04-30",170.6,4]
["май","В.","В","В",7.8,7.8,7.8,7.8,6.8,"В.","В","В",7.8,7.8,7.8,7.8,"В","В",7.8,7.8,7.8,7.8,7.8,"В","В",7.8,7.8,7.8,7.8,7.8,"В","В",19,10,147.19999999999999,"2026-05-01","2026-05-31",147.19999999999999,5]
["июнь",7.8,7.8,7.8,7.8,7.8,"В","В",7.8,7.8,7.8,6.8,"В.","В","В",7.8,7.8,7.8,7.8,7.8,"В","В",7.8,7.8,7.8,7.8,7.8,"В","В",7.8,7.8,null,21,8,162.80000000000001,"2026-06-01","2026-06-30",162.80000000000001,6]
["июль",7.8,7.8,7.8,"В","В",7.8,7.8,7.8,7.8,7.8,"В","В",7.8,7.8,7.8,7.8,7.8,"В","В",7.8,7.8,7.8,7.8,7.8,"В","В",7.8,7.8,7.8,7.8,7.8,23,8,179.40000000000003,"2026-07-01","2026-07-31",179.4,7]
["август","В","В",7.8,7.8,7.8,7.8,7.8,"В","В",7.8,7.8,7.8,7.8,7.8,"В","В",7.8,7.8,7.8,7.8,7.8,"В","В",7.8,7.8,7.8,7.8,7.8,"В","В",7.8,21,10,163.80000000000001,"2026-08-01","2026-08-31",163.80000000000001,8]
["сентябрь",7.8,7.8,7.8,7.8,"В","В",7.8,7.8,7.8,7.8,7.8,"В","В",7.8,7.8,7.8,7.8,7.8,"В","В",7.8,7.8,7.8,7.8,7.8,"В","В",7.8,7.8,7.8,null,22,8,171.60000000000002,"2026-09-01","2026-09-30",171.6,9]
["октябрь",7.8,7.8,"В","В",7.8,7.8,7.8,7.8,7.8,"В","В",7.8,7.8,7.8,7.8,7.8,"В","В",7.8,7.8,7.8,7.8,7.8,"В","В",7.8,7.8,7.8,7.8,7.8,"В",22,9,171.60000000000002,"2026-10-01","2026-10-31",171.6,10]
["ноябрь","В",7.8,6.8,"В.",7.8,7.8,"В","В",7.8,7.8,7.8,7.8,7.8,"В","В",7.8,7.8,7.8,7.8,7.8,"В","В",7.8,7.8,7.8,7.8,7.8,"В","В",7.8,null,20,9,155,"2026-11-01","2026-11-30",155,11]
["декабрь",7.8,7.8,7.8,7.8,"В","В",7.8,7.8,7.8,7.8,7.8,"В","В",7.8,7.8,7.8,7.8,7.8,"В","В",7.8,7.8,7.8,7.8,7.8,"В","В",7.8,7.8,7.8,"В",22,9,171.60000000000002,"2026-12-01","2026-12-31",171.6,12]
[null,null,null,null,null,null,null,null,null,null,null,null,null,null,null,null,null,null,null,null,null,null,null,null,null," ВСЕГО за ГОД",null,null,null,null,null,null,{"$f":"SUM(AG5:AG16)","v":247},{"$f":"SUM(AH5:AH16)","v":104},{"$f":"SUM(AI5:AI16)","v":1922.6}]
[null,"В","выходные дни и дни отдыха"]
[null,"В","праздничные дни"]
[null,null,"предпраздничные дни"]
[null,"7,8 - продолжительность рабочего дня в часах"]
[]
["Производственный календарь на 2026 год"]
[null,null,null,null,null,null,null,null,null,null,null,null,null,null,null,null,"неделя",null,"ставка",null,"часов в неделю",null,"дней"]
[null,null,null,null,null,null,null,null,null,null,null,null,"0,75 ставки",null,null,null,39,"*",0.75,"=",{"$f":"Q25*S25","v":29.25},":",5,"=",{"$f":"U25/W25","v":5.85},"часа",null,4.8499999999999996,"на 1 час короче"]
["Месяцы","Ч И С Л А  М Е С Я Ц А",null,null,null,null,null,null,null,null,null,null,null,null,null,null,null,null,null,null,null,null,null,null,null,null,null,null,null,null,null,null,"Рабочие дни",null,"Фонд рабочего времени, час. "]
[null,1,2,3,4,5,6,7,8,9,10,11,12,13,14,15,16,17,18,19,20,21,22,23,24,25,26,27,28,29,30,31,"кол-во      раб. дней","кол-во нераб. дней","39-часовая рабочая неделя",null,null,"проверка"]
["январь","В.","В.","В.","В.","В.","В.","В.","В.","В","В","В",5.85,5.85,5.85,5.85,5.85,"В","В",5.85,5.85,5.85,5.85,5.85,"В","В",5.85,5.85,5.85,5.85,5.85,"В",{"$f":"COUNTIF(B28:AF28,\"5,85\")+COUNTIF(B28:AF28,\"4,85\")","v":15},{"$f":"COUNTIF(B28:AF28,\"В\")+COUNTIF(B28:AF28,\"ФВ\")","v":8},{"$f":"SUM(B28:AF28)","v":87.749999999999986},"2026-01-01","2026-01-31",{"$f":"AG28*5.85","v":87.75},1]
["февраль","В",5.85,5.85,5.85,5.85,5.85,"В","В",5.85,5.85,5.85,5.85,5.85,"В","В",5.85,5.85,5.85,5.85,5.85,"В","В","В.",5.85,5.85,5.85,5.85,"В",null,null,null,{"$f":"COUNTIF(B29:AF29,\"5,85\")+COUNTIF(B29:AF29,\"4,85\")","v":19},{"$f":"COUNTIF(B29:AF29,\"В\")+COUNTIF(B29:AF29,\"ФВ\")","v":8},{"$f":"SUM(B29:AF29)","v":111.14999999999996},"2026-02-01","2026-02-28",{"$f":"AG29*5.85","v":111.14999999999999},2]
["март","В",5.85,5.85,5.85,5.85,5.85,"В","В.","В",5.85,5.85,5.85,5.85,"В","В",5.85,5.85,5.85,5.85,5.85,"В","В",5.85,5.85,5.85,5.85,5.85,"В","В",5.85,5.85,21,9,{"$f":"SUM(B30:AF30)","v":122.84999999999995},"2026-03-01","2026-03-31",122.85,3]
["апрель",5.85,5.85,5.85,"В","В",5.85,5.85,5.85,5.85,5.85,"В","В",5.85,5.85,5.85,5.85,5.85,"В","В",5.85,5.85,5.85,5.85,5.85,"В","В",5.85,5.85,5.85,4.8499999999999996,null,22,8,127.69999999999995,"2026-04-01","2026-04-30",{"$f":"(AG31-1)*5.85+4.85","v":127.69999999999999},4]
["май","В.","В","В",5.85,5.85,5.85,5.85,4.8499999999999996,"В.","В","В",5.85,5.85,5.85,5.85,"В","В",5.85,5.85,5.85,5.85,5.85,"В","В",5.85,5.85,5.85,5.85,5.85,"В","В",19,10,110.14999999999996,"2026-05-01","2026-05-31",{"$f":"(AG32-1)*5.85+4.85","v":110.14999999999999},5]
["июнь",5.85,5.85,5.85,5.85,5.85,"В","В",5.85,5.85,5.85,4.8499999999999996,"В.","В","В",5.85,5.85,5.85,5.85,5.85,"В","В",5.85,5.85,5.85,5.85,5.85,"В","В",5.85,5.85,null,21,8,121.84999999999995,"2026-06-01","2026-06-30",121.85,6]
["июль",5.85,5.85,5.85,"В","В",5.85,5.85,5.85,5.85,5.85,"В","В",5.85,5.85,5.85,5.85,5.85,"В","В",5.85,5.85,5.85,5.85,5.85,"В","В",5.85,5.85,5.85,5.85,5.85,23,8,134.54999999999995,"2026-07-01","2026-07-31",134.54999999999998,7]
["август","В","В",5.85,5.85,5.85,5.85,5.85,"В","В",5.85,5.85,5.85,5.85,5.85,"В","В",5.85,5.85,5.85,5.85,5.85,"В","В",5.85,5.85,5.85,5.85,5.85,"В","В",5.85,21,10,122.84999999999995,"2026-08-01","2026-08-31",122.85,8]
["сентябрь",5.85,5.85,5.85,5.85,"В","В",5.85,5.85,5.85,5.85,5.85,"В","В",5.85,5.85,5.85,5.85,5.85,"В","В",5.85,5.85,5.85,5.85,5.85,"В","В",5.85,5.85,5.85,null,22,8,128.69999999999996,"2026-09-01","2026-09-30",128.69999999999999,9]
["октябрь",5.85,5.85,"В","В",5.85,5.85,5.85,5.85,5.85,"В","В",5.85,5.85,5.85,5.85,5.85,"В","В",5.85,5.85,5.85,5.85,5.85,"В","В",5.85,5.85,5.85,5.85,5.85,"В",22,9,128.69999999999996,"2026-10-01","2026-10-31",128.69999999999999,10]
["ноябрь","В",5.85,4.8499999999999996,"В.",5.85,5.85,"В","В",5.85,5.85,5.85,5.85,5.85,"В","В",5.85,5.85,5.85,5.85,5.85,"В","В",5.85,5.85,5.85,5.85,5.85,"В","В",5.85,null,20,9,115.99999999999996,"2026-11-01","2026-11-30",{"$f":"(AG38-1)*5.85+4.85","v":115.99999999999999},11]
["декабрь",5.85,5.85,5.85,5.85,"В","В",5.85,5.85,5.85,5.85,5.85,"В","В",5.85,5.85,5.85,5.85,5.85,"В","В",5.85,5.85,5.85,5.85,5.85,"В","В",5.85,5.85,5.85,"В",22,9,128.69999999999996,"2026-12-01","2026-12-31",128.69999999999999,12]
[null,null,null,null,null,null,null,null,null,null,null,null,null,null,null,null,null,null,null,null,null,null,null,null,null," ВСЕГО за ГОД",null,null,null,null,null,null,{"$f":"SUM(AG28:AG39)","v":247},{"$f":"SUM(AH28:AH39)","v":104},{"$f":"SUM(AI28:AI39)","v":1440.9499999999996},null,null,{"$f":"SUM(AL28:AL39)","v":1440.95}]
[]
[null,7.8,"=","07:48:00",null,null,"08:00:00",null,{"$f":"G42+D42","v":"15:48:00"},null,"обед не учтен, можно скорректировать"]
[null,6.8,"=","06:48:00",null,null,"08:00:00",null,{"$f":"G43+D43","v":"14:48:00"},null,"обед не учтен"]
[null,5.85,"=","05:51:00",null,null,"08:00:00",null,"13:51:00",null,"обед не учтен"]
[null,4.8499999999999996,"=","04:51:00",null,null,"08:00:00",null,"12:51:00",null,"обед не учтен"]
[]
[]
["Производственный календарь на 2026 год"]
[null,null,null,null,null,null,null,null,null,null,null,"0,5 ставки"]
["Месяцы","Ч И С Л А  М Е С Я Ц А",null,null,null,null,null,null,null,null,null,null,null,null,null,null,null,null,null,null,null,null,null,null,null,null,null,null,null,null,null,null,"Рабочие дни",null,"Фонд рабочего времени, час. "]
[null,1,2,3,4,5,6,7,8,9,10,11,12,13,14,15,16,17,18,19,20,21,22,23,24,25,26,27,28,29,30,31,"кол-во      раб. дней","кол-во нераб. дней","39-часовая рабочая неделя",null,null,"проверка"]
["январь","В.","В.","В.","В.","В.","В.","В.","В.","В","В","В",3.9,3.9,3.9,3.9,3.9,"В","В",3.9,3.9,3.9,3.9,3.9,"В","В",3.9,3.9,3.9,3.9,3.9,"В",{"$f":"COUNTIF(B52:AF52,\"3,9\")+COUNTIF(B52:AF52,\"2,9\")","v":15},{"$f":"COUNTIF(B52:AF52,\"В\")+COUNTIF(B52:AF52,\"ФВ\")","v":8},{"$f":"SUM(B52:AF52)","v":58.499999999999986},"2026-01-01","2026-01-31",{"$f":"AG52*3.9","v":58.5},1]
["февраль","В",3.9,3.9,3.9,3.9,3.9,"В","В",3.9,3.9,3.9,3.9,3.9,"В","В",3.9,3.9,3.9,3.9,3.9,"В","В","В.",3.9,3.9,3.9,3.9,"В",null,null,null,19,{"$f":"COUNTIF(B53:AF53,\"В\")+COUNTIF(B53:AF53,\"ФВ\")","v":8},{"$f":"SUM(B53:AF53)","v":74.099999999999994},"2026-02-01","2026-02-28",{"$f":"AG53*3.9","v":74.099999999999994},2]
["март","В",3.9,3.9,3.9,3.9,3.9,"В","В.","В",3.9,3.9,3.9,3.9,"В","В",3.9,3.9,3.9,3.9,3.9,"В","В",3.9,3.9,3.9,3.9,3.9,"В","В",3.9,3.9,21,9,{"$f":"SUM(B54:AF54)","v":81.900000000000006},"2026-03-01","2026-03-31",{"$f":"AG54*3.9","v":81.899999999999991},3]
["апрель",3.9,3.9,3.9,"В","В",3.9,3.9,3.9,3.9,3.9,"В","В",3.9,3.9,3.9,3.9,3.9,"В","В",3.9,3.9,3.9,3.9,3.9,"В","В",3.9,3.9,3.9,2.9,null,22,8,84.800000000000011,"2026-04-01","2026-04-30",{"$f":"(AG55-1)*3.9+2.9","v":84.8},4]
["май","В.","В","В",3.9,3.9,3.9,3.9,2.9,"В.","В","В",3.9,3.9,3.9,3.9,"В","В",3.9,3.9,3.9,3.9,3.9,"В","В",3.9,3.9,3.9,3.9,3.9,"В","В",19,10,73.099999999999994,"2026-05-01","2026-05-31",{"$f":"(AG56-1)*3.9+2.9","v":73.100000000000009},5]
["июнь",3.9,3.9,3.9,3.9,3.9,"В","В",3.9,3.9,3.9,2.9,"В.","В","В",3.9,3.9,3.9,3.9,3.9,"В","В",3.9,3.9,3.9,3.9,3.9,"В","В",3.9,3.9,null,21,8,80.900000000000006,"2026-06-01","2026-06-30",{"$f":"(AG57-1)*3.9+2.9","v":80.900000000000006},6]
["июль",3.9,3.9,3.9,"В","В",3.9,3.9,3.9,3.9,3.9,"В","В",3.9,3.9,3.9,3.9,3.9,"В","В",3.9,3.9,3.9,3.9,3.9,"В","В",3.9,3.9,3.9,3.9,3.9,23,8,89.700000000000017,"2026-07-01","2026-07-31",{"$f":"AG58*3.9","v":89.7},7]
["август","В","В",3.9,3.9,3.9,3.9,3.9,"В","В",3.9,3.9,3.9,3.9,3.9,"В","В",3.9,3.9,3.9,3.9,3.9,"В","В",3.9,3.9,3.9,3.9,3.9,"В","В",3.9,21,10,81.900000000000006,"2026-08-01","2026-08-31",{"$f":"AG59*3.9","v":81.899999999999991},8]
["сентябрь",3.9,3.9,3.9,3.9,"В","В",3.9,3.9,3.9,3.9,3.9,"В","В",3.9,3.9,3.9,3.9,3.9,"В","В",3.9,3.9,3.9,3.9,3.9,"В","В",3.9,3.9,3.9,null,22,8,85.800000000000011,"2026-09-01","2026-09-30",{"$f":"AG60*3.9","v":85.8},9]
["октябрь",3.9,3.9,"В","В",3.9,3.9,3.9,3.9,3.9,"В","В",3.9,3.9,3.9,3.9,3.9,"В","В",3.9,3.9,3.9,3.9,3.9,"В","В",3.9,3.9,3.9,3.9,3.9,"В",22,9,85.800000000000011,"2026-10-01","2026-10-31",{"$f":"AG61*3.9","v":85.8},10]
["ноябрь","В",3.9,2.9,"В.",3.9,3.9,"В","В",3.9,3.9,3.9,3.9,3.9,"В","В",3.9,3.9,3.9,3.9,3.9,"В","В",3.9,3.9,3.9,3.9,3.9,"В","В",3.9,null,20,9,77,"2026-11-01","2026-11-30",{"$f":"(AG62-1)*3.9+2.9","v":77},11]
["декабрь",3.9,3.9,3.9,3.9,"В","В",3.9,3.9,3.9,3.9,3.9,"В","В",3.9,3.9,3.9,3.9,3.9,"В","В",3.9,3.9,3.9,3.9,3.9,"В","В",3.9,3.9,3.9,"В",22,9,85.800000000000011,"2026-12-01","2026-12-31",{"$f":"AG63*3.9","v":85.8},12]
[null,null,null,null,null,null,null,null,null,null,null,null,null,null,null,null,null,null,null,null,null,null,null,null,null,null,null,null,null,null,null,null,{"$f":"SUM(AG52:AG63)","v":247},{"$f":"SUM(AH52:AH63)","v":104},959.3,null,null,{"$f":"SUM(AL52:AL63)","v":959.3}]
[]
["Месяцы","Ч И С Л А  М Е С Я Ц А",null,null,null,null,null,null,null,null,null,null,null,null,null,null,null,null,null,null,null,null,null,null,null,null,null,null,null,null,null,null,"Рабочие дни",null,"Фонд рабочего времени, час. "]
[null,1,2,3,4,5,6,7,8,9,10,11,12,13,14,15,16,17,18,19,20,21,22,23,24,25,26,27,28,29,30,31,"кол-во      раб. дней","кол-во нераб. дней","39-часовая рабочая неделя",null,null,"проверка"]
["январь","ФВ","ФВ","ФВ","ФВ","ФВ","ФВ","ФВ","ФВ","В","В","В",3.9,3.9,3.9,3.9,3.9,"В","В",3.9,3.9,3.9,3.9,3.9,"В","В",3.9,3.9,3.9,3.9,3.9,"В",{"$f":"COUNTIF(B68:AF68,\"3,9\")+COUNTIF(B68:AF68,\"2,9\")","v":15},{"$f":"COUNTIF(B68:AF68,\"В\")+COUNTIF(B68:AF68,\"ФВ\")","v":16},{"$f":"SUM(B68:AF68)","v":58.499999999999986},"2026-01-01","2026-01-31",{"$f":"AG68*3.9","v":58.5},{"$f":"AI68-AL68","v":0}]
["февраль","В",3.9,3.9,3.9,3.9,3.9,"В","В",3.9,3.9,3.9,3.9,3.9,"В","В",3.9,3.9,3.9,3.9,3.9,"В","В","ФВ",3.9,3.9,3.9,3.9,"В",null,null,null,19,{"$f":"COUNTIF(B69:AF69,\"В\")+COUNTIF(B69:AF69,\"ФВ\")","v":9},{"$f":"SUM(B69:AF69)","v":74.099999999999994},"2026-02-01","2026-02-28",{"$f":"AG69*3.9","v":74.099999999999994},{"$f":"AI69-AL69","v":0}]
["март","В",3.9,3.9,3.9,3.9,3.9,"В","ФВ","В",3.9,3.9,3.9,3.9,"В","В",3.9,3.9,3.9,3.9,3.9,"В","В",3.9,3.9,3.9,3.9,3.9,"В","В",3.9,3.9,21,10,{"$f":"SUM(B70:AF70)","v":81.900000000000006},"2026-03-01","2026-03-31",{"$f":"AG70*3.9","v":81.899999999999991},0]
["апрель",3.9,3.9,3.9,"В","В",3.9,3.9,3.9,3.9,3.9,"В","В",3.9,3.9,3.9,3.9,3.9,"В","В",3.9,3.9,3.9,3.9,3.9,"В","В",3.9,3.9,3.9,2.9,null,22,8,84.800000000000011,"2026-04-01","2026-04-30",{"$f":"(AG71-1)*3.9+2.9","v":84.8},0]
["май","ФВ","В","В",3.9,3.9,3.9,3.9,2.9,"ФВ","В","В",3.9,3.9,3.9,3.9,"В","В",3.9,3.9,3.9,3.9,3.9,"В","В",3.9,3.9,3.9,3.9,3.9,"В","В",19,12,73.099999999999994,"2026-05-01","2026-05-31",{"$f":"(AG72-1)*3.9+2.9","v":73.100000000000009},0]
["июнь",3.9,3.9,3.9,3.9,3.9,"В","В",3.9,3.9,3.9,2.9,"ФВ","В","В",3.9,3.9,3.9,3.9,3.9,"В","В",3.9,3.9,3.9,3.9,3.9,"В","В",3.9,3.9,null,21,9,80.900000000000006,"2026-06-01","2026-06-30",{"$f":"(AG73-1)*3.9+2.9","v":80.900000000000006},0]
["июль",3.9,3.9,3.9,"В","В",3.9,3.9,3.9,3.9,3.9,"В","В",3.9,3.9,3.9,3.9,3.9,"В","В",3.9,3.9,3.9,3.9,3.9,"В","В",3.9,3.9,3.9,3.9,3.9,23,8,89.700000000000017,"2026-07-01","2026-07-31",{"$f":"AG74*3.9","v":89.7},0]
["август","В","В",3.9,3.9,3.9,3.9,3.9,"В","В",3.9,3.9,3.9,3.9,3.9,"В","В",3.9,3.9,3.9,3.9,3.9,"В","В",3.9,3.9,3.9,3.9,3.9,"В","В",3.9,21,10,81.900000000000006,"2026-08-01","2026-08-31",{"$f":"AG75*3.9","v":81.899999999999991},0]
["сентябрь",3.9,3.9,3.9,3.9,"В","В",3.9,3.9,3.9,3.9,3.9,"В","В",3.9,3.9,3.9,3.9,3.9,"В","В",3.9,3.9,3.9,3.9,3.9,"В","В",3.9,3.9,3.9,null,22,8,85.800000000000011,"2026-09-01","2026-09-30",{"$f":"AG76*3.9","v":85.8},0]
["октябрь",3.9,3.9,"В","В",3.9,3.9,3.9,3.9,3.9,"В","В",3.9,3.9,3.9,3.9,3.9,"В","В",3.9,3.9,3.9,3.9,3.9,"В","В",3.9,3.9,3.9,3.9,3.9,"В",22,9,85.800000000000011,"2026-10-01","2026-10-31",{"$f":"AG77*3.9","v":85.8},0]
["ноябрь","В",3.9,2.9,"ФВ",3.9,3.9,"В","В",3.9,3.9,3.9,3.9,3.9,"В","В",3.9,3.9,3.9,3.9,3.9,"В","В",3.9,3.9,3.9,3.9,3.9,"В","В",3.9,null,20,10,77,"2026-11-01","2026-11-30",{"$f":"(AG78-1)*3.9+2.9","v":77},0]
["декабрь",3.9,3.9,3.9,3.9,"В","В",3.9,3.9,3.9,3.9,3.9,"В","В",3.9,3.9,3.9,3.9,3.9,"В","В",3.9,3.9,3.9,3.9,3.9,"В","В",3.9,3.9,3.9,"В",22,9,85.800000000000011,"2026-12-01","2026-12-31",{"$f":"AG79*3.9","v":85.8},0]

{"sheet":"Лист1","index":2,"n_rows":28,"n_cols":5,"rows_kept":28,"cut":false,"hidden":true,"merged":[]}
[]
[12,{"$f":"19609+1800+784.36+1400","v":23593.360000000001},{"$f":"169.4","v":169.4},{"$f":"B2/C2*A2","v":1671.3123966942148}]
[null,null,null,1671.31]
[null,null,null,{"$f":"D3-D2","v":-2.3966942148945236E-3}]
[]
[6,19609,{"$f":"B6/C2*A6","v":694.53364817001182},{"$f":"C6*2","v":1389.0672963400236}]
[]
[]
[]
[null,"февраль","норма часов",148.19999999999999]
["оклад",148.19999999999999,{"$f":"19609","v":19609}]
["вредность",0.04,{"$f":"C11*B12","v":784.36}]
["стаж",1800,{"$f":"B13/D10*B11","v":1799.9999999999998}]
["выходные",12,{"$f":"ROUND((C11+C12+C13)/B11*B14,2)","v":1797.03}]
[null,null,{"$f":"SUM(C11:C14)","v":23990.39}]
[]
["МРОТ",null,31000]
[null,null,{"$f":"C17-C15","v":7009.6100000000006}]
[]
[]
[]
[]
[]
[null,null,{"$f":"0.7*60","v":42}]
[]
[]
[null,"08:00:00","07:48:00","00:30:00",{"$f":"B27+C27+D27","v":"16:18:00"}]
[null,"08:00:00","07:42:00","00:30:00",{"$f":"B28+C28+D28","v":"16:12:00"}]

{"sheet":"отсутствия","index":3,"n_rows":244,"n_cols":44,"rows_kept":244,"cut":false,"hidden":false,"merged":[[2,9,2,10],[2,3,2,4],[2,5,2,6],[2,7,2,8]]}
["                  Список работников имеющих отсутствия за ",null,null,null,{"$f":"LOWER(TEXT(стр.1!AP3,\"ММММ\"))","v":"март"},"2026г",null,null,null,null,null,null,{"$f":"EOMONTH(стр.1!AP3,-1)","v":"2026-02-28"},{"$f":"M1+1","v":"2026-03-01"},{"$f":"N1+1","v":"2026-03-02"},"2026-03-03","2026-03-04","2026-03-05","2026-03-06","2026-03-07","2026-03-08","2026-03-09","2026-03-10","2026-03-11","2026-03-12","2026-03-13","2026-03-14","2026-03-15","2026-03-16","2026-03-17","2026-03-18","2026-03-19","2026-03-20","2026-03-21","2026-03-22","2026-03-23","2026-03-24","2026-03-25","2026-03-26","2026-03-27","2026-03-28",{"$f":"IF(AO1=\"\",\"\",IF(AO1+1>$M2,\"\",AO1+1))","v":"2026-03-29"},{"$f":"IF(AP1=\"\",\"\",IF(AP1+1>$M2,\"\",AP1+1))","v":"2026-03-30"},"2026-03-31"]
[null,null,null,null,null,null,null,null,null,null,null,null,{"$f":"EOMONTH(стр.1!AP3,0)","v":"2026-03-31"}]
[null,null,null,"Б",null,"О",null,"А",null,{"$f":"CHAR(10)","v":"\n"}]
["таб.номер","ФИО ","должность","начало","окончание","начало","окончание","начало","окончание","начало","окончание"]
[{"$f":"стр.1!C13","v":3849},{"$f":"IFERROR(VLOOKUP(A5,стр.1!$A$13:$D$106,2,FALSE),\"\")","v":"Копытов"},{"$f":"IFERROR(VLOOKUP(A5,стр.1!$A$13:$D$106,4,FALSE),\"\")","v":"сборная"},null,null,null,null,null,null,null,null,null,null,{"$f":"N6&N7&N8&N9","v":""},{"$f":"O6&O7&O8&O9","v":""},"","","","","","","","","","","","","","","","","","","","","","","","","","","","",""]
[null,null,null,null,null,null,null,null,null,null,null,null,null,{"$f":"IF(OR(AND(N$1>=$D5,N$1<=IF(AND($D5>$M$1,$E5=\"\"),$M$2,$E5)),AND(N$1>=$D6,N$1<=IF(AND($D6>$M$1,$E6=\"\"),$M$2,$E6)),AND(N$1>=$D7,N$1<=IF(AND($D7>$M$1,$E7=\"\"),$M$2,$E7)),AND(N$1>=$D8,N$1<=IF(AND($D8>$M$1,$E8=\"\"),$M$2,$E8))),$D$3,\"\")","v":""},{"$f":"IF(OR(AND(O$1>=$D5,O$1<=IF(AND($D5>$M$1,$E5=\"\"),$M$2,$E5)),AND(O$1>=$D6,O$1<=IF(AND($D6>$M$1,$E6=\"\"),$M$2,$E6)),AND(O$1>=$D7,O$1<=IF(AND($D7>$M$1,$E7=\"\"),$M$2,$E7)),AND(O$1>=$D8,O$1<=IF(AND($D8>$M$1,$E8=\"\"),$M$2,$E8))),$D$3,\"\")","v":""},"","","","","","","","","","","","","","","","","","","","","","","","","","",{"$f":"IF(AP$1=\"\",\"\",IF(OR(AND(AP$1>=$D5,AP$1<=IF(AND($D5>$M$1,$E5=\"\"),$M$2,$E5)),AND(AP$1>=$D6,AP$1<=IF(AND($D6>$M$1,$E6=\"\"),$M$2,$E6)),AND(AP$1>=$D7,AP$1<=IF(AND($D7>$M$1,$E7=\"\"),$M$2,$E7)),AND(AP$1>=$D8,AP$1<=IF(AND($D8>$M$1,$E8=\"\"),$M$2,$E8))),$D$3,\"\"))","v":""},{"$f":"IF(AQ$1=\"\",\"\",IF(OR(AND(AQ$1>=$D5,AQ$1<=IF(AND($D5>$M$1,$E5=\"\"),$M$2,$E5)),AND(AQ$1>=$D6,AQ$1<=IF(AND($D6>$M$1,$E6=\"\"),$M$2,$E6)),AND(AQ$1>=$D7,AQ$1<=IF(AND($D7>$M$1,$E7=\"\"),$M$2,$E7)),AND(AQ$1>=$D8,AQ$1<=IF(AND($D8>$M$1,$E8=\"\"),$M$2,$E8))),$D$3,\"\"))","v":""},""]
[null,null,null,null,null,null,null,null,null,null,null,null,null,{"$f":"IF(OR(AND(N$1>=$F5,N$1<=IF(AND($F5>$M$1,$G5=\"\"),$M$2,$G5)),AND(N$1>=$F6,N$1<=IF(AND($F6>$M$1,$G6=\"\"),$M$2,$G6)),AND(N$1>=$F7,N$1<=IF(AND($F7>$M$1,$G7=\"\"),$M$2,$G7)),AND(N$1>=$F8,N$1<=IF(AND($F8>$M$1,$G8=\"\"),$M$2,$G8))),$F$3,\"\")","v":""},{"$f":"IF(OR(AND(O$1>=$F5,O$1<=IF(AND($F5>$M$1,$G5=\"\"),$M$2,$G5)),AND(O$1>=$F6,O$1<=IF(AND($F6>$M$1,$G6=\"\"),$M$2,$G6)),AND(O$1>=$F7,O$1<=IF(AND($F7>$M$1,$G7=\"\"),$M$2,$G7)),AND(O$1>=$F8,O$1<=IF(AND($F8>$M$1,$G8=\"\"),$M$2,$G8))),$F$3,\"\")","v":""},"","","","","","","","","","","","","","","","","","","","","","","","","","",{"$f":"IF(AP$1=\"\",\"\",IF(OR(AND(AP$1>=$F5,AP$1<=IF(AND($F5>$M$1,$G5=\"\"),$M$2,$G5)),AND(AP$1>=$F6,AP$1<=IF(AND($F6>$M$1,$G6=\"\"),$M$2,$G6)),AND(AP$1>=$F7,AP$1<=IF(AND($F7>$M$1,$G7=\"\"),$M$2,$G7)),AND(AP$1>=$F8,AP$1<=IF(AND($F8>$M$1,$G8=\"\"),$M$2,$G8))),$F$3,\"\"))","v":""},{"$f":"IF(AQ$1=\"\",\"\",IF(OR(AND(AQ$1>=$F5,AQ$1<=IF(AND($F5>$M$1,$G5=\"\"),$M$2,$G5)),AND(AQ$1>=$F6,AQ$1<=IF(AND($F6>$M$1,$G6=\"\"),$M$2,$G6)),AND(AQ$1>=$F7,AQ$1<=IF(AND($F7>$M$1,$G7=\"\"),$M$2,$G7)),AND(AQ$1>=$F8,AQ$1<=IF(AND($F8>$M$1,$G8=\"\"),$M$2,$G8))),$F$3,\"\"))","v":""},""]
[null,null,null,null,null,null,null,null,null,null,null,null,null,{"$f":"IF(OR(AND(N$1>=$H5,N$1<=IF(AND($H5>$M$1,$I5=\"\"),$M$2,$I5)),AND(N$1>=$H6,N$1<=IF(AND($H6>$M$1,$I6=\"\"),$M$2,$I6)),AND(N$1>=$H7,N$1<=IF(AND($H7>$M$1,$I7=\"\"),$M$2,$I7)),AND(N$1>=$H8,N$1<=IF(AND($H8>$M$1,$I8=\"\"),$M$2,$I8))),$H$3,\"\")","v":""},"","","","","","","","","","","","","","","","","","","","","","","","","","","",{"$f":"IF(AP$1=\"\",\"\",IF(OR(AND(AP$1>=$H5,AP$1<=IF(AND($H5>$M$1,$I5=\"\"),$M$2,$I5)),AND(AP$1>=$H6,AP$1<=IF(AND($H6>$M$1,$I6=\"\"),$M$2,$I6)),AND(AP$1>=$H7,AP$1<=IF(AND($H7>$M$1,$I7=\"\"),$M$2,$I7)),AND(AP$1>=$H8,AP$1<=IF(AND($H8>$M$1,$I8=\"\"),$M$2,$I8))),$H$3,\"\"))","v":""},{"$f":"IF(AQ$1=\"\",\"\",IF(OR(AND(AQ$1>=$H5,AQ$1<=IF(AND($H5>$M$1,$I5=\"\"),$M$2,$I5)),AND(AQ$1>=$H6,AQ$1<=IF(AND($H6>$M$1,$I6=\"\"),$M$2,$I6)),AND(AQ$1>=$H7,AQ$1<=IF(AND($H7>$M$1,$I7=\"\"),$M$2,$I7)),AND(AQ$1>=$H8,AQ$1<=IF(AND($H8>$M$1,$I8=\"\"),$M$2,$I8))),$H$3,\"\"))","v":""},{"$f":"IF(AR$1=\"\",\"\",IF(OR(AND(AR$1>=$H5,AR$1<=IF(AND($H5>$M$1,$I5=\"\"),$M$2,$I5)),AND(AR$1>=$H6,AR$1<=IF(AND($H6>$M$1,$I6=\"\"),$M$2,$I6)),AND(AR$1>=$H7,AR$1<=IF(AND($H7>$M$1,$I7=\"\"),$M$2,$I7)),AND(AR$1>=$H8,AR$1<=IF(AND($H8>$M$1,$I8=\"\"),$M$2,$I8))),$H$3,\"\"))","v":""}]
[null,null,null,null,null,null,null,null,null,null,null,null,null,{"$f":"IF(OR(AND(N$1>=$J5,N$1<=IF(AND($J5>$M$1,$K5=\"\"),$M$2,$K5)),AND(N$1>=$J6,N$1<=IF(AND($J6>$M$1,$K6=\"\"),$M$2,$K6)),AND(N$1>=$J7,N$1<=IF(AND($J7>$M$1,$K7=\"\"),$M$2,$K7)),AND(N$1>=$J8,N$1<=IF(AND($J8>$M$1,$K8=\"\"),$M$2,$K8)),AND(N$1>=$J9,N$1<=IF(AND($J9>$M$1,$K9=\"\"),$M$2,$K9))),$J$3,\"\")","v":""},{"$f":"IF(OR(AND(O$1>=$J5,O$1<=IF(AND($J5>$M$1,$K5=\"\"),$M$2,$K5)),AND(O$1>=$J6,O$1<=IF(AND($J6>$M$1,$K6=\"\"),$M$2,$K6)),AND(O$1>=$J7,O$1<=IF(AND($J7>$M$1,$K7=\"\"),$M$2,$K7)),AND(O$1>=$J8,O$1<=IF(AND($J8>$M$1,$K8=\"\"),$M$2,$K8)),AND(O$1>=$J9,O$1<=IF(AND($J9>$M$1,$K9=\"\"),$M$2,$K9))),$J$3,\"\")","v":""},"","","","","","","","","","","","","","","","","","","","","","","","","","",{"$f":"IF(AP$1=\"\",\"\",IF(OR(AND(AP$1>=$J5,AP$1<=IF(AND($J5>$M$1,$K5=\"\"),$M$2,$K5)),AND(AP$1>=$J6,AP$1<=IF(AND($J6>$M$1,$K6=\"\"),$M$2,$K6)),AND(AP$1>=$J7,AP$1<=IF(AND($J7>$M$1,$K7=\"\"),$M$2,$K7)),AND(AP$1>=$J8,AP$1<=IF(AND($J8>$M$1,$K8=\"\"),$M$2,$K8)),AND(AP$1>=$J9,AP$1<=IF(AND($J9>$M$1,$K9=\"\"),$M$2,$K9))),$J$3,\"\"))","v":""},{"$f":"IF(AQ$1=\"\",\"\",IF(OR(AND(AQ$1>=$J5,AQ$1<=IF(AND($J5>$M$1,$K5=\"\"),$M$2,$K5)),AND(AQ$1>=$J6,AQ$1<=IF(AND($J6>$M$1,$K6=\"\"),$M$2,$K6)),AND(AQ$1>=$J7,AQ$1<=IF(AND($J7>$M$1,$K7=\"\"),$M$2,$K7)),AND(AQ$1>=$J8,AQ$1<=IF(AND($J8>$M$1,$K8=\"\"),$M$2,$K8)),AND(AQ$1>=$J9,AQ$1<=IF(AND($J9>$M$1,$K9=\"\"),$M$2,$K9))),$J$3,\"\"))","v":""},""]
[{"$f":"стр.1!C15","v":4571},{"$f":"IFERROR(VLOOKUP(A10,стр.1!$A$13:$D$106,2,FALSE),\"\")","v":"Воснецов"},{"$f":"IFERROR(VLOOKUP(A10,стр.1!$A$13:$D$106,4,FALSE),\"\")","v":"сборная"},null,null,null,null,null,null,null,null,null,null,{"$f":"N11&N12&N13&N14","v":""},{"$f":"O11&O12&O13&O14","v":""},{"$f":"P11&P12&P13&P14","v":""},{"$f":"Q11&Q12&Q13&Q14","v":""},{"$f":"R11&R12&R13&R14","v":""},{"$f":"S11&S12&S13&S14","v":""},{"$f":"T11&T12&T13&T14","v":""},{"$f":"U11&U12&U13&U14","v":""},{"$f":"V11&V12&V13&V14","v":""},{"$f":"W11&W12&W13&W14","v":""},{"$f":"X11&X12&X13&X14","v":""},{"$f":"Y11&Y12&Y13&Y14","v":""},{"$f":"Z11&Z12&Z13&Z14","v":""},{"$f":"AA11&AA12&AA13&AA14","v":""},{"$f":"AB11&AB12&AB13&AB14","v":""},{"$f":"AC11&AC12&AC13&AC14","v":""},{"$f":"AD11&AD12&AD13&AD14","v":""},{"$f":"AE11&AE12&AE13&AE14","v":""},{"$f":"AF11&AF12&AF13&AF14","v":""},{"$f":"AG11&AG12&AG13&AG14","v":""},{"$f":"AH11&AH12&AH13&AH14","v":""},{"$f":"AI11&AI12&AI13&AI14","v":""},{"$f":"AJ11&AJ12&AJ13&AJ14","v":""},{"$f":"AK11&AK12&AK13&AK14","v":""},{"$f":"AL11&AL12&AL13&AL14","v":""},{"$f":"AM11&AM12&AM13&AM14","v":""},{"$f":"AN11&AN12&AN13&AN14","v":""},{"$f":"AO11&AO12&AO13&AO14","v":""},{"$f":"AP11&AP12&AP13&AP14","v":""},{"$f":"AQ11&AQ12&AQ13&AQ14","v":""},{"$f":"AR11&AR12&AR13&AR14","v":""}]
[null,null,null,null,null,null,null,null,null,null,null,null,null,{"$f":"IF(OR(AND(N$1>=$D10,N$1<=IF(AND($D10>$M$1,$E10=\"\"),$M$2,$E10)),AND(N$1>=$D11,N$1<=IF(AND($D11>$M$1,$E11=\"\"),$M$2,$E11)),AND(N$1>=$D12,N$1<=IF(AND($D12>$M$1,$E12=\"\"),$M$2,$E12)),AND(N$1>=$D13,N$1<=IF(AND($D13>$M$1,$E13=\"\"),$M$2,$E13))),$D$3,\"\")","v":""},{"$f":"IF(OR(AND(O$1>=$D10,O$1<=IF(AND($D10>$M$1,$E10=\"\"),$M$2,$E10)),AND(O$1>=$D11,O$1<=IF(AND($D11>$M$1,$E11=\"\"),$M$2,$E11)),AND(O$1>=$D12,O$1<=IF(AND($D12>$M$1,$E12=\"\"),$M$2,$E12)),AND(O$1>=$D13,O$1<=IF(AND($D13>$M$1,$E13=\"\"),$M$2,$E13))),$D$3,\"\")","v":""},"","","","","","","","","","","","","","","","","","","","","","","","","","",{"$f":"IF(AP$1=\"\",\"\",IF(OR(AND(AP$1>=$D10,AP$1<=IF(AND($D10>$M$1,$E10=\"\"),$M$2,$E10)),AND(AP$1>=$D11,AP$1<=IF(AND($D11>$M$1,$E11=\"\"),$M$2,$E11)),AND(AP$1>=$D12,AP$1<=IF(AND($D12>$M$1,$E12=\"\"),$M$2,$E12)),AND(AP$1>=$D13,AP$1<=IF(AND($D13>$M$1,$E13=\"\"),$M$2,$E13))),$D$3,\"\"))","v":""},{"$f":"IF(AQ$1=\"\",\"\",IF(OR(AND(AQ$1>=$D10,AQ$1<=IF(AND($D10>$M$1,$E10=\"\"),$M$2,$E10)),AND(AQ$1>=$D11,AQ$1<=IF(AND($D11>$M$1,$E11=\"\"),$M$2,$E11)),AND(AQ$1>=$D12,AQ$1<=IF(AND($D12>$M$1,$E12=\"\"),$M$2,$E12)),AND(AQ$1>=$D13,AQ$1<=IF(AND($D13>$M$1,$E13=\"\"),$M$2,$E13))),$D$3,\"\"))","v":""},""]
[null,null,null,null,null,null,null,null,null,null,null,null,null,{"$f":"IF(OR(AND(N$1>=$F10,N$1<=IF(AND($F10>$M$1,$G10=\"\"),$M$2,$G10)),AND(N$1>=$F11,N$1<=IF(AND($F11>$M$1,$G11=\"\"),$M$2,$G11)),AND(N$1>=$F12,N$1<=IF(AND($F12>$M$1,$G12=\"\"),$M$2,$G12)),AND(N$1>=$F13,N$1<=IF(AND($F13>$M$1,$G13=\"\"),$M$2,$G13))),$F$3,\"\")","v":""},{"$f":"IF(OR(AND(O$1>=$F10,O$1<=IF(AND($F10>$M$1,$G10=\"\"),$M$2,$G10)),AND(O$1>=$F11,O$1<=IF(AND($F11>$M$1,$G11=\"\"),$M$2,$G11)),AND(O$1>=$F12,O$1<=IF(AND($F12>$M$1,$G12=\"\"),$M$2,$G12)),AND(O$1>=$F13,O$1<=IF(AND($F13>$M$1,$G13=\"\"),$M$2,$G13))),$F$3,\"\")","v":""},"","","","","","","","","","","","","","","","","","","","","","","","","","",{"$f":"IF(AP$1=\"\",\"\",IF(OR(AND(AP$1>=$F10,AP$1<=IF(AND($F10>$M$1,$G10=\"\"),$M$2,$G10)),AND(AP$1>=$F11,AP$1<=IF(AND($F11>$M$1,$G11=\"\"),$M$2,$G11)),AND(AP$1>=$F12,AP$1<=IF(AND($F12>$M$1,$G12=\"\"),$M$2,$G12)),AND(AP$1>=$F13,AP$1<=IF(AND($F13>$M$1,$G13=\"\"),$M$2,$G13))),$F$3,\"\"))","v":""},{"$f":"IF(AQ$1=\"\",\"\",IF(OR(AND(AQ$1>=$F10,AQ$1<=IF(AND($F10>$M$1,$G10=\"\"),$M$2,$G10)),AND(AQ$1>=$F11,AQ$1<=IF(AND($F11>$M$1,$G11=\"\"),$M$2,$G11)),AND(AQ$1>=$F12,AQ$1<=IF(AND($F12>$M$1,$G12=\"\"),$M$2,$G12)),AND(AQ$1>=$F13,AQ$1<=IF(AND($F13>$M$1,$G13=\"\"),$M$2,$G13))),$F$3,\"\"))","v":""},""]
[null,null,null,null,null,null,null,null,null,null,null,null,null,{"$f":"IF(OR(AND(N$1>=$H10,N$1<=IF(AND($H10>$M$1,$I10=\"\"),$M$2,$I10)),AND(N$1>=$H11,N$1<=IF(AND($H11>$M$1,$I11=\"\"),$M$2,$I11)),AND(N$1>=$H12,N$1<=IF(AND($H12>$M$1,$I12=\"\"),$M$2,$I12)),AND(N$1>=$H13,N$1<=IF(AND($H13>$M$1,$I13=\"\"),$M$2,$I13))),$H$3,\"\")","v":""},"","","","","","","","","","","","","","","","","","","","","","","","","","","",{"$f":"IF(AP$1=\"\",\"\",IF(OR(AND(AP$1>=$H10,AP$1<=IF(AND($H10>$M$1,$I10=\"\"),$M$2,$I10)),AND(AP$1>=$H11,AP$1<=IF(AND($H11>$M$1,$I11=\"\"),$M$2,$I11)),AND(AP$1>=$H12,AP$1<=IF(AND($H12>$M$1,$I12=\"\"),$M$2,$I12)),AND(AP$1>=$H13,AP$1<=IF(AND($H13>$M$1,$I13=\"\"),$M$2,$I13))),$H$3,\"\"))","v":""},{"$f":"IF(AQ$1=\"\",\"\",IF(OR(AND(AQ$1>=$H10,AQ$1<=IF(AND($H10>$M$1,$I10=\"\"),$M$2,$I10)),AND(AQ$1>=$H11,AQ$1<=IF(AND($H11>$M$1,$I11=\"\"),$M$2,$I11)),AND(AQ$1>=$H12,AQ$1<=IF(AND($H12>$M$1,$I12=\"\"),$M$2,$I12)),AND(AQ$1>=$H13,AQ$1<=IF(AND($H13>$M$1,$I13=\"\"),$M$2,$I13))),$H$3,\"\"))","v":""},{"$f":"IF(AR$1=\"\",\"\",IF(OR(AND(AR$1>=$H10,AR$1<=IF(AND($H10>$M$1,$I10=\"\"),$M$2,$I10)),AND(AR$1>=$H11,AR$1<=IF(AND($H11>$M$1,$I11=\"\"),$M$2,$I11)),AND(AR$1>=$H12,AR$1<=IF(AND($H12>$M$1,$I12=\"\"),$M$2,$I12)),AND(AR$1>=$H13,AR$1<=IF(AND($H13>$M$1,$I13=\"\"),$M$2,$I13))),$H$3,\"\"))","v":""}]
[null,null,null,null,null,null,null,null,null,null,null,null,null,{"$f":"IF(OR(AND(N$1>=$J10,N$1<=IF(AND($J10>$M$1,$K10=\"\"),$M$2,$K10)),AND(N$1>=$J11,N$1<=IF(AND($J11>$M$1,$K11=\"\"),$M$2,$K11)),AND(N$1>=$J12,N$1<=IF(AND($J12>$M$1,$K12=\"\"),$M$2,$K12)),AND(N$1>=$J13,N$1<=IF(AND($J13>$M$1,$K13=\"\"),$M$2,$K13)),AND(N$1>=$J14,N$1<=IF(AND($J14>$M$1,$K14=\"\"),$M$2,$K14))),$J$3,\"\")","v":""},{"$f":"IF(OR(AND(O$1>=$J10,O$1<=IF(AND($J10>$M$1,$K10=\"\"),$M$2,$K10)),AND(O$1>=$J11,O$1<=IF(AND($J11>$M$1,$K11=\"\"),$M$2,$K11)),AND(O$1>=$J12,O$1<=IF(AND($J12>$M$1,$K12=\"\"),$M$2,$K12)),AND(O$1>=$J13,O$1<=IF(AND($J13>$M$1,$K13=\"\"),$M$2,$K13)),AND(O$1>=$J14,O$1<=IF(AND($J14>$M$1,$K14=\"\"),$M$2,$K14))),$J$3,\"\")","v":""},{"$f":"IF(OR(AND(P$1>=$J10,P$1<=IF(AND($J10>$M$1,$K10=\"\"),$M$2,$K10)),AND(P$1>=$J11,P$1<=IF(AND($J11>$M$1,$K11=\"\"),$M$2,$K11)),AND(P$1>=$J12,P$1<=IF(AND($J12>$M$1,$K12=\"\"),$M$2,$K12)),AND(P$1>=$J13,P$1<=IF(AND($J13>$M$1,$K13=\"\"),$M$2,$K13)),AND(P$1>=$J14,P$1<=IF(AND($J14>$M$1,$K14=\"\"),$M$2,$K14))),$J$3,\"\")","v":""},{"$f":"IF(OR(AND(Q$1>=$J10,Q$1<=IF(AND($J10>$M$1,$K10=\"\"),$M$2,$K10)),AND(Q$1>=$J11,Q$1<=IF(AND($J11>$M$1,$K11=\"\"),$M$2,$K11)),AND(Q$1>=$J12,Q$1<=IF(AND($J12>$M$1,$K12=\"\"),$M$2,$K12)),AND(Q$1>=$J13,Q$1<=IF(AND($J13>$M$1,$K13=\"\"),$M$2,$K13)),AND(Q$1>=$J14,Q$1<=IF(AND($J14>$M$1,$K14=\"\"),$M$2,$K14))),$J$3,\"\")","v":""},{"$f":"IF(OR(AND(R$1>=$J10,R$1<=IF(AND($J10>$M$1,$K10=\"\"),$M$2,$K10)),AND(R$1>=$J11,R$1<=IF(AND($J11>$M$1,$K11=\"\"),$M$2,$K11)),AND(R$1>=$J12,R$1<=IF(AND($J12>$M$1,$K12=\"\"),$M$2,$K12)),AND(R$1>=$J13,R$1<=IF(AND($J13>$M$1,$K13=\"\"),$M$2,$K13)),AND(R$1>=$J14,R$1<=IF(AND($J14>$M$1,$K14=\"\"),$M$2,$K14))),$J$3,\"\")","v":""},{"$f":"IF(OR(AND(S$1>=$J10,S$1<=IF(AND($J10>$M$1,$K10=\"\"),$M$2,$K10)),AND(S$1>=$J11,S$1<=IF(AND($J11>$M$1,$K11=\"\"),$M$2,$K11)),AND(S$1>=$J12,S$1<=IF(AND($J12>$M$1,$K12=\"\"),$M$2,$K12)),AND(S$1>=$J13,S$1<=IF(AND($J13>$M$1,$K13=\"\"),$M$2,$K13)),AND(S$1>=$J14,S$1<=IF(AND($J14>$M$1,$K14=\"\"),$M$2,$K14))),$J$3,\"\")","v":""},{"$f":"IF(OR(AND(T$1>=$J10,T$1<=IF(AND($J10>$M$1,$K10=\"\"),$M$2,$K10)),AND(T$1>=$J11,T$1<=IF(AND($J11>$M$1,$K11=\"\"),$M$2,$K11)),AND(T$1>=$J12,T$1<=IF(AND($J12>$M$1,$K12=\"\"),$M$2,$K12)),AND(T$1>=$J13,T$1<=IF(AND($J13>$M$1,$K13=\"\"),$M$2,$K13)),AND(T$1>=$J14,T$1<=IF(AND($J14>$M$1,$K14=\"\"),$M$2,$K14))),$J$3,\"\")","v":""},{"$f":"IF(OR(AND(U$1>=$J10,U$1<=IF(AND($J10>$M$1,$K10=\"\"),$M$2,$K10)),AND(U$1>=$J11,U$1<=IF(AND($J11>$M$1,$K11=\"\"),$M$2,$K11)),AND(U$1>=$J12,U$1<=IF(AND($J12>$M$1,$K12=\"\"),$M$2,$K12)),AND(U$1>=$J13,U$1<=IF(AND($J13>$M$1,$K13=\"\"),$M$2,$K13)),AND(U$1>=$J14,U$1<=IF(AND($J14>$M$1,$K14=\"\"),$M$2,$K14))),$J$3,\"\")","v":""},{"$f":"IF(OR(AND(V$1>=$J10,V$1<=IF(AND($J10>$M$1,$K10=\"\"),$M$2,$K10)),AND(V$1>=$J11,V$1<=IF(AND($J11>$M$1,$K11=\"\"),$M$2,$K11)),AND(V$1>=$J12,V$1<=IF(AND($J12>$M$1,$K12=\"\"),$M$2,$K12)),AND(V$1>=$J13,V$1<=IF(AND($J13>$M$1,$K13=\"\"),$M$2,$K13)),AND(V$1>=$J14,V$1<=IF(AND($J14>$M$1,$K14=\"\"),$M$2,$K14))),$J$3,\"\")","v":""},{"$f":"IF(OR(AND(W$1>=$J10,W$1<=IF(AND($J10>$M$1,$K10=\"\"),$M$2,$K10)),AND(W$1>=$J11,W$1<=IF(AND($J11>$M$1,$K11=\"\"),$M$2,$K11)),AND(W$1>=$J12,W$1<=IF(AND($J12>$M$1,$K12=\"\"),$M$2,$K12)),AND(W$1>=$J13,W$1<=IF(AND($J13>$M$1,$K13=\"\"),$M$2,$K13)),AND(W$1>=$J14,W$1<=IF(AND($J14>$M$1,$K14=\"\"),$M$2,$K14))),$J$3,\"\")","v":""},{"$f":"IF(OR(AND(X$1>=$J10,X$1<=IF(AND($J10>$M$1,$K10=\"\"),$M$2,$K10)),AND(X$1>=$J11,X$1<=IF(AND($J11>$M$1,$K11=\"\"),$M$2,$K11)),AND(X$1>=$J12,X$1<=IF(AND($J12>$M$1,$K12=\"\"),$M$2,$K12)),AND(X$1>=$J13,X$1<=IF(AND($J13>$M$1,$K13=\"\"),$M$2,$K13)),AND(X$1>=$J14,X$1<=IF(AND($J14>$M$1,$K14=\"\"),$M$2,$K14))),$J$3,\"\")","v":""},{"$f":"IF(OR(AND(Y$1>=$J10,Y$1<=IF(AND($J10>$M$1,$K10=\"\"),$M$2,$K10)),AND(Y$1>=$J11,Y$1<=IF(AND($J11>$M$1,$K11=\"\"),$M$2,$K11)),AND(Y$1>=$J12,Y$1<=IF(AND($J12>$M$1,$K12=\"\"),$M$2,$K12)),AND(Y$1>=$J13,Y$1<=IF(AND($J13>$M$1,$K13=\"\"),$M$2,$K13)),AND(Y$1>=$J14,Y$1<=IF(AND($J14>$M$1,$K14=\"\"),$M$2,$K14))),$J$3,\"\")","v":""},{"$f":"IF(OR(AND(Z$1>=$J10,Z$1<=IF(AND($J10>$M$1,$K10=\"\"),$M$2,$K10)),AND(Z$1>=$J11,Z$1<=IF(AND($J11>$M$1,$K11=\"\"),$M$2,$K11)),AND(Z$1>=$J12,Z$1<=IF(AND($J12>$M$1,$K12=\"\"),$M$2,$K12)),AND(Z$1>=$J13,Z$1<=IF(AND($J13>$M$1,$K13=\"\"),$M$2,$K13)),AND(Z$1>=$J14,Z$1<=IF(AND($J14>$M$1,$K14=\"\"),$M$2,$K14))),$J$3,\"\")","v":""},{"$f":"IF(OR(AND(AA$1>=$J10,AA$1<=IF(AND($J10>$M$1,$K10=\"\"),$M$2,$K10)),AND(AA$1>=$J11,AA$1<=IF(AND($J11>$M$1,$K11=\"\"),$M$2,$K11)),AND(AA$1>=$J12,AA$1<=IF(AND($J12>$M$1,$K12=\"\"),$M$2,$K12)),AND(AA$1>=$J13,AA$1<=IF(AND($J13>$M$1,$K13=\"\"),$M$2,$K13)),AND(AA$1>=$J14,AA$1<=IF(AND($J14>$M$1,$K14=\"\"),$M$2,$K14))),$J$3,\"\")","v":""},{"$f":"IF(OR(AND(AB$1>=$J10,AB$1<=IF(AND($J10>$M$1,$K10=\"\"),$M$2,$K10)),AND(AB$1>=$J11,AB$1<=IF(AND($J11>$M$1,$K11=\"\"),$M$2,$K11)),AND(AB$1>=$J12,AB$1<=IF(AND($J12>$M$1,$K12=\"\"),$M$2,$K12)),AND(AB$1>=$J13,AB$1<=IF(AND($J13>$M$1,$K13=\"\"),$M$2,$K13)),AND(AB$1>=$J14,AB$1<=IF(AND($J14>$M$1,$K14=\"\"),$M$2,$K14))),$J$3,\"\")","v":""},{"$f":"IF(OR(AND(AC$1>=$J10,AC$1<=IF(AND($J10>$M$1,$K10=\"\"),$M$2,$K10)),AND(AC$1>=$J11,AC$1<=IF(AND($J11>$M$1,$K11=\"\"),$M$2,$K11)),AND(AC$1>=$J12,AC$1<=IF(AND($J12>$M$1,$K12=\"\"),$M$2,$K12)),AND(AC$1>=$J13,AC$1<=IF(AND($J13>$M$1,$K13=\"\"),$M$2,$K13)),AND(AC$1>=$J14,AC$1<=IF(AND($J14>$M$1,$K14=\"\"),$M$2,$K14))),$J$3,\"\")","v":""},{"$f":"IF(OR(AND(AD$1>=$J10,AD$1<=IF(AND($J10>$M$1,$K10=\"\"),$M$2,$K10)),AND(AD$1>=$J11,AD$1<=IF(AND($J11>$M$1,$K11=\"\"),$M$2,$K11)),AND(AD$1>=$J12,AD$1<=IF(AND($J12>$M$1,$K12=\"\"),$M$2,$K12)),AND(AD$1>=$J13,AD$1<=IF(AND($J13>$M$1,$K13=\"\"),$M$2,$K13)),AND(AD$1>=$J14,AD$1<=IF(AND($J14>$M$1,$K14=\"\"),$M$2,$K14))),$J$3,\"\")","v":""},{"$f":"IF(OR(AND(AE$1>=$J10,AE$1<=IF(AND($J10>$M$1,$K10=\"\"),$M$2,$K10)),AND(AE$1>=$J11,AE$1<=IF(AND($J11>$M$1,$K11=\"\"),$M$2,$K11)),AND(AE$1>=$J12,AE$1<=IF(AND($J12>$M$1,$K12=\"\"),$M$2,$K12)),AND(AE$1>=$J13,AE$1<=IF(AND($J13>$M$1,$K13=\"\"),$M$2,$K13)),AND(AE$1>=$J14,AE$1<=IF(AND($J14>$M$1,$K14=\"\"),$M$2,$K14))),$J$3,\"\")","v":""},{"$f":"IF(OR(AND(AF$1>=$J10,AF$1<=IF(AND($J10>$M$1,$K10=\"\"),$M$2,$K10)),AND(AF$1>=$J11,AF$1<=IF(AND($J11>$M$1,$K11=\"\"),$M$2,$K11)),AND(AF$1>=$J12,AF$1<=IF(AND($J12>$M$1,$K12=\"\"),$M$2,$K12)),AND(AF$1>=$J13,AF$1<=IF(AND($J13>$M$1,$K13=\"\"),$M$2,$K13)),AND(AF$1>=$J14,AF$1<=IF(AND($J14>$M$1,$K14=\"\"),$M$2,$K14))),$J$3,\"\")","v":""},{"$f":"IF(OR(AND(AG$1>=$J10,AG$1<=IF(AND($J10>$M$1,$K10=\"\"),$M$2,$K10)),AND(AG$1>=$J11,AG$1<=IF(AND($J11>$M$1,$K11=\"\"),$M$2,$K11)),AND(AG$1>=$J12,AG$1<=IF(AND($J12>$M$1,$K12=\"\"),$M$2,$K12)),AND(AG$1>=$J13,AG$1<=IF(AND($J13>$M$1,$K13=\"\"),$M$2,$K13)),AND(AG$1>=$J14,AG$1<=IF(AND($J14>$M$1,$K14=\"\"),$M$2,$K14))),$J$3,\"\")","v":""},{"$f":"IF(OR(AND(AH$1>=$J10,AH$1<=IF(AND($J10>$M$1,$K10=\"\"),$M$2,$K10)),AND(AH$1>=$J11,AH$1<=IF(AND($J11>$M$1,$K11=\"\"),$M$2,$K11)),AND(AH$1>=$J12,AH$1<=IF(AND($J12>$M$1,$K12=\"\"),$M$2,$K12)),AND(AH$1>=$J13,AH$1<=IF(AND($J13>$M$1,$K13=\"\"),$M$2,$K13)),AND(AH$1>=$J14,AH$1<=IF(AND($J14>$M$1,$K14=\"\"),$M$2,$K14))),$J$3,\"\")","v":""},{"$f":"IF(OR(AND(AI$1>=$J10,AI$1<=IF(AND($J10>$M$1,$K10=\"\"),$M$2,$K10)),AND(AI$1>=$J11,AI$1<=IF(AND($J11>$M$1,$K11=\"\"),$M$2,$K11)),AND(AI$1>=$J12,AI$1<=IF(AND($J12>$M$1,$K12=\"\"),$M$2,$K12)),AND(AI$1>=$J13,AI$1<=IF(AND($J13>$M$1,$K13=\"\"),$M$2,$K13)),AND(AI$1>=$J14,AI$1<=IF(AND($J14>$M$1,$K14=\"\"),$M$2,$K14))),$J$3,\"\")","v":""},{"$f":"IF(OR(AND(AJ$1>=$J10,AJ$1<=IF(AND($J10>$M$1,$K10=\"\"),$M$2,$K10)),AND(AJ$1>=$J11,AJ$1<=IF(AND($J11>$M$1,$K11=\"\"),$M$2,$K11)),AND(AJ$1>=$J12,AJ$1<=IF(AND($J12>$M$1,$K12=\"\"),$M$2,$K12)),AND(AJ$1>=$J13,AJ$1<=IF(AND($J13>$M$1,$K13=\"\"),$M$2,$K13)),AND(AJ$1>=$J14,AJ$1<=IF(AND($J14>$M$1,$K14=\"\"),$M$2,$K14))),$J$3,\"\")","v":""},{"$f":"IF(OR(AND(AK$1>=$J10,AK$1<=IF(AND($J10>$M$1,$K10=\"\"),$M$2,$K10)),AND(AK$1>=$J11,AK$1<=IF(AND($J11>$M$1,$K11=\"\"),$M$2,$K11)),AND(AK$1>=$J12,AK$1<=IF(AND($J12>$M$1,$K12=\"\"),$M$2,$K12)),AND(AK$1>=$J13,AK$1<=IF(AND($J13>$M$1,$K13=\"\"),$M$2,$K13)),AND(AK$1>=$J14,AK$1<=IF(AND($J14>$M$1,$K14=\"\"),$M$2,$K14))),$J$3,\"\")","v":""},{"$f":"IF(OR(AND(AL$1>=$J10,AL$1<=IF(AND($J10>$M$1,$K10=\"\"),$M$2,$K10)),AND(AL$1>=$J11,AL$1<=IF(AND($J11>$M$1,$K11=\"\"),$M$2,$K11)),AND(AL$1>=$J12,AL$1<=IF(AND($J12>$M$1,$K12=\"\"),$M$2,$K12)),AND(AL$1>=$J13,AL$1<=IF(AND($J13>$M$1,$K13=\"\"),$M$2,$K13)),AND(AL$1>=$J14,AL$1<=IF(AND($J14>$M$1,$K14=\"\"),$M$2,$K14))),$J$3,\"\")","v":""},{"$f":"IF(OR(AND(AM$1>=$J10,AM$1<=IF(AND($J10>$M$1,$K10=\"\"),$M$2,$K10)),AND(AM$1>=$J11,AM$1<=IF(AND($J11>$M$1,$K11=\"\"),$M$2,$K11)),AND(AM$1>=$J12,AM$1<=IF(AND($J12>$M$1,$K12=\"\"),$M$2,$K12)),AND(AM$1>=$J13,AM$1<=IF(AND($J13>$M$1,$K13=\"\"),$M$2,$K13)),AND(AM$1>=$J14,AM$1<=IF(AND($J14>$M$1,$K14=\"\"),$M$2,$K14))),$J$3,\"\")","v":""},{"$f":"IF(OR(AND(AN$1>=$J10,AN$1<=IF(AND($J10>$M$1,$K10=\"\"),$M$2,$K10)),AND(AN$1>=$J11,AN$1<=IF(AND($J11>$M$1,$K11=\"\"),$M$2,$K11)),AND(AN$1>=$J12,AN$1<=IF(AND($J12>$M$1,$K12=\"\"),$M$2,$K12)),AND(AN$1>=$J13,AN$1<=IF(AND($J13>$M$1,$K13=\"\"),$M$2,$K13)),AND(AN$1>=$J14,AN$1<=IF(AND($J14>$M$1,$K14=\"\"),$M$2,$K14))),$J$3,\"\")","v":""},{"$f":"IF(OR(AND(AO$1>=$J10,AO$1<=IF(AND($J10>$M$1,$K10=\"\"),$M$2,$K10)),AND(AO$1>=$J11,AO$1<=IF(AND($J11>$M$1,$K11=\"\"),$M$2,$K11)),AND(AO$1>=$J12,AO$1<=IF(AND($J12>$M$1,$K12=\"\"),$M$2,$K12)),AND(AO$1>=$J13,AO$1<=IF(AND($J13>$M$1,$K13=\"\"),$M$2,$K13)),AND(AO$1>=$J14,AO$1<=IF(AND($J14>$M$1,$K14=\"\"),$M$2,$K14))),$J$3,\"\")","v":""},{"$f":"IF(AP$1=\"\",\"\",IF(OR(AND(AP$1>=$J10,AP$1<=IF(AND($J10>$M$1,$K10=\"\"),$M$2,$K10)),AND(AP$1>=$J11,AP$1<=IF(AND($J11>$M$1,$K11=\"\"),$M$2,$K11)),AND(AP$1>=$J12,AP$1<=IF(AND($J12>$M$1,$K12=\"\"),$M$2,$K12)),AND(AP$1>=$J13,AP$1<=IF(AND($J13>$M$1,$K13=\"\"),$M$2,$K13)),AND(AP$1>=$J14,AP$1<=IF(AND($J14>$M$1,$K14=\"\"),$M$2,$K14))),$J$3,\"\"))","v":""},{"$f":"IF(AQ$1=\"\",\"\",IF(OR(AND(AQ$1>=$J10,AQ$1<=IF(AND($J10>$M$1,$K10=\"\"),$M$2,$K10)),AND(AQ$1>=$J11,AQ$1<=IF(AND($J11>$M$1,$K11=\"\"),$M$2,$K11)),AND(AQ$1>=$J12,AQ$1<=IF(AND($J12>$M$1,$K12=\"\"),$M$2,$K12)),AND(AQ$1>=$J13,AQ$1<=IF(AND($J13>$M$1,$K13=\"\"),$M$2,$K13)),AND(AQ$1>=$J14,AQ$1<=IF(AND($J14>$M$1,$K14=\"\"),$M$2,$K14))),$J$3,\"\"))","v":""},{"$f":"IF(AR$1=\"\",\"\",IF(OR(AND(AR$1>=$J10,AR$1<=IF(AND($J10>$M$1,$K10=\"\"),$M$2,$K10)),AND(AR$1>=$J11,AR$1<=IF(AND($J11>$M$1,$K11=\"\"),$M$2,$K11)),AND(AR$1>=$J12,AR$1<=IF(AND($J12>$M$1,$K12=\"\"),$M$2,$K12)),AND(AR$1>=$J13,AR$1<=IF(AND($J13>$M$1,$K13=\"\"),$M$2,$K13)),AND(AR$1>=$J14,AR$1<=IF(AND($J14>$M$1,$K14=\"\"),$M$2,$K14))),$J$3,\"\"))","v":""}]
[{"$f":"стр.1!C17","v":5019},{"$f":"IFERROR(VLOOKUP(A15,стр.1!$A$13:$D$106,2,FALSE),\"\")","v":"Лебедев"},{"$f":"IFERROR(VLOOKUP(A15,стр.1!$A$13:$D$106,4,FALSE),\"\")","v":"сборная"},null,null,null,null,null,null,null,null,null,null,{"$f":"N16&N17&N18&N19","v":""},{"$f":"O16&O17&O18&O19","v":""},{"$f":"P16&P17&P18&P19","v":""},{"$f":"Q16&Q17&Q18&Q19","v":""},{"$f":"R16&R17&R18&R19","v":""},{"$f":"S16&S17&S18&S19","v":""},{"$f":"T16&T17&T18&T19","v":""},{"$f":"U16&U17&U18&U19","v":""},{"$f":"V16&V17&V18&V19","v":""},{"$f":"W16&W17&W18&W19","v":""},{"$f":"X16&X17&X18&X19","v":""},{"$f":"Y16&Y17&Y18&Y19","v":""},{"$f":"Z16&Z17&Z18&Z19","v":""},{"$f":"AA16&AA17&AA18&AA19","v":""},{"$f":"AB16&AB17&AB18&AB19","v":""},{"$f":"AC16&AC17&AC18&AC19","v":""},{"$f":"AD16&AD17&AD18&AD19","v":""},{"$f":"AE16&AE17&AE18&AE19","v":""},{"$f":"AF16&AF17&AF18&AF19","v":""},{"$f":"AG16&AG17&AG18&AG19","v":""},{"$f":"AH16&AH17&AH18&AH19","v":""},{"$f":"AI16&AI17&AI18&AI19","v":""},{"$f":"AJ16&AJ17&AJ18&AJ19","v":""},{"$f":"AK16&AK17&AK18&AK19","v":""},{"$f":"AL16&AL17&AL18&AL19","v":""},{"$f":"AM16&AM17&AM18&AM19","v":""},{"$f":"AN16&AN17&AN18&AN19","v":""},{"$f":"AO16&AO17&AO18&AO19","v":""},{"$f":"AP16&AP17&AP18&AP19","v":""},{"$f":"AQ16&AQ17&AQ18&AQ19","v":""},{"$f":"AR16&AR17&AR18&AR19","v":""}]
[null,null,null,null,null,null,null,null,null,null,null,null,null,{"$f":"IF(OR(AND(N$1>=$D15,N$1<=IF(AND($D15>$M$1,$E15=\"\"),$M$2,$E15)),AND(N$1>=$D16,N$1<=IF(AND($D16>$M$1,$E16=\"\"),$M$2,$E16)),AND(N$1>=$D17,N$1<=IF(AND($D17>$M$1,$E17=\"\"),$M$2,$E17)),AND(N$1>=$D18,N$1<=IF(AND($D18>$M$1,$E18=\"\"),$M$2,$E18))),$D$3,\"\")","v":""},{"$f":"IF(OR(AND(O$1>=$D15,O$1<=IF(AND($D15>$M$1,$E15=\"\"),$M$2,$E15)),AND(O$1>=$D16,O$1<=IF(AND($D16>$M$1,$E16=\"\"),$M$2,$E16)),AND(O$1>=$D17,O$1<=IF(AND($D17>$M$1,$E17=\"\"),$M$2,$E17)),AND(O$1>=$D18,O$1<=IF(AND($D18>$M$1,$E18=\"\"),$M$2,$E18))),$D$3,\"\")","v":""},"","","","","","","","","","","","","","","","","","","","","","","","","","",{"$f":"IF(AP$1=\"\",\"\",IF(OR(AND(AP$1>=$D15,AP$1<=IF(AND($D15>$M$1,$E15=\"\"),$M$2,$E15)),AND(AP$1>=$D16,AP$1<=IF(AND($D16>$M$1,$E16=\"\"),$M$2,$E16)),AND(AP$1>=$D17,AP$1<=IF(AND($D17>$M$1,$E17=\"\"),$M$2,$E17)),AND(AP$1>=$D18,AP$1<=IF(AND($D18>$M$1,$E18=\"\"),$M$2,$E18))),$D$3,\"\"))","v":""},{"$f":"IF(AQ$1=\"\",\"\",IF(OR(AND(AQ$1>=$D15,AQ$1<=IF(AND($D15>$M$1,$E15=\"\"),$M$2,$E15)),AND(AQ$1>=$D16,AQ$1<=IF(AND($D16>$M$1,$E16=\"\"),$M$2,$E16)),AND(AQ$1>=$D17,AQ$1<=IF(AND($D17>$M$1,$E17=\"\"),$M$2,$E17)),AND(AQ$1>=$D18,AQ$1<=IF(AND($D18>$M$1,$E18=\"\"),$M$2,$E18))),$D$3,\"\"))","v":""},""]
[null,null,null,null,null,null,null,null,null,null,null,null,null,{"$f":"IF(OR(AND(N$1>=$F15,N$1<=IF(AND($F15>$M$1,$G15=\"\"),$M$2,$G15)),AND(N$1>=$F16,N$1<=IF(AND($F16>$M$1,$G16=\"\"),$M$2,$G16)),AND(N$1>=$F17,N$1<=IF(AND($F17>$M$1,$G17=\"\"),$M$2,$G17)),AND(N$1>=$F18,N$1<=IF(AND($F18>$M$1,$G18=\"\"),$M$2,$G18))),$F$3,\"\")","v":""},{"$f":"IF(OR(AND(O$1>=$F15,O$1<=IF(AND($F15>$M$1,$G15=\"\"),$M$2,$G15)),AND(O$1>=$F16,O$1<=IF(AND($F16>$M$1,$G16=\"\"),$M$2,$G16)),AND(O$1>=$F17,O$1<=IF(AND($F17>$M$1,$G17=\"\"),$M$2,$G17)),AND(O$1>=$F18,O$1<=IF(AND($F18>$M$1,$G18=\"\"),$M$2,$G18))),$F$3,\"\")","v":""},"","","","","","","","","","","","","","","","","","","","","","","","","","",{"$f":"IF(AP$1=\"\",\"\",IF(OR(AND(AP$1>=$F15,AP$1<=IF(AND($F15>$M$1,$G15=\"\"),$M$2,$G15)),AND(AP$1>=$F16,AP$1<=IF(AND($F16>$M$1,$G16=\"\"),$M$2,$G16)),AND(AP$1>=$F17,AP$1<=IF(AND($F17>$M$1,$G17=\"\"),$M$2,$G17)),AND(AP$1>=$F18,AP$1<=IF(AND($F18>$M$1,$G18=\"\"),$M$2,$G18))),$F$3,\"\"))","v":""},{"$f":"IF(AQ$1=\"\",\"\",IF(OR(AND(AQ$1>=$F15,AQ$1<=IF(AND($F15>$M$1,$G15=\"\"),$M$2,$G15)),AND(AQ$1>=$F16,AQ$1<=IF(AND($F16>$M$1,$G16=\"\"),$M$2,$G16)),AND(AQ$1>=$F17,AQ$1<=IF(AND($F17>$M$1,$G17=\"\"),$M$2,$G17)),AND(AQ$1>=$F18,AQ$1<=IF(AND($F18>$M$1,$G18=\"\"),$M$2,$G18))),$F$3,\"\"))","v":""},""]
[null,null,null,null,null,null,null,null,null,null,null,null,null,{"$f":"IF(OR(AND(N$1>=$H15,N$1<=IF(AND($H15>$M$1,$I15=\"\"),$M$2,$I15)),AND(N$1>=$H16,N$1<=IF(AND($H16>$M$1,$I16=\"\"),$M$2,$I16)),AND(N$1>=$H17,N$1<=IF(AND($H17>$M$1,$I17=\"\"),$M$2,$I17)),AND(N$1>=$H18,N$1<=IF(AND($H18>$M$1,$I18=\"\"),$M$2,$I18))),$H$3,\"\")","v":""},"","","","","","","","","","","","","","","","","","","","","","","","","","","",{"$f":"IF(AP$1=\"\",\"\",IF(OR(AND(AP$1>=$H15,AP$1<=IF(AND($H15>$M$1,$I15=\"\"),$M$2,$I15)),AND(AP$1>=$H16,AP$1<=IF(AND($H16>$M$1,$I16=\"\"),$M$2,$I16)),AND(AP$1>=$H17,AP$1<=IF(AND($H17>$M$1,$I17=\"\"),$M$2,$I17)),AND(AP$1>=$H18,AP$1<=IF(AND($H18>$M$1,$I18=\"\"),$M$2,$I18))),$H$3,\"\"))","v":""},{"$f":"IF(AQ$1=\"\",\"\",IF(OR(AND(AQ$1>=$H15,AQ$1<=IF(AND($H15>$M$1,$I15=\"\"),$M$2,$I15)),AND(AQ$1>=$H16,AQ$1<=IF(AND($H16>$M$1,$I16=\"\"),$M$2,$I16)),AND(AQ$1>=$H17,AQ$1<=IF(AND($H17>$M$1,$I17=\"\"),$M$2,$I17)),AND(AQ$1>=$H18,AQ$1<=IF(AND($H18>$M$1,$I18=\"\"),$M$2,$I18))),$H$3,\"\"))","v":""},{"$f":"IF(AR$1=\"\",\"\",IF(OR(AND(AR$1>=$H15,AR$1<=IF(AND($H15>$M$1,$I15=\"\"),$M$2,$I15)),AND(AR$1>=$H16,AR$1<=IF(AND($H16>$M$1,$I16=\"\"),$M$2,$I16)),AND(AR$1>=$H17,AR$1<=IF(AND($H17>$M$1,$I17=\"\"),$M$2,$I17)),AND(AR$1>=$H18,AR$1<=IF(AND($H18>$M$1,$I18=\"\"),$M$2,$I18))),$H$3,\"\"))","v":""}]
[null,null,null,null,null,null,null,null,null,null,null,null,null,{"$f":"IF(OR(AND(N$1>=$J15,N$1<=IF(AND($J15>$M$1,$K15=\"\"),$M$2,$K15)),AND(N$1>=$J16,N$1<=IF(AND($J16>$M$1,$K16=\"\"),$M$2,$K16)),AND(N$1>=$J17,N$1<=IF(AND($J17>$M$1,$K17=\"\"),$M$2,$K17)),AND(N$1>=$J18,N$1<=IF(AND($J18>$M$1,$K18=\"\"),$M$2,$K18)),AND(N$1>=$J19,N$1<=IF(AND($J19>$M$1,$K19=\"\"),$M$2,$K19))),$J$3,\"\")","v":""},{"$f":"IF(OR(AND(O$1>=$J15,O$1<=IF(AND($J15>$M$1,$K15=\"\"),$M$2,$K15)),AND(O$1>=$J16,O$1<=IF(AND($J16>$M$1,$K16=\"\"),$M$2,$K16)),AND(O$1>=$J17,O$1<=IF(AND($J17>$M$1,$K17=\"\"),$M$2,$K17)),AND(O$1>=$J18,O$1<=IF(AND($J18>$M$1,$K18=\"\"),$M$2,$K18)),AND(O$1>=$J19,O$1<=IF(AND($J19>$M$1,$K19=\"\"),$M$2,$K19))),$J$3,\"\")","v":""},{"$f":"IF(OR(AND(P$1>=$J15,P$1<=IF(AND($J15>$M$1,$K15=\"\"),$M$2,$K15)),AND(P$1>=$J16,P$1<=IF(AND($J16>$M$1,$K16=\"\"),$M$2,$K16)),AND(P$1>=$J17,P$1<=IF(AND($J17>$M$1,$K17=\"\"),$M$2,$K17)),AND(P$1>=$J18,P$1<=IF(AND($J18>$M$1,$K18=\"\"),$M$2,$K18)),AND(P$1>=$J19,P$1<=IF(AND($J19>$M$1,$K19=\"\"),$M$2,$K19))),$J$3,\"\")","v":""},{"$f":"IF(OR(AND(Q$1>=$J15,Q$1<=IF(AND($J15>$M$1,$K15=\"\"),$M$2,$K15)),AND(Q$1>=$J16,Q$1<=IF(AND($J16>$M$1,$K16=\"\"),$M$2,$K16)),AND(Q$1>=$J17,Q$1<=IF(AND($J17>$M$1,$K17=\"\"),$M$2,$K17)),AND(Q$1>=$J18,Q$1<=IF(AND($J18>$M$1,$K18=\"\"),$M$2,$K18)),AND(Q$1>=$J19,Q$1<=IF(AND($J19>$M$1,$K19=\"\"),$M$2,$K19))),$J$3,\"\")","v":""},{"$f":"IF(OR(AND(R$1>=$J15,R$1<=IF(AND($J15>$M$1,$K15=\"\"),$M$2,$K15)),AND(R$1>=$J16,R$1<=IF(AND($J16>$M$1,$K16=\"\"),$M$2,$K16)),AND(R$1>=$J17,R$1<=IF(AND($J17>$M$1,$K17=\"\"),$M$2,$K17)),AND(R$1>=$J18,R$1<=IF(AND($J18>$M$1,$K18=\"\"),$M$2,$K18)),AND(R$1>=$J19,R$1<=IF(AND($J19>$M$1,$K19=\"\"),$M$2,$K19))),$J$3,\"\")","v":""},{"$f":"IF(OR(AND(S$1>=$J15,S$1<=IF(AND($J15>$M$1,$K15=\"\"),$M$2,$K15)),AND(S$1>=$J16,S$1<=IF(AND($J16>$M$1,$K16=\"\"),$M$2,$K16)),AND(S$1>=$J17,S$1<=IF(AND($J17>$M$1,$K17=\"\"),$M$2,$K17)),AND(S$1>=$J18,S$1<=IF(AND($J18>$M$1,$K18=\"\"),$M$2,$K18)),AND(S$1>=$J19,S$1<=IF(AND($J19>$M$1,$K19=\"\"),$M$2,$K19))),$J$3,\"\")","v":""},{"$f":"IF(OR(AND(T$1>=$J15,T$1<=IF(AND($J15>$M$1,$K15=\"\"),$M$2,$K15)),AND(T$1>=$J16,T$1<=IF(AND($J16>$M$1,$K16=\"\"),$M$2,$K16)),AND(T$1>=$J17,T$1<=IF(AND($J17>$M$1,$K17=\"\"),$M$2,$K17)),AND(T$1>=$J18,T$1<=IF(AND($J18>$M$1,$K18=\"\"),$M$2,$K18)),AND(T$1>=$J19,T$1<=IF(AND($J19>$M$1,$K19=\"\"),$M$2,$K19))),$J$3,\"\")","v":""},{"$f":"IF(OR(AND(U$1>=$J15,U$1<=IF(AND($J15>$M$1,$K15=\"\"),$M$2,$K15)),AND(U$1>=$J16,U$1<=IF(AND($J16>$M$1,$K16=\"\"),$M$2,$K16)),AND(U$1>=$J17,U$1<=IF(AND($J17>$M$1,$K17=\"\"),$M$2,$K17)),AND(U$1>=$J18,U$1<=IF(AND($J18>$M$1,$K18=\"\"),$M$2,$K18)),AND(U$1>=$J19,U$1<=IF(AND($J19>$M$1,$K19=\"\"),$M$2,$K19))),$J$3,\"\")","v":""},{"$f":"IF(OR(AND(V$1>=$J15,V$1<=IF(AND($J15>$M$1,$K15=\"\"),$M$2,$K15)),AND(V$1>=$J16,V$1<=IF(AND($J16>$M$1,$K16=\"\"),$M$2,$K16)),AND(V$1>=$J17,V$1<=IF(AND($J17>$M$1,$K17=\"\"),$M$2,$K17)),AND(V$1>=$J18,V$1<=IF(AND($J18>$M$1,$K18=\"\"),$M$2,$K18)),AND(V$1>=$J19,V$1<=IF(AND($J19>$M$1,$K19=\"\"),$M$2,$K19))),$J$3,\"\")","v":""},{"$f":"IF(OR(AND(W$1>=$J15,W$1<=IF(AND($J15>$M$1,$K15=\"\"),$M$2,$K15)),AND(W$1>=$J16,W$1<=IF(AND($J16>$M$1,$K16=\"\"),$M$2,$K16)),AND(W$1>=$J17,W$1<=IF(AND($J17>$M$1,$K17=\"\"),$M$2,$K17)),AND(W$1>=$J18,W$1<=IF(AND($J18>$M$1,$K18=\"\"),$M$2,$K18)),AND(W$1>=$J19,W$1<=IF(AND($J19>$M$1,$K19=\"\"),$M$2,$K19))),$J$3,\"\")","v":""},{"$f":"IF(OR(AND(X$1>=$J15,X$1<=IF(AND($J15>$M$1,$K15=\"\"),$M$2,$K15)),AND(X$1>=$J16,X$1<=IF(AND($J16>$M$1,$K16=\"\"),$M$2,$K16)),AND(X$1>=$J17,X$1<=IF(AND($J17>$M$1,$K17=\"\"),$M$2,$K17)),AND(X$1>=$J18,X$1<=IF(AND($J18>$M$1,$K18=\"\"),$M$2,$K18)),AND(X$1>=$J19,X$1<=IF(AND($J19>$M$1,$K19=\"\"),$M$2,$K19))),$J$3,\"\")","v":""},{"$f":"IF(OR(AND(Y$1>=$J15,Y$1<=IF(AND($J15>$M$1,$K15=\"\"),$M$2,$K15)),AND(Y$1>=$J16,Y$1<=IF(AND($J16>$M$1,$K16=\"\"),$M$2,$K16)),AND(Y$1>=$J17,Y$1<=IF(AND($J17>$M$1,$K17=\"\"),$M$2,$K17)),AND(Y$1>=$J18,Y$1<=IF(AND($J18>$M$1,$K18=\"\"),$M$2,$K18)),AND(Y$1>=$J19,Y$1<=IF(AND($J19>$M$1,$K19=\"\"),$M$2,$K19))),$J$3,\"\")","v":""},{"$f":"IF(OR(AND(Z$1>=$J15,Z$1<=IF(AND($J15>$M$1,$K15=\"\"),$M$2,$K15)),AND(Z$1>=$J16,Z$1<=IF(AND($J16>$M$1,$K16=\"\"),$M$2,$K16)),AND(Z$1>=$J17,Z$1<=IF(AND($J17>$M$1,$K17=\"\"),$M$2,$K17)),AND(Z$1>=$J18,Z$1<=IF(AND($J18>$M$1,$K18=\"\"),$M$2,$K18)),AND(Z$1>=$J19,Z$1<=IF(AND($J19>$M$1,$K19=\"\"),$M$2,$K19))),$J$3,\"\")","v":""},{"$f":"IF(OR(AND(AA$1>=$J15,AA$1<=IF(AND($J15>$M$1,$K15=\"\"),$M$2,$K15)),AND(AA$1>=$J16,AA$1<=IF(AND($J16>$M$1,$K16=\"\"),$M$2,$K16)),AND(AA$1>=$J17,AA$1<=IF(AND($J17>$M$1,$K17=\"\"),$M$2,$K17)),AND(AA$1>=$J18,AA$1<=IF(AND($J18>$M$1,$K18=\"\"),$M$2,$K18)),AND(AA$1>=$J19,AA$1<=IF(AND($J19>$M$1,$K19=\"\"),$M$2,$K19))),$J$3,\"\")","v":""},{"$f":"IF(OR(AND(AB$1>=$J15,AB$1<=IF(AND($J15>$M$1,$K15=\"\"),$M$2,$K15)),AND(AB$1>=$J16,AB$1<=IF(AND($J16>$M$1,$K16=\"\"),$M$2,$K16)),AND(AB$1>=$J17,AB$1<=IF(AND($J17>$M$1,$K17=\"\"),$M$2,$K17)),AND(AB$1>=$J18,AB$1<=IF(AND($J18>$M$1,$K18=\"\"),$M$2,$K18)),AND(AB$1>=$J19,AB$1<=IF(AND($J19>$M$1,$K19=\"\"),$M$2,$K19))),$J$3,\"\")","v":""},{"$f":"IF(OR(AND(AC$1>=$J15,AC$1<=IF(AND($J15>$M$1,$K15=\"\"),$M$2,$K15)),AND(AC$1>=$J16,AC$1<=IF(AND($J16>$M$1,$K16=\"\"),$M$2,$K16)),AND(AC$1>=$J17,AC$1<=IF(AND($J17>$M$1,$K17=\"\"),$M$2,$K17)),AND(AC$1>=$J18,AC$1<=IF(AND($J18>$M$1,$K18=\"\"),$M$2,$K18)),AND(AC$1>=$J19,AC$1<=IF(AND($J19>$M$1,$K19=\"\"),$M$2,$K19))),$J$3,\"\")","v":""},{"$f":"IF(OR(AND(AD$1>=$J15,AD$1<=IF(AND($J15>$M$1,$K15=\"\"),$M$2,$K15)),AND(AD$1>=$J16,AD$1<=IF(AND($J16>$M$1,$K16=\"\"),$M$2,$K16)),AND(AD$1>=$J17,AD$1<=IF(AND($J17>$M$1,$K17=\"\"),$M$2,$K17)),AND(AD$1>=$J18,AD$1<=IF(AND($J18>$M$1,$K18=\"\"),$M$2,$K18)),AND(AD$1>=$J19,AD$1<=IF(AND($J19>$M$1,$K19=\"\"),$M$2,$K19))),$J$3,\"\")","v":""},{"$f":"IF(OR(AND(AE$1>=$J15,AE$1<=IF(AND($J15>$M$1,$K15=\"\"),$M$2,$K15)),AND(AE$1>=$J16,AE$1<=IF(AND($J16>$M$1,$K16=\"\"),$M$2,$K16)),AND(AE$1>=$J17,AE$1<=IF(AND($J17>$M$1,$K17=\"\"),$M$2,$K17)),AND(AE$1>=$J18,AE$1<=IF(AND($J18>$M$1,$K18=\"\"),$M$2,$K18)),AND(AE$1>=$J19,AE$1<=IF(AND($J19>$M$1,$K19=\"\"),$M$2,$K19))),$J$3,\"\")","v":""},{"$f":"IF(OR(AND(AF$1>=$J15,AF$1<=IF(AND($J15>$M$1,$K15=\"\"),$M$2,$K15)),AND(AF$1>=$J16,AF$1<=IF(AND($J16>$M$1,$K16=\"\"),$M$2,$K16)),AND(AF$1>=$J17,AF$1<=IF(AND($J17>$M$1,$K17=\"\"),$M$2,$K17)),AND(AF$1>=$J18,AF$1<=IF(AND($J18>$M$1,$K18=\"\"),$M$2,$K18)),AND(AF$1>=$J19,AF$1<=IF(AND($J19>$M$1,$K19=\"\"),$M$2,$K19))),$J$3,\"\")","v":""},{"$f":"IF(OR(AND(AG$1>=$J15,AG$1<=IF(AND($J15>$M$1,$K15=\"\"),$M$2,$K15)),AND(AG$1>=$J16,AG$1<=IF(AND($J16>$M$1,$K16=\"\"),$M$2,$K16)),AND(AG$1>=$J17,AG$1<=IF(AND($J17>$M$1,$K17=\"\"),$M$2,$K17)),AND(AG$1>=$J18,AG$1<=IF(AND($J18>$M$1,$K18=\"\"),$M$2,$K18)),AND(AG$1>=$J19,AG$1<=IF(AND($J19>$M$1,$K19=\"\"),$M$2,$K19))),$J$3,\"\")","v":""},{"$f":"IF(OR(AND(AH$1>=$J15,AH$1<=IF(AND($J15>$M$1,$K15=\"\"),$M$2,$K15)),AND(AH$1>=$J16,AH$1<=IF(AND($J16>$M$1,$K16=\"\"),$M$2,$K16)),AND(AH$1>=$J17,AH$1<=IF(AND($J17>$M$1,$K17=\"\"),$M$2,$K17)),AND(AH$1>=$J18,AH$1<=IF(AND($J18>$M$1,$K18=\"\"),$M$2,$K18)),AND(AH$1>=$J19,AH$1<=IF(AND($J19>$M$1,$K19=\"\"),$M$2,$K19))),$J$3,\"\")","v":""},{"$f":"IF(OR(AND(AI$1>=$J15,AI$1<=IF(AND($J15>$M$1,$K15=\"\"),$M$2,$K15)),AND(AI$1>=$J16,AI$1<=IF(AND($J16>$M$1,$K16=\"\"),$M$2,$K16)),AND(AI$1>=$J17,AI$1<=IF(AND($J17>$M$1,$K17=\"\"),$M$2,$K17)),AND(AI$1>=$J18,AI$1<=IF(AND($J18>$M$1,$K18=\"\"),$M$2,$K18)),AND(AI$1>=$J19,AI$1<=IF(AND($J19>$M$1,$K19=\"\"),$M$2,$K19))),$J$3,\"\")","v":""},{"$f":"IF(OR(AND(AJ$1>=$J15,AJ$1<=IF(AND($J15>$M$1,$K15=\"\"),$M$2,$K15)),AND(AJ$1>=$J16,AJ$1<=IF(AND($J16>$M$1,$K16=\"\"),$M$2,$K16)),AND(AJ$1>=$J17,AJ$1<=IF(AND($J17>$M$1,$K17=\"\"),$M$2,$K17)),AND(AJ$1>=$J18,AJ$1<=IF(AND($J18>$M$1,$K18=\"\"),$M$2,$K18)),AND(AJ$1>=$J19,AJ$1<=IF(AND($J19>$M$1,$K19=\"\"),$M$2,$K19))),$J$3,\"\")","v":""},{"$f":"IF(OR(AND(AK$1>=$J15,AK$1<=IF(AND($J15>$M$1,$K15=\"\"),$M$2,$K15)),AND(AK$1>=$J16,AK$1<=IF(AND($J16>$M$1,$K16=\"\"),$M$2,$K16)),AND(AK$1>=$J17,AK$1<=IF(AND($J17>$M$1,$K17=\"\"),$M$2,$K17)),AND(AK$1>=$J18,AK$1<=IF(AND($J18>$M$1,$K18=\"\"),$M$2,$K18)),AND(AK$1>=$J19,AK$1<=IF(AND($J19>$M$1,$K19=\"\"),$M$2,$K19))),$J$3,\"\")","v":""},{"$f":"IF(OR(AND(AL$1>=$J15,AL$1<=IF(AND($J15>$M$1,$K15=\"\"),$M$2,$K15)),AND(AL$1>=$J16,AL$1<=IF(AND($J16>$M$1,$K16=\"\"),$M$2,$K16)),AND(AL$1>=$J17,AL$1<=IF(AND($J17>$M$1,$K17=\"\"),$M$2,$K17)),AND(AL$1>=$J18,AL$1<=IF(AND($J18>$M$1,$K18=\"\"),$M$2,$K18)),AND(AL$1>=$J19,AL$1<=IF(AND($J19>$M$1,$K19=\"\"),$M$2,$K19))),$J$3,\"\")","v":""},{"$f":"IF(OR(AND(AM$1>=$J15,AM$1<=IF(AND($J15>$M$1,$K15=\"\"),$M$2,$K15)),AND(AM$1>=$J16,AM$1<=IF(AND($J16>$M$1,$K16=\"\"),$M$2,$K16)),AND(AM$1>=$J17,AM$1<=IF(AND($J17>$M$1,$K17=\"\"),$M$2,$K17)),AND(AM$1>=$J18,AM$1<=IF(AND($J18>$M$1,$K18=\"\"),$M$2,$K18)),AND(AM$1>=$J19,AM$1<=IF(AND($J19>$M$1,$K19=\"\"),$M$2,$K19))),$J$3,\"\")","v":""},{"$f":"IF(OR(AND(AN$1>=$J15,AN$1<=IF(AND($J15>$M$1,$K15=\"\"),$M$2,$K15)),AND(AN$1>=$J16,AN$1<=IF(AND($J16>$M$1,$K16=\"\"),$M$2,$K16)),AND(AN$1>=$J17,AN$1<=IF(AND($J17>$M$1,$K17=\"\"),$M$2,$K17)),AND(AN$1>=$J18,AN$1<=IF(AND($J18>$M$1,$K18=\"\"),$M$2,$K18)),AND(AN$1>=$J19,AN$1<=IF(AND($J19>$M$1,$K19=\"\"),$M$2,$K19))),$J$3,\"\")","v":""},{"$f":"IF(OR(AND(AO$1>=$J15,AO$1<=IF(AND($J15>$M$1,$K15=\"\"),$M$2,$K15)),AND(AO$1>=$J16,AO$1<=IF(AND($J16>$M$1,$K16=\"\"),$M$2,$K16)),AND(AO$1>=$J17,AO$1<=IF(AND($J17>$M$1,$K17=\"\"),$M$2,$K17)),AND(AO$1>=$J18,AO$1<=IF(AND($J18>$M$1,$K18=\"\"),$M$2,$K18)),AND(AO$1>=$J19,AO$1<=IF(AND($J19>$M$1,$K19=\"\"),$M$2,$K19))),$J$3,\"\")","v":""},{"$f":"IF(AP$1=\"\",\"\",IF(OR(AND(AP$1>=$J15,AP$1<=IF(AND($J15>$M$1,$K15=\"\"),$M$2,$K15)),AND(AP$1>=$J16,AP$1<=IF(AND($J16>$M$1,$K16=\"\"),$M$2,$K16)),AND(AP$1>=$J17,AP$1<=IF(AND($J17>$M$1,$K17=\"\"),$M$2,$K17)),AND(AP$1>=$J18,AP$1<=IF(AND($J18>$M$1,$K18=\"\"),$M$2,$K18)),AND(AP$1>=$J19,AP$1<=IF(AND($J19>$M$1,$K19=\"\"),$M$2,$K19))),$J$3,\"\"))","v":""},{"$f":"IF(AQ$1=\"\",\"\",IF(OR(AND(AQ$1>=$J15,AQ$1<=IF(AND($J15>$M$1,$K15=\"\"),$M$2,$K15)),AND(AQ$1>=$J16,AQ$1<=IF(AND($J16>$M$1,$K16=\"\"),$M$2,$K16)),AND(AQ$1>=$J17,AQ$1<=IF(AND($J17>$M$1,$K17=\"\"),$M$2,$K17)),AND(AQ$1>=$J18,AQ$1<=IF(AND($J18>$M$1,$K18=\"\"),$M$2,$K18)),AND(AQ$1>=$J19,AQ$1<=IF(AND($J19>$M$1,$K19=\"\"),$M$2,$K19))),$J$3,\"\"))","v":""},{"$f":"IF(AR$1=\"\",\"\",IF(OR(AND(AR$1>=$J15,AR$1<=IF(AND($J15>$M$1,$K15=\"\"),$M$2,$K15)),AND(AR$1>=$J16,AR$1<=IF(AND($J16>$M$1,$K16=\"\"),$M$2,$K16)),AND(AR$1>=$J17,AR$1<=IF(AND($J17>$M$1,$K17=\"\"),$M$2,$K17)),AND(AR$1>=$J18,AR$1<=IF(AND($J18>$M$1,$K18=\"\"),$M$2,$K18)),AND(AR$1>=$J19,AR$1<=IF(AND($J19>$M$1,$K19=\"\"),$M$2,$K19))),$J$3,\"\"))","v":""}]
[{"$f":"стр.1!C19","v":2628},{"$f":"IFERROR(VLOOKUP(A20,стр.1!$A$13:$D$106,2,FALSE),\"\")","v":"Морозов"},{"$f":"IFERROR(VLOOKUP(A20,стр.1!$A$13:$D$106,4,FALSE),\"\")","v":"сборная"},null,null,null,null,null,null,null,null,null,null,{"$f":"N21&N22&N23&N24","v":""},{"$f":"O21&O22&O23&O24","v":""},{"$f":"P21&P22&P23&P24","v":""},{"$f":"Q21&Q22&Q23&Q24","v":""},{"$f":"R21&R22&R23&R24","v":""},{"$f":"S21&S22&S23&S24","v":""},{"$f":"T21&T22&T23&T24","v":""},{"$f":"U21&U22&U23&U24","v":""},{"$f":"V21&V22&V23&V24","v":""},{"$f":"W21&W22&W23&W24","v":""},{"$f":"X21&X22&X23&X24","v":""},{"$f":"Y21&Y22&Y23&Y24","v":""},{"$f":"Z21&Z22&Z23&Z24","v":""},{"$f":"AA21&AA22&AA23&AA24","v":""},{"$f":"AB21&AB22&AB23&AB24","v":""},{"$f":"AC21&AC22&AC23&AC24","v":""},{"$f":"AD21&AD22&AD23&AD24","v":""},{"$f":"AE21&AE22&AE23&AE24","v":""},{"$f":"AF21&AF22&AF23&AF24","v":""},{"$f":"AG21&AG22&AG23&AG24","v":""},{"$f":"AH21&AH22&AH23&AH24","v":""},{"$f":"AI21&AI22&AI23&AI24","v":""},{"$f":"AJ21&AJ22&AJ23&AJ24","v":""},{"$f":"AK21&AK22&AK23&AK24","v":""},{"$f":"AL21&AL22&AL23&AL24","v":""},{"$f":"AM21&AM22&AM23&AM24","v":""},{"$f":"AN21&AN22&AN23&AN24","v":""},{"$f":"AO21&AO22&AO23&AO24","v":""},{"$f":"AP21&AP22&AP23&AP24","v":""},{"$f":"AQ21&AQ22&AQ23&AQ24","v":""},{"$f":"AR21&AR22&AR23&AR24","v":""}]
[null,null,null,null,null,null,null,null,null,null,null,null,null,{"$f":"IF(OR(AND(N$1>=$D20,N$1<=IF(AND($D20>$M$1,$E20=\"\"),$M$2,$E20)),AND(N$1>=$D21,N$1<=IF(AND($D21>$M$1,$E21=\"\"),$M$2,$E21)),AND(N$1>=$D22,N$1<=IF(AND($D22>$M$1,$E22=\"\"),$M$2,$E22)),AND(N$1>=$D23,N$1<=IF(AND($D23>$M$1,$E23=\"\"),$M$2,$E23))),$D$3,\"\")","v":""},{"$f":"IF(OR(AND(O$1>=$D20,O$1<=IF(AND($D20>$M$1,$E20=\"\"),$M$2,$E20)),AND(O$1>=$D21,O$1<=IF(AND($D21>$M$1,$E21=\"\"),$M$2,$E21)),AND(O$1>=$D22,O$1<=IF(AND($D22>$M$1,$E22=\"\"),$M$2,$E22)),AND(O$1>=$D23,O$1<=IF(AND($D23>$M$1,$E23=\"\"),$M$2,$E23))),$D$3,\"\")","v":""},"","","","","","","","","","","","","","","","","","","","","","","","","","",{"$f":"IF(AP$1=\"\",\"\",IF(OR(AND(AP$1>=$D20,AP$1<=IF(AND($D20>$M$1,$E20=\"\"),$M$2,$E20)),AND(AP$1>=$D21,AP$1<=IF(AND($D21>$M$1,$E21=\"\"),$M$2,$E21)),AND(AP$1>=$D22,AP$1<=IF(AND($D22>$M$1,$E22=\"\"),$M$2,$E22)),AND(AP$1>=$D23,AP$1<=IF(AND($D23>$M$1,$E23=\"\"),$M$2,$E23))),$D$3,\"\"))","v":""},{"$f":"IF(AQ$1=\"\",\"\",IF(OR(AND(AQ$1>=$D20,AQ$1<=IF(AND($D20>$M$1,$E20=\"\"),$M$2,$E20)),AND(AQ$1>=$D21,AQ$1<=IF(AND($D21>$M$1,$E21=\"\"),$M$2,$E21)),AND(AQ$1>=$D22,AQ$1<=IF(AND($D22>$M$1,$E22=\"\"),$M$2,$E22)),AND(AQ$1>=$D23,AQ$1<=IF(AND($D23>$M$1,$E23=\"\"),$M$2,$E23))),$D$3,\"\"))","v":""},""]
[null,null,null,null,null,null,null,null,null,null,null,null,null,{"$f":"IF(OR(AND(N$1>=$F20,N$1<=IF(AND($F20>$M$1,$G20=\"\"),$M$2,$G20)),AND(N$1>=$F21,N$1<=IF(AND($F21>$M$1,$G21=\"\"),$M$2,$G21)),AND(N$1>=$F22,N$1<=IF(AND($F22>$M$1,$G22=\"\"),$M$2,$G22)),AND(N$1>=$F23,N$1<=IF(AND($F23>$M$1,$G23=\"\"),$M$2,$G23))),$F$3,\"\")","v":""},{"$f":"IF(OR(AND(O$1>=$F20,O$1<=IF(AND($F20>$M$1,$G20=\"\"),$M$2,$G20)),AND(O$1>=$F21,O$1<=IF(AND($F21>$M$1,$G21=\"\"),$M$2,$G21)),AND(O$1>=$F22,O$1<=IF(AND($F22>$M$1,$G22=\"\"),$M$2,$G22)),AND(O$1>=$F23,O$1<=IF(AND($F23>$M$1,$G23=\"\"),$M$2,$G23))),$F$3,\"\")","v":""},"","","","","","","","","","","","","","","","","","","","","","","","","","",{"$f":"IF(AP$1=\"\",\"\",IF(OR(AND(AP$1>=$F20,AP$1<=IF(AND($F20>$M$1,$G20=\"\"),$M$2,$G20)),AND(AP$1>=$F21,AP$1<=IF(AND($F21>$M$1,$G21=\"\"),$M$2,$G21)),AND(AP$1>=$F22,AP$1<=IF(AND($F22>$M$1,$G22=\"\"),$M$2,$G22)),AND(AP$1>=$F23,AP$1<=IF(AND($F23>$M$1,$G23=\"\"),$M$2,$G23))),$F$3,\"\"))","v":""},{"$f":"IF(AQ$1=\"\",\"\",IF(OR(AND(AQ$1>=$F20,AQ$1<=IF(AND($F20>$M$1,$G20=\"\"),$M$2,$G20)),AND(AQ$1>=$F21,AQ$1<=IF(AND($F21>$M$1,$G21=\"\"),$M$2,$G21)),AND(AQ$1>=$F22,AQ$1<=IF(AND($F22>$M$1,$G22=\"\"),$M$2,$G22)),AND(AQ$1>=$F23,AQ$1<=IF(AND($F23>$M$1,$G23=\"\"),$M$2,$G23))),$F$3,\"\"))","v":""},""]
[null,null,null,null,null,null,null,null,null,null,null,null,null,{"$f":"IF(OR(AND(N$1>=$H20,N$1<=IF(AND($H20>$M$1,$I20=\"\"),$M$2,$I20)),AND(N$1>=$H21,N$1<=IF(AND($H21>$M$1,$I21=\"\"),$M$2,$I21)),AND(N$1>=$H22,N$1<=IF(AND($H22>$M$1,$I22=\"\"),$M$2,$I22)),AND(N$1>=$H23,N$1<=IF(AND($H23>$M$1,$I23=\"\"),$M$2,$I23))),$H$3,\"\")","v":""},"","","","","","","","","","","","","","","","","","","","","","","","","","","",{"$f":"IF(AP$1=\"\",\"\",IF(OR(AND(AP$1>=$H20,AP$1<=IF(AND($H20>$M$1,$I20=\"\"),$M$2,$I20)),AND(AP$1>=$H21,AP$1<=IF(AND($H21>$M$1,$I21=\"\"),$M$2,$I21)),AND(AP$1>=$H22,AP$1<=IF(AND($H22>$M$1,$I22=\"\"),$M$2,$I22)),AND(AP$1>=$H23,AP$1<=IF(AND($H23>$M$1,$I23=\"\"),$M$2,$I23))),$H$3,\"\"))","v":""},{"$f":"IF(AQ$1=\"\",\"\",IF(OR(AND(AQ$1>=$H20,AQ$1<=IF(AND($H20>$M$1,$I20=\"\"),$M$2,$I20)),AND(AQ$1>=$H21,AQ$1<=IF(AND($H21>$M$1,$I21=\"\"),$M$2,$I21)),AND(AQ$1>=$H22,AQ$1<=IF(AND($H22>$M$1,$I22=\"\"),$M$2,$I22)),AND(AQ$1>=$H23,AQ$1<=IF(AND($H23>$M$1,$I23=\"\"),$M$2,$I23))),$H$3,\"\"))","v":""},{"$f":"IF(AR$1=\"\",\"\",IF(OR(AND(AR$1>=$H20,AR$1<=IF(AND($H20>$M$1,$I20=\"\"),$M$2,$I20)),AND(AR$1>=$H21,AR$1<=IF(AND($H21>$M$1,$I21=\"\"),$M$2,$I21)),AND(AR$1>=$H22,AR$1<=IF(AND($H22>$M$1,$I22=\"\"),$M$2,$I22)),AND(AR$1>=$H23,AR$1<=IF(AND($H23>$M$1,$I23=\"\"),$M$2,$I23))),$H$3,\"\"))","v":""}]
[null,null,null,null,null,null,null,null,null,null,null,null,null,{"$f":"IF(OR(AND(N$1>=$J20,N$1<=IF(AND($J20>$M$1,$K20=\"\"),$M$2,$K20)),AND(N$1>=$J21,N$1<=IF(AND($J21>$M$1,$K21=\"\"),$M$2,$K21)),AND(N$1>=$J22,N$1<=IF(AND($J22>$M$1,$K22=\"\"),$M$2,$K22)),AND(N$1>=$J23,N$1<=IF(AND($J23>$M$1,$K23=\"\"),$M$2,$K23)),AND(N$1>=$J24,N$1<=IF(AND($J24>$M$1,$K24=\"\"),$M$2,$K24))),$J$3,\"\")","v":""},{"$f":"IF(OR(AND(O$1>=$J20,O$1<=IF(AND($J20>$M$1,$K20=\"\"),$M$2,$K20)),AND(O$1>=$J21,O$1<=IF(AND($J21>$M$1,$K21=\"\"),$M$2,$K21)),AND(O$1>=$J22,O$1<=IF(AND($J22>$M$1,$K22=\"\"),$M$2,$K22)),AND(O$1>=$J23,O$1<=IF(AND($J23>$M$1,$K23=\"\"),$M$2,$K23)),AND(O$1>=$J24,O$1<=IF(AND($J24>$M$1,$K24=\"\"),$M$2,$K24))),$J$3,\"\")","v":""},{"$f":"IF(OR(AND(P$1>=$J20,P$1<=IF(AND($J20>$M$1,$K20=\"\"),$M$2,$K20)),AND(P$1>=$J21,P$1<=IF(AND($J21>$M$1,$K21=\"\"),$M$2,$K21)),AND(P$1>=$J22,P$1<=IF(AND($J22>$M$1,$K22=\"\"),$M$2,$K22)),AND(P$1>=$J23,P$1<=IF(AND($J23>$M$1,$K23=\"\"),$M$2,$K23)),AND(P$1>=$J24,P$1<=IF(AND($J24>$M$1,$K24=\"\"),$M$2,$K24))),$J$3,\"\")","v":""},{"$f":"IF(OR(AND(Q$1>=$J20,Q$1<=IF(AND($J20>$M$1,$K20=\"\"),$M$2,$K20)),AND(Q$1>=$J21,Q$1<=IF(AND($J21>$M$1,$K21=\"\"),$M$2,$K21)),AND(Q$1>=$J22,Q$1<=IF(AND($J22>$M$1,$K22=\"\"),$M$2,$K22)),AND(Q$1>=$J23,Q$1<=IF(AND($J23>$M$1,$K23=\"\"),$M$2,$K23)),AND(Q$1>=$J24,Q$1<=IF(AND($J24>$M$1,$K24=\"\"),$M$2,$K24))),$J$3,\"\")","v":""},{"$f":"IF(OR(AND(R$1>=$J20,R$1<=IF(AND($J20>$M$1,$K20=\"\"),$M$2,$K20)),AND(R$1>=$J21,R$1<=IF(AND($J21>$M$1,$K21=\"\"),$M$2,$K21)),AND(R$1>=$J22,R$1<=IF(AND($J22>$M$1,$K22=\"\"),$M$2,$K22)),AND(R$1>=$J23,R$1<=IF(AND($J23>$M$1,$K23=\"\"),$M$2,$K23)),AND(R$1>=$J24,R$1<=IF(AND($J24>$M$1,$K24=\"\"),$M$2,$K24))),$J$3,\"\")","v":""},{"$f":"IF(OR(AND(S$1>=$J20,S$1<=IF(AND($J20>$M$1,$K20=\"\"),$M$2,$K20)),AND(S$1>=$J21,S$1<=IF(AND($J21>$M$1,$K21=\"\"),$M$2,$K21)),AND(S$1>=$J22,S$1<=IF(AND($J22>$M$1,$K22=\"\"),$M$2,$K22)),AND(S$1>=$J23,S$1<=IF(AND($J23>$M$1,$K23=\"\"),$M$2,$K23)),AND(S$1>=$J24,S$1<=IF(AND($J24>$M$1,$K24=\"\"),$M$2,$K24))),$J$3,\"\")","v":""},{"$f":"IF(OR(AND(T$1>=$J20,T$1<=IF(AND($J20>$M$1,$K20=\"\"),$M$2,$K20)),AND(T$1>=$J21,T$1<=IF(AND($J21>$M$1,$K21=\"\"),$M$2,$K21)),AND(T$1>=$J22,T$1<=IF(AND($J22>$M$1,$K22=\"\"),$M$2,$K22)),AND(T$1>=$J23,T$1<=IF(AND($J23>$M$1,$K23=\"\"),$M$2,$K23)),AND(T$1>=$J24,T$1<=IF(AND($J24>$M$1,$K24=\"\"),$M$2,$K24))),$J$3,\"\")","v":""},{"$f":"IF(OR(AND(U$1>=$J20,U$1<=IF(AND($J20>$M$1,$K20=\"\"),$M$2,$K20)),AND(U$1>=$J21,U$1<=IF(AND($J21>$M$1,$K21=\"\"),$M$2,$K21)),AND(U$1>=$J22,U$1<=IF(AND($J22>$M$1,$K22=\"\"),$M$2,$K22)),AND(U$1>=$J23,U$1<=IF(AND($J23>$M$1,$K23=\"\"),$M$2,$K23)),AND(U$1>=$J24,U$1<=IF(AND($J24>$M$1,$K24=\"\"),$M$2,$K24))),$J$3,\"\")","v":""},{"$f":"IF(OR(AND(V$1>=$J20,V$1<=IF(AND($J20>$M$1,$K20=\"\"),$M$2,$K20)),AND(V$1>=$J21,V$1<=IF(AND($J21>$M$1,$K21=\"\"),$M$2,$K21)),AND(V$1>=$J22,V$1<=IF(AND($J22>$M$1,$K22=\"\"),$M$2,$K22)),AND(V$1>=$J23,V$1<=IF(AND($J23>$M$1,$K23=\"\"),$M$2,$K23)),AND(V$1>=$J24,V$1<=IF(AND($J24>$M$1,$K24=\"\"),$M$2,$K24))),$J$3,\"\")","v":""},{"$f":"IF(OR(AND(W$1>=$J20,W$1<=IF(AND($J20>$M$1,$K20=\"\"),$M$2,$K20)),AND(W$1>=$J21,W$1<=IF(AND($J21>$M$1,$K21=\"\"),$M$2,$K21)),AND(W$1>=$J22,W$1<=IF(AND($J22>$M$1,$K22=\"\"),$M$2,$K22)),AND(W$1>=$J23,W$1<=IF(AND($J23>$M$1,$K23=\"\"),$M$2,$K23)),AND(W$1>=$J24,W$1<=IF(AND($J24>$M$1,$K24=\"\"),$M$2,$K24))),$J$3,\"\")","v":""},{"$f":"IF(OR(AND(X$1>=$J20,X$1<=IF(AND($J20>$M$1,$K20=\"\"),$M$2,$K20)),AND(X$1>=$J21,X$1<=IF(AND($J21>$M$1,$K21=\"\"),$M$2,$K21)),AND(X$1>=$J22,X$1<=IF(AND($J22>$M$1,$K22=\"\"),$M$2,$K22)),AND(X$1>=$J23,X$1<=IF(AND($J23>$M$1,$K23=\"\"),$M$2,$K23)),AND(X$1>=$J24,X$1<=IF(AND($J24>$M$1,$K24=\"\"),$M$2,$K24))),$J$3,\"\")","v":""},{"$f":"IF(OR(AND(Y$1>=$J20,Y$1<=IF(AND($J20>$M$1,$K20=\"\"),$M$2,$K20)),AND(Y$1>=$J21,Y$1<=IF(AND($J21>$M$1,$K21=\"\"),$M$2,$K21)),AND(Y$1>=$J22,Y$1<=IF(AND($J22>$M$1,$K22=\"\"),$M$2,$K22)),AND(Y$1>=$J23,Y$1<=IF(AND($J23>$M$1,$K23=\"\"),$M$2,$K23)),AND(Y$1>=$J24,Y$1<=IF(AND($J24>$M$1,$K24=\"\"),$M$2,$K24))),$J$3,\"\")","v":""},{"$f":"IF(OR(AND(Z$1>=$J20,Z$1<=IF(AND($J20>$M$1,$K20=\"\"),$M$2,$K20)),AND(Z$1>=$J21,Z$1<=IF(AND($J21>$M$1,$K21=\"\"),$M$2,$K21)),AND(Z$1>=$J22,Z$1<=IF(AND($J22>$M$1,$K22=\"\"),$M$2,$K22)),AND(Z$1>=$J23,Z$1<=IF(AND($J23>$M$1,$K23=\"\"),$M$2,$K23)),AND(Z$1>=$J24,Z$1<=IF(AND($J24>$M$1,$K24=\"\"),$M$2,$K24))),$J$3,\"\")","v":""},{"$f":"IF(OR(AND(AA$1>=$J20,AA$1<=IF(AND($J20>$M$1,$K20=\"\"),$M$2,$K20)),AND(AA$1>=$J21,AA$1<=IF(AND($J21>$M$1,$K21=\"\"),$M$2,$K21)),AND(AA$1>=$J22,AA$1<=IF(AND($J22>$M$1,$K22=\"\"),$M$2,$K22)),AND(AA$1>=$J23,AA$1<=IF(AND($J23>$M$1,$K23=\"\"),$M$2,$K23)),AND(AA$1>=$J24,AA$1<=IF(AND($J24>$M$1,$K24=\"\"),$M$2,$K24))),$J$3,\"\")","v":""},{"$f":"IF(OR(AND(AB$1>=$J20,AB$1<=IF(AND($J20>$M$1,$K20=\"\"),$M$2,$K20)),AND(AB$1>=$J21,AB$1<=IF(AND($J21>$M$1,$K21=\"\"),$M$2,$K21)),AND(AB$1>=$J22,AB$1<=IF(AND($J22>$M$1,$K22=\"\"),$M$2,$K22)),AND(AB$1>=$J23,AB$1<=IF(AND($J23>$M$1,$K23=\"\"),$M$2,$K23)),AND(AB$1>=$J24,AB$1<=IF(AND($J24>$M$1,$K24=\"\"),$M$2,$K24))),$J$3,\"\")","v":""},{"$f":"IF(OR(AND(AC$1>=$J20,AC$1<=IF(AND($J20>$M$1,$K20=\"\"),$M$2,$K20)),AND(AC$1>=$J21,AC$1<=IF(AND($J21>$M$1,$K21=\"\"),$M$2,$K21)),AND(AC$1>=$J22,AC$1<=IF(AND($J22>$M$1,$K22=\"\"),$M$2,$K22)),AND(AC$1>=$J23,AC$1<=IF(AND($J23>$M$1,$K23=\"\"),$M$2,$K23)),AND(AC$1>=$J24,AC$1<=IF(AND($J24>$M$1,$K24=\"\"),$M$2,$K24))),$J$3,\"\")","v":""},{"$f":"IF(OR(AND(AD$1>=$J20,AD$1<=IF(AND($J20>$M$1,$K20=\"\"),$M$2,$K20)),AND(AD$1>=$J21,AD$1<=IF(AND($J21>$M$1,$K21=\"\"),$M$2,$K21)),AND(AD$1>=$J22,AD$1<=IF(AND($J22>$M$1,$K22=\"\"),$M$2,$K22)),AND(AD$1>=$J23,AD$1<=IF(AND($J23>$M$1,$K23=\"\"),$M$2,$K23)),AND(AD$1>=$J24,AD$1<=IF(AND($J24>$M$1,$K24=\"\"),$M$2,$K24))),$J$3,\"\")","v":""},{"$f":"IF(OR(AND(AE$1>=$J20,AE$1<=IF(AND($J20>$M$1,$K20=\"\"),$M$2,$K20)),AND(AE$1>=$J21,AE$1<=IF(AND($J21>$M$1,$K21=\"\"),$M$2,$K21)),AND(AE$1>=$J22,AE$1<=IF(AND($J22>$M$1,$K22=\"\"),$M$2,$K22)),AND(AE$1>=$J23,AE$1<=IF(AND($J23>$M$1,$K23=\"\"),$M$2,$K23)),AND(AE$1>=$J24,AE$1<=IF(AND($J24>$M$1,$K24=\"\"),$M$2,$K24))),$J$3,\"\")","v":""},{"$f":"IF(OR(AND(AF$1>=$J20,AF$1<=IF(AND($J20>$M$1,$K20=\"\"),$M$2,$K20)),AND(AF$1>=$J21,AF$1<=IF(AND($J21>$M$1,$K21=\"\"),$M$2,$K21)),AND(AF$1>=$J22,AF$1<=IF(AND($J22>$M$1,$K22=\"\"),$M$2,$K22)),AND(AF$1>=$J23,AF$1<=IF(AND($J23>$M$1,$K23=\"\"),$M$2,$K23)),AND(AF$1>=$J24,AF$1<=IF(AND($J24>$M$1,$K24=\"\"),$M$2,$K24))),$J$3,\"\")","v":""},{"$f":"IF(OR(AND(AG$1>=$J20,AG$1<=IF(AND($J20>$M$1,$K20=\"\"),$M$2,$K20)),AND(AG$1>=$J21,AG$1<=IF(AND($J21>$M$1,$K21=\"\"),$M$2,$K21)),AND(AG$1>=$J22,AG$1<=IF(AND($J22>$M$1,$K22=\"\"),$M$2,$K22)),AND(AG$1>=$J23,AG$1<=IF(AND($J23>$M$1,$K23=\"\"),$M$2,$K23)),AND(AG$1>=$J24,AG$1<=IF(AND($J24>$M$1,$K24=\"\"),$M$2,$K24))),$J$3,\"\")","v":""},{"$f":"IF(OR(AND(AH$1>=$J20,AH$1<=IF(AND($J20>$M$1,$K20=\"\"),$M$2,$K20)),AND(AH$1>=$J21,AH$1<=IF(AND($J21>$M$1,$K21=\"\"),$M$2,$K21)),AND(AH$1>=$J22,AH$1<=IF(AND($J22>$M$1,$K22=\"\"),$M$2,$K22)),AND(AH$1>=$J23,AH$1<=IF(AND($J23>$M$1,$K23=\"\"),$M$2,$K23)),AND(AH$1>=$J24,AH$1<=IF(AND($J24>$M$1,$K24=\"\"),$M$2,$K24))),$J$3,\"\")","v":""},{"$f":"IF(OR(AND(AI$1>=$J20,AI$1<=IF(AND($J20>$M$1,$K20=\"\"),$M$2,$K20)),AND(AI$1>=$J21,AI$1<=IF(AND($J21>$M$1,$K21=\"\"),$M$2,$K21)),AND(AI$1>=$J22,AI$1<=IF(AND($J22>$M$1,$K22=\"\"),$M$2,$K22)),AND(AI$1>=$J23,AI$1<=IF(AND($J23>$M$1,$K23=\"\"),$M$2,$K23)),AND(AI$1>=$J24,AI$1<=IF(AND($J24>$M$1,$K24=\"\"),$M$2,$K24))),$J$3,\"\")","v":""},{"$f":"IF(OR(AND(AJ$1>=$J20,AJ$1<=IF(AND($J20>$M$1,$K20=\"\"),$M$2,$K20)),AND(AJ$1>=$J21,AJ$1<=IF(AND($J21>$M$1,$K21=\"\"),$M$2,$K21)),AND(AJ$1>=$J22,AJ$1<=IF(AND($J22>$M$1,$K22=\"\"),$M$2,$K22)),AND(AJ$1>=$J23,AJ$1<=IF(AND($J23>$M$1,$K23=\"\"),$M$2,$K23)),AND(AJ$1>=$J24,AJ$1<=IF(AND($J24>$M$1,$K24=\"\"),$M$2,$K24))),$J$3,\"\")","v":""},{"$f":"IF(OR(AND(AK$1>=$J20,AK$1<=IF(AND($J20>$M$1,$K20=\"\"),$M$2,$K20)),AND(AK$1>=$J21,AK$1<=IF(AND($J21>$M$1,$K21=\"\"),$M$2,$K21)),AND(AK$1>=$J22,AK$1<=IF(AND($J22>$M$1,$K22=\"\"),$M$2,$K22)),AND(AK$1>=$J23,AK$1<=IF(AND($J23>$M$1,$K23=\"\"),$M$2,$K23)),AND(AK$1>=$J24,AK$1<=IF(AND($J24>$M$1,$K24=\"\"),$M$2,$K24))),$J$3,\"\")","v":""},{"$f":"IF(OR(AND(AL$1>=$J20,AL$1<=IF(AND($J20>$M$1,$K20=\"\"),$M$2,$K20)),AND(AL$1>=$J21,AL$1<=IF(AND($J21>$M$1,$K21=\"\"),$M$2,$K21)),AND(AL$1>=$J22,AL$1<=IF(AND($J22>$M$1,$K22=\"\"),$M$2,$K22)),AND(AL$1>=$J23,AL$1<=IF(AND($J23>$M$1,$K23=\"\"),$M$2,$K23)),AND(AL$1>=$J24,AL$1<=IF(AND($J24>$M$1,$K24=\"\"),$M$2,$K24))),$J$3,\"\")","v":""},{"$f":"IF(OR(AND(AM$1>=$J20,AM$1<=IF(AND($J20>$M$1,$K20=\"\"),$M$2,$K20)),AND(AM$1>=$J21,AM$1<=IF(AND($J21>$M$1,$K21=\"\"),$M$2,$K21)),AND(AM$1>=$J22,AM$1<=IF(AND($J22>$M$1,$K22=\"\"),$M$2,$K22)),AND(AM$1>=$J23,AM$1<=IF(AND($J23>$M$1,$K23=\"\"),$M$2,$K23)),AND(AM$1>=$J24,AM$1<=IF(AND($J24>$M$1,$K24=\"\"),$M$2,$K24))),$J$3,\"\")","v":""},{"$f":"IF(OR(AND(AN$1>=$J20,AN$1<=IF(AND($J20>$M$1,$K20=\"\"),$M$2,$K20)),AND(AN$1>=$J21,AN$1<=IF(AND($J21>$M$1,$K21=\"\"),$M$2,$K21)),AND(AN$1>=$J22,AN$1<=IF(AND($J22>$M$1,$K22=\"\"),$M$2,$K22)),AND(AN$1>=$J23,AN$1<=IF(AND($J23>$M$1,$K23=\"\"),$M$2,$K23)),AND(AN$1>=$J24,AN$1<=IF(AND($J24>$M$1,$K24=\"\"),$M$2,$K24))),$J$3,\"\")","v":""},{"$f":"IF(OR(AND(AO$1>=$J20,AO$1<=IF(AND($J20>$M$1,$K20=\"\"),$M$2,$K20)),AND(AO$1>=$J21,AO$1<=IF(AND($J21>$M$1,$K21=\"\"),$M$2,$K21)),AND(AO$1>=$J22,AO$1<=IF(AND($J22>$M$1,$K22=\"\"),$M$2,$K22)),AND(AO$1>=$J23,AO$1<=IF(AND($J23>$M$1,$K23=\"\"),$M$2,$K23)),AND(AO$1>=$J24,AO$1<=IF(AND($J24>$M$1,$K24=\"\"),$M$2,$K24))),$J$3,\"\")","v":""},{"$f":"IF(AP$1=\"\",\"\",IF(OR(AND(AP$1>=$J20,AP$1<=IF(AND($J20>$M$1,$K20=\"\"),$M$2,$K20)),AND(AP$1>=$J21,AP$1<=IF(AND($J21>$M$1,$K21=\"\"),$M$2,$K21)),AND(AP$1>=$J22,AP$1<=IF(AND($J22>$M$1,$K22=\"\"),$M$2,$K22)),AND(AP$1>=$J23,AP$1<=IF(AND($J23>$M$1,$K23=\"\"),$M$2,$K23)),AND(AP$1>=$J24,AP$1<=IF(AND($J24>$M$1,$K24=\"\"),$M$2,$K24))),$J$3,\"\"))","v":""},{"$f":"IF(AQ$1=\"\",\"\",IF(OR(AND(AQ$1>=$J20,AQ$1<=IF(AND($J20>$M$1,$K20=\"\"),$M$2,$K20)),AND(AQ$1>=$J21,AQ$1<=IF(AND($J21>$M$1,$K21=\"\"),$M$2,$K21)),AND(AQ$1>=$J22,AQ$1<=IF(AND($J22>$M$1,$K22=\"\"),$M$2,$K22)),AND(AQ$1>=$J23,AQ$1<=IF(AND($J23>$M$1,$K23=\"\"),$M$2,$K23)),AND(AQ$1>=$J24,AQ$1<=IF(AND($J24>$M$1,$K24=\"\"),$M$2,$K24))),$J$3,\"\"))","v":""},{"$f":"IF(AR$1=\"\",\"\",IF(OR(AND(AR$1>=$J20,AR$1<=IF(AND($J20>$M$1,$K20=\"\"),$M$2,$K20)),AND(AR$1>=$J21,AR$1<=IF(AND($J21>$M$1,$K21=\"\"),$M$2,$K21)),AND(AR$1>=$J22,AR$1<=IF(AND($J22>$M$1,$K22=\"\"),$M$2,$K22)),AND(AR$1>=$J23,AR$1<=IF(AND($J23>$M$1,$K23=\"\"),$M$2,$K23)),AND(AR$1>=$J24,AR$1<=IF(AND($J24>$M$1,$K24=\"\"),$M$2,$K24))),$J$3,\"\"))","v":""}]
[{"$f":"стр.1!C21","v":4439},{"$f":"IFERROR(VLOOKUP(A25,стр.1!$A$13:$D$106,2,FALSE),\"\")","v":"Шустов"},{"$f":"IFERROR(VLOOKUP(A25,стр.1!$A$13:$D$106,4,FALSE),\"\")","v":"сборная"},null,null,null,null,null,null,null,null,null,null,{"$f":"N26&N27&N28&N29","v":""},{"$f":"O26&O27&O28&O29","v":""},{"$f":"P26&P27&P28&P29","v":""},{"$f":"Q26&Q27&Q28&Q29","v":""},{"$f":"R26&R27&R28&R29","v":""},{"$f":"S26&S27&S28&S29","v":""},{"$f":"T26&T27&T28&T29","v":""},{"$f":"U26&U27&U28&U29","v":""},{"$f":"V26&V27&V28&V29","v":""},{"$f":"W26&W27&W28&W29","v":""},{"$f":"X26&X27&X28&X29","v":""},{"$f":"Y26&Y27&Y28&Y29","v":""},{"$f":"Z26&Z27&Z28&Z29","v":""},{"$f":"AA26&AA27&AA28&AA29","v":""},{"$f":"AB26&AB27&AB28&AB29","v":""},{"$f":"AC26&AC27&AC28&AC29","v":""},{"$f":"AD26&AD27&AD28&AD29","v":""},{"$f":"AE26&AE27&AE28&AE29","v":""},{"$f":"AF26&AF27&AF28&AF29","v":""},{"$f":"AG26&AG27&AG28&AG29","v":""},{"$f":"AH26&AH27&AH28&AH29","v":""},{"$f":"AI26&AI27&AI28&AI29","v":""},{"$f":"AJ26&AJ27&AJ28&AJ29","v":""},{"$f":"AK26&AK27&AK28&AK29","v":""},{"$f":"AL26&AL27&AL28&AL29","v":""},{"$f":"AM26&AM27&AM28&AM29","v":""},{"$f":"AN26&AN27&AN28&AN29","v":""},{"$f":"AO26&AO27&AO28&AO29","v":""},{"$f":"AP26&AP27&AP28&AP29","v":""},{"$f":"AQ26&AQ27&AQ28&AQ29","v":""},{"$f":"AR26&AR27&AR28&AR29","v":""}]
[null,null,null,null,null,null,null,null,null,null,null,null,null,{"$f":"IF(OR(AND(N$1>=$D25,N$1<=IF(AND($D25>$M$1,$E25=\"\"),$M$2,$E25)),AND(N$1>=$D26,N$1<=IF(AND($D26>$M$1,$E26=\"\"),$M$2,$E26)),AND(N$1>=$D27,N$1<=IF(AND($D27>$M$1,$E27=\"\"),$M$2,$E27)),AND(N$1>=$D28,N$1<=IF(AND($D28>$M$1,$E28=\"\"),$M$2,$E28))),$D$3,\"\")","v":""},{"$f":"IF(OR(AND(O$1>=$D25,O$1<=IF(AND($D25>$M$1,$E25=\"\"),$M$2,$E25)),AND(O$1>=$D26,O$1<=IF(AND($D26>$M$1,$E26=\"\"),$M$2,$E26)),AND(O$1>=$D27,O$1<=IF(AND($D27>$M$1,$E27=\"\"),$M$2,$E27)),AND(O$1>=$D28,O$1<=IF(AND($D28>$M$1,$E28=\"\"),$M$2,$E28))),$D$3,\"\")","v":""},"","","","","","","","","","","","","","","","","","","","","","","","","","",{"$f":"IF(AP$1=\"\",\"\",IF(OR(AND(AP$1>=$D25,AP$1<=IF(AND($D25>$M$1,$E25=\"\"),$M$2,$E25)),AND(AP$1>=$D26,AP$1<=IF(AND($D26>$M$1,$E26=\"\"),$M$2,$E26)),AND(AP$1>=$D27,AP$1<=IF(AND($D27>$M$1,$E27=\"\"),$M$2,$E27)),AND(AP$1>=$D28,AP$1<=IF(AND($D28>$M$1,$E28=\"\"),$M$2,$E28))),$D$3,\"\"))","v":""},{"$f":"IF(AQ$1=\"\",\"\",IF(OR(AND(AQ$1>=$D25,AQ$1<=IF(AND($D25>$M$1,$E25=\"\"),$M$2,$E25)),AND(AQ$1>=$D26,AQ$1<=IF(AND($D26>$M$1,$E26=\"\"),$M$2,$E26)),AND(AQ$1>=$D27,AQ$1<=IF(AND($D27>$M$1,$E27=\"\"),$M$2,$E27)),AND(AQ$1>=$D28,AQ$1<=IF(AND($D28>$M$1,$E28=\"\"),$M$2,$E28))),$D$3,\"\"))","v":""},""]
[null,null,null,null,null,null,null,null,null,null,null,null,null,{"$f":"IF(OR(AND(N$1>=$F25,N$1<=IF(AND($F25>$M$1,$G25=\"\"),$M$2,$G25)),AND(N$1>=$F26,N$1<=IF(AND($F26>$M$1,$G26=\"\"),$M$2,$G26)),AND(N$1>=$F27,N$1<=IF(AND($F27>$M$1,$G27=\"\"),$M$2,$G27)),AND(N$1>=$F28,N$1<=IF(AND($F28>$M$1,$G28=\"\"),$M$2,$G28))),$F$3,\"\")","v":""},{"$f":"IF(OR(AND(O$1>=$F25,O$1<=IF(AND($F25>$M$1,$G25=\"\"),$M$2,$G25)),AND(O$1>=$F26,O$1<=IF(AND($F26>$M$1,$G26=\"\"),$M$2,$G26)),AND(O$1>=$F27,O$1<=IF(AND($F27>$M$1,$G27=\"\"),$M$2,$G27)),AND(O$1>=$F28,O$1<=IF(AND($F28>$M$1,$G28=\"\"),$M$2,$G28))),$F$3,\"\")","v":""},"","","","","","","","","","","","","","","","","","","","","","","","","","",{"$f":"IF(AP$1=\"\",\"\",IF(OR(AND(AP$1>=$F25,AP$1<=IF(AND($F25>$M$1,$G25=\"\"),$M$2,$G25)),AND(AP$1>=$F26,AP$1<=IF(AND($F26>$M$1,$G26=\"\"),$M$2,$G26)),AND(AP$1>=$F27,AP$1<=IF(AND($F27>$M$1,$G27=\"\"),$M$2,$G27)),AND(AP$1>=$F28,AP$1<=IF(AND($F28>$M$1,$G28=\"\"),$M$2,$G28))),$F$3,\"\"))","v":""},{"$f":"IF(AQ$1=\"\",\"\",IF(OR(AND(AQ$1>=$F25,AQ$1<=IF(AND($F25>$M$1,$G25=\"\"),$M$2,$G25)),AND(AQ$1>=$F26,AQ$1<=IF(AND($F26>$M$1,$G26=\"\"),$M$2,$G26)),AND(AQ$1>=$F27,AQ$1<=IF(AND($F27>$M$1,$G27=\"\"),$M$2,$G27)),AND(AQ$1>=$F28,AQ$1<=IF(AND($F28>$M$1,$G28=\"\"),$M$2,$G28))),$F$3,\"\"))","v":""},""]
[null,null,null,null,null,null,null,null,null,null,null,null,null,{"$f":"IF(OR(AND(N$1>=$H25,N$1<=IF(AND($H25>$M$1,$I25=\"\"),$M$2,$I25)),AND(N$1>=$H26,N$1<=IF(AND($H26>$M$1,$I26=\"\"),$M$2,$I26)),AND(N$1>=$H27,N$1<=IF(AND($H27>$M$1,$I27=\"\"),$M$2,$I27)),AND(N$1>=$H28,N$1<=IF(AND($H28>$M$1,$I28=\"\"),$M$2,$I28))),$H$3,\"\")","v":""},"","","","","","","","","","","","","","","","","","","","","","","","","","","",{"$f":"IF(AP$1=\"\",\"\",IF(OR(AND(AP$1>=$H25,AP$1<=IF(AND($H25>$M$1,$I25=\"\"),$M$2,$I25)),AND(AP$1>=$H26,AP$1<=IF(AND($H26>$M$1,$I26=\"\"),$M$2,$I26)),AND(AP$1>=$H27,AP$1<=IF(AND($H27>$M$1,$I27=\"\"),$M$2,$I27)),AND(AP$1>=$H28,AP$1<=IF(AND($H28>$M$1,$I28=\"\"),$M$2,$I28))),$H$3,\"\"))","v":""},{"$f":"IF(AQ$1=\"\",\"\",IF(OR(AND(AQ$1>=$H25,AQ$1<=IF(AND($H25>$M$1,$I25=\"\"),$M$2,$I25)),AND(AQ$1>=$H26,AQ$1<=IF(AND($H26>$M$1,$I26=\"\"),$M$2,$I26)),AND(AQ$1>=$H27,AQ$1<=IF(AND($H27>$M$1,$I27=\"\"),$M$2,$I27)),AND(AQ$1>=$H28,AQ$1<=IF(AND($H28>$M$1,$I28=\"\"),$M$2,$I28))),$H$3,\"\"))","v":""},{"$f":"IF(AR$1=\"\",\"\",IF(OR(AND(AR$1>=$H25,AR$1<=IF(AND($H25>$M$1,$I25=\"\"),$M$2,$I25)),AND(AR$1>=$H26,AR$1<=IF(AND($H26>$M$1,$I26=\"\"),$M$2,$I26)),AND(AR$1>=$H27,AR$1<=IF(AND($H27>$M$1,$I27=\"\"),$M$2,$I27)),AND(AR$1>=$H28,AR$1<=IF(AND($H28>$M$1,$I28=\"\"),$M$2,$I28))),$H$3,\"\"))","v":""}]
[null,null,null,null,null,null,null,null,null,null,null,null,null,{"$f":"IF(OR(AND(N$1>=$J25,N$1<=IF(AND($J25>$M$1,$K25=\"\"),$M$2,$K25)),AND(N$1>=$J26,N$1<=IF(AND($J26>$M$1,$K26=\"\"),$M$2,$K26)),AND(N$1>=$J27,N$1<=IF(AND($J27>$M$1,$K27=\"\"),$M$2,$K27)),AND(N$1>=$J28,N$1<=IF(AND($J28>$M$1,$K28=\"\"),$M$2,$K28)),AND(N$1>=$J29,N$1<=IF(AND($J29>$M$1,$K29=\"\"),$M$2,$K29))),$J$3,\"\")","v":""},{"$f":"IF(OR(AND(O$1>=$J25,O$1<=IF(AND($J25>$M$1,$K25=\"\"),$M$2,$K25)),AND(O$1>=$J26,O$1<=IF(AND($J26>$M$1,$K26=\"\"),$M$2,$K26)),AND(O$1>=$J27,O$1<=IF(AND($J27>$M$1,$K27=\"\"),$M$2,$K27)),AND(O$1>=$J28,O$1<=IF(AND($J28>$M$1,$K28=\"\"),$M$2,$K28)),AND(O$1>=$J29,O$1<=IF(AND($J29>$M$1,$K29=\"\"),$M$2,$K29))),$J$3,\"\")","v":""},{"$f":"IF(OR(AND(P$1>=$J25,P$1<=IF(AND($J25>$M$1,$K25=\"\"),$M$2,$K25)),AND(P$1>=$J26,P$1<=IF(AND($J26>$M$1,$K26=\"\"),$M$2,$K26)),AND(P$1>=$J27,P$1<=IF(AND($J27>$M$1,$K27=\"\"),$M$2,$K27)),AND(P$1>=$J28,P$1<=IF(AND($J28>$M$1,$K28=\"\"),$M$2,$K28)),AND(P$1>=$J29,P$1<=IF(AND($J29>$M$1,$K29=\"\"),$M$2,$K29))),$J$3,\"\")","v":""},{"$f":"IF(OR(AND(Q$1>=$J25,Q$1<=IF(AND($J25>$M$1,$K25=\"\"),$M$2,$K25)),AND(Q$1>=$J26,Q$1<=IF(AND($J26>$M$1,$K26=\"\"),$M$2,$K26)),AND(Q$1>=$J27,Q$1<=IF(AND($J27>$M$1,$K27=\"\"),$M$2,$K27)),AND(Q$1>=$J28,Q$1<=IF(AND($J28>$M$1,$K28=\"\"),$M$2,$K28)),AND(Q$1>=$J29,Q$1<=IF(AND($J29>$M$1,$K29=\"\"),$M$2,$K29))),$J$3,\"\")","v":""},{"$f":"IF(OR(AND(R$1>=$J25,R$1<=IF(AND($J25>$M$1,$K25=\"\"),$M$2,$K25)),AND(R$1>=$J26,R$1<=IF(AND($J26>$M$1,$K26=\"\"),$M$2,$K26)),AND(R$1>=$J27,R$1<=IF(AND($J27>$M$1,$K27=\"\"),$M$2,$K27)),AND(R$1>=$J28,R$1<=IF(AND($J28>$M$1,$K28=\"\"),$M$2,$K28)),AND(R$1>=$J29,R$1<=IF(AND($J29>$M$1,$K29=\"\"),$M$2,$K29))),$J$3,\"\")","v":""},{"$f":"IF(OR(AND(S$1>=$J25,S$1<=IF(AND($J25>$M$1,$K25=\"\"),$M$2,$K25)),AND(S$1>=$J26,S$1<=IF(AND($J26>$M$1,$K26=\"\"),$M$2,$K26)),AND(S$1>=$J27,S$1<=IF(AND($J27>$M$1,$K27=\"\"),$M$2,$K27)),AND(S$1>=$J28,S$1<=IF(AND($J28>$M$1,$K28=\"\"),$M$2,$K28)),AND(S$1>=$J29,S$1<=IF(AND($J29>$M$1,$K29=\"\"),$M$2,$K29))),$J$3,\"\")","v":""},{"$f":"IF(OR(AND(T$1>=$J25,T$1<=IF(AND($J25>$M$1,$K25=\"\"),$M$2,$K25)),AND(T$1>=$J26,T$1<=IF(AND($J26>$M$1,$K26=\"\"),$M$2,$K26)),AND(T$1>=$J27,T$1<=IF(AND($J27>$M$1,$K27=\"\"),$M$2,$K27)),AND(T$1>=$J28,T$1<=IF(AND($J28>$M$1,$K28=\"\"),$M$2,$K28)),AND(T$1>=$J29,T$1<=IF(AND($J29>$M$1,$K29=\"\"),$M$2,$K29))),$J$3,\"\")","v":""},{"$f":"IF(OR(AND(U$1>=$J25,U$1<=IF(AND($J25>$M$1,$K25=\"\"),$M$2,$K25)),AND(U$1>=$J26,U$1<=IF(AND($J26>$M$1,$K26=\"\"),$M$2,$K26)),AND(U$1>=$J27,U$1<=IF(AND($J27>$M$1,$K27=\"\"),$M$2,$K27)),AND(U$1>=$J28,U$1<=IF(AND($J28>$M$1,$K28=\"\"),$M$2,$K28)),AND(U$1>=$J29,U$1<=IF(AND($J29>$M$1,$K29=\"\"),$M$2,$K29))),$J$3,\"\")","v":""},{"$f":"IF(OR(AND(V$1>=$J25,V$1<=IF(AND($J25>$M$1,$K25=\"\"),$M$2,$K25)),AND(V$1>=$J26,V$1<=IF(AND($J26>$M$1,$K26=\"\"),$M$2,$K26)),AND(V$1>=$J27,V$1<=IF(AND($J27>$M$1,$K27=\"\"),$M$2,$K27)),AND(V$1>=$J28,V$1<=IF(AND($J28>$M$1,$K28=\"\"),$M$2,$K28)),AND(V$1>=$J29,V$1<=IF(AND($J29>$M$1,$K29=\"\"),$M$2,$K29))),$J$3,\"\")","v":""},{"$f":"IF(OR(AND(W$1>=$J25,W$1<=IF(AND($J25>$M$1,$K25=\"\"),$M$2,$K25)),AND(W$1>=$J26,W$1<=IF(AND($J26>$M$1,$K26=\"\"),$M$2,$K26)),AND(W$1>=$J27,W$1<=IF(AND($J27>$M$1,$K27=\"\"),$M$2,$K27)),AND(W$1>=$J28,W$1<=IF(AND($J28>$M$1,$K28=\"\"),$M$2,$K28)),AND(W$1>=$J29,W$1<=IF(AND($J29>$M$1,$K29=\"\"),$M$2,$K29))),$J$3,\"\")","v":""},{"$f":"IF(OR(AND(X$1>=$J25,X$1<=IF(AND($J25>$M$1,$K25=\"\"),$M$2,$K25)),AND(X$1>=$J26,X$1<=IF(AND($J26>$M$1,$K26=\"\"),$M$2,$K26)),AND(X$1>=$J27,X$1<=IF(AND($J27>$M$1,$K27=\"\"),$M$2,$K27)),AND(X$1>=$J28,X$1<=IF(AND($J28>$M$1,$K28=\"\"),$M$2,$K28)),AND(X$1>=$J29,X$1<=IF(AND($J29>$M$1,$K29=\"\"),$M$2,$K29))),$J$3,\"\")","v":""},{"$f":"IF(OR(AND(Y$1>=$J25,Y$1<=IF(AND($J25>$M$1,$K25=\"\"),$M$2,$K25)),AND(Y$1>=$J26,Y$1<=IF(AND($J26>$M$1,$K26=\"\"),$M$2,$K26)),AND(Y$1>=$J27,Y$1<=IF(AND($J27>$M$1,$K27=\"\"),$M$2,$K27)),AND(Y$1>=$J28,Y$1<=IF(AND($J28>$M$1,$K28=\"\"),$M$2,$K28)),AND(Y$1>=$J29,Y$1<=IF(AND($J29>$M$1,$K29=\"\"),$M$2,$K29))),$J$3,\"\")","v":""},{"$f":"IF(OR(AND(Z$1>=$J25,Z$1<=IF(AND($J25>$M$1,$K25=\"\"),$M$2,$K25)),AND(Z$1>=$J26,Z$1<=IF(AND($J26>$M$1,$K26=\"\"),$M$2,$K26)),AND(Z$1>=$J27,Z$1<=IF(AND($J27>$M$1,$K27=\"\"),$M$2,$K27)),AND(Z$1>=$J28,Z$1<=IF(AND($J28>$M$1,$K28=\"\"),$M$2,$K28)),AND(Z$1>=$J29,Z$1<=IF(AND($J29>$M$1,$K29=\"\"),$M$2,$K29))),$J$3,\"\")","v":""},{"$f":"IF(OR(AND(AA$1>=$J25,AA$1<=IF(AND($J25>$M$1,$K25=\"\"),$M$2,$K25)),AND(AA$1>=$J26,AA$1<=IF(AND($J26>$M$1,$K26=\"\"),$M$2,$K26)),AND(AA$1>=$J27,AA$1<=IF(AND($J27>$M$1,$K27=\"\"),$M$2,$K27)),AND(AA$1>=$J28,AA$1<=IF(AND($J28>$M$1,$K28=\"\"),$M$2,$K28)),AND(AA$1>=$J29,AA$1<=IF(AND($J29>$M$1,$K29=\"\"),$M$2,$K29))),$J$3,\"\")","v":""},{"$f":"IF(OR(AND(AB$1>=$J25,AB$1<=IF(AND($J25>$M$1,$K25=\"\"),$M$2,$K25)),AND(AB$1>=$J26,AB$1<=IF(AND($J26>$M$1,$K26=\"\"),$M$2,$K26)),AND(AB$1>=$J27,AB$1<=IF(AND($J27>$M$1,$K27=\"\"),$M$2,$K27)),AND(AB$1>=$J28,AB$1<=IF(AND($J28>$M$1,$K28=\"\"),$M$2,$K28)),AND(AB$1>=$J29,AB$1<=IF(AND($J29>$M$1,$K29=\"\"),$M$2,$K29))),$J$3,\"\")","v":""},{"$f":"IF(OR(AND(AC$1>=$J25,AC$1<=IF(AND($J25>$M$1,$K25=\"\"),$M$2,$K25)),AND(AC$1>=$J26,AC$1<=IF(AND($J26>$M$1,$K26=\"\"),$M$2,$K26)),AND(AC$1>=$J27,AC$1<=IF(AND($J27>$M$1,$K27=\"\"),$M$2,$K27)),AND(AC$1>=$J28,AC$1<=IF(AND($J28>$M$1,$K28=\"\"),$M$2,$K28)),AND(AC$1>=$J29,AC$1<=IF(AND($J29>$M$1,$K29=\"\"),$M$2,$K29))),$J$3,\"\")","v":""},{"$f":"IF(OR(AND(AD$1>=$J25,AD$1<=IF(AND($J25>$M$1,$K25=\"\"),$M$2,$K25)),AND(AD$1>=$J26,AD$1<=IF(AND($J26>$M$1,$K26=\"\"),$M$2,$K26)),AND(AD$1>=$J27,AD$1<=IF(AND($J27>$M$1,$K27=\"\"),$M$2,$K27)),AND(AD$1>=$J28,AD$1<=IF(AND($J28>$M$1,$K28=\"\"),$M$2,$K28)),AND(AD$1>=$J29,AD$1<=IF(AND($J29>$M$1,$K29=\"\"),$M$2,$K29))),$J$3,\"\")","v":""},{"$f":"IF(OR(AND(AE$1>=$J25,AE$1<=IF(AND($J25>$M$1,$K25=\"\"),$M$2,$K25)),AND(AE$1>=$J26,AE$1<=IF(AND($J26>$M$1,$K26=\"\"),$M$2,$K26)),AND(AE$1>=$J27,AE$1<=IF(AND($J27>$M$1,$K27=\"\"),$M$2,$K27)),AND(AE$1>=$J28,AE$1<=IF(AND($J28>$M$1,$K28=\"\"),$M$2,$K28)),AND(AE$1>=$J29,AE$1<=IF(AND($J29>$M$1,$K29=\"\"),$M$2,$K29))),$J$3,\"\")","v":""},{"$f":"IF(OR(AND(AF$1>=$J25,AF$1<=IF(AND($J25>$M$1,$K25=\"\"),$M$2,$K25)),AND(AF$1>=$J26,AF$1<=IF(AND($J26>$M$1,$K26=\"\"),$M$2,$K26)),AND(AF$1>=$J27,AF$1<=IF(AND($J27>$M$1,$K27=\"\"),$M$2,$K27)),AND(AF$1>=$J28,AF$1<=IF(AND($J28>$M$1,$K28=\"\"),$M$2,$K28)),AND(AF$1>=$J29,AF$1<=IF(AND($J29>$M$1,$K29=\"\"),$M$2,$K29))),$J$3,\"\")","v":""},{"$f":"IF(OR(AND(AG$1>=$J25,AG$1<=IF(AND($J25>$M$1,$K25=\"\"),$M$2,$K25)),AND(AG$1>=$J26,AG$1<=IF(AND($J26>$M$1,$K26=\"\"),$M$2,$K26)),AND(AG$1>=$J27,AG$1<=IF(AND($J27>$M$1,$K27=\"\"),$M$2,$K27)),AND(AG$1>=$J28,AG$1<=IF(AND($J28>$M$1,$K28=\"\"),$M$2,$K28)),AND(AG$1>=$J29,AG$1<=IF(AND($J29>$M$1,$K29=\"\"),$M$2,$K29))),$J$3,\"\")","v":""},{"$f":"IF(OR(AND(AH$1>=$J25,AH$1<=IF(AND($J25>$M$1,$K25=\"\"),$M$2,$K25)),AND(AH$1>=$J26,AH$1<=IF(AND($J26>$M$1,$K26=\"\"),$M$2,$K26)),AND(AH$1>=$J27,AH$1<=IF(AND($J27>$M$1,$K27=\"\"),$M$2,$K27)),AND(AH$1>=$J28,AH$1<=IF(AND($J28>$M$1,$K28=\"\"),$M$2,$K28)),AND(AH$1>=$J29,AH$1<=IF(AND($J29>$M$1,$K29=\"\"),$M$2,$K29))),$J$3,\"\")","v":""},{"$f":"IF(OR(AND(AI$1>=$J25,AI$1<=IF(AND($J25>$M$1,$K25=\"\"),$M$2,$K25)),AND(AI$1>=$J26,AI$1<=IF(AND($J26>$M$1,$K26=\"\"),$M$2,$K26)),AND(AI$1>=$J27,AI$1<=IF(AND($J27>$M$1,$K27=\"\"),$M$2,$K27)),AND(AI$1>=$J28,AI$1<=IF(AND($J28>$M$1,$K28=\"\"),$M$2,$K28)),AND(AI$1>=$J29,AI$1<=IF(AND($J29>$M$1,$K29=\"\"),$M$2,$K29))),$J$3,\"\")","v":""},{"$f":"IF(OR(AND(AJ$1>=$J25,AJ$1<=IF(AND($J25>$M$1,$K25=\"\"),$M$2,$K25)),AND(AJ$1>=$J26,AJ$1<=IF(AND($J26>$M$1,$K26=\"\"),$M$2,$K26)),AND(AJ$1>=$J27,AJ$1<=IF(AND($J27>$M$1,$K27=\"\"),$M$2,$K27)),AND(AJ$1>=$J28,AJ$1<=IF(AND($J28>$M$1,$K28=\"\"),$M$2,$K28)),AND(AJ$1>=$J29,AJ$1<=IF(AND($J29>$M$1,$K29=\"\"),$M$2,$K29))),$J$3,\"\")","v":""},{"$f":"IF(OR(AND(AK$1>=$J25,AK$1<=IF(AND($J25>$M$1,$K25=\"\"),$M$2,$K25)),AND(AK$1>=$J26,AK$1<=IF(AND($J26>$M$1,$K26=\"\"),$M$2,$K26)),AND(AK$1>=$J27,AK$1<=IF(AND($J27>$M$1,$K27=\"\"),$M$2,$K27)),AND(AK$1>=$J28,AK$1<=IF(AND($J28>$M$1,$K28=\"\"),$M$2,$K28)),AND(AK$1>=$J29,AK$1<=IF(AND($J29>$M$1,$K29=\"\"),$M$2,$K29))),$J$3,\"\")","v":""},{"$f":"IF(OR(AND(AL$1>=$J25,AL$1<=IF(AND($J25>$M$1,$K25=\"\"),$M$2,$K25)),AND(AL$1>=$J26,AL$1<=IF(AND($J26>$M$1,$K26=\"\"),$M$2,$K26)),AND(AL$1>=$J27,AL$1<=IF(AND($J27>$M$1,$K27=\"\"),$M$2,$K27)),AND(AL$1>=$J28,AL$1<=IF(AND($J28>$M$1,$K28=\"\"),$M$2,$K28)),AND(AL$1>=$J29,AL$1<=IF(AND($J29>$M$1,$K29=\"\"),$M$2,$K29))),$J$3,\"\")","v":""},{"$f":"IF(OR(AND(AM$1>=$J25,AM$1<=IF(AND($J25>$M$1,$K25=\"\"),$M$2,$K25)),AND(AM$1>=$J26,AM$1<=IF(AND($J26>$M$1,$K26=\"\"),$M$2,$K26)),AND(AM$1>=$J27,AM$1<=IF(AND($J27>$M$1,$K27=\"\"),$M$2,$K27)),AND(AM$1>=$J28,AM$1<=IF(AND($J28>$M$1,$K28=\"\"),$M$2,$K28)),AND(AM$1>=$J29,AM$1<=IF(AND($J29>$M$1,$K29=\"\"),$M$2,$K29))),$J$3,\"\")","v":""},{"$f":"IF(OR(AND(AN$1>=$J25,AN$1<=IF(AND($J25>$M$1,$K25=\"\"),$M$2,$K25)),AND(AN$1>=$J26,AN$1<=IF(AND($J26>$M$1,$K26=\"\"),$M$2,$K26)),AND(AN$1>=$J27,AN$1<=IF(AND($J27>$M$1,$K27=\"\"),$M$2,$K27)),AND(AN$1>=$J28,AN$1<=IF(AND($J28>$M$1,$K28=\"\"),$M$2,$K28)),AND(AN$1>=$J29,AN$1<=IF(AND($J29>$M$1,$K29=\"\"),$M$2,$K29))),$J$3,\"\")","v":""},{"$f":"IF(OR(AND(AO$1>=$J25,AO$1<=IF(AND($J25>$M$1,$K25=\"\"),$M$2,$K25)),AND(AO$1>=$J26,AO$1<=IF(AND($J26>$M$1,$K26=\"\"),$M$2,$K26)),AND(AO$1>=$J27,AO$1<=IF(AND($J27>$M$1,$K27=\"\"),$M$2,$K27)),AND(AO$1>=$J28,AO$1<=IF(AND($J28>$M$1,$K28=\"\"),$M$2,$K28)),AND(AO$1>=$J29,AO$1<=IF(AND($J29>$M$1,$K29=\"\"),$M$2,$K29))),$J$3,\"\")","v":""},{"$f":"IF(AP$1=\"\",\"\",IF(OR(AND(AP$1>=$J25,AP$1<=IF(AND($J25>$M$1,$K25=\"\"),$M$2,$K25)),AND(AP$1>=$J26,AP$1<=IF(AND($J26>$M$1,$K26=\"\"),$M$2,$K26)),AND(AP$1>=$J27,AP$1<=IF(AND($J27>$M$1,$K27=\"\"),$M$2,$K27)),AND(AP$1>=$J28,AP$1<=IF(AND($J28>$M$1,$K28=\"\"),$M$2,$K28)),AND(AP$1>=$J29,AP$1<=IF(AND($J29>$M$1,$K29=\"\"),$M$2,$K29))),$J$3,\"\"))","v":""},{"$f":"IF(AQ$1=\"\",\"\",IF(OR(AND(AQ$1>=$J25,AQ$1<=IF(AND($J25>$M$1,$K25=\"\"),$M$2,$K25)),AND(AQ$1>=$J26,AQ$1<=IF(AND($J26>$M$1,$K26=\"\"),$M$2,$K26)),AND(AQ$1>=$J27,AQ$1<=IF(AND($J27>$M$1,$K27=\"\"),$M$2,$K27)),AND(AQ$1>=$J28,AQ$1<=IF(AND($J28>$M$1,$K28=\"\"),$M$2,$K28)),AND(AQ$1>=$J29,AQ$1<=IF(AND($J29>$M$1,$K29=\"\"),$M$2,$K29))),$J$3,\"\"))","v":""},{"$f":"IF(AR$1=\"\",\"\",IF(OR(AND(AR$1>=$J25,AR$1<=IF(AND($J25>$M$1,$K25=\"\"),$M$2,$K25)),AND(AR$1>=$J26,AR$1<=IF(AND($J26>$M$1,$K26=\"\"),$M$2,$K26)),AND(AR$1>=$J27,AR$1<=IF(AND($J27>$M$1,$K27=\"\"),$M$2,$K27)),AND(AR$1>=$J28,AR$1<=IF(AND($J28>$M$1,$K28=\"\"),$M$2,$K28)),AND(AR$1>=$J29,AR$1<=IF(AND($J29>$M$1,$K29=\"\"),$M$2,$K29))),$J$3,\"\"))","v":""}]
[{"$f":"стр.1!C23","v":4813},{"$f":"IFERROR(VLOOKUP(A30,стр.1!$A$13:$D$106,2,FALSE),\"\")","v":"Овечкин"},{"$f":"IFERROR(VLOOKUP(A30,стр.1!$A$13:$D$106,4,FALSE),\"\")","v":"сборная"},null,null,null,null,null,null,null,null,null,null,{"$f":"N31&N32&N33&N34","v":""},{"$f":"O31&O32&O33&O34","v":""},{"$f":"P31&P32&P33&P34","v":""},{"$f":"Q31&Q32&Q33&Q34","v":""},{"$f":"R31&R32&R33&R34","v":""},{"$f":"S31&S32&S33&S34","v":""},{"$f":"T31&T32&T33&T34","v":""},{"$f":"U31&U32&U33&U34","v":""},{"$f":"V31&V32&V33&V34","v":""},{"$f":"W31&W32&W33&W34","v":""},{"$f":"X31&X32&X33&X34","v":""},{"$f":"Y31&Y32&Y33&Y34","v":""},{"$f":"Z31&Z32&Z33&Z34","v":""},{"$f":"AA31&AA32&AA33&AA34","v":""},{"$f":"AB31&AB32&AB33&AB34","v":""},{"$f":"AC31&AC32&AC33&AC34","v":""},{"$f":"AD31&AD32&AD33&AD34","v":""},{"$f":"AE31&AE32&AE33&AE34","v":""},{"$f":"AF31&AF32&AF33&AF34","v":""},{"$f":"AG31&AG32&AG33&AG34","v":""},{"$f":"AH31&AH32&AH33&AH34","v":""},{"$f":"AI31&AI32&AI33&AI34","v":""},{"$f":"AJ31&AJ32&AJ33&AJ34","v":""},{"$f":"AK31&AK32&AK33&AK34","v":""},{"$f":"AL31&AL32&AL33&AL34","v":""},{"$f":"AM31&AM32&AM33&AM34","v":""},{"$f":"AN31&AN32&AN33&AN34","v":""},{"$f":"AO31&AO32&AO33&AO34","v":""},{"$f":"AP31&AP32&AP33&AP34","v":""},{"$f":"AQ31&AQ32&AQ33&AQ34","v":""},{"$f":"AR31&AR32&AR33&AR34","v":""}]
[null,null,null,null,null,null,null,null,null,null,null,null,null,{"$f":"IF(OR(AND(N$1>=$D30,N$1<=IF(AND($D30>$M$1,$E30=\"\"),$M$2,$E30)),AND(N$1>=$D31,N$1<=IF(AND($D31>$M$1,$E31=\"\"),$M$2,$E31)),AND(N$1>=$D32,N$1<=IF(AND($D32>$M$1,$E32=\"\"),$M$2,$E32)),AND(N$1>=$D33,N$1<=IF(AND($D33>$M$1,$E33=\"\"),$M$2,$E33))),$D$3,\"\")","v":""},{"$f":"IF(OR(AND(O$1>=$D30,O$1<=IF(AND($D30>$M$1,$E30=\"\"),$M$2,$E30)),AND(O$1>=$D31,O$1<=IF(AND($D31>$M$1,$E31=\"\"),$M$2,$E31)),AND(O$1>=$D32,O$1<=IF(AND($D32>$M$1,$E32=\"\"),$M$2,$E32)),AND(O$1>=$D33,O$1<=IF(AND($D33>$M$1,$E33=\"\"),$M$2,$E33))),$D$3,\"\")","v":""},"","","","","","","","","","","","","","","","","","","","","","","","","","",{"$f":"IF(AP$1=\"\",\"\",IF(OR(AND(AP$1>=$D30,AP$1<=IF(AND($D30>$M$1,$E30=\"\"),$M$2,$E30)),AND(AP$1>=$D31,AP$1<=IF(AND($D31>$M$1,$E31=\"\"),$M$2,$E31)),AND(AP$1>=$D32,AP$1<=IF(AND($D32>$M$1,$E32=\"\"),$M$2,$E32)),AND(AP$1>=$D33,AP$1<=IF(AND($D33>$M$1,$E33=\"\"),$M$2,$E33))),$D$3,\"\"))","v":""},{"$f":"IF(AQ$1=\"\",\"\",IF(OR(AND(AQ$1>=$D30,AQ$1<=IF(AND($D30>$M$1,$E30=\"\"),$M$2,$E30)),AND(AQ$1>=$D31,AQ$1<=IF(AND($D31>$M$1,$E31=\"\"),$M$2,$E31)),AND(AQ$1>=$D32,AQ$1<=IF(AND($D32>$M$1,$E32=\"\"),$M$2,$E32)),AND(AQ$1>=$D33,AQ$1<=IF(AND($D33>$M$1,$E33=\"\"),$M$2,$E33))),$D$3,\"\"))","v":""},""]
[null,null,null,null,null,null,null,null,null,null,null,null,null,{"$f":"IF(OR(AND(N$1>=$F30,N$1<=IF(AND($F30>$M$1,$G30=\"\"),$M$2,$G30)),AND(N$1>=$F31,N$1<=IF(AND($F31>$M$1,$G31=\"\"),$M$2,$G31)),AND(N$1>=$F32,N$1<=IF(AND($F32>$M$1,$G32=\"\"),$M$2,$G32)),AND(N$1>=$F33,N$1<=IF(AND($F33>$M$1,$G33=\"\"),$M$2,$G33))),$F$3,\"\")","v":""},{"$f":"IF(OR(AND(O$1>=$F30,O$1<=IF(AND($F30>$M$1,$G30=\"\"),$M$2,$G30)),AND(O$1>=$F31,O$1<=IF(AND($F31>$M$1,$G31=\"\"),$M$2,$G31)),AND(O$1>=$F32,O$1<=IF(AND($F32>$M$1,$G32=\"\"),$M$2,$G32)),AND(O$1>=$F33,O$1<=IF(AND($F33>$M$1,$G33=\"\"),$M$2,$G33))),$F$3,\"\")","v":""},"","","","","","","","","","","","","","","","","","","","","","","","","","",{"$f":"IF(AP$1=\"\",\"\",IF(OR(AND(AP$1>=$F30,AP$1<=IF(AND($F30>$M$1,$G30=\"\"),$M$2,$G30)),AND(AP$1>=$F31,AP$1<=IF(AND($F31>$M$1,$G31=\"\"),$M$2,$G31)),AND(AP$1>=$F32,AP$1<=IF(AND($F32>$M$1,$G32=\"\"),$M$2,$G32)),AND(AP$1>=$F33,AP$1<=IF(AND($F33>$M$1,$G33=\"\"),$M$2,$G33))),$F$3,\"\"))","v":""},{"$f":"IF(AQ$1=\"\",\"\",IF(OR(AND(AQ$1>=$F30,AQ$1<=IF(AND($F30>$M$1,$G30=\"\"),$M$2,$G30)),AND(AQ$1>=$F31,AQ$1<=IF(AND($F31>$M$1,$G31=\"\"),$M$2,$G31)),AND(AQ$1>=$F32,AQ$1<=IF(AND($F32>$M$1,$G32=\"\"),$M$2,$G32)),AND(AQ$1>=$F33,AQ$1<=IF(AND($F33>$M$1,$G33=\"\"),$M$2,$G33))),$F$3,\"\"))","v":""},""]
[null,null,null,null,null,null,null,null,null,null,null,null,null,{"$f":"IF(OR(AND(N$1>=$H30,N$1<=IF(AND($H30>$M$1,$I30=\"\"),$M$2,$I30)),AND(N$1>=$H31,N$1<=IF(AND($H31>$M$1,$I31=\"\"),$M$2,$I31)),AND(N$1>=$H32,N$1<=IF(AND($H32>$M$1,$I32=\"\"),$M$2,$I32)),AND(N$1>=$H33,N$1<=IF(AND($H33>$M$1,$I33=\"\"),$M$2,$I33))),$H$3,\"\")","v":""},"","","","","","","","","","","","","","","","","","","","","","","","","","","",{"$f":"IF(AP$1=\"\",\"\",IF(OR(AND(AP$1>=$H30,AP$1<=IF(AND($H30>$M$1,$I30=\"\"),$M$2,$I30)),AND(AP$1>=$H31,AP$1<=IF(AND($H31>$M$1,$I31=\"\"),$M$2,$I31)),AND(AP$1>=$H32,AP$1<=IF(AND($H32>$M$1,$I32=\"\"),$M$2,$I32)),AND(AP$1>=$H33,AP$1<=IF(AND($H33>$M$1,$I33=\"\"),$M$2,$I33))),$H$3,\"\"))","v":""},{"$f":"IF(AQ$1=\"\",\"\",IF(OR(AND(AQ$1>=$H30,AQ$1<=IF(AND($H30>$M$1,$I30=\"\"),$M$2,$I30)),AND(AQ$1>=$H31,AQ$1<=IF(AND($H31>$M$1,$I31=\"\"),$M$2,$I31)),AND(AQ$1>=$H32,AQ$1<=IF(AND($H32>$M$1,$I32=\"\"),$M$2,$I32)),AND(AQ$1>=$H33,AQ$1<=IF(AND($H33>$M$1,$I33=\"\"),$M$2,$I33))),$H$3,\"\"))","v":""},{"$f":"IF(AR$1=\"\",\"\",IF(OR(AND(AR$1>=$H30,AR$1<=IF(AND($H30>$M$1,$I30=\"\"),$M$2,$I30)),AND(AR$1>=$H31,AR$1<=IF(AND($H31>$M$1,$I31=\"\"),$M$2,$I31)),AND(AR$1>=$H32,AR$1<=IF(AND($H32>$M$1,$I32=\"\"),$M$2,$I32)),AND(AR$1>=$H33,AR$1<=IF(AND($H33>$M$1,$I33=\"\"),$M$2,$I33))),$H$3,\"\"))","v":""}]
[null,null,null,null,null,null,null,null,null,null,null,null,null,{"$f":"IF(OR(AND(N$1>=$J30,N$1<=IF(AND($J30>$M$1,$K30=\"\"),$M$2,$K30)),AND(N$1>=$J31,N$1<=IF(AND($J31>$M$1,$K31=\"\"),$M$2,$K31)),AND(N$1>=$J32,N$1<=IF(AND($J32>$M$1,$K32=\"\"),$M$2,$K32)),AND(N$1>=$J33,N$1<=IF(AND($J33>$M$1,$K33=\"\"),$M$2,$K33)),AND(N$1>=$J34,N$1<=IF(AND($J34>$M$1,$K34=\"\"),$M$2,$K34))),$J$3,\"\")","v":""},{"$f":"IF(OR(AND(O$1>=$J30,O$1<=IF(AND($J30>$M$1,$K30=\"\"),$M$2,$K30)),AND(O$1>=$J31,O$1<=IF(AND($J31>$M$1,$K31=\"\"),$M$2,$K31)),AND(O$1>=$J32,O$1<=IF(AND($J32>$M$1,$K32=\"\"),$M$2,$K32)),AND(O$1>=$J33,O$1<=IF(AND($J33>$M$1,$K33=\"\"),$M$2,$K33)),AND(O$1>=$J34,O$1<=IF(AND($J34>$M$1,$K34=\"\"),$M$2,$K34))),$J$3,\"\")","v":""},{"$f":"IF(OR(AND(P$1>=$J30,P$1<=IF(AND($J30>$M$1,$K30=\"\"),$M$2,$K30)),AND(P$1>=$J31,P$1<=IF(AND($J31>$M$1,$K31=\"\"),$M$2,$K31)),AND(P$1>=$J32,P$1<=IF(AND($J32>$M$1,$K32=\"\"),$M$2,$K32)),AND(P$1>=$J33,P$1<=IF(AND($J33>$M$1,$K33=\"\"),$M$2,$K33)),AND(P$1>=$J34,P$1<=IF(AND($J34>$M$1,$K34=\"\"),$M$2,$K34))),$J$3,\"\")","v":""},{"$f":"IF(OR(AND(Q$1>=$J30,Q$1<=IF(AND($J30>$M$1,$K30=\"\"),$M$2,$K30)),AND(Q$1>=$J31,Q$1<=IF(AND($J31>$M$1,$K31=\"\"),$M$2,$K31)),AND(Q$1>=$J32,Q$1<=IF(AND($J32>$M$1,$K32=\"\"),$M$2,$K32)),AND(Q$1>=$J33,Q$1<=IF(AND($J33>$M$1,$K33=\"\"),$M$2,$K33)),AND(Q$1>=$J34,Q$1<=IF(AND($J34>$M$1,$K34=\"\"),$M$2,$K34))),$J$3,\"\")","v":""},{"$f":"IF(OR(AND(R$1>=$J30,R$1<=IF(AND($J30>$M$1,$K30=\"\"),$M$2,$K30)),AND(R$1>=$J31,R$1<=IF(AND($J31>$M$1,$K31=\"\"),$M$2,$K31)),AND(R$1>=$J32,R$1<=IF(AND($J32>$M$1,$K32=\"\"),$M$2,$K32)),AND(R$1>=$J33,R$1<=IF(AND($J33>$M$1,$K33=\"\"),$M$2,$K33)),AND(R$1>=$J34,R$1<=IF(AND($J34>$M$1,$K34=\"\"),$M$2,$K34))),$J$3,\"\")","v":""},{"$f":"IF(OR(AND(S$1>=$J30,S$1<=IF(AND($J30>$M$1,$K30=\"\"),$M$2,$K30)),AND(S$1>=$J31,S$1<=IF(AND($J31>$M$1,$K31=\"\"),$M$2,$K31)),AND(S$1>=$J32,S$1<=IF(AND($J32>$M$1,$K32=\"\"),$M$2,$K32)),AND(S$1>=$J33,S$1<=IF(AND($J33>$M$1,$K33=\"\"),$M$2,$K33)),AND(S$1>=$J34,S$1<=IF(AND($J34>$M$1,$K34=\"\"),$M$2,$K34))),$J$3,\"\")","v":""},{"$f":"IF(OR(AND(T$1>=$J30,T$1<=IF(AND($J30>$M$1,$K30=\"\"),$M$2,$K30)),AND(T$1>=$J31,T$1<=IF(AND($J31>$M$1,$K31=\"\"),$M$2,$K31)),AND(T$1>=$J32,T$1<=IF(AND($J32>$M$1,$K32=\"\"),$M$2,$K32)),AND(T$1>=$J33,T$1<=IF(AND($J33>$M$1,$K33=\"\"),$M$2,$K33)),AND(T$1>=$J34,T$1<=IF(AND($J34>$M$1,$K34=\"\"),$M$2,$K34))),$J$3,\"\")","v":""},{"$f":"IF(OR(AND(U$1>=$J30,U$1<=IF(AND($J30>$M$1,$K30=\"\"),$M$2,$K30)),AND(U$1>=$J31,U$1<=IF(AND($J31>$M$1,$K31=\"\"),$M$2,$K31)),AND(U$1>=$J32,U$1<=IF(AND($J32>$M$1,$K32=\"\"),$M$2,$K32)),AND(U$1>=$J33,U$1<=IF(AND($J33>$M$1,$K33=\"\"),$M$2,$K33)),AND(U$1>=$J34,U$1<=IF(AND($J34>$M$1,$K34=\"\"),$M$2,$K34))),$J$3,\"\")","v":""},{"$f":"IF(OR(AND(V$1>=$J30,V$1<=IF(AND($J30>$M$1,$K30=\"\"),$M$2,$K30)),AND(V$1>=$J31,V$1<=IF(AND($J31>$M$1,$K31=\"\"),$M$2,$K31)),AND(V$1>=$J32,V$1<=IF(AND($J32>$M$1,$K32=\"\"),$M$2,$K32)),AND(V$1>=$J33,V$1<=IF(AND($J33>$M$1,$K33=\"\"),$M$2,$K33)),AND(V$1>=$J34,V$1<=IF(AND($J34>$M$1,$K34=\"\"),$M$2,$K34))),$J$3,\"\")","v":""},{"$f":"IF(OR(AND(W$1>=$J30,W$1<=IF(AND($J30>$M$1,$K30=\"\"),$M$2,$K30)),AND(W$1>=$J31,W$1<=IF(AND($J31>$M$1,$K31=\"\"),$M$2,$K31)),AND(W$1>=$J32,W$1<=IF(AND($J32>$M$1,$K32=\"\"),$M$2,$K32)),AND(W$1>=$J33,W$1<=IF(AND($J33>$M$1,$K33=\"\"),$M$2,$K33)),AND(W$1>=$J34,W$1<=IF(AND($J34>$M$1,$K34=\"\"),$M$2,$K34))),$J$3,\"\")","v":""},{"$f":"IF(OR(AND(X$1>=$J30,X$1<=IF(AND($J30>$M$1,$K30=\"\"),$M$2,$K30)),AND(X$1>=$J31,X$1<=IF(AND($J31>$M$1,$K31=\"\"),$M$2,$K31)),AND(X$1>=$J32,X$1<=IF(AND($J32>$M$1,$K32=\"\"),$M$2,$K32)),AND(X$1>=$J33,X$1<=IF(AND($J33>$M$1,$K33=\"\"),$M$2,$K33)),AND(X$1>=$J34,X$1<=IF(AND($J34>$M$1,$K34=\"\"),$M$2,$K34))),$J$3,\"\")","v":""},{"$f":"IF(OR(AND(Y$1>=$J30,Y$1<=IF(AND($J30>$M$1,$K30=\"\"),$M$2,$K30)),AND(Y$1>=$J31,Y$1<=IF(AND($J31>$M$1,$K31=\"\"),$M$2,$K31)),AND(Y$1>=$J32,Y$1<=IF(AND($J32>$M$1,$K32=\"\"),$M$2,$K32)),AND(Y$1>=$J33,Y$1<=IF(AND($J33>$M$1,$K33=\"\"),$M$2,$K33)),AND(Y$1>=$J34,Y$1<=IF(AND($J34>$M$1,$K34=\"\"),$M$2,$K34))),$J$3,\"\")","v":""},{"$f":"IF(OR(AND(Z$1>=$J30,Z$1<=IF(AND($J30>$M$1,$K30=\"\"),$M$2,$K30)),AND(Z$1>=$J31,Z$1<=IF(AND($J31>$M$1,$K31=\"\"),$M$2,$K31)),AND(Z$1>=$J32,Z$1<=IF(AND($J32>$M$1,$K32=\"\"),$M$2,$K32)),AND(Z$1>=$J33,Z$1<=IF(AND($J33>$M$1,$K33=\"\"),$M$2,$K33)),AND(Z$1>=$J34,Z$1<=IF(AND($J34>$M$1,$K34=\"\"),$M$2,$K34))),$J$3,\"\")","v":""},{"$f":"IF(OR(AND(AA$1>=$J30,AA$1<=IF(AND($J30>$M$1,$K30=\"\"),$M$2,$K30)),AND(AA$1>=$J31,AA$1<=IF(AND($J31>$M$1,$K31=\"\"),$M$2,$K31)),AND(AA$1>=$J32,AA$1<=IF(AND($J32>$M$1,$K32=\"\"),$M$2,$K32)),AND(AA$1>=$J33,AA$1<=IF(AND($J33>$M$1,$K33=\"\"),$M$2,$K33)),AND(AA$1>=$J34,AA$1<=IF(AND($J34>$M$1,$K34=\"\"),$M$2,$K34))),$J$3,\"\")","v":""},{"$f":"IF(OR(AND(AB$1>=$J30,AB$1<=IF(AND($J30>$M$1,$K30=\"\"),$M$2,$K30)),AND(AB$1>=$J31,AB$1<=IF(AND($J31>$M$1,$K31=\"\"),$M$2,$K31)),AND(AB$1>=$J32,AB$1<=IF(AND($J32>$M$1,$K32=\"\"),$M$2,$K32)),AND(AB$1>=$J33,AB$1<=IF(AND($J33>$M$1,$K33=\"\"),$M$2,$K33)),AND(AB$1>=$J34,AB$1<=IF(AND($J34>$M$1,$K34=\"\"),$M$2,$K34))),$J$3,\"\")","v":""},{"$f":"IF(OR(AND(AC$1>=$J30,AC$1<=IF(AND($J30>$M$1,$K30=\"\"),$M$2,$K30)),AND(AC$1>=$J31,AC$1<=IF(AND($J31>$M$1,$K31=\"\"),$M$2,$K31)),AND(AC$1>=$J32,AC$1<=IF(AND($J32>$M$1,$K32=\"\"),$M$2,$K32)),AND(AC$1>=$J33,AC$1<=IF(AND($J33>$M$1,$K33=\"\"),$M$2,$K33)),AND(AC$1>=$J34,AC$1<=IF(AND($J34>$M$1,$K34=\"\"),$M$2,$K34))),$J$3,\"\")","v":""},{"$f":"IF(OR(AND(AD$1>=$J30,AD$1<=IF(AND($J30>$M$1,$K30=\"\"),$M$2,$K30)),AND(AD$1>=$J31,AD$1<=IF(AND($J31>$M$1,$K31=\"\"),$M$2,$K31)),AND(AD$1>=$J32,AD$1<=IF(AND($J32>$M$1,$K32=\"\"),$M$2,$K32)),AND(AD$1>=$J33,AD$1<=IF(AND($J33>$M$1,$K33=\"\"),$M$2,$K33)),AND(AD$1>=$J34,AD$1<=IF(AND($J34>$M$1,$K34=\"\"),$M$2,$K34))),$J$3,\"\")","v":""},{"$f":"IF(OR(AND(AE$1>=$J30,AE$1<=IF(AND($J30>$M$1,$K30=\"\"),$M$2,$K30)),AND(AE$1>=$J31,AE$1<=IF(AND($J31>$M$1,$K31=\"\"),$M$2,$K31)),AND(AE$1>=$J32,AE$1<=IF(AND($J32>$M$1,$K32=\"\"),$M$2,$K32)),AND(AE$1>=$J33,AE$1<=IF(AND($J33>$M$1,$K33=\"\"),$M$2,$K33)),AND(AE$1>=$J34,AE$1<=IF(AND($J34>$M$1,$K34=\"\"),$M$2,$K34))),$J$3,\"\")","v":""},{"$f":"IF(OR(AND(AF$1>=$J30,AF$1<=IF(AND($J30>$M$1,$K30=\"\"),$M$2,$K30)),AND(AF$1>=$J31,AF$1<=IF(AND($J31>$M$1,$K31=\"\"),$M$2,$K31)),AND(AF$1>=$J32,AF$1<=IF(AND($J32>$M$1,$K32=\"\"),$M$2,$K32)),AND(AF$1>=$J33,AF$1<=IF(AND($J33>$M$1,$K33=\"\"),$M$2,$K33)),AND(AF$1>=$J34,AF$1<=IF(AND($J34>$M$1,$K34=\"\"),$M$2,$K34))),$J$3,\"\")","v":""},{"$f":"IF(OR(AND(AG$1>=$J30,AG$1<=IF(AND($J30>$M$1,$K30=\"\"),$M$2,$K30)),AND(AG$1>=$J31,AG$1<=IF(AND($J31>$M$1,$K31=\"\"),$M$2,$K31)),AND(AG$1>=$J32,AG$1<=IF(AND($J32>$M$1,$K32=\"\"),$M$2,$K32)),AND(AG$1>=$J33,AG$1<=IF(AND($J33>$M$1,$K33=\"\"),$M$2,$K33)),AND(AG$1>=$J34,AG$1<=IF(AND($J34>$M$1,$K34=\"\"),$M$2,$K34))),$J$3,\"\")","v":""},{"$f":"IF(OR(AND(AH$1>=$J30,AH$1<=IF(AND($J30>$M$1,$K30=\"\"),$M$2,$K30)),AND(AH$1>=$J31,AH$1<=IF(AND($J31>$M$1,$K31=\"\"),$M$2,$K31)),AND(AH$1>=$J32,AH$1<=IF(AND($J32>$M$1,$K32=\"\"),$M$2,$K32)),AND(AH$1>=$J33,AH$1<=IF(AND($J33>$M$1,$K33=\"\"),$M$2,$K33)),AND(AH$1>=$J34,AH$1<=IF(AND($J34>$M$1,$K34=\"\"),$M$2,$K34))),$J$3,\"\")","v":""},{"$f":"IF(OR(AND(AI$1>=$J30,AI$1<=IF(AND($J30>$M$1,$K30=\"\"),$M$2,$K30)),AND(AI$1>=$J31,AI$1<=IF(AND($J31>$M$1,$K31=\"\"),$M$2,$K31)),AND(AI$1>=$J32,AI$1<=IF(AND($J32>$M$1,$K32=\"\"),$M$2,$K32)),AND(AI$1>=$J33,AI$1<=IF(AND($J33>$M$1,$K33=\"\"),$M$2,$K33)),AND(AI$1>=$J34,AI$1<=IF(AND($J34>$M$1,$K34=\"\"),$M$2,$K34))),$J$3,\"\")","v":""},{"$f":"IF(OR(AND(AJ$1>=$J30,AJ$1<=IF(AND($J30>$M$1,$K30=\"\"),$M$2,$K30)),AND(AJ$1>=$J31,AJ$1<=IF(AND($J31>$M$1,$K31=\"\"),$M$2,$K31)),AND(AJ$1>=$J32,AJ$1<=IF(AND($J32>$M$1,$K32=\"\"),$M$2,$K32)),AND(AJ$1>=$J33,AJ$1<=IF(AND($J33>$M$1,$K33=\"\"),$M$2,$K33)),AND(AJ$1>=$J34,AJ$1<=IF(AND($J34>$M$1,$K34=\"\"),$M$2,$K34))),$J$3,\"\")","v":""},{"$f":"IF(OR(AND(AK$1>=$J30,AK$1<=IF(AND($J30>$M$1,$K30=\"\"),$M$2,$K30)),AND(AK$1>=$J31,AK$1<=IF(AND($J31>$M$1,$K31=\"\"),$M$2,$K31)),AND(AK$1>=$J32,AK$1<=IF(AND($J32>$M$1,$K32=\"\"),$M$2,$K32)),AND(AK$1>=$J33,AK$1<=IF(AND($J33>$M$1,$K33=\"\"),$M$2,$K33)),AND(AK$1>=$J34,AK$1<=IF(AND($J34>$M$1,$K34=\"\"),$M$2,$K34))),$J$3,\"\")","v":""},{"$f":"IF(OR(AND(AL$1>=$J30,AL$1<=IF(AND($J30>$M$1,$K30=\"\"),$M$2,$K30)),AND(AL$1>=$J31,AL$1<=IF(AND($J31>$M$1,$K31=\"\"),$M$2,$K31)),AND(AL$1>=$J32,AL$1<=IF(AND($J32>$M$1,$K32=\"\"),$M$2,$K32)),AND(AL$1>=$J33,AL$1<=IF(AND($J33>$M$1,$K33=\"\"),$M$2,$K33)),AND(AL$1>=$J34,AL$1<=IF(AND($J34>$M$1,$K34=\"\"),$M$2,$K34))),$J$3,\"\")","v":""},{"$f":"IF(OR(AND(AM$1>=$J30,AM$1<=IF(AND($J30>$M$1,$K30=\"\"),$M$2,$K30)),AND(AM$1>=$J31,AM$1<=IF(AND($J31>$M$1,$K31=\"\"),$M$2,$K31)),AND(AM$1>=$J32,AM$1<=IF(AND($J32>$M$1,$K32=\"\"),$M$2,$K32)),AND(AM$1>=$J33,AM$1<=IF(AND($J33>$M$1,$K33=\"\"),$M$2,$K33)),AND(AM$1>=$J34,AM$1<=IF(AND($J34>$M$1,$K34=\"\"),$M$2,$K34))),$J$3,\"\")","v":""},{"$f":"IF(OR(AND(AN$1>=$J30,AN$1<=IF(AND($J30>$M$1,$K30=\"\"),$M$2,$K30)),AND(AN$1>=$J31,AN$1<=IF(AND($J31>$M$1,$K31=\"\"),$M$2,$K31)),AND(AN$1>=$J32,AN$1<=IF(AND($J32>$M$1,$K32=\"\"),$M$2,$K32)),AND(AN$1>=$J33,AN$1<=IF(AND($J33>$M$1,$K33=\"\"),$M$2,$K33)),AND(AN$1>=$J34,AN$1<=IF(AND($J34>$M$1,$K34=\"\"),$M$2,$K34))),$J$3,\"\")","v":""},{"$f":"IF(OR(AND(AO$1>=$J30,AO$1<=IF(AND($J30>$M$1,$K30=\"\"),$M$2,$K30)),AND(AO$1>=$J31,AO$1<=IF(AND($J31>$M$1,$K31=\"\"),$M$2,$K31)),AND(AO$1>=$J32,AO$1<=IF(AND($J32>$M$1,$K32=\"\"),$M$2,$K32)),AND(AO$1>=$J33,AO$1<=IF(AND($J33>$M$1,$K33=\"\"),$M$2,$K33)),AND(AO$1>=$J34,AO$1<=IF(AND($J34>$M$1,$K34=\"\"),$M$2,$K34))),$J$3,\"\")","v":""},{"$f":"IF(AP$1=\"\",\"\",IF(OR(AND(AP$1>=$J30,AP$1<=IF(AND($J30>$M$1,$K30=\"\"),$M$2,$K30)),AND(AP$1>=$J31,AP$1<=IF(AND($J31>$M$1,$K31=\"\"),$M$2,$K31)),AND(AP$1>=$J32,AP$1<=IF(AND($J32>$M$1,$K32=\"\"),$M$2,$K32)),AND(AP$1>=$J33,AP$1<=IF(AND($J33>$M$1,$K33=\"\"),$M$2,$K33)),AND(AP$1>=$J34,AP$1<=IF(AND($J34>$M$1,$K34=\"\"),$M$2,$K34))),$J$3,\"\"))","v":""},{"$f":"IF(AQ$1=\"\",\"\",IF(OR(AND(AQ$1>=$J30,AQ$1<=IF(AND($J30>$M$1,$K30=\"\"),$M$2,$K30)),AND(AQ$1>=$J31,AQ$1<=IF(AND($J31>$M$1,$K31=\"\"),$M$2,$K31)),AND(AQ$1>=$J32,AQ$1<=IF(AND($J32>$M$1,$K32=\"\"),$M$2,$K32)),AND(AQ$1>=$J33,AQ$1<=IF(AND($J33>$M$1,$K33=\"\"),$M$2,$K33)),AND(AQ$1>=$J34,AQ$1<=IF(AND($J34>$M$1,$K34=\"\"),$M$2,$K34))),$J$3,\"\"))","v":""},{"$f":"IF(AR$1=\"\",\"\",IF(OR(AND(AR$1>=$J30,AR$1<=IF(AND($J30>$M$1,$K30=\"\"),$M$2,$K30)),AND(AR$1>=$J31,AR$1<=IF(AND($J31>$M$1,$K31=\"\"),$M$2,$K31)),AND(AR$1>=$J32,AR$1<=IF(AND($J32>$M$1,$K32=\"\"),$M$2,$K32)),AND(AR$1>=$J33,AR$1<=IF(AND($J33>$M$1,$K33=\"\"),$M$2,$K33)),AND(AR$1>=$J34,AR$1<=IF(AND($J34>$M$1,$K34=\"\"),$M$2,$K34))),$J$3,\"\"))","v":""}]
[{"$f":"стр.1!C25","v":2231},{"$f":"IFERROR(VLOOKUP(A35,стр.1!$A$13:$D$106,2,FALSE),\"\")","v":"Фитисов"},{"$f":"IFERROR(VLOOKUP(A35,стр.1!$A$13:$D$106,4,FALSE),\"\")","v":"сборная"},null,null,null,null,null,null,null,null,null,null,{"$f":"N36&N37&N38&N39","v":""},{"$f":"O36&O37&O38&O39","v":""},{"$f":"P36&P37&P38&P39","v":""},{"$f":"Q36&Q37&Q38&Q39","v":""},{"$f":"R36&R37&R38&R39","v":""},{"$f":"S36&S37&S38&S39","v":""},{"$f":"T36&T37&T38&T39","v":""},{"$f":"U36&U37&U38&U39","v":""},{"$f":"V36&V37&V38&V39","v":""},{"$f":"W36&W37&W38&W39","v":""},{"$f":"X36&X37&X38&X39","v":""},{"$f":"Y36&Y37&Y38&Y39","v":""},{"$f":"Z36&Z37&Z38&Z39","v":""},{"$f":"AA36&AA37&AA38&AA39","v":""},{"$f":"AB36&AB37&AB38&AB39","v":""},{"$f":"AC36&AC37&AC38&AC39","v":""},{"$f":"AD36&AD37&AD38&AD39","v":""},{"$f":"AE36&AE37&AE38&AE39","v":""},{"$f":"AF36&AF37&AF38&AF39","v":""},{"$f":"AG36&AG37&AG38&AG39","v":""},{"$f":"AH36&AH37&AH38&AH39","v":""},{"$f":"AI36&AI37&AI38&AI39","v":""},{"$f":"AJ36&AJ37&AJ38&AJ39","v":""},{"$f":"AK36&AK37&AK38&AK39","v":""},{"$f":"AL36&AL37&AL38&AL39","v":""},{"$f":"AM36&AM37&AM38&AM39","v":""},{"$f":"AN36&AN37&AN38&AN39","v":""},{"$f":"AO36&AO37&AO38&AO39","v":""},{"$f":"AP36&AP37&AP38&AP39","v":""},{"$f":"AQ36&AQ37&AQ38&AQ39","v":""},{"$f":"AR36&AR37&AR38&AR39","v":""}]
[null,null,null,null,null,null,null,null,null,null,null,null,null,{"$f":"IF(OR(AND(N$1>=$D35,N$1<=IF(AND($D35>$M$1,$E35=\"\"),$M$2,$E35)),AND(N$1>=$D36,N$1<=IF(AND($D36>$M$1,$E36=\"\"),$M$2,$E36)),AND(N$1>=$D37,N$1<=IF(AND($D37>$M$1,$E37=\"\"),$M$2,$E37)),AND(N$1>=$D38,N$1<=IF(AND($D38>$M$1,$E38=\"\"),$M$2,$E38))),$D$3,\"\")","v":""},{"$f":"IF(OR(AND(O$1>=$D35,O$1<=IF(AND($D35>$M$1,$E35=\"\"),$M$2,$E35)),AND(O$1>=$D36,O$1<=IF(AND($D36>$M$1,$E36=\"\"),$M$2,$E36)),AND(O$1>=$D37,O$1<=IF(AND($D37>$M$1,$E37=\"\"),$M$2,$E37)),AND(O$1>=$D38,O$1<=IF(AND($D38>$M$1,$E38=\"\"),$M$2,$E38))),$D$3,\"\")","v":""},"","","","","","","","","","","","","","","","","","","","","","","","","","",{"$f":"IF(AP$1=\"\",\"\",IF(OR(AND(AP$1>=$D35,AP$1<=IF(AND($D35>$M$1,$E35=\"\"),$M$2,$E35)),AND(AP$1>=$D36,AP$1<=IF(AND($D36>$M$1,$E36=\"\"),$M$2,$E36)),AND(AP$1>=$D37,AP$1<=IF(AND($D37>$M$1,$E37=\"\"),$M$2,$E37)),AND(AP$1>=$D38,AP$1<=IF(AND($D38>$M$1,$E38=\"\"),$M$2,$E38))),$D$3,\"\"))","v":""},{"$f":"IF(AQ$1=\"\",\"\",IF(OR(AND(AQ$1>=$D35,AQ$1<=IF(AND($D35>$M$1,$E35=\"\"),$M$2,$E35)),AND(AQ$1>=$D36,AQ$1<=IF(AND($D36>$M$1,$E36=\"\"),$M$2,$E36)),AND(AQ$1>=$D37,AQ$1<=IF(AND($D37>$M$1,$E37=\"\"),$M$2,$E37)),AND(AQ$1>=$D38,AQ$1<=IF(AND($D38>$M$1,$E38=\"\"),$M$2,$E38))),$D$3,\"\"))","v":""},""]
[null,null,null,null,null,null,null,null,null,null,null,null,null,{"$f":"IF(OR(AND(N$1>=$F35,N$1<=IF(AND($F35>$M$1,$G35=\"\"),$M$2,$G35)),AND(N$1>=$F36,N$1<=IF(AND($F36>$M$1,$G36=\"\"),$M$2,$G36)),AND(N$1>=$F37,N$1<=IF(AND($F37>$M$1,$G37=\"\"),$M$2,$G37)),AND(N$1>=$F38,N$1<=IF(AND($F38>$M$1,$G38=\"\"),$M$2,$G38))),$F$3,\"\")","v":""},{"$f":"IF(OR(AND(O$1>=$F35,O$1<=IF(AND($F35>$M$1,$G35=\"\"),$M$2,$G35)),AND(O$1>=$F36,O$1<=IF(AND($F36>$M$1,$G36=\"\"),$M$2,$G36)),AND(O$1>=$F37,O$1<=IF(AND($F37>$M$1,$G37=\"\"),$M$2,$G37)),AND(O$1>=$F38,O$1<=IF(AND($F38>$M$1,$G38=\"\"),$M$2,$G38))),$F$3,\"\")","v":""},"","","","","","","","","","","","","","","","","","","","","","","","","","",{"$f":"IF(AP$1=\"\",\"\",IF(OR(AND(AP$1>=$F35,AP$1<=IF(AND($F35>$M$1,$G35=\"\"),$M$2,$G35)),AND(AP$1>=$F36,AP$1<=IF(AND($F36>$M$1,$G36=\"\"),$M$2,$G36)),AND(AP$1>=$F37,AP$1<=IF(AND($F37>$M$1,$G37=\"\"),$M$2,$G37)),AND(AP$1>=$F38,AP$1<=IF(AND($F38>$M$1,$G38=\"\"),$M$2,$G38))),$F$3,\"\"))","v":""},{"$f":"IF(AQ$1=\"\",\"\",IF(OR(AND(AQ$1>=$F35,AQ$1<=IF(AND($F35>$M$1,$G35=\"\"),$M$2,$G35)),AND(AQ$1>=$F36,AQ$1<=IF(AND($F36>$M$1,$G36=\"\"),$M$2,$G36)),AND(AQ$1>=$F37,AQ$1<=IF(AND($F37>$M$1,$G37=\"\"),$M$2,$G37)),AND(AQ$1>=$F38,AQ$1<=IF(AND($F38>$M$1,$G38=\"\"),$M$2,$G38))),$F$3,\"\"))","v":""},""]
[null,null,null,null,null,null,null,null,null,null,null,null,null,{"$f":"IF(OR(AND(N$1>=$H35,N$1<=IF(AND($H35>$M$1,$I35=\"\"),$M$2,$I35)),AND(N$1>=$H36,N$1<=IF(AND($H36>$M$1,$I36=\"\"),$M$2,$I36)),AND(N$1>=$H37,N$1<=IF(AND($H37>$M$1,$I37=\"\"),$M$2,$I37)),AND(N$1>=$H38,N$1<=IF(AND($H38>$M$1,$I38=\"\"),$M$2,$I38))),$H$3,\"\")","v":""},"","","","","","","","","","","","","","","","","","","","","","","","","","","",{"$f":"IF(AP$1=\"\",\"\",IF(OR(AND(AP$1>=$H35,AP$1<=IF(AND($H35>$M$1,$I35=\"\"),$M$2,$I35)),AND(AP$1>=$H36,AP$1<=IF(AND($H36>$M$1,$I36=\"\"),$M$2,$I36)),AND(AP$1>=$H37,AP$1<=IF(AND($H37>$M$1,$I37=\"\"),$M$2,$I37)),AND(AP$1>=$H38,AP$1<=IF(AND($H38>$M$1,$I38=\"\"),$M$2,$I38))),$H$3,\"\"))","v":""},{"$f":"IF(AQ$1=\"\",\"\",IF(OR(AND(AQ$1>=$H35,AQ$1<=IF(AND($H35>$M$1,$I35=\"\"),$M$2,$I35)),AND(AQ$1>=$H36,AQ$1<=IF(AND($H36>$M$1,$I36=\"\"),$M$2,$I36)),AND(AQ$1>=$H37,AQ$1<=IF(AND($H37>$M$1,$I37=\"\"),$M$2,$I37)),AND(AQ$1>=$H38,AQ$1<=IF(AND($H38>$M$1,$I38=\"\"),$M$2,$I38))),$H$3,\"\"))","v":""},{"$f":"IF(AR$1=\"\",\"\",IF(OR(AND(AR$1>=$H35,AR$1<=IF(AND($H35>$M$1,$I35=\"\"),$M$2,$I35)),AND(AR$1>=$H36,AR$1<=IF(AND($H36>$M$1,$I36=\"\"),$M$2,$I36)),AND(AR$1>=$H37,AR$1<=IF(AND($H37>$M$1,$I37=\"\"),$M$2,$I37)),AND(AR$1>=$H38,AR$1<=IF(AND($H38>$M$1,$I38=\"\"),$M$2,$I38))),$H$3,\"\"))","v":""}]
[null,null,null,null,null,null,null,null,null,null,null,null,null,{"$f":"IF(OR(AND(N$1>=$J35,N$1<=IF(AND($J35>$M$1,$K35=\"\"),$M$2,$K35)),AND(N$1>=$J36,N$1<=IF(AND($J36>$M$1,$K36=\"\"),$M$2,$K36)),AND(N$1>=$J37,N$1<=IF(AND($J37>$M$1,$K37=\"\"),$M$2,$K37)),AND(N$1>=$J38,N$1<=IF(AND($J38>$M$1,$K38=\"\"),$M$2,$K38)),AND(N$1>=$J39,N$1<=IF(AND($J39>$M$1,$K39=\"\"),$M$2,$K39))),$J$3,\"\")","v":""},{"$f":"IF(OR(AND(O$1>=$J35,O$1<=IF(AND($J35>$M$1,$K35=\"\"),$M$2,$K35)),AND(O$1>=$J36,O$1<=IF(AND($J36>$M$1,$K36=\"\"),$M$2,$K36)),AND(O$1>=$J37,O$1<=IF(AND($J37>$M$1,$K37=\"\"),$M$2,$K37)),AND(O$1>=$J38,O$1<=IF(AND($J38>$M$1,$K38=\"\"),$M$2,$K38)),AND(O$1>=$J39,O$1<=IF(AND($J39>$M$1,$K39=\"\"),$M$2,$K39))),$J$3,\"\")","v":""},{"$f":"IF(OR(AND(P$1>=$J35,P$1<=IF(AND($J35>$M$1,$K35=\"\"),$M$2,$K35)),AND(P$1>=$J36,P$1<=IF(AND($J36>$M$1,$K36=\"\"),$M$2,$K36)),AND(P$1>=$J37,P$1<=IF(AND($J37>$M$1,$K37=\"\"),$M$2,$K37)),AND(P$1>=$J38,P$1<=IF(AND($J38>$M$1,$K38=\"\"),$M$2,$K38)),AND(P$1>=$J39,P$1<=IF(AND($J39>$M$1,$K39=\"\"),$M$2,$K39))),$J$3,\"\")","v":""},{"$f":"IF(OR(AND(Q$1>=$J35,Q$1<=IF(AND($J35>$M$1,$K35=\"\"),$M$2,$K35)),AND(Q$1>=$J36,Q$1<=IF(AND($J36>$M$1,$K36=\"\"),$M$2,$K36)),AND(Q$1>=$J37,Q$1<=IF(AND($J37>$M$1,$K37=\"\"),$M$2,$K37)),AND(Q$1>=$J38,Q$1<=IF(AND($J38>$M$1,$K38=\"\"),$M$2,$K38)),AND(Q$1>=$J39,Q$1<=IF(AND($J39>$M$1,$K39=\"\"),$M$2,$K39))),$J$3,\"\")","v":""},{"$f":"IF(OR(AND(R$1>=$J35,R$1<=IF(AND($J35>$M$1,$K35=\"\"),$M$2,$K35)),AND(R$1>=$J36,R$1<=IF(AND($J36>$M$1,$K36=\"\"),$M$2,$K36)),AND(R$1>=$J37,R$1<=IF(AND($J37>$M$1,$K37=\"\"),$M$2,$K37)),AND(R$1>=$J38,R$1<=IF(AND($J38>$M$1,$K38=\"\"),$M$2,$K38)),AND(R$1>=$J39,R$1<=IF(AND($J39>$M$1,$K39=\"\"),$M$2,$K39))),$J$3,\"\")","v":""},{"$f":"IF(OR(AND(S$1>=$J35,S$1<=IF(AND($J35>$M$1,$K35=\"\"),$M$2,$K35)),AND(S$1>=$J36,S$1<=IF(AND($J36>$M$1,$K36=\"\"),$M$2,$K36)),AND(S$1>=$J37,S$1<=IF(AND($J37>$M$1,$K37=\"\"),$M$2,$K37)),AND(S$1>=$J38,S$1<=IF(AND($J38>$M$1,$K38=\"\"),$M$2,$K38)),AND(S$1>=$J39,S$1<=IF(AND($J39>$M$1,$K39=\"\"),$M$2,$K39))),$J$3,\"\")","v":""},{"$f":"IF(OR(AND(T$1>=$J35,T$1<=IF(AND($J35>$M$1,$K35=\"\"),$M$2,$K35)),AND(T$1>=$J36,T$1<=IF(AND($J36>$M$1,$K36=\"\"),$M$2,$K36)),AND(T$1>=$J37,T$1<=IF(AND($J37>$M$1,$K37=\"\"),$M$2,$K37)),AND(T$1>=$J38,T$1<=IF(AND($J38>$M$1,$K38=\"\"),$M$2,$K38)),AND(T$1>=$J39,T$1<=IF(AND($J39>$M$1,$K39=\"\"),$M$2,$K39))),$J$3,\"\")","v":""},{"$f":"IF(OR(AND(U$1>=$J35,U$1<=IF(AND($J35>$M$1,$K35=\"\"),$M$2,$K35)),AND(U$1>=$J36,U$1<=IF(AND($J36>$M$1,$K36=\"\"),$M$2,$K36)),AND(U$1>=$J37,U$1<=IF(AND($J37>$M$1,$K37=\"\"),$M$2,$K37)),AND(U$1>=$J38,U$1<=IF(AND($J38>$M$1,$K38=\"\"),$M$2,$K38)),AND(U$1>=$J39,U$1<=IF(AND($J39>$M$1,$K39=\"\"),$M$2,$K39))),$J$3,\"\")","v":""},{"$f":"IF(OR(AND(V$1>=$J35,V$1<=IF(AND($J35>$M$1,$K35=\"\"),$M$2,$K35)),AND(V$1>=$J36,V$1<=IF(AND($J36>$M$1,$K36=\"\"),$M$2,$K36)),AND(V$1>=$J37,V$1<=IF(AND($J37>$M$1,$K37=\"\"),$M$2,$K37)),AND(V$1>=$J38,V$1<=IF(AND($J38>$M$1,$K38=\"\"),$M$2,$K38)),AND(V$1>=$J39,V$1<=IF(AND($J39>$M$1,$K39=\"\"),$M$2,$K39))),$J$3,\"\")","v":""},{"$f":"IF(OR(AND(W$1>=$J35,W$1<=IF(AND($J35>$M$1,$K35=\"\"),$M$2,$K35)),AND(W$1>=$J36,W$1<=IF(AND($J36>$M$1,$K36=\"\"),$M$2,$K36)),AND(W$1>=$J37,W$1<=IF(AND($J37>$M$1,$K37=\"\"),$M$2,$K37)),AND(W$1>=$J38,W$1<=IF(AND($J38>$M$1,$K38=\"\"),$M$2,$K38)),AND(W$1>=$J39,W$1<=IF(AND($J39>$M$1,$K39=\"\"),$M$2,$K39))),$J$3,\"\")","v":""},{"$f":"IF(OR(AND(X$1>=$J35,X$1<=IF(AND($J35>$M$1,$K35=\"\"),$M$2,$K35)),AND(X$1>=$J36,X$1<=IF(AND($J36>$M$1,$K36=\"\"),$M$2,$K36)),AND(X$1>=$J37,X$1<=IF(AND($J37>$M$1,$K37=\"\"),$M$2,$K37)),AND(X$1>=$J38,X$1<=IF(AND($J38>$M$1,$K38=\"\"),$M$2,$K38)),AND(X$1>=$J39,X$1<=IF(AND($J39>$M$1,$K39=\"\"),$M$2,$K39))),$J$3,\"\")","v":""},{"$f":"IF(OR(AND(Y$1>=$J35,Y$1<=IF(AND($J35>$M$1,$K35=\"\"),$M$2,$K35)),AND(Y$1>=$J36,Y$1<=IF(AND($J36>$M$1,$K36=\"\"),$M$2,$K36)),AND(Y$1>=$J37,Y$1<=IF(AND($J37>$M$1,$K37=\"\"),$M$2,$K37)),AND(Y$1>=$J38,Y$1<=IF(AND($J38>$M$1,$K38=\"\"),$M$2,$K38)),AND(Y$1>=$J39,Y$1<=IF(AND($J39>$M$1,$K39=\"\"),$M$2,$K39))),$J$3,\"\")","v":""},{"$f":"IF(OR(AND(Z$1>=$J35,Z$1<=IF(AND($J35>$M$1,$K35=\"\"),$M$2,$K35)),AND(Z$1>=$J36,Z$1<=IF(AND($J36>$M$1,$K36=\"\"),$M$2,$K36)),AND(Z$1>=$J37,Z$1<=IF(AND($J37>$M$1,$K37=\"\"),$M$2,$K37)),AND(Z$1>=$J38,Z$1<=IF(AND($J38>$M$1,$K38=\"\"),$M$2,$K38)),AND(Z$1>=$J39,Z$1<=IF(AND($J39>$M$1,$K39=\"\"),$M$2,$K39))),$J$3,\"\")","v":""},{"$f":"IF(OR(AND(AA$1>=$J35,AA$1<=IF(AND($J35>$M$1,$K35=\"\"),$M$2,$K35)),AND(AA$1>=$J36,AA$1<=IF(AND($J36>$M$1,$K36=\"\"),$M$2,$K36)),AND(AA$1>=$J37,AA$1<=IF(AND($J37>$M$1,$K37=\"\"),$M$2,$K37)),AND(AA$1>=$J38,AA$1<=IF(AND($J38>$M$1,$K38=\"\"),$M$2,$K38)),AND(AA$1>=$J39,AA$1<=IF(AND($J39>$M$1,$K39=\"\"),$M$2,$K39))),$J$3,\"\")","v":""},{"$f":"IF(OR(AND(AB$1>=$J35,AB$1<=IF(AND($J35>$M$1,$K35=\"\"),$M$2,$K35)),AND(AB$1>=$J36,AB$1<=IF(AND($J36>$M$1,$K36=\"\"),$M$2,$K36)),AND(AB$1>=$J37,AB$1<=IF(AND($J37>$M$1,$K37=\"\"),$M$2,$K37)),AND(AB$1>=$J38,AB$1<=IF(AND($J38>$M$1,$K38=\"\"),$M$2,$K38)),AND(AB$1>=$J39,AB$1<=IF(AND($J39>$M$1,$K39=\"\"),$M$2,$K39))),$J$3,\"\")","v":""},{"$f":"IF(OR(AND(AC$1>=$J35,AC$1<=IF(AND($J35>$M$1,$K35=\"\"),$M$2,$K35)),AND(AC$1>=$J36,AC$1<=IF(AND($J36>$M$1,$K36=\"\"),$M$2,$K36)),AND(AC$1>=$J37,AC$1<=IF(AND($J37>$M$1,$K37=\"\"),$M$2,$K37)),AND(AC$1>=$J38,AC$1<=IF(AND($J38>$M$1,$K38=\"\"),$M$2,$K38)),AND(AC$1>=$J39,AC$1<=IF(AND($J39>$M$1,$K39=\"\"),$M$2,$K39))),$J$3,\"\")","v":""},{"$f":"IF(OR(AND(AD$1>=$J35,AD$1<=IF(AND($J35>$M$1,$K35=\"\"),$M$2,$K35)),AND(AD$1>=$J36,AD$1<=IF(AND($J36>$M$1,$K36=\"\"),$M$2,$K36)),AND(AD$1>=$J37,AD$1<=IF(AND($J37>$M$1,$K37=\"\"),$M$2,$K37)),AND(AD$1>=$J38,AD$1<=IF(AND($J38>$M$1,$K38=\"\"),$M$2,$K38)),AND(AD$1>=$J39,AD$1<=IF(AND($J39>$M$1,$K39=\"\"),$M$2,$K39))),$J$3,\"\")","v":""},{"$f":"IF(OR(AND(AE$1>=$J35,AE$1<=IF(AND($J35>$M$1,$K35=\"\"),$M$2,$K35)),AND(AE$1>=$J36,AE$1<=IF(AND($J36>$M$1,$K36=\"\"),$M$2,$K36)),AND(AE$1>=$J37,AE$1<=IF(AND($J37>$M$1,$K37=\"\"),$M$2,$K37)),AND(AE$1>=$J38,AE$1<=IF(AND($J38>$M$1,$K38=\"\"),$M$2,$K38)),AND(AE$1>=$J39,AE$1<=IF(AND($J39>$M$1,$K39=\"\"),$M$2,$K39))),$J$3,\"\")","v":""},{"$f":"IF(OR(AND(AF$1>=$J35,AF$1<=IF(AND($J35>$M$1,$K35=\"\"),$M$2,$K35)),AND(AF$1>=$J36,AF$1<=IF(AND($J36>$M$1,$K36=\"\"),$M$2,$K36)),AND(AF$1>=$J37,AF$1<=IF(AND($J37>$M$1,$K37=\"\"),$M$2,$K37)),AND(AF$1>=$J38,AF$1<=IF(AND($J38>$M$1,$K38=\"\"),$M$2,$K38)),AND(AF$1>=$J39,AF$1<=IF(AND($J39>$M$1,$K39=\"\"),$M$2,$K39))),$J$3,\"\")","v":""},{"$f":"IF(OR(AND(AG$1>=$J35,AG$1<=IF(AND($J35>$M$1,$K35=\"\"),$M$2,$K35)),AND(AG$1>=$J36,AG$1<=IF(AND($J36>$M$1,$K36=\"\"),$M$2,$K36)),AND(AG$1>=$J37,AG$1<=IF(AND($J37>$M$1,$K37=\"\"),$M$2,$K37)),AND(AG$1>=$J38,AG$1<=IF(AND($J38>$M$1,$K38=\"\"),$M$2,$K38)),AND(AG$1>=$J39,AG$1<=IF(AND($J39>$M$1,$K39=\"\"),$M$2,$K39))),$J$3,\"\")","v":""},{"$f":"IF(OR(AND(AH$1>=$J35,AH$1<=IF(AND($J35>$M$1,$K35=\"\"),$M$2,$K35)),AND(AH$1>=$J36,AH$1<=IF(AND($J36>$M$1,$K36=\"\"),$M$2,$K36)),AND(AH$1>=$J37,AH$1<=IF(AND($J37>$M$1,$K37=\"\"),$M$2,$K37)),AND(AH$1>=$J38,AH$1<=IF(AND($J38>$M$1,$K38=\"\"),$M$2,$K38)),AND(AH$1>=$J39,AH$1<=IF(AND($J39>$M$1,$K39=\"\"),$M$2,$K39))),$J$3,\"\")","v":""},{"$f":"IF(OR(AND(AI$1>=$J35,AI$1<=IF(AND($J35>$M$1,$K35=\"\"),$M$2,$K35)),AND(AI$1>=$J36,AI$1<=IF(AND($J36>$M$1,$K36=\"\"),$M$2,$K36)),AND(AI$1>=$J37,AI$1<=IF(AND($J37>$M$1,$K37=\"\"),$M$2,$K37)),AND(AI$1>=$J38,AI$1<=IF(AND($J38>$M$1,$K38=\"\"),$M$2,$K38)),AND(AI$1>=$J39,AI$1<=IF(AND($J39>$M$1,$K39=\"\"),$M$2,$K39))),$J$3,\"\")","v":""},{"$f":"IF(OR(AND(AJ$1>=$J35,AJ$1<=IF(AND($J35>$M$1,$K35=\"\"),$M$2,$K35)),AND(AJ$1>=$J36,AJ$1<=IF(AND($J36>$M$1,$K36=\"\"),$M$2,$K36)),AND(AJ$1>=$J37,AJ$1<=IF(AND($J37>$M$1,$K37=\"\"),$M$2,$K37)),AND(AJ$1>=$J38,AJ$1<=IF(AND($J38>$M$1,$K38=\"\"),$M$2,$K38)),AND(AJ$1>=$J39,AJ$1<=IF(AND($J39>$M$1,$K39=\"\"),$M$2,$K39))),$J$3,\"\")","v":""},{"$f":"IF(OR(AND(AK$1>=$J35,AK$1<=IF(AND($J35>$M$1,$K35=\"\"),$M$2,$K35)),AND(AK$1>=$J36,AK$1<=IF(AND($J36>$M$1,$K36=\"\"),$M$2,$K36)),AND(AK$1>=$J37,AK$1<=IF(AND($J37>$M$1,$K37=\"\"),$M$2,$K37)),AND(AK$1>=$J38,AK$1<=IF(AND($J38>$M$1,$K38=\"\"),$M$2,$K38)),AND(AK$1>=$J39,AK$1<=IF(AND($J39>$M$1,$K39=\"\"),$M$2,$K39))),$J$3,\"\")","v":""},{"$f":"IF(OR(AND(AL$1>=$J35,AL$1<=IF(AND($J35>$M$1,$K35=\"\"),$M$2,$K35)),AND(AL$1>=$J36,AL$1<=IF(AND($J36>$M$1,$K36=\"\"),$M$2,$K36)),AND(AL$1>=$J37,AL$1<=IF(AND($J37>$M$1,$K37=\"\"),$M$2,$K37)),AND(AL$1>=$J38,AL$1<=IF(AND($J38>$M$1,$K38=\"\"),$M$2,$K38)),AND(AL$1>=$J39,AL$1<=IF(AND($J39>$M$1,$K39=\"\"),$M$2,$K39))),$J$3,\"\")","v":""},{"$f":"IF(OR(AND(AM$1>=$J35,AM$1<=IF(AND($J35>$M$1,$K35=\"\"),$M$2,$K35)),AND(AM$1>=$J36,AM$1<=IF(AND($J36>$M$1,$K36=\"\"),$M$2,$K36)),AND(AM$1>=$J37,AM$1<=IF(AND($J37>$M$1,$K37=\"\"),$M$2,$K37)),AND(AM$1>=$J38,AM$1<=IF(AND($J38>$M$1,$K38=\"\"),$M$2,$K38)),AND(AM$1>=$J39,AM$1<=IF(AND($J39>$M$1,$K39=\"\"),$M$2,$K39))),$J$3,\"\")","v":""},{"$f":"IF(OR(AND(AN$1>=$J35,AN$1<=IF(AND($J35>$M$1,$K35=\"\"),$M$2,$K35)),AND(AN$1>=$J36,AN$1<=IF(AND($J36>$M$1,$K36=\"\"),$M$2,$K36)),AND(AN$1>=$J37,AN$1<=IF(AND($J37>$M$1,$K37=\"\"),$M$2,$K37)),AND(AN$1>=$J38,AN$1<=IF(AND($J38>$M$1,$K38=\"\"),$M$2,$K38)),AND(AN$1>=$J39,AN$1<=IF(AND($J39>$M$1,$K39=\"\"),$M$2,$K39))),$J$3,\"\")","v":""},{"$f":"IF(OR(AND(AO$1>=$J35,AO$1<=IF(AND($J35>$M$1,$K35=\"\"),$M$2,$K35)),AND(AO$1>=$J36,AO$1<=IF(AND($J36>$M$1,$K36=\"\"),$M$2,$K36)),AND(AO$1>=$J37,AO$1<=IF(AND($J37>$M$1,$K37=\"\"),$M$2,$K37)),AND(AO$1>=$J38,AO$1<=IF(AND($J38>$M$1,$K38=\"\"),$M$2,$K38)),AND(AO$1>=$J39,AO$1<=IF(AND($J39>$M$1,$K39=\"\"),$M$2,$K39))),$J$3,\"\")","v":""},{"$f":"IF(AP$1=\"\",\"\",IF(OR(AND(AP$1>=$J35,AP$1<=IF(AND($J35>$M$1,$K35=\"\"),$M$2,$K35)),AND(AP$1>=$J36,AP$1<=IF(AND($J36>$M$1,$K36=\"\"),$M$2,$K36)),AND(AP$1>=$J37,AP$1<=IF(AND($J37>$M$1,$K37=\"\"),$M$2,$K37)),AND(AP$1>=$J38,AP$1<=IF(AND($J38>$M$1,$K38=\"\"),$M$2,$K38)),AND(AP$1>=$J39,AP$1<=IF(AND($J39>$M$1,$K39=\"\"),$M$2,$K39))),$J$3,\"\"))","v":""},{"$f":"IF(AQ$1=\"\",\"\",IF(OR(AND(AQ$1>=$J35,AQ$1<=IF(AND($J35>$M$1,$K35=\"\"),$M$2,$K35)),AND(AQ$1>=$J36,AQ$1<=IF(AND($J36>$M$1,$K36=\"\"),$M$2,$K36)),AND(AQ$1>=$J37,AQ$1<=IF(AND($J37>$M$1,$K37=\"\"),$M$2,$K37)),AND(AQ$1>=$J38,AQ$1<=IF(AND($J38>$M$1,$K38=\"\"),$M$2,$K38)),AND(AQ$1>=$J39,AQ$1<=IF(AND($J39>$M$1,$K39=\"\"),$M$2,$K39))),$J$3,\"\"))","v":""},{"$f":"IF(AR$1=\"\",\"\",IF(OR(AND(AR$1>=$J35,AR$1<=IF(AND($J35>$M$1,$K35=\"\"),$M$2,$K35)),AND(AR$1>=$J36,AR$1<=IF(AND($J36>$M$1,$K36=\"\"),$M$2,$K36)),AND(AR$1>=$J37,AR$1<=IF(AND($J37>$M$1,$K37=\"\"),$M$2,$K37)),AND(AR$1>=$J38,AR$1<=IF(AND($J38>$M$1,$K38=\"\"),$M$2,$K38)),AND(AR$1>=$J39,AR$1<=IF(AND($J39>$M$1,$K39=\"\"),$M$2,$K39))),$J$3,\"\"))","v":""}]
[{"$f":"стр.1!C27","v":4552},{"$f":"IFERROR(VLOOKUP(A40,стр.1!$A$13:$D$106,2,FALSE),\"\")","v":"Ларионов"},{"$f":"IFERROR(VLOOKUP(A40,стр.1!$A$13:$D$106,4,FALSE),\"\")","v":"сборная"},null,null,null,null,null,null,null,null,null,null,{"$f":"N41&N42&N43&N44","v":""},{"$f":"O41&O42&O43&O44","v":""},{"$f":"P41&P42&P43&P44","v":""},{"$f":"Q41&Q42&Q43&Q44","v":""},{"$f":"R41&R42&R43&R44","v":""},{"$f":"S41&S42&S43&S44","v":""},{"$f":"T41&T42&T43&T44","v":""},{"$f":"U41&U42&U43&U44","v":""},{"$f":"V41&V42&V43&V44","v":""},{"$f":"W41&W42&W43&W44","v":""},{"$f":"X41&X42&X43&X44","v":""},{"$f":"Y41&Y42&Y43&Y44","v":""},{"$f":"Z41&Z42&Z43&Z44","v":""},{"$f":"AA41&AA42&AA43&AA44","v":""},{"$f":"AB41&AB42&AB43&AB44","v":""},{"$f":"AC41&AC42&AC43&AC44","v":""},{"$f":"AD41&AD42&AD43&AD44","v":""},{"$f":"AE41&AE42&AE43&AE44","v":""},{"$f":"AF41&AF42&AF43&AF44","v":""},{"$f":"AG41&AG42&AG43&AG44","v":""},{"$f":"AH41&AH42&AH43&AH44","v":""},{"$f":"AI41&AI42&AI43&AI44","v":""},{"$f":"AJ41&AJ42&AJ43&AJ44","v":""},{"$f":"AK41&AK42&AK43&AK44","v":""},{"$f":"AL41&AL42&AL43&AL44","v":""},{"$f":"AM41&AM42&AM43&AM44","v":""},{"$f":"AN41&AN42&AN43&AN44","v":""},{"$f":"AO41&AO42&AO43&AO44","v":""},{"$f":"AP41&AP42&AP43&AP44","v":""},{"$f":"AQ41&AQ42&AQ43&AQ44","v":""},{"$f":"AR41&AR42&AR43&AR44","v":""}]
[null,null,null,null,null,null,null,null,null,null,null,null,null,{"$f":"IF(OR(AND(N$1>=$D40,N$1<=IF(AND($D40>$M$1,$E40=\"\"),$M$2,$E40)),AND(N$1>=$D41,N$1<=IF(AND($D41>$M$1,$E41=\"\"),$M$2,$E41)),AND(N$1>=$D42,N$1<=IF(AND($D42>$M$1,$E42=\"\"),$M$2,$E42)),AND(N$1>=$D43,N$1<=IF(AND($D43>$M$1,$E43=\"\"),$M$2,$E43))),$D$3,\"\")","v":""},{"$f":"IF(OR(AND(O$1>=$D40,O$1<=IF(AND($D40>$M$1,$E40=\"\"),$M$2,$E40)),AND(O$1>=$D41,O$1<=IF(AND($D41>$M$1,$E41=\"\"),$M$2,$E41)),AND(O$1>=$D42,O$1<=IF(AND($D42>$M$1,$E42=\"\"),$M$2,$E42)),AND(O$1>=$D43,O$1<=IF(AND($D43>$M$1,$E43=\"\"),$M$2,$E43))),$D$3,\"\")","v":""},"","","","","","","","","","","","","","","","","","","","","","","","","","",{"$f":"IF(AP$1=\"\",\"\",IF(OR(AND(AP$1>=$D40,AP$1<=IF(AND($D40>$M$1,$E40=\"\"),$M$2,$E40)),AND(AP$1>=$D41,AP$1<=IF(AND($D41>$M$1,$E41=\"\"),$M$2,$E41)),AND(AP$1>=$D42,AP$1<=IF(AND($D42>$M$1,$E42=\"\"),$M$2,$E42)),AND(AP$1>=$D43,AP$1<=IF(AND($D43>$M$1,$E43=\"\"),$M$2,$E43))),$D$3,\"\"))","v":""},{"$f":"IF(AQ$1=\"\",\"\",IF(OR(AND(AQ$1>=$D40,AQ$1<=IF(AND($D40>$M$1,$E40=\"\"),$M$2,$E40)),AND(AQ$1>=$D41,AQ$1<=IF(AND($D41>$M$1,$E41=\"\"),$M$2,$E41)),AND(AQ$1>=$D42,AQ$1<=IF(AND($D42>$M$1,$E42=\"\"),$M$2,$E42)),AND(AQ$1>=$D43,AQ$1<=IF(AND($D43>$M$1,$E43=\"\"),$M$2,$E43))),$D$3,\"\"))","v":""},""]
[null,null,null,null,null,null,null,null,null,null,null,null,null,{"$f":"IF(OR(AND(N$1>=$F40,N$1<=IF(AND($F40>$M$1,$G40=\"\"),$M$2,$G40)),AND(N$1>=$F41,N$1<=IF(AND($F41>$M$1,$G41=\"\"),$M$2,$G41)),AND(N$1>=$F42,N$1<=IF(AND($F42>$M$1,$G42=\"\"),$M$2,$G42)),AND(N$1>=$F43,N$1<=IF(AND($F43>$M$1,$G43=\"\"),$M$2,$G43))),$F$3,\"\")","v":""},{"$f":"IF(OR(AND(O$1>=$F40,O$1<=IF(AND($F40>$M$1,$G40=\"\"),$M$2,$G40)),AND(O$1>=$F41,O$1<=IF(AND($F41>$M$1,$G41=\"\"),$M$2,$G41)),AND(O$1>=$F42,O$1<=IF(AND($F42>$M$1,$G42=\"\"),$M$2,$G42)),AND(O$1>=$F43,O$1<=IF(AND($F43>$M$1,$G43=\"\"),$M$2,$G43))),$F$3,\"\")","v":""},"","","","","","","","","","","","","","","","","","","","","","","","","","",{"$f":"IF(AP$1=\"\",\"\",IF(OR(AND(AP$1>=$F40,AP$1<=IF(AND($F40>$M$1,$G40=\"\"),$M$2,$G40)),AND(AP$1>=$F41,AP$1<=IF(AND($F41>$M$1,$G41=\"\"),$M$2,$G41)),AND(AP$1>=$F42,AP$1<=IF(AND($F42>$M$1,$G42=\"\"),$M$2,$G42)),AND(AP$1>=$F43,AP$1<=IF(AND($F43>$M$1,$G43=\"\"),$M$2,$G43))),$F$3,\"\"))","v":""},{"$f":"IF(AQ$1=\"\",\"\",IF(OR(AND(AQ$1>=$F40,AQ$1<=IF(AND($F40>$M$1,$G40=\"\"),$M$2,$G40)),AND(AQ$1>=$F41,AQ$1<=IF(AND($F41>$M$1,$G41=\"\"),$M$2,$G41)),AND(AQ$1>=$F42,AQ$1<=IF(AND($F42>$M$1,$G42=\"\"),$M$2,$G42)),AND(AQ$1>=$F43,AQ$1<=IF(AND($F43>$M$1,$G43=\"\"),$M$2,$G43))),$F$3,\"\"))","v":""},""]
[null,null,null,null,null,null,null,null,null,null,null,null,null,{"$f":"IF(OR(AND(N$1>=$H40,N$1<=IF(AND($H40>$M$1,$I40=\"\"),$M$2,$I40)),AND(N$1>=$H41,N$1<=IF(AND($H41>$M$1,$I41=\"\"),$M$2,$I41)),AND(N$1>=$H42,N$1<=IF(AND($H42>$M$1,$I42=\"\"),$M$2,$I42)),AND(N$1>=$H43,N$1<=IF(AND($H43>$M$1,$I43=\"\"),$M$2,$I43))),$H$3,\"\")","v":""},"","","","","","","","","","","","","","","","","","","","","","","","","","","",{"$f":"IF(AP$1=\"\",\"\",IF(OR(AND(AP$1>=$H40,AP$1<=IF(AND($H40>$M$1,$I40=\"\"),$M$2,$I40)),AND(AP$1>=$H41,AP$1<=IF(AND($H41>$M$1,$I41=\"\"),$M$2,$I41)),AND(AP$1>=$H42,AP$1<=IF(AND($H42>$M$1,$I42=\"\"),$M$2,$I42)),AND(AP$1>=$H43,AP$1<=IF(AND($H43>$M$1,$I43=\"\"),$M$2,$I43))),$H$3,\"\"))","v":""},{"$f":"IF(AQ$1=\"\",\"\",IF(OR(AND(AQ$1>=$H40,AQ$1<=IF(AND($H40>$M$1,$I40=\"\"),$M$2,$I40)),AND(AQ$1>=$H41,AQ$1<=IF(AND($H41>$M$1,$I41=\"\"),$M$2,$I41)),AND(AQ$1>=$H42,AQ$1<=IF(AND($H42>$M$1,$I42=\"\"),$M$2,$I42)),AND(AQ$1>=$H43,AQ$1<=IF(AND($H43>$M$1,$I43=\"\"),$M$2,$I43))),$H$3,\"\"))","v":""},{"$f":"IF(AR$1=\"\",\"\",IF(OR(AND(AR$1>=$H40,AR$1<=IF(AND($H40>$M$1,$I40=\"\"),$M$2,$I40)),AND(AR$1>=$H41,AR$1<=IF(AND($H41>$M$1,$I41=\"\"),$M$2,$I41)),AND(AR$1>=$H42,AR$1<=IF(AND($H42>$M$1,$I42=\"\"),$M$2,$I42)),AND(AR$1>=$H43,AR$1<=IF(AND($H43>$M$1,$I43=\"\"),$M$2,$I43))),$H$3,\"\"))","v":""}]
[null,null,null,null,null,null,null,null,null,null,null,null,null,{"$f":"IF(OR(AND(N$1>=$J40,N$1<=IF(AND($J40>$M$1,$K40=\"\"),$M$2,$K40)),AND(N$1>=$J41,N$1<=IF(AND($J41>$M$1,$K41=\"\"),$M$2,$K41)),AND(N$1>=$J42,N$1<=IF(AND($J42>$M$1,$K42=\"\"),$M$2,$K42)),AND(N$1>=$J43,N$1<=IF(AND($J43>$M$1,$K43=\"\"),$M$2,$K43)),AND(N$1>=$J44,N$1<=IF(AND($J44>$M$1,$K44=\"\"),$M$2,$K44))),$J$3,\"\")","v":""},{"$f":"IF(OR(AND(O$1>=$J40,O$1<=IF(AND($J40>$M$1,$K40=\"\"),$M$2,$K40)),AND(O$1>=$J41,O$1<=IF(AND($J41>$M$1,$K41=\"\"),$M$2,$K41)),AND(O$1>=$J42,O$1<=IF(AND($J42>$M$1,$K42=\"\"),$M$2,$K42)),AND(O$1>=$J43,O$1<=IF(AND($J43>$M$1,$K43=\"\"),$M$2,$K43)),AND(O$1>=$J44,O$1<=IF(AND($J44>$M$1,$K44=\"\"),$M$2,$K44))),$J$3,\"\")","v":""},{"$f":"IF(OR(AND(P$1>=$J40,P$1<=IF(AND($J40>$M$1,$K40=\"\"),$M$2,$K40)),AND(P$1>=$J41,P$1<=IF(AND($J41>$M$1,$K41=\"\"),$M$2,$K41)),AND(P$1>=$J42,P$1<=IF(AND($J42>$M$1,$K42=\"\"),$M$2,$K42)),AND(P$1>=$J43,P$1<=IF(AND($J43>$M$1,$K43=\"\"),$M$2,$K43)),AND(P$1>=$J44,P$1<=IF(AND($J44>$M$1,$K44=\"\"),$M$2,$K44))),$J$3,\"\")","v":""},{"$f":"IF(OR(AND(Q$1>=$J40,Q$1<=IF(AND($J40>$M$1,$K40=\"\"),$M$2,$K40)),AND(Q$1>=$J41,Q$1<=IF(AND($J41>$M$1,$K41=\"\"),$M$2,$K41)),AND(Q$1>=$J42,Q$1<=IF(AND($J42>$M$1,$K42=\"\"),$M$2,$K42)),AND(Q$1>=$J43,Q$1<=IF(AND($J43>$M$1,$K43=\"\"),$M$2,$K43)),AND(Q$1>=$J44,Q$1<=IF(AND($J44>$M$1,$K44=\"\"),$M$2,$K44))),$J$3,\"\")","v":""},{"$f":"IF(OR(AND(R$1>=$J40,R$1<=IF(AND($J40>$M$1,$K40=\"\"),$M$2,$K40)),AND(R$1>=$J41,R$1<=IF(AND($J41>$M$1,$K41=\"\"),$M$2,$K41)),AND(R$1>=$J42,R$1<=IF(AND($J42>$M$1,$K42=\"\"),$M$2,$K42)),AND(R$1>=$J43,R$1<=IF(AND($J43>$M$1,$K43=\"\"),$M$2,$K43)),AND(R$1>=$J44,R$1<=IF(AND($J44>$M$1,$K44=\"\"),$M$2,$K44))),$J$3,\"\")","v":""},{"$f":"IF(OR(AND(S$1>=$J40,S$1<=IF(AND($J40>$M$1,$K40=\"\"),$M$2,$K40)),AND(S$1>=$J41,S$1<=IF(AND($J41>$M$1,$K41=\"\"),$M$2,$K41)),AND(S$1>=$J42,S$1<=IF(AND($J42>$M$1,$K42=\"\"),$M$2,$K42)),AND(S$1>=$J43,S$1<=IF(AND($J43>$M$1,$K43=\"\"),$M$2,$K43)),AND(S$1>=$J44,S$1<=IF(AND($J44>$M$1,$K44=\"\"),$M$2,$K44))),$J$3,\"\")","v":""},{"$f":"IF(OR(AND(T$1>=$J40,T$1<=IF(AND($J40>$M$1,$K40=\"\"),$M$2,$K40)),AND(T$1>=$J41,T$1<=IF(AND($J41>$M$1,$K41=\"\"),$M$2,$K41)),AND(T$1>=$J42,T$1<=IF(AND($J42>$M$1,$K42=\"\"),$M$2,$K42)),AND(T$1>=$J43,T$1<=IF(AND($J43>$M$1,$K43=\"\"),$M$2,$K43)),AND(T$1>=$J44,T$1<=IF(AND($J44>$M$1,$K44=\"\"),$M$2,$K44))),$J$3,\"\")","v":""},{"$f":"IF(OR(AND(U$1>=$J40,U$1<=IF(AND($J40>$M$1,$K40=\"\"),$M$2,$K40)),AND(U$1>=$J41,U$1<=IF(AND($J41>$M$1,$K41=\"\"),$M$2,$K41)),AND(U$1>=$J42,U$1<=IF(AND($J42>$M$1,$K42=\"\"),$M$2,$K42)),AND(U$1>=$J43,U$1<=IF(AND($J43>$M$1,$K43=\"\"),$M$2,$K43)),AND(U$1>=$J44,U$1<=IF(AND($J44>$M$1,$K44=\"\"),$M$2,$K44))),$J$3,\"\")","v":""},{"$f":"IF(OR(AND(V$1>=$J40,V$1<=IF(AND($J40>$M$1,$K40=\"\"),$M$2,$K40)),AND(V$1>=$J41,V$1<=IF(AND($J41>$M$1,$K41=\"\"),$M$2,$K41)),AND(V$1>=$J42,V$1<=IF(AND($J42>$M$1,$K42=\"\"),$M$2,$K42)),AND(V$1>=$J43,V$1<=IF(AND($J43>$M$1,$K43=\"\"),$M$2,$K43)),AND(V$1>=$J44,V$1<=IF(AND($J44>$M$1,$K44=\"\"),$M$2,$K44))),$J$3,\"\")","v":""},{"$f":"IF(OR(AND(W$1>=$J40,W$1<=IF(AND($J40>$M$1,$K40=\"\"),$M$2,$K40)),AND(W$1>=$J41,W$1<=IF(AND($J41>$M$1,$K41=\"\"),$M$2,$K41)),AND(W$1>=$J42,W$1<=IF(AND($J42>$M$1,$K42=\"\"),$M$2,$K42)),AND(W$1>=$J43,W$1<=IF(AND($J43>$M$1,$K43=\"\"),$M$2,$K43)),AND(W$1>=$J44,W$1<=IF(AND($J44>$M$1,$K44=\"\"),$M$2,$K44))),$J$3,\"\")","v":""},{"$f":"IF(OR(AND(X$1>=$J40,X$1<=IF(AND($J40>$M$1,$K40=\"\"),$M$2,$K40)),AND(X$1>=$J41,X$1<=IF(AND($J41>$M$1,$K41=\"\"),$M$2,$K41)),AND(X$1>=$J42,X$1<=IF(AND($J42>$M$1,$K42=\"\"),$M$2,$K42)),AND(X$1>=$J43,X$1<=IF(AND($J43>$M$1,$K43=\"\"),$M$2,$K43)),AND(X$1>=$J44,X$1<=IF(AND($J44>$M$1,$K44=\"\"),$M$2,$K44))),$J$3,\"\")","v":""},{"$f":"IF(OR(AND(Y$1>=$J40,Y$1<=IF(AND($J40>$M$1,$K40=\"\"),$M$2,$K40)),AND(Y$1>=$J41,Y$1<=IF(AND($J41>$M$1,$K41=\"\"),$M$2,$K41)),AND(Y$1>=$J42,Y$1<=IF(AND($J42>$M$1,$K42=\"\"),$M$2,$K42)),AND(Y$1>=$J43,Y$1<=IF(AND($J43>$M$1,$K43=\"\"),$M$2,$K43)),AND(Y$1>=$J44,Y$1<=IF(AND($J44>$M$1,$K44=\"\"),$M$2,$K44))),$J$3,\"\")","v":""},{"$f":"IF(OR(AND(Z$1>=$J40,Z$1<=IF(AND($J40>$M$1,$K40=\"\"),$M$2,$K40)),AND(Z$1>=$J41,Z$1<=IF(AND($J41>$M$1,$K41=\"\"),$M$2,$K41)),AND(Z$1>=$J42,Z$1<=IF(AND($J42>$M$1,$K42=\"\"),$M$2,$K42)),AND(Z$1>=$J43,Z$1<=IF(AND($J43>$M$1,$K43=\"\"),$M$2,$K43)),AND(Z$1>=$J44,Z$1<=IF(AND($J44>$M$1,$K44=\"\"),$M$2,$K44))),$J$3,\"\")","v":""},{"$f":"IF(OR(AND(AA$1>=$J40,AA$1<=IF(AND($J40>$M$1,$K40=\"\"),$M$2,$K40)),AND(AA$1>=$J41,AA$1<=IF(AND($J41>$M$1,$K41=\"\"),$M$2,$K41)),AND(AA$1>=$J42,AA$1<=IF(AND($J42>$M$1,$K42=\"\"),$M$2,$K42)),AND(AA$1>=$J43,AA$1<=IF(AND($J43>$M$1,$K43=\"\"),$M$2,$K43)),AND(AA$1>=$J44,AA$1<=IF(AND($J44>$M$1,$K44=\"\"),$M$2,$K44))),$J$3,\"\")","v":""},{"$f":"IF(OR(AND(AB$1>=$J40,AB$1<=IF(AND($J40>$M$1,$K40=\"\"),$M$2,$K40)),AND(AB$1>=$J41,AB$1<=IF(AND($J41>$M$1,$K41=\"\"),$M$2,$K41)),AND(AB$1>=$J42,AB$1<=IF(AND($J42>$M$1,$K42=\"\"),$M$2,$K42)),AND(AB$1>=$J43,AB$1<=IF(AND($J43>$M$1,$K43=\"\"),$M$2,$K43)),AND(AB$1>=$J44,AB$1<=IF(AND($J44>$M$1,$K44=\"\"),$M$2,$K44))),$J$3,\"\")","v":""},{"$f":"IF(OR(AND(AC$1>=$J40,AC$1<=IF(AND($J40>$M$1,$K40=\"\"),$M$2,$K40)),AND(AC$1>=$J41,AC$1<=IF(AND($J41>$M$1,$K41=\"\"),$M$2,$K41)),AND(AC$1>=$J42,AC$1<=IF(AND($J42>$M$1,$K42=\"\"),$M$2,$K42)),AND(AC$1>=$J43,AC$1<=IF(AND($J43>$M$1,$K43=\"\"),$M$2,$K43)),AND(AC$1>=$J44,AC$1<=IF(AND($J44>$M$1,$K44=\"\"),$M$2,$K44))),$J$3,\"\")","v":""},{"$f":"IF(OR(AND(AD$1>=$J40,AD$1<=IF(AND($J40>$M$1,$K40=\"\"),$M$2,$K40)),AND(AD$1>=$J41,AD$1<=IF(AND($J41>$M$1,$K41=\"\"),$M$2,$K41)),AND(AD$1>=$J42,AD$1<=IF(AND($J42>$M$1,$K42=\"\"),$M$2,$K42)),AND(AD$1>=$J43,AD$1<=IF(AND($J43>$M$1,$K43=\"\"),$M$2,$K43)),AND(AD$1>=$J44,AD$1<=IF(AND($J44>$M$1,$K44=\"\"),$M$2,$K44))),$J$3,\"\")","v":""},{"$f":"IF(OR(AND(AE$1>=$J40,AE$1<=IF(AND($J40>$M$1,$K40=\"\"),$M$2,$K40)),AND(AE$1>=$J41,AE$1<=IF(AND($J41>$M$1,$K41=\"\"),$M$2,$K41)),AND(AE$1>=$J42,AE$1<=IF(AND($J42>$M$1,$K42=\"\"),$M$2,$K42)),AND(AE$1>=$J43,AE$1<=IF(AND($J43>$M$1,$K43=\"\"),$M$2,$K43)),AND(AE$1>=$J44,AE$1<=IF(AND($J44>$M$1,$K44=\"\"),$M$2,$K44))),$J$3,\"\")","v":""},{"$f":"IF(OR(AND(AF$1>=$J40,AF$1<=IF(AND($J40>$M$1,$K40=\"\"),$M$2,$K40)),AND(AF$1>=$J41,AF$1<=IF(AND($J41>$M$1,$K41=\"\"),$M$2,$K41)),AND(AF$1>=$J42,AF$1<=IF(AND($J42>$M$1,$K42=\"\"),$M$2,$K42)),AND(AF$1>=$J43,AF$1<=IF(AND($J43>$M$1,$K43=\"\"),$M$2,$K43)),AND(AF$1>=$J44,AF$1<=IF(AND($J44>$M$1,$K44=\"\"),$M$2,$K44))),$J$3,\"\")","v":""},{"$f":"IF(OR(AND(AG$1>=$J40,AG$1<=IF(AND($J40>$M$1,$K40=\"\"),$M$2,$K40)),AND(AG$1>=$J41,AG$1<=IF(AND($J41>$M$1,$K41=\"\"),$M$2,$K41)),AND(AG$1>=$J42,AG$1<=IF(AND($J42>$M$1,$K42=\"\"),$M$2,$K42)),AND(AG$1>=$J43,AG$1<=IF(AND($J43>$M$1,$K43=\"\"),$M$2,$K43)),AND(AG$1>=$J44,AG$1<=IF(AND($J44>$M$1,$K44=\"\"),$M$2,$K44))),$J$3,\"\")","v":""},{"$f":"IF(OR(AND(AH$1>=$J40,AH$1<=IF(AND($J40>$M$1,$K40=\"\"),$M$2,$K40)),AND(AH$1>=$J41,AH$1<=IF(AND($J41>$M$1,$K41=\"\"),$M$2,$K41)),AND(AH$1>=$J42,AH$1<=IF(AND($J42>$M$1,$K42=\"\"),$M$2,$K42)),AND(AH$1>=$J43,AH$1<=IF(AND($J43>$M$1,$K43=\"\"),$M$2,$K43)),AND(AH$1>=$J44,AH$1<=IF(AND($J44>$M$1,$K44=\"\"),$M$2,$K44))),$J$3,\"\")","v":""},{"$f":"IF(OR(AND(AI$1>=$J40,AI$1<=IF(AND($J40>$M$1,$K40=\"\"),$M$2,$K40)),AND(AI$1>=$J41,AI$1<=IF(AND($J41>$M$1,$K41=\"\"),$M$2,$K41)),AND(AI$1>=$J42,AI$1<=IF(AND($J42>$M$1,$K42=\"\"),$M$2,$K42)),AND(AI$1>=$J43,AI$1<=IF(AND($J43>$M$1,$K43=\"\"),$M$2,$K43)),AND(AI$1>=$J44,AI$1<=IF(AND($J44>$M$1,$K44=\"\"),$M$2,$K44))),$J$3,\"\")","v":""},{"$f":"IF(OR(AND(AJ$1>=$J40,AJ$1<=IF(AND($J40>$M$1,$K40=\"\"),$M$2,$K40)),AND(AJ$1>=$J41,AJ$1<=IF(AND($J41>$M$1,$K41=\"\"),$M$2,$K41)),AND(AJ$1>=$J42,AJ$1<=IF(AND($J42>$M$1,$K42=\"\"),$M$2,$K42)),AND(AJ$1>=$J43,AJ$1<=IF(AND($J43>$M$1,$K43=\"\"),$M$2,$K43)),AND(AJ$1>=$J44,AJ$1<=IF(AND($J44>$M$1,$K44=\"\"),$M$2,$K44))),$J$3,\"\")","v":""},{"$f":"IF(OR(AND(AK$1>=$J40,AK$1<=IF(AND($J40>$M$1,$K40=\"\"),$M$2,$K40)),AND(AK$1>=$J41,AK$1<=IF(AND($J41>$M$1,$K41=\"\"),$M$2,$K41)),AND(AK$1>=$J42,AK$1<=IF(AND($J42>$M$1,$K42=\"\"),$M$2,$K42)),AND(AK$1>=$J43,AK$1<=IF(AND($J43>$M$1,$K43=\"\"),$M$2,$K43)),AND(AK$1>=$J44,AK$1<=IF(AND($J44>$M$1,$K44=\"\"),$M$2,$K44))),$J$3,\"\")","v":""},{"$f":"IF(OR(AND(AL$1>=$J40,AL$1<=IF(AND($J40>$M$1,$K40=\"\"),$M$2,$K40)),AND(AL$1>=$J41,AL$1<=IF(AND($J41>$M$1,$K41=\"\"),$M$2,$K41)),AND(AL$1>=$J42,AL$1<=IF(AND($J42>$M$1,$K42=\"\"),$M$2,$K42)),AND(AL$1>=$J43,AL$1<=IF(AND($J43>$M$1,$K43=\"\"),$M$2,$K43)),AND(AL$1>=$J44,AL$1<=IF(AND($J44>$M$1,$K44=\"\"),$M$2,$K44))),$J$3,\"\")","v":""},{"$f":"IF(OR(AND(AM$1>=$J40,AM$1<=IF(AND($J40>$M$1,$K40=\"\"),$M$2,$K40)),AND(AM$1>=$J41,AM$1<=IF(AND($J41>$M$1,$K41=\"\"),$M$2,$K41)),AND(AM$1>=$J42,AM$1<=IF(AND($J42>$M$1,$K42=\"\"),$M$2,$K42)),AND(AM$1>=$J43,AM$1<=IF(AND($J43>$M$1,$K43=\"\"),$M$2,$K43)),AND(AM$1>=$J44,AM$1<=IF(AND($J44>$M$1,$K44=\"\"),$M$2,$K44))),$J$3,\"\")","v":""},{"$f":"IF(OR(AND(AN$1>=$J40,AN$1<=IF(AND($J40>$M$1,$K40=\"\"),$M$2,$K40)),AND(AN$1>=$J41,AN$1<=IF(AND($J41>$M$1,$K41=\"\"),$M$2,$K41)),AND(AN$1>=$J42,AN$1<=IF(AND($J42>$M$1,$K42=\"\"),$M$2,$K42)),AND(AN$1>=$J43,AN$1<=IF(AND($J43>$M$1,$K43=\"\"),$M$2,$K43)),AND(AN$1>=$J44,AN$1<=IF(AND($J44>$M$1,$K44=\"\"),$M$2,$K44))),$J$3,\"\")","v":""},{"$f":"IF(OR(AND(AO$1>=$J40,AO$1<=IF(AND($J40>$M$1,$K40=\"\"),$M$2,$K40)),AND(AO$1>=$J41,AO$1<=IF(AND($J41>$M$1,$K41=\"\"),$M$2,$K41)),AND(AO$1>=$J42,AO$1<=IF(AND($J42>$M$1,$K42=\"\"),$M$2,$K42)),AND(AO$1>=$J43,AO$1<=IF(AND($J43>$M$1,$K43=\"\"),$M$2,$K43)),AND(AO$1>=$J44,AO$1<=IF(AND($J44>$M$1,$K44=\"\"),$M$2,$K44))),$J$3,\"\")","v":""},{"$f":"IF(AP$1=\"\",\"\",IF(OR(AND(AP$1>=$J40,AP$1<=IF(AND($J40>$M$1,$K40=\"\"),$M$2,$K40)),AND(AP$1>=$J41,AP$1<=IF(AND($J41>$M$1,$K41=\"\"),$M$2,$K41)),AND(AP$1>=$J42,AP$1<=IF(AND($J42>$M$1,$K42=\"\"),$M$2,$K42)),AND(AP$1>=$J43,AP$1<=IF(AND($J43>$M$1,$K43=\"\"),$M$2,$K43)),AND(AP$1>=$J44,AP$1<=IF(AND($J44>$M$1,$K44=\"\"),$M$2,$K44))),$J$3,\"\"))","v":""},{"$f":"IF(AQ$1=\"\",\"\",IF(OR(AND(AQ$1>=$J40,AQ$1<=IF(AND($J40>$M$1,$K40=\"\"),$M$2,$K40)),AND(AQ$1>=$J41,AQ$1<=IF(AND($J41>$M$1,$K41=\"\"),$M$2,$K41)),AND(AQ$1>=$J42,AQ$1<=IF(AND($J42>$M$1,$K42=\"\"),$M$2,$K42)),AND(AQ$1>=$J43,AQ$1<=IF(AND($J43>$M$1,$K43=\"\"),$M$2,$K43)),AND(AQ$1>=$J44,AQ$1<=IF(AND($J44>$M$1,$K44=\"\"),$M$2,$K44))),$J$3,\"\"))","v":""},{"$f":"IF(AR$1=\"\",\"\",IF(OR(AND(AR$1>=$J40,AR$1<=IF(AND($J40>$M$1,$K40=\"\"),$M$2,$K40)),AND(AR$1>=$J41,AR$1<=IF(AND($J41>$M$1,$K41=\"\"),$M$2,$K41)),AND(AR$1>=$J42,AR$1<=IF(AND($J42>$M$1,$K42=\"\"),$M$2,$K42)),AND(AR$1>=$J43,AR$1<=IF(AND($J43>$M$1,$K43=\"\"),$M$2,$K43)),AND(AR$1>=$J44,AR$1<=IF(AND($J44>$M$1,$K44=\"\"),$M$2,$K44))),$J$3,\"\"))","v":""}]
[{"$f":"стр.1!C29","v":2833},{"$f":"IFERROR(VLOOKUP(A45,стр.1!$A$13:$D$106,2,FALSE),\"\")","v":"Макаров"},{"$f":"IFERROR(VLOOKUP(A45,стр.1!$A$13:$D$106,4,FALSE),\"\")","v":"сборная"},null,null,null,null,null,null,null,null,null,null,{"$f":"N46&N47&N48&N49","v":""},{"$f":"O46&O47&O48&O49","v":""},{"$f":"P46&P47&P48&P49","v":""},{"$f":"Q46&Q47&Q48&Q49","v":""},{"$f":"R46&R47&R48&R49","v":""},{"$f":"S46&S47&S48&S49","v":""},{"$f":"T46&T47&T48&T49","v":""},{"$f":"U46&U47&U48&U49","v":""},{"$f":"V46&V47&V48&V49","v":""},{"$f":"W46&W47&W48&W49","v":""},{"$f":"X46&X47&X48&X49","v":""},{"$f":"Y46&Y47&Y48&Y49","v":""},{"$f":"Z46&Z47&Z48&Z49","v":""},{"$f":"AA46&AA47&AA48&AA49","v":""},{"$f":"AB46&AB47&AB48&AB49","v":""},{"$f":"AC46&AC47&AC48&AC49","v":""},{"$f":"AD46&AD47&AD48&AD49","v":""},{"$f":"AE46&AE47&AE48&AE49","v":""},{"$f":"AF46&AF47&AF48&AF49","v":""},{"$f":"AG46&AG47&AG48&AG49","v":""},{"$f":"AH46&AH47&AH48&AH49","v":""},{"$f":"AI46&AI47&AI48&AI49","v":""},{"$f":"AJ46&AJ47&AJ48&AJ49","v":""},{"$f":"AK46&AK47&AK48&AK49","v":""},{"$f":"AL46&AL47&AL48&AL49","v":""},{"$f":"AM46&AM47&AM48&AM49","v":""},{"$f":"AN46&AN47&AN48&AN49","v":""},{"$f":"AO46&AO47&AO48&AO49","v":""},{"$f":"AP46&AP47&AP48&AP49","v":""},{"$f":"AQ46&AQ47&AQ48&AQ49","v":""},{"$f":"AR46&AR47&AR48&AR49","v":""}]
[null,null,null,null,null,null,null,null,null,null,null,null,null,{"$f":"IF(OR(AND(N$1>=$D45,N$1<=IF(AND($D45>$M$1,$E45=\"\"),$M$2,$E45)),AND(N$1>=$D46,N$1<=IF(AND($D46>$M$1,$E46=\"\"),$M$2,$E46)),AND(N$1>=$D47,N$1<=IF(AND($D47>$M$1,$E47=\"\"),$M$2,$E47)),AND(N$1>=$D48,N$1<=IF(AND($D48>$M$1,$E48=\"\"),$M$2,$E48))),$D$3,\"\")","v":""},{"$f":"IF(OR(AND(O$1>=$D45,O$1<=IF(AND($D45>$M$1,$E45=\"\"),$M$2,$E45)),AND(O$1>=$D46,O$1<=IF(AND($D46>$M$1,$E46=\"\"),$M$2,$E46)),AND(O$1>=$D47,O$1<=IF(AND($D47>$M$1,$E47=\"\"),$M$2,$E47)),AND(O$1>=$D48,O$1<=IF(AND($D48>$M$1,$E48=\"\"),$M$2,$E48))),$D$3,\"\")","v":""},"","","","","","","","","","","","","","","","","","","","","","","","","","",{"$f":"IF(AP$1=\"\",\"\",IF(OR(AND(AP$1>=$D45,AP$1<=IF(AND($D45>$M$1,$E45=\"\"),$M$2,$E45)),AND(AP$1>=$D46,AP$1<=IF(AND($D46>$M$1,$E46=\"\"),$M$2,$E46)),AND(AP$1>=$D47,AP$1<=IF(AND($D47>$M$1,$E47=\"\"),$M$2,$E47)),AND(AP$1>=$D48,AP$1<=IF(AND($D48>$M$1,$E48=\"\"),$M$2,$E48))),$D$3,\"\"))","v":""},{"$f":"IF(AQ$1=\"\",\"\",IF(OR(AND(AQ$1>=$D45,AQ$1<=IF(AND($D45>$M$1,$E45=\"\"),$M$2,$E45)),AND(AQ$1>=$D46,AQ$1<=IF(AND($D46>$M$1,$E46=\"\"),$M$2,$E46)),AND(AQ$1>=$D47,AQ$1<=IF(AND($D47>$M$1,$E47=\"\"),$M$2,$E47)),AND(AQ$1>=$D48,AQ$1<=IF(AND($D48>$M$1,$E48=\"\"),$M$2,$E48))),$D$3,\"\"))","v":""},""]
[null,null,null,null,null,null,null,null,null,null,null,null,null,{"$f":"IF(OR(AND(N$1>=$F45,N$1<=IF(AND($F45>$M$1,$G45=\"\"),$M$2,$G45)),AND(N$1>=$F46,N$1<=IF(AND($F46>$M$1,$G46=\"\"),$M$2,$G46)),AND(N$1>=$F47,N$1<=IF(AND($F47>$M$1,$G47=\"\"),$M$2,$G47)),AND(N$1>=$F48,N$1<=IF(AND($F48>$M$1,$G48=\"\"),$M$2,$G48))),$F$3,\"\")","v":""},{"$f":"IF(OR(AND(O$1>=$F45,O$1<=IF(AND($F45>$M$1,$G45=\"\"),$M$2,$G45)),AND(O$1>=$F46,O$1<=IF(AND($F46>$M$1,$G46=\"\"),$M$2,$G46)),AND(O$1>=$F47,O$1<=IF(AND($F47>$M$1,$G47=\"\"),$M$2,$G47)),AND(O$1>=$F48,O$1<=IF(AND($F48>$M$1,$G48=\"\"),$M$2,$G48))),$F$3,\"\")","v":""},"","","","","","","","","","","","","","","","","","","","","","","","","","",{"$f":"IF(AP$1=\"\",\"\",IF(OR(AND(AP$1>=$F45,AP$1<=IF(AND($F45>$M$1,$G45=\"\"),$M$2,$G45)),AND(AP$1>=$F46,AP$1<=IF(AND($F46>$M$1,$G46=\"\"),$M$2,$G46)),AND(AP$1>=$F47,AP$1<=IF(AND($F47>$M$1,$G47=\"\"),$M$2,$G47)),AND(AP$1>=$F48,AP$1<=IF(AND($F48>$M$1,$G48=\"\"),$M$2,$G48))),$F$3,\"\"))","v":""},{"$f":"IF(AQ$1=\"\",\"\",IF(OR(AND(AQ$1>=$F45,AQ$1<=IF(AND($F45>$M$1,$G45=\"\"),$M$2,$G45)),AND(AQ$1>=$F46,AQ$1<=IF(AND($F46>$M$1,$G46=\"\"),$M$2,$G46)),AND(AQ$1>=$F47,AQ$1<=IF(AND($F47>$M$1,$G47=\"\"),$M$2,$G47)),AND(AQ$1>=$F48,AQ$1<=IF(AND($F48>$M$1,$G48=\"\"),$M$2,$G48))),$F$3,\"\"))","v":""},""]
[null,null,null,null,null,null,null,null,null,null,null,null,null,{"$f":"IF(OR(AND(N$1>=$H45,N$1<=IF(AND($H45>$M$1,$I45=\"\"),$M$2,$I45)),AND(N$1>=$H46,N$1<=IF(AND($H46>$M$1,$I46=\"\"),$M$2,$I46)),AND(N$1>=$H47,N$1<=IF(AND($H47>$M$1,$I47=\"\"),$M$2,$I47)),AND(N$1>=$H48,N$1<=IF(AND($H48>$M$1,$I48=\"\"),$M$2,$I48))),$H$3,\"\")","v":""},"","","","","","","","","","","","","","","","","","","","","","","","","","","",{"$f":"IF(AP$1=\"\",\"\",IF(OR(AND(AP$1>=$H45,AP$1<=IF(AND($H45>$M$1,$I45=\"\"),$M$2,$I45)),AND(AP$1>=$H46,AP$1<=IF(AND($H46>$M$1,$I46=\"\"),$M$2,$I46)),AND(AP$1>=$H47,AP$1<=IF(AND($H47>$M$1,$I47=\"\"),$M$2,$I47)),AND(AP$1>=$H48,AP$1<=IF(AND($H48>$M$1,$I48=\"\"),$M$2,$I48))),$H$3,\"\"))","v":""},{"$f":"IF(AQ$1=\"\",\"\",IF(OR(AND(AQ$1>=$H45,AQ$1<=IF(AND($H45>$M$1,$I45=\"\"),$M$2,$I45)),AND(AQ$1>=$H46,AQ$1<=IF(AND($H46>$M$1,$I46=\"\"),$M$2,$I46)),AND(AQ$1>=$H47,AQ$1<=IF(AND($H47>$M$1,$I47=\"\"),$M$2,$I47)),AND(AQ$1>=$H48,AQ$1<=IF(AND($H48>$M$1,$I48=\"\"),$M$2,$I48))),$H$3,\"\"))","v":""},{"$f":"IF(AR$1=\"\",\"\",IF(OR(AND(AR$1>=$H45,AR$1<=IF(AND($H45>$M$1,$I45=\"\"),$M$2,$I45)),AND(AR$1>=$H46,AR$1<=IF(AND($H46>$M$1,$I46=\"\"),$M$2,$I46)),AND(AR$1>=$H47,AR$1<=IF(AND($H47>$M$1,$I47=\"\"),$M$2,$I47)),AND(AR$1>=$H48,AR$1<=IF(AND($H48>$M$1,$I48=\"\"),$M$2,$I48))),$H$3,\"\"))","v":""}]
[null,null,null,null,null,null,null,null,null,null,null,null,null,{"$f":"IF(OR(AND(N$1>=$J45,N$1<=IF(AND($J45>$M$1,$K45=\"\"),$M$2,$K45)),AND(N$1>=$J46,N$1<=IF(AND($J46>$M$1,$K46=\"\"),$M$2,$K46)),AND(N$1>=$J47,N$1<=IF(AND($J47>$M$1,$K47=\"\"),$M$2,$K47)),AND(N$1>=$J48,N$1<=IF(AND($J48>$M$1,$K48=\"\"),$M$2,$K48)),AND(N$1>=$J49,N$1<=IF(AND($J49>$M$1,$K49=\"\"),$M$2,$K49))),$J$3,\"\")","v":""},{"$f":"IF(OR(AND(O$1>=$J45,O$1<=IF(AND($J45>$M$1,$K45=\"\"),$M$2,$K45)),AND(O$1>=$J46,O$1<=IF(AND($J46>$M$1,$K46=\"\"),$M$2,$K46)),AND(O$1>=$J47,O$1<=IF(AND($J47>$M$1,$K47=\"\"),$M$2,$K47)),AND(O$1>=$J48,O$1<=IF(AND($J48>$M$1,$K48=\"\"),$M$2,$K48)),AND(O$1>=$J49,O$1<=IF(AND($J49>$M$1,$K49=\"\"),$M$2,$K49))),$J$3,\"\")","v":""},{"$f":"IF(OR(AND(P$1>=$J45,P$1<=IF(AND($J45>$M$1,$K45=\"\"),$M$2,$K45)),AND(P$1>=$J46,P$1<=IF(AND($J46>$M$1,$K46=\"\"),$M$2,$K46)),AND(P$1>=$J47,P$1<=IF(AND($J47>$M$1,$K47=\"\"),$M$2,$K47)),AND(P$1>=$J48,P$1<=IF(AND($J48>$M$1,$K48=\"\"),$M$2,$K48)),AND(P$1>=$J49,P$1<=IF(AND($J49>$M$1,$K49=\"\"),$M$2,$K49))),$J$3,\"\")","v":""},{"$f":"IF(OR(AND(Q$1>=$J45,Q$1<=IF(AND($J45>$M$1,$K45=\"\"),$M$2,$K45)),AND(Q$1>=$J46,Q$1<=IF(AND($J46>$M$1,$K46=\"\"),$M$2,$K46)),AND(Q$1>=$J47,Q$1<=IF(AND($J47>$M$1,$K47=\"\"),$M$2,$K47)),AND(Q$1>=$J48,Q$1<=IF(AND($J48>$M$1,$K48=\"\"),$M$2,$K48)),AND(Q$1>=$J49,Q$1<=IF(AND($J49>$M$1,$K49=\"\"),$M$2,$K49))),$J$3,\"\")","v":""},{"$f":"IF(OR(AND(R$1>=$J45,R$1<=IF(AND($J45>$M$1,$K45=\"\"),$M$2,$K45)),AND(R$1>=$J46,R$1<=IF(AND($J46>$M$1,$K46=\"\"),$M$2,$K46)),AND(R$1>=$J47,R$1<=IF(AND($J47>$M$1,$K47=\"\"),$M$2,$K47)),AND(R$1>=$J48,R$1<=IF(AND($J48>$M$1,$K48=\"\"),$M$2,$K48)),AND(R$1>=$J49,R$1<=IF(AND($J49>$M$1,$K49=\"\"),$M$2,$K49))),$J$3,\"\")","v":""},{"$f":"IF(OR(AND(S$1>=$J45,S$1<=IF(AND($J45>$M$1,$K45=\"\"),$M$2,$K45)),AND(S$1>=$J46,S$1<=IF(AND($J46>$M$1,$K46=\"\"),$M$2,$K46)),AND(S$1>=$J47,S$1<=IF(AND($J47>$M$1,$K47=\"\"),$M$2,$K47)),AND(S$1>=$J48,S$1<=IF(AND($J48>$M$1,$K48=\"\"),$M$2,$K48)),AND(S$1>=$J49,S$1<=IF(AND($J49>$M$1,$K49=\"\"),$M$2,$K49))),$J$3,\"\")","v":""},{"$f":"IF(OR(AND(T$1>=$J45,T$1<=IF(AND($J45>$M$1,$K45=\"\"),$M$2,$K45)),AND(T$1>=$J46,T$1<=IF(AND($J46>$M$1,$K46=\"\"),$M$2,$K46)),AND(T$1>=$J47,T$1<=IF(AND($J47>$M$1,$K47=\"\"),$M$2,$K47)),AND(T$1>=$J48,T$1<=IF(AND($J48>$M$1,$K48=\"\"),$M$2,$K48)),AND(T$1>=$J49,T$1<=IF(AND($J49>$M$1,$K49=\"\"),$M$2,$K49))),$J$3,\"\")","v":""},{"$f":"IF(OR(AND(U$1>=$J45,U$1<=IF(AND($J45>$M$1,$K45=\"\"),$M$2,$K45)),AND(U$1>=$J46,U$1<=IF(AND($J46>$M$1,$K46=\"\"),$M$2,$K46)),AND(U$1>=$J47,U$1<=IF(AND($J47>$M$1,$K47=\"\"),$M$2,$K47)),AND(U$1>=$J48,U$1<=IF(AND($J48>$M$1,$K48=\"\"),$M$2,$K48)),AND(U$1>=$J49,U$1<=IF(AND($J49>$M$1,$K49=\"\"),$M$2,$K49))),$J$3,\"\")","v":""},{"$f":"IF(OR(AND(V$1>=$J45,V$1<=IF(AND($J45>$M$1,$K45=\"\"),$M$2,$K45)),AND(V$1>=$J46,V$1<=IF(AND($J46>$M$1,$K46=\"\"),$M$2,$K46)),AND(V$1>=$J47,V$1<=IF(AND($J47>$M$1,$K47=\"\"),$M$2,$K47)),AND(V$1>=$J48,V$1<=IF(AND($J48>$M$1,$K48=\"\"),$M$2,$K48)),AND(V$1>=$J49,V$1<=IF(AND($J49>$M$1,$K49=\"\"),$M$2,$K49))),$J$3,\"\")","v":""},{"$f":"IF(OR(AND(W$1>=$J45,W$1<=IF(AND($J45>$M$1,$K45=\"\"),$M$2,$K45)),AND(W$1>=$J46,W$1<=IF(AND($J46>$M$1,$K46=\"\"),$M$2,$K46)),AND(W$1>=$J47,W$1<=IF(AND($J47>$M$1,$K47=\"\"),$M$2,$K47)),AND(W$1>=$J48,W$1<=IF(AND($J48>$M$1,$K48=\"\"),$M$2,$K48)),AND(W$1>=$J49,W$1<=IF(AND($J49>$M$1,$K49=\"\"),$M$2,$K49))),$J$3,\"\")","v":""},{"$f":"IF(OR(AND(X$1>=$J45,X$1<=IF(AND($J45>$M$1,$K45=\"\"),$M$2,$K45)),AND(X$1>=$J46,X$1<=IF(AND($J46>$M$1,$K46=\"\"),$M$2,$K46)),AND(X$1>=$J47,X$1<=IF(AND($J47>$M$1,$K47=\"\"),$M$2,$K47)),AND(X$1>=$J48,X$1<=IF(AND($J48>$M$1,$K48=\"\"),$M$2,$K48)),AND(X$1>=$J49,X$1<=IF(AND($J49>$M$1,$K49=\"\"),$M$2,$K49))),$J$3,\"\")","v":""},{"$f":"IF(OR(AND(Y$1>=$J45,Y$1<=IF(AND($J45>$M$1,$K45=\"\"),$M$2,$K45)),AND(Y$1>=$J46,Y$1<=IF(AND($J46>$M$1,$K46=\"\"),$M$2,$K46)),AND(Y$1>=$J47,Y$1<=IF(AND($J47>$M$1,$K47=\"\"),$M$2,$K47)),AND(Y$1>=$J48,Y$1<=IF(AND($J48>$M$1,$K48=\"\"),$M$2,$K48)),AND(Y$1>=$J49,Y$1<=IF(AND($J49>$M$1,$K49=\"\"),$M$2,$K49))),$J$3,\"\")","v":""},{"$f":"IF(OR(AND(Z$1>=$J45,Z$1<=IF(AND($J45>$M$1,$K45=\"\"),$M$2,$K45)),AND(Z$1>=$J46,Z$1<=IF(AND($J46>$M$1,$K46=\"\"),$M$2,$K46)),AND(Z$1>=$J47,Z$1<=IF(AND($J47>$M$1,$K47=\"\"),$M$2,$K47)),AND(Z$1>=$J48,Z$1<=IF(AND($J48>$M$1,$K48=\"\"),$M$2,$K48)),AND(Z$1>=$J49,Z$1<=IF(AND($J49>$M$1,$K49=\"\"),$M$2,$K49))),$J$3,\"\")","v":""},{"$f":"IF(OR(AND(AA$1>=$J45,AA$1<=IF(AND($J45>$M$1,$K45=\"\"),$M$2,$K45)),AND(AA$1>=$J46,AA$1<=IF(AND($J46>$M$1,$K46=\"\"),$M$2,$K46)),AND(AA$1>=$J47,AA$1<=IF(AND($J47>$M$1,$K47=\"\"),$M$2,$K47)),AND(AA$1>=$J48,AA$1<=IF(AND($J48>$M$1,$K48=\"\"),$M$2,$K48)),AND(AA$1>=$J49,AA$1<=IF(AND($J49>$M$1,$K49=\"\"),$M$2,$K49))),$J$3,\"\")","v":""},{"$f":"IF(OR(AND(AB$1>=$J45,AB$1<=IF(AND($J45>$M$1,$K45=\"\"),$M$2,$K45)),AND(AB$1>=$J46,AB$1<=IF(AND($J46>$M$1,$K46=\"\"),$M$2,$K46)),AND(AB$1>=$J47,AB$1<=IF(AND($J47>$M$1,$K47=\"\"),$M$2,$K47)),AND(AB$1>=$J48,AB$1<=IF(AND($J48>$M$1,$K48=\"\"),$M$2,$K48)),AND(AB$1>=$J49,AB$1<=IF(AND($J49>$M$1,$K49=\"\"),$M$2,$K49))),$J$3,\"\")","v":""},{"$f":"IF(OR(AND(AC$1>=$J45,AC$1<=IF(AND($J45>$M$1,$K45=\"\"),$M$2,$K45)),AND(AC$1>=$J46,AC$1<=IF(AND($J46>$M$1,$K46=\"\"),$M$2,$K46)),AND(AC$1>=$J47,AC$1<=IF(AND($J47>$M$1,$K47=\"\"),$M$2,$K47)),AND(AC$1>=$J48,AC$1<=IF(AND($J48>$M$1,$K48=\"\"),$M$2,$K48)),AND(AC$1>=$J49,AC$1<=IF(AND($J49>$M$1,$K49=\"\"),$M$2,$K49))),$J$3,\"\")","v":""},{"$f":"IF(OR(AND(AD$1>=$J45,AD$1<=IF(AND($J45>$M$1,$K45=\"\"),$M$2,$K45)),AND(AD$1>=$J46,AD$1<=IF(AND($J46>$M$1,$K46=\"\"),$M$2,$K46)),AND(AD$1>=$J47,AD$1<=IF(AND($J47>$M$1,$K47=\"\"),$M$2,$K47)),AND(AD$1>=$J48,AD$1<=IF(AND($J48>$M$1,$K48=\"\"),$M$2,$K48)),AND(AD$1>=$J49,AD$1<=IF(AND($J49>$M$1,$K49=\"\"),$M$2,$K49))),$J$3,\"\")","v":""},{"$f":"IF(OR(AND(AE$1>=$J45,AE$1<=IF(AND($J45>$M$1,$K45=\"\"),$M$2,$K45)),AND(AE$1>=$J46,AE$1<=IF(AND($J46>$M$1,$K46=\"\"),$M$2,$K46)),AND(AE$1>=$J47,AE$1<=IF(AND($J47>$M$1,$K47=\"\"),$M$2,$K47)),AND(AE$1>=$J48,AE$1<=IF(AND($J48>$M$1,$K48=\"\"),$M$2,$K48)),AND(AE$1>=$J49,AE$1<=IF(AND($J49>$M$1,$K49=\"\"),$M$2,$K49))),$J$3,\"\")","v":""},{"$f":"IF(OR(AND(AF$1>=$J45,AF$1<=IF(AND($J45>$M$1,$K45=\"\"),$M$2,$K45)),AND(AF$1>=$J46,AF$1<=IF(AND($J46>$M$1,$K46=\"\"),$M$2,$K46)),AND(AF$1>=$J47,AF$1<=IF(AND($J47>$M$1,$K47=\"\"),$M$2,$K47)),AND(AF$1>=$J48,AF$1<=IF(AND($J48>$M$1,$K48=\"\"),$M$2,$K48)),AND(AF$1>=$J49,AF$1<=IF(AND($J49>$M$1,$K49=\"\"),$M$2,$K49))),$J$3,\"\")","v":""},{"$f":"IF(OR(AND(AG$1>=$J45,AG$1<=IF(AND($J45>$M$1,$K45=\"\"),$M$2,$K45)),AND(AG$1>=$J46,AG$1<=IF(AND($J46>$M$1,$K46=\"\"),$M$2,$K46)),AND(AG$1>=$J47,AG$1<=IF(AND($J47>$M$1,$K47=\"\"),$M$2,$K47)),AND(AG$1>=$J48,AG$1<=IF(AND($J48>$M$1,$K48=\"\"),$M$2,$K48)),AND(AG$1>=$J49,AG$1<=IF(AND($J49>$M$1,$K49=\"\"),$M$2,$K49))),$J$3,\"\")","v":""},{"$f":"IF(OR(AND(AH$1>=$J45,AH$1<=IF(AND($J45>$M$1,$K45=\"\"),$M$2,$K45)),AND(AH$1>=$J46,AH$1<=IF(AND($J46>$M$1,$K46=\"\"),$M$2,$K46)),AND(AH$1>=$J47,AH$1<=IF(AND($J47>$M$1,$K47=\"\"),$M$2,$K47)),AND(AH$1>=$J48,AH$1<=IF(AND($J48>$M$1,$K48=\"\"),$M$2,$K48)),AND(AH$1>=$J49,AH$1<=IF(AND($J49>$M$1,$K49=\"\"),$M$2,$K49))),$J$3,\"\")","v":""},{"$f":"IF(OR(AND(AI$1>=$J45,AI$1<=IF(AND($J45>$M$1,$K45=\"\"),$M$2,$K45)),AND(AI$1>=$J46,AI$1<=IF(AND($J46>$M$1,$K46=\"\"),$M$2,$K46)),AND(AI$1>=$J47,AI$1<=IF(AND($J47>$M$1,$K47=\"\"),$M$2,$K47)),AND(AI$1>=$J48,AI$1<=IF(AND($J48>$M$1,$K48=\"\"),$M$2,$K48)),AND(AI$1>=$J49,AI$1<=IF(AND($J49>$M$1,$K49=\"\"),$M$2,$K49))),$J$3,\"\")","v":""},{"$f":"IF(OR(AND(AJ$1>=$J45,AJ$1<=IF(AND($J45>$M$1,$K45=\"\"),$M$2,$K45)),AND(AJ$1>=$J46,AJ$1<=IF(AND($J46>$M$1,$K46=\"\"),$M$2,$K46)),AND(AJ$1>=$J47,AJ$1<=IF(AND($J47>$M$1,$K47=\"\"),$M$2,$K47)),AND(AJ$1>=$J48,AJ$1<=IF(AND($J48>$M$1,$K48=\"\"),$M$2,$K48)),AND(AJ$1>=$J49,AJ$1<=IF(AND($J49>$M$1,$K49=\"\"),$M$2,$K49))),$J$3,\"\")","v":""},{"$f":"IF(OR(AND(AK$1>=$J45,AK$1<=IF(AND($J45>$M$1,$K45=\"\"),$M$2,$K45)),AND(AK$1>=$J46,AK$1<=IF(AND($J46>$M$1,$K46=\"\"),$M$2,$K46)),AND(AK$1>=$J47,AK$1<=IF(AND($J47>$M$1,$K47=\"\"),$M$2,$K47)),AND(AK$1>=$J48,AK$1<=IF(AND($J48>$M$1,$K48=\"\"),$M$2,$K48)),AND(AK$1>=$J49,AK$1<=IF(AND($J49>$M$1,$K49=\"\"),$M$2,$K49))),$J$3,\"\")","v":""},{"$f":"IF(OR(AND(AL$1>=$J45,AL$1<=IF(AND($J45>$M$1,$K45=\"\"),$M$2,$K45)),AND(AL$1>=$J46,AL$1<=IF(AND($J46>$M$1,$K46=\"\"),$M$2,$K46)),AND(AL$1>=$J47,AL$1<=IF(AND($J47>$M$1,$K47=\"\"),$M$2,$K47)),AND(AL$1>=$J48,AL$1<=IF(AND($J48>$M$1,$K48=\"\"),$M$2,$K48)),AND(AL$1>=$J49,AL$1<=IF(AND($J49>$M$1,$K49=\"\"),$M$2,$K49))),$J$3,\"\")","v":""},{"$f":"IF(OR(AND(AM$1>=$J45,AM$1<=IF(AND($J45>$M$1,$K45=\"\"),$M$2,$K45)),AND(AM$1>=$J46,AM$1<=IF(AND($J46>$M$1,$K46=\"\"),$M$2,$K46)),AND(AM$1>=$J47,AM$1<=IF(AND($J47>$M$1,$K47=\"\"),$M$2,$K47)),AND(AM$1>=$J48,AM$1<=IF(AND($J48>$M$1,$K48=\"\"),$M$2,$K48)),AND(AM$1>=$J49,AM$1<=IF(AND($J49>$M$1,$K49=\"\"),$M$2,$K49))),$J$3,\"\")","v":""},{"$f":"IF(OR(AND(AN$1>=$J45,AN$1<=IF(AND($J45>$M$1,$K45=\"\"),$M$2,$K45)),AND(AN$1>=$J46,AN$1<=IF(AND($J46>$M$1,$K46=\"\"),$M$2,$K46)),AND(AN$1>=$J47,AN$1<=IF(AND($J47>$M$1,$K47=\"\"),$M$2,$K47)),AND(AN$1>=$J48,AN$1<=IF(AND($J48>$M$1,$K48=\"\"),$M$2,$K48)),AND(AN$1>=$J49,AN$1<=IF(AND($J49>$M$1,$K49=\"\"),$M$2,$K49))),$J$3,\"\")","v":""},{"$f":"IF(OR(AND(AO$1>=$J45,AO$1<=IF(AND($J45>$M$1,$K45=\"\"),$M$2,$K45)),AND(AO$1>=$J46,AO$1<=IF(AND($J46>$M$1,$K46=\"\"),$M$2,$K46)),AND(AO$1>=$J47,AO$1<=IF(AND($J47>$M$1,$K47=\"\"),$M$2,$K47)),AND(AO$1>=$J48,AO$1<=IF(AND($J48>$M$1,$K48=\"\"),$M$2,$K48)),AND(AO$1>=$J49,AO$1<=IF(AND($J49>$M$1,$K49=\"\"),$M$2,$K49))),$J$3,\"\")","v":""},{"$f":"IF(AP$1=\"\",\"\",IF(OR(AND(AP$1>=$J45,AP$1<=IF(AND($J45>$M$1,$K45=\"\"),$M$2,$K45)),AND(AP$1>=$J46,AP$1<=IF(AND($J46>$M$1,$K46=\"\"),$M$2,$K46)),AND(AP$1>=$J47,AP$1<=IF(AND($J47>$M$1,$K47=\"\"),$M$2,$K47)),AND(AP$1>=$J48,AP$1<=IF(AND($J48>$M$1,$K48=\"\"),$M$2,$K48)),AND(AP$1>=$J49,AP$1<=IF(AND($J49>$M$1,$K49=\"\"),$M$2,$K49))),$J$3,\"\"))","v":""},{"$f":"IF(AQ$1=\"\",\"\",IF(OR(AND(AQ$1>=$J45,AQ$1<=IF(AND($J45>$M$1,$K45=\"\"),$M$2,$K45)),AND(AQ$1>=$J46,AQ$1<=IF(AND($J46>$M$1,$K46=\"\"),$M$2,$K46)),AND(AQ$1>=$J47,AQ$1<=IF(AND($J47>$M$1,$K47=\"\"),$M$2,$K47)),AND(AQ$1>=$J48,AQ$1<=IF(AND($J48>$M$1,$K48=\"\"),$M$2,$K48)),AND(AQ$1>=$J49,AQ$1<=IF(AND($J49>$M$1,$K49=\"\"),$M$2,$K49))),$J$3,\"\"))","v":""},{"$f":"IF(AR$1=\"\",\"\",IF(OR(AND(AR$1>=$J45,AR$1<=IF(AND($J45>$M$1,$K45=\"\"),$M$2,$K45)),AND(AR$1>=$J46,AR$1<=IF(AND($J46>$M$1,$K46=\"\"),$M$2,$K46)),AND(AR$1>=$J47,AR$1<=IF(AND($J47>$M$1,$K47=\"\"),$M$2,$K47)),AND(AR$1>=$J48,AR$1<=IF(AND($J48>$M$1,$K48=\"\"),$M$2,$K48)),AND(AR$1>=$J49,AR$1<=IF(AND($J49>$M$1,$K49=\"\"),$M$2,$K49))),$J$3,\"\"))","v":""}]
[{"$f":"стр.1!C31","v":4814},{"$f":"IFERROR(VLOOKUP(A50,стр.1!$A$13:$D$106,2,FALSE),\"\")","v":"Касатонов"},{"$f":"IFERROR(VLOOKUP(A50,стр.1!$A$13:$D$106,4,FALSE),\"\")","v":"сборная"},null,null,null,null,null,null,null,null,null,null,{"$f":"N51&N52&N53&N54","v":""},{"$f":"O51&O52&O53&O54","v":""},{"$f":"P51&P52&P53&P54","v":""},{"$f":"Q51&Q52&Q53&Q54","v":""},{"$f":"R51&R52&R53&R54","v":""},{"$f":"S51&S52&S53&S54","v":""},{"$f":"T51&T52&T53&T54","v":""},{"$f":"U51&U52&U53&U54","v":""},{"$f":"V51&V52&V53&V54","v":""},{"$f":"W51&W52&W53&W54","v":""},{"$f":"X51&X52&X53&X54","v":""},{"$f":"Y51&Y52&Y53&Y54","v":""},{"$f":"Z51&Z52&Z53&Z54","v":""},{"$f":"AA51&AA52&AA53&AA54","v":""},{"$f":"AB51&AB52&AB53&AB54","v":""},{"$f":"AC51&AC52&AC53&AC54","v":""},{"$f":"AD51&AD52&AD53&AD54","v":""},{"$f":"AE51&AE52&AE53&AE54","v":""},{"$f":"AF51&AF52&AF53&AF54","v":""},{"$f":"AG51&AG52&AG53&AG54","v":""},{"$f":"AH51&AH52&AH53&AH54","v":""},{"$f":"AI51&AI52&AI53&AI54","v":""},{"$f":"AJ51&AJ52&AJ53&AJ54","v":""},{"$f":"AK51&AK52&AK53&AK54","v":""},{"$f":"AL51&AL52&AL53&AL54","v":""},{"$f":"AM51&AM52&AM53&AM54","v":""},{"$f":"AN51&AN52&AN53&AN54","v":""},{"$f":"AO51&AO52&AO53&AO54","v":""},{"$f":"AP51&AP52&AP53&AP54","v":""},{"$f":"AQ51&AQ52&AQ53&AQ54","v":""},{"$f":"AR51&AR52&AR53&AR54","v":""}]
[null,null,null,null,null,null,null,null,null,null,null,null,null,{"$f":"IF(OR(AND(N$1>=$D50,N$1<=IF(AND($D50>$M$1,$E50=\"\"),$M$2,$E50)),AND(N$1>=$D51,N$1<=IF(AND($D51>$M$1,$E51=\"\"),$M$2,$E51)),AND(N$1>=$D52,N$1<=IF(AND($D52>$M$1,$E52=\"\"),$M$2,$E52)),AND(N$1>=$D53,N$1<=IF(AND($D53>$M$1,$E53=\"\"),$M$2,$E53))),$D$3,\"\")","v":""},{"$f":"IF(OR(AND(O$1>=$D50,O$1<=IF(AND($D50>$M$1,$E50=\"\"),$M$2,$E50)),AND(O$1>=$D51,O$1<=IF(AND($D51>$M$1,$E51=\"\"),$M$2,$E51)),AND(O$1>=$D52,O$1<=IF(AND($D52>$M$1,$E52=\"\"),$M$2,$E52)),AND(O$1>=$D53,O$1<=IF(AND($D53>$M$1,$E53=\"\"),$M$2,$E53))),$D$3,\"\")","v":""},"","","","","","","","","","","","","","","","","","","","","","","","","","",{"$f":"IF(AP$1=\"\",\"\",IF(OR(AND(AP$1>=$D50,AP$1<=IF(AND($D50>$M$1,$E50=\"\"),$M$2,$E50)),AND(AP$1>=$D51,AP$1<=IF(AND($D51>$M$1,$E51=\"\"),$M$2,$E51)),AND(AP$1>=$D52,AP$1<=IF(AND($D52>$M$1,$E52=\"\"),$M$2,$E52)),AND(AP$1>=$D53,AP$1<=IF(AND($D53>$M$1,$E53=\"\"),$M$2,$E53))),$D$3,\"\"))","v":""},{"$f":"IF(AQ$1=\"\",\"\",IF(OR(AND(AQ$1>=$D50,AQ$1<=IF(AND($D50>$M$1,$E50=\"\"),$M$2,$E50)),AND(AQ$1>=$D51,AQ$1<=IF(AND($D51>$M$1,$E51=\"\"),$M$2,$E51)),AND(AQ$1>=$D52,AQ$1<=IF(AND($D52>$M$1,$E52=\"\"),$M$2,$E52)),AND(AQ$1>=$D53,AQ$1<=IF(AND($D53>$M$1,$E53=\"\"),$M$2,$E53))),$D$3,\"\"))","v":""},""]
[null,null,null,null,null,null,null,null,null,null,null,null,null,{"$f":"IF(OR(AND(N$1>=$F50,N$1<=IF(AND($F50>$M$1,$G50=\"\"),$M$2,$G50)),AND(N$1>=$F51,N$1<=IF(AND($F51>$M$1,$G51=\"\"),$M$2,$G51)),AND(N$1>=$F52,N$1<=IF(AND($F52>$M$1,$G52=\"\"),$M$2,$G52)),AND(N$1>=$F53,N$1<=IF(AND($F53>$M$1,$G53=\"\"),$M$2,$G53))),$F$3,\"\")","v":""},{"$f":"IF(OR(AND(O$1>=$F50,O$1<=IF(AND($F50>$M$1,$G50=\"\"),$M$2,$G50)),AND(O$1>=$F51,O$1<=IF(AND($F51>$M$1,$G51=\"\"),$M$2,$G51)),AND(O$1>=$F52,O$1<=IF(AND($F52>$M$1,$G52=\"\"),$M$2,$G52)),AND(O$1>=$F53,O$1<=IF(AND($F53>$M$1,$G53=\"\"),$M$2,$G53))),$F$3,\"\")","v":""},"","","","","","","","","","","","","","","","","","","","","","","","","","",{"$f":"IF(AP$1=\"\",\"\",IF(OR(AND(AP$1>=$F50,AP$1<=IF(AND($F50>$M$1,$G50=\"\"),$M$2,$G50)),AND(AP$1>=$F51,AP$1<=IF(AND($F51>$M$1,$G51=\"\"),$M$2,$G51)),AND(AP$1>=$F52,AP$1<=IF(AND($F52>$M$1,$G52=\"\"),$M$2,$G52)),AND(AP$1>=$F53,AP$1<=IF(AND($F53>$M$1,$G53=\"\"),$M$2,$G53))),$F$3,\"\"))","v":""},{"$f":"IF(AQ$1=\"\",\"\",IF(OR(AND(AQ$1>=$F50,AQ$1<=IF(AND($F50>$M$1,$G50=\"\"),$M$2,$G50)),AND(AQ$1>=$F51,AQ$1<=IF(AND($F51>$M$1,$G51=\"\"),$M$2,$G51)),AND(AQ$1>=$F52,AQ$1<=IF(AND($F52>$M$1,$G52=\"\"),$M$2,$G52)),AND(AQ$1>=$F53,AQ$1<=IF(AND($F53>$M$1,$G53=\"\"),$M$2,$G53))),$F$3,\"\"))","v":""},""]
[null,null,null,null,null,null,null,null,null,null,null,null,null,{"$f":"IF(OR(AND(N$1>=$H50,N$1<=IF(AND($H50>$M$1,$I50=\"\"),$M$2,$I50)),AND(N$1>=$H51,N$1<=IF(AND($H51>$M$1,$I51=\"\"),$M$2,$I51)),AND(N$1>=$H52,N$1<=IF(AND($H52>$M$1,$I52=\"\"),$M$2,$I52)),AND(N$1>=$H53,N$1<=IF(AND($H53>$M$1,$I53=\"\"),$M$2,$I53))),$H$3,\"\")","v":""},"","","","","","","","","","","","","","","","","","","","","","","","","","","",{"$f":"IF(AP$1=\"\",\"\",IF(OR(AND(AP$1>=$H50,AP$1<=IF(AND($H50>$M$1,$I50=\"\"),$M$2,$I50)),AND(AP$1>=$H51,AP$1<=IF(AND($H51>$M$1,$I51=\"\"),$M$2,$I51)),AND(AP$1>=$H52,AP$1<=IF(AND($H52>$M$1,$I52=\"\"),$M$2,$I52)),AND(AP$1>=$H53,AP$1<=IF(AND($H53>$M$1,$I53=\"\"),$M$2,$I53))),$H$3,\"\"))","v":""},{"$f":"IF(AQ$1=\"\",\"\",IF(OR(AND(AQ$1>=$H50,AQ$1<=IF(AND($H50>$M$1,$I50=\"\"),$M$2,$I50)),AND(AQ$1>=$H51,AQ$1<=IF(AND($H51>$M$1,$I51=\"\"),$M$2,$I51)),AND(AQ$1>=$H52,AQ$1<=IF(AND($H52>$M$1,$I52=\"\"),$M$2,$I52)),AND(AQ$1>=$H53,AQ$1<=IF(AND($H53>$M$1,$I53=\"\"),$M$2,$I53))),$H$3,\"\"))","v":""},{"$f":"IF(AR$1=\"\",\"\",IF(OR(AND(AR$1>=$H50,AR$1<=IF(AND($H50>$M$1,$I50=\"\"),$M$2,$I50)),AND(AR$1>=$H51,AR$1<=IF(AND($H51>$M$1,$I51=\"\"),$M$2,$I51)),AND(AR$1>=$H52,AR$1<=IF(AND($H52>$M$1,$I52=\"\"),$M$2,$I52)),AND(AR$1>=$H53,AR$1<=IF(AND($H53>$M$1,$I53=\"\"),$M$2,$I53))),$H$3,\"\"))","v":""}]
[null,null,null,null,null,null,null,null,null,null,null,null,null,{"$f":"IF(OR(AND(N$1>=$J50,N$1<=IF(AND($J50>$M$1,$K50=\"\"),$M$2,$K50)),AND(N$1>=$J51,N$1<=IF(AND($J51>$M$1,$K51=\"\"),$M$2,$K51)),AND(N$1>=$J52,N$1<=IF(AND($J52>$M$1,$K52=\"\"),$M$2,$K52)),AND(N$1>=$J53,N$1<=IF(AND($J53>$M$1,$K53=\"\"),$M$2,$K53)),AND(N$1>=$J54,N$1<=IF(AND($J54>$M$1,$K54=\"\"),$M$2,$K54))),$J$3,\"\")","v":""},{"$f":"IF(OR(AND(O$1>=$J50,O$1<=IF(AND($J50>$M$1,$K50=\"\"),$M$2,$K50)),AND(O$1>=$J51,O$1<=IF(AND($J51>$M$1,$K51=\"\"),$M$2,$K51)),AND(O$1>=$J52,O$1<=IF(AND($J52>$M$1,$K52=\"\"),$M$2,$K52)),AND(O$1>=$J53,O$1<=IF(AND($J53>$M$1,$K53=\"\"),$M$2,$K53)),AND(O$1>=$J54,O$1<=IF(AND($J54>$M$1,$K54=\"\"),$M$2,$K54))),$J$3,\"\")","v":""},{"$f":"IF(OR(AND(P$1>=$J50,P$1<=IF(AND($J50>$M$1,$K50=\"\"),$M$2,$K50)),AND(P$1>=$J51,P$1<=IF(AND($J51>$M$1,$K51=\"\"),$M$2,$K51)),AND(P$1>=$J52,P$1<=IF(AND($J52>$M$1,$K52=\"\"),$M$2,$K52)),AND(P$1>=$J53,P$1<=IF(AND($J53>$M$1,$K53=\"\"),$M$2,$K53)),AND(P$1>=$J54,P$1<=IF(AND($J54>$M$1,$K54=\"\"),$M$2,$K54))),$J$3,\"\")","v":""},{"$f":"IF(OR(AND(Q$1>=$J50,Q$1<=IF(AND($J50>$M$1,$K50=\"\"),$M$2,$K50)),AND(Q$1>=$J51,Q$1<=IF(AND($J51>$M$1,$K51=\"\"),$M$2,$K51)),AND(Q$1>=$J52,Q$1<=IF(AND($J52>$M$1,$K52=\"\"),$M$2,$K52)),AND(Q$1>=$J53,Q$1<=IF(AND($J53>$M$1,$K53=\"\"),$M$2,$K53)),AND(Q$1>=$J54,Q$1<=IF(AND($J54>$M$1,$K54=\"\"),$M$2,$K54))),$J$3,\"\")","v":""},{"$f":"IF(OR(AND(R$1>=$J50,R$1<=IF(AND($J50>$M$1,$K50=\"\"),$M$2,$K50)),AND(R$1>=$J51,R$1<=IF(AND($J51>$M$1,$K51=\"\"),$M$2,$K51)),AND(R$1>=$J52,R$1<=IF(AND($J52>$M$1,$K52=\"\"),$M$2,$K52)),AND(R$1>=$J53,R$1<=IF(AND($J53>$M$1,$K53=\"\"),$M$2,$K53)),AND(R$1>=$J54,R$1<=IF(AND($J54>$M$1,$K54=\"\"),$M$2,$K54))),$J$3,\"\")","v":""},{"$f":"IF(OR(AND(S$1>=$J50,S$1<=IF(AND($J50>$M$1,$K50=\"\"),$M$2,$K50)),AND(S$1>=$J51,S$1<=IF(AND($J51>$M$1,$K51=\"\"),$M$2,$K51)),AND(S$1>=$J52,S$1<=IF(AND($J52>$M$1,$K52=\"\"),$M$2,$K52)),AND(S$1>=$J53,S$1<=IF(AND($J53>$M$1,$K53=\"\"),$M$2,$K53)),AND(S$1>=$J54,S$1<=IF(AND($J54>$M$1,$K54=\"\"),$M$2,$K54))),$J$3,\"\")","v":""},{"$f":"IF(OR(AND(T$1>=$J50,T$1<=IF(AND($J50>$M$1,$K50=\"\"),$M$2,$K50)),AND(T$1>=$J51,T$1<=IF(AND($J51>$M$1,$K51=\"\"),$M$2,$K51)),AND(T$1>=$J52,T$1<=IF(AND($J52>$M$1,$K52=\"\"),$M$2,$K52)),AND(T$1>=$J53,T$1<=IF(AND($J53>$M$1,$K53=\"\"),$M$2,$K53)),AND(T$1>=$J54,T$1<=IF(AND($J54>$M$1,$K54=\"\"),$M$2,$K54))),$J$3,\"\")","v":""},{"$f":"IF(OR(AND(U$1>=$J50,U$1<=IF(AND($J50>$M$1,$K50=\"\"),$M$2,$K50)),AND(U$1>=$J51,U$1<=IF(AND($J51>$M$1,$K51=\"\"),$M$2,$K51)),AND(U$1>=$J52,U$1<=IF(AND($J52>$M$1,$K52=\"\"),$M$2,$K52)),AND(U$1>=$J53,U$1<=IF(AND($J53>$M$1,$K53=\"\"),$M$2,$K53)),AND(U$1>=$J54,U$1<=IF(AND($J54>$M$1,$K54=\"\"),$M$2,$K54))),$J$3,\"\")","v":""},{"$f":"IF(OR(AND(V$1>=$J50,V$1<=IF(AND($J50>$M$1,$K50=\"\"),$M$2,$K50)),AND(V$1>=$J51,V$1<=IF(AND($J51>$M$1,$K51=\"\"),$M$2,$K51)),AND(V$1>=$J52,V$1<=IF(AND($J52>$M$1,$K52=\"\"),$M$2,$K52)),AND(V$1>=$J53,V$1<=IF(AND($J53>$M$1,$K53=\"\"),$M$2,$K53)),AND(V$1>=$J54,V$1<=IF(AND($J54>$M$1,$K54=\"\"),$M$2,$K54))),$J$3,\"\")","v":""},{"$f":"IF(OR(AND(W$1>=$J50,W$1<=IF(AND($J50>$M$1,$K50=\"\"),$M$2,$K50)),AND(W$1>=$J51,W$1<=IF(AND($J51>$M$1,$K51=\"\"),$M$2,$K51)),AND(W$1>=$J52,W$1<=IF(AND($J52>$M$1,$K52=\"\"),$M$2,$K52)),AND(W$1>=$J53,W$1<=IF(AND($J53>$M$1,$K53=\"\"),$M$2,$K53)),AND(W$1>=$J54,W$1<=IF(AND($J54>$M$1,$K54=\"\"),$M$2,$K54))),$J$3,\"\")","v":""},{"$f":"IF(OR(AND(X$1>=$J50,X$1<=IF(AND($J50>$M$1,$K50=\"\"),$M$2,$K50)),AND(X$1>=$J51,X$1<=IF(AND($J51>$M$1,$K51=\"\"),$M$2,$K51)),AND(X$1>=$J52,X$1<=IF(AND($J52>$M$1,$K52=\"\"),$M$2,$K52)),AND(X$1>=$J53,X$1<=IF(AND($J53>$M$1,$K53=\"\"),$M$2,$K53)),AND(X$1>=$J54,X$1<=IF(AND($J54>$M$1,$K54=\"\"),$M$2,$K54))),$J$3,\"\")","v":""},{"$f":"IF(OR(AND(Y$1>=$J50,Y$1<=IF(AND($J50>$M$1,$K50=\"\"),$M$2,$K50)),AND(Y$1>=$J51,Y$1<=IF(AND($J51>$M$1,$K51=\"\"),$M$2,$K51)),AND(Y$1>=$J52,Y$1<=IF(AND($J52>$M$1,$K52=\"\"),$M$2,$K52)),AND(Y$1>=$J53,Y$1<=IF(AND($J53>$M$1,$K53=\"\"),$M$2,$K53)),AND(Y$1>=$J54,Y$1<=IF(AND($J54>$M$1,$K54=\"\"),$M$2,$K54))),$J$3,\"\")","v":""},{"$f":"IF(OR(AND(Z$1>=$J50,Z$1<=IF(AND($J50>$M$1,$K50=\"\"),$M$2,$K50)),AND(Z$1>=$J51,Z$1<=IF(AND($J51>$M$1,$K51=\"\"),$M$2,$K51)),AND(Z$1>=$J52,Z$1<=IF(AND($J52>$M$1,$K52=\"\"),$M$2,$K52)),AND(Z$1>=$J53,Z$1<=IF(AND($J53>$M$1,$K53=\"\"),$M$2,$K53)),AND(Z$1>=$J54,Z$1<=IF(AND($J54>$M$1,$K54=\"\"),$M$2,$K54))),$J$3,\"\")","v":""},{"$f":"IF(OR(AND(AA$1>=$J50,AA$1<=IF(AND($J50>$M$1,$K50=\"\"),$M$2,$K50)),AND(AA$1>=$J51,AA$1<=IF(AND($J51>$M$1,$K51=\"\"),$M$2,$K51)),AND(AA$1>=$J52,AA$1<=IF(AND($J52>$M$1,$K52=\"\"),$M$2,$K52)),AND(AA$1>=$J53,AA$1<=IF(AND($J53>$M$1,$K53=\"\"),$M$2,$K53)),AND(AA$1>=$J54,AA$1<=IF(AND($J54>$M$1,$K54=\"\"),$M$2,$K54))),$J$3,\"\")","v":""},{"$f":"IF(OR(AND(AB$1>=$J50,AB$1<=IF(AND($J50>$M$1,$K50=\"\"),$M$2,$K50)),AND(AB$1>=$J51,AB$1<=IF(AND($J51>$M$1,$K51=\"\"),$M$2,$K51)),AND(AB$1>=$J52,AB$1<=IF(AND($J52>$M$1,$K52=\"\"),$M$2,$K52)),AND(AB$1>=$J53,AB$1<=IF(AND($J53>$M$1,$K53=\"\"),$M$2,$K53)),AND(AB$1>=$J54,AB$1<=IF(AND($J54>$M$1,$K54=\"\"),$M$2,$K54))),$J$3,\"\")","v":""},{"$f":"IF(OR(AND(AC$1>=$J50,AC$1<=IF(AND($J50>$M$1,$K50=\"\"),$M$2,$K50)),AND(AC$1>=$J51,AC$1<=IF(AND($J51>$M$1,$K51=\"\"),$M$2,$K51)),AND(AC$1>=$J52,AC$1<=IF(AND($J52>$M$1,$K52=\"\"),$M$2,$K52)),AND(AC$1>=$J53,AC$1<=IF(AND($J53>$M$1,$K53=\"\"),$M$2,$K53)),AND(AC$1>=$J54,AC$1<=IF(AND($J54>$M$1,$K54=\"\"),$M$2,$K54))),$J$3,\"\")","v":""},{"$f":"IF(OR(AND(AD$1>=$J50,AD$1<=IF(AND($J50>$M$1,$K50=\"\"),$M$2,$K50)),AND(AD$1>=$J51,AD$1<=IF(AND($J51>$M$1,$K51=\"\"),$M$2,$K51)),AND(AD$1>=$J52,AD$1<=IF(AND($J52>$M$1,$K52=\"\"),$M$2,$K52)),AND(AD$1>=$J53,AD$1<=IF(AND($J53>$M$1,$K53=\"\"),$M$2,$K53)),AND(AD$1>=$J54,AD$1<=IF(AND($J54>$M$1,$K54=\"\"),$M$2,$K54))),$J$3,\"\")","v":""},{"$f":"IF(OR(AND(AE$1>=$J50,AE$1<=IF(AND($J50>$M$1,$K50=\"\"),$M$2,$K50)),AND(AE$1>=$J51,AE$1<=IF(AND($J51>$M$1,$K51=\"\"),$M$2,$K51)),AND(AE$1>=$J52,AE$1<=IF(AND($J52>$M$1,$K52=\"\"),$M$2,$K52)),AND(AE$1>=$J53,AE$1<=IF(AND($J53>$M$1,$K53=\"\"),$M$2,$K53)),AND(AE$1>=$J54,AE$1<=IF(AND($J54>$M$1,$K54=\"\"),$M$2,$K54))),$J$3,\"\")","v":""},{"$f":"IF(OR(AND(AF$1>=$J50,AF$1<=IF(AND($J50>$M$1,$K50=\"\"),$M$2,$K50)),AND(AF$1>=$J51,AF$1<=IF(AND($J51>$M$1,$K51=\"\"),$M$2,$K51)),AND(AF$1>=$J52,AF$1<=IF(AND($J52>$M$1,$K52=\"\"),$M$2,$K52)),AND(AF$1>=$J53,AF$1<=IF(AND($J53>$M$1,$K53=\"\"),$M$2,$K53)),AND(AF$1>=$J54,AF$1<=IF(AND($J54>$M$1,$K54=\"\"),$M$2,$K54))),$J$3,\"\")","v":""},{"$f":"IF(OR(AND(AG$1>=$J50,AG$1<=IF(AND($J50>$M$1,$K50=\"\"),$M$2,$K50)),AND(AG$1>=$J51,AG$1<=IF(AND($J51>$M$1,$K51=\"\"),$M$2,$K51)),AND(AG$1>=$J52,AG$1<=IF(AND($J52>$M$1,$K52=\"\"),$M$2,$K52)),AND(AG$1>=$J53,AG$1<=IF(AND($J53>$M$1,$K53=\"\"),$M$2,$K53)),AND(AG$1>=$J54,AG$1<=IF(AND($J54>$M$1,$K54=\"\"),$M$2,$K54))),$J$3,\"\")","v":""},{"$f":"IF(OR(AND(AH$1>=$J50,AH$1<=IF(AND($J50>$M$1,$K50=\"\"),$M$2,$K50)),AND(AH$1>=$J51,AH$1<=IF(AND($J51>$M$1,$K51=\"\"),$M$2,$K51)),AND(AH$1>=$J52,AH$1<=IF(AND($J52>$M$1,$K52=\"\"),$M$2,$K52)),AND(AH$1>=$J53,AH$1<=IF(AND($J53>$M$1,$K53=\"\"),$M$2,$K53)),AND(AH$1>=$J54,AH$1<=IF(AND($J54>$M$1,$K54=\"\"),$M$2,$K54))),$J$3,\"\")","v":""},{"$f":"IF(OR(AND(AI$1>=$J50,AI$1<=IF(AND($J50>$M$1,$K50=\"\"),$M$2,$K50)),AND(AI$1>=$J51,AI$1<=IF(AND($J51>$M$1,$K51=\"\"),$M$2,$K51)),AND(AI$1>=$J52,AI$1<=IF(AND($J52>$M$1,$K52=\"\"),$M$2,$K52)),AND(AI$1>=$J53,AI$1<=IF(AND($J53>$M$1,$K53=\"\"),$M$2,$K53)),AND(AI$1>=$J54,AI$1<=IF(AND($J54>$M$1,$K54=\"\"),$M$2,$K54))),$J$3,\"\")","v":""},{"$f":"IF(OR(AND(AJ$1>=$J50,AJ$1<=IF(AND($J50>$M$1,$K50=\"\"),$M$2,$K50)),AND(AJ$1>=$J51,AJ$1<=IF(AND($J51>$M$1,$K51=\"\"),$M$2,$K51)),AND(AJ$1>=$J52,AJ$1<=IF(AND($J52>$M$1,$K52=\"\"),$M$2,$K52)),AND(AJ$1>=$J53,AJ$1<=IF(AND($J53>$M$1,$K53=\"\"),$M$2,$K53)),AND(AJ$1>=$J54,AJ$1<=IF(AND($J54>$M$1,$K54=\"\"),$M$2,$K54))),$J$3,\"\")","v":""},{"$f":"IF(OR(AND(AK$1>=$J50,AK$1<=IF(AND($J50>$M$1,$K50=\"\"),$M$2,$K50)),AND(AK$1>=$J51,AK$1<=IF(AND($J51>$M$1,$K51=\"\"),$M$2,$K51)),AND(AK$1>=$J52,AK$1<=IF(AND($J52>$M$1,$K52=\"\"),$M$2,$K52)),AND(AK$1>=$J53,AK$1<=IF(AND($J53>$M$1,$K53=\"\"),$M$2,$K53)),AND(AK$1>=$J54,AK$1<=IF(AND($J54>$M$1,$K54=\"\"),$M$2,$K54))),$J$3,\"\")","v":""},{"$f":"IF(OR(AND(AL$1>=$J50,AL$1<=IF(AND($J50>$M$1,$K50=\"\"),$M$2,$K50)),AND(AL$1>=$J51,AL$1<=IF(AND($J51>$M$1,$K51=\"\"),$M$2,$K51)),AND(AL$1>=$J52,AL$1<=IF(AND($J52>$M$1,$K52=\"\"),$M$2,$K52)),AND(AL$1>=$J53,AL$1<=IF(AND($J53>$M$1,$K53=\"\"),$M$2,$K53)),AND(AL$1>=$J54,AL$1<=IF(AND($J54>$M$1,$K54=\"\"),$M$2,$K54))),$J$3,\"\")","v":""},{"$f":"IF(OR(AND(AM$1>=$J50,AM$1<=IF(AND($J50>$M$1,$K50=\"\"),$M$2,$K50)),AND(AM$1>=$J51,AM$1<=IF(AND($J51>$M$1,$K51=\"\"),$M$2,$K51)),AND(AM$1>=$J52,AM$1<=IF(AND($J52>$M$1,$K52=\"\"),$M$2,$K52)),AND(AM$1>=$J53,AM$1<=IF(AND($J53>$M$1,$K53=\"\"),$M$2,$K53)),AND(AM$1>=$J54,AM$1<=IF(AND($J54>$M$1,$K54=\"\"),$M$2,$K54))),$J$3,\"\")","v":""},{"$f":"IF(OR(AND(AN$1>=$J50,AN$1<=IF(AND($J50>$M$1,$K50=\"\"),$M$2,$K50)),AND(AN$1>=$J51,AN$1<=IF(AND($J51>$M$1,$K51=\"\"),$M$2,$K51)),AND(AN$1>=$J52,AN$1<=IF(AND($J52>$M$1,$K52=\"\"),$M$2,$K52)),AND(AN$1>=$J53,AN$1<=IF(AND($J53>$M$1,$K53=\"\"),$M$2,$K53)),AND(AN$1>=$J54,AN$1<=IF(AND($J54>$M$1,$K54=\"\"),$M$2,$K54))),$J$3,\"\")","v":""},{"$f":"IF(OR(AND(AO$1>=$J50,AO$1<=IF(AND($J50>$M$1,$K50=\"\"),$M$2,$K50)),AND(AO$1>=$J51,AO$1<=IF(AND($J51>$M$1,$K51=\"\"),$M$2,$K51)),AND(AO$1>=$J52,AO$1<=IF(AND($J52>$M$1,$K52=\"\"),$M$2,$K52)),AND(AO$1>=$J53,AO$1<=IF(AND($J53>$M$1,$K53=\"\"),$M$2,$K53)),AND(AO$1>=$J54,AO$1<=IF(AND($J54>$M$1,$K54=\"\"),$M$2,$K54))),$J$3,\"\")","v":""},{"$f":"IF(AP$1=\"\",\"\",IF(OR(AND(AP$1>=$J50,AP$1<=IF(AND($J50>$M$1,$K50=\"\"),$M$2,$K50)),AND(AP$1>=$J51,AP$1<=IF(AND($J51>$M$1,$K51=\"\"),$M$2,$K51)),AND(AP$1>=$J52,AP$1<=IF(AND($J52>$M$1,$K52=\"\"),$M$2,$K52)),AND(AP$1>=$J53,AP$1<=IF(AND($J53>$M$1,$K53=\"\"),$M$2,$K53)),AND(AP$1>=$J54,AP$1<=IF(AND($J54>$M$1,$K54=\"\"),$M$2,$K54))),$J$3,\"\"))","v":""},{"$f":"IF(AQ$1=\"\",\"\",IF(OR(AND(AQ$1>=$J50,AQ$1<=IF(AND($J50>$M$1,$K50=\"\"),$M$2,$K50)),AND(AQ$1>=$J51,AQ$1<=IF(AND($J51>$M$1,$K51=\"\"),$M$2,$K51)),AND(AQ$1>=$J52,AQ$1<=IF(AND($J52>$M$1,$K52=\"\"),$M$2,$K52)),AND(AQ$1>=$J53,AQ$1<=IF(AND($J53>$M$1,$K53=\"\"),$M$2,$K53)),AND(AQ$1>=$J54,AQ$1<=IF(AND($J54>$M$1,$K54=\"\"),$M$2,$K54))),$J$3,\"\"))","v":""},{"$f":"IF(AR$1=\"\",\"\",IF(OR(AND(AR$1>=$J50,AR$1<=IF(AND($J50>$M$1,$K50=\"\"),$M$2,$K50)),AND(AR$1>=$J51,AR$1<=IF(AND($J51>$M$1,$K51=\"\"),$M$2,$K51)),AND(AR$1>=$J52,AR$1<=IF(AND($J52>$M$1,$K52=\"\"),$M$2,$K52)),AND(AR$1>=$J53,AR$1<=IF(AND($J53>$M$1,$K53=\"\"),$M$2,$K53)),AND(AR$1>=$J54,AR$1<=IF(AND($J54>$M$1,$K54=\"\"),$M$2,$K54))),$J$3,\"\"))","v":""}]
[{"$f":"стр.1!C33","v":484},{"$f":"IFERROR(VLOOKUP(A55,стр.1!$A$13:$D$106,2,FALSE),\"\")","v":"Крутов"},{"$f":"IFERROR(VLOOKUP(A55,стр.1!$A$13:$D$106,4,FALSE),\"\")","v":"сборная"},null,null,null,null,null,null,null,null,null,null,{"$f":"N56&N57&N58&N59","v":""},{"$f":"O56&O57&O58&O59","v":""},{"$f":"P56&P57&P58&P59","v":""},{"$f":"Q56&Q57&Q58&Q59","v":""},{"$f":"R56&R57&R58&R59","v":""},{"$f":"S56&S57&S58&S59","v":""},{"$f":"T56&T57&T58&T59","v":""},{"$f":"U56&U57&U58&U59","v":""},{"$f":"V56&V57&V58&V59","v":""},{"$f":"W56&W57&W58&W59","v":""},{"$f":"X56&X57&X58&X59","v":""},{"$f":"Y56&Y57&Y58&Y59","v":""},{"$f":"Z56&Z57&Z58&Z59","v":""},{"$f":"AA56&AA57&AA58&AA59","v":""},{"$f":"AB56&AB57&AB58&AB59","v":""},{"$f":"AC56&AC57&AC58&AC59","v":""},{"$f":"AD56&AD57&AD58&AD59","v":""},{"$f":"AE56&AE57&AE58&AE59","v":""},{"$f":"AF56&AF57&AF58&AF59","v":""},{"$f":"AG56&AG57&AG58&AG59","v":""},{"$f":"AH56&AH57&AH58&AH59","v":""},{"$f":"AI56&AI57&AI58&AI59","v":""},{"$f":"AJ56&AJ57&AJ58&AJ59","v":""},{"$f":"AK56&AK57&AK58&AK59","v":""},{"$f":"AL56&AL57&AL58&AL59","v":""},{"$f":"AM56&AM57&AM58&AM59","v":""},{"$f":"AN56&AN57&AN58&AN59","v":""},{"$f":"AO56&AO57&AO58&AO59","v":""},{"$f":"AP56&AP57&AP58&AP59","v":""},{"$f":"AQ56&AQ57&AQ58&AQ59","v":""},{"$f":"AR56&AR57&AR58&AR59","v":""}]
[null,null,null,null,null,null,null,null,null,null,null,null,null,{"$f":"IF(OR(AND(N$1>=$D55,N$1<=IF(AND($D55>$M$1,$E55=\"\"),$M$2,$E55)),AND(N$1>=$D56,N$1<=IF(AND($D56>$M$1,$E56=\"\"),$M$2,$E56)),AND(N$1>=$D57,N$1<=IF(AND($D57>$M$1,$E57=\"\"),$M$2,$E57)),AND(N$1>=$D58,N$1<=IF(AND($D58>$M$1,$E58=\"\"),$M$2,$E58))),$D$3,\"\")","v":""},{"$f":"IF(OR(AND(O$1>=$D55,O$1<=IF(AND($D55>$M$1,$E55=\"\"),$M$2,$E55)),AND(O$1>=$D56,O$1<=IF(AND($D56>$M$1,$E56=\"\"),$M$2,$E56)),AND(O$1>=$D57,O$1<=IF(AND($D57>$M$1,$E57=\"\"),$M$2,$E57)),AND(O$1>=$D58,O$1<=IF(AND($D58>$M$1,$E58=\"\"),$M$2,$E58))),$D$3,\"\")","v":""},"","","","","","","","","","","","","","","","","","","","","","","","","","",{"$f":"IF(AP$1=\"\",\"\",IF(OR(AND(AP$1>=$D55,AP$1<=IF(AND($D55>$M$1,$E55=\"\"),$M$2,$E55)),AND(AP$1>=$D56,AP$1<=IF(AND($D56>$M$1,$E56=\"\"),$M$2,$E56)),AND(AP$1>=$D57,AP$1<=IF(AND($D57>$M$1,$E57=\"\"),$M$2,$E57)),AND(AP$1>=$D58,AP$1<=IF(AND($D58>$M$1,$E58=\"\"),$M$2,$E58))),$D$3,\"\"))","v":""},{"$f":"IF(AQ$1=\"\",\"\",IF(OR(AND(AQ$1>=$D55,AQ$1<=IF(AND($D55>$M$1,$E55=\"\"),$M$2,$E55)),AND(AQ$1>=$D56,AQ$1<=IF(AND($D56>$M$1,$E56=\"\"),$M$2,$E56)),AND(AQ$1>=$D57,AQ$1<=IF(AND($D57>$M$1,$E57=\"\"),$M$2,$E57)),AND(AQ$1>=$D58,AQ$1<=IF(AND($D58>$M$1,$E58=\"\"),$M$2,$E58))),$D$3,\"\"))","v":""},""]
[null,null,null,null,null,null,null,null,null,null,null,null,null,{"$f":"IF(OR(AND(N$1>=$F55,N$1<=IF(AND($F55>$M$1,$G55=\"\"),$M$2,$G55)),AND(N$1>=$F56,N$1<=IF(AND($F56>$M$1,$G56=\"\"),$M$2,$G56)),AND(N$1>=$F57,N$1<=IF(AND($F57>$M$1,$G57=\"\"),$M$2,$G57)),AND(N$1>=$F58,N$1<=IF(AND($F58>$M$1,$G58=\"\"),$M$2,$G58))),$F$3,\"\")","v":""},{"$f":"IF(OR(AND(O$1>=$F55,O$1<=IF(AND($F55>$M$1,$G55=\"\"),$M$2,$G55)),AND(O$1>=$F56,O$1<=IF(AND($F56>$M$1,$G56=\"\"),$M$2,$G56)),AND(O$1>=$F57,O$1<=IF(AND($F57>$M$1,$G57=\"\"),$M$2,$G57)),AND(O$1>=$F58,O$1<=IF(AND($F58>$M$1,$G58=\"\"),$M$2,$G58))),$F$3,\"\")","v":""},"","","","","","","","","","","","","","","","","","","","","","","","","","",{"$f":"IF(AP$1=\"\",\"\",IF(OR(AND(AP$1>=$F55,AP$1<=IF(AND($F55>$M$1,$G55=\"\"),$M$2,$G55)),AND(AP$1>=$F56,AP$1<=IF(AND($F56>$M$1,$G56=\"\"),$M$2,$G56)),AND(AP$1>=$F57,AP$1<=IF(AND($F57>$M$1,$G57=\"\"),$M$2,$G57)),AND(AP$1>=$F58,AP$1<=IF(AND($F58>$M$1,$G58=\"\"),$M$2,$G58))),$F$3,\"\"))","v":""},{"$f":"IF(AQ$1=\"\",\"\",IF(OR(AND(AQ$1>=$F55,AQ$1<=IF(AND($F55>$M$1,$G55=\"\"),$M$2,$G55)),AND(AQ$1>=$F56,AQ$1<=IF(AND($F56>$M$1,$G56=\"\"),$M$2,$G56)),AND(AQ$1>=$F57,AQ$1<=IF(AND($F57>$M$1,$G57=\"\"),$M$2,$G57)),AND(AQ$1>=$F58,AQ$1<=IF(AND($F58>$M$1,$G58=\"\"),$M$2,$G58))),$F$3,\"\"))","v":""},""]
[null,null,null,null,null,null,null,null,null,null,null,null,null,{"$f":"IF(OR(AND(N$1>=$H55,N$1<=IF(AND($H55>$M$1,$I55=\"\"),$M$2,$I55)),AND(N$1>=$H56,N$1<=IF(AND($H56>$M$1,$I56=\"\"),$M$2,$I56)),AND(N$1>=$H57,N$1<=IF(AND($H57>$M$1,$I57=\"\"),$M$2,$I57)),AND(N$1>=$H58,N$1<=IF(AND($H58>$M$1,$I58=\"\"),$M$2,$I58))),$H$3,\"\")","v":""},"","","","","","","","","","","","","","","","","","","","","","","","","","","",{"$f":"IF(AP$1=\"\",\"\",IF(OR(AND(AP$1>=$H55,AP$1<=IF(AND($H55>$M$1,$I55=\"\"),$M$2,$I55)),AND(AP$1>=$H56,AP$1<=IF(AND($H56>$M$1,$I56=\"\"),$M$2,$I56)),AND(AP$1>=$H57,AP$1<=IF(AND($H57>$M$1,$I57=\"\"),$M$2,$I57)),AND(AP$1>=$H58,AP$1<=IF(AND($H58>$M$1,$I58=\"\"),$M$2,$I58))),$H$3,\"\"))","v":""},{"$f":"IF(AQ$1=\"\",\"\",IF(OR(AND(AQ$1>=$H55,AQ$1<=IF(AND($H55>$M$1,$I55=\"\"),$M$2,$I55)),AND(AQ$1>=$H56,AQ$1<=IF(AND($H56>$M$1,$I56=\"\"),$M$2,$I56)),AND(AQ$1>=$H57,AQ$1<=IF(AND($H57>$M$1,$I57=\"\"),$M$2,$I57)),AND(AQ$1>=$H58,AQ$1<=IF(AND($H58>$M$1,$I58=\"\"),$M$2,$I58))),$H$3,\"\"))","v":""},{"$f":"IF(AR$1=\"\",\"\",IF(OR(AND(AR$1>=$H55,AR$1<=IF(AND($H55>$M$1,$I55=\"\"),$M$2,$I55)),AND(AR$1>=$H56,AR$1<=IF(AND($H56>$M$1,$I56=\"\"),$M$2,$I56)),AND(AR$1>=$H57,AR$1<=IF(AND($H57>$M$1,$I57=\"\"),$M$2,$I57)),AND(AR$1>=$H58,AR$1<=IF(AND($H58>$M$1,$I58=\"\"),$M$2,$I58))),$H$3,\"\"))","v":""}]
[null,null,null,null,null,null,null,null,null,null,null,null,null,{"$f":"IF(OR(AND(N$1>=$J55,N$1<=IF(AND($J55>$M$1,$K55=\"\"),$M$2,$K55)),AND(N$1>=$J56,N$1<=IF(AND($J56>$M$1,$K56=\"\"),$M$2,$K56)),AND(N$1>=$J57,N$1<=IF(AND($J57>$M$1,$K57=\"\"),$M$2,$K57)),AND(N$1>=$J58,N$1<=IF(AND($J58>$M$1,$K58=\"\"),$M$2,$K58)),AND(N$1>=$J59,N$1<=IF(AND($J59>$M$1,$K59=\"\"),$M$2,$K59))),$J$3,\"\")","v":""},{"$f":"IF(OR(AND(O$1>=$J55,O$1<=IF(AND($J55>$M$1,$K55=\"\"),$M$2,$K55)),AND(O$1>=$J56,O$1<=IF(AND($J56>$M$1,$K56=\"\"),$M$2,$K56)),AND(O$1>=$J57,O$1<=IF(AND($J57>$M$1,$K57=\"\"),$M$2,$K57)),AND(O$1>=$J58,O$1<=IF(AND($J58>$M$1,$K58=\"\"),$M$2,$K58)),AND(O$1>=$J59,O$1<=IF(AND($J59>$M$1,$K59=\"\"),$M$2,$K59))),$J$3,\"\")","v":""},{"$f":"IF(OR(AND(P$1>=$J55,P$1<=IF(AND($J55>$M$1,$K55=\"\"),$M$2,$K55)),AND(P$1>=$J56,P$1<=IF(AND($J56>$M$1,$K56=\"\"),$M$2,$K56)),AND(P$1>=$J57,P$1<=IF(AND($J57>$M$1,$K57=\"\"),$M$2,$K57)),AND(P$1>=$J58,P$1<=IF(AND($J58>$M$1,$K58=\"\"),$M$2,$K58)),AND(P$1>=$J59,P$1<=IF(AND($J59>$M$1,$K59=\"\"),$M$2,$K59))),$J$3,\"\")","v":""},{"$f":"IF(OR(AND(Q$1>=$J55,Q$1<=IF(AND($J55>$M$1,$K55=\"\"),$M$2,$K55)),AND(Q$1>=$J56,Q$1<=IF(AND($J56>$M$1,$K56=\"\"),$M$2,$K56)),AND(Q$1>=$J57,Q$1<=IF(AND($J57>$M$1,$K57=\"\"),$M$2,$K57)),AND(Q$1>=$J58,Q$1<=IF(AND($J58>$M$1,$K58=\"\"),$M$2,$K58)),AND(Q$1>=$J59,Q$1<=IF(AND($J59>$M$1,$K59=\"\"),$M$2,$K59))),$J$3,\"\")","v":""},{"$f":"IF(OR(AND(R$1>=$J55,R$1<=IF(AND($J55>$M$1,$K55=\"\"),$M$2,$K55)),AND(R$1>=$J56,R$1<=IF(AND($J56>$M$1,$K56=\"\"),$M$2,$K56)),AND(R$1>=$J57,R$1<=IF(AND($J57>$M$1,$K57=\"\"),$M$2,$K57)),AND(R$1>=$J58,R$1<=IF(AND($J58>$M$1,$K58=\"\"),$M$2,$K58)),AND(R$1>=$J59,R$1<=IF(AND($J59>$M$1,$K59=\"\"),$M$2,$K59))),$J$3,\"\")","v":""},{"$f":"IF(OR(AND(S$1>=$J55,S$1<=IF(AND($J55>$M$1,$K55=\"\"),$M$2,$K55)),AND(S$1>=$J56,S$1<=IF(AND($J56>$M$1,$K56=\"\"),$M$2,$K56)),AND(S$1>=$J57,S$1<=IF(AND($J57>$M$1,$K57=\"\"),$M$2,$K57)),AND(S$1>=$J58,S$1<=IF(AND($J58>$M$1,$K58=\"\"),$M$2,$K58)),AND(S$1>=$J59,S$1<=IF(AND($J59>$M$1,$K59=\"\"),$M$2,$K59))),$J$3,\"\")","v":""},{"$f":"IF(OR(AND(T$1>=$J55,T$1<=IF(AND($J55>$M$1,$K55=\"\"),$M$2,$K55)),AND(T$1>=$J56,T$1<=IF(AND($J56>$M$1,$K56=\"\"),$M$2,$K56)),AND(T$1>=$J57,T$1<=IF(AND($J57>$M$1,$K57=\"\"),$M$2,$K57)),AND(T$1>=$J58,T$1<=IF(AND($J58>$M$1,$K58=\"\"),$M$2,$K58)),AND(T$1>=$J59,T$1<=IF(AND($J59>$M$1,$K59=\"\"),$M$2,$K59))),$J$3,\"\")","v":""},{"$f":"IF(OR(AND(U$1>=$J55,U$1<=IF(AND($J55>$M$1,$K55=\"\"),$M$2,$K55)),AND(U$1>=$J56,U$1<=IF(AND($J56>$M$1,$K56=\"\"),$M$2,$K56)),AND(U$1>=$J57,U$1<=IF(AND($J57>$M$1,$K57=\"\"),$M$2,$K57)),AND(U$1>=$J58,U$1<=IF(AND($J58>$M$1,$K58=\"\"),$M$2,$K58)),AND(U$1>=$J59,U$1<=IF(AND($J59>$M$1,$K59=\"\"),$M$2,$K59))),$J$3,\"\")","v":""},{"$f":"IF(OR(AND(V$1>=$J55,V$1<=IF(AND($J55>$M$1,$K55=\"\"),$M$2,$K55)),AND(V$1>=$J56,V$1<=IF(AND($J56>$M$1,$K56=\"\"),$M$2,$K56)),AND(V$1>=$J57,V$1<=IF(AND($J57>$M$1,$K57=\"\"),$M$2,$K57)),AND(V$1>=$J58,V$1<=IF(AND($J58>$M$1,$K58=\"\"),$M$2,$K58)),AND(V$1>=$J59,V$1<=IF(AND($J59>$M$1,$K59=\"\"),$M$2,$K59))),$J$3,\"\")","v":""},{"$f":"IF(OR(AND(W$1>=$J55,W$1<=IF(AND($J55>$M$1,$K55=\"\"),$M$2,$K55)),AND(W$1>=$J56,W$1<=IF(AND($J56>$M$1,$K56=\"\"),$M$2,$K56)),AND(W$1>=$J57,W$1<=IF(AND($J57>$M$1,$K57=\"\"),$M$2,$K57)),AND(W$1>=$J58,W$1<=IF(AND($J58>$M$1,$K58=\"\"),$M$2,$K58)),AND(W$1>=$J59,W$1<=IF(AND($J59>$M$1,$K59=\"\"),$M$2,$K59))),$J$3,\"\")","v":""},{"$f":"IF(OR(AND(X$1>=$J55,X$1<=IF(AND($J55>$M$1,$K55=\"\"),$M$2,$K55)),AND(X$1>=$J56,X$1<=IF(AND($J56>$M$1,$K56=\"\"),$M$2,$K56)),AND(X$1>=$J57,X$1<=IF(AND($J57>$M$1,$K57=\"\"),$M$2,$K57)),AND(X$1>=$J58,X$1<=IF(AND($J58>$M$1,$K58=\"\"),$M$2,$K58)),AND(X$1>=$J59,X$1<=IF(AND($J59>$M$1,$K59=\"\"),$M$2,$K59))),$J$3,\"\")","v":""},{"$f":"IF(OR(AND(Y$1>=$J55,Y$1<=IF(AND($J55>$M$1,$K55=\"\"),$M$2,$K55)),AND(Y$1>=$J56,Y$1<=IF(AND($J56>$M$1,$K56=\"\"),$M$2,$K56)),AND(Y$1>=$J57,Y$1<=IF(AND($J57>$M$1,$K57=\"\"),$M$2,$K57)),AND(Y$1>=$J58,Y$1<=IF(AND($J58>$M$1,$K58=\"\"),$M$2,$K58)),AND(Y$1>=$J59,Y$1<=IF(AND($J59>$M$1,$K59=\"\"),$M$2,$K59))),$J$3,\"\")","v":""},{"$f":"IF(OR(AND(Z$1>=$J55,Z$1<=IF(AND($J55>$M$1,$K55=\"\"),$M$2,$K55)),AND(Z$1>=$J56,Z$1<=IF(AND($J56>$M$1,$K56=\"\"),$M$2,$K56)),AND(Z$1>=$J57,Z$1<=IF(AND($J57>$M$1,$K57=\"\"),$M$2,$K57)),AND(Z$1>=$J58,Z$1<=IF(AND($J58>$M$1,$K58=\"\"),$M$2,$K58)),AND(Z$1>=$J59,Z$1<=IF(AND($J59>$M$1,$K59=\"\"),$M$2,$K59))),$J$3,\"\")","v":""},{"$f":"IF(OR(AND(AA$1>=$J55,AA$1<=IF(AND($J55>$M$1,$K55=\"\"),$M$2,$K55)),AND(AA$1>=$J56,AA$1<=IF(AND($J56>$M$1,$K56=\"\"),$M$2,$K56)),AND(AA$1>=$J57,AA$1<=IF(AND($J57>$M$1,$K57=\"\"),$M$2,$K57)),AND(AA$1>=$J58,AA$1<=IF(AND($J58>$M$1,$K58=\"\"),$M$2,$K58)),AND(AA$1>=$J59,AA$1<=IF(AND($J59>$M$1,$K59=\"\"),$M$2,$K59))),$J$3,\"\")","v":""},{"$f":"IF(OR(AND(AB$1>=$J55,AB$1<=IF(AND($J55>$M$1,$K55=\"\"),$M$2,$K55)),AND(AB$1>=$J56,AB$1<=IF(AND($J56>$M$1,$K56=\"\"),$M$2,$K56)),AND(AB$1>=$J57,AB$1<=IF(AND($J57>$M$1,$K57=\"\"),$M$2,$K57)),AND(AB$1>=$J58,AB$1<=IF(AND($J58>$M$1,$K58=\"\"),$M$2,$K58)),AND(AB$1>=$J59,AB$1<=IF(AND($J59>$M$1,$K59=\"\"),$M$2,$K59))),$J$3,\"\")","v":""},{"$f":"IF(OR(AND(AC$1>=$J55,AC$1<=IF(AND($J55>$M$1,$K55=\"\"),$M$2,$K55)),AND(AC$1>=$J56,AC$1<=IF(AND($J56>$M$1,$K56=\"\"),$M$2,$K56)),AND(AC$1>=$J57,AC$1<=IF(AND($J57>$M$1,$K57=\"\"),$M$2,$K57)),AND(AC$1>=$J58,AC$1<=IF(AND($J58>$M$1,$K58=\"\"),$M$2,$K58)),AND(AC$1>=$J59,AC$1<=IF(AND($J59>$M$1,$K59=\"\"),$M$2,$K59))),$J$3,\"\")","v":""},{"$f":"IF(OR(AND(AD$1>=$J55,AD$1<=IF(AND($J55>$M$1,$K55=\"\"),$M$2,$K55)),AND(AD$1>=$J56,AD$1<=IF(AND($J56>$M$1,$K56=\"\"),$M$2,$K56)),AND(AD$1>=$J57,AD$1<=IF(AND($J57>$M$1,$K57=\"\"),$M$2,$K57)),AND(AD$1>=$J58,AD$1<=IF(AND($J58>$M$1,$K58=\"\"),$M$2,$K58)),AND(AD$1>=$J59,AD$1<=IF(AND($J59>$M$1,$K59=\"\"),$M$2,$K59))),$J$3,\"\")","v":""},{"$f":"IF(OR(AND(AE$1>=$J55,AE$1<=IF(AND($J55>$M$1,$K55=\"\"),$M$2,$K55)),AND(AE$1>=$J56,AE$1<=IF(AND($J56>$M$1,$K56=\"\"),$M$2,$K56)),AND(AE$1>=$J57,AE$1<=IF(AND($J57>$M$1,$K57=\"\"),$M$2,$K57)),AND(AE$1>=$J58,AE$1<=IF(AND($J58>$M$1,$K58=\"\"),$M$2,$K58)),AND(AE$1>=$J59,AE$1<=IF(AND($J59>$M$1,$K59=\"\"),$M$2,$K59))),$J$3,\"\")","v":""},{"$f":"IF(OR(AND(AF$1>=$J55,AF$1<=IF(AND($J55>$M$1,$K55=\"\"),$M$2,$K55)),AND(AF$1>=$J56,AF$1<=IF(AND($J56>$M$1,$K56=\"\"),$M$2,$K56)),AND(AF$1>=$J57,AF$1<=IF(AND($J57>$M$1,$K57=\"\"),$M$2,$K57)),AND(AF$1>=$J58,AF$1<=IF(AND($J58>$M$1,$K58=\"\"),$M$2,$K58)),AND(AF$1>=$J59,AF$1<=IF(AND($J59>$M$1,$K59=\"\"),$M$2,$K59))),$J$3,\"\")","v":""},{"$f":"IF(OR(AND(AG$1>=$J55,AG$1<=IF(AND($J55>$M$1,$K55=\"\"),$M$2,$K55)),AND(AG$1>=$J56,AG$1<=IF(AND($J56>$M$1,$K56=\"\"),$M$2,$K56)),AND(AG$1>=$J57,AG$1<=IF(AND($J57>$M$1,$K57=\"\"),$M$2,$K57)),AND(AG$1>=$J58,AG$1<=IF(AND($J58>$M$1,$K58=\"\"),$M$2,$K58)),AND(AG$1>=$J59,AG$1<=IF(AND($J59>$M$1,$K59=\"\"),$M$2,$K59))),$J$3,\"\")","v":""},{"$f":"IF(OR(AND(AH$1>=$J55,AH$1<=IF(AND($J55>$M$1,$K55=\"\"),$M$2,$K55)),AND(AH$1>=$J56,AH$1<=IF(AND($J56>$M$1,$K56=\"\"),$M$2,$K56)),AND(AH$1>=$J57,AH$1<=IF(AND($J57>$M$1,$K57=\"\"),$M$2,$K57)),AND(AH$1>=$J58,AH$1<=IF(AND($J58>$M$1,$K58=\"\"),$M$2,$K58)),AND(AH$1>=$J59,AH$1<=IF(AND($J59>$M$1,$K59=\"\"),$M$2,$K59))),$J$3,\"\")","v":""},{"$f":"IF(OR(AND(AI$1>=$J55,AI$1<=IF(AND($J55>$M$1,$K55=\"\"),$M$2,$K55)),AND(AI$1>=$J56,AI$1<=IF(AND($J56>$M$1,$K56=\"\"),$M$2,$K56)),AND(AI$1>=$J57,AI$1<=IF(AND($J57>$M$1,$K57=\"\"),$M$2,$K57)),AND(AI$1>=$J58,AI$1<=IF(AND($J58>$M$1,$K58=\"\"),$M$2,$K58)),AND(AI$1>=$J59,AI$1<=IF(AND($J59>$M$1,$K59=\"\"),$M$2,$K59))),$J$3,\"\")","v":""},{"$f":"IF(OR(AND(AJ$1>=$J55,AJ$1<=IF(AND($J55>$M$1,$K55=\"\"),$M$2,$K55)),AND(AJ$1>=$J56,AJ$1<=IF(AND($J56>$M$1,$K56=\"\"),$M$2,$K56)),AND(AJ$1>=$J57,AJ$1<=IF(AND($J57>$M$1,$K57=\"\"),$M$2,$K57)),AND(AJ$1>=$J58,AJ$1<=IF(AND($J58>$M$1,$K58=\"\"),$M$2,$K58)),AND(AJ$1>=$J59,AJ$1<=IF(AND($J59>$M$1,$K59=\"\"),$M$2,$K59))),$J$3,\"\")","v":""},{"$f":"IF(OR(AND(AK$1>=$J55,AK$1<=IF(AND($J55>$M$1,$K55=\"\"),$M$2,$K55)),AND(AK$1>=$J56,AK$1<=IF(AND($J56>$M$1,$K56=\"\"),$M$2,$K56)),AND(AK$1>=$J57,AK$1<=IF(AND($J57>$M$1,$K57=\"\"),$M$2,$K57)),AND(AK$1>=$J58,AK$1<=IF(AND($J58>$M$1,$K58=\"\"),$M$2,$K58)),AND(AK$1>=$J59,AK$1<=IF(AND($J59>$M$1,$K59=\"\"),$M$2,$K59))),$J$3,\"\")","v":""},{"$f":"IF(OR(AND(AL$1>=$J55,AL$1<=IF(AND($J55>$M$1,$K55=\"\"),$M$2,$K55)),AND(AL$1>=$J56,AL$1<=IF(AND($J56>$M$1,$K56=\"\"),$M$2,$K56)),AND(AL$1>=$J57,AL$1<=IF(AND($J57>$M$1,$K57=\"\"),$M$2,$K57)),AND(AL$1>=$J58,AL$1<=IF(AND($J58>$M$1,$K58=\"\"),$M$2,$K58)),AND(AL$1>=$J59,AL$1<=IF(AND($J59>$M$1,$K59=\"\"),$M$2,$K59))),$J$3,\"\")","v":""},{"$f":"IF(OR(AND(AM$1>=$J55,AM$1<=IF(AND($J55>$M$1,$K55=\"\"),$M$2,$K55)),AND(AM$1>=$J56,AM$1<=IF(AND($J56>$M$1,$K56=\"\"),$M$2,$K56)),AND(AM$1>=$J57,AM$1<=IF(AND($J57>$M$1,$K57=\"\"),$M$2,$K57)),AND(AM$1>=$J58,AM$1<=IF(AND($J58>$M$1,$K58=\"\"),$M$2,$K58)),AND(AM$1>=$J59,AM$1<=IF(AND($J59>$M$1,$K59=\"\"),$M$2,$K59))),$J$3,\"\")","v":""},{"$f":"IF(OR(AND(AN$1>=$J55,AN$1<=IF(AND($J55>$M$1,$K55=\"\"),$M$2,$K55)),AND(AN$1>=$J56,AN$1<=IF(AND($J56>$M$1,$K56=\"\"),$M$2,$K56)),AND(AN$1>=$J57,AN$1<=IF(AND($J57>$M$1,$K57=\"\"),$M$2,$K57)),AND(AN$1>=$J58,AN$1<=IF(AND($J58>$M$1,$K58=\"\"),$M$2,$K58)),AND(AN$1>=$J59,AN$1<=IF(AND($J59>$M$1,$K59=\"\"),$M$2,$K59))),$J$3,\"\")","v":""},{"$f":"IF(OR(AND(AO$1>=$J55,AO$1<=IF(AND($J55>$M$1,$K55=\"\"),$M$2,$K55)),AND(AO$1>=$J56,AO$1<=IF(AND($J56>$M$1,$K56=\"\"),$M$2,$K56)),AND(AO$1>=$J57,AO$1<=IF(AND($J57>$M$1,$K57=\"\"),$M$2,$K57)),AND(AO$1>=$J58,AO$1<=IF(AND($J58>$M$1,$K58=\"\"),$M$2,$K58)),AND(AO$1>=$J59,AO$1<=IF(AND($J59>$M$1,$K59=\"\"),$M$2,$K59))),$J$3,\"\")","v":""},{"$f":"IF(AP$1=\"\",\"\",IF(OR(AND(AP$1>=$J55,AP$1<=IF(AND($J55>$M$1,$K55=\"\"),$M$2,$K55)),AND(AP$1>=$J56,AP$1<=IF(AND($J56>$M$1,$K56=\"\"),$M$2,$K56)),AND(AP$1>=$J57,AP$1<=IF(AND($J57>$M$1,$K57=\"\"),$M$2,$K57)),AND(AP$1>=$J58,AP$1<=IF(AND($J58>$M$1,$K58=\"\"),$M$2,$K58)),AND(AP$1>=$J59,AP$1<=IF(AND($J59>$M$1,$K59=\"\"),$M$2,$K59))),$J$3,\"\"))","v":""},{"$f":"IF(AQ$1=\"\",\"\",IF(OR(AND(AQ$1>=$J55,AQ$1<=IF(AND($J55>$M$1,$K55=\"\"),$M$2,$K55)),AND(AQ$1>=$J56,AQ$1<=IF(AND($J56>$M$1,$K56=\"\"),$M$2,$K56)),AND(AQ$1>=$J57,AQ$1<=IF(AND($J57>$M$1,$K57=\"\"),$M$2,$K57)),AND(AQ$1>=$J58,AQ$1<=IF(AND($J58>$M$1,$K58=\"\"),$M$2,$K58)),AND(AQ$1>=$J59,AQ$1<=IF(AND($J59>$M$1,$K59=\"\"),$M$2,$K59))),$J$3,\"\"))","v":""},{"$f":"IF(AR$1=\"\",\"\",IF(OR(AND(AR$1>=$J55,AR$1<=IF(AND($J55>$M$1,$K55=\"\"),$M$2,$K55)),AND(AR$1>=$J56,AR$1<=IF(AND($J56>$M$1,$K56=\"\"),$M$2,$K56)),AND(AR$1>=$J57,AR$1<=IF(AND($J57>$M$1,$K57=\"\"),$M$2,$K57)),AND(AR$1>=$J58,AR$1<=IF(AND($J58>$M$1,$K58=\"\"),$M$2,$K58)),AND(AR$1>=$J59,AR$1<=IF(AND($J59>$M$1,$K59=\"\"),$M$2,$K59))),$J$3,\"\"))","v":""}]
[{"$f":"стр.1!C35","v":3496},{"$f":"IFERROR(VLOOKUP(A60,стр.1!$A$13:$D$106,2,FALSE),\"\")","v":"Тихонов"},{"$f":"IFERROR(VLOOKUP(A60,стр.1!$A$13:$D$106,4,FALSE),\"\")","v":"сборная"},null,null,null,null,null,null,null,null,null,null,{"$f":"N61&N62&N63&N64","v":""},{"$f":"O61&O62&O63&O64","v":""},{"$f":"P61&P62&P63&P64","v":""},{"$f":"Q61&Q62&Q63&Q64","v":""},{"$f":"R61&R62&R63&R64","v":""},{"$f":"S61&S62&S63&S64","v":""},{"$f":"T61&T62&T63&T64","v":""},{"$f":"U61&U62&U63&U64","v":""},{"$f":"V61&V62&V63&V64","v":""},{"$f":"W61&W62&W63&W64","v":""},{"$f":"X61&X62&X63&X64","v":""},{"$f":"Y61&Y62&Y63&Y64","v":""},{"$f":"Z61&Z62&Z63&Z64","v":""},{"$f":"AA61&AA62&AA63&AA64","v":""},{"$f":"AB61&AB62&AB63&AB64","v":""},{"$f":"AC61&AC62&AC63&AC64","v":""},{"$f":"AD61&AD62&AD63&AD64","v":""},{"$f":"AE61&AE62&AE63&AE64","v":""},{"$f":"AF61&AF62&AF63&AF64","v":""},{"$f":"AG61&AG62&AG63&AG64","v":""},{"$f":"AH61&AH62&AH63&AH64","v":""},{"$f":"AI61&AI62&AI63&AI64","v":""},{"$f":"AJ61&AJ62&AJ63&AJ64","v":""},{"$f":"AK61&AK62&AK63&AK64","v":""},{"$f":"AL61&AL62&AL63&AL64","v":""},{"$f":"AM61&AM62&AM63&AM64","v":""},{"$f":"AN61&AN62&AN63&AN64","v":""},{"$f":"AO61&AO62&AO63&AO64","v":""},{"$f":"AP61&AP62&AP63&AP64","v":""},{"$f":"AQ61&AQ62&AQ63&AQ64","v":""},{"$f":"AR61&AR62&AR63&AR64","v":""}]
[null,null,null,null,null,null,null,null,null,null,null,null,null,{"$f":"IF(OR(AND(N$1>=$D60,N$1<=IF(AND($D60>$M$1,$E60=\"\"),$M$2,$E60)),AND(N$1>=$D61,N$1<=IF(AND($D61>$M$1,$E61=\"\"),$M$2,$E61)),AND(N$1>=$D62,N$1<=IF(AND($D62>$M$1,$E62=\"\"),$M$2,$E62)),AND(N$1>=$D63,N$1<=IF(AND($D63>$M$1,$E63=\"\"),$M$2,$E63))),$D$3,\"\")","v":""},{"$f":"IF(OR(AND(O$1>=$D60,O$1<=IF(AND($D60>$M$1,$E60=\"\"),$M$2,$E60)),AND(O$1>=$D61,O$1<=IF(AND($D61>$M$1,$E61=\"\"),$M$2,$E61)),AND(O$1>=$D62,O$1<=IF(AND($D62>$M$1,$E62=\"\"),$M$2,$E62)),AND(O$1>=$D63,O$1<=IF(AND($D63>$M$1,$E63=\"\"),$M$2,$E63))),$D$3,\"\")","v":""},"","","","","","","","","","","","","","","","","","","","","","","","","","",{"$f":"IF(AP$1=\"\",\"\",IF(OR(AND(AP$1>=$D60,AP$1<=IF(AND($D60>$M$1,$E60=\"\"),$M$2,$E60)),AND(AP$1>=$D61,AP$1<=IF(AND($D61>$M$1,$E61=\"\"),$M$2,$E61)),AND(AP$1>=$D62,AP$1<=IF(AND($D62>$M$1,$E62=\"\"),$M$2,$E62)),AND(AP$1>=$D63,AP$1<=IF(AND($D63>$M$1,$E63=\"\"),$M$2,$E63))),$D$3,\"\"))","v":""},{"$f":"IF(AQ$1=\"\",\"\",IF(OR(AND(AQ$1>=$D60,AQ$1<=IF(AND($D60>$M$1,$E60=\"\"),$M$2,$E60)),AND(AQ$1>=$D61,AQ$1<=IF(AND($D61>$M$1,$E61=\"\"),$M$2,$E61)),AND(AQ$1>=$D62,AQ$1<=IF(AND($D62>$M$1,$E62=\"\"),$M$2,$E62)),AND(AQ$1>=$D63,AQ$1<=IF(AND($D63>$M$1,$E63=\"\"),$M$2,$E63))),$D$3,\"\"))","v":""},""]
[null,null,null,null,null,null,null,null,null,null,null,null,null,{"$f":"IF(OR(AND(N$1>=$F60,N$1<=IF(AND($F60>$M$1,$G60=\"\"),$M$2,$G60)),AND(N$1>=$F61,N$1<=IF(AND($F61>$M$1,$G61=\"\"),$M$2,$G61)),AND(N$1>=$F62,N$1<=IF(AND($F62>$M$1,$G62=\"\"),$M$2,$G62)),AND(N$1>=$F63,N$1<=IF(AND($F63>$M$1,$G63=\"\"),$M$2,$G63))),$F$3,\"\")","v":""},{"$f":"IF(OR(AND(O$1>=$F60,O$1<=IF(AND($F60>$M$1,$G60=\"\"),$M$2,$G60)),AND(O$1>=$F61,O$1<=IF(AND($F61>$M$1,$G61=\"\"),$M$2,$G61)),AND(O$1>=$F62,O$1<=IF(AND($F62>$M$1,$G62=\"\"),$M$2,$G62)),AND(O$1>=$F63,O$1<=IF(AND($F63>$M$1,$G63=\"\"),$M$2,$G63))),$F$3,\"\")","v":""},"","","","","","","","","","","","","","","","","","","","","","","","","","",{"$f":"IF(AP$1=\"\",\"\",IF(OR(AND(AP$1>=$F60,AP$1<=IF(AND($F60>$M$1,$G60=\"\"),$M$2,$G60)),AND(AP$1>=$F61,AP$1<=IF(AND($F61>$M$1,$G61=\"\"),$M$2,$G61)),AND(AP$1>=$F62,AP$1<=IF(AND($F62>$M$1,$G62=\"\"),$M$2,$G62)),AND(AP$1>=$F63,AP$1<=IF(AND($F63>$M$1,$G63=\"\"),$M$2,$G63))),$F$3,\"\"))","v":""},{"$f":"IF(AQ$1=\"\",\"\",IF(OR(AND(AQ$1>=$F60,AQ$1<=IF(AND($F60>$M$1,$G60=\"\"),$M$2,$G60)),AND(AQ$1>=$F61,AQ$1<=IF(AND($F61>$M$1,$G61=\"\"),$M$2,$G61)),AND(AQ$1>=$F62,AQ$1<=IF(AND($F62>$M$1,$G62=\"\"),$M$2,$G62)),AND(AQ$1>=$F63,AQ$1<=IF(AND($F63>$M$1,$G63=\"\"),$M$2,$G63))),$F$3,\"\"))","v":""},""]
[null,null,null,null,null,null,null,null,null,null,null,null,null,{"$f":"IF(OR(AND(N$1>=$H60,N$1<=IF(AND($H60>$M$1,$I60=\"\"),$M$2,$I60)),AND(N$1>=$H61,N$1<=IF(AND($H61>$M$1,$I61=\"\"),$M$2,$I61)),AND(N$1>=$H62,N$1<=IF(AND($H62>$M$1,$I62=\"\"),$M$2,$I62)),AND(N$1>=$H63,N$1<=IF(AND($H63>$M$1,$I63=\"\"),$M$2,$I63))),$H$3,\"\")","v":""},"","","","","","","","","","","","","","","","","","","","","","","","","","","",{"$f":"IF(AP$1=\"\",\"\",IF(OR(AND(AP$1>=$H60,AP$1<=IF(AND($H60>$M$1,$I60=\"\"),$M$2,$I60)),AND(AP$1>=$H61,AP$1<=IF(AND($H61>$M$1,$I61=\"\"),$M$2,$I61)),AND(AP$1>=$H62,AP$1<=IF(AND($H62>$M$1,$I62=\"\"),$M$2,$I62)),AND(AP$1>=$H63,AP$1<=IF(AND($H63>$M$1,$I63=\"\"),$M$2,$I63))),$H$3,\"\"))","v":""},{"$f":"IF(AQ$1=\"\",\"\",IF(OR(AND(AQ$1>=$H60,AQ$1<=IF(AND($H60>$M$1,$I60=\"\"),$M$2,$I60)),AND(AQ$1>=$H61,AQ$1<=IF(AND($H61>$M$1,$I61=\"\"),$M$2,$I61)),AND(AQ$1>=$H62,AQ$1<=IF(AND($H62>$M$1,$I62=\"\"),$M$2,$I62)),AND(AQ$1>=$H63,AQ$1<=IF(AND($H63>$M$1,$I63=\"\"),$M$2,$I63))),$H$3,\"\"))","v":""},{"$f":"IF(AR$1=\"\",\"\",IF(OR(AND(AR$1>=$H60,AR$1<=IF(AND($H60>$M$1,$I60=\"\"),$M$2,$I60)),AND(AR$1>=$H61,AR$1<=IF(AND($H61>$M$1,$I61=\"\"),$M$2,$I61)),AND(AR$1>=$H62,AR$1<=IF(AND($H62>$M$1,$I62=\"\"),$M$2,$I62)),AND(AR$1>=$H63,AR$1<=IF(AND($H63>$M$1,$I63=\"\"),$M$2,$I63))),$H$3,\"\"))","v":""}]
[null,null,null,null,null,null,null,null,null,null,null,null,null,{"$f":"IF(OR(AND(N$1>=$J60,N$1<=IF(AND($J60>$M$1,$K60=\"\"),$M$2,$K60)),AND(N$1>=$J61,N$1<=IF(AND($J61>$M$1,$K61=\"\"),$M$2,$K61)),AND(N$1>=$J62,N$1<=IF(AND($J62>$M$1,$K62=\"\"),$M$2,$K62)),AND(N$1>=$J63,N$1<=IF(AND($J63>$M$1,$K63=\"\"),$M$2,$K63)),AND(N$1>=$J64,N$1<=IF(AND($J64>$M$1,$K64=\"\"),$M$2,$K64))),$J$3,\"\")","v":""},{"$f":"IF(OR(AND(O$1>=$J60,O$1<=IF(AND($J60>$M$1,$K60=\"\"),$M$2,$K60)),AND(O$1>=$J61,O$1<=IF(AND($J61>$M$1,$K61=\"\"),$M$2,$K61)),AND(O$1>=$J62,O$1<=IF(AND($J62>$M$1,$K62=\"\"),$M$2,$K62)),AND(O$1>=$J63,O$1<=IF(AND($J63>$M$1,$K63=\"\"),$M$2,$K63)),AND(O$1>=$J64,O$1<=IF(AND($J64>$M$1,$K64=\"\"),$M$2,$K64))),$J$3,\"\")","v":""},{"$f":"IF(OR(AND(P$1>=$J60,P$1<=IF(AND($J60>$M$1,$K60=\"\"),$M$2,$K60)),AND(P$1>=$J61,P$1<=IF(AND($J61>$M$1,$K61=\"\"),$M$2,$K61)),AND(P$1>=$J62,P$1<=IF(AND($J62>$M$1,$K62=\"\"),$M$2,$K62)),AND(P$1>=$J63,P$1<=IF(AND($J63>$M$1,$K63=\"\"),$M$2,$K63)),AND(P$1>=$J64,P$1<=IF(AND($J64>$M$1,$K64=\"\"),$M$2,$K64))),$J$3,\"\")","v":""},{"$f":"IF(OR(AND(Q$1>=$J60,Q$1<=IF(AND($J60>$M$1,$K60=\"\"),$M$2,$K60)),AND(Q$1>=$J61,Q$1<=IF(AND($J61>$M$1,$K61=\"\"),$M$2,$K61)),AND(Q$1>=$J62,Q$1<=IF(AND($J62>$M$1,$K62=\"\"),$M$2,$K62)),AND(Q$1>=$J63,Q$1<=IF(AND($J63>$M$1,$K63=\"\"),$M$2,$K63)),AND(Q$1>=$J64,Q$1<=IF(AND($J64>$M$1,$K64=\"\"),$M$2,$K64))),$J$3,\"\")","v":""},{"$f":"IF(OR(AND(R$1>=$J60,R$1<=IF(AND($J60>$M$1,$K60=\"\"),$M$2,$K60)),AND(R$1>=$J61,R$1<=IF(AND($J61>$M$1,$K61=\"\"),$M$2,$K61)),AND(R$1>=$J62,R$1<=IF(AND($J62>$M$1,$K62=\"\"),$M$2,$K62)),AND(R$1>=$J63,R$1<=IF(AND($J63>$M$1,$K63=\"\"),$M$2,$K63)),AND(R$1>=$J64,R$1<=IF(AND($J64>$M$1,$K64=\"\"),$M$2,$K64))),$J$3,\"\")","v":""},{"$f":"IF(OR(AND(S$1>=$J60,S$1<=IF(AND($J60>$M$1,$K60=\"\"),$M$2,$K60)),AND(S$1>=$J61,S$1<=IF(AND($J61>$M$1,$K61=\"\"),$M$2,$K61)),AND(S$1>=$J62,S$1<=IF(AND($J62>$M$1,$K62=\"\"),$M$2,$K62)),AND(S$1>=$J63,S$1<=IF(AND($J63>$M$1,$K63=\"\"),$M$2,$K63)),AND(S$1>=$J64,S$1<=IF(AND($J64>$M$1,$K64=\"\"),$M$2,$K64))),$J$3,\"\")","v":""},{"$f":"IF(OR(AND(T$1>=$J60,T$1<=IF(AND($J60>$M$1,$K60=\"\"),$M$2,$K60)),AND(T$1>=$J61,T$1<=IF(AND($J61>$M$1,$K61=\"\"),$M$2,$K61)),AND(T$1>=$J62,T$1<=IF(AND($J62>$M$1,$K62=\"\"),$M$2,$K62)),AND(T$1>=$J63,T$1<=IF(AND($J63>$M$1,$K63=\"\"),$M$2,$K63)),AND(T$1>=$J64,T$1<=IF(AND($J64>$M$1,$K64=\"\"),$M$2,$K64))),$J$3,\"\")","v":""},{"$f":"IF(OR(AND(U$1>=$J60,U$1<=IF(AND($J60>$M$1,$K60=\"\"),$M$2,$K60)),AND(U$1>=$J61,U$1<=IF(AND($J61>$M$1,$K61=\"\"),$M$2,$K61)),AND(U$1>=$J62,U$1<=IF(AND($J62>$M$1,$K62=\"\"),$M$2,$K62)),AND(U$1>=$J63,U$1<=IF(AND($J63>$M$1,$K63=\"\"),$M$2,$K63)),AND(U$1>=$J64,U$1<=IF(AND($J64>$M$1,$K64=\"\"),$M$2,$K64))),$J$3,\"\")","v":""},{"$f":"IF(OR(AND(V$1>=$J60,V$1<=IF(AND($J60>$M$1,$K60=\"\"),$M$2,$K60)),AND(V$1>=$J61,V$1<=IF(AND($J61>$M$1,$K61=\"\"),$M$2,$K61)),AND(V$1>=$J62,V$1<=IF(AND($J62>$M$1,$K62=\"\"),$M$2,$K62)),AND(V$1>=$J63,V$1<=IF(AND($J63>$M$1,$K63=\"\"),$M$2,$K63)),AND(V$1>=$J64,V$1<=IF(AND($J64>$M$1,$K64=\"\"),$M$2,$K64))),$J$3,\"\")","v":""},{"$f":"IF(OR(AND(W$1>=$J60,W$1<=IF(AND($J60>$M$1,$K60=\"\"),$M$2,$K60)),AND(W$1>=$J61,W$1<=IF(AND($J61>$M$1,$K61=\"\"),$M$2,$K61)),AND(W$1>=$J62,W$1<=IF(AND($J62>$M$1,$K62=\"\"),$M$2,$K62)),AND(W$1>=$J63,W$1<=IF(AND($J63>$M$1,$K63=\"\"),$M$2,$K63)),AND(W$1>=$J64,W$1<=IF(AND($J64>$M$1,$K64=\"\"),$M$2,$K64))),$J$3,\"\")","v":""},{"$f":"IF(OR(AND(X$1>=$J60,X$1<=IF(AND($J60>$M$1,$K60=\"\"),$M$2,$K60)),AND(X$1>=$J61,X$1<=IF(AND($J61>$M$1,$K61=\"\"),$M$2,$K61)),AND(X$1>=$J62,X$1<=IF(AND($J62>$M$1,$K62=\"\"),$M$2,$K62)),AND(X$1>=$J63,X$1<=IF(AND($J63>$M$1,$K63=\"\"),$M$2,$K63)),AND(X$1>=$J64,X$1<=IF(AND($J64>$M$1,$K64=\"\"),$M$2,$K64))),$J$3,\"\")","v":""},{"$f":"IF(OR(AND(Y$1>=$J60,Y$1<=IF(AND($J60>$M$1,$K60=\"\"),$M$2,$K60)),AND(Y$1>=$J61,Y$1<=IF(AND($J61>$M$1,$K61=\"\"),$M$2,$K61)),AND(Y$1>=$J62,Y$1<=IF(AND($J62>$M$1,$K62=\"\"),$M$2,$K62)),AND(Y$1>=$J63,Y$1<=IF(AND($J63>$M$1,$K63=\"\"),$M$2,$K63)),AND(Y$1>=$J64,Y$1<=IF(AND($J64>$M$1,$K64=\"\"),$M$2,$K64))),$J$3,\"\")","v":""},{"$f":"IF(OR(AND(Z$1>=$J60,Z$1<=IF(AND($J60>$M$1,$K60=\"\"),$M$2,$K60)),AND(Z$1>=$J61,Z$1<=IF(AND($J61>$M$1,$K61=\"\"),$M$2,$K61)),AND(Z$1>=$J62,Z$1<=IF(AND($J62>$M$1,$K62=\"\"),$M$2,$K62)),AND(Z$1>=$J63,Z$1<=IF(AND($J63>$M$1,$K63=\"\"),$M$2,$K63)),AND(Z$1>=$J64,Z$1<=IF(AND($J64>$M$1,$K64=\"\"),$M$2,$K64))),$J$3,\"\")","v":""},{"$f":"IF(OR(AND(AA$1>=$J60,AA$1<=IF(AND($J60>$M$1,$K60=\"\"),$M$2,$K60)),AND(AA$1>=$J61,AA$1<=IF(AND($J61>$M$1,$K61=\"\"),$M$2,$K61)),AND(AA$1>=$J62,AA$1<=IF(AND($J62>$M$1,$K62=\"\"),$M$2,$K62)),AND(AA$1>=$J63,AA$1<=IF(AND($J63>$M$1,$K63=\"\"),$M$2,$K63)),AND(AA$1>=$J64,AA$1<=IF(AND($J64>$M$1,$K64=\"\"),$M$2,$K64))),$J$3,\"\")","v":""},{"$f":"IF(OR(AND(AB$1>=$J60,AB$1<=IF(AND($J60>$M$1,$K60=\"\"),$M$2,$K60)),AND(AB$1>=$J61,AB$1<=IF(AND($J61>$M$1,$K61=\"\"),$M$2,$K61)),AND(AB$1>=$J62,AB$1<=IF(AND($J62>$M$1,$K62=\"\"),$M$2,$K62)),AND(AB$1>=$J63,AB$1<=IF(AND($J63>$M$1,$K63=\"\"),$M$2,$K63)),AND(AB$1>=$J64,AB$1<=IF(AND($J64>$M$1,$K64=\"\"),$M$2,$K64))),$J$3,\"\")","v":""},{"$f":"IF(OR(AND(AC$1>=$J60,AC$1<=IF(AND($J60>$M$1,$K60=\"\"),$M$2,$K60)),AND(AC$1>=$J61,AC$1<=IF(AND($J61>$M$1,$K61=\"\"),$M$2,$K61)),AND(AC$1>=$J62,AC$1<=IF(AND($J62>$M$1,$K62=\"\"),$M$2,$K62)),AND(AC$1>=$J63,AC$1<=IF(AND($J63>$M$1,$K63=\"\"),$M$2,$K63)),AND(AC$1>=$J64,AC$1<=IF(AND($J64>$M$1,$K64=\"\"),$M$2,$K64))),$J$3,\"\")","v":""},{"$f":"IF(OR(AND(AD$1>=$J60,AD$1<=IF(AND($J60>$M$1,$K60=\"\"),$M$2,$K60)),AND(AD$1>=$J61,AD$1<=IF(AND($J61>$M$1,$K61=\"\"),$M$2,$K61)),AND(AD$1>=$J62,AD$1<=IF(AND($J62>$M$1,$K62=\"\"),$M$2,$K62)),AND(AD$1>=$J63,AD$1<=IF(AND($J63>$M$1,$K63=\"\"),$M$2,$K63)),AND(AD$1>=$J64,AD$1<=IF(AND($J64>$M$1,$K64=\"\"),$M$2,$K64))),$J$3,\"\")","v":""},{"$f":"IF(OR(AND(AE$1>=$J60,AE$1<=IF(AND($J60>$M$1,$K60=\"\"),$M$2,$K60)),AND(AE$1>=$J61,AE$1<=IF(AND($J61>$M$1,$K61=\"\"),$M$2,$K61)),AND(AE$1>=$J62,AE$1<=IF(AND($J62>$M$1,$K62=\"\"),$M$2,$K62)),AND(AE$1>=$J63,AE$1<=IF(AND($J63>$M$1,$K63=\"\"),$M$2,$K63)),AND(AE$1>=$J64,AE$1<=IF(AND($J64>$M$1,$K64=\"\"),$M$2,$K64))),$J$3,\"\")","v":""},{"$f":"IF(OR(AND(AF$1>=$J60,AF$1<=IF(AND($J60>$M$1,$K60=\"\"),$M$2,$K60)),AND(AF$1>=$J61,AF$1<=IF(AND($J61>$M$1,$K61=\"\"),$M$2,$K61)),AND(AF$1>=$J62,AF$1<=IF(AND($J62>$M$1,$K62=\"\"),$M$2,$K62)),AND(AF$1>=$J63,AF$1<=IF(AND($J63>$M$1,$K63=\"\"),$M$2,$K63)),AND(AF$1>=$J64,AF$1<=IF(AND($J64>$M$1,$K64=\"\"),$M$2,$K64))),$J$3,\"\")","v":""},{"$f":"IF(OR(AND(AG$1>=$J60,AG$1<=IF(AND($J60>$M$1,$K60=\"\"),$M$2,$K60)),AND(AG$1>=$J61,AG$1<=IF(AND($J61>$M$1,$K61=\"\"),$M$2,$K61)),AND(AG$1>=$J62,AG$1<=IF(AND($J62>$M$1,$K62=\"\"),$M$2,$K62)),AND(AG$1>=$J63,AG$1<=IF(AND($J63>$M$1,$K63=\"\"),$M$2,$K63)),AND(AG$1>=$J64,AG$1<=IF(AND($J64>$M$1,$K64=\"\"),$M$2,$K64))),$J$3,\"\")","v":""},{"$f":"IF(OR(AND(AH$1>=$J60,AH$1<=IF(AND($J60>$M$1,$K60=\"\"),$M$2,$K60)),AND(AH$1>=$J61,AH$1<=IF(AND($J61>$M$1,$K61=\"\"),$M$2,$K61)),AND(AH$1>=$J62,AH$1<=IF(AND($J62>$M$1,$K62=\"\"),$M$2,$K62)),AND(AH$1>=$J63,AH$1<=IF(AND($J63>$M$1,$K63=\"\"),$M$2,$K63)),AND(AH$1>=$J64,AH$1<=IF(AND($J64>$M$1,$K64=\"\"),$M$2,$K64))),$J$3,\"\")","v":""},{"$f":"IF(OR(AND(AI$1>=$J60,AI$1<=IF(AND($J60>$M$1,$K60=\"\"),$M$2,$K60)),AND(AI$1>=$J61,AI$1<=IF(AND($J61>$M$1,$K61=\"\"),$M$2,$K61)),AND(AI$1>=$J62,AI$1<=IF(AND($J62>$M$1,$K62=\"\"),$M$2,$K62)),AND(AI$1>=$J63,AI$1<=IF(AND($J63>$M$1,$K63=\"\"),$M$2,$K63)),AND(AI$1>=$J64,AI$1<=IF(AND($J64>$M$1,$K64=\"\"),$M$2,$K64))),$J$3,\"\")","v":""},{"$f":"IF(OR(AND(AJ$1>=$J60,AJ$1<=IF(AND($J60>$M$1,$K60=\"\"),$M$2,$K60)),AND(AJ$1>=$J61,AJ$1<=IF(AND($J61>$M$1,$K61=\"\"),$M$2,$K61)),AND(AJ$1>=$J62,AJ$1<=IF(AND($J62>$M$1,$K62=\"\"),$M$2,$K62)),AND(AJ$1>=$J63,AJ$1<=IF(AND($J63>$M$1,$K63=\"\"),$M$2,$K63)),AND(AJ$1>=$J64,AJ$1<=IF(AND($J64>$M$1,$K64=\"\"),$M$2,$K64))),$J$3,\"\")","v":""},{"$f":"IF(OR(AND(AK$1>=$J60,AK$1<=IF(AND($J60>$M$1,$K60=\"\"),$M$2,$K60)),AND(AK$1>=$J61,AK$1<=IF(AND($J61>$M$1,$K61=\"\"),$M$2,$K61)),AND(AK$1>=$J62,AK$1<=IF(AND($J62>$M$1,$K62=\"\"),$M$2,$K62)),AND(AK$1>=$J63,AK$1<=IF(AND($J63>$M$1,$K63=\"\"),$M$2,$K63)),AND(AK$1>=$J64,AK$1<=IF(AND($J64>$M$1,$K64=\"\"),$M$2,$K64))),$J$3,\"\")","v":""},{"$f":"IF(OR(AND(AL$1>=$J60,AL$1<=IF(AND($J60>$M$1,$K60=\"\"),$M$2,$K60)),AND(AL$1>=$J61,AL$1<=IF(AND($J61>$M$1,$K61=\"\"),$M$2,$K61)),AND(AL$1>=$J62,AL$1<=IF(AND($J62>$M$1,$K62=\"\"),$M$2,$K62)),AND(AL$1>=$J63,AL$1<=IF(AND($J63>$M$1,$K63=\"\"),$M$2,$K63)),AND(AL$1>=$J64,AL$1<=IF(AND($J64>$M$1,$K64=\"\"),$M$2,$K64))),$J$3,\"\")","v":""},{"$f":"IF(OR(AND(AM$1>=$J60,AM$1<=IF(AND($J60>$M$1,$K60=\"\"),$M$2,$K60)),AND(AM$1>=$J61,AM$1<=IF(AND($J61>$M$1,$K61=\"\"),$M$2,$K61)),AND(AM$1>=$J62,AM$1<=IF(AND($J62>$M$1,$K62=\"\"),$M$2,$K62)),AND(AM$1>=$J63,AM$1<=IF(AND($J63>$M$1,$K63=\"\"),$M$2,$K63)),AND(AM$1>=$J64,AM$1<=IF(AND($J64>$M$1,$K64=\"\"),$M$2,$K64))),$J$3,\"\")","v":""},{"$f":"IF(OR(AND(AN$1>=$J60,AN$1<=IF(AND($J60>$M$1,$K60=\"\"),$M$2,$K60)),AND(AN$1>=$J61,AN$1<=IF(AND($J61>$M$1,$K61=\"\"),$M$2,$K61)),AND(AN$1>=$J62,AN$1<=IF(AND($J62>$M$1,$K62=\"\"),$M$2,$K62)),AND(AN$1>=$J63,AN$1<=IF(AND($J63>$M$1,$K63=\"\"),$M$2,$K63)),AND(AN$1>=$J64,AN$1<=IF(AND($J64>$M$1,$K64=\"\"),$M$2,$K64))),$J$3,\"\")","v":""},{"$f":"IF(OR(AND(AO$1>=$J60,AO$1<=IF(AND($J60>$M$1,$K60=\"\"),$M$2,$K60)),AND(AO$1>=$J61,AO$1<=IF(AND($J61>$M$1,$K61=\"\"),$M$2,$K61)),AND(AO$1>=$J62,AO$1<=IF(AND($J62>$M$1,$K62=\"\"),$M$2,$K62)),AND(AO$1>=$J63,AO$1<=IF(AND($J63>$M$1,$K63=\"\"),$M$2,$K63)),AND(AO$1>=$J64,AO$1<=IF(AND($J64>$M$1,$K64=\"\"),$M$2,$K64))),$J$3,\"\")","v":""},{"$f":"IF(AP$1=\"\",\"\",IF(OR(AND(AP$1>=$J60,AP$1<=IF(AND($J60>$M$1,$K60=\"\"),$M$2,$K60)),AND(AP$1>=$J61,AP$1<=IF(AND($J61>$M$1,$K61=\"\"),$M$2,$K61)),AND(AP$1>=$J62,AP$1<=IF(AND($J62>$M$1,$K62=\"\"),$M$2,$K62)),AND(AP$1>=$J63,AP$1<=IF(AND($J63>$M$1,$K63=\"\"),$M$2,$K63)),AND(AP$1>=$J64,AP$1<=IF(AND($J64>$M$1,$K64=\"\"),$M$2,$K64))),$J$3,\"\"))","v":""},{"$f":"IF(AQ$1=\"\",\"\",IF(OR(AND(AQ$1>=$J60,AQ$1<=IF(AND($J60>$M$1,$K60=\"\"),$M$2,$K60)),AND(AQ$1>=$J61,AQ$1<=IF(AND($J61>$M$1,$K61=\"\"),$M$2,$K61)),AND(AQ$1>=$J62,AQ$1<=IF(AND($J62>$M$1,$K62=\"\"),$M$2,$K62)),AND(AQ$1>=$J63,AQ$1<=IF(AND($J63>$M$1,$K63=\"\"),$M$2,$K63)),AND(AQ$1>=$J64,AQ$1<=IF(AND($J64>$M$1,$K64=\"\"),$M$2,$K64))),$J$3,\"\"))","v":""},{"$f":"IF(AR$1=\"\",\"\",IF(OR(AND(AR$1>=$J60,AR$1<=IF(AND($J60>$M$1,$K60=\"\"),$M$2,$K60)),AND(AR$1>=$J61,AR$1<=IF(AND($J61>$M$1,$K61=\"\"),$M$2,$K61)),AND(AR$1>=$J62,AR$1<=IF(AND($J62>$M$1,$K62=\"\"),$M$2,$K62)),AND(AR$1>=$J63,AR$1<=IF(AND($J63>$M$1,$K63=\"\"),$M$2,$K63)),AND(AR$1>=$J64,AR$1<=IF(AND($J64>$M$1,$K64=\"\"),$M$2,$K64))),$J$3,\"\"))","v":""}]
[{"$f":"стр.1!C37","v":4453},{"$f":"IFERROR(VLOOKUP(A65,стр.1!$A$13:$D$106,2,FALSE),\"\")","v":"Малкин"},{"$f":"IFERROR(VLOOKUP(A65,стр.1!$A$13:$D$106,4,FALSE),\"\")","v":"сборная"},null,null,null,null,null,null,null,null,null,null,{"$f":"N66&N67&N68&N69","v":""},{"$f":"O66&O67&O68&O69","v":""},{"$f":"P66&P67&P68&P69","v":""},{"$f":"Q66&Q67&Q68&Q69","v":""},{"$f":"R66&R67&R68&R69","v":""},{"$f":"S66&S67&S68&S69","v":""},{"$f":"T66&T67&T68&T69","v":""},{"$f":"U66&U67&U68&U69","v":""},{"$f":"V66&V67&V68&V69","v":""},{"$f":"W66&W67&W68&W69","v":""},{"$f":"X66&X67&X68&X69","v":""},{"$f":"Y66&Y67&Y68&Y69","v":""},{"$f":"Z66&Z67&Z68&Z69","v":""},{"$f":"AA66&AA67&AA68&AA69","v":""},{"$f":"AB66&AB67&AB68&AB69","v":""},{"$f":"AC66&AC67&AC68&AC69","v":""},{"$f":"AD66&AD67&AD68&AD69","v":""},{"$f":"AE66&AE67&AE68&AE69","v":""},{"$f":"AF66&AF67&AF68&AF69","v":""},{"$f":"AG66&AG67&AG68&AG69","v":""},{"$f":"AH66&AH67&AH68&AH69","v":""},{"$f":"AI66&AI67&AI68&AI69","v":""},{"$f":"AJ66&AJ67&AJ68&AJ69","v":""},{"$f":"AK66&AK67&AK68&AK69","v":""},{"$f":"AL66&AL67&AL68&AL69","v":""},{"$f":"AM66&AM67&AM68&AM69","v":""},{"$f":"AN66&AN67&AN68&AN69","v":""},{"$f":"AO66&AO67&AO68&AO69","v":""},{"$f":"AP66&AP67&AP68&AP69","v":""},{"$f":"AQ66&AQ67&AQ68&AQ69","v":""},{"$f":"AR66&AR67&AR68&AR69","v":""}]
[null,null,null,null,null,null,null,null,null,null,null,null,null,{"$f":"IF(OR(AND(N$1>=$D65,N$1<=IF(AND($D65>$M$1,$E65=\"\"),$M$2,$E65)),AND(N$1>=$D66,N$1<=IF(AND($D66>$M$1,$E66=\"\"),$M$2,$E66)),AND(N$1>=$D67,N$1<=IF(AND($D67>$M$1,$E67=\"\"),$M$2,$E67)),AND(N$1>=$D68,N$1<=IF(AND($D68>$M$1,$E68=\"\"),$M$2,$E68))),$D$3,\"\")","v":""},{"$f":"IF(OR(AND(O$1>=$D65,O$1<=IF(AND($D65>$M$1,$E65=\"\"),$M$2,$E65)),AND(O$1>=$D66,O$1<=IF(AND($D66>$M$1,$E66=\"\"),$M$2,$E66)),AND(O$1>=$D67,O$1<=IF(AND($D67>$M$1,$E67=\"\"),$M$2,$E67)),AND(O$1>=$D68,O$1<=IF(AND($D68>$M$1,$E68=\"\"),$M$2,$E68))),$D$3,\"\")","v":""},"","","","","","","","","","","","","","","","","","","","","","","","","","",{"$f":"IF(AP$1=\"\",\"\",IF(OR(AND(AP$1>=$D65,AP$1<=IF(AND($D65>$M$1,$E65=\"\"),$M$2,$E65)),AND(AP$1>=$D66,AP$1<=IF(AND($D66>$M$1,$E66=\"\"),$M$2,$E66)),AND(AP$1>=$D67,AP$1<=IF(AND($D67>$M$1,$E67=\"\"),$M$2,$E67)),AND(AP$1>=$D68,AP$1<=IF(AND($D68>$M$1,$E68=\"\"),$M$2,$E68))),$D$3,\"\"))","v":""},{"$f":"IF(AQ$1=\"\",\"\",IF(OR(AND(AQ$1>=$D65,AQ$1<=IF(AND($D65>$M$1,$E65=\"\"),$M$2,$E65)),AND(AQ$1>=$D66,AQ$1<=IF(AND($D66>$M$1,$E66=\"\"),$M$2,$E66)),AND(AQ$1>=$D67,AQ$1<=IF(AND($D67>$M$1,$E67=\"\"),$M$2,$E67)),AND(AQ$1>=$D68,AQ$1<=IF(AND($D68>$M$1,$E68=\"\"),$M$2,$E68))),$D$3,\"\"))","v":""},""]
[null,null,null,null,null,null,null,null,null,null,null,null,null,{"$f":"IF(OR(AND(N$1>=$F65,N$1<=IF(AND($F65>$M$1,$G65=\"\"),$M$2,$G65)),AND(N$1>=$F66,N$1<=IF(AND($F66>$M$1,$G66=\"\"),$M$2,$G66)),AND(N$1>=$F67,N$1<=IF(AND($F67>$M$1,$G67=\"\"),$M$2,$G67)),AND(N$1>=$F68,N$1<=IF(AND($F68>$M$1,$G68=\"\"),$M$2,$G68))),$F$3,\"\")","v":""},{"$f":"IF(OR(AND(O$1>=$F65,O$1<=IF(AND($F65>$M$1,$G65=\"\"),$M$2,$G65)),AND(O$1>=$F66,O$1<=IF(AND($F66>$M$1,$G66=\"\"),$M$2,$G66)),AND(O$1>=$F67,O$1<=IF(AND($F67>$M$1,$G67=\"\"),$M$2,$G67)),AND(O$1>=$F68,O$1<=IF(AND($F68>$M$1,$G68=\"\"),$M$2,$G68))),$F$3,\"\")","v":""},"","","","","","","","","","","","","","","","","","","","","","","","","","",{"$f":"IF(AP$1=\"\",\"\",IF(OR(AND(AP$1>=$F65,AP$1<=IF(AND($F65>$M$1,$G65=\"\"),$M$2,$G65)),AND(AP$1>=$F66,AP$1<=IF(AND($F66>$M$1,$G66=\"\"),$M$2,$G66)),AND(AP$1>=$F67,AP$1<=IF(AND($F67>$M$1,$G67=\"\"),$M$2,$G67)),AND(AP$1>=$F68,AP$1<=IF(AND($F68>$M$1,$G68=\"\"),$M$2,$G68))),$F$3,\"\"))","v":""},{"$f":"IF(AQ$1=\"\",\"\",IF(OR(AND(AQ$1>=$F65,AQ$1<=IF(AND($F65>$M$1,$G65=\"\"),$M$2,$G65)),AND(AQ$1>=$F66,AQ$1<=IF(AND($F66>$M$1,$G66=\"\"),$M$2,$G66)),AND(AQ$1>=$F67,AQ$1<=IF(AND($F67>$M$1,$G67=\"\"),$M$2,$G67)),AND(AQ$1>=$F68,AQ$1<=IF(AND($F68>$M$1,$G68=\"\"),$M$2,$G68))),$F$3,\"\"))","v":""},""]
[null,null,null,null,null,null,null,null,null,null,null,null,null,{"$f":"IF(OR(AND(N$1>=$H65,N$1<=IF(AND($H65>$M$1,$I65=\"\"),$M$2,$I65)),AND(N$1>=$H66,N$1<=IF(AND($H66>$M$1,$I66=\"\"),$M$2,$I66)),AND(N$1>=$H67,N$1<=IF(AND($H67>$M$1,$I67=\"\"),$M$2,$I67)),AND(N$1>=$H68,N$1<=IF(AND($H68>$M$1,$I68=\"\"),$M$2,$I68))),$H$3,\"\")","v":""},"","","","","","","","","","","","","","","","","","","","","","","","","","","",{"$f":"IF(AP$1=\"\",\"\",IF(OR(AND(AP$1>=$H65,AP$1<=IF(AND($H65>$M$1,$I65=\"\"),$M$2,$I65)),AND(AP$1>=$H66,AP$1<=IF(AND($H66>$M$1,$I66=\"\"),$M$2,$I66)),AND(AP$1>=$H67,AP$1<=IF(AND($H67>$M$1,$I67=\"\"),$M$2,$I67)),AND(AP$1>=$H68,AP$1<=IF(AND($H68>$M$1,$I68=\"\"),$M$2,$I68))),$H$3,\"\"))","v":""},{"$f":"IF(AQ$1=\"\",\"\",IF(OR(AND(AQ$1>=$H65,AQ$1<=IF(AND($H65>$M$1,$I65=\"\"),$M$2,$I65)),AND(AQ$1>=$H66,AQ$1<=IF(AND($H66>$M$1,$I66=\"\"),$M$2,$I66)),AND(AQ$1>=$H67,AQ$1<=IF(AND($H67>$M$1,$I67=\"\"),$M$2,$I67)),AND(AQ$1>=$H68,AQ$1<=IF(AND($H68>$M$1,$I68=\"\"),$M$2,$I68))),$H$3,\"\"))","v":""},{"$f":"IF(AR$1=\"\",\"\",IF(OR(AND(AR$1>=$H65,AR$1<=IF(AND($H65>$M$1,$I65=\"\"),$M$2,$I65)),AND(AR$1>=$H66,AR$1<=IF(AND($H66>$M$1,$I66=\"\"),$M$2,$I66)),AND(AR$1>=$H67,AR$1<=IF(AND($H67>$M$1,$I67=\"\"),$M$2,$I67)),AND(AR$1>=$H68,AR$1<=IF(AND($H68>$M$1,$I68=\"\"),$M$2,$I68))),$H$3,\"\"))","v":""}]
[null,null,null,null,null,null,null,null,null,null,null,null,null,{"$f":"IF(OR(AND(N$1>=$J65,N$1<=IF(AND($J65>$M$1,$K65=\"\"),$M$2,$K65)),AND(N$1>=$J66,N$1<=IF(AND($J66>$M$1,$K66=\"\"),$M$2,$K66)),AND(N$1>=$J67,N$1<=IF(AND($J67>$M$1,$K67=\"\"),$M$2,$K67)),AND(N$1>=$J68,N$1<=IF(AND($J68>$M$1,$K68=\"\"),$M$2,$K68)),AND(N$1>=$J69,N$1<=IF(AND($J69>$M$1,$K69=\"\"),$M$2,$K69))),$J$3,\"\")","v":""},{"$f":"IF(OR(AND(O$1>=$J65,O$1<=IF(AND($J65>$M$1,$K65=\"\"),$M$2,$K65)),AND(O$1>=$J66,O$1<=IF(AND($J66>$M$1,$K66=\"\"),$M$2,$K66)),AND(O$1>=$J67,O$1<=IF(AND($J67>$M$1,$K67=\"\"),$M$2,$K67)),AND(O$1>=$J68,O$1<=IF(AND($J68>$M$1,$K68=\"\"),$M$2,$K68)),AND(O$1>=$J69,O$1<=IF(AND($J69>$M$1,$K69=\"\"),$M$2,$K69))),$J$3,\"\")","v":""},{"$f":"IF(OR(AND(P$1>=$J65,P$1<=IF(AND($J65>$M$1,$K65=\"\"),$M$2,$K65)),AND(P$1>=$J66,P$1<=IF(AND($J66>$M$1,$K66=\"\"),$M$2,$K66)),AND(P$1>=$J67,P$1<=IF(AND($J67>$M$1,$K67=\"\"),$M$2,$K67)),AND(P$1>=$J68,P$1<=IF(AND($J68>$M$1,$K68=\"\"),$M$2,$K68)),AND(P$1>=$J69,P$1<=IF(AND($J69>$M$1,$K69=\"\"),$M$2,$K69))),$J$3,\"\")","v":""},{"$f":"IF(OR(AND(Q$1>=$J65,Q$1<=IF(AND($J65>$M$1,$K65=\"\"),$M$2,$K65)),AND(Q$1>=$J66,Q$1<=IF(AND($J66>$M$1,$K66=\"\"),$M$2,$K66)),AND(Q$1>=$J67,Q$1<=IF(AND($J67>$M$1,$K67=\"\"),$M$2,$K67)),AND(Q$1>=$J68,Q$1<=IF(AND($J68>$M$1,$K68=\"\"),$M$2,$K68)),AND(Q$1>=$J69,Q$1<=IF(AND($J69>$M$1,$K69=\"\"),$M$2,$K69))),$J$3,\"\")","v":""},{"$f":"IF(OR(AND(R$1>=$J65,R$1<=IF(AND($J65>$M$1,$K65=\"\"),$M$2,$K65)),AND(R$1>=$J66,R$1<=IF(AND($J66>$M$1,$K66=\"\"),$M$2,$K66)),AND(R$1>=$J67,R$1<=IF(AND($J67>$M$1,$K67=\"\"),$M$2,$K67)),AND(R$1>=$J68,R$1<=IF(AND($J68>$M$1,$K68=\"\"),$M$2,$K68)),AND(R$1>=$J69,R$1<=IF(AND($J69>$M$1,$K69=\"\"),$M$2,$K69))),$J$3,\"\")","v":""},{"$f":"IF(OR(AND(S$1>=$J65,S$1<=IF(AND($J65>$M$1,$K65=\"\"),$M$2,$K65)),AND(S$1>=$J66,S$1<=IF(AND($J66>$M$1,$K66=\"\"),$M$2,$K66)),AND(S$1>=$J67,S$1<=IF(AND($J67>$M$1,$K67=\"\"),$M$2,$K67)),AND(S$1>=$J68,S$1<=IF(AND($J68>$M$1,$K68=\"\"),$M$2,$K68)),AND(S$1>=$J69,S$1<=IF(AND($J69>$M$1,$K69=\"\"),$M$2,$K69))),$J$3,\"\")","v":""},{"$f":"IF(OR(AND(T$1>=$J65,T$1<=IF(AND($J65>$M$1,$K65=\"\"),$M$2,$K65)),AND(T$1>=$J66,T$1<=IF(AND($J66>$M$1,$K66=\"\"),$M$2,$K66)),AND(T$1>=$J67,T$1<=IF(AND($J67>$M$1,$K67=\"\"),$M$2,$K67)),AND(T$1>=$J68,T$1<=IF(AND($J68>$M$1,$K68=\"\"),$M$2,$K68)),AND(T$1>=$J69,T$1<=IF(AND($J69>$M$1,$K69=\"\"),$M$2,$K69))),$J$3,\"\")","v":""},{"$f":"IF(OR(AND(U$1>=$J65,U$1<=IF(AND($J65>$M$1,$K65=\"\"),$M$2,$K65)),AND(U$1>=$J66,U$1<=IF(AND($J66>$M$1,$K66=\"\"),$M$2,$K66)),AND(U$1>=$J67,U$1<=IF(AND($J67>$M$1,$K67=\"\"),$M$2,$K67)),AND(U$1>=$J68,U$1<=IF(AND($J68>$M$1,$K68=\"\"),$M$2,$K68)),AND(U$1>=$J69,U$1<=IF(AND($J69>$M$1,$K69=\"\"),$M$2,$K69))),$J$3,\"\")","v":""},{"$f":"IF(OR(AND(V$1>=$J65,V$1<=IF(AND($J65>$M$1,$K65=\"\"),$M$2,$K65)),AND(V$1>=$J66,V$1<=IF(AND($J66>$M$1,$K66=\"\"),$M$2,$K66)),AND(V$1>=$J67,V$1<=IF(AND($J67>$M$1,$K67=\"\"),$M$2,$K67)),AND(V$1>=$J68,V$1<=IF(AND($J68>$M$1,$K68=\"\"),$M$2,$K68)),AND(V$1>=$J69,V$1<=IF(AND($J69>$M$1,$K69=\"\"),$M$2,$K69))),$J$3,\"\")","v":""},{"$f":"IF(OR(AND(W$1>=$J65,W$1<=IF(AND($J65>$M$1,$K65=\"\"),$M$2,$K65)),AND(W$1>=$J66,W$1<=IF(AND($J66>$M$1,$K66=\"\"),$M$2,$K66)),AND(W$1>=$J67,W$1<=IF(AND($J67>$M$1,$K67=\"\"),$M$2,$K67)),AND(W$1>=$J68,W$1<=IF(AND($J68>$M$1,$K68=\"\"),$M$2,$K68)),AND(W$1>=$J69,W$1<=IF(AND($J69>$M$1,$K69=\"\"),$M$2,$K69))),$J$3,\"\")","v":""},{"$f":"IF(OR(AND(X$1>=$J65,X$1<=IF(AND($J65>$M$1,$K65=\"\"),$M$2,$K65)),AND(X$1>=$J66,X$1<=IF(AND($J66>$M$1,$K66=\"\"),$M$2,$K66)),AND(X$1>=$J67,X$1<=IF(AND($J67>$M$1,$K67=\"\"),$M$2,$K67)),AND(X$1>=$J68,X$1<=IF(AND($J68>$M$1,$K68=\"\"),$M$2,$K68)),AND(X$1>=$J69,X$1<=IF(AND($J69>$M$1,$K69=\"\"),$M$2,$K69))),$J$3,\"\")","v":""},{"$f":"IF(OR(AND(Y$1>=$J65,Y$1<=IF(AND($J65>$M$1,$K65=\"\"),$M$2,$K65)),AND(Y$1>=$J66,Y$1<=IF(AND($J66>$M$1,$K66=\"\"),$M$2,$K66)),AND(Y$1>=$J67,Y$1<=IF(AND($J67>$M$1,$K67=\"\"),$M$2,$K67)),AND(Y$1>=$J68,Y$1<=IF(AND($J68>$M$1,$K68=\"\"),$M$2,$K68)),AND(Y$1>=$J69,Y$1<=IF(AND($J69>$M$1,$K69=\"\"),$M$2,$K69))),$J$3,\"\")","v":""},{"$f":"IF(OR(AND(Z$1>=$J65,Z$1<=IF(AND($J65>$M$1,$K65=\"\"),$M$2,$K65)),AND(Z$1>=$J66,Z$1<=IF(AND($J66>$M$1,$K66=\"\"),$M$2,$K66)),AND(Z$1>=$J67,Z$1<=IF(AND($J67>$M$1,$K67=\"\"),$M$2,$K67)),AND(Z$1>=$J68,Z$1<=IF(AND($J68>$M$1,$K68=\"\"),$M$2,$K68)),AND(Z$1>=$J69,Z$1<=IF(AND($J69>$M$1,$K69=\"\"),$M$2,$K69))),$J$3,\"\")","v":""},{"$f":"IF(OR(AND(AA$1>=$J65,AA$1<=IF(AND($J65>$M$1,$K65=\"\"),$M$2,$K65)),AND(AA$1>=$J66,AA$1<=IF(AND($J66>$M$1,$K66=\"\"),$M$2,$K66)),AND(AA$1>=$J67,AA$1<=IF(AND($J67>$M$1,$K67=\"\"),$M$2,$K67)),AND(AA$1>=$J68,AA$1<=IF(AND($J68>$M$1,$K68=\"\"),$M$2,$K68)),AND(AA$1>=$J69,AA$1<=IF(AND($J69>$M$1,$K69=\"\"),$M$2,$K69))),$J$3,\"\")","v":""},{"$f":"IF(OR(AND(AB$1>=$J65,AB$1<=IF(AND($J65>$M$1,$K65=\"\"),$M$2,$K65)),AND(AB$1>=$J66,AB$1<=IF(AND($J66>$M$1,$K66=\"\"),$M$2,$K66)),AND(AB$1>=$J67,AB$1<=IF(AND($J67>$M$1,$K67=\"\"),$M$2,$K67)),AND(AB$1>=$J68,AB$1<=IF(AND($J68>$M$1,$K68=\"\"),$M$2,$K68)),AND(AB$1>=$J69,AB$1<=IF(AND($J69>$M$1,$K69=\"\"),$M$2,$K69))),$J$3,\"\")","v":""},{"$f":"IF(OR(AND(AC$1>=$J65,AC$1<=IF(AND($J65>$M$1,$K65=\"\"),$M$2,$K65)),AND(AC$1>=$J66,AC$1<=IF(AND($J66>$M$1,$K66=\"\"),$M$2,$K66)),AND(AC$1>=$J67,AC$1<=IF(AND($J67>$M$1,$K67=\"\"),$M$2,$K67)),AND(AC$1>=$J68,AC$1<=IF(AND($J68>$M$1,$K68=\"\"),$M$2,$K68)),AND(AC$1>=$J69,AC$1<=IF(AND($J69>$M$1,$K69=\"\"),$M$2,$K69))),$J$3,\"\")","v":""},{"$f":"IF(OR(AND(AD$1>=$J65,AD$1<=IF(AND($J65>$M$1,$K65=\"\"),$M$2,$K65)),AND(AD$1>=$J66,AD$1<=IF(AND($J66>$M$1,$K66=\"\"),$M$2,$K66)),AND(AD$1>=$J67,AD$1<=IF(AND($J67>$M$1,$K67=\"\"),$M$2,$K67)),AND(AD$1>=$J68,AD$1<=IF(AND($J68>$M$1,$K68=\"\"),$M$2,$K68)),AND(AD$1>=$J69,AD$1<=IF(AND($J69>$M$1,$K69=\"\"),$M$2,$K69))),$J$3,\"\")","v":""},{"$f":"IF(OR(AND(AE$1>=$J65,AE$1<=IF(AND($J65>$M$1,$K65=\"\"),$M$2,$K65)),AND(AE$1>=$J66,AE$1<=IF(AND($J66>$M$1,$K66=\"\"),$M$2,$K66)),AND(AE$1>=$J67,AE$1<=IF(AND($J67>$M$1,$K67=\"\"),$M$2,$K67)),AND(AE$1>=$J68,AE$1<=IF(AND($J68>$M$1,$K68=\"\"),$M$2,$K68)),AND(AE$1>=$J69,AE$1<=IF(AND($J69>$M$1,$K69=\"\"),$M$2,$K69))),$J$3,\"\")","v":""},{"$f":"IF(OR(AND(AF$1>=$J65,AF$1<=IF(AND($J65>$M$1,$K65=\"\"),$M$2,$K65)),AND(AF$1>=$J66,AF$1<=IF(AND($J66>$M$1,$K66=\"\"),$M$2,$K66)),AND(AF$1>=$J67,AF$1<=IF(AND($J67>$M$1,$K67=\"\"),$M$2,$K67)),AND(AF$1>=$J68,AF$1<=IF(AND($J68>$M$1,$K68=\"\"),$M$2,$K68)),AND(AF$1>=$J69,AF$1<=IF(AND($J69>$M$1,$K69=\"\"),$M$2,$K69))),$J$3,\"\")","v":""},{"$f":"IF(OR(AND(AG$1>=$J65,AG$1<=IF(AND($J65>$M$1,$K65=\"\"),$M$2,$K65)),AND(AG$1>=$J66,AG$1<=IF(AND($J66>$M$1,$K66=\"\"),$M$2,$K66)),AND(AG$1>=$J67,AG$1<=IF(AND($J67>$M$1,$K67=\"\"),$M$2,$K67)),AND(AG$1>=$J68,AG$1<=IF(AND($J68>$M$1,$K68=\"\"),$M$2,$K68)),AND(AG$1>=$J69,AG$1<=IF(AND($J69>$M$1,$K69=\"\"),$M$2,$K69))),$J$3,\"\")","v":""},{"$f":"IF(OR(AND(AH$1>=$J65,AH$1<=IF(AND($J65>$M$1,$K65=\"\"),$M$2,$K65)),AND(AH$1>=$J66,AH$1<=IF(AND($J66>$M$1,$K66=\"\"),$M$2,$K66)),AND(AH$1>=$J67,AH$1<=IF(AND($J67>$M$1,$K67=\"\"),$M$2,$K67)),AND(AH$1>=$J68,AH$1<=IF(AND($J68>$M$1,$K68=\"\"),$M$2,$K68)),AND(AH$1>=$J69,AH$1<=IF(AND($J69>$M$1,$K69=\"\"),$M$2,$K69))),$J$3,\"\")","v":""},{"$f":"IF(OR(AND(AI$1>=$J65,AI$1<=IF(AND($J65>$M$1,$K65=\"\"),$M$2,$K65)),AND(AI$1>=$J66,AI$1<=IF(AND($J66>$M$1,$K66=\"\"),$M$2,$K66)),AND(AI$1>=$J67,AI$1<=IF(AND($J67>$M$1,$K67=\"\"),$M$2,$K67)),AND(AI$1>=$J68,AI$1<=IF(AND($J68>$M$1,$K68=\"\"),$M$2,$K68)),AND(AI$1>=$J69,AI$1<=IF(AND($J69>$M$1,$K69=\"\"),$M$2,$K69))),$J$3,\"\")","v":""},{"$f":"IF(OR(AND(AJ$1>=$J65,AJ$1<=IF(AND($J65>$M$1,$K65=\"\"),$M$2,$K65)),AND(AJ$1>=$J66,AJ$1<=IF(AND($J66>$M$1,$K66=\"\"),$M$2,$K66)),AND(AJ$1>=$J67,AJ$1<=IF(AND($J67>$M$1,$K67=\"\"),$M$2,$K67)),AND(AJ$1>=$J68,AJ$1<=IF(AND($J68>$M$1,$K68=\"\"),$M$2,$K68)),AND(AJ$1>=$J69,AJ$1<=IF(AND($J69>$M$1,$K69=\"\"),$M$2,$K69))),$J$3,\"\")","v":""},{"$f":"IF(OR(AND(AK$1>=$J65,AK$1<=IF(AND($J65>$M$1,$K65=\"\"),$M$2,$K65)),AND(AK$1>=$J66,AK$1<=IF(AND($J66>$M$1,$K66=\"\"),$M$2,$K66)),AND(AK$1>=$J67,AK$1<=IF(AND($J67>$M$1,$K67=\"\"),$M$2,$K67)),AND(AK$1>=$J68,AK$1<=IF(AND($J68>$M$1,$K68=\"\"),$M$2,$K68)),AND(AK$1>=$J69,AK$1<=IF(AND($J69>$M$1,$K69=\"\"),$M$2,$K69))),$J$3,\"\")","v":""},{"$f":"IF(OR(AND(AL$1>=$J65,AL$1<=IF(AND($J65>$M$1,$K65=\"\"),$M$2,$K65)),AND(AL$1>=$J66,AL$1<=IF(AND($J66>$M$1,$K66=\"\"),$M$2,$K66)),AND(AL$1>=$J67,AL$1<=IF(AND($J67>$M$1,$K67=\"\"),$M$2,$K67)),AND(AL$1>=$J68,AL$1<=IF(AND($J68>$M$1,$K68=\"\"),$M$2,$K68)),AND(AL$1>=$J69,AL$1<=IF(AND($J69>$M$1,$K69=\"\"),$M$2,$K69))),$J$3,\"\")","v":""},{"$f":"IF(OR(AND(AM$1>=$J65,AM$1<=IF(AND($J65>$M$1,$K65=\"\"),$M$2,$K65)),AND(AM$1>=$J66,AM$1<=IF(AND($J66>$M$1,$K66=\"\"),$M$2,$K66)),AND(AM$1>=$J67,AM$1<=IF(AND($J67>$M$1,$K67=\"\"),$M$2,$K67)),AND(AM$1>=$J68,AM$1<=IF(AND($J68>$M$1,$K68=\"\"),$M$2,$K68)),AND(AM$1>=$J69,AM$1<=IF(AND($J69>$M$1,$K69=\"\"),$M$2,$K69))),$J$3,\"\")","v":""},{"$f":"IF(OR(AND(AN$1>=$J65,AN$1<=IF(AND($J65>$M$1,$K65=\"\"),$M$2,$K65)),AND(AN$1>=$J66,AN$1<=IF(AND($J66>$M$1,$K66=\"\"),$M$2,$K66)),AND(AN$1>=$J67,AN$1<=IF(AND($J67>$M$1,$K67=\"\"),$M$2,$K67)),AND(AN$1>=$J68,AN$1<=IF(AND($J68>$M$1,$K68=\"\"),$M$2,$K68)),AND(AN$1>=$J69,AN$1<=IF(AND($J69>$M$1,$K69=\"\"),$M$2,$K69))),$J$3,\"\")","v":""},{"$f":"IF(OR(AND(AO$1>=$J65,AO$1<=IF(AND($J65>$M$1,$K65=\"\"),$M$2,$K65)),AND(AO$1>=$J66,AO$1<=IF(AND($J66>$M$1,$K66=\"\"),$M$2,$K66)),AND(AO$1>=$J67,AO$1<=IF(AND($J67>$M$1,$K67=\"\"),$M$2,$K67)),AND(AO$1>=$J68,AO$1<=IF(AND($J68>$M$1,$K68=\"\"),$M$2,$K68)),AND(AO$1>=$J69,AO$1<=IF(AND($J69>$M$1,$K69=\"\"),$M$2,$K69))),$J$3,\"\")","v":""},{"$f":"IF(AP$1=\"\",\"\",IF(OR(AND(AP$1>=$J65,AP$1<=IF(AND($J65>$M$1,$K65=\"\"),$M$2,$K65)),AND(AP$1>=$J66,AP$1<=IF(AND($J66>$M$1,$K66=\"\"),$M$2,$K66)),AND(AP$1>=$J67,AP$1<=IF(AND($J67>$M$1,$K67=\"\"),$M$2,$K67)),AND(AP$1>=$J68,AP$1<=IF(AND($J68>$M$1,$K68=\"\"),$M$2,$K68)),AND(AP$1>=$J69,AP$1<=IF(AND($J69>$M$1,$K69=\"\"),$M$2,$K69))),$J$3,\"\"))","v":""},{"$f":"IF(AQ$1=\"\",\"\",IF(OR(AND(AQ$1>=$J65,AQ$1<=IF(AND($J65>$M$1,$K65=\"\"),$M$2,$K65)),AND(AQ$1>=$J66,AQ$1<=IF(AND($J66>$M$1,$K66=\"\"),$M$2,$K66)),AND(AQ$1>=$J67,AQ$1<=IF(AND($J67>$M$1,$K67=\"\"),$M$2,$K67)),AND(AQ$1>=$J68,AQ$1<=IF(AND($J68>$M$1,$K68=\"\"),$M$2,$K68)),AND(AQ$1>=$J69,AQ$1<=IF(AND($J69>$M$1,$K69=\"\"),$M$2,$K69))),$J$3,\"\"))","v":""},{"$f":"IF(AR$1=\"\",\"\",IF(OR(AND(AR$1>=$J65,AR$1<=IF(AND($J65>$M$1,$K65=\"\"),$M$2,$K65)),AND(AR$1>=$J66,AR$1<=IF(AND($J66>$M$1,$K66=\"\"),$M$2,$K66)),AND(AR$1>=$J67,AR$1<=IF(AND($J67>$M$1,$K67=\"\"),$M$2,$K67)),AND(AR$1>=$J68,AR$1<=IF(AND($J68>$M$1,$K68=\"\"),$M$2,$K68)),AND(AR$1>=$J69,AR$1<=IF(AND($J69>$M$1,$K69=\"\"),$M$2,$K69))),$J$3,\"\"))","v":""}]
[{"$f":"стр.1!C39","v":4671},{"$f":"IFERROR(VLOOKUP(A70,стр.1!$A$13:$D$106,2,FALSE),\"\")","v":"Буре"},{"$f":"IFERROR(VLOOKUP(A70,стр.1!$A$13:$D$106,4,FALSE),\"\")","v":"сборная"},null,null,null,null,null,null,null,null,null,null,{"$f":"N71&N72&N73&N74","v":""},{"$f":"O71&O72&O73&O74","v":""},{"$f":"P71&P72&P73&P74","v":""},{"$f":"Q71&Q72&Q73&Q74","v":""},{"$f":"R71&R72&R73&R74","v":""},{"$f":"S71&S72&S73&S74","v":""},{"$f":"T71&T72&T73&T74","v":""},{"$f":"U71&U72&U73&U74","v":""},{"$f":"V71&V72&V73&V74","v":""},{"$f":"W71&W72&W73&W74","v":""},{"$f":"X71&X72&X73&X74","v":""},{"$f":"Y71&Y72&Y73&Y74","v":""},{"$f":"Z71&Z72&Z73&Z74","v":""},{"$f":"AA71&AA72&AA73&AA74","v":""},{"$f":"AB71&AB72&AB73&AB74","v":""},{"$f":"AC71&AC72&AC73&AC74","v":""},{"$f":"AD71&AD72&AD73&AD74","v":""},{"$f":"AE71&AE72&AE73&AE74","v":""},{"$f":"AF71&AF72&AF73&AF74","v":""},{"$f":"AG71&AG72&AG73&AG74","v":""},{"$f":"AH71&AH72&AH73&AH74","v":""},{"$f":"AI71&AI72&AI73&AI74","v":""},{"$f":"AJ71&AJ72&AJ73&AJ74","v":""},{"$f":"AK71&AK72&AK73&AK74","v":""},{"$f":"AL71&AL72&AL73&AL74","v":""},{"$f":"AM71&AM72&AM73&AM74","v":""},{"$f":"AN71&AN72&AN73&AN74","v":""},{"$f":"AO71&AO72&AO73&AO74","v":""},{"$f":"AP71&AP72&AP73&AP74","v":""},{"$f":"AQ71&AQ72&AQ73&AQ74","v":""},{"$f":"AR71&AR72&AR73&AR74","v":""}]
[null,null,null,null,null,null,null,null,null,null,null,null,null,{"$f":"IF(OR(AND(N$1>=$D70,N$1<=IF(AND($D70>$M$1,$E70=\"\"),$M$2,$E70)),AND(N$1>=$D71,N$1<=IF(AND($D71>$M$1,$E71=\"\"),$M$2,$E71)),AND(N$1>=$D72,N$1<=IF(AND($D72>$M$1,$E72=\"\"),$M$2,$E72)),AND(N$1>=$D73,N$1<=IF(AND($D73>$M$1,$E73=\"\"),$M$2,$E73))),$D$3,\"\")","v":""},{"$f":"IF(OR(AND(O$1>=$D70,O$1<=IF(AND($D70>$M$1,$E70=\"\"),$M$2,$E70)),AND(O$1>=$D71,O$1<=IF(AND($D71>$M$1,$E71=\"\"),$M$2,$E71)),AND(O$1>=$D72,O$1<=IF(AND($D72>$M$1,$E72=\"\"),$M$2,$E72)),AND(O$1>=$D73,O$1<=IF(AND($D73>$M$1,$E73=\"\"),$M$2,$E73))),$D$3,\"\")","v":""},"","","","","","","","","","","","","","","","","","","","","","","","","","",{"$f":"IF(AP$1=\"\",\"\",IF(OR(AND(AP$1>=$D70,AP$1<=IF(AND($D70>$M$1,$E70=\"\"),$M$2,$E70)),AND(AP$1>=$D71,AP$1<=IF(AND($D71>$M$1,$E71=\"\"),$M$2,$E71)),AND(AP$1>=$D72,AP$1<=IF(AND($D72>$M$1,$E72=\"\"),$M$2,$E72)),AND(AP$1>=$D73,AP$1<=IF(AND($D73>$M$1,$E73=\"\"),$M$2,$E73))),$D$3,\"\"))","v":""},{"$f":"IF(AQ$1=\"\",\"\",IF(OR(AND(AQ$1>=$D70,AQ$1<=IF(AND($D70>$M$1,$E70=\"\"),$M$2,$E70)),AND(AQ$1>=$D71,AQ$1<=IF(AND($D71>$M$1,$E71=\"\"),$M$2,$E71)),AND(AQ$1>=$D72,AQ$1<=IF(AND($D72>$M$1,$E72=\"\"),$M$2,$E72)),AND(AQ$1>=$D73,AQ$1<=IF(AND($D73>$M$1,$E73=\"\"),$M$2,$E73))),$D$3,\"\"))","v":""},""]
[null,null,null,null,null,null,null,null,null,null,null,null,null,{"$f":"IF(OR(AND(N$1>=$F70,N$1<=IF(AND($F70>$M$1,$G70=\"\"),$M$2,$G70)),AND(N$1>=$F71,N$1<=IF(AND($F71>$M$1,$G71=\"\"),$M$2,$G71)),AND(N$1>=$F72,N$1<=IF(AND($F72>$M$1,$G72=\"\"),$M$2,$G72)),AND(N$1>=$F73,N$1<=IF(AND($F73>$M$1,$G73=\"\"),$M$2,$G73))),$F$3,\"\")","v":""},{"$f":"IF(OR(AND(O$1>=$F70,O$1<=IF(AND($F70>$M$1,$G70=\"\"),$M$2,$G70)),AND(O$1>=$F71,O$1<=IF(AND($F71>$M$1,$G71=\"\"),$M$2,$G71)),AND(O$1>=$F72,O$1<=IF(AND($F72>$M$1,$G72=\"\"),$M$2,$G72)),AND(O$1>=$F73,O$1<=IF(AND($F73>$M$1,$G73=\"\"),$M$2,$G73))),$F$3,\"\")","v":""},"","","","","","","","","","","","","","","","","","","","","","","","","","",{"$f":"IF(AP$1=\"\",\"\",IF(OR(AND(AP$1>=$F70,AP$1<=IF(AND($F70>$M$1,$G70=\"\"),$M$2,$G70)),AND(AP$1>=$F71,AP$1<=IF(AND($F71>$M$1,$G71=\"\"),$M$2,$G71)),AND(AP$1>=$F72,AP$1<=IF(AND($F72>$M$1,$G72=\"\"),$M$2,$G72)),AND(AP$1>=$F73,AP$1<=IF(AND($F73>$M$1,$G73=\"\"),$M$2,$G73))),$F$3,\"\"))","v":""},{"$f":"IF(AQ$1=\"\",\"\",IF(OR(AND(AQ$1>=$F70,AQ$1<=IF(AND($F70>$M$1,$G70=\"\"),$M$2,$G70)),AND(AQ$1>=$F71,AQ$1<=IF(AND($F71>$M$1,$G71=\"\"),$M$2,$G71)),AND(AQ$1>=$F72,AQ$1<=IF(AND($F72>$M$1,$G72=\"\"),$M$2,$G72)),AND(AQ$1>=$F73,AQ$1<=IF(AND($F73>$M$1,$G73=\"\"),$M$2,$G73))),$F$3,\"\"))","v":""},""]
[null,null,null,null,null,null,null,null,null,null,null,null,null,{"$f":"IF(OR(AND(N$1>=$H70,N$1<=IF(AND($H70>$M$1,$I70=\"\"),$M$2,$I70)),AND(N$1>=$H71,N$1<=IF(AND($H71>$M$1,$I71=\"\"),$M$2,$I71)),AND(N$1>=$H72,N$1<=IF(AND($H72>$M$1,$I72=\"\"),$M$2,$I72)),AND(N$1>=$H73,N$1<=IF(AND($H73>$M$1,$I73=\"\"),$M$2,$I73))),$H$3,\"\")","v":""},"","","","","","","","","","","","","","","","","","","","","","","","","","","",{"$f":"IF(AP$1=\"\",\"\",IF(OR(AND(AP$1>=$H70,AP$1<=IF(AND($H70>$M$1,$I70=\"\"),$M$2,$I70)),AND(AP$1>=$H71,AP$1<=IF(AND($H71>$M$1,$I71=\"\"),$M$2,$I71)),AND(AP$1>=$H72,AP$1<=IF(AND($H72>$M$1,$I72=\"\"),$M$2,$I72)),AND(AP$1>=$H73,AP$1<=IF(AND($H73>$M$1,$I73=\"\"),$M$2,$I73))),$H$3,\"\"))","v":""},{"$f":"IF(AQ$1=\"\",\"\",IF(OR(AND(AQ$1>=$H70,AQ$1<=IF(AND($H70>$M$1,$I70=\"\"),$M$2,$I70)),AND(AQ$1>=$H71,AQ$1<=IF(AND($H71>$M$1,$I71=\"\"),$M$2,$I71)),AND(AQ$1>=$H72,AQ$1<=IF(AND($H72>$M$1,$I72=\"\"),$M$2,$I72)),AND(AQ$1>=$H73,AQ$1<=IF(AND($H73>$M$1,$I73=\"\"),$M$2,$I73))),$H$3,\"\"))","v":""},{"$f":"IF(AR$1=\"\",\"\",IF(OR(AND(AR$1>=$H70,AR$1<=IF(AND($H70>$M$1,$I70=\"\"),$M$2,$I70)),AND(AR$1>=$H71,AR$1<=IF(AND($H71>$M$1,$I71=\"\"),$M$2,$I71)),AND(AR$1>=$H72,AR$1<=IF(AND($H72>$M$1,$I72=\"\"),$M$2,$I72)),AND(AR$1>=$H73,AR$1<=IF(AND($H73>$M$1,$I73=\"\"),$M$2,$I73))),$H$3,\"\"))","v":""}]
[null,null,null,null,null,null,null,null,null,null,null,null,null,{"$f":"IF(OR(AND(N$1>=$J70,N$1<=IF(AND($J70>$M$1,$K70=\"\"),$M$2,$K70)),AND(N$1>=$J71,N$1<=IF(AND($J71>$M$1,$K71=\"\"),$M$2,$K71)),AND(N$1>=$J72,N$1<=IF(AND($J72>$M$1,$K72=\"\"),$M$2,$K72)),AND(N$1>=$J73,N$1<=IF(AND($J73>$M$1,$K73=\"\"),$M$2,$K73)),AND(N$1>=$J74,N$1<=IF(AND($J74>$M$1,$K74=\"\"),$M$2,$K74))),$J$3,\"\")","v":""},{"$f":"IF(OR(AND(O$1>=$J70,O$1<=IF(AND($J70>$M$1,$K70=\"\"),$M$2,$K70)),AND(O$1>=$J71,O$1<=IF(AND($J71>$M$1,$K71=\"\"),$M$2,$K71)),AND(O$1>=$J72,O$1<=IF(AND($J72>$M$1,$K72=\"\"),$M$2,$K72)),AND(O$1>=$J73,O$1<=IF(AND($J73>$M$1,$K73=\"\"),$M$2,$K73)),AND(O$1>=$J74,O$1<=IF(AND($J74>$M$1,$K74=\"\"),$M$2,$K74))),$J$3,\"\")","v":""},{"$f":"IF(OR(AND(P$1>=$J70,P$1<=IF(AND($J70>$M$1,$K70=\"\"),$M$2,$K70)),AND(P$1>=$J71,P$1<=IF(AND($J71>$M$1,$K71=\"\"),$M$2,$K71)),AND(P$1>=$J72,P$1<=IF(AND($J72>$M$1,$K72=\"\"),$M$2,$K72)),AND(P$1>=$J73,P$1<=IF(AND($J73>$M$1,$K73=\"\"),$M$2,$K73)),AND(P$1>=$J74,P$1<=IF(AND($J74>$M$1,$K74=\"\"),$M$2,$K74))),$J$3,\"\")","v":""},{"$f":"IF(OR(AND(Q$1>=$J70,Q$1<=IF(AND($J70>$M$1,$K70=\"\"),$M$2,$K70)),AND(Q$1>=$J71,Q$1<=IF(AND($J71>$M$1,$K71=\"\"),$M$2,$K71)),AND(Q$1>=$J72,Q$1<=IF(AND($J72>$M$1,$K72=\"\"),$M$2,$K72)),AND(Q$1>=$J73,Q$1<=IF(AND($J73>$M$1,$K73=\"\"),$M$2,$K73)),AND(Q$1>=$J74,Q$1<=IF(AND($J74>$M$1,$K74=\"\"),$M$2,$K74))),$J$3,\"\")","v":""},{"$f":"IF(OR(AND(R$1>=$J70,R$1<=IF(AND($J70>$M$1,$K70=\"\"),$M$2,$K70)),AND(R$1>=$J71,R$1<=IF(AND($J71>$M$1,$K71=\"\"),$M$2,$K71)),AND(R$1>=$J72,R$1<=IF(AND($J72>$M$1,$K72=\"\"),$M$2,$K72)),AND(R$1>=$J73,R$1<=IF(AND($J73>$M$1,$K73=\"\"),$M$2,$K73)),AND(R$1>=$J74,R$1<=IF(AND($J74>$M$1,$K74=\"\"),$M$2,$K74))),$J$3,\"\")","v":""},{"$f":"IF(OR(AND(S$1>=$J70,S$1<=IF(AND($J70>$M$1,$K70=\"\"),$M$2,$K70)),AND(S$1>=$J71,S$1<=IF(AND($J71>$M$1,$K71=\"\"),$M$2,$K71)),AND(S$1>=$J72,S$1<=IF(AND($J72>$M$1,$K72=\"\"),$M$2,$K72)),AND(S$1>=$J73,S$1<=IF(AND($J73>$M$1,$K73=\"\"),$M$2,$K73)),AND(S$1>=$J74,S$1<=IF(AND($J74>$M$1,$K74=\"\"),$M$2,$K74))),$J$3,\"\")","v":""},{"$f":"IF(OR(AND(T$1>=$J70,T$1<=IF(AND($J70>$M$1,$K70=\"\"),$M$2,$K70)),AND(T$1>=$J71,T$1<=IF(AND($J71>$M$1,$K71=\"\"),$M$2,$K71)),AND(T$1>=$J72,T$1<=IF(AND($J72>$M$1,$K72=\"\"),$M$2,$K72)),AND(T$1>=$J73,T$1<=IF(AND($J73>$M$1,$K73=\"\"),$M$2,$K73)),AND(T$1>=$J74,T$1<=IF(AND($J74>$M$1,$K74=\"\"),$M$2,$K74))),$J$3,\"\")","v":""},{"$f":"IF(OR(AND(U$1>=$J70,U$1<=IF(AND($J70>$M$1,$K70=\"\"),$M$2,$K70)),AND(U$1>=$J71,U$1<=IF(AND($J71>$M$1,$K71=\"\"),$M$2,$K71)),AND(U$1>=$J72,U$1<=IF(AND($J72>$M$1,$K72=\"\"),$M$2,$K72)),AND(U$1>=$J73,U$1<=IF(AND($J73>$M$1,$K73=\"\"),$M$2,$K73)),AND(U$1>=$J74,U$1<=IF(AND($J74>$M$1,$K74=\"\"),$M$2,$K74))),$J$3,\"\")","v":""},{"$f":"IF(OR(AND(V$1>=$J70,V$1<=IF(AND($J70>$M$1,$K70=\"\"),$M$2,$K70)),AND(V$1>=$J71,V$1<=IF(AND($J71>$M$1,$K71=\"\"),$M$2,$K71)),AND(V$1>=$J72,V$1<=IF(AND($J72>$M$1,$K72=\"\"),$M$2,$K72)),AND(V$1>=$J73,V$1<=IF(AND($J73>$M$1,$K73=\"\"),$M$2,$K73)),AND(V$1>=$J74,V$1<=IF(AND($J74>$M$1,$K74=\"\"),$M$2,$K74))),$J$3,\"\")","v":""},{"$f":"IF(OR(AND(W$1>=$J70,W$1<=IF(AND($J70>$M$1,$K70=\"\"),$M$2,$K70)),AND(W$1>=$J71,W$1<=IF(AND($J71>$M$1,$K71=\"\"),$M$2,$K71)),AND(W$1>=$J72,W$1<=IF(AND($J72>$M$1,$K72=\"\"),$M$2,$K72)),AND(W$1>=$J73,W$1<=IF(AND($J73>$M$1,$K73=\"\"),$M$2,$K73)),AND(W$1>=$J74,W$1<=IF(AND($J74>$M$1,$K74=\"\"),$M$2,$K74))),$J$3,\"\")","v":""},{"$f":"IF(OR(AND(X$1>=$J70,X$1<=IF(AND($J70>$M$1,$K70=\"\"),$M$2,$K70)),AND(X$1>=$J71,X$1<=IF(AND($J71>$M$1,$K71=\"\"),$M$2,$K71)),AND(X$1>=$J72,X$1<=IF(AND($J72>$M$1,$K72=\"\"),$M$2,$K72)),AND(X$1>=$J73,X$1<=IF(AND($J73>$M$1,$K73=\"\"),$M$2,$K73)),AND(X$1>=$J74,X$1<=IF(AND($J74>$M$1,$K74=\"\"),$M$2,$K74))),$J$3,\"\")","v":""},{"$f":"IF(OR(AND(Y$1>=$J70,Y$1<=IF(AND($J70>$M$1,$K70=\"\"),$M$2,$K70)),AND(Y$1>=$J71,Y$1<=IF(AND($J71>$M$1,$K71=\"\"),$M$2,$K71)),AND(Y$1>=$J72,Y$1<=IF(AND($J72>$M$1,$K72=\"\"),$M$2,$K72)),AND(Y$1>=$J73,Y$1<=IF(AND($J73>$M$1,$K73=\"\"),$M$2,$K73)),AND(Y$1>=$J74,Y$1<=IF(AND($J74>$M$1,$K74=\"\"),$M$2,$K74))),$J$3,\"\")","v":""},{"$f":"IF(OR(AND(Z$1>=$J70,Z$1<=IF(AND($J70>$M$1,$K70=\"\"),$M$2,$K70)),AND(Z$1>=$J71,Z$1<=IF(AND($J71>$M$1,$K71=\"\"),$M$2,$K71)),AND(Z$1>=$J72,Z$1<=IF(AND($J72>$M$1,$K72=\"\"),$M$2,$K72)),AND(Z$1>=$J73,Z$1<=IF(AND($J73>$M$1,$K73=\"\"),$M$2,$K73)),AND(Z$1>=$J74,Z$1<=IF(AND($J74>$M$1,$K74=\"\"),$M$2,$K74))),$J$3,\"\")","v":""},{"$f":"IF(OR(AND(AA$1>=$J70,AA$1<=IF(AND($J70>$M$1,$K70=\"\"),$M$2,$K70)),AND(AA$1>=$J71,AA$1<=IF(AND($J71>$M$1,$K71=\"\"),$M$2,$K71)),AND(AA$1>=$J72,AA$1<=IF(AND($J72>$M$1,$K72=\"\"),$M$2,$K72)),AND(AA$1>=$J73,AA$1<=IF(AND($J73>$M$1,$K73=\"\"),$M$2,$K73)),AND(AA$1>=$J74,AA$1<=IF(AND($J74>$M$1,$K74=\"\"),$M$2,$K74))),$J$3,\"\")","v":""},{"$f":"IF(OR(AND(AB$1>=$J70,AB$1<=IF(AND($J70>$M$1,$K70=\"\"),$M$2,$K70)),AND(AB$1>=$J71,AB$1<=IF(AND($J71>$M$1,$K71=\"\"),$M$2,$K71)),AND(AB$1>=$J72,AB$1<=IF(AND($J72>$M$1,$K72=\"\"),$M$2,$K72)),AND(AB$1>=$J73,AB$1<=IF(AND($J73>$M$1,$K73=\"\"),$M$2,$K73)),AND(AB$1>=$J74,AB$1<=IF(AND($J74>$M$1,$K74=\"\"),$M$2,$K74))),$J$3,\"\")","v":""},{"$f":"IF(OR(AND(AC$1>=$J70,AC$1<=IF(AND($J70>$M$1,$K70=\"\"),$M$2,$K70)),AND(AC$1>=$J71,AC$1<=IF(AND($J71>$M$1,$K71=\"\"),$M$2,$K71)),AND(AC$1>=$J72,AC$1<=IF(AND($J72>$M$1,$K72=\"\"),$M$2,$K72)),AND(AC$1>=$J73,AC$1<=IF(AND($J73>$M$1,$K73=\"\"),$M$2,$K73)),AND(AC$1>=$J74,AC$1<=IF(AND($J74>$M$1,$K74=\"\"),$M$2,$K74))),$J$3,\"\")","v":""},{"$f":"IF(OR(AND(AD$1>=$J70,AD$1<=IF(AND($J70>$M$1,$K70=\"\"),$M$2,$K70)),AND(AD$1>=$J71,AD$1<=IF(AND($J71>$M$1,$K71=\"\"),$M$2,$K71)),AND(AD$1>=$J72,AD$1<=IF(AND($J72>$M$1,$K72=\"\"),$M$2,$K72)),AND(AD$1>=$J73,AD$1<=IF(AND($J73>$M$1,$K73=\"\"),$M$2,$K73)),AND(AD$1>=$J74,AD$1<=IF(AND($J74>$M$1,$K74=\"\"),$M$2,$K74))),$J$3,\"\")","v":""},{"$f":"IF(OR(AND(AE$1>=$J70,AE$1<=IF(AND($J70>$M$1,$K70=\"\"),$M$2,$K70)),AND(AE$1>=$J71,AE$1<=IF(AND($J71>$M$1,$K71=\"\"),$M$2,$K71)),AND(AE$1>=$J72,AE$1<=IF(AND($J72>$M$1,$K72=\"\"),$M$2,$K72)),AND(AE$1>=$J73,AE$1<=IF(AND($J73>$M$1,$K73=\"\"),$M$2,$K73)),AND(AE$1>=$J74,AE$1<=IF(AND($J74>$M$1,$K74=\"\"),$M$2,$K74))),$J$3,\"\")","v":""},{"$f":"IF(OR(AND(AF$1>=$J70,AF$1<=IF(AND($J70>$M$1,$K70=\"\"),$M$2,$K70)),AND(AF$1>=$J71,AF$1<=IF(AND($J71>$M$1,$K71=\"\"),$M$2,$K71)),AND(AF$1>=$J72,AF$1<=IF(AND($J72>$M$1,$K72=\"\"),$M$2,$K72)),AND(AF$1>=$J73,AF$1<=IF(AND($J73>$M$1,$K73=\"\"),$M$2,$K73)),AND(AF$1>=$J74,AF$1<=IF(AND($J74>$M$1,$K74=\"\"),$M$2,$K74))),$J$3,\"\")","v":""},{"$f":"IF(OR(AND(AG$1>=$J70,AG$1<=IF(AND($J70>$M$1,$K70=\"\"),$M$2,$K70)),AND(AG$1>=$J71,AG$1<=IF(AND($J71>$M$1,$K71=\"\"),$M$2,$K71)),AND(AG$1>=$J72,AG$1<=IF(AND($J72>$M$1,$K72=\"\"),$M$2,$K72)),AND(AG$1>=$J73,AG$1<=IF(AND($J73>$M$1,$K73=\"\"),$M$2,$K73)),AND(AG$1>=$J74,AG$1<=IF(AND($J74>$M$1,$K74=\"\"),$M$2,$K74))),$J$3,\"\")","v":""},{"$f":"IF(OR(AND(AH$1>=$J70,AH$1<=IF(AND($J70>$M$1,$K70=\"\"),$M$2,$K70)),AND(AH$1>=$J71,AH$1<=IF(AND($J71>$M$1,$K71=\"\"),$M$2,$K71)),AND(AH$1>=$J72,AH$1<=IF(AND($J72>$M$1,$K72=\"\"),$M$2,$K72)),AND(AH$1>=$J73,AH$1<=IF(AND($J73>$M$1,$K73=\"\"),$M$2,$K73)),AND(AH$1>=$J74,AH$1<=IF(AND($J74>$M$1,$K74=\"\"),$M$2,$K74))),$J$3,\"\")","v":""},{"$f":"IF(OR(AND(AI$1>=$J70,AI$1<=IF(AND($J70>$M$1,$K70=\"\"),$M$2,$K70)),AND(AI$1>=$J71,AI$1<=IF(AND($J71>$M$1,$K71=\"\"),$M$2,$K71)),AND(AI$1>=$J72,AI$1<=IF(AND($J72>$M$1,$K72=\"\"),$M$2,$K72)),AND(AI$1>=$J73,AI$1<=IF(AND($J73>$M$1,$K73=\"\"),$M$2,$K73)),AND(AI$1>=$J74,AI$1<=IF(AND($J74>$M$1,$K74=\"\"),$M$2,$K74))),$J$3,\"\")","v":""},{"$f":"IF(OR(AND(AJ$1>=$J70,AJ$1<=IF(AND($J70>$M$1,$K70=\"\"),$M$2,$K70)),AND(AJ$1>=$J71,AJ$1<=IF(AND($J71>$M$1,$K71=\"\"),$M$2,$K71)),AND(AJ$1>=$J72,AJ$1<=IF(AND($J72>$M$1,$K72=\"\"),$M$2,$K72)),AND(AJ$1>=$J73,AJ$1<=IF(AND($J73>$M$1,$K73=\"\"),$M$2,$K73)),AND(AJ$1>=$J74,AJ$1<=IF(AND($J74>$M$1,$K74=\"\"),$M$2,$K74))),$J$3,\"\")","v":""},{"$f":"IF(OR(AND(AK$1>=$J70,AK$1<=IF(AND($J70>$M$1,$K70=\"\"),$M$2,$K70)),AND(AK$1>=$J71,AK$1<=IF(AND($J71>$M$1,$K71=\"\"),$M$2,$K71)),AND(AK$1>=$J72,AK$1<=IF(AND($J72>$M$1,$K72=\"\"),$M$2,$K72)),AND(AK$1>=$J73,AK$1<=IF(AND($J73>$M$1,$K73=\"\"),$M$2,$K73)),AND(AK$1>=$J74,AK$1<=IF(AND($J74>$M$1,$K74=\"\"),$M$2,$K74))),$J$3,\"\")","v":""},{"$f":"IF(OR(AND(AL$1>=$J70,AL$1<=IF(AND($J70>$M$1,$K70=\"\"),$M$2,$K70)),AND(AL$1>=$J71,AL$1<=IF(AND($J71>$M$1,$K71=\"\"),$M$2,$K71)),AND(AL$1>=$J72,AL$1<=IF(AND($J72>$M$1,$K72=\"\"),$M$2,$K72)),AND(AL$1>=$J73,AL$1<=IF(AND($J73>$M$1,$K73=\"\"),$M$2,$K73)),AND(AL$1>=$J74,AL$1<=IF(AND($J74>$M$1,$K74=\"\"),$M$2,$K74))),$J$3,\"\")","v":""},{"$f":"IF(OR(AND(AM$1>=$J70,AM$1<=IF(AND($J70>$M$1,$K70=\"\"),$M$2,$K70)),AND(AM$1>=$J71,AM$1<=IF(AND($J71>$M$1,$K71=\"\"),$M$2,$K71)),AND(AM$1>=$J72,AM$1<=IF(AND($J72>$M$1,$K72=\"\"),$M$2,$K72)),AND(AM$1>=$J73,AM$1<=IF(AND($J73>$M$1,$K73=\"\"),$M$2,$K73)),AND(AM$1>=$J74,AM$1<=IF(AND($J74>$M$1,$K74=\"\"),$M$2,$K74))),$J$3,\"\")","v":""},{"$f":"IF(OR(AND(AN$1>=$J70,AN$1<=IF(AND($J70>$M$1,$K70=\"\"),$M$2,$K70)),AND(AN$1>=$J71,AN$1<=IF(AND($J71>$M$1,$K71=\"\"),$M$2,$K71)),AND(AN$1>=$J72,AN$1<=IF(AND($J72>$M$1,$K72=\"\"),$M$2,$K72)),AND(AN$1>=$J73,AN$1<=IF(AND($J73>$M$1,$K73=\"\"),$M$2,$K73)),AND(AN$1>=$J74,AN$1<=IF(AND($J74>$M$1,$K74=\"\"),$M$2,$K74))),$J$3,\"\")","v":""},{"$f":"IF(OR(AND(AO$1>=$J70,AO$1<=IF(AND($J70>$M$1,$K70=\"\"),$M$2,$K70)),AND(AO$1>=$J71,AO$1<=IF(AND($J71>$M$1,$K71=\"\"),$M$2,$K71)),AND(AO$1>=$J72,AO$1<=IF(AND($J72>$M$1,$K72=\"\"),$M$2,$K72)),AND(AO$1>=$J73,AO$1<=IF(AND($J73>$M$1,$K73=\"\"),$M$2,$K73)),AND(AO$1>=$J74,AO$1<=IF(AND($J74>$M$1,$K74=\"\"),$M$2,$K74))),$J$3,\"\")","v":""},{"$f":"IF(AP$1=\"\",\"\",IF(OR(AND(AP$1>=$J70,AP$1<=IF(AND($J70>$M$1,$K70=\"\"),$M$2,$K70)),AND(AP$1>=$J71,AP$1<=IF(AND($J71>$M$1,$K71=\"\"),$M$2,$K71)),AND(AP$1>=$J72,AP$1<=IF(AND($J72>$M$1,$K72=\"\"),$M$2,$K72)),AND(AP$1>=$J73,AP$1<=IF(AND($J73>$M$1,$K73=\"\"),$M$2,$K73)),AND(AP$1>=$J74,AP$1<=IF(AND($J74>$M$1,$K74=\"\"),$M$2,$K74))),$J$3,\"\"))","v":""},{"$f":"IF(AQ$1=\"\",\"\",IF(OR(AND(AQ$1>=$J70,AQ$1<=IF(AND($J70>$M$1,$K70=\"\"),$M$2,$K70)),AND(AQ$1>=$J71,AQ$1<=IF(AND($J71>$M$1,$K71=\"\"),$M$2,$K71)),AND(AQ$1>=$J72,AQ$1<=IF(AND($J72>$M$1,$K72=\"\"),$M$2,$K72)),AND(AQ$1>=$J73,AQ$1<=IF(AND($J73>$M$1,$K73=\"\"),$M$2,$K73)),AND(AQ$1>=$J74,AQ$1<=IF(AND($J74>$M$1,$K74=\"\"),$M$2,$K74))),$J$3,\"\"))","v":""},{"$f":"IF(AR$1=\"\",\"\",IF(OR(AND(AR$1>=$J70,AR$1<=IF(AND($J70>$M$1,$K70=\"\"),$M$2,$K70)),AND(AR$1>=$J71,AR$1<=IF(AND($J71>$M$1,$K71=\"\"),$M$2,$K71)),AND(AR$1>=$J72,AR$1<=IF(AND($J72>$M$1,$K72=\"\"),$M$2,$K72)),AND(AR$1>=$J73,AR$1<=IF(AND($J73>$M$1,$K73=\"\"),$M$2,$K73)),AND(AR$1>=$J74,AR$1<=IF(AND($J74>$M$1,$K74=\"\"),$M$2,$K74))),$J$3,\"\"))","v":""}]
[{"$f":"стр.1!C41","v":4883},{"$f":"IFERROR(VLOOKUP(A75,стр.1!$A$13:$D$106,2,FALSE),\"\")","v":"Дасаев"},{"$f":"IFERROR(VLOOKUP(A75,стр.1!$A$13:$D$106,4,FALSE),\"\")","v":"сборная"},null,null,null,null,null,null,null,null,null,null,{"$f":"N76&N77&N78&N79","v":""},{"$f":"O76&O77&O78&O79","v":""},{"$f":"P76&P77&P78&P79","v":""},{"$f":"Q76&Q77&Q78&Q79","v":""},{"$f":"R76&R77&R78&R79","v":""},{"$f":"S76&S77&S78&S79","v":""},{"$f":"T76&T77&T78&T79","v":""},{"$f":"U76&U77&U78&U79","v":""},{"$f":"V76&V77&V78&V79","v":""},{"$f":"W76&W77&W78&W79","v":""},{"$f":"X76&X77&X78&X79","v":""},{"$f":"Y76&Y77&Y78&Y79","v":""},{"$f":"Z76&Z77&Z78&Z79","v":""},{"$f":"AA76&AA77&AA78&AA79","v":""},{"$f":"AB76&AB77&AB78&AB79","v":""},{"$f":"AC76&AC77&AC78&AC79","v":""},{"$f":"AD76&AD77&AD78&AD79","v":""},{"$f":"AE76&AE77&AE78&AE79","v":""},{"$f":"AF76&AF77&AF78&AF79","v":""},{"$f":"AG76&AG77&AG78&AG79","v":""},{"$f":"AH76&AH77&AH78&AH79","v":""},{"$f":"AI76&AI77&AI78&AI79","v":""},{"$f":"AJ76&AJ77&AJ78&AJ79","v":""},{"$f":"AK76&AK77&AK78&AK79","v":""},{"$f":"AL76&AL77&AL78&AL79","v":""},{"$f":"AM76&AM77&AM78&AM79","v":""},{"$f":"AN76&AN77&AN78&AN79","v":""},{"$f":"AO76&AO77&AO78&AO79","v":""},{"$f":"AP76&AP77&AP78&AP79","v":""},{"$f":"AQ76&AQ77&AQ78&AQ79","v":""},{"$f":"AR76&AR77&AR78&AR79","v":""}]
[null,null,null,null,null,null,null,null,null,null,null,null,null,{"$f":"IF(OR(AND(N$1>=$D75,N$1<=IF(AND($D75>$M$1,$E75=\"\"),$M$2,$E75)),AND(N$1>=$D76,N$1<=IF(AND($D76>$M$1,$E76=\"\"),$M$2,$E76)),AND(N$1>=$D77,N$1<=IF(AND($D77>$M$1,$E77=\"\"),$M$2,$E77)),AND(N$1>=$D78,N$1<=IF(AND($D78>$M$1,$E78=\"\"),$M$2,$E78))),$D$3,\"\")","v":""},{"$f":"IF(OR(AND(O$1>=$D75,O$1<=IF(AND($D75>$M$1,$E75=\"\"),$M$2,$E75)),AND(O$1>=$D76,O$1<=IF(AND($D76>$M$1,$E76=\"\"),$M$2,$E76)),AND(O$1>=$D77,O$1<=IF(AND($D77>$M$1,$E77=\"\"),$M$2,$E77)),AND(O$1>=$D78,O$1<=IF(AND($D78>$M$1,$E78=\"\"),$M$2,$E78))),$D$3,\"\")","v":""},"","","","","","","","","","","","","","","","","","","","","","","","","","",{"$f":"IF(AP$1=\"\",\"\",IF(OR(AND(AP$1>=$D75,AP$1<=IF(AND($D75>$M$1,$E75=\"\"),$M$2,$E75)),AND(AP$1>=$D76,AP$1<=IF(AND($D76>$M$1,$E76=\"\"),$M$2,$E76)),AND(AP$1>=$D77,AP$1<=IF(AND($D77>$M$1,$E77=\"\"),$M$2,$E77)),AND(AP$1>=$D78,AP$1<=IF(AND($D78>$M$1,$E78=\"\"),$M$2,$E78))),$D$3,\"\"))","v":""},{"$f":"IF(AQ$1=\"\",\"\",IF(OR(AND(AQ$1>=$D75,AQ$1<=IF(AND($D75>$M$1,$E75=\"\"),$M$2,$E75)),AND(AQ$1>=$D76,AQ$1<=IF(AND($D76>$M$1,$E76=\"\"),$M$2,$E76)),AND(AQ$1>=$D77,AQ$1<=IF(AND($D77>$M$1,$E77=\"\"),$M$2,$E77)),AND(AQ$1>=$D78,AQ$1<=IF(AND($D78>$M$1,$E78=\"\"),$M$2,$E78))),$D$3,\"\"))","v":""},""]
[null,null,null,null,null,null,null,null,null,null,null,null,null,{"$f":"IF(OR(AND(N$1>=$F75,N$1<=IF(AND($F75>$M$1,$G75=\"\"),$M$2,$G75)),AND(N$1>=$F76,N$1<=IF(AND($F76>$M$1,$G76=\"\"),$M$2,$G76)),AND(N$1>=$F77,N$1<=IF(AND($F77>$M$1,$G77=\"\"),$M$2,$G77)),AND(N$1>=$F78,N$1<=IF(AND($F78>$M$1,$G78=\"\"),$M$2,$G78))),$F$3,\"\")","v":""},{"$f":"IF(OR(AND(O$1>=$F75,O$1<=IF(AND($F75>$M$1,$G75=\"\"),$M$2,$G75)),AND(O$1>=$F76,O$1<=IF(AND($F76>$M$1,$G76=\"\"),$M$2,$G76)),AND(O$1>=$F77,O$1<=IF(AND($F77>$M$1,$G77=\"\"),$M$2,$G77)),AND(O$1>=$F78,O$1<=IF(AND($F78>$M$1,$G78=\"\"),$M$2,$G78))),$F$3,\"\")","v":""},"","","","","","","","","","","","","","","","","","","","","","","","","","",{"$f":"IF(AP$1=\"\",\"\",IF(OR(AND(AP$1>=$F75,AP$1<=IF(AND($F75>$M$1,$G75=\"\"),$M$2,$G75)),AND(AP$1>=$F76,AP$1<=IF(AND($F76>$M$1,$G76=\"\"),$M$2,$G76)),AND(AP$1>=$F77,AP$1<=IF(AND($F77>$M$1,$G77=\"\"),$M$2,$G77)),AND(AP$1>=$F78,AP$1<=IF(AND($F78>$M$1,$G78=\"\"),$M$2,$G78))),$F$3,\"\"))","v":""},{"$f":"IF(AQ$1=\"\",\"\",IF(OR(AND(AQ$1>=$F75,AQ$1<=IF(AND($F75>$M$1,$G75=\"\"),$M$2,$G75)),AND(AQ$1>=$F76,AQ$1<=IF(AND($F76>$M$1,$G76=\"\"),$M$2,$G76)),AND(AQ$1>=$F77,AQ$1<=IF(AND($F77>$M$1,$G77=\"\"),$M$2,$G77)),AND(AQ$1>=$F78,AQ$1<=IF(AND($F78>$M$1,$G78=\"\"),$M$2,$G78))),$F$3,\"\"))","v":""},""]
[null,null,null,null,null,null,null,null,null,null,null,null,null,{"$f":"IF(OR(AND(N$1>=$H75,N$1<=IF(AND($H75>$M$1,$I75=\"\"),$M$2,$I75)),AND(N$1>=$H76,N$1<=IF(AND($H76>$M$1,$I76=\"\"),$M$2,$I76)),AND(N$1>=$H77,N$1<=IF(AND($H77>$M$1,$I77=\"\"),$M$2,$I77)),AND(N$1>=$H78,N$1<=IF(AND($H78>$M$1,$I78=\"\"),$M$2,$I78))),$H$3,\"\")","v":""},"","","","","","","","","","","","","","","","","","","","","","","","","","","",{"$f":"IF(AP$1=\"\",\"\",IF(OR(AND(AP$1>=$H75,AP$1<=IF(AND($H75>$M$1,$I75=\"\"),$M$2,$I75)),AND(AP$1>=$H76,AP$1<=IF(AND($H76>$M$1,$I76=\"\"),$M$2,$I76)),AND(AP$1>=$H77,AP$1<=IF(AND($H77>$M$1,$I77=\"\"),$M$2,$I77)),AND(AP$1>=$H78,AP$1<=IF(AND($H78>$M$1,$I78=\"\"),$M$2,$I78))),$H$3,\"\"))","v":""},{"$f":"IF(AQ$1=\"\",\"\",IF(OR(AND(AQ$1>=$H75,AQ$1<=IF(AND($H75>$M$1,$I75=\"\"),$M$2,$I75)),AND(AQ$1>=$H76,AQ$1<=IF(AND($H76>$M$1,$I76=\"\"),$M$2,$I76)),AND(AQ$1>=$H77,AQ$1<=IF(AND($H77>$M$1,$I77=\"\"),$M$2,$I77)),AND(AQ$1>=$H78,AQ$1<=IF(AND($H78>$M$1,$I78=\"\"),$M$2,$I78))),$H$3,\"\"))","v":""},{"$f":"IF(AR$1=\"\",\"\",IF(OR(AND(AR$1>=$H75,AR$1<=IF(AND($H75>$M$1,$I75=\"\"),$M$2,$I75)),AND(AR$1>=$H76,AR$1<=IF(AND($H76>$M$1,$I76=\"\"),$M$2,$I76)),AND(AR$1>=$H77,AR$1<=IF(AND($H77>$M$1,$I77=\"\"),$M$2,$I77)),AND(AR$1>=$H78,AR$1<=IF(AND($H78>$M$1,$I78=\"\"),$M$2,$I78))),$H$3,\"\"))","v":""}]
[null,null,null,null,null,null,null,null,null,null,null,null,null,{"$f":"IF(OR(AND(N$1>=$J75,N$1<=IF(AND($J75>$M$1,$K75=\"\"),$M$2,$K75)),AND(N$1>=$J76,N$1<=IF(AND($J76>$M$1,$K76=\"\"),$M$2,$K76)),AND(N$1>=$J77,N$1<=IF(AND($J77>$M$1,$K77=\"\"),$M$2,$K77)),AND(N$1>=$J78,N$1<=IF(AND($J78>$M$1,$K78=\"\"),$M$2,$K78)),AND(N$1>=$J79,N$1<=IF(AND($J79>$M$1,$K79=\"\"),$M$2,$K79))),$J$3,\"\")","v":""},{"$f":"IF(OR(AND(O$1>=$J75,O$1<=IF(AND($J75>$M$1,$K75=\"\"),$M$2,$K75)),AND(O$1>=$J76,O$1<=IF(AND($J76>$M$1,$K76=\"\"),$M$2,$K76)),AND(O$1>=$J77,O$1<=IF(AND($J77>$M$1,$K77=\"\"),$M$2,$K77)),AND(O$1>=$J78,O$1<=IF(AND($J78>$M$1,$K78=\"\"),$M$2,$K78)),AND(O$1>=$J79,O$1<=IF(AND($J79>$M$1,$K79=\"\"),$M$2,$K79))),$J$3,\"\")","v":""},{"$f":"IF(OR(AND(P$1>=$J75,P$1<=IF(AND($J75>$M$1,$K75=\"\"),$M$2,$K75)),AND(P$1>=$J76,P$1<=IF(AND($J76>$M$1,$K76=\"\"),$M$2,$K76)),AND(P$1>=$J77,P$1<=IF(AND($J77>$M$1,$K77=\"\"),$M$2,$K77)),AND(P$1>=$J78,P$1<=IF(AND($J78>$M$1,$K78=\"\"),$M$2,$K78)),AND(P$1>=$J79,P$1<=IF(AND($J79>$M$1,$K79=\"\"),$M$2,$K79))),$J$3,\"\")","v":""},{"$f":"IF(OR(AND(Q$1>=$J75,Q$1<=IF(AND($J75>$M$1,$K75=\"\"),$M$2,$K75)),AND(Q$1>=$J76,Q$1<=IF(AND($J76>$M$1,$K76=\"\"),$M$2,$K76)),AND(Q$1>=$J77,Q$1<=IF(AND($J77>$M$1,$K77=\"\"),$M$2,$K77)),AND(Q$1>=$J78,Q$1<=IF(AND($J78>$M$1,$K78=\"\"),$M$2,$K78)),AND(Q$1>=$J79,Q$1<=IF(AND($J79>$M$1,$K79=\"\"),$M$2,$K79))),$J$3,\"\")","v":""},{"$f":"IF(OR(AND(R$1>=$J75,R$1<=IF(AND($J75>$M$1,$K75=\"\"),$M$2,$K75)),AND(R$1>=$J76,R$1<=IF(AND($J76>$M$1,$K76=\"\"),$M$2,$K76)),AND(R$1>=$J77,R$1<=IF(AND($J77>$M$1,$K77=\"\"),$M$2,$K77)),AND(R$1>=$J78,R$1<=IF(AND($J78>$M$1,$K78=\"\"),$M$2,$K78)),AND(R$1>=$J79,R$1<=IF(AND($J79>$M$1,$K79=\"\"),$M$2,$K79))),$J$3,\"\")","v":""},{"$f":"IF(OR(AND(S$1>=$J75,S$1<=IF(AND($J75>$M$1,$K75=\"\"),$M$2,$K75)),AND(S$1>=$J76,S$1<=IF(AND($J76>$M$1,$K76=\"\"),$M$2,$K76)),AND(S$1>=$J77,S$1<=IF(AND($J77>$M$1,$K77=\"\"),$M$2,$K77)),AND(S$1>=$J78,S$1<=IF(AND($J78>$M$1,$K78=\"\"),$M$2,$K78)),AND(S$1>=$J79,S$1<=IF(AND($J79>$M$1,$K79=\"\"),$M$2,$K79))),$J$3,\"\")","v":""},{"$f":"IF(OR(AND(T$1>=$J75,T$1<=IF(AND($J75>$M$1,$K75=\"\"),$M$2,$K75)),AND(T$1>=$J76,T$1<=IF(AND($J76>$M$1,$K76=\"\"),$M$2,$K76)),AND(T$1>=$J77,T$1<=IF(AND($J77>$M$1,$K77=\"\"),$M$2,$K77)),AND(T$1>=$J78,T$1<=IF(AND($J78>$M$1,$K78=\"\"),$M$2,$K78)),AND(T$1>=$J79,T$1<=IF(AND($J79>$M$1,$K79=\"\"),$M$2,$K79))),$J$3,\"\")","v":""},{"$f":"IF(OR(AND(U$1>=$J75,U$1<=IF(AND($J75>$M$1,$K75=\"\"),$M$2,$K75)),AND(U$1>=$J76,U$1<=IF(AND($J76>$M$1,$K76=\"\"),$M$2,$K76)),AND(U$1>=$J77,U$1<=IF(AND($J77>$M$1,$K77=\"\"),$M$2,$K77)),AND(U$1>=$J78,U$1<=IF(AND($J78>$M$1,$K78=\"\"),$M$2,$K78)),AND(U$1>=$J79,U$1<=IF(AND($J79>$M$1,$K79=\"\"),$M$2,$K79))),$J$3,\"\")","v":""},{"$f":"IF(OR(AND(V$1>=$J75,V$1<=IF(AND($J75>$M$1,$K75=\"\"),$M$2,$K75)),AND(V$1>=$J76,V$1<=IF(AND($J76>$M$1,$K76=\"\"),$M$2,$K76)),AND(V$1>=$J77,V$1<=IF(AND($J77>$M$1,$K77=\"\"),$M$2,$K77)),AND(V$1>=$J78,V$1<=IF(AND($J78>$M$1,$K78=\"\"),$M$2,$K78)),AND(V$1>=$J79,V$1<=IF(AND($J79>$M$1,$K79=\"\"),$M$2,$K79))),$J$3,\"\")","v":""},{"$f":"IF(OR(AND(W$1>=$J75,W$1<=IF(AND($J75>$M$1,$K75=\"\"),$M$2,$K75)),AND(W$1>=$J76,W$1<=IF(AND($J76>$M$1,$K76=\"\"),$M$2,$K76)),AND(W$1>=$J77,W$1<=IF(AND($J77>$M$1,$K77=\"\"),$M$2,$K77)),AND(W$1>=$J78,W$1<=IF(AND($J78>$M$1,$K78=\"\"),$M$2,$K78)),AND(W$1>=$J79,W$1<=IF(AND($J79>$M$1,$K79=\"\"),$M$2,$K79))),$J$3,\"\")","v":""},{"$f":"IF(OR(AND(X$1>=$J75,X$1<=IF(AND($J75>$M$1,$K75=\"\"),$M$2,$K75)),AND(X$1>=$J76,X$1<=IF(AND($J76>$M$1,$K76=\"\"),$M$2,$K76)),AND(X$1>=$J77,X$1<=IF(AND($J77>$M$1,$K77=\"\"),$M$2,$K77)),AND(X$1>=$J78,X$1<=IF(AND($J78>$M$1,$K78=\"\"),$M$2,$K78)),AND(X$1>=$J79,X$1<=IF(AND($J79>$M$1,$K79=\"\"),$M$2,$K79))),$J$3,\"\")","v":""},{"$f":"IF(OR(AND(Y$1>=$J75,Y$1<=IF(AND($J75>$M$1,$K75=\"\"),$M$2,$K75)),AND(Y$1>=$J76,Y$1<=IF(AND($J76>$M$1,$K76=\"\"),$M$2,$K76)),AND(Y$1>=$J77,Y$1<=IF(AND($J77>$M$1,$K77=\"\"),$M$2,$K77)),AND(Y$1>=$J78,Y$1<=IF(AND($J78>$M$1,$K78=\"\"),$M$2,$K78)),AND(Y$1>=$J79,Y$1<=IF(AND($J79>$M$1,$K79=\"\"),$M$2,$K79))),$J$3,\"\")","v":""},{"$f":"IF(OR(AND(Z$1>=$J75,Z$1<=IF(AND($J75>$M$1,$K75=\"\"),$M$2,$K75)),AND(Z$1>=$J76,Z$1<=IF(AND($J76>$M$1,$K76=\"\"),$M$2,$K76)),AND(Z$1>=$J77,Z$1<=IF(AND($J77>$M$1,$K77=\"\"),$M$2,$K77)),AND(Z$1>=$J78,Z$1<=IF(AND($J78>$M$1,$K78=\"\"),$M$2,$K78)),AND(Z$1>=$J79,Z$1<=IF(AND($J79>$M$1,$K79=\"\"),$M$2,$K79))),$J$3,\"\")","v":""},{"$f":"IF(OR(AND(AA$1>=$J75,AA$1<=IF(AND($J75>$M$1,$K75=\"\"),$M$2,$K75)),AND(AA$1>=$J76,AA$1<=IF(AND($J76>$M$1,$K76=\"\"),$M$2,$K76)),AND(AA$1>=$J77,AA$1<=IF(AND($J77>$M$1,$K77=\"\"),$M$2,$K77)),AND(AA$1>=$J78,AA$1<=IF(AND($J78>$M$1,$K78=\"\"),$M$2,$K78)),AND(AA$1>=$J79,AA$1<=IF(AND($J79>$M$1,$K79=\"\"),$M$2,$K79))),$J$3,\"\")","v":""},{"$f":"IF(OR(AND(AB$1>=$J75,AB$1<=IF(AND($J75>$M$1,$K75=\"\"),$M$2,$K75)),AND(AB$1>=$J76,AB$1<=IF(AND($J76>$M$1,$K76=\"\"),$M$2,$K76)),AND(AB$1>=$J77,AB$1<=IF(AND($J77>$M$1,$K77=\"\"),$M$2,$K77)),AND(AB$1>=$J78,AB$1<=IF(AND($J78>$M$1,$K78=\"\"),$M$2,$K78)),AND(AB$1>=$J79,AB$1<=IF(AND($J79>$M$1,$K79=\"\"),$M$2,$K79))),$J$3,\"\")","v":""},{"$f":"IF(OR(AND(AC$1>=$J75,AC$1<=IF(AND($J75>$M$1,$K75=\"\"),$M$2,$K75)),AND(AC$1>=$J76,AC$1<=IF(AND($J76>$M$1,$K76=\"\"),$M$2,$K76)),AND(AC$1>=$J77,AC$1<=IF(AND($J77>$M$1,$K77=\"\"),$M$2,$K77)),AND(AC$1>=$J78,AC$1<=IF(AND($J78>$M$1,$K78=\"\"),$M$2,$K78)),AND(AC$1>=$J79,AC$1<=IF(AND($J79>$M$1,$K79=\"\"),$M$2,$K79))),$J$3,\"\")","v":""},{"$f":"IF(OR(AND(AD$1>=$J75,AD$1<=IF(AND($J75>$M$1,$K75=\"\"),$M$2,$K75)),AND(AD$1>=$J76,AD$1<=IF(AND($J76>$M$1,$K76=\"\"),$M$2,$K76)),AND(AD$1>=$J77,AD$1<=IF(AND($J77>$M$1,$K77=\"\"),$M$2,$K77)),AND(AD$1>=$J78,AD$1<=IF(AND($J78>$M$1,$K78=\"\"),$M$2,$K78)),AND(AD$1>=$J79,AD$1<=IF(AND($J79>$M$1,$K79=\"\"),$M$2,$K79))),$J$3,\"\")","v":""},{"$f":"IF(OR(AND(AE$1>=$J75,AE$1<=IF(AND($J75>$M$1,$K75=\"\"),$M$2,$K75)),AND(AE$1>=$J76,AE$1<=IF(AND($J76>$M$1,$K76=\"\"),$M$2,$K76)),AND(AE$1>=$J77,AE$1<=IF(AND($J77>$M$1,$K77=\"\"),$M$2,$K77)),AND(AE$1>=$J78,AE$1<=IF(AND($J78>$M$1,$K78=\"\"),$M$2,$K78)),AND(AE$1>=$J79,AE$1<=IF(AND($J79>$M$1,$K79=\"\"),$M$2,$K79))),$J$3,\"\")","v":""},{"$f":"IF(OR(AND(AF$1>=$J75,AF$1<=IF(AND($J75>$M$1,$K75=\"\"),$M$2,$K75)),AND(AF$1>=$J76,AF$1<=IF(AND($J76>$M$1,$K76=\"\"),$M$2,$K76)),AND(AF$1>=$J77,AF$1<=IF(AND($J77>$M$1,$K77=\"\"),$M$2,$K77)),AND(AF$1>=$J78,AF$1<=IF(AND($J78>$M$1,$K78=\"\"),$M$2,$K78)),AND(AF$1>=$J79,AF$1<=IF(AND($J79>$M$1,$K79=\"\"),$M$2,$K79))),$J$3,\"\")","v":""},{"$f":"IF(OR(AND(AG$1>=$J75,AG$1<=IF(AND($J75>$M$1,$K75=\"\"),$M$2,$K75)),AND(AG$1>=$J76,AG$1<=IF(AND($J76>$M$1,$K76=\"\"),$M$2,$K76)),AND(AG$1>=$J77,AG$1<=IF(AND($J77>$M$1,$K77=\"\"),$M$2,$K77)),AND(AG$1>=$J78,AG$1<=IF(AND($J78>$M$1,$K78=\"\"),$M$2,$K78)),AND(AG$1>=$J79,AG$1<=IF(AND($J79>$M$1,$K79=\"\"),$M$2,$K79))),$J$3,\"\")","v":""},{"$f":"IF(OR(AND(AH$1>=$J75,AH$1<=IF(AND($J75>$M$1,$K75=\"\"),$M$2,$K75)),AND(AH$1>=$J76,AH$1<=IF(AND($J76>$M$1,$K76=\"\"),$M$2,$K76)),AND(AH$1>=$J77,AH$1<=IF(AND($J77>$M$1,$K77=\"\"),$M$2,$K77)),AND(AH$1>=$J78,AH$1<=IF(AND($J78>$M$1,$K78=\"\"),$M$2,$K78)),AND(AH$1>=$J79,AH$1<=IF(AND($J79>$M$1,$K79=\"\"),$M$2,$K79))),$J$3,\"\")","v":""},{"$f":"IF(OR(AND(AI$1>=$J75,AI$1<=IF(AND($J75>$M$1,$K75=\"\"),$M$2,$K75)),AND(AI$1>=$J76,AI$1<=IF(AND($J76>$M$1,$K76=\"\"),$M$2,$K76)),AND(AI$1>=$J77,AI$1<=IF(AND($J77>$M$1,$K77=\"\"),$M$2,$K77)),AND(AI$1>=$J78,AI$1<=IF(AND($J78>$M$1,$K78=\"\"),$M$2,$K78)),AND(AI$1>=$J79,AI$1<=IF(AND($J79>$M$1,$K79=\"\"),$M$2,$K79))),$J$3,\"\")","v":""},{"$f":"IF(OR(AND(AJ$1>=$J75,AJ$1<=IF(AND($J75>$M$1,$K75=\"\"),$M$2,$K75)),AND(AJ$1>=$J76,AJ$1<=IF(AND($J76>$M$1,$K76=\"\"),$M$2,$K76)),AND(AJ$1>=$J77,AJ$1<=IF(AND($J77>$M$1,$K77=\"\"),$M$2,$K77)),AND(AJ$1>=$J78,AJ$1<=IF(AND($J78>$M$1,$K78=\"\"),$M$2,$K78)),AND(AJ$1>=$J79,AJ$1<=IF(AND($J79>$M$1,$K79=\"\"),$M$2,$K79))),$J$3,\"\")","v":""},{"$f":"IF(OR(AND(AK$1>=$J75,AK$1<=IF(AND($J75>$M$1,$K75=\"\"),$M$2,$K75)),AND(AK$1>=$J76,AK$1<=IF(AND($J76>$M$1,$K76=\"\"),$M$2,$K76)),AND(AK$1>=$J77,AK$1<=IF(AND($J77>$M$1,$K77=\"\"),$M$2,$K77)),AND(AK$1>=$J78,AK$1<=IF(AND($J78>$M$1,$K78=\"\"),$M$2,$K78)),AND(AK$1>=$J79,AK$1<=IF(AND($J79>$M$1,$K79=\"\"),$M$2,$K79))),$J$3,\"\")","v":""},{"$f":"IF(OR(AND(AL$1>=$J75,AL$1<=IF(AND($J75>$M$1,$K75=\"\"),$M$2,$K75)),AND(AL$1>=$J76,AL$1<=IF(AND($J76>$M$1,$K76=\"\"),$M$2,$K76)),AND(AL$1>=$J77,AL$1<=IF(AND($J77>$M$1,$K77=\"\"),$M$2,$K77)),AND(AL$1>=$J78,AL$1<=IF(AND($J78>$M$1,$K78=\"\"),$M$2,$K78)),AND(AL$1>=$J79,AL$1<=IF(AND($J79>$M$1,$K79=\"\"),$M$2,$K79))),$J$3,\"\")","v":""},{"$f":"IF(OR(AND(AM$1>=$J75,AM$1<=IF(AND($J75>$M$1,$K75=\"\"),$M$2,$K75)),AND(AM$1>=$J76,AM$1<=IF(AND($J76>$M$1,$K76=\"\"),$M$2,$K76)),AND(AM$1>=$J77,AM$1<=IF(AND($J77>$M$1,$K77=\"\"),$M$2,$K77)),AND(AM$1>=$J78,AM$1<=IF(AND($J78>$M$1,$K78=\"\"),$M$2,$K78)),AND(AM$1>=$J79,AM$1<=IF(AND($J79>$M$1,$K79=\"\"),$M$2,$K79))),$J$3,\"\")","v":""},{"$f":"IF(OR(AND(AN$1>=$J75,AN$1<=IF(AND($J75>$M$1,$K75=\"\"),$M$2,$K75)),AND(AN$1>=$J76,AN$1<=IF(AND($J76>$M$1,$K76=\"\"),$M$2,$K76)),AND(AN$1>=$J77,AN$1<=IF(AND($J77>$M$1,$K77=\"\"),$M$2,$K77)),AND(AN$1>=$J78,AN$1<=IF(AND($J78>$M$1,$K78=\"\"),$M$2,$K78)),AND(AN$1>=$J79,AN$1<=IF(AND($J79>$M$1,$K79=\"\"),$M$2,$K79))),$J$3,\"\")","v":""},{"$f":"IF(OR(AND(AO$1>=$J75,AO$1<=IF(AND($J75>$M$1,$K75=\"\"),$M$2,$K75)),AND(AO$1>=$J76,AO$1<=IF(AND($J76>$M$1,$K76=\"\"),$M$2,$K76)),AND(AO$1>=$J77,AO$1<=IF(AND($J77>$M$1,$K77=\"\"),$M$2,$K77)),AND(AO$1>=$J78,AO$1<=IF(AND($J78>$M$1,$K78=\"\"),$M$2,$K78)),AND(AO$1>=$J79,AO$1<=IF(AND($J79>$M$1,$K79=\"\"),$M$2,$K79))),$J$3,\"\")","v":""},{"$f":"IF(AP$1=\"\",\"\",IF(OR(AND(AP$1>=$J75,AP$1<=IF(AND($J75>$M$1,$K75=\"\"),$M$2,$K75)),AND(AP$1>=$J76,AP$1<=IF(AND($J76>$M$1,$K76=\"\"),$M$2,$K76)),AND(AP$1>=$J77,AP$1<=IF(AND($J77>$M$1,$K77=\"\"),$M$2,$K77)),AND(AP$1>=$J78,AP$1<=IF(AND($J78>$M$1,$K78=\"\"),$M$2,$K78)),AND(AP$1>=$J79,AP$1<=IF(AND($J79>$M$1,$K79=\"\"),$M$2,$K79))),$J$3,\"\"))","v":""},{"$f":"IF(AQ$1=\"\",\"\",IF(OR(AND(AQ$1>=$J75,AQ$1<=IF(AND($J75>$M$1,$K75=\"\"),$M$2,$K75)),AND(AQ$1>=$J76,AQ$1<=IF(AND($J76>$M$1,$K76=\"\"),$M$2,$K76)),AND(AQ$1>=$J77,AQ$1<=IF(AND($J77>$M$1,$K77=\"\"),$M$2,$K77)),AND(AQ$1>=$J78,AQ$1<=IF(AND($J78>$M$1,$K78=\"\"),$M$2,$K78)),AND(AQ$1>=$J79,AQ$1<=IF(AND($J79>$M$1,$K79=\"\"),$M$2,$K79))),$J$3,\"\"))","v":""},{"$f":"IF(AR$1=\"\",\"\",IF(OR(AND(AR$1>=$J75,AR$1<=IF(AND($J75>$M$1,$K75=\"\"),$M$2,$K75)),AND(AR$1>=$J76,AR$1<=IF(AND($J76>$M$1,$K76=\"\"),$M$2,$K76)),AND(AR$1>=$J77,AR$1<=IF(AND($J77>$M$1,$K77=\"\"),$M$2,$K77)),AND(AR$1>=$J78,AR$1<=IF(AND($J78>$M$1,$K78=\"\"),$M$2,$K78)),AND(AR$1>=$J79,AR$1<=IF(AND($J79>$M$1,$K79=\"\"),$M$2,$K79))),$J$3,\"\"))","v":""}]
[{"$f":"стр.1!C43","v":4991},{"$f":"IFERROR(VLOOKUP(A80,стр.1!$A$13:$D$106,2,FALSE),\"\")","v":"Федоров"},{"$f":"IFERROR(VLOOKUP(A80,стр.1!$A$13:$D$106,4,FALSE),\"\")","v":"сборная"},null,null,null,null,null,null,null,null,null,null,{"$f":"N81&N82&N83&N84","v":""},{"$f":"O81&O82&O83&O84","v":""},{"$f":"P81&P82&P83&P84","v":""},{"$f":"Q81&Q82&Q83&Q84","v":""},{"$f":"R81&R82&R83&R84","v":""},{"$f":"S81&S82&S83&S84","v":""},{"$f":"T81&T82&T83&T84","v":""},{"$f":"U81&U82&U83&U84","v":""},{"$f":"V81&V82&V83&V84","v":""},{"$f":"W81&W82&W83&W84","v":""},{"$f":"X81&X82&X83&X84","v":""},{"$f":"Y81&Y82&Y83&Y84","v":""},{"$f":"Z81&Z82&Z83&Z84","v":""},{"$f":"AA81&AA82&AA83&AA84","v":""},{"$f":"AB81&AB82&AB83&AB84","v":""},{"$f":"AC81&AC82&AC83&AC84","v":""},{"$f":"AD81&AD82&AD83&AD84","v":""},{"$f":"AE81&AE82&AE83&AE84","v":""},{"$f":"AF81&AF82&AF83&AF84","v":""},{"$f":"AG81&AG82&AG83&AG84","v":""},{"$f":"AH81&AH82&AH83&AH84","v":""},{"$f":"AI81&AI82&AI83&AI84","v":""},{"$f":"AJ81&AJ82&AJ83&AJ84","v":""},{"$f":"AK81&AK82&AK83&AK84","v":""},{"$f":"AL81&AL82&AL83&AL84","v":""},{"$f":"AM81&AM82&AM83&AM84","v":""},{"$f":"AN81&AN82&AN83&AN84","v":""},{"$f":"AO81&AO82&AO83&AO84","v":""},{"$f":"AP81&AP82&AP83&AP84","v":""},{"$f":"AQ81&AQ82&AQ83&AQ84","v":""},{"$f":"AR81&AR82&AR83&AR84","v":""}]
[null,null,null,null,null,null,null,null,null,null,null,null,null,{"$f":"IF(OR(AND(N$1>=$D80,N$1<=IF(AND($D80>$M$1,$E80=\"\"),$M$2,$E80)),AND(N$1>=$D81,N$1<=IF(AND($D81>$M$1,$E81=\"\"),$M$2,$E81)),AND(N$1>=$D82,N$1<=IF(AND($D82>$M$1,$E82=\"\"),$M$2,$E82)),AND(N$1>=$D83,N$1<=IF(AND($D83>$M$1,$E83=\"\"),$M$2,$E83))),$D$3,\"\")","v":""},{"$f":"IF(OR(AND(O$1>=$D80,O$1<=IF(AND($D80>$M$1,$E80=\"\"),$M$2,$E80)),AND(O$1>=$D81,O$1<=IF(AND($D81>$M$1,$E81=\"\"),$M$2,$E81)),AND(O$1>=$D82,O$1<=IF(AND($D82>$M$1,$E82=\"\"),$M$2,$E82)),AND(O$1>=$D83,O$1<=IF(AND($D83>$M$1,$E83=\"\"),$M$2,$E83))),$D$3,\"\")","v":""},"","","","","","","","","","","","","","","","","","","","","","","","","","",{"$f":"IF(AP$1=\"\",\"\",IF(OR(AND(AP$1>=$D80,AP$1<=IF(AND($D80>$M$1,$E80=\"\"),$M$2,$E80)),AND(AP$1>=$D81,AP$1<=IF(AND($D81>$M$1,$E81=\"\"),$M$2,$E81)),AND(AP$1>=$D82,AP$1<=IF(AND($D82>$M$1,$E82=\"\"),$M$2,$E82)),AND(AP$1>=$D83,AP$1<=IF(AND($D83>$M$1,$E83=\"\"),$M$2,$E83))),$D$3,\"\"))","v":""},{"$f":"IF(AQ$1=\"\",\"\",IF(OR(AND(AQ$1>=$D80,AQ$1<=IF(AND($D80>$M$1,$E80=\"\"),$M$2,$E80)),AND(AQ$1>=$D81,AQ$1<=IF(AND($D81>$M$1,$E81=\"\"),$M$2,$E81)),AND(AQ$1>=$D82,AQ$1<=IF(AND($D82>$M$1,$E82=\"\"),$M$2,$E82)),AND(AQ$1>=$D83,AQ$1<=IF(AND($D83>$M$1,$E83=\"\"),$M$2,$E83))),$D$3,\"\"))","v":""},""]
[null,null,null,null,null,null,null,null,null,null,null,null,null,{"$f":"IF(OR(AND(N$1>=$F80,N$1<=IF(AND($F80>$M$1,$G80=\"\"),$M$2,$G80)),AND(N$1>=$F81,N$1<=IF(AND($F81>$M$1,$G81=\"\"),$M$2,$G81)),AND(N$1>=$F82,N$1<=IF(AND($F82>$M$1,$G82=\"\"),$M$2,$G82)),AND(N$1>=$F83,N$1<=IF(AND($F83>$M$1,$G83=\"\"),$M$2,$G83))),$F$3,\"\")","v":""},{"$f":"IF(OR(AND(O$1>=$F80,O$1<=IF(AND($F80>$M$1,$G80=\"\"),$M$2,$G80)),AND(O$1>=$F81,O$1<=IF(AND($F81>$M$1,$G81=\"\"),$M$2,$G81)),AND(O$1>=$F82,O$1<=IF(AND($F82>$M$1,$G82=\"\"),$M$2,$G82)),AND(O$1>=$F83,O$1<=IF(AND($F83>$M$1,$G83=\"\"),$M$2,$G83))),$F$3,\"\")","v":""},"","","","","","","","","","","","","","","","","","","","","","","","","","",{"$f":"IF(AP$1=\"\",\"\",IF(OR(AND(AP$1>=$F80,AP$1<=IF(AND($F80>$M$1,$G80=\"\"),$M$2,$G80)),AND(AP$1>=$F81,AP$1<=IF(AND($F81>$M$1,$G81=\"\"),$M$2,$G81)),AND(AP$1>=$F82,AP$1<=IF(AND($F82>$M$1,$G82=\"\"),$M$2,$G82)),AND(AP$1>=$F83,AP$1<=IF(AND($F83>$M$1,$G83=\"\"),$M$2,$G83))),$F$3,\"\"))","v":""},{"$f":"IF(AQ$1=\"\",\"\",IF(OR(AND(AQ$1>=$F80,AQ$1<=IF(AND($F80>$M$1,$G80=\"\"),$M$2,$G80)),AND(AQ$1>=$F81,AQ$1<=IF(AND($F81>$M$1,$G81=\"\"),$M$2,$G81)),AND(AQ$1>=$F82,AQ$1<=IF(AND($F82>$M$1,$G82=\"\"),$M$2,$G82)),AND(AQ$1>=$F83,AQ$1<=IF(AND($F83>$M$1,$G83=\"\"),$M$2,$G83))),$F$3,\"\"))","v":""},""]
[null,null,null,null,null,null,null,null,null,null,null,null,null,{"$f":"IF(OR(AND(N$1>=$H80,N$1<=IF(AND($H80>$M$1,$I80=\"\"),$M$2,$I80)),AND(N$1>=$H81,N$1<=IF(AND($H81>$M$1,$I81=\"\"),$M$2,$I81)),AND(N$1>=$H82,N$1<=IF(AND($H82>$M$1,$I82=\"\"),$M$2,$I82)),AND(N$1>=$H83,N$1<=IF(AND($H83>$M$1,$I83=\"\"),$M$2,$I83))),$H$3,\"\")","v":""},"","","","","","","","","","","","","","","","","","","","","","","","","","","",{"$f":"IF(AP$1=\"\",\"\",IF(OR(AND(AP$1>=$H80,AP$1<=IF(AND($H80>$M$1,$I80=\"\"),$M$2,$I80)),AND(AP$1>=$H81,AP$1<=IF(AND($H81>$M$1,$I81=\"\"),$M$2,$I81)),AND(AP$1>=$H82,AP$1<=IF(AND($H82>$M$1,$I82=\"\"),$M$2,$I82)),AND(AP$1>=$H83,AP$1<=IF(AND($H83>$M$1,$I83=\"\"),$M$2,$I83))),$H$3,\"\"))","v":""},{"$f":"IF(AQ$1=\"\",\"\",IF(OR(AND(AQ$1>=$H80,AQ$1<=IF(AND($H80>$M$1,$I80=\"\"),$M$2,$I80)),AND(AQ$1>=$H81,AQ$1<=IF(AND($H81>$M$1,$I81=\"\"),$M$2,$I81)),AND(AQ$1>=$H82,AQ$1<=IF(AND($H82>$M$1,$I82=\"\"),$M$2,$I82)),AND(AQ$1>=$H83,AQ$1<=IF(AND($H83>$M$1,$I83=\"\"),$M$2,$I83))),$H$3,\"\"))","v":""},{"$f":"IF(AR$1=\"\",\"\",IF(OR(AND(AR$1>=$H80,AR$1<=IF(AND($H80>$M$1,$I80=\"\"),$M$2,$I80)),AND(AR$1>=$H81,AR$1<=IF(AND($H81>$M$1,$I81=\"\"),$M$2,$I81)),AND(AR$1>=$H82,AR$1<=IF(AND($H82>$M$1,$I82=\"\"),$M$2,$I82)),AND(AR$1>=$H83,AR$1<=IF(AND($H83>$M$1,$I83=\"\"),$M$2,$I83))),$H$3,\"\"))","v":""}]
[null,null,null,null,null,null,null,null,null,null,null,null,null,{"$f":"IF(OR(AND(N$1>=$J80,N$1<=IF(AND($J80>$M$1,$K80=\"\"),$M$2,$K80)),AND(N$1>=$J81,N$1<=IF(AND($J81>$M$1,$K81=\"\"),$M$2,$K81)),AND(N$1>=$J82,N$1<=IF(AND($J82>$M$1,$K82=\"\"),$M$2,$K82)),AND(N$1>=$J83,N$1<=IF(AND($J83>$M$1,$K83=\"\"),$M$2,$K83)),AND(N$1>=$J84,N$1<=IF(AND($J84>$M$1,$K84=\"\"),$M$2,$K84))),$J$3,\"\")","v":""},{"$f":"IF(OR(AND(O$1>=$J80,O$1<=IF(AND($J80>$M$1,$K80=\"\"),$M$2,$K80)),AND(O$1>=$J81,O$1<=IF(AND($J81>$M$1,$K81=\"\"),$M$2,$K81)),AND(O$1>=$J82,O$1<=IF(AND($J82>$M$1,$K82=\"\"),$M$2,$K82)),AND(O$1>=$J83,O$1<=IF(AND($J83>$M$1,$K83=\"\"),$M$2,$K83)),AND(O$1>=$J84,O$1<=IF(AND($J84>$M$1,$K84=\"\"),$M$2,$K84))),$J$3,\"\")","v":""},{"$f":"IF(OR(AND(P$1>=$J80,P$1<=IF(AND($J80>$M$1,$K80=\"\"),$M$2,$K80)),AND(P$1>=$J81,P$1<=IF(AND($J81>$M$1,$K81=\"\"),$M$2,$K81)),AND(P$1>=$J82,P$1<=IF(AND($J82>$M$1,$K82=\"\"),$M$2,$K82)),AND(P$1>=$J83,P$1<=IF(AND($J83>$M$1,$K83=\"\"),$M$2,$K83)),AND(P$1>=$J84,P$1<=IF(AND($J84>$M$1,$K84=\"\"),$M$2,$K84))),$J$3,\"\")","v":""},{"$f":"IF(OR(AND(Q$1>=$J80,Q$1<=IF(AND($J80>$M$1,$K80=\"\"),$M$2,$K80)),AND(Q$1>=$J81,Q$1<=IF(AND($J81>$M$1,$K81=\"\"),$M$2,$K81)),AND(Q$1>=$J82,Q$1<=IF(AND($J82>$M$1,$K82=\"\"),$M$2,$K82)),AND(Q$1>=$J83,Q$1<=IF(AND($J83>$M$1,$K83=\"\"),$M$2,$K83)),AND(Q$1>=$J84,Q$1<=IF(AND($J84>$M$1,$K84=\"\"),$M$2,$K84))),$J$3,\"\")","v":""},{"$f":"IF(OR(AND(R$1>=$J80,R$1<=IF(AND($J80>$M$1,$K80=\"\"),$M$2,$K80)),AND(R$1>=$J81,R$1<=IF(AND($J81>$M$1,$K81=\"\"),$M$2,$K81)),AND(R$1>=$J82,R$1<=IF(AND($J82>$M$1,$K82=\"\"),$M$2,$K82)),AND(R$1>=$J83,R$1<=IF(AND($J83>$M$1,$K83=\"\"),$M$2,$K83)),AND(R$1>=$J84,R$1<=IF(AND($J84>$M$1,$K84=\"\"),$M$2,$K84))),$J$3,\"\")","v":""},{"$f":"IF(OR(AND(S$1>=$J80,S$1<=IF(AND($J80>$M$1,$K80=\"\"),$M$2,$K80)),AND(S$1>=$J81,S$1<=IF(AND($J81>$M$1,$K81=\"\"),$M$2,$K81)),AND(S$1>=$J82,S$1<=IF(AND($J82>$M$1,$K82=\"\"),$M$2,$K82)),AND(S$1>=$J83,S$1<=IF(AND($J83>$M$1,$K83=\"\"),$M$2,$K83)),AND(S$1>=$J84,S$1<=IF(AND($J84>$M$1,$K84=\"\"),$M$2,$K84))),$J$3,\"\")","v":""},{"$f":"IF(OR(AND(T$1>=$J80,T$1<=IF(AND($J80>$M$1,$K80=\"\"),$M$2,$K80)),AND(T$1>=$J81,T$1<=IF(AND($J81>$M$1,$K81=\"\"),$M$2,$K81)),AND(T$1>=$J82,T$1<=IF(AND($J82>$M$1,$K82=\"\"),$M$2,$K82)),AND(T$1>=$J83,T$1<=IF(AND($J83>$M$1,$K83=\"\"),$M$2,$K83)),AND(T$1>=$J84,T$1<=IF(AND($J84>$M$1,$K84=\"\"),$M$2,$K84))),$J$3,\"\")","v":""},{"$f":"IF(OR(AND(U$1>=$J80,U$1<=IF(AND($J80>$M$1,$K80=\"\"),$M$2,$K80)),AND(U$1>=$J81,U$1<=IF(AND($J81>$M$1,$K81=\"\"),$M$2,$K81)),AND(U$1>=$J82,U$1<=IF(AND($J82>$M$1,$K82=\"\"),$M$2,$K82)),AND(U$1>=$J83,U$1<=IF(AND($J83>$M$1,$K83=\"\"),$M$2,$K83)),AND(U$1>=$J84,U$1<=IF(AND($J84>$M$1,$K84=\"\"),$M$2,$K84))),$J$3,\"\")","v":""},{"$f":"IF(OR(AND(V$1>=$J80,V$1<=IF(AND($J80>$M$1,$K80=\"\"),$M$2,$K80)),AND(V$1>=$J81,V$1<=IF(AND($J81>$M$1,$K81=\"\"),$M$2,$K81)),AND(V$1>=$J82,V$1<=IF(AND($J82>$M$1,$K82=\"\"),$M$2,$K82)),AND(V$1>=$J83,V$1<=IF(AND($J83>$M$1,$K83=\"\"),$M$2,$K83)),AND(V$1>=$J84,V$1<=IF(AND($J84>$M$1,$K84=\"\"),$M$2,$K84))),$J$3,\"\")","v":""},{"$f":"IF(OR(AND(W$1>=$J80,W$1<=IF(AND($J80>$M$1,$K80=\"\"),$M$2,$K80)),AND(W$1>=$J81,W$1<=IF(AND($J81>$M$1,$K81=\"\"),$M$2,$K81)),AND(W$1>=$J82,W$1<=IF(AND($J82>$M$1,$K82=\"\"),$M$2,$K82)),AND(W$1>=$J83,W$1<=IF(AND($J83>$M$1,$K83=\"\"),$M$2,$K83)),AND(W$1>=$J84,W$1<=IF(AND($J84>$M$1,$K84=\"\"),$M$2,$K84))),$J$3,\"\")","v":""},{"$f":"IF(OR(AND(X$1>=$J80,X$1<=IF(AND($J80>$M$1,$K80=\"\"),$M$2,$K80)),AND(X$1>=$J81,X$1<=IF(AND($J81>$M$1,$K81=\"\"),$M$2,$K81)),AND(X$1>=$J82,X$1<=IF(AND($J82>$M$1,$K82=\"\"),$M$2,$K82)),AND(X$1>=$J83,X$1<=IF(AND($J83>$M$1,$K83=\"\"),$M$2,$K83)),AND(X$1>=$J84,X$1<=IF(AND($J84>$M$1,$K84=\"\"),$M$2,$K84))),$J$3,\"\")","v":""},{"$f":"IF(OR(AND(Y$1>=$J80,Y$1<=IF(AND($J80>$M$1,$K80=\"\"),$M$2,$K80)),AND(Y$1>=$J81,Y$1<=IF(AND($J81>$M$1,$K81=\"\"),$M$2,$K81)),AND(Y$1>=$J82,Y$1<=IF(AND($J82>$M$1,$K82=\"\"),$M$2,$K82)),AND(Y$1>=$J83,Y$1<=IF(AND($J83>$M$1,$K83=\"\"),$M$2,$K83)),AND(Y$1>=$J84,Y$1<=IF(AND($J84>$M$1,$K84=\"\"),$M$2,$K84))),$J$3,\"\")","v":""},{"$f":"IF(OR(AND(Z$1>=$J80,Z$1<=IF(AND($J80>$M$1,$K80=\"\"),$M$2,$K80)),AND(Z$1>=$J81,Z$1<=IF(AND($J81>$M$1,$K81=\"\"),$M$2,$K81)),AND(Z$1>=$J82,Z$1<=IF(AND($J82>$M$1,$K82=\"\"),$M$2,$K82)),AND(Z$1>=$J83,Z$1<=IF(AND($J83>$M$1,$K83=\"\"),$M$2,$K83)),AND(Z$1>=$J84,Z$1<=IF(AND($J84>$M$1,$K84=\"\"),$M$2,$K84))),$J$3,\"\")","v":""},{"$f":"IF(OR(AND(AA$1>=$J80,AA$1<=IF(AND($J80>$M$1,$K80=\"\"),$M$2,$K80)),AND(AA$1>=$J81,AA$1<=IF(AND($J81>$M$1,$K81=\"\"),$M$2,$K81)),AND(AA$1>=$J82,AA$1<=IF(AND($J82>$M$1,$K82=\"\"),$M$2,$K82)),AND(AA$1>=$J83,AA$1<=IF(AND($J83>$M$1,$K83=\"\"),$M$2,$K83)),AND(AA$1>=$J84,AA$1<=IF(AND($J84>$M$1,$K84=\"\"),$M$2,$K84))),$J$3,\"\")","v":""},{"$f":"IF(OR(AND(AB$1>=$J80,AB$1<=IF(AND($J80>$M$1,$K80=\"\"),$M$2,$K80)),AND(AB$1>=$J81,AB$1<=IF(AND($J81>$M$1,$K81=\"\"),$M$2,$K81)),AND(AB$1>=$J82,AB$1<=IF(AND($J82>$M$1,$K82=\"\"),$M$2,$K82)),AND(AB$1>=$J83,AB$1<=IF(AND($J83>$M$1,$K83=\"\"),$M$2,$K83)),AND(AB$1>=$J84,AB$1<=IF(AND($J84>$M$1,$K84=\"\"),$M$2,$K84))),$J$3,\"\")","v":""},{"$f":"IF(OR(AND(AC$1>=$J80,AC$1<=IF(AND($J80>$M$1,$K80=\"\"),$M$2,$K80)),AND(AC$1>=$J81,AC$1<=IF(AND($J81>$M$1,$K81=\"\"),$M$2,$K81)),AND(AC$1>=$J82,AC$1<=IF(AND($J82>$M$1,$K82=\"\"),$M$2,$K82)),AND(AC$1>=$J83,AC$1<=IF(AND($J83>$M$1,$K83=\"\"),$M$2,$K83)),AND(AC$1>=$J84,AC$1<=IF(AND($J84>$M$1,$K84=\"\"),$M$2,$K84))),$J$3,\"\")","v":""},{"$f":"IF(OR(AND(AD$1>=$J80,AD$1<=IF(AND($J80>$M$1,$K80=\"\"),$M$2,$K80)),AND(AD$1>=$J81,AD$1<=IF(AND($J81>$M$1,$K81=\"\"),$M$2,$K81)),AND(AD$1>=$J82,AD$1<=IF(AND($J82>$M$1,$K82=\"\"),$M$2,$K82)),AND(AD$1>=$J83,AD$1<=IF(AND($J83>$M$1,$K83=\"\"),$M$2,$K83)),AND(AD$1>=$J84,AD$1<=IF(AND($J84>$M$1,$K84=\"\"),$M$2,$K84))),$J$3,\"\")","v":""},{"$f":"IF(OR(AND(AE$1>=$J80,AE$1<=IF(AND($J80>$M$1,$K80=\"\"),$M$2,$K80)),AND(AE$1>=$J81,AE$1<=IF(AND($J81>$M$1,$K81=\"\"),$M$2,$K81)),AND(AE$1>=$J82,AE$1<=IF(AND($J82>$M$1,$K82=\"\"),$M$2,$K82)),AND(AE$1>=$J83,AE$1<=IF(AND($J83>$M$1,$K83=\"\"),$M$2,$K83)),AND(AE$1>=$J84,AE$1<=IF(AND($J84>$M$1,$K84=\"\"),$M$2,$K84))),$J$3,\"\")","v":""},{"$f":"IF(OR(AND(AF$1>=$J80,AF$1<=IF(AND($J80>$M$1,$K80=\"\"),$M$2,$K80)),AND(AF$1>=$J81,AF$1<=IF(AND($J81>$M$1,$K81=\"\"),$M$2,$K81)),AND(AF$1>=$J82,AF$1<=IF(AND($J82>$M$1,$K82=\"\"),$M$2,$K82)),AND(AF$1>=$J83,AF$1<=IF(AND($J83>$M$1,$K83=\"\"),$M$2,$K83)),AND(AF$1>=$J84,AF$1<=IF(AND($J84>$M$1,$K84=\"\"),$M$2,$K84))),$J$3,\"\")","v":""},{"$f":"IF(OR(AND(AG$1>=$J80,AG$1<=IF(AND($J80>$M$1,$K80=\"\"),$M$2,$K80)),AND(AG$1>=$J81,AG$1<=IF(AND($J81>$M$1,$K81=\"\"),$M$2,$K81)),AND(AG$1>=$J82,AG$1<=IF(AND($J82>$M$1,$K82=\"\"),$M$2,$K82)),AND(AG$1>=$J83,AG$1<=IF(AND($J83>$M$1,$K83=\"\"),$M$2,$K83)),AND(AG$1>=$J84,AG$1<=IF(AND($J84>$M$1,$K84=\"\"),$M$2,$K84))),$J$3,\"\")","v":""},{"$f":"IF(OR(AND(AH$1>=$J80,AH$1<=IF(AND($J80>$M$1,$K80=\"\"),$M$2,$K80)),AND(AH$1>=$J81,AH$1<=IF(AND($J81>$M$1,$K81=\"\"),$M$2,$K81)),AND(AH$1>=$J82,AH$1<=IF(AND($J82>$M$1,$K82=\"\"),$M$2,$K82)),AND(AH$1>=$J83,AH$1<=IF(AND($J83>$M$1,$K83=\"\"),$M$2,$K83)),AND(AH$1>=$J84,AH$1<=IF(AND($J84>$M$1,$K84=\"\"),$M$2,$K84))),$J$3,\"\")","v":""},{"$f":"IF(OR(AND(AI$1>=$J80,AI$1<=IF(AND($J80>$M$1,$K80=\"\"),$M$2,$K80)),AND(AI$1>=$J81,AI$1<=IF(AND($J81>$M$1,$K81=\"\"),$M$2,$K81)),AND(AI$1>=$J82,AI$1<=IF(AND($J82>$M$1,$K82=\"\"),$M$2,$K82)),AND(AI$1>=$J83,AI$1<=IF(AND($J83>$M$1,$K83=\"\"),$M$2,$K83)),AND(AI$1>=$J84,AI$1<=IF(AND($J84>$M$1,$K84=\"\"),$M$2,$K84))),$J$3,\"\")","v":""},{"$f":"IF(OR(AND(AJ$1>=$J80,AJ$1<=IF(AND($J80>$M$1,$K80=\"\"),$M$2,$K80)),AND(AJ$1>=$J81,AJ$1<=IF(AND($J81>$M$1,$K81=\"\"),$M$2,$K81)),AND(AJ$1>=$J82,AJ$1<=IF(AND($J82>$M$1,$K82=\"\"),$M$2,$K82)),AND(AJ$1>=$J83,AJ$1<=IF(AND($J83>$M$1,$K83=\"\"),$M$2,$K83)),AND(AJ$1>=$J84,AJ$1<=IF(AND($J84>$M$1,$K84=\"\"),$M$2,$K84))),$J$3,\"\")","v":""},{"$f":"IF(OR(AND(AK$1>=$J80,AK$1<=IF(AND($J80>$M$1,$K80=\"\"),$M$2,$K80)),AND(AK$1>=$J81,AK$1<=IF(AND($J81>$M$1,$K81=\"\"),$M$2,$K81)),AND(AK$1>=$J82,AK$1<=IF(AND($J82>$M$1,$K82=\"\"),$M$2,$K82)),AND(AK$1>=$J83,AK$1<=IF(AND($J83>$M$1,$K83=\"\"),$M$2,$K83)),AND(AK$1>=$J84,AK$1<=IF(AND($J84>$M$1,$K84=\"\"),$M$2,$K84))),$J$3,\"\")","v":""},{"$f":"IF(OR(AND(AL$1>=$J80,AL$1<=IF(AND($J80>$M$1,$K80=\"\"),$M$2,$K80)),AND(AL$1>=$J81,AL$1<=IF(AND($J81>$M$1,$K81=\"\"),$M$2,$K81)),AND(AL$1>=$J82,AL$1<=IF(AND($J82>$M$1,$K82=\"\"),$M$2,$K82)),AND(AL$1>=$J83,AL$1<=IF(AND($J83>$M$1,$K83=\"\"),$M$2,$K83)),AND(AL$1>=$J84,AL$1<=IF(AND($J84>$M$1,$K84=\"\"),$M$2,$K84))),$J$3,\"\")","v":""},{"$f":"IF(OR(AND(AM$1>=$J80,AM$1<=IF(AND($J80>$M$1,$K80=\"\"),$M$2,$K80)),AND(AM$1>=$J81,AM$1<=IF(AND($J81>$M$1,$K81=\"\"),$M$2,$K81)),AND(AM$1>=$J82,AM$1<=IF(AND($J82>$M$1,$K82=\"\"),$M$2,$K82)),AND(AM$1>=$J83,AM$1<=IF(AND($J83>$M$1,$K83=\"\"),$M$2,$K83)),AND(AM$1>=$J84,AM$1<=IF(AND($J84>$M$1,$K84=\"\"),$M$2,$K84))),$J$3,\"\")","v":""},{"$f":"IF(OR(AND(AN$1>=$J80,AN$1<=IF(AND($J80>$M$1,$K80=\"\"),$M$2,$K80)),AND(AN$1>=$J81,AN$1<=IF(AND($J81>$M$1,$K81=\"\"),$M$2,$K81)),AND(AN$1>=$J82,AN$1<=IF(AND($J82>$M$1,$K82=\"\"),$M$2,$K82)),AND(AN$1>=$J83,AN$1<=IF(AND($J83>$M$1,$K83=\"\"),$M$2,$K83)),AND(AN$1>=$J84,AN$1<=IF(AND($J84>$M$1,$K84=\"\"),$M$2,$K84))),$J$3,\"\")","v":""},{"$f":"IF(OR(AND(AO$1>=$J80,AO$1<=IF(AND($J80>$M$1,$K80=\"\"),$M$2,$K80)),AND(AO$1>=$J81,AO$1<=IF(AND($J81>$M$1,$K81=\"\"),$M$2,$K81)),AND(AO$1>=$J82,AO$1<=IF(AND($J82>$M$1,$K82=\"\"),$M$2,$K82)),AND(AO$1>=$J83,AO$1<=IF(AND($J83>$M$1,$K83=\"\"),$M$2,$K83)),AND(AO$1>=$J84,AO$1<=IF(AND($J84>$M$1,$K84=\"\"),$M$2,$K84))),$J$3,\"\")","v":""},{"$f":"IF(AP$1=\"\",\"\",IF(OR(AND(AP$1>=$J80,AP$1<=IF(AND($J80>$M$1,$K80=\"\"),$M$2,$K80)),AND(AP$1>=$J81,AP$1<=IF(AND($J81>$M$1,$K81=\"\"),$M$2,$K81)),AND(AP$1>=$J82,AP$1<=IF(AND($J82>$M$1,$K82=\"\"),$M$2,$K82)),AND(AP$1>=$J83,AP$1<=IF(AND($J83>$M$1,$K83=\"\"),$M$2,$K83)),AND(AP$1>=$J84,AP$1<=IF(AND($J84>$M$1,$K84=\"\"),$M$2,$K84))),$J$3,\"\"))","v":""},{"$f":"IF(AQ$1=\"\",\"\",IF(OR(AND(AQ$1>=$J80,AQ$1<=IF(AND($J80>$M$1,$K80=\"\"),$M$2,$K80)),AND(AQ$1>=$J81,AQ$1<=IF(AND($J81>$M$1,$K81=\"\"),$M$2,$K81)),AND(AQ$1>=$J82,AQ$1<=IF(AND($J82>$M$1,$K82=\"\"),$M$2,$K82)),AND(AQ$1>=$J83,AQ$1<=IF(AND($J83>$M$1,$K83=\"\"),$M$2,$K83)),AND(AQ$1>=$J84,AQ$1<=IF(AND($J84>$M$1,$K84=\"\"),$M$2,$K84))),$J$3,\"\"))","v":""},{"$f":"IF(AR$1=\"\",\"\",IF(OR(AND(AR$1>=$J80,AR$1<=IF(AND($J80>$M$1,$K80=\"\"),$M$2,$K80)),AND(AR$1>=$J81,AR$1<=IF(AND($J81>$M$1,$K81=\"\"),$M$2,$K81)),AND(AR$1>=$J82,AR$1<=IF(AND($J82>$M$1,$K82=\"\"),$M$2,$K82)),AND(AR$1>=$J83,AR$1<=IF(AND($J83>$M$1,$K83=\"\"),$M$2,$K83)),AND(AR$1>=$J84,AR$1<=IF(AND($J84>$M$1,$K84=\"\"),$M$2,$K84))),$J$3,\"\"))","v":""}]
[{"$f":"стр.1!C45","v":4990},{"$f":"IFERROR(VLOOKUP(A85,стр.1!$A$13:$D$106,2,FALSE),\"\")","v":"Ковальчук"},{"$f":"IFERROR(VLOOKUP(A85,стр.1!$A$13:$D$106,4,FALSE),\"\")","v":"сборная"},null,null,null,null,null,null,null,null,null,null,{"$f":"N86&N87&N88&N89","v":""},{"$f":"O86&O87&O88&O89","v":""},{"$f":"P86&P87&P88&P89","v":""},{"$f":"Q86&Q87&Q88&Q89","v":""},{"$f":"R86&R87&R88&R89","v":""},{"$f":"S86&S87&S88&S89","v":""},{"$f":"T86&T87&T88&T89","v":""},{"$f":"U86&U87&U88&U89","v":""},{"$f":"V86&V87&V88&V89","v":""},{"$f":"W86&W87&W88&W89","v":""},{"$f":"X86&X87&X88&X89","v":""},{"$f":"Y86&Y87&Y88&Y89","v":""},{"$f":"Z86&Z87&Z88&Z89","v":""},{"$f":"AA86&AA87&AA88&AA89","v":""},{"$f":"AB86&AB87&AB88&AB89","v":""},{"$f":"AC86&AC87&AC88&AC89","v":""},{"$f":"AD86&AD87&AD88&AD89","v":""},{"$f":"AE86&AE87&AE88&AE89","v":""},{"$f":"AF86&AF87&AF88&AF89","v":""},{"$f":"AG86&AG87&AG88&AG89","v":""},{"$f":"AH86&AH87&AH88&AH89","v":""},{"$f":"AI86&AI87&AI88&AI89","v":""},{"$f":"AJ86&AJ87&AJ88&AJ89","v":""},{"$f":"AK86&AK87&AK88&AK89","v":""},{"$f":"AL86&AL87&AL88&AL89","v":""},{"$f":"AM86&AM87&AM88&AM89","v":""},{"$f":"AN86&AN87&AN88&AN89","v":""},{"$f":"AO86&AO87&AO88&AO89","v":""},{"$f":"AP86&AP87&AP88&AP89","v":""},{"$f":"AQ86&AQ87&AQ88&AQ89","v":""},{"$f":"AR86&AR87&AR88&AR89","v":""}]
[null,null,null,null,null,null,null,null,null,null,null,null,null,{"$f":"IF(OR(AND(N$1>=$D85,N$1<=IF(AND($D85>$M$1,$E85=\"\"),$M$2,$E85)),AND(N$1>=$D86,N$1<=IF(AND($D86>$M$1,$E86=\"\"),$M$2,$E86)),AND(N$1>=$D87,N$1<=IF(AND($D87>$M$1,$E87=\"\"),$M$2,$E87)),AND(N$1>=$D88,N$1<=IF(AND($D88>$M$1,$E88=\"\"),$M$2,$E88))),$D$3,\"\")","v":""},{"$f":"IF(OR(AND(O$1>=$D85,O$1<=IF(AND($D85>$M$1,$E85=\"\"),$M$2,$E85)),AND(O$1>=$D86,O$1<=IF(AND($D86>$M$1,$E86=\"\"),$M$2,$E86)),AND(O$1>=$D87,O$1<=IF(AND($D87>$M$1,$E87=\"\"),$M$2,$E87)),AND(O$1>=$D88,O$1<=IF(AND($D88>$M$1,$E88=\"\"),$M$2,$E88))),$D$3,\"\")","v":""},"","","","","","","","","","","","","","","","","","","","","","","","","","",{"$f":"IF(AP$1=\"\",\"\",IF(OR(AND(AP$1>=$D85,AP$1<=IF(AND($D85>$M$1,$E85=\"\"),$M$2,$E85)),AND(AP$1>=$D86,AP$1<=IF(AND($D86>$M$1,$E86=\"\"),$M$2,$E86)),AND(AP$1>=$D87,AP$1<=IF(AND($D87>$M$1,$E87=\"\"),$M$2,$E87)),AND(AP$1>=$D88,AP$1<=IF(AND($D88>$M$1,$E88=\"\"),$M$2,$E88))),$D$3,\"\"))","v":""},{"$f":"IF(AQ$1=\"\",\"\",IF(OR(AND(AQ$1>=$D85,AQ$1<=IF(AND($D85>$M$1,$E85=\"\"),$M$2,$E85)),AND(AQ$1>=$D86,AQ$1<=IF(AND($D86>$M$1,$E86=\"\"),$M$2,$E86)),AND(AQ$1>=$D87,AQ$1<=IF(AND($D87>$M$1,$E87=\"\"),$M$2,$E87)),AND(AQ$1>=$D88,AQ$1<=IF(AND($D88>$M$1,$E88=\"\"),$M$2,$E88))),$D$3,\"\"))","v":""},""]
[null,null,null,null,null,null,null,null,null,null,null,null,null,{"$f":"IF(OR(AND(N$1>=$F85,N$1<=IF(AND($F85>$M$1,$G85=\"\"),$M$2,$G85)),AND(N$1>=$F86,N$1<=IF(AND($F86>$M$1,$G86=\"\"),$M$2,$G86)),AND(N$1>=$F87,N$1<=IF(AND($F87>$M$1,$G87=\"\"),$M$2,$G87)),AND(N$1>=$F88,N$1<=IF(AND($F88>$M$1,$G88=\"\"),$M$2,$G88))),$F$3,\"\")","v":""},{"$f":"IF(OR(AND(O$1>=$F85,O$1<=IF(AND($F85>$M$1,$G85=\"\"),$M$2,$G85)),AND(O$1>=$F86,O$1<=IF(AND($F86>$M$1,$G86=\"\"),$M$2,$G86)),AND(O$1>=$F87,O$1<=IF(AND($F87>$M$1,$G87=\"\"),$M$2,$G87)),AND(O$1>=$F88,O$1<=IF(AND($F88>$M$1,$G88=\"\"),$M$2,$G88))),$F$3,\"\")","v":""},"","","","","","","","","","","","","","","","","","","","","","","","","","",{"$f":"IF(AP$1=\"\",\"\",IF(OR(AND(AP$1>=$F85,AP$1<=IF(AND($F85>$M$1,$G85=\"\"),$M$2,$G85)),AND(AP$1>=$F86,AP$1<=IF(AND($F86>$M$1,$G86=\"\"),$M$2,$G86)),AND(AP$1>=$F87,AP$1<=IF(AND($F87>$M$1,$G87=\"\"),$M$2,$G87)),AND(AP$1>=$F88,AP$1<=IF(AND($F88>$M$1,$G88=\"\"),$M$2,$G88))),$F$3,\"\"))","v":""},{"$f":"IF(AQ$1=\"\",\"\",IF(OR(AND(AQ$1>=$F85,AQ$1<=IF(AND($F85>$M$1,$G85=\"\"),$M$2,$G85)),AND(AQ$1>=$F86,AQ$1<=IF(AND($F86>$M$1,$G86=\"\"),$M$2,$G86)),AND(AQ$1>=$F87,AQ$1<=IF(AND($F87>$M$1,$G87=\"\"),$M$2,$G87)),AND(AQ$1>=$F88,AQ$1<=IF(AND($F88>$M$1,$G88=\"\"),$M$2,$G88))),$F$3,\"\"))","v":""},""]
[null,null,null,null,null,null,null,null,null,null,null,null,null,{"$f":"IF(OR(AND(N$1>=$H85,N$1<=IF(AND($H85>$M$1,$I85=\"\"),$M$2,$I85)),AND(N$1>=$H86,N$1<=IF(AND($H86>$M$1,$I86=\"\"),$M$2,$I86)),AND(N$1>=$H87,N$1<=IF(AND($H87>$M$1,$I87=\"\"),$M$2,$I87)),AND(N$1>=$H88,N$1<=IF(AND($H88>$M$1,$I88=\"\"),$M$2,$I88))),$H$3,\"\")","v":""},"","","","","","","","","","","","","","","","","","","","","","","","","","","",{"$f":"IF(AP$1=\"\",\"\",IF(OR(AND(AP$1>=$H85,AP$1<=IF(AND($H85>$M$1,$I85=\"\"),$M$2,$I85)),AND(AP$1>=$H86,AP$1<=IF(AND($H86>$M$1,$I86=\"\"),$M$2,$I86)),AND(AP$1>=$H87,AP$1<=IF(AND($H87>$M$1,$I87=\"\"),$M$2,$I87)),AND(AP$1>=$H88,AP$1<=IF(AND($H88>$M$1,$I88=\"\"),$M$2,$I88))),$H$3,\"\"))","v":""},{"$f":"IF(AQ$1=\"\",\"\",IF(OR(AND(AQ$1>=$H85,AQ$1<=IF(AND($H85>$M$1,$I85=\"\"),$M$2,$I85)),AND(AQ$1>=$H86,AQ$1<=IF(AND($H86>$M$1,$I86=\"\"),$M$2,$I86)),AND(AQ$1>=$H87,AQ$1<=IF(AND($H87>$M$1,$I87=\"\"),$M$2,$I87)),AND(AQ$1>=$H88,AQ$1<=IF(AND($H88>$M$1,$I88=\"\"),$M$2,$I88))),$H$3,\"\"))","v":""},{"$f":"IF(AR$1=\"\",\"\",IF(OR(AND(AR$1>=$H85,AR$1<=IF(AND($H85>$M$1,$I85=\"\"),$M$2,$I85)),AND(AR$1>=$H86,AR$1<=IF(AND($H86>$M$1,$I86=\"\"),$M$2,$I86)),AND(AR$1>=$H87,AR$1<=IF(AND($H87>$M$1,$I87=\"\"),$M$2,$I87)),AND(AR$1>=$H88,AR$1<=IF(AND($H88>$M$1,$I88=\"\"),$M$2,$I88))),$H$3,\"\"))","v":""}]
[null,null,null,null,null,null,null,null,null,null,null,null,null,{"$f":"IF(OR(AND(N$1>=$J85,N$1<=IF(AND($J85>$M$1,$K85=\"\"),$M$2,$K85)),AND(N$1>=$J86,N$1<=IF(AND($J86>$M$1,$K86=\"\"),$M$2,$K86)),AND(N$1>=$J87,N$1<=IF(AND($J87>$M$1,$K87=\"\"),$M$2,$K87)),AND(N$1>=$J88,N$1<=IF(AND($J88>$M$1,$K88=\"\"),$M$2,$K88)),AND(N$1>=$J89,N$1<=IF(AND($J89>$M$1,$K89=\"\"),$M$2,$K89))),$J$3,\"\")","v":""},{"$f":"IF(OR(AND(O$1>=$J85,O$1<=IF(AND($J85>$M$1,$K85=\"\"),$M$2,$K85)),AND(O$1>=$J86,O$1<=IF(AND($J86>$M$1,$K86=\"\"),$M$2,$K86)),AND(O$1>=$J87,O$1<=IF(AND($J87>$M$1,$K87=\"\"),$M$2,$K87)),AND(O$1>=$J88,O$1<=IF(AND($J88>$M$1,$K88=\"\"),$M$2,$K88)),AND(O$1>=$J89,O$1<=IF(AND($J89>$M$1,$K89=\"\"),$M$2,$K89))),$J$3,\"\")","v":""},{"$f":"IF(OR(AND(P$1>=$J85,P$1<=IF(AND($J85>$M$1,$K85=\"\"),$M$2,$K85)),AND(P$1>=$J86,P$1<=IF(AND($J86>$M$1,$K86=\"\"),$M$2,$K86)),AND(P$1>=$J87,P$1<=IF(AND($J87>$M$1,$K87=\"\"),$M$2,$K87)),AND(P$1>=$J88,P$1<=IF(AND($J88>$M$1,$K88=\"\"),$M$2,$K88)),AND(P$1>=$J89,P$1<=IF(AND($J89>$M$1,$K89=\"\"),$M$2,$K89))),$J$3,\"\")","v":""},{"$f":"IF(OR(AND(Q$1>=$J85,Q$1<=IF(AND($J85>$M$1,$K85=\"\"),$M$2,$K85)),AND(Q$1>=$J86,Q$1<=IF(AND($J86>$M$1,$K86=\"\"),$M$2,$K86)),AND(Q$1>=$J87,Q$1<=IF(AND($J87>$M$1,$K87=\"\"),$M$2,$K87)),AND(Q$1>=$J88,Q$1<=IF(AND($J88>$M$1,$K88=\"\"),$M$2,$K88)),AND(Q$1>=$J89,Q$1<=IF(AND($J89>$M$1,$K89=\"\"),$M$2,$K89))),$J$3,\"\")","v":""},{"$f":"IF(OR(AND(R$1>=$J85,R$1<=IF(AND($J85>$M$1,$K85=\"\"),$M$2,$K85)),AND(R$1>=$J86,R$1<=IF(AND($J86>$M$1,$K86=\"\"),$M$2,$K86)),AND(R$1>=$J87,R$1<=IF(AND($J87>$M$1,$K87=\"\"),$M$2,$K87)),AND(R$1>=$J88,R$1<=IF(AND($J88>$M$1,$K88=\"\"),$M$2,$K88)),AND(R$1>=$J89,R$1<=IF(AND($J89>$M$1,$K89=\"\"),$M$2,$K89))),$J$3,\"\")","v":""},{"$f":"IF(OR(AND(S$1>=$J85,S$1<=IF(AND($J85>$M$1,$K85=\"\"),$M$2,$K85)),AND(S$1>=$J86,S$1<=IF(AND($J86>$M$1,$K86=\"\"),$M$2,$K86)),AND(S$1>=$J87,S$1<=IF(AND($J87>$M$1,$K87=\"\"),$M$2,$K87)),AND(S$1>=$J88,S$1<=IF(AND($J88>$M$1,$K88=\"\"),$M$2,$K88)),AND(S$1>=$J89,S$1<=IF(AND($J89>$M$1,$K89=\"\"),$M$2,$K89))),$J$3,\"\")","v":""},{"$f":"IF(OR(AND(T$1>=$J85,T$1<=IF(AND($J85>$M$1,$K85=\"\"),$M$2,$K85)),AND(T$1>=$J86,T$1<=IF(AND($J86>$M$1,$K86=\"\"),$M$2,$K86)),AND(T$1>=$J87,T$1<=IF(AND($J87>$M$1,$K87=\"\"),$M$2,$K87)),AND(T$1>=$J88,T$1<=IF(AND($J88>$M$1,$K88=\"\"),$M$2,$K88)),AND(T$1>=$J89,T$1<=IF(AND($J89>$M$1,$K89=\"\"),$M$2,$K89))),$J$3,\"\")","v":""},{"$f":"IF(OR(AND(U$1>=$J85,U$1<=IF(AND($J85>$M$1,$K85=\"\"),$M$2,$K85)),AND(U$1>=$J86,U$1<=IF(AND($J86>$M$1,$K86=\"\"),$M$2,$K86)),AND(U$1>=$J87,U$1<=IF(AND($J87>$M$1,$K87=\"\"),$M$2,$K87)),AND(U$1>=$J88,U$1<=IF(AND($J88>$M$1,$K88=\"\"),$M$2,$K88)),AND(U$1>=$J89,U$1<=IF(AND($J89>$M$1,$K89=\"\"),$M$2,$K89))),$J$3,\"\")","v":""},{"$f":"IF(OR(AND(V$1>=$J85,V$1<=IF(AND($J85>$M$1,$K85=\"\"),$M$2,$K85)),AND(V$1>=$J86,V$1<=IF(AND($J86>$M$1,$K86=\"\"),$M$2,$K86)),AND(V$1>=$J87,V$1<=IF(AND($J87>$M$1,$K87=\"\"),$M$2,$K87)),AND(V$1>=$J88,V$1<=IF(AND($J88>$M$1,$K88=\"\"),$M$2,$K88)),AND(V$1>=$J89,V$1<=IF(AND($J89>$M$1,$K89=\"\"),$M$2,$K89))),$J$3,\"\")","v":""},{"$f":"IF(OR(AND(W$1>=$J85,W$1<=IF(AND($J85>$M$1,$K85=\"\"),$M$2,$K85)),AND(W$1>=$J86,W$1<=IF(AND($J86>$M$1,$K86=\"\"),$M$2,$K86)),AND(W$1>=$J87,W$1<=IF(AND($J87>$M$1,$K87=\"\"),$M$2,$K87)),AND(W$1>=$J88,W$1<=IF(AND($J88>$M$1,$K88=\"\"),$M$2,$K88)),AND(W$1>=$J89,W$1<=IF(AND($J89>$M$1,$K89=\"\"),$M$2,$K89))),$J$3,\"\")","v":""},{"$f":"IF(OR(AND(X$1>=$J85,X$1<=IF(AND($J85>$M$1,$K85=\"\"),$M$2,$K85)),AND(X$1>=$J86,X$1<=IF(AND($J86>$M$1,$K86=\"\"),$M$2,$K86)),AND(X$1>=$J87,X$1<=IF(AND($J87>$M$1,$K87=\"\"),$M$2,$K87)),AND(X$1>=$J88,X$1<=IF(AND($J88>$M$1,$K88=\"\"),$M$2,$K88)),AND(X$1>=$J89,X$1<=IF(AND($J89>$M$1,$K89=\"\"),$M$2,$K89))),$J$3,\"\")","v":""},{"$f":"IF(OR(AND(Y$1>=$J85,Y$1<=IF(AND($J85>$M$1,$K85=\"\"),$M$2,$K85)),AND(Y$1>=$J86,Y$1<=IF(AND($J86>$M$1,$K86=\"\"),$M$2,$K86)),AND(Y$1>=$J87,Y$1<=IF(AND($J87>$M$1,$K87=\"\"),$M$2,$K87)),AND(Y$1>=$J88,Y$1<=IF(AND($J88>$M$1,$K88=\"\"),$M$2,$K88)),AND(Y$1>=$J89,Y$1<=IF(AND($J89>$M$1,$K89=\"\"),$M$2,$K89))),$J$3,\"\")","v":""},{"$f":"IF(OR(AND(Z$1>=$J85,Z$1<=IF(AND($J85>$M$1,$K85=\"\"),$M$2,$K85)),AND(Z$1>=$J86,Z$1<=IF(AND($J86>$M$1,$K86=\"\"),$M$2,$K86)),AND(Z$1>=$J87,Z$1<=IF(AND($J87>$M$1,$K87=\"\"),$M$2,$K87)),AND(Z$1>=$J88,Z$1<=IF(AND($J88>$M$1,$K88=\"\"),$M$2,$K88)),AND(Z$1>=$J89,Z$1<=IF(AND($J89>$M$1,$K89=\"\"),$M$2,$K89))),$J$3,\"\")","v":""},{"$f":"IF(OR(AND(AA$1>=$J85,AA$1<=IF(AND($J85>$M$1,$K85=\"\"),$M$2,$K85)),AND(AA$1>=$J86,AA$1<=IF(AND($J86>$M$1,$K86=\"\"),$M$2,$K86)),AND(AA$1>=$J87,AA$1<=IF(AND($J87>$M$1,$K87=\"\"),$M$2,$K87)),AND(AA$1>=$J88,AA$1<=IF(AND($J88>$M$1,$K88=\"\"),$M$2,$K88)),AND(AA$1>=$J89,AA$1<=IF(AND($J89>$M$1,$K89=\"\"),$M$2,$K89))),$J$3,\"\")","v":""},{"$f":"IF(OR(AND(AB$1>=$J85,AB$1<=IF(AND($J85>$M$1,$K85=\"\"),$M$2,$K85)),AND(AB$1>=$J86,AB$1<=IF(AND($J86>$M$1,$K86=\"\"),$M$2,$K86)),AND(AB$1>=$J87,AB$1<=IF(AND($J87>$M$1,$K87=\"\"),$M$2,$K87)),AND(AB$1>=$J88,AB$1<=IF(AND($J88>$M$1,$K88=\"\"),$M$2,$K88)),AND(AB$1>=$J89,AB$1<=IF(AND($J89>$M$1,$K89=\"\"),$M$2,$K89))),$J$3,\"\")","v":""},{"$f":"IF(OR(AND(AC$1>=$J85,AC$1<=IF(AND($J85>$M$1,$K85=\"\"),$M$2,$K85)),AND(AC$1>=$J86,AC$1<=IF(AND($J86>$M$1,$K86=\"\"),$M$2,$K86)),AND(AC$1>=$J87,AC$1<=IF(AND($J87>$M$1,$K87=\"\"),$M$2,$K87)),AND(AC$1>=$J88,AC$1<=IF(AND($J88>$M$1,$K88=\"\"),$M$2,$K88)),AND(AC$1>=$J89,AC$1<=IF(AND($J89>$M$1,$K89=\"\"),$M$2,$K89))),$J$3,\"\")","v":""},{"$f":"IF(OR(AND(AD$1>=$J85,AD$1<=IF(AND($J85>$M$1,$K85=\"\"),$M$2,$K85)),AND(AD$1>=$J86,AD$1<=IF(AND($J86>$M$1,$K86=\"\"),$M$2,$K86)),AND(AD$1>=$J87,AD$1<=IF(AND($J87>$M$1,$K87=\"\"),$M$2,$K87)),AND(AD$1>=$J88,AD$1<=IF(AND($J88>$M$1,$K88=\"\"),$M$2,$K88)),AND(AD$1>=$J89,AD$1<=IF(AND($J89>$M$1,$K89=\"\"),$M$2,$K89))),$J$3,\"\")","v":""},{"$f":"IF(OR(AND(AE$1>=$J85,AE$1<=IF(AND($J85>$M$1,$K85=\"\"),$M$2,$K85)),AND(AE$1>=$J86,AE$1<=IF(AND($J86>$M$1,$K86=\"\"),$M$2,$K86)),AND(AE$1>=$J87,AE$1<=IF(AND($J87>$M$1,$K87=\"\"),$M$2,$K87)),AND(AE$1>=$J88,AE$1<=IF(AND($J88>$M$1,$K88=\"\"),$M$2,$K88)),AND(AE$1>=$J89,AE$1<=IF(AND($J89>$M$1,$K89=\"\"),$M$2,$K89))),$J$3,\"\")","v":""},{"$f":"IF(OR(AND(AF$1>=$J85,AF$1<=IF(AND($J85>$M$1,$K85=\"\"),$M$2,$K85)),AND(AF$1>=$J86,AF$1<=IF(AND($J86>$M$1,$K86=\"\"),$M$2,$K86)),AND(AF$1>=$J87,AF$1<=IF(AND($J87>$M$1,$K87=\"\"),$M$2,$K87)),AND(AF$1>=$J88,AF$1<=IF(AND($J88>$M$1,$K88=\"\"),$M$2,$K88)),AND(AF$1>=$J89,AF$1<=IF(AND($J89>$M$1,$K89=\"\"),$M$2,$K89))),$J$3,\"\")","v":""},{"$f":"IF(OR(AND(AG$1>=$J85,AG$1<=IF(AND($J85>$M$1,$K85=\"\"),$M$2,$K85)),AND(AG$1>=$J86,AG$1<=IF(AND($J86>$M$1,$K86=\"\"),$M$2,$K86)),AND(AG$1>=$J87,AG$1<=IF(AND($J87>$M$1,$K87=\"\"),$M$2,$K87)),AND(AG$1>=$J88,AG$1<=IF(AND($J88>$M$1,$K88=\"\"),$M$2,$K88)),AND(AG$1>=$J89,AG$1<=IF(AND($J89>$M$1,$K89=\"\"),$M$2,$K89))),$J$3,\"\")","v":""},{"$f":"IF(OR(AND(AH$1>=$J85,AH$1<=IF(AND($J85>$M$1,$K85=\"\"),$M$2,$K85)),AND(AH$1>=$J86,AH$1<=IF(AND($J86>$M$1,$K86=\"\"),$M$2,$K86)),AND(AH$1>=$J87,AH$1<=IF(AND($J87>$M$1,$K87=\"\"),$M$2,$K87)),AND(AH$1>=$J88,AH$1<=IF(AND($J88>$M$1,$K88=\"\"),$M$2,$K88)),AND(AH$1>=$J89,AH$1<=IF(AND($J89>$M$1,$K89=\"\"),$M$2,$K89))),$J$3,\"\")","v":""},{"$f":"IF(OR(AND(AI$1>=$J85,AI$1<=IF(AND($J85>$M$1,$K85=\"\"),$M$2,$K85)),AND(AI$1>=$J86,AI$1<=IF(AND($J86>$M$1,$K86=\"\"),$M$2,$K86)),AND(AI$1>=$J87,AI$1<=IF(AND($J87>$M$1,$K87=\"\"),$M$2,$K87)),AND(AI$1>=$J88,AI$1<=IF(AND($J88>$M$1,$K88=\"\"),$M$2,$K88)),AND(AI$1>=$J89,AI$1<=IF(AND($J89>$M$1,$K89=\"\"),$M$2,$K89))),$J$3,\"\")","v":""},{"$f":"IF(OR(AND(AJ$1>=$J85,AJ$1<=IF(AND($J85>$M$1,$K85=\"\"),$M$2,$K85)),AND(AJ$1>=$J86,AJ$1<=IF(AND($J86>$M$1,$K86=\"\"),$M$2,$K86)),AND(AJ$1>=$J87,AJ$1<=IF(AND($J87>$M$1,$K87=\"\"),$M$2,$K87)),AND(AJ$1>=$J88,AJ$1<=IF(AND($J88>$M$1,$K88=\"\"),$M$2,$K88)),AND(AJ$1>=$J89,AJ$1<=IF(AND($J89>$M$1,$K89=\"\"),$M$2,$K89))),$J$3,\"\")","v":""},{"$f":"IF(OR(AND(AK$1>=$J85,AK$1<=IF(AND($J85>$M$1,$K85=\"\"),$M$2,$K85)),AND(AK$1>=$J86,AK$1<=IF(AND($J86>$M$1,$K86=\"\"),$M$2,$K86)),AND(AK$1>=$J87,AK$1<=IF(AND($J87>$M$1,$K87=\"\"),$M$2,$K87)),AND(AK$1>=$J88,AK$1<=IF(AND($J88>$M$1,$K88=\"\"),$M$2,$K88)),AND(AK$1>=$J89,AK$1<=IF(AND($J89>$M$1,$K89=\"\"),$M$2,$K89))),$J$3,\"\")","v":""},{"$f":"IF(OR(AND(AL$1>=$J85,AL$1<=IF(AND($J85>$M$1,$K85=\"\"),$M$2,$K85)),AND(AL$1>=$J86,AL$1<=IF(AND($J86>$M$1,$K86=\"\"),$M$2,$K86)),AND(AL$1>=$J87,AL$1<=IF(AND($J87>$M$1,$K87=\"\"),$M$2,$K87)),AND(AL$1>=$J88,AL$1<=IF(AND($J88>$M$1,$K88=\"\"),$M$2,$K88)),AND(AL$1>=$J89,AL$1<=IF(AND($J89>$M$1,$K89=\"\"),$M$2,$K89))),$J$3,\"\")","v":""},{"$f":"IF(OR(AND(AM$1>=$J85,AM$1<=IF(AND($J85>$M$1,$K85=\"\"),$M$2,$K85)),AND(AM$1>=$J86,AM$1<=IF(AND($J86>$M$1,$K86=\"\"),$M$2,$K86)),AND(AM$1>=$J87,AM$1<=IF(AND($J87>$M$1,$K87=\"\"),$M$2,$K87)),AND(AM$1>=$J88,AM$1<=IF(AND($J88>$M$1,$K88=\"\"),$M$2,$K88)),AND(AM$1>=$J89,AM$1<=IF(AND($J89>$M$1,$K89=\"\"),$M$2,$K89))),$J$3,\"\")","v":""},{"$f":"IF(OR(AND(AN$1>=$J85,AN$1<=IF(AND($J85>$M$1,$K85=\"\"),$M$2,$K85)),AND(AN$1>=$J86,AN$1<=IF(AND($J86>$M$1,$K86=\"\"),$M$2,$K86)),AND(AN$1>=$J87,AN$1<=IF(AND($J87>$M$1,$K87=\"\"),$M$2,$K87)),AND(AN$1>=$J88,AN$1<=IF(AND($J88>$M$1,$K88=\"\"),$M$2,$K88)),AND(AN$1>=$J89,AN$1<=IF(AND($J89>$M$1,$K89=\"\"),$M$2,$K89))),$J$3,\"\")","v":""},{"$f":"IF(OR(AND(AO$1>=$J85,AO$1<=IF(AND($J85>$M$1,$K85=\"\"),$M$2,$K85)),AND(AO$1>=$J86,AO$1<=IF(AND($J86>$M$1,$K86=\"\"),$M$2,$K86)),AND(AO$1>=$J87,AO$1<=IF(AND($J87>$M$1,$K87=\"\"),$M$2,$K87)),AND(AO$1>=$J88,AO$1<=IF(AND($J88>$M$1,$K88=\"\"),$M$2,$K88)),AND(AO$1>=$J89,AO$1<=IF(AND($J89>$M$1,$K89=\"\"),$M$2,$K89))),$J$3,\"\")","v":""},{"$f":"IF(AP$1=\"\",\"\",IF(OR(AND(AP$1>=$J85,AP$1<=IF(AND($J85>$M$1,$K85=\"\"),$M$2,$K85)),AND(AP$1>=$J86,AP$1<=IF(AND($J86>$M$1,$K86=\"\"),$M$2,$K86)),AND(AP$1>=$J87,AP$1<=IF(AND($J87>$M$1,$K87=\"\"),$M$2,$K87)),AND(AP$1>=$J88,AP$1<=IF(AND($J88>$M$1,$K88=\"\"),$M$2,$K88)),AND(AP$1>=$J89,AP$1<=IF(AND($J89>$M$1,$K89=\"\"),$M$2,$K89))),$J$3,\"\"))","v":""},{"$f":"IF(AQ$1=\"\",\"\",IF(OR(AND(AQ$1>=$J85,AQ$1<=IF(AND($J85>$M$1,$K85=\"\"),$M$2,$K85)),AND(AQ$1>=$J86,AQ$1<=IF(AND($J86>$M$1,$K86=\"\"),$M$2,$K86)),AND(AQ$1>=$J87,AQ$1<=IF(AND($J87>$M$1,$K87=\"\"),$M$2,$K87)),AND(AQ$1>=$J88,AQ$1<=IF(AND($J88>$M$1,$K88=\"\"),$M$2,$K88)),AND(AQ$1>=$J89,AQ$1<=IF(AND($J89>$M$1,$K89=\"\"),$M$2,$K89))),$J$3,\"\"))","v":""},{"$f":"IF(AR$1=\"\",\"\",IF(OR(AND(AR$1>=$J85,AR$1<=IF(AND($J85>$M$1,$K85=\"\"),$M$2,$K85)),AND(AR$1>=$J86,AR$1<=IF(AND($J86>$M$1,$K86=\"\"),$M$2,$K86)),AND(AR$1>=$J87,AR$1<=IF(AND($J87>$M$1,$K87=\"\"),$M$2,$K87)),AND(AR$1>=$J88,AR$1<=IF(AND($J88>$M$1,$K88=\"\"),$M$2,$K88)),AND(AR$1>=$J89,AR$1<=IF(AND($J89>$M$1,$K89=\"\"),$M$2,$K89))),$J$3,\"\"))","v":""}]
[{"$f":"стр.1!C47","v":5015},{"$f":"IFERROR(VLOOKUP(A90,стр.1!$A$13:$D$106,2,FALSE),\"\")","v":"Аршавин"},{"$f":"IFERROR(VLOOKUP(A90,стр.1!$A$13:$D$106,4,FALSE),\"\")","v":"сборная"},null,null,null,null,null,null,null,null,null,null,{"$f":"N91&N92&N93&N94","v":""},{"$f":"O91&O92&O93&O94","v":""},{"$f":"P91&P92&P93&P94","v":""},{"$f":"Q91&Q92&Q93&Q94","v":""},{"$f":"R91&R92&R93&R94","v":""},{"$f":"S91&S92&S93&S94","v":""},{"$f":"T91&T92&T93&T94","v":""},{"$f":"U91&U92&U93&U94","v":""},{"$f":"V91&V92&V93&V94","v":""},{"$f":"W91&W92&W93&W94","v":""},{"$f":"X91&X92&X93&X94","v":""},{"$f":"Y91&Y92&Y93&Y94","v":""},{"$f":"Z91&Z92&Z93&Z94","v":""},{"$f":"AA91&AA92&AA93&AA94","v":""},{"$f":"AB91&AB92&AB93&AB94","v":""},{"$f":"AC91&AC92&AC93&AC94","v":""},{"$f":"AD91&AD92&AD93&AD94","v":""},{"$f":"AE91&AE92&AE93&AE94","v":""},{"$f":"AF91&AF92&AF93&AF94","v":""},{"$f":"AG91&AG92&AG93&AG94","v":""},{"$f":"AH91&AH92&AH93&AH94","v":""},{"$f":"AI91&AI92&AI93&AI94","v":""},{"$f":"AJ91&AJ92&AJ93&AJ94","v":""},{"$f":"AK91&AK92&AK93&AK94","v":""},{"$f":"AL91&AL92&AL93&AL94","v":""},{"$f":"AM91&AM92&AM93&AM94","v":""},{"$f":"AN91&AN92&AN93&AN94","v":""},{"$f":"AO91&AO92&AO93&AO94","v":""},{"$f":"AP91&AP92&AP93&AP94","v":""},{"$f":"AQ91&AQ92&AQ93&AQ94","v":""},{"$f":"AR91&AR92&AR93&AR94","v":""}]
[null,null,null,null,null,null,null,null,null,null,null,null,null,{"$f":"IF(OR(AND(N$1>=$D90,N$1<=IF(AND($D90>$M$1,$E90=\"\"),$M$2,$E90)),AND(N$1>=$D91,N$1<=IF(AND($D91>$M$1,$E91=\"\"),$M$2,$E91)),AND(N$1>=$D92,N$1<=IF(AND($D92>$M$1,$E92=\"\"),$M$2,$E92)),AND(N$1>=$D93,N$1<=IF(AND($D93>$M$1,$E93=\"\"),$M$2,$E93))),$D$3,\"\")","v":""},{"$f":"IF(OR(AND(O$1>=$D90,O$1<=IF(AND($D90>$M$1,$E90=\"\"),$M$2,$E90)),AND(O$1>=$D91,O$1<=IF(AND($D91>$M$1,$E91=\"\"),$M$2,$E91)),AND(O$1>=$D92,O$1<=IF(AND($D92>$M$1,$E92=\"\"),$M$2,$E92)),AND(O$1>=$D93,O$1<=IF(AND($D93>$M$1,$E93=\"\"),$M$2,$E93))),$D$3,\"\")","v":""},"","","","","","","","","","","","","","","","","","","","","","","","","","",{"$f":"IF(AP$1=\"\",\"\",IF(OR(AND(AP$1>=$D90,AP$1<=IF(AND($D90>$M$1,$E90=\"\"),$M$2,$E90)),AND(AP$1>=$D91,AP$1<=IF(AND($D91>$M$1,$E91=\"\"),$M$2,$E91)),AND(AP$1>=$D92,AP$1<=IF(AND($D92>$M$1,$E92=\"\"),$M$2,$E92)),AND(AP$1>=$D93,AP$1<=IF(AND($D93>$M$1,$E93=\"\"),$M$2,$E93))),$D$3,\"\"))","v":""},{"$f":"IF(AQ$1=\"\",\"\",IF(OR(AND(AQ$1>=$D90,AQ$1<=IF(AND($D90>$M$1,$E90=\"\"),$M$2,$E90)),AND(AQ$1>=$D91,AQ$1<=IF(AND($D91>$M$1,$E91=\"\"),$M$2,$E91)),AND(AQ$1>=$D92,AQ$1<=IF(AND($D92>$M$1,$E92=\"\"),$M$2,$E92)),AND(AQ$1>=$D93,AQ$1<=IF(AND($D93>$M$1,$E93=\"\"),$M$2,$E93))),$D$3,\"\"))","v":""},""]
[null,null,null,null,null,null,null,null,null,null,null,null,null,{"$f":"IF(OR(AND(N$1>=$F90,N$1<=IF(AND($F90>$M$1,$G90=\"\"),$M$2,$G90)),AND(N$1>=$F91,N$1<=IF(AND($F91>$M$1,$G91=\"\"),$M$2,$G91)),AND(N$1>=$F92,N$1<=IF(AND($F92>$M$1,$G92=\"\"),$M$2,$G92)),AND(N$1>=$F93,N$1<=IF(AND($F93>$M$1,$G93=\"\"),$M$2,$G93))),$F$3,\"\")","v":""},{"$f":"IF(OR(AND(O$1>=$F90,O$1<=IF(AND($F90>$M$1,$G90=\"\"),$M$2,$G90)),AND(O$1>=$F91,O$1<=IF(AND($F91>$M$1,$G91=\"\"),$M$2,$G91)),AND(O$1>=$F92,O$1<=IF(AND($F92>$M$1,$G92=\"\"),$M$2,$G92)),AND(O$1>=$F93,O$1<=IF(AND($F93>$M$1,$G93=\"\"),$M$2,$G93))),$F$3,\"\")","v":""},"","","","","","","","","","","","","","","","","","","","","","","","","","",{"$f":"IF(AP$1=\"\",\"\",IF(OR(AND(AP$1>=$F90,AP$1<=IF(AND($F90>$M$1,$G90=\"\"),$M$2,$G90)),AND(AP$1>=$F91,AP$1<=IF(AND($F91>$M$1,$G91=\"\"),$M$2,$G91)),AND(AP$1>=$F92,AP$1<=IF(AND($F92>$M$1,$G92=\"\"),$M$2,$G92)),AND(AP$1>=$F93,AP$1<=IF(AND($F93>$M$1,$G93=\"\"),$M$2,$G93))),$F$3,\"\"))","v":""},{"$f":"IF(AQ$1=\"\",\"\",IF(OR(AND(AQ$1>=$F90,AQ$1<=IF(AND($F90>$M$1,$G90=\"\"),$M$2,$G90)),AND(AQ$1>=$F91,AQ$1<=IF(AND($F91>$M$1,$G91=\"\"),$M$2,$G91)),AND(AQ$1>=$F92,AQ$1<=IF(AND($F92>$M$1,$G92=\"\"),$M$2,$G92)),AND(AQ$1>=$F93,AQ$1<=IF(AND($F93>$M$1,$G93=\"\"),$M$2,$G93))),$F$3,\"\"))","v":""},""]
[null,null,null,null,null,null,null,null,null,null,null,null,null,{"$f":"IF(OR(AND(N$1>=$H90,N$1<=IF(AND($H90>$M$1,$I90=\"\"),$M$2,$I90)),AND(N$1>=$H91,N$1<=IF(AND($H91>$M$1,$I91=\"\"),$M$2,$I91)),AND(N$1>=$H92,N$1<=IF(AND($H92>$M$1,$I92=\"\"),$M$2,$I92)),AND(N$1>=$H93,N$1<=IF(AND($H93>$M$1,$I93=\"\"),$M$2,$I93))),$H$3,\"\")","v":""},"","","","","","","","","","","","","","","","","","","","","","","","","","","",{"$f":"IF(AP$1=\"\",\"\",IF(OR(AND(AP$1>=$H90,AP$1<=IF(AND($H90>$M$1,$I90=\"\"),$M$2,$I90)),AND(AP$1>=$H91,AP$1<=IF(AND($H91>$M$1,$I91=\"\"),$M$2,$I91)),AND(AP$1>=$H92,AP$1<=IF(AND($H92>$M$1,$I92=\"\"),$M$2,$I92)),AND(AP$1>=$H93,AP$1<=IF(AND($H93>$M$1,$I93=\"\"),$M$2,$I93))),$H$3,\"\"))","v":""},{"$f":"IF(AQ$1=\"\",\"\",IF(OR(AND(AQ$1>=$H90,AQ$1<=IF(AND($H90>$M$1,$I90=\"\"),$M$2,$I90)),AND(AQ$1>=$H91,AQ$1<=IF(AND($H91>$M$1,$I91=\"\"),$M$2,$I91)),AND(AQ$1>=$H92,AQ$1<=IF(AND($H92>$M$1,$I92=\"\"),$M$2,$I92)),AND(AQ$1>=$H93,AQ$1<=IF(AND($H93>$M$1,$I93=\"\"),$M$2,$I93))),$H$3,\"\"))","v":""},{"$f":"IF(AR$1=\"\",\"\",IF(OR(AND(AR$1>=$H90,AR$1<=IF(AND($H90>$M$1,$I90=\"\"),$M$2,$I90)),AND(AR$1>=$H91,AR$1<=IF(AND($H91>$M$1,$I91=\"\"),$M$2,$I91)),AND(AR$1>=$H92,AR$1<=IF(AND($H92>$M$1,$I92=\"\"),$M$2,$I92)),AND(AR$1>=$H93,AR$1<=IF(AND($H93>$M$1,$I93=\"\"),$M$2,$I93))),$H$3,\"\"))","v":""}]
[null,null,null,null,null,null,null,null,null,null,null,null,null,{"$f":"IF(OR(AND(N$1>=$J90,N$1<=IF(AND($J90>$M$1,$K90=\"\"),$M$2,$K90)),AND(N$1>=$J91,N$1<=IF(AND($J91>$M$1,$K91=\"\"),$M$2,$K91)),AND(N$1>=$J92,N$1<=IF(AND($J92>$M$1,$K92=\"\"),$M$2,$K92)),AND(N$1>=$J93,N$1<=IF(AND($J93>$M$1,$K93=\"\"),$M$2,$K93)),AND(N$1>=$J94,N$1<=IF(AND($J94>$M$1,$K94=\"\"),$M$2,$K94))),$J$3,\"\")","v":""},{"$f":"IF(OR(AND(O$1>=$J90,O$1<=IF(AND($J90>$M$1,$K90=\"\"),$M$2,$K90)),AND(O$1>=$J91,O$1<=IF(AND($J91>$M$1,$K91=\"\"),$M$2,$K91)),AND(O$1>=$J92,O$1<=IF(AND($J92>$M$1,$K92=\"\"),$M$2,$K92)),AND(O$1>=$J93,O$1<=IF(AND($J93>$M$1,$K93=\"\"),$M$2,$K93)),AND(O$1>=$J94,O$1<=IF(AND($J94>$M$1,$K94=\"\"),$M$2,$K94))),$J$3,\"\")","v":""},{"$f":"IF(OR(AND(P$1>=$J90,P$1<=IF(AND($J90>$M$1,$K90=\"\"),$M$2,$K90)),AND(P$1>=$J91,P$1<=IF(AND($J91>$M$1,$K91=\"\"),$M$2,$K91)),AND(P$1>=$J92,P$1<=IF(AND($J92>$M$1,$K92=\"\"),$M$2,$K92)),AND(P$1>=$J93,P$1<=IF(AND($J93>$M$1,$K93=\"\"),$M$2,$K93)),AND(P$1>=$J94,P$1<=IF(AND($J94>$M$1,$K94=\"\"),$M$2,$K94))),$J$3,\"\")","v":""},{"$f":"IF(OR(AND(Q$1>=$J90,Q$1<=IF(AND($J90>$M$1,$K90=\"\"),$M$2,$K90)),AND(Q$1>=$J91,Q$1<=IF(AND($J91>$M$1,$K91=\"\"),$M$2,$K91)),AND(Q$1>=$J92,Q$1<=IF(AND($J92>$M$1,$K92=\"\"),$M$2,$K92)),AND(Q$1>=$J93,Q$1<=IF(AND($J93>$M$1,$K93=\"\"),$M$2,$K93)),AND(Q$1>=$J94,Q$1<=IF(AND($J94>$M$1,$K94=\"\"),$M$2,$K94))),$J$3,\"\")","v":""},{"$f":"IF(OR(AND(R$1>=$J90,R$1<=IF(AND($J90>$M$1,$K90=\"\"),$M$2,$K90)),AND(R$1>=$J91,R$1<=IF(AND($J91>$M$1,$K91=\"\"),$M$2,$K91)),AND(R$1>=$J92,R$1<=IF(AND($J92>$M$1,$K92=\"\"),$M$2,$K92)),AND(R$1>=$J93,R$1<=IF(AND($J93>$M$1,$K93=\"\"),$M$2,$K93)),AND(R$1>=$J94,R$1<=IF(AND($J94>$M$1,$K94=\"\"),$M$2,$K94))),$J$3,\"\")","v":""},{"$f":"IF(OR(AND(S$1>=$J90,S$1<=IF(AND($J90>$M$1,$K90=\"\"),$M$2,$K90)),AND(S$1>=$J91,S$1<=IF(AND($J91>$M$1,$K91=\"\"),$M$2,$K91)),AND(S$1>=$J92,S$1<=IF(AND($J92>$M$1,$K92=\"\"),$M$2,$K92)),AND(S$1>=$J93,S$1<=IF(AND($J93>$M$1,$K93=\"\"),$M$2,$K93)),AND(S$1>=$J94,S$1<=IF(AND($J94>$M$1,$K94=\"\"),$M$2,$K94))),$J$3,\"\")","v":""},{"$f":"IF(OR(AND(T$1>=$J90,T$1<=IF(AND($J90>$M$1,$K90=\"\"),$M$2,$K90)),AND(T$1>=$J91,T$1<=IF(AND($J91>$M$1,$K91=\"\"),$M$2,$K91)),AND(T$1>=$J92,T$1<=IF(AND($J92>$M$1,$K92=\"\"),$M$2,$K92)),AND(T$1>=$J93,T$1<=IF(AND($J93>$M$1,$K93=\"\"),$M$2,$K93)),AND(T$1>=$J94,T$1<=IF(AND($J94>$M$1,$K94=\"\"),$M$2,$K94))),$J$3,\"\")","v":""},{"$f":"IF(OR(AND(U$1>=$J90,U$1<=IF(AND($J90>$M$1,$K90=\"\"),$M$2,$K90)),AND(U$1>=$J91,U$1<=IF(AND($J91>$M$1,$K91=\"\"),$M$2,$K91)),AND(U$1>=$J92,U$1<=IF(AND($J92>$M$1,$K92=\"\"),$M$2,$K92)),AND(U$1>=$J93,U$1<=IF(AND($J93>$M$1,$K93=\"\"),$M$2,$K93)),AND(U$1>=$J94,U$1<=IF(AND($J94>$M$1,$K94=\"\"),$M$2,$K94))),$J$3,\"\")","v":""},{"$f":"IF(OR(AND(V$1>=$J90,V$1<=IF(AND($J90>$M$1,$K90=\"\"),$M$2,$K90)),AND(V$1>=$J91,V$1<=IF(AND($J91>$M$1,$K91=\"\"),$M$2,$K91)),AND(V$1>=$J92,V$1<=IF(AND($J92>$M$1,$K92=\"\"),$M$2,$K92)),AND(V$1>=$J93,V$1<=IF(AND($J93>$M$1,$K93=\"\"),$M$2,$K93)),AND(V$1>=$J94,V$1<=IF(AND($J94>$M$1,$K94=\"\"),$M$2,$K94))),$J$3,\"\")","v":""},{"$f":"IF(OR(AND(W$1>=$J90,W$1<=IF(AND($J90>$M$1,$K90=\"\"),$M$2,$K90)),AND(W$1>=$J91,W$1<=IF(AND($J91>$M$1,$K91=\"\"),$M$2,$K91)),AND(W$1>=$J92,W$1<=IF(AND($J92>$M$1,$K92=\"\"),$M$2,$K92)),AND(W$1>=$J93,W$1<=IF(AND($J93>$M$1,$K93=\"\"),$M$2,$K93)),AND(W$1>=$J94,W$1<=IF(AND($J94>$M$1,$K94=\"\"),$M$2,$K94))),$J$3,\"\")","v":""},{"$f":"IF(OR(AND(X$1>=$J90,X$1<=IF(AND($J90>$M$1,$K90=\"\"),$M$2,$K90)),AND(X$1>=$J91,X$1<=IF(AND($J91>$M$1,$K91=\"\"),$M$2,$K91)),AND(X$1>=$J92,X$1<=IF(AND($J92>$M$1,$K92=\"\"),$M$2,$K92)),AND(X$1>=$J93,X$1<=IF(AND($J93>$M$1,$K93=\"\"),$M$2,$K93)),AND(X$1>=$J94,X$1<=IF(AND($J94>$M$1,$K94=\"\"),$M$2,$K94))),$J$3,\"\")","v":""},{"$f":"IF(OR(AND(Y$1>=$J90,Y$1<=IF(AND($J90>$M$1,$K90=\"\"),$M$2,$K90)),AND(Y$1>=$J91,Y$1<=IF(AND($J91>$M$1,$K91=\"\"),$M$2,$K91)),AND(Y$1>=$J92,Y$1<=IF(AND($J92>$M$1,$K92=\"\"),$M$2,$K92)),AND(Y$1>=$J93,Y$1<=IF(AND($J93>$M$1,$K93=\"\"),$M$2,$K93)),AND(Y$1>=$J94,Y$1<=IF(AND($J94>$M$1,$K94=\"\"),$M$2,$K94))),$J$3,\"\")","v":""},{"$f":"IF(OR(AND(Z$1>=$J90,Z$1<=IF(AND($J90>$M$1,$K90=\"\"),$M$2,$K90)),AND(Z$1>=$J91,Z$1<=IF(AND($J91>$M$1,$K91=\"\"),$M$2,$K91)),AND(Z$1>=$J92,Z$1<=IF(AND($J92>$M$1,$K92=\"\"),$M$2,$K92)),AND(Z$1>=$J93,Z$1<=IF(AND($J93>$M$1,$K93=\"\"),$M$2,$K93)),AND(Z$1>=$J94,Z$1<=IF(AND($J94>$M$1,$K94=\"\"),$M$2,$K94))),$J$3,\"\")","v":""},{"$f":"IF(OR(AND(AA$1>=$J90,AA$1<=IF(AND($J90>$M$1,$K90=\"\"),$M$2,$K90)),AND(AA$1>=$J91,AA$1<=IF(AND($J91>$M$1,$K91=\"\"),$M$2,$K91)),AND(AA$1>=$J92,AA$1<=IF(AND($J92>$M$1,$K92=\"\"),$M$2,$K92)),AND(AA$1>=$J93,AA$1<=IF(AND($J93>$M$1,$K93=\"\"),$M$2,$K93)),AND(AA$1>=$J94,AA$1<=IF(AND($J94>$M$1,$K94=\"\"),$M$2,$K94))),$J$3,\"\")","v":""},{"$f":"IF(OR(AND(AB$1>=$J90,AB$1<=IF(AND($J90>$M$1,$K90=\"\"),$M$2,$K90)),AND(AB$1>=$J91,AB$1<=IF(AND($J91>$M$1,$K91=\"\"),$M$2,$K91)),AND(AB$1>=$J92,AB$1<=IF(AND($J92>$M$1,$K92=\"\"),$M$2,$K92)),AND(AB$1>=$J93,AB$1<=IF(AND($J93>$M$1,$K93=\"\"),$M$2,$K93)),AND(AB$1>=$J94,AB$1<=IF(AND($J94>$M$1,$K94=\"\"),$M$2,$K94))),$J$3,\"\")","v":""},{"$f":"IF(OR(AND(AC$1>=$J90,AC$1<=IF(AND($J90>$M$1,$K90=\"\"),$M$2,$K90)),AND(AC$1>=$J91,AC$1<=IF(AND($J91>$M$1,$K91=\"\"),$M$2,$K91)),AND(AC$1>=$J92,AC$1<=IF(AND($J92>$M$1,$K92=\"\"),$M$2,$K92)),AND(AC$1>=$J93,AC$1<=IF(AND($J93>$M$1,$K93=\"\"),$M$2,$K93)),AND(AC$1>=$J94,AC$1<=IF(AND($J94>$M$1,$K94=\"\"),$M$2,$K94))),$J$3,\"\")","v":""},{"$f":"IF(OR(AND(AD$1>=$J90,AD$1<=IF(AND($J90>$M$1,$K90=\"\"),$M$2,$K90)),AND(AD$1>=$J91,AD$1<=IF(AND($J91>$M$1,$K91=\"\"),$M$2,$K91)),AND(AD$1>=$J92,AD$1<=IF(AND($J92>$M$1,$K92=\"\"),$M$2,$K92)),AND(AD$1>=$J93,AD$1<=IF(AND($J93>$M$1,$K93=\"\"),$M$2,$K93)),AND(AD$1>=$J94,AD$1<=IF(AND($J94>$M$1,$K94=\"\"),$M$2,$K94))),$J$3,\"\")","v":""},{"$f":"IF(OR(AND(AE$1>=$J90,AE$1<=IF(AND($J90>$M$1,$K90=\"\"),$M$2,$K90)),AND(AE$1>=$J91,AE$1<=IF(AND($J91>$M$1,$K91=\"\"),$M$2,$K91)),AND(AE$1>=$J92,AE$1<=IF(AND($J92>$M$1,$K92=\"\"),$M$2,$K92)),AND(AE$1>=$J93,AE$1<=IF(AND($J93>$M$1,$K93=\"\"),$M$2,$K93)),AND(AE$1>=$J94,AE$1<=IF(AND($J94>$M$1,$K94=\"\"),$M$2,$K94))),$J$3,\"\")","v":""},{"$f":"IF(OR(AND(AF$1>=$J90,AF$1<=IF(AND($J90>$M$1,$K90=\"\"),$M$2,$K90)),AND(AF$1>=$J91,AF$1<=IF(AND($J91>$M$1,$K91=\"\"),$M$2,$K91)),AND(AF$1>=$J92,AF$1<=IF(AND($J92>$M$1,$K92=\"\"),$M$2,$K92)),AND(AF$1>=$J93,AF$1<=IF(AND($J93>$M$1,$K93=\"\"),$M$2,$K93)),AND(AF$1>=$J94,AF$1<=IF(AND($J94>$M$1,$K94=\"\"),$M$2,$K94))),$J$3,\"\")","v":""},{"$f":"IF(OR(AND(AG$1>=$J90,AG$1<=IF(AND($J90>$M$1,$K90=\"\"),$M$2,$K90)),AND(AG$1>=$J91,AG$1<=IF(AND($J91>$M$1,$K91=\"\"),$M$2,$K91)),AND(AG$1>=$J92,AG$1<=IF(AND($J92>$M$1,$K92=\"\"),$M$2,$K92)),AND(AG$1>=$J93,AG$1<=IF(AND($J93>$M$1,$K93=\"\"),$M$2,$K93)),AND(AG$1>=$J94,AG$1<=IF(AND($J94>$M$1,$K94=\"\"),$M$2,$K94))),$J$3,\"\")","v":""},{"$f":"IF(OR(AND(AH$1>=$J90,AH$1<=IF(AND($J90>$M$1,$K90=\"\"),$M$2,$K90)),AND(AH$1>=$J91,AH$1<=IF(AND($J91>$M$1,$K91=\"\"),$M$2,$K91)),AND(AH$1>=$J92,AH$1<=IF(AND($J92>$M$1,$K92=\"\"),$M$2,$K92)),AND(AH$1>=$J93,AH$1<=IF(AND($J93>$M$1,$K93=\"\"),$M$2,$K93)),AND(AH$1>=$J94,AH$1<=IF(AND($J94>$M$1,$K94=\"\"),$M$2,$K94))),$J$3,\"\")","v":""},{"$f":"IF(OR(AND(AI$1>=$J90,AI$1<=IF(AND($J90>$M$1,$K90=\"\"),$M$2,$K90)),AND(AI$1>=$J91,AI$1<=IF(AND($J91>$M$1,$K91=\"\"),$M$2,$K91)),AND(AI$1>=$J92,AI$1<=IF(AND($J92>$M$1,$K92=\"\"),$M$2,$K92)),AND(AI$1>=$J93,AI$1<=IF(AND($J93>$M$1,$K93=\"\"),$M$2,$K93)),AND(AI$1>=$J94,AI$1<=IF(AND($J94>$M$1,$K94=\"\"),$M$2,$K94))),$J$3,\"\")","v":""},{"$f":"IF(OR(AND(AJ$1>=$J90,AJ$1<=IF(AND($J90>$M$1,$K90=\"\"),$M$2,$K90)),AND(AJ$1>=$J91,AJ$1<=IF(AND($J91>$M$1,$K91=\"\"),$M$2,$K91)),AND(AJ$1>=$J92,AJ$1<=IF(AND($J92>$M$1,$K92=\"\"),$M$2,$K92)),AND(AJ$1>=$J93,AJ$1<=IF(AND($J93>$M$1,$K93=\"\"),$M$2,$K93)),AND(AJ$1>=$J94,AJ$1<=IF(AND($J94>$M$1,$K94=\"\"),$M$2,$K94))),$J$3,\"\")","v":""},{"$f":"IF(OR(AND(AK$1>=$J90,AK$1<=IF(AND($J90>$M$1,$K90=\"\"),$M$2,$K90)),AND(AK$1>=$J91,AK$1<=IF(AND($J91>$M$1,$K91=\"\"),$M$2,$K91)),AND(AK$1>=$J92,AK$1<=IF(AND($J92>$M$1,$K92=\"\"),$M$2,$K92)),AND(AK$1>=$J93,AK$1<=IF(AND($J93>$M$1,$K93=\"\"),$M$2,$K93)),AND(AK$1>=$J94,AK$1<=IF(AND($J94>$M$1,$K94=\"\"),$M$2,$K94))),$J$3,\"\")","v":""},{"$f":"IF(OR(AND(AL$1>=$J90,AL$1<=IF(AND($J90>$M$1,$K90=\"\"),$M$2,$K90)),AND(AL$1>=$J91,AL$1<=IF(AND($J91>$M$1,$K91=\"\"),$M$2,$K91)),AND(AL$1>=$J92,AL$1<=IF(AND($J92>$M$1,$K92=\"\"),$M$2,$K92)),AND(AL$1>=$J93,AL$1<=IF(AND($J93>$M$1,$K93=\"\"),$M$2,$K93)),AND(AL$1>=$J94,AL$1<=IF(AND($J94>$M$1,$K94=\"\"),$M$2,$K94))),$J$3,\"\")","v":""},{"$f":"IF(OR(AND(AM$1>=$J90,AM$1<=IF(AND($J90>$M$1,$K90=\"\"),$M$2,$K90)),AND(AM$1>=$J91,AM$1<=IF(AND($J91>$M$1,$K91=\"\"),$M$2,$K91)),AND(AM$1>=$J92,AM$1<=IF(AND($J92>$M$1,$K92=\"\"),$M$2,$K92)),AND(AM$1>=$J93,AM$1<=IF(AND($J93>$M$1,$K93=\"\"),$M$2,$K93)),AND(AM$1>=$J94,AM$1<=IF(AND($J94>$M$1,$K94=\"\"),$M$2,$K94))),$J$3,\"\")","v":""},{"$f":"IF(OR(AND(AN$1>=$J90,AN$1<=IF(AND($J90>$M$1,$K90=\"\"),$M$2,$K90)),AND(AN$1>=$J91,AN$1<=IF(AND($J91>$M$1,$K91=\"\"),$M$2,$K91)),AND(AN$1>=$J92,AN$1<=IF(AND($J92>$M$1,$K92=\"\"),$M$2,$K92)),AND(AN$1>=$J93,AN$1<=IF(AND($J93>$M$1,$K93=\"\"),$M$2,$K93)),AND(AN$1>=$J94,AN$1<=IF(AND($J94>$M$1,$K94=\"\"),$M$2,$K94))),$J$3,\"\")","v":""},{"$f":"IF(OR(AND(AO$1>=$J90,AO$1<=IF(AND($J90>$M$1,$K90=\"\"),$M$2,$K90)),AND(AO$1>=$J91,AO$1<=IF(AND($J91>$M$1,$K91=\"\"),$M$2,$K91)),AND(AO$1>=$J92,AO$1<=IF(AND($J92>$M$1,$K92=\"\"),$M$2,$K92)),AND(AO$1>=$J93,AO$1<=IF(AND($J93>$M$1,$K93=\"\"),$M$2,$K93)),AND(AO$1>=$J94,AO$1<=IF(AND($J94>$M$1,$K94=\"\"),$M$2,$K94))),$J$3,\"\")","v":""},{"$f":"IF(AP$1=\"\",\"\",IF(OR(AND(AP$1>=$J90,AP$1<=IF(AND($J90>$M$1,$K90=\"\"),$M$2,$K90)),AND(AP$1>=$J91,AP$1<=IF(AND($J91>$M$1,$K91=\"\"),$M$2,$K91)),AND(AP$1>=$J92,AP$1<=IF(AND($J92>$M$1,$K92=\"\"),$M$2,$K92)),AND(AP$1>=$J93,AP$1<=IF(AND($J93>$M$1,$K93=\"\"),$M$2,$K93)),AND(AP$1>=$J94,AP$1<=IF(AND($J94>$M$1,$K94=\"\"),$M$2,$K94))),$J$3,\"\"))","v":""},{"$f":"IF(AQ$1=\"\",\"\",IF(OR(AND(AQ$1>=$J90,AQ$1<=IF(AND($J90>$M$1,$K90=\"\"),$M$2,$K90)),AND(AQ$1>=$J91,AQ$1<=IF(AND($J91>$M$1,$K91=\"\"),$M$2,$K91)),AND(AQ$1>=$J92,AQ$1<=IF(AND($J92>$M$1,$K92=\"\"),$M$2,$K92)),AND(AQ$1>=$J93,AQ$1<=IF(AND($J93>$M$1,$K93=\"\"),$M$2,$K93)),AND(AQ$1>=$J94,AQ$1<=IF(AND($J94>$M$1,$K94=\"\"),$M$2,$K94))),$J$3,\"\"))","v":""},{"$f":"IF(AR$1=\"\",\"\",IF(OR(AND(AR$1>=$J90,AR$1<=IF(AND($J90>$M$1,$K90=\"\"),$M$2,$K90)),AND(AR$1>=$J91,AR$1<=IF(AND($J91>$M$1,$K91=\"\"),$M$2,$K91)),AND(AR$1>=$J92,AR$1<=IF(AND($J92>$M$1,$K92=\"\"),$M$2,$K92)),AND(AR$1>=$J93,AR$1<=IF(AND($J93>$M$1,$K93=\"\"),$M$2,$K93)),AND(AR$1>=$J94,AR$1<=IF(AND($J94>$M$1,$K94=\"\"),$M$2,$K94))),$J$3,\"\"))","v":""}]
[{"$f":"стр.1!C49","v":5021},{"$f":"IFERROR(VLOOKUP(A95,стр.1!$A$13:$D$106,2,FALSE),\"\")","v":"Яшин"},{"$f":"IFERROR(VLOOKUP(A95,стр.1!$A$13:$D$106,4,FALSE),\"\")","v":"сборная"},null,null,null,null,null,null,null,null,null,null,{"$f":"N96&N97&N98&N99","v":""},{"$f":"O96&O97&O98&O99","v":""},{"$f":"P96&P97&P98&P99","v":""},{"$f":"Q96&Q97&Q98&Q99","v":""},{"$f":"R96&R97&R98&R99","v":""},{"$f":"S96&S97&S98&S99","v":""},{"$f":"T96&T97&T98&T99","v":""},{"$f":"U96&U97&U98&U99","v":""},{"$f":"V96&V97&V98&V99","v":""},{"$f":"W96&W97&W98&W99","v":""},{"$f":"X96&X97&X98&X99","v":""},{"$f":"Y96&Y97&Y98&Y99","v":""},{"$f":"Z96&Z97&Z98&Z99","v":""},{"$f":"AA96&AA97&AA98&AA99","v":""},{"$f":"AB96&AB97&AB98&AB99","v":""},{"$f":"AC96&AC97&AC98&AC99","v":""},{"$f":"AD96&AD97&AD98&AD99","v":""},{"$f":"AE96&AE97&AE98&AE99","v":""},{"$f":"AF96&AF97&AF98&AF99","v":""},{"$f":"AG96&AG97&AG98&AG99","v":""},{"$f":"AH96&AH97&AH98&AH99","v":""},{"$f":"AI96&AI97&AI98&AI99","v":""},{"$f":"AJ96&AJ97&AJ98&AJ99","v":""},{"$f":"AK96&AK97&AK98&AK99","v":""},{"$f":"AL96&AL97&AL98&AL99","v":""},{"$f":"AM96&AM97&AM98&AM99","v":""},{"$f":"AN96&AN97&AN98&AN99","v":""},{"$f":"AO96&AO97&AO98&AO99","v":""},{"$f":"AP96&AP97&AP98&AP99","v":""},{"$f":"AQ96&AQ97&AQ98&AQ99","v":""},{"$f":"AR96&AR97&AR98&AR99","v":""}]
[null,null,null,null,null,null,null,null,null,null,null,null,null,{"$f":"IF(OR(AND(N$1>=$D95,N$1<=IF(AND($D95>$M$1,$E95=\"\"),$M$2,$E95)),AND(N$1>=$D96,N$1<=IF(AND($D96>$M$1,$E96=\"\"),$M$2,$E96)),AND(N$1>=$D97,N$1<=IF(AND($D97>$M$1,$E97=\"\"),$M$2,$E97)),AND(N$1>=$D98,N$1<=IF(AND($D98>$M$1,$E98=\"\"),$M$2,$E98))),$D$3,\"\")","v":""},{"$f":"IF(OR(AND(O$1>=$D95,O$1<=IF(AND($D95>$M$1,$E95=\"\"),$M$2,$E95)),AND(O$1>=$D96,O$1<=IF(AND($D96>$M$1,$E96=\"\"),$M$2,$E96)),AND(O$1>=$D97,O$1<=IF(AND($D97>$M$1,$E97=\"\"),$M$2,$E97)),AND(O$1>=$D98,O$1<=IF(AND($D98>$M$1,$E98=\"\"),$M$2,$E98))),$D$3,\"\")","v":""},"","","","","","","","","","","","","","","","","","","","","","","","","","",{"$f":"IF(AP$1=\"\",\"\",IF(OR(AND(AP$1>=$D95,AP$1<=IF(AND($D95>$M$1,$E95=\"\"),$M$2,$E95)),AND(AP$1>=$D96,AP$1<=IF(AND($D96>$M$1,$E96=\"\"),$M$2,$E96)),AND(AP$1>=$D97,AP$1<=IF(AND($D97>$M$1,$E97=\"\"),$M$2,$E97)),AND(AP$1>=$D98,AP$1<=IF(AND($D98>$M$1,$E98=\"\"),$M$2,$E98))),$D$3,\"\"))","v":""},{"$f":"IF(AQ$1=\"\",\"\",IF(OR(AND(AQ$1>=$D95,AQ$1<=IF(AND($D95>$M$1,$E95=\"\"),$M$2,$E95)),AND(AQ$1>=$D96,AQ$1<=IF(AND($D96>$M$1,$E96=\"\"),$M$2,$E96)),AND(AQ$1>=$D97,AQ$1<=IF(AND($D97>$M$1,$E97=\"\"),$M$2,$E97)),AND(AQ$1>=$D98,AQ$1<=IF(AND($D98>$M$1,$E98=\"\"),$M$2,$E98))),$D$3,\"\"))","v":""},""]
[null,null,null,null,null,null,null,null,null,null,null,null,null,{"$f":"IF(OR(AND(N$1>=$F95,N$1<=IF(AND($F95>$M$1,$G95=\"\"),$M$2,$G95)),AND(N$1>=$F96,N$1<=IF(AND($F96>$M$1,$G96=\"\"),$M$2,$G96)),AND(N$1>=$F97,N$1<=IF(AND($F97>$M$1,$G97=\"\"),$M$2,$G97)),AND(N$1>=$F98,N$1<=IF(AND($F98>$M$1,$G98=\"\"),$M$2,$G98))),$F$3,\"\")","v":""},{"$f":"IF(OR(AND(O$1>=$F95,O$1<=IF(AND($F95>$M$1,$G95=\"\"),$M$2,$G95)),AND(O$1>=$F96,O$1<=IF(AND($F96>$M$1,$G96=\"\"),$M$2,$G96)),AND(O$1>=$F97,O$1<=IF(AND($F97>$M$1,$G97=\"\"),$M$2,$G97)),AND(O$1>=$F98,O$1<=IF(AND($F98>$M$1,$G98=\"\"),$M$2,$G98))),$F$3,\"\")","v":""},"","","","","","","","","","","","","","","","","","","","","","","","","","",{"$f":"IF(AP$1=\"\",\"\",IF(OR(AND(AP$1>=$F95,AP$1<=IF(AND($F95>$M$1,$G95=\"\"),$M$2,$G95)),AND(AP$1>=$F96,AP$1<=IF(AND($F96>$M$1,$G96=\"\"),$M$2,$G96)),AND(AP$1>=$F97,AP$1<=IF(AND($F97>$M$1,$G97=\"\"),$M$2,$G97)),AND(AP$1>=$F98,AP$1<=IF(AND($F98>$M$1,$G98=\"\"),$M$2,$G98))),$F$3,\"\"))","v":""},{"$f":"IF(AQ$1=\"\",\"\",IF(OR(AND(AQ$1>=$F95,AQ$1<=IF(AND($F95>$M$1,$G95=\"\"),$M$2,$G95)),AND(AQ$1>=$F96,AQ$1<=IF(AND($F96>$M$1,$G96=\"\"),$M$2,$G96)),AND(AQ$1>=$F97,AQ$1<=IF(AND($F97>$M$1,$G97=\"\"),$M$2,$G97)),AND(AQ$1>=$F98,AQ$1<=IF(AND($F98>$M$1,$G98=\"\"),$M$2,$G98))),$F$3,\"\"))","v":""},""]
[null,null,null,null,null,null,null,null,null,null,null,null,null,{"$f":"IF(OR(AND(N$1>=$H95,N$1<=IF(AND($H95>$M$1,$I95=\"\"),$M$2,$I95)),AND(N$1>=$H96,N$1<=IF(AND($H96>$M$1,$I96=\"\"),$M$2,$I96)),AND(N$1>=$H97,N$1<=IF(AND($H97>$M$1,$I97=\"\"),$M$2,$I97)),AND(N$1>=$H98,N$1<=IF(AND($H98>$M$1,$I98=\"\"),$M$2,$I98))),$H$3,\"\")","v":""},"","","","","","","","","","","","","","","","","","","","","","","","","","","",{"$f":"IF(AP$1=\"\",\"\",IF(OR(AND(AP$1>=$H95,AP$1<=IF(AND($H95>$M$1,$I95=\"\"),$M$2,$I95)),AND(AP$1>=$H96,AP$1<=IF(AND($H96>$M$1,$I96=\"\"),$M$2,$I96)),AND(AP$1>=$H97,AP$1<=IF(AND($H97>$M$1,$I97=\"\"),$M$2,$I97)),AND(AP$1>=$H98,AP$1<=IF(AND($H98>$M$1,$I98=\"\"),$M$2,$I98))),$H$3,\"\"))","v":""},{"$f":"IF(AQ$1=\"\",\"\",IF(OR(AND(AQ$1>=$H95,AQ$1<=IF(AND($H95>$M$1,$I95=\"\"),$M$2,$I95)),AND(AQ$1>=$H96,AQ$1<=IF(AND($H96>$M$1,$I96=\"\"),$M$2,$I96)),AND(AQ$1>=$H97,AQ$1<=IF(AND($H97>$M$1,$I97=\"\"),$M$2,$I97)),AND(AQ$1>=$H98,AQ$1<=IF(AND($H98>$M$1,$I98=\"\"),$M$2,$I98))),$H$3,\"\"))","v":""},{"$f":"IF(AR$1=\"\",\"\",IF(OR(AND(AR$1>=$H95,AR$1<=IF(AND($H95>$M$1,$I95=\"\"),$M$2,$I95)),AND(AR$1>=$H96,AR$1<=IF(AND($H96>$M$1,$I96=\"\"),$M$2,$I96)),AND(AR$1>=$H97,AR$1<=IF(AND($H97>$M$1,$I97=\"\"),$M$2,$I97)),AND(AR$1>=$H98,AR$1<=IF(AND($H98>$M$1,$I98=\"\"),$M$2,$I98))),$H$3,\"\"))","v":""}]
[null,null,null,null,null,null,null,null,null,null,null,null,null,{"$f":"IF(OR(AND(N$1>=$J95,N$1<=IF(AND($J95>$M$1,$K95=\"\"),$M$2,$K95)),AND(N$1>=$J96,N$1<=IF(AND($J96>$M$1,$K96=\"\"),$M$2,$K96)),AND(N$1>=$J97,N$1<=IF(AND($J97>$M$1,$K97=\"\"),$M$2,$K97)),AND(N$1>=$J98,N$1<=IF(AND($J98>$M$1,$K98=\"\"),$M$2,$K98)),AND(N$1>=$J99,N$1<=IF(AND($J99>$M$1,$K99=\"\"),$M$2,$K99))),$J$3,\"\")","v":""},{"$f":"IF(OR(AND(O$1>=$J95,O$1<=IF(AND($J95>$M$1,$K95=\"\"),$M$2,$K95)),AND(O$1>=$J96,O$1<=IF(AND($J96>$M$1,$K96=\"\"),$M$2,$K96)),AND(O$1>=$J97,O$1<=IF(AND($J97>$M$1,$K97=\"\"),$M$2,$K97)),AND(O$1>=$J98,O$1<=IF(AND($J98>$M$1,$K98=\"\"),$M$2,$K98)),AND(O$1>=$J99,O$1<=IF(AND($J99>$M$1,$K99=\"\"),$M$2,$K99))),$J$3,\"\")","v":""},{"$f":"IF(OR(AND(P$1>=$J95,P$1<=IF(AND($J95>$M$1,$K95=\"\"),$M$2,$K95)),AND(P$1>=$J96,P$1<=IF(AND($J96>$M$1,$K96=\"\"),$M$2,$K96)),AND(P$1>=$J97,P$1<=IF(AND($J97>$M$1,$K97=\"\"),$M$2,$K97)),AND(P$1>=$J98,P$1<=IF(AND($J98>$M$1,$K98=\"\"),$M$2,$K98)),AND(P$1>=$J99,P$1<=IF(AND($J99>$M$1,$K99=\"\"),$M$2,$K99))),$J$3,\"\")","v":""},{"$f":"IF(OR(AND(Q$1>=$J95,Q$1<=IF(AND($J95>$M$1,$K95=\"\"),$M$2,$K95)),AND(Q$1>=$J96,Q$1<=IF(AND($J96>$M$1,$K96=\"\"),$M$2,$K96)),AND(Q$1>=$J97,Q$1<=IF(AND($J97>$M$1,$K97=\"\"),$M$2,$K97)),AND(Q$1>=$J98,Q$1<=IF(AND($J98>$M$1,$K98=\"\"),$M$2,$K98)),AND(Q$1>=$J99,Q$1<=IF(AND($J99>$M$1,$K99=\"\"),$M$2,$K99))),$J$3,\"\")","v":""},{"$f":"IF(OR(AND(R$1>=$J95,R$1<=IF(AND($J95>$M$1,$K95=\"\"),$M$2,$K95)),AND(R$1>=$J96,R$1<=IF(AND($J96>$M$1,$K96=\"\"),$M$2,$K96)),AND(R$1>=$J97,R$1<=IF(AND($J97>$M$1,$K97=\"\"),$M$2,$K97)),AND(R$1>=$J98,R$1<=IF(AND($J98>$M$1,$K98=\"\"),$M$2,$K98)),AND(R$1>=$J99,R$1<=IF(AND($J99>$M$1,$K99=\"\"),$M$2,$K99))),$J$3,\"\")","v":""},{"$f":"IF(OR(AND(S$1>=$J95,S$1<=IF(AND($J95>$M$1,$K95=\"\"),$M$2,$K95)),AND(S$1>=$J96,S$1<=IF(AND($J96>$M$1,$K96=\"\"),$M$2,$K96)),AND(S$1>=$J97,S$1<=IF(AND($J97>$M$1,$K97=\"\"),$M$2,$K97)),AND(S$1>=$J98,S$1<=IF(AND($J98>$M$1,$K98=\"\"),$M$2,$K98)),AND(S$1>=$J99,S$1<=IF(AND($J99>$M$1,$K99=\"\"),$M$2,$K99))),$J$3,\"\")","v":""},{"$f":"IF(OR(AND(T$1>=$J95,T$1<=IF(AND($J95>$M$1,$K95=\"\"),$M$2,$K95)),AND(T$1>=$J96,T$1<=IF(AND($J96>$M$1,$K96=\"\"),$M$2,$K96)),AND(T$1>=$J97,T$1<=IF(AND($J97>$M$1,$K97=\"\"),$M$2,$K97)),AND(T$1>=$J98,T$1<=IF(AND($J98>$M$1,$K98=\"\"),$M$2,$K98)),AND(T$1>=$J99,T$1<=IF(AND($J99>$M$1,$K99=\"\"),$M$2,$K99))),$J$3,\"\")","v":""},{"$f":"IF(OR(AND(U$1>=$J95,U$1<=IF(AND($J95>$M$1,$K95=\"\"),$M$2,$K95)),AND(U$1>=$J96,U$1<=IF(AND($J96>$M$1,$K96=\"\"),$M$2,$K96)),AND(U$1>=$J97,U$1<=IF(AND($J97>$M$1,$K97=\"\"),$M$2,$K97)),AND(U$1>=$J98,U$1<=IF(AND($J98>$M$1,$K98=\"\"),$M$2,$K98)),AND(U$1>=$J99,U$1<=IF(AND($J99>$M$1,$K99=\"\"),$M$2,$K99))),$J$3,\"\")","v":""},{"$f":"IF(OR(AND(V$1>=$J95,V$1<=IF(AND($J95>$M$1,$K95=\"\"),$M$2,$K95)),AND(V$1>=$J96,V$1<=IF(AND($J96>$M$1,$K96=\"\"),$M$2,$K96)),AND(V$1>=$J97,V$1<=IF(AND($J97>$M$1,$K97=\"\"),$M$2,$K97)),AND(V$1>=$J98,V$1<=IF(AND($J98>$M$1,$K98=\"\"),$M$2,$K98)),AND(V$1>=$J99,V$1<=IF(AND($J99>$M$1,$K99=\"\"),$M$2,$K99))),$J$3,\"\")","v":""},{"$f":"IF(OR(AND(W$1>=$J95,W$1<=IF(AND($J95>$M$1,$K95=\"\"),$M$2,$K95)),AND(W$1>=$J96,W$1<=IF(AND($J96>$M$1,$K96=\"\"),$M$2,$K96)),AND(W$1>=$J97,W$1<=IF(AND($J97>$M$1,$K97=\"\"),$M$2,$K97)),AND(W$1>=$J98,W$1<=IF(AND($J98>$M$1,$K98=\"\"),$M$2,$K98)),AND(W$1>=$J99,W$1<=IF(AND($J99>$M$1,$K99=\"\"),$M$2,$K99))),$J$3,\"\")","v":""},{"$f":"IF(OR(AND(X$1>=$J95,X$1<=IF(AND($J95>$M$1,$K95=\"\"),$M$2,$K95)),AND(X$1>=$J96,X$1<=IF(AND($J96>$M$1,$K96=\"\"),$M$2,$K96)),AND(X$1>=$J97,X$1<=IF(AND($J97>$M$1,$K97=\"\"),$M$2,$K97)),AND(X$1>=$J98,X$1<=IF(AND($J98>$M$1,$K98=\"\"),$M$2,$K98)),AND(X$1>=$J99,X$1<=IF(AND($J99>$M$1,$K99=\"\"),$M$2,$K99))),$J$3,\"\")","v":""},{"$f":"IF(OR(AND(Y$1>=$J95,Y$1<=IF(AND($J95>$M$1,$K95=\"\"),$M$2,$K95)),AND(Y$1>=$J96,Y$1<=IF(AND($J96>$M$1,$K96=\"\"),$M$2,$K96)),AND(Y$1>=$J97,Y$1<=IF(AND($J97>$M$1,$K97=\"\"),$M$2,$K97)),AND(Y$1>=$J98,Y$1<=IF(AND($J98>$M$1,$K98=\"\"),$M$2,$K98)),AND(Y$1>=$J99,Y$1<=IF(AND($J99>$M$1,$K99=\"\"),$M$2,$K99))),$J$3,\"\")","v":""},{"$f":"IF(OR(AND(Z$1>=$J95,Z$1<=IF(AND($J95>$M$1,$K95=\"\"),$M$2,$K95)),AND(Z$1>=$J96,Z$1<=IF(AND($J96>$M$1,$K96=\"\"),$M$2,$K96)),AND(Z$1>=$J97,Z$1<=IF(AND($J97>$M$1,$K97=\"\"),$M$2,$K97)),AND(Z$1>=$J98,Z$1<=IF(AND($J98>$M$1,$K98=\"\"),$M$2,$K98)),AND(Z$1>=$J99,Z$1<=IF(AND($J99>$M$1,$K99=\"\"),$M$2,$K99))),$J$3,\"\")","v":""},{"$f":"IF(OR(AND(AA$1>=$J95,AA$1<=IF(AND($J95>$M$1,$K95=\"\"),$M$2,$K95)),AND(AA$1>=$J96,AA$1<=IF(AND($J96>$M$1,$K96=\"\"),$M$2,$K96)),AND(AA$1>=$J97,AA$1<=IF(AND($J97>$M$1,$K97=\"\"),$M$2,$K97)),AND(AA$1>=$J98,AA$1<=IF(AND($J98>$M$1,$K98=\"\"),$M$2,$K98)),AND(AA$1>=$J99,AA$1<=IF(AND($J99>$M$1,$K99=\"\"),$M$2,$K99))),$J$3,\"\")","v":""},{"$f":"IF(OR(AND(AB$1>=$J95,AB$1<=IF(AND($J95>$M$1,$K95=\"\"),$M$2,$K95)),AND(AB$1>=$J96,AB$1<=IF(AND($J96>$M$1,$K96=\"\"),$M$2,$K96)),AND(AB$1>=$J97,AB$1<=IF(AND($J97>$M$1,$K97=\"\"),$M$2,$K97)),AND(AB$1>=$J98,AB$1<=IF(AND($J98>$M$1,$K98=\"\"),$M$2,$K98)),AND(AB$1>=$J99,AB$1<=IF(AND($J99>$M$1,$K99=\"\"),$M$2,$K99))),$J$3,\"\")","v":""},{"$f":"IF(OR(AND(AC$1>=$J95,AC$1<=IF(AND($J95>$M$1,$K95=\"\"),$M$2,$K95)),AND(AC$1>=$J96,AC$1<=IF(AND($J96>$M$1,$K96=\"\"),$M$2,$K96)),AND(AC$1>=$J97,AC$1<=IF(AND($J97>$M$1,$K97=\"\"),$M$2,$K97)),AND(AC$1>=$J98,AC$1<=IF(AND($J98>$M$1,$K98=\"\"),$M$2,$K98)),AND(AC$1>=$J99,AC$1<=IF(AND($J99>$M$1,$K99=\"\"),$M$2,$K99))),$J$3,\"\")","v":""},{"$f":"IF(OR(AND(AD$1>=$J95,AD$1<=IF(AND($J95>$M$1,$K95=\"\"),$M$2,$K95)),AND(AD$1>=$J96,AD$1<=IF(AND($J96>$M$1,$K96=\"\"),$M$2,$K96)),AND(AD$1>=$J97,AD$1<=IF(AND($J97>$M$1,$K97=\"\"),$M$2,$K97)),AND(AD$1>=$J98,AD$1<=IF(AND($J98>$M$1,$K98=\"\"),$M$2,$K98)),AND(AD$1>=$J99,AD$1<=IF(AND($J99>$M$1,$K99=\"\"),$M$2,$K99))),$J$3,\"\")","v":""},{"$f":"IF(OR(AND(AE$1>=$J95,AE$1<=IF(AND($J95>$M$1,$K95=\"\"),$M$2,$K95)),AND(AE$1>=$J96,AE$1<=IF(AND($J96>$M$1,$K96=\"\"),$M$2,$K96)),AND(AE$1>=$J97,AE$1<=IF(AND($J97>$M$1,$K97=\"\"),$M$2,$K97)),AND(AE$1>=$J98,AE$1<=IF(AND($J98>$M$1,$K98=\"\"),$M$2,$K98)),AND(AE$1>=$J99,AE$1<=IF(AND($J99>$M$1,$K99=\"\"),$M$2,$K99))),$J$3,\"\")","v":""},{"$f":"IF(OR(AND(AF$1>=$J95,AF$1<=IF(AND($J95>$M$1,$K95=\"\"),$M$2,$K95)),AND(AF$1>=$J96,AF$1<=IF(AND($J96>$M$1,$K96=\"\"),$M$2,$K96)),AND(AF$1>=$J97,AF$1<=IF(AND($J97>$M$1,$K97=\"\"),$M$2,$K97)),AND(AF$1>=$J98,AF$1<=IF(AND($J98>$M$1,$K98=\"\"),$M$2,$K98)),AND(AF$1>=$J99,AF$1<=IF(AND($J99>$M$1,$K99=\"\"),$M$2,$K99))),$J$3,\"\")","v":""},{"$f":"IF(OR(AND(AG$1>=$J95,AG$1<=IF(AND($J95>$M$1,$K95=\"\"),$M$2,$K95)),AND(AG$1>=$J96,AG$1<=IF(AND($J96>$M$1,$K96=\"\"),$M$2,$K96)),AND(AG$1>=$J97,AG$1<=IF(AND($J97>$M$1,$K97=\"\"),$M$2,$K97)),AND(AG$1>=$J98,AG$1<=IF(AND($J98>$M$1,$K98=\"\"),$M$2,$K98)),AND(AG$1>=$J99,AG$1<=IF(AND($J99>$M$1,$K99=\"\"),$M$2,$K99))),$J$3,\"\")","v":""},{"$f":"IF(OR(AND(AH$1>=$J95,AH$1<=IF(AND($J95>$M$1,$K95=\"\"),$M$2,$K95)),AND(AH$1>=$J96,AH$1<=IF(AND($J96>$M$1,$K96=\"\"),$M$2,$K96)),AND(AH$1>=$J97,AH$1<=IF(AND($J97>$M$1,$K97=\"\"),$M$2,$K97)),AND(AH$1>=$J98,AH$1<=IF(AND($J98>$M$1,$K98=\"\"),$M$2,$K98)),AND(AH$1>=$J99,AH$1<=IF(AND($J99>$M$1,$K99=\"\"),$M$2,$K99))),$J$3,\"\")","v":""},{"$f":"IF(OR(AND(AI$1>=$J95,AI$1<=IF(AND($J95>$M$1,$K95=\"\"),$M$2,$K95)),AND(AI$1>=$J96,AI$1<=IF(AND($J96>$M$1,$K96=\"\"),$M$2,$K96)),AND(AI$1>=$J97,AI$1<=IF(AND($J97>$M$1,$K97=\"\"),$M$2,$K97)),AND(AI$1>=$J98,AI$1<=IF(AND($J98>$M$1,$K98=\"\"),$M$2,$K98)),AND(AI$1>=$J99,AI$1<=IF(AND($J99>$M$1,$K99=\"\"),$M$2,$K99))),$J$3,\"\")","v":""},{"$f":"IF(OR(AND(AJ$1>=$J95,AJ$1<=IF(AND($J95>$M$1,$K95=\"\"),$M$2,$K95)),AND(AJ$1>=$J96,AJ$1<=IF(AND($J96>$M$1,$K96=\"\"),$M$2,$K96)),AND(AJ$1>=$J97,AJ$1<=IF(AND($J97>$M$1,$K97=\"\"),$M$2,$K97)),AND(AJ$1>=$J98,AJ$1<=IF(AND($J98>$M$1,$K98=\"\"),$M$2,$K98)),AND(AJ$1>=$J99,AJ$1<=IF(AND($J99>$M$1,$K99=\"\"),$M$2,$K99))),$J$3,\"\")","v":""},{"$f":"IF(OR(AND(AK$1>=$J95,AK$1<=IF(AND($J95>$M$1,$K95=\"\"),$M$2,$K95)),AND(AK$1>=$J96,AK$1<=IF(AND($J96>$M$1,$K96=\"\"),$M$2,$K96)),AND(AK$1>=$J97,AK$1<=IF(AND($J97>$M$1,$K97=\"\"),$M$2,$K97)),AND(AK$1>=$J98,AK$1<=IF(AND($J98>$M$1,$K98=\"\"),$M$2,$K98)),AND(AK$1>=$J99,AK$1<=IF(AND($J99>$M$1,$K99=\"\"),$M$2,$K99))),$J$3,\"\")","v":""},{"$f":"IF(OR(AND(AL$1>=$J95,AL$1<=IF(AND($J95>$M$1,$K95=\"\"),$M$2,$K95)),AND(AL$1>=$J96,AL$1<=IF(AND($J96>$M$1,$K96=\"\"),$M$2,$K96)),AND(AL$1>=$J97,AL$1<=IF(AND($J97>$M$1,$K97=\"\"),$M$2,$K97)),AND(AL$1>=$J98,AL$1<=IF(AND($J98>$M$1,$K98=\"\"),$M$2,$K98)),AND(AL$1>=$J99,AL$1<=IF(AND($J99>$M$1,$K99=\"\"),$M$2,$K99))),$J$3,\"\")","v":""},{"$f":"IF(OR(AND(AM$1>=$J95,AM$1<=IF(AND($J95>$M$1,$K95=\"\"),$M$2,$K95)),AND(AM$1>=$J96,AM$1<=IF(AND($J96>$M$1,$K96=\"\"),$M$2,$K96)),AND(AM$1>=$J97,AM$1<=IF(AND($J97>$M$1,$K97=\"\"),$M$2,$K97)),AND(AM$1>=$J98,AM$1<=IF(AND($J98>$M$1,$K98=\"\"),$M$2,$K98)),AND(AM$1>=$J99,AM$1<=IF(AND($J99>$M$1,$K99=\"\"),$M$2,$K99))),$J$3,\"\")","v":""},{"$f":"IF(OR(AND(AN$1>=$J95,AN$1<=IF(AND($J95>$M$1,$K95=\"\"),$M$2,$K95)),AND(AN$1>=$J96,AN$1<=IF(AND($J96>$M$1,$K96=\"\"),$M$2,$K96)),AND(AN$1>=$J97,AN$1<=IF(AND($J97>$M$1,$K97=\"\"),$M$2,$K97)),AND(AN$1>=$J98,AN$1<=IF(AND($J98>$M$1,$K98=\"\"),$M$2,$K98)),AND(AN$1>=$J99,AN$1<=IF(AND($J99>$M$1,$K99=\"\"),$M$2,$K99))),$J$3,\"\")","v":""},{"$f":"IF(OR(AND(AO$1>=$J95,AO$1<=IF(AND($J95>$M$1,$K95=\"\"),$M$2,$K95)),AND(AO$1>=$J96,AO$1<=IF(AND($J96>$M$1,$K96=\"\"),$M$2,$K96)),AND(AO$1>=$J97,AO$1<=IF(AND($J97>$M$1,$K97=\"\"),$M$2,$K97)),AND(AO$1>=$J98,AO$1<=IF(AND($J98>$M$1,$K98=\"\"),$M$2,$K98)),AND(AO$1>=$J99,AO$1<=IF(AND($J99>$M$1,$K99=\"\"),$M$2,$K99))),$J$3,\"\")","v":""},{"$f":"IF(AP$1=\"\",\"\",IF(OR(AND(AP$1>=$J95,AP$1<=IF(AND($J95>$M$1,$K95=\"\"),$M$2,$K95)),AND(AP$1>=$J96,AP$1<=IF(AND($J96>$M$1,$K96=\"\"),$M$2,$K96)),AND(AP$1>=$J97,AP$1<=IF(AND($J97>$M$1,$K97=\"\"),$M$2,$K97)),AND(AP$1>=$J98,AP$1<=IF(AND($J98>$M$1,$K98=\"\"),$M$2,$K98)),AND(AP$1>=$J99,AP$1<=IF(AND($J99>$M$1,$K99=\"\"),$M$2,$K99))),$J$3,\"\"))","v":""},{"$f":"IF(AQ$1=\"\",\"\",IF(OR(AND(AQ$1>=$J95,AQ$1<=IF(AND($J95>$M$1,$K95=\"\"),$M$2,$K95)),AND(AQ$1>=$J96,AQ$1<=IF(AND($J96>$M$1,$K96=\"\"),$M$2,$K96)),AND(AQ$1>=$J97,AQ$1<=IF(AND($J97>$M$1,$K97=\"\"),$M$2,$K97)),AND(AQ$1>=$J98,AQ$1<=IF(AND($J98>$M$1,$K98=\"\"),$M$2,$K98)),AND(AQ$1>=$J99,AQ$1<=IF(AND($J99>$M$1,$K99=\"\"),$M$2,$K99))),$J$3,\"\"))","v":""},{"$f":"IF(AR$1=\"\",\"\",IF(OR(AND(AR$1>=$J95,AR$1<=IF(AND($J95>$M$1,$K95=\"\"),$M$2,$K95)),AND(AR$1>=$J96,AR$1<=IF(AND($J96>$M$1,$K96=\"\"),$M$2,$K96)),AND(AR$1>=$J97,AR$1<=IF(AND($J97>$M$1,$K97=\"\"),$M$2,$K97)),AND(AR$1>=$J98,AR$1<=IF(AND($J98>$M$1,$K98=\"\"),$M$2,$K98)),AND(AR$1>=$J99,AR$1<=IF(AND($J99>$M$1,$K99=\"\"),$M$2,$K99))),$J$3,\"\"))","v":""}]
[{"$f":"стр.1!C51","v":5035},{"$f":"IFERROR(VLOOKUP(A100,стр.1!$A$13:$D$106,2,FALSE),\"\")","v":"Кузнецов"},{"$f":"IFERROR(VLOOKUP(A100,стр.1!$A$13:$D$106,4,FALSE),\"\")","v":"сборная"},null,null,null,null,null,null,null,null,null,null,{"$f":"N101&N102&N103&N104","v":""},{"$f":"O101&O102&O103&O104","v":""},{"$f":"P101&P102&P103&P104","v":""},{"$f":"Q101&Q102&Q103&Q104","v":""},{"$f":"R101&R102&R103&R104","v":""},{"$f":"S101&S102&S103&S104","v":""},{"$f":"T101&T102&T103&T104","v":""},{"$f":"U101&U102&U103&U104","v":""},{"$f":"V101&V102&V103&V104","v":""},{"$f":"W101&W102&W103&W104","v":""},{"$f":"X101&X102&X103&X104","v":""},{"$f":"Y101&Y102&Y103&Y104","v":""},{"$f":"Z101&Z102&Z103&Z104","v":""},{"$f":"AA101&AA102&AA103&AA104","v":""},{"$f":"AB101&AB102&AB103&AB104","v":""},{"$f":"AC101&AC102&AC103&AC104","v":""},{"$f":"AD101&AD102&AD103&AD104","v":""},{"$f":"AE101&AE102&AE103&AE104","v":""},{"$f":"AF101&AF102&AF103&AF104","v":""},{"$f":"AG101&AG102&AG103&AG104","v":""},{"$f":"AH101&AH102&AH103&AH104","v":""},{"$f":"AI101&AI102&AI103&AI104","v":""},{"$f":"AJ101&AJ102&AJ103&AJ104","v":""},{"$f":"AK101&AK102&AK103&AK104","v":""},{"$f":"AL101&AL102&AL103&AL104","v":""},{"$f":"AM101&AM102&AM103&AM104","v":""},{"$f":"AN101&AN102&AN103&AN104","v":""},{"$f":"AO101&AO102&AO103&AO104","v":""},{"$f":"AP101&AP102&AP103&AP104","v":""},{"$f":"AQ101&AQ102&AQ103&AQ104","v":""},{"$f":"AR101&AR102&AR103&AR104","v":""}]
[null,null,null,null,null,null,null,null,null,null,null,null,null,{"$f":"IF(OR(AND(N$1>=$D100,N$1<=IF(AND($D100>$M$1,$E100=\"\"),$M$2,$E100)),AND(N$1>=$D101,N$1<=IF(AND($D101>$M$1,$E101=\"\"),$M$2,$E101)),AND(N$1>=$D102,N$1<=IF(AND($D102>$M$1,$E102=\"\"),$M$2,$E102)),AND(N$1>=$D103,N$1<=IF(AND($D103>$M$1,$E103=\"\"),$M$2,$E103))),$D$3,\"\")","v":""},{"$f":"IF(OR(AND(O$1>=$D100,O$1<=IF(AND($D100>$M$1,$E100=\"\"),$M$2,$E100)),AND(O$1>=$D101,O$1<=IF(AND($D101>$M$1,$E101=\"\"),$M$2,$E101)),AND(O$1>=$D102,O$1<=IF(AND($D102>$M$1,$E102=\"\"),$M$2,$E102)),AND(O$1>=$D103,O$1<=IF(AND($D103>$M$1,$E103=\"\"),$M$2,$E103))),$D$3,\"\")","v":""},"","","","","","","","","","","","","","","","","","","","","","","","","","",{"$f":"IF(AP$1=\"\",\"\",IF(OR(AND(AP$1>=$D100,AP$1<=IF(AND($D100>$M$1,$E100=\"\"),$M$2,$E100)),AND(AP$1>=$D101,AP$1<=IF(AND($D101>$M$1,$E101=\"\"),$M$2,$E101)),AND(AP$1>=$D102,AP$1<=IF(AND($D102>$M$1,$E102=\"\"),$M$2,$E102)),AND(AP$1>=$D103,AP$1<=IF(AND($D103>$M$1,$E103=\"\"),$M$2,$E103))),$D$3,\"\"))","v":""},{"$f":"IF(AQ$1=\"\",\"\",IF(OR(AND(AQ$1>=$D100,AQ$1<=IF(AND($D100>$M$1,$E100=\"\"),$M$2,$E100)),AND(AQ$1>=$D101,AQ$1<=IF(AND($D101>$M$1,$E101=\"\"),$M$2,$E101)),AND(AQ$1>=$D102,AQ$1<=IF(AND($D102>$M$1,$E102=\"\"),$M$2,$E102)),AND(AQ$1>=$D103,AQ$1<=IF(AND($D103>$M$1,$E103=\"\"),$M$2,$E103))),$D$3,\"\"))","v":""},""]
[null,null,null,null,null,null,null,null,null,null,null,null,null,{"$f":"IF(OR(AND(N$1>=$F100,N$1<=IF(AND($F100>$M$1,$G100=\"\"),$M$2,$G100)),AND(N$1>=$F101,N$1<=IF(AND($F101>$M$1,$G101=\"\"),$M$2,$G101)),AND(N$1>=$F102,N$1<=IF(AND($F102>$M$1,$G102=\"\"),$M$2,$G102)),AND(N$1>=$F103,N$1<=IF(AND($F103>$M$1,$G103=\"\"),$M$2,$G103))),$F$3,\"\")","v":""},{"$f":"IF(OR(AND(O$1>=$F100,O$1<=IF(AND($F100>$M$1,$G100=\"\"),$M$2,$G100)),AND(O$1>=$F101,O$1<=IF(AND($F101>$M$1,$G101=\"\"),$M$2,$G101)),AND(O$1>=$F102,O$1<=IF(AND($F102>$M$1,$G102=\"\"),$M$2,$G102)),AND(O$1>=$F103,O$1<=IF(AND($F103>$M$1,$G103=\"\"),$M$2,$G103))),$F$3,\"\")","v":""},"","","","","","","","","","","","","","","","","","","","","","","","","","",{"$f":"IF(AP$1=\"\",\"\",IF(OR(AND(AP$1>=$F100,AP$1<=IF(AND($F100>$M$1,$G100=\"\"),$M$2,$G100)),AND(AP$1>=$F101,AP$1<=IF(AND($F101>$M$1,$G101=\"\"),$M$2,$G101)),AND(AP$1>=$F102,AP$1<=IF(AND($F102>$M$1,$G102=\"\"),$M$2,$G102)),AND(AP$1>=$F103,AP$1<=IF(AND($F103>$M$1,$G103=\"\"),$M$2,$G103))),$F$3,\"\"))","v":""},{"$f":"IF(AQ$1=\"\",\"\",IF(OR(AND(AQ$1>=$F100,AQ$1<=IF(AND($F100>$M$1,$G100=\"\"),$M$2,$G100)),AND(AQ$1>=$F101,AQ$1<=IF(AND($F101>$M$1,$G101=\"\"),$M$2,$G101)),AND(AQ$1>=$F102,AQ$1<=IF(AND($F102>$M$1,$G102=\"\"),$M$2,$G102)),AND(AQ$1>=$F103,AQ$1<=IF(AND($F103>$M$1,$G103=\"\"),$M$2,$G103))),$F$3,\"\"))","v":""},""]
[null,null,null,null,null,null,null,null,null,null,null,null,null,{"$f":"IF(OR(AND(N$1>=$H100,N$1<=IF(AND($H100>$M$1,$I100=\"\"),$M$2,$I100)),AND(N$1>=$H101,N$1<=IF(AND($H101>$M$1,$I101=\"\"),$M$2,$I101)),AND(N$1>=$H102,N$1<=IF(AND($H102>$M$1,$I102=\"\"),$M$2,$I102)),AND(N$1>=$H103,N$1<=IF(AND($H103>$M$1,$I103=\"\"),$M$2,$I103))),$H$3,\"\")","v":""},"","","","","","","","","","","","","","","","","","","","","","","","","","","",{"$f":"IF(AP$1=\"\",\"\",IF(OR(AND(AP$1>=$H100,AP$1<=IF(AND($H100>$M$1,$I100=\"\"),$M$2,$I100)),AND(AP$1>=$H101,AP$1<=IF(AND($H101>$M$1,$I101=\"\"),$M$2,$I101)),AND(AP$1>=$H102,AP$1<=IF(AND($H102>$M$1,$I102=\"\"),$M$2,$I102)),AND(AP$1>=$H103,AP$1<=IF(AND($H103>$M$1,$I103=\"\"),$M$2,$I103))),$H$3,\"\"))","v":""},{"$f":"IF(AQ$1=\"\",\"\",IF(OR(AND(AQ$1>=$H100,AQ$1<=IF(AND($H100>$M$1,$I100=\"\"),$M$2,$I100)),AND(AQ$1>=$H101,AQ$1<=IF(AND($H101>$M$1,$I101=\"\"),$M$2,$I101)),AND(AQ$1>=$H102,AQ$1<=IF(AND($H102>$M$1,$I102=\"\"),$M$2,$I102)),AND(AQ$1>=$H103,AQ$1<=IF(AND($H103>$M$1,$I103=\"\"),$M$2,$I103))),$H$3,\"\"))","v":""},{"$f":"IF(AR$1=\"\",\"\",IF(OR(AND(AR$1>=$H100,AR$1<=IF(AND($H100>$M$1,$I100=\"\"),$M$2,$I100)),AND(AR$1>=$H101,AR$1<=IF(AND($H101>$M$1,$I101=\"\"),$M$2,$I101)),AND(AR$1>=$H102,AR$1<=IF(AND($H102>$M$1,$I102=\"\"),$M$2,$I102)),AND(AR$1>=$H103,AR$1<=IF(AND($H103>$M$1,$I103=\"\"),$M$2,$I103))),$H$3,\"\"))","v":""}]
[null,null,null,null,null,null,null,null,null,null,null,null,null,{"$f":"IF(OR(AND(N$1>=$J100,N$1<=IF(AND($J100>$M$1,$K100=\"\"),$M$2,$K100)),AND(N$1>=$J101,N$1<=IF(AND($J101>$M$1,$K101=\"\"),$M$2,$K101)),AND(N$1>=$J102,N$1<=IF(AND($J102>$M$1,$K102=\"\"),$M$2,$K102)),AND(N$1>=$J103,N$1<=IF(AND($J103>$M$1,$K103=\"\"),$M$2,$K103)),AND(N$1>=$J104,N$1<=IF(AND($J104>$M$1,$K104=\"\"),$M$2,$K104))),$J$3,\"\")","v":""},{"$f":"IF(OR(AND(O$1>=$J100,O$1<=IF(AND($J100>$M$1,$K100=\"\"),$M$2,$K100)),AND(O$1>=$J101,O$1<=IF(AND($J101>$M$1,$K101=\"\"),$M$2,$K101)),AND(O$1>=$J102,O$1<=IF(AND($J102>$M$1,$K102=\"\"),$M$2,$K102)),AND(O$1>=$J103,O$1<=IF(AND($J103>$M$1,$K103=\"\"),$M$2,$K103)),AND(O$1>=$J104,O$1<=IF(AND($J104>$M$1,$K104=\"\"),$M$2,$K104))),$J$3,\"\")","v":""},{"$f":"IF(OR(AND(P$1>=$J100,P$1<=IF(AND($J100>$M$1,$K100=\"\"),$M$2,$K100)),AND(P$1>=$J101,P$1<=IF(AND($J101>$M$1,$K101=\"\"),$M$2,$K101)),AND(P$1>=$J102,P$1<=IF(AND($J102>$M$1,$K102=\"\"),$M$2,$K102)),AND(P$1>=$J103,P$1<=IF(AND($J103>$M$1,$K103=\"\"),$M$2,$K103)),AND(P$1>=$J104,P$1<=IF(AND($J104>$M$1,$K104=\"\"),$M$2,$K104))),$J$3,\"\")","v":""},{"$f":"IF(OR(AND(Q$1>=$J100,Q$1<=IF(AND($J100>$M$1,$K100=\"\"),$M$2,$K100)),AND(Q$1>=$J101,Q$1<=IF(AND($J101>$M$1,$K101=\"\"),$M$2,$K101)),AND(Q$1>=$J102,Q$1<=IF(AND($J102>$M$1,$K102=\"\"),$M$2,$K102)),AND(Q$1>=$J103,Q$1<=IF(AND($J103>$M$1,$K103=\"\"),$M$2,$K103)),AND(Q$1>=$J104,Q$1<=IF(AND($J104>$M$1,$K104=\"\"),$M$2,$K104))),$J$3,\"\")","v":""},{"$f":"IF(OR(AND(R$1>=$J100,R$1<=IF(AND($J100>$M$1,$K100=\"\"),$M$2,$K100)),AND(R$1>=$J101,R$1<=IF(AND($J101>$M$1,$K101=\"\"),$M$2,$K101)),AND(R$1>=$J102,R$1<=IF(AND($J102>$M$1,$K102=\"\"),$M$2,$K102)),AND(R$1>=$J103,R$1<=IF(AND($J103>$M$1,$K103=\"\"),$M$2,$K103)),AND(R$1>=$J104,R$1<=IF(AND($J104>$M$1,$K104=\"\"),$M$2,$K104))),$J$3,\"\")","v":""},{"$f":"IF(OR(AND(S$1>=$J100,S$1<=IF(AND($J100>$M$1,$K100=\"\"),$M$2,$K100)),AND(S$1>=$J101,S$1<=IF(AND($J101>$M$1,$K101=\"\"),$M$2,$K101)),AND(S$1>=$J102,S$1<=IF(AND($J102>$M$1,$K102=\"\"),$M$2,$K102)),AND(S$1>=$J103,S$1<=IF(AND($J103>$M$1,$K103=\"\"),$M$2,$K103)),AND(S$1>=$J104,S$1<=IF(AND($J104>$M$1,$K104=\"\"),$M$2,$K104))),$J$3,\"\")","v":""},{"$f":"IF(OR(AND(T$1>=$J100,T$1<=IF(AND($J100>$M$1,$K100=\"\"),$M$2,$K100)),AND(T$1>=$J101,T$1<=IF(AND($J101>$M$1,$K101=\"\"),$M$2,$K101)),AND(T$1>=$J102,T$1<=IF(AND($J102>$M$1,$K102=\"\"),$M$2,$K102)),AND(T$1>=$J103,T$1<=IF(AND($J103>$M$1,$K103=\"\"),$M$2,$K103)),AND(T$1>=$J104,T$1<=IF(AND($J104>$M$1,$K104=\"\"),$M$2,$K104))),$J$3,\"\")","v":""},{"$f":"IF(OR(AND(U$1>=$J100,U$1<=IF(AND($J100>$M$1,$K100=\"\"),$M$2,$K100)),AND(U$1>=$J101,U$1<=IF(AND($J101>$M$1,$K101=\"\"),$M$2,$K101)),AND(U$1>=$J102,U$1<=IF(AND($J102>$M$1,$K102=\"\"),$M$2,$K102)),AND(U$1>=$J103,U$1<=IF(AND($J103>$M$1,$K103=\"\"),$M$2,$K103)),AND(U$1>=$J104,U$1<=IF(AND($J104>$M$1,$K104=\"\"),$M$2,$K104))),$J$3,\"\")","v":""},{"$f":"IF(OR(AND(V$1>=$J100,V$1<=IF(AND($J100>$M$1,$K100=\"\"),$M$2,$K100)),AND(V$1>=$J101,V$1<=IF(AND($J101>$M$1,$K101=\"\"),$M$2,$K101)),AND(V$1>=$J102,V$1<=IF(AND($J102>$M$1,$K102=\"\"),$M$2,$K102)),AND(V$1>=$J103,V$1<=IF(AND($J103>$M$1,$K103=\"\"),$M$2,$K103)),AND(V$1>=$J104,V$1<=IF(AND($J104>$M$1,$K104=\"\"),$M$2,$K104))),$J$3,\"\")","v":""},{"$f":"IF(OR(AND(W$1>=$J100,W$1<=IF(AND($J100>$M$1,$K100=\"\"),$M$2,$K100)),AND(W$1>=$J101,W$1<=IF(AND($J101>$M$1,$K101=\"\"),$M$2,$K101)),AND(W$1>=$J102,W$1<=IF(AND($J102>$M$1,$K102=\"\"),$M$2,$K102)),AND(W$1>=$J103,W$1<=IF(AND($J103>$M$1,$K103=\"\"),$M$2,$K103)),AND(W$1>=$J104,W$1<=IF(AND($J104>$M$1,$K104=\"\"),$M$2,$K104))),$J$3,\"\")","v":""},{"$f":"IF(OR(AND(X$1>=$J100,X$1<=IF(AND($J100>$M$1,$K100=\"\"),$M$2,$K100)),AND(X$1>=$J101,X$1<=IF(AND($J101>$M$1,$K101=\"\"),$M$2,$K101)),AND(X$1>=$J102,X$1<=IF(AND($J102>$M$1,$K102=\"\"),$M$2,$K102)),AND(X$1>=$J103,X$1<=IF(AND($J103>$M$1,$K103=\"\"),$M$2,$K103)),AND(X$1>=$J104,X$1<=IF(AND($J104>$M$1,$K104=\"\"),$M$2,$K104))),$J$3,\"\")","v":""},{"$f":"IF(OR(AND(Y$1>=$J100,Y$1<=IF(AND($J100>$M$1,$K100=\"\"),$M$2,$K100)),AND(Y$1>=$J101,Y$1<=IF(AND($J101>$M$1,$K101=\"\"),$M$2,$K101)),AND(Y$1>=$J102,Y$1<=IF(AND($J102>$M$1,$K102=\"\"),$M$2,$K102)),AND(Y$1>=$J103,Y$1<=IF(AND($J103>$M$1,$K103=\"\"),$M$2,$K103)),AND(Y$1>=$J104,Y$1<=IF(AND($J104>$M$1,$K104=\"\"),$M$2,$K104))),$J$3,\"\")","v":""},{"$f":"IF(OR(AND(Z$1>=$J100,Z$1<=IF(AND($J100>$M$1,$K100=\"\"),$M$2,$K100)),AND(Z$1>=$J101,Z$1<=IF(AND($J101>$M$1,$K101=\"\"),$M$2,$K101)),AND(Z$1>=$J102,Z$1<=IF(AND($J102>$M$1,$K102=\"\"),$M$2,$K102)),AND(Z$1>=$J103,Z$1<=IF(AND($J103>$M$1,$K103=\"\"),$M$2,$K103)),AND(Z$1>=$J104,Z$1<=IF(AND($J104>$M$1,$K104=\"\"),$M$2,$K104))),$J$3,\"\")","v":""},{"$f":"IF(OR(AND(AA$1>=$J100,AA$1<=IF(AND($J100>$M$1,$K100=\"\"),$M$2,$K100)),AND(AA$1>=$J101,AA$1<=IF(AND($J101>$M$1,$K101=\"\"),$M$2,$K101)),AND(AA$1>=$J102,AA$1<=IF(AND($J102>$M$1,$K102=\"\"),$M$2,$K102)),AND(AA$1>=$J103,AA$1<=IF(AND($J103>$M$1,$K103=\"\"),$M$2,$K103)),AND(AA$1>=$J104,AA$1<=IF(AND($J104>$M$1,$K104=\"\"),$M$2,$K104))),$J$3,\"\")","v":""},{"$f":"IF(OR(AND(AB$1>=$J100,AB$1<=IF(AND($J100>$M$1,$K100=\"\"),$M$2,$K100)),AND(AB$1>=$J101,AB$1<=IF(AND($J101>$M$1,$K101=\"\"),$M$2,$K101)),AND(AB$1>=$J102,AB$1<=IF(AND($J102>$M$1,$K102=\"\"),$M$2,$K102)),AND(AB$1>=$J103,AB$1<=IF(AND($J103>$M$1,$K103=\"\"),$M$2,$K103)),AND(AB$1>=$J104,AB$1<=IF(AND($J104>$M$1,$K104=\"\"),$M$2,$K104))),$J$3,\"\")","v":""},{"$f":"IF(OR(AND(AC$1>=$J100,AC$1<=IF(AND($J100>$M$1,$K100=\"\"),$M$2,$K100)),AND(AC$1>=$J101,AC$1<=IF(AND($J101>$M$1,$K101=\"\"),$M$2,$K101)),AND(AC$1>=$J102,AC$1<=IF(AND($J102>$M$1,$K102=\"\"),$M$2,$K102)),AND(AC$1>=$J103,AC$1<=IF(AND($J103>$M$1,$K103=\"\"),$M$2,$K103)),AND(AC$1>=$J104,AC$1<=IF(AND($J104>$M$1,$K104=\"\"),$M$2,$K104))),$J$3,\"\")","v":""},{"$f":"IF(OR(AND(AD$1>=$J100,AD$1<=IF(AND($J100>$M$1,$K100=\"\"),$M$2,$K100)),AND(AD$1>=$J101,AD$1<=IF(AND($J101>$M$1,$K101=\"\"),$M$2,$K101)),AND(AD$1>=$J102,AD$1<=IF(AND($J102>$M$1,$K102=\"\"),$M$2,$K102)),AND(AD$1>=$J103,AD$1<=IF(AND($J103>$M$1,$K103=\"\"),$M$2,$K103)),AND(AD$1>=$J104,AD$1<=IF(AND($J104>$M$1,$K104=\"\"),$M$2,$K104))),$J$3,\"\")","v":""},{"$f":"IF(OR(AND(AE$1>=$J100,AE$1<=IF(AND($J100>$M$1,$K100=\"\"),$M$2,$K100)),AND(AE$1>=$J101,AE$1<=IF(AND($J101>$M$1,$K101=\"\"),$M$2,$K101)),AND(AE$1>=$J102,AE$1<=IF(AND($J102>$M$1,$K102=\"\"),$M$2,$K102)),AND(AE$1>=$J103,AE$1<=IF(AND($J103>$M$1,$K103=\"\"),$M$2,$K103)),AND(AE$1>=$J104,AE$1<=IF(AND($J104>$M$1,$K104=\"\"),$M$2,$K104))),$J$3,\"\")","v":""},{"$f":"IF(OR(AND(AF$1>=$J100,AF$1<=IF(AND($J100>$M$1,$K100=\"\"),$M$2,$K100)),AND(AF$1>=$J101,AF$1<=IF(AND($J101>$M$1,$K101=\"\"),$M$2,$K101)),AND(AF$1>=$J102,AF$1<=IF(AND($J102>$M$1,$K102=\"\"),$M$2,$K102)),AND(AF$1>=$J103,AF$1<=IF(AND($J103>$M$1,$K103=\"\"),$M$2,$K103)),AND(AF$1>=$J104,AF$1<=IF(AND($J104>$M$1,$K104=\"\"),$M$2,$K104))),$J$3,\"\")","v":""},{"$f":"IF(OR(AND(AG$1>=$J100,AG$1<=IF(AND($J100>$M$1,$K100=\"\"),$M$2,$K100)),AND(AG$1>=$J101,AG$1<=IF(AND($J101>$M$1,$K101=\"\"),$M$2,$K101)),AND(AG$1>=$J102,AG$1<=IF(AND($J102>$M$1,$K102=\"\"),$M$2,$K102)),AND(AG$1>=$J103,AG$1<=IF(AND($J103>$M$1,$K103=\"\"),$M$2,$K103)),AND(AG$1>=$J104,AG$1<=IF(AND($J104>$M$1,$K104=\"\"),$M$2,$K104))),$J$3,\"\")","v":""},{"$f":"IF(OR(AND(AH$1>=$J100,AH$1<=IF(AND($J100>$M$1,$K100=\"\"),$M$2,$K100)),AND(AH$1>=$J101,AH$1<=IF(AND($J101>$M$1,$K101=\"\"),$M$2,$K101)),AND(AH$1>=$J102,AH$1<=IF(AND($J102>$M$1,$K102=\"\"),$M$2,$K102)),AND(AH$1>=$J103,AH$1<=IF(AND($J103>$M$1,$K103=\"\"),$M$2,$K103)),AND(AH$1>=$J104,AH$1<=IF(AND($J104>$M$1,$K104=\"\"),$M$2,$K104))),$J$3,\"\")","v":""},{"$f":"IF(OR(AND(AI$1>=$J100,AI$1<=IF(AND($J100>$M$1,$K100=\"\"),$M$2,$K100)),AND(AI$1>=$J101,AI$1<=IF(AND($J101>$M$1,$K101=\"\"),$M$2,$K101)),AND(AI$1>=$J102,AI$1<=IF(AND($J102>$M$1,$K102=\"\"),$M$2,$K102)),AND(AI$1>=$J103,AI$1<=IF(AND($J103>$M$1,$K103=\"\"),$M$2,$K103)),AND(AI$1>=$J104,AI$1<=IF(AND($J104>$M$1,$K104=\"\"),$M$2,$K104))),$J$3,\"\")","v":""},{"$f":"IF(OR(AND(AJ$1>=$J100,AJ$1<=IF(AND($J100>$M$1,$K100=\"\"),$M$2,$K100)),AND(AJ$1>=$J101,AJ$1<=IF(AND($J101>$M$1,$K101=\"\"),$M$2,$K101)),AND(AJ$1>=$J102,AJ$1<=IF(AND($J102>$M$1,$K102=\"\"),$M$2,$K102)),AND(AJ$1>=$J103,AJ$1<=IF(AND($J103>$M$1,$K103=\"\"),$M$2,$K103)),AND(AJ$1>=$J104,AJ$1<=IF(AND($J104>$M$1,$K104=\"\"),$M$2,$K104))),$J$3,\"\")","v":""},{"$f":"IF(OR(AND(AK$1>=$J100,AK$1<=IF(AND($J100>$M$1,$K100=\"\"),$M$2,$K100)),AND(AK$1>=$J101,AK$1<=IF(AND($J101>$M$1,$K101=\"\"),$M$2,$K101)),AND(AK$1>=$J102,AK$1<=IF(AND($J102>$M$1,$K102=\"\"),$M$2,$K102)),AND(AK$1>=$J103,AK$1<=IF(AND($J103>$M$1,$K103=\"\"),$M$2,$K103)),AND(AK$1>=$J104,AK$1<=IF(AND($J104>$M$1,$K104=\"\"),$M$2,$K104))),$J$3,\"\")","v":""},{"$f":"IF(OR(AND(AL$1>=$J100,AL$1<=IF(AND($J100>$M$1,$K100=\"\"),$M$2,$K100)),AND(AL$1>=$J101,AL$1<=IF(AND($J101>$M$1,$K101=\"\"),$M$2,$K101)),AND(AL$1>=$J102,AL$1<=IF(AND($J102>$M$1,$K102=\"\"),$M$2,$K102)),AND(AL$1>=$J103,AL$1<=IF(AND($J103>$M$1,$K103=\"\"),$M$2,$K103)),AND(AL$1>=$J104,AL$1<=IF(AND($J104>$M$1,$K104=\"\"),$M$2,$K104))),$J$3,\"\")","v":""},{"$f":"IF(OR(AND(AM$1>=$J100,AM$1<=IF(AND($J100>$M$1,$K100=\"\"),$M$2,$K100)),AND(AM$1>=$J101,AM$1<=IF(AND($J101>$M$1,$K101=\"\"),$M$2,$K101)),AND(AM$1>=$J102,AM$1<=IF(AND($J102>$M$1,$K102=\"\"),$M$2,$K102)),AND(AM$1>=$J103,AM$1<=IF(AND($J103>$M$1,$K103=\"\"),$M$2,$K103)),AND(AM$1>=$J104,AM$1<=IF(AND($J104>$M$1,$K104=\"\"),$M$2,$K104))),$J$3,\"\")","v":""},{"$f":"IF(OR(AND(AN$1>=$J100,AN$1<=IF(AND($J100>$M$1,$K100=\"\"),$M$2,$K100)),AND(AN$1>=$J101,AN$1<=IF(AND($J101>$M$1,$K101=\"\"),$M$2,$K101)),AND(AN$1>=$J102,AN$1<=IF(AND($J102>$M$1,$K102=\"\"),$M$2,$K102)),AND(AN$1>=$J103,AN$1<=IF(AND($J103>$M$1,$K103=\"\"),$M$2,$K103)),AND(AN$1>=$J104,AN$1<=IF(AND($J104>$M$1,$K104=\"\"),$M$2,$K104))),$J$3,\"\")","v":""},{"$f":"IF(OR(AND(AO$1>=$J100,AO$1<=IF(AND($J100>$M$1,$K100=\"\"),$M$2,$K100)),AND(AO$1>=$J101,AO$1<=IF(AND($J101>$M$1,$K101=\"\"),$M$2,$K101)),AND(AO$1>=$J102,AO$1<=IF(AND($J102>$M$1,$K102=\"\"),$M$2,$K102)),AND(AO$1>=$J103,AO$1<=IF(AND($J103>$M$1,$K103=\"\"),$M$2,$K103)),AND(AO$1>=$J104,AO$1<=IF(AND($J104>$M$1,$K104=\"\"),$M$2,$K104))),$J$3,\"\")","v":""},{"$f":"IF(AP$1=\"\",\"\",IF(OR(AND(AP$1>=$J100,AP$1<=IF(AND($J100>$M$1,$K100=\"\"),$M$2,$K100)),AND(AP$1>=$J101,AP$1<=IF(AND($J101>$M$1,$K101=\"\"),$M$2,$K101)),AND(AP$1>=$J102,AP$1<=IF(AND($J102>$M$1,$K102=\"\"),$M$2,$K102)),AND(AP$1>=$J103,AP$1<=IF(AND($J103>$M$1,$K103=\"\"),$M$2,$K103)),AND(AP$1>=$J104,AP$1<=IF(AND($J104>$M$1,$K104=\"\"),$M$2,$K104))),$J$3,\"\"))","v":""},{"$f":"IF(AQ$1=\"\",\"\",IF(OR(AND(AQ$1>=$J100,AQ$1<=IF(AND($J100>$M$1,$K100=\"\"),$M$2,$K100)),AND(AQ$1>=$J101,AQ$1<=IF(AND($J101>$M$1,$K101=\"\"),$M$2,$K101)),AND(AQ$1>=$J102,AQ$1<=IF(AND($J102>$M$1,$K102=\"\"),$M$2,$K102)),AND(AQ$1>=$J103,AQ$1<=IF(AND($J103>$M$1,$K103=\"\"),$M$2,$K103)),AND(AQ$1>=$J104,AQ$1<=IF(AND($J104>$M$1,$K104=\"\"),$M$2,$K104))),$J$3,\"\"))","v":""},{"$f":"IF(AR$1=\"\",\"\",IF(OR(AND(AR$1>=$J100,AR$1<=IF(AND($J100>$M$1,$K100=\"\"),$M$2,$K100)),AND(AR$1>=$J101,AR$1<=IF(AND($J101>$M$1,$K101=\"\"),$M$2,$K101)),AND(AR$1>=$J102,AR$1<=IF(AND($J102>$M$1,$K102=\"\"),$M$2,$K102)),AND(AR$1>=$J103,AR$1<=IF(AND($J103>$M$1,$K103=\"\"),$M$2,$K103)),AND(AR$1>=$J104,AR$1<=IF(AND($J104>$M$1,$K104=\"\"),$M$2,$K104))),$J$3,\"\"))","v":""}]
[{"$f":"стр.1!C53","v":5119},{"$f":"IFERROR(VLOOKUP(A105,стр.1!$A$13:$D$106,2,FALSE),\"\")","v":"Зубов"},{"$f":"IFERROR(VLOOKUP(A105,стр.1!$A$13:$D$106,4,FALSE),\"\")","v":"сборная"},null,null,null,null,null,null,null,null,null,null,{"$f":"N106&N107&N108&N109","v":""},{"$f":"O106&O107&O108&O109","v":""},{"$f":"P106&P107&P108&P109","v":""},{"$f":"Q106&Q107&Q108&Q109","v":""},{"$f":"R106&R107&R108&R109","v":""},{"$f":"S106&S107&S108&S109","v":""},{"$f":"T106&T107&T108&T109","v":""},{"$f":"U106&U107&U108&U109","v":""},{"$f":"V106&V107&V108&V109","v":""},{"$f":"W106&W107&W108&W109","v":""},{"$f":"X106&X107&X108&X109","v":""},{"$f":"Y106&Y107&Y108&Y109","v":""},{"$f":"Z106&Z107&Z108&Z109","v":""},{"$f":"AA106&AA107&AA108&AA109","v":""},{"$f":"AB106&AB107&AB108&AB109","v":""},{"$f":"AC106&AC107&AC108&AC109","v":""},{"$f":"AD106&AD107&AD108&AD109","v":""},{"$f":"AE106&AE107&AE108&AE109","v":""},{"$f":"AF106&AF107&AF108&AF109","v":""},{"$f":"AG106&AG107&AG108&AG109","v":""},{"$f":"AH106&AH107&AH108&AH109","v":""},{"$f":"AI106&AI107&AI108&AI109","v":""},{"$f":"AJ106&AJ107&AJ108&AJ109","v":""},{"$f":"AK106&AK107&AK108&AK109","v":""},{"$f":"AL106&AL107&AL108&AL109","v":""},{"$f":"AM106&AM107&AM108&AM109","v":""},{"$f":"AN106&AN107&AN108&AN109","v":""},{"$f":"AO106&AO107&AO108&AO109","v":""},{"$f":"AP106&AP107&AP108&AP109","v":""},{"$f":"AQ106&AQ107&AQ108&AQ109","v":""},{"$f":"AR106&AR107&AR108&AR109","v":""}]
[null,null,null,null,null,null,null,null,null,null,null,null,null,{"$f":"IF(OR(AND(N$1>=$D105,N$1<=IF(AND($D105>$M$1,$E105=\"\"),$M$2,$E105)),AND(N$1>=$D106,N$1<=IF(AND($D106>$M$1,$E106=\"\"),$M$2,$E106)),AND(N$1>=$D107,N$1<=IF(AND($D107>$M$1,$E107=\"\"),$M$2,$E107)),AND(N$1>=$D108,N$1<=IF(AND($D108>$M$1,$E108=\"\"),$M$2,$E108))),$D$3,\"\")","v":""},{"$f":"IF(OR(AND(O$1>=$D105,O$1<=IF(AND($D105>$M$1,$E105=\"\"),$M$2,$E105)),AND(O$1>=$D106,O$1<=IF(AND($D106>$M$1,$E106=\"\"),$M$2,$E106)),AND(O$1>=$D107,O$1<=IF(AND($D107>$M$1,$E107=\"\"),$M$2,$E107)),AND(O$1>=$D108,O$1<=IF(AND($D108>$M$1,$E108=\"\"),$M$2,$E108))),$D$3,\"\")","v":""},"","","","","","","","","","","","","","","","","","","","","","","","","","",{"$f":"IF(AP$1=\"\",\"\",IF(OR(AND(AP$1>=$D105,AP$1<=IF(AND($D105>$M$1,$E105=\"\"),$M$2,$E105)),AND(AP$1>=$D106,AP$1<=IF(AND($D106>$M$1,$E106=\"\"),$M$2,$E106)),AND(AP$1>=$D107,AP$1<=IF(AND($D107>$M$1,$E107=\"\"),$M$2,$E107)),AND(AP$1>=$D108,AP$1<=IF(AND($D108>$M$1,$E108=\"\"),$M$2,$E108))),$D$3,\"\"))","v":""},{"$f":"IF(AQ$1=\"\",\"\",IF(OR(AND(AQ$1>=$D105,AQ$1<=IF(AND($D105>$M$1,$E105=\"\"),$M$2,$E105)),AND(AQ$1>=$D106,AQ$1<=IF(AND($D106>$M$1,$E106=\"\"),$M$2,$E106)),AND(AQ$1>=$D107,AQ$1<=IF(AND($D107>$M$1,$E107=\"\"),$M$2,$E107)),AND(AQ$1>=$D108,AQ$1<=IF(AND($D108>$M$1,$E108=\"\"),$M$2,$E108))),$D$3,\"\"))","v":""},""]
[null,null,null,null,null,null,null,null,null,null,null,null,null,{"$f":"IF(OR(AND(N$1>=$F105,N$1<=IF(AND($F105>$M$1,$G105=\"\"),$M$2,$G105)),AND(N$1>=$F106,N$1<=IF(AND($F106>$M$1,$G106=\"\"),$M$2,$G106)),AND(N$1>=$F107,N$1<=IF(AND($F107>$M$1,$G107=\"\"),$M$2,$G107)),AND(N$1>=$F108,N$1<=IF(AND($F108>$M$1,$G108=\"\"),$M$2,$G108))),$F$3,\"\")","v":""},{"$f":"IF(OR(AND(O$1>=$F105,O$1<=IF(AND($F105>$M$1,$G105=\"\"),$M$2,$G105)),AND(O$1>=$F106,O$1<=IF(AND($F106>$M$1,$G106=\"\"),$M$2,$G106)),AND(O$1>=$F107,O$1<=IF(AND($F107>$M$1,$G107=\"\"),$M$2,$G107)),AND(O$1>=$F108,O$1<=IF(AND($F108>$M$1,$G108=\"\"),$M$2,$G108))),$F$3,\"\")","v":""},"","","","","","","","","","","","","","","","","","","","","","","","","","",{"$f":"IF(AP$1=\"\",\"\",IF(OR(AND(AP$1>=$F105,AP$1<=IF(AND($F105>$M$1,$G105=\"\"),$M$2,$G105)),AND(AP$1>=$F106,AP$1<=IF(AND($F106>$M$1,$G106=\"\"),$M$2,$G106)),AND(AP$1>=$F107,AP$1<=IF(AND($F107>$M$1,$G107=\"\"),$M$2,$G107)),AND(AP$1>=$F108,AP$1<=IF(AND($F108>$M$1,$G108=\"\"),$M$2,$G108))),$F$3,\"\"))","v":""},{"$f":"IF(AQ$1=\"\",\"\",IF(OR(AND(AQ$1>=$F105,AQ$1<=IF(AND($F105>$M$1,$G105=\"\"),$M$2,$G105)),AND(AQ$1>=$F106,AQ$1<=IF(AND($F106>$M$1,$G106=\"\"),$M$2,$G106)),AND(AQ$1>=$F107,AQ$1<=IF(AND($F107>$M$1,$G107=\"\"),$M$2,$G107)),AND(AQ$1>=$F108,AQ$1<=IF(AND($F108>$M$1,$G108=\"\"),$M$2,$G108))),$F$3,\"\"))","v":""},""]
[null,null,null,null,null,null,null,null,null,null,null,null,null,{"$f":"IF(OR(AND(N$1>=$H105,N$1<=IF(AND($H105>$M$1,$I105=\"\"),$M$2,$I105)),AND(N$1>=$H106,N$1<=IF(AND($H106>$M$1,$I106=\"\"),$M$2,$I106)),AND(N$1>=$H107,N$1<=IF(AND($H107>$M$1,$I107=\"\"),$M$2,$I107)),AND(N$1>=$H108,N$1<=IF(AND($H108>$M$1,$I108=\"\"),$M$2,$I108))),$H$3,\"\")","v":""},"","","","","","","","","","","","","","","","","","","","","","","","","","","",{"$f":"IF(AP$1=\"\",\"\",IF(OR(AND(AP$1>=$H105,AP$1<=IF(AND($H105>$M$1,$I105=\"\"),$M$2,$I105)),AND(AP$1>=$H106,AP$1<=IF(AND($H106>$M$1,$I106=\"\"),$M$2,$I106)),AND(AP$1>=$H107,AP$1<=IF(AND($H107>$M$1,$I107=\"\"),$M$2,$I107)),AND(AP$1>=$H108,AP$1<=IF(AND($H108>$M$1,$I108=\"\"),$M$2,$I108))),$H$3,\"\"))","v":""},{"$f":"IF(AQ$1=\"\",\"\",IF(OR(AND(AQ$1>=$H105,AQ$1<=IF(AND($H105>$M$1,$I105=\"\"),$M$2,$I105)),AND(AQ$1>=$H106,AQ$1<=IF(AND($H106>$M$1,$I106=\"\"),$M$2,$I106)),AND(AQ$1>=$H107,AQ$1<=IF(AND($H107>$M$1,$I107=\"\"),$M$2,$I107)),AND(AQ$1>=$H108,AQ$1<=IF(AND($H108>$M$1,$I108=\"\"),$M$2,$I108))),$H$3,\"\"))","v":""},{"$f":"IF(AR$1=\"\",\"\",IF(OR(AND(AR$1>=$H105,AR$1<=IF(AND($H105>$M$1,$I105=\"\"),$M$2,$I105)),AND(AR$1>=$H106,AR$1<=IF(AND($H106>$M$1,$I106=\"\"),$M$2,$I106)),AND(AR$1>=$H107,AR$1<=IF(AND($H107>$M$1,$I107=\"\"),$M$2,$I107)),AND(AR$1>=$H108,AR$1<=IF(AND($H108>$M$1,$I108=\"\"),$M$2,$I108))),$H$3,\"\"))","v":""}]
[null,null,null,null,null,null,null,null,null,null,null,null,null,{"$f":"IF(OR(AND(N$1>=$J105,N$1<=IF(AND($J105>$M$1,$K105=\"\"),$M$2,$K105)),AND(N$1>=$J106,N$1<=IF(AND($J106>$M$1,$K106=\"\"),$M$2,$K106)),AND(N$1>=$J107,N$1<=IF(AND($J107>$M$1,$K107=\"\"),$M$2,$K107)),AND(N$1>=$J108,N$1<=IF(AND($J108>$M$1,$K108=\"\"),$M$2,$K108)),AND(N$1>=$J109,N$1<=IF(AND($J109>$M$1,$K109=\"\"),$M$2,$K109))),$J$3,\"\")","v":""},{"$f":"IF(OR(AND(O$1>=$J105,O$1<=IF(AND($J105>$M$1,$K105=\"\"),$M$2,$K105)),AND(O$1>=$J106,O$1<=IF(AND($J106>$M$1,$K106=\"\"),$M$2,$K106)),AND(O$1>=$J107,O$1<=IF(AND($J107>$M$1,$K107=\"\"),$M$2,$K107)),AND(O$1>=$J108,O$1<=IF(AND($J108>$M$1,$K108=\"\"),$M$2,$K108)),AND(O$1>=$J109,O$1<=IF(AND($J109>$M$1,$K109=\"\"),$M$2,$K109))),$J$3,\"\")","v":""},{"$f":"IF(OR(AND(P$1>=$J105,P$1<=IF(AND($J105>$M$1,$K105=\"\"),$M$2,$K105)),AND(P$1>=$J106,P$1<=IF(AND($J106>$M$1,$K106=\"\"),$M$2,$K106)),AND(P$1>=$J107,P$1<=IF(AND($J107>$M$1,$K107=\"\"),$M$2,$K107)),AND(P$1>=$J108,P$1<=IF(AND($J108>$M$1,$K108=\"\"),$M$2,$K108)),AND(P$1>=$J109,P$1<=IF(AND($J109>$M$1,$K109=\"\"),$M$2,$K109))),$J$3,\"\")","v":""},{"$f":"IF(OR(AND(Q$1>=$J105,Q$1<=IF(AND($J105>$M$1,$K105=\"\"),$M$2,$K105)),AND(Q$1>=$J106,Q$1<=IF(AND($J106>$M$1,$K106=\"\"),$M$2,$K106)),AND(Q$1>=$J107,Q$1<=IF(AND($J107>$M$1,$K107=\"\"),$M$2,$K107)),AND(Q$1>=$J108,Q$1<=IF(AND($J108>$M$1,$K108=\"\"),$M$2,$K108)),AND(Q$1>=$J109,Q$1<=IF(AND($J109>$M$1,$K109=\"\"),$M$2,$K109))),$J$3,\"\")","v":""},{"$f":"IF(OR(AND(R$1>=$J105,R$1<=IF(AND($J105>$M$1,$K105=\"\"),$M$2,$K105)),AND(R$1>=$J106,R$1<=IF(AND($J106>$M$1,$K106=\"\"),$M$2,$K106)),AND(R$1>=$J107,R$1<=IF(AND($J107>$M$1,$K107=\"\"),$M$2,$K107)),AND(R$1>=$J108,R$1<=IF(AND($J108>$M$1,$K108=\"\"),$M$2,$K108)),AND(R$1>=$J109,R$1<=IF(AND($J109>$M$1,$K109=\"\"),$M$2,$K109))),$J$3,\"\")","v":""},{"$f":"IF(OR(AND(S$1>=$J105,S$1<=IF(AND($J105>$M$1,$K105=\"\"),$M$2,$K105)),AND(S$1>=$J106,S$1<=IF(AND($J106>$M$1,$K106=\"\"),$M$2,$K106)),AND(S$1>=$J107,S$1<=IF(AND($J107>$M$1,$K107=\"\"),$M$2,$K107)),AND(S$1>=$J108,S$1<=IF(AND($J108>$M$1,$K108=\"\"),$M$2,$K108)),AND(S$1>=$J109,S$1<=IF(AND($J109>$M$1,$K109=\"\"),$M$2,$K109))),$J$3,\"\")","v":""},{"$f":"IF(OR(AND(T$1>=$J105,T$1<=IF(AND($J105>$M$1,$K105=\"\"),$M$2,$K105)),AND(T$1>=$J106,T$1<=IF(AND($J106>$M$1,$K106=\"\"),$M$2,$K106)),AND(T$1>=$J107,T$1<=IF(AND($J107>$M$1,$K107=\"\"),$M$2,$K107)),AND(T$1>=$J108,T$1<=IF(AND($J108>$M$1,$K108=\"\"),$M$2,$K108)),AND(T$1>=$J109,T$1<=IF(AND($J109>$M$1,$K109=\"\"),$M$2,$K109))),$J$3,\"\")","v":""},{"$f":"IF(OR(AND(U$1>=$J105,U$1<=IF(AND($J105>$M$1,$K105=\"\"),$M$2,$K105)),AND(U$1>=$J106,U$1<=IF(AND($J106>$M$1,$K106=\"\"),$M$2,$K106)),AND(U$1>=$J107,U$1<=IF(AND($J107>$M$1,$K107=\"\"),$M$2,$K107)),AND(U$1>=$J108,U$1<=IF(AND($J108>$M$1,$K108=\"\"),$M$2,$K108)),AND(U$1>=$J109,U$1<=IF(AND($J109>$M$1,$K109=\"\"),$M$2,$K109))),$J$3,\"\")","v":""},{"$f":"IF(OR(AND(V$1>=$J105,V$1<=IF(AND($J105>$M$1,$K105=\"\"),$M$2,$K105)),AND(V$1>=$J106,V$1<=IF(AND($J106>$M$1,$K106=\"\"),$M$2,$K106)),AND(V$1>=$J107,V$1<=IF(AND($J107>$M$1,$K107=\"\"),$M$2,$K107)),AND(V$1>=$J108,V$1<=IF(AND($J108>$M$1,$K108=\"\"),$M$2,$K108)),AND(V$1>=$J109,V$1<=IF(AND($J109>$M$1,$K109=\"\"),$M$2,$K109))),$J$3,\"\")","v":""},{"$f":"IF(OR(AND(W$1>=$J105,W$1<=IF(AND($J105>$M$1,$K105=\"\"),$M$2,$K105)),AND(W$1>=$J106,W$1<=IF(AND($J106>$M$1,$K106=\"\"),$M$2,$K106)),AND(W$1>=$J107,W$1<=IF(AND($J107>$M$1,$K107=\"\"),$M$2,$K107)),AND(W$1>=$J108,W$1<=IF(AND($J108>$M$1,$K108=\"\"),$M$2,$K108)),AND(W$1>=$J109,W$1<=IF(AND($J109>$M$1,$K109=\"\"),$M$2,$K109))),$J$3,\"\")","v":""},{"$f":"IF(OR(AND(X$1>=$J105,X$1<=IF(AND($J105>$M$1,$K105=\"\"),$M$2,$K105)),AND(X$1>=$J106,X$1<=IF(AND($J106>$M$1,$K106=\"\"),$M$2,$K106)),AND(X$1>=$J107,X$1<=IF(AND($J107>$M$1,$K107=\"\"),$M$2,$K107)),AND(X$1>=$J108,X$1<=IF(AND($J108>$M$1,$K108=\"\"),$M$2,$K108)),AND(X$1>=$J109,X$1<=IF(AND($J109>$M$1,$K109=\"\"),$M$2,$K109))),$J$3,\"\")","v":""},{"$f":"IF(OR(AND(Y$1>=$J105,Y$1<=IF(AND($J105>$M$1,$K105=\"\"),$M$2,$K105)),AND(Y$1>=$J106,Y$1<=IF(AND($J106>$M$1,$K106=\"\"),$M$2,$K106)),AND(Y$1>=$J107,Y$1<=IF(AND($J107>$M$1,$K107=\"\"),$M$2,$K107)),AND(Y$1>=$J108,Y$1<=IF(AND($J108>$M$1,$K108=\"\"),$M$2,$K108)),AND(Y$1>=$J109,Y$1<=IF(AND($J109>$M$1,$K109=\"\"),$M$2,$K109))),$J$3,\"\")","v":""},{"$f":"IF(OR(AND(Z$1>=$J105,Z$1<=IF(AND($J105>$M$1,$K105=\"\"),$M$2,$K105)),AND(Z$1>=$J106,Z$1<=IF(AND($J106>$M$1,$K106=\"\"),$M$2,$K106)),AND(Z$1>=$J107,Z$1<=IF(AND($J107>$M$1,$K107=\"\"),$M$2,$K107)),AND(Z$1>=$J108,Z$1<=IF(AND($J108>$M$1,$K108=\"\"),$M$2,$K108)),AND(Z$1>=$J109,Z$1<=IF(AND($J109>$M$1,$K109=\"\"),$M$2,$K109))),$J$3,\"\")","v":""},{"$f":"IF(OR(AND(AA$1>=$J105,AA$1<=IF(AND($J105>$M$1,$K105=\"\"),$M$2,$K105)),AND(AA$1>=$J106,AA$1<=IF(AND($J106>$M$1,$K106=\"\"),$M$2,$K106)),AND(AA$1>=$J107,AA$1<=IF(AND($J107>$M$1,$K107=\"\"),$M$2,$K107)),AND(AA$1>=$J108,AA$1<=IF(AND($J108>$M$1,$K108=\"\"),$M$2,$K108)),AND(AA$1>=$J109,AA$1<=IF(AND($J109>$M$1,$K109=\"\"),$M$2,$K109))),$J$3,\"\")","v":""},{"$f":"IF(OR(AND(AB$1>=$J105,AB$1<=IF(AND($J105>$M$1,$K105=\"\"),$M$2,$K105)),AND(AB$1>=$J106,AB$1<=IF(AND($J106>$M$1,$K106=\"\"),$M$2,$K106)),AND(AB$1>=$J107,AB$1<=IF(AND($J107>$M$1,$K107=\"\"),$M$2,$K107)),AND(AB$1>=$J108,AB$1<=IF(AND($J108>$M$1,$K108=\"\"),$M$2,$K108)),AND(AB$1>=$J109,AB$1<=IF(AND($J109>$M$1,$K109=\"\"),$M$2,$K109))),$J$3,\"\")","v":""},{"$f":"IF(OR(AND(AC$1>=$J105,AC$1<=IF(AND($J105>$M$1,$K105=\"\"),$M$2,$K105)),AND(AC$1>=$J106,AC$1<=IF(AND($J106>$M$1,$K106=\"\"),$M$2,$K106)),AND(AC$1>=$J107,AC$1<=IF(AND($J107>$M$1,$K107=\"\"),$M$2,$K107)),AND(AC$1>=$J108,AC$1<=IF(AND($J108>$M$1,$K108=\"\"),$M$2,$K108)),AND(AC$1>=$J109,AC$1<=IF(AND($J109>$M$1,$K109=\"\"),$M$2,$K109))),$J$3,\"\")","v":""},{"$f":"IF(OR(AND(AD$1>=$J105,AD$1<=IF(AND($J105>$M$1,$K105=\"\"),$M$2,$K105)),AND(AD$1>=$J106,AD$1<=IF(AND($J106>$M$1,$K106=\"\"),$M$2,$K106)),AND(AD$1>=$J107,AD$1<=IF(AND($J107>$M$1,$K107=\"\"),$M$2,$K107)),AND(AD$1>=$J108,AD$1<=IF(AND($J108>$M$1,$K108=\"\"),$M$2,$K108)),AND(AD$1>=$J109,AD$1<=IF(AND($J109>$M$1,$K109=\"\"),$M$2,$K109))),$J$3,\"\")","v":""},{"$f":"IF(OR(AND(AE$1>=$J105,AE$1<=IF(AND($J105>$M$1,$K105=\"\"),$M$2,$K105)),AND(AE$1>=$J106,AE$1<=IF(AND($J106>$M$1,$K106=\"\"),$M$2,$K106)),AND(AE$1>=$J107,AE$1<=IF(AND($J107>$M$1,$K107=\"\"),$M$2,$K107)),AND(AE$1>=$J108,AE$1<=IF(AND($J108>$M$1,$K108=\"\"),$M$2,$K108)),AND(AE$1>=$J109,AE$1<=IF(AND($J109>$M$1,$K109=\"\"),$M$2,$K109))),$J$3,\"\")","v":""},{"$f":"IF(OR(AND(AF$1>=$J105,AF$1<=IF(AND($J105>$M$1,$K105=\"\"),$M$2,$K105)),AND(AF$1>=$J106,AF$1<=IF(AND($J106>$M$1,$K106=\"\"),$M$2,$K106)),AND(AF$1>=$J107,AF$1<=IF(AND($J107>$M$1,$K107=\"\"),$M$2,$K107)),AND(AF$1>=$J108,AF$1<=IF(AND($J108>$M$1,$K108=\"\"),$M$2,$K108)),AND(AF$1>=$J109,AF$1<=IF(AND($J109>$M$1,$K109=\"\"),$M$2,$K109))),$J$3,\"\")","v":""},{"$f":"IF(OR(AND(AG$1>=$J105,AG$1<=IF(AND($J105>$M$1,$K105=\"\"),$M$2,$K105)),AND(AG$1>=$J106,AG$1<=IF(AND($J106>$M$1,$K106=\"\"),$M$2,$K106)),AND(AG$1>=$J107,AG$1<=IF(AND($J107>$M$1,$K107=\"\"),$M$2,$K107)),AND(AG$1>=$J108,AG$1<=IF(AND($J108>$M$1,$K108=\"\"),$M$2,$K108)),AND(AG$1>=$J109,AG$1<=IF(AND($J109>$M$1,$K109=\"\"),$M$2,$K109))),$J$3,\"\")","v":""},{"$f":"IF(OR(AND(AH$1>=$J105,AH$1<=IF(AND($J105>$M$1,$K105=\"\"),$M$2,$K105)),AND(AH$1>=$J106,AH$1<=IF(AND($J106>$M$1,$K106=\"\"),$M$2,$K106)),AND(AH$1>=$J107,AH$1<=IF(AND($J107>$M$1,$K107=\"\"),$M$2,$K107)),AND(AH$1>=$J108,AH$1<=IF(AND($J108>$M$1,$K108=\"\"),$M$2,$K108)),AND(AH$1>=$J109,AH$1<=IF(AND($J109>$M$1,$K109=\"\"),$M$2,$K109))),$J$3,\"\")","v":""},{"$f":"IF(OR(AND(AI$1>=$J105,AI$1<=IF(AND($J105>$M$1,$K105=\"\"),$M$2,$K105)),AND(AI$1>=$J106,AI$1<=IF(AND($J106>$M$1,$K106=\"\"),$M$2,$K106)),AND(AI$1>=$J107,AI$1<=IF(AND($J107>$M$1,$K107=\"\"),$M$2,$K107)),AND(AI$1>=$J108,AI$1<=IF(AND($J108>$M$1,$K108=\"\"),$M$2,$K108)),AND(AI$1>=$J109,AI$1<=IF(AND($J109>$M$1,$K109=\"\"),$M$2,$K109))),$J$3,\"\")","v":""},{"$f":"IF(OR(AND(AJ$1>=$J105,AJ$1<=IF(AND($J105>$M$1,$K105=\"\"),$M$2,$K105)),AND(AJ$1>=$J106,AJ$1<=IF(AND($J106>$M$1,$K106=\"\"),$M$2,$K106)),AND(AJ$1>=$J107,AJ$1<=IF(AND($J107>$M$1,$K107=\"\"),$M$2,$K107)),AND(AJ$1>=$J108,AJ$1<=IF(AND($J108>$M$1,$K108=\"\"),$M$2,$K108)),AND(AJ$1>=$J109,AJ$1<=IF(AND($J109>$M$1,$K109=\"\"),$M$2,$K109))),$J$3,\"\")","v":""},{"$f":"IF(OR(AND(AK$1>=$J105,AK$1<=IF(AND($J105>$M$1,$K105=\"\"),$M$2,$K105)),AND(AK$1>=$J106,AK$1<=IF(AND($J106>$M$1,$K106=\"\"),$M$2,$K106)),AND(AK$1>=$J107,AK$1<=IF(AND($J107>$M$1,$K107=\"\"),$M$2,$K107)),AND(AK$1>=$J108,AK$1<=IF(AND($J108>$M$1,$K108=\"\"),$M$2,$K108)),AND(AK$1>=$J109,AK$1<=IF(AND($J109>$M$1,$K109=\"\"),$M$2,$K109))),$J$3,\"\")","v":""},{"$f":"IF(OR(AND(AL$1>=$J105,AL$1<=IF(AND($J105>$M$1,$K105=\"\"),$M$2,$K105)),AND(AL$1>=$J106,AL$1<=IF(AND($J106>$M$1,$K106=\"\"),$M$2,$K106)),AND(AL$1>=$J107,AL$1<=IF(AND($J107>$M$1,$K107=\"\"),$M$2,$K107)),AND(AL$1>=$J108,AL$1<=IF(AND($J108>$M$1,$K108=\"\"),$M$2,$K108)),AND(AL$1>=$J109,AL$1<=IF(AND($J109>$M$1,$K109=\"\"),$M$2,$K109))),$J$3,\"\")","v":""},{"$f":"IF(OR(AND(AM$1>=$J105,AM$1<=IF(AND($J105>$M$1,$K105=\"\"),$M$2,$K105)),AND(AM$1>=$J106,AM$1<=IF(AND($J106>$M$1,$K106=\"\"),$M$2,$K106)),AND(AM$1>=$J107,AM$1<=IF(AND($J107>$M$1,$K107=\"\"),$M$2,$K107)),AND(AM$1>=$J108,AM$1<=IF(AND($J108>$M$1,$K108=\"\"),$M$2,$K108)),AND(AM$1>=$J109,AM$1<=IF(AND($J109>$M$1,$K109=\"\"),$M$2,$K109))),$J$3,\"\")","v":""},{"$f":"IF(OR(AND(AN$1>=$J105,AN$1<=IF(AND($J105>$M$1,$K105=\"\"),$M$2,$K105)),AND(AN$1>=$J106,AN$1<=IF(AND($J106>$M$1,$K106=\"\"),$M$2,$K106)),AND(AN$1>=$J107,AN$1<=IF(AND($J107>$M$1,$K107=\"\"),$M$2,$K107)),AND(AN$1>=$J108,AN$1<=IF(AND($J108>$M$1,$K108=\"\"),$M$2,$K108)),AND(AN$1>=$J109,AN$1<=IF(AND($J109>$M$1,$K109=\"\"),$M$2,$K109))),$J$3,\"\")","v":""},{"$f":"IF(OR(AND(AO$1>=$J105,AO$1<=IF(AND($J105>$M$1,$K105=\"\"),$M$2,$K105)),AND(AO$1>=$J106,AO$1<=IF(AND($J106>$M$1,$K106=\"\"),$M$2,$K106)),AND(AO$1>=$J107,AO$1<=IF(AND($J107>$M$1,$K107=\"\"),$M$2,$K107)),AND(AO$1>=$J108,AO$1<=IF(AND($J108>$M$1,$K108=\"\"),$M$2,$K108)),AND(AO$1>=$J109,AO$1<=IF(AND($J109>$M$1,$K109=\"\"),$M$2,$K109))),$J$3,\"\")","v":""},{"$f":"IF(AP$1=\"\",\"\",IF(OR(AND(AP$1>=$J105,AP$1<=IF(AND($J105>$M$1,$K105=\"\"),$M$2,$K105)),AND(AP$1>=$J106,AP$1<=IF(AND($J106>$M$1,$K106=\"\"),$M$2,$K106)),AND(AP$1>=$J107,AP$1<=IF(AND($J107>$M$1,$K107=\"\"),$M$2,$K107)),AND(AP$1>=$J108,AP$1<=IF(AND($J108>$M$1,$K108=\"\"),$M$2,$K108)),AND(AP$1>=$J109,AP$1<=IF(AND($J109>$M$1,$K109=\"\"),$M$2,$K109))),$J$3,\"\"))","v":""},{"$f":"IF(AQ$1=\"\",\"\",IF(OR(AND(AQ$1>=$J105,AQ$1<=IF(AND($J105>$M$1,$K105=\"\"),$M$2,$K105)),AND(AQ$1>=$J106,AQ$1<=IF(AND($J106>$M$1,$K106=\"\"),$M$2,$K106)),AND(AQ$1>=$J107,AQ$1<=IF(AND($J107>$M$1,$K107=\"\"),$M$2,$K107)),AND(AQ$1>=$J108,AQ$1<=IF(AND($J108>$M$1,$K108=\"\"),$M$2,$K108)),AND(AQ$1>=$J109,AQ$1<=IF(AND($J109>$M$1,$K109=\"\"),$M$2,$K109))),$J$3,\"\"))","v":""},{"$f":"IF(AR$1=\"\",\"\",IF(OR(AND(AR$1>=$J105,AR$1<=IF(AND($J105>$M$1,$K105=\"\"),$M$2,$K105)),AND(AR$1>=$J106,AR$1<=IF(AND($J106>$M$1,$K106=\"\"),$M$2,$K106)),AND(AR$1>=$J107,AR$1<=IF(AND($J107>$M$1,$K107=\"\"),$M$2,$K107)),AND(AR$1>=$J108,AR$1<=IF(AND($J108>$M$1,$K108=\"\"),$M$2,$K108)),AND(AR$1>=$J109,AR$1<=IF(AND($J109>$M$1,$K109=\"\"),$M$2,$K109))),$J$3,\"\"))","v":""}]
[{"$f":"стр.1!C55","v":5140},{"$f":"IFERROR(VLOOKUP(A110,стр.1!$A$13:$D$106,2,FALSE),\"\")","v":"Семин"},{"$f":"IFERROR(VLOOKUP(A110,стр.1!$A$13:$D$106,4,FALSE),\"\")","v":"сборная"},null,null,null,null,null,null,null,null,null,null,{"$f":"N111&N112&N113&N114","v":""},{"$f":"O111&O112&O113&O114","v":""},{"$f":"P111&P112&P113&P114","v":""},{"$f":"Q111&Q112&Q113&Q114","v":""},{"$f":"R111&R112&R113&R114","v":""},{"$f":"S111&S112&S113&S114","v":""},{"$f":"T111&T112&T113&T114","v":""},{"$f":"U111&U112&U113&U114","v":""},{"$f":"V111&V112&V113&V114","v":""},{"$f":"W111&W112&W113&W114","v":""},{"$f":"X111&X112&X113&X114","v":""},{"$f":"Y111&Y112&Y113&Y114","v":""},{"$f":"Z111&Z112&Z113&Z114","v":""},{"$f":"AA111&AA112&AA113&AA114","v":""},{"$f":"AB111&AB112&AB113&AB114","v":""},{"$f":"AC111&AC112&AC113&AC114","v":""},{"$f":"AD111&AD112&AD113&AD114","v":""},{"$f":"AE111&AE112&AE113&AE114","v":""},{"$f":"AF111&AF112&AF113&AF114","v":""},{"$f":"AG111&AG112&AG113&AG114","v":""},{"$f":"AH111&AH112&AH113&AH114","v":""},{"$f":"AI111&AI112&AI113&AI114","v":""},{"$f":"AJ111&AJ112&AJ113&AJ114","v":""},{"$f":"AK111&AK112&AK113&AK114","v":""},{"$f":"AL111&AL112&AL113&AL114","v":""},{"$f":"AM111&AM112&AM113&AM114","v":""},{"$f":"AN111&AN112&AN113&AN114","v":""},{"$f":"AO111&AO112&AO113&AO114","v":""},{"$f":"AP111&AP112&AP113&AP114","v":""},{"$f":"AQ111&AQ112&AQ113&AQ114","v":""},{"$f":"AR111&AR112&AR113&AR114","v":""}]
[null,null,null,null,null,null,null,null,null,null,null,null,null,{"$f":"IF(OR(AND(N$1>=$D110,N$1<=IF(AND($D110>$M$1,$E110=\"\"),$M$2,$E110)),AND(N$1>=$D111,N$1<=IF(AND($D111>$M$1,$E111=\"\"),$M$2,$E111)),AND(N$1>=$D112,N$1<=IF(AND($D112>$M$1,$E112=\"\"),$M$2,$E112)),AND(N$1>=$D113,N$1<=IF(AND($D113>$M$1,$E113=\"\"),$M$2,$E113))),$D$3,\"\")","v":""},{"$f":"IF(OR(AND(O$1>=$D110,O$1<=IF(AND($D110>$M$1,$E110=\"\"),$M$2,$E110)),AND(O$1>=$D111,O$1<=IF(AND($D111>$M$1,$E111=\"\"),$M$2,$E111)),AND(O$1>=$D112,O$1<=IF(AND($D112>$M$1,$E112=\"\"),$M$2,$E112)),AND(O$1>=$D113,O$1<=IF(AND($D113>$M$1,$E113=\"\"),$M$2,$E113))),$D$3,\"\")","v":""},"","","","","","","","","","","","","","","","","","","","","","","","","","",{"$f":"IF(AP$1=\"\",\"\",IF(OR(AND(AP$1>=$D110,AP$1<=IF(AND($D110>$M$1,$E110=\"\"),$M$2,$E110)),AND(AP$1>=$D111,AP$1<=IF(AND($D111>$M$1,$E111=\"\"),$M$2,$E111)),AND(AP$1>=$D112,AP$1<=IF(AND($D112>$M$1,$E112=\"\"),$M$2,$E112)),AND(AP$1>=$D113,AP$1<=IF(AND($D113>$M$1,$E113=\"\"),$M$2,$E113))),$D$3,\"\"))","v":""},{"$f":"IF(AQ$1=\"\",\"\",IF(OR(AND(AQ$1>=$D110,AQ$1<=IF(AND($D110>$M$1,$E110=\"\"),$M$2,$E110)),AND(AQ$1>=$D111,AQ$1<=IF(AND($D111>$M$1,$E111=\"\"),$M$2,$E111)),AND(AQ$1>=$D112,AQ$1<=IF(AND($D112>$M$1,$E112=\"\"),$M$2,$E112)),AND(AQ$1>=$D113,AQ$1<=IF(AND($D113>$M$1,$E113=\"\"),$M$2,$E113))),$D$3,\"\"))","v":""},""]
[null,null,null,null,null,null,null,null,null,null,null,null,null,{"$f":"IF(OR(AND(N$1>=$F110,N$1<=IF(AND($F110>$M$1,$G110=\"\"),$M$2,$G110)),AND(N$1>=$F111,N$1<=IF(AND($F111>$M$1,$G111=\"\"),$M$2,$G111)),AND(N$1>=$F112,N$1<=IF(AND($F112>$M$1,$G112=\"\"),$M$2,$G112)),AND(N$1>=$F113,N$1<=IF(AND($F113>$M$1,$G113=\"\"),$M$2,$G113))),$F$3,\"\")","v":""},{"$f":"IF(OR(AND(O$1>=$F110,O$1<=IF(AND($F110>$M$1,$G110=\"\"),$M$2,$G110)),AND(O$1>=$F111,O$1<=IF(AND($F111>$M$1,$G111=\"\"),$M$2,$G111)),AND(O$1>=$F112,O$1<=IF(AND($F112>$M$1,$G112=\"\"),$M$2,$G112)),AND(O$1>=$F113,O$1<=IF(AND($F113>$M$1,$G113=\"\"),$M$2,$G113))),$F$3,\"\")","v":""},"","","","","","","","","","","","","","","","","","","","","","","","","","",{"$f":"IF(AP$1=\"\",\"\",IF(OR(AND(AP$1>=$F110,AP$1<=IF(AND($F110>$M$1,$G110=\"\"),$M$2,$G110)),AND(AP$1>=$F111,AP$1<=IF(AND($F111>$M$1,$G111=\"\"),$M$2,$G111)),AND(AP$1>=$F112,AP$1<=IF(AND($F112>$M$1,$G112=\"\"),$M$2,$G112)),AND(AP$1>=$F113,AP$1<=IF(AND($F113>$M$1,$G113=\"\"),$M$2,$G113))),$F$3,\"\"))","v":""},{"$f":"IF(AQ$1=\"\",\"\",IF(OR(AND(AQ$1>=$F110,AQ$1<=IF(AND($F110>$M$1,$G110=\"\"),$M$2,$G110)),AND(AQ$1>=$F111,AQ$1<=IF(AND($F111>$M$1,$G111=\"\"),$M$2,$G111)),AND(AQ$1>=$F112,AQ$1<=IF(AND($F112>$M$1,$G112=\"\"),$M$2,$G112)),AND(AQ$1>=$F113,AQ$1<=IF(AND($F113>$M$1,$G113=\"\"),$M$2,$G113))),$F$3,\"\"))","v":""},""]
[null,null,null,null,null,null,null,null,null,null,null,null,null,{"$f":"IF(OR(AND(N$1>=$H110,N$1<=IF(AND($H110>$M$1,$I110=\"\"),$M$2,$I110)),AND(N$1>=$H111,N$1<=IF(AND($H111>$M$1,$I111=\"\"),$M$2,$I111)),AND(N$1>=$H112,N$1<=IF(AND($H112>$M$1,$I112=\"\"),$M$2,$I112)),AND(N$1>=$H113,N$1<=IF(AND($H113>$M$1,$I113=\"\"),$M$2,$I113))),$H$3,\"\")","v":""},"","","","","","","","","","","","","","","","","","","","","","","","","","","",{"$f":"IF(AP$1=\"\",\"\",IF(OR(AND(AP$1>=$H110,AP$1<=IF(AND($H110>$M$1,$I110=\"\"),$M$2,$I110)),AND(AP$1>=$H111,AP$1<=IF(AND($H111>$M$1,$I111=\"\"),$M$2,$I111)),AND(AP$1>=$H112,AP$1<=IF(AND($H112>$M$1,$I112=\"\"),$M$2,$I112)),AND(AP$1>=$H113,AP$1<=IF(AND($H113>$M$1,$I113=\"\"),$M$2,$I113))),$H$3,\"\"))","v":""},{"$f":"IF(AQ$1=\"\",\"\",IF(OR(AND(AQ$1>=$H110,AQ$1<=IF(AND($H110>$M$1,$I110=\"\"),$M$2,$I110)),AND(AQ$1>=$H111,AQ$1<=IF(AND($H111>$M$1,$I111=\"\"),$M$2,$I111)),AND(AQ$1>=$H112,AQ$1<=IF(AND($H112>$M$1,$I112=\"\"),$M$2,$I112)),AND(AQ$1>=$H113,AQ$1<=IF(AND($H113>$M$1,$I113=\"\"),$M$2,$I113))),$H$3,\"\"))","v":""},{"$f":"IF(AR$1=\"\",\"\",IF(OR(AND(AR$1>=$H110,AR$1<=IF(AND($H110>$M$1,$I110=\"\"),$M$2,$I110)),AND(AR$1>=$H111,AR$1<=IF(AND($H111>$M$1,$I111=\"\"),$M$2,$I111)),AND(AR$1>=$H112,AR$1<=IF(AND($H112>$M$1,$I112=\"\"),$M$2,$I112)),AND(AR$1>=$H113,AR$1<=IF(AND($H113>$M$1,$I113=\"\"),$M$2,$I113))),$H$3,\"\"))","v":""}]
[null,null,null,null,null,null,null,null,null,null,null,null,null,{"$f":"IF(OR(AND(N$1>=$J110,N$1<=IF(AND($J110>$M$1,$K110=\"\"),$M$2,$K110)),AND(N$1>=$J111,N$1<=IF(AND($J111>$M$1,$K111=\"\"),$M$2,$K111)),AND(N$1>=$J112,N$1<=IF(AND($J112>$M$1,$K112=\"\"),$M$2,$K112)),AND(N$1>=$J113,N$1<=IF(AND($J113>$M$1,$K113=\"\"),$M$2,$K113)),AND(N$1>=$J114,N$1<=IF(AND($J114>$M$1,$K114=\"\"),$M$2,$K114))),$J$3,\"\")","v":""},{"$f":"IF(OR(AND(O$1>=$J110,O$1<=IF(AND($J110>$M$1,$K110=\"\"),$M$2,$K110)),AND(O$1>=$J111,O$1<=IF(AND($J111>$M$1,$K111=\"\"),$M$2,$K111)),AND(O$1>=$J112,O$1<=IF(AND($J112>$M$1,$K112=\"\"),$M$2,$K112)),AND(O$1>=$J113,O$1<=IF(AND($J113>$M$1,$K113=\"\"),$M$2,$K113)),AND(O$1>=$J114,O$1<=IF(AND($J114>$M$1,$K114=\"\"),$M$2,$K114))),$J$3,\"\")","v":""},{"$f":"IF(OR(AND(P$1>=$J110,P$1<=IF(AND($J110>$M$1,$K110=\"\"),$M$2,$K110)),AND(P$1>=$J111,P$1<=IF(AND($J111>$M$1,$K111=\"\"),$M$2,$K111)),AND(P$1>=$J112,P$1<=IF(AND($J112>$M$1,$K112=\"\"),$M$2,$K112)),AND(P$1>=$J113,P$1<=IF(AND($J113>$M$1,$K113=\"\"),$M$2,$K113)),AND(P$1>=$J114,P$1<=IF(AND($J114>$M$1,$K114=\"\"),$M$2,$K114))),$J$3,\"\")","v":""},{"$f":"IF(OR(AND(Q$1>=$J110,Q$1<=IF(AND($J110>$M$1,$K110=\"\"),$M$2,$K110)),AND(Q$1>=$J111,Q$1<=IF(AND($J111>$M$1,$K111=\"\"),$M$2,$K111)),AND(Q$1>=$J112,Q$1<=IF(AND($J112>$M$1,$K112=\"\"),$M$2,$K112)),AND(Q$1>=$J113,Q$1<=IF(AND($J113>$M$1,$K113=\"\"),$M$2,$K113)),AND(Q$1>=$J114,Q$1<=IF(AND($J114>$M$1,$K114=\"\"),$M$2,$K114))),$J$3,\"\")","v":""},{"$f":"IF(OR(AND(R$1>=$J110,R$1<=IF(AND($J110>$M$1,$K110=\"\"),$M$2,$K110)),AND(R$1>=$J111,R$1<=IF(AND($J111>$M$1,$K111=\"\"),$M$2,$K111)),AND(R$1>=$J112,R$1<=IF(AND($J112>$M$1,$K112=\"\"),$M$2,$K112)),AND(R$1>=$J113,R$1<=IF(AND($J113>$M$1,$K113=\"\"),$M$2,$K113)),AND(R$1>=$J114,R$1<=IF(AND($J114>$M$1,$K114=\"\"),$M$2,$K114))),$J$3,\"\")","v":""},{"$f":"IF(OR(AND(S$1>=$J110,S$1<=IF(AND($J110>$M$1,$K110=\"\"),$M$2,$K110)),AND(S$1>=$J111,S$1<=IF(AND($J111>$M$1,$K111=\"\"),$M$2,$K111)),AND(S$1>=$J112,S$1<=IF(AND($J112>$M$1,$K112=\"\"),$M$2,$K112)),AND(S$1>=$J113,S$1<=IF(AND($J113>$M$1,$K113=\"\"),$M$2,$K113)),AND(S$1>=$J114,S$1<=IF(AND($J114>$M$1,$K114=\"\"),$M$2,$K114))),$J$3,\"\")","v":""},{"$f":"IF(OR(AND(T$1>=$J110,T$1<=IF(AND($J110>$M$1,$K110=\"\"),$M$2,$K110)),AND(T$1>=$J111,T$1<=IF(AND($J111>$M$1,$K111=\"\"),$M$2,$K111)),AND(T$1>=$J112,T$1<=IF(AND($J112>$M$1,$K112=\"\"),$M$2,$K112)),AND(T$1>=$J113,T$1<=IF(AND($J113>$M$1,$K113=\"\"),$M$2,$K113)),AND(T$1>=$J114,T$1<=IF(AND($J114>$M$1,$K114=\"\"),$M$2,$K114))),$J$3,\"\")","v":""},{"$f":"IF(OR(AND(U$1>=$J110,U$1<=IF(AND($J110>$M$1,$K110=\"\"),$M$2,$K110)),AND(U$1>=$J111,U$1<=IF(AND($J111>$M$1,$K111=\"\"),$M$2,$K111)),AND(U$1>=$J112,U$1<=IF(AND($J112>$M$1,$K112=\"\"),$M$2,$K112)),AND(U$1>=$J113,U$1<=IF(AND($J113>$M$1,$K113=\"\"),$M$2,$K113)),AND(U$1>=$J114,U$1<=IF(AND($J114>$M$1,$K114=\"\"),$M$2,$K114))),$J$3,\"\")","v":""},{"$f":"IF(OR(AND(V$1>=$J110,V$1<=IF(AND($J110>$M$1,$K110=\"\"),$M$2,$K110)),AND(V$1>=$J111,V$1<=IF(AND($J111>$M$1,$K111=\"\"),$M$2,$K111)),AND(V$1>=$J112,V$1<=IF(AND($J112>$M$1,$K112=\"\"),$M$2,$K112)),AND(V$1>=$J113,V$1<=IF(AND($J113>$M$1,$K113=\"\"),$M$2,$K113)),AND(V$1>=$J114,V$1<=IF(AND($J114>$M$1,$K114=\"\"),$M$2,$K114))),$J$3,\"\")","v":""},{"$f":"IF(OR(AND(W$1>=$J110,W$1<=IF(AND($J110>$M$1,$K110=\"\"),$M$2,$K110)),AND(W$1>=$J111,W$1<=IF(AND($J111>$M$1,$K111=\"\"),$M$2,$K111)),AND(W$1>=$J112,W$1<=IF(AND($J112>$M$1,$K112=\"\"),$M$2,$K112)),AND(W$1>=$J113,W$1<=IF(AND($J113>$M$1,$K113=\"\"),$M$2,$K113)),AND(W$1>=$J114,W$1<=IF(AND($J114>$M$1,$K114=\"\"),$M$2,$K114))),$J$3,\"\")","v":""},{"$f":"IF(OR(AND(X$1>=$J110,X$1<=IF(AND($J110>$M$1,$K110=\"\"),$M$2,$K110)),AND(X$1>=$J111,X$1<=IF(AND($J111>$M$1,$K111=\"\"),$M$2,$K111)),AND(X$1>=$J112,X$1<=IF(AND($J112>$M$1,$K112=\"\"),$M$2,$K112)),AND(X$1>=$J113,X$1<=IF(AND($J113>$M$1,$K113=\"\"),$M$2,$K113)),AND(X$1>=$J114,X$1<=IF(AND($J114>$M$1,$K114=\"\"),$M$2,$K114))),$J$3,\"\")","v":""},{"$f":"IF(OR(AND(Y$1>=$J110,Y$1<=IF(AND($J110>$M$1,$K110=\"\"),$M$2,$K110)),AND(Y$1>=$J111,Y$1<=IF(AND($J111>$M$1,$K111=\"\"),$M$2,$K111)),AND(Y$1>=$J112,Y$1<=IF(AND($J112>$M$1,$K112=\"\"),$M$2,$K112)),AND(Y$1>=$J113,Y$1<=IF(AND($J113>$M$1,$K113=\"\"),$M$2,$K113)),AND(Y$1>=$J114,Y$1<=IF(AND($J114>$M$1,$K114=\"\"),$M$2,$K114))),$J$3,\"\")","v":""},{"$f":"IF(OR(AND(Z$1>=$J110,Z$1<=IF(AND($J110>$M$1,$K110=\"\"),$M$2,$K110)),AND(Z$1>=$J111,Z$1<=IF(AND($J111>$M$1,$K111=\"\"),$M$2,$K111)),AND(Z$1>=$J112,Z$1<=IF(AND($J112>$M$1,$K112=\"\"),$M$2,$K112)),AND(Z$1>=$J113,Z$1<=IF(AND($J113>$M$1,$K113=\"\"),$M$2,$K113)),AND(Z$1>=$J114,Z$1<=IF(AND($J114>$M$1,$K114=\"\"),$M$2,$K114))),$J$3,\"\")","v":""},{"$f":"IF(OR(AND(AA$1>=$J110,AA$1<=IF(AND($J110>$M$1,$K110=\"\"),$M$2,$K110)),AND(AA$1>=$J111,AA$1<=IF(AND($J111>$M$1,$K111=\"\"),$M$2,$K111)),AND(AA$1>=$J112,AA$1<=IF(AND($J112>$M$1,$K112=\"\"),$M$2,$K112)),AND(AA$1>=$J113,AA$1<=IF(AND($J113>$M$1,$K113=\"\"),$M$2,$K113)),AND(AA$1>=$J114,AA$1<=IF(AND($J114>$M$1,$K114=\"\"),$M$2,$K114))),$J$3,\"\")","v":""},{"$f":"IF(OR(AND(AB$1>=$J110,AB$1<=IF(AND($J110>$M$1,$K110=\"\"),$M$2,$K110)),AND(AB$1>=$J111,AB$1<=IF(AND($J111>$M$1,$K111=\"\"),$M$2,$K111)),AND(AB$1>=$J112,AB$1<=IF(AND($J112>$M$1,$K112=\"\"),$M$2,$K112)),AND(AB$1>=$J113,AB$1<=IF(AND($J113>$M$1,$K113=\"\"),$M$2,$K113)),AND(AB$1>=$J114,AB$1<=IF(AND($J114>$M$1,$K114=\"\"),$M$2,$K114))),$J$3,\"\")","v":""},{"$f":"IF(OR(AND(AC$1>=$J110,AC$1<=IF(AND($J110>$M$1,$K110=\"\"),$M$2,$K110)),AND(AC$1>=$J111,AC$1<=IF(AND($J111>$M$1,$K111=\"\"),$M$2,$K111)),AND(AC$1>=$J112,AC$1<=IF(AND($J112>$M$1,$K112=\"\"),$M$2,$K112)),AND(AC$1>=$J113,AC$1<=IF(AND($J113>$M$1,$K113=\"\"),$M$2,$K113)),AND(AC$1>=$J114,AC$1<=IF(AND($J114>$M$1,$K114=\"\"),$M$2,$K114))),$J$3,\"\")","v":""},{"$f":"IF(OR(AND(AD$1>=$J110,AD$1<=IF(AND($J110>$M$1,$K110=\"\"),$M$2,$K110)),AND(AD$1>=$J111,AD$1<=IF(AND($J111>$M$1,$K111=\"\"),$M$2,$K111)),AND(AD$1>=$J112,AD$1<=IF(AND($J112>$M$1,$K112=\"\"),$M$2,$K112)),AND(AD$1>=$J113,AD$1<=IF(AND($J113>$M$1,$K113=\"\"),$M$2,$K113)),AND(AD$1>=$J114,AD$1<=IF(AND($J114>$M$1,$K114=\"\"),$M$2,$K114))),$J$3,\"\")","v":""},{"$f":"IF(OR(AND(AE$1>=$J110,AE$1<=IF(AND($J110>$M$1,$K110=\"\"),$M$2,$K110)),AND(AE$1>=$J111,AE$1<=IF(AND($J111>$M$1,$K111=\"\"),$M$2,$K111)),AND(AE$1>=$J112,AE$1<=IF(AND($J112>$M$1,$K112=\"\"),$M$2,$K112)),AND(AE$1>=$J113,AE$1<=IF(AND($J113>$M$1,$K113=\"\"),$M$2,$K113)),AND(AE$1>=$J114,AE$1<=IF(AND($J114>$M$1,$K114=\"\"),$M$2,$K114))),$J$3,\"\")","v":""},{"$f":"IF(OR(AND(AF$1>=$J110,AF$1<=IF(AND($J110>$M$1,$K110=\"\"),$M$2,$K110)),AND(AF$1>=$J111,AF$1<=IF(AND($J111>$M$1,$K111=\"\"),$M$2,$K111)),AND(AF$1>=$J112,AF$1<=IF(AND($J112>$M$1,$K112=\"\"),$M$2,$K112)),AND(AF$1>=$J113,AF$1<=IF(AND($J113>$M$1,$K113=\"\"),$M$2,$K113)),AND(AF$1>=$J114,AF$1<=IF(AND($J114>$M$1,$K114=\"\"),$M$2,$K114))),$J$3,\"\")","v":""},{"$f":"IF(OR(AND(AG$1>=$J110,AG$1<=IF(AND($J110>$M$1,$K110=\"\"),$M$2,$K110)),AND(AG$1>=$J111,AG$1<=IF(AND($J111>$M$1,$K111=\"\"),$M$2,$K111)),AND(AG$1>=$J112,AG$1<=IF(AND($J112>$M$1,$K112=\"\"),$M$2,$K112)),AND(AG$1>=$J113,AG$1<=IF(AND($J113>$M$1,$K113=\"\"),$M$2,$K113)),AND(AG$1>=$J114,AG$1<=IF(AND($J114>$M$1,$K114=\"\"),$M$2,$K114))),$J$3,\"\")","v":""},{"$f":"IF(OR(AND(AH$1>=$J110,AH$1<=IF(AND($J110>$M$1,$K110=\"\"),$M$2,$K110)),AND(AH$1>=$J111,AH$1<=IF(AND($J111>$M$1,$K111=\"\"),$M$2,$K111)),AND(AH$1>=$J112,AH$1<=IF(AND($J112>$M$1,$K112=\"\"),$M$2,$K112)),AND(AH$1>=$J113,AH$1<=IF(AND($J113>$M$1,$K113=\"\"),$M$2,$K113)),AND(AH$1>=$J114,AH$1<=IF(AND($J114>$M$1,$K114=\"\"),$M$2,$K114))),$J$3,\"\")","v":""},{"$f":"IF(OR(AND(AI$1>=$J110,AI$1<=IF(AND($J110>$M$1,$K110=\"\"),$M$2,$K110)),AND(AI$1>=$J111,AI$1<=IF(AND($J111>$M$1,$K111=\"\"),$M$2,$K111)),AND(AI$1>=$J112,AI$1<=IF(AND($J112>$M$1,$K112=\"\"),$M$2,$K112)),AND(AI$1>=$J113,AI$1<=IF(AND($J113>$M$1,$K113=\"\"),$M$2,$K113)),AND(AI$1>=$J114,AI$1<=IF(AND($J114>$M$1,$K114=\"\"),$M$2,$K114))),$J$3,\"\")","v":""},{"$f":"IF(OR(AND(AJ$1>=$J110,AJ$1<=IF(AND($J110>$M$1,$K110=\"\"),$M$2,$K110)),AND(AJ$1>=$J111,AJ$1<=IF(AND($J111>$M$1,$K111=\"\"),$M$2,$K111)),AND(AJ$1>=$J112,AJ$1<=IF(AND($J112>$M$1,$K112=\"\"),$M$2,$K112)),AND(AJ$1>=$J113,AJ$1<=IF(AND($J113>$M$1,$K113=\"\"),$M$2,$K113)),AND(AJ$1>=$J114,AJ$1<=IF(AND($J114>$M$1,$K114=\"\"),$M$2,$K114))),$J$3,\"\")","v":""},{"$f":"IF(OR(AND(AK$1>=$J110,AK$1<=IF(AND($J110>$M$1,$K110=\"\"),$M$2,$K110)),AND(AK$1>=$J111,AK$1<=IF(AND($J111>$M$1,$K111=\"\"),$M$2,$K111)),AND(AK$1>=$J112,AK$1<=IF(AND($J112>$M$1,$K112=\"\"),$M$2,$K112)),AND(AK$1>=$J113,AK$1<=IF(AND($J113>$M$1,$K113=\"\"),$M$2,$K113)),AND(AK$1>=$J114,AK$1<=IF(AND($J114>$M$1,$K114=\"\"),$M$2,$K114))),$J$3,\"\")","v":""},{"$f":"IF(OR(AND(AL$1>=$J110,AL$1<=IF(AND($J110>$M$1,$K110=\"\"),$M$2,$K110)),AND(AL$1>=$J111,AL$1<=IF(AND($J111>$M$1,$K111=\"\"),$M$2,$K111)),AND(AL$1>=$J112,AL$1<=IF(AND($J112>$M$1,$K112=\"\"),$M$2,$K112)),AND(AL$1>=$J113,AL$1<=IF(AND($J113>$M$1,$K113=\"\"),$M$2,$K113)),AND(AL$1>=$J114,AL$1<=IF(AND($J114>$M$1,$K114=\"\"),$M$2,$K114))),$J$3,\"\")","v":""},{"$f":"IF(OR(AND(AM$1>=$J110,AM$1<=IF(AND($J110>$M$1,$K110=\"\"),$M$2,$K110)),AND(AM$1>=$J111,AM$1<=IF(AND($J111>$M$1,$K111=\"\"),$M$2,$K111)),AND(AM$1>=$J112,AM$1<=IF(AND($J112>$M$1,$K112=\"\"),$M$2,$K112)),AND(AM$1>=$J113,AM$1<=IF(AND($J113>$M$1,$K113=\"\"),$M$2,$K113)),AND(AM$1>=$J114,AM$1<=IF(AND($J114>$M$1,$K114=\"\"),$M$2,$K114))),$J$3,\"\")","v":""},{"$f":"IF(OR(AND(AN$1>=$J110,AN$1<=IF(AND($J110>$M$1,$K110=\"\"),$M$2,$K110)),AND(AN$1>=$J111,AN$1<=IF(AND($J111>$M$1,$K111=\"\"),$M$2,$K111)),AND(AN$1>=$J112,AN$1<=IF(AND($J112>$M$1,$K112=\"\"),$M$2,$K112)),AND(AN$1>=$J113,AN$1<=IF(AND($J113>$M$1,$K113=\"\"),$M$2,$K113)),AND(AN$1>=$J114,AN$1<=IF(AND($J114>$M$1,$K114=\"\"),$M$2,$K114))),$J$3,\"\")","v":""},{"$f":"IF(OR(AND(AO$1>=$J110,AO$1<=IF(AND($J110>$M$1,$K110=\"\"),$M$2,$K110)),AND(AO$1>=$J111,AO$1<=IF(AND($J111>$M$1,$K111=\"\"),$M$2,$K111)),AND(AO$1>=$J112,AO$1<=IF(AND($J112>$M$1,$K112=\"\"),$M$2,$K112)),AND(AO$1>=$J113,AO$1<=IF(AND($J113>$M$1,$K113=\"\"),$M$2,$K113)),AND(AO$1>=$J114,AO$1<=IF(AND($J114>$M$1,$K114=\"\"),$M$2,$K114))),$J$3,\"\")","v":""},{"$f":"IF(AP$1=\"\",\"\",IF(OR(AND(AP$1>=$J110,AP$1<=IF(AND($J110>$M$1,$K110=\"\"),$M$2,$K110)),AND(AP$1>=$J111,AP$1<=IF(AND($J111>$M$1,$K111=\"\"),$M$2,$K111)),AND(AP$1>=$J112,AP$1<=IF(AND($J112>$M$1,$K112=\"\"),$M$2,$K112)),AND(AP$1>=$J113,AP$1<=IF(AND($J113>$M$1,$K113=\"\"),$M$2,$K113)),AND(AP$1>=$J114,AP$1<=IF(AND($J114>$M$1,$K114=\"\"),$M$2,$K114))),$J$3,\"\"))","v":""},{"$f":"IF(AQ$1=\"\",\"\",IF(OR(AND(AQ$1>=$J110,AQ$1<=IF(AND($J110>$M$1,$K110=\"\"),$M$2,$K110)),AND(AQ$1>=$J111,AQ$1<=IF(AND($J111>$M$1,$K111=\"\"),$M$2,$K111)),AND(AQ$1>=$J112,AQ$1<=IF(AND($J112>$M$1,$K112=\"\"),$M$2,$K112)),AND(AQ$1>=$J113,AQ$1<=IF(AND($J113>$M$1,$K113=\"\"),$M$2,$K113)),AND(AQ$1>=$J114,AQ$1<=IF(AND($J114>$M$1,$K114=\"\"),$M$2,$K114))),$J$3,\"\"))","v":""},{"$f":"IF(AR$1=\"\",\"\",IF(OR(AND(AR$1>=$J110,AR$1<=IF(AND($J110>$M$1,$K110=\"\"),$M$2,$K110)),AND(AR$1>=$J111,AR$1<=IF(AND($J111>$M$1,$K111=\"\"),$M$2,$K111)),AND(AR$1>=$J112,AR$1<=IF(AND($J112>$M$1,$K112=\"\"),$M$2,$K112)),AND(AR$1>=$J113,AR$1<=IF(AND($J113>$M$1,$K113=\"\"),$M$2,$K113)),AND(AR$1>=$J114,AR$1<=IF(AND($J114>$M$1,$K114=\"\"),$M$2,$K114))),$J$3,\"\"))","v":""}]
[{"$f":"стр.1!C57","v":5241},{"$f":"IFERROR(VLOOKUP(A115,стр.1!$A$13:$D$106,2,FALSE),\"\")","v":"Радулов"},{"$f":"IFERROR(VLOOKUP(A115,стр.1!$A$13:$D$106,4,FALSE),\"\")","v":"сборная"},null,null,null,null,null,null,null,null,null,null,{"$f":"N116&N117&N118&N119","v":""},{"$f":"O116&O117&O118&O119","v":""},{"$f":"P116&P117&P118&P119","v":""},{"$f":"Q116&Q117&Q118&Q119","v":""},{"$f":"R116&R117&R118&R119","v":""},{"$f":"S116&S117&S118&S119","v":""},{"$f":"T116&T117&T118&T119","v":""},{"$f":"U116&U117&U118&U119","v":""},{"$f":"V116&V117&V118&V119","v":""},{"$f":"W116&W117&W118&W119","v":""},{"$f":"X116&X117&X118&X119","v":""},{"$f":"Y116&Y117&Y118&Y119","v":""},{"$f":"Z116&Z117&Z118&Z119","v":""},{"$f":"AA116&AA117&AA118&AA119","v":""},{"$f":"AB116&AB117&AB118&AB119","v":""},{"$f":"AC116&AC117&AC118&AC119","v":""},{"$f":"AD116&AD117&AD118&AD119","v":""},{"$f":"AE116&AE117&AE118&AE119","v":""},{"$f":"AF116&AF117&AF118&AF119","v":""},{"$f":"AG116&AG117&AG118&AG119","v":""},{"$f":"AH116&AH117&AH118&AH119","v":""},{"$f":"AI116&AI117&AI118&AI119","v":""},{"$f":"AJ116&AJ117&AJ118&AJ119","v":""},{"$f":"AK116&AK117&AK118&AK119","v":""},{"$f":"AL116&AL117&AL118&AL119","v":""},{"$f":"AM116&AM117&AM118&AM119","v":""},{"$f":"AN116&AN117&AN118&AN119","v":""},{"$f":"AO116&AO117&AO118&AO119","v":""},{"$f":"AP116&AP117&AP118&AP119","v":""},{"$f":"AQ116&AQ117&AQ118&AQ119","v":""},{"$f":"AR116&AR117&AR118&AR119","v":""}]
[null,null,null,null,null,null,null,null,null,null,null,null,null,{"$f":"IF(OR(AND(N$1>=$D115,N$1<=IF(AND($D115>$M$1,$E115=\"\"),$M$2,$E115)),AND(N$1>=$D116,N$1<=IF(AND($D116>$M$1,$E116=\"\"),$M$2,$E116)),AND(N$1>=$D117,N$1<=IF(AND($D117>$M$1,$E117=\"\"),$M$2,$E117)),AND(N$1>=$D118,N$1<=IF(AND($D118>$M$1,$E118=\"\"),$M$2,$E118))),$D$3,\"\")","v":""},{"$f":"IF(OR(AND(O$1>=$D115,O$1<=IF(AND($D115>$M$1,$E115=\"\"),$M$2,$E115)),AND(O$1>=$D116,O$1<=IF(AND($D116>$M$1,$E116=\"\"),$M$2,$E116)),AND(O$1>=$D117,O$1<=IF(AND($D117>$M$1,$E117=\"\"),$M$2,$E117)),AND(O$1>=$D118,O$1<=IF(AND($D118>$M$1,$E118=\"\"),$M$2,$E118))),$D$3,\"\")","v":""},"","","","","","","","","","","","","","","","","","","","","","","","","","",{"$f":"IF(AP$1=\"\",\"\",IF(OR(AND(AP$1>=$D115,AP$1<=IF(AND($D115>$M$1,$E115=\"\"),$M$2,$E115)),AND(AP$1>=$D116,AP$1<=IF(AND($D116>$M$1,$E116=\"\"),$M$2,$E116)),AND(AP$1>=$D117,AP$1<=IF(AND($D117>$M$1,$E117=\"\"),$M$2,$E117)),AND(AP$1>=$D118,AP$1<=IF(AND($D118>$M$1,$E118=\"\"),$M$2,$E118))),$D$3,\"\"))","v":""},{"$f":"IF(AQ$1=\"\",\"\",IF(OR(AND(AQ$1>=$D115,AQ$1<=IF(AND($D115>$M$1,$E115=\"\"),$M$2,$E115)),AND(AQ$1>=$D116,AQ$1<=IF(AND($D116>$M$1,$E116=\"\"),$M$2,$E116)),AND(AQ$1>=$D117,AQ$1<=IF(AND($D117>$M$1,$E117=\"\"),$M$2,$E117)),AND(AQ$1>=$D118,AQ$1<=IF(AND($D118>$M$1,$E118=\"\"),$M$2,$E118))),$D$3,\"\"))","v":""},""]
[null,null,null,null,null,null,null,null,null,null,null,null,null,{"$f":"IF(OR(AND(N$1>=$F115,N$1<=IF(AND($F115>$M$1,$G115=\"\"),$M$2,$G115)),AND(N$1>=$F116,N$1<=IF(AND($F116>$M$1,$G116=\"\"),$M$2,$G116)),AND(N$1>=$F117,N$1<=IF(AND($F117>$M$1,$G117=\"\"),$M$2,$G117)),AND(N$1>=$F118,N$1<=IF(AND($F118>$M$1,$G118=\"\"),$M$2,$G118))),$F$3,\"\")","v":""},{"$f":"IF(OR(AND(O$1>=$F115,O$1<=IF(AND($F115>$M$1,$G115=\"\"),$M$2,$G115)),AND(O$1>=$F116,O$1<=IF(AND($F116>$M$1,$G116=\"\"),$M$2,$G116)),AND(O$1>=$F117,O$1<=IF(AND($F117>$M$1,$G117=\"\"),$M$2,$G117)),AND(O$1>=$F118,O$1<=IF(AND($F118>$M$1,$G118=\"\"),$M$2,$G118))),$F$3,\"\")","v":""},"","","","","","","","","","","","","","","","","","","","","","","","","","",{"$f":"IF(AP$1=\"\",\"\",IF(OR(AND(AP$1>=$F115,AP$1<=IF(AND($F115>$M$1,$G115=\"\"),$M$2,$G115)),AND(AP$1>=$F116,AP$1<=IF(AND($F116>$M$1,$G116=\"\"),$M$2,$G116)),AND(AP$1>=$F117,AP$1<=IF(AND($F117>$M$1,$G117=\"\"),$M$2,$G117)),AND(AP$1>=$F118,AP$1<=IF(AND($F118>$M$1,$G118=\"\"),$M$2,$G118))),$F$3,\"\"))","v":""},{"$f":"IF(AQ$1=\"\",\"\",IF(OR(AND(AQ$1>=$F115,AQ$1<=IF(AND($F115>$M$1,$G115=\"\"),$M$2,$G115)),AND(AQ$1>=$F116,AQ$1<=IF(AND($F116>$M$1,$G116=\"\"),$M$2,$G116)),AND(AQ$1>=$F117,AQ$1<=IF(AND($F117>$M$1,$G117=\"\"),$M$2,$G117)),AND(AQ$1>=$F118,AQ$1<=IF(AND($F118>$M$1,$G118=\"\"),$M$2,$G118))),$F$3,\"\"))","v":""},""]
[null,null,null,null,null,null,null,null,null,null,null,null,null,{"$f":"IF(OR(AND(N$1>=$H115,N$1<=IF(AND($H115>$M$1,$I115=\"\"),$M$2,$I115)),AND(N$1>=$H116,N$1<=IF(AND($H116>$M$1,$I116=\"\"),$M$2,$I116)),AND(N$1>=$H117,N$1<=IF(AND($H117>$M$1,$I117=\"\"),$M$2,$I117)),AND(N$1>=$H118,N$1<=IF(AND($H118>$M$1,$I118=\"\"),$M$2,$I118))),$H$3,\"\")","v":""},"","","","","","","","","","","","","","","","","","","","","","","","","","","",{"$f":"IF(AP$1=\"\",\"\",IF(OR(AND(AP$1>=$H115,AP$1<=IF(AND($H115>$M$1,$I115=\"\"),$M$2,$I115)),AND(AP$1>=$H116,AP$1<=IF(AND($H116>$M$1,$I116=\"\"),$M$2,$I116)),AND(AP$1>=$H117,AP$1<=IF(AND($H117>$M$1,$I117=\"\"),$M$2,$I117)),AND(AP$1>=$H118,AP$1<=IF(AND($H118>$M$1,$I118=\"\"),$M$2,$I118))),$H$3,\"\"))","v":""},{"$f":"IF(AQ$1=\"\",\"\",IF(OR(AND(AQ$1>=$H115,AQ$1<=IF(AND($H115>$M$1,$I115=\"\"),$M$2,$I115)),AND(AQ$1>=$H116,AQ$1<=IF(AND($H116>$M$1,$I116=\"\"),$M$2,$I116)),AND(AQ$1>=$H117,AQ$1<=IF(AND($H117>$M$1,$I117=\"\"),$M$2,$I117)),AND(AQ$1>=$H118,AQ$1<=IF(AND($H118>$M$1,$I118=\"\"),$M$2,$I118))),$H$3,\"\"))","v":""},{"$f":"IF(AR$1=\"\",\"\",IF(OR(AND(AR$1>=$H115,AR$1<=IF(AND($H115>$M$1,$I115=\"\"),$M$2,$I115)),AND(AR$1>=$H116,AR$1<=IF(AND($H116>$M$1,$I116=\"\"),$M$2,$I116)),AND(AR$1>=$H117,AR$1<=IF(AND($H117>$M$1,$I117=\"\"),$M$2,$I117)),AND(AR$1>=$H118,AR$1<=IF(AND($H118>$M$1,$I118=\"\"),$M$2,$I118))),$H$3,\"\"))","v":""}]
[null,null,null,null,null,null,null,null,null,null,null,null,null,{"$f":"IF(OR(AND(N$1>=$J115,N$1<=IF(AND($J115>$M$1,$K115=\"\"),$M$2,$K115)),AND(N$1>=$J116,N$1<=IF(AND($J116>$M$1,$K116=\"\"),$M$2,$K116)),AND(N$1>=$J117,N$1<=IF(AND($J117>$M$1,$K117=\"\"),$M$2,$K117)),AND(N$1>=$J118,N$1<=IF(AND($J118>$M$1,$K118=\"\"),$M$2,$K118)),AND(N$1>=$J119,N$1<=IF(AND($J119>$M$1,$K119=\"\"),$M$2,$K119))),$J$3,\"\")","v":""},{"$f":"IF(OR(AND(O$1>=$J115,O$1<=IF(AND($J115>$M$1,$K115=\"\"),$M$2,$K115)),AND(O$1>=$J116,O$1<=IF(AND($J116>$M$1,$K116=\"\"),$M$2,$K116)),AND(O$1>=$J117,O$1<=IF(AND($J117>$M$1,$K117=\"\"),$M$2,$K117)),AND(O$1>=$J118,O$1<=IF(AND($J118>$M$1,$K118=\"\"),$M$2,$K118)),AND(O$1>=$J119,O$1<=IF(AND($J119>$M$1,$K119=\"\"),$M$2,$K119))),$J$3,\"\")","v":""},{"$f":"IF(OR(AND(P$1>=$J115,P$1<=IF(AND($J115>$M$1,$K115=\"\"),$M$2,$K115)),AND(P$1>=$J116,P$1<=IF(AND($J116>$M$1,$K116=\"\"),$M$2,$K116)),AND(P$1>=$J117,P$1<=IF(AND($J117>$M$1,$K117=\"\"),$M$2,$K117)),AND(P$1>=$J118,P$1<=IF(AND($J118>$M$1,$K118=\"\"),$M$2,$K118)),AND(P$1>=$J119,P$1<=IF(AND($J119>$M$1,$K119=\"\"),$M$2,$K119))),$J$3,\"\")","v":""},{"$f":"IF(OR(AND(Q$1>=$J115,Q$1<=IF(AND($J115>$M$1,$K115=\"\"),$M$2,$K115)),AND(Q$1>=$J116,Q$1<=IF(AND($J116>$M$1,$K116=\"\"),$M$2,$K116)),AND(Q$1>=$J117,Q$1<=IF(AND($J117>$M$1,$K117=\"\"),$M$2,$K117)),AND(Q$1>=$J118,Q$1<=IF(AND($J118>$M$1,$K118=\"\"),$M$2,$K118)),AND(Q$1>=$J119,Q$1<=IF(AND($J119>$M$1,$K119=\"\"),$M$2,$K119))),$J$3,\"\")","v":""},{"$f":"IF(OR(AND(R$1>=$J115,R$1<=IF(AND($J115>$M$1,$K115=\"\"),$M$2,$K115)),AND(R$1>=$J116,R$1<=IF(AND($J116>$M$1,$K116=\"\"),$M$2,$K116)),AND(R$1>=$J117,R$1<=IF(AND($J117>$M$1,$K117=\"\"),$M$2,$K117)),AND(R$1>=$J118,R$1<=IF(AND($J118>$M$1,$K118=\"\"),$M$2,$K118)),AND(R$1>=$J119,R$1<=IF(AND($J119>$M$1,$K119=\"\"),$M$2,$K119))),$J$3,\"\")","v":""},{"$f":"IF(OR(AND(S$1>=$J115,S$1<=IF(AND($J115>$M$1,$K115=\"\"),$M$2,$K115)),AND(S$1>=$J116,S$1<=IF(AND($J116>$M$1,$K116=\"\"),$M$2,$K116)),AND(S$1>=$J117,S$1<=IF(AND($J117>$M$1,$K117=\"\"),$M$2,$K117)),AND(S$1>=$J118,S$1<=IF(AND($J118>$M$1,$K118=\"\"),$M$2,$K118)),AND(S$1>=$J119,S$1<=IF(AND($J119>$M$1,$K119=\"\"),$M$2,$K119))),$J$3,\"\")","v":""},{"$f":"IF(OR(AND(T$1>=$J115,T$1<=IF(AND($J115>$M$1,$K115=\"\"),$M$2,$K115)),AND(T$1>=$J116,T$1<=IF(AND($J116>$M$1,$K116=\"\"),$M$2,$K116)),AND(T$1>=$J117,T$1<=IF(AND($J117>$M$1,$K117=\"\"),$M$2,$K117)),AND(T$1>=$J118,T$1<=IF(AND($J118>$M$1,$K118=\"\"),$M$2,$K118)),AND(T$1>=$J119,T$1<=IF(AND($J119>$M$1,$K119=\"\"),$M$2,$K119))),$J$3,\"\")","v":""},{"$f":"IF(OR(AND(U$1>=$J115,U$1<=IF(AND($J115>$M$1,$K115=\"\"),$M$2,$K115)),AND(U$1>=$J116,U$1<=IF(AND($J116>$M$1,$K116=\"\"),$M$2,$K116)),AND(U$1>=$J117,U$1<=IF(AND($J117>$M$1,$K117=\"\"),$M$2,$K117)),AND(U$1>=$J118,U$1<=IF(AND($J118>$M$1,$K118=\"\"),$M$2,$K118)),AND(U$1>=$J119,U$1<=IF(AND($J119>$M$1,$K119=\"\"),$M$2,$K119))),$J$3,\"\")","v":""},{"$f":"IF(OR(AND(V$1>=$J115,V$1<=IF(AND($J115>$M$1,$K115=\"\"),$M$2,$K115)),AND(V$1>=$J116,V$1<=IF(AND($J116>$M$1,$K116=\"\"),$M$2,$K116)),AND(V$1>=$J117,V$1<=IF(AND($J117>$M$1,$K117=\"\"),$M$2,$K117)),AND(V$1>=$J118,V$1<=IF(AND($J118>$M$1,$K118=\"\"),$M$2,$K118)),AND(V$1>=$J119,V$1<=IF(AND($J119>$M$1,$K119=\"\"),$M$2,$K119))),$J$3,\"\")","v":""},{"$f":"IF(OR(AND(W$1>=$J115,W$1<=IF(AND($J115>$M$1,$K115=\"\"),$M$2,$K115)),AND(W$1>=$J116,W$1<=IF(AND($J116>$M$1,$K116=\"\"),$M$2,$K116)),AND(W$1>=$J117,W$1<=IF(AND($J117>$M$1,$K117=\"\"),$M$2,$K117)),AND(W$1>=$J118,W$1<=IF(AND($J118>$M$1,$K118=\"\"),$M$2,$K118)),AND(W$1>=$J119,W$1<=IF(AND($J119>$M$1,$K119=\"\"),$M$2,$K119))),$J$3,\"\")","v":""},{"$f":"IF(OR(AND(X$1>=$J115,X$1<=IF(AND($J115>$M$1,$K115=\"\"),$M$2,$K115)),AND(X$1>=$J116,X$1<=IF(AND($J116>$M$1,$K116=\"\"),$M$2,$K116)),AND(X$1>=$J117,X$1<=IF(AND($J117>$M$1,$K117=\"\"),$M$2,$K117)),AND(X$1>=$J118,X$1<=IF(AND($J118>$M$1,$K118=\"\"),$M$2,$K118)),AND(X$1>=$J119,X$1<=IF(AND($J119>$M$1,$K119=\"\"),$M$2,$K119))),$J$3,\"\")","v":""},{"$f":"IF(OR(AND(Y$1>=$J115,Y$1<=IF(AND($J115>$M$1,$K115=\"\"),$M$2,$K115)),AND(Y$1>=$J116,Y$1<=IF(AND($J116>$M$1,$K116=\"\"),$M$2,$K116)),AND(Y$1>=$J117,Y$1<=IF(AND($J117>$M$1,$K117=\"\"),$M$2,$K117)),AND(Y$1>=$J118,Y$1<=IF(AND($J118>$M$1,$K118=\"\"),$M$2,$K118)),AND(Y$1>=$J119,Y$1<=IF(AND($J119>$M$1,$K119=\"\"),$M$2,$K119))),$J$3,\"\")","v":""},{"$f":"IF(OR(AND(Z$1>=$J115,Z$1<=IF(AND($J115>$M$1,$K115=\"\"),$M$2,$K115)),AND(Z$1>=$J116,Z$1<=IF(AND($J116>$M$1,$K116=\"\"),$M$2,$K116)),AND(Z$1>=$J117,Z$1<=IF(AND($J117>$M$1,$K117=\"\"),$M$2,$K117)),AND(Z$1>=$J118,Z$1<=IF(AND($J118>$M$1,$K118=\"\"),$M$2,$K118)),AND(Z$1>=$J119,Z$1<=IF(AND($J119>$M$1,$K119=\"\"),$M$2,$K119))),$J$3,\"\")","v":""},{"$f":"IF(OR(AND(AA$1>=$J115,AA$1<=IF(AND($J115>$M$1,$K115=\"\"),$M$2,$K115)),AND(AA$1>=$J116,AA$1<=IF(AND($J116>$M$1,$K116=\"\"),$M$2,$K116)),AND(AA$1>=$J117,AA$1<=IF(AND($J117>$M$1,$K117=\"\"),$M$2,$K117)),AND(AA$1>=$J118,AA$1<=IF(AND($J118>$M$1,$K118=\"\"),$M$2,$K118)),AND(AA$1>=$J119,AA$1<=IF(AND($J119>$M$1,$K119=\"\"),$M$2,$K119))),$J$3,\"\")","v":""},{"$f":"IF(OR(AND(AB$1>=$J115,AB$1<=IF(AND($J115>$M$1,$K115=\"\"),$M$2,$K115)),AND(AB$1>=$J116,AB$1<=IF(AND($J116>$M$1,$K116=\"\"),$M$2,$K116)),AND(AB$1>=$J117,AB$1<=IF(AND($J117>$M$1,$K117=\"\"),$M$2,$K117)),AND(AB$1>=$J118,AB$1<=IF(AND($J118>$M$1,$K118=\"\"),$M$2,$K118)),AND(AB$1>=$J119,AB$1<=IF(AND($J119>$M$1,$K119=\"\"),$M$2,$K119))),$J$3,\"\")","v":""},{"$f":"IF(OR(AND(AC$1>=$J115,AC$1<=IF(AND($J115>$M$1,$K115=\"\"),$M$2,$K115)),AND(AC$1>=$J116,AC$1<=IF(AND($J116>$M$1,$K116=\"\"),$M$2,$K116)),AND(AC$1>=$J117,AC$1<=IF(AND($J117>$M$1,$K117=\"\"),$M$2,$K117)),AND(AC$1>=$J118,AC$1<=IF(AND($J118>$M$1,$K118=\"\"),$M$2,$K118)),AND(AC$1>=$J119,AC$1<=IF(AND($J119>$M$1,$K119=\"\"),$M$2,$K119))),$J$3,\"\")","v":""},{"$f":"IF(OR(AND(AD$1>=$J115,AD$1<=IF(AND($J115>$M$1,$K115=\"\"),$M$2,$K115)),AND(AD$1>=$J116,AD$1<=IF(AND($J116>$M$1,$K116=\"\"),$M$2,$K116)),AND(AD$1>=$J117,AD$1<=IF(AND($J117>$M$1,$K117=\"\"),$M$2,$K117)),AND(AD$1>=$J118,AD$1<=IF(AND($J118>$M$1,$K118=\"\"),$M$2,$K118)),AND(AD$1>=$J119,AD$1<=IF(AND($J119>$M$1,$K119=\"\"),$M$2,$K119))),$J$3,\"\")","v":""},{"$f":"IF(OR(AND(AE$1>=$J115,AE$1<=IF(AND($J115>$M$1,$K115=\"\"),$M$2,$K115)),AND(AE$1>=$J116,AE$1<=IF(AND($J116>$M$1,$K116=\"\"),$M$2,$K116)),AND(AE$1>=$J117,AE$1<=IF(AND($J117>$M$1,$K117=\"\"),$M$2,$K117)),AND(AE$1>=$J118,AE$1<=IF(AND($J118>$M$1,$K118=\"\"),$M$2,$K118)),AND(AE$1>=$J119,AE$1<=IF(AND($J119>$M$1,$K119=\"\"),$M$2,$K119))),$J$3,\"\")","v":""},{"$f":"IF(OR(AND(AF$1>=$J115,AF$1<=IF(AND($J115>$M$1,$K115=\"\"),$M$2,$K115)),AND(AF$1>=$J116,AF$1<=IF(AND($J116>$M$1,$K116=\"\"),$M$2,$K116)),AND(AF$1>=$J117,AF$1<=IF(AND($J117>$M$1,$K117=\"\"),$M$2,$K117)),AND(AF$1>=$J118,AF$1<=IF(AND($J118>$M$1,$K118=\"\"),$M$2,$K118)),AND(AF$1>=$J119,AF$1<=IF(AND($J119>$M$1,$K119=\"\"),$M$2,$K119))),$J$3,\"\")","v":""},{"$f":"IF(OR(AND(AG$1>=$J115,AG$1<=IF(AND($J115>$M$1,$K115=\"\"),$M$2,$K115)),AND(AG$1>=$J116,AG$1<=IF(AND($J116>$M$1,$K116=\"\"),$M$2,$K116)),AND(AG$1>=$J117,AG$1<=IF(AND($J117>$M$1,$K117=\"\"),$M$2,$K117)),AND(AG$1>=$J118,AG$1<=IF(AND($J118>$M$1,$K118=\"\"),$M$2,$K118)),AND(AG$1>=$J119,AG$1<=IF(AND($J119>$M$1,$K119=\"\"),$M$2,$K119))),$J$3,\"\")","v":""},{"$f":"IF(OR(AND(AH$1>=$J115,AH$1<=IF(AND($J115>$M$1,$K115=\"\"),$M$2,$K115)),AND(AH$1>=$J116,AH$1<=IF(AND($J116>$M$1,$K116=\"\"),$M$2,$K116)),AND(AH$1>=$J117,AH$1<=IF(AND($J117>$M$1,$K117=\"\"),$M$2,$K117)),AND(AH$1>=$J118,AH$1<=IF(AND($J118>$M$1,$K118=\"\"),$M$2,$K118)),AND(AH$1>=$J119,AH$1<=IF(AND($J119>$M$1,$K119=\"\"),$M$2,$K119))),$J$3,\"\")","v":""},{"$f":"IF(OR(AND(AI$1>=$J115,AI$1<=IF(AND($J115>$M$1,$K115=\"\"),$M$2,$K115)),AND(AI$1>=$J116,AI$1<=IF(AND($J116>$M$1,$K116=\"\"),$M$2,$K116)),AND(AI$1>=$J117,AI$1<=IF(AND($J117>$M$1,$K117=\"\"),$M$2,$K117)),AND(AI$1>=$J118,AI$1<=IF(AND($J118>$M$1,$K118=\"\"),$M$2,$K118)),AND(AI$1>=$J119,AI$1<=IF(AND($J119>$M$1,$K119=\"\"),$M$2,$K119))),$J$3,\"\")","v":""},{"$f":"IF(OR(AND(AJ$1>=$J115,AJ$1<=IF(AND($J115>$M$1,$K115=\"\"),$M$2,$K115)),AND(AJ$1>=$J116,AJ$1<=IF(AND($J116>$M$1,$K116=\"\"),$M$2,$K116)),AND(AJ$1>=$J117,AJ$1<=IF(AND($J117>$M$1,$K117=\"\"),$M$2,$K117)),AND(AJ$1>=$J118,AJ$1<=IF(AND($J118>$M$1,$K118=\"\"),$M$2,$K118)),AND(AJ$1>=$J119,AJ$1<=IF(AND($J119>$M$1,$K119=\"\"),$M$2,$K119))),$J$3,\"\")","v":""},{"$f":"IF(OR(AND(AK$1>=$J115,AK$1<=IF(AND($J115>$M$1,$K115=\"\"),$M$2,$K115)),AND(AK$1>=$J116,AK$1<=IF(AND($J116>$M$1,$K116=\"\"),$M$2,$K116)),AND(AK$1>=$J117,AK$1<=IF(AND($J117>$M$1,$K117=\"\"),$M$2,$K117)),AND(AK$1>=$J118,AK$1<=IF(AND($J118>$M$1,$K118=\"\"),$M$2,$K118)),AND(AK$1>=$J119,AK$1<=IF(AND($J119>$M$1,$K119=\"\"),$M$2,$K119))),$J$3,\"\")","v":""},{"$f":"IF(OR(AND(AL$1>=$J115,AL$1<=IF(AND($J115>$M$1,$K115=\"\"),$M$2,$K115)),AND(AL$1>=$J116,AL$1<=IF(AND($J116>$M$1,$K116=\"\"),$M$2,$K116)),AND(AL$1>=$J117,AL$1<=IF(AND($J117>$M$1,$K117=\"\"),$M$2,$K117)),AND(AL$1>=$J118,AL$1<=IF(AND($J118>$M$1,$K118=\"\"),$M$2,$K118)),AND(AL$1>=$J119,AL$1<=IF(AND($J119>$M$1,$K119=\"\"),$M$2,$K119))),$J$3,\"\")","v":""},{"$f":"IF(OR(AND(AM$1>=$J115,AM$1<=IF(AND($J115>$M$1,$K115=\"\"),$M$2,$K115)),AND(AM$1>=$J116,AM$1<=IF(AND($J116>$M$1,$K116=\"\"),$M$2,$K116)),AND(AM$1>=$J117,AM$1<=IF(AND($J117>$M$1,$K117=\"\"),$M$2,$K117)),AND(AM$1>=$J118,AM$1<=IF(AND($J118>$M$1,$K118=\"\"),$M$2,$K118)),AND(AM$1>=$J119,AM$1<=IF(AND($J119>$M$1,$K119=\"\"),$M$2,$K119))),$J$3,\"\")","v":""},{"$f":"IF(OR(AND(AN$1>=$J115,AN$1<=IF(AND($J115>$M$1,$K115=\"\"),$M$2,$K115)),AND(AN$1>=$J116,AN$1<=IF(AND($J116>$M$1,$K116=\"\"),$M$2,$K116)),AND(AN$1>=$J117,AN$1<=IF(AND($J117>$M$1,$K117=\"\"),$M$2,$K117)),AND(AN$1>=$J118,AN$1<=IF(AND($J118>$M$1,$K118=\"\"),$M$2,$K118)),AND(AN$1>=$J119,AN$1<=IF(AND($J119>$M$1,$K119=\"\"),$M$2,$K119))),$J$3,\"\")","v":""},{"$f":"IF(OR(AND(AO$1>=$J115,AO$1<=IF(AND($J115>$M$1,$K115=\"\"),$M$2,$K115)),AND(AO$1>=$J116,AO$1<=IF(AND($J116>$M$1,$K116=\"\"),$M$2,$K116)),AND(AO$1>=$J117,AO$1<=IF(AND($J117>$M$1,$K117=\"\"),$M$2,$K117)),AND(AO$1>=$J118,AO$1<=IF(AND($J118>$M$1,$K118=\"\"),$M$2,$K118)),AND(AO$1>=$J119,AO$1<=IF(AND($J119>$M$1,$K119=\"\"),$M$2,$K119))),$J$3,\"\")","v":""},{"$f":"IF(AP$1=\"\",\"\",IF(OR(AND(AP$1>=$J115,AP$1<=IF(AND($J115>$M$1,$K115=\"\"),$M$2,$K115)),AND(AP$1>=$J116,AP$1<=IF(AND($J116>$M$1,$K116=\"\"),$M$2,$K116)),AND(AP$1>=$J117,AP$1<=IF(AND($J117>$M$1,$K117=\"\"),$M$2,$K117)),AND(AP$1>=$J118,AP$1<=IF(AND($J118>$M$1,$K118=\"\"),$M$2,$K118)),AND(AP$1>=$J119,AP$1<=IF(AND($J119>$M$1,$K119=\"\"),$M$2,$K119))),$J$3,\"\"))","v":""},{"$f":"IF(AQ$1=\"\",\"\",IF(OR(AND(AQ$1>=$J115,AQ$1<=IF(AND($J115>$M$1,$K115=\"\"),$M$2,$K115)),AND(AQ$1>=$J116,AQ$1<=IF(AND($J116>$M$1,$K116=\"\"),$M$2,$K116)),AND(AQ$1>=$J117,AQ$1<=IF(AND($J117>$M$1,$K117=\"\"),$M$2,$K117)),AND(AQ$1>=$J118,AQ$1<=IF(AND($J118>$M$1,$K118=\"\"),$M$2,$K118)),AND(AQ$1>=$J119,AQ$1<=IF(AND($J119>$M$1,$K119=\"\"),$M$2,$K119))),$J$3,\"\"))","v":""},{"$f":"IF(AR$1=\"\",\"\",IF(OR(AND(AR$1>=$J115,AR$1<=IF(AND($J115>$M$1,$K115=\"\"),$M$2,$K115)),AND(AR$1>=$J116,AR$1<=IF(AND($J116>$M$1,$K116=\"\"),$M$2,$K116)),AND(AR$1>=$J117,AR$1<=IF(AND($J117>$M$1,$K117=\"\"),$M$2,$K117)),AND(AR$1>=$J118,AR$1<=IF(AND($J118>$M$1,$K118=\"\"),$M$2,$K118)),AND(AR$1>=$J119,AR$1<=IF(AND($J119>$M$1,$K119=\"\"),$M$2,$K119))),$J$3,\"\"))","v":""}]
[{"$f":"стр.1!C59","v":5144},{"$f":"IFERROR(VLOOKUP(A120,стр.1!$A$13:$D$106,2,FALSE),\"\")","v":"Малахов"},{"$f":"IFERROR(VLOOKUP(A120,стр.1!$A$13:$D$106,4,FALSE),\"\")","v":"сборная"},null,null,null,null,null,null,null,null,null,null,{"$f":"N121&N122&N123&N124","v":""},{"$f":"O121&O122&O123&O124","v":""},{"$f":"P121&P122&P123&P124","v":""},{"$f":"Q121&Q122&Q123&Q124","v":""},{"$f":"R121&R122&R123&R124","v":""},{"$f":"S121&S122&S123&S124","v":""},{"$f":"T121&T122&T123&T124","v":""},{"$f":"U121&U122&U123&U124","v":""},{"$f":"V121&V122&V123&V124","v":""},{"$f":"W121&W122&W123&W124","v":""},{"$f":"X121&X122&X123&X124","v":""},{"$f":"Y121&Y122&Y123&Y124","v":""},{"$f":"Z121&Z122&Z123&Z124","v":""},{"$f":"AA121&AA122&AA123&AA124","v":""},{"$f":"AB121&AB122&AB123&AB124","v":""},{"$f":"AC121&AC122&AC123&AC124","v":""},{"$f":"AD121&AD122&AD123&AD124","v":""},{"$f":"AE121&AE122&AE123&AE124","v":""},{"$f":"AF121&AF122&AF123&AF124","v":""},{"$f":"AG121&AG122&AG123&AG124","v":""},{"$f":"AH121&AH122&AH123&AH124","v":""},{"$f":"AI121&AI122&AI123&AI124","v":""},{"$f":"AJ121&AJ122&AJ123&AJ124","v":""},{"$f":"AK121&AK122&AK123&AK124","v":""},{"$f":"AL121&AL122&AL123&AL124","v":""},{"$f":"AM121&AM122&AM123&AM124","v":""},{"$f":"AN121&AN122&AN123&AN124","v":""},{"$f":"AO121&AO122&AO123&AO124","v":""},{"$f":"AP121&AP122&AP123&AP124","v":""},{"$f":"AQ121&AQ122&AQ123&AQ124","v":""},{"$f":"AR121&AR122&AR123&AR124","v":""}]
[null,null,null,null,null,null,null,null,null,null,null,null,null,{"$f":"IF(OR(AND(N$1>=$D120,N$1<=IF(AND($D120>$M$1,$E120=\"\"),$M$2,$E120)),AND(N$1>=$D121,N$1<=IF(AND($D121>$M$1,$E121=\"\"),$M$2,$E121)),AND(N$1>=$D122,N$1<=IF(AND($D122>$M$1,$E122=\"\"),$M$2,$E122)),AND(N$1>=$D123,N$1<=IF(AND($D123>$M$1,$E123=\"\"),$M$2,$E123))),$D$3,\"\")","v":""},{"$f":"IF(OR(AND(O$1>=$D120,O$1<=IF(AND($D120>$M$1,$E120=\"\"),$M$2,$E120)),AND(O$1>=$D121,O$1<=IF(AND($D121>$M$1,$E121=\"\"),$M$2,$E121)),AND(O$1>=$D122,O$1<=IF(AND($D122>$M$1,$E122=\"\"),$M$2,$E122)),AND(O$1>=$D123,O$1<=IF(AND($D123>$M$1,$E123=\"\"),$M$2,$E123))),$D$3,\"\")","v":""},"","","","","","","","","","","","","","","","","","","","","","","","","","",{"$f":"IF(AP$1=\"\",\"\",IF(OR(AND(AP$1>=$D120,AP$1<=IF(AND($D120>$M$1,$E120=\"\"),$M$2,$E120)),AND(AP$1>=$D121,AP$1<=IF(AND($D121>$M$1,$E121=\"\"),$M$2,$E121)),AND(AP$1>=$D122,AP$1<=IF(AND($D122>$M$1,$E122=\"\"),$M$2,$E122)),AND(AP$1>=$D123,AP$1<=IF(AND($D123>$M$1,$E123=\"\"),$M$2,$E123))),$D$3,\"\"))","v":""},{"$f":"IF(AQ$1=\"\",\"\",IF(OR(AND(AQ$1>=$D120,AQ$1<=IF(AND($D120>$M$1,$E120=\"\"),$M$2,$E120)),AND(AQ$1>=$D121,AQ$1<=IF(AND($D121>$M$1,$E121=\"\"),$M$2,$E121)),AND(AQ$1>=$D122,AQ$1<=IF(AND($D122>$M$1,$E122=\"\"),$M$2,$E122)),AND(AQ$1>=$D123,AQ$1<=IF(AND($D123>$M$1,$E123=\"\"),$M$2,$E123))),$D$3,\"\"))","v":""},""]
[null,null,null,null,null,null,null,null,null,null,null,null,null,{"$f":"IF(OR(AND(N$1>=$F120,N$1<=IF(AND($F120>$M$1,$G120=\"\"),$M$2,$G120)),AND(N$1>=$F121,N$1<=IF(AND($F121>$M$1,$G121=\"\"),$M$2,$G121)),AND(N$1>=$F122,N$1<=IF(AND($F122>$M$1,$G122=\"\"),$M$2,$G122)),AND(N$1>=$F123,N$1<=IF(AND($F123>$M$1,$G123=\"\"),$M$2,$G123))),$F$3,\"\")","v":""},{"$f":"IF(OR(AND(O$1>=$F120,O$1<=IF(AND($F120>$M$1,$G120=\"\"),$M$2,$G120)),AND(O$1>=$F121,O$1<=IF(AND($F121>$M$1,$G121=\"\"),$M$2,$G121)),AND(O$1>=$F122,O$1<=IF(AND($F122>$M$1,$G122=\"\"),$M$2,$G122)),AND(O$1>=$F123,O$1<=IF(AND($F123>$M$1,$G123=\"\"),$M$2,$G123))),$F$3,\"\")","v":""},"","","","","","","","","","","","","","","","","","","","","","","","","","",{"$f":"IF(AP$1=\"\",\"\",IF(OR(AND(AP$1>=$F120,AP$1<=IF(AND($F120>$M$1,$G120=\"\"),$M$2,$G120)),AND(AP$1>=$F121,AP$1<=IF(AND($F121>$M$1,$G121=\"\"),$M$2,$G121)),AND(AP$1>=$F122,AP$1<=IF(AND($F122>$M$1,$G122=\"\"),$M$2,$G122)),AND(AP$1>=$F123,AP$1<=IF(AND($F123>$M$1,$G123=\"\"),$M$2,$G123))),$F$3,\"\"))","v":""},{"$f":"IF(AQ$1=\"\",\"\",IF(OR(AND(AQ$1>=$F120,AQ$1<=IF(AND($F120>$M$1,$G120=\"\"),$M$2,$G120)),AND(AQ$1>=$F121,AQ$1<=IF(AND($F121>$M$1,$G121=\"\"),$M$2,$G121)),AND(AQ$1>=$F122,AQ$1<=IF(AND($F122>$M$1,$G122=\"\"),$M$2,$G122)),AND(AQ$1>=$F123,AQ$1<=IF(AND($F123>$M$1,$G123=\"\"),$M$2,$G123))),$F$3,\"\"))","v":""},""]
[null,null,null,null,null,null,null,null,null,null,null,null,null,{"$f":"IF(OR(AND(N$1>=$H120,N$1<=IF(AND($H120>$M$1,$I120=\"\"),$M$2,$I120)),AND(N$1>=$H121,N$1<=IF(AND($H121>$M$1,$I121=\"\"),$M$2,$I121)),AND(N$1>=$H122,N$1<=IF(AND($H122>$M$1,$I122=\"\"),$M$2,$I122)),AND(N$1>=$H123,N$1<=IF(AND($H123>$M$1,$I123=\"\"),$M$2,$I123))),$H$3,\"\")","v":""},"","","","","","","","","","","","","","","","","","","","","","","","","","","",{"$f":"IF(AP$1=\"\",\"\",IF(OR(AND(AP$1>=$H120,AP$1<=IF(AND($H120>$M$1,$I120=\"\"),$M$2,$I120)),AND(AP$1>=$H121,AP$1<=IF(AND($H121>$M$1,$I121=\"\"),$M$2,$I121)),AND(AP$1>=$H122,AP$1<=IF(AND($H122>$M$1,$I122=\"\"),$M$2,$I122)),AND(AP$1>=$H123,AP$1<=IF(AND($H123>$M$1,$I123=\"\"),$M$2,$I123))),$H$3,\"\"))","v":""},{"$f":"IF(AQ$1=\"\",\"\",IF(OR(AND(AQ$1>=$H120,AQ$1<=IF(AND($H120>$M$1,$I120=\"\"),$M$2,$I120)),AND(AQ$1>=$H121,AQ$1<=IF(AND($H121>$M$1,$I121=\"\"),$M$2,$I121)),AND(AQ$1>=$H122,AQ$1<=IF(AND($H122>$M$1,$I122=\"\"),$M$2,$I122)),AND(AQ$1>=$H123,AQ$1<=IF(AND($H123>$M$1,$I123=\"\"),$M$2,$I123))),$H$3,\"\"))","v":""},{"$f":"IF(AR$1=\"\",\"\",IF(OR(AND(AR$1>=$H120,AR$1<=IF(AND($H120>$M$1,$I120=\"\"),$M$2,$I120)),AND(AR$1>=$H121,AR$1<=IF(AND($H121>$M$1,$I121=\"\"),$M$2,$I121)),AND(AR$1>=$H122,AR$1<=IF(AND($H122>$M$1,$I122=\"\"),$M$2,$I122)),AND(AR$1>=$H123,AR$1<=IF(AND($H123>$M$1,$I123=\"\"),$M$2,$I123))),$H$3,\"\"))","v":""}]
[null,null,null,null,null,null,null,null,null,null,null,null,null,{"$f":"IF(OR(AND(N$1>=$J120,N$1<=IF(AND($J120>$M$1,$K120=\"\"),$M$2,$K120)),AND(N$1>=$J121,N$1<=IF(AND($J121>$M$1,$K121=\"\"),$M$2,$K121)),AND(N$1>=$J122,N$1<=IF(AND($J122>$M$1,$K122=\"\"),$M$2,$K122)),AND(N$1>=$J123,N$1<=IF(AND($J123>$M$1,$K123=\"\"),$M$2,$K123)),AND(N$1>=$J124,N$1<=IF(AND($J124>$M$1,$K124=\"\"),$M$2,$K124))),$J$3,\"\")","v":""},{"$f":"IF(OR(AND(O$1>=$J120,O$1<=IF(AND($J120>$M$1,$K120=\"\"),$M$2,$K120)),AND(O$1>=$J121,O$1<=IF(AND($J121>$M$1,$K121=\"\"),$M$2,$K121)),AND(O$1>=$J122,O$1<=IF(AND($J122>$M$1,$K122=\"\"),$M$2,$K122)),AND(O$1>=$J123,O$1<=IF(AND($J123>$M$1,$K123=\"\"),$M$2,$K123)),AND(O$1>=$J124,O$1<=IF(AND($J124>$M$1,$K124=\"\"),$M$2,$K124))),$J$3,\"\")","v":""},{"$f":"IF(OR(AND(P$1>=$J120,P$1<=IF(AND($J120>$M$1,$K120=\"\"),$M$2,$K120)),AND(P$1>=$J121,P$1<=IF(AND($J121>$M$1,$K121=\"\"),$M$2,$K121)),AND(P$1>=$J122,P$1<=IF(AND($J122>$M$1,$K122=\"\"),$M$2,$K122)),AND(P$1>=$J123,P$1<=IF(AND($J123>$M$1,$K123=\"\"),$M$2,$K123)),AND(P$1>=$J124,P$1<=IF(AND($J124>$M$1,$K124=\"\"),$M$2,$K124))),$J$3,\"\")","v":""},{"$f":"IF(OR(AND(Q$1>=$J120,Q$1<=IF(AND($J120>$M$1,$K120=\"\"),$M$2,$K120)),AND(Q$1>=$J121,Q$1<=IF(AND($J121>$M$1,$K121=\"\"),$M$2,$K121)),AND(Q$1>=$J122,Q$1<=IF(AND($J122>$M$1,$K122=\"\"),$M$2,$K122)),AND(Q$1>=$J123,Q$1<=IF(AND($J123>$M$1,$K123=\"\"),$M$2,$K123)),AND(Q$1>=$J124,Q$1<=IF(AND($J124>$M$1,$K124=\"\"),$M$2,$K124))),$J$3,\"\")","v":""},{"$f":"IF(OR(AND(R$1>=$J120,R$1<=IF(AND($J120>$M$1,$K120=\"\"),$M$2,$K120)),AND(R$1>=$J121,R$1<=IF(AND($J121>$M$1,$K121=\"\"),$M$2,$K121)),AND(R$1>=$J122,R$1<=IF(AND($J122>$M$1,$K122=\"\"),$M$2,$K122)),AND(R$1>=$J123,R$1<=IF(AND($J123>$M$1,$K123=\"\"),$M$2,$K123)),AND(R$1>=$J124,R$1<=IF(AND($J124>$M$1,$K124=\"\"),$M$2,$K124))),$J$3,\"\")","v":""},{"$f":"IF(OR(AND(S$1>=$J120,S$1<=IF(AND($J120>$M$1,$K120=\"\"),$M$2,$K120)),AND(S$1>=$J121,S$1<=IF(AND($J121>$M$1,$K121=\"\"),$M$2,$K121)),AND(S$1>=$J122,S$1<=IF(AND($J122>$M$1,$K122=\"\"),$M$2,$K122)),AND(S$1>=$J123,S$1<=IF(AND($J123>$M$1,$K123=\"\"),$M$2,$K123)),AND(S$1>=$J124,S$1<=IF(AND($J124>$M$1,$K124=\"\"),$M$2,$K124))),$J$3,\"\")","v":""},{"$f":"IF(OR(AND(T$1>=$J120,T$1<=IF(AND($J120>$M$1,$K120=\"\"),$M$2,$K120)),AND(T$1>=$J121,T$1<=IF(AND($J121>$M$1,$K121=\"\"),$M$2,$K121)),AND(T$1>=$J122,T$1<=IF(AND($J122>$M$1,$K122=\"\"),$M$2,$K122)),AND(T$1>=$J123,T$1<=IF(AND($J123>$M$1,$K123=\"\"),$M$2,$K123)),AND(T$1>=$J124,T$1<=IF(AND($J124>$M$1,$K124=\"\"),$M$2,$K124))),$J$3,\"\")","v":""},{"$f":"IF(OR(AND(U$1>=$J120,U$1<=IF(AND($J120>$M$1,$K120=\"\"),$M$2,$K120)),AND(U$1>=$J121,U$1<=IF(AND($J121>$M$1,$K121=\"\"),$M$2,$K121)),AND(U$1>=$J122,U$1<=IF(AND($J122>$M$1,$K122=\"\"),$M$2,$K122)),AND(U$1>=$J123,U$1<=IF(AND($J123>$M$1,$K123=\"\"),$M$2,$K123)),AND(U$1>=$J124,U$1<=IF(AND($J124>$M$1,$K124=\"\"),$M$2,$K124))),$J$3,\"\")","v":""},{"$f":"IF(OR(AND(V$1>=$J120,V$1<=IF(AND($J120>$M$1,$K120=\"\"),$M$2,$K120)),AND(V$1>=$J121,V$1<=IF(AND($J121>$M$1,$K121=\"\"),$M$2,$K121)),AND(V$1>=$J122,V$1<=IF(AND($J122>$M$1,$K122=\"\"),$M$2,$K122)),AND(V$1>=$J123,V$1<=IF(AND($J123>$M$1,$K123=\"\"),$M$2,$K123)),AND(V$1>=$J124,V$1<=IF(AND($J124>$M$1,$K124=\"\"),$M$2,$K124))),$J$3,\"\")","v":""},{"$f":"IF(OR(AND(W$1>=$J120,W$1<=IF(AND($J120>$M$1,$K120=\"\"),$M$2,$K120)),AND(W$1>=$J121,W$1<=IF(AND($J121>$M$1,$K121=\"\"),$M$2,$K121)),AND(W$1>=$J122,W$1<=IF(AND($J122>$M$1,$K122=\"\"),$M$2,$K122)),AND(W$1>=$J123,W$1<=IF(AND($J123>$M$1,$K123=\"\"),$M$2,$K123)),AND(W$1>=$J124,W$1<=IF(AND($J124>$M$1,$K124=\"\"),$M$2,$K124))),$J$3,\"\")","v":""},{"$f":"IF(OR(AND(X$1>=$J120,X$1<=IF(AND($J120>$M$1,$K120=\"\"),$M$2,$K120)),AND(X$1>=$J121,X$1<=IF(AND($J121>$M$1,$K121=\"\"),$M$2,$K121)),AND(X$1>=$J122,X$1<=IF(AND($J122>$M$1,$K122=\"\"),$M$2,$K122)),AND(X$1>=$J123,X$1<=IF(AND($J123>$M$1,$K123=\"\"),$M$2,$K123)),AND(X$1>=$J124,X$1<=IF(AND($J124>$M$1,$K124=\"\"),$M$2,$K124))),$J$3,\"\")","v":""},{"$f":"IF(OR(AND(Y$1>=$J120,Y$1<=IF(AND($J120>$M$1,$K120=\"\"),$M$2,$K120)),AND(Y$1>=$J121,Y$1<=IF(AND($J121>$M$1,$K121=\"\"),$M$2,$K121)),AND(Y$1>=$J122,Y$1<=IF(AND($J122>$M$1,$K122=\"\"),$M$2,$K122)),AND(Y$1>=$J123,Y$1<=IF(AND($J123>$M$1,$K123=\"\"),$M$2,$K123)),AND(Y$1>=$J124,Y$1<=IF(AND($J124>$M$1,$K124=\"\"),$M$2,$K124))),$J$3,\"\")","v":""},{"$f":"IF(OR(AND(Z$1>=$J120,Z$1<=IF(AND($J120>$M$1,$K120=\"\"),$M$2,$K120)),AND(Z$1>=$J121,Z$1<=IF(AND($J121>$M$1,$K121=\"\"),$M$2,$K121)),AND(Z$1>=$J122,Z$1<=IF(AND($J122>$M$1,$K122=\"\"),$M$2,$K122)),AND(Z$1>=$J123,Z$1<=IF(AND($J123>$M$1,$K123=\"\"),$M$2,$K123)),AND(Z$1>=$J124,Z$1<=IF(AND($J124>$M$1,$K124=\"\"),$M$2,$K124))),$J$3,\"\")","v":""},{"$f":"IF(OR(AND(AA$1>=$J120,AA$1<=IF(AND($J120>$M$1,$K120=\"\"),$M$2,$K120)),AND(AA$1>=$J121,AA$1<=IF(AND($J121>$M$1,$K121=\"\"),$M$2,$K121)),AND(AA$1>=$J122,AA$1<=IF(AND($J122>$M$1,$K122=\"\"),$M$2,$K122)),AND(AA$1>=$J123,AA$1<=IF(AND($J123>$M$1,$K123=\"\"),$M$2,$K123)),AND(AA$1>=$J124,AA$1<=IF(AND($J124>$M$1,$K124=\"\"),$M$2,$K124))),$J$3,\"\")","v":""},{"$f":"IF(OR(AND(AB$1>=$J120,AB$1<=IF(AND($J120>$M$1,$K120=\"\"),$M$2,$K120)),AND(AB$1>=$J121,AB$1<=IF(AND($J121>$M$1,$K121=\"\"),$M$2,$K121)),AND(AB$1>=$J122,AB$1<=IF(AND($J122>$M$1,$K122=\"\"),$M$2,$K122)),AND(AB$1>=$J123,AB$1<=IF(AND($J123>$M$1,$K123=\"\"),$M$2,$K123)),AND(AB$1>=$J124,AB$1<=IF(AND($J124>$M$1,$K124=\"\"),$M$2,$K124))),$J$3,\"\")","v":""},{"$f":"IF(OR(AND(AC$1>=$J120,AC$1<=IF(AND($J120>$M$1,$K120=\"\"),$M$2,$K120)),AND(AC$1>=$J121,AC$1<=IF(AND($J121>$M$1,$K121=\"\"),$M$2,$K121)),AND(AC$1>=$J122,AC$1<=IF(AND($J122>$M$1,$K122=\"\"),$M$2,$K122)),AND(AC$1>=$J123,AC$1<=IF(AND($J123>$M$1,$K123=\"\"),$M$2,$K123)),AND(AC$1>=$J124,AC$1<=IF(AND($J124>$M$1,$K124=\"\"),$M$2,$K124))),$J$3,\"\")","v":""},{"$f":"IF(OR(AND(AD$1>=$J120,AD$1<=IF(AND($J120>$M$1,$K120=\"\"),$M$2,$K120)),AND(AD$1>=$J121,AD$1<=IF(AND($J121>$M$1,$K121=\"\"),$M$2,$K121)),AND(AD$1>=$J122,AD$1<=IF(AND($J122>$M$1,$K122=\"\"),$M$2,$K122)),AND(AD$1>=$J123,AD$1<=IF(AND($J123>$M$1,$K123=\"\"),$M$2,$K123)),AND(AD$1>=$J124,AD$1<=IF(AND($J124>$M$1,$K124=\"\"),$M$2,$K124))),$J$3,\"\")","v":""},{"$f":"IF(OR(AND(AE$1>=$J120,AE$1<=IF(AND($J120>$M$1,$K120=\"\"),$M$2,$K120)),AND(AE$1>=$J121,AE$1<=IF(AND($J121>$M$1,$K121=\"\"),$M$2,$K121)),AND(AE$1>=$J122,AE$1<=IF(AND($J122>$M$1,$K122=\"\"),$M$2,$K122)),AND(AE$1>=$J123,AE$1<=IF(AND($J123>$M$1,$K123=\"\"),$M$2,$K123)),AND(AE$1>=$J124,AE$1<=IF(AND($J124>$M$1,$K124=\"\"),$M$2,$K124))),$J$3,\"\")","v":""},{"$f":"IF(OR(AND(AF$1>=$J120,AF$1<=IF(AND($J120>$M$1,$K120=\"\"),$M$2,$K120)),AND(AF$1>=$J121,AF$1<=IF(AND($J121>$M$1,$K121=\"\"),$M$2,$K121)),AND(AF$1>=$J122,AF$1<=IF(AND($J122>$M$1,$K122=\"\"),$M$2,$K122)),AND(AF$1>=$J123,AF$1<=IF(AND($J123>$M$1,$K123=\"\"),$M$2,$K123)),AND(AF$1>=$J124,AF$1<=IF(AND($J124>$M$1,$K124=\"\"),$M$2,$K124))),$J$3,\"\")","v":""},{"$f":"IF(OR(AND(AG$1>=$J120,AG$1<=IF(AND($J120>$M$1,$K120=\"\"),$M$2,$K120)),AND(AG$1>=$J121,AG$1<=IF(AND($J121>$M$1,$K121=\"\"),$M$2,$K121)),AND(AG$1>=$J122,AG$1<=IF(AND($J122>$M$1,$K122=\"\"),$M$2,$K122)),AND(AG$1>=$J123,AG$1<=IF(AND($J123>$M$1,$K123=\"\"),$M$2,$K123)),AND(AG$1>=$J124,AG$1<=IF(AND($J124>$M$1,$K124=\"\"),$M$2,$K124))),$J$3,\"\")","v":""},{"$f":"IF(OR(AND(AH$1>=$J120,AH$1<=IF(AND($J120>$M$1,$K120=\"\"),$M$2,$K120)),AND(AH$1>=$J121,AH$1<=IF(AND($J121>$M$1,$K121=\"\"),$M$2,$K121)),AND(AH$1>=$J122,AH$1<=IF(AND($J122>$M$1,$K122=\"\"),$M$2,$K122)),AND(AH$1>=$J123,AH$1<=IF(AND($J123>$M$1,$K123=\"\"),$M$2,$K123)),AND(AH$1>=$J124,AH$1<=IF(AND($J124>$M$1,$K124=\"\"),$M$2,$K124))),$J$3,\"\")","v":""},{"$f":"IF(OR(AND(AI$1>=$J120,AI$1<=IF(AND($J120>$M$1,$K120=\"\"),$M$2,$K120)),AND(AI$1>=$J121,AI$1<=IF(AND($J121>$M$1,$K121=\"\"),$M$2,$K121)),AND(AI$1>=$J122,AI$1<=IF(AND($J122>$M$1,$K122=\"\"),$M$2,$K122)),AND(AI$1>=$J123,AI$1<=IF(AND($J123>$M$1,$K123=\"\"),$M$2,$K123)),AND(AI$1>=$J124,AI$1<=IF(AND($J124>$M$1,$K124=\"\"),$M$2,$K124))),$J$3,\"\")","v":""},{"$f":"IF(OR(AND(AJ$1>=$J120,AJ$1<=IF(AND($J120>$M$1,$K120=\"\"),$M$2,$K120)),AND(AJ$1>=$J121,AJ$1<=IF(AND($J121>$M$1,$K121=\"\"),$M$2,$K121)),AND(AJ$1>=$J122,AJ$1<=IF(AND($J122>$M$1,$K122=\"\"),$M$2,$K122)),AND(AJ$1>=$J123,AJ$1<=IF(AND($J123>$M$1,$K123=\"\"),$M$2,$K123)),AND(AJ$1>=$J124,AJ$1<=IF(AND($J124>$M$1,$K124=\"\"),$M$2,$K124))),$J$3,\"\")","v":""},{"$f":"IF(OR(AND(AK$1>=$J120,AK$1<=IF(AND($J120>$M$1,$K120=\"\"),$M$2,$K120)),AND(AK$1>=$J121,AK$1<=IF(AND($J121>$M$1,$K121=\"\"),$M$2,$K121)),AND(AK$1>=$J122,AK$1<=IF(AND($J122>$M$1,$K122=\"\"),$M$2,$K122)),AND(AK$1>=$J123,AK$1<=IF(AND($J123>$M$1,$K123=\"\"),$M$2,$K123)),AND(AK$1>=$J124,AK$1<=IF(AND($J124>$M$1,$K124=\"\"),$M$2,$K124))),$J$3,\"\")","v":""},{"$f":"IF(OR(AND(AL$1>=$J120,AL$1<=IF(AND($J120>$M$1,$K120=\"\"),$M$2,$K120)),AND(AL$1>=$J121,AL$1<=IF(AND($J121>$M$1,$K121=\"\"),$M$2,$K121)),AND(AL$1>=$J122,AL$1<=IF(AND($J122>$M$1,$K122=\"\"),$M$2,$K122)),AND(AL$1>=$J123,AL$1<=IF(AND($J123>$M$1,$K123=\"\"),$M$2,$K123)),AND(AL$1>=$J124,AL$1<=IF(AND($J124>$M$1,$K124=\"\"),$M$2,$K124))),$J$3,\"\")","v":""},{"$f":"IF(OR(AND(AM$1>=$J120,AM$1<=IF(AND($J120>$M$1,$K120=\"\"),$M$2,$K120)),AND(AM$1>=$J121,AM$1<=IF(AND($J121>$M$1,$K121=\"\"),$M$2,$K121)),AND(AM$1>=$J122,AM$1<=IF(AND($J122>$M$1,$K122=\"\"),$M$2,$K122)),AND(AM$1>=$J123,AM$1<=IF(AND($J123>$M$1,$K123=\"\"),$M$2,$K123)),AND(AM$1>=$J124,AM$1<=IF(AND($J124>$M$1,$K124=\"\"),$M$2,$K124))),$J$3,\"\")","v":""},{"$f":"IF(OR(AND(AN$1>=$J120,AN$1<=IF(AND($J120>$M$1,$K120=\"\"),$M$2,$K120)),AND(AN$1>=$J121,AN$1<=IF(AND($J121>$M$1,$K121=\"\"),$M$2,$K121)),AND(AN$1>=$J122,AN$1<=IF(AND($J122>$M$1,$K122=\"\"),$M$2,$K122)),AND(AN$1>=$J123,AN$1<=IF(AND($J123>$M$1,$K123=\"\"),$M$2,$K123)),AND(AN$1>=$J124,AN$1<=IF(AND($J124>$M$1,$K124=\"\"),$M$2,$K124))),$J$3,\"\")","v":""},{"$f":"IF(OR(AND(AO$1>=$J120,AO$1<=IF(AND($J120>$M$1,$K120=\"\"),$M$2,$K120)),AND(AO$1>=$J121,AO$1<=IF(AND($J121>$M$1,$K121=\"\"),$M$2,$K121)),AND(AO$1>=$J122,AO$1<=IF(AND($J122>$M$1,$K122=\"\"),$M$2,$K122)),AND(AO$1>=$J123,AO$1<=IF(AND($J123>$M$1,$K123=\"\"),$M$2,$K123)),AND(AO$1>=$J124,AO$1<=IF(AND($J124>$M$1,$K124=\"\"),$M$2,$K124))),$J$3,\"\")","v":""},{"$f":"IF(AP$1=\"\",\"\",IF(OR(AND(AP$1>=$J120,AP$1<=IF(AND($J120>$M$1,$K120=\"\"),$M$2,$K120)),AND(AP$1>=$J121,AP$1<=IF(AND($J121>$M$1,$K121=\"\"),$M$2,$K121)),AND(AP$1>=$J122,AP$1<=IF(AND($J122>$M$1,$K122=\"\"),$M$2,$K122)),AND(AP$1>=$J123,AP$1<=IF(AND($J123>$M$1,$K123=\"\"),$M$2,$K123)),AND(AP$1>=$J124,AP$1<=IF(AND($J124>$M$1,$K124=\"\"),$M$2,$K124))),$J$3,\"\"))","v":""},{"$f":"IF(AQ$1=\"\",\"\",IF(OR(AND(AQ$1>=$J120,AQ$1<=IF(AND($J120>$M$1,$K120=\"\"),$M$2,$K120)),AND(AQ$1>=$J121,AQ$1<=IF(AND($J121>$M$1,$K121=\"\"),$M$2,$K121)),AND(AQ$1>=$J122,AQ$1<=IF(AND($J122>$M$1,$K122=\"\"),$M$2,$K122)),AND(AQ$1>=$J123,AQ$1<=IF(AND($J123>$M$1,$K123=\"\"),$M$2,$K123)),AND(AQ$1>=$J124,AQ$1<=IF(AND($J124>$M$1,$K124=\"\"),$M$2,$K124))),$J$3,\"\"))","v":""},{"$f":"IF(AR$1=\"\",\"\",IF(OR(AND(AR$1>=$J120,AR$1<=IF(AND($J120>$M$1,$K120=\"\"),$M$2,$K120)),AND(AR$1>=$J121,AR$1<=IF(AND($J121>$M$1,$K121=\"\"),$M$2,$K121)),AND(AR$1>=$J122,AR$1<=IF(AND($J122>$M$1,$K122=\"\"),$M$2,$K122)),AND(AR$1>=$J123,AR$1<=IF(AND($J123>$M$1,$K123=\"\"),$M$2,$K123)),AND(AR$1>=$J124,AR$1<=IF(AND($J124>$M$1,$K124=\"\"),$M$2,$K124))),$J$3,\"\"))","v":""}]
[{"$f":"стр.1!C61","v":5147},{"$f":"IFERROR(VLOOKUP(A125,стр.1!$A$13:$D$106,2,FALSE),\"\")","v":"Королев"},{"$f":"IFERROR(VLOOKUP(A125,стр.1!$A$13:$D$106,4,FALSE),\"\")","v":"сборная"},null,null,null,null,null,null,null,null,null,null,{"$f":"N126&N127&N128&N129","v":""},{"$f":"O126&O127&O128&O129","v":""},{"$f":"P126&P127&P128&P129","v":""},{"$f":"Q126&Q127&Q128&Q129","v":""},{"$f":"R126&R127&R128&R129","v":""},{"$f":"S126&S127&S128&S129","v":""},{"$f":"T126&T127&T128&T129","v":""},{"$f":"U126&U127&U128&U129","v":""},{"$f":"V126&V127&V128&V129","v":""},{"$f":"W126&W127&W128&W129","v":""},{"$f":"X126&X127&X128&X129","v":""},{"$f":"Y126&Y127&Y128&Y129","v":""},{"$f":"Z126&Z127&Z128&Z129","v":""},{"$f":"AA126&AA127&AA128&AA129","v":""},{"$f":"AB126&AB127&AB128&AB129","v":""},{"$f":"AC126&AC127&AC128&AC129","v":""},{"$f":"AD126&AD127&AD128&AD129","v":""},{"$f":"AE126&AE127&AE128&AE129","v":""},{"$f":"AF126&AF127&AF128&AF129","v":""},{"$f":"AG126&AG127&AG128&AG129","v":""},{"$f":"AH126&AH127&AH128&AH129","v":""},{"$f":"AI126&AI127&AI128&AI129","v":""},{"$f":"AJ126&AJ127&AJ128&AJ129","v":""},{"$f":"AK126&AK127&AK128&AK129","v":""},{"$f":"AL126&AL127&AL128&AL129","v":""},{"$f":"AM126&AM127&AM128&AM129","v":""},{"$f":"AN126&AN127&AN128&AN129","v":""},{"$f":"AO126&AO127&AO128&AO129","v":""},{"$f":"AP126&AP127&AP128&AP129","v":""},{"$f":"AQ126&AQ127&AQ128&AQ129","v":""},{"$f":"AR126&AR127&AR128&AR129","v":""}]
[null,null,null,null,null,null,null,null,null,null,null,null,null,{"$f":"IF(OR(AND(N$1>=$D125,N$1<=IF(AND($D125>$M$1,$E125=\"\"),$M$2,$E125)),AND(N$1>=$D126,N$1<=IF(AND($D126>$M$1,$E126=\"\"),$M$2,$E126)),AND(N$1>=$D127,N$1<=IF(AND($D127>$M$1,$E127=\"\"),$M$2,$E127)),AND(N$1>=$D128,N$1<=IF(AND($D128>$M$1,$E128=\"\"),$M$2,$E128))),$D$3,\"\")","v":""},{"$f":"IF(OR(AND(O$1>=$D125,O$1<=IF(AND($D125>$M$1,$E125=\"\"),$M$2,$E125)),AND(O$1>=$D126,O$1<=IF(AND($D126>$M$1,$E126=\"\"),$M$2,$E126)),AND(O$1>=$D127,O$1<=IF(AND($D127>$M$1,$E127=\"\"),$M$2,$E127)),AND(O$1>=$D128,O$1<=IF(AND($D128>$M$1,$E128=\"\"),$M$2,$E128))),$D$3,\"\")","v":""},"","","","","","","","","","","","","","","","","","","","","","","","","","",{"$f":"IF(AP$1=\"\",\"\",IF(OR(AND(AP$1>=$D125,AP$1<=IF(AND($D125>$M$1,$E125=\"\"),$M$2,$E125)),AND(AP$1>=$D126,AP$1<=IF(AND($D126>$M$1,$E126=\"\"),$M$2,$E126)),AND(AP$1>=$D127,AP$1<=IF(AND($D127>$M$1,$E127=\"\"),$M$2,$E127)),AND(AP$1>=$D128,AP$1<=IF(AND($D128>$M$1,$E128=\"\"),$M$2,$E128))),$D$3,\"\"))","v":""},{"$f":"IF(AQ$1=\"\",\"\",IF(OR(AND(AQ$1>=$D125,AQ$1<=IF(AND($D125>$M$1,$E125=\"\"),$M$2,$E125)),AND(AQ$1>=$D126,AQ$1<=IF(AND($D126>$M$1,$E126=\"\"),$M$2,$E126)),AND(AQ$1>=$D127,AQ$1<=IF(AND($D127>$M$1,$E127=\"\"),$M$2,$E127)),AND(AQ$1>=$D128,AQ$1<=IF(AND($D128>$M$1,$E128=\"\"),$M$2,$E128))),$D$3,\"\"))","v":""},""]
[null,null,null,null,null,null,null,null,null,null,null,null,null,{"$f":"IF(OR(AND(N$1>=$F125,N$1<=IF(AND($F125>$M$1,$G125=\"\"),$M$2,$G125)),AND(N$1>=$F126,N$1<=IF(AND($F126>$M$1,$G126=\"\"),$M$2,$G126)),AND(N$1>=$F127,N$1<=IF(AND($F127>$M$1,$G127=\"\"),$M$2,$G127)),AND(N$1>=$F128,N$1<=IF(AND($F128>$M$1,$G128=\"\"),$M$2,$G128))),$F$3,\"\")","v":""},{"$f":"IF(OR(AND(O$1>=$F125,O$1<=IF(AND($F125>$M$1,$G125=\"\"),$M$2,$G125)),AND(O$1>=$F126,O$1<=IF(AND($F126>$M$1,$G126=\"\"),$M$2,$G126)),AND(O$1>=$F127,O$1<=IF(AND($F127>$M$1,$G127=\"\"),$M$2,$G127)),AND(O$1>=$F128,O$1<=IF(AND($F128>$M$1,$G128=\"\"),$M$2,$G128))),$F$3,\"\")","v":""},"","","","","","","","","","","","","","","","","","","","","","","","","","",{"$f":"IF(AP$1=\"\",\"\",IF(OR(AND(AP$1>=$F125,AP$1<=IF(AND($F125>$M$1,$G125=\"\"),$M$2,$G125)),AND(AP$1>=$F126,AP$1<=IF(AND($F126>$M$1,$G126=\"\"),$M$2,$G126)),AND(AP$1>=$F127,AP$1<=IF(AND($F127>$M$1,$G127=\"\"),$M$2,$G127)),AND(AP$1>=$F128,AP$1<=IF(AND($F128>$M$1,$G128=\"\"),$M$2,$G128))),$F$3,\"\"))","v":""},{"$f":"IF(AQ$1=\"\",\"\",IF(OR(AND(AQ$1>=$F125,AQ$1<=IF(AND($F125>$M$1,$G125=\"\"),$M$2,$G125)),AND(AQ$1>=$F126,AQ$1<=IF(AND($F126>$M$1,$G126=\"\"),$M$2,$G126)),AND(AQ$1>=$F127,AQ$1<=IF(AND($F127>$M$1,$G127=\"\"),$M$2,$G127)),AND(AQ$1>=$F128,AQ$1<=IF(AND($F128>$M$1,$G128=\"\"),$M$2,$G128))),$F$3,\"\"))","v":""},""]
[null,null,null,null,null,null,null,null,null,null,null,null,null,{"$f":"IF(OR(AND(N$1>=$H125,N$1<=IF(AND($H125>$M$1,$I125=\"\"),$M$2,$I125)),AND(N$1>=$H126,N$1<=IF(AND($H126>$M$1,$I126=\"\"),$M$2,$I126)),AND(N$1>=$H127,N$1<=IF(AND($H127>$M$1,$I127=\"\"),$M$2,$I127)),AND(N$1>=$H128,N$1<=IF(AND($H128>$M$1,$I128=\"\"),$M$2,$I128))),$H$3,\"\")","v":""},"","","","","","","","","","","","","","","","","","","","","","","","","","","",{"$f":"IF(AP$1=\"\",\"\",IF(OR(AND(AP$1>=$H125,AP$1<=IF(AND($H125>$M$1,$I125=\"\"),$M$2,$I125)),AND(AP$1>=$H126,AP$1<=IF(AND($H126>$M$1,$I126=\"\"),$M$2,$I126)),AND(AP$1>=$H127,AP$1<=IF(AND($H127>$M$1,$I127=\"\"),$M$2,$I127)),AND(AP$1>=$H128,AP$1<=IF(AND($H128>$M$1,$I128=\"\"),$M$2,$I128))),$H$3,\"\"))","v":""},{"$f":"IF(AQ$1=\"\",\"\",IF(OR(AND(AQ$1>=$H125,AQ$1<=IF(AND($H125>$M$1,$I125=\"\"),$M$2,$I125)),AND(AQ$1>=$H126,AQ$1<=IF(AND($H126>$M$1,$I126=\"\"),$M$2,$I126)),AND(AQ$1>=$H127,AQ$1<=IF(AND($H127>$M$1,$I127=\"\"),$M$2,$I127)),AND(AQ$1>=$H128,AQ$1<=IF(AND($H128>$M$1,$I128=\"\"),$M$2,$I128))),$H$3,\"\"))","v":""},{"$f":"IF(AR$1=\"\",\"\",IF(OR(AND(AR$1>=$H125,AR$1<=IF(AND($H125>$M$1,$I125=\"\"),$M$2,$I125)),AND(AR$1>=$H126,AR$1<=IF(AND($H126>$M$1,$I126=\"\"),$M$2,$I126)),AND(AR$1>=$H127,AR$1<=IF(AND($H127>$M$1,$I127=\"\"),$M$2,$I127)),AND(AR$1>=$H128,AR$1<=IF(AND($H128>$M$1,$I128=\"\"),$M$2,$I128))),$H$3,\"\"))","v":""}]
[null,null,null,null,null,null,null,null,null,null,null,null,null,{"$f":"IF(OR(AND(N$1>=$J125,N$1<=IF(AND($J125>$M$1,$K125=\"\"),$M$2,$K125)),AND(N$1>=$J126,N$1<=IF(AND($J126>$M$1,$K126=\"\"),$M$2,$K126)),AND(N$1>=$J127,N$1<=IF(AND($J127>$M$1,$K127=\"\"),$M$2,$K127)),AND(N$1>=$J128,N$1<=IF(AND($J128>$M$1,$K128=\"\"),$M$2,$K128)),AND(N$1>=$J129,N$1<=IF(AND($J129>$M$1,$K129=\"\"),$M$2,$K129))),$J$3,\"\")","v":""},{"$f":"IF(OR(AND(O$1>=$J125,O$1<=IF(AND($J125>$M$1,$K125=\"\"),$M$2,$K125)),AND(O$1>=$J126,O$1<=IF(AND($J126>$M$1,$K126=\"\"),$M$2,$K126)),AND(O$1>=$J127,O$1<=IF(AND($J127>$M$1,$K127=\"\"),$M$2,$K127)),AND(O$1>=$J128,O$1<=IF(AND($J128>$M$1,$K128=\"\"),$M$2,$K128)),AND(O$1>=$J129,O$1<=IF(AND($J129>$M$1,$K129=\"\"),$M$2,$K129))),$J$3,\"\")","v":""},{"$f":"IF(OR(AND(P$1>=$J125,P$1<=IF(AND($J125>$M$1,$K125=\"\"),$M$2,$K125)),AND(P$1>=$J126,P$1<=IF(AND($J126>$M$1,$K126=\"\"),$M$2,$K126)),AND(P$1>=$J127,P$1<=IF(AND($J127>$M$1,$K127=\"\"),$M$2,$K127)),AND(P$1>=$J128,P$1<=IF(AND($J128>$M$1,$K128=\"\"),$M$2,$K128)),AND(P$1>=$J129,P$1<=IF(AND($J129>$M$1,$K129=\"\"),$M$2,$K129))),$J$3,\"\")","v":""},{"$f":"IF(OR(AND(Q$1>=$J125,Q$1<=IF(AND($J125>$M$1,$K125=\"\"),$M$2,$K125)),AND(Q$1>=$J126,Q$1<=IF(AND($J126>$M$1,$K126=\"\"),$M$2,$K126)),AND(Q$1>=$J127,Q$1<=IF(AND($J127>$M$1,$K127=\"\"),$M$2,$K127)),AND(Q$1>=$J128,Q$1<=IF(AND($J128>$M$1,$K128=\"\"),$M$2,$K128)),AND(Q$1>=$J129,Q$1<=IF(AND($J129>$M$1,$K129=\"\"),$M$2,$K129))),$J$3,\"\")","v":""},{"$f":"IF(OR(AND(R$1>=$J125,R$1<=IF(AND($J125>$M$1,$K125=\"\"),$M$2,$K125)),AND(R$1>=$J126,R$1<=IF(AND($J126>$M$1,$K126=\"\"),$M$2,$K126)),AND(R$1>=$J127,R$1<=IF(AND($J127>$M$1,$K127=\"\"),$M$2,$K127)),AND(R$1>=$J128,R$1<=IF(AND($J128>$M$1,$K128=\"\"),$M$2,$K128)),AND(R$1>=$J129,R$1<=IF(AND($J129>$M$1,$K129=\"\"),$M$2,$K129))),$J$3,\"\")","v":""},{"$f":"IF(OR(AND(S$1>=$J125,S$1<=IF(AND($J125>$M$1,$K125=\"\"),$M$2,$K125)),AND(S$1>=$J126,S$1<=IF(AND($J126>$M$1,$K126=\"\"),$M$2,$K126)),AND(S$1>=$J127,S$1<=IF(AND($J127>$M$1,$K127=\"\"),$M$2,$K127)),AND(S$1>=$J128,S$1<=IF(AND($J128>$M$1,$K128=\"\"),$M$2,$K128)),AND(S$1>=$J129,S$1<=IF(AND($J129>$M$1,$K129=\"\"),$M$2,$K129))),$J$3,\"\")","v":""},{"$f":"IF(OR(AND(T$1>=$J125,T$1<=IF(AND($J125>$M$1,$K125=\"\"),$M$2,$K125)),AND(T$1>=$J126,T$1<=IF(AND($J126>$M$1,$K126=\"\"),$M$2,$K126)),AND(T$1>=$J127,T$1<=IF(AND($J127>$M$1,$K127=\"\"),$M$2,$K127)),AND(T$1>=$J128,T$1<=IF(AND($J128>$M$1,$K128=\"\"),$M$2,$K128)),AND(T$1>=$J129,T$1<=IF(AND($J129>$M$1,$K129=\"\"),$M$2,$K129))),$J$3,\"\")","v":""},{"$f":"IF(OR(AND(U$1>=$J125,U$1<=IF(AND($J125>$M$1,$K125=\"\"),$M$2,$K125)),AND(U$1>=$J126,U$1<=IF(AND($J126>$M$1,$K126=\"\"),$M$2,$K126)),AND(U$1>=$J127,U$1<=IF(AND($J127>$M$1,$K127=\"\"),$M$2,$K127)),AND(U$1>=$J128,U$1<=IF(AND($J128>$M$1,$K128=\"\"),$M$2,$K128)),AND(U$1>=$J129,U$1<=IF(AND($J129>$M$1,$K129=\"\"),$M$2,$K129))),$J$3,\"\")","v":""},{"$f":"IF(OR(AND(V$1>=$J125,V$1<=IF(AND($J125>$M$1,$K125=\"\"),$M$2,$K125)),AND(V$1>=$J126,V$1<=IF(AND($J126>$M$1,$K126=\"\"),$M$2,$K126)),AND(V$1>=$J127,V$1<=IF(AND($J127>$M$1,$K127=\"\"),$M$2,$K127)),AND(V$1>=$J128,V$1<=IF(AND($J128>$M$1,$K128=\"\"),$M$2,$K128)),AND(V$1>=$J129,V$1<=IF(AND($J129>$M$1,$K129=\"\"),$M$2,$K129))),$J$3,\"\")","v":""},{"$f":"IF(OR(AND(W$1>=$J125,W$1<=IF(AND($J125>$M$1,$K125=\"\"),$M$2,$K125)),AND(W$1>=$J126,W$1<=IF(AND($J126>$M$1,$K126=\"\"),$M$2,$K126)),AND(W$1>=$J127,W$1<=IF(AND($J127>$M$1,$K127=\"\"),$M$2,$K127)),AND(W$1>=$J128,W$1<=IF(AND($J128>$M$1,$K128=\"\"),$M$2,$K128)),AND(W$1>=$J129,W$1<=IF(AND($J129>$M$1,$K129=\"\"),$M$2,$K129))),$J$3,\"\")","v":""},{"$f":"IF(OR(AND(X$1>=$J125,X$1<=IF(AND($J125>$M$1,$K125=\"\"),$M$2,$K125)),AND(X$1>=$J126,X$1<=IF(AND($J126>$M$1,$K126=\"\"),$M$2,$K126)),AND(X$1>=$J127,X$1<=IF(AND($J127>$M$1,$K127=\"\"),$M$2,$K127)),AND(X$1>=$J128,X$1<=IF(AND($J128>$M$1,$K128=\"\"),$M$2,$K128)),AND(X$1>=$J129,X$1<=IF(AND($J129>$M$1,$K129=\"\"),$M$2,$K129))),$J$3,\"\")","v":""},{"$f":"IF(OR(AND(Y$1>=$J125,Y$1<=IF(AND($J125>$M$1,$K125=\"\"),$M$2,$K125)),AND(Y$1>=$J126,Y$1<=IF(AND($J126>$M$1,$K126=\"\"),$M$2,$K126)),AND(Y$1>=$J127,Y$1<=IF(AND($J127>$M$1,$K127=\"\"),$M$2,$K127)),AND(Y$1>=$J128,Y$1<=IF(AND($J128>$M$1,$K128=\"\"),$M$2,$K128)),AND(Y$1>=$J129,Y$1<=IF(AND($J129>$M$1,$K129=\"\"),$M$2,$K129))),$J$3,\"\")","v":""},{"$f":"IF(OR(AND(Z$1>=$J125,Z$1<=IF(AND($J125>$M$1,$K125=\"\"),$M$2,$K125)),AND(Z$1>=$J126,Z$1<=IF(AND($J126>$M$1,$K126=\"\"),$M$2,$K126)),AND(Z$1>=$J127,Z$1<=IF(AND($J127>$M$1,$K127=\"\"),$M$2,$K127)),AND(Z$1>=$J128,Z$1<=IF(AND($J128>$M$1,$K128=\"\"),$M$2,$K128)),AND(Z$1>=$J129,Z$1<=IF(AND($J129>$M$1,$K129=\"\"),$M$2,$K129))),$J$3,\"\")","v":""},{"$f":"IF(OR(AND(AA$1>=$J125,AA$1<=IF(AND($J125>$M$1,$K125=\"\"),$M$2,$K125)),AND(AA$1>=$J126,AA$1<=IF(AND($J126>$M$1,$K126=\"\"),$M$2,$K126)),AND(AA$1>=$J127,AA$1<=IF(AND($J127>$M$1,$K127=\"\"),$M$2,$K127)),AND(AA$1>=$J128,AA$1<=IF(AND($J128>$M$1,$K128=\"\"),$M$2,$K128)),AND(AA$1>=$J129,AA$1<=IF(AND($J129>$M$1,$K129=\"\"),$M$2,$K129))),$J$3,\"\")","v":""},{"$f":"IF(OR(AND(AB$1>=$J125,AB$1<=IF(AND($J125>$M$1,$K125=\"\"),$M$2,$K125)),AND(AB$1>=$J126,AB$1<=IF(AND($J126>$M$1,$K126=\"\"),$M$2,$K126)),AND(AB$1>=$J127,AB$1<=IF(AND($J127>$M$1,$K127=\"\"),$M$2,$K127)),AND(AB$1>=$J128,AB$1<=IF(AND($J128>$M$1,$K128=\"\"),$M$2,$K128)),AND(AB$1>=$J129,AB$1<=IF(AND($J129>$M$1,$K129=\"\"),$M$2,$K129))),$J$3,\"\")","v":""},{"$f":"IF(OR(AND(AC$1>=$J125,AC$1<=IF(AND($J125>$M$1,$K125=\"\"),$M$2,$K125)),AND(AC$1>=$J126,AC$1<=IF(AND($J126>$M$1,$K126=\"\"),$M$2,$K126)),AND(AC$1>=$J127,AC$1<=IF(AND($J127>$M$1,$K127=\"\"),$M$2,$K127)),AND(AC$1>=$J128,AC$1<=IF(AND($J128>$M$1,$K128=\"\"),$M$2,$K128)),AND(AC$1>=$J129,AC$1<=IF(AND($J129>$M$1,$K129=\"\"),$M$2,$K129))),$J$3,\"\")","v":""},{"$f":"IF(OR(AND(AD$1>=$J125,AD$1<=IF(AND($J125>$M$1,$K125=\"\"),$M$2,$K125)),AND(AD$1>=$J126,AD$1<=IF(AND($J126>$M$1,$K126=\"\"),$M$2,$K126)),AND(AD$1>=$J127,AD$1<=IF(AND($J127>$M$1,$K127=\"\"),$M$2,$K127)),AND(AD$1>=$J128,AD$1<=IF(AND($J128>$M$1,$K128=\"\"),$M$2,$K128)),AND(AD$1>=$J129,AD$1<=IF(AND($J129>$M$1,$K129=\"\"),$M$2,$K129))),$J$3,\"\")","v":""},{"$f":"IF(OR(AND(AE$1>=$J125,AE$1<=IF(AND($J125>$M$1,$K125=\"\"),$M$2,$K125)),AND(AE$1>=$J126,AE$1<=IF(AND($J126>$M$1,$K126=\"\"),$M$2,$K126)),AND(AE$1>=$J127,AE$1<=IF(AND($J127>$M$1,$K127=\"\"),$M$2,$K127)),AND(AE$1>=$J128,AE$1<=IF(AND($J128>$M$1,$K128=\"\"),$M$2,$K128)),AND(AE$1>=$J129,AE$1<=IF(AND($J129>$M$1,$K129=\"\"),$M$2,$K129))),$J$3,\"\")","v":""},{"$f":"IF(OR(AND(AF$1>=$J125,AF$1<=IF(AND($J125>$M$1,$K125=\"\"),$M$2,$K125)),AND(AF$1>=$J126,AF$1<=IF(AND($J126>$M$1,$K126=\"\"),$M$2,$K126)),AND(AF$1>=$J127,AF$1<=IF(AND($J127>$M$1,$K127=\"\"),$M$2,$K127)),AND(AF$1>=$J128,AF$1<=IF(AND($J128>$M$1,$K128=\"\"),$M$2,$K128)),AND(AF$1>=$J129,AF$1<=IF(AND($J129>$M$1,$K129=\"\"),$M$2,$K129))),$J$3,\"\")","v":""},{"$f":"IF(OR(AND(AG$1>=$J125,AG$1<=IF(AND($J125>$M$1,$K125=\"\"),$M$2,$K125)),AND(AG$1>=$J126,AG$1<=IF(AND($J126>$M$1,$K126=\"\"),$M$2,$K126)),AND(AG$1>=$J127,AG$1<=IF(AND($J127>$M$1,$K127=\"\"),$M$2,$K127)),AND(AG$1>=$J128,AG$1<=IF(AND($J128>$M$1,$K128=\"\"),$M$2,$K128)),AND(AG$1>=$J129,AG$1<=IF(AND($J129>$M$1,$K129=\"\"),$M$2,$K129))),$J$3,\"\")","v":""},{"$f":"IF(OR(AND(AH$1>=$J125,AH$1<=IF(AND($J125>$M$1,$K125=\"\"),$M$2,$K125)),AND(AH$1>=$J126,AH$1<=IF(AND($J126>$M$1,$K126=\"\"),$M$2,$K126)),AND(AH$1>=$J127,AH$1<=IF(AND($J127>$M$1,$K127=\"\"),$M$2,$K127)),AND(AH$1>=$J128,AH$1<=IF(AND($J128>$M$1,$K128=\"\"),$M$2,$K128)),AND(AH$1>=$J129,AH$1<=IF(AND($J129>$M$1,$K129=\"\"),$M$2,$K129))),$J$3,\"\")","v":""},{"$f":"IF(OR(AND(AI$1>=$J125,AI$1<=IF(AND($J125>$M$1,$K125=\"\"),$M$2,$K125)),AND(AI$1>=$J126,AI$1<=IF(AND($J126>$M$1,$K126=\"\"),$M$2,$K126)),AND(AI$1>=$J127,AI$1<=IF(AND($J127>$M$1,$K127=\"\"),$M$2,$K127)),AND(AI$1>=$J128,AI$1<=IF(AND($J128>$M$1,$K128=\"\"),$M$2,$K128)),AND(AI$1>=$J129,AI$1<=IF(AND($J129>$M$1,$K129=\"\"),$M$2,$K129))),$J$3,\"\")","v":""},{"$f":"IF(OR(AND(AJ$1>=$J125,AJ$1<=IF(AND($J125>$M$1,$K125=\"\"),$M$2,$K125)),AND(AJ$1>=$J126,AJ$1<=IF(AND($J126>$M$1,$K126=\"\"),$M$2,$K126)),AND(AJ$1>=$J127,AJ$1<=IF(AND($J127>$M$1,$K127=\"\"),$M$2,$K127)),AND(AJ$1>=$J128,AJ$1<=IF(AND($J128>$M$1,$K128=\"\"),$M$2,$K128)),AND(AJ$1>=$J129,AJ$1<=IF(AND($J129>$M$1,$K129=\"\"),$M$2,$K129))),$J$3,\"\")","v":""},{"$f":"IF(OR(AND(AK$1>=$J125,AK$1<=IF(AND($J125>$M$1,$K125=\"\"),$M$2,$K125)),AND(AK$1>=$J126,AK$1<=IF(AND($J126>$M$1,$K126=\"\"),$M$2,$K126)),AND(AK$1>=$J127,AK$1<=IF(AND($J127>$M$1,$K127=\"\"),$M$2,$K127)),AND(AK$1>=$J128,AK$1<=IF(AND($J128>$M$1,$K128=\"\"),$M$2,$K128)),AND(AK$1>=$J129,AK$1<=IF(AND($J129>$M$1,$K129=\"\"),$M$2,$K129))),$J$3,\"\")","v":""},{"$f":"IF(OR(AND(AL$1>=$J125,AL$1<=IF(AND($J125>$M$1,$K125=\"\"),$M$2,$K125)),AND(AL$1>=$J126,AL$1<=IF(AND($J126>$M$1,$K126=\"\"),$M$2,$K126)),AND(AL$1>=$J127,AL$1<=IF(AND($J127>$M$1,$K127=\"\"),$M$2,$K127)),AND(AL$1>=$J128,AL$1<=IF(AND($J128>$M$1,$K128=\"\"),$M$2,$K128)),AND(AL$1>=$J129,AL$1<=IF(AND($J129>$M$1,$K129=\"\"),$M$2,$K129))),$J$3,\"\")","v":""},{"$f":"IF(OR(AND(AM$1>=$J125,AM$1<=IF(AND($J125>$M$1,$K125=\"\"),$M$2,$K125)),AND(AM$1>=$J126,AM$1<=IF(AND($J126>$M$1,$K126=\"\"),$M$2,$K126)),AND(AM$1>=$J127,AM$1<=IF(AND($J127>$M$1,$K127=\"\"),$M$2,$K127)),AND(AM$1>=$J128,AM$1<=IF(AND($J128>$M$1,$K128=\"\"),$M$2,$K128)),AND(AM$1>=$J129,AM$1<=IF(AND($J129>$M$1,$K129=\"\"),$M$2,$K129))),$J$3,\"\")","v":""},{"$f":"IF(OR(AND(AN$1>=$J125,AN$1<=IF(AND($J125>$M$1,$K125=\"\"),$M$2,$K125)),AND(AN$1>=$J126,AN$1<=IF(AND($J126>$M$1,$K126=\"\"),$M$2,$K126)),AND(AN$1>=$J127,AN$1<=IF(AND($J127>$M$1,$K127=\"\"),$M$2,$K127)),AND(AN$1>=$J128,AN$1<=IF(AND($J128>$M$1,$K128=\"\"),$M$2,$K128)),AND(AN$1>=$J129,AN$1<=IF(AND($J129>$M$1,$K129=\"\"),$M$2,$K129))),$J$3,\"\")","v":""},{"$f":"IF(OR(AND(AO$1>=$J125,AO$1<=IF(AND($J125>$M$1,$K125=\"\"),$M$2,$K125)),AND(AO$1>=$J126,AO$1<=IF(AND($J126>$M$1,$K126=\"\"),$M$2,$K126)),AND(AO$1>=$J127,AO$1<=IF(AND($J127>$M$1,$K127=\"\"),$M$2,$K127)),AND(AO$1>=$J128,AO$1<=IF(AND($J128>$M$1,$K128=\"\"),$M$2,$K128)),AND(AO$1>=$J129,AO$1<=IF(AND($J129>$M$1,$K129=\"\"),$M$2,$K129))),$J$3,\"\")","v":""},{"$f":"IF(AP$1=\"\",\"\",IF(OR(AND(AP$1>=$J125,AP$1<=IF(AND($J125>$M$1,$K125=\"\"),$M$2,$K125)),AND(AP$1>=$J126,AP$1<=IF(AND($J126>$M$1,$K126=\"\"),$M$2,$K126)),AND(AP$1>=$J127,AP$1<=IF(AND($J127>$M$1,$K127=\"\"),$M$2,$K127)),AND(AP$1>=$J128,AP$1<=IF(AND($J128>$M$1,$K128=\"\"),$M$2,$K128)),AND(AP$1>=$J129,AP$1<=IF(AND($J129>$M$1,$K129=\"\"),$M$2,$K129))),$J$3,\"\"))","v":""},{"$f":"IF(AQ$1=\"\",\"\",IF(OR(AND(AQ$1>=$J125,AQ$1<=IF(AND($J125>$M$1,$K125=\"\"),$M$2,$K125)),AND(AQ$1>=$J126,AQ$1<=IF(AND($J126>$M$1,$K126=\"\"),$M$2,$K126)),AND(AQ$1>=$J127,AQ$1<=IF(AND($J127>$M$1,$K127=\"\"),$M$2,$K127)),AND(AQ$1>=$J128,AQ$1<=IF(AND($J128>$M$1,$K128=\"\"),$M$2,$K128)),AND(AQ$1>=$J129,AQ$1<=IF(AND($J129>$M$1,$K129=\"\"),$M$2,$K129))),$J$3,\"\"))","v":""},{"$f":"IF(AR$1=\"\",\"\",IF(OR(AND(AR$1>=$J125,AR$1<=IF(AND($J125>$M$1,$K125=\"\"),$M$2,$K125)),AND(AR$1>=$J126,AR$1<=IF(AND($J126>$M$1,$K126=\"\"),$M$2,$K126)),AND(AR$1>=$J127,AR$1<=IF(AND($J127>$M$1,$K127=\"\"),$M$2,$K127)),AND(AR$1>=$J128,AR$1<=IF(AND($J128>$M$1,$K128=\"\"),$M$2,$K128)),AND(AR$1>=$J129,AR$1<=IF(AND($J129>$M$1,$K129=\"\"),$M$2,$K129))),$J$3,\"\"))","v":""}]
[{"$f":"стр.1!C63","v":5055},{"$f":"IFERROR(VLOOKUP(A130,стр.1!$A$13:$D$106,2,FALSE),\"\")","v":"Орлов"},{"$f":"IFERROR(VLOOKUP(A130,стр.1!$A$13:$D$106,4,FALSE),\"\")","v":"сборная"},null,null,null,null,null,null,null,null,null,null,{"$f":"N131&N132&N133&N134","v":""},{"$f":"O131&O132&O133&O134","v":""},{"$f":"P131&P132&P133&P134","v":""},{"$f":"Q131&Q132&Q133&Q134","v":""},{"$f":"R131&R132&R133&R134","v":""},{"$f":"S131&S132&S133&S134","v":""},{"$f":"T131&T132&T133&T134","v":""},{"$f":"U131&U132&U133&U134","v":""},{"$f":"V131&V132&V133&V134","v":""},{"$f":"W131&W132&W133&W134","v":""},{"$f":"X131&X132&X133&X134","v":""},{"$f":"Y131&Y132&Y133&Y134","v":""},{"$f":"Z131&Z132&Z133&Z134","v":""},{"$f":"AA131&AA132&AA133&AA134","v":""},{"$f":"AB131&AB132&AB133&AB134","v":""},{"$f":"AC131&AC132&AC133&AC134","v":""},{"$f":"AD131&AD132&AD133&AD134","v":""},{"$f":"AE131&AE132&AE133&AE134","v":""},{"$f":"AF131&AF132&AF133&AF134","v":""},{"$f":"AG131&AG132&AG133&AG134","v":""},{"$f":"AH131&AH132&AH133&AH134","v":""},{"$f":"AI131&AI132&AI133&AI134","v":""},{"$f":"AJ131&AJ132&AJ133&AJ134","v":""},{"$f":"AK131&AK132&AK133&AK134","v":""},{"$f":"AL131&AL132&AL133&AL134","v":""},{"$f":"AM131&AM132&AM133&AM134","v":""},{"$f":"AN131&AN132&AN133&AN134","v":""},{"$f":"AO131&AO132&AO133&AO134","v":""},{"$f":"AP131&AP132&AP133&AP134","v":""},{"$f":"AQ131&AQ132&AQ133&AQ134","v":""},{"$f":"AR131&AR132&AR133&AR134","v":""}]
[null,null,null,null,null,null,null,null,null,null,null,null,null,{"$f":"IF(OR(AND(N$1>=$D130,N$1<=IF(AND($D130>$M$1,$E130=\"\"),$M$2,$E130)),AND(N$1>=$D131,N$1<=IF(AND($D131>$M$1,$E131=\"\"),$M$2,$E131)),AND(N$1>=$D132,N$1<=IF(AND($D132>$M$1,$E132=\"\"),$M$2,$E132)),AND(N$1>=$D133,N$1<=IF(AND($D133>$M$1,$E133=\"\"),$M$2,$E133))),$D$3,\"\")","v":""},{"$f":"IF(OR(AND(O$1>=$D130,O$1<=IF(AND($D130>$M$1,$E130=\"\"),$M$2,$E130)),AND(O$1>=$D131,O$1<=IF(AND($D131>$M$1,$E131=\"\"),$M$2,$E131)),AND(O$1>=$D132,O$1<=IF(AND($D132>$M$1,$E132=\"\"),$M$2,$E132)),AND(O$1>=$D133,O$1<=IF(AND($D133>$M$1,$E133=\"\"),$M$2,$E133))),$D$3,\"\")","v":""},"","","","","","","","","","","","","","","","","","","","","","","","","","",{"$f":"IF(AP$1=\"\",\"\",IF(OR(AND(AP$1>=$D130,AP$1<=IF(AND($D130>$M$1,$E130=\"\"),$M$2,$E130)),AND(AP$1>=$D131,AP$1<=IF(AND($D131>$M$1,$E131=\"\"),$M$2,$E131)),AND(AP$1>=$D132,AP$1<=IF(AND($D132>$M$1,$E132=\"\"),$M$2,$E132)),AND(AP$1>=$D133,AP$1<=IF(AND($D133>$M$1,$E133=\"\"),$M$2,$E133))),$D$3,\"\"))","v":""},{"$f":"IF(AQ$1=\"\",\"\",IF(OR(AND(AQ$1>=$D130,AQ$1<=IF(AND($D130>$M$1,$E130=\"\"),$M$2,$E130)),AND(AQ$1>=$D131,AQ$1<=IF(AND($D131>$M$1,$E131=\"\"),$M$2,$E131)),AND(AQ$1>=$D132,AQ$1<=IF(AND($D132>$M$1,$E132=\"\"),$M$2,$E132)),AND(AQ$1>=$D133,AQ$1<=IF(AND($D133>$M$1,$E133=\"\"),$M$2,$E133))),$D$3,\"\"))","v":""},""]
[null,null,null,null,null,null,null,null,null,null,null,null,null,{"$f":"IF(OR(AND(N$1>=$F130,N$1<=IF(AND($F130>$M$1,$G130=\"\"),$M$2,$G130)),AND(N$1>=$F131,N$1<=IF(AND($F131>$M$1,$G131=\"\"),$M$2,$G131)),AND(N$1>=$F132,N$1<=IF(AND($F132>$M$1,$G132=\"\"),$M$2,$G132)),AND(N$1>=$F133,N$1<=IF(AND($F133>$M$1,$G133=\"\"),$M$2,$G133))),$F$3,\"\")","v":""},{"$f":"IF(OR(AND(O$1>=$F130,O$1<=IF(AND($F130>$M$1,$G130=\"\"),$M$2,$G130)),AND(O$1>=$F131,O$1<=IF(AND($F131>$M$1,$G131=\"\"),$M$2,$G131)),AND(O$1>=$F132,O$1<=IF(AND($F132>$M$1,$G132=\"\"),$M$2,$G132)),AND(O$1>=$F133,O$1<=IF(AND($F133>$M$1,$G133=\"\"),$M$2,$G133))),$F$3,\"\")","v":""},"","","","","","","","","","","","","","","","","","","","","","","","","","",{"$f":"IF(AP$1=\"\",\"\",IF(OR(AND(AP$1>=$F130,AP$1<=IF(AND($F130>$M$1,$G130=\"\"),$M$2,$G130)),AND(AP$1>=$F131,AP$1<=IF(AND($F131>$M$1,$G131=\"\"),$M$2,$G131)),AND(AP$1>=$F132,AP$1<=IF(AND($F132>$M$1,$G132=\"\"),$M$2,$G132)),AND(AP$1>=$F133,AP$1<=IF(AND($F133>$M$1,$G133=\"\"),$M$2,$G133))),$F$3,\"\"))","v":""},{"$f":"IF(AQ$1=\"\",\"\",IF(OR(AND(AQ$1>=$F130,AQ$1<=IF(AND($F130>$M$1,$G130=\"\"),$M$2,$G130)),AND(AQ$1>=$F131,AQ$1<=IF(AND($F131>$M$1,$G131=\"\"),$M$2,$G131)),AND(AQ$1>=$F132,AQ$1<=IF(AND($F132>$M$1,$G132=\"\"),$M$2,$G132)),AND(AQ$1>=$F133,AQ$1<=IF(AND($F133>$M$1,$G133=\"\"),$M$2,$G133))),$F$3,\"\"))","v":""},""]
[null,null,null,null,null,null,null,null,null,null,null,null,null,{"$f":"IF(OR(AND(N$1>=$H130,N$1<=IF(AND($H130>$M$1,$I130=\"\"),$M$2,$I130)),AND(N$1>=$H131,N$1<=IF(AND($H131>$M$1,$I131=\"\"),$M$2,$I131)),AND(N$1>=$H132,N$1<=IF(AND($H132>$M$1,$I132=\"\"),$M$2,$I132)),AND(N$1>=$H133,N$1<=IF(AND($H133>$M$1,$I133=\"\"),$M$2,$I133))),$H$3,\"\")","v":""},"","","","","","","","","","","","","","","","","","","","","","","","","","","",{"$f":"IF(AP$1=\"\",\"\",IF(OR(AND(AP$1>=$H130,AP$1<=IF(AND($H130>$M$1,$I130=\"\"),$M$2,$I130)),AND(AP$1>=$H131,AP$1<=IF(AND($H131>$M$1,$I131=\"\"),$M$2,$I131)),AND(AP$1>=$H132,AP$1<=IF(AND($H132>$M$1,$I132=\"\"),$M$2,$I132)),AND(AP$1>=$H133,AP$1<=IF(AND($H133>$M$1,$I133=\"\"),$M$2,$I133))),$H$3,\"\"))","v":""},{"$f":"IF(AQ$1=\"\",\"\",IF(OR(AND(AQ$1>=$H130,AQ$1<=IF(AND($H130>$M$1,$I130=\"\"),$M$2,$I130)),AND(AQ$1>=$H131,AQ$1<=IF(AND($H131>$M$1,$I131=\"\"),$M$2,$I131)),AND(AQ$1>=$H132,AQ$1<=IF(AND($H132>$M$1,$I132=\"\"),$M$2,$I132)),AND(AQ$1>=$H133,AQ$1<=IF(AND($H133>$M$1,$I133=\"\"),$M$2,$I133))),$H$3,\"\"))","v":""},{"$f":"IF(AR$1=\"\",\"\",IF(OR(AND(AR$1>=$H130,AR$1<=IF(AND($H130>$M$1,$I130=\"\"),$M$2,$I130)),AND(AR$1>=$H131,AR$1<=IF(AND($H131>$M$1,$I131=\"\"),$M$2,$I131)),AND(AR$1>=$H132,AR$1<=IF(AND($H132>$M$1,$I132=\"\"),$M$2,$I132)),AND(AR$1>=$H133,AR$1<=IF(AND($H133>$M$1,$I133=\"\"),$M$2,$I133))),$H$3,\"\"))","v":""}]
[null,null,null,null,null,null,null,null,null,null,null,null,null,{"$f":"IF(OR(AND(N$1>=$J130,N$1<=IF(AND($J130>$M$1,$K130=\"\"),$M$2,$K130)),AND(N$1>=$J131,N$1<=IF(AND($J131>$M$1,$K131=\"\"),$M$2,$K131)),AND(N$1>=$J132,N$1<=IF(AND($J132>$M$1,$K132=\"\"),$M$2,$K132)),AND(N$1>=$J133,N$1<=IF(AND($J133>$M$1,$K133=\"\"),$M$2,$K133)),AND(N$1>=$J134,N$1<=IF(AND($J134>$M$1,$K134=\"\"),$M$2,$K134))),$J$3,\"\")","v":""},{"$f":"IF(OR(AND(O$1>=$J130,O$1<=IF(AND($J130>$M$1,$K130=\"\"),$M$2,$K130)),AND(O$1>=$J131,O$1<=IF(AND($J131>$M$1,$K131=\"\"),$M$2,$K131)),AND(O$1>=$J132,O$1<=IF(AND($J132>$M$1,$K132=\"\"),$M$2,$K132)),AND(O$1>=$J133,O$1<=IF(AND($J133>$M$1,$K133=\"\"),$M$2,$K133)),AND(O$1>=$J134,O$1<=IF(AND($J134>$M$1,$K134=\"\"),$M$2,$K134))),$J$3,\"\")","v":""},{"$f":"IF(OR(AND(P$1>=$J130,P$1<=IF(AND($J130>$M$1,$K130=\"\"),$M$2,$K130)),AND(P$1>=$J131,P$1<=IF(AND($J131>$M$1,$K131=\"\"),$M$2,$K131)),AND(P$1>=$J132,P$1<=IF(AND($J132>$M$1,$K132=\"\"),$M$2,$K132)),AND(P$1>=$J133,P$1<=IF(AND($J133>$M$1,$K133=\"\"),$M$2,$K133)),AND(P$1>=$J134,P$1<=IF(AND($J134>$M$1,$K134=\"\"),$M$2,$K134))),$J$3,\"\")","v":""},{"$f":"IF(OR(AND(Q$1>=$J130,Q$1<=IF(AND($J130>$M$1,$K130=\"\"),$M$2,$K130)),AND(Q$1>=$J131,Q$1<=IF(AND($J131>$M$1,$K131=\"\"),$M$2,$K131)),AND(Q$1>=$J132,Q$1<=IF(AND($J132>$M$1,$K132=\"\"),$M$2,$K132)),AND(Q$1>=$J133,Q$1<=IF(AND($J133>$M$1,$K133=\"\"),$M$2,$K133)),AND(Q$1>=$J134,Q$1<=IF(AND($J134>$M$1,$K134=\"\"),$M$2,$K134))),$J$3,\"\")","v":""},{"$f":"IF(OR(AND(R$1>=$J130,R$1<=IF(AND($J130>$M$1,$K130=\"\"),$M$2,$K130)),AND(R$1>=$J131,R$1<=IF(AND($J131>$M$1,$K131=\"\"),$M$2,$K131)),AND(R$1>=$J132,R$1<=IF(AND($J132>$M$1,$K132=\"\"),$M$2,$K132)),AND(R$1>=$J133,R$1<=IF(AND($J133>$M$1,$K133=\"\"),$M$2,$K133)),AND(R$1>=$J134,R$1<=IF(AND($J134>$M$1,$K134=\"\"),$M$2,$K134))),$J$3,\"\")","v":""},{"$f":"IF(OR(AND(S$1>=$J130,S$1<=IF(AND($J130>$M$1,$K130=\"\"),$M$2,$K130)),AND(S$1>=$J131,S$1<=IF(AND($J131>$M$1,$K131=\"\"),$M$2,$K131)),AND(S$1>=$J132,S$1<=IF(AND($J132>$M$1,$K132=\"\"),$M$2,$K132)),AND(S$1>=$J133,S$1<=IF(AND($J133>$M$1,$K133=\"\"),$M$2,$K133)),AND(S$1>=$J134,S$1<=IF(AND($J134>$M$1,$K134=\"\"),$M$2,$K134))),$J$3,\"\")","v":""},{"$f":"IF(OR(AND(T$1>=$J130,T$1<=IF(AND($J130>$M$1,$K130=\"\"),$M$2,$K130)),AND(T$1>=$J131,T$1<=IF(AND($J131>$M$1,$K131=\"\"),$M$2,$K131)),AND(T$1>=$J132,T$1<=IF(AND($J132>$M$1,$K132=\"\"),$M$2,$K132)),AND(T$1>=$J133,T$1<=IF(AND($J133>$M$1,$K133=\"\"),$M$2,$K133)),AND(T$1>=$J134,T$1<=IF(AND($J134>$M$1,$K134=\"\"),$M$2,$K134))),$J$3,\"\")","v":""},{"$f":"IF(OR(AND(U$1>=$J130,U$1<=IF(AND($J130>$M$1,$K130=\"\"),$M$2,$K130)),AND(U$1>=$J131,U$1<=IF(AND($J131>$M$1,$K131=\"\"),$M$2,$K131)),AND(U$1>=$J132,U$1<=IF(AND($J132>$M$1,$K132=\"\"),$M$2,$K132)),AND(U$1>=$J133,U$1<=IF(AND($J133>$M$1,$K133=\"\"),$M$2,$K133)),AND(U$1>=$J134,U$1<=IF(AND($J134>$M$1,$K134=\"\"),$M$2,$K134))),$J$3,\"\")","v":""},{"$f":"IF(OR(AND(V$1>=$J130,V$1<=IF(AND($J130>$M$1,$K130=\"\"),$M$2,$K130)),AND(V$1>=$J131,V$1<=IF(AND($J131>$M$1,$K131=\"\"),$M$2,$K131)),AND(V$1>=$J132,V$1<=IF(AND($J132>$M$1,$K132=\"\"),$M$2,$K132)),AND(V$1>=$J133,V$1<=IF(AND($J133>$M$1,$K133=\"\"),$M$2,$K133)),AND(V$1>=$J134,V$1<=IF(AND($J134>$M$1,$K134=\"\"),$M$2,$K134))),$J$3,\"\")","v":""},{"$f":"IF(OR(AND(W$1>=$J130,W$1<=IF(AND($J130>$M$1,$K130=\"\"),$M$2,$K130)),AND(W$1>=$J131,W$1<=IF(AND($J131>$M$1,$K131=\"\"),$M$2,$K131)),AND(W$1>=$J132,W$1<=IF(AND($J132>$M$1,$K132=\"\"),$M$2,$K132)),AND(W$1>=$J133,W$1<=IF(AND($J133>$M$1,$K133=\"\"),$M$2,$K133)),AND(W$1>=$J134,W$1<=IF(AND($J134>$M$1,$K134=\"\"),$M$2,$K134))),$J$3,\"\")","v":""},{"$f":"IF(OR(AND(X$1>=$J130,X$1<=IF(AND($J130>$M$1,$K130=\"\"),$M$2,$K130)),AND(X$1>=$J131,X$1<=IF(AND($J131>$M$1,$K131=\"\"),$M$2,$K131)),AND(X$1>=$J132,X$1<=IF(AND($J132>$M$1,$K132=\"\"),$M$2,$K132)),AND(X$1>=$J133,X$1<=IF(AND($J133>$M$1,$K133=\"\"),$M$2,$K133)),AND(X$1>=$J134,X$1<=IF(AND($J134>$M$1,$K134=\"\"),$M$2,$K134))),$J$3,\"\")","v":""},{"$f":"IF(OR(AND(Y$1>=$J130,Y$1<=IF(AND($J130>$M$1,$K130=\"\"),$M$2,$K130)),AND(Y$1>=$J131,Y$1<=IF(AND($J131>$M$1,$K131=\"\"),$M$2,$K131)),AND(Y$1>=$J132,Y$1<=IF(AND($J132>$M$1,$K132=\"\"),$M$2,$K132)),AND(Y$1>=$J133,Y$1<=IF(AND($J133>$M$1,$K133=\"\"),$M$2,$K133)),AND(Y$1>=$J134,Y$1<=IF(AND($J134>$M$1,$K134=\"\"),$M$2,$K134))),$J$3,\"\")","v":""},{"$f":"IF(OR(AND(Z$1>=$J130,Z$1<=IF(AND($J130>$M$1,$K130=\"\"),$M$2,$K130)),AND(Z$1>=$J131,Z$1<=IF(AND($J131>$M$1,$K131=\"\"),$M$2,$K131)),AND(Z$1>=$J132,Z$1<=IF(AND($J132>$M$1,$K132=\"\"),$M$2,$K132)),AND(Z$1>=$J133,Z$1<=IF(AND($J133>$M$1,$K133=\"\"),$M$2,$K133)),AND(Z$1>=$J134,Z$1<=IF(AND($J134>$M$1,$K134=\"\"),$M$2,$K134))),$J$3,\"\")","v":""},{"$f":"IF(OR(AND(AA$1>=$J130,AA$1<=IF(AND($J130>$M$1,$K130=\"\"),$M$2,$K130)),AND(AA$1>=$J131,AA$1<=IF(AND($J131>$M$1,$K131=\"\"),$M$2,$K131)),AND(AA$1>=$J132,AA$1<=IF(AND($J132>$M$1,$K132=\"\"),$M$2,$K132)),AND(AA$1>=$J133,AA$1<=IF(AND($J133>$M$1,$K133=\"\"),$M$2,$K133)),AND(AA$1>=$J134,AA$1<=IF(AND($J134>$M$1,$K134=\"\"),$M$2,$K134))),$J$3,\"\")","v":""},{"$f":"IF(OR(AND(AB$1>=$J130,AB$1<=IF(AND($J130>$M$1,$K130=\"\"),$M$2,$K130)),AND(AB$1>=$J131,AB$1<=IF(AND($J131>$M$1,$K131=\"\"),$M$2,$K131)),AND(AB$1>=$J132,AB$1<=IF(AND($J132>$M$1,$K132=\"\"),$M$2,$K132)),AND(AB$1>=$J133,AB$1<=IF(AND($J133>$M$1,$K133=\"\"),$M$2,$K133)),AND(AB$1>=$J134,AB$1<=IF(AND($J134>$M$1,$K134=\"\"),$M$2,$K134))),$J$3,\"\")","v":""},{"$f":"IF(OR(AND(AC$1>=$J130,AC$1<=IF(AND($J130>$M$1,$K130=\"\"),$M$2,$K130)),AND(AC$1>=$J131,AC$1<=IF(AND($J131>$M$1,$K131=\"\"),$M$2,$K131)),AND(AC$1>=$J132,AC$1<=IF(AND($J132>$M$1,$K132=\"\"),$M$2,$K132)),AND(AC$1>=$J133,AC$1<=IF(AND($J133>$M$1,$K133=\"\"),$M$2,$K133)),AND(AC$1>=$J134,AC$1<=IF(AND($J134>$M$1,$K134=\"\"),$M$2,$K134))),$J$3,\"\")","v":""},{"$f":"IF(OR(AND(AD$1>=$J130,AD$1<=IF(AND($J130>$M$1,$K130=\"\"),$M$2,$K130)),AND(AD$1>=$J131,AD$1<=IF(AND($J131>$M$1,$K131=\"\"),$M$2,$K131)),AND(AD$1>=$J132,AD$1<=IF(AND($J132>$M$1,$K132=\"\"),$M$2,$K132)),AND(AD$1>=$J133,AD$1<=IF(AND($J133>$M$1,$K133=\"\"),$M$2,$K133)),AND(AD$1>=$J134,AD$1<=IF(AND($J134>$M$1,$K134=\"\"),$M$2,$K134))),$J$3,\"\")","v":""},{"$f":"IF(OR(AND(AE$1>=$J130,AE$1<=IF(AND($J130>$M$1,$K130=\"\"),$M$2,$K130)),AND(AE$1>=$J131,AE$1<=IF(AND($J131>$M$1,$K131=\"\"),$M$2,$K131)),AND(AE$1>=$J132,AE$1<=IF(AND($J132>$M$1,$K132=\"\"),$M$2,$K132)),AND(AE$1>=$J133,AE$1<=IF(AND($J133>$M$1,$K133=\"\"),$M$2,$K133)),AND(AE$1>=$J134,AE$1<=IF(AND($J134>$M$1,$K134=\"\"),$M$2,$K134))),$J$3,\"\")","v":""},{"$f":"IF(OR(AND(AF$1>=$J130,AF$1<=IF(AND($J130>$M$1,$K130=\"\"),$M$2,$K130)),AND(AF$1>=$J131,AF$1<=IF(AND($J131>$M$1,$K131=\"\"),$M$2,$K131)),AND(AF$1>=$J132,AF$1<=IF(AND($J132>$M$1,$K132=\"\"),$M$2,$K132)),AND(AF$1>=$J133,AF$1<=IF(AND($J133>$M$1,$K133=\"\"),$M$2,$K133)),AND(AF$1>=$J134,AF$1<=IF(AND($J134>$M$1,$K134=\"\"),$M$2,$K134))),$J$3,\"\")","v":""},{"$f":"IF(OR(AND(AG$1>=$J130,AG$1<=IF(AND($J130>$M$1,$K130=\"\"),$M$2,$K130)),AND(AG$1>=$J131,AG$1<=IF(AND($J131>$M$1,$K131=\"\"),$M$2,$K131)),AND(AG$1>=$J132,AG$1<=IF(AND($J132>$M$1,$K132=\"\"),$M$2,$K132)),AND(AG$1>=$J133,AG$1<=IF(AND($J133>$M$1,$K133=\"\"),$M$2,$K133)),AND(AG$1>=$J134,AG$1<=IF(AND($J134>$M$1,$K134=\"\"),$M$2,$K134))),$J$3,\"\")","v":""},{"$f":"IF(OR(AND(AH$1>=$J130,AH$1<=IF(AND($J130>$M$1,$K130=\"\"),$M$2,$K130)),AND(AH$1>=$J131,AH$1<=IF(AND($J131>$M$1,$K131=\"\"),$M$2,$K131)),AND(AH$1>=$J132,AH$1<=IF(AND($J132>$M$1,$K132=\"\"),$M$2,$K132)),AND(AH$1>=$J133,AH$1<=IF(AND($J133>$M$1,$K133=\"\"),$M$2,$K133)),AND(AH$1>=$J134,AH$1<=IF(AND($J134>$M$1,$K134=\"\"),$M$2,$K134))),$J$3,\"\")","v":""},{"$f":"IF(OR(AND(AI$1>=$J130,AI$1<=IF(AND($J130>$M$1,$K130=\"\"),$M$2,$K130)),AND(AI$1>=$J131,AI$1<=IF(AND($J131>$M$1,$K131=\"\"),$M$2,$K131)),AND(AI$1>=$J132,AI$1<=IF(AND($J132>$M$1,$K132=\"\"),$M$2,$K132)),AND(AI$1>=$J133,AI$1<=IF(AND($J133>$M$1,$K133=\"\"),$M$2,$K133)),AND(AI$1>=$J134,AI$1<=IF(AND($J134>$M$1,$K134=\"\"),$M$2,$K134))),$J$3,\"\")","v":""},{"$f":"IF(OR(AND(AJ$1>=$J130,AJ$1<=IF(AND($J130>$M$1,$K130=\"\"),$M$2,$K130)),AND(AJ$1>=$J131,AJ$1<=IF(AND($J131>$M$1,$K131=\"\"),$M$2,$K131)),AND(AJ$1>=$J132,AJ$1<=IF(AND($J132>$M$1,$K132=\"\"),$M$2,$K132)),AND(AJ$1>=$J133,AJ$1<=IF(AND($J133>$M$1,$K133=\"\"),$M$2,$K133)),AND(AJ$1>=$J134,AJ$1<=IF(AND($J134>$M$1,$K134=\"\"),$M$2,$K134))),$J$3,\"\")","v":""},{"$f":"IF(OR(AND(AK$1>=$J130,AK$1<=IF(AND($J130>$M$1,$K130=\"\"),$M$2,$K130)),AND(AK$1>=$J131,AK$1<=IF(AND($J131>$M$1,$K131=\"\"),$M$2,$K131)),AND(AK$1>=$J132,AK$1<=IF(AND($J132>$M$1,$K132=\"\"),$M$2,$K132)),AND(AK$1>=$J133,AK$1<=IF(AND($J133>$M$1,$K133=\"\"),$M$2,$K133)),AND(AK$1>=$J134,AK$1<=IF(AND($J134>$M$1,$K134=\"\"),$M$2,$K134))),$J$3,\"\")","v":""},{"$f":"IF(OR(AND(AL$1>=$J130,AL$1<=IF(AND($J130>$M$1,$K130=\"\"),$M$2,$K130)),AND(AL$1>=$J131,AL$1<=IF(AND($J131>$M$1,$K131=\"\"),$M$2,$K131)),AND(AL$1>=$J132,AL$1<=IF(AND($J132>$M$1,$K132=\"\"),$M$2,$K132)),AND(AL$1>=$J133,AL$1<=IF(AND($J133>$M$1,$K133=\"\"),$M$2,$K133)),AND(AL$1>=$J134,AL$1<=IF(AND($J134>$M$1,$K134=\"\"),$M$2,$K134))),$J$3,\"\")","v":""},{"$f":"IF(OR(AND(AM$1>=$J130,AM$1<=IF(AND($J130>$M$1,$K130=\"\"),$M$2,$K130)),AND(AM$1>=$J131,AM$1<=IF(AND($J131>$M$1,$K131=\"\"),$M$2,$K131)),AND(AM$1>=$J132,AM$1<=IF(AND($J132>$M$1,$K132=\"\"),$M$2,$K132)),AND(AM$1>=$J133,AM$1<=IF(AND($J133>$M$1,$K133=\"\"),$M$2,$K133)),AND(AM$1>=$J134,AM$1<=IF(AND($J134>$M$1,$K134=\"\"),$M$2,$K134))),$J$3,\"\")","v":""},{"$f":"IF(OR(AND(AN$1>=$J130,AN$1<=IF(AND($J130>$M$1,$K130=\"\"),$M$2,$K130)),AND(AN$1>=$J131,AN$1<=IF(AND($J131>$M$1,$K131=\"\"),$M$2,$K131)),AND(AN$1>=$J132,AN$1<=IF(AND($J132>$M$1,$K132=\"\"),$M$2,$K132)),AND(AN$1>=$J133,AN$1<=IF(AND($J133>$M$1,$K133=\"\"),$M$2,$K133)),AND(AN$1>=$J134,AN$1<=IF(AND($J134>$M$1,$K134=\"\"),$M$2,$K134))),$J$3,\"\")","v":""},{"$f":"IF(OR(AND(AO$1>=$J130,AO$1<=IF(AND($J130>$M$1,$K130=\"\"),$M$2,$K130)),AND(AO$1>=$J131,AO$1<=IF(AND($J131>$M$1,$K131=\"\"),$M$2,$K131)),AND(AO$1>=$J132,AO$1<=IF(AND($J132>$M$1,$K132=\"\"),$M$2,$K132)),AND(AO$1>=$J133,AO$1<=IF(AND($J133>$M$1,$K133=\"\"),$M$2,$K133)),AND(AO$1>=$J134,AO$1<=IF(AND($J134>$M$1,$K134=\"\"),$M$2,$K134))),$J$3,\"\")","v":""},{"$f":"IF(AP$1=\"\",\"\",IF(OR(AND(AP$1>=$J130,AP$1<=IF(AND($J130>$M$1,$K130=\"\"),$M$2,$K130)),AND(AP$1>=$J131,AP$1<=IF(AND($J131>$M$1,$K131=\"\"),$M$2,$K131)),AND(AP$1>=$J132,AP$1<=IF(AND($J132>$M$1,$K132=\"\"),$M$2,$K132)),AND(AP$1>=$J133,AP$1<=IF(AND($J133>$M$1,$K133=\"\"),$M$2,$K133)),AND(AP$1>=$J134,AP$1<=IF(AND($J134>$M$1,$K134=\"\"),$M$2,$K134))),$J$3,\"\"))","v":""},{"$f":"IF(AQ$1=\"\",\"\",IF(OR(AND(AQ$1>=$J130,AQ$1<=IF(AND($J130>$M$1,$K130=\"\"),$M$2,$K130)),AND(AQ$1>=$J131,AQ$1<=IF(AND($J131>$M$1,$K131=\"\"),$M$2,$K131)),AND(AQ$1>=$J132,AQ$1<=IF(AND($J132>$M$1,$K132=\"\"),$M$2,$K132)),AND(AQ$1>=$J133,AQ$1<=IF(AND($J133>$M$1,$K133=\"\"),$M$2,$K133)),AND(AQ$1>=$J134,AQ$1<=IF(AND($J134>$M$1,$K134=\"\"),$M$2,$K134))),$J$3,\"\"))","v":""},{"$f":"IF(AR$1=\"\",\"\",IF(OR(AND(AR$1>=$J130,AR$1<=IF(AND($J130>$M$1,$K130=\"\"),$M$2,$K130)),AND(AR$1>=$J131,AR$1<=IF(AND($J131>$M$1,$K131=\"\"),$M$2,$K131)),AND(AR$1>=$J132,AR$1<=IF(AND($J132>$M$1,$K132=\"\"),$M$2,$K132)),AND(AR$1>=$J133,AR$1<=IF(AND($J133>$M$1,$K133=\"\"),$M$2,$K133)),AND(AR$1>=$J134,AR$1<=IF(AND($J134>$M$1,$K134=\"\"),$M$2,$K134))),$J$3,\"\"))","v":""}]
[{"$f":"стр.1!C65","v":5155},{"$f":"IFERROR(VLOOKUP(A135,стр.1!$A$13:$D$106,2,FALSE),\"\")","v":"Мышкин"},{"$f":"IFERROR(VLOOKUP(A135,стр.1!$A$13:$D$106,4,FALSE),\"\")","v":"сборная"},null,null,null,null,null,null,null,null,null,null,{"$f":"N136&N137&N138&N139","v":""},{"$f":"O136&O137&O138&O139","v":""},{"$f":"P136&P137&P138&P139","v":""},{"$f":"Q136&Q137&Q138&Q139","v":""},{"$f":"R136&R137&R138&R139","v":""},{"$f":"S136&S137&S138&S139","v":""},{"$f":"T136&T137&T138&T139","v":""},{"$f":"U136&U137&U138&U139","v":""},{"$f":"V136&V137&V138&V139","v":""},{"$f":"W136&W137&W138&W139","v":""},{"$f":"X136&X137&X138&X139","v":""},{"$f":"Y136&Y137&Y138&Y139","v":""},{"$f":"Z136&Z137&Z138&Z139","v":""},{"$f":"AA136&AA137&AA138&AA139","v":""},{"$f":"AB136&AB137&AB138&AB139","v":""},{"$f":"AC136&AC137&AC138&AC139","v":""},{"$f":"AD136&AD137&AD138&AD139","v":""},{"$f":"AE136&AE137&AE138&AE139","v":""},{"$f":"AF136&AF137&AF138&AF139","v":""},{"$f":"AG136&AG137&AG138&AG139","v":""},{"$f":"AH136&AH137&AH138&AH139","v":""},{"$f":"AI136&AI137&AI138&AI139","v":""},{"$f":"AJ136&AJ137&AJ138&AJ139","v":""},{"$f":"AK136&AK137&AK138&AK139","v":""},{"$f":"AL136&AL137&AL138&AL139","v":""},{"$f":"AM136&AM137&AM138&AM139","v":""},{"$f":"AN136&AN137&AN138&AN139","v":""},{"$f":"AO136&AO137&AO138&AO139","v":""},{"$f":"AP136&AP137&AP138&AP139","v":""},{"$f":"AQ136&AQ137&AQ138&AQ139","v":""},{"$f":"AR136&AR137&AR138&AR139","v":""}]
[null,null,null,null,null,null,null,null,null,null,null,null,null,{"$f":"IF(OR(AND(N$1>=$D135,N$1<=IF(AND($D135>$M$1,$E135=\"\"),$M$2,$E135)),AND(N$1>=$D136,N$1<=IF(AND($D136>$M$1,$E136=\"\"),$M$2,$E136)),AND(N$1>=$D137,N$1<=IF(AND($D137>$M$1,$E137=\"\"),$M$2,$E137)),AND(N$1>=$D138,N$1<=IF(AND($D138>$M$1,$E138=\"\"),$M$2,$E138))),$D$3,\"\")","v":""},{"$f":"IF(OR(AND(O$1>=$D135,O$1<=IF(AND($D135>$M$1,$E135=\"\"),$M$2,$E135)),AND(O$1>=$D136,O$1<=IF(AND($D136>$M$1,$E136=\"\"),$M$2,$E136)),AND(O$1>=$D137,O$1<=IF(AND($D137>$M$1,$E137=\"\"),$M$2,$E137)),AND(O$1>=$D138,O$1<=IF(AND($D138>$M$1,$E138=\"\"),$M$2,$E138))),$D$3,\"\")","v":""},"","","","","","","","","","","","","","","","","","","","","","","","","","",{"$f":"IF(AP$1=\"\",\"\",IF(OR(AND(AP$1>=$D135,AP$1<=IF(AND($D135>$M$1,$E135=\"\"),$M$2,$E135)),AND(AP$1>=$D136,AP$1<=IF(AND($D136>$M$1,$E136=\"\"),$M$2,$E136)),AND(AP$1>=$D137,AP$1<=IF(AND($D137>$M$1,$E137=\"\"),$M$2,$E137)),AND(AP$1>=$D138,AP$1<=IF(AND($D138>$M$1,$E138=\"\"),$M$2,$E138))),$D$3,\"\"))","v":""},{"$f":"IF(AQ$1=\"\",\"\",IF(OR(AND(AQ$1>=$D135,AQ$1<=IF(AND($D135>$M$1,$E135=\"\"),$M$2,$E135)),AND(AQ$1>=$D136,AQ$1<=IF(AND($D136>$M$1,$E136=\"\"),$M$2,$E136)),AND(AQ$1>=$D137,AQ$1<=IF(AND($D137>$M$1,$E137=\"\"),$M$2,$E137)),AND(AQ$1>=$D138,AQ$1<=IF(AND($D138>$M$1,$E138=\"\"),$M$2,$E138))),$D$3,\"\"))","v":""},""]
[null,null,null,null,null,null,null,null,null,null,null,null,null,{"$f":"IF(OR(AND(N$1>=$F135,N$1<=IF(AND($F135>$M$1,$G135=\"\"),$M$2,$G135)),AND(N$1>=$F136,N$1<=IF(AND($F136>$M$1,$G136=\"\"),$M$2,$G136)),AND(N$1>=$F137,N$1<=IF(AND($F137>$M$1,$G137=\"\"),$M$2,$G137)),AND(N$1>=$F138,N$1<=IF(AND($F138>$M$1,$G138=\"\"),$M$2,$G138))),$F$3,\"\")","v":""},{"$f":"IF(OR(AND(O$1>=$F135,O$1<=IF(AND($F135>$M$1,$G135=\"\"),$M$2,$G135)),AND(O$1>=$F136,O$1<=IF(AND($F136>$M$1,$G136=\"\"),$M$2,$G136)),AND(O$1>=$F137,O$1<=IF(AND($F137>$M$1,$G137=\"\"),$M$2,$G137)),AND(O$1>=$F138,O$1<=IF(AND($F138>$M$1,$G138=\"\"),$M$2,$G138))),$F$3,\"\")","v":""},"","","","","","","","","","","","","","","","","","","","","","","","","","",{"$f":"IF(AP$1=\"\",\"\",IF(OR(AND(AP$1>=$F135,AP$1<=IF(AND($F135>$M$1,$G135=\"\"),$M$2,$G135)),AND(AP$1>=$F136,AP$1<=IF(AND($F136>$M$1,$G136=\"\"),$M$2,$G136)),AND(AP$1>=$F137,AP$1<=IF(AND($F137>$M$1,$G137=\"\"),$M$2,$G137)),AND(AP$1>=$F138,AP$1<=IF(AND($F138>$M$1,$G138=\"\"),$M$2,$G138))),$F$3,\"\"))","v":""},{"$f":"IF(AQ$1=\"\",\"\",IF(OR(AND(AQ$1>=$F135,AQ$1<=IF(AND($F135>$M$1,$G135=\"\"),$M$2,$G135)),AND(AQ$1>=$F136,AQ$1<=IF(AND($F136>$M$1,$G136=\"\"),$M$2,$G136)),AND(AQ$1>=$F137,AQ$1<=IF(AND($F137>$M$1,$G137=\"\"),$M$2,$G137)),AND(AQ$1>=$F138,AQ$1<=IF(AND($F138>$M$1,$G138=\"\"),$M$2,$G138))),$F$3,\"\"))","v":""},""]
[null,null,null,null,null,null,null,null,null,null,null,null,null,{"$f":"IF(OR(AND(N$1>=$H135,N$1<=IF(AND($H135>$M$1,$I135=\"\"),$M$2,$I135)),AND(N$1>=$H136,N$1<=IF(AND($H136>$M$1,$I136=\"\"),$M$2,$I136)),AND(N$1>=$H137,N$1<=IF(AND($H137>$M$1,$I137=\"\"),$M$2,$I137)),AND(N$1>=$H138,N$1<=IF(AND($H138>$M$1,$I138=\"\"),$M$2,$I138))),$H$3,\"\")","v":""},"","","","","","","","","","","","","","","","","","","","","","","","","","","",{"$f":"IF(AP$1=\"\",\"\",IF(OR(AND(AP$1>=$H135,AP$1<=IF(AND($H135>$M$1,$I135=\"\"),$M$2,$I135)),AND(AP$1>=$H136,AP$1<=IF(AND($H136>$M$1,$I136=\"\"),$M$2,$I136)),AND(AP$1>=$H137,AP$1<=IF(AND($H137>$M$1,$I137=\"\"),$M$2,$I137)),AND(AP$1>=$H138,AP$1<=IF(AND($H138>$M$1,$I138=\"\"),$M$2,$I138))),$H$3,\"\"))","v":""},{"$f":"IF(AQ$1=\"\",\"\",IF(OR(AND(AQ$1>=$H135,AQ$1<=IF(AND($H135>$M$1,$I135=\"\"),$M$2,$I135)),AND(AQ$1>=$H136,AQ$1<=IF(AND($H136>$M$1,$I136=\"\"),$M$2,$I136)),AND(AQ$1>=$H137,AQ$1<=IF(AND($H137>$M$1,$I137=\"\"),$M$2,$I137)),AND(AQ$1>=$H138,AQ$1<=IF(AND($H138>$M$1,$I138=\"\"),$M$2,$I138))),$H$3,\"\"))","v":""},{"$f":"IF(AR$1=\"\",\"\",IF(OR(AND(AR$1>=$H135,AR$1<=IF(AND($H135>$M$1,$I135=\"\"),$M$2,$I135)),AND(AR$1>=$H136,AR$1<=IF(AND($H136>$M$1,$I136=\"\"),$M$2,$I136)),AND(AR$1>=$H137,AR$1<=IF(AND($H137>$M$1,$I137=\"\"),$M$2,$I137)),AND(AR$1>=$H138,AR$1<=IF(AND($H138>$M$1,$I138=\"\"),$M$2,$I138))),$H$3,\"\"))","v":""}]
[null,null,null,null,null,null,null,null,null,null,null,null,null,{"$f":"IF(OR(AND(N$1>=$J135,N$1<=IF(AND($J135>$M$1,$K135=\"\"),$M$2,$K135)),AND(N$1>=$J136,N$1<=IF(AND($J136>$M$1,$K136=\"\"),$M$2,$K136)),AND(N$1>=$J137,N$1<=IF(AND($J137>$M$1,$K137=\"\"),$M$2,$K137)),AND(N$1>=$J138,N$1<=IF(AND($J138>$M$1,$K138=\"\"),$M$2,$K138)),AND(N$1>=$J139,N$1<=IF(AND($J139>$M$1,$K139=\"\"),$M$2,$K139))),$J$3,\"\")","v":""},{"$f":"IF(OR(AND(O$1>=$J135,O$1<=IF(AND($J135>$M$1,$K135=\"\"),$M$2,$K135)),AND(O$1>=$J136,O$1<=IF(AND($J136>$M$1,$K136=\"\"),$M$2,$K136)),AND(O$1>=$J137,O$1<=IF(AND($J137>$M$1,$K137=\"\"),$M$2,$K137)),AND(O$1>=$J138,O$1<=IF(AND($J138>$M$1,$K138=\"\"),$M$2,$K138)),AND(O$1>=$J139,O$1<=IF(AND($J139>$M$1,$K139=\"\"),$M$2,$K139))),$J$3,\"\")","v":""},{"$f":"IF(OR(AND(P$1>=$J135,P$1<=IF(AND($J135>$M$1,$K135=\"\"),$M$2,$K135)),AND(P$1>=$J136,P$1<=IF(AND($J136>$M$1,$K136=\"\"),$M$2,$K136)),AND(P$1>=$J137,P$1<=IF(AND($J137>$M$1,$K137=\"\"),$M$2,$K137)),AND(P$1>=$J138,P$1<=IF(AND($J138>$M$1,$K138=\"\"),$M$2,$K138)),AND(P$1>=$J139,P$1<=IF(AND($J139>$M$1,$K139=\"\"),$M$2,$K139))),$J$3,\"\")","v":""},{"$f":"IF(OR(AND(Q$1>=$J135,Q$1<=IF(AND($J135>$M$1,$K135=\"\"),$M$2,$K135)),AND(Q$1>=$J136,Q$1<=IF(AND($J136>$M$1,$K136=\"\"),$M$2,$K136)),AND(Q$1>=$J137,Q$1<=IF(AND($J137>$M$1,$K137=\"\"),$M$2,$K137)),AND(Q$1>=$J138,Q$1<=IF(AND($J138>$M$1,$K138=\"\"),$M$2,$K138)),AND(Q$1>=$J139,Q$1<=IF(AND($J139>$M$1,$K139=\"\"),$M$2,$K139))),$J$3,\"\")","v":""},{"$f":"IF(OR(AND(R$1>=$J135,R$1<=IF(AND($J135>$M$1,$K135=\"\"),$M$2,$K135)),AND(R$1>=$J136,R$1<=IF(AND($J136>$M$1,$K136=\"\"),$M$2,$K136)),AND(R$1>=$J137,R$1<=IF(AND($J137>$M$1,$K137=\"\"),$M$2,$K137)),AND(R$1>=$J138,R$1<=IF(AND($J138>$M$1,$K138=\"\"),$M$2,$K138)),AND(R$1>=$J139,R$1<=IF(AND($J139>$M$1,$K139=\"\"),$M$2,$K139))),$J$3,\"\")","v":""},{"$f":"IF(OR(AND(S$1>=$J135,S$1<=IF(AND($J135>$M$1,$K135=\"\"),$M$2,$K135)),AND(S$1>=$J136,S$1<=IF(AND($J136>$M$1,$K136=\"\"),$M$2,$K136)),AND(S$1>=$J137,S$1<=IF(AND($J137>$M$1,$K137=\"\"),$M$2,$K137)),AND(S$1>=$J138,S$1<=IF(AND($J138>$M$1,$K138=\"\"),$M$2,$K138)),AND(S$1>=$J139,S$1<=IF(AND($J139>$M$1,$K139=\"\"),$M$2,$K139))),$J$3,\"\")","v":""},{"$f":"IF(OR(AND(T$1>=$J135,T$1<=IF(AND($J135>$M$1,$K135=\"\"),$M$2,$K135)),AND(T$1>=$J136,T$1<=IF(AND($J136>$M$1,$K136=\"\"),$M$2,$K136)),AND(T$1>=$J137,T$1<=IF(AND($J137>$M$1,$K137=\"\"),$M$2,$K137)),AND(T$1>=$J138,T$1<=IF(AND($J138>$M$1,$K138=\"\"),$M$2,$K138)),AND(T$1>=$J139,T$1<=IF(AND($J139>$M$1,$K139=\"\"),$M$2,$K139))),$J$3,\"\")","v":""},{"$f":"IF(OR(AND(U$1>=$J135,U$1<=IF(AND($J135>$M$1,$K135=\"\"),$M$2,$K135)),AND(U$1>=$J136,U$1<=IF(AND($J136>$M$1,$K136=\"\"),$M$2,$K136)),AND(U$1>=$J137,U$1<=IF(AND($J137>$M$1,$K137=\"\"),$M$2,$K137)),AND(U$1>=$J138,U$1<=IF(AND($J138>$M$1,$K138=\"\"),$M$2,$K138)),AND(U$1>=$J139,U$1<=IF(AND($J139>$M$1,$K139=\"\"),$M$2,$K139))),$J$3,\"\")","v":""},{"$f":"IF(OR(AND(V$1>=$J135,V$1<=IF(AND($J135>$M$1,$K135=\"\"),$M$2,$K135)),AND(V$1>=$J136,V$1<=IF(AND($J136>$M$1,$K136=\"\"),$M$2,$K136)),AND(V$1>=$J137,V$1<=IF(AND($J137>$M$1,$K137=\"\"),$M$2,$K137)),AND(V$1>=$J138,V$1<=IF(AND($J138>$M$1,$K138=\"\"),$M$2,$K138)),AND(V$1>=$J139,V$1<=IF(AND($J139>$M$1,$K139=\"\"),$M$2,$K139))),$J$3,\"\")","v":""},{"$f":"IF(OR(AND(W$1>=$J135,W$1<=IF(AND($J135>$M$1,$K135=\"\"),$M$2,$K135)),AND(W$1>=$J136,W$1<=IF(AND($J136>$M$1,$K136=\"\"),$M$2,$K136)),AND(W$1>=$J137,W$1<=IF(AND($J137>$M$1,$K137=\"\"),$M$2,$K137)),AND(W$1>=$J138,W$1<=IF(AND($J138>$M$1,$K138=\"\"),$M$2,$K138)),AND(W$1>=$J139,W$1<=IF(AND($J139>$M$1,$K139=\"\"),$M$2,$K139))),$J$3,\"\")","v":""},{"$f":"IF(OR(AND(X$1>=$J135,X$1<=IF(AND($J135>$M$1,$K135=\"\"),$M$2,$K135)),AND(X$1>=$J136,X$1<=IF(AND($J136>$M$1,$K136=\"\"),$M$2,$K136)),AND(X$1>=$J137,X$1<=IF(AND($J137>$M$1,$K137=\"\"),$M$2,$K137)),AND(X$1>=$J138,X$1<=IF(AND($J138>$M$1,$K138=\"\"),$M$2,$K138)),AND(X$1>=$J139,X$1<=IF(AND($J139>$M$1,$K139=\"\"),$M$2,$K139))),$J$3,\"\")","v":""},{"$f":"IF(OR(AND(Y$1>=$J135,Y$1<=IF(AND($J135>$M$1,$K135=\"\"),$M$2,$K135)),AND(Y$1>=$J136,Y$1<=IF(AND($J136>$M$1,$K136=\"\"),$M$2,$K136)),AND(Y$1>=$J137,Y$1<=IF(AND($J137>$M$1,$K137=\"\"),$M$2,$K137)),AND(Y$1>=$J138,Y$1<=IF(AND($J138>$M$1,$K138=\"\"),$M$2,$K138)),AND(Y$1>=$J139,Y$1<=IF(AND($J139>$M$1,$K139=\"\"),$M$2,$K139))),$J$3,\"\")","v":""},{"$f":"IF(OR(AND(Z$1>=$J135,Z$1<=IF(AND($J135>$M$1,$K135=\"\"),$M$2,$K135)),AND(Z$1>=$J136,Z$1<=IF(AND($J136>$M$1,$K136=\"\"),$M$2,$K136)),AND(Z$1>=$J137,Z$1<=IF(AND($J137>$M$1,$K137=\"\"),$M$2,$K137)),AND(Z$1>=$J138,Z$1<=IF(AND($J138>$M$1,$K138=\"\"),$M$2,$K138)),AND(Z$1>=$J139,Z$1<=IF(AND($J139>$M$1,$K139=\"\"),$M$2,$K139))),$J$3,\"\")","v":""},{"$f":"IF(OR(AND(AA$1>=$J135,AA$1<=IF(AND($J135>$M$1,$K135=\"\"),$M$2,$K135)),AND(AA$1>=$J136,AA$1<=IF(AND($J136>$M$1,$K136=\"\"),$M$2,$K136)),AND(AA$1>=$J137,AA$1<=IF(AND($J137>$M$1,$K137=\"\"),$M$2,$K137)),AND(AA$1>=$J138,AA$1<=IF(AND($J138>$M$1,$K138=\"\"),$M$2,$K138)),AND(AA$1>=$J139,AA$1<=IF(AND($J139>$M$1,$K139=\"\"),$M$2,$K139))),$J$3,\"\")","v":""},{"$f":"IF(OR(AND(AB$1>=$J135,AB$1<=IF(AND($J135>$M$1,$K135=\"\"),$M$2,$K135)),AND(AB$1>=$J136,AB$1<=IF(AND($J136>$M$1,$K136=\"\"),$M$2,$K136)),AND(AB$1>=$J137,AB$1<=IF(AND($J137>$M$1,$K137=\"\"),$M$2,$K137)),AND(AB$1>=$J138,AB$1<=IF(AND($J138>$M$1,$K138=\"\"),$M$2,$K138)),AND(AB$1>=$J139,AB$1<=IF(AND($J139>$M$1,$K139=\"\"),$M$2,$K139))),$J$3,\"\")","v":""},{"$f":"IF(OR(AND(AC$1>=$J135,AC$1<=IF(AND($J135>$M$1,$K135=\"\"),$M$2,$K135)),AND(AC$1>=$J136,AC$1<=IF(AND($J136>$M$1,$K136=\"\"),$M$2,$K136)),AND(AC$1>=$J137,AC$1<=IF(AND($J137>$M$1,$K137=\"\"),$M$2,$K137)),AND(AC$1>=$J138,AC$1<=IF(AND($J138>$M$1,$K138=\"\"),$M$2,$K138)),AND(AC$1>=$J139,AC$1<=IF(AND($J139>$M$1,$K139=\"\"),$M$2,$K139))),$J$3,\"\")","v":""},{"$f":"IF(OR(AND(AD$1>=$J135,AD$1<=IF(AND($J135>$M$1,$K135=\"\"),$M$2,$K135)),AND(AD$1>=$J136,AD$1<=IF(AND($J136>$M$1,$K136=\"\"),$M$2,$K136)),AND(AD$1>=$J137,AD$1<=IF(AND($J137>$M$1,$K137=\"\"),$M$2,$K137)),AND(AD$1>=$J138,AD$1<=IF(AND($J138>$M$1,$K138=\"\"),$M$2,$K138)),AND(AD$1>=$J139,AD$1<=IF(AND($J139>$M$1,$K139=\"\"),$M$2,$K139))),$J$3,\"\")","v":""},{"$f":"IF(OR(AND(AE$1>=$J135,AE$1<=IF(AND($J135>$M$1,$K135=\"\"),$M$2,$K135)),AND(AE$1>=$J136,AE$1<=IF(AND($J136>$M$1,$K136=\"\"),$M$2,$K136)),AND(AE$1>=$J137,AE$1<=IF(AND($J137>$M$1,$K137=\"\"),$M$2,$K137)),AND(AE$1>=$J138,AE$1<=IF(AND($J138>$M$1,$K138=\"\"),$M$2,$K138)),AND(AE$1>=$J139,AE$1<=IF(AND($J139>$M$1,$K139=\"\"),$M$2,$K139))),$J$3,\"\")","v":""},{"$f":"IF(OR(AND(AF$1>=$J135,AF$1<=IF(AND($J135>$M$1,$K135=\"\"),$M$2,$K135)),AND(AF$1>=$J136,AF$1<=IF(AND($J136>$M$1,$K136=\"\"),$M$2,$K136)),AND(AF$1>=$J137,AF$1<=IF(AND($J137>$M$1,$K137=\"\"),$M$2,$K137)),AND(AF$1>=$J138,AF$1<=IF(AND($J138>$M$1,$K138=\"\"),$M$2,$K138)),AND(AF$1>=$J139,AF$1<=IF(AND($J139>$M$1,$K139=\"\"),$M$2,$K139))),$J$3,\"\")","v":""},{"$f":"IF(OR(AND(AG$1>=$J135,AG$1<=IF(AND($J135>$M$1,$K135=\"\"),$M$2,$K135)),AND(AG$1>=$J136,AG$1<=IF(AND($J136>$M$1,$K136=\"\"),$M$2,$K136)),AND(AG$1>=$J137,AG$1<=IF(AND($J137>$M$1,$K137=\"\"),$M$2,$K137)),AND(AG$1>=$J138,AG$1<=IF(AND($J138>$M$1,$K138=\"\"),$M$2,$K138)),AND(AG$1>=$J139,AG$1<=IF(AND($J139>$M$1,$K139=\"\"),$M$2,$K139))),$J$3,\"\")","v":""},{"$f":"IF(OR(AND(AH$1>=$J135,AH$1<=IF(AND($J135>$M$1,$K135=\"\"),$M$2,$K135)),AND(AH$1>=$J136,AH$1<=IF(AND($J136>$M$1,$K136=\"\"),$M$2,$K136)),AND(AH$1>=$J137,AH$1<=IF(AND($J137>$M$1,$K137=\"\"),$M$2,$K137)),AND(AH$1>=$J138,AH$1<=IF(AND($J138>$M$1,$K138=\"\"),$M$2,$K138)),AND(AH$1>=$J139,AH$1<=IF(AND($J139>$M$1,$K139=\"\"),$M$2,$K139))),$J$3,\"\")","v":""},{"$f":"IF(OR(AND(AI$1>=$J135,AI$1<=IF(AND($J135>$M$1,$K135=\"\"),$M$2,$K135)),AND(AI$1>=$J136,AI$1<=IF(AND($J136>$M$1,$K136=\"\"),$M$2,$K136)),AND(AI$1>=$J137,AI$1<=IF(AND($J137>$M$1,$K137=\"\"),$M$2,$K137)),AND(AI$1>=$J138,AI$1<=IF(AND($J138>$M$1,$K138=\"\"),$M$2,$K138)),AND(AI$1>=$J139,AI$1<=IF(AND($J139>$M$1,$K139=\"\"),$M$2,$K139))),$J$3,\"\")","v":""},{"$f":"IF(OR(AND(AJ$1>=$J135,AJ$1<=IF(AND($J135>$M$1,$K135=\"\"),$M$2,$K135)),AND(AJ$1>=$J136,AJ$1<=IF(AND($J136>$M$1,$K136=\"\"),$M$2,$K136)),AND(AJ$1>=$J137,AJ$1<=IF(AND($J137>$M$1,$K137=\"\"),$M$2,$K137)),AND(AJ$1>=$J138,AJ$1<=IF(AND($J138>$M$1,$K138=\"\"),$M$2,$K138)),AND(AJ$1>=$J139,AJ$1<=IF(AND($J139>$M$1,$K139=\"\"),$M$2,$K139))),$J$3,\"\")","v":""},{"$f":"IF(OR(AND(AK$1>=$J135,AK$1<=IF(AND($J135>$M$1,$K135=\"\"),$M$2,$K135)),AND(AK$1>=$J136,AK$1<=IF(AND($J136>$M$1,$K136=\"\"),$M$2,$K136)),AND(AK$1>=$J137,AK$1<=IF(AND($J137>$M$1,$K137=\"\"),$M$2,$K137)),AND(AK$1>=$J138,AK$1<=IF(AND($J138>$M$1,$K138=\"\"),$M$2,$K138)),AND(AK$1>=$J139,AK$1<=IF(AND($J139>$M$1,$K139=\"\"),$M$2,$K139))),$J$3,\"\")","v":""},{"$f":"IF(OR(AND(AL$1>=$J135,AL$1<=IF(AND($J135>$M$1,$K135=\"\"),$M$2,$K135)),AND(AL$1>=$J136,AL$1<=IF(AND($J136>$M$1,$K136=\"\"),$M$2,$K136)),AND(AL$1>=$J137,AL$1<=IF(AND($J137>$M$1,$K137=\"\"),$M$2,$K137)),AND(AL$1>=$J138,AL$1<=IF(AND($J138>$M$1,$K138=\"\"),$M$2,$K138)),AND(AL$1>=$J139,AL$1<=IF(AND($J139>$M$1,$K139=\"\"),$M$2,$K139))),$J$3,\"\")","v":""},{"$f":"IF(OR(AND(AM$1>=$J135,AM$1<=IF(AND($J135>$M$1,$K135=\"\"),$M$2,$K135)),AND(AM$1>=$J136,AM$1<=IF(AND($J136>$M$1,$K136=\"\"),$M$2,$K136)),AND(AM$1>=$J137,AM$1<=IF(AND($J137>$M$1,$K137=\"\"),$M$2,$K137)),AND(AM$1>=$J138,AM$1<=IF(AND($J138>$M$1,$K138=\"\"),$M$2,$K138)),AND(AM$1>=$J139,AM$1<=IF(AND($J139>$M$1,$K139=\"\"),$M$2,$K139))),$J$3,\"\")","v":""},{"$f":"IF(OR(AND(AN$1>=$J135,AN$1<=IF(AND($J135>$M$1,$K135=\"\"),$M$2,$K135)),AND(AN$1>=$J136,AN$1<=IF(AND($J136>$M$1,$K136=\"\"),$M$2,$K136)),AND(AN$1>=$J137,AN$1<=IF(AND($J137>$M$1,$K137=\"\"),$M$2,$K137)),AND(AN$1>=$J138,AN$1<=IF(AND($J138>$M$1,$K138=\"\"),$M$2,$K138)),AND(AN$1>=$J139,AN$1<=IF(AND($J139>$M$1,$K139=\"\"),$M$2,$K139))),$J$3,\"\")","v":""},{"$f":"IF(OR(AND(AO$1>=$J135,AO$1<=IF(AND($J135>$M$1,$K135=\"\"),$M$2,$K135)),AND(AO$1>=$J136,AO$1<=IF(AND($J136>$M$1,$K136=\"\"),$M$2,$K136)),AND(AO$1>=$J137,AO$1<=IF(AND($J137>$M$1,$K137=\"\"),$M$2,$K137)),AND(AO$1>=$J138,AO$1<=IF(AND($J138>$M$1,$K138=\"\"),$M$2,$K138)),AND(AO$1>=$J139,AO$1<=IF(AND($J139>$M$1,$K139=\"\"),$M$2,$K139))),$J$3,\"\")","v":""},{"$f":"IF(AP$1=\"\",\"\",IF(OR(AND(AP$1>=$J135,AP$1<=IF(AND($J135>$M$1,$K135=\"\"),$M$2,$K135)),AND(AP$1>=$J136,AP$1<=IF(AND($J136>$M$1,$K136=\"\"),$M$2,$K136)),AND(AP$1>=$J137,AP$1<=IF(AND($J137>$M$1,$K137=\"\"),$M$2,$K137)),AND(AP$1>=$J138,AP$1<=IF(AND($J138>$M$1,$K138=\"\"),$M$2,$K138)),AND(AP$1>=$J139,AP$1<=IF(AND($J139>$M$1,$K139=\"\"),$M$2,$K139))),$J$3,\"\"))","v":""},{"$f":"IF(AQ$1=\"\",\"\",IF(OR(AND(AQ$1>=$J135,AQ$1<=IF(AND($J135>$M$1,$K135=\"\"),$M$2,$K135)),AND(AQ$1>=$J136,AQ$1<=IF(AND($J136>$M$1,$K136=\"\"),$M$2,$K136)),AND(AQ$1>=$J137,AQ$1<=IF(AND($J137>$M$1,$K137=\"\"),$M$2,$K137)),AND(AQ$1>=$J138,AQ$1<=IF(AND($J138>$M$1,$K138=\"\"),$M$2,$K138)),AND(AQ$1>=$J139,AQ$1<=IF(AND($J139>$M$1,$K139=\"\"),$M$2,$K139))),$J$3,\"\"))","v":""},{"$f":"IF(AR$1=\"\",\"\",IF(OR(AND(AR$1>=$J135,AR$1<=IF(AND($J135>$M$1,$K135=\"\"),$M$2,$K135)),AND(AR$1>=$J136,AR$1<=IF(AND($J136>$M$1,$K136=\"\"),$M$2,$K136)),AND(AR$1>=$J137,AR$1<=IF(AND($J137>$M$1,$K137=\"\"),$M$2,$K137)),AND(AR$1>=$J138,AR$1<=IF(AND($J138>$M$1,$K138=\"\"),$M$2,$K138)),AND(AR$1>=$J139,AR$1<=IF(AND($J139>$M$1,$K139=\"\"),$M$2,$K139))),$J$3,\"\"))","v":""}]
[{"$f":"стр.1!C67","v":5141},{"$f":"IFERROR(VLOOKUP(A140,стр.1!$A$13:$D$106,2,FALSE),\"\")","v":"Куликов"},{"$f":"IFERROR(VLOOKUP(A140,стр.1!$A$13:$D$106,4,FALSE),\"\")","v":"сборная"},null,null,null,null,null,null,null,null,null,null,{"$f":"N141&N142&N143&N144","v":""},{"$f":"O141&O142&O143&O144","v":""},{"$f":"P141&P142&P143&P144","v":""},{"$f":"Q141&Q142&Q143&Q144","v":""},{"$f":"R141&R142&R143&R144","v":""},{"$f":"S141&S142&S143&S144","v":""},{"$f":"T141&T142&T143&T144","v":""},{"$f":"U141&U142&U143&U144","v":""},{"$f":"V141&V142&V143&V144","v":""},{"$f":"W141&W142&W143&W144","v":""},{"$f":"X141&X142&X143&X144","v":""},{"$f":"Y141&Y142&Y143&Y144","v":""},{"$f":"Z141&Z142&Z143&Z144","v":""},{"$f":"AA141&AA142&AA143&AA144","v":""},{"$f":"AB141&AB142&AB143&AB144","v":""},{"$f":"AC141&AC142&AC143&AC144","v":""},{"$f":"AD141&AD142&AD143&AD144","v":""},{"$f":"AE141&AE142&AE143&AE144","v":""},{"$f":"AF141&AF142&AF143&AF144","v":""},{"$f":"AG141&AG142&AG143&AG144","v":""},{"$f":"AH141&AH142&AH143&AH144","v":""},{"$f":"AI141&AI142&AI143&AI144","v":""},{"$f":"AJ141&AJ142&AJ143&AJ144","v":""},{"$f":"AK141&AK142&AK143&AK144","v":""},{"$f":"AL141&AL142&AL143&AL144","v":""},{"$f":"AM141&AM142&AM143&AM144","v":""},{"$f":"AN141&AN142&AN143&AN144","v":""},{"$f":"AO141&AO142&AO143&AO144","v":""},{"$f":"AP141&AP142&AP143&AP144","v":""},{"$f":"AQ141&AQ142&AQ143&AQ144","v":""},{"$f":"AR141&AR142&AR143&AR144","v":""}]
[null,null,null,null,null,null,null,null,null,null,null,null,null,{"$f":"IF(OR(AND(N$1>=$D140,N$1<=IF(AND($D140>$M$1,$E140=\"\"),$M$2,$E140)),AND(N$1>=$D141,N$1<=IF(AND($D141>$M$1,$E141=\"\"),$M$2,$E141)),AND(N$1>=$D142,N$1<=IF(AND($D142>$M$1,$E142=\"\"),$M$2,$E142)),AND(N$1>=$D143,N$1<=IF(AND($D143>$M$1,$E143=\"\"),$M$2,$E143))),$D$3,\"\")","v":""},{"$f":"IF(OR(AND(O$1>=$D140,O$1<=IF(AND($D140>$M$1,$E140=\"\"),$M$2,$E140)),AND(O$1>=$D141,O$1<=IF(AND($D141>$M$1,$E141=\"\"),$M$2,$E141)),AND(O$1>=$D142,O$1<=IF(AND($D142>$M$1,$E142=\"\"),$M$2,$E142)),AND(O$1>=$D143,O$1<=IF(AND($D143>$M$1,$E143=\"\"),$M$2,$E143))),$D$3,\"\")","v":""},"","","","","","","","","","","","","","","","","","","","","","","","","","",{"$f":"IF(AP$1=\"\",\"\",IF(OR(AND(AP$1>=$D140,AP$1<=IF(AND($D140>$M$1,$E140=\"\"),$M$2,$E140)),AND(AP$1>=$D141,AP$1<=IF(AND($D141>$M$1,$E141=\"\"),$M$2,$E141)),AND(AP$1>=$D142,AP$1<=IF(AND($D142>$M$1,$E142=\"\"),$M$2,$E142)),AND(AP$1>=$D143,AP$1<=IF(AND($D143>$M$1,$E143=\"\"),$M$2,$E143))),$D$3,\"\"))","v":""},{"$f":"IF(AQ$1=\"\",\"\",IF(OR(AND(AQ$1>=$D140,AQ$1<=IF(AND($D140>$M$1,$E140=\"\"),$M$2,$E140)),AND(AQ$1>=$D141,AQ$1<=IF(AND($D141>$M$1,$E141=\"\"),$M$2,$E141)),AND(AQ$1>=$D142,AQ$1<=IF(AND($D142>$M$1,$E142=\"\"),$M$2,$E142)),AND(AQ$1>=$D143,AQ$1<=IF(AND($D143>$M$1,$E143=\"\"),$M$2,$E143))),$D$3,\"\"))","v":""},""]
[null,null,null,null,null,null,null,null,null,null,null,null,null,{"$f":"IF(OR(AND(N$1>=$F140,N$1<=IF(AND($F140>$M$1,$G140=\"\"),$M$2,$G140)),AND(N$1>=$F141,N$1<=IF(AND($F141>$M$1,$G141=\"\"),$M$2,$G141)),AND(N$1>=$F142,N$1<=IF(AND($F142>$M$1,$G142=\"\"),$M$2,$G142)),AND(N$1>=$F143,N$1<=IF(AND($F143>$M$1,$G143=\"\"),$M$2,$G143))),$F$3,\"\")","v":""},{"$f":"IF(OR(AND(O$1>=$F140,O$1<=IF(AND($F140>$M$1,$G140=\"\"),$M$2,$G140)),AND(O$1>=$F141,O$1<=IF(AND($F141>$M$1,$G141=\"\"),$M$2,$G141)),AND(O$1>=$F142,O$1<=IF(AND($F142>$M$1,$G142=\"\"),$M$2,$G142)),AND(O$1>=$F143,O$1<=IF(AND($F143>$M$1,$G143=\"\"),$M$2,$G143))),$F$3,\"\")","v":""},"","","","","","","","","","","","","","","","","","","","","","","","","","",{"$f":"IF(AP$1=\"\",\"\",IF(OR(AND(AP$1>=$F140,AP$1<=IF(AND($F140>$M$1,$G140=\"\"),$M$2,$G140)),AND(AP$1>=$F141,AP$1<=IF(AND($F141>$M$1,$G141=\"\"),$M$2,$G141)),AND(AP$1>=$F142,AP$1<=IF(AND($F142>$M$1,$G142=\"\"),$M$2,$G142)),AND(AP$1>=$F143,AP$1<=IF(AND($F143>$M$1,$G143=\"\"),$M$2,$G143))),$F$3,\"\"))","v":""},{"$f":"IF(AQ$1=\"\",\"\",IF(OR(AND(AQ$1>=$F140,AQ$1<=IF(AND($F140>$M$1,$G140=\"\"),$M$2,$G140)),AND(AQ$1>=$F141,AQ$1<=IF(AND($F141>$M$1,$G141=\"\"),$M$2,$G141)),AND(AQ$1>=$F142,AQ$1<=IF(AND($F142>$M$1,$G142=\"\"),$M$2,$G142)),AND(AQ$1>=$F143,AQ$1<=IF(AND($F143>$M$1,$G143=\"\"),$M$2,$G143))),$F$3,\"\"))","v":""},""]
[null,null,null,null,null,null,null,null,null,null,null,null,null,{"$f":"IF(OR(AND(N$1>=$H140,N$1<=IF(AND($H140>$M$1,$I140=\"\"),$M$2,$I140)),AND(N$1>=$H141,N$1<=IF(AND($H141>$M$1,$I141=\"\"),$M$2,$I141)),AND(N$1>=$H142,N$1<=IF(AND($H142>$M$1,$I142=\"\"),$M$2,$I142)),AND(N$1>=$H143,N$1<=IF(AND($H143>$M$1,$I143=\"\"),$M$2,$I143))),$H$3,\"\")","v":""},"","","","","","","","","","","","","","","","","","","","","","","","","","","",{"$f":"IF(AP$1=\"\",\"\",IF(OR(AND(AP$1>=$H140,AP$1<=IF(AND($H140>$M$1,$I140=\"\"),$M$2,$I140)),AND(AP$1>=$H141,AP$1<=IF(AND($H141>$M$1,$I141=\"\"),$M$2,$I141)),AND(AP$1>=$H142,AP$1<=IF(AND($H142>$M$1,$I142=\"\"),$M$2,$I142)),AND(AP$1>=$H143,AP$1<=IF(AND($H143>$M$1,$I143=\"\"),$M$2,$I143))),$H$3,\"\"))","v":""},{"$f":"IF(AQ$1=\"\",\"\",IF(OR(AND(AQ$1>=$H140,AQ$1<=IF(AND($H140>$M$1,$I140=\"\"),$M$2,$I140)),AND(AQ$1>=$H141,AQ$1<=IF(AND($H141>$M$1,$I141=\"\"),$M$2,$I141)),AND(AQ$1>=$H142,AQ$1<=IF(AND($H142>$M$1,$I142=\"\"),$M$2,$I142)),AND(AQ$1>=$H143,AQ$1<=IF(AND($H143>$M$1,$I143=\"\"),$M$2,$I143))),$H$3,\"\"))","v":""},{"$f":"IF(AR$1=\"\",\"\",IF(OR(AND(AR$1>=$H140,AR$1<=IF(AND($H140>$M$1,$I140=\"\"),$M$2,$I140)),AND(AR$1>=$H141,AR$1<=IF(AND($H141>$M$1,$I141=\"\"),$M$2,$I141)),AND(AR$1>=$H142,AR$1<=IF(AND($H142>$M$1,$I142=\"\"),$M$2,$I142)),AND(AR$1>=$H143,AR$1<=IF(AND($H143>$M$1,$I143=\"\"),$M$2,$I143))),$H$3,\"\"))","v":""}]
[null,null,null,null,null,null,null,null,null,null,null,null,null,{"$f":"IF(OR(AND(N$1>=$J140,N$1<=IF(AND($J140>$M$1,$K140=\"\"),$M$2,$K140)),AND(N$1>=$J141,N$1<=IF(AND($J141>$M$1,$K141=\"\"),$M$2,$K141)),AND(N$1>=$J142,N$1<=IF(AND($J142>$M$1,$K142=\"\"),$M$2,$K142)),AND(N$1>=$J143,N$1<=IF(AND($J143>$M$1,$K143=\"\"),$M$2,$K143)),AND(N$1>=$J144,N$1<=IF(AND($J144>$M$1,$K144=\"\"),$M$2,$K144))),$J$3,\"\")","v":""},{"$f":"IF(OR(AND(O$1>=$J140,O$1<=IF(AND($J140>$M$1,$K140=\"\"),$M$2,$K140)),AND(O$1>=$J141,O$1<=IF(AND($J141>$M$1,$K141=\"\"),$M$2,$K141)),AND(O$1>=$J142,O$1<=IF(AND($J142>$M$1,$K142=\"\"),$M$2,$K142)),AND(O$1>=$J143,O$1<=IF(AND($J143>$M$1,$K143=\"\"),$M$2,$K143)),AND(O$1>=$J144,O$1<=IF(AND($J144>$M$1,$K144=\"\"),$M$2,$K144))),$J$3,\"\")","v":""},{"$f":"IF(OR(AND(P$1>=$J140,P$1<=IF(AND($J140>$M$1,$K140=\"\"),$M$2,$K140)),AND(P$1>=$J141,P$1<=IF(AND($J141>$M$1,$K141=\"\"),$M$2,$K141)),AND(P$1>=$J142,P$1<=IF(AND($J142>$M$1,$K142=\"\"),$M$2,$K142)),AND(P$1>=$J143,P$1<=IF(AND($J143>$M$1,$K143=\"\"),$M$2,$K143)),AND(P$1>=$J144,P$1<=IF(AND($J144>$M$1,$K144=\"\"),$M$2,$K144))),$J$3,\"\")","v":""},{"$f":"IF(OR(AND(Q$1>=$J140,Q$1<=IF(AND($J140>$M$1,$K140=\"\"),$M$2,$K140)),AND(Q$1>=$J141,Q$1<=IF(AND($J141>$M$1,$K141=\"\"),$M$2,$K141)),AND(Q$1>=$J142,Q$1<=IF(AND($J142>$M$1,$K142=\"\"),$M$2,$K142)),AND(Q$1>=$J143,Q$1<=IF(AND($J143>$M$1,$K143=\"\"),$M$2,$K143)),AND(Q$1>=$J144,Q$1<=IF(AND($J144>$M$1,$K144=\"\"),$M$2,$K144))),$J$3,\"\")","v":""},{"$f":"IF(OR(AND(R$1>=$J140,R$1<=IF(AND($J140>$M$1,$K140=\"\"),$M$2,$K140)),AND(R$1>=$J141,R$1<=IF(AND($J141>$M$1,$K141=\"\"),$M$2,$K141)),AND(R$1>=$J142,R$1<=IF(AND($J142>$M$1,$K142=\"\"),$M$2,$K142)),AND(R$1>=$J143,R$1<=IF(AND($J143>$M$1,$K143=\"\"),$M$2,$K143)),AND(R$1>=$J144,R$1<=IF(AND($J144>$M$1,$K144=\"\"),$M$2,$K144))),$J$3,\"\")","v":""},{"$f":"IF(OR(AND(S$1>=$J140,S$1<=IF(AND($J140>$M$1,$K140=\"\"),$M$2,$K140)),AND(S$1>=$J141,S$1<=IF(AND($J141>$M$1,$K141=\"\"),$M$2,$K141)),AND(S$1>=$J142,S$1<=IF(AND($J142>$M$1,$K142=\"\"),$M$2,$K142)),AND(S$1>=$J143,S$1<=IF(AND($J143>$M$1,$K143=\"\"),$M$2,$K143)),AND(S$1>=$J144,S$1<=IF(AND($J144>$M$1,$K144=\"\"),$M$2,$K144))),$J$3,\"\")","v":""},{"$f":"IF(OR(AND(T$1>=$J140,T$1<=IF(AND($J140>$M$1,$K140=\"\"),$M$2,$K140)),AND(T$1>=$J141,T$1<=IF(AND($J141>$M$1,$K141=\"\"),$M$2,$K141)),AND(T$1>=$J142,T$1<=IF(AND($J142>$M$1,$K142=\"\"),$M$2,$K142)),AND(T$1>=$J143,T$1<=IF(AND($J143>$M$1,$K143=\"\"),$M$2,$K143)),AND(T$1>=$J144,T$1<=IF(AND($J144>$M$1,$K144=\"\"),$M$2,$K144))),$J$3,\"\")","v":""},{"$f":"IF(OR(AND(U$1>=$J140,U$1<=IF(AND($J140>$M$1,$K140=\"\"),$M$2,$K140)),AND(U$1>=$J141,U$1<=IF(AND($J141>$M$1,$K141=\"\"),$M$2,$K141)),AND(U$1>=$J142,U$1<=IF(AND($J142>$M$1,$K142=\"\"),$M$2,$K142)),AND(U$1>=$J143,U$1<=IF(AND($J143>$M$1,$K143=\"\"),$M$2,$K143)),AND(U$1>=$J144,U$1<=IF(AND($J144>$M$1,$K144=\"\"),$M$2,$K144))),$J$3,\"\")","v":""},{"$f":"IF(OR(AND(V$1>=$J140,V$1<=IF(AND($J140>$M$1,$K140=\"\"),$M$2,$K140)),AND(V$1>=$J141,V$1<=IF(AND($J141>$M$1,$K141=\"\"),$M$2,$K141)),AND(V$1>=$J142,V$1<=IF(AND($J142>$M$1,$K142=\"\"),$M$2,$K142)),AND(V$1>=$J143,V$1<=IF(AND($J143>$M$1,$K143=\"\"),$M$2,$K143)),AND(V$1>=$J144,V$1<=IF(AND($J144>$M$1,$K144=\"\"),$M$2,$K144))),$J$3,\"\")","v":""},{"$f":"IF(OR(AND(W$1>=$J140,W$1<=IF(AND($J140>$M$1,$K140=\"\"),$M$2,$K140)),AND(W$1>=$J141,W$1<=IF(AND($J141>$M$1,$K141=\"\"),$M$2,$K141)),AND(W$1>=$J142,W$1<=IF(AND($J142>$M$1,$K142=\"\"),$M$2,$K142)),AND(W$1>=$J143,W$1<=IF(AND($J143>$M$1,$K143=\"\"),$M$2,$K143)),AND(W$1>=$J144,W$1<=IF(AND($J144>$M$1,$K144=\"\"),$M$2,$K144))),$J$3,\"\")","v":""},{"$f":"IF(OR(AND(X$1>=$J140,X$1<=IF(AND($J140>$M$1,$K140=\"\"),$M$2,$K140)),AND(X$1>=$J141,X$1<=IF(AND($J141>$M$1,$K141=\"\"),$M$2,$K141)),AND(X$1>=$J142,X$1<=IF(AND($J142>$M$1,$K142=\"\"),$M$2,$K142)),AND(X$1>=$J143,X$1<=IF(AND($J143>$M$1,$K143=\"\"),$M$2,$K143)),AND(X$1>=$J144,X$1<=IF(AND($J144>$M$1,$K144=\"\"),$M$2,$K144))),$J$3,\"\")","v":""},{"$f":"IF(OR(AND(Y$1>=$J140,Y$1<=IF(AND($J140>$M$1,$K140=\"\"),$M$2,$K140)),AND(Y$1>=$J141,Y$1<=IF(AND($J141>$M$1,$K141=\"\"),$M$2,$K141)),AND(Y$1>=$J142,Y$1<=IF(AND($J142>$M$1,$K142=\"\"),$M$2,$K142)),AND(Y$1>=$J143,Y$1<=IF(AND($J143>$M$1,$K143=\"\"),$M$2,$K143)),AND(Y$1>=$J144,Y$1<=IF(AND($J144>$M$1,$K144=\"\"),$M$2,$K144))),$J$3,\"\")","v":""},{"$f":"IF(OR(AND(Z$1>=$J140,Z$1<=IF(AND($J140>$M$1,$K140=\"\"),$M$2,$K140)),AND(Z$1>=$J141,Z$1<=IF(AND($J141>$M$1,$K141=\"\"),$M$2,$K141)),AND(Z$1>=$J142,Z$1<=IF(AND($J142>$M$1,$K142=\"\"),$M$2,$K142)),AND(Z$1>=$J143,Z$1<=IF(AND($J143>$M$1,$K143=\"\"),$M$2,$K143)),AND(Z$1>=$J144,Z$1<=IF(AND($J144>$M$1,$K144=\"\"),$M$2,$K144))),$J$3,\"\")","v":""},{"$f":"IF(OR(AND(AA$1>=$J140,AA$1<=IF(AND($J140>$M$1,$K140=\"\"),$M$2,$K140)),AND(AA$1>=$J141,AA$1<=IF(AND($J141>$M$1,$K141=\"\"),$M$2,$K141)),AND(AA$1>=$J142,AA$1<=IF(AND($J142>$M$1,$K142=\"\"),$M$2,$K142)),AND(AA$1>=$J143,AA$1<=IF(AND($J143>$M$1,$K143=\"\"),$M$2,$K143)),AND(AA$1>=$J144,AA$1<=IF(AND($J144>$M$1,$K144=\"\"),$M$2,$K144))),$J$3,\"\")","v":""},{"$f":"IF(OR(AND(AB$1>=$J140,AB$1<=IF(AND($J140>$M$1,$K140=\"\"),$M$2,$K140)),AND(AB$1>=$J141,AB$1<=IF(AND($J141>$M$1,$K141=\"\"),$M$2,$K141)),AND(AB$1>=$J142,AB$1<=IF(AND($J142>$M$1,$K142=\"\"),$M$2,$K142)),AND(AB$1>=$J143,AB$1<=IF(AND($J143>$M$1,$K143=\"\"),$M$2,$K143)),AND(AB$1>=$J144,AB$1<=IF(AND($J144>$M$1,$K144=\"\"),$M$2,$K144))),$J$3,\"\")","v":""},{"$f":"IF(OR(AND(AC$1>=$J140,AC$1<=IF(AND($J140>$M$1,$K140=\"\"),$M$2,$K140)),AND(AC$1>=$J141,AC$1<=IF(AND($J141>$M$1,$K141=\"\"),$M$2,$K141)),AND(AC$1>=$J142,AC$1<=IF(AND($J142>$M$1,$K142=\"\"),$M$2,$K142)),AND(AC$1>=$J143,AC$1<=IF(AND($J143>$M$1,$K143=\"\"),$M$2,$K143)),AND(AC$1>=$J144,AC$1<=IF(AND($J144>$M$1,$K144=\"\"),$M$2,$K144))),$J$3,\"\")","v":""},{"$f":"IF(OR(AND(AD$1>=$J140,AD$1<=IF(AND($J140>$M$1,$K140=\"\"),$M$2,$K140)),AND(AD$1>=$J141,AD$1<=IF(AND($J141>$M$1,$K141=\"\"),$M$2,$K141)),AND(AD$1>=$J142,AD$1<=IF(AND($J142>$M$1,$K142=\"\"),$M$2,$K142)),AND(AD$1>=$J143,AD$1<=IF(AND($J143>$M$1,$K143=\"\"),$M$2,$K143)),AND(AD$1>=$J144,AD$1<=IF(AND($J144>$M$1,$K144=\"\"),$M$2,$K144))),$J$3,\"\")","v":""},{"$f":"IF(OR(AND(AE$1>=$J140,AE$1<=IF(AND($J140>$M$1,$K140=\"\"),$M$2,$K140)),AND(AE$1>=$J141,AE$1<=IF(AND($J141>$M$1,$K141=\"\"),$M$2,$K141)),AND(AE$1>=$J142,AE$1<=IF(AND($J142>$M$1,$K142=\"\"),$M$2,$K142)),AND(AE$1>=$J143,AE$1<=IF(AND($J143>$M$1,$K143=\"\"),$M$2,$K143)),AND(AE$1>=$J144,AE$1<=IF(AND($J144>$M$1,$K144=\"\"),$M$2,$K144))),$J$3,\"\")","v":""},{"$f":"IF(OR(AND(AF$1>=$J140,AF$1<=IF(AND($J140>$M$1,$K140=\"\"),$M$2,$K140)),AND(AF$1>=$J141,AF$1<=IF(AND($J141>$M$1,$K141=\"\"),$M$2,$K141)),AND(AF$1>=$J142,AF$1<=IF(AND($J142>$M$1,$K142=\"\"),$M$2,$K142)),AND(AF$1>=$J143,AF$1<=IF(AND($J143>$M$1,$K143=\"\"),$M$2,$K143)),AND(AF$1>=$J144,AF$1<=IF(AND($J144>$M$1,$K144=\"\"),$M$2,$K144))),$J$3,\"\")","v":""},{"$f":"IF(OR(AND(AG$1>=$J140,AG$1<=IF(AND($J140>$M$1,$K140=\"\"),$M$2,$K140)),AND(AG$1>=$J141,AG$1<=IF(AND($J141>$M$1,$K141=\"\"),$M$2,$K141)),AND(AG$1>=$J142,AG$1<=IF(AND($J142>$M$1,$K142=\"\"),$M$2,$K142)),AND(AG$1>=$J143,AG$1<=IF(AND($J143>$M$1,$K143=\"\"),$M$2,$K143)),AND(AG$1>=$J144,AG$1<=IF(AND($J144>$M$1,$K144=\"\"),$M$2,$K144))),$J$3,\"\")","v":""},{"$f":"IF(OR(AND(AH$1>=$J140,AH$1<=IF(AND($J140>$M$1,$K140=\"\"),$M$2,$K140)),AND(AH$1>=$J141,AH$1<=IF(AND($J141>$M$1,$K141=\"\"),$M$2,$K141)),AND(AH$1>=$J142,AH$1<=IF(AND($J142>$M$1,$K142=\"\"),$M$2,$K142)),AND(AH$1>=$J143,AH$1<=IF(AND($J143>$M$1,$K143=\"\"),$M$2,$K143)),AND(AH$1>=$J144,AH$1<=IF(AND($J144>$M$1,$K144=\"\"),$M$2,$K144))),$J$3,\"\")","v":""},{"$f":"IF(OR(AND(AI$1>=$J140,AI$1<=IF(AND($J140>$M$1,$K140=\"\"),$M$2,$K140)),AND(AI$1>=$J141,AI$1<=IF(AND($J141>$M$1,$K141=\"\"),$M$2,$K141)),AND(AI$1>=$J142,AI$1<=IF(AND($J142>$M$1,$K142=\"\"),$M$2,$K142)),AND(AI$1>=$J143,AI$1<=IF(AND($J143>$M$1,$K143=\"\"),$M$2,$K143)),AND(AI$1>=$J144,AI$1<=IF(AND($J144>$M$1,$K144=\"\"),$M$2,$K144))),$J$3,\"\")","v":""},{"$f":"IF(OR(AND(AJ$1>=$J140,AJ$1<=IF(AND($J140>$M$1,$K140=\"\"),$M$2,$K140)),AND(AJ$1>=$J141,AJ$1<=IF(AND($J141>$M$1,$K141=\"\"),$M$2,$K141)),AND(AJ$1>=$J142,AJ$1<=IF(AND($J142>$M$1,$K142=\"\"),$M$2,$K142)),AND(AJ$1>=$J143,AJ$1<=IF(AND($J143>$M$1,$K143=\"\"),$M$2,$K143)),AND(AJ$1>=$J144,AJ$1<=IF(AND($J144>$M$1,$K144=\"\"),$M$2,$K144))),$J$3,\"\")","v":""},{"$f":"IF(OR(AND(AK$1>=$J140,AK$1<=IF(AND($J140>$M$1,$K140=\"\"),$M$2,$K140)),AND(AK$1>=$J141,AK$1<=IF(AND($J141>$M$1,$K141=\"\"),$M$2,$K141)),AND(AK$1>=$J142,AK$1<=IF(AND($J142>$M$1,$K142=\"\"),$M$2,$K142)),AND(AK$1>=$J143,AK$1<=IF(AND($J143>$M$1,$K143=\"\"),$M$2,$K143)),AND(AK$1>=$J144,AK$1<=IF(AND($J144>$M$1,$K144=\"\"),$M$2,$K144))),$J$3,\"\")","v":""},{"$f":"IF(OR(AND(AL$1>=$J140,AL$1<=IF(AND($J140>$M$1,$K140=\"\"),$M$2,$K140)),AND(AL$1>=$J141,AL$1<=IF(AND($J141>$M$1,$K141=\"\"),$M$2,$K141)),AND(AL$1>=$J142,AL$1<=IF(AND($J142>$M$1,$K142=\"\"),$M$2,$K142)),AND(AL$1>=$J143,AL$1<=IF(AND($J143>$M$1,$K143=\"\"),$M$2,$K143)),AND(AL$1>=$J144,AL$1<=IF(AND($J144>$M$1,$K144=\"\"),$M$2,$K144))),$J$3,\"\")","v":""},{"$f":"IF(OR(AND(AM$1>=$J140,AM$1<=IF(AND($J140>$M$1,$K140=\"\"),$M$2,$K140)),AND(AM$1>=$J141,AM$1<=IF(AND($J141>$M$1,$K141=\"\"),$M$2,$K141)),AND(AM$1>=$J142,AM$1<=IF(AND($J142>$M$1,$K142=\"\"),$M$2,$K142)),AND(AM$1>=$J143,AM$1<=IF(AND($J143>$M$1,$K143=\"\"),$M$2,$K143)),AND(AM$1>=$J144,AM$1<=IF(AND($J144>$M$1,$K144=\"\"),$M$2,$K144))),$J$3,\"\")","v":""},{"$f":"IF(OR(AND(AN$1>=$J140,AN$1<=IF(AND($J140>$M$1,$K140=\"\"),$M$2,$K140)),AND(AN$1>=$J141,AN$1<=IF(AND($J141>$M$1,$K141=\"\"),$M$2,$K141)),AND(AN$1>=$J142,AN$1<=IF(AND($J142>$M$1,$K142=\"\"),$M$2,$K142)),AND(AN$1>=$J143,AN$1<=IF(AND($J143>$M$1,$K143=\"\"),$M$2,$K143)),AND(AN$1>=$J144,AN$1<=IF(AND($J144>$M$1,$K144=\"\"),$M$2,$K144))),$J$3,\"\")","v":""},{"$f":"IF(OR(AND(AO$1>=$J140,AO$1<=IF(AND($J140>$M$1,$K140=\"\"),$M$2,$K140)),AND(AO$1>=$J141,AO$1<=IF(AND($J141>$M$1,$K141=\"\"),$M$2,$K141)),AND(AO$1>=$J142,AO$1<=IF(AND($J142>$M$1,$K142=\"\"),$M$2,$K142)),AND(AO$1>=$J143,AO$1<=IF(AND($J143>$M$1,$K143=\"\"),$M$2,$K143)),AND(AO$1>=$J144,AO$1<=IF(AND($J144>$M$1,$K144=\"\"),$M$2,$K144))),$J$3,\"\")","v":""},{"$f":"IF(AP$1=\"\",\"\",IF(OR(AND(AP$1>=$J140,AP$1<=IF(AND($J140>$M$1,$K140=\"\"),$M$2,$K140)),AND(AP$1>=$J141,AP$1<=IF(AND($J141>$M$1,$K141=\"\"),$M$2,$K141)),AND(AP$1>=$J142,AP$1<=IF(AND($J142>$M$1,$K142=\"\"),$M$2,$K142)),AND(AP$1>=$J143,AP$1<=IF(AND($J143>$M$1,$K143=\"\"),$M$2,$K143)),AND(AP$1>=$J144,AP$1<=IF(AND($J144>$M$1,$K144=\"\"),$M$2,$K144))),$J$3,\"\"))","v":""},{"$f":"IF(AQ$1=\"\",\"\",IF(OR(AND(AQ$1>=$J140,AQ$1<=IF(AND($J140>$M$1,$K140=\"\"),$M$2,$K140)),AND(AQ$1>=$J141,AQ$1<=IF(AND($J141>$M$1,$K141=\"\"),$M$2,$K141)),AND(AQ$1>=$J142,AQ$1<=IF(AND($J142>$M$1,$K142=\"\"),$M$2,$K142)),AND(AQ$1>=$J143,AQ$1<=IF(AND($J143>$M$1,$K143=\"\"),$M$2,$K143)),AND(AQ$1>=$J144,AQ$1<=IF(AND($J144>$M$1,$K144=\"\"),$M$2,$K144))),$J$3,\"\"))","v":""},{"$f":"IF(AR$1=\"\",\"\",IF(OR(AND(AR$1>=$J140,AR$1<=IF(AND($J140>$M$1,$K140=\"\"),$M$2,$K140)),AND(AR$1>=$J141,AR$1<=IF(AND($J141>$M$1,$K141=\"\"),$M$2,$K141)),AND(AR$1>=$J142,AR$1<=IF(AND($J142>$M$1,$K142=\"\"),$M$2,$K142)),AND(AR$1>=$J143,AR$1<=IF(AND($J143>$M$1,$K143=\"\"),$M$2,$K143)),AND(AR$1>=$J144,AR$1<=IF(AND($J144>$M$1,$K144=\"\"),$M$2,$K144))),$J$3,\"\"))","v":""}]
[{"$f":"стр.1!C69","v":5158},{"$f":"IFERROR(VLOOKUP(A145,стр.1!$A$13:$D$106,2,FALSE),\"\")","v":"Селиванов"},{"$f":"IFERROR(VLOOKUP(A145,стр.1!$A$13:$D$106,4,FALSE),\"\")","v":"сборная"},"2026-03-01","2026-03-15",null,null,null,null,null,null,null,null,{"$f":"N146&N147&N148&N149","v":"Б"},{"$f":"O146&O147&O148&O149","v":"Б"},{"$f":"P146&P147&P148&P149","v":"Б"},{"$f":"Q146&Q147&Q148&Q149","v":"Б"},{"$f":"R146&R147&R148&R149","v":"Б"},{"$f":"S146&S147&S148&S149","v":"Б"},{"$f":"T146&T147&T148&T149","v":"Б"},{"$f":"U146&U147&U148&U149","v":"Б"},{"$f":"V146&V147&V148&V149","v":"Б"},{"$f":"W146&W147&W148&W149","v":"Б"},{"$f":"X146&X147&X148&X149","v":"Б"},{"$f":"Y146&Y147&Y148&Y149","v":"Б"},{"$f":"Z146&Z147&Z148&Z149","v":"Б"},{"$f":"AA146&AA147&AA148&AA149","v":"Б"},{"$f":"AB146&AB147&AB148&AB149","v":"Б"},{"$f":"AC146&AC147&AC148&AC149","v":""},{"$f":"AD146&AD147&AD148&AD149","v":""},{"$f":"AE146&AE147&AE148&AE149","v":""},{"$f":"AF146&AF147&AF148&AF149","v":""},{"$f":"AG146&AG147&AG148&AG149","v":""},{"$f":"AH146&AH147&AH148&AH149","v":""},{"$f":"AI146&AI147&AI148&AI149","v":""},{"$f":"AJ146&AJ147&AJ148&AJ149","v":""},{"$f":"AK146&AK147&AK148&AK149","v":""},{"$f":"AL146&AL147&AL148&AL149","v":""},{"$f":"AM146&AM147&AM148&AM149","v":""},{"$f":"AN146&AN147&AN148&AN149","v":""},{"$f":"AO146&AO147&AO148&AO149","v":""},{"$f":"AP146&AP147&AP148&AP149","v":""},{"$f":"AQ146&AQ147&AQ148&AQ149","v":""},{"$f":"AR146&AR147&AR148&AR149","v":""}]
[null,null,null,null,null,null,null,null,null,null,null,null,null,{"$f":"IF(OR(AND(N$1>=$D145,N$1<=IF(AND($D145>$M$1,$E145=\"\"),$M$2,$E145)),AND(N$1>=$D146,N$1<=IF(AND($D146>$M$1,$E146=\"\"),$M$2,$E146)),AND(N$1>=$D147,N$1<=IF(AND($D147>$M$1,$E147=\"\"),$M$2,$E147)),AND(N$1>=$D148,N$1<=IF(AND($D148>$M$1,$E148=\"\"),$M$2,$E148))),$D$3,\"\")","v":"Б"},{"$f":"IF(OR(AND(O$1>=$D145,O$1<=IF(AND($D145>$M$1,$E145=\"\"),$M$2,$E145)),AND(O$1>=$D146,O$1<=IF(AND($D146>$M$1,$E146=\"\"),$M$2,$E146)),AND(O$1>=$D147,O$1<=IF(AND($D147>$M$1,$E147=\"\"),$M$2,$E147)),AND(O$1>=$D148,O$1<=IF(AND($D148>$M$1,$E148=\"\"),$M$2,$E148))),$D$3,\"\")","v":"Б"},"Б","Б","Б","Б","Б","Б","Б","Б","Б","Б","Б","Б","Б","","","","","","","","","","","","","",{"$f":"IF(AP$1=\"\",\"\",IF(OR(AND(AP$1>=$D145,AP$1<=IF(AND($D145>$M$1,$E145=\"\"),$M$2,$E145)),AND(AP$1>=$D146,AP$1<=IF(AND($D146>$M$1,$E146=\"\"),$M$2,$E146)),AND(AP$1>=$D147,AP$1<=IF(AND($D147>$M$1,$E147=\"\"),$M$2,$E147)),AND(AP$1>=$D148,AP$1<=IF(AND($D148>$M$1,$E148=\"\"),$M$2,$E148))),$D$3,\"\"))","v":""},{"$f":"IF(AQ$1=\"\",\"\",IF(OR(AND(AQ$1>=$D145,AQ$1<=IF(AND($D145>$M$1,$E145=\"\"),$M$2,$E145)),AND(AQ$1>=$D146,AQ$1<=IF(AND($D146>$M$1,$E146=\"\"),$M$2,$E146)),AND(AQ$1>=$D147,AQ$1<=IF(AND($D147>$M$1,$E147=\"\"),$M$2,$E147)),AND(AQ$1>=$D148,AQ$1<=IF(AND($D148>$M$1,$E148=\"\"),$M$2,$E148))),$D$3,\"\"))","v":""},""]
[null,null,null,null,null,null,null,null,null,null,null,null,null,{"$f":"IF(OR(AND(N$1>=$F145,N$1<=IF(AND($F145>$M$1,$G145=\"\"),$M$2,$G145)),AND(N$1>=$F146,N$1<=IF(AND($F146>$M$1,$G146=\"\"),$M$2,$G146)),AND(N$1>=$F147,N$1<=IF(AND($F147>$M$1,$G147=\"\"),$M$2,$G147)),AND(N$1>=$F148,N$1<=IF(AND($F148>$M$1,$G148=\"\"),$M$2,$G148))),$F$3,\"\")","v":""},{"$f":"IF(OR(AND(O$1>=$F145,O$1<=IF(AND($F145>$M$1,$G145=\"\"),$M$2,$G145)),AND(O$1>=$F146,O$1<=IF(AND($F146>$M$1,$G146=\"\"),$M$2,$G146)),AND(O$1>=$F147,O$1<=IF(AND($F147>$M$1,$G147=\"\"),$M$2,$G147)),AND(O$1>=$F148,O$1<=IF(AND($F148>$M$1,$G148=\"\"),$M$2,$G148))),$F$3,\"\")","v":""},"","","","","","","","","","","","","","","","","","","","","","","","","","",{"$f":"IF(AP$1=\"\",\"\",IF(OR(AND(AP$1>=$F145,AP$1<=IF(AND($F145>$M$1,$G145=\"\"),$M$2,$G145)),AND(AP$1>=$F146,AP$1<=IF(AND($F146>$M$1,$G146=\"\"),$M$2,$G146)),AND(AP$1>=$F147,AP$1<=IF(AND($F147>$M$1,$G147=\"\"),$M$2,$G147)),AND(AP$1>=$F148,AP$1<=IF(AND($F148>$M$1,$G148=\"\"),$M$2,$G148))),$F$3,\"\"))","v":""},{"$f":"IF(AQ$1=\"\",\"\",IF(OR(AND(AQ$1>=$F145,AQ$1<=IF(AND($F145>$M$1,$G145=\"\"),$M$2,$G145)),AND(AQ$1>=$F146,AQ$1<=IF(AND($F146>$M$1,$G146=\"\"),$M$2,$G146)),AND(AQ$1>=$F147,AQ$1<=IF(AND($F147>$M$1,$G147=\"\"),$M$2,$G147)),AND(AQ$1>=$F148,AQ$1<=IF(AND($F148>$M$1,$G148=\"\"),$M$2,$G148))),$F$3,\"\"))","v":""},""]
[null,null,null,null,null,null,null,null,null,null,null,null,null,{"$f":"IF(OR(AND(N$1>=$H145,N$1<=IF(AND($H145>$M$1,$I145=\"\"),$M$2,$I145)),AND(N$1>=$H146,N$1<=IF(AND($H146>$M$1,$I146=\"\"),$M$2,$I146)),AND(N$1>=$H147,N$1<=IF(AND($H147>$M$1,$I147=\"\"),$M$2,$I147)),AND(N$1>=$H148,N$1<=IF(AND($H148>$M$1,$I148=\"\"),$M$2,$I148))),$H$3,\"\")","v":""},"","","","","","","","","","","","","","","","","","","","","","","","","","","",{"$f":"IF(AP$1=\"\",\"\",IF(OR(AND(AP$1>=$H145,AP$1<=IF(AND($H145>$M$1,$I145=\"\"),$M$2,$I145)),AND(AP$1>=$H146,AP$1<=IF(AND($H146>$M$1,$I146=\"\"),$M$2,$I146)),AND(AP$1>=$H147,AP$1<=IF(AND($H147>$M$1,$I147=\"\"),$M$2,$I147)),AND(AP$1>=$H148,AP$1<=IF(AND($H148>$M$1,$I148=\"\"),$M$2,$I148))),$H$3,\"\"))","v":""},{"$f":"IF(AQ$1=\"\",\"\",IF(OR(AND(AQ$1>=$H145,AQ$1<=IF(AND($H145>$M$1,$I145=\"\"),$M$2,$I145)),AND(AQ$1>=$H146,AQ$1<=IF(AND($H146>$M$1,$I146=\"\"),$M$2,$I146)),AND(AQ$1>=$H147,AQ$1<=IF(AND($H147>$M$1,$I147=\"\"),$M$2,$I147)),AND(AQ$1>=$H148,AQ$1<=IF(AND($H148>$M$1,$I148=\"\"),$M$2,$I148))),$H$3,\"\"))","v":""},{"$f":"IF(AR$1=\"\",\"\",IF(OR(AND(AR$1>=$H145,AR$1<=IF(AND($H145>$M$1,$I145=\"\"),$M$2,$I145)),AND(AR$1>=$H146,AR$1<=IF(AND($H146>$M$1,$I146=\"\"),$M$2,$I146)),AND(AR$1>=$H147,AR$1<=IF(AND($H147>$M$1,$I147=\"\"),$M$2,$I147)),AND(AR$1>=$H148,AR$1<=IF(AND($H148>$M$1,$I148=\"\"),$M$2,$I148))),$H$3,\"\"))","v":""}]
[null,null,null,null,null,null,null,null,null,null,null,null,null,{"$f":"IF(OR(AND(N$1>=$J145,N$1<=IF(AND($J145>$M$1,$K145=\"\"),$M$2,$K145)),AND(N$1>=$J146,N$1<=IF(AND($J146>$M$1,$K146=\"\"),$M$2,$K146)),AND(N$1>=$J147,N$1<=IF(AND($J147>$M$1,$K147=\"\"),$M$2,$K147)),AND(N$1>=$J148,N$1<=IF(AND($J148>$M$1,$K148=\"\"),$M$2,$K148)),AND(N$1>=$J149,N$1<=IF(AND($J149>$M$1,$K149=\"\"),$M$2,$K149))),$J$3,\"\")","v":""},{"$f":"IF(OR(AND(O$1>=$J145,O$1<=IF(AND($J145>$M$1,$K145=\"\"),$M$2,$K145)),AND(O$1>=$J146,O$1<=IF(AND($J146>$M$1,$K146=\"\"),$M$2,$K146)),AND(O$1>=$J147,O$1<=IF(AND($J147>$M$1,$K147=\"\"),$M$2,$K147)),AND(O$1>=$J148,O$1<=IF(AND($J148>$M$1,$K148=\"\"),$M$2,$K148)),AND(O$1>=$J149,O$1<=IF(AND($J149>$M$1,$K149=\"\"),$M$2,$K149))),$J$3,\"\")","v":""},{"$f":"IF(OR(AND(P$1>=$J145,P$1<=IF(AND($J145>$M$1,$K145=\"\"),$M$2,$K145)),AND(P$1>=$J146,P$1<=IF(AND($J146>$M$1,$K146=\"\"),$M$2,$K146)),AND(P$1>=$J147,P$1<=IF(AND($J147>$M$1,$K147=\"\"),$M$2,$K147)),AND(P$1>=$J148,P$1<=IF(AND($J148>$M$1,$K148=\"\"),$M$2,$K148)),AND(P$1>=$J149,P$1<=IF(AND($J149>$M$1,$K149=\"\"),$M$2,$K149))),$J$3,\"\")","v":""},{"$f":"IF(OR(AND(Q$1>=$J145,Q$1<=IF(AND($J145>$M$1,$K145=\"\"),$M$2,$K145)),AND(Q$1>=$J146,Q$1<=IF(AND($J146>$M$1,$K146=\"\"),$M$2,$K146)),AND(Q$1>=$J147,Q$1<=IF(AND($J147>$M$1,$K147=\"\"),$M$2,$K147)),AND(Q$1>=$J148,Q$1<=IF(AND($J148>$M$1,$K148=\"\"),$M$2,$K148)),AND(Q$1>=$J149,Q$1<=IF(AND($J149>$M$1,$K149=\"\"),$M$2,$K149))),$J$3,\"\")","v":""},{"$f":"IF(OR(AND(R$1>=$J145,R$1<=IF(AND($J145>$M$1,$K145=\"\"),$M$2,$K145)),AND(R$1>=$J146,R$1<=IF(AND($J146>$M$1,$K146=\"\"),$M$2,$K146)),AND(R$1>=$J147,R$1<=IF(AND($J147>$M$1,$K147=\"\"),$M$2,$K147)),AND(R$1>=$J148,R$1<=IF(AND($J148>$M$1,$K148=\"\"),$M$2,$K148)),AND(R$1>=$J149,R$1<=IF(AND($J149>$M$1,$K149=\"\"),$M$2,$K149))),$J$3,\"\")","v":""},{"$f":"IF(OR(AND(S$1>=$J145,S$1<=IF(AND($J145>$M$1,$K145=\"\"),$M$2,$K145)),AND(S$1>=$J146,S$1<=IF(AND($J146>$M$1,$K146=\"\"),$M$2,$K146)),AND(S$1>=$J147,S$1<=IF(AND($J147>$M$1,$K147=\"\"),$M$2,$K147)),AND(S$1>=$J148,S$1<=IF(AND($J148>$M$1,$K148=\"\"),$M$2,$K148)),AND(S$1>=$J149,S$1<=IF(AND($J149>$M$1,$K149=\"\"),$M$2,$K149))),$J$3,\"\")","v":""},{"$f":"IF(OR(AND(T$1>=$J145,T$1<=IF(AND($J145>$M$1,$K145=\"\"),$M$2,$K145)),AND(T$1>=$J146,T$1<=IF(AND($J146>$M$1,$K146=\"\"),$M$2,$K146)),AND(T$1>=$J147,T$1<=IF(AND($J147>$M$1,$K147=\"\"),$M$2,$K147)),AND(T$1>=$J148,T$1<=IF(AND($J148>$M$1,$K148=\"\"),$M$2,$K148)),AND(T$1>=$J149,T$1<=IF(AND($J149>$M$1,$K149=\"\"),$M$2,$K149))),$J$3,\"\")","v":""},{"$f":"IF(OR(AND(U$1>=$J145,U$1<=IF(AND($J145>$M$1,$K145=\"\"),$M$2,$K145)),AND(U$1>=$J146,U$1<=IF(AND($J146>$M$1,$K146=\"\"),$M$2,$K146)),AND(U$1>=$J147,U$1<=IF(AND($J147>$M$1,$K147=\"\"),$M$2,$K147)),AND(U$1>=$J148,U$1<=IF(AND($J148>$M$1,$K148=\"\"),$M$2,$K148)),AND(U$1>=$J149,U$1<=IF(AND($J149>$M$1,$K149=\"\"),$M$2,$K149))),$J$3,\"\")","v":""},{"$f":"IF(OR(AND(V$1>=$J145,V$1<=IF(AND($J145>$M$1,$K145=\"\"),$M$2,$K145)),AND(V$1>=$J146,V$1<=IF(AND($J146>$M$1,$K146=\"\"),$M$2,$K146)),AND(V$1>=$J147,V$1<=IF(AND($J147>$M$1,$K147=\"\"),$M$2,$K147)),AND(V$1>=$J148,V$1<=IF(AND($J148>$M$1,$K148=\"\"),$M$2,$K148)),AND(V$1>=$J149,V$1<=IF(AND($J149>$M$1,$K149=\"\"),$M$2,$K149))),$J$3,\"\")","v":""},{"$f":"IF(OR(AND(W$1>=$J145,W$1<=IF(AND($J145>$M$1,$K145=\"\"),$M$2,$K145)),AND(W$1>=$J146,W$1<=IF(AND($J146>$M$1,$K146=\"\"),$M$2,$K146)),AND(W$1>=$J147,W$1<=IF(AND($J147>$M$1,$K147=\"\"),$M$2,$K147)),AND(W$1>=$J148,W$1<=IF(AND($J148>$M$1,$K148=\"\"),$M$2,$K148)),AND(W$1>=$J149,W$1<=IF(AND($J149>$M$1,$K149=\"\"),$M$2,$K149))),$J$3,\"\")","v":""},{"$f":"IF(OR(AND(X$1>=$J145,X$1<=IF(AND($J145>$M$1,$K145=\"\"),$M$2,$K145)),AND(X$1>=$J146,X$1<=IF(AND($J146>$M$1,$K146=\"\"),$M$2,$K146)),AND(X$1>=$J147,X$1<=IF(AND($J147>$M$1,$K147=\"\"),$M$2,$K147)),AND(X$1>=$J148,X$1<=IF(AND($J148>$M$1,$K148=\"\"),$M$2,$K148)),AND(X$1>=$J149,X$1<=IF(AND($J149>$M$1,$K149=\"\"),$M$2,$K149))),$J$3,\"\")","v":""},{"$f":"IF(OR(AND(Y$1>=$J145,Y$1<=IF(AND($J145>$M$1,$K145=\"\"),$M$2,$K145)),AND(Y$1>=$J146,Y$1<=IF(AND($J146>$M$1,$K146=\"\"),$M$2,$K146)),AND(Y$1>=$J147,Y$1<=IF(AND($J147>$M$1,$K147=\"\"),$M$2,$K147)),AND(Y$1>=$J148,Y$1<=IF(AND($J148>$M$1,$K148=\"\"),$M$2,$K148)),AND(Y$1>=$J149,Y$1<=IF(AND($J149>$M$1,$K149=\"\"),$M$2,$K149))),$J$3,\"\")","v":""},{"$f":"IF(OR(AND(Z$1>=$J145,Z$1<=IF(AND($J145>$M$1,$K145=\"\"),$M$2,$K145)),AND(Z$1>=$J146,Z$1<=IF(AND($J146>$M$1,$K146=\"\"),$M$2,$K146)),AND(Z$1>=$J147,Z$1<=IF(AND($J147>$M$1,$K147=\"\"),$M$2,$K147)),AND(Z$1>=$J148,Z$1<=IF(AND($J148>$M$1,$K148=\"\"),$M$2,$K148)),AND(Z$1>=$J149,Z$1<=IF(AND($J149>$M$1,$K149=\"\"),$M$2,$K149))),$J$3,\"\")","v":""},{"$f":"IF(OR(AND(AA$1>=$J145,AA$1<=IF(AND($J145>$M$1,$K145=\"\"),$M$2,$K145)),AND(AA$1>=$J146,AA$1<=IF(AND($J146>$M$1,$K146=\"\"),$M$2,$K146)),AND(AA$1>=$J147,AA$1<=IF(AND($J147>$M$1,$K147=\"\"),$M$2,$K147)),AND(AA$1>=$J148,AA$1<=IF(AND($J148>$M$1,$K148=\"\"),$M$2,$K148)),AND(AA$1>=$J149,AA$1<=IF(AND($J149>$M$1,$K149=\"\"),$M$2,$K149))),$J$3,\"\")","v":""},{"$f":"IF(OR(AND(AB$1>=$J145,AB$1<=IF(AND($J145>$M$1,$K145=\"\"),$M$2,$K145)),AND(AB$1>=$J146,AB$1<=IF(AND($J146>$M$1,$K146=\"\"),$M$2,$K146)),AND(AB$1>=$J147,AB$1<=IF(AND($J147>$M$1,$K147=\"\"),$M$2,$K147)),AND(AB$1>=$J148,AB$1<=IF(AND($J148>$M$1,$K148=\"\"),$M$2,$K148)),AND(AB$1>=$J149,AB$1<=IF(AND($J149>$M$1,$K149=\"\"),$M$2,$K149))),$J$3,\"\")","v":""},{"$f":"IF(OR(AND(AC$1>=$J145,AC$1<=IF(AND($J145>$M$1,$K145=\"\"),$M$2,$K145)),AND(AC$1>=$J146,AC$1<=IF(AND($J146>$M$1,$K146=\"\"),$M$2,$K146)),AND(AC$1>=$J147,AC$1<=IF(AND($J147>$M$1,$K147=\"\"),$M$2,$K147)),AND(AC$1>=$J148,AC$1<=IF(AND($J148>$M$1,$K148=\"\"),$M$2,$K148)),AND(AC$1>=$J149,AC$1<=IF(AND($J149>$M$1,$K149=\"\"),$M$2,$K149))),$J$3,\"\")","v":""},{"$f":"IF(OR(AND(AD$1>=$J145,AD$1<=IF(AND($J145>$M$1,$K145=\"\"),$M$2,$K145)),AND(AD$1>=$J146,AD$1<=IF(AND($J146>$M$1,$K146=\"\"),$M$2,$K146)),AND(AD$1>=$J147,AD$1<=IF(AND($J147>$M$1,$K147=\"\"),$M$2,$K147)),AND(AD$1>=$J148,AD$1<=IF(AND($J148>$M$1,$K148=\"\"),$M$2,$K148)),AND(AD$1>=$J149,AD$1<=IF(AND($J149>$M$1,$K149=\"\"),$M$2,$K149))),$J$3,\"\")","v":""},{"$f":"IF(OR(AND(AE$1>=$J145,AE$1<=IF(AND($J145>$M$1,$K145=\"\"),$M$2,$K145)),AND(AE$1>=$J146,AE$1<=IF(AND($J146>$M$1,$K146=\"\"),$M$2,$K146)),AND(AE$1>=$J147,AE$1<=IF(AND($J147>$M$1,$K147=\"\"),$M$2,$K147)),AND(AE$1>=$J148,AE$1<=IF(AND($J148>$M$1,$K148=\"\"),$M$2,$K148)),AND(AE$1>=$J149,AE$1<=IF(AND($J149>$M$1,$K149=\"\"),$M$2,$K149))),$J$3,\"\")","v":""},{"$f":"IF(OR(AND(AF$1>=$J145,AF$1<=IF(AND($J145>$M$1,$K145=\"\"),$M$2,$K145)),AND(AF$1>=$J146,AF$1<=IF(AND($J146>$M$1,$K146=\"\"),$M$2,$K146)),AND(AF$1>=$J147,AF$1<=IF(AND($J147>$M$1,$K147=\"\"),$M$2,$K147)),AND(AF$1>=$J148,AF$1<=IF(AND($J148>$M$1,$K148=\"\"),$M$2,$K148)),AND(AF$1>=$J149,AF$1<=IF(AND($J149>$M$1,$K149=\"\"),$M$2,$K149))),$J$3,\"\")","v":""},{"$f":"IF(OR(AND(AG$1>=$J145,AG$1<=IF(AND($J145>$M$1,$K145=\"\"),$M$2,$K145)),AND(AG$1>=$J146,AG$1<=IF(AND($J146>$M$1,$K146=\"\"),$M$2,$K146)),AND(AG$1>=$J147,AG$1<=IF(AND($J147>$M$1,$K147=\"\"),$M$2,$K147)),AND(AG$1>=$J148,AG$1<=IF(AND($J148>$M$1,$K148=\"\"),$M$2,$K148)),AND(AG$1>=$J149,AG$1<=IF(AND($J149>$M$1,$K149=\"\"),$M$2,$K149))),$J$3,\"\")","v":""},{"$f":"IF(OR(AND(AH$1>=$J145,AH$1<=IF(AND($J145>$M$1,$K145=\"\"),$M$2,$K145)),AND(AH$1>=$J146,AH$1<=IF(AND($J146>$M$1,$K146=\"\"),$M$2,$K146)),AND(AH$1>=$J147,AH$1<=IF(AND($J147>$M$1,$K147=\"\"),$M$2,$K147)),AND(AH$1>=$J148,AH$1<=IF(AND($J148>$M$1,$K148=\"\"),$M$2,$K148)),AND(AH$1>=$J149,AH$1<=IF(AND($J149>$M$1,$K149=\"\"),$M$2,$K149))),$J$3,\"\")","v":""},{"$f":"IF(OR(AND(AI$1>=$J145,AI$1<=IF(AND($J145>$M$1,$K145=\"\"),$M$2,$K145)),AND(AI$1>=$J146,AI$1<=IF(AND($J146>$M$1,$K146=\"\"),$M$2,$K146)),AND(AI$1>=$J147,AI$1<=IF(AND($J147>$M$1,$K147=\"\"),$M$2,$K147)),AND(AI$1>=$J148,AI$1<=IF(AND($J148>$M$1,$K148=\"\"),$M$2,$K148)),AND(AI$1>=$J149,AI$1<=IF(AND($J149>$M$1,$K149=\"\"),$M$2,$K149))),$J$3,\"\")","v":""},{"$f":"IF(OR(AND(AJ$1>=$J145,AJ$1<=IF(AND($J145>$M$1,$K145=\"\"),$M$2,$K145)),AND(AJ$1>=$J146,AJ$1<=IF(AND($J146>$M$1,$K146=\"\"),$M$2,$K146)),AND(AJ$1>=$J147,AJ$1<=IF(AND($J147>$M$1,$K147=\"\"),$M$2,$K147)),AND(AJ$1>=$J148,AJ$1<=IF(AND($J148>$M$1,$K148=\"\"),$M$2,$K148)),AND(AJ$1>=$J149,AJ$1<=IF(AND($J149>$M$1,$K149=\"\"),$M$2,$K149))),$J$3,\"\")","v":""},{"$f":"IF(OR(AND(AK$1>=$J145,AK$1<=IF(AND($J145>$M$1,$K145=\"\"),$M$2,$K145)),AND(AK$1>=$J146,AK$1<=IF(AND($J146>$M$1,$K146=\"\"),$M$2,$K146)),AND(AK$1>=$J147,AK$1<=IF(AND($J147>$M$1,$K147=\"\"),$M$2,$K147)),AND(AK$1>=$J148,AK$1<=IF(AND($J148>$M$1,$K148=\"\"),$M$2,$K148)),AND(AK$1>=$J149,AK$1<=IF(AND($J149>$M$1,$K149=\"\"),$M$2,$K149))),$J$3,\"\")","v":""},{"$f":"IF(OR(AND(AL$1>=$J145,AL$1<=IF(AND($J145>$M$1,$K145=\"\"),$M$2,$K145)),AND(AL$1>=$J146,AL$1<=IF(AND($J146>$M$1,$K146=\"\"),$M$2,$K146)),AND(AL$1>=$J147,AL$1<=IF(AND($J147>$M$1,$K147=\"\"),$M$2,$K147)),AND(AL$1>=$J148,AL$1<=IF(AND($J148>$M$1,$K148=\"\"),$M$2,$K148)),AND(AL$1>=$J149,AL$1<=IF(AND($J149>$M$1,$K149=\"\"),$M$2,$K149))),$J$3,\"\")","v":""},{"$f":"IF(OR(AND(AM$1>=$J145,AM$1<=IF(AND($J145>$M$1,$K145=\"\"),$M$2,$K145)),AND(AM$1>=$J146,AM$1<=IF(AND($J146>$M$1,$K146=\"\"),$M$2,$K146)),AND(AM$1>=$J147,AM$1<=IF(AND($J147>$M$1,$K147=\"\"),$M$2,$K147)),AND(AM$1>=$J148,AM$1<=IF(AND($J148>$M$1,$K148=\"\"),$M$2,$K148)),AND(AM$1>=$J149,AM$1<=IF(AND($J149>$M$1,$K149=\"\"),$M$2,$K149))),$J$3,\"\")","v":""},{"$f":"IF(OR(AND(AN$1>=$J145,AN$1<=IF(AND($J145>$M$1,$K145=\"\"),$M$2,$K145)),AND(AN$1>=$J146,AN$1<=IF(AND($J146>$M$1,$K146=\"\"),$M$2,$K146)),AND(AN$1>=$J147,AN$1<=IF(AND($J147>$M$1,$K147=\"\"),$M$2,$K147)),AND(AN$1>=$J148,AN$1<=IF(AND($J148>$M$1,$K148=\"\"),$M$2,$K148)),AND(AN$1>=$J149,AN$1<=IF(AND($J149>$M$1,$K149=\"\"),$M$2,$K149))),$J$3,\"\")","v":""},{"$f":"IF(OR(AND(AO$1>=$J145,AO$1<=IF(AND($J145>$M$1,$K145=\"\"),$M$2,$K145)),AND(AO$1>=$J146,AO$1<=IF(AND($J146>$M$1,$K146=\"\"),$M$2,$K146)),AND(AO$1>=$J147,AO$1<=IF(AND($J147>$M$1,$K147=\"\"),$M$2,$K147)),AND(AO$1>=$J148,AO$1<=IF(AND($J148>$M$1,$K148=\"\"),$M$2,$K148)),AND(AO$1>=$J149,AO$1<=IF(AND($J149>$M$1,$K149=\"\"),$M$2,$K149))),$J$3,\"\")","v":""},{"$f":"IF(AP$1=\"\",\"\",IF(OR(AND(AP$1>=$J145,AP$1<=IF(AND($J145>$M$1,$K145=\"\"),$M$2,$K145)),AND(AP$1>=$J146,AP$1<=IF(AND($J146>$M$1,$K146=\"\"),$M$2,$K146)),AND(AP$1>=$J147,AP$1<=IF(AND($J147>$M$1,$K147=\"\"),$M$2,$K147)),AND(AP$1>=$J148,AP$1<=IF(AND($J148>$M$1,$K148=\"\"),$M$2,$K148)),AND(AP$1>=$J149,AP$1<=IF(AND($J149>$M$1,$K149=\"\"),$M$2,$K149))),$J$3,\"\"))","v":""},{"$f":"IF(AQ$1=\"\",\"\",IF(OR(AND(AQ$1>=$J145,AQ$1<=IF(AND($J145>$M$1,$K145=\"\"),$M$2,$K145)),AND(AQ$1>=$J146,AQ$1<=IF(AND($J146>$M$1,$K146=\"\"),$M$2,$K146)),AND(AQ$1>=$J147,AQ$1<=IF(AND($J147>$M$1,$K147=\"\"),$M$2,$K147)),AND(AQ$1>=$J148,AQ$1<=IF(AND($J148>$M$1,$K148=\"\"),$M$2,$K148)),AND(AQ$1>=$J149,AQ$1<=IF(AND($J149>$M$1,$K149=\"\"),$M$2,$K149))),$J$3,\"\"))","v":""},{"$f":"IF(AR$1=\"\",\"\",IF(OR(AND(AR$1>=$J145,AR$1<=IF(AND($J145>$M$1,$K145=\"\"),$M$2,$K145)),AND(AR$1>=$J146,AR$1<=IF(AND($J146>$M$1,$K146=\"\"),$M$2,$K146)),AND(AR$1>=$J147,AR$1<=IF(AND($J147>$M$1,$K147=\"\"),$M$2,$K147)),AND(AR$1>=$J148,AR$1<=IF(AND($J148>$M$1,$K148=\"\"),$M$2,$K148)),AND(AR$1>=$J149,AR$1<=IF(AND($J149>$M$1,$K149=\"\"),$M$2,$K149))),$J$3,\"\"))","v":""}]
[{"$f":"стр.1!C71","v":0},{"$f":"IFERROR(VLOOKUP(A150,стр.1!$A$13:$D$106,2,FALSE),\"\")","v":""},{"$f":"IFERROR(VLOOKUP(A150,стр.1!$A$13:$D$106,4,FALSE),\"\")","v":""},null,null,null,null,null,null,null,null,null,null,{"$f":"N151&N152&N153&N154","v":""},{"$f":"O151&O152&O153&O154","v":""},{"$f":"P151&P152&P153&P154","v":""},{"$f":"Q151&Q152&Q153&Q154","v":""},{"$f":"R151&R152&R153&R154","v":""},{"$f":"S151&S152&S153&S154","v":""},{"$f":"T151&T152&T153&T154","v":""},{"$f":"U151&U152&U153&U154","v":""},{"$f":"V151&V152&V153&V154","v":""},{"$f":"W151&W152&W153&W154","v":""},{"$f":"X151&X152&X153&X154","v":""},{"$f":"Y151&Y152&Y153&Y154","v":""},{"$f":"Z151&Z152&Z153&Z154","v":""},{"$f":"AA151&AA152&AA153&AA154","v":""},{"$f":"AB151&AB152&AB153&AB154","v":""},{"$f":"AC151&AC152&AC153&AC154","v":""},{"$f":"AD151&AD152&AD153&AD154","v":""},{"$f":"AE151&AE152&AE153&AE154","v":""},{"$f":"AF151&AF152&AF153&AF154","v":""},{"$f":"AG151&AG152&AG153&AG154","v":""},{"$f":"AH151&AH152&AH153&AH154","v":""},{"$f":"AI151&AI152&AI153&AI154","v":""},{"$f":"AJ151&AJ152&AJ153&AJ154","v":""},{"$f":"AK151&AK152&AK153&AK154","v":""},{"$f":"AL151&AL152&AL153&AL154","v":""},{"$f":"AM151&AM152&AM153&AM154","v":""},{"$f":"AN151&AN152&AN153&AN154","v":""},{"$f":"AO151&AO152&AO153&AO154","v":""},{"$f":"AP151&AP152&AP153&AP154","v":""},{"$f":"AQ151&AQ152&AQ153&AQ154","v":""},{"$f":"AR151&AR152&AR153&AR154","v":""}]
[null,null,null,null,null,null,null,null,null,null,null,null,null,{"$f":"IF(OR(AND(N$1>=$D150,N$1<=IF(AND($D150>$M$1,$E150=\"\"),$M$2,$E150)),AND(N$1>=$D151,N$1<=IF(AND($D151>$M$1,$E151=\"\"),$M$2,$E151)),AND(N$1>=$D152,N$1<=IF(AND($D152>$M$1,$E152=\"\"),$M$2,$E152)),AND(N$1>=$D153,N$1<=IF(AND($D153>$M$1,$E153=\"\"),$M$2,$E153))),$D$3,\"\")","v":""},{"$f":"IF(OR(AND(O$1>=$D150,O$1<=IF(AND($D150>$M$1,$E150=\"\"),$M$2,$E150)),AND(O$1>=$D151,O$1<=IF(AND($D151>$M$1,$E151=\"\"),$M$2,$E151)),AND(O$1>=$D152,O$1<=IF(AND($D152>$M$1,$E152=\"\"),$M$2,$E152)),AND(O$1>=$D153,O$1<=IF(AND($D153>$M$1,$E153=\"\"),$M$2,$E153))),$D$3,\"\")","v":""},"","","","","","","","","","","","","","","","","","","","","","","","","","",{"$f":"IF(AP$1=\"\",\"\",IF(OR(AND(AP$1>=$D150,AP$1<=IF(AND($D150>$M$1,$E150=\"\"),$M$2,$E150)),AND(AP$1>=$D151,AP$1<=IF(AND($D151>$M$1,$E151=\"\"),$M$2,$E151)),AND(AP$1>=$D152,AP$1<=IF(AND($D152>$M$1,$E152=\"\"),$M$2,$E152)),AND(AP$1>=$D153,AP$1<=IF(AND($D153>$M$1,$E153=\"\"),$M$2,$E153))),$D$3,\"\"))","v":""},{"$f":"IF(AQ$1=\"\",\"\",IF(OR(AND(AQ$1>=$D150,AQ$1<=IF(AND($D150>$M$1,$E150=\"\"),$M$2,$E150)),AND(AQ$1>=$D151,AQ$1<=IF(AND($D151>$M$1,$E151=\"\"),$M$2,$E151)),AND(AQ$1>=$D152,AQ$1<=IF(AND($D152>$M$1,$E152=\"\"),$M$2,$E152)),AND(AQ$1>=$D153,AQ$1<=IF(AND($D153>$M$1,$E153=\"\"),$M$2,$E153))),$D$3,\"\"))","v":""},""]
[null,null,null,null,null,null,null,null,null,null,null,null,null,{"$f":"IF(OR(AND(N$1>=$F150,N$1<=IF(AND($F150>$M$1,$G150=\"\"),$M$2,$G150)),AND(N$1>=$F151,N$1<=IF(AND($F151>$M$1,$G151=\"\"),$M$2,$G151)),AND(N$1>=$F152,N$1<=IF(AND($F152>$M$1,$G152=\"\"),$M$2,$G152)),AND(N$1>=$F153,N$1<=IF(AND($F153>$M$1,$G153=\"\"),$M$2,$G153))),$F$3,\"\")","v":""},{"$f":"IF(OR(AND(O$1>=$F150,O$1<=IF(AND($F150>$M$1,$G150=\"\"),$M$2,$G150)),AND(O$1>=$F151,O$1<=IF(AND($F151>$M$1,$G151=\"\"),$M$2,$G151)),AND(O$1>=$F152,O$1<=IF(AND($F152>$M$1,$G152=\"\"),$M$2,$G152)),AND(O$1>=$F153,O$1<=IF(AND($F153>$M$1,$G153=\"\"),$M$2,$G153))),$F$3,\"\")","v":""},"","","","","","","","","","","","","","","","","","","","","","","","","","",{"$f":"IF(AP$1=\"\",\"\",IF(OR(AND(AP$1>=$F150,AP$1<=IF(AND($F150>$M$1,$G150=\"\"),$M$2,$G150)),AND(AP$1>=$F151,AP$1<=IF(AND($F151>$M$1,$G151=\"\"),$M$2,$G151)),AND(AP$1>=$F152,AP$1<=IF(AND($F152>$M$1,$G152=\"\"),$M$2,$G152)),AND(AP$1>=$F153,AP$1<=IF(AND($F153>$M$1,$G153=\"\"),$M$2,$G153))),$F$3,\"\"))","v":""},{"$f":"IF(AQ$1=\"\",\"\",IF(OR(AND(AQ$1>=$F150,AQ$1<=IF(AND($F150>$M$1,$G150=\"\"),$M$2,$G150)),AND(AQ$1>=$F151,AQ$1<=IF(AND($F151>$M$1,$G151=\"\"),$M$2,$G151)),AND(AQ$1>=$F152,AQ$1<=IF(AND($F152>$M$1,$G152=\"\"),$M$2,$G152)),AND(AQ$1>=$F153,AQ$1<=IF(AND($F153>$M$1,$G153=\"\"),$M$2,$G153))),$F$3,\"\"))","v":""},""]
[null,null,null,null,null,null,null,null,null,null,null,null,null,{"$f":"IF(OR(AND(N$1>=$H150,N$1<=IF(AND($H150>$M$1,$I150=\"\"),$M$2,$I150)),AND(N$1>=$H151,N$1<=IF(AND($H151>$M$1,$I151=\"\"),$M$2,$I151)),AND(N$1>=$H152,N$1<=IF(AND($H152>$M$1,$I152=\"\"),$M$2,$I152)),AND(N$1>=$H153,N$1<=IF(AND($H153>$M$1,$I153=\"\"),$M$2,$I153))),$H$3,\"\")","v":""},"","","","","","","","","","","","","","","","","","","","","","","","","","","",{"$f":"IF(AP$1=\"\",\"\",IF(OR(AND(AP$1>=$H150,AP$1<=IF(AND($H150>$M$1,$I150=\"\"),$M$2,$I150)),AND(AP$1>=$H151,AP$1<=IF(AND($H151>$M$1,$I151=\"\"),$M$2,$I151)),AND(AP$1>=$H152,AP$1<=IF(AND($H152>$M$1,$I152=\"\"),$M$2,$I152)),AND(AP$1>=$H153,AP$1<=IF(AND($H153>$M$1,$I153=\"\"),$M$2,$I153))),$H$3,\"\"))","v":""},{"$f":"IF(AQ$1=\"\",\"\",IF(OR(AND(AQ$1>=$H150,AQ$1<=IF(AND($H150>$M$1,$I150=\"\"),$M$2,$I150)),AND(AQ$1>=$H151,AQ$1<=IF(AND($H151>$M$1,$I151=\"\"),$M$2,$I151)),AND(AQ$1>=$H152,AQ$1<=IF(AND($H152>$M$1,$I152=\"\"),$M$2,$I152)),AND(AQ$1>=$H153,AQ$1<=IF(AND($H153>$M$1,$I153=\"\"),$M$2,$I153))),$H$3,\"\"))","v":""},{"$f":"IF(AR$1=\"\",\"\",IF(OR(AND(AR$1>=$H150,AR$1<=IF(AND($H150>$M$1,$I150=\"\"),$M$2,$I150)),AND(AR$1>=$H151,AR$1<=IF(AND($H151>$M$1,$I151=\"\"),$M$2,$I151)),AND(AR$1>=$H152,AR$1<=IF(AND($H152>$M$1,$I152=\"\"),$M$2,$I152)),AND(AR$1>=$H153,AR$1<=IF(AND($H153>$M$1,$I153=\"\"),$M$2,$I153))),$H$3,\"\"))","v":""}]
[null,null,null,null,null,null,null,null,null,null,null,null,null,{"$f":"IF(OR(AND(N$1>=$J150,N$1<=IF(AND($J150>$M$1,$K150=\"\"),$M$2,$K150)),AND(N$1>=$J151,N$1<=IF(AND($J151>$M$1,$K151=\"\"),$M$2,$K151)),AND(N$1>=$J152,N$1<=IF(AND($J152>$M$1,$K152=\"\"),$M$2,$K152)),AND(N$1>=$J153,N$1<=IF(AND($J153>$M$1,$K153=\"\"),$M$2,$K153)),AND(N$1>=$J154,N$1<=IF(AND($J154>$M$1,$K154=\"\"),$M$2,$K154))),$J$3,\"\")","v":""},{"$f":"IF(OR(AND(O$1>=$J150,O$1<=IF(AND($J150>$M$1,$K150=\"\"),$M$2,$K150)),AND(O$1>=$J151,O$1<=IF(AND($J151>$M$1,$K151=\"\"),$M$2,$K151)),AND(O$1>=$J152,O$1<=IF(AND($J152>$M$1,$K152=\"\"),$M$2,$K152)),AND(O$1>=$J153,O$1<=IF(AND($J153>$M$1,$K153=\"\"),$M$2,$K153)),AND(O$1>=$J154,O$1<=IF(AND($J154>$M$1,$K154=\"\"),$M$2,$K154))),$J$3,\"\")","v":""},{"$f":"IF(OR(AND(P$1>=$J150,P$1<=IF(AND($J150>$M$1,$K150=\"\"),$M$2,$K150)),AND(P$1>=$J151,P$1<=IF(AND($J151>$M$1,$K151=\"\"),$M$2,$K151)),AND(P$1>=$J152,P$1<=IF(AND($J152>$M$1,$K152=\"\"),$M$2,$K152)),AND(P$1>=$J153,P$1<=IF(AND($J153>$M$1,$K153=\"\"),$M$2,$K153)),AND(P$1>=$J154,P$1<=IF(AND($J154>$M$1,$K154=\"\"),$M$2,$K154))),$J$3,\"\")","v":""},{"$f":"IF(OR(AND(Q$1>=$J150,Q$1<=IF(AND($J150>$M$1,$K150=\"\"),$M$2,$K150)),AND(Q$1>=$J151,Q$1<=IF(AND($J151>$M$1,$K151=\"\"),$M$2,$K151)),AND(Q$1>=$J152,Q$1<=IF(AND($J152>$M$1,$K152=\"\"),$M$2,$K152)),AND(Q$1>=$J153,Q$1<=IF(AND($J153>$M$1,$K153=\"\"),$M$2,$K153)),AND(Q$1>=$J154,Q$1<=IF(AND($J154>$M$1,$K154=\"\"),$M$2,$K154))),$J$3,\"\")","v":""},{"$f":"IF(OR(AND(R$1>=$J150,R$1<=IF(AND($J150>$M$1,$K150=\"\"),$M$2,$K150)),AND(R$1>=$J151,R$1<=IF(AND($J151>$M$1,$K151=\"\"),$M$2,$K151)),AND(R$1>=$J152,R$1<=IF(AND($J152>$M$1,$K152=\"\"),$M$2,$K152)),AND(R$1>=$J153,R$1<=IF(AND($J153>$M$1,$K153=\"\"),$M$2,$K153)),AND(R$1>=$J154,R$1<=IF(AND($J154>$M$1,$K154=\"\"),$M$2,$K154))),$J$3,\"\")","v":""},{"$f":"IF(OR(AND(S$1>=$J150,S$1<=IF(AND($J150>$M$1,$K150=\"\"),$M$2,$K150)),AND(S$1>=$J151,S$1<=IF(AND($J151>$M$1,$K151=\"\"),$M$2,$K151)),AND(S$1>=$J152,S$1<=IF(AND($J152>$M$1,$K152=\"\"),$M$2,$K152)),AND(S$1>=$J153,S$1<=IF(AND($J153>$M$1,$K153=\"\"),$M$2,$K153)),AND(S$1>=$J154,S$1<=IF(AND($J154>$M$1,$K154=\"\"),$M$2,$K154))),$J$3,\"\")","v":""},{"$f":"IF(OR(AND(T$1>=$J150,T$1<=IF(AND($J150>$M$1,$K150=\"\"),$M$2,$K150)),AND(T$1>=$J151,T$1<=IF(AND($J151>$M$1,$K151=\"\"),$M$2,$K151)),AND(T$1>=$J152,T$1<=IF(AND($J152>$M$1,$K152=\"\"),$M$2,$K152)),AND(T$1>=$J153,T$1<=IF(AND($J153>$M$1,$K153=\"\"),$M$2,$K153)),AND(T$1>=$J154,T$1<=IF(AND($J154>$M$1,$K154=\"\"),$M$2,$K154))),$J$3,\"\")","v":""},{"$f":"IF(OR(AND(U$1>=$J150,U$1<=IF(AND($J150>$M$1,$K150=\"\"),$M$2,$K150)),AND(U$1>=$J151,U$1<=IF(AND($J151>$M$1,$K151=\"\"),$M$2,$K151)),AND(U$1>=$J152,U$1<=IF(AND($J152>$M$1,$K152=\"\"),$M$2,$K152)),AND(U$1>=$J153,U$1<=IF(AND($J153>$M$1,$K153=\"\"),$M$2,$K153)),AND(U$1>=$J154,U$1<=IF(AND($J154>$M$1,$K154=\"\"),$M$2,$K154))),$J$3,\"\")","v":""},{"$f":"IF(OR(AND(V$1>=$J150,V$1<=IF(AND($J150>$M$1,$K150=\"\"),$M$2,$K150)),AND(V$1>=$J151,V$1<=IF(AND($J151>$M$1,$K151=\"\"),$M$2,$K151)),AND(V$1>=$J152,V$1<=IF(AND($J152>$M$1,$K152=\"\"),$M$2,$K152)),AND(V$1>=$J153,V$1<=IF(AND($J153>$M$1,$K153=\"\"),$M$2,$K153)),AND(V$1>=$J154,V$1<=IF(AND($J154>$M$1,$K154=\"\"),$M$2,$K154))),$J$3,\"\")","v":""},{"$f":"IF(OR(AND(W$1>=$J150,W$1<=IF(AND($J150>$M$1,$K150=\"\"),$M$2,$K150)),AND(W$1>=$J151,W$1<=IF(AND($J151>$M$1,$K151=\"\"),$M$2,$K151)),AND(W$1>=$J152,W$1<=IF(AND($J152>$M$1,$K152=\"\"),$M$2,$K152)),AND(W$1>=$J153,W$1<=IF(AND($J153>$M$1,$K153=\"\"),$M$2,$K153)),AND(W$1>=$J154,W$1<=IF(AND($J154>$M$1,$K154=\"\"),$M$2,$K154))),$J$3,\"\")","v":""},{"$f":"IF(OR(AND(X$1>=$J150,X$1<=IF(AND($J150>$M$1,$K150=\"\"),$M$2,$K150)),AND(X$1>=$J151,X$1<=IF(AND($J151>$M$1,$K151=\"\"),$M$2,$K151)),AND(X$1>=$J152,X$1<=IF(AND($J152>$M$1,$K152=\"\"),$M$2,$K152)),AND(X$1>=$J153,X$1<=IF(AND($J153>$M$1,$K153=\"\"),$M$2,$K153)),AND(X$1>=$J154,X$1<=IF(AND($J154>$M$1,$K154=\"\"),$M$2,$K154))),$J$3,\"\")","v":""},{"$f":"IF(OR(AND(Y$1>=$J150,Y$1<=IF(AND($J150>$M$1,$K150=\"\"),$M$2,$K150)),AND(Y$1>=$J151,Y$1<=IF(AND($J151>$M$1,$K151=\"\"),$M$2,$K151)),AND(Y$1>=$J152,Y$1<=IF(AND($J152>$M$1,$K152=\"\"),$M$2,$K152)),AND(Y$1>=$J153,Y$1<=IF(AND($J153>$M$1,$K153=\"\"),$M$2,$K153)),AND(Y$1>=$J154,Y$1<=IF(AND($J154>$M$1,$K154=\"\"),$M$2,$K154))),$J$3,\"\")","v":""},{"$f":"IF(OR(AND(Z$1>=$J150,Z$1<=IF(AND($J150>$M$1,$K150=\"\"),$M$2,$K150)),AND(Z$1>=$J151,Z$1<=IF(AND($J151>$M$1,$K151=\"\"),$M$2,$K151)),AND(Z$1>=$J152,Z$1<=IF(AND($J152>$M$1,$K152=\"\"),$M$2,$K152)),AND(Z$1>=$J153,Z$1<=IF(AND($J153>$M$1,$K153=\"\"),$M$2,$K153)),AND(Z$1>=$J154,Z$1<=IF(AND($J154>$M$1,$K154=\"\"),$M$2,$K154))),$J$3,\"\")","v":""},{"$f":"IF(OR(AND(AA$1>=$J150,AA$1<=IF(AND($J150>$M$1,$K150=\"\"),$M$2,$K150)),AND(AA$1>=$J151,AA$1<=IF(AND($J151>$M$1,$K151=\"\"),$M$2,$K151)),AND(AA$1>=$J152,AA$1<=IF(AND($J152>$M$1,$K152=\"\"),$M$2,$K152)),AND(AA$1>=$J153,AA$1<=IF(AND($J153>$M$1,$K153=\"\"),$M$2,$K153)),AND(AA$1>=$J154,AA$1<=IF(AND($J154>$M$1,$K154=\"\"),$M$2,$K154))),$J$3,\"\")","v":""},{"$f":"IF(OR(AND(AB$1>=$J150,AB$1<=IF(AND($J150>$M$1,$K150=\"\"),$M$2,$K150)),AND(AB$1>=$J151,AB$1<=IF(AND($J151>$M$1,$K151=\"\"),$M$2,$K151)),AND(AB$1>=$J152,AB$1<=IF(AND($J152>$M$1,$K152=\"\"),$M$2,$K152)),AND(AB$1>=$J153,AB$1<=IF(AND($J153>$M$1,$K153=\"\"),$M$2,$K153)),AND(AB$1>=$J154,AB$1<=IF(AND($J154>$M$1,$K154=\"\"),$M$2,$K154))),$J$3,\"\")","v":""},{"$f":"IF(OR(AND(AC$1>=$J150,AC$1<=IF(AND($J150>$M$1,$K150=\"\"),$M$2,$K150)),AND(AC$1>=$J151,AC$1<=IF(AND($J151>$M$1,$K151=\"\"),$M$2,$K151)),AND(AC$1>=$J152,AC$1<=IF(AND($J152>$M$1,$K152=\"\"),$M$2,$K152)),AND(AC$1>=$J153,AC$1<=IF(AND($J153>$M$1,$K153=\"\"),$M$2,$K153)),AND(AC$1>=$J154,AC$1<=IF(AND($J154>$M$1,$K154=\"\"),$M$2,$K154))),$J$3,\"\")","v":""},{"$f":"IF(OR(AND(AD$1>=$J150,AD$1<=IF(AND($J150>$M$1,$K150=\"\"),$M$2,$K150)),AND(AD$1>=$J151,AD$1<=IF(AND($J151>$M$1,$K151=\"\"),$M$2,$K151)),AND(AD$1>=$J152,AD$1<=IF(AND($J152>$M$1,$K152=\"\"),$M$2,$K152)),AND(AD$1>=$J153,AD$1<=IF(AND($J153>$M$1,$K153=\"\"),$M$2,$K153)),AND(AD$1>=$J154,AD$1<=IF(AND($J154>$M$1,$K154=\"\"),$M$2,$K154))),$J$3,\"\")","v":""},{"$f":"IF(OR(AND(AE$1>=$J150,AE$1<=IF(AND($J150>$M$1,$K150=\"\"),$M$2,$K150)),AND(AE$1>=$J151,AE$1<=IF(AND($J151>$M$1,$K151=\"\"),$M$2,$K151)),AND(AE$1>=$J152,AE$1<=IF(AND($J152>$M$1,$K152=\"\"),$M$2,$K152)),AND(AE$1>=$J153,AE$1<=IF(AND($J153>$M$1,$K153=\"\"),$M$2,$K153)),AND(AE$1>=$J154,AE$1<=IF(AND($J154>$M$1,$K154=\"\"),$M$2,$K154))),$J$3,\"\")","v":""},{"$f":"IF(OR(AND(AF$1>=$J150,AF$1<=IF(AND($J150>$M$1,$K150=\"\"),$M$2,$K150)),AND(AF$1>=$J151,AF$1<=IF(AND($J151>$M$1,$K151=\"\"),$M$2,$K151)),AND(AF$1>=$J152,AF$1<=IF(AND($J152>$M$1,$K152=\"\"),$M$2,$K152)),AND(AF$1>=$J153,AF$1<=IF(AND($J153>$M$1,$K153=\"\"),$M$2,$K153)),AND(AF$1>=$J154,AF$1<=IF(AND($J154>$M$1,$K154=\"\"),$M$2,$K154))),$J$3,\"\")","v":""},{"$f":"IF(OR(AND(AG$1>=$J150,AG$1<=IF(AND($J150>$M$1,$K150=\"\"),$M$2,$K150)),AND(AG$1>=$J151,AG$1<=IF(AND($J151>$M$1,$K151=\"\"),$M$2,$K151)),AND(AG$1>=$J152,AG$1<=IF(AND($J152>$M$1,$K152=\"\"),$M$2,$K152)),AND(AG$1>=$J153,AG$1<=IF(AND($J153>$M$1,$K153=\"\"),$M$2,$K153)),AND(AG$1>=$J154,AG$1<=IF(AND($J154>$M$1,$K154=\"\"),$M$2,$K154))),$J$3,\"\")","v":""},{"$f":"IF(OR(AND(AH$1>=$J150,AH$1<=IF(AND($J150>$M$1,$K150=\"\"),$M$2,$K150)),AND(AH$1>=$J151,AH$1<=IF(AND($J151>$M$1,$K151=\"\"),$M$2,$K151)),AND(AH$1>=$J152,AH$1<=IF(AND($J152>$M$1,$K152=\"\"),$M$2,$K152)),AND(AH$1>=$J153,AH$1<=IF(AND($J153>$M$1,$K153=\"\"),$M$2,$K153)),AND(AH$1>=$J154,AH$1<=IF(AND($J154>$M$1,$K154=\"\"),$M$2,$K154))),$J$3,\"\")","v":""},{"$f":"IF(OR(AND(AI$1>=$J150,AI$1<=IF(AND($J150>$M$1,$K150=\"\"),$M$2,$K150)),AND(AI$1>=$J151,AI$1<=IF(AND($J151>$M$1,$K151=\"\"),$M$2,$K151)),AND(AI$1>=$J152,AI$1<=IF(AND($J152>$M$1,$K152=\"\"),$M$2,$K152)),AND(AI$1>=$J153,AI$1<=IF(AND($J153>$M$1,$K153=\"\"),$M$2,$K153)),AND(AI$1>=$J154,AI$1<=IF(AND($J154>$M$1,$K154=\"\"),$M$2,$K154))),$J$3,\"\")","v":""},{"$f":"IF(OR(AND(AJ$1>=$J150,AJ$1<=IF(AND($J150>$M$1,$K150=\"\"),$M$2,$K150)),AND(AJ$1>=$J151,AJ$1<=IF(AND($J151>$M$1,$K151=\"\"),$M$2,$K151)),AND(AJ$1>=$J152,AJ$1<=IF(AND($J152>$M$1,$K152=\"\"),$M$2,$K152)),AND(AJ$1>=$J153,AJ$1<=IF(AND($J153>$M$1,$K153=\"\"),$M$2,$K153)),AND(AJ$1>=$J154,AJ$1<=IF(AND($J154>$M$1,$K154=\"\"),$M$2,$K154))),$J$3,\"\")","v":""},{"$f":"IF(OR(AND(AK$1>=$J150,AK$1<=IF(AND($J150>$M$1,$K150=\"\"),$M$2,$K150)),AND(AK$1>=$J151,AK$1<=IF(AND($J151>$M$1,$K151=\"\"),$M$2,$K151)),AND(AK$1>=$J152,AK$1<=IF(AND($J152>$M$1,$K152=\"\"),$M$2,$K152)),AND(AK$1>=$J153,AK$1<=IF(AND($J153>$M$1,$K153=\"\"),$M$2,$K153)),AND(AK$1>=$J154,AK$1<=IF(AND($J154>$M$1,$K154=\"\"),$M$2,$K154))),$J$3,\"\")","v":""},{"$f":"IF(OR(AND(AL$1>=$J150,AL$1<=IF(AND($J150>$M$1,$K150=\"\"),$M$2,$K150)),AND(AL$1>=$J151,AL$1<=IF(AND($J151>$M$1,$K151=\"\"),$M$2,$K151)),AND(AL$1>=$J152,AL$1<=IF(AND($J152>$M$1,$K152=\"\"),$M$2,$K152)),AND(AL$1>=$J153,AL$1<=IF(AND($J153>$M$1,$K153=\"\"),$M$2,$K153)),AND(AL$1>=$J154,AL$1<=IF(AND($J154>$M$1,$K154=\"\"),$M$2,$K154))),$J$3,\"\")","v":""},{"$f":"IF(OR(AND(AM$1>=$J150,AM$1<=IF(AND($J150>$M$1,$K150=\"\"),$M$2,$K150)),AND(AM$1>=$J151,AM$1<=IF(AND($J151>$M$1,$K151=\"\"),$M$2,$K151)),AND(AM$1>=$J152,AM$1<=IF(AND($J152>$M$1,$K152=\"\"),$M$2,$K152)),AND(AM$1>=$J153,AM$1<=IF(AND($J153>$M$1,$K153=\"\"),$M$2,$K153)),AND(AM$1>=$J154,AM$1<=IF(AND($J154>$M$1,$K154=\"\"),$M$2,$K154))),$J$3,\"\")","v":""},{"$f":"IF(OR(AND(AN$1>=$J150,AN$1<=IF(AND($J150>$M$1,$K150=\"\"),$M$2,$K150)),AND(AN$1>=$J151,AN$1<=IF(AND($J151>$M$1,$K151=\"\"),$M$2,$K151)),AND(AN$1>=$J152,AN$1<=IF(AND($J152>$M$1,$K152=\"\"),$M$2,$K152)),AND(AN$1>=$J153,AN$1<=IF(AND($J153>$M$1,$K153=\"\"),$M$2,$K153)),AND(AN$1>=$J154,AN$1<=IF(AND($J154>$M$1,$K154=\"\"),$M$2,$K154))),$J$3,\"\")","v":""},{"$f":"IF(OR(AND(AO$1>=$J150,AO$1<=IF(AND($J150>$M$1,$K150=\"\"),$M$2,$K150)),AND(AO$1>=$J151,AO$1<=IF(AND($J151>$M$1,$K151=\"\"),$M$2,$K151)),AND(AO$1>=$J152,AO$1<=IF(AND($J152>$M$1,$K152=\"\"),$M$2,$K152)),AND(AO$1>=$J153,AO$1<=IF(AND($J153>$M$1,$K153=\"\"),$M$2,$K153)),AND(AO$1>=$J154,AO$1<=IF(AND($J154>$M$1,$K154=\"\"),$M$2,$K154))),$J$3,\"\")","v":""},{"$f":"IF(AP$1=\"\",\"\",IF(OR(AND(AP$1>=$J150,AP$1<=IF(AND($J150>$M$1,$K150=\"\"),$M$2,$K150)),AND(AP$1>=$J151,AP$1<=IF(AND($J151>$M$1,$K151=\"\"),$M$2,$K151)),AND(AP$1>=$J152,AP$1<=IF(AND($J152>$M$1,$K152=\"\"),$M$2,$K152)),AND(AP$1>=$J153,AP$1<=IF(AND($J153>$M$1,$K153=\"\"),$M$2,$K153)),AND(AP$1>=$J154,AP$1<=IF(AND($J154>$M$1,$K154=\"\"),$M$2,$K154))),$J$3,\"\"))","v":""},{"$f":"IF(AQ$1=\"\",\"\",IF(OR(AND(AQ$1>=$J150,AQ$1<=IF(AND($J150>$M$1,$K150=\"\"),$M$2,$K150)),AND(AQ$1>=$J151,AQ$1<=IF(AND($J151>$M$1,$K151=\"\"),$M$2,$K151)),AND(AQ$1>=$J152,AQ$1<=IF(AND($J152>$M$1,$K152=\"\"),$M$2,$K152)),AND(AQ$1>=$J153,AQ$1<=IF(AND($J153>$M$1,$K153=\"\"),$M$2,$K153)),AND(AQ$1>=$J154,AQ$1<=IF(AND($J154>$M$1,$K154=\"\"),$M$2,$K154))),$J$3,\"\"))","v":""},{"$f":"IF(AR$1=\"\",\"\",IF(OR(AND(AR$1>=$J150,AR$1<=IF(AND($J150>$M$1,$K150=\"\"),$M$2,$K150)),AND(AR$1>=$J151,AR$1<=IF(AND($J151>$M$1,$K151=\"\"),$M$2,$K151)),AND(AR$1>=$J152,AR$1<=IF(AND($J152>$M$1,$K152=\"\"),$M$2,$K152)),AND(AR$1>=$J153,AR$1<=IF(AND($J153>$M$1,$K153=\"\"),$M$2,$K153)),AND(AR$1>=$J154,AR$1<=IF(AND($J154>$M$1,$K154=\"\"),$M$2,$K154))),$J$3,\"\"))","v":""}]
[{"$f":"стр.1!C73","v":0},{"$f":"IFERROR(VLOOKUP(A155,стр.1!$A$13:$D$106,2,FALSE),\"\")","v":""},{"$f":"IFERROR(VLOOKUP(A155,стр.1!$A$13:$D$106,4,FALSE),\"\")","v":""},null,null,null,null,null,null,null,null,null,null,{"$f":"N156&N157&N158&N159","v":""},{"$f":"O156&O157&O158&O159","v":""},{"$f":"P156&P157&P158&P159","v":""},{"$f":"Q156&Q157&Q158&Q159","v":""},{"$f":"R156&R157&R158&R159","v":""},{"$f":"S156&S157&S158&S159","v":""},{"$f":"T156&T157&T158&T159","v":""},{"$f":"U156&U157&U158&U159","v":""},{"$f":"V156&V157&V158&V159","v":""},{"$f":"W156&W157&W158&W159","v":""},{"$f":"X156&X157&X158&X159","v":""},{"$f":"Y156&Y157&Y158&Y159","v":""},{"$f":"Z156&Z157&Z158&Z159","v":""},{"$f":"AA156&AA157&AA158&AA159","v":""},{"$f":"AB156&AB157&AB158&AB159","v":""},{"$f":"AC156&AC157&AC158&AC159","v":""},{"$f":"AD156&AD157&AD158&AD159","v":""},{"$f":"AE156&AE157&AE158&AE159","v":""},{"$f":"AF156&AF157&AF158&AF159","v":""},{"$f":"AG156&AG157&AG158&AG159","v":""},{"$f":"AH156&AH157&AH158&AH159","v":""},{"$f":"AI156&AI157&AI158&AI159","v":""},{"$f":"AJ156&AJ157&AJ158&AJ159","v":""},{"$f":"AK156&AK157&AK158&AK159","v":""},{"$f":"AL156&AL157&AL158&AL159","v":""},{"$f":"AM156&AM157&AM158&AM159","v":""},{"$f":"AN156&AN157&AN158&AN159","v":""},{"$f":"AO156&AO157&AO158&AO159","v":""},{"$f":"AP156&AP157&AP158&AP159","v":""},{"$f":"AQ156&AQ157&AQ158&AQ159","v":""},{"$f":"AR156&AR157&AR158&AR159","v":""}]
[null,null,null,null,null,null,null,null,null,null,null,null,null,{"$f":"IF(OR(AND(N$1>=$D155,N$1<=IF(AND($D155>$M$1,$E155=\"\"),$M$2,$E155)),AND(N$1>=$D156,N$1<=IF(AND($D156>$M$1,$E156=\"\"),$M$2,$E156)),AND(N$1>=$D157,N$1<=IF(AND($D157>$M$1,$E157=\"\"),$M$2,$E157)),AND(N$1>=$D158,N$1<=IF(AND($D158>$M$1,$E158=\"\"),$M$2,$E158))),$D$3,\"\")","v":""},{"$f":"IF(OR(AND(O$1>=$D155,O$1<=IF(AND($D155>$M$1,$E155=\"\"),$M$2,$E155)),AND(O$1>=$D156,O$1<=IF(AND($D156>$M$1,$E156=\"\"),$M$2,$E156)),AND(O$1>=$D157,O$1<=IF(AND($D157>$M$1,$E157=\"\"),$M$2,$E157)),AND(O$1>=$D158,O$1<=IF(AND($D158>$M$1,$E158=\"\"),$M$2,$E158))),$D$3,\"\")","v":""},"","","","","","","","","","","","","","","","","","","","","","","","","","",{"$f":"IF(AP$1=\"\",\"\",IF(OR(AND(AP$1>=$D155,AP$1<=IF(AND($D155>$M$1,$E155=\"\"),$M$2,$E155)),AND(AP$1>=$D156,AP$1<=IF(AND($D156>$M$1,$E156=\"\"),$M$2,$E156)),AND(AP$1>=$D157,AP$1<=IF(AND($D157>$M$1,$E157=\"\"),$M$2,$E157)),AND(AP$1>=$D158,AP$1<=IF(AND($D158>$M$1,$E158=\"\"),$M$2,$E158))),$D$3,\"\"))","v":""},{"$f":"IF(AQ$1=\"\",\"\",IF(OR(AND(AQ$1>=$D155,AQ$1<=IF(AND($D155>$M$1,$E155=\"\"),$M$2,$E155)),AND(AQ$1>=$D156,AQ$1<=IF(AND($D156>$M$1,$E156=\"\"),$M$2,$E156)),AND(AQ$1>=$D157,AQ$1<=IF(AND($D157>$M$1,$E157=\"\"),$M$2,$E157)),AND(AQ$1>=$D158,AQ$1<=IF(AND($D158>$M$1,$E158=\"\"),$M$2,$E158))),$D$3,\"\"))","v":""},""]
[null,null,null,null,null,null,null,null,null,null,null,null,null,{"$f":"IF(OR(AND(N$1>=$F155,N$1<=IF(AND($F155>$M$1,$G155=\"\"),$M$2,$G155)),AND(N$1>=$F156,N$1<=IF(AND($F156>$M$1,$G156=\"\"),$M$2,$G156)),AND(N$1>=$F157,N$1<=IF(AND($F157>$M$1,$G157=\"\"),$M$2,$G157)),AND(N$1>=$F158,N$1<=IF(AND($F158>$M$1,$G158=\"\"),$M$2,$G158))),$F$3,\"\")","v":""},{"$f":"IF(OR(AND(O$1>=$F155,O$1<=IF(AND($F155>$M$1,$G155=\"\"),$M$2,$G155)),AND(O$1>=$F156,O$1<=IF(AND($F156>$M$1,$G156=\"\"),$M$2,$G156)),AND(O$1>=$F157,O$1<=IF(AND($F157>$M$1,$G157=\"\"),$M$2,$G157)),AND(O$1>=$F158,O$1<=IF(AND($F158>$M$1,$G158=\"\"),$M$2,$G158))),$F$3,\"\")","v":""},"","","","","","","","","","","","","","","","","","","","","","","","","","",{"$f":"IF(AP$1=\"\",\"\",IF(OR(AND(AP$1>=$F155,AP$1<=IF(AND($F155>$M$1,$G155=\"\"),$M$2,$G155)),AND(AP$1>=$F156,AP$1<=IF(AND($F156>$M$1,$G156=\"\"),$M$2,$G156)),AND(AP$1>=$F157,AP$1<=IF(AND($F157>$M$1,$G157=\"\"),$M$2,$G157)),AND(AP$1>=$F158,AP$1<=IF(AND($F158>$M$1,$G158=\"\"),$M$2,$G158))),$F$3,\"\"))","v":""},{"$f":"IF(AQ$1=\"\",\"\",IF(OR(AND(AQ$1>=$F155,AQ$1<=IF(AND($F155>$M$1,$G155=\"\"),$M$2,$G155)),AND(AQ$1>=$F156,AQ$1<=IF(AND($F156>$M$1,$G156=\"\"),$M$2,$G156)),AND(AQ$1>=$F157,AQ$1<=IF(AND($F157>$M$1,$G157=\"\"),$M$2,$G157)),AND(AQ$1>=$F158,AQ$1<=IF(AND($F158>$M$1,$G158=\"\"),$M$2,$G158))),$F$3,\"\"))","v":""},""]
[null,null,null,null,null,null,null,null,null,null,null,null,null,{"$f":"IF(OR(AND(N$1>=$H155,N$1<=IF(AND($H155>$M$1,$I155=\"\"),$M$2,$I155)),AND(N$1>=$H156,N$1<=IF(AND($H156>$M$1,$I156=\"\"),$M$2,$I156)),AND(N$1>=$H157,N$1<=IF(AND($H157>$M$1,$I157=\"\"),$M$2,$I157)),AND(N$1>=$H158,N$1<=IF(AND($H158>$M$1,$I158=\"\"),$M$2,$I158))),$H$3,\"\")","v":""},"","","","","","","","","","","","","","","","","","","","","","","","","","","",{"$f":"IF(AP$1=\"\",\"\",IF(OR(AND(AP$1>=$H155,AP$1<=IF(AND($H155>$M$1,$I155=\"\"),$M$2,$I155)),AND(AP$1>=$H156,AP$1<=IF(AND($H156>$M$1,$I156=\"\"),$M$2,$I156)),AND(AP$1>=$H157,AP$1<=IF(AND($H157>$M$1,$I157=\"\"),$M$2,$I157)),AND(AP$1>=$H158,AP$1<=IF(AND($H158>$M$1,$I158=\"\"),$M$2,$I158))),$H$3,\"\"))","v":""},{"$f":"IF(AQ$1=\"\",\"\",IF(OR(AND(AQ$1>=$H155,AQ$1<=IF(AND($H155>$M$1,$I155=\"\"),$M$2,$I155)),AND(AQ$1>=$H156,AQ$1<=IF(AND($H156>$M$1,$I156=\"\"),$M$2,$I156)),AND(AQ$1>=$H157,AQ$1<=IF(AND($H157>$M$1,$I157=\"\"),$M$2,$I157)),AND(AQ$1>=$H158,AQ$1<=IF(AND($H158>$M$1,$I158=\"\"),$M$2,$I158))),$H$3,\"\"))","v":""},{"$f":"IF(AR$1=\"\",\"\",IF(OR(AND(AR$1>=$H155,AR$1<=IF(AND($H155>$M$1,$I155=\"\"),$M$2,$I155)),AND(AR$1>=$H156,AR$1<=IF(AND($H156>$M$1,$I156=\"\"),$M$2,$I156)),AND(AR$1>=$H157,AR$1<=IF(AND($H157>$M$1,$I157=\"\"),$M$2,$I157)),AND(AR$1>=$H158,AR$1<=IF(AND($H158>$M$1,$I158=\"\"),$M$2,$I158))),$H$3,\"\"))","v":""}]
[null,null,null,null,null,null,null,null,null,null,null,null,null,{"$f":"IF(OR(AND(N$1>=$J155,N$1<=IF(AND($J155>$M$1,$K155=\"\"),$M$2,$K155)),AND(N$1>=$J156,N$1<=IF(AND($J156>$M$1,$K156=\"\"),$M$2,$K156)),AND(N$1>=$J157,N$1<=IF(AND($J157>$M$1,$K157=\"\"),$M$2,$K157)),AND(N$1>=$J158,N$1<=IF(AND($J158>$M$1,$K158=\"\"),$M$2,$K158)),AND(N$1>=$J159,N$1<=IF(AND($J159>$M$1,$K159=\"\"),$M$2,$K159))),$J$3,\"\")","v":""},{"$f":"IF(OR(AND(O$1>=$J155,O$1<=IF(AND($J155>$M$1,$K155=\"\"),$M$2,$K155)),AND(O$1>=$J156,O$1<=IF(AND($J156>$M$1,$K156=\"\"),$M$2,$K156)),AND(O$1>=$J157,O$1<=IF(AND($J157>$M$1,$K157=\"\"),$M$2,$K157)),AND(O$1>=$J158,O$1<=IF(AND($J158>$M$1,$K158=\"\"),$M$2,$K158)),AND(O$1>=$J159,O$1<=IF(AND($J159>$M$1,$K159=\"\"),$M$2,$K159))),$J$3,\"\")","v":""},{"$f":"IF(OR(AND(P$1>=$J155,P$1<=IF(AND($J155>$M$1,$K155=\"\"),$M$2,$K155)),AND(P$1>=$J156,P$1<=IF(AND($J156>$M$1,$K156=\"\"),$M$2,$K156)),AND(P$1>=$J157,P$1<=IF(AND($J157>$M$1,$K157=\"\"),$M$2,$K157)),AND(P$1>=$J158,P$1<=IF(AND($J158>$M$1,$K158=\"\"),$M$2,$K158)),AND(P$1>=$J159,P$1<=IF(AND($J159>$M$1,$K159=\"\"),$M$2,$K159))),$J$3,\"\")","v":""},{"$f":"IF(OR(AND(Q$1>=$J155,Q$1<=IF(AND($J155>$M$1,$K155=\"\"),$M$2,$K155)),AND(Q$1>=$J156,Q$1<=IF(AND($J156>$M$1,$K156=\"\"),$M$2,$K156)),AND(Q$1>=$J157,Q$1<=IF(AND($J157>$M$1,$K157=\"\"),$M$2,$K157)),AND(Q$1>=$J158,Q$1<=IF(AND($J158>$M$1,$K158=\"\"),$M$2,$K158)),AND(Q$1>=$J159,Q$1<=IF(AND($J159>$M$1,$K159=\"\"),$M$2,$K159))),$J$3,\"\")","v":""},{"$f":"IF(OR(AND(R$1>=$J155,R$1<=IF(AND($J155>$M$1,$K155=\"\"),$M$2,$K155)),AND(R$1>=$J156,R$1<=IF(AND($J156>$M$1,$K156=\"\"),$M$2,$K156)),AND(R$1>=$J157,R$1<=IF(AND($J157>$M$1,$K157=\"\"),$M$2,$K157)),AND(R$1>=$J158,R$1<=IF(AND($J158>$M$1,$K158=\"\"),$M$2,$K158)),AND(R$1>=$J159,R$1<=IF(AND($J159>$M$1,$K159=\"\"),$M$2,$K159))),$J$3,\"\")","v":""},{"$f":"IF(OR(AND(S$1>=$J155,S$1<=IF(AND($J155>$M$1,$K155=\"\"),$M$2,$K155)),AND(S$1>=$J156,S$1<=IF(AND($J156>$M$1,$K156=\"\"),$M$2,$K156)),AND(S$1>=$J157,S$1<=IF(AND($J157>$M$1,$K157=\"\"),$M$2,$K157)),AND(S$1>=$J158,S$1<=IF(AND($J158>$M$1,$K158=\"\"),$M$2,$K158)),AND(S$1>=$J159,S$1<=IF(AND($J159>$M$1,$K159=\"\"),$M$2,$K159))),$J$3,\"\")","v":""},{"$f":"IF(OR(AND(T$1>=$J155,T$1<=IF(AND($J155>$M$1,$K155=\"\"),$M$2,$K155)),AND(T$1>=$J156,T$1<=IF(AND($J156>$M$1,$K156=\"\"),$M$2,$K156)),AND(T$1>=$J157,T$1<=IF(AND($J157>$M$1,$K157=\"\"),$M$2,$K157)),AND(T$1>=$J158,T$1<=IF(AND($J158>$M$1,$K158=\"\"),$M$2,$K158)),AND(T$1>=$J159,T$1<=IF(AND($J159>$M$1,$K159=\"\"),$M$2,$K159))),$J$3,\"\")","v":""},{"$f":"IF(OR(AND(U$1>=$J155,U$1<=IF(AND($J155>$M$1,$K155=\"\"),$M$2,$K155)),AND(U$1>=$J156,U$1<=IF(AND($J156>$M$1,$K156=\"\"),$M$2,$K156)),AND(U$1>=$J157,U$1<=IF(AND($J157>$M$1,$K157=\"\"),$M$2,$K157)),AND(U$1>=$J158,U$1<=IF(AND($J158>$M$1,$K158=\"\"),$M$2,$K158)),AND(U$1>=$J159,U$1<=IF(AND($J159>$M$1,$K159=\"\"),$M$2,$K159))),$J$3,\"\")","v":""},{"$f":"IF(OR(AND(V$1>=$J155,V$1<=IF(AND($J155>$M$1,$K155=\"\"),$M$2,$K155)),AND(V$1>=$J156,V$1<=IF(AND($J156>$M$1,$K156=\"\"),$M$2,$K156)),AND(V$1>=$J157,V$1<=IF(AND($J157>$M$1,$K157=\"\"),$M$2,$K157)),AND(V$1>=$J158,V$1<=IF(AND($J158>$M$1,$K158=\"\"),$M$2,$K158)),AND(V$1>=$J159,V$1<=IF(AND($J159>$M$1,$K159=\"\"),$M$2,$K159))),$J$3,\"\")","v":""},{"$f":"IF(OR(AND(W$1>=$J155,W$1<=IF(AND($J155>$M$1,$K155=\"\"),$M$2,$K155)),AND(W$1>=$J156,W$1<=IF(AND($J156>$M$1,$K156=\"\"),$M$2,$K156)),AND(W$1>=$J157,W$1<=IF(AND($J157>$M$1,$K157=\"\"),$M$2,$K157)),AND(W$1>=$J158,W$1<=IF(AND($J158>$M$1,$K158=\"\"),$M$2,$K158)),AND(W$1>=$J159,W$1<=IF(AND($J159>$M$1,$K159=\"\"),$M$2,$K159))),$J$3,\"\")","v":""},{"$f":"IF(OR(AND(X$1>=$J155,X$1<=IF(AND($J155>$M$1,$K155=\"\"),$M$2,$K155)),AND(X$1>=$J156,X$1<=IF(AND($J156>$M$1,$K156=\"\"),$M$2,$K156)),AND(X$1>=$J157,X$1<=IF(AND($J157>$M$1,$K157=\"\"),$M$2,$K157)),AND(X$1>=$J158,X$1<=IF(AND($J158>$M$1,$K158=\"\"),$M$2,$K158)),AND(X$1>=$J159,X$1<=IF(AND($J159>$M$1,$K159=\"\"),$M$2,$K159))),$J$3,\"\")","v":""},{"$f":"IF(OR(AND(Y$1>=$J155,Y$1<=IF(AND($J155>$M$1,$K155=\"\"),$M$2,$K155)),AND(Y$1>=$J156,Y$1<=IF(AND($J156>$M$1,$K156=\"\"),$M$2,$K156)),AND(Y$1>=$J157,Y$1<=IF(AND($J157>$M$1,$K157=\"\"),$M$2,$K157)),AND(Y$1>=$J158,Y$1<=IF(AND($J158>$M$1,$K158=\"\"),$M$2,$K158)),AND(Y$1>=$J159,Y$1<=IF(AND($J159>$M$1,$K159=\"\"),$M$2,$K159))),$J$3,\"\")","v":""},{"$f":"IF(OR(AND(Z$1>=$J155,Z$1<=IF(AND($J155>$M$1,$K155=\"\"),$M$2,$K155)),AND(Z$1>=$J156,Z$1<=IF(AND($J156>$M$1,$K156=\"\"),$M$2,$K156)),AND(Z$1>=$J157,Z$1<=IF(AND($J157>$M$1,$K157=\"\"),$M$2,$K157)),AND(Z$1>=$J158,Z$1<=IF(AND($J158>$M$1,$K158=\"\"),$M$2,$K158)),AND(Z$1>=$J159,Z$1<=IF(AND($J159>$M$1,$K159=\"\"),$M$2,$K159))),$J$3,\"\")","v":""},{"$f":"IF(OR(AND(AA$1>=$J155,AA$1<=IF(AND($J155>$M$1,$K155=\"\"),$M$2,$K155)),AND(AA$1>=$J156,AA$1<=IF(AND($J156>$M$1,$K156=\"\"),$M$2,$K156)),AND(AA$1>=$J157,AA$1<=IF(AND($J157>$M$1,$K157=\"\"),$M$2,$K157)),AND(AA$1>=$J158,AA$1<=IF(AND($J158>$M$1,$K158=\"\"),$M$2,$K158)),AND(AA$1>=$J159,AA$1<=IF(AND($J159>$M$1,$K159=\"\"),$M$2,$K159))),$J$3,\"\")","v":""},{"$f":"IF(OR(AND(AB$1>=$J155,AB$1<=IF(AND($J155>$M$1,$K155=\"\"),$M$2,$K155)),AND(AB$1>=$J156,AB$1<=IF(AND($J156>$M$1,$K156=\"\"),$M$2,$K156)),AND(AB$1>=$J157,AB$1<=IF(AND($J157>$M$1,$K157=\"\"),$M$2,$K157)),AND(AB$1>=$J158,AB$1<=IF(AND($J158>$M$1,$K158=\"\"),$M$2,$K158)),AND(AB$1>=$J159,AB$1<=IF(AND($J159>$M$1,$K159=\"\"),$M$2,$K159))),$J$3,\"\")","v":""},{"$f":"IF(OR(AND(AC$1>=$J155,AC$1<=IF(AND($J155>$M$1,$K155=\"\"),$M$2,$K155)),AND(AC$1>=$J156,AC$1<=IF(AND($J156>$M$1,$K156=\"\"),$M$2,$K156)),AND(AC$1>=$J157,AC$1<=IF(AND($J157>$M$1,$K157=\"\"),$M$2,$K157)),AND(AC$1>=$J158,AC$1<=IF(AND($J158>$M$1,$K158=\"\"),$M$2,$K158)),AND(AC$1>=$J159,AC$1<=IF(AND($J159>$M$1,$K159=\"\"),$M$2,$K159))),$J$3,\"\")","v":""},{"$f":"IF(OR(AND(AD$1>=$J155,AD$1<=IF(AND($J155>$M$1,$K155=\"\"),$M$2,$K155)),AND(AD$1>=$J156,AD$1<=IF(AND($J156>$M$1,$K156=\"\"),$M$2,$K156)),AND(AD$1>=$J157,AD$1<=IF(AND($J157>$M$1,$K157=\"\"),$M$2,$K157)),AND(AD$1>=$J158,AD$1<=IF(AND($J158>$M$1,$K158=\"\"),$M$2,$K158)),AND(AD$1>=$J159,AD$1<=IF(AND($J159>$M$1,$K159=\"\"),$M$2,$K159))),$J$3,\"\")","v":""},{"$f":"IF(OR(AND(AE$1>=$J155,AE$1<=IF(AND($J155>$M$1,$K155=\"\"),$M$2,$K155)),AND(AE$1>=$J156,AE$1<=IF(AND($J156>$M$1,$K156=\"\"),$M$2,$K156)),AND(AE$1>=$J157,AE$1<=IF(AND($J157>$M$1,$K157=\"\"),$M$2,$K157)),AND(AE$1>=$J158,AE$1<=IF(AND($J158>$M$1,$K158=\"\"),$M$2,$K158)),AND(AE$1>=$J159,AE$1<=IF(AND($J159>$M$1,$K159=\"\"),$M$2,$K159))),$J$3,\"\")","v":""},{"$f":"IF(OR(AND(AF$1>=$J155,AF$1<=IF(AND($J155>$M$1,$K155=\"\"),$M$2,$K155)),AND(AF$1>=$J156,AF$1<=IF(AND($J156>$M$1,$K156=\"\"),$M$2,$K156)),AND(AF$1>=$J157,AF$1<=IF(AND($J157>$M$1,$K157=\"\"),$M$2,$K157)),AND(AF$1>=$J158,AF$1<=IF(AND($J158>$M$1,$K158=\"\"),$M$2,$K158)),AND(AF$1>=$J159,AF$1<=IF(AND($J159>$M$1,$K159=\"\"),$M$2,$K159))),$J$3,\"\")","v":""},{"$f":"IF(OR(AND(AG$1>=$J155,AG$1<=IF(AND($J155>$M$1,$K155=\"\"),$M$2,$K155)),AND(AG$1>=$J156,AG$1<=IF(AND($J156>$M$1,$K156=\"\"),$M$2,$K156)),AND(AG$1>=$J157,AG$1<=IF(AND($J157>$M$1,$K157=\"\"),$M$2,$K157)),AND(AG$1>=$J158,AG$1<=IF(AND($J158>$M$1,$K158=\"\"),$M$2,$K158)),AND(AG$1>=$J159,AG$1<=IF(AND($J159>$M$1,$K159=\"\"),$M$2,$K159))),$J$3,\"\")","v":""},{"$f":"IF(OR(AND(AH$1>=$J155,AH$1<=IF(AND($J155>$M$1,$K155=\"\"),$M$2,$K155)),AND(AH$1>=$J156,AH$1<=IF(AND($J156>$M$1,$K156=\"\"),$M$2,$K156)),AND(AH$1>=$J157,AH$1<=IF(AND($J157>$M$1,$K157=\"\"),$M$2,$K157)),AND(AH$1>=$J158,AH$1<=IF(AND($J158>$M$1,$K158=\"\"),$M$2,$K158)),AND(AH$1>=$J159,AH$1<=IF(AND($J159>$M$1,$K159=\"\"),$M$2,$K159))),$J$3,\"\")","v":""},{"$f":"IF(OR(AND(AI$1>=$J155,AI$1<=IF(AND($J155>$M$1,$K155=\"\"),$M$2,$K155)),AND(AI$1>=$J156,AI$1<=IF(AND($J156>$M$1,$K156=\"\"),$M$2,$K156)),AND(AI$1>=$J157,AI$1<=IF(AND($J157>$M$1,$K157=\"\"),$M$2,$K157)),AND(AI$1>=$J158,AI$1<=IF(AND($J158>$M$1,$K158=\"\"),$M$2,$K158)),AND(AI$1>=$J159,AI$1<=IF(AND($J159>$M$1,$K159=\"\"),$M$2,$K159))),$J$3,\"\")","v":""},{"$f":"IF(OR(AND(AJ$1>=$J155,AJ$1<=IF(AND($J155>$M$1,$K155=\"\"),$M$2,$K155)),AND(AJ$1>=$J156,AJ$1<=IF(AND($J156>$M$1,$K156=\"\"),$M$2,$K156)),AND(AJ$1>=$J157,AJ$1<=IF(AND($J157>$M$1,$K157=\"\"),$M$2,$K157)),AND(AJ$1>=$J158,AJ$1<=IF(AND($J158>$M$1,$K158=\"\"),$M$2,$K158)),AND(AJ$1>=$J159,AJ$1<=IF(AND($J159>$M$1,$K159=\"\"),$M$2,$K159))),$J$3,\"\")","v":""},{"$f":"IF(OR(AND(AK$1>=$J155,AK$1<=IF(AND($J155>$M$1,$K155=\"\"),$M$2,$K155)),AND(AK$1>=$J156,AK$1<=IF(AND($J156>$M$1,$K156=\"\"),$M$2,$K156)),AND(AK$1>=$J157,AK$1<=IF(AND($J157>$M$1,$K157=\"\"),$M$2,$K157)),AND(AK$1>=$J158,AK$1<=IF(AND($J158>$M$1,$K158=\"\"),$M$2,$K158)),AND(AK$1>=$J159,AK$1<=IF(AND($J159>$M$1,$K159=\"\"),$M$2,$K159))),$J$3,\"\")","v":""},{"$f":"IF(OR(AND(AL$1>=$J155,AL$1<=IF(AND($J155>$M$1,$K155=\"\"),$M$2,$K155)),AND(AL$1>=$J156,AL$1<=IF(AND($J156>$M$1,$K156=\"\"),$M$2,$K156)),AND(AL$1>=$J157,AL$1<=IF(AND($J157>$M$1,$K157=\"\"),$M$2,$K157)),AND(AL$1>=$J158,AL$1<=IF(AND($J158>$M$1,$K158=\"\"),$M$2,$K158)),AND(AL$1>=$J159,AL$1<=IF(AND($J159>$M$1,$K159=\"\"),$M$2,$K159))),$J$3,\"\")","v":""},{"$f":"IF(OR(AND(AM$1>=$J155,AM$1<=IF(AND($J155>$M$1,$K155=\"\"),$M$2,$K155)),AND(AM$1>=$J156,AM$1<=IF(AND($J156>$M$1,$K156=\"\"),$M$2,$K156)),AND(AM$1>=$J157,AM$1<=IF(AND($J157>$M$1,$K157=\"\"),$M$2,$K157)),AND(AM$1>=$J158,AM$1<=IF(AND($J158>$M$1,$K158=\"\"),$M$2,$K158)),AND(AM$1>=$J159,AM$1<=IF(AND($J159>$M$1,$K159=\"\"),$M$2,$K159))),$J$3,\"\")","v":""},{"$f":"IF(OR(AND(AN$1>=$J155,AN$1<=IF(AND($J155>$M$1,$K155=\"\"),$M$2,$K155)),AND(AN$1>=$J156,AN$1<=IF(AND($J156>$M$1,$K156=\"\"),$M$2,$K156)),AND(AN$1>=$J157,AN$1<=IF(AND($J157>$M$1,$K157=\"\"),$M$2,$K157)),AND(AN$1>=$J158,AN$1<=IF(AND($J158>$M$1,$K158=\"\"),$M$2,$K158)),AND(AN$1>=$J159,AN$1<=IF(AND($J159>$M$1,$K159=\"\"),$M$2,$K159))),$J$3,\"\")","v":""},{"$f":"IF(OR(AND(AO$1>=$J155,AO$1<=IF(AND($J155>$M$1,$K155=\"\"),$M$2,$K155)),AND(AO$1>=$J156,AO$1<=IF(AND($J156>$M$1,$K156=\"\"),$M$2,$K156)),AND(AO$1>=$J157,AO$1<=IF(AND($J157>$M$1,$K157=\"\"),$M$2,$K157)),AND(AO$1>=$J158,AO$1<=IF(AND($J158>$M$1,$K158=\"\"),$M$2,$K158)),AND(AO$1>=$J159,AO$1<=IF(AND($J159>$M$1,$K159=\"\"),$M$2,$K159))),$J$3,\"\")","v":""},{"$f":"IF(AP$1=\"\",\"\",IF(OR(AND(AP$1>=$J155,AP$1<=IF(AND($J155>$M$1,$K155=\"\"),$M$2,$K155)),AND(AP$1>=$J156,AP$1<=IF(AND($J156>$M$1,$K156=\"\"),$M$2,$K156)),AND(AP$1>=$J157,AP$1<=IF(AND($J157>$M$1,$K157=\"\"),$M$2,$K157)),AND(AP$1>=$J158,AP$1<=IF(AND($J158>$M$1,$K158=\"\"),$M$2,$K158)),AND(AP$1>=$J159,AP$1<=IF(AND($J159>$M$1,$K159=\"\"),$M$2,$K159))),$J$3,\"\"))","v":""},{"$f":"IF(AQ$1=\"\",\"\",IF(OR(AND(AQ$1>=$J155,AQ$1<=IF(AND($J155>$M$1,$K155=\"\"),$M$2,$K155)),AND(AQ$1>=$J156,AQ$1<=IF(AND($J156>$M$1,$K156=\"\"),$M$2,$K156)),AND(AQ$1>=$J157,AQ$1<=IF(AND($J157>$M$1,$K157=\"\"),$M$2,$K157)),AND(AQ$1>=$J158,AQ$1<=IF(AND($J158>$M$1,$K158=\"\"),$M$2,$K158)),AND(AQ$1>=$J159,AQ$1<=IF(AND($J159>$M$1,$K159=\"\"),$M$2,$K159))),$J$3,\"\"))","v":""},{"$f":"IF(AR$1=\"\",\"\",IF(OR(AND(AR$1>=$J155,AR$1<=IF(AND($J155>$M$1,$K155=\"\"),$M$2,$K155)),AND(AR$1>=$J156,AR$1<=IF(AND($J156>$M$1,$K156=\"\"),$M$2,$K156)),AND(AR$1>=$J157,AR$1<=IF(AND($J157>$M$1,$K157=\"\"),$M$2,$K157)),AND(AR$1>=$J158,AR$1<=IF(AND($J158>$M$1,$K158=\"\"),$M$2,$K158)),AND(AR$1>=$J159,AR$1<=IF(AND($J159>$M$1,$K159=\"\"),$M$2,$K159))),$J$3,\"\"))","v":""}]
[{"$f":"стр.1!C75","v":0},{"$f":"IFERROR(VLOOKUP(A160,стр.1!$A$13:$D$106,2,FALSE),\"\")","v":""},{"$f":"IFERROR(VLOOKUP(A160,стр.1!$A$13:$D$106,4,FALSE),\"\")","v":""},null,null,null,null,null,null,null,null,null,null,{"$f":"N161&N162&N163&N164","v":""},{"$f":"O161&O162&O163&O164","v":""},"","","","","","","","","","","","","","","","","","","","","","","","","","","","",""]
[null,null,null,null,null,null,null,null,null,null,null,null,null,{"$f":"IF(OR(AND(N$1>=$D160,N$1<=IF(AND($D160>$M$1,$E160=\"\"),$M$2,$E160)),AND(N$1>=$D161,N$1<=IF(AND($D161>$M$1,$E161=\"\"),$M$2,$E161)),AND(N$1>=$D162,N$1<=IF(AND($D162>$M$1,$E162=\"\"),$M$2,$E162)),AND(N$1>=$D163,N$1<=IF(AND($D163>$M$1,$E163=\"\"),$M$2,$E163))),$D$3,\"\")","v":""},{"$f":"IF(OR(AND(O$1>=$D160,O$1<=IF(AND($D160>$M$1,$E160=\"\"),$M$2,$E160)),AND(O$1>=$D161,O$1<=IF(AND($D161>$M$1,$E161=\"\"),$M$2,$E161)),AND(O$1>=$D162,O$1<=IF(AND($D162>$M$1,$E162=\"\"),$M$2,$E162)),AND(O$1>=$D163,O$1<=IF(AND($D163>$M$1,$E163=\"\"),$M$2,$E163))),$D$3,\"\")","v":""},"","","","","","","","","","","","","","","","","","","","","","","","","","",{"$f":"IF(AP$1=\"\",\"\",IF(OR(AND(AP$1>=$D160,AP$1<=IF(AND($D160>$M$1,$E160=\"\"),$M$2,$E160)),AND(AP$1>=$D161,AP$1<=IF(AND($D161>$M$1,$E161=\"\"),$M$2,$E161)),AND(AP$1>=$D162,AP$1<=IF(AND($D162>$M$1,$E162=\"\"),$M$2,$E162)),AND(AP$1>=$D163,AP$1<=IF(AND($D163>$M$1,$E163=\"\"),$M$2,$E163))),$D$3,\"\"))","v":""},{"$f":"IF(AQ$1=\"\",\"\",IF(OR(AND(AQ$1>=$D160,AQ$1<=IF(AND($D160>$M$1,$E160=\"\"),$M$2,$E160)),AND(AQ$1>=$D161,AQ$1<=IF(AND($D161>$M$1,$E161=\"\"),$M$2,$E161)),AND(AQ$1>=$D162,AQ$1<=IF(AND($D162>$M$1,$E162=\"\"),$M$2,$E162)),AND(AQ$1>=$D163,AQ$1<=IF(AND($D163>$M$1,$E163=\"\"),$M$2,$E163))),$D$3,\"\"))","v":""},""]
[null,null,null,null,null,null,null,null,null,null,null,null,null,{"$f":"IF(OR(AND(N$1>=$F160,N$1<=IF(AND($F160>$M$1,$G160=\"\"),$M$2,$G160)),AND(N$1>=$F161,N$1<=IF(AND($F161>$M$1,$G161=\"\"),$M$2,$G161)),AND(N$1>=$F162,N$1<=IF(AND($F162>$M$1,$G162=\"\"),$M$2,$G162)),AND(N$1>=$F163,N$1<=IF(AND($F163>$M$1,$G163=\"\"),$M$2,$G163))),$F$3,\"\")","v":""},{"$f":"IF(OR(AND(O$1>=$F160,O$1<=IF(AND($F160>$M$1,$G160=\"\"),$M$2,$G160)),AND(O$1>=$F161,O$1<=IF(AND($F161>$M$1,$G161=\"\"),$M$2,$G161)),AND(O$1>=$F162,O$1<=IF(AND($F162>$M$1,$G162=\"\"),$M$2,$G162)),AND(O$1>=$F163,O$1<=IF(AND($F163>$M$1,$G163=\"\"),$M$2,$G163))),$F$3,\"\")","v":""},"","","","","","","","","","","","","","","","","","","","","","","","","","",{"$f":"IF(AP$1=\"\",\"\",IF(OR(AND(AP$1>=$F160,AP$1<=IF(AND($F160>$M$1,$G160=\"\"),$M$2,$G160)),AND(AP$1>=$F161,AP$1<=IF(AND($F161>$M$1,$G161=\"\"),$M$2,$G161)),AND(AP$1>=$F162,AP$1<=IF(AND($F162>$M$1,$G162=\"\"),$M$2,$G162)),AND(AP$1>=$F163,AP$1<=IF(AND($F163>$M$1,$G163=\"\"),$M$2,$G163))),$F$3,\"\"))","v":""},{"$f":"IF(AQ$1=\"\",\"\",IF(OR(AND(AQ$1>=$F160,AQ$1<=IF(AND($F160>$M$1,$G160=\"\"),$M$2,$G160)),AND(AQ$1>=$F161,AQ$1<=IF(AND($F161>$M$1,$G161=\"\"),$M$2,$G161)),AND(AQ$1>=$F162,AQ$1<=IF(AND($F162>$M$1,$G162=\"\"),$M$2,$G162)),AND(AQ$1>=$F163,AQ$1<=IF(AND($F163>$M$1,$G163=\"\"),$M$2,$G163))),$F$3,\"\"))","v":""},""]
[null,null,null,null,null,null,null,null,null,null,null,null,null,{"$f":"IF(OR(AND(N$1>=$H160,N$1<=IF(AND($H160>$M$1,$I160=\"\"),$M$2,$I160)),AND(N$1>=$H161,N$1<=IF(AND($H161>$M$1,$I161=\"\"),$M$2,$I161)),AND(N$1>=$H162,N$1<=IF(AND($H162>$M$1,$I162=\"\"),$M$2,$I162)),AND(N$1>=$H163,N$1<=IF(AND($H163>$M$1,$I163=\"\"),$M$2,$I163))),$H$3,\"\")","v":""},"","","","","","","","","","","","","","","","","","","","","","","","","","","",{"$f":"IF(AP$1=\"\",\"\",IF(OR(AND(AP$1>=$H160,AP$1<=IF(AND($H160>$M$1,$I160=\"\"),$M$2,$I160)),AND(AP$1>=$H161,AP$1<=IF(AND($H161>$M$1,$I161=\"\"),$M$2,$I161)),AND(AP$1>=$H162,AP$1<=IF(AND($H162>$M$1,$I162=\"\"),$M$2,$I162)),AND(AP$1>=$H163,AP$1<=IF(AND($H163>$M$1,$I163=\"\"),$M$2,$I163))),$H$3,\"\"))","v":""},{"$f":"IF(AQ$1=\"\",\"\",IF(OR(AND(AQ$1>=$H160,AQ$1<=IF(AND($H160>$M$1,$I160=\"\"),$M$2,$I160)),AND(AQ$1>=$H161,AQ$1<=IF(AND($H161>$M$1,$I161=\"\"),$M$2,$I161)),AND(AQ$1>=$H162,AQ$1<=IF(AND($H162>$M$1,$I162=\"\"),$M$2,$I162)),AND(AQ$1>=$H163,AQ$1<=IF(AND($H163>$M$1,$I163=\"\"),$M$2,$I163))),$H$3,\"\"))","v":""},{"$f":"IF(AR$1=\"\",\"\",IF(OR(AND(AR$1>=$H160,AR$1<=IF(AND($H160>$M$1,$I160=\"\"),$M$2,$I160)),AND(AR$1>=$H161,AR$1<=IF(AND($H161>$M$1,$I161=\"\"),$M$2,$I161)),AND(AR$1>=$H162,AR$1<=IF(AND($H162>$M$1,$I162=\"\"),$M$2,$I162)),AND(AR$1>=$H163,AR$1<=IF(AND($H163>$M$1,$I163=\"\"),$M$2,$I163))),$H$3,\"\"))","v":""}]
[null,null,null,null,null,null,null,null,null,null,null,null,null,{"$f":"IF(OR(AND(N$1>=$J160,N$1<=IF(AND($J160>$M$1,$K160=\"\"),$M$2,$K160)),AND(N$1>=$J161,N$1<=IF(AND($J161>$M$1,$K161=\"\"),$M$2,$K161)),AND(N$1>=$J162,N$1<=IF(AND($J162>$M$1,$K162=\"\"),$M$2,$K162)),AND(N$1>=$J163,N$1<=IF(AND($J163>$M$1,$K163=\"\"),$M$2,$K163)),AND(N$1>=$J164,N$1<=IF(AND($J164>$M$1,$K164=\"\"),$M$2,$K164))),$J$3,\"\")","v":""},{"$f":"IF(OR(AND(O$1>=$J160,O$1<=IF(AND($J160>$M$1,$K160=\"\"),$M$2,$K160)),AND(O$1>=$J161,O$1<=IF(AND($J161>$M$1,$K161=\"\"),$M$2,$K161)),AND(O$1>=$J162,O$1<=IF(AND($J162>$M$1,$K162=\"\"),$M$2,$K162)),AND(O$1>=$J163,O$1<=IF(AND($J163>$M$1,$K163=\"\"),$M$2,$K163)),AND(O$1>=$J164,O$1<=IF(AND($J164>$M$1,$K164=\"\"),$M$2,$K164))),$J$3,\"\")","v":""},"","","","","","","","","","","","","","","","","","","","","","","","","","",{"$f":"IF(AP$1=\"\",\"\",IF(OR(AND(AP$1>=$J160,AP$1<=IF(AND($J160>$M$1,$K160=\"\"),$M$2,$K160)),AND(AP$1>=$J161,AP$1<=IF(AND($J161>$M$1,$K161=\"\"),$M$2,$K161)),AND(AP$1>=$J162,AP$1<=IF(AND($J162>$M$1,$K162=\"\"),$M$2,$K162)),AND(AP$1>=$J163,AP$1<=IF(AND($J163>$M$1,$K163=\"\"),$M$2,$K163)),AND(AP$1>=$J164,AP$1<=IF(AND($J164>$M$1,$K164=\"\"),$M$2,$K164))),$J$3,\"\"))","v":""},{"$f":"IF(AQ$1=\"\",\"\",IF(OR(AND(AQ$1>=$J160,AQ$1<=IF(AND($J160>$M$1,$K160=\"\"),$M$2,$K160)),AND(AQ$1>=$J161,AQ$1<=IF(AND($J161>$M$1,$K161=\"\"),$M$2,$K161)),AND(AQ$1>=$J162,AQ$1<=IF(AND($J162>$M$1,$K162=\"\"),$M$2,$K162)),AND(AQ$1>=$J163,AQ$1<=IF(AND($J163>$M$1,$K163=\"\"),$M$2,$K163)),AND(AQ$1>=$J164,AQ$1<=IF(AND($J164>$M$1,$K164=\"\"),$M$2,$K164))),$J$3,\"\"))","v":""},""]
[{"$f":"стр.1!C77","v":0},{"$f":"IFERROR(VLOOKUP(A165,стр.1!$A$13:$D$106,2,FALSE),\"\")","v":""},{"$f":"IFERROR(VLOOKUP(A165,стр.1!$A$13:$D$106,4,FALSE),\"\")","v":""},null,null,null,null,null,null,null,null,null,null,{"$f":"N166&N167&N168&N169","v":""},{"$f":"O166&O167&O168&O169","v":""},"","","","","","","","","","","","","","","","","","","","","","","","","","","","",""]
[null,null,null,null,null,null,null,null,null,null,null,null,null,{"$f":"IF(OR(AND(N$1>=$D165,N$1<=IF(AND($D165>$M$1,$E165=\"\"),$M$2,$E165)),AND(N$1>=$D166,N$1<=IF(AND($D166>$M$1,$E166=\"\"),$M$2,$E166)),AND(N$1>=$D167,N$1<=IF(AND($D167>$M$1,$E167=\"\"),$M$2,$E167)),AND(N$1>=$D168,N$1<=IF(AND($D168>$M$1,$E168=\"\"),$M$2,$E168))),$D$3,\"\")","v":""},{"$f":"IF(OR(AND(O$1>=$D165,O$1<=IF(AND($D165>$M$1,$E165=\"\"),$M$2,$E165)),AND(O$1>=$D166,O$1<=IF(AND($D166>$M$1,$E166=\"\"),$M$2,$E166)),AND(O$1>=$D167,O$1<=IF(AND($D167>$M$1,$E167=\"\"),$M$2,$E167)),AND(O$1>=$D168,O$1<=IF(AND($D168>$M$1,$E168=\"\"),$M$2,$E168))),$D$3,\"\")","v":""},"","","","","","","","","","","","","","","","","","","","","","","","","","",{"$f":"IF(AP$1=\"\",\"\",IF(OR(AND(AP$1>=$D165,AP$1<=IF(AND($D165>$M$1,$E165=\"\"),$M$2,$E165)),AND(AP$1>=$D166,AP$1<=IF(AND($D166>$M$1,$E166=\"\"),$M$2,$E166)),AND(AP$1>=$D167,AP$1<=IF(AND($D167>$M$1,$E167=\"\"),$M$2,$E167)),AND(AP$1>=$D168,AP$1<=IF(AND($D168>$M$1,$E168=\"\"),$M$2,$E168))),$D$3,\"\"))","v":""},{"$f":"IF(AQ$1=\"\",\"\",IF(OR(AND(AQ$1>=$D165,AQ$1<=IF(AND($D165>$M$1,$E165=\"\"),$M$2,$E165)),AND(AQ$1>=$D166,AQ$1<=IF(AND($D166>$M$1,$E166=\"\"),$M$2,$E166)),AND(AQ$1>=$D167,AQ$1<=IF(AND($D167>$M$1,$E167=\"\"),$M$2,$E167)),AND(AQ$1>=$D168,AQ$1<=IF(AND($D168>$M$1,$E168=\"\"),$M$2,$E168))),$D$3,\"\"))","v":""},""]
[null,null,null,null,null,null,null,null,null,null,null,null,null,{"$f":"IF(OR(AND(N$1>=$F165,N$1<=IF(AND($F165>$M$1,$G165=\"\"),$M$2,$G165)),AND(N$1>=$F166,N$1<=IF(AND($F166>$M$1,$G166=\"\"),$M$2,$G166)),AND(N$1>=$F167,N$1<=IF(AND($F167>$M$1,$G167=\"\"),$M$2,$G167)),AND(N$1>=$F168,N$1<=IF(AND($F168>$M$1,$G168=\"\"),$M$2,$G168))),$F$3,\"\")","v":""},{"$f":"IF(OR(AND(O$1>=$F165,O$1<=IF(AND($F165>$M$1,$G165=\"\"),$M$2,$G165)),AND(O$1>=$F166,O$1<=IF(AND($F166>$M$1,$G166=\"\"),$M$2,$G166)),AND(O$1>=$F167,O$1<=IF(AND($F167>$M$1,$G167=\"\"),$M$2,$G167)),AND(O$1>=$F168,O$1<=IF(AND($F168>$M$1,$G168=\"\"),$M$2,$G168))),$F$3,\"\")","v":""},"","","","","","","","","","","","","","","","","","","","","","","","","","",{"$f":"IF(AP$1=\"\",\"\",IF(OR(AND(AP$1>=$F165,AP$1<=IF(AND($F165>$M$1,$G165=\"\"),$M$2,$G165)),AND(AP$1>=$F166,AP$1<=IF(AND($F166>$M$1,$G166=\"\"),$M$2,$G166)),AND(AP$1>=$F167,AP$1<=IF(AND($F167>$M$1,$G167=\"\"),$M$2,$G167)),AND(AP$1>=$F168,AP$1<=IF(AND($F168>$M$1,$G168=\"\"),$M$2,$G168))),$F$3,\"\"))","v":""},{"$f":"IF(AQ$1=\"\",\"\",IF(OR(AND(AQ$1>=$F165,AQ$1<=IF(AND($F165>$M$1,$G165=\"\"),$M$2,$G165)),AND(AQ$1>=$F166,AQ$1<=IF(AND($F166>$M$1,$G166=\"\"),$M$2,$G166)),AND(AQ$1>=$F167,AQ$1<=IF(AND($F167>$M$1,$G167=\"\"),$M$2,$G167)),AND(AQ$1>=$F168,AQ$1<=IF(AND($F168>$M$1,$G168=\"\"),$M$2,$G168))),$F$3,\"\"))","v":""},""]
[null,null,null,null,null,null,null,null,null,null,null,null,null,{"$f":"IF(OR(AND(N$1>=$H165,N$1<=IF(AND($H165>$M$1,$I165=\"\"),$M$2,$I165)),AND(N$1>=$H166,N$1<=IF(AND($H166>$M$1,$I166=\"\"),$M$2,$I166)),AND(N$1>=$H167,N$1<=IF(AND($H167>$M$1,$I167=\"\"),$M$2,$I167)),AND(N$1>=$H168,N$1<=IF(AND($H168>$M$1,$I168=\"\"),$M$2,$I168))),$H$3,\"\")","v":""},"","","","","","","","","","","","","","","","","","","","","","","","","","","",{"$f":"IF(AP$1=\"\",\"\",IF(OR(AND(AP$1>=$H165,AP$1<=IF(AND($H165>$M$1,$I165=\"\"),$M$2,$I165)),AND(AP$1>=$H166,AP$1<=IF(AND($H166>$M$1,$I166=\"\"),$M$2,$I166)),AND(AP$1>=$H167,AP$1<=IF(AND($H167>$M$1,$I167=\"\"),$M$2,$I167)),AND(AP$1>=$H168,AP$1<=IF(AND($H168>$M$1,$I168=\"\"),$M$2,$I168))),$H$3,\"\"))","v":""},{"$f":"IF(AQ$1=\"\",\"\",IF(OR(AND(AQ$1>=$H165,AQ$1<=IF(AND($H165>$M$1,$I165=\"\"),$M$2,$I165)),AND(AQ$1>=$H166,AQ$1<=IF(AND($H166>$M$1,$I166=\"\"),$M$2,$I166)),AND(AQ$1>=$H167,AQ$1<=IF(AND($H167>$M$1,$I167=\"\"),$M$2,$I167)),AND(AQ$1>=$H168,AQ$1<=IF(AND($H168>$M$1,$I168=\"\"),$M$2,$I168))),$H$3,\"\"))","v":""},{"$f":"IF(AR$1=\"\",\"\",IF(OR(AND(AR$1>=$H165,AR$1<=IF(AND($H165>$M$1,$I165=\"\"),$M$2,$I165)),AND(AR$1>=$H166,AR$1<=IF(AND($H166>$M$1,$I166=\"\"),$M$2,$I166)),AND(AR$1>=$H167,AR$1<=IF(AND($H167>$M$1,$I167=\"\"),$M$2,$I167)),AND(AR$1>=$H168,AR$1<=IF(AND($H168>$M$1,$I168=\"\"),$M$2,$I168))),$H$3,\"\"))","v":""}]
[null,null,null,null,null,null,null,null,null,null,null,null,null,{"$f":"IF(OR(AND(N$1>=$J165,N$1<=IF(AND($J165>$M$1,$K165=\"\"),$M$2,$K165)),AND(N$1>=$J166,N$1<=IF(AND($J166>$M$1,$K166=\"\"),$M$2,$K166)),AND(N$1>=$J167,N$1<=IF(AND($J167>$M$1,$K167=\"\"),$M$2,$K167)),AND(N$1>=$J168,N$1<=IF(AND($J168>$M$1,$K168=\"\"),$M$2,$K168)),AND(N$1>=$J169,N$1<=IF(AND($J169>$M$1,$K169=\"\"),$M$2,$K169))),$J$3,\"\")","v":""},{"$f":"IF(OR(AND(O$1>=$J165,O$1<=IF(AND($J165>$M$1,$K165=\"\"),$M$2,$K165)),AND(O$1>=$J166,O$1<=IF(AND($J166>$M$1,$K166=\"\"),$M$2,$K166)),AND(O$1>=$J167,O$1<=IF(AND($J167>$M$1,$K167=\"\"),$M$2,$K167)),AND(O$1>=$J168,O$1<=IF(AND($J168>$M$1,$K168=\"\"),$M$2,$K168)),AND(O$1>=$J169,O$1<=IF(AND($J169>$M$1,$K169=\"\"),$M$2,$K169))),$J$3,\"\")","v":""},"","","","","","","","","","","","","","","","","","","","","","","","","","",{"$f":"IF(AP$1=\"\",\"\",IF(OR(AND(AP$1>=$J165,AP$1<=IF(AND($J165>$M$1,$K165=\"\"),$M$2,$K165)),AND(AP$1>=$J166,AP$1<=IF(AND($J166>$M$1,$K166=\"\"),$M$2,$K166)),AND(AP$1>=$J167,AP$1<=IF(AND($J167>$M$1,$K167=\"\"),$M$2,$K167)),AND(AP$1>=$J168,AP$1<=IF(AND($J168>$M$1,$K168=\"\"),$M$2,$K168)),AND(AP$1>=$J169,AP$1<=IF(AND($J169>$M$1,$K169=\"\"),$M$2,$K169))),$J$3,\"\"))","v":""},{"$f":"IF(AQ$1=\"\",\"\",IF(OR(AND(AQ$1>=$J165,AQ$1<=IF(AND($J165>$M$1,$K165=\"\"),$M$2,$K165)),AND(AQ$1>=$J166,AQ$1<=IF(AND($J166>$M$1,$K166=\"\"),$M$2,$K166)),AND(AQ$1>=$J167,AQ$1<=IF(AND($J167>$M$1,$K167=\"\"),$M$2,$K167)),AND(AQ$1>=$J168,AQ$1<=IF(AND($J168>$M$1,$K168=\"\"),$M$2,$K168)),AND(AQ$1>=$J169,AQ$1<=IF(AND($J169>$M$1,$K169=\"\"),$M$2,$K169))),$J$3,\"\"))","v":""},""]
[{"$f":"стр.1!C79","v":0},{"$f":"IFERROR(VLOOKUP(A170,стр.1!$A$13:$D$106,2,FALSE),\"\")","v":""},{"$f":"IFERROR(VLOOKUP(A170,стр.1!$A$13:$D$106,4,FALSE),\"\")","v":""},null,null,null,null,null,null,null,null,null,null,{"$f":"N171&N172&N173&N174","v":""},{"$f":"O171&O172&O173&O174","v":""},"","","","","","","","","","","","","","","","","","","","","","","","","","","","",""]
[null,null,null,null,null,null,null,null,null,null,null,null,null,{"$f":"IF(OR(AND(N$1>=$D170,N$1<=IF(AND($D170>$M$1,$E170=\"\"),$M$2,$E170)),AND(N$1>=$D171,N$1<=IF(AND($D171>$M$1,$E171=\"\"),$M$2,$E171)),AND(N$1>=$D172,N$1<=IF(AND($D172>$M$1,$E172=\"\"),$M$2,$E172)),AND(N$1>=$D173,N$1<=IF(AND($D173>$M$1,$E173=\"\"),$M$2,$E173))),$D$3,\"\")","v":""},{"$f":"IF(OR(AND(O$1>=$D170,O$1<=IF(AND($D170>$M$1,$E170=\"\"),$M$2,$E170)),AND(O$1>=$D171,O$1<=IF(AND($D171>$M$1,$E171=\"\"),$M$2,$E171)),AND(O$1>=$D172,O$1<=IF(AND($D172>$M$1,$E172=\"\"),$M$2,$E172)),AND(O$1>=$D173,O$1<=IF(AND($D173>$M$1,$E173=\"\"),$M$2,$E173))),$D$3,\"\")","v":""},"","","","","","","","","","","","","","","","","","","","","","","","","","",{"$f":"IF(AP$1=\"\",\"\",IF(OR(AND(AP$1>=$D170,AP$1<=IF(AND($D170>$M$1,$E170=\"\"),$M$2,$E170)),AND(AP$1>=$D171,AP$1<=IF(AND($D171>$M$1,$E171=\"\"),$M$2,$E171)),AND(AP$1>=$D172,AP$1<=IF(AND($D172>$M$1,$E172=\"\"),$M$2,$E172)),AND(AP$1>=$D173,AP$1<=IF(AND($D173>$M$1,$E173=\"\"),$M$2,$E173))),$D$3,\"\"))","v":""},{"$f":"IF(AQ$1=\"\",\"\",IF(OR(AND(AQ$1>=$D170,AQ$1<=IF(AND($D170>$M$1,$E170=\"\"),$M$2,$E170)),AND(AQ$1>=$D171,AQ$1<=IF(AND($D171>$M$1,$E171=\"\"),$M$2,$E171)),AND(AQ$1>=$D172,AQ$1<=IF(AND($D172>$M$1,$E172=\"\"),$M$2,$E172)),AND(AQ$1>=$D173,AQ$1<=IF(AND($D173>$M$1,$E173=\"\"),$M$2,$E173))),$D$3,\"\"))","v":""},""]
[null,null,null,null,null,null,null,null,null,null,null,null,null,{"$f":"IF(OR(AND(N$1>=$F170,N$1<=IF(AND($F170>$M$1,$G170=\"\"),$M$2,$G170)),AND(N$1>=$F171,N$1<=IF(AND($F171>$M$1,$G171=\"\"),$M$2,$G171)),AND(N$1>=$F172,N$1<=IF(AND($F172>$M$1,$G172=\"\"),$M$2,$G172)),AND(N$1>=$F173,N$1<=IF(AND($F173>$M$1,$G173=\"\"),$M$2,$G173))),$F$3,\"\")","v":""},{"$f":"IF(OR(AND(O$1>=$F170,O$1<=IF(AND($F170>$M$1,$G170=\"\"),$M$2,$G170)),AND(O$1>=$F171,O$1<=IF(AND($F171>$M$1,$G171=\"\"),$M$2,$G171)),AND(O$1>=$F172,O$1<=IF(AND($F172>$M$1,$G172=\"\"),$M$2,$G172)),AND(O$1>=$F173,O$1<=IF(AND($F173>$M$1,$G173=\"\"),$M$2,$G173))),$F$3,\"\")","v":""},"","","","","","","","","","","","","","","","","","","","","","","","","","",{"$f":"IF(AP$1=\"\",\"\",IF(OR(AND(AP$1>=$F170,AP$1<=IF(AND($F170>$M$1,$G170=\"\"),$M$2,$G170)),AND(AP$1>=$F171,AP$1<=IF(AND($F171>$M$1,$G171=\"\"),$M$2,$G171)),AND(AP$1>=$F172,AP$1<=IF(AND($F172>$M$1,$G172=\"\"),$M$2,$G172)),AND(AP$1>=$F173,AP$1<=IF(AND($F173>$M$1,$G173=\"\"),$M$2,$G173))),$F$3,\"\"))","v":""},{"$f":"IF(AQ$1=\"\",\"\",IF(OR(AND(AQ$1>=$F170,AQ$1<=IF(AND($F170>$M$1,$G170=\"\"),$M$2,$G170)),AND(AQ$1>=$F171,AQ$1<=IF(AND($F171>$M$1,$G171=\"\"),$M$2,$G171)),AND(AQ$1>=$F172,AQ$1<=IF(AND($F172>$M$1,$G172=\"\"),$M$2,$G172)),AND(AQ$1>=$F173,AQ$1<=IF(AND($F173>$M$1,$G173=\"\"),$M$2,$G173))),$F$3,\"\"))","v":""},""]
[null,null,null,null,null,null,null,null,null,null,null,null,null,{"$f":"IF(OR(AND(N$1>=$H170,N$1<=IF(AND($H170>$M$1,$I170=\"\"),$M$2,$I170)),AND(N$1>=$H171,N$1<=IF(AND($H171>$M$1,$I171=\"\"),$M$2,$I171)),AND(N$1>=$H172,N$1<=IF(AND($H172>$M$1,$I172=\"\"),$M$2,$I172)),AND(N$1>=$H173,N$1<=IF(AND($H173>$M$1,$I173=\"\"),$M$2,$I173))),$H$3,\"\")","v":""},"","","","","","","","","","","","","","","","","","","","","","","","","","","",{"$f":"IF(AP$1=\"\",\"\",IF(OR(AND(AP$1>=$H170,AP$1<=IF(AND($H170>$M$1,$I170=\"\"),$M$2,$I170)),AND(AP$1>=$H171,AP$1<=IF(AND($H171>$M$1,$I171=\"\"),$M$2,$I171)),AND(AP$1>=$H172,AP$1<=IF(AND($H172>$M$1,$I172=\"\"),$M$2,$I172)),AND(AP$1>=$H173,AP$1<=IF(AND($H173>$M$1,$I173=\"\"),$M$2,$I173))),$H$3,\"\"))","v":""},{"$f":"IF(AQ$1=\"\",\"\",IF(OR(AND(AQ$1>=$H170,AQ$1<=IF(AND($H170>$M$1,$I170=\"\"),$M$2,$I170)),AND(AQ$1>=$H171,AQ$1<=IF(AND($H171>$M$1,$I171=\"\"),$M$2,$I171)),AND(AQ$1>=$H172,AQ$1<=IF(AND($H172>$M$1,$I172=\"\"),$M$2,$I172)),AND(AQ$1>=$H173,AQ$1<=IF(AND($H173>$M$1,$I173=\"\"),$M$2,$I173))),$H$3,\"\"))","v":""},{"$f":"IF(AR$1=\"\",\"\",IF(OR(AND(AR$1>=$H170,AR$1<=IF(AND($H170>$M$1,$I170=\"\"),$M$2,$I170)),AND(AR$1>=$H171,AR$1<=IF(AND($H171>$M$1,$I171=\"\"),$M$2,$I171)),AND(AR$1>=$H172,AR$1<=IF(AND($H172>$M$1,$I172=\"\"),$M$2,$I172)),AND(AR$1>=$H173,AR$1<=IF(AND($H173>$M$1,$I173=\"\"),$M$2,$I173))),$H$3,\"\"))","v":""}]
[null,null,null,null,null,null,null,null,null,null,null,null,null,{"$f":"IF(OR(AND(N$1>=$J170,N$1<=IF(AND($J170>$M$1,$K170=\"\"),$M$2,$K170)),AND(N$1>=$J171,N$1<=IF(AND($J171>$M$1,$K171=\"\"),$M$2,$K171)),AND(N$1>=$J172,N$1<=IF(AND($J172>$M$1,$K172=\"\"),$M$2,$K172)),AND(N$1>=$J173,N$1<=IF(AND($J173>$M$1,$K173=\"\"),$M$2,$K173)),AND(N$1>=$J174,N$1<=IF(AND($J174>$M$1,$K174=\"\"),$M$2,$K174))),$J$3,\"\")","v":""},{"$f":"IF(OR(AND(O$1>=$J170,O$1<=IF(AND($J170>$M$1,$K170=\"\"),$M$2,$K170)),AND(O$1>=$J171,O$1<=IF(AND($J171>$M$1,$K171=\"\"),$M$2,$K171)),AND(O$1>=$J172,O$1<=IF(AND($J172>$M$1,$K172=\"\"),$M$2,$K172)),AND(O$1>=$J173,O$1<=IF(AND($J173>$M$1,$K173=\"\"),$M$2,$K173)),AND(O$1>=$J174,O$1<=IF(AND($J174>$M$1,$K174=\"\"),$M$2,$K174))),$J$3,\"\")","v":""},"","","","","","","","","","","","","","","","","","","","","","","","","","",{"$f":"IF(AP$1=\"\",\"\",IF(OR(AND(AP$1>=$J170,AP$1<=IF(AND($J170>$M$1,$K170=\"\"),$M$2,$K170)),AND(AP$1>=$J171,AP$1<=IF(AND($J171>$M$1,$K171=\"\"),$M$2,$K171)),AND(AP$1>=$J172,AP$1<=IF(AND($J172>$M$1,$K172=\"\"),$M$2,$K172)),AND(AP$1>=$J173,AP$1<=IF(AND($J173>$M$1,$K173=\"\"),$M$2,$K173)),AND(AP$1>=$J174,AP$1<=IF(AND($J174>$M$1,$K174=\"\"),$M$2,$K174))),$J$3,\"\"))","v":""},{"$f":"IF(AQ$1=\"\",\"\",IF(OR(AND(AQ$1>=$J170,AQ$1<=IF(AND($J170>$M$1,$K170=\"\"),$M$2,$K170)),AND(AQ$1>=$J171,AQ$1<=IF(AND($J171>$M$1,$K171=\"\"),$M$2,$K171)),AND(AQ$1>=$J172,AQ$1<=IF(AND($J172>$M$1,$K172=\"\"),$M$2,$K172)),AND(AQ$1>=$J173,AQ$1<=IF(AND($J173>$M$1,$K173=\"\"),$M$2,$K173)),AND(AQ$1>=$J174,AQ$1<=IF(AND($J174>$M$1,$K174=\"\"),$M$2,$K174))),$J$3,\"\"))","v":""},""]
[{"$f":"стр.1!C81","v":0},{"$f":"IFERROR(VLOOKUP(A175,стр.1!$A$13:$D$106,2,FALSE),\"\")","v":""},{"$f":"IFERROR(VLOOKUP(A175,стр.1!$A$13:$D$106,4,FALSE),\"\")","v":""},null,null,null,null,null,null,null,null,null,null,{"$f":"N176&N177&N178&N179","v":""},{"$f":"O176&O177&O178&O179","v":""},"","","","","","","","","","","","","","","","","","","","","","","","","","","","",""]
[null,null,null,null,null,null,null,null,null,null,null,null,null,{"$f":"IF(OR(AND(N$1>=$D175,N$1<=IF(AND($D175>$M$1,$E175=\"\"),$M$2,$E175)),AND(N$1>=$D176,N$1<=IF(AND($D176>$M$1,$E176=\"\"),$M$2,$E176)),AND(N$1>=$D177,N$1<=IF(AND($D177>$M$1,$E177=\"\"),$M$2,$E177)),AND(N$1>=$D178,N$1<=IF(AND($D178>$M$1,$E178=\"\"),$M$2,$E178))),$D$3,\"\")","v":""},{"$f":"IF(OR(AND(O$1>=$D175,O$1<=IF(AND($D175>$M$1,$E175=\"\"),$M$2,$E175)),AND(O$1>=$D176,O$1<=IF(AND($D176>$M$1,$E176=\"\"),$M$2,$E176)),AND(O$1>=$D177,O$1<=IF(AND($D177>$M$1,$E177=\"\"),$M$2,$E177)),AND(O$1>=$D178,O$1<=IF(AND($D178>$M$1,$E178=\"\"),$M$2,$E178))),$D$3,\"\")","v":""},"","","","","","","","","","","","","","","","","","","","","","","","","","",{"$f":"IF(AP$1=\"\",\"\",IF(OR(AND(AP$1>=$D175,AP$1<=IF(AND($D175>$M$1,$E175=\"\"),$M$2,$E175)),AND(AP$1>=$D176,AP$1<=IF(AND($D176>$M$1,$E176=\"\"),$M$2,$E176)),AND(AP$1>=$D177,AP$1<=IF(AND($D177>$M$1,$E177=\"\"),$M$2,$E177)),AND(AP$1>=$D178,AP$1<=IF(AND($D178>$M$1,$E178=\"\"),$M$2,$E178))),$D$3,\"\"))","v":""},{"$f":"IF(AQ$1=\"\",\"\",IF(OR(AND(AQ$1>=$D175,AQ$1<=IF(AND($D175>$M$1,$E175=\"\"),$M$2,$E175)),AND(AQ$1>=$D176,AQ$1<=IF(AND($D176>$M$1,$E176=\"\"),$M$2,$E176)),AND(AQ$1>=$D177,AQ$1<=IF(AND($D177>$M$1,$E177=\"\"),$M$2,$E177)),AND(AQ$1>=$D178,AQ$1<=IF(AND($D178>$M$1,$E178=\"\"),$M$2,$E178))),$D$3,\"\"))","v":""},""]
[null,null,null,null,null,null,null,null,null,null,null,null,null,{"$f":"IF(OR(AND(N$1>=$F175,N$1<=IF(AND($F175>$M$1,$G175=\"\"),$M$2,$G175)),AND(N$1>=$F176,N$1<=IF(AND($F176>$M$1,$G176=\"\"),$M$2,$G176)),AND(N$1>=$F177,N$1<=IF(AND($F177>$M$1,$G177=\"\"),$M$2,$G177)),AND(N$1>=$F178,N$1<=IF(AND($F178>$M$1,$G178=\"\"),$M$2,$G178))),$F$3,\"\")","v":""},{"$f":"IF(OR(AND(O$1>=$F175,O$1<=IF(AND($F175>$M$1,$G175=\"\"),$M$2,$G175)),AND(O$1>=$F176,O$1<=IF(AND($F176>$M$1,$G176=\"\"),$M$2,$G176)),AND(O$1>=$F177,O$1<=IF(AND($F177>$M$1,$G177=\"\"),$M$2,$G177)),AND(O$1>=$F178,O$1<=IF(AND($F178>$M$1,$G178=\"\"),$M$2,$G178))),$F$3,\"\")","v":""},"","","","","","","","","","","","","","","","","","","","","","","","","","",{"$f":"IF(AP$1=\"\",\"\",IF(OR(AND(AP$1>=$F175,AP$1<=IF(AND($F175>$M$1,$G175=\"\"),$M$2,$G175)),AND(AP$1>=$F176,AP$1<=IF(AND($F176>$M$1,$G176=\"\"),$M$2,$G176)),AND(AP$1>=$F177,AP$1<=IF(AND($F177>$M$1,$G177=\"\"),$M$2,$G177)),AND(AP$1>=$F178,AP$1<=IF(AND($F178>$M$1,$G178=\"\"),$M$2,$G178))),$F$3,\"\"))","v":""},{"$f":"IF(AQ$1=\"\",\"\",IF(OR(AND(AQ$1>=$F175,AQ$1<=IF(AND($F175>$M$1,$G175=\"\"),$M$2,$G175)),AND(AQ$1>=$F176,AQ$1<=IF(AND($F176>$M$1,$G176=\"\"),$M$2,$G176)),AND(AQ$1>=$F177,AQ$1<=IF(AND($F177>$M$1,$G177=\"\"),$M$2,$G177)),AND(AQ$1>=$F178,AQ$1<=IF(AND($F178>$M$1,$G178=\"\"),$M$2,$G178))),$F$3,\"\"))","v":""},""]
[null,null,null,null,null,null,null,null,null,null,null,null,null,{"$f":"IF(OR(AND(N$1>=$H175,N$1<=IF(AND($H175>$M$1,$I175=\"\"),$M$2,$I175)),AND(N$1>=$H176,N$1<=IF(AND($H176>$M$1,$I176=\"\"),$M$2,$I176)),AND(N$1>=$H177,N$1<=IF(AND($H177>$M$1,$I177=\"\"),$M$2,$I177)),AND(N$1>=$H178,N$1<=IF(AND($H178>$M$1,$I178=\"\"),$M$2,$I178))),$H$3,\"\")","v":""},"","","","","","","","","","","","","","","","","","","","","","","","","","","",{"$f":"IF(AP$1=\"\",\"\",IF(OR(AND(AP$1>=$H175,AP$1<=IF(AND($H175>$M$1,$I175=\"\"),$M$2,$I175)),AND(AP$1>=$H176,AP$1<=IF(AND($H176>$M$1,$I176=\"\"),$M$2,$I176)),AND(AP$1>=$H177,AP$1<=IF(AND($H177>$M$1,$I177=\"\"),$M$2,$I177)),AND(AP$1>=$H178,AP$1<=IF(AND($H178>$M$1,$I178=\"\"),$M$2,$I178))),$H$3,\"\"))","v":""},{"$f":"IF(AQ$1=\"\",\"\",IF(OR(AND(AQ$1>=$H175,AQ$1<=IF(AND($H175>$M$1,$I175=\"\"),$M$2,$I175)),AND(AQ$1>=$H176,AQ$1<=IF(AND($H176>$M$1,$I176=\"\"),$M$2,$I176)),AND(AQ$1>=$H177,AQ$1<=IF(AND($H177>$M$1,$I177=\"\"),$M$2,$I177)),AND(AQ$1>=$H178,AQ$1<=IF(AND($H178>$M$1,$I178=\"\"),$M$2,$I178))),$H$3,\"\"))","v":""},{"$f":"IF(AR$1=\"\",\"\",IF(OR(AND(AR$1>=$H175,AR$1<=IF(AND($H175>$M$1,$I175=\"\"),$M$2,$I175)),AND(AR$1>=$H176,AR$1<=IF(AND($H176>$M$1,$I176=\"\"),$M$2,$I176)),AND(AR$1>=$H177,AR$1<=IF(AND($H177>$M$1,$I177=\"\"),$M$2,$I177)),AND(AR$1>=$H178,AR$1<=IF(AND($H178>$M$1,$I178=\"\"),$M$2,$I178))),$H$3,\"\"))","v":""}]
[null,null,null,null,null,null,null,null,null,null,null,null,null,{"$f":"IF(OR(AND(N$1>=$J175,N$1<=IF(AND($J175>$M$1,$K175=\"\"),$M$2,$K175)),AND(N$1>=$J176,N$1<=IF(AND($J176>$M$1,$K176=\"\"),$M$2,$K176)),AND(N$1>=$J177,N$1<=IF(AND($J177>$M$1,$K177=\"\"),$M$2,$K177)),AND(N$1>=$J178,N$1<=IF(AND($J178>$M$1,$K178=\"\"),$M$2,$K178)),AND(N$1>=$J179,N$1<=IF(AND($J179>$M$1,$K179=\"\"),$M$2,$K179))),$J$3,\"\")","v":""},{"$f":"IF(OR(AND(O$1>=$J175,O$1<=IF(AND($J175>$M$1,$K175=\"\"),$M$2,$K175)),AND(O$1>=$J176,O$1<=IF(AND($J176>$M$1,$K176=\"\"),$M$2,$K176)),AND(O$1>=$J177,O$1<=IF(AND($J177>$M$1,$K177=\"\"),$M$2,$K177)),AND(O$1>=$J178,O$1<=IF(AND($J178>$M$1,$K178=\"\"),$M$2,$K178)),AND(O$1>=$J179,O$1<=IF(AND($J179>$M$1,$K179=\"\"),$M$2,$K179))),$J$3,\"\")","v":""},"","","","","","","","","","","","","","","","","","","","","","","","","","",{"$f":"IF(AP$1=\"\",\"\",IF(OR(AND(AP$1>=$J175,AP$1<=IF(AND($J175>$M$1,$K175=\"\"),$M$2,$K175)),AND(AP$1>=$J176,AP$1<=IF(AND($J176>$M$1,$K176=\"\"),$M$2,$K176)),AND(AP$1>=$J177,AP$1<=IF(AND($J177>$M$1,$K177=\"\"),$M$2,$K177)),AND(AP$1>=$J178,AP$1<=IF(AND($J178>$M$1,$K178=\"\"),$M$2,$K178)),AND(AP$1>=$J179,AP$1<=IF(AND($J179>$M$1,$K179=\"\"),$M$2,$K179))),$J$3,\"\"))","v":""},{"$f":"IF(AQ$1=\"\",\"\",IF(OR(AND(AQ$1>=$J175,AQ$1<=IF(AND($J175>$M$1,$K175=\"\"),$M$2,$K175)),AND(AQ$1>=$J176,AQ$1<=IF(AND($J176>$M$1,$K176=\"\"),$M$2,$K176)),AND(AQ$1>=$J177,AQ$1<=IF(AND($J177>$M$1,$K177=\"\"),$M$2,$K177)),AND(AQ$1>=$J178,AQ$1<=IF(AND($J178>$M$1,$K178=\"\"),$M$2,$K178)),AND(AQ$1>=$J179,AQ$1<=IF(AND($J179>$M$1,$K179=\"\"),$M$2,$K179))),$J$3,\"\"))","v":""},""]
[{"$f":"стр.1!C83","v":0},{"$f":"IFERROR(VLOOKUP(A180,стр.1!$A$13:$D$106,2,FALSE),\"\")","v":""},{"$f":"IFERROR(VLOOKUP(A180,стр.1!$A$13:$D$106,4,FALSE),\"\")","v":""},null,null,null,null,null,null,null,null,null,null,{"$f":"N181&N182&N183&N184","v":""},{"$f":"O181&O182&O183&O184","v":""},"","","","","","","","","","","","","","","","","","","","","","","","","","","","",""]
[null,null,null,null,null,null,null,null,null,null,null,null,null,{"$f":"IF(OR(AND(N$1>=$D180,N$1<=IF(AND($D180>$M$1,$E180=\"\"),$M$2,$E180)),AND(N$1>=$D181,N$1<=IF(AND($D181>$M$1,$E181=\"\"),$M$2,$E181)),AND(N$1>=$D182,N$1<=IF(AND($D182>$M$1,$E182=\"\"),$M$2,$E182)),AND(N$1>=$D183,N$1<=IF(AND($D183>$M$1,$E183=\"\"),$M$2,$E183))),$D$3,\"\")","v":""},{"$f":"IF(OR(AND(O$1>=$D180,O$1<=IF(AND($D180>$M$1,$E180=\"\"),$M$2,$E180)),AND(O$1>=$D181,O$1<=IF(AND($D181>$M$1,$E181=\"\"),$M$2,$E181)),AND(O$1>=$D182,O$1<=IF(AND($D182>$M$1,$E182=\"\"),$M$2,$E182)),AND(O$1>=$D183,O$1<=IF(AND($D183>$M$1,$E183=\"\"),$M$2,$E183))),$D$3,\"\")","v":""},"","","","","","","","","","","","","","","","","","","","","","","","","","",{"$f":"IF(AP$1=\"\",\"\",IF(OR(AND(AP$1>=$D180,AP$1<=IF(AND($D180>$M$1,$E180=\"\"),$M$2,$E180)),AND(AP$1>=$D181,AP$1<=IF(AND($D181>$M$1,$E181=\"\"),$M$2,$E181)),AND(AP$1>=$D182,AP$1<=IF(AND($D182>$M$1,$E182=\"\"),$M$2,$E182)),AND(AP$1>=$D183,AP$1<=IF(AND($D183>$M$1,$E183=\"\"),$M$2,$E183))),$D$3,\"\"))","v":""},{"$f":"IF(AQ$1=\"\",\"\",IF(OR(AND(AQ$1>=$D180,AQ$1<=IF(AND($D180>$M$1,$E180=\"\"),$M$2,$E180)),AND(AQ$1>=$D181,AQ$1<=IF(AND($D181>$M$1,$E181=\"\"),$M$2,$E181)),AND(AQ$1>=$D182,AQ$1<=IF(AND($D182>$M$1,$E182=\"\"),$M$2,$E182)),AND(AQ$1>=$D183,AQ$1<=IF(AND($D183>$M$1,$E183=\"\"),$M$2,$E183))),$D$3,\"\"))","v":""},""]
[null,null,null,null,null,null,null,null,null,null,null,null,null,{"$f":"IF(OR(AND(N$1>=$F180,N$1<=IF(AND($F180>$M$1,$G180=\"\"),$M$2,$G180)),AND(N$1>=$F181,N$1<=IF(AND($F181>$M$1,$G181=\"\"),$M$2,$G181)),AND(N$1>=$F182,N$1<=IF(AND($F182>$M$1,$G182=\"\"),$M$2,$G182)),AND(N$1>=$F183,N$1<=IF(AND($F183>$M$1,$G183=\"\"),$M$2,$G183))),$F$3,\"\")","v":""},{"$f":"IF(OR(AND(O$1>=$F180,O$1<=IF(AND($F180>$M$1,$G180=\"\"),$M$2,$G180)),AND(O$1>=$F181,O$1<=IF(AND($F181>$M$1,$G181=\"\"),$M$2,$G181)),AND(O$1>=$F182,O$1<=IF(AND($F182>$M$1,$G182=\"\"),$M$2,$G182)),AND(O$1>=$F183,O$1<=IF(AND($F183>$M$1,$G183=\"\"),$M$2,$G183))),$F$3,\"\")","v":""},"","","","","","","","","","","","","","","","","","","","","","","","","","",{"$f":"IF(AP$1=\"\",\"\",IF(OR(AND(AP$1>=$F180,AP$1<=IF(AND($F180>$M$1,$G180=\"\"),$M$2,$G180)),AND(AP$1>=$F181,AP$1<=IF(AND($F181>$M$1,$G181=\"\"),$M$2,$G181)),AND(AP$1>=$F182,AP$1<=IF(AND($F182>$M$1,$G182=\"\"),$M$2,$G182)),AND(AP$1>=$F183,AP$1<=IF(AND($F183>$M$1,$G183=\"\"),$M$2,$G183))),$F$3,\"\"))","v":""},{"$f":"IF(AQ$1=\"\",\"\",IF(OR(AND(AQ$1>=$F180,AQ$1<=IF(AND($F180>$M$1,$G180=\"\"),$M$2,$G180)),AND(AQ$1>=$F181,AQ$1<=IF(AND($F181>$M$1,$G181=\"\"),$M$2,$G181)),AND(AQ$1>=$F182,AQ$1<=IF(AND($F182>$M$1,$G182=\"\"),$M$2,$G182)),AND(AQ$1>=$F183,AQ$1<=IF(AND($F183>$M$1,$G183=\"\"),$M$2,$G183))),$F$3,\"\"))","v":""},""]
[null,null,null,null,null,null,null,null,null,null,null,null,null,{"$f":"IF(OR(AND(N$1>=$H180,N$1<=IF(AND($H180>$M$1,$I180=\"\"),$M$2,$I180)),AND(N$1>=$H181,N$1<=IF(AND($H181>$M$1,$I181=\"\"),$M$2,$I181)),AND(N$1>=$H182,N$1<=IF(AND($H182>$M$1,$I182=\"\"),$M$2,$I182)),AND(N$1>=$H183,N$1<=IF(AND($H183>$M$1,$I183=\"\"),$M$2,$I183))),$H$3,\"\")","v":""},"","","","","","","","","","","","","","","","","","","","","","","","","","","",{"$f":"IF(AP$1=\"\",\"\",IF(OR(AND(AP$1>=$H180,AP$1<=IF(AND($H180>$M$1,$I180=\"\"),$M$2,$I180)),AND(AP$1>=$H181,AP$1<=IF(AND($H181>$M$1,$I181=\"\"),$M$2,$I181)),AND(AP$1>=$H182,AP$1<=IF(AND($H182>$M$1,$I182=\"\"),$M$2,$I182)),AND(AP$1>=$H183,AP$1<=IF(AND($H183>$M$1,$I183=\"\"),$M$2,$I183))),$H$3,\"\"))","v":""},{"$f":"IF(AQ$1=\"\",\"\",IF(OR(AND(AQ$1>=$H180,AQ$1<=IF(AND($H180>$M$1,$I180=\"\"),$M$2,$I180)),AND(AQ$1>=$H181,AQ$1<=IF(AND($H181>$M$1,$I181=\"\"),$M$2,$I181)),AND(AQ$1>=$H182,AQ$1<=IF(AND($H182>$M$1,$I182=\"\"),$M$2,$I182)),AND(AQ$1>=$H183,AQ$1<=IF(AND($H183>$M$1,$I183=\"\"),$M$2,$I183))),$H$3,\"\"))","v":""},{"$f":"IF(AR$1=\"\",\"\",IF(OR(AND(AR$1>=$H180,AR$1<=IF(AND($H180>$M$1,$I180=\"\"),$M$2,$I180)),AND(AR$1>=$H181,AR$1<=IF(AND($H181>$M$1,$I181=\"\"),$M$2,$I181)),AND(AR$1>=$H182,AR$1<=IF(AND($H182>$M$1,$I182=\"\"),$M$2,$I182)),AND(AR$1>=$H183,AR$1<=IF(AND($H183>$M$1,$I183=\"\"),$M$2,$I183))),$H$3,\"\"))","v":""}]
[null,null,null,null,null,null,null,null,null,null,null,null,null,{"$f":"IF(OR(AND(N$1>=$J180,N$1<=IF(AND($J180>$M$1,$K180=\"\"),$M$2,$K180)),AND(N$1>=$J181,N$1<=IF(AND($J181>$M$1,$K181=\"\"),$M$2,$K181)),AND(N$1>=$J182,N$1<=IF(AND($J182>$M$1,$K182=\"\"),$M$2,$K182)),AND(N$1>=$J183,N$1<=IF(AND($J183>$M$1,$K183=\"\"),$M$2,$K183)),AND(N$1>=$J184,N$1<=IF(AND($J184>$M$1,$K184=\"\"),$M$2,$K184))),$J$3,\"\")","v":""},{"$f":"IF(OR(AND(O$1>=$J180,O$1<=IF(AND($J180>$M$1,$K180=\"\"),$M$2,$K180)),AND(O$1>=$J181,O$1<=IF(AND($J181>$M$1,$K181=\"\"),$M$2,$K181)),AND(O$1>=$J182,O$1<=IF(AND($J182>$M$1,$K182=\"\"),$M$2,$K182)),AND(O$1>=$J183,O$1<=IF(AND($J183>$M$1,$K183=\"\"),$M$2,$K183)),AND(O$1>=$J184,O$1<=IF(AND($J184>$M$1,$K184=\"\"),$M$2,$K184))),$J$3,\"\")","v":""},"","","","","","","","","","","","","","","","","","","","","","","","","","",{"$f":"IF(AP$1=\"\",\"\",IF(OR(AND(AP$1>=$J180,AP$1<=IF(AND($J180>$M$1,$K180=\"\"),$M$2,$K180)),AND(AP$1>=$J181,AP$1<=IF(AND($J181>$M$1,$K181=\"\"),$M$2,$K181)),AND(AP$1>=$J182,AP$1<=IF(AND($J182>$M$1,$K182=\"\"),$M$2,$K182)),AND(AP$1>=$J183,AP$1<=IF(AND($J183>$M$1,$K183=\"\"),$M$2,$K183)),AND(AP$1>=$J184,AP$1<=IF(AND($J184>$M$1,$K184=\"\"),$M$2,$K184))),$J$3,\"\"))","v":""},{"$f":"IF(AQ$1=\"\",\"\",IF(OR(AND(AQ$1>=$J180,AQ$1<=IF(AND($J180>$M$1,$K180=\"\"),$M$2,$K180)),AND(AQ$1>=$J181,AQ$1<=IF(AND($J181>$M$1,$K181=\"\"),$M$2,$K181)),AND(AQ$1>=$J182,AQ$1<=IF(AND($J182>$M$1,$K182=\"\"),$M$2,$K182)),AND(AQ$1>=$J183,AQ$1<=IF(AND($J183>$M$1,$K183=\"\"),$M$2,$K183)),AND(AQ$1>=$J184,AQ$1<=IF(AND($J184>$M$1,$K184=\"\"),$M$2,$K184))),$J$3,\"\"))","v":""},""]
[{"$f":"стр.1!C85","v":0},{"$f":"IFERROR(VLOOKUP(A185,стр.1!$A$13:$D$106,2,FALSE),\"\")","v":""},{"$f":"IFERROR(VLOOKUP(A185,стр.1!$A$13:$D$106,4,FALSE),\"\")","v":""},null,null,null,null,null,null,null,null,null,null,{"$f":"N186&N187&N188&N189","v":""},{"$f":"O186&O187&O188&O189","v":""},"","","","","","","","","","","","","","","","","","","","","","","","","","","","",""]
[null,null,null,null,null,null,null,null,null,null,null,null,null,{"$f":"IF(OR(AND(N$1>=$D185,N$1<=IF(AND($D185>$M$1,$E185=\"\"),$M$2,$E185)),AND(N$1>=$D186,N$1<=IF(AND($D186>$M$1,$E186=\"\"),$M$2,$E186)),AND(N$1>=$D187,N$1<=IF(AND($D187>$M$1,$E187=\"\"),$M$2,$E187)),AND(N$1>=$D188,N$1<=IF(AND($D188>$M$1,$E188=\"\"),$M$2,$E188))),$D$3,\"\")","v":""},{"$f":"IF(OR(AND(O$1>=$D185,O$1<=IF(AND($D185>$M$1,$E185=\"\"),$M$2,$E185)),AND(O$1>=$D186,O$1<=IF(AND($D186>$M$1,$E186=\"\"),$M$2,$E186)),AND(O$1>=$D187,O$1<=IF(AND($D187>$M$1,$E187=\"\"),$M$2,$E187)),AND(O$1>=$D188,O$1<=IF(AND($D188>$M$1,$E188=\"\"),$M$2,$E188))),$D$3,\"\")","v":""},"","","","","","","","","","","","","","","","","","","","","","","","","","",{"$f":"IF(AP$1=\"\",\"\",IF(OR(AND(AP$1>=$D185,AP$1<=IF(AND($D185>$M$1,$E185=\"\"),$M$2,$E185)),AND(AP$1>=$D186,AP$1<=IF(AND($D186>$M$1,$E186=\"\"),$M$2,$E186)),AND(AP$1>=$D187,AP$1<=IF(AND($D187>$M$1,$E187=\"\"),$M$2,$E187)),AND(AP$1>=$D188,AP$1<=IF(AND($D188>$M$1,$E188=\"\"),$M$2,$E188))),$D$3,\"\"))","v":""},{"$f":"IF(AQ$1=\"\",\"\",IF(OR(AND(AQ$1>=$D185,AQ$1<=IF(AND($D185>$M$1,$E185=\"\"),$M$2,$E185)),AND(AQ$1>=$D186,AQ$1<=IF(AND($D186>$M$1,$E186=\"\"),$M$2,$E186)),AND(AQ$1>=$D187,AQ$1<=IF(AND($D187>$M$1,$E187=\"\"),$M$2,$E187)),AND(AQ$1>=$D188,AQ$1<=IF(AND($D188>$M$1,$E188=\"\"),$M$2,$E188))),$D$3,\"\"))","v":""},""]
[null,null,null,null,null,null,null,null,null,null,null,null,null,{"$f":"IF(OR(AND(N$1>=$F185,N$1<=IF(AND($F185>$M$1,$G185=\"\"),$M$2,$G185)),AND(N$1>=$F186,N$1<=IF(AND($F186>$M$1,$G186=\"\"),$M$2,$G186)),AND(N$1>=$F187,N$1<=IF(AND($F187>$M$1,$G187=\"\"),$M$2,$G187)),AND(N$1>=$F188,N$1<=IF(AND($F188>$M$1,$G188=\"\"),$M$2,$G188))),$F$3,\"\")","v":""},{"$f":"IF(OR(AND(O$1>=$F185,O$1<=IF(AND($F185>$M$1,$G185=\"\"),$M$2,$G185)),AND(O$1>=$F186,O$1<=IF(AND($F186>$M$1,$G186=\"\"),$M$2,$G186)),AND(O$1>=$F187,O$1<=IF(AND($F187>$M$1,$G187=\"\"),$M$2,$G187)),AND(O$1>=$F188,O$1<=IF(AND($F188>$M$1,$G188=\"\"),$M$2,$G188))),$F$3,\"\")","v":""},"","","","","","","","","","","","","","","","","","","","","","","","","","",{"$f":"IF(AP$1=\"\",\"\",IF(OR(AND(AP$1>=$F185,AP$1<=IF(AND($F185>$M$1,$G185=\"\"),$M$2,$G185)),AND(AP$1>=$F186,AP$1<=IF(AND($F186>$M$1,$G186=\"\"),$M$2,$G186)),AND(AP$1>=$F187,AP$1<=IF(AND($F187>$M$1,$G187=\"\"),$M$2,$G187)),AND(AP$1>=$F188,AP$1<=IF(AND($F188>$M$1,$G188=\"\"),$M$2,$G188))),$F$3,\"\"))","v":""},{"$f":"IF(AQ$1=\"\",\"\",IF(OR(AND(AQ$1>=$F185,AQ$1<=IF(AND($F185>$M$1,$G185=\"\"),$M$2,$G185)),AND(AQ$1>=$F186,AQ$1<=IF(AND($F186>$M$1,$G186=\"\"),$M$2,$G186)),AND(AQ$1>=$F187,AQ$1<=IF(AND($F187>$M$1,$G187=\"\"),$M$2,$G187)),AND(AQ$1>=$F188,AQ$1<=IF(AND($F188>$M$1,$G188=\"\"),$M$2,$G188))),$F$3,\"\"))","v":""},""]
[null,null,null,null,null,null,null,null,null,null,null,null,null,{"$f":"IF(OR(AND(N$1>=$H185,N$1<=IF(AND($H185>$M$1,$I185=\"\"),$M$2,$I185)),AND(N$1>=$H186,N$1<=IF(AND($H186>$M$1,$I186=\"\"),$M$2,$I186)),AND(N$1>=$H187,N$1<=IF(AND($H187>$M$1,$I187=\"\"),$M$2,$I187)),AND(N$1>=$H188,N$1<=IF(AND($H188>$M$1,$I188=\"\"),$M$2,$I188))),$H$3,\"\")","v":""},"","","","","","","","","","","","","","","","","","","","","","","","","","","",{"$f":"IF(AP$1=\"\",\"\",IF(OR(AND(AP$1>=$H185,AP$1<=IF(AND($H185>$M$1,$I185=\"\"),$M$2,$I185)),AND(AP$1>=$H186,AP$1<=IF(AND($H186>$M$1,$I186=\"\"),$M$2,$I186)),AND(AP$1>=$H187,AP$1<=IF(AND($H187>$M$1,$I187=\"\"),$M$2,$I187)),AND(AP$1>=$H188,AP$1<=IF(AND($H188>$M$1,$I188=\"\"),$M$2,$I188))),$H$3,\"\"))","v":""},{"$f":"IF(AQ$1=\"\",\"\",IF(OR(AND(AQ$1>=$H185,AQ$1<=IF(AND($H185>$M$1,$I185=\"\"),$M$2,$I185)),AND(AQ$1>=$H186,AQ$1<=IF(AND($H186>$M$1,$I186=\"\"),$M$2,$I186)),AND(AQ$1>=$H187,AQ$1<=IF(AND($H187>$M$1,$I187=\"\"),$M$2,$I187)),AND(AQ$1>=$H188,AQ$1<=IF(AND($H188>$M$1,$I188=\"\"),$M$2,$I188))),$H$3,\"\"))","v":""},{"$f":"IF(AR$1=\"\",\"\",IF(OR(AND(AR$1>=$H185,AR$1<=IF(AND($H185>$M$1,$I185=\"\"),$M$2,$I185)),AND(AR$1>=$H186,AR$1<=IF(AND($H186>$M$1,$I186=\"\"),$M$2,$I186)),AND(AR$1>=$H187,AR$1<=IF(AND($H187>$M$1,$I187=\"\"),$M$2,$I187)),AND(AR$1>=$H188,AR$1<=IF(AND($H188>$M$1,$I188=\"\"),$M$2,$I188))),$H$3,\"\"))","v":""}]
[null,null,null,null,null,null,null,null,null,null,null,null,null,{"$f":"IF(OR(AND(N$1>=$J185,N$1<=IF(AND($J185>$M$1,$K185=\"\"),$M$2,$K185)),AND(N$1>=$J186,N$1<=IF(AND($J186>$M$1,$K186=\"\"),$M$2,$K186)),AND(N$1>=$J187,N$1<=IF(AND($J187>$M$1,$K187=\"\"),$M$2,$K187)),AND(N$1>=$J188,N$1<=IF(AND($J188>$M$1,$K188=\"\"),$M$2,$K188)),AND(N$1>=$J189,N$1<=IF(AND($J189>$M$1,$K189=\"\"),$M$2,$K189))),$J$3,\"\")","v":""},{"$f":"IF(OR(AND(O$1>=$J185,O$1<=IF(AND($J185>$M$1,$K185=\"\"),$M$2,$K185)),AND(O$1>=$J186,O$1<=IF(AND($J186>$M$1,$K186=\"\"),$M$2,$K186)),AND(O$1>=$J187,O$1<=IF(AND($J187>$M$1,$K187=\"\"),$M$2,$K187)),AND(O$1>=$J188,O$1<=IF(AND($J188>$M$1,$K188=\"\"),$M$2,$K188)),AND(O$1>=$J189,O$1<=IF(AND($J189>$M$1,$K189=\"\"),$M$2,$K189))),$J$3,\"\")","v":""},"","","","","","","","","","","","","","","","","","","","","","","","","","",{"$f":"IF(AP$1=\"\",\"\",IF(OR(AND(AP$1>=$J185,AP$1<=IF(AND($J185>$M$1,$K185=\"\"),$M$2,$K185)),AND(AP$1>=$J186,AP$1<=IF(AND($J186>$M$1,$K186=\"\"),$M$2,$K186)),AND(AP$1>=$J187,AP$1<=IF(AND($J187>$M$1,$K187=\"\"),$M$2,$K187)),AND(AP$1>=$J188,AP$1<=IF(AND($J188>$M$1,$K188=\"\"),$M$2,$K188)),AND(AP$1>=$J189,AP$1<=IF(AND($J189>$M$1,$K189=\"\"),$M$2,$K189))),$J$3,\"\"))","v":""},{"$f":"IF(AQ$1=\"\",\"\",IF(OR(AND(AQ$1>=$J185,AQ$1<=IF(AND($J185>$M$1,$K185=\"\"),$M$2,$K185)),AND(AQ$1>=$J186,AQ$1<=IF(AND($J186>$M$1,$K186=\"\"),$M$2,$K186)),AND(AQ$1>=$J187,AQ$1<=IF(AND($J187>$M$1,$K187=\"\"),$M$2,$K187)),AND(AQ$1>=$J188,AQ$1<=IF(AND($J188>$M$1,$K188=\"\"),$M$2,$K188)),AND(AQ$1>=$J189,AQ$1<=IF(AND($J189>$M$1,$K189=\"\"),$M$2,$K189))),$J$3,\"\"))","v":""},""]
[{"$f":"стр.1!C87","v":0},{"$f":"IFERROR(VLOOKUP(A190,стр.1!$A$13:$D$106,2,FALSE),\"\")","v":""},{"$f":"IFERROR(VLOOKUP(A190,стр.1!$A$13:$D$106,4,FALSE),\"\")","v":""},null,null,null,null,null,null,null,null,null,null,{"$f":"N191&N192&N193&N194","v":""},{"$f":"O191&O192&O193&O194","v":""},"","","","","","","","","","","","","","","","","","","","","","","","","","","","",""]
[null,null,null,null,null,null,null,null,null,null,null,null,null,{"$f":"IF(OR(AND(N$1>=$D190,N$1<=IF(AND($D190>$M$1,$E190=\"\"),$M$2,$E190)),AND(N$1>=$D191,N$1<=IF(AND($D191>$M$1,$E191=\"\"),$M$2,$E191)),AND(N$1>=$D192,N$1<=IF(AND($D192>$M$1,$E192=\"\"),$M$2,$E192)),AND(N$1>=$D193,N$1<=IF(AND($D193>$M$1,$E193=\"\"),$M$2,$E193))),$D$3,\"\")","v":""},{"$f":"IF(OR(AND(O$1>=$D190,O$1<=IF(AND($D190>$M$1,$E190=\"\"),$M$2,$E190)),AND(O$1>=$D191,O$1<=IF(AND($D191>$M$1,$E191=\"\"),$M$2,$E191)),AND(O$1>=$D192,O$1<=IF(AND($D192>$M$1,$E192=\"\"),$M$2,$E192)),AND(O$1>=$D193,O$1<=IF(AND($D193>$M$1,$E193=\"\"),$M$2,$E193))),$D$3,\"\")","v":""},"","","","","","","","","","","","","","","","","","","","","","","","","","",{"$f":"IF(AP$1=\"\",\"\",IF(OR(AND(AP$1>=$D190,AP$1<=IF(AND($D190>$M$1,$E190=\"\"),$M$2,$E190)),AND(AP$1>=$D191,AP$1<=IF(AND($D191>$M$1,$E191=\"\"),$M$2,$E191)),AND(AP$1>=$D192,AP$1<=IF(AND($D192>$M$1,$E192=\"\"),$M$2,$E192)),AND(AP$1>=$D193,AP$1<=IF(AND($D193>$M$1,$E193=\"\"),$M$2,$E193))),$D$3,\"\"))","v":""},{"$f":"IF(AQ$1=\"\",\"\",IF(OR(AND(AQ$1>=$D190,AQ$1<=IF(AND($D190>$M$1,$E190=\"\"),$M$2,$E190)),AND(AQ$1>=$D191,AQ$1<=IF(AND($D191>$M$1,$E191=\"\"),$M$2,$E191)),AND(AQ$1>=$D192,AQ$1<=IF(AND($D192>$M$1,$E192=\"\"),$M$2,$E192)),AND(AQ$1>=$D193,AQ$1<=IF(AND($D193>$M$1,$E193=\"\"),$M$2,$E193))),$D$3,\"\"))","v":""},""]
[null,null,null,null,null,null,null,null,null,null,null,null,null,{"$f":"IF(OR(AND(N$1>=$F190,N$1<=IF(AND($F190>$M$1,$G190=\"\"),$M$2,$G190)),AND(N$1>=$F191,N$1<=IF(AND($F191>$M$1,$G191=\"\"),$M$2,$G191)),AND(N$1>=$F192,N$1<=IF(AND($F192>$M$1,$G192=\"\"),$M$2,$G192)),AND(N$1>=$F193,N$1<=IF(AND($F193>$M$1,$G193=\"\"),$M$2,$G193))),$F$3,\"\")","v":""},{"$f":"IF(OR(AND(O$1>=$F190,O$1<=IF(AND($F190>$M$1,$G190=\"\"),$M$2,$G190)),AND(O$1>=$F191,O$1<=IF(AND($F191>$M$1,$G191=\"\"),$M$2,$G191)),AND(O$1>=$F192,O$1<=IF(AND($F192>$M$1,$G192=\"\"),$M$2,$G192)),AND(O$1>=$F193,O$1<=IF(AND($F193>$M$1,$G193=\"\"),$M$2,$G193))),$F$3,\"\")","v":""},"","","","","","","","","","","","","","","","","","","","","","","","","","",{"$f":"IF(AP$1=\"\",\"\",IF(OR(AND(AP$1>=$F190,AP$1<=IF(AND($F190>$M$1,$G190=\"\"),$M$2,$G190)),AND(AP$1>=$F191,AP$1<=IF(AND($F191>$M$1,$G191=\"\"),$M$2,$G191)),AND(AP$1>=$F192,AP$1<=IF(AND($F192>$M$1,$G192=\"\"),$M$2,$G192)),AND(AP$1>=$F193,AP$1<=IF(AND($F193>$M$1,$G193=\"\"),$M$2,$G193))),$F$3,\"\"))","v":""},{"$f":"IF(AQ$1=\"\",\"\",IF(OR(AND(AQ$1>=$F190,AQ$1<=IF(AND($F190>$M$1,$G190=\"\"),$M$2,$G190)),AND(AQ$1>=$F191,AQ$1<=IF(AND($F191>$M$1,$G191=\"\"),$M$2,$G191)),AND(AQ$1>=$F192,AQ$1<=IF(AND($F192>$M$1,$G192=\"\"),$M$2,$G192)),AND(AQ$1>=$F193,AQ$1<=IF(AND($F193>$M$1,$G193=\"\"),$M$2,$G193))),$F$3,\"\"))","v":""},""]
[null,null,null,null,null,null,null,null,null,null,null,null,null,{"$f":"IF(OR(AND(N$1>=$H190,N$1<=IF(AND($H190>$M$1,$I190=\"\"),$M$2,$I190)),AND(N$1>=$H191,N$1<=IF(AND($H191>$M$1,$I191=\"\"),$M$2,$I191)),AND(N$1>=$H192,N$1<=IF(AND($H192>$M$1,$I192=\"\"),$M$2,$I192)),AND(N$1>=$H193,N$1<=IF(AND($H193>$M$1,$I193=\"\"),$M$2,$I193))),$H$3,\"\")","v":""},"","","","","","","","","","","","","","","","","","","","","","","","","","","",{"$f":"IF(AP$1=\"\",\"\",IF(OR(AND(AP$1>=$H190,AP$1<=IF(AND($H190>$M$1,$I190=\"\"),$M$2,$I190)),AND(AP$1>=$H191,AP$1<=IF(AND($H191>$M$1,$I191=\"\"),$M$2,$I191)),AND(AP$1>=$H192,AP$1<=IF(AND($H192>$M$1,$I192=\"\"),$M$2,$I192)),AND(AP$1>=$H193,AP$1<=IF(AND($H193>$M$1,$I193=\"\"),$M$2,$I193))),$H$3,\"\"))","v":""},{"$f":"IF(AQ$1=\"\",\"\",IF(OR(AND(AQ$1>=$H190,AQ$1<=IF(AND($H190>$M$1,$I190=\"\"),$M$2,$I190)),AND(AQ$1>=$H191,AQ$1<=IF(AND($H191>$M$1,$I191=\"\"),$M$2,$I191)),AND(AQ$1>=$H192,AQ$1<=IF(AND($H192>$M$1,$I192=\"\"),$M$2,$I192)),AND(AQ$1>=$H193,AQ$1<=IF(AND($H193>$M$1,$I193=\"\"),$M$2,$I193))),$H$3,\"\"))","v":""},{"$f":"IF(AR$1=\"\",\"\",IF(OR(AND(AR$1>=$H190,AR$1<=IF(AND($H190>$M$1,$I190=\"\"),$M$2,$I190)),AND(AR$1>=$H191,AR$1<=IF(AND($H191>$M$1,$I191=\"\"),$M$2,$I191)),AND(AR$1>=$H192,AR$1<=IF(AND($H192>$M$1,$I192=\"\"),$M$2,$I192)),AND(AR$1>=$H193,AR$1<=IF(AND($H193>$M$1,$I193=\"\"),$M$2,$I193))),$H$3,\"\"))","v":""}]
[null,null,null,null,null,null,null,null,null,null,null,null,null,{"$f":"IF(OR(AND(N$1>=$J190,N$1<=IF(AND($J190>$M$1,$K190=\"\"),$M$2,$K190)),AND(N$1>=$J191,N$1<=IF(AND($J191>$M$1,$K191=\"\"),$M$2,$K191)),AND(N$1>=$J192,N$1<=IF(AND($J192>$M$1,$K192=\"\"),$M$2,$K192)),AND(N$1>=$J193,N$1<=IF(AND($J193>$M$1,$K193=\"\"),$M$2,$K193)),AND(N$1>=$J194,N$1<=IF(AND($J194>$M$1,$K194=\"\"),$M$2,$K194))),$J$3,\"\")","v":""},{"$f":"IF(OR(AND(O$1>=$J190,O$1<=IF(AND($J190>$M$1,$K190=\"\"),$M$2,$K190)),AND(O$1>=$J191,O$1<=IF(AND($J191>$M$1,$K191=\"\"),$M$2,$K191)),AND(O$1>=$J192,O$1<=IF(AND($J192>$M$1,$K192=\"\"),$M$2,$K192)),AND(O$1>=$J193,O$1<=IF(AND($J193>$M$1,$K193=\"\"),$M$2,$K193)),AND(O$1>=$J194,O$1<=IF(AND($J194>$M$1,$K194=\"\"),$M$2,$K194))),$J$3,\"\")","v":""},"","","","","","","","","","","","","","","","","","","","","","","","","","",{"$f":"IF(AP$1=\"\",\"\",IF(OR(AND(AP$1>=$J190,AP$1<=IF(AND($J190>$M$1,$K190=\"\"),$M$2,$K190)),AND(AP$1>=$J191,AP$1<=IF(AND($J191>$M$1,$K191=\"\"),$M$2,$K191)),AND(AP$1>=$J192,AP$1<=IF(AND($J192>$M$1,$K192=\"\"),$M$2,$K192)),AND(AP$1>=$J193,AP$1<=IF(AND($J193>$M$1,$K193=\"\"),$M$2,$K193)),AND(AP$1>=$J194,AP$1<=IF(AND($J194>$M$1,$K194=\"\"),$M$2,$K194))),$J$3,\"\"))","v":""},{"$f":"IF(AQ$1=\"\",\"\",IF(OR(AND(AQ$1>=$J190,AQ$1<=IF(AND($J190>$M$1,$K190=\"\"),$M$2,$K190)),AND(AQ$1>=$J191,AQ$1<=IF(AND($J191>$M$1,$K191=\"\"),$M$2,$K191)),AND(AQ$1>=$J192,AQ$1<=IF(AND($J192>$M$1,$K192=\"\"),$M$2,$K192)),AND(AQ$1>=$J193,AQ$1<=IF(AND($J193>$M$1,$K193=\"\"),$M$2,$K193)),AND(AQ$1>=$J194,AQ$1<=IF(AND($J194>$M$1,$K194=\"\"),$M$2,$K194))),$J$3,\"\"))","v":""},""]
[{"$f":"стр.1!C89","v":0},{"$f":"IFERROR(VLOOKUP(A195,стр.1!$A$13:$D$106,2,FALSE),\"\")","v":""},{"$f":"IFERROR(VLOOKUP(A195,стр.1!$A$13:$D$106,4,FALSE),\"\")","v":""},null,null,null,null,null,null,null,null,null,null,{"$f":"N196&N197&N198&N199","v":""},{"$f":"O196&O197&O198&O199","v":""},"","","","","","","","","","","","","","","","","","","","","","","","","","","","",""]
[null,null,null,null,null,null,null,null,null,null,null,null,null,{"$f":"IF(OR(AND(N$1>=$D195,N$1<=IF(AND($D195>$M$1,$E195=\"\"),$M$2,$E195)),AND(N$1>=$D196,N$1<=IF(AND($D196>$M$1,$E196=\"\"),$M$2,$E196)),AND(N$1>=$D197,N$1<=IF(AND($D197>$M$1,$E197=\"\"),$M$2,$E197)),AND(N$1>=$D198,N$1<=IF(AND($D198>$M$1,$E198=\"\"),$M$2,$E198))),$D$3,\"\")","v":""},{"$f":"IF(OR(AND(O$1>=$D195,O$1<=IF(AND($D195>$M$1,$E195=\"\"),$M$2,$E195)),AND(O$1>=$D196,O$1<=IF(AND($D196>$M$1,$E196=\"\"),$M$2,$E196)),AND(O$1>=$D197,O$1<=IF(AND($D197>$M$1,$E197=\"\"),$M$2,$E197)),AND(O$1>=$D198,O$1<=IF(AND($D198>$M$1,$E198=\"\"),$M$2,$E198))),$D$3,\"\")","v":""},"","","","","","","","","","","","","","","","","","","","","","","","","","",{"$f":"IF(AP$1=\"\",\"\",IF(OR(AND(AP$1>=$D195,AP$1<=IF(AND($D195>$M$1,$E195=\"\"),$M$2,$E195)),AND(AP$1>=$D196,AP$1<=IF(AND($D196>$M$1,$E196=\"\"),$M$2,$E196)),AND(AP$1>=$D197,AP$1<=IF(AND($D197>$M$1,$E197=\"\"),$M$2,$E197)),AND(AP$1>=$D198,AP$1<=IF(AND($D198>$M$1,$E198=\"\"),$M$2,$E198))),$D$3,\"\"))","v":""},{"$f":"IF(AQ$1=\"\",\"\",IF(OR(AND(AQ$1>=$D195,AQ$1<=IF(AND($D195>$M$1,$E195=\"\"),$M$2,$E195)),AND(AQ$1>=$D196,AQ$1<=IF(AND($D196>$M$1,$E196=\"\"),$M$2,$E196)),AND(AQ$1>=$D197,AQ$1<=IF(AND($D197>$M$1,$E197=\"\"),$M$2,$E197)),AND(AQ$1>=$D198,AQ$1<=IF(AND($D198>$M$1,$E198=\"\"),$M$2,$E198))),$D$3,\"\"))","v":""},""]
[null,null,null,null,null,null,null,null,null,null,null,null,null,{"$f":"IF(OR(AND(N$1>=$F195,N$1<=IF(AND($F195>$M$1,$G195=\"\"),$M$2,$G195)),AND(N$1>=$F196,N$1<=IF(AND($F196>$M$1,$G196=\"\"),$M$2,$G196)),AND(N$1>=$F197,N$1<=IF(AND($F197>$M$1,$G197=\"\"),$M$2,$G197)),AND(N$1>=$F198,N$1<=IF(AND($F198>$M$1,$G198=\"\"),$M$2,$G198))),$F$3,\"\")","v":""},{"$f":"IF(OR(AND(O$1>=$F195,O$1<=IF(AND($F195>$M$1,$G195=\"\"),$M$2,$G195)),AND(O$1>=$F196,O$1<=IF(AND($F196>$M$1,$G196=\"\"),$M$2,$G196)),AND(O$1>=$F197,O$1<=IF(AND($F197>$M$1,$G197=\"\"),$M$2,$G197)),AND(O$1>=$F198,O$1<=IF(AND($F198>$M$1,$G198=\"\"),$M$2,$G198))),$F$3,\"\")","v":""},"","","","","","","","","","","","","","","","","","","","","","","","","","",{"$f":"IF(AP$1=\"\",\"\",IF(OR(AND(AP$1>=$F195,AP$1<=IF(AND($F195>$M$1,$G195=\"\"),$M$2,$G195)),AND(AP$1>=$F196,AP$1<=IF(AND($F196>$M$1,$G196=\"\"),$M$2,$G196)),AND(AP$1>=$F197,AP$1<=IF(AND($F197>$M$1,$G197=\"\"),$M$2,$G197)),AND(AP$1>=$F198,AP$1<=IF(AND($F198>$M$1,$G198=\"\"),$M$2,$G198))),$F$3,\"\"))","v":""},{"$f":"IF(AQ$1=\"\",\"\",IF(OR(AND(AQ$1>=$F195,AQ$1<=IF(AND($F195>$M$1,$G195=\"\"),$M$2,$G195)),AND(AQ$1>=$F196,AQ$1<=IF(AND($F196>$M$1,$G196=\"\"),$M$2,$G196)),AND(AQ$1>=$F197,AQ$1<=IF(AND($F197>$M$1,$G197=\"\"),$M$2,$G197)),AND(AQ$1>=$F198,AQ$1<=IF(AND($F198>$M$1,$G198=\"\"),$M$2,$G198))),$F$3,\"\"))","v":""},""]
[null,null,null,null,null,null,null,null,null,null,null,null,null,{"$f":"IF(OR(AND(N$1>=$H195,N$1<=IF(AND($H195>$M$1,$I195=\"\"),$M$2,$I195)),AND(N$1>=$H196,N$1<=IF(AND($H196>$M$1,$I196=\"\"),$M$2,$I196)),AND(N$1>=$H197,N$1<=IF(AND($H197>$M$1,$I197=\"\"),$M$2,$I197)),AND(N$1>=$H198,N$1<=IF(AND($H198>$M$1,$I198=\"\"),$M$2,$I198))),$H$3,\"\")","v":""},"","","","","","","","","","","","","","","","","","","","","","","","","","","",{"$f":"IF(AP$1=\"\",\"\",IF(OR(AND(AP$1>=$H195,AP$1<=IF(AND($H195>$M$1,$I195=\"\"),$M$2,$I195)),AND(AP$1>=$H196,AP$1<=IF(AND($H196>$M$1,$I196=\"\"),$M$2,$I196)),AND(AP$1>=$H197,AP$1<=IF(AND($H197>$M$1,$I197=\"\"),$M$2,$I197)),AND(AP$1>=$H198,AP$1<=IF(AND($H198>$M$1,$I198=\"\"),$M$2,$I198))),$H$3,\"\"))","v":""},{"$f":"IF(AQ$1=\"\",\"\",IF(OR(AND(AQ$1>=$H195,AQ$1<=IF(AND($H195>$M$1,$I195=\"\"),$M$2,$I195)),AND(AQ$1>=$H196,AQ$1<=IF(AND($H196>$M$1,$I196=\"\"),$M$2,$I196)),AND(AQ$1>=$H197,AQ$1<=IF(AND($H197>$M$1,$I197=\"\"),$M$2,$I197)),AND(AQ$1>=$H198,AQ$1<=IF(AND($H198>$M$1,$I198=\"\"),$M$2,$I198))),$H$3,\"\"))","v":""},{"$f":"IF(AR$1=\"\",\"\",IF(OR(AND(AR$1>=$H195,AR$1<=IF(AND($H195>$M$1,$I195=\"\"),$M$2,$I195)),AND(AR$1>=$H196,AR$1<=IF(AND($H196>$M$1,$I196=\"\"),$M$2,$I196)),AND(AR$1>=$H197,AR$1<=IF(AND($H197>$M$1,$I197=\"\"),$M$2,$I197)),AND(AR$1>=$H198,AR$1<=IF(AND($H198>$M$1,$I198=\"\"),$M$2,$I198))),$H$3,\"\"))","v":""}]
[null,null,null,null,null,null,null,null,null,null,null,null,null,{"$f":"IF(OR(AND(N$1>=$J195,N$1<=IF(AND($J195>$M$1,$K195=\"\"),$M$2,$K195)),AND(N$1>=$J196,N$1<=IF(AND($J196>$M$1,$K196=\"\"),$M$2,$K196)),AND(N$1>=$J197,N$1<=IF(AND($J197>$M$1,$K197=\"\"),$M$2,$K197)),AND(N$1>=$J198,N$1<=IF(AND($J198>$M$1,$K198=\"\"),$M$2,$K198)),AND(N$1>=$J199,N$1<=IF(AND($J199>$M$1,$K199=\"\"),$M$2,$K199))),$J$3,\"\")","v":""},{"$f":"IF(OR(AND(O$1>=$J195,O$1<=IF(AND($J195>$M$1,$K195=\"\"),$M$2,$K195)),AND(O$1>=$J196,O$1<=IF(AND($J196>$M$1,$K196=\"\"),$M$2,$K196)),AND(O$1>=$J197,O$1<=IF(AND($J197>$M$1,$K197=\"\"),$M$2,$K197)),AND(O$1>=$J198,O$1<=IF(AND($J198>$M$1,$K198=\"\"),$M$2,$K198)),AND(O$1>=$J199,O$1<=IF(AND($J199>$M$1,$K199=\"\"),$M$2,$K199))),$J$3,\"\")","v":""},"","","","","","","","","","","","","","","","","","","","","","","","","","",{"$f":"IF(AP$1=\"\",\"\",IF(OR(AND(AP$1>=$J195,AP$1<=IF(AND($J195>$M$1,$K195=\"\"),$M$2,$K195)),AND(AP$1>=$J196,AP$1<=IF(AND($J196>$M$1,$K196=\"\"),$M$2,$K196)),AND(AP$1>=$J197,AP$1<=IF(AND($J197>$M$1,$K197=\"\"),$M$2,$K197)),AND(AP$1>=$J198,AP$1<=IF(AND($J198>$M$1,$K198=\"\"),$M$2,$K198)),AND(AP$1>=$J199,AP$1<=IF(AND($J199>$M$1,$K199=\"\"),$M$2,$K199))),$J$3,\"\"))","v":""},{"$f":"IF(AQ$1=\"\",\"\",IF(OR(AND(AQ$1>=$J195,AQ$1<=IF(AND($J195>$M$1,$K195=\"\"),$M$2,$K195)),AND(AQ$1>=$J196,AQ$1<=IF(AND($J196>$M$1,$K196=\"\"),$M$2,$K196)),AND(AQ$1>=$J197,AQ$1<=IF(AND($J197>$M$1,$K197=\"\"),$M$2,$K197)),AND(AQ$1>=$J198,AQ$1<=IF(AND($J198>$M$1,$K198=\"\"),$M$2,$K198)),AND(AQ$1>=$J199,AQ$1<=IF(AND($J199>$M$1,$K199=\"\"),$M$2,$K199))),$J$3,\"\"))","v":""},""]
[{"$f":"стр.1!C89","v":0},{"$f":"IFERROR(VLOOKUP(A200,стр.1!$A$13:$D$106,2,FALSE),\"\")","v":""},{"$f":"IFERROR(VLOOKUP(A200,стр.1!$A$13:$D$106,4,FALSE),\"\")","v":""},null,null,null,null,null,null,null,null,null,null,{"$f":"N201&N202&N203&N204","v":""},{"$f":"O201&O202&O203&O204","v":""},"","","","","","","","","","","","","","","","","","","","","","","","","","","","",""]
[null,null,null,null,null,null,null,null,null,null,null,null,null,{"$f":"IF(OR(AND(N$1>=$D200,N$1<=IF(AND($D200>$M$1,$E200=\"\"),$M$2,$E200)),AND(N$1>=$D201,N$1<=IF(AND($D201>$M$1,$E201=\"\"),$M$2,$E201)),AND(N$1>=$D202,N$1<=IF(AND($D202>$M$1,$E202=\"\"),$M$2,$E202)),AND(N$1>=$D203,N$1<=IF(AND($D203>$M$1,$E203=\"\"),$M$2,$E203))),$D$3,\"\")","v":""},{"$f":"IF(OR(AND(O$1>=$D200,O$1<=IF(AND($D200>$M$1,$E200=\"\"),$M$2,$E200)),AND(O$1>=$D201,O$1<=IF(AND($D201>$M$1,$E201=\"\"),$M$2,$E201)),AND(O$1>=$D202,O$1<=IF(AND($D202>$M$1,$E202=\"\"),$M$2,$E202)),AND(O$1>=$D203,O$1<=IF(AND($D203>$M$1,$E203=\"\"),$M$2,$E203))),$D$3,\"\")","v":""},"","","","","","","","","","","","","","","","","","","","","","","","","","",{"$f":"IF(AP$1=\"\",\"\",IF(OR(AND(AP$1>=$D200,AP$1<=IF(AND($D200>$M$1,$E200=\"\"),$M$2,$E200)),AND(AP$1>=$D201,AP$1<=IF(AND($D201>$M$1,$E201=\"\"),$M$2,$E201)),AND(AP$1>=$D202,AP$1<=IF(AND($D202>$M$1,$E202=\"\"),$M$2,$E202)),AND(AP$1>=$D203,AP$1<=IF(AND($D203>$M$1,$E203=\"\"),$M$2,$E203))),$D$3,\"\"))","v":""},{"$f":"IF(AQ$1=\"\",\"\",IF(OR(AND(AQ$1>=$D200,AQ$1<=IF(AND($D200>$M$1,$E200=\"\"),$M$2,$E200)),AND(AQ$1>=$D201,AQ$1<=IF(AND($D201>$M$1,$E201=\"\"),$M$2,$E201)),AND(AQ$1>=$D202,AQ$1<=IF(AND($D202>$M$1,$E202=\"\"),$M$2,$E202)),AND(AQ$1>=$D203,AQ$1<=IF(AND($D203>$M$1,$E203=\"\"),$M$2,$E203))),$D$3,\"\"))","v":""},""]
[null,null,null,null,null,null,null,null,null,null,null,null,null,{"$f":"IF(OR(AND(N$1>=$F200,N$1<=IF(AND($F200>$M$1,$G200=\"\"),$M$2,$G200)),AND(N$1>=$F201,N$1<=IF(AND($F201>$M$1,$G201=\"\"),$M$2,$G201)),AND(N$1>=$F202,N$1<=IF(AND($F202>$M$1,$G202=\"\"),$M$2,$G202)),AND(N$1>=$F203,N$1<=IF(AND($F203>$M$1,$G203=\"\"),$M$2,$G203))),$F$3,\"\")","v":""},{"$f":"IF(OR(AND(O$1>=$F200,O$1<=IF(AND($F200>$M$1,$G200=\"\"),$M$2,$G200)),AND(O$1>=$F201,O$1<=IF(AND($F201>$M$1,$G201=\"\"),$M$2,$G201)),AND(O$1>=$F202,O$1<=IF(AND($F202>$M$1,$G202=\"\"),$M$2,$G202)),AND(O$1>=$F203,O$1<=IF(AND($F203>$M$1,$G203=\"\"),$M$2,$G203))),$F$3,\"\")","v":""},"","","","","","","","","","","","","","","","","","","","","","","","","","",{"$f":"IF(AP$1=\"\",\"\",IF(OR(AND(AP$1>=$F200,AP$1<=IF(AND($F200>$M$1,$G200=\"\"),$M$2,$G200)),AND(AP$1>=$F201,AP$1<=IF(AND($F201>$M$1,$G201=\"\"),$M$2,$G201)),AND(AP$1>=$F202,AP$1<=IF(AND($F202>$M$1,$G202=\"\"),$M$2,$G202)),AND(AP$1>=$F203,AP$1<=IF(AND($F203>$M$1,$G203=\"\"),$M$2,$G203))),$F$3,\"\"))","v":""},{"$f":"IF(AQ$1=\"\",\"\",IF(OR(AND(AQ$1>=$F200,AQ$1<=IF(AND($F200>$M$1,$G200=\"\"),$M$2,$G200)),AND(AQ$1>=$F201,AQ$1<=IF(AND($F201>$M$1,$G201=\"\"),$M$2,$G201)),AND(AQ$1>=$F202,AQ$1<=IF(AND($F202>$M$1,$G202=\"\"),$M$2,$G202)),AND(AQ$1>=$F203,AQ$1<=IF(AND($F203>$M$1,$G203=\"\"),$M$2,$G203))),$F$3,\"\"))","v":""},""]
[null,null,null,null,null,null,null,null,null,null,null,null,null,{"$f":"IF(OR(AND(N$1>=$H200,N$1<=IF(AND($H200>$M$1,$I200=\"\"),$M$2,$I200)),AND(N$1>=$H201,N$1<=IF(AND($H201>$M$1,$I201=\"\"),$M$2,$I201)),AND(N$1>=$H202,N$1<=IF(AND($H202>$M$1,$I202=\"\"),$M$2,$I202)),AND(N$1>=$H203,N$1<=IF(AND($H203>$M$1,$I203=\"\"),$M$2,$I203))),$H$3,\"\")","v":""},"","","","","","","","","","","","","","","","","","","","","","","","","","","",{"$f":"IF(AP$1=\"\",\"\",IF(OR(AND(AP$1>=$H200,AP$1<=IF(AND($H200>$M$1,$I200=\"\"),$M$2,$I200)),AND(AP$1>=$H201,AP$1<=IF(AND($H201>$M$1,$I201=\"\"),$M$2,$I201)),AND(AP$1>=$H202,AP$1<=IF(AND($H202>$M$1,$I202=\"\"),$M$2,$I202)),AND(AP$1>=$H203,AP$1<=IF(AND($H203>$M$1,$I203=\"\"),$M$2,$I203))),$H$3,\"\"))","v":""},{"$f":"IF(AQ$1=\"\",\"\",IF(OR(AND(AQ$1>=$H200,AQ$1<=IF(AND($H200>$M$1,$I200=\"\"),$M$2,$I200)),AND(AQ$1>=$H201,AQ$1<=IF(AND($H201>$M$1,$I201=\"\"),$M$2,$I201)),AND(AQ$1>=$H202,AQ$1<=IF(AND($H202>$M$1,$I202=\"\"),$M$2,$I202)),AND(AQ$1>=$H203,AQ$1<=IF(AND($H203>$M$1,$I203=\"\"),$M$2,$I203))),$H$3,\"\"))","v":""},{"$f":"IF(AR$1=\"\",\"\",IF(OR(AND(AR$1>=$H200,AR$1<=IF(AND($H200>$M$1,$I200=\"\"),$M$2,$I200)),AND(AR$1>=$H201,AR$1<=IF(AND($H201>$M$1,$I201=\"\"),$M$2,$I201)),AND(AR$1>=$H202,AR$1<=IF(AND($H202>$M$1,$I202=\"\"),$M$2,$I202)),AND(AR$1>=$H203,AR$1<=IF(AND($H203>$M$1,$I203=\"\"),$M$2,$I203))),$H$3,\"\"))","v":""}]
[null,null,null,null,null,null,null,null,null,null,null,null,null,{"$f":"IF(OR(AND(N$1>=$J200,N$1<=IF(AND($J200>$M$1,$K200=\"\"),$M$2,$K200)),AND(N$1>=$J201,N$1<=IF(AND($J201>$M$1,$K201=\"\"),$M$2,$K201)),AND(N$1>=$J202,N$1<=IF(AND($J202>$M$1,$K202=\"\"),$M$2,$K202)),AND(N$1>=$J203,N$1<=IF(AND($J203>$M$1,$K203=\"\"),$M$2,$K203)),AND(N$1>=$J204,N$1<=IF(AND($J204>$M$1,$K204=\"\"),$M$2,$K204))),$J$3,\"\")","v":""},{"$f":"IF(OR(AND(O$1>=$J200,O$1<=IF(AND($J200>$M$1,$K200=\"\"),$M$2,$K200)),AND(O$1>=$J201,O$1<=IF(AND($J201>$M$1,$K201=\"\"),$M$2,$K201)),AND(O$1>=$J202,O$1<=IF(AND($J202>$M$1,$K202=\"\"),$M$2,$K202)),AND(O$1>=$J203,O$1<=IF(AND($J203>$M$1,$K203=\"\"),$M$2,$K203)),AND(O$1>=$J204,O$1<=IF(AND($J204>$M$1,$K204=\"\"),$M$2,$K204))),$J$3,\"\")","v":""},"","","","","","","","","","","","","","","","","","","","","","","","","","",{"$f":"IF(AP$1=\"\",\"\",IF(OR(AND(AP$1>=$J200,AP$1<=IF(AND($J200>$M$1,$K200=\"\"),$M$2,$K200)),AND(AP$1>=$J201,AP$1<=IF(AND($J201>$M$1,$K201=\"\"),$M$2,$K201)),AND(AP$1>=$J202,AP$1<=IF(AND($J202>$M$1,$K202=\"\"),$M$2,$K202)),AND(AP$1>=$J203,AP$1<=IF(AND($J203>$M$1,$K203=\"\"),$M$2,$K203)),AND(AP$1>=$J204,AP$1<=IF(AND($J204>$M$1,$K204=\"\"),$M$2,$K204))),$J$3,\"\"))","v":""},{"$f":"IF(AQ$1=\"\",\"\",IF(OR(AND(AQ$1>=$J200,AQ$1<=IF(AND($J200>$M$1,$K200=\"\"),$M$2,$K200)),AND(AQ$1>=$J201,AQ$1<=IF(AND($J201>$M$1,$K201=\"\"),$M$2,$K201)),AND(AQ$1>=$J202,AQ$1<=IF(AND($J202>$M$1,$K202=\"\"),$M$2,$K202)),AND(AQ$1>=$J203,AQ$1<=IF(AND($J203>$M$1,$K203=\"\"),$M$2,$K203)),AND(AQ$1>=$J204,AQ$1<=IF(AND($J204>$M$1,$K204=\"\"),$M$2,$K204))),$J$3,\"\"))","v":""},""]
[{"$f":"стр.1!C91","v":0},{"$f":"IFERROR(VLOOKUP(A205,стр.1!$A$13:$D$106,2,FALSE),\"\")","v":""},{"$f":"IFERROR(VLOOKUP(A205,стр.1!$A$13:$D$106,4,FALSE),\"\")","v":""},null,null,null,null,null,null,null,null,null,null,{"$f":"N206&N207&N208&N209","v":""},{"$f":"O206&O207&O208&O209","v":""},"","","","","","","","","","","","","","","","","","","","","","","","","","","","",""]
[null,null,null,null,null,null,null,null,null,null,null,null,null,{"$f":"IF(OR(AND(N$1>=$D205,N$1<=IF(AND($D205>$M$1,$E205=\"\"),$M$2,$E205)),AND(N$1>=$D206,N$1<=IF(AND($D206>$M$1,$E206=\"\"),$M$2,$E206)),AND(N$1>=$D207,N$1<=IF(AND($D207>$M$1,$E207=\"\"),$M$2,$E207)),AND(N$1>=$D208,N$1<=IF(AND($D208>$M$1,$E208=\"\"),$M$2,$E208))),$D$3,\"\")","v":""},{"$f":"IF(OR(AND(O$1>=$D205,O$1<=IF(AND($D205>$M$1,$E205=\"\"),$M$2,$E205)),AND(O$1>=$D206,O$1<=IF(AND($D206>$M$1,$E206=\"\"),$M$2,$E206)),AND(O$1>=$D207,O$1<=IF(AND($D207>$M$1,$E207=\"\"),$M$2,$E207)),AND(O$1>=$D208,O$1<=IF(AND($D208>$M$1,$E208=\"\"),$M$2,$E208))),$D$3,\"\")","v":""},"","","","","","","","","","","","","","","","","","","","","","","","","","",{"$f":"IF(AP$1=\"\",\"\",IF(OR(AND(AP$1>=$D205,AP$1<=IF(AND($D205>$M$1,$E205=\"\"),$M$2,$E205)),AND(AP$1>=$D206,AP$1<=IF(AND($D206>$M$1,$E206=\"\"),$M$2,$E206)),AND(AP$1>=$D207,AP$1<=IF(AND($D207>$M$1,$E207=\"\"),$M$2,$E207)),AND(AP$1>=$D208,AP$1<=IF(AND($D208>$M$1,$E208=\"\"),$M$2,$E208))),$D$3,\"\"))","v":""},{"$f":"IF(AQ$1=\"\",\"\",IF(OR(AND(AQ$1>=$D205,AQ$1<=IF(AND($D205>$M$1,$E205=\"\"),$M$2,$E205)),AND(AQ$1>=$D206,AQ$1<=IF(AND($D206>$M$1,$E206=\"\"),$M$2,$E206)),AND(AQ$1>=$D207,AQ$1<=IF(AND($D207>$M$1,$E207=\"\"),$M$2,$E207)),AND(AQ$1>=$D208,AQ$1<=IF(AND($D208>$M$1,$E208=\"\"),$M$2,$E208))),$D$3,\"\"))","v":""},""]
[null,null,null,null,null,null,null,null,null,null,null,null,null,{"$f":"IF(OR(AND(N$1>=$F205,N$1<=IF(AND($F205>$M$1,$G205=\"\"),$M$2,$G205)),AND(N$1>=$F206,N$1<=IF(AND($F206>$M$1,$G206=\"\"),$M$2,$G206)),AND(N$1>=$F207,N$1<=IF(AND($F207>$M$1,$G207=\"\"),$M$2,$G207)),AND(N$1>=$F208,N$1<=IF(AND($F208>$M$1,$G208=\"\"),$M$2,$G208))),$F$3,\"\")","v":""},{"$f":"IF(OR(AND(O$1>=$F205,O$1<=IF(AND($F205>$M$1,$G205=\"\"),$M$2,$G205)),AND(O$1>=$F206,O$1<=IF(AND($F206>$M$1,$G206=\"\"),$M$2,$G206)),AND(O$1>=$F207,O$1<=IF(AND($F207>$M$1,$G207=\"\"),$M$2,$G207)),AND(O$1>=$F208,O$1<=IF(AND($F208>$M$1,$G208=\"\"),$M$2,$G208))),$F$3,\"\")","v":""},"","","","","","","","","","","","","","","","","","","","","","","","","","",{"$f":"IF(AP$1=\"\",\"\",IF(OR(AND(AP$1>=$F205,AP$1<=IF(AND($F205>$M$1,$G205=\"\"),$M$2,$G205)),AND(AP$1>=$F206,AP$1<=IF(AND($F206>$M$1,$G206=\"\"),$M$2,$G206)),AND(AP$1>=$F207,AP$1<=IF(AND($F207>$M$1,$G207=\"\"),$M$2,$G207)),AND(AP$1>=$F208,AP$1<=IF(AND($F208>$M$1,$G208=\"\"),$M$2,$G208))),$F$3,\"\"))","v":""},{"$f":"IF(AQ$1=\"\",\"\",IF(OR(AND(AQ$1>=$F205,AQ$1<=IF(AND($F205>$M$1,$G205=\"\"),$M$2,$G205)),AND(AQ$1>=$F206,AQ$1<=IF(AND($F206>$M$1,$G206=\"\"),$M$2,$G206)),AND(AQ$1>=$F207,AQ$1<=IF(AND($F207>$M$1,$G207=\"\"),$M$2,$G207)),AND(AQ$1>=$F208,AQ$1<=IF(AND($F208>$M$1,$G208=\"\"),$M$2,$G208))),$F$3,\"\"))","v":""},""]
[null,null,null,null,null,null,null,null,null,null,null,null,null,{"$f":"IF(OR(AND(N$1>=$H205,N$1<=IF(AND($H205>$M$1,$I205=\"\"),$M$2,$I205)),AND(N$1>=$H206,N$1<=IF(AND($H206>$M$1,$I206=\"\"),$M$2,$I206)),AND(N$1>=$H207,N$1<=IF(AND($H207>$M$1,$I207=\"\"),$M$2,$I207)),AND(N$1>=$H208,N$1<=IF(AND($H208>$M$1,$I208=\"\"),$M$2,$I208))),$H$3,\"\")","v":""},"","","","","","","","","","","","","","","","","","","","","","","","","","","",{"$f":"IF(AP$1=\"\",\"\",IF(OR(AND(AP$1>=$H205,AP$1<=IF(AND($H205>$M$1,$I205=\"\"),$M$2,$I205)),AND(AP$1>=$H206,AP$1<=IF(AND($H206>$M$1,$I206=\"\"),$M$2,$I206)),AND(AP$1>=$H207,AP$1<=IF(AND($H207>$M$1,$I207=\"\"),$M$2,$I207)),AND(AP$1>=$H208,AP$1<=IF(AND($H208>$M$1,$I208=\"\"),$M$2,$I208))),$H$3,\"\"))","v":""},{"$f":"IF(AQ$1=\"\",\"\",IF(OR(AND(AQ$1>=$H205,AQ$1<=IF(AND($H205>$M$1,$I205=\"\"),$M$2,$I205)),AND(AQ$1>=$H206,AQ$1<=IF(AND($H206>$M$1,$I206=\"\"),$M$2,$I206)),AND(AQ$1>=$H207,AQ$1<=IF(AND($H207>$M$1,$I207=\"\"),$M$2,$I207)),AND(AQ$1>=$H208,AQ$1<=IF(AND($H208>$M$1,$I208=\"\"),$M$2,$I208))),$H$3,\"\"))","v":""},{"$f":"IF(AR$1=\"\",\"\",IF(OR(AND(AR$1>=$H205,AR$1<=IF(AND($H205>$M$1,$I205=\"\"),$M$2,$I205)),AND(AR$1>=$H206,AR$1<=IF(AND($H206>$M$1,$I206=\"\"),$M$2,$I206)),AND(AR$1>=$H207,AR$1<=IF(AND($H207>$M$1,$I207=\"\"),$M$2,$I207)),AND(AR$1>=$H208,AR$1<=IF(AND($H208>$M$1,$I208=\"\"),$M$2,$I208))),$H$3,\"\"))","v":""}]
[null,null,null,null,null,null,null,null,null,null,null,null,null,{"$f":"IF(OR(AND(N$1>=$J205,N$1<=IF(AND($J205>$M$1,$K205=\"\"),$M$2,$K205)),AND(N$1>=$J206,N$1<=IF(AND($J206>$M$1,$K206=\"\"),$M$2,$K206)),AND(N$1>=$J207,N$1<=IF(AND($J207>$M$1,$K207=\"\"),$M$2,$K207)),AND(N$1>=$J208,N$1<=IF(AND($J208>$M$1,$K208=\"\"),$M$2,$K208)),AND(N$1>=$J209,N$1<=IF(AND($J209>$M$1,$K209=\"\"),$M$2,$K209))),$J$3,\"\")","v":""},{"$f":"IF(OR(AND(O$1>=$J205,O$1<=IF(AND($J205>$M$1,$K205=\"\"),$M$2,$K205)),AND(O$1>=$J206,O$1<=IF(AND($J206>$M$1,$K206=\"\"),$M$2,$K206)),AND(O$1>=$J207,O$1<=IF(AND($J207>$M$1,$K207=\"\"),$M$2,$K207)),AND(O$1>=$J208,O$1<=IF(AND($J208>$M$1,$K208=\"\"),$M$2,$K208)),AND(O$1>=$J209,O$1<=IF(AND($J209>$M$1,$K209=\"\"),$M$2,$K209))),$J$3,\"\")","v":""},"","","","","","","","","","","","","","","","","","","","","","","","","","",{"$f":"IF(AP$1=\"\",\"\",IF(OR(AND(AP$1>=$J205,AP$1<=IF(AND($J205>$M$1,$K205=\"\"),$M$2,$K205)),AND(AP$1>=$J206,AP$1<=IF(AND($J206>$M$1,$K206=\"\"),$M$2,$K206)),AND(AP$1>=$J207,AP$1<=IF(AND($J207>$M$1,$K207=\"\"),$M$2,$K207)),AND(AP$1>=$J208,AP$1<=IF(AND($J208>$M$1,$K208=\"\"),$M$2,$K208)),AND(AP$1>=$J209,AP$1<=IF(AND($J209>$M$1,$K209=\"\"),$M$2,$K209))),$J$3,\"\"))","v":""},{"$f":"IF(AQ$1=\"\",\"\",IF(OR(AND(AQ$1>=$J205,AQ$1<=IF(AND($J205>$M$1,$K205=\"\"),$M$2,$K205)),AND(AQ$1>=$J206,AQ$1<=IF(AND($J206>$M$1,$K206=\"\"),$M$2,$K206)),AND(AQ$1>=$J207,AQ$1<=IF(AND($J207>$M$1,$K207=\"\"),$M$2,$K207)),AND(AQ$1>=$J208,AQ$1<=IF(AND($J208>$M$1,$K208=\"\"),$M$2,$K208)),AND(AQ$1>=$J209,AQ$1<=IF(AND($J209>$M$1,$K209=\"\"),$M$2,$K209))),$J$3,\"\"))","v":""},""]
[{"$f":"стр.1!C93","v":0},{"$f":"IFERROR(VLOOKUP(A210,стр.1!$A$13:$D$106,2,FALSE),\"\")","v":""},{"$f":"IFERROR(VLOOKUP(A210,стр.1!$A$13:$D$106,4,FALSE),\"\")","v":""},null,null,null,null,null,null,null,null,null,null,{"$f":"N211&N212&N213&N214","v":""},{"$f":"O211&O212&O213&O214","v":""},"","","","","","","","","","","","","","","","","","","","","","","","","","","","",""]
[null,null,null,null,null,null,null,null,null,null,null,null,null,{"$f":"IF(OR(AND(N$1>=$D210,N$1<=IF(AND($D210>$M$1,$E210=\"\"),$M$2,$E210)),AND(N$1>=$D211,N$1<=IF(AND($D211>$M$1,$E211=\"\"),$M$2,$E211)),AND(N$1>=$D212,N$1<=IF(AND($D212>$M$1,$E212=\"\"),$M$2,$E212)),AND(N$1>=$D213,N$1<=IF(AND($D213>$M$1,$E213=\"\"),$M$2,$E213))),$D$3,\"\")","v":""},{"$f":"IF(OR(AND(O$1>=$D210,O$1<=IF(AND($D210>$M$1,$E210=\"\"),$M$2,$E210)),AND(O$1>=$D211,O$1<=IF(AND($D211>$M$1,$E211=\"\"),$M$2,$E211)),AND(O$1>=$D212,O$1<=IF(AND($D212>$M$1,$E212=\"\"),$M$2,$E212)),AND(O$1>=$D213,O$1<=IF(AND($D213>$M$1,$E213=\"\"),$M$2,$E213))),$D$3,\"\")","v":""},"","","","","","","","","","","","","","","","","","","","","","","","","","",{"$f":"IF(AP$1=\"\",\"\",IF(OR(AND(AP$1>=$D210,AP$1<=IF(AND($D210>$M$1,$E210=\"\"),$M$2,$E210)),AND(AP$1>=$D211,AP$1<=IF(AND($D211>$M$1,$E211=\"\"),$M$2,$E211)),AND(AP$1>=$D212,AP$1<=IF(AND($D212>$M$1,$E212=\"\"),$M$2,$E212)),AND(AP$1>=$D213,AP$1<=IF(AND($D213>$M$1,$E213=\"\"),$M$2,$E213))),$D$3,\"\"))","v":""},{"$f":"IF(AQ$1=\"\",\"\",IF(OR(AND(AQ$1>=$D210,AQ$1<=IF(AND($D210>$M$1,$E210=\"\"),$M$2,$E210)),AND(AQ$1>=$D211,AQ$1<=IF(AND($D211>$M$1,$E211=\"\"),$M$2,$E211)),AND(AQ$1>=$D212,AQ$1<=IF(AND($D212>$M$1,$E212=\"\"),$M$2,$E212)),AND(AQ$1>=$D213,AQ$1<=IF(AND($D213>$M$1,$E213=\"\"),$M$2,$E213))),$D$3,\"\"))","v":""},""]
[null,null,null,null,null,null,null,null,null,null,null,null,null,{"$f":"IF(OR(AND(N$1>=$F210,N$1<=IF(AND($F210>$M$1,$G210=\"\"),$M$2,$G210)),AND(N$1>=$F211,N$1<=IF(AND($F211>$M$1,$G211=\"\"),$M$2,$G211)),AND(N$1>=$F212,N$1<=IF(AND($F212>$M$1,$G212=\"\"),$M$2,$G212)),AND(N$1>=$F213,N$1<=IF(AND($F213>$M$1,$G213=\"\"),$M$2,$G213))),$F$3,\"\")","v":""},{"$f":"IF(OR(AND(O$1>=$F210,O$1<=IF(AND($F210>$M$1,$G210=\"\"),$M$2,$G210)),AND(O$1>=$F211,O$1<=IF(AND($F211>$M$1,$G211=\"\"),$M$2,$G211)),AND(O$1>=$F212,O$1<=IF(AND($F212>$M$1,$G212=\"\"),$M$2,$G212)),AND(O$1>=$F213,O$1<=IF(AND($F213>$M$1,$G213=\"\"),$M$2,$G213))),$F$3,\"\")","v":""},"","","","","","","","","","","","","","","","","","","","","","","","","","",{"$f":"IF(AP$1=\"\",\"\",IF(OR(AND(AP$1>=$F210,AP$1<=IF(AND($F210>$M$1,$G210=\"\"),$M$2,$G210)),AND(AP$1>=$F211,AP$1<=IF(AND($F211>$M$1,$G211=\"\"),$M$2,$G211)),AND(AP$1>=$F212,AP$1<=IF(AND($F212>$M$1,$G212=\"\"),$M$2,$G212)),AND(AP$1>=$F213,AP$1<=IF(AND($F213>$M$1,$G213=\"\"),$M$2,$G213))),$F$3,\"\"))","v":""},{"$f":"IF(AQ$1=\"\",\"\",IF(OR(AND(AQ$1>=$F210,AQ$1<=IF(AND($F210>$M$1,$G210=\"\"),$M$2,$G210)),AND(AQ$1>=$F211,AQ$1<=IF(AND($F211>$M$1,$G211=\"\"),$M$2,$G211)),AND(AQ$1>=$F212,AQ$1<=IF(AND($F212>$M$1,$G212=\"\"),$M$2,$G212)),AND(AQ$1>=$F213,AQ$1<=IF(AND($F213>$M$1,$G213=\"\"),$M$2,$G213))),$F$3,\"\"))","v":""},""]
[null,null,null,null,null,null,null,null,null,null,null,null,null,{"$f":"IF(OR(AND(N$1>=$H210,N$1<=IF(AND($H210>$M$1,$I210=\"\"),$M$2,$I210)),AND(N$1>=$H211,N$1<=IF(AND($H211>$M$1,$I211=\"\"),$M$2,$I211)),AND(N$1>=$H212,N$1<=IF(AND($H212>$M$1,$I212=\"\"),$M$2,$I212)),AND(N$1>=$H213,N$1<=IF(AND($H213>$M$1,$I213=\"\"),$M$2,$I213))),$H$3,\"\")","v":""},"","","","","","","","","","","","","","","","","","","","","","","","","","","",{"$f":"IF(AP$1=\"\",\"\",IF(OR(AND(AP$1>=$H210,AP$1<=IF(AND($H210>$M$1,$I210=\"\"),$M$2,$I210)),AND(AP$1>=$H211,AP$1<=IF(AND($H211>$M$1,$I211=\"\"),$M$2,$I211)),AND(AP$1>=$H212,AP$1<=IF(AND($H212>$M$1,$I212=\"\"),$M$2,$I212)),AND(AP$1>=$H213,AP$1<=IF(AND($H213>$M$1,$I213=\"\"),$M$2,$I213))),$H$3,\"\"))","v":""},{"$f":"IF(AQ$1=\"\",\"\",IF(OR(AND(AQ$1>=$H210,AQ$1<=IF(AND($H210>$M$1,$I210=\"\"),$M$2,$I210)),AND(AQ$1>=$H211,AQ$1<=IF(AND($H211>$M$1,$I211=\"\"),$M$2,$I211)),AND(AQ$1>=$H212,AQ$1<=IF(AND($H212>$M$1,$I212=\"\"),$M$2,$I212)),AND(AQ$1>=$H213,AQ$1<=IF(AND($H213>$M$1,$I213=\"\"),$M$2,$I213))),$H$3,\"\"))","v":""},{"$f":"IF(AR$1=\"\",\"\",IF(OR(AND(AR$1>=$H210,AR$1<=IF(AND($H210>$M$1,$I210=\"\"),$M$2,$I210)),AND(AR$1>=$H211,AR$1<=IF(AND($H211>$M$1,$I211=\"\"),$M$2,$I211)),AND(AR$1>=$H212,AR$1<=IF(AND($H212>$M$1,$I212=\"\"),$M$2,$I212)),AND(AR$1>=$H213,AR$1<=IF(AND($H213>$M$1,$I213=\"\"),$M$2,$I213))),$H$3,\"\"))","v":""}]
[null,null,null,null,null,null,null,null,null,null,null,null,null,{"$f":"IF(OR(AND(N$1>=$J210,N$1<=IF(AND($J210>$M$1,$K210=\"\"),$M$2,$K210)),AND(N$1>=$J211,N$1<=IF(AND($J211>$M$1,$K211=\"\"),$M$2,$K211)),AND(N$1>=$J212,N$1<=IF(AND($J212>$M$1,$K212=\"\"),$M$2,$K212)),AND(N$1>=$J213,N$1<=IF(AND($J213>$M$1,$K213=\"\"),$M$2,$K213)),AND(N$1>=$J214,N$1<=IF(AND($J214>$M$1,$K214=\"\"),$M$2,$K214))),$J$3,\"\")","v":""},{"$f":"IF(OR(AND(O$1>=$J210,O$1<=IF(AND($J210>$M$1,$K210=\"\"),$M$2,$K210)),AND(O$1>=$J211,O$1<=IF(AND($J211>$M$1,$K211=\"\"),$M$2,$K211)),AND(O$1>=$J212,O$1<=IF(AND($J212>$M$1,$K212=\"\"),$M$2,$K212)),AND(O$1>=$J213,O$1<=IF(AND($J213>$M$1,$K213=\"\"),$M$2,$K213)),AND(O$1>=$J214,O$1<=IF(AND($J214>$M$1,$K214=\"\"),$M$2,$K214))),$J$3,\"\")","v":""},"","","","","","","","","","","","","","","","","","","","","","","","","","",{"$f":"IF(AP$1=\"\",\"\",IF(OR(AND(AP$1>=$J210,AP$1<=IF(AND($J210>$M$1,$K210=\"\"),$M$2,$K210)),AND(AP$1>=$J211,AP$1<=IF(AND($J211>$M$1,$K211=\"\"),$M$2,$K211)),AND(AP$1>=$J212,AP$1<=IF(AND($J212>$M$1,$K212=\"\"),$M$2,$K212)),AND(AP$1>=$J213,AP$1<=IF(AND($J213>$M$1,$K213=\"\"),$M$2,$K213)),AND(AP$1>=$J214,AP$1<=IF(AND($J214>$M$1,$K214=\"\"),$M$2,$K214))),$J$3,\"\"))","v":""},{"$f":"IF(AQ$1=\"\",\"\",IF(OR(AND(AQ$1>=$J210,AQ$1<=IF(AND($J210>$M$1,$K210=\"\"),$M$2,$K210)),AND(AQ$1>=$J211,AQ$1<=IF(AND($J211>$M$1,$K211=\"\"),$M$2,$K211)),AND(AQ$1>=$J212,AQ$1<=IF(AND($J212>$M$1,$K212=\"\"),$M$2,$K212)),AND(AQ$1>=$J213,AQ$1<=IF(AND($J213>$M$1,$K213=\"\"),$M$2,$K213)),AND(AQ$1>=$J214,AQ$1<=IF(AND($J214>$M$1,$K214=\"\"),$M$2,$K214))),$J$3,\"\"))","v":""},""]
[{"$f":"стр.1!C95","v":0},{"$f":"IFERROR(VLOOKUP(A215,стр.1!$A$13:$D$106,2,FALSE),\"\")","v":""},{"$f":"IFERROR(VLOOKUP(A215,стр.1!$A$13:$D$106,4,FALSE),\"\")","v":""},null,null,null,null,null,null,null,null,null,null,{"$f":"N216&N217&N218&N219","v":""},{"$f":"O216&O217&O218&O219","v":""},"","","","","","","","","","","","","","","","","","","","","","","","","","","","",""]
[null,null,null,null,null,null,null,null,null,null,null,null,null,{"$f":"IF(OR(AND(N$1>=$D215,N$1<=IF(AND($D215>$M$1,$E215=\"\"),$M$2,$E215)),AND(N$1>=$D216,N$1<=IF(AND($D216>$M$1,$E216=\"\"),$M$2,$E216)),AND(N$1>=$D217,N$1<=IF(AND($D217>$M$1,$E217=\"\"),$M$2,$E217)),AND(N$1>=$D218,N$1<=IF(AND($D218>$M$1,$E218=\"\"),$M$2,$E218))),$D$3,\"\")","v":""},{"$f":"IF(OR(AND(O$1>=$D215,O$1<=IF(AND($D215>$M$1,$E215=\"\"),$M$2,$E215)),AND(O$1>=$D216,O$1<=IF(AND($D216>$M$1,$E216=\"\"),$M$2,$E216)),AND(O$1>=$D217,O$1<=IF(AND($D217>$M$1,$E217=\"\"),$M$2,$E217)),AND(O$1>=$D218,O$1<=IF(AND($D218>$M$1,$E218=\"\"),$M$2,$E218))),$D$3,\"\")","v":""},"","","","","","","","","","","","","","","","","","","","","","","","","","",{"$f":"IF(AP$1=\"\",\"\",IF(OR(AND(AP$1>=$D215,AP$1<=IF(AND($D215>$M$1,$E215=\"\"),$M$2,$E215)),AND(AP$1>=$D216,AP$1<=IF(AND($D216>$M$1,$E216=\"\"),$M$2,$E216)),AND(AP$1>=$D217,AP$1<=IF(AND($D217>$M$1,$E217=\"\"),$M$2,$E217)),AND(AP$1>=$D218,AP$1<=IF(AND($D218>$M$1,$E218=\"\"),$M$2,$E218))),$D$3,\"\"))","v":""},{"$f":"IF(AQ$1=\"\",\"\",IF(OR(AND(AQ$1>=$D215,AQ$1<=IF(AND($D215>$M$1,$E215=\"\"),$M$2,$E215)),AND(AQ$1>=$D216,AQ$1<=IF(AND($D216>$M$1,$E216=\"\"),$M$2,$E216)),AND(AQ$1>=$D217,AQ$1<=IF(AND($D217>$M$1,$E217=\"\"),$M$2,$E217)),AND(AQ$1>=$D218,AQ$1<=IF(AND($D218>$M$1,$E218=\"\"),$M$2,$E218))),$D$3,\"\"))","v":""},""]
[null,null,null,null,null,null,null,null,null,null,null,null,null,{"$f":"IF(OR(AND(N$1>=$F215,N$1<=IF(AND($F215>$M$1,$G215=\"\"),$M$2,$G215)),AND(N$1>=$F216,N$1<=IF(AND($F216>$M$1,$G216=\"\"),$M$2,$G216)),AND(N$1>=$F217,N$1<=IF(AND($F217>$M$1,$G217=\"\"),$M$2,$G217)),AND(N$1>=$F218,N$1<=IF(AND($F218>$M$1,$G218=\"\"),$M$2,$G218))),$F$3,\"\")","v":""},{"$f":"IF(OR(AND(O$1>=$F215,O$1<=IF(AND($F215>$M$1,$G215=\"\"),$M$2,$G215)),AND(O$1>=$F216,O$1<=IF(AND($F216>$M$1,$G216=\"\"),$M$2,$G216)),AND(O$1>=$F217,O$1<=IF(AND($F217>$M$1,$G217=\"\"),$M$2,$G217)),AND(O$1>=$F218,O$1<=IF(AND($F218>$M$1,$G218=\"\"),$M$2,$G218))),$F$3,\"\")","v":""},"","","","","","","","","","","","","","","","","","","","","","","","","","",{"$f":"IF(AP$1=\"\",\"\",IF(OR(AND(AP$1>=$F215,AP$1<=IF(AND($F215>$M$1,$G215=\"\"),$M$2,$G215)),AND(AP$1>=$F216,AP$1<=IF(AND($F216>$M$1,$G216=\"\"),$M$2,$G216)),AND(AP$1>=$F217,AP$1<=IF(AND($F217>$M$1,$G217=\"\"),$M$2,$G217)),AND(AP$1>=$F218,AP$1<=IF(AND($F218>$M$1,$G218=\"\"),$M$2,$G218))),$F$3,\"\"))","v":""},{"$f":"IF(AQ$1=\"\",\"\",IF(OR(AND(AQ$1>=$F215,AQ$1<=IF(AND($F215>$M$1,$G215=\"\"),$M$2,$G215)),AND(AQ$1>=$F216,AQ$1<=IF(AND($F216>$M$1,$G216=\"\"),$M$2,$G216)),AND(AQ$1>=$F217,AQ$1<=IF(AND($F217>$M$1,$G217=\"\"),$M$2,$G217)),AND(AQ$1>=$F218,AQ$1<=IF(AND($F218>$M$1,$G218=\"\"),$M$2,$G218))),$F$3,\"\"))","v":""},""]
[null,null,null,null,null,null,null,null,null,null,null,null,null,{"$f":"IF(OR(AND(N$1>=$H215,N$1<=IF(AND($H215>$M$1,$I215=\"\"),$M$2,$I215)),AND(N$1>=$H216,N$1<=IF(AND($H216>$M$1,$I216=\"\"),$M$2,$I216)),AND(N$1>=$H217,N$1<=IF(AND($H217>$M$1,$I217=\"\"),$M$2,$I217)),AND(N$1>=$H218,N$1<=IF(AND($H218>$M$1,$I218=\"\"),$M$2,$I218))),$H$3,\"\")","v":""},"","","","","","","","","","","","","","","","","","","","","","","","","","","",{"$f":"IF(AP$1=\"\",\"\",IF(OR(AND(AP$1>=$H215,AP$1<=IF(AND($H215>$M$1,$I215=\"\"),$M$2,$I215)),AND(AP$1>=$H216,AP$1<=IF(AND($H216>$M$1,$I216=\"\"),$M$2,$I216)),AND(AP$1>=$H217,AP$1<=IF(AND($H217>$M$1,$I217=\"\"),$M$2,$I217)),AND(AP$1>=$H218,AP$1<=IF(AND($H218>$M$1,$I218=\"\"),$M$2,$I218))),$H$3,\"\"))","v":""},{"$f":"IF(AQ$1=\"\",\"\",IF(OR(AND(AQ$1>=$H215,AQ$1<=IF(AND($H215>$M$1,$I215=\"\"),$M$2,$I215)),AND(AQ$1>=$H216,AQ$1<=IF(AND($H216>$M$1,$I216=\"\"),$M$2,$I216)),AND(AQ$1>=$H217,AQ$1<=IF(AND($H217>$M$1,$I217=\"\"),$M$2,$I217)),AND(AQ$1>=$H218,AQ$1<=IF(AND($H218>$M$1,$I218=\"\"),$M$2,$I218))),$H$3,\"\"))","v":""},{"$f":"IF(AR$1=\"\",\"\",IF(OR(AND(AR$1>=$H215,AR$1<=IF(AND($H215>$M$1,$I215=\"\"),$M$2,$I215)),AND(AR$1>=$H216,AR$1<=IF(AND($H216>$M$1,$I216=\"\"),$M$2,$I216)),AND(AR$1>=$H217,AR$1<=IF(AND($H217>$M$1,$I217=\"\"),$M$2,$I217)),AND(AR$1>=$H218,AR$1<=IF(AND($H218>$M$1,$I218=\"\"),$M$2,$I218))),$H$3,\"\"))","v":""}]
[null,null,null,null,null,null,null,null,null,null,null,null,null,{"$f":"IF(OR(AND(N$1>=$J215,N$1<=IF(AND($J215>$M$1,$K215=\"\"),$M$2,$K215)),AND(N$1>=$J216,N$1<=IF(AND($J216>$M$1,$K216=\"\"),$M$2,$K216)),AND(N$1>=$J217,N$1<=IF(AND($J217>$M$1,$K217=\"\"),$M$2,$K217)),AND(N$1>=$J218,N$1<=IF(AND($J218>$M$1,$K218=\"\"),$M$2,$K218)),AND(N$1>=$J219,N$1<=IF(AND($J219>$M$1,$K219=\"\"),$M$2,$K219))),$J$3,\"\")","v":""},{"$f":"IF(OR(AND(O$1>=$J215,O$1<=IF(AND($J215>$M$1,$K215=\"\"),$M$2,$K215)),AND(O$1>=$J216,O$1<=IF(AND($J216>$M$1,$K216=\"\"),$M$2,$K216)),AND(O$1>=$J217,O$1<=IF(AND($J217>$M$1,$K217=\"\"),$M$2,$K217)),AND(O$1>=$J218,O$1<=IF(AND($J218>$M$1,$K218=\"\"),$M$2,$K218)),AND(O$1>=$J219,O$1<=IF(AND($J219>$M$1,$K219=\"\"),$M$2,$K219))),$J$3,\"\")","v":""},"","","","","","","","","","","","","","","","","","","","","","","","","","",{"$f":"IF(AP$1=\"\",\"\",IF(OR(AND(AP$1>=$J215,AP$1<=IF(AND($J215>$M$1,$K215=\"\"),$M$2,$K215)),AND(AP$1>=$J216,AP$1<=IF(AND($J216>$M$1,$K216=\"\"),$M$2,$K216)),AND(AP$1>=$J217,AP$1<=IF(AND($J217>$M$1,$K217=\"\"),$M$2,$K217)),AND(AP$1>=$J218,AP$1<=IF(AND($J218>$M$1,$K218=\"\"),$M$2,$K218)),AND(AP$1>=$J219,AP$1<=IF(AND($J219>$M$1,$K219=\"\"),$M$2,$K219))),$J$3,\"\"))","v":""},{"$f":"IF(AQ$1=\"\",\"\",IF(OR(AND(AQ$1>=$J215,AQ$1<=IF(AND($J215>$M$1,$K215=\"\"),$M$2,$K215)),AND(AQ$1>=$J216,AQ$1<=IF(AND($J216>$M$1,$K216=\"\"),$M$2,$K216)),AND(AQ$1>=$J217,AQ$1<=IF(AND($J217>$M$1,$K217=\"\"),$M$2,$K217)),AND(AQ$1>=$J218,AQ$1<=IF(AND($J218>$M$1,$K218=\"\"),$M$2,$K218)),AND(AQ$1>=$J219,AQ$1<=IF(AND($J219>$M$1,$K219=\"\"),$M$2,$K219))),$J$3,\"\"))","v":""},""]
[{"$f":"стр.1!C97","v":0},{"$f":"IFERROR(VLOOKUP(A220,стр.1!$A$13:$D$106,2,FALSE),\"\")","v":""},{"$f":"IFERROR(VLOOKUP(A220,стр.1!$A$13:$D$106,4,FALSE),\"\")","v":""},null,null,null,null,null,null,null,null,null,null,{"$f":"N221&N222&N223&N224","v":""},{"$f":"O221&O222&O223&O224","v":""},"","","","","","","","","","","","","","","","","","","","","","","","","","","","",""]
[null,null,null,null,null,null,null,null,null,null,null,null,null,{"$f":"IF(OR(AND(N$1>=$D220,N$1<=IF(AND($D220>$M$1,$E220=\"\"),$M$2,$E220)),AND(N$1>=$D221,N$1<=IF(AND($D221>$M$1,$E221=\"\"),$M$2,$E221)),AND(N$1>=$D222,N$1<=IF(AND($D222>$M$1,$E222=\"\"),$M$2,$E222)),AND(N$1>=$D223,N$1<=IF(AND($D223>$M$1,$E223=\"\"),$M$2,$E223))),$D$3,\"\")","v":""},{"$f":"IF(OR(AND(O$1>=$D220,O$1<=IF(AND($D220>$M$1,$E220=\"\"),$M$2,$E220)),AND(O$1>=$D221,O$1<=IF(AND($D221>$M$1,$E221=\"\"),$M$2,$E221)),AND(O$1>=$D222,O$1<=IF(AND($D222>$M$1,$E222=\"\"),$M$2,$E222)),AND(O$1>=$D223,O$1<=IF(AND($D223>$M$1,$E223=\"\"),$M$2,$E223))),$D$3,\"\")","v":""},"","","","","","","","","","","","","","","","","","","","","","","","","","",{"$f":"IF(AP$1=\"\",\"\",IF(OR(AND(AP$1>=$D220,AP$1<=IF(AND($D220>$M$1,$E220=\"\"),$M$2,$E220)),AND(AP$1>=$D221,AP$1<=IF(AND($D221>$M$1,$E221=\"\"),$M$2,$E221)),AND(AP$1>=$D222,AP$1<=IF(AND($D222>$M$1,$E222=\"\"),$M$2,$E222)),AND(AP$1>=$D223,AP$1<=IF(AND($D223>$M$1,$E223=\"\"),$M$2,$E223))),$D$3,\"\"))","v":""},{"$f":"IF(AQ$1=\"\",\"\",IF(OR(AND(AQ$1>=$D220,AQ$1<=IF(AND($D220>$M$1,$E220=\"\"),$M$2,$E220)),AND(AQ$1>=$D221,AQ$1<=IF(AND($D221>$M$1,$E221=\"\"),$M$2,$E221)),AND(AQ$1>=$D222,AQ$1<=IF(AND($D222>$M$1,$E222=\"\"),$M$2,$E222)),AND(AQ$1>=$D223,AQ$1<=IF(AND($D223>$M$1,$E223=\"\"),$M$2,$E223))),$D$3,\"\"))","v":""},""]
[null,null,null,null,null,null,null,null,null,null,null,null,null,{"$f":"IF(OR(AND(N$1>=$F220,N$1<=IF(AND($F220>$M$1,$G220=\"\"),$M$2,$G220)),AND(N$1>=$F221,N$1<=IF(AND($F221>$M$1,$G221=\"\"),$M$2,$G221)),AND(N$1>=$F222,N$1<=IF(AND($F222>$M$1,$G222=\"\"),$M$2,$G222)),AND(N$1>=$F223,N$1<=IF(AND($F223>$M$1,$G223=\"\"),$M$2,$G223))),$F$3,\"\")","v":""},{"$f":"IF(OR(AND(O$1>=$F220,O$1<=IF(AND($F220>$M$1,$G220=\"\"),$M$2,$G220)),AND(O$1>=$F221,O$1<=IF(AND($F221>$M$1,$G221=\"\"),$M$2,$G221)),AND(O$1>=$F222,O$1<=IF(AND($F222>$M$1,$G222=\"\"),$M$2,$G222)),AND(O$1>=$F223,O$1<=IF(AND($F223>$M$1,$G223=\"\"),$M$2,$G223))),$F$3,\"\")","v":""},"","","","","","","","","","","","","","","","","","","","","","","","","","",{"$f":"IF(AP$1=\"\",\"\",IF(OR(AND(AP$1>=$F220,AP$1<=IF(AND($F220>$M$1,$G220=\"\"),$M$2,$G220)),AND(AP$1>=$F221,AP$1<=IF(AND($F221>$M$1,$G221=\"\"),$M$2,$G221)),AND(AP$1>=$F222,AP$1<=IF(AND($F222>$M$1,$G222=\"\"),$M$2,$G222)),AND(AP$1>=$F223,AP$1<=IF(AND($F223>$M$1,$G223=\"\"),$M$2,$G223))),$F$3,\"\"))","v":""},{"$f":"IF(AQ$1=\"\",\"\",IF(OR(AND(AQ$1>=$F220,AQ$1<=IF(AND($F220>$M$1,$G220=\"\"),$M$2,$G220)),AND(AQ$1>=$F221,AQ$1<=IF(AND($F221>$M$1,$G221=\"\"),$M$2,$G221)),AND(AQ$1>=$F222,AQ$1<=IF(AND($F222>$M$1,$G222=\"\"),$M$2,$G222)),AND(AQ$1>=$F223,AQ$1<=IF(AND($F223>$M$1,$G223=\"\"),$M$2,$G223))),$F$3,\"\"))","v":""},""]
[null,null,null,null,null,null,null,null,null,null,null,null,null,{"$f":"IF(OR(AND(N$1>=$H220,N$1<=IF(AND($H220>$M$1,$I220=\"\"),$M$2,$I220)),AND(N$1>=$H221,N$1<=IF(AND($H221>$M$1,$I221=\"\"),$M$2,$I221)),AND(N$1>=$H222,N$1<=IF(AND($H222>$M$1,$I222=\"\"),$M$2,$I222)),AND(N$1>=$H223,N$1<=IF(AND($H223>$M$1,$I223=\"\"),$M$2,$I223))),$H$3,\"\")","v":""},"","","","","","","","","","","","","","","","","","","","","","","","","","","",{"$f":"IF(AP$1=\"\",\"\",IF(OR(AND(AP$1>=$H220,AP$1<=IF(AND($H220>$M$1,$I220=\"\"),$M$2,$I220)),AND(AP$1>=$H221,AP$1<=IF(AND($H221>$M$1,$I221=\"\"),$M$2,$I221)),AND(AP$1>=$H222,AP$1<=IF(AND($H222>$M$1,$I222=\"\"),$M$2,$I222)),AND(AP$1>=$H223,AP$1<=IF(AND($H223>$M$1,$I223=\"\"),$M$2,$I223))),$H$3,\"\"))","v":""},{"$f":"IF(AQ$1=\"\",\"\",IF(OR(AND(AQ$1>=$H220,AQ$1<=IF(AND($H220>$M$1,$I220=\"\"),$M$2,$I220)),AND(AQ$1>=$H221,AQ$1<=IF(AND($H221>$M$1,$I221=\"\"),$M$2,$I221)),AND(AQ$1>=$H222,AQ$1<=IF(AND($H222>$M$1,$I222=\"\"),$M$2,$I222)),AND(AQ$1>=$H223,AQ$1<=IF(AND($H223>$M$1,$I223=\"\"),$M$2,$I223))),$H$3,\"\"))","v":""},{"$f":"IF(AR$1=\"\",\"\",IF(OR(AND(AR$1>=$H220,AR$1<=IF(AND($H220>$M$1,$I220=\"\"),$M$2,$I220)),AND(AR$1>=$H221,AR$1<=IF(AND($H221>$M$1,$I221=\"\"),$M$2,$I221)),AND(AR$1>=$H222,AR$1<=IF(AND($H222>$M$1,$I222=\"\"),$M$2,$I222)),AND(AR$1>=$H223,AR$1<=IF(AND($H223>$M$1,$I223=\"\"),$M$2,$I223))),$H$3,\"\"))","v":""}]
[null,null,null,null,null,null,null,null,null,null,null,null,null,{"$f":"IF(OR(AND(N$1>=$J220,N$1<=IF(AND($J220>$M$1,$K220=\"\"),$M$2,$K220)),AND(N$1>=$J221,N$1<=IF(AND($J221>$M$1,$K221=\"\"),$M$2,$K221)),AND(N$1>=$J222,N$1<=IF(AND($J222>$M$1,$K222=\"\"),$M$2,$K222)),AND(N$1>=$J223,N$1<=IF(AND($J223>$M$1,$K223=\"\"),$M$2,$K223)),AND(N$1>=$J224,N$1<=IF(AND($J224>$M$1,$K224=\"\"),$M$2,$K224))),$J$3,\"\")","v":""},{"$f":"IF(OR(AND(O$1>=$J220,O$1<=IF(AND($J220>$M$1,$K220=\"\"),$M$2,$K220)),AND(O$1>=$J221,O$1<=IF(AND($J221>$M$1,$K221=\"\"),$M$2,$K221)),AND(O$1>=$J222,O$1<=IF(AND($J222>$M$1,$K222=\"\"),$M$2,$K222)),AND(O$1>=$J223,O$1<=IF(AND($J223>$M$1,$K223=\"\"),$M$2,$K223)),AND(O$1>=$J224,O$1<=IF(AND($J224>$M$1,$K224=\"\"),$M$2,$K224))),$J$3,\"\")","v":""},"","","","","","","","","","","","","","","","","","","","","","","","","","",{"$f":"IF(AP$1=\"\",\"\",IF(OR(AND(AP$1>=$J220,AP$1<=IF(AND($J220>$M$1,$K220=\"\"),$M$2,$K220)),AND(AP$1>=$J221,AP$1<=IF(AND($J221>$M$1,$K221=\"\"),$M$2,$K221)),AND(AP$1>=$J222,AP$1<=IF(AND($J222>$M$1,$K222=\"\"),$M$2,$K222)),AND(AP$1>=$J223,AP$1<=IF(AND($J223>$M$1,$K223=\"\"),$M$2,$K223)),AND(AP$1>=$J224,AP$1<=IF(AND($J224>$M$1,$K224=\"\"),$M$2,$K224))),$J$3,\"\"))","v":""},{"$f":"IF(AQ$1=\"\",\"\",IF(OR(AND(AQ$1>=$J220,AQ$1<=IF(AND($J220>$M$1,$K220=\"\"),$M$2,$K220)),AND(AQ$1>=$J221,AQ$1<=IF(AND($J221>$M$1,$K221=\"\"),$M$2,$K221)),AND(AQ$1>=$J222,AQ$1<=IF(AND($J222>$M$1,$K222=\"\"),$M$2,$K222)),AND(AQ$1>=$J223,AQ$1<=IF(AND($J223>$M$1,$K223=\"\"),$M$2,$K223)),AND(AQ$1>=$J224,AQ$1<=IF(AND($J224>$M$1,$K224=\"\"),$M$2,$K224))),$J$3,\"\"))","v":""},""]
[{"$f":"стр.1!C99","v":0},{"$f":"IFERROR(VLOOKUP(A225,стр.1!$A$13:$D$106,2,FALSE),\"\")","v":""},{"$f":"IFERROR(VLOOKUP(A225,стр.1!$A$13:$D$106,4,FALSE),\"\")","v":""},null,null,null,null,null,null,null,null,null,null,{"$f":"N226&N227&N228&N229","v":""},{"$f":"O226&O227&O228&O229","v":""},"","","","","","","","","","","","","","","","","","","","","","","","","","","","",""]
[null,null,null,null,null,null,null,null,null,null,null,null,null,{"$f":"IF(OR(AND(N$1>=$D225,N$1<=IF(AND($D225>$M$1,$E225=\"\"),$M$2,$E225)),AND(N$1>=$D226,N$1<=IF(AND($D226>$M$1,$E226=\"\"),$M$2,$E226)),AND(N$1>=$D227,N$1<=IF(AND($D227>$M$1,$E227=\"\"),$M$2,$E227)),AND(N$1>=$D228,N$1<=IF(AND($D228>$M$1,$E228=\"\"),$M$2,$E228))),$D$3,\"\")","v":""},{"$f":"IF(OR(AND(O$1>=$D225,O$1<=IF(AND($D225>$M$1,$E225=\"\"),$M$2,$E225)),AND(O$1>=$D226,O$1<=IF(AND($D226>$M$1,$E226=\"\"),$M$2,$E226)),AND(O$1>=$D227,O$1<=IF(AND($D227>$M$1,$E227=\"\"),$M$2,$E227)),AND(O$1>=$D228,O$1<=IF(AND($D228>$M$1,$E228=\"\"),$M$2,$E228))),$D$3,\"\")","v":""},"","","","","","","","","","","","","","","","","","","","","","","","","","",{"$f":"IF(AP$1=\"\",\"\",IF(OR(AND(AP$1>=$D225,AP$1<=IF(AND($D225>$M$1,$E225=\"\"),$M$2,$E225)),AND(AP$1>=$D226,AP$1<=IF(AND($D226>$M$1,$E226=\"\"),$M$2,$E226)),AND(AP$1>=$D227,AP$1<=IF(AND($D227>$M$1,$E227=\"\"),$M$2,$E227)),AND(AP$1>=$D228,AP$1<=IF(AND($D228>$M$1,$E228=\"\"),$M$2,$E228))),$D$3,\"\"))","v":""},{"$f":"IF(AQ$1=\"\",\"\",IF(OR(AND(AQ$1>=$D225,AQ$1<=IF(AND($D225>$M$1,$E225=\"\"),$M$2,$E225)),AND(AQ$1>=$D226,AQ$1<=IF(AND($D226>$M$1,$E226=\"\"),$M$2,$E226)),AND(AQ$1>=$D227,AQ$1<=IF(AND($D227>$M$1,$E227=\"\"),$M$2,$E227)),AND(AQ$1>=$D228,AQ$1<=IF(AND($D228>$M$1,$E228=\"\"),$M$2,$E228))),$D$3,\"\"))","v":""},""]
[null,null,null,null,null,null,null,null,null,null,null,null,null,{"$f":"IF(OR(AND(N$1>=$F225,N$1<=IF(AND($F225>$M$1,$G225=\"\"),$M$2,$G225)),AND(N$1>=$F226,N$1<=IF(AND($F226>$M$1,$G226=\"\"),$M$2,$G226)),AND(N$1>=$F227,N$1<=IF(AND($F227>$M$1,$G227=\"\"),$M$2,$G227)),AND(N$1>=$F228,N$1<=IF(AND($F228>$M$1,$G228=\"\"),$M$2,$G228))),$F$3,\"\")","v":""},{"$f":"IF(OR(AND(O$1>=$F225,O$1<=IF(AND($F225>$M$1,$G225=\"\"),$M$2,$G225)),AND(O$1>=$F226,O$1<=IF(AND($F226>$M$1,$G226=\"\"),$M$2,$G226)),AND(O$1>=$F227,O$1<=IF(AND($F227>$M$1,$G227=\"\"),$M$2,$G227)),AND(O$1>=$F228,O$1<=IF(AND($F228>$M$1,$G228=\"\"),$M$2,$G228))),$F$3,\"\")","v":""},"","","","","","","","","","","","","","","","","","","","","","","","","","",{"$f":"IF(AP$1=\"\",\"\",IF(OR(AND(AP$1>=$F225,AP$1<=IF(AND($F225>$M$1,$G225=\"\"),$M$2,$G225)),AND(AP$1>=$F226,AP$1<=IF(AND($F226>$M$1,$G226=\"\"),$M$2,$G226)),AND(AP$1>=$F227,AP$1<=IF(AND($F227>$M$1,$G227=\"\"),$M$2,$G227)),AND(AP$1>=$F228,AP$1<=IF(AND($F228>$M$1,$G228=\"\"),$M$2,$G228))),$F$3,\"\"))","v":""},{"$f":"IF(AQ$1=\"\",\"\",IF(OR(AND(AQ$1>=$F225,AQ$1<=IF(AND($F225>$M$1,$G225=\"\"),$M$2,$G225)),AND(AQ$1>=$F226,AQ$1<=IF(AND($F226>$M$1,$G226=\"\"),$M$2,$G226)),AND(AQ$1>=$F227,AQ$1<=IF(AND($F227>$M$1,$G227=\"\"),$M$2,$G227)),AND(AQ$1>=$F228,AQ$1<=IF(AND($F228>$M$1,$G228=\"\"),$M$2,$G228))),$F$3,\"\"))","v":""},""]
[null,null,null,null,null,null,null,null,null,null,null,null,null,{"$f":"IF(OR(AND(N$1>=$H225,N$1<=IF(AND($H225>$M$1,$I225=\"\"),$M$2,$I225)),AND(N$1>=$H226,N$1<=IF(AND($H226>$M$1,$I226=\"\"),$M$2,$I226)),AND(N$1>=$H227,N$1<=IF(AND($H227>$M$1,$I227=\"\"),$M$2,$I227)),AND(N$1>=$H228,N$1<=IF(AND($H228>$M$1,$I228=\"\"),$M$2,$I228))),$H$3,\"\")","v":""},"","","","","","","","","","","","","","","","","","","","","","","","","","","",{"$f":"IF(AP$1=\"\",\"\",IF(OR(AND(AP$1>=$H225,AP$1<=IF(AND($H225>$M$1,$I225=\"\"),$M$2,$I225)),AND(AP$1>=$H226,AP$1<=IF(AND($H226>$M$1,$I226=\"\"),$M$2,$I226)),AND(AP$1>=$H227,AP$1<=IF(AND($H227>$M$1,$I227=\"\"),$M$2,$I227)),AND(AP$1>=$H228,AP$1<=IF(AND($H228>$M$1,$I228=\"\"),$M$2,$I228))),$H$3,\"\"))","v":""},{"$f":"IF(AQ$1=\"\",\"\",IF(OR(AND(AQ$1>=$H225,AQ$1<=IF(AND($H225>$M$1,$I225=\"\"),$M$2,$I225)),AND(AQ$1>=$H226,AQ$1<=IF(AND($H226>$M$1,$I226=\"\"),$M$2,$I226)),AND(AQ$1>=$H227,AQ$1<=IF(AND($H227>$M$1,$I227=\"\"),$M$2,$I227)),AND(AQ$1>=$H228,AQ$1<=IF(AND($H228>$M$1,$I228=\"\"),$M$2,$I228))),$H$3,\"\"))","v":""},{"$f":"IF(AR$1=\"\",\"\",IF(OR(AND(AR$1>=$H225,AR$1<=IF(AND($H225>$M$1,$I225=\"\"),$M$2,$I225)),AND(AR$1>=$H226,AR$1<=IF(AND($H226>$M$1,$I226=\"\"),$M$2,$I226)),AND(AR$1>=$H227,AR$1<=IF(AND($H227>$M$1,$I227=\"\"),$M$2,$I227)),AND(AR$1>=$H228,AR$1<=IF(AND($H228>$M$1,$I228=\"\"),$M$2,$I228))),$H$3,\"\"))","v":""}]
[null,null,null,null,null,null,null,null,null,null,null,null,null,{"$f":"IF(OR(AND(N$1>=$J225,N$1<=IF(AND($J225>$M$1,$K225=\"\"),$M$2,$K225)),AND(N$1>=$J226,N$1<=IF(AND($J226>$M$1,$K226=\"\"),$M$2,$K226)),AND(N$1>=$J227,N$1<=IF(AND($J227>$M$1,$K227=\"\"),$M$2,$K227)),AND(N$1>=$J228,N$1<=IF(AND($J228>$M$1,$K228=\"\"),$M$2,$K228)),AND(N$1>=$J229,N$1<=IF(AND($J229>$M$1,$K229=\"\"),$M$2,$K229))),$J$3,\"\")","v":""},{"$f":"IF(OR(AND(O$1>=$J225,O$1<=IF(AND($J225>$M$1,$K225=\"\"),$M$2,$K225)),AND(O$1>=$J226,O$1<=IF(AND($J226>$M$1,$K226=\"\"),$M$2,$K226)),AND(O$1>=$J227,O$1<=IF(AND($J227>$M$1,$K227=\"\"),$M$2,$K227)),AND(O$1>=$J228,O$1<=IF(AND($J228>$M$1,$K228=\"\"),$M$2,$K228)),AND(O$1>=$J229,O$1<=IF(AND($J229>$M$1,$K229=\"\"),$M$2,$K229))),$J$3,\"\")","v":""},"","","","","","","","","","","","","","","","","","","","","","","","","","",{"$f":"IF(AP$1=\"\",\"\",IF(OR(AND(AP$1>=$J225,AP$1<=IF(AND($J225>$M$1,$K225=\"\"),$M$2,$K225)),AND(AP$1>=$J226,AP$1<=IF(AND($J226>$M$1,$K226=\"\"),$M$2,$K226)),AND(AP$1>=$J227,AP$1<=IF(AND($J227>$M$1,$K227=\"\"),$M$2,$K227)),AND(AP$1>=$J228,AP$1<=IF(AND($J228>$M$1,$K228=\"\"),$M$2,$K228)),AND(AP$1>=$J229,AP$1<=IF(AND($J229>$M$1,$K229=\"\"),$M$2,$K229))),$J$3,\"\"))","v":""},{"$f":"IF(AQ$1=\"\",\"\",IF(OR(AND(AQ$1>=$J225,AQ$1<=IF(AND($J225>$M$1,$K225=\"\"),$M$2,$K225)),AND(AQ$1>=$J226,AQ$1<=IF(AND($J226>$M$1,$K226=\"\"),$M$2,$K226)),AND(AQ$1>=$J227,AQ$1<=IF(AND($J227>$M$1,$K227=\"\"),$M$2,$K227)),AND(AQ$1>=$J228,AQ$1<=IF(AND($J228>$M$1,$K228=\"\"),$M$2,$K228)),AND(AQ$1>=$J229,AQ$1<=IF(AND($J229>$M$1,$K229=\"\"),$M$2,$K229))),$J$3,\"\"))","v":""},""]
[{"$f":"стр.1!C101","v":0},{"$f":"IFERROR(VLOOKUP(A230,стр.1!$A$13:$D$106,2,FALSE),\"\")","v":""},{"$f":"IFERROR(VLOOKUP(A230,стр.1!$A$13:$D$106,4,FALSE),\"\")","v":""},null,null,null,null,null,null,null,null,null,null,{"$f":"N231&N232&N233&N234","v":""},{"$f":"O231&O232&O233&O234","v":""},"","","","","","","","","","","","","","","","","","","","","","","","","","","","",""]
[null,null,null,null,null,null,null,null,null,null,null,null,null,{"$f":"IF(OR(AND(N$1>=$D230,N$1<=IF(AND($D230>$M$1,$E230=\"\"),$M$2,$E230)),AND(N$1>=$D231,N$1<=IF(AND($D231>$M$1,$E231=\"\"),$M$2,$E231)),AND(N$1>=$D232,N$1<=IF(AND($D232>$M$1,$E232=\"\"),$M$2,$E232)),AND(N$1>=$D233,N$1<=IF(AND($D233>$M$1,$E233=\"\"),$M$2,$E233))),$D$3,\"\")","v":""},{"$f":"IF(OR(AND(O$1>=$D230,O$1<=IF(AND($D230>$M$1,$E230=\"\"),$M$2,$E230)),AND(O$1>=$D231,O$1<=IF(AND($D231>$M$1,$E231=\"\"),$M$2,$E231)),AND(O$1>=$D232,O$1<=IF(AND($D232>$M$1,$E232=\"\"),$M$2,$E232)),AND(O$1>=$D233,O$1<=IF(AND($D233>$M$1,$E233=\"\"),$M$2,$E233))),$D$3,\"\")","v":""},"","","","","","","","","","","","","","","","","","","","","","","","","","",{"$f":"IF(AP$1=\"\",\"\",IF(OR(AND(AP$1>=$D230,AP$1<=IF(AND($D230>$M$1,$E230=\"\"),$M$2,$E230)),AND(AP$1>=$D231,AP$1<=IF(AND($D231>$M$1,$E231=\"\"),$M$2,$E231)),AND(AP$1>=$D232,AP$1<=IF(AND($D232>$M$1,$E232=\"\"),$M$2,$E232)),AND(AP$1>=$D233,AP$1<=IF(AND($D233>$M$1,$E233=\"\"),$M$2,$E233))),$D$3,\"\"))","v":""},{"$f":"IF(AQ$1=\"\",\"\",IF(OR(AND(AQ$1>=$D230,AQ$1<=IF(AND($D230>$M$1,$E230=\"\"),$M$2,$E230)),AND(AQ$1>=$D231,AQ$1<=IF(AND($D231>$M$1,$E231=\"\"),$M$2,$E231)),AND(AQ$1>=$D232,AQ$1<=IF(AND($D232>$M$1,$E232=\"\"),$M$2,$E232)),AND(AQ$1>=$D233,AQ$1<=IF(AND($D233>$M$1,$E233=\"\"),$M$2,$E233))),$D$3,\"\"))","v":""},""]
[null,null,null,null,null,null,null,null,null,null,null,null,null,{"$f":"IF(OR(AND(N$1>=$F230,N$1<=IF(AND($F230>$M$1,$G230=\"\"),$M$2,$G230)),AND(N$1>=$F231,N$1<=IF(AND($F231>$M$1,$G231=\"\"),$M$2,$G231)),AND(N$1>=$F232,N$1<=IF(AND($F232>$M$1,$G232=\"\"),$M$2,$G232)),AND(N$1>=$F233,N$1<=IF(AND($F233>$M$1,$G233=\"\"),$M$2,$G233))),$F$3,\"\")","v":""},{"$f":"IF(OR(AND(O$1>=$F230,O$1<=IF(AND($F230>$M$1,$G230=\"\"),$M$2,$G230)),AND(O$1>=$F231,O$1<=IF(AND($F231>$M$1,$G231=\"\"),$M$2,$G231)),AND(O$1>=$F232,O$1<=IF(AND($F232>$M$1,$G232=\"\"),$M$2,$G232)),AND(O$1>=$F233,O$1<=IF(AND($F233>$M$1,$G233=\"\"),$M$2,$G233))),$F$3,\"\")","v":""},"","","","","","","","","","","","","","","","","","","","","","","","","","",{"$f":"IF(AP$1=\"\",\"\",IF(OR(AND(AP$1>=$F230,AP$1<=IF(AND($F230>$M$1,$G230=\"\"),$M$2,$G230)),AND(AP$1>=$F231,AP$1<=IF(AND($F231>$M$1,$G231=\"\"),$M$2,$G231)),AND(AP$1>=$F232,AP$1<=IF(AND($F232>$M$1,$G232=\"\"),$M$2,$G232)),AND(AP$1>=$F233,AP$1<=IF(AND($F233>$M$1,$G233=\"\"),$M$2,$G233))),$F$3,\"\"))","v":""},{"$f":"IF(AQ$1=\"\",\"\",IF(OR(AND(AQ$1>=$F230,AQ$1<=IF(AND($F230>$M$1,$G230=\"\"),$M$2,$G230)),AND(AQ$1>=$F231,AQ$1<=IF(AND($F231>$M$1,$G231=\"\"),$M$2,$G231)),AND(AQ$1>=$F232,AQ$1<=IF(AND($F232>$M$1,$G232=\"\"),$M$2,$G232)),AND(AQ$1>=$F233,AQ$1<=IF(AND($F233>$M$1,$G233=\"\"),$M$2,$G233))),$F$3,\"\"))","v":""},""]
[null,null,null,null,null,null,null,null,null,null,null,null,null,{"$f":"IF(OR(AND(N$1>=$H230,N$1<=IF(AND($H230>$M$1,$I230=\"\"),$M$2,$I230)),AND(N$1>=$H231,N$1<=IF(AND($H231>$M$1,$I231=\"\"),$M$2,$I231)),AND(N$1>=$H232,N$1<=IF(AND($H232>$M$1,$I232=\"\"),$M$2,$I232)),AND(N$1>=$H233,N$1<=IF(AND($H233>$M$1,$I233=\"\"),$M$2,$I233))),$H$3,\"\")","v":""},"","","","","","","","","","","","","","","","","","","","","","","","","","","",{"$f":"IF(AP$1=\"\",\"\",IF(OR(AND(AP$1>=$H230,AP$1<=IF(AND($H230>$M$1,$I230=\"\"),$M$2,$I230)),AND(AP$1>=$H231,AP$1<=IF(AND($H231>$M$1,$I231=\"\"),$M$2,$I231)),AND(AP$1>=$H232,AP$1<=IF(AND($H232>$M$1,$I232=\"\"),$M$2,$I232)),AND(AP$1>=$H233,AP$1<=IF(AND($H233>$M$1,$I233=\"\"),$M$2,$I233))),$H$3,\"\"))","v":""},{"$f":"IF(AQ$1=\"\",\"\",IF(OR(AND(AQ$1>=$H230,AQ$1<=IF(AND($H230>$M$1,$I230=\"\"),$M$2,$I230)),AND(AQ$1>=$H231,AQ$1<=IF(AND($H231>$M$1,$I231=\"\"),$M$2,$I231)),AND(AQ$1>=$H232,AQ$1<=IF(AND($H232>$M$1,$I232=\"\"),$M$2,$I232)),AND(AQ$1>=$H233,AQ$1<=IF(AND($H233>$M$1,$I233=\"\"),$M$2,$I233))),$H$3,\"\"))","v":""},{"$f":"IF(AR$1=\"\",\"\",IF(OR(AND(AR$1>=$H230,AR$1<=IF(AND($H230>$M$1,$I230=\"\"),$M$2,$I230)),AND(AR$1>=$H231,AR$1<=IF(AND($H231>$M$1,$I231=\"\"),$M$2,$I231)),AND(AR$1>=$H232,AR$1<=IF(AND($H232>$M$1,$I232=\"\"),$M$2,$I232)),AND(AR$1>=$H233,AR$1<=IF(AND($H233>$M$1,$I233=\"\"),$M$2,$I233))),$H$3,\"\"))","v":""}]
[null,null,null,null,null,null,null,null,null,null,null,null,null,{"$f":"IF(OR(AND(N$1>=$J230,N$1<=IF(AND($J230>$M$1,$K230=\"\"),$M$2,$K230)),AND(N$1>=$J231,N$1<=IF(AND($J231>$M$1,$K231=\"\"),$M$2,$K231)),AND(N$1>=$J232,N$1<=IF(AND($J232>$M$1,$K232=\"\"),$M$2,$K232)),AND(N$1>=$J233,N$1<=IF(AND($J233>$M$1,$K233=\"\"),$M$2,$K233)),AND(N$1>=$J234,N$1<=IF(AND($J234>$M$1,$K234=\"\"),$M$2,$K234))),$J$3,\"\")","v":""},{"$f":"IF(OR(AND(O$1>=$J230,O$1<=IF(AND($J230>$M$1,$K230=\"\"),$M$2,$K230)),AND(O$1>=$J231,O$1<=IF(AND($J231>$M$1,$K231=\"\"),$M$2,$K231)),AND(O$1>=$J232,O$1<=IF(AND($J232>$M$1,$K232=\"\"),$M$2,$K232)),AND(O$1>=$J233,O$1<=IF(AND($J233>$M$1,$K233=\"\"),$M$2,$K233)),AND(O$1>=$J234,O$1<=IF(AND($J234>$M$1,$K234=\"\"),$M$2,$K234))),$J$3,\"\")","v":""},"","","","","","","","","","","","","","","","","","","","","","","","","","",{"$f":"IF(AP$1=\"\",\"\",IF(OR(AND(AP$1>=$J230,AP$1<=IF(AND($J230>$M$1,$K230=\"\"),$M$2,$K230)),AND(AP$1>=$J231,AP$1<=IF(AND($J231>$M$1,$K231=\"\"),$M$2,$K231)),AND(AP$1>=$J232,AP$1<=IF(AND($J232>$M$1,$K232=\"\"),$M$2,$K232)),AND(AP$1>=$J233,AP$1<=IF(AND($J233>$M$1,$K233=\"\"),$M$2,$K233)),AND(AP$1>=$J234,AP$1<=IF(AND($J234>$M$1,$K234=\"\"),$M$2,$K234))),$J$3,\"\"))","v":""},{"$f":"IF(AQ$1=\"\",\"\",IF(OR(AND(AQ$1>=$J230,AQ$1<=IF(AND($J230>$M$1,$K230=\"\"),$M$2,$K230)),AND(AQ$1>=$J231,AQ$1<=IF(AND($J231>$M$1,$K231=\"\"),$M$2,$K231)),AND(AQ$1>=$J232,AQ$1<=IF(AND($J232>$M$1,$K232=\"\"),$M$2,$K232)),AND(AQ$1>=$J233,AQ$1<=IF(AND($J233>$M$1,$K233=\"\"),$M$2,$K233)),AND(AQ$1>=$J234,AQ$1<=IF(AND($J234>$M$1,$K234=\"\"),$M$2,$K234))),$J$3,\"\"))","v":""},""]
[{"$f":"стр.1!C103","v":0},{"$f":"IFERROR(VLOOKUP(A235,стр.1!$A$13:$D$106,2,FALSE),\"\")","v":""},{"$f":"IFERROR(VLOOKUP(A235,стр.1!$A$13:$D$106,4,FALSE),\"\")","v":""},null,null,null,null,null,null,null,null,null,null,{"$f":"N236&N237&N238&N239","v":""},{"$f":"O236&O237&O238&O239","v":""},"","","","","","","","","","","","","","","","","","","","","","","","","","","","",""]
[null,null,null,null,null,null,null,null,null,null,null,null,null,{"$f":"IF(OR(AND(N$1>=$D235,N$1<=IF(AND($D235>$M$1,$E235=\"\"),$M$2,$E235)),AND(N$1>=$D236,N$1<=IF(AND($D236>$M$1,$E236=\"\"),$M$2,$E236)),AND(N$1>=$D237,N$1<=IF(AND($D237>$M$1,$E237=\"\"),$M$2,$E237)),AND(N$1>=$D238,N$1<=IF(AND($D238>$M$1,$E238=\"\"),$M$2,$E238))),$D$3,\"\")","v":""},{"$f":"IF(OR(AND(O$1>=$D235,O$1<=IF(AND($D235>$M$1,$E235=\"\"),$M$2,$E235)),AND(O$1>=$D236,O$1<=IF(AND($D236>$M$1,$E236=\"\"),$M$2,$E236)),AND(O$1>=$D237,O$1<=IF(AND($D237>$M$1,$E237=\"\"),$M$2,$E237)),AND(O$1>=$D238,O$1<=IF(AND($D238>$M$1,$E238=\"\"),$M$2,$E238))),$D$3,\"\")","v":""},"","","","","","","","","","","","","","","","","","","","","","","","","","",{"$f":"IF(AP$1=\"\",\"\",IF(OR(AND(AP$1>=$D235,AP$1<=IF(AND($D235>$M$1,$E235=\"\"),$M$2,$E235)),AND(AP$1>=$D236,AP$1<=IF(AND($D236>$M$1,$E236=\"\"),$M$2,$E236)),AND(AP$1>=$D237,AP$1<=IF(AND($D237>$M$1,$E237=\"\"),$M$2,$E237)),AND(AP$1>=$D238,AP$1<=IF(AND($D238>$M$1,$E238=\"\"),$M$2,$E238))),$D$3,\"\"))","v":""},{"$f":"IF(AQ$1=\"\",\"\",IF(OR(AND(AQ$1>=$D235,AQ$1<=IF(AND($D235>$M$1,$E235=\"\"),$M$2,$E235)),AND(AQ$1>=$D236,AQ$1<=IF(AND($D236>$M$1,$E236=\"\"),$M$2,$E236)),AND(AQ$1>=$D237,AQ$1<=IF(AND($D237>$M$1,$E237=\"\"),$M$2,$E237)),AND(AQ$1>=$D238,AQ$1<=IF(AND($D238>$M$1,$E238=\"\"),$M$2,$E238))),$D$3,\"\"))","v":""},""]
[null,null,null,null,null,null,null,null,null,null,null,null,null,{"$f":"IF(OR(AND(N$1>=$F235,N$1<=IF(AND($F235>$M$1,$G235=\"\"),$M$2,$G235)),AND(N$1>=$F236,N$1<=IF(AND($F236>$M$1,$G236=\"\"),$M$2,$G236)),AND(N$1>=$F237,N$1<=IF(AND($F237>$M$1,$G237=\"\"),$M$2,$G237)),AND(N$1>=$F238,N$1<=IF(AND($F238>$M$1,$G238=\"\"),$M$2,$G238))),$F$3,\"\")","v":""},{"$f":"IF(OR(AND(O$1>=$F235,O$1<=IF(AND($F235>$M$1,$G235=\"\"),$M$2,$G235)),AND(O$1>=$F236,O$1<=IF(AND($F236>$M$1,$G236=\"\"),$M$2,$G236)),AND(O$1>=$F237,O$1<=IF(AND($F237>$M$1,$G237=\"\"),$M$2,$G237)),AND(O$1>=$F238,O$1<=IF(AND($F238>$M$1,$G238=\"\"),$M$2,$G238))),$F$3,\"\")","v":""},"","","","","","","","","","","","","","","","","","","","","","","","","","",{"$f":"IF(AP$1=\"\",\"\",IF(OR(AND(AP$1>=$F235,AP$1<=IF(AND($F235>$M$1,$G235=\"\"),$M$2,$G235)),AND(AP$1>=$F236,AP$1<=IF(AND($F236>$M$1,$G236=\"\"),$M$2,$G236)),AND(AP$1>=$F237,AP$1<=IF(AND($F237>$M$1,$G237=\"\"),$M$2,$G237)),AND(AP$1>=$F238,AP$1<=IF(AND($F238>$M$1,$G238=\"\"),$M$2,$G238))),$F$3,\"\"))","v":""},{"$f":"IF(AQ$1=\"\",\"\",IF(OR(AND(AQ$1>=$F235,AQ$1<=IF(AND($F235>$M$1,$G235=\"\"),$M$2,$G235)),AND(AQ$1>=$F236,AQ$1<=IF(AND($F236>$M$1,$G236=\"\"),$M$2,$G236)),AND(AQ$1>=$F237,AQ$1<=IF(AND($F237>$M$1,$G237=\"\"),$M$2,$G237)),AND(AQ$1>=$F238,AQ$1<=IF(AND($F238>$M$1,$G238=\"\"),$M$2,$G238))),$F$3,\"\"))","v":""},""]
[null,null,null,null,null,null,null,null,null,null,null,null,null,{"$f":"IF(OR(AND(N$1>=$H235,N$1<=IF(AND($H235>$M$1,$I235=\"\"),$M$2,$I235)),AND(N$1>=$H236,N$1<=IF(AND($H236>$M$1,$I236=\"\"),$M$2,$I236)),AND(N$1>=$H237,N$1<=IF(AND($H237>$M$1,$I237=\"\"),$M$2,$I237)),AND(N$1>=$H238,N$1<=IF(AND($H238>$M$1,$I238=\"\"),$M$2,$I238))),$H$3,\"\")","v":""},"","","","","","","","","","","","","","","","","","","","","","","","","","","",{"$f":"IF(AP$1=\"\",\"\",IF(OR(AND(AP$1>=$H235,AP$1<=IF(AND($H235>$M$1,$I235=\"\"),$M$2,$I235)),AND(AP$1>=$H236,AP$1<=IF(AND($H236>$M$1,$I236=\"\"),$M$2,$I236)),AND(AP$1>=$H237,AP$1<=IF(AND($H237>$M$1,$I237=\"\"),$M$2,$I237)),AND(AP$1>=$H238,AP$1<=IF(AND($H238>$M$1,$I238=\"\"),$M$2,$I238))),$H$3,\"\"))","v":""},{"$f":"IF(AQ$1=\"\",\"\",IF(OR(AND(AQ$1>=$H235,AQ$1<=IF(AND($H235>$M$1,$I235=\"\"),$M$2,$I235)),AND(AQ$1>=$H236,AQ$1<=IF(AND($H236>$M$1,$I236=\"\"),$M$2,$I236)),AND(AQ$1>=$H237,AQ$1<=IF(AND($H237>$M$1,$I237=\"\"),$M$2,$I237)),AND(AQ$1>=$H238,AQ$1<=IF(AND($H238>$M$1,$I238=\"\"),$M$2,$I238))),$H$3,\"\"))","v":""},{"$f":"IF(AR$1=\"\",\"\",IF(OR(AND(AR$1>=$H235,AR$1<=IF(AND($H235>$M$1,$I235=\"\"),$M$2,$I235)),AND(AR$1>=$H236,AR$1<=IF(AND($H236>$M$1,$I236=\"\"),$M$2,$I236)),AND(AR$1>=$H237,AR$1<=IF(AND($H237>$M$1,$I237=\"\"),$M$2,$I237)),AND(AR$1>=$H238,AR$1<=IF(AND($H238>$M$1,$I238=\"\"),$M$2,$I238))),$H$3,\"\"))","v":""}]
[null,null,null,null,null,null,null,null,null,null,null,null,null,{"$f":"IF(OR(AND(N$1>=$J235,N$1<=IF(AND($J235>$M$1,$K235=\"\"),$M$2,$K235)),AND(N$1>=$J236,N$1<=IF(AND($J236>$M$1,$K236=\"\"),$M$2,$K236)),AND(N$1>=$J237,N$1<=IF(AND($J237>$M$1,$K237=\"\"),$M$2,$K237)),AND(N$1>=$J238,N$1<=IF(AND($J238>$M$1,$K238=\"\"),$M$2,$K238)),AND(N$1>=$J239,N$1<=IF(AND($J239>$M$1,$K239=\"\"),$M$2,$K239))),$J$3,\"\")","v":""},{"$f":"IF(OR(AND(O$1>=$J235,O$1<=IF(AND($J235>$M$1,$K235=\"\"),$M$2,$K235)),AND(O$1>=$J236,O$1<=IF(AND($J236>$M$1,$K236=\"\"),$M$2,$K236)),AND(O$1>=$J237,O$1<=IF(AND($J237>$M$1,$K237=\"\"),$M$2,$K237)),AND(O$1>=$J238,O$1<=IF(AND($J238>$M$1,$K238=\"\"),$M$2,$K238)),AND(O$1>=$J239,O$1<=IF(AND($J239>$M$1,$K239=\"\"),$M$2,$K239))),$J$3,\"\")","v":""},"","","","","","","","","","","","","","","","","","","","","","","","","","",{"$f":"IF(AP$1=\"\",\"\",IF(OR(AND(AP$1>=$J235,AP$1<=IF(AND($J235>$M$1,$K235=\"\"),$M$2,$K235)),AND(AP$1>=$J236,AP$1<=IF(AND($J236>$M$1,$K236=\"\"),$M$2,$K236)),AND(AP$1>=$J237,AP$1<=IF(AND($J237>$M$1,$K237=\"\"),$M$2,$K237)),AND(AP$1>=$J238,AP$1<=IF(AND($J238>$M$1,$K238=\"\"),$M$2,$K238)),AND(AP$1>=$J239,AP$1<=IF(AND($J239>$M$1,$K239=\"\"),$M$2,$K239))),$J$3,\"\"))","v":""},{"$f":"IF(AQ$1=\"\",\"\",IF(OR(AND(AQ$1>=$J235,AQ$1<=IF(AND($J235>$M$1,$K235=\"\"),$M$2,$K235)),AND(AQ$1>=$J236,AQ$1<=IF(AND($J236>$M$1,$K236=\"\"),$M$2,$K236)),AND(AQ$1>=$J237,AQ$1<=IF(AND($J237>$M$1,$K237=\"\"),$M$2,$K237)),AND(AQ$1>=$J238,AQ$1<=IF(AND($J238>$M$1,$K238=\"\"),$M$2,$K238)),AND(AQ$1>=$J239,AQ$1<=IF(AND($J239>$M$1,$K239=\"\"),$M$2,$K239))),$J$3,\"\"))","v":""},""]
[{"$f":"стр.1!C105","v":0},{"$f":"IFERROR(VLOOKUP(A240,стр.1!$A$13:$D$106,2,FALSE),\"\")","v":""},{"$f":"IFERROR(VLOOKUP(A240,стр.1!$A$13:$D$106,4,FALSE),\"\")","v":""},null,null,null,null,null,null,null,null,null,null,{"$f":"N241&N242&N243&N244","v":""},{"$f":"O241&O242&O243&O244","v":""},"","","","","","","","","","","","","","","","","","","","","","","","","","","","",""]
[null,null,null,null,null,null,null,null,null,null,null,null,null,{"$f":"IF(OR(AND(N$1>=$D240,N$1<=IF(AND($D240>$M$1,$E240=\"\"),$M$2,$E240)),AND(N$1>=$D241,N$1<=IF(AND($D241>$M$1,$E241=\"\"),$M$2,$E241)),AND(N$1>=$D242,N$1<=IF(AND($D242>$M$1,$E242=\"\"),$M$2,$E242)),AND(N$1>=$D243,N$1<=IF(AND($D243>$M$1,$E243=\"\"),$M$2,$E243))),$D$3,\"\")","v":""},{"$f":"IF(OR(AND(O$1>=$D240,O$1<=IF(AND($D240>$M$1,$E240=\"\"),$M$2,$E240)),AND(O$1>=$D241,O$1<=IF(AND($D241>$M$1,$E241=\"\"),$M$2,$E241)),AND(O$1>=$D242,O$1<=IF(AND($D242>$M$1,$E242=\"\"),$M$2,$E242)),AND(O$1>=$D243,O$1<=IF(AND($D243>$M$1,$E243=\"\"),$M$2,$E243))),$D$3,\"\")","v":""},"","","","","","","","","","","","","","","","","","","","","","","","","","",{"$f":"IF(AP$1=\"\",\"\",IF(OR(AND(AP$1>=$D240,AP$1<=IF(AND($D240>$M$1,$E240=\"\"),$M$2,$E240)),AND(AP$1>=$D241,AP$1<=IF(AND($D241>$M$1,$E241=\"\"),$M$2,$E241)),AND(AP$1>=$D242,AP$1<=IF(AND($D242>$M$1,$E242=\"\"),$M$2,$E242)),AND(AP$1>=$D243,AP$1<=IF(AND($D243>$M$1,$E243=\"\"),$M$2,$E243))),$D$3,\"\"))","v":""},{"$f":"IF(AQ$1=\"\",\"\",IF(OR(AND(AQ$1>=$D240,AQ$1<=IF(AND($D240>$M$1,$E240=\"\"),$M$2,$E240)),AND(AQ$1>=$D241,AQ$1<=IF(AND($D241>$M$1,$E241=\"\"),$M$2,$E241)),AND(AQ$1>=$D242,AQ$1<=IF(AND($D242>$M$1,$E242=\"\"),$M$2,$E242)),AND(AQ$1>=$D243,AQ$1<=IF(AND($D243>$M$1,$E243=\"\"),$M$2,$E243))),$D$3,\"\"))","v":""},""]
[null,null,null,null,null,null,null,null,null,null,null,null,null,{"$f":"IF(OR(AND(N$1>=$F240,N$1<=IF(AND($F240>$M$1,$G240=\"\"),$M$2,$G240)),AND(N$1>=$F241,N$1<=IF(AND($F241>$M$1,$G241=\"\"),$M$2,$G241)),AND(N$1>=$F242,N$1<=IF(AND($F242>$M$1,$G242=\"\"),$M$2,$G242)),AND(N$1>=$F243,N$1<=IF(AND($F243>$M$1,$G243=\"\"),$M$2,$G243))),$F$3,\"\")","v":""},{"$f":"IF(OR(AND(O$1>=$F240,O$1<=IF(AND($F240>$M$1,$G240=\"\"),$M$2,$G240)),AND(O$1>=$F241,O$1<=IF(AND($F241>$M$1,$G241=\"\"),$M$2,$G241)),AND(O$1>=$F242,O$1<=IF(AND($F242>$M$1,$G242=\"\"),$M$2,$G242)),AND(O$1>=$F243,O$1<=IF(AND($F243>$M$1,$G243=\"\"),$M$2,$G243))),$F$3,\"\")","v":""},"","","","","","","","","","","","","","","","","","","","","","","","","","",{"$f":"IF(AP$1=\"\",\"\",IF(OR(AND(AP$1>=$F240,AP$1<=IF(AND($F240>$M$1,$G240=\"\"),$M$2,$G240)),AND(AP$1>=$F241,AP$1<=IF(AND($F241>$M$1,$G241=\"\"),$M$2,$G241)),AND(AP$1>=$F242,AP$1<=IF(AND($F242>$M$1,$G242=\"\"),$M$2,$G242)),AND(AP$1>=$F243,AP$1<=IF(AND($F243>$M$1,$G243=\"\"),$M$2,$G243))),$F$3,\"\"))","v":""},{"$f":"IF(AQ$1=\"\",\"\",IF(OR(AND(AQ$1>=$F240,AQ$1<=IF(AND($F240>$M$1,$G240=\"\"),$M$2,$G240)),AND(AQ$1>=$F241,AQ$1<=IF(AND($F241>$M$1,$G241=\"\"),$M$2,$G241)),AND(AQ$1>=$F242,AQ$1<=IF(AND($F242>$M$1,$G242=\"\"),$M$2,$G242)),AND(AQ$1>=$F243,AQ$1<=IF(AND($F243>$M$1,$G243=\"\"),$M$2,$G243))),$F$3,\"\"))","v":""},""]
[null,null,null,null,null,null,null,null,null,null,null,null,null,{"$f":"IF(OR(AND(N$1>=$H240,N$1<=IF(AND($H240>$M$1,$I240=\"\"),$M$2,$I240)),AND(N$1>=$H241,N$1<=IF(AND($H241>$M$1,$I241=\"\"),$M$2,$I241)),AND(N$1>=$H242,N$1<=IF(AND($H242>$M$1,$I242=\"\"),$M$2,$I242)),AND(N$1>=$H243,N$1<=IF(AND($H243>$M$1,$I243=\"\"),$M$2,$I243))),$H$3,\"\")","v":""},"","","","","","","","","","","","","","","","","","","","","","","","","","","",{"$f":"IF(AP$1=\"\",\"\",IF(OR(AND(AP$1>=$H240,AP$1<=IF(AND($H240>$M$1,$I240=\"\"),$M$2,$I240)),AND(AP$1>=$H241,AP$1<=IF(AND($H241>$M$1,$I241=\"\"),$M$2,$I241)),AND(AP$1>=$H242,AP$1<=IF(AND($H242>$M$1,$I242=\"\"),$M$2,$I242)),AND(AP$1>=$H243,AP$1<=IF(AND($H243>$M$1,$I243=\"\"),$M$2,$I243))),$H$3,\"\"))","v":""},{"$f":"IF(AQ$1=\"\",\"\",IF(OR(AND(AQ$1>=$H240,AQ$1<=IF(AND($H240>$M$1,$I240=\"\"),$M$2,$I240)),AND(AQ$1>=$H241,AQ$1<=IF(AND($H241>$M$1,$I241=\"\"),$M$2,$I241)),AND(AQ$1>=$H242,AQ$1<=IF(AND($H242>$M$1,$I242=\"\"),$M$2,$I242)),AND(AQ$1>=$H243,AQ$1<=IF(AND($H243>$M$1,$I243=\"\"),$M$2,$I243))),$H$3,\"\"))","v":""},{"$f":"IF(AR$1=\"\",\"\",IF(OR(AND(AR$1>=$H240,AR$1<=IF(AND($H240>$M$1,$I240=\"\"),$M$2,$I240)),AND(AR$1>=$H241,AR$1<=IF(AND($H241>$M$1,$I241=\"\"),$M$2,$I241)),AND(AR$1>=$H242,AR$1<=IF(AND($H242>$M$1,$I242=\"\"),$M$2,$I242)),AND(AR$1>=$H243,AR$1<=IF(AND($H243>$M$1,$I243=\"\"),$M$2,$I243))),$H$3,\"\"))","v":""}]
[null,null,null,null,null,null,null,null,null,null,null,null,null,{"$f":"IF(OR(AND(N$1>=$J240,N$1<=IF(AND($J240>$M$1,$K240=\"\"),$M$2,$K240)),AND(N$1>=$J241,N$1<=IF(AND($J241>$M$1,$K241=\"\"),$M$2,$K241)),AND(N$1>=$J242,N$1<=IF(AND($J242>$M$1,$K242=\"\"),$M$2,$K242)),AND(N$1>=$J243,N$1<=IF(AND($J243>$M$1,$K243=\"\"),$M$2,$K243)),AND(N$1>=$J244,N$1<=IF(AND($J244>$M$1,$K244=\"\"),$M$2,$K244))),$J$3,\"\")","v":""},{"$f":"IF(OR(AND(O$1>=$J240,O$1<=IF(AND($J240>$M$1,$K240=\"\"),$M$2,$K240)),AND(O$1>=$J241,O$1<=IF(AND($J241>$M$1,$K241=\"\"),$M$2,$K241)),AND(O$1>=$J242,O$1<=IF(AND($J242>$M$1,$K242=\"\"),$M$2,$K242)),AND(O$1>=$J243,O$1<=IF(AND($J243>$M$1,$K243=\"\"),$M$2,$K243)),AND(O$1>=$J244,O$1<=IF(AND($J244>$M$1,$K244=\"\"),$M$2,$K244))),$J$3,\"\")","v":""},"","","","","","","","","","","","","","","","","","","","","","","","","","",{"$f":"IF(AP$1=\"\",\"\",IF(OR(AND(AP$1>=$J240,AP$1<=IF(AND($J240>$M$1,$K240=\"\"),$M$2,$K240)),AND(AP$1>=$J241,AP$1<=IF(AND($J241>$M$1,$K241=\"\"),$M$2,$K241)),AND(AP$1>=$J242,AP$1<=IF(AND($J242>$M$1,$K242=\"\"),$M$2,$K242)),AND(AP$1>=$J243,AP$1<=IF(AND($J243>$M$1,$K243=\"\"),$M$2,$K243)),AND(AP$1>=$J244,AP$1<=IF(AND($J244>$M$1,$K244=\"\"),$M$2,$K244))),$J$3,\"\"))","v":""},{"$f":"IF(AQ$1=\"\",\"\",IF(OR(AND(AQ$1>=$J240,AQ$1<=IF(AND($J240>$M$1,$K240=\"\"),$M$2,$K240)),AND(AQ$1>=$J241,AQ$1<=IF(AND($J241>$M$1,$K241=\"\"),$M$2,$K241)),AND(AQ$1>=$J242,AQ$1<=IF(AND($J242>$M$1,$K242=\"\"),$M$2,$K242)),AND(AQ$1>=$J243,AQ$1<=IF(AND($J243>$M$1,$K243=\"\"),$M$2,$K243)),AND(AQ$1>=$J244,AQ$1<=IF(AND($J244>$M$1,$K244=\"\"),$M$2,$K244))),$J$3,\"\"))","v":""},""]

{"sheet":"РВД","index":4,"n_rows":97,"n_cols":9,"rows_kept":97,"cut":false,"hidden":false,"merged":[[94,2,95,2],[96,2,97,2],[76,2,77,2],[78,2,79,2],[80,2,81,2],[82,2,83,2],[84,2,85,2],[86,2,87,2],[88,2,89,2],[90,2,91,2],[92,2,93,2],[58,2,59,2],[60,2,61,2],[62,2,63,2],[64,2,65,2],[66,2,67,2],[68,2,69,2],[70,2,71,2],[72,2,73,2],[74,2,75,2],[40,2,41,2],[42,2,43,2],[44,2,45,2],[46,2,47,2],[48,2,49,2],[50,2,51,2],[52,2,53,2],[54,2,55,2],[56,2,57,2],[22,2,23,2],[24,2,25,2],[26,2,27,2],[28,2,29,2],[30,2,31,2],[32,2,33,2],[34,2,35,2],[36,2,37,2],[38,2,39,2],[4,2,5,2],[6,2,7,2],[8,2,9,2],[10,2,11,2],[12,2,13,2],[14,2,15,2],[16,2,17,2],[18,2,19,2],[20,2,21,2],[50,0,51,0],[50,1,51,1],[58,0,59,0],[58,1,59,1],[60,0,61,0],[60,1,61,1],[52,0,53,0],[52,1,53,1],[54,0,55,0],[54,1,55,1],[56,0,57,0],[56,1,57,1],[40,0,41,0],[40,1,41,1],[42,0,43,0],[42,1,43,1],[44,0,45,0],[44,1,45,1],[46,0,47,0],[46,1,47,1],[48,0,49,0],[48,1,49,1],[30,0,31,0],[30,1,31,1],[32,0,33,0],[32,1,33,1],[34,0,35,0],[34,1,35,1],[36,0,37,0],[36,1,37,1],[38,0,39,0],[38,1,39,1],[20,1,21,1],[22,0,23,0],[22,1,23,1],[24,0,25,0],[24,1,25,1],[26,0,27,0],[26,1,27,1],[28,0,29,0],[28,1,29,1],[62,0,63,0],[62,1,63,1],[64,0,65,0],[64,1,65,1],[66,0,67,0],[66,1,67,1],[2,3,2,8],[4,0,5,0],[4,1,5,1],[6,0,7,0],[6,1,7,1],[12,0,13,0],[12,1,13,1],[14,0,15,0],[14,1,15,1],[8,0,9,0],[8,1,9,1],[10,0,11,0],[10,1,11,1],[16,0,17,0],[16,1,17,1],[18,0,19,0],[18,1,19,1],[20,0,21,0],[74,0,75,0],[74,1,75,1],[76,0,77,0],[76,1,77,1],[78,0,79,0],[78,1,79,1],[68,0,69,0],[68,1,69,1],[70,0,71,0],[70,1,71,1],[72,0,73,0],[72,1,73,1],[86,0,87,0],[86,1,87,1],[88,0,89,0],[88,1,89,1],[90,0,91,0],[90,1,91,1],[80,0,81,0],[80,1,81,1],[82,0,83,0],[82,1,83,1],[84,0,85,0],[84,1,85,1],[98,0,99,0],[98,1,99,1],[100,0,101,0],[100,1,101,1],[102,0,103,0],[102,1,103,1],[92,0,93,0],[92,1,93,1],[94,0,95,0],[94,1,95,1],[96,0,97,0],[96,1,97,1],[116,0,117,0],[116,1,117,1],[110,0,111,0],[110,1,111,1],[112,0,113,0],[112,1,113,1],[114,0,115,0],[114,1,115,1],[104,0,105,0],[104,1,105,1],[106,0,107,0],[106,1,107,1],[108,0,109,0],[108,1,109,1]]}
["    Список работников  с работой в выходной день за ",null,null,null,{"$f":"отсутствия!E1","v":"март"},"2026г"]
[]
[null,null,null,"В"]
["таб.номер","ФИО ","должность","дата ","дата ","дата ","дата ","дата ","дата "]
[{"$f":"стр.1!C13","v":3849},{"$f":"IFERROR(VLOOKUP(A5,стр.1!$A$13:$D$106,2,FALSE),\"\")","v":"Копытов"},{"$f":"IFERROR(VLOOKUP(A5,стр.1!$A$13:$D$106,4,FALSE),\"\")","v":"сборная"}]
[]
[{"$f":"стр.1!C15","v":4571},{"$f":"IFERROR(VLOOKUP(A7,стр.1!$A$13:$D$106,2,FALSE),\"\")","v":"Воснецов"},{"$f":"IFERROR(VLOOKUP(A7,стр.1!$A$13:$D$106,4,FALSE),\"\")","v":"сборная"}]
[]
[{"$f":"стр.1!C17","v":5019},{"$f":"IFERROR(VLOOKUP(A9,стр.1!$A$13:$D$106,2,FALSE),\"\")","v":"Лебедев"},{"$f":"IFERROR(VLOOKUP(A9,стр.1!$A$13:$D$106,4,FALSE),\"\")","v":"сборная"}]
[]
[{"$f":"стр.1!C19","v":2628},{"$f":"IFERROR(VLOOKUP(A11,стр.1!$A$13:$D$106,2,FALSE),\"\")","v":"Морозов"},{"$f":"IFERROR(VLOOKUP(A11,стр.1!$A$13:$D$106,4,FALSE),\"\")","v":"сборная"}]
[]
[{"$f":"стр.1!C21","v":4439},{"$f":"IFERROR(VLOOKUP(A13,стр.1!$A$13:$D$106,2,FALSE),\"\")","v":"Шустов"},{"$f":"IFERROR(VLOOKUP(A13,стр.1!$A$13:$D$106,4,FALSE),\"\")","v":"сборная"}]
[]
[{"$f":"стр.1!C23","v":4813},{"$f":"IFERROR(VLOOKUP(A15,стр.1!$A$13:$D$106,2,FALSE),\"\")","v":"Овечкин"},{"$f":"IFERROR(VLOOKUP(A15,стр.1!$A$13:$D$106,4,FALSE),\"\")","v":"сборная"}]
[]
[{"$f":"стр.1!C25","v":2231},{"$f":"IFERROR(VLOOKUP(A17,стр.1!$A$13:$D$106,2,FALSE),\"\")","v":"Фитисов"},{"$f":"IFERROR(VLOOKUP(A17,стр.1!$A$13:$D$106,4,FALSE),\"\")","v":"сборная"}]
[]
[{"$f":"стр.1!C27","v":4552},{"$f":"IFERROR(VLOOKUP(A19,стр.1!$A$13:$D$106,2,FALSE),\"\")","v":"Ларионов"},{"$f":"IFERROR(VLOOKUP(A19,стр.1!$A$13:$D$106,4,FALSE),\"\")","v":"сборная"}]
[]
[{"$f":"стр.1!C29","v":2833},{"$f":"IFERROR(VLOOKUP(A21,стр.1!$A$13:$D$106,2,FALSE),\"\")","v":"Макаров"},{"$f":"IFERROR(VLOOKUP(A21,стр.1!$A$13:$D$106,4,FALSE),\"\")","v":"сборная"}]
[]
[{"$f":"стр.1!C31","v":4814},{"$f":"IFERROR(VLOOKUP(A23,стр.1!$A$13:$D$106,2,FALSE),\"\")","v":"Касатонов"},{"$f":"IFERROR(VLOOKUP(A23,стр.1!$A$13:$D$106,4,FALSE),\"\")","v":"сборная"}]
[]
[{"$f":"стр.1!C33","v":484},{"$f":"IFERROR(VLOOKUP(A25,стр.1!$A$13:$D$106,2,FALSE),\"\")","v":"Крутов"},{"$f":"IFERROR(VLOOKUP(A25,стр.1!$A$13:$D$106,4,FALSE),\"\")","v":"сборная"}]
[]
[{"$f":"стр.1!C35","v":3496},{"$f":"IFERROR(VLOOKUP(A27,стр.1!$A$13:$D$106,2,FALSE),\"\")","v":"Тихонов"},{"$f":"IFERROR(VLOOKUP(A27,стр.1!$A$13:$D$106,4,FALSE),\"\")","v":"сборная"}]
[]
[{"$f":"стр.1!C37","v":4453},{"$f":"IFERROR(VLOOKUP(A29,стр.1!$A$13:$D$106,2,FALSE),\"\")","v":"Малкин"},{"$f":"IFERROR(VLOOKUP(A29,стр.1!$A$13:$D$106,4,FALSE),\"\")","v":"сборная"}]
[]
[{"$f":"стр.1!C39","v":4671},{"$f":"IFERROR(VLOOKUP(A31,стр.1!$A$13:$D$106,2,FALSE),\"\")","v":"Буре"},{"$f":"IFERROR(VLOOKUP(A31,стр.1!$A$13:$D$106,4,FALSE),\"\")","v":"сборная"}]
[]
[{"$f":"стр.1!C41","v":4883},{"$f":"IFERROR(VLOOKUP(A33,стр.1!$A$13:$D$106,2,FALSE),\"\")","v":"Дасаев"},{"$f":"IFERROR(VLOOKUP(A33,стр.1!$A$13:$D$106,4,FALSE),\"\")","v":"сборная"}]
[]
[{"$f":"стр.1!C43","v":4991},{"$f":"IFERROR(VLOOKUP(A35,стр.1!$A$13:$D$106,2,FALSE),\"\")","v":"Федоров"},{"$f":"IFERROR(VLOOKUP(A35,стр.1!$A$13:$D$106,4,FALSE),\"\")","v":"сборная"}]
[]
[{"$f":"стр.1!C45","v":4990},{"$f":"IFERROR(VLOOKUP(A37,стр.1!$A$13:$D$106,2,FALSE),\"\")","v":"Ковальчук"},{"$f":"IFERROR(VLOOKUP(A37,стр.1!$A$13:$D$106,4,FALSE),\"\")","v":"сборная"}]
[]
[{"$f":"стр.1!C47","v":5015},{"$f":"IFERROR(VLOOKUP(A39,стр.1!$A$13:$D$106,2,FALSE),\"\")","v":"Аршавин"},{"$f":"IFERROR(VLOOKUP(A39,стр.1!$A$13:$D$106,4,FALSE),\"\")","v":"сборная"}]
[]
[{"$f":"стр.1!C49","v":5021},{"$f":"IFERROR(VLOOKUP(A41,стр.1!$A$13:$D$106,2,FALSE),\"\")","v":"Яшин"},{"$f":"IFERROR(VLOOKUP(A41,стр.1!$A$13:$D$106,4,FALSE),\"\")","v":"сборная"}]
[]
[{"$f":"стр.1!C51","v":5035},{"$f":"IFERROR(VLOOKUP(A43,стр.1!$A$13:$D$106,2,FALSE),\"\")","v":"Кузнецов"},{"$f":"IFERROR(VLOOKUP(A43,стр.1!$A$13:$D$106,4,FALSE),\"\")","v":"сборная"}]
[]
[{"$f":"стр.1!C53","v":5119},{"$f":"IFERROR(VLOOKUP(A45,стр.1!$A$13:$D$106,2,FALSE),\"\")","v":"Зубов"},{"$f":"IFERROR(VLOOKUP(A45,стр.1!$A$13:$D$106,4,FALSE),\"\")","v":"сборная"}]
[]
[{"$f":"стр.1!C55","v":5140},{"$f":"IFERROR(VLOOKUP(A47,стр.1!$A$13:$D$106,2,FALSE),\"\")","v":"Семин"},{"$f":"IFERROR(VLOOKUP(A47,стр.1!$A$13:$D$106,4,FALSE),\"\")","v":"сборная"}]
[]
[{"$f":"стр.1!C57","v":5241},{"$f":"IFERROR(VLOOKUP(A49,стр.1!$A$13:$D$106,2,FALSE),\"\")","v":"Радулов"},{"$f":"IFERROR(VLOOKUP(A49,стр.1!$A$13:$D$106,4,FALSE),\"\")","v":"сборная"}]
[]
[{"$f":"стр.1!C59","v":5144},{"$f":"IFERROR(VLOOKUP(A51,стр.1!$A$13:$D$106,2,FALSE),\"\")","v":"Малахов"},{"$f":"IFERROR(VLOOKUP(A51,стр.1!$A$13:$D$106,4,FALSE),\"\")","v":"сборная"}]
[]
[{"$f":"стр.1!C61","v":5147},{"$f":"IFERROR(VLOOKUP(A53,стр.1!$A$13:$D$106,2,FALSE),\"\")","v":"Королев"},{"$f":"IFERROR(VLOOKUP(A53,стр.1!$A$13:$D$106,4,FALSE),\"\")","v":"сборная"}]
[]
[{"$f":"стр.1!C63","v":5055},{"$f":"IFERROR(VLOOKUP(A55,стр.1!$A$13:$D$106,2,FALSE),\"\")","v":"Орлов"},{"$f":"IFERROR(VLOOKUP(A55,стр.1!$A$13:$D$106,4,FALSE),\"\")","v":"сборная"}]
[]
[{"$f":"стр.1!C65","v":5155},{"$f":"IFERROR(VLOOKUP(A57,стр.1!$A$13:$D$106,2,FALSE),\"\")","v":"Мышкин"},{"$f":"IFERROR(VLOOKUP(A57,стр.1!$A$13:$D$106,4,FALSE),\"\")","v":"сборная"}]
[]
[{"$f":"стр.1!C67","v":5141},{"$f":"IFERROR(VLOOKUP(A59,стр.1!$A$13:$D$106,2,FALSE),\"\")","v":"Куликов"},{"$f":"IFERROR(VLOOKUP(A59,стр.1!$A$13:$D$106,4,FALSE),\"\")","v":"сборная"}]
[]
[{"$f":"стр.1!C69","v":5158},{"$f":"IFERROR(VLOOKUP(A61,стр.1!$A$13:$D$106,2,FALSE),\"\")","v":"Селиванов"},{"$f":"IFERROR(VLOOKUP(A61,стр.1!$A$13:$D$106,4,FALSE),\"\")","v":"сборная"}]
[]
[{"$f":"стр.1!C71","v":0},{"$f":"IFERROR(VLOOKUP(A63,стр.1!$A$13:$D$106,2,FALSE),\"\")","v":""},{"$f":"IFERROR(VLOOKUP(A63,стр.1!$A$13:$D$106,4,FALSE),\"\")","v":""}]
[]
[{"$f":"стр.1!C73","v":0},{"$f":"IFERROR(VLOOKUP(A65,стр.1!$A$13:$D$106,2,FALSE),\"\")","v":""},{"$f":"IFERROR(VLOOKUP(A65,стр.1!$A$13:$D$106,4,FALSE),\"\")","v":""}]
[]
[{"$f":"стр.1!C75","v":0},{"$f":"IFERROR(VLOOKUP(A67,стр.1!$A$13:$D$106,2,FALSE),\"\")","v":""},{"$f":"IFERROR(VLOOKUP(A67,стр.1!$A$13:$D$106,4,FALSE),\"\")","v":""}]
[]
[{"$f":"стр.1!C77","v":0},{"$f":"IFERROR(VLOOKUP(A69,стр.1!$A$13:$D$106,2,FALSE),\"\")","v":""},{"$f":"IFERROR(VLOOKUP(A69,стр.1!$A$13:$D$106,4,FALSE),\"\")","v":""}]
[]
[{"$f":"стр.1!C79","v":0},{"$f":"IFERROR(VLOOKUP(A71,стр.1!$A$13:$D$106,2,FALSE),\"\")","v":""},{"$f":"IFERROR(VLOOKUP(A71,стр.1!$A$13:$D$106,4,FALSE),\"\")","v":""}]
[]
[{"$f":"стр.1!C81","v":0},{"$f":"IFERROR(VLOOKUP(A73,стр.1!$A$13:$D$106,2,FALSE),\"\")","v":""},{"$f":"IFERROR(VLOOKUP(A73,стр.1!$A$13:$D$106,4,FALSE),\"\")","v":""}]
[]
[{"$f":"стр.1!C83","v":0},{"$f":"IFERROR(VLOOKUP(A75,стр.1!$A$13:$D$106,2,FALSE),\"\")","v":""},{"$f":"IFERROR(VLOOKUP(A75,стр.1!$A$13:$D$106,4,FALSE),\"\")","v":""}]
[]
[{"$f":"стр.1!C85","v":0},{"$f":"IFERROR(VLOOKUP(A77,стр.1!$A$13:$D$106,2,FALSE),\"\")","v":""},{"$f":"IFERROR(VLOOKUP(A77,стр.1!$A$13:$D$106,4,FALSE),\"\")","v":""}]
[]
[{"$f":"стр.1!C87","v":0},{"$f":"IFERROR(VLOOKUP(A79,стр.1!$A$13:$D$106,2,FALSE),\"\")","v":""},{"$f":"IFERROR(VLOOKUP(A79,стр.1!$A$13:$D$106,4,FALSE),\"\")","v":""}]
[]
[{"$f":"стр.1!C89","v":0},{"$f":"IFERROR(VLOOKUP(A81,стр.1!$A$13:$D$106,2,FALSE),\"\")","v":""},{"$f":"IFERROR(VLOOKUP(A81,стр.1!$A$13:$D$106,4,FALSE),\"\")","v":""}]
[]
[{"$f":"стр.1!C91","v":0},{"$f":"IFERROR(VLOOKUP(A83,стр.1!$A$13:$D$106,2,FALSE),\"\")","v":""},{"$f":"IFERROR(VLOOKUP(A83,стр.1!$A$13:$D$106,4,FALSE),\"\")","v":""}]
[]
[{"$f":"стр.1!C93","v":0},{"$f":"IFERROR(VLOOKUP(A85,стр.1!$A$13:$D$106,2,FALSE),\"\")","v":""},{"$f":"IFERROR(VLOOKUP(A85,стр.1!$A$13:$D$106,4,FALSE),\"\")","v":""}]
[]
[{"$f":"стр.1!C95","v":0},{"$f":"IFERROR(VLOOKUP(A87,стр.1!$A$13:$D$106,2,FALSE),\"\")","v":""},{"$f":"IFERROR(VLOOKUP(A87,стр.1!$A$13:$D$106,4,FALSE),\"\")","v":""}]
[]
[{"$f":"стр.1!C97","v":0},{"$f":"IFERROR(VLOOKUP(A89,стр.1!$A$13:$D$106,2,FALSE),\"\")","v":""},{"$f":"IFERROR(VLOOKUP(A89,стр.1!$A$13:$D$106,4,FALSE),\"\")","v":""}]
[]
[{"$f":"стр.1!C99","v":0},{"$f":"IFERROR(VLOOKUP(A91,стр.1!$A$13:$D$106,2,FALSE),\"\")","v":""},{"$f":"IFERROR(VLOOKUP(A91,стр.1!$A$13:$D$106,4,FALSE),\"\")","v":""}]
[]
[{"$f":"стр.1!C101","v":0},{"$f":"IFERROR(VLOOKUP(A93,стр.1!$A$13:$D$106,2,FALSE),\"\")","v":""},{"$f":"IFERROR(VLOOKUP(A93,стр.1!$A$13:$D$106,4,FALSE),\"\")","v":""}]
[]
[{"$f":"стр.1!C103","v":0},{"$f":"IFERROR(VLOOKUP(A95,стр.1!$A$13:$D$106,2,FALSE),\"\")","v":""},{"$f":"IFERROR(VLOOKUP(A95,стр.1!$A$13:$D$106,4,FALSE),\"\")","v":""}]
[]
[{"$f":"стр.1!C105","v":0},{"$f":"IFERROR(VLOOKUP(A97,стр.1!$A$13:$D$106,2,FALSE),\"\")","v":""},{"$f":"IFERROR(VLOOKUP(A97,стр.1!$A$13:$D$106,4,FALSE),\"\")","v":""}]

{"sheet":"доплаты","index":5,"n_rows":118,"n_cols":50,"rows_kept":118,"cut":false,"hidden":false,"merged":[[90,2,91,2],[92,2,93,2],[94,2,95,2],[96,2,97,2],[72,2,73,2],[74,2,75,2],[76,2,77,2],[78,2,79,2],[80,2,81,2],[82,2,83,2],[84,2,85,2],[86,2,87,2],[88,2,89,2],[54,2,55,2],[56,2,57,2],[58,2,59,2],[60,2,61,2],[62,2,63,2],[64,2,65,2],[66,2,67,2],[68,2,69,2],[70,2,71,2],[36,2,37,2],[38,2,39,2],[40,2,41,2],[42,2,43,2],[44,2,45,2],[46,2,47,2],[48,2,49,2],[50,2,51,2],[52,2,53,2],[18,2,19,2],[20,2,21,2],[22,2,23,2],[24,2,25,2],[26,2,27,2],[28,2,29,2],[30,2,31,2],[32,2,33,2],[34,2,35,2],[2,3,2,8],[4,0,5,0],[4,1,5,1],[6,0,7,0],[6,1,7,1],[8,0,9,0],[8,1,9,1],[0,3,0,4],[16,0,17,0],[16,1,17,1],[4,2,5,2],[6,2,7,2],[8,2,9,2],[10,2,11,2],[12,2,13,2],[14,2,15,2],[16,2,17,2],[18,0,19,0],[18,1,19,1],[20,0,21,0],[20,1,21,1],[10,0,11,0],[10,1,11,1],[12,0,13,0],[12,1,13,1],[14,0,15,0],[14,1,15,1],[28,0,29,0],[28,1,29,1],[30,0,31,0],[30,1,31,1],[32,0,33,0],[32,1,33,1],[22,0,23,0],[22,1,23,1],[24,0,25,0],[24,1,25,1],[26,0,27,0],[26,1,27,1],[40,0,41,0],[40,1,41,1],[42,0,43,0],[42,1,43,1],[44,0,45,0],[44,1,45,1],[34,0,35,0],[34,1,35,1],[36,0,37,0],[36,1,37,1],[38,0,39,0],[38,1,39,1],[52,0,53,0],[52,1,53,1],[54,0,55,0],[54,1,55,1],[56,0,57,0],[56,1,57,1],[46,0,47,0],[46,1,47,1],[48,0,49,0],[48,1,49,1],[50,0,51,0],[50,1,51,1],[64,0,65,0],[64,1,65,1],[66,0,67,0],[66,1,67,1],[68,0,69,0],[68,1,69,1],[58,0,59,0],[58,1,59,1],[60,0,61,0],[60,1,61,1],[62,0,63,0],[62,1,63,1],[76,0,77,0],[76,1,77,1],[78,0,79,0],[78,1,79,1],[80,0,81,0],[80,1,81,1],[70,0,71,0],[70,1,71,1],[72,0,73,0],[72,1,73,1],[74,0,75,0],[74,1,75,1],[98,0,99,0],[98,1,99,1],[88,0,89,0],[88,1,89,1],[90,0,91,0],[90,1,91,1],[92,0,93,0],[92,1,93,1],[82,0,83,0],[82,1,83,1],[84,0,85,0],[84,1,85,1],[86,0,87,0],[86,1,87,1],[98,2,99,2],[2,9,2,14],[112,0,113,0],[112,1,113,1],[114,0,115,0],[114,1,115,1],[116,0,117,0],[116,1,117,1],[106,0,107,0],[106,1,107,1],[108,0,109,0],[108,1,109,1],[110,0,111,0],[110,1,111,1],[100,0,101,0],[100,1,101,1],[102,0,103,0],[102,1,103,1],[104,0,105,0],[104,1,105,1],[94,0,95,0],[94,1,95,1],[96,0,97,0],[96,1,97,1]]}
["Список работников  с доплатой за ",null,null,{"$f":"отсутствия!E1","v":"март"},null,"2026г",null,null,null,null,null,null,null,null,null,null,null,null,{"$f":"EOMONTH(стр.1!AP3,-1)","v":"2026-02-28"},{"$f":"S1+1","v":"2026-03-01"},{"$f":"T1+1","v":"2026-03-02"},"2026-03-03","2026-03-04","2026-03-05","2026-03-06","2026-03-07","2026-03-08","2026-03-09","2026-03-10","2026-03-11","2026-03-12","2026-03-13","2026-03-14","2026-03-15","2026-03-16","2026-03-17","2026-03-18","2026-03-19","2026-03-20","2026-03-21","2026-03-22","2026-03-23","2026-03-24","2026-03-25","2026-03-26","2026-03-27","2026-03-28",{"$f":"IF(AU1=\"\",\"\",IF(AU1+1>$S2,\"\",AU1+1))","v":"2026-03-29"},{"$f":"IF(AV1=\"\",\"\",IF(AV1+1>$S2,\"\",AV1+1))","v":"2026-03-30"},{"$f":"IF(AW1=\"\",\"\",IF(AW1+1>$S2,\"\",AW1+1))","v":"2026-03-31"}]
[1,2,3,4,5,6,7,8,9,10,11,12,13,14,15,16,null,null,{"$f":"EOMONTH(стр.1!AP3,0)","v":"2026-03-31"}]
[null,null,null,"основная",null,null,null,null,null,"дополнительная",null,null,null,null,null,"свод от основной"]
["таб.номер","ФИО ","должность",null,null,null,null,null,null,"датат с","датат по ","датат с","датат по ","датат с","датат по "]
[{"$f":"РВД!A5","v":3849},{"$f":"IFERROR(VLOOKUP(A5,стр.1!$A$13:$D$106,2,FALSE),\"\")","v":"Копытов"},{"$f":"IFERROR(VLOOKUP(A5,стр.1!$A$13:$D$106,4,FALSE),\"\")","v":"сборная"},17,17,15,30,17,null,null,null,null,null,null,null,{"$f":"CONCATENATE(D5, IF(E5<>\"\", \",\", \"\"), E5, IF(F5<>\"\", \",\", \"\"), F5, IF(G5<>\"\", \",\", \"\"), G5, IF(H5<>\"\", \",\", \"\"), H5, IF(I5<>\"\", \",\", \"\"), I5)","v":"17,17,15,30,17"}]
[null,null,null,null,null,null,null,null,null,null,null,null,null,null,null,{"$f":"CONCATENATE(D6, IF(E6<>\"\", \",\", \"\"), E6, IF(F6<>\"\", \",\", \"\"), F6, IF(G6<>\"\", \",\", \"\"), G6, IF(H6<>\"\", \",\", \"\"), H6, IF(I6<>\"\", \",\", \"\"), I6)","v":""}]
[{"$f":"РВД!A7","v":4571},{"$f":"IFERROR(VLOOKUP(A7,стр.1!$A$13:$D$106,2,FALSE),\"\")","v":"Воснецов"},{"$f":"IFERROR(VLOOKUP(A7,стр.1!$A$13:$D$106,4,FALSE),\"\")","v":"сборная"},24,null,null,null,null,null,null,null,null,null,null,null,"24"]
[null,null,null,null,null,null,null,null,null,null,null,null,null,null,null,""]
[{"$f":"РВД!A9","v":5019},{"$f":"IFERROR(VLOOKUP(A9,стр.1!$A$13:$D$106,2,FALSE),\"\")","v":"Лебедев"},{"$f":"IFERROR(VLOOKUP(A9,стр.1!$A$13:$D$106,4,FALSE),\"\")","v":"сборная"},24,null,null,null,null,null,null,null,null,null,null,null,"24"]
[null,null,null,null,null,null,null,null,null,null,null,null,null,null,null,""]
[{"$f":"РВД!A11","v":2628},{"$f":"IFERROR(VLOOKUP(A11,стр.1!$A$13:$D$106,2,FALSE),\"\")","v":"Морозов"},{"$f":"IFERROR(VLOOKUP(A11,стр.1!$A$13:$D$106,4,FALSE),\"\")","v":"сборная"},24,null,null,null,null,null,null,null,null,null,null,null,"24"]
[null,null,null,null,null,null,null,null,null,null,null,null,null,null,null,""]
[{"$f":"РВД!A13","v":4439},{"$f":"IFERROR(VLOOKUP(A13,стр.1!$A$13:$D$106,2,FALSE),\"\")","v":"Шустов"},{"$f":"IFERROR(VLOOKUP(A13,стр.1!$A$13:$D$106,4,FALSE),\"\")","v":"сборная"},24,null,null,null,null,null,null,null,null,null,null,null,"24"]
[null,null,null,null,null,null,null,null,null,null,null,null,null,null,null,""]
[{"$f":"РВД!A15","v":4813},{"$f":"IFERROR(VLOOKUP(A15,стр.1!$A$13:$D$106,2,FALSE),\"\")","v":"Овечкин"},{"$f":"IFERROR(VLOOKUP(A15,стр.1!$A$13:$D$106,4,FALSE),\"\")","v":"сборная"},17,17,17,30,null,null,null,null,null,null,null,null,"17,17,17,30"]
[null,null,null,null,null,null,null,null,null,null,null,null,null,null,null,""]
[{"$f":"РВД!A17","v":2231},{"$f":"IFERROR(VLOOKUP(A17,стр.1!$A$13:$D$106,2,FALSE),\"\")","v":"Фитисов"},{"$f":"IFERROR(VLOOKUP(A17,стр.1!$A$13:$D$106,4,FALSE),\"\")","v":"сборная"},null,null,null,null,null,null,null,null,null,null,null,null,""]
[null,null,null,null,null,null,null,null,null,null,null,null,null,null,null,""]
[{"$f":"РВД!A19","v":4552},{"$f":"IFERROR(VLOOKUP(A19,стр.1!$A$13:$D$106,2,FALSE),\"\")","v":"Ларионов"},{"$f":"IFERROR(VLOOKUP(A19,стр.1!$A$13:$D$106,4,FALSE),\"\")","v":"сборная"},24,null,null,null,null,null,null,null,null,null,null,null,"24"]
[null,null,null,null,null,null,null,null,null,null,null,null,null,null,null,""]
[{"$f":"РВД!A21","v":2833},{"$f":"IFERROR(VLOOKUP(A21,стр.1!$A$13:$D$106,2,FALSE),\"\")","v":"Макаров"},{"$f":"IFERROR(VLOOKUP(A21,стр.1!$A$13:$D$106,4,FALSE),\"\")","v":"сборная"},20,100,null,null,null,null,null,null,null,null,null,null,"20,100"]
[null,null,null,null,null,null,null,null,null,null,null,null,null,null,null,""]
[{"$f":"РВД!A23","v":4814},{"$f":"IFERROR(VLOOKUP(A23,стр.1!$A$13:$D$106,2,FALSE),\"\")","v":"Касатонов"},{"$f":"IFERROR(VLOOKUP(A23,стр.1!$A$13:$D$106,4,FALSE),\"\")","v":"сборная"},17,30,null,null,null,null,"2026-03-02","2026-03-05","2026-03-16","2026-03-19",null,null,"17,30"]
[null,null,null,null,null,null,null,null,null,17,null,17,null,null,null,""]
[{"$f":"РВД!A25","v":484},{"$f":"IFERROR(VLOOKUP(A25,стр.1!$A$13:$D$106,2,FALSE),\"\")","v":"Крутов"},{"$f":"IFERROR(VLOOKUP(A25,стр.1!$A$13:$D$106,4,FALSE),\"\")","v":"сборная"},17,90,82,17,17,null,null,null,null,null,null,null,"17,90,82,17,17"]
[null,null,null,null,null,null,null,null,null,null,null,null,null,null,null,""]
[{"$f":"РВД!A27","v":3496},{"$f":"IFERROR(VLOOKUP(A27,стр.1!$A$13:$D$106,2,FALSE),\"\")","v":"Тихонов"},{"$f":"IFERROR(VLOOKUP(A27,стр.1!$A$13:$D$106,4,FALSE),\"\")","v":"сборная"},30,null,null,null,null,null,"2026-03-02","2026-03-05","2026-03-16","2026-03-19",null,null,"30"]
[null,null,null,null,null,null,null,null,null,17,null,17,null,null,null,""]
[{"$f":"РВД!A29","v":4453},{"$f":"IFERROR(VLOOKUP(A29,стр.1!$A$13:$D$106,2,FALSE),\"\")","v":"Малкин"},{"$f":"IFERROR(VLOOKUP(A29,стр.1!$A$13:$D$106,4,FALSE),\"\")","v":"сборная"},17,17,null,null,null,null,null,null,null,null,null,null,"17,17"]
[null,null,null,null,null,null,null,null,null,null,null,null,null,null,null,""]
[{"$f":"РВД!A31","v":4671},{"$f":"IFERROR(VLOOKUP(A31,стр.1!$A$13:$D$106,2,FALSE),\"\")","v":"Буре"},{"$f":"IFERROR(VLOOKUP(A31,стр.1!$A$13:$D$106,4,FALSE),\"\")","v":"сборная"},24,null,null,null,null,null,null,null,null,null,null,null,"24"]
[null,null,null,null,null,null,null,null,null,null,null,null,null,null,null,""]
[{"$f":"РВД!A33","v":4883},{"$f":"IFERROR(VLOOKUP(A33,стр.1!$A$13:$D$106,2,FALSE),\"\")","v":"Дасаев"},{"$f":"IFERROR(VLOOKUP(A33,стр.1!$A$13:$D$106,4,FALSE),\"\")","v":"сборная"},28,null,null,null,null,null,null,null,null,null,null,null,"28"]
[null,null,null,null,null,null,null,null,null,null,null,null,null,null,null,""]
[{"$f":"РВД!A35","v":4991},{"$f":"IFERROR(VLOOKUP(A35,стр.1!$A$13:$D$106,2,FALSE),\"\")","v":"Федоров"},{"$f":"IFERROR(VLOOKUP(A35,стр.1!$A$13:$D$106,4,FALSE),\"\")","v":"сборная"},24,null,null,null,null,null,null,null,null,null,null,null,"24"]
[null,null,null,null,null,null,null,null,null,null,null,null,null,null,null,""]
[{"$f":"РВД!A37","v":4990},{"$f":"IFERROR(VLOOKUP(A37,стр.1!$A$13:$D$106,2,FALSE),\"\")","v":"Ковальчук"},{"$f":"IFERROR(VLOOKUP(A37,стр.1!$A$13:$D$106,4,FALSE),\"\")","v":"сборная"},28,null,null,null,null,null,null,null,null,null,null,null,"28"]
[null,null,null,null,null,null,null,null,null,null,null,null,null,null,null,""]
[{"$f":"РВД!A39","v":5015},{"$f":"IFERROR(VLOOKUP(A39,стр.1!$A$13:$D$106,2,FALSE),\"\")","v":"Аршавин"},{"$f":"IFERROR(VLOOKUP(A39,стр.1!$A$13:$D$106,4,FALSE),\"\")","v":"сборная"},20,100,null,null,null,null,null,null,null,null,null,null,"20,100"]
[null,null,null,null,null,null,null,null,null,null,null,null,null,null,null,""]
[{"$f":"РВД!A41","v":5021},{"$f":"IFERROR(VLOOKUP(A41,стр.1!$A$13:$D$106,2,FALSE),\"\")","v":"Яшин"},{"$f":"IFERROR(VLOOKUP(A41,стр.1!$A$13:$D$106,4,FALSE),\"\")","v":"сборная"},17,null,null,null,null,null,null,null,null,null,null,null,"17"]
[null,null,null,null,null,null,null,null,null,null,null,null,null,null,null,""]
[{"$f":"РВД!A43","v":5035},{"$f":"IFERROR(VLOOKUP(A43,стр.1!$A$13:$D$106,2,FALSE),\"\")","v":"Кузнецов"},{"$f":"IFERROR(VLOOKUP(A43,стр.1!$A$13:$D$106,4,FALSE),\"\")","v":"сборная"},17,30,null,null,null,null,null,null,null,null,null,null,"17,30"]
[null,null,null,null,null,null,null,null,null,null,null,null,null,null,null,""]
[{"$f":"РВД!A45","v":5119},{"$f":"IFERROR(VLOOKUP(A45,стр.1!$A$13:$D$106,2,FALSE),\"\")","v":"Зубов"},{"$f":"IFERROR(VLOOKUP(A45,стр.1!$A$13:$D$106,4,FALSE),\"\")","v":"сборная"},100,null,null,null,null,null,null,null,null,null,null,null,"100"]
[null,null,null,null,null,null,null,null,null,null,null,null,null,null,null,""]
[{"$f":"РВД!A47","v":5140},{"$f":"IFERROR(VLOOKUP(A47,стр.1!$A$13:$D$106,2,FALSE),\"\")","v":"Семин"},{"$f":"IFERROR(VLOOKUP(A47,стр.1!$A$13:$D$106,4,FALSE),\"\")","v":"сборная"},28,null,null,null,null,null,null,null,null,null,null,null,"28"]
[null,null,null,null,null,null,null,null,null,null,null,null,null,null,null,""]
[{"$f":"РВД!A49","v":5241},{"$f":"IFERROR(VLOOKUP(A49,стр.1!$A$13:$D$106,2,FALSE),\"\")","v":"Радулов"},{"$f":"IFERROR(VLOOKUP(A49,стр.1!$A$13:$D$106,4,FALSE),\"\")","v":"сборная"},125,100,null,null,null,null,null,null,null,null,null,null,"125,100"]
[null,null,null,null,null,null,null,null,null,null,null,null,null,null,null,""]
[{"$f":"РВД!A51","v":5144},{"$f":"IFERROR(VLOOKUP(A51,стр.1!$A$13:$D$106,2,FALSE),\"\")","v":"Малахов"},{"$f":"IFERROR(VLOOKUP(A51,стр.1!$A$13:$D$106,4,FALSE),\"\")","v":"сборная"},28,null,null,null,null,null,null,null,null,null,null,null,"28"]
[null,null,null,null,null,null,null,null,null,null,null,null,null,null,null,""]
[{"$f":"РВД!A53","v":5147},{"$f":"IFERROR(VLOOKUP(A53,стр.1!$A$13:$D$106,2,FALSE),\"\")","v":"Королев"},{"$f":"IFERROR(VLOOKUP(A53,стр.1!$A$13:$D$106,4,FALSE),\"\")","v":"сборная"},100,null,null,null,null,null,null,null,null,null,null,null,"100"]
[null,null,null,null,null,null,null,null,null,null,null,null,null,null,null,""]
[{"$f":"РВД!A55","v":5055},{"$f":"IFERROR(VLOOKUP(A55,стр.1!$A$13:$D$106,2,FALSE),\"\")","v":"Орлов"},{"$f":"IFERROR(VLOOKUP(A55,стр.1!$A$13:$D$106,4,FALSE),\"\")","v":"сборная"},100,null,null,null,null,null,null,null,null,null,null,null,"100"]
[null,null,null,null,null,null,null,null,null,null,null,null,null,null,null,""]
[{"$f":"РВД!A57","v":5155},{"$f":"IFERROR(VLOOKUP(A57,стр.1!$A$13:$D$106,2,FALSE),\"\")","v":"Мышкин"},{"$f":"IFERROR(VLOOKUP(A57,стр.1!$A$13:$D$106,4,FALSE),\"\")","v":"сборная"},null,null,null,null,null,null,null,null,null,null,null,null,""]
[null,null,null,null,null,null,null,null,null,null,null,null,null,null,null,""]
[{"$f":"РВД!A59","v":5141},{"$f":"IFERROR(VLOOKUP(A59,стр.1!$A$13:$D$106,2,FALSE),\"\")","v":"Куликов"},{"$f":"IFERROR(VLOOKUP(A59,стр.1!$A$13:$D$106,4,FALSE),\"\")","v":"сборная"},28,null,null,null,null,null,null,null,null,null,null,null,"28"]
[null,null,null,null,null,null,null,null,null,null,null,null,null,null,null,""]
[{"$f":"РВД!A61","v":5158},{"$f":"IFERROR(VLOOKUP(A61,стр.1!$A$13:$D$106,2,FALSE),\"\")","v":"Селиванов"},{"$f":"IFERROR(VLOOKUP(A61,стр.1!$A$13:$D$106,4,FALSE),\"\")","v":"сборная"},24,null,null,null,null,null,null,null,null,null,null,null,"24"]
[null,null,null,null,null,null,null,null,null,null,null,null,null,null,null,""]
[{"$f":"РВД!A63","v":0},{"$f":"IFERROR(VLOOKUP(A63,стр.1!$A$13:$D$106,2,FALSE),\"\")","v":""},{"$f":"IFERROR(VLOOKUP(A63,стр.1!$A$13:$D$106,4,FALSE),\"\")","v":""},null,null,null,null,null,null,null,null,null,null,null,null,""]
[null,null,null,null,null,null,null,null,null,null,null,null,null,null,null,""]
[{"$f":"РВД!A65","v":0},{"$f":"IFERROR(VLOOKUP(A65,стр.1!$A$13:$D$106,2,FALSE),\"\")","v":""},{"$f":"IFERROR(VLOOKUP(A65,стр.1!$A$13:$D$106,4,FALSE),\"\")","v":""},null,null,null,null,null,null,null,null,null,null,null,null,""]
[null,null,null,null,null,null,null,null,null,null,null,null,null,null,null,""]
[{"$f":"РВД!A67","v":0},{"$f":"IFERROR(VLOOKUP(A67,стр.1!$A$13:$D$106,2,FALSE),\"\")","v":""},{"$f":"IFERROR(VLOOKUP(A67,стр.1!$A$13:$D$106,4,FALSE),\"\")","v":""},null,null,null,null,null,null,null,null,null,null,null,null,""]
[null,null,null,null,null,null,null,null,null,null,null,null,null,null,null,""]
[{"$f":"РВД!A69","v":0},{"$f":"IFERROR(VLOOKUP(A69,стр.1!$A$13:$D$106,2,FALSE),\"\")","v":""},{"$f":"IFERROR(VLOOKUP(A69,стр.1!$A$13:$D$106,4,FALSE),\"\")","v":""},null,null,null,null,null,null,null,null,null,null,null,null,""]
[null,null,null,null,null,null,null,null,null,null,null,null,null,null,null,{"$f":"CONCATENATE(D70, IF(E70<>\"\", \",\", \"\"), E70, IF(F70<>\"\", \",\", \"\"), F70, IF(G70<>\"\", \",\", \"\"), G70, IF(H70<>\"\", \",\", \"\"), H70, IF(I70<>\"\", \",\", \"\"), I70)","v":""}]
[{"$f":"РВД!A71","v":0},{"$f":"IFERROR(VLOOKUP(A71,стр.1!$A$13:$D$106,2,FALSE),\"\")","v":""},{"$f":"IFERROR(VLOOKUP(A71,стр.1!$A$13:$D$106,4,FALSE),\"\")","v":""},null,null,null,null,null,null,null,null,null,null,null,null,""]
[null,null,null,null,null,null,null,null,null,null,null,null,null,null,null,""]
[{"$f":"РВД!A73","v":0},{"$f":"IFERROR(VLOOKUP(A73,стр.1!$A$13:$D$106,2,FALSE),\"\")","v":""},{"$f":"IFERROR(VLOOKUP(A73,стр.1!$A$13:$D$106,4,FALSE),\"\")","v":""},null,null,null,null,null,null,null,null,null,null,null,null,""]
[null,null,null,null,null,null,null,null,null,null,null,null,null,null,null,""]
[{"$f":"РВД!A75","v":0},{"$f":"IFERROR(VLOOKUP(A75,стр.1!$A$13:$D$106,2,FALSE),\"\")","v":""},{"$f":"IFERROR(VLOOKUP(A75,стр.1!$A$13:$D$106,4,FALSE),\"\")","v":""},null,null,null,null,null,null,null,null,null,null,null,null,""]
[null,null,null,null,null,null,null,null,null,null,null,null,null,null,null,""]
[{"$f":"РВД!A77","v":0},{"$f":"IFERROR(VLOOKUP(A77,стр.1!$A$13:$D$106,2,FALSE),\"\")","v":""},{"$f":"IFERROR(VLOOKUP(A77,стр.1!$A$13:$D$106,4,FALSE),\"\")","v":""},null,null,null,null,null,null,null,null,null,null,null,null,""]
[null,null,null,null,null,null,null,null,null,null,null,null,null,null,null,""]
[{"$f":"РВД!A79","v":0},{"$f":"IFERROR(VLOOKUP(A79,стр.1!$A$13:$D$106,2,FALSE),\"\")","v":""},{"$f":"IFERROR(VLOOKUP(A79,стр.1!$A$13:$D$106,4,FALSE),\"\")","v":""},null,null,null,null,null,null,null,null,null,null,null,null,""]
[null,null,null,null,null,null,null,null,null,null,null,null,null,null,null,""]
[{"$f":"РВД!A81","v":0},{"$f":"IFERROR(VLOOKUP(A81,стр.1!$A$13:$D$106,2,FALSE),\"\")","v":""},{"$f":"IFERROR(VLOOKUP(A81,стр.1!$A$13:$D$106,4,FALSE),\"\")","v":""},null,null,null,null,null,null,null,null,null,null,null,null,""]
[null,null,null,null,null,null,null,null,null,null,null,null,null,null,null,""]
[{"$f":"РВД!A83","v":0},{"$f":"IFERROR(VLOOKUP(A83,стр.1!$A$13:$D$106,2,FALSE),\"\")","v":""},{"$f":"IFERROR(VLOOKUP(A83,стр.1!$A$13:$D$106,4,FALSE),\"\")","v":""},null,null,null,null,null,null,null,null,null,null,null,null,""]
[null,null,null,null,null,null,null,null,null,null,null,null,null,null,null,""]
[{"$f":"РВД!A85","v":0},{"$f":"IFERROR(VLOOKUP(A85,стр.1!$A$13:$D$106,2,FALSE),\"\")","v":""},{"$f":"IFERROR(VLOOKUP(A85,стр.1!$A$13:$D$106,4,FALSE),\"\")","v":""},null,null,null,null,null,null,null,null,null,null,null,null,""]
[null,null,null,null,null,null,null,null,null,null,null,null,null,null,null,""]
[{"$f":"РВД!A87","v":0},{"$f":"IFERROR(VLOOKUP(A87,стр.1!$A$13:$D$106,2,FALSE),\"\")","v":""},{"$f":"IFERROR(VLOOKUP(A87,стр.1!$A$13:$D$106,4,FALSE),\"\")","v":""},null,null,null,null,null,null,null,null,null,null,null,null,""]
[null,null,null,null,null,null,null,null,null,null,null,null,null,null,null,""]
[{"$f":"РВД!A89","v":0},{"$f":"IFERROR(VLOOKUP(A89,стр.1!$A$13:$D$106,2,FALSE),\"\")","v":""},{"$f":"IFERROR(VLOOKUP(A89,стр.1!$A$13:$D$106,4,FALSE),\"\")","v":""},null,null,null,null,null,null,null,null,null,null,null,null,""]
[null,null,null,null,null,null,null,null,null,null,null,null,null,null,null,""]
[{"$f":"РВД!A91","v":0},{"$f":"IFERROR(VLOOKUP(A91,стр.1!$A$13:$D$106,2,FALSE),\"\")","v":""},{"$f":"IFERROR(VLOOKUP(A91,стр.1!$A$13:$D$106,4,FALSE),\"\")","v":""},null,null,null,null,null,null,null,null,null,null,null,null,""]
[null,null,null,null,null,null,null,null,null,null,null,null,null,null,null,""]
[{"$f":"РВД!A93","v":0},{"$f":"IFERROR(VLOOKUP(A93,стр.1!$A$13:$D$106,2,FALSE),\"\")","v":""},{"$f":"IFERROR(VLOOKUP(A93,стр.1!$A$13:$D$106,4,FALSE),\"\")","v":""},null,null,null,null,null,null,null,null,null,null,null,null,""]
[null,null,null,null,null,null,null,null,null,null,null,null,null,null,null,""]
[{"$f":"РВД!A95","v":0},{"$f":"IFERROR(VLOOKUP(A95,стр.1!$A$13:$D$106,2,FALSE),\"\")","v":""},{"$f":"IFERROR(VLOOKUP(A95,стр.1!$A$13:$D$106,4,FALSE),\"\")","v":""},null,null,null,null,null,null,null,null,null,null,null,null,""]
[null,null,null,null,null,null,null,null,null,null,null,null,null,null,null,""]
[{"$f":"РВД!A97","v":0},{"$f":"IFERROR(VLOOKUP(A97,стр.1!$A$13:$D$106,2,FALSE),\"\")","v":""},{"$f":"IFERROR(VLOOKUP(A97,стр.1!$A$13:$D$106,4,FALSE),\"\")","v":""},null,null,null,null,null,null,null,null,null,null,null,null,""]
[null,null,null,null,null,null,null,null,null,null,null,null,null,null,null,""]
[{"$f":"РВД!A99","v":0},null,{"$f":"IFERROR(VLOOKUP(A99,стр.1!$A$13:$D$106,4,FALSE),\"\")","v":""},null,null,null,null,null,null,null,null,null,null,null,null,""]
[null,null,null,null,null,null,null,null,null,null,null,null,null,null,null,""]
[{"$f":"РВД!A101","v":0},null,null,null,null,null,null,null,null,null,null,null,null,null,null,""]
[null,null,null,null,null,null,null,null,null,null,null,null,null,null,null,""]
[{"$f":"РВД!A103","v":0},null,null,null,null,null,null,null,null,null,null,null,null,null,null,""]
[null,null,null,null,null,null,null,null,null,null,null,null,null,null,null,""]
[{"$f":"РВД!A105","v":0},null,null,null,null,null,null,null,null,null,null,null,null,null,null,""]
[null,null,null,null,null,null,null,null,null,null,null,null,null,null,null,""]
[{"$f":"РВД!A107","v":0},null,null,null,null,null,null,null,null,null,null,null,null,null,null,""]
[null,null,null,null,null,null,null,null,null,null,null,null,null,null,null,""]
[{"$f":"РВД!A109","v":0},null,null,null,null,null,null,null,null,null,null,null,null,null,null,""]
[null,null,null,null,null,null,null,null,null,null,null,null,null,null,null,""]
[{"$f":"РВД!A111","v":0},null,null,null,null,null,null,null,null,null,null,null,null,null,null,""]
[null,null,null,null,null,null,null,null,null,null,null,null,null,null,null,""]
[{"$f":"РВД!A113","v":0},null,null,null,null,null,null,null,null,null,null,null,null,null,null,""]
[null,null,null,null,null,null,null,null,null,null,null,null,null,null,null,""]
[{"$f":"РВД!A115","v":0},null,null,null,null,null,null,null,null,null,null,null,null,null,null,""]
[null,null,null,null,null,null,null,null,null,null,null,null,null,null,null,""]
[{"$f":"РВД!A117","v":0},null,null,null,null,null,null,null,null,null,null,null,null,null,null,""]
[null,null,null,null,null,null,null,null,null,null,null,null,null,null,null,""]

{"sheet":"читать","index":6,"n_rows":15,"n_cols":1,"rows_kept":15,"cut":false,"hidden":false,"merged":[]}
[]
[]
["Что делает макрос \"Скрыть\""]
["    "]
["Находит строку с последним табельным номером (4 знака) в диапазоне столбцов \"A,B,C\""]
["Ищет место, где меняется оформление границ (конец основной таблицы)"]
["Если нижняя граница следующей строки отличаются от текущей — мы нашли конец данных"]
["Если хотя бы один параметр(цвет,стиль,толшина линии) ОТЛИЧАЕТСЯ, значит границы РАЗНЫЕ"]
["Скрываем строки от следующей после данных до ячейки в столбце \"С\" без границ"]
["ВАЖНО: логика скрытия зависит от структуры, границ ячеек  вашего документа"]
[]
[]
["Что делает макрос \"Показать все\""]
[]
["Показывает все скрытые строки"]

{"sheet":"месяц","index":7,"n_rows":13,"n_cols":1,"rows_kept":13,"cut":false,"hidden":true,"merged":[]}
["месяц"]
["январь"]
["февраль"]
["март"]
["апрель"]
["май"]
["июнь"]
["июль"]
["август"]
["сентябрь"]
["октябрь"]
["ноябрь"]
["декабрь"]