Workbook

Sheet Данные
C1: 11 класс | D1: 10 класс | E1: 9а класс | F1: 9б класс | G1: 8а класс | H1: 8б класс | I1: 8в класс | J1: 7а класс | K1: 7б класс | L1: 6а класс | M1: 6б класс | N1: 5а класс | O1: 4а класс | P1: 4б класс | Q1: 3а класс | R1: 3б класс | S1: 2а класс | T1: 2б класс | U1: 1а класс
C2: =IFERROR(INDEX([1]Ученики!$C$1:$C$500,_xlfn.AGGREGATE(15,6,ROW($A$1:$A$500)/ISNUMBER(SEARCH(" "&SUBSTITUTE(C$1," класс","")," "&[1]Ученики!$B$1:$B$500)),ROW(A1)))&" "&INDEX([1]Ученики!$D$1:$D$500,_xlfn.AGGREGATE(15,6,ROW($A$1:$A$500)/ISNUMBER(SEARCH(" "&SUBSTITUTE(C$1," класс","")," "&[1]Ученики!$B$1:$B$500)),ROW(A1))),"") -> 11 11 | D2: =IFERROR(INDEX([1]Ученики!$C$1:$C$500,_xlfn.AGGREGATE(15,6,ROW($A$1:$A$500)/ISNUMBER(SEARCH(" "&SUBSTITUTE(D$1," класс","")," "&[1]Ученики!$B$1:$B$500)),ROW(B1)))&" "&INDEX([1]Ученики!$D$1:$D$500,_xlfn.AGGREGATE(15,6,ROW($A$1:$A$500)/ISNUMBER(SEARCH(" "&SUBSTITUTE(D$1," класс","")," "&[1]Ученики!$B$1:$B$500)),ROW(B1))),"") -> 10 10 | E2: =IFERROR(INDEX([1]Ученики!$C$1:$C$500,_xlfn.AGGREGATE(15,6,ROW($A$1:$A$500)/ISNUMBER(SEARCH(" "&SUBSTITUTE(E$1," класс","")," "&[1]Ученики!$B$1:$B$500)),ROW(C1)))&" "&INDEX([1]Ученики!$D$1:$D$500,_xlfn.AGGREGATE(15,6,ROW($A$1:$A$500)/ISNUMBER(SEARCH(" "&SUBSTITUTE(E$1," класс","")," "&[1]Ученики!$B$1:$B$500)),ROW(C1))),"") -> 6 6 | F2: =IFERROR(INDEX([1]Ученики!$C$1:$C$500,_xlfn.AGGREGATE(15,6,ROW($A$1:$A$500)/ISNUMBER(SEARCH(" "&SUBSTITUTE(F$1," класс","")," "&[1]Ученики!$B$1:$B$500)),ROW(D1)))&" "&INDEX([1]Ученики!$D$1:$D$500,_xlfn.AGGREGATE(15,6,ROW($A$1:$A$500)/ISNUMBER(SEARCH(" "&SUBSTITUTE(F$1," класс","")," "&[1]Ученики!$B$1:$B$500)),ROW(D1))),"") -> 16 16 | G2: =IFERROR(INDEX([1]Ученики!$C$1:$C$500,_xlfn.AGGREGATE(15,6,ROW($A$1:$A$500)/ISNUMBER(SEARCH(" "&SUBSTITUTE(G$1," класс","")," "&[1]Ученики!$B$1:$B$500)),ROW(E1)))&" "&INDEX([1]Ученики!$D$1:$D$500,_xlfn.AGGREGATE(15,6,ROW($A$1:$A$500)/ISNUMBER(SEARCH(" "&SUBSTITUTE(G$1," класс","")," "&[1]Ученики!$B$1:$B$500)),ROW(E1))),"") -> 15 15 | H2: =IFERROR(INDEX([1]Ученики!$C$1:$C$500,_xlfn.AGGREGATE(15,6,ROW($A$1:$A$500)/ISNUMBER(SEARCH(" "&SUBSTITUTE(H$1," класс","")," "&[1]Ученики!$B$1:$B$500)),ROW(F1)))&" "&INDEX([1]Ученики!$D$1:$D$500,_xlfn.AGGREGATE(15,6,ROW($A$1:$A$500)/ISNUMBER(SEARCH(" "&SUBSTITUTE(H$1," класс","")," "&[1]Ученики!$B$1:$B$500)),ROW(F1))),"") -> 2 2 | I2: =IFERROR(INDEX([1]Ученики!$C$1:$C$500,_xlfn.AGGREGATE(15,6,ROW($A$1:$A$500)/ISNUMBER(SEARCH(" "&SUBSTITUTE(I$1," класс","")," "&[1]Ученики!$B$1:$B$500)),ROW(G1)))&" "&INDEX([1]Ученики!$D$1:$D$500,_xlfn.AGGREGATE(15,6,ROW($A$1:$A$500)/ISNUMBER(SEARCH(" "&SUBSTITUTE(I$1," класс","")," "&[1]Ученики!$B$1:$B$500)),ROW(G1))),"") -> 29 29 | J2: =IFERROR(INDEX([1]Ученики!$C$1:$C$500,_xlfn.AGGREGATE(15,6,ROW($A$1:$A$500)/ISNUMBER(SEARCH(" "&SUBSTITUTE(J$1," класс","")," "&[1]Ученики!$B$1:$B$500)),ROW(H1)))&" "&INDEX([1]Ученики!$D$1:$D$500,_xlfn.AGGREGATE(15,6,ROW($A$1:$A$500)/ISNUMBER(SEARCH(" "&SUBSTITUTE(J$1," класс","")," "&[1]Ученики!$B$1:$B$500)),ROW(H1))),"") -> 17 17 | ... U2: =IFERROR(INDEX([1]Ученики!$C$1:$C$500,_xlfn.AGGREGATE(15,6,ROW($A$1:$A$500)/ISNUMBER(SEARCH(" "&SUBSTITUTE(U$1," класс","")," "&[1]Ученики!$B$1:$B$500)),ROW(S1)))&" "&INDEX([1]Ученики!$D$1:$D$500,_xlfn.AGGREGATE(15,6,ROW($A$1:$A$500)/ISNUMBER(SEARCH(" "&SUBSTITUTE(U$1," класс","")," "&[1]Ученики!$B$1:$B$500)),ROW(S1))),"") -> 23 23
C3: =IFERROR(INDEX([1]Ученики!$C$1:$C$500,_xlfn.AGGREGATE(15,6,ROW($A$1:$A$500)/ISNUMBER(SEARCH(" "&SUBSTITUTE(C$1," класс","")," "&[1]Ученики!$B$1:$B$500)),ROW(A2)))&" "&INDEX([1]Ученики!$D$1:$D$500,_xlfn.AGGREGATE(15,6,ROW($A$1:$A$500)/ISNUMBER(SEARCH(" "&SUBSTITUTE(C$1," класс","")," "&[1]Ученики!$B$1:$B$500)),ROW(A2))),"") -> 36 36 | D3: =IFERROR(INDEX([1]Ученики!$C$1:$C$500,_xlfn.AGGREGATE(15,6,ROW($A$1:$A$500)/ISNUMBER(SEARCH(" "&SUBSTITUTE(D$1," класс","")," "&[1]Ученики!$B$1:$B$500)),ROW(B2)))&" "&INDEX([1]Ученики!$D$1:$D$500,_xlfn.AGGREGATE(15,6,ROW($A$1:$A$500)/ISNUMBER(SEARCH(" "&SUBSTITUTE(D$1," класс","")," "&[1]Ученики!$B$1:$B$500)),ROW(B2))),"") -> 27 27 | E3: =IFERROR(INDEX([1]Ученики!$C$1:$C$500,_xlfn.AGGREGATE(15,6,ROW($A$1:$A$500)/ISNUMBER(SEARCH(" "&SUBSTITUTE(E$1," класс","")," "&[1]Ученики!$B$1:$B$500)),ROW(C2)))&" "&INDEX([1]Ученики!$D$1:$D$500,_xlfn.AGGREGATE(15,6,ROW($A$1:$A$500)/ISNUMBER(SEARCH(" "&SUBSTITUTE(E$1," класс","")," "&[1]Ученики!$B$1:$B$500)),ROW(C2))),"") -> 14 14 | F3: =IFERROR(INDEX([1]Ученики!$C$1:$C$500,_xlfn.AGGREGATE(15,6,ROW($A$1:$A$500)/ISNUMBER(SEARCH(" "&SUBSTITUTE(F$1," класс","")," "&[1]Ученики!$B$1:$B$500)),ROW(D2)))&" "&INDEX([1]Ученики!$D$1:$D$500,_xlfn.AGGREGATE(15,6,ROW($A$1:$A$500)/ISNUMBER(SEARCH(" "&SUBSTITUTE(F$1," класс","")," "&[1]Ученики!$B$1:$B$500)),ROW(D2))),"") -> 47 47 | G3: =IFERROR(INDEX([1]Ученики!$C$1:$C$500,_xlfn.AGGREGATE(15,6,ROW($A$1:$A$500)/ISNUMBER(SEARCH(" "&SUBSTITUTE(G$1," класс","")," "&[1]Ученики!$B$1:$B$500)),ROW(E2)))&" "&INDEX([1]Ученики!$D$1:$D$500,_xlfn.AGGREGATE(15,6,ROW($A$1:$A$500)/ISNUMBER(SEARCH(" "&SUBSTITUTE(G$1," класс","")," "&[1]Ученики!$B$1:$B$500)),ROW(E2))),"") -> 26 26 | H3: =IFERROR(INDEX([1]Ученики!$C$1:$C$500,_xlfn.AGGREGATE(15,6,ROW($A$1:$A$500)/ISNUMBER(SEARCH(" "&SUBSTITUTE(H$1," класс","")," "&[1]Ученики!$B$1:$B$500)),ROW(F2)))&" "&INDEX([1]Ученики!$D$1:$D$500,_xlfn.AGGREGATE(15,6,ROW($A$1:$A$500)/ISNUMBER(SEARCH(" "&SUBSTITUTE(H$1," класс","")," "&[1]Ученики!$B$1:$B$500)),ROW(F2))),"") -> 20 20 | I3: =IFERROR(INDEX([1]Ученики!$C$1:$C$500,_xlfn.AGGREGATE(15,6,ROW($A$1:$A$500)/ISNUMBER(SEARCH(" "&SUBSTITUTE(I$1," класс","")," "&[1]Ученики!$B$1:$B$500)),ROW(G2)))&" "&INDEX([1]Ученики!$D$1:$D$500,_xlfn.AGGREGATE(15,6,ROW($A$1:$A$500)/ISNUMBER(SEARCH(" "&SUBSTITUTE(I$1," класс","")," "&[1]Ученики!$B$1:$B$500)),ROW(G2))),"") -> 33 33 | J3: =IFERROR(INDEX([1]Ученики!$C$1:$C$500,_xlfn.AGGREGATE(15,6,ROW($A$1:$A$500)/ISNUMBER(SEARCH(" "&SUBSTITUTE(J$1," класс","")," "&[1]Ученики!$B$1:$B$500)),ROW(H2)))&" "&INDEX([1]Ученики!$D$1:$D$500,_xlfn.AGGREGATE(15,6,ROW($A$1:$A$500)/ISNUMBER(SEARCH(" "&SUBSTITUTE(J$1," класс","")," "&[1]Ученики!$B$1:$B$500)),ROW(H2))),"") -> 18 18 | ... U3: =IFERROR(INDEX([1]Ученики!$C$1:$C$500,_xlfn.AGGREGATE(15,6,ROW($A$1:$A$500)/ISNUMBER(SEARCH(" "&SUBSTITUTE(U$1," класс","")," "&[1]Ученики!$B$1:$B$500)),ROW(S2)))&" "&INDEX([1]Ученики!$D$1:$D$500,_xlfn.AGGREGATE(15,6,ROW($A$1:$A$500)/ISNUMBER(SEARCH(" "&SUBSTITUTE(U$1," класс","")," "&[1]Ученики!$B$1:$B$500)),ROW(S2))),"") -> 28 28
C4: =IFERROR(INDEX([1]Ученики!$C$1:$C$500,_xlfn.AGGREGATE(15,6,ROW($A$1:$A$500)/ISNUMBER(SEARCH(" "&SUBSTITUTE(C$1," класс","")," "&[1]Ученики!$B$1:$B$500)),ROW(A3)))&" "&INDEX([1]Ученики!$D$1:$D$500,_xlfn.AGGREGATE(15,6,ROW($A$1:$A$500)/ISNUMBER(SEARCH(" "&SUBSTITUTE(C$1," класс","")," "&[1]Ученики!$B$1:$B$500)),ROW(A3))),"") -> 41 41 | D4: =IFERROR(INDEX([1]Ученики!$C$1:$C$500,_xlfn.AGGREGATE(15,6,ROW($A$1:$A$500)/ISNUMBER(SEARCH(" "&SUBSTITUTE(D$1," класс","")," "&[1]Ученики!$B$1:$B$500)),ROW(B3)))&" "&INDEX([1]Ученики!$D$1:$D$500,_xlfn.AGGREGATE(15,6,ROW($A$1:$A$500)/ISNUMBER(SEARCH(" "&SUBSTITUTE(D$1," класс","")," "&[1]Ученики!$B$1:$B$500)),ROW(B3))),"") -> 38 38 | E4: =IFERROR(INDEX([1]Ученики!$C$1:$C$500,_xlfn.AGGREGATE(15,6,ROW($A$1:$A$500)/ISNUMBER(SEARCH(" "&SUBSTITUTE(E$1," класс","")," "&[1]Ученики!$B$1:$B$500)),ROW(C3)))&" "&INDEX([1]Ученики!$D$1:$D$500,_xlfn.AGGREGATE(15,6,ROW($A$1:$A$500)/ISNUMBER(SEARCH(" "&SUBSTITUTE(E$1," класс","")," "&[1]Ученики!$B$1:$B$500)),ROW(C3))),"") -> 49 49 | F4: =IFERROR(INDEX([1]Ученики!$C$1:$C$500,_xlfn.AGGREGATE(15,6,ROW($A$1:$A$500)/ISNUMBER(SEARCH(" "&SUBSTITUTE(F$1," класс","")," "&[1]Ученики!$B$1:$B$500)),ROW(D3)))&" "&INDEX([1]Ученики!$D$1:$D$500,_xlfn.AGGREGATE(15,6,ROW($A$1:$A$500)/ISNUMBER(SEARCH(" "&SUBSTITUTE(F$1," класс","")," "&[1]Ученики!$B$1:$B$500)),ROW(D3))),"") -> 57 57 | G4: =IFERROR(INDEX([1]Ученики!$C$1:$C$500,_xlfn.AGGREGATE(15,6,ROW($A$1:$A$500)/ISNUMBER(SEARCH(" "&SUBSTITUTE(G$1," класс","")," "&[1]Ученики!$B$1:$B$500)),ROW(E3)))&" "&INDEX([1]Ученики!$D$1:$D$500,_xlfn.AGGREGATE(15,6,ROW($A$1:$A$500)/ISNUMBER(SEARCH(" "&SUBSTITUTE(G$1," класс","")," "&[1]Ученики!$B$1:$B$500)),ROW(E3))),"") -> 32 32 | H4: =IFERROR(INDEX([1]Ученики!$C$1:$C$500,_xlfn.AGGREGATE(15,6,ROW($A$1:$A$500)/ISNUMBER(SEARCH(" "&SUBSTITUTE(H$1," класс","")," "&[1]Ученики!$B$1:$B$500)),ROW(F3)))&" "&INDEX([1]Ученики!$D$1:$D$500,_xlfn.AGGREGATE(15,6,ROW($A$1:$A$500)/ISNUMBER(SEARCH(" "&SUBSTITUTE(H$1," класс","")," "&[1]Ученики!$B$1:$B$500)),ROW(F3))),"") -> 35 35 | I4: =IFERROR(INDEX([1]Ученики!$C$1:$C$500,_xlfn.AGGREGATE(15,6,ROW($A$1:$A$500)/ISNUMBER(SEARCH(" "&SUBSTITUTE(I$1," класс","")," "&[1]Ученики!$B$1:$B$500)),ROW(G3)))&" "&INDEX([1]Ученики!$D$1:$D$500,_xlfn.AGGREGATE(15,6,ROW($A$1:$A$500)/ISNUMBER(SEARCH(" "&SUBSTITUTE(I$1," класс","")," "&[1]Ученики!$B$1:$B$500)),ROW(G3))),"") -> 81 81 | J4: =IFERROR(INDEX([1]Ученики!$C$1:$C$500,_xlfn.AGGREGATE(15,6,ROW($A$1:$A$500)/ISNUMBER(SEARCH(" "&SUBSTITUTE(J$1," класс","")," "&[1]Ученики!$B$1:$B$500)),ROW(H3)))&" "&INDEX([1]Ученики!$D$1:$D$500,_xlfn.AGGREGATE(15,6,ROW($A$1:$A$500)/ISNUMBER(SEARCH(" "&SUBSTITUTE(J$1," класс","")," "&[1]Ученики!$B$1:$B$500)),ROW(H3))),"") -> 86 86 | ... U4: =IFERROR(INDEX([1]Ученики!$C$1:$C$500,_xlfn.AGGREGATE(15,6,ROW($A$1:$A$500)/ISNUMBER(SEARCH(" "&SUBSTITUTE(U$1," класс","")," "&[1]Ученики!$B$1:$B$500)),ROW(S3)))&" "&INDEX([1]Ученики!$D$1:$D$500,_xlfn.AGGREGATE(15,6,ROW($A$1:$A$500)/ISNUMBER(SEARCH(" "&SUBSTITUTE(U$1," класс","")," "&[1]Ученики!$B$1:$B$500)),ROW(S3))),"") -> 42 42
C5: =IFERROR(INDEX([1]Ученики!$C$1:$C$500,_xlfn.AGGREGATE(15,6,ROW($A$1:$A$500)/ISNUMBER(SEARCH(" "&SUBSTITUTE(C$1," класс","")," "&[1]Ученики!$B$1:$B$500)),ROW(A4)))&" "&INDEX([1]Ученики!$D$1:$D$500,_xlfn.AGGREGATE(15,6,ROW($A$1:$A$500)/ISNUMBER(SEARCH(" "&SUBSTITUTE(C$1," класс","")," "&[1]Ученики!$B$1:$B$500)),ROW(A4))),"") -> 90 90 | D5: =IFERROR(INDEX([1]Ученики!$C$1:$C$500,_xlfn.AGGREGATE(15,6,ROW($A$1:$A$500)/ISNUMBER(SEARCH(" "&SUBSTITUTE(D$1," класс","")," "&[1]Ученики!$B$1:$B$500)),ROW(B4)))&" "&INDEX([1]Ученики!$D$1:$D$500,_xlfn.AGGREGATE(15,6,ROW($A$1:$A$500)/ISNUMBER(SEARCH(" "&SUBSTITUTE(D$1," класс","")," "&[1]Ученики!$B$1:$B$500)),ROW(B4))),"") -> 83 83 | E5: =IFERROR(INDEX([1]Ученики!$C$1:$C$500,_xlfn.AGGREGATE(15,6,ROW($A$1:$A$500)/ISNUMBER(SEARCH(" "&SUBSTITUTE(E$1," класс","")," "&[1]Ученики!$B$1:$B$500)),ROW(C4)))&" "&INDEX([1]Ученики!$D$1:$D$500,_xlfn.AGGREGATE(15,6,ROW($A$1:$A$500)/ISNUMBER(SEARCH(" "&SUBSTITUTE(E$1," класс","")," "&[1]Ученики!$B$1:$B$500)),ROW(C4))),"") -> 59 59 | F5: =IFERROR(INDEX([1]Ученики!$C$1:$C$500,_xlfn.AGGREGATE(15,6,ROW($A$1:$A$500)/ISNUMBER(SEARCH(" "&SUBSTITUTE(F$1," класс","")," "&[1]Ученики!$B$1:$B$500)),ROW(D4)))&" "&INDEX([1]Ученики!$D$1:$D$500,_xlfn.AGGREGATE(15,6,ROW($A$1:$A$500)/ISNUMBER(SEARCH(" "&SUBSTITUTE(F$1," класс","")," "&[1]Ученики!$B$1:$B$500)),ROW(D4))),"") -> 75 75 | G5: =IFERROR(INDEX([1]Ученики!$C$1:$C$500,_xlfn.AGGREGATE(15,6,ROW($A$1:$A$500)/ISNUMBER(SEARCH(" "&SUBSTITUTE(G$1," класс","")," "&[1]Ученики!$B$1:$B$500)),ROW(E4)))&" "&INDEX([1]Ученики!$D$1:$D$500,_xlfn.AGGREGATE(15,6,ROW($A$1:$A$500)/ISNUMBER(SEARCH(" "&SUBSTITUTE(G$1," класс","")," "&[1]Ученики!$B$1:$B$500)),ROW(E4))),"") -> 37 37 | H5: =IFERROR(INDEX([1]Ученики!$C$1:$C$500,_xlfn.AGGREGATE(15,6,ROW($A$1:$A$500)/ISNUMBER(SEARCH(" "&SUBSTITUTE(H$1," класс","")," "&[1]Ученики!$B$1:$B$500)),ROW(F4)))&" "&INDEX([1]Ученики!$D$1:$D$500,_xlfn.AGGREGATE(15,6,ROW($A$1:$A$500)/ISNUMBER(SEARCH(" "&SUBSTITUTE(H$1," класс","")," "&[1]Ученики!$B$1:$B$500)),ROW(F4))),"") -> 64 64 | I5: =IFERROR(INDEX([1]Ученики!$C$1:$C$500,_xlfn.AGGREGATE(15,6,ROW($A$1:$A$500)/ISNUMBER(SEARCH(" "&SUBSTITUTE(I$1," класс","")," "&[1]Ученики!$B$1:$B$500)),ROW(G4)))&" "&INDEX([1]Ученики!$D$1:$D$500,_xlfn.AGGREGATE(15,6,ROW($A$1:$A$500)/ISNUMBER(SEARCH(" "&SUBSTITUTE(I$1," класс","")," "&[1]Ученики!$B$1:$B$500)),ROW(G4))),"") -> 98 98 | J5: =IFERROR(INDEX([1]Ученики!$C$1:$C$500,_xlfn.AGGREGATE(15,6,ROW($A$1:$A$500)/ISNUMBER(SEARCH(" "&SUBSTITUTE(J$1," класс","")," "&[1]Ученики!$B$1:$B$500)),ROW(H4)))&" "&INDEX([1]Ученики!$D$1:$D$500,_xlfn.AGGREGATE(15,6,ROW($A$1:$A$500)/ISNUMBER(SEARCH(" "&SUBSTITUTE(J$1," класс","")," "&[1]Ученики!$B$1:$B$500)),ROW(H4))),"") -> 89 89 | ... U5: =IFERROR(INDEX([1]Ученики!$C$1:$C$500,_xlfn.AGGREGATE(15,6,ROW($A$1:$A$500)/ISNUMBER(SEARCH(" "&SUBSTITUTE(U$1," класс","")," "&[1]Ученики!$B$1:$B$500)),ROW(S4)))&" "&INDEX([1]Ученики!$D$1:$D$500,_xlfn.AGGREGATE(15,6,ROW($A$1:$A$500)/ISNUMBER(SEARCH(" "&SUBSTITUTE(U$1," класс","")," "&[1]Ученики!$B$1:$B$500)),ROW(S4))),"") -> 56 56
C6: =IFERROR(INDEX([1]Ученики!$C$1:$C$500,_xlfn.AGGREGATE(15,6,ROW($A$1:$A$500)/ISNUMBER(SEARCH(" "&SUBSTITUTE(C$1," класс","")," "&[1]Ученики!$B$1:$B$500)),ROW(A5)))&" "&INDEX([1]Ученики!$D$1:$D$500,_xlfn.AGGREGATE(15,6,ROW($A$1:$A$500)/ISNUMBER(SEARCH(" "&SUBSTITUTE(C$1," класс","")," "&[1]Ученики!$B$1:$B$500)),ROW(A5))),"") -> 101 101 | D6: =IFERROR(INDEX([1]Ученики!$C$1:$C$500,_xlfn.AGGREGATE(15,6,ROW($A$1:$A$500)/ISNUMBER(SEARCH(" "&SUBSTITUTE(D$1," класс","")," "&[1]Ученики!$B$1:$B$500)),ROW(B5)))&" "&INDEX([1]Ученики!$D$1:$D$500,_xlfn.AGGREGATE(15,6,ROW($A$1:$A$500)/ISNUMBER(SEARCH(" "&SUBSTITUTE(D$1," класс","")," "&[1]Ученики!$B$1:$B$500)),ROW(B5))),"") -> 91 91 | E6: =IFERROR(INDEX([1]Ученики!$C$1:$C$500,_xlfn.AGGREGATE(15,6,ROW($A$1:$A$500)/ISNUMBER(SEARCH(" "&SUBSTITUTE(E$1," класс","")," "&[1]Ученики!$B$1:$B$500)),ROW(C5)))&" "&INDEX([1]Ученики!$D$1:$D$500,_xlfn.AGGREGATE(15,6,ROW($A$1:$A$500)/ISNUMBER(SEARCH(" "&SUBSTITUTE(E$1," класс","")," "&[1]Ученики!$B$1:$B$500)),ROW(C5))),"") -> 72 72 | F6: =IFERROR(INDEX([1]Ученики!$C$1:$C$500,_xlfn.AGGREGATE(15,6,ROW($A$1:$A$500)/ISNUMBER(SEARCH(" "&SUBSTITUTE(F$1," класс","")," "&[1]Ученики!$B$1:$B$500)),ROW(D5)))&" "&INDEX([1]Ученики!$D$1:$D$500,_xlfn.AGGREGATE(15,6,ROW($A$1:$A$500)/ISNUMBER(SEARCH(" "&SUBSTITUTE(F$1," класс","")," "&[1]Ученики!$B$1:$B$500)),ROW(D5))),"") -> 119 119 | G6: =IFERROR(INDEX([1]Ученики!$C$1:$C$500,_xlfn.AGGREGATE(15,6,ROW($A$1:$A$500)/ISNUMBER(SEARCH(" "&SUBSTITUTE(G$1," класс","")," "&[1]Ученики!$B$1:$B$500)),ROW(E5)))&" "&INDEX([1]Ученики!$D$1:$D$500,_xlfn.AGGREGATE(15,6,ROW($A$1:$A$500)/ISNUMBER(SEARCH(" "&SUBSTITUTE(G$1," класс","")," "&[1]Ученики!$B$1:$B$500)),ROW(E5))),"") -> 66 66 | H6: =IFERROR(INDEX([1]Ученики!$C$1:$C$500,_xlfn.AGGREGATE(15,6,ROW($A$1:$A$500)/ISNUMBER(SEARCH(" "&SUBSTITUTE(H$1," класс","")," "&[1]Ученики!$B$1:$B$500)),ROW(F5)))&" "&INDEX([1]Ученики!$D$1:$D$500,_xlfn.AGGREGATE(15,6,ROW($A$1:$A$500)/ISNUMBER(SEARCH(" "&SUBSTITUTE(H$1," класс","")," "&[1]Ученики!$B$1:$B$500)),ROW(F5))),"") -> 69 69 | I6: =IFERROR(INDEX([1]Ученики!$C$1:$C$500,_xlfn.AGGREGATE(15,6,ROW($A$1:$A$500)/ISNUMBER(SEARCH(" "&SUBSTITUTE(I$1," класс","")," "&[1]Ученики!$B$1:$B$500)),ROW(G5)))&" "&INDEX([1]Ученики!$D$1:$D$500,_xlfn.AGGREGATE(15,6,ROW($A$1:$A$500)/ISNUMBER(SEARCH(" "&SUBSTITUTE(I$1," класс","")," "&[1]Ученики!$B$1:$B$500)),ROW(G5))),"") -> 128 128 | J6: =IFERROR(INDEX([1]Ученики!$C$1:$C$500,_xlfn.AGGREGATE(15,6,ROW($A$1:$A$500)/ISNUMBER(SEARCH(" "&SUBSTITUTE(J$1," класс","")," "&[1]Ученики!$B$1:$B$500)),ROW(H5)))&" "&INDEX([1]Ученики!$D$1:$D$500,_xlfn.AGGREGATE(15,6,ROW($A$1:$A$500)/ISNUMBER(SEARCH(" "&SUBSTITUTE(J$1," класс","")," "&[1]Ученики!$B$1:$B$500)),ROW(H5))),"") -> 99 99 | ... U6: =IFERROR(INDEX([1]Ученики!$C$1:$C$500,_xlfn.AGGREGATE(15,6,ROW($A$1:$A$500)/ISNUMBER(SEARCH(" "&SUBSTITUTE(U$1," класс","")," "&[1]Ученики!$B$1:$B$500)),ROW(S5)))&" "&INDEX([1]Ученики!$D$1:$D$500,_xlfn.AGGREGATE(15,6,ROW($A$1:$A$500)/ISNUMBER(SEARCH(" "&SUBSTITUTE(U$1," класс","")," "&[1]Ученики!$B$1:$B$500)),ROW(S5))),"") -> 84 84
C7: =IFERROR(INDEX([1]Ученики!$C$1:$C$500,_xlfn.AGGREGATE(15,6,ROW($A$1:$A$500)/ISNUMBER(SEARCH(" "&SUBSTITUTE(C$1," класс","")," "&[1]Ученики!$B$1:$B$500)),ROW(A6)))&" "&INDEX([1]Ученики!$D$1:$D$500,_xlfn.AGGREGATE(15,6,ROW($A$1:$A$500)/ISNUMBER(SEARCH(" "&SUBSTITUTE(C$1," класс","")," "&[1]Ученики!$B$1:$B$500)),ROW(A6))),"") -> 133 133 | D7: =IFERROR(INDEX([1]Ученики!$C$1:$C$500,_xlfn.AGGREGATE(15,6,ROW($A$1:$A$500)/ISNUMBER(SEARCH(" "&SUBSTITUTE(D$1," класс","")," "&[1]Ученики!$B$1:$B$500)),ROW(B6)))&" "&INDEX([1]Ученики!$D$1:$D$500,_xlfn.AGGREGATE(15,6,ROW($A$1:$A$500)/ISNUMBER(SEARCH(" "&SUBSTITUTE(D$1," класс","")," "&[1]Ученики!$B$1:$B$500)),ROW(B6))),"") -> 129 129 | E7: =IFERROR(INDEX([1]Ученики!$C$1:$C$500,_xlfn.AGGREGATE(15,6,ROW($A$1:$A$500)/ISNUMBER(SEARCH(" "&SUBSTITUTE(E$1," класс","")," "&[1]Ученики!$B$1:$B$500)),ROW(C6)))&" "&INDEX([1]Ученики!$D$1:$D$500,_xlfn.AGGREGATE(15,6,ROW($A$1:$A$500)/ISNUMBER(SEARCH(" "&SUBSTITUTE(E$1," класс","")," "&[1]Ученики!$B$1:$B$500)),ROW(C6))),"") -> 146 146 | F7: =IFERROR(INDEX([1]Ученики!$C$1:$C$500,_xlfn.AGGREGATE(15,6,ROW($A$1:$A$500)/ISNUMBER(SEARCH(" "&SUBSTITUTE(F$1," класс","")," "&[1]Ученики!$B$1:$B$500)),ROW(D6)))&" "&INDEX([1]Ученики!$D$1:$D$500,_xlfn.AGGREGATE(15,6,ROW($A$1:$A$500)/ISNUMBER(SEARCH(" "&SUBSTITUTE(F$1," класс","")," "&[1]Ученики!$B$1:$B$500)),ROW(D6))),"") -> 122 122 | G7: =IFERROR(INDEX([1]Ученики!$C$1:$C$500,_xlfn.AGGREGATE(15,6,ROW($A$1:$A$500)/ISNUMBER(SEARCH(" "&SUBSTITUTE(G$1," класс","")," "&[1]Ученики!$B$1:$B$500)),ROW(E6)))&" "&INDEX([1]Ученики!$D$1:$D$500,_xlfn.AGGREGATE(15,6,ROW($A$1:$A$500)/ISNUMBER(SEARCH(" "&SUBSTITUTE(G$1," класс","")," "&[1]Ученики!$B$1:$B$500)),ROW(E6))),"") -> 93 93 | H7: =IFERROR(INDEX([1]Ученики!$C$1:$C$500,_xlfn.AGGREGATE(15,6,ROW($A$1:$A$500)/ISNUMBER(SEARCH(" "&SUBSTITUTE(H$1," класс","")," "&[1]Ученики!$B$1:$B$500)),ROW(F6)))&" "&INDEX([1]Ученики!$D$1:$D$500,_xlfn.AGGREGATE(15,6,ROW($A$1:$A$500)/ISNUMBER(SEARCH(" "&SUBSTITUTE(H$1," класс","")," "&[1]Ученики!$B$1:$B$500)),ROW(F6))),"") -> 78 78 | I7: =IFERROR(INDEX([1]Ученики!$C$1:$C$500,_xlfn.AGGREGATE(15,6,ROW($A$1:$A$500)/ISNUMBER(SEARCH(" "&SUBSTITUTE(I$1," класс","")," "&[1]Ученики!$B$1:$B$500)),ROW(G6)))&" "&INDEX([1]Ученики!$D$1:$D$500,_xlfn.AGGREGATE(15,6,ROW($A$1:$A$500)/ISNUMBER(SEARCH(" "&SUBSTITUTE(I$1," класс","")," "&[1]Ученики!$B$1:$B$500)),ROW(G6))),"") -> 160 160 | J7: =IFERROR(INDEX([1]Ученики!$C$1:$C$500,_xlfn.AGGREGATE(15,6,ROW($A$1:$A$500)/ISNUMBER(SEARCH(" "&SUBSTITUTE(J$1," класс","")," "&[1]Ученики!$B$1:$B$500)),ROW(H6)))&" "&INDEX([1]Ученики!$D$1:$D$500,_xlfn.AGGREGATE(15,6,ROW($A$1:$A$500)/ISNUMBER(SEARCH(" "&SUBSTITUTE(J$1," класс","")," "&[1]Ученики!$B$1:$B$500)),ROW(H6))),"") -> 114 114 | ... U7: =IFERROR(INDEX([1]Ученики!$C$1:$C$500,_xlfn.AGGREGATE(15,6,ROW($A$1:$A$500)/ISNUMBER(SEARCH(" "&SUBSTITUTE(U$1," класс","")," "&[1]Ученики!$B$1:$B$500)),ROW(S6)))&" "&INDEX([1]Ученики!$D$1:$D$500,_xlfn.AGGREGATE(15,6,ROW($A$1:$A$500)/ISNUMBER(SEARCH(" "&SUBSTITUTE(U$1," класс","")," "&[1]Ученики!$B$1:$B$500)),ROW(S6))),"") -> 97 97
C8: =IFERROR(INDEX([1]Ученики!$C$1:$C$500,_xlfn.AGGREGATE(15,6,ROW($A$1:$A$500)/ISNUMBER(SEARCH(" "&SUBSTITUTE(C$1," класс","")," "&[1]Ученики!$B$1:$B$500)),ROW(A7)))&" "&INDEX([1]Ученики!$D$1:$D$500,_xlfn.AGGREGATE(15,6,ROW($A$1:$A$500)/ISNUMBER(SEARCH(" "&SUBSTITUTE(C$1," класс","")," "&[1]Ученики!$B$1:$B$500)),ROW(A7))),"") -> 209 209 | D8: =IFERROR(INDEX([1]Ученики!$C$1:$C$500,_xlfn.AGGREGATE(15,6,ROW($A$1:$A$500)/ISNUMBER(SEARCH(" "&SUBSTITUTE(D$1," класс","")," "&[1]Ученики!$B$1:$B$500)),ROW(B7)))&" "&INDEX([1]Ученики!$D$1:$D$500,_xlfn.AGGREGATE(15,6,ROW($A$1:$A$500)/ISNUMBER(SEARCH(" "&SUBSTITUTE(D$1," класс","")," "&[1]Ученики!$B$1:$B$500)),ROW(B7))),"") -> 179 179 | E8: =IFERROR(INDEX([1]Ученики!$C$1:$C$500,_xlfn.AGGREGATE(15,6,ROW($A$1:$A$500)/ISNUMBER(SEARCH(" "&SUBSTITUTE(E$1," класс","")," "&[1]Ученики!$B$1:$B$500)),ROW(C7)))&" "&INDEX([1]Ученики!$D$1:$D$500,_xlfn.AGGREGATE(15,6,ROW($A$1:$A$500)/ISNUMBER(SEARCH(" "&SUBSTITUTE(E$1," класс","")," "&[1]Ученики!$B$1:$B$500)),ROW(C7))),"") -> 158 158 | F8: =IFERROR(INDEX([1]Ученики!$C$1:$C$500,_xlfn.AGGREGATE(15,6,ROW($A$1:$A$500)/ISNUMBER(SEARCH(" "&SUBSTITUTE(F$1," класс","")," "&[1]Ученики!$B$1:$B$500)),ROW(D7)))&" "&INDEX([1]Ученики!$D$1:$D$500,_xlfn.AGGREGATE(15,6,ROW($A$1:$A$500)/ISNUMBER(SEARCH(" "&SUBSTITUTE(F$1," класс","")," "&[1]Ученики!$B$1:$B$500)),ROW(D7))),"") -> 134 134 | G8: =IFERROR(INDEX([1]Ученики!$C$1:$C$500,_xlfn.AGGREGATE(15,6,ROW($A$1:$A$500)/ISNUMBER(SEARCH(" "&SUBSTITUTE(G$1," класс","")," "&[1]Ученики!$B$1:$B$500)),ROW(E7)))&" "&INDEX([1]Ученики!$D$1:$D$500,_xlfn.AGGREGATE(15,6,ROW($A$1:$A$500)/ISNUMBER(SEARCH(" "&SUBSTITUTE(G$1," класс","")," "&[1]Ученики!$B$1:$B$500)),ROW(E7))),"") -> 104 104 | H8: =IFERROR(INDEX([1]Ученики!$C$1:$C$500,_xlfn.AGGREGATE(15,6,ROW($A$1:$A$500)/ISNUMBER(SEARCH(" "&SUBSTITUTE(H$1," класс","")," "&[1]Ученики!$B$1:$B$500)),ROW(F7)))&" "&INDEX([1]Ученики!$D$1:$D$500,_xlfn.AGGREGATE(15,6,ROW($A$1:$A$500)/ISNUMBER(SEARCH(" "&SUBSTITUTE(H$1," класс","")," "&[1]Ученики!$B$1:$B$500)),ROW(F7))),"") -> 88 88 | I8: =IFERROR(INDEX([1]Ученики!$C$1:$C$500,_xlfn.AGGREGATE(15,6,ROW($A$1:$A$500)/ISNUMBER(SEARCH(" "&SUBSTITUTE(I$1," класс","")," "&[1]Ученики!$B$1:$B$500)),ROW(G7)))&" "&INDEX([1]Ученики!$D$1:$D$500,_xlfn.AGGREGATE(15,6,ROW($A$1:$A$500)/ISNUMBER(SEARCH(" "&SUBSTITUTE(I$1," класс","")," "&[1]Ученики!$B$1:$B$500)),ROW(G7))),"") -> 163 163 | J8: =IFERROR(INDEX([1]Ученики!$C$1:$C$500,_xlfn.AGGREGATE(15,6,ROW($A$1:$A$500)/ISNUMBER(SEARCH(" "&SUBSTITUTE(J$1," класс","")," "&[1]Ученики!$B$1:$B$500)),ROW(H7)))&" "&INDEX([1]Ученики!$D$1:$D$500,_xlfn.AGGREGATE(15,6,ROW($A$1:$A$500)/ISNUMBER(SEARCH(" "&SUBSTITUTE(J$1," класс","")," "&[1]Ученики!$B$1:$B$500)),ROW(H7))),"") -> 115 115 | ... U8: =IFERROR(INDEX([1]Ученики!$C$1:$C$500,_xlfn.AGGREGATE(15,6,ROW($A$1:$A$500)/ISNUMBER(SEARCH(" "&SUBSTITUTE(U$1," класс","")," "&[1]Ученики!$B$1:$B$500)),ROW(S7)))&" "&INDEX([1]Ученики!$D$1:$D$500,_xlfn.AGGREGATE(15,6,ROW($A$1:$A$500)/ISNUMBER(SEARCH(" "&SUBSTITUTE(U$1," класс","")," "&[1]Ученики!$B$1:$B$500)),ROW(S7))),"") -> 103 103
C9: =IFERROR(INDEX([1]Ученики!$C$1:$C$500,_xlfn.AGGREGATE(15,6,ROW($A$1:$A$500)/ISNUMBER(SEARCH(" "&SUBSTITUTE(C$1," класс","")," "&[1]Ученики!$B$1:$B$500)),ROW(A8)))&" "&INDEX([1]Ученики!$D$1:$D$500,_xlfn.AGGREGATE(15,6,ROW($A$1:$A$500)/ISNUMBER(SEARCH(" "&SUBSTITUTE(C$1," класс","")," "&[1]Ученики!$B$1:$B$500)),ROW(A8))),"") -> 218 218 | D9: =IFERROR(INDEX([1]Ученики!$C$1:$C$500,_xlfn.AGGREGATE(15,6,ROW($A$1:$A$500)/ISNUMBER(SEARCH(" "&SUBSTITUTE(D$1," класс","")," "&[1]Ученики!$B$1:$B$500)),ROW(B8)))&" "&INDEX([1]Ученики!$D$1:$D$500,_xlfn.AGGREGATE(15,6,ROW($A$1:$A$500)/ISNUMBER(SEARCH(" "&SUBSTITUTE(D$1," класс","")," "&[1]Ученики!$B$1:$B$500)),ROW(B8))),"") -> 200 200 | E9: =IFERROR(INDEX([1]Ученики!$C$1:$C$500,_xlfn.AGGREGATE(15,6,ROW($A$1:$A$500)/ISNUMBER(SEARCH(" "&SUBSTITUTE(E$1," класс","")," "&[1]Ученики!$B$1:$B$500)),ROW(C8)))&" "&INDEX([1]Ученики!$D$1:$D$500,_xlfn.AGGREGATE(15,6,ROW($A$1:$A$500)/ISNUMBER(SEARCH(" "&SUBSTITUTE(E$1," класс","")," "&[1]Ученики!$B$1:$B$500)),ROW(C8))),"") -> 159 159 | F9: =IFERROR(INDEX([1]Ученики!$C$1:$C$500,_xlfn.AGGREGATE(15,6,ROW($A$1:$A$500)/ISNUMBER(SEARCH(" "&SUBSTITUTE(F$1," класс","")," "&[1]Ученики!$B$1:$B$500)),ROW(D8)))&" "&INDEX([1]Ученики!$D$1:$D$500,_xlfn.AGGREGATE(15,6,ROW($A$1:$A$500)/ISNUMBER(SEARCH(" "&SUBSTITUTE(F$1," класс","")," "&[1]Ученики!$B$1:$B$500)),ROW(D8))),"") -> 162 162 | G9: =IFERROR(INDEX([1]Ученики!$C$1:$C$500,_xlfn.AGGREGATE(15,6,ROW($A$1:$A$500)/ISNUMBER(SEARCH(" "&SUBSTITUTE(G$1," класс","")," "&[1]Ученики!$B$1:$B$500)),ROW(E8)))&" "&INDEX([1]Ученики!$D$1:$D$500,_xlfn.AGGREGATE(15,6,ROW($A$1:$A$500)/ISNUMBER(SEARCH(" "&SUBSTITUTE(G$1," класс","")," "&[1]Ученики!$B$1:$B$500)),ROW(E8))),"") -> 106 106 | H9: =IFERROR(INDEX([1]Ученики!$C$1:$C$500,_xlfn.AGGREGATE(15,6,ROW($A$1:$A$500)/ISNUMBER(SEARCH(" "&SUBSTITUTE(H$1," класс","")," "&[1]Ученики!$B$1:$B$500)),ROW(F8)))&" "&INDEX([1]Ученики!$D$1:$D$500,_xlfn.AGGREGATE(15,6,ROW($A$1:$A$500)/ISNUMBER(SEARCH(" "&SUBSTITUTE(H$1," класс","")," "&[1]Ученики!$B$1:$B$500)),ROW(F8))),"") -> 109 109 | I9: =IFERROR(INDEX([1]Ученики!$C$1:$C$500,_xlfn.AGGREGATE(15,6,ROW($A$1:$A$500)/ISNUMBER(SEARCH(" "&SUBSTITUTE(I$1," класс","")," "&[1]Ученики!$B$1:$B$500)),ROW(G8)))&" "&INDEX([1]Ученики!$D$1:$D$500,_xlfn.AGGREGATE(15,6,ROW($A$1:$A$500)/ISNUMBER(SEARCH(" "&SUBSTITUTE(I$1," класс","")," "&[1]Ученики!$B$1:$B$500)),ROW(G8))),"") -> 189 189 | J9: =IFERROR(INDEX([1]Ученики!$C$1:$C$500,_xlfn.AGGREGATE(15,6,ROW($A$1:$A$500)/ISNUMBER(SEARCH(" "&SUBSTITUTE(J$1," класс","")," "&[1]Ученики!$B$1:$B$500)),ROW(H8)))&" "&INDEX([1]Ученики!$D$1:$D$500,_xlfn.AGGREGATE(15,6,ROW($A$1:$A$500)/ISNUMBER(SEARCH(" "&SUBSTITUTE(J$1," класс","")," "&[1]Ученики!$B$1:$B$500)),ROW(H8))),"") -> 125 125 | ... U9: =IFERROR(INDEX([1]Ученики!$C$1:$C$500,_xlfn.AGGREGATE(15,6,ROW($A$1:$A$500)/ISNUMBER(SEARCH(" "&SUBSTITUTE(U$1," класс","")," "&[1]Ученики!$B$1:$B$500)),ROW(S8)))&" "&INDEX([1]Ученики!$D$1:$D$500,_xlfn.AGGREGATE(15,6,ROW($A$1:$A$500)/ISNUMBER(SEARCH(" "&SUBSTITUTE(U$1," класс","")," "&[1]Ученики!$B$1:$B$500)),ROW(S8))),"") -> 135 135
C10: =IFERROR(INDEX([1]Ученики!$C$1:$C$500,_xlfn.AGGREGATE(15,6,ROW($A$1:$A$500)/ISNUMBER(SEARCH(" "&SUBSTITUTE(C$1," класс","")," "&[1]Ученики!$B$1:$B$500)),ROW(A9)))&" "&INDEX([1]Ученики!$D$1:$D$500,_xlfn.AGGREGATE(15,6,ROW($A$1:$A$500)/ISNUMBER(SEARCH(" "&SUBSTITUTE(C$1," класс","")," "&[1]Ученики!$B$1:$B$500)),ROW(A9))),"") -> 268 268 | D10: =IFERROR(INDEX([1]Ученики!$C$1:$C$500,_xlfn.AGGREGATE(15,6,ROW($A$1:$A$500)/ISNUMBER(SEARCH(" "&SUBSTITUTE(D$1," класс","")," "&[1]Ученики!$B$1:$B$500)),ROW(B9)))&" "&INDEX([1]Ученики!$D$1:$D$500,_xlfn.AGGREGATE(15,6,ROW($A$1:$A$500)/ISNUMBER(SEARCH(" "&SUBSTITUTE(D$1," класс","")," "&[1]Ученики!$B$1:$B$500)),ROW(B9))),"") -> 227 227 | E10: =IFERROR(INDEX([1]Ученики!$C$1:$C$500,_xlfn.AGGREGATE(15,6,ROW($A$1:$A$500)/ISNUMBER(SEARCH(" "&SUBSTITUTE(E$1," класс","")," "&[1]Ученики!$B$1:$B$500)),ROW(C9)))&" "&INDEX([1]Ученики!$D$1:$D$500,_xlfn.AGGREGATE(15,6,ROW($A$1:$A$500)/ISNUMBER(SEARCH(" "&SUBSTITUTE(E$1," класс","")," "&[1]Ученики!$B$1:$B$500)),ROW(C9))),"") -> 164 164 | F10: =IFERROR(INDEX([1]Ученики!$C$1:$C$500,_xlfn.AGGREGATE(15,6,ROW($A$1:$A$500)/ISNUMBER(SEARCH(" "&SUBSTITUTE(F$1," класс","")," "&[1]Ученики!$B$1:$B$500)),ROW(D9)))&" "&INDEX([1]Ученики!$D$1:$D$500,_xlfn.AGGREGATE(15,6,ROW($A$1:$A$500)/ISNUMBER(SEARCH(" "&SUBSTITUTE(F$1," класс","")," "&[1]Ученики!$B$1:$B$500)),ROW(D9))),"") -> 168 168 | G10: =IFERROR(INDEX([1]Ученики!$C$1:$C$500,_xlfn.AGGREGATE(15,6,ROW($A$1:$A$500)/ISNUMBER(SEARCH(" "&SUBSTITUTE(G$1," класс","")," "&[1]Ученики!$B$1:$B$500)),ROW(E9)))&" "&INDEX([1]Ученики!$D$1:$D$500,_xlfn.AGGREGATE(15,6,ROW($A$1:$A$500)/ISNUMBER(SEARCH(" "&SUBSTITUTE(G$1," класс","")," "&[1]Ученики!$B$1:$B$500)),ROW(E9))),"") -> 138 138 | H10: =IFERROR(INDEX([1]Ученики!$C$1:$C$500,_xlfn.AGGREGATE(15,6,ROW($A$1:$A$500)/ISNUMBER(SEARCH(" "&SUBSTITUTE(H$1," класс","")," "&[1]Ученики!$B$1:$B$500)),ROW(F9)))&" "&INDEX([1]Ученики!$D$1:$D$500,_xlfn.AGGREGATE(15,6,ROW($A$1:$A$500)/ISNUMBER(SEARCH(" "&SUBSTITUTE(H$1," класс","")," "&[1]Ученики!$B$1:$B$500)),ROW(F9))),"") -> 110 110 | I10: =IFERROR(INDEX([1]Ученики!$C$1:$C$500,_xlfn.AGGREGATE(15,6,ROW($A$1:$A$500)/ISNUMBER(SEARCH(" "&SUBSTITUTE(I$1," класс","")," "&[1]Ученики!$B$1:$B$500)),ROW(G9)))&" "&INDEX([1]Ученики!$D$1:$D$500,_xlfn.AGGREGATE(15,6,ROW($A$1:$A$500)/ISNUMBER(SEARCH(" "&SUBSTITUTE(I$1," класс","")," "&[1]Ученики!$B$1:$B$500)),ROW(G9))),"") -> 228 228 | J10: =IFERROR(INDEX([1]Ученики!$C$1:$C$500,_xlfn.AGGREGATE(15,6,ROW($A$1:$A$500)/ISNUMBER(SEARCH(" "&SUBSTITUTE(J$1," класс","")," "&[1]Ученики!$B$1:$B$500)),ROW(H9)))&" "&INDEX([1]Ученики!$D$1:$D$500,_xlfn.AGGREGATE(15,6,ROW($A$1:$A$500)/ISNUMBER(SEARCH(" "&SUBSTITUTE(J$1," класс","")," "&[1]Ученики!$B$1:$B$500)),ROW(H9))),"") -> 148 148 | ... U10: =IFERROR(INDEX([1]Ученики!$C$1:$C$500,_xlfn.AGGREGATE(15,6,ROW($A$1:$A$500)/ISNUMBER(SEARCH(" "&SUBSTITUTE(U$1," класс","")," "&[1]Ученики!$B$1:$B$500)),ROW(S9)))&" "&INDEX([1]Ученики!$D$1:$D$500,_xlfn.AGGREGATE(15,6,ROW($A$1:$A$500)/ISNUMBER(SEARCH(" "&SUBSTITUTE(U$1," класс","")," "&[1]Ученики!$B$1:$B$500)),ROW(S9))),"") -> 136 136
C11: =IFERROR(INDEX([1]Ученики!$C$1:$C$500,_xlfn.AGGREGATE(15,6,ROW($A$1:$A$500)/ISNUMBER(SEARCH(" "&SUBSTITUTE(C$1," класс","")," "&[1]Ученики!$B$1:$B$500)),ROW(A10)))&" "&INDEX([1]Ученики!$D$1:$D$500,_xlfn.AGGREGATE(15,6,ROW($A$1:$A$500)/ISNUMBER(SEARCH(" "&SUBSTITUTE(C$1," класс","")," "&[1]Ученики!$B$1:$B$500)),ROW(A10))),"") -> 279 279 | D11: =IFERROR(INDEX([1]Ученики!$C$1:$C$500,_xlfn.AGGREGATE(15,6,ROW($A$1:$A$500)/ISNUMBER(SEARCH(" "&SUBSTITUTE(D$1," класс","")," "&[1]Ученики!$B$1:$B$500)),ROW(B10)))&" "&INDEX([1]Ученики!$D$1:$D$500,_xlfn.AGGREGATE(15,6,ROW($A$1:$A$500)/ISNUMBER(SEARCH(" "&SUBSTITUTE(D$1," класс","")," "&[1]Ученики!$B$1:$B$500)),ROW(B10))),"") -> 243 243 | E11: =IFERROR(INDEX([1]Ученики!$C$1:$C$500,_xlfn.AGGREGATE(15,6,ROW($A$1:$A$500)/ISNUMBER(SEARCH(" "&SUBSTITUTE(E$1," класс","")," "&[1]Ученики!$B$1:$B$500)),ROW(C10)))&" "&INDEX([1]Ученики!$D$1:$D$500,_xlfn.AGGREGATE(15,6,ROW($A$1:$A$500)/ISNUMBER(SEARCH(" "&SUBSTITUTE(E$1," класс","")," "&[1]Ученики!$B$1:$B$500)),ROW(C10))),"") -> 215 215 | F11: =IFERROR(INDEX([1]Ученики!$C$1:$C$500,_xlfn.AGGREGATE(15,6,ROW($A$1:$A$500)/ISNUMBER(SEARCH(" "&SUBSTITUTE(F$1," класс","")," "&[1]Ученики!$B$1:$B$500)),ROW(D10)))&" "&INDEX([1]Ученики!$D$1:$D$500,_xlfn.AGGREGATE(15,6,ROW($A$1:$A$500)/ISNUMBER(SEARCH(" "&SUBSTITUTE(F$1," класс","")," "&[1]Ученики!$B$1:$B$500)),ROW(D10))),"") -> 181 181 | G11: =IFERROR(INDEX([1]Ученики!$C$1:$C$500,_xlfn.AGGREGATE(15,6,ROW($A$1:$A$500)/ISNUMBER(SEARCH(" "&SUBSTITUTE(G$1," класс","")," "&[1]Ученики!$B$1:$B$500)),ROW(E10)))&" "&INDEX([1]Ученики!$D$1:$D$500,_xlfn.AGGREGATE(15,6,ROW($A$1:$A$500)/ISNUMBER(SEARCH(" "&SUBSTITUTE(G$1," класс","")," "&[1]Ученики!$B$1:$B$500)),ROW(E10))),"") -> 169 169 | H11: =IFERROR(INDEX([1]Ученики!$C$1:$C$500,_xlfn.AGGREGATE(15,6,ROW($A$1:$A$500)/ISNUMBER(SEARCH(" "&SUBSTITUTE(H$1," класс","")," "&[1]Ученики!$B$1:$B$500)),ROW(F10)))&" "&INDEX([1]Ученики!$D$1:$D$500,_xlfn.AGGREGATE(15,6,ROW($A$1:$A$500)/ISNUMBER(SEARCH(" "&SUBSTITUTE(H$1," класс","")," "&[1]Ученики!$B$1:$B$500)),ROW(F10))),"") -> 121 121 | I11: =IFERROR(INDEX([1]Ученики!$C$1:$C$500,_xlfn.AGGREGATE(15,6,ROW($A$1:$A$500)/ISNUMBER(SEARCH(" "&SUBSTITUTE(I$1," класс","")," "&[1]Ученики!$B$1:$B$500)),ROW(G10)))&" "&INDEX([1]Ученики!$D$1:$D$500,_xlfn.AGGREGATE(15,6,ROW($A$1:$A$500)/ISNUMBER(SEARCH(" "&SUBSTITUTE(I$1," класс","")," "&[1]Ученики!$B$1:$B$500)),ROW(G10))),"") -> 262 262 | J11: =IFERROR(INDEX([1]Ученики!$C$1:$C$500,_xlfn.AGGREGATE(15,6,ROW($A$1:$A$500)/ISNUMBER(SEARCH(" "&SUBSTITUTE(J$1," класс","")," "&[1]Ученики!$B$1:$B$500)),ROW(H10)))&" "&INDEX([1]Ученики!$D$1:$D$500,_xlfn.AGGREGATE(15,6,ROW($A$1:$A$500)/ISNUMBER(SEARCH(" "&SUBSTITUTE(J$1," класс","")," "&[1]Ученики!$B$1:$B$500)),ROW(H10))),"") -> 173 173 | ... U11: =IFERROR(INDEX([1]Ученики!$C$1:$C$500,_xlfn.AGGREGATE(15,6,ROW($A$1:$A$500)/ISNUMBER(SEARCH(" "&SUBSTITUTE(U$1," класс","")," "&[1]Ученики!$B$1:$B$500)),ROW(S10)))&" "&INDEX([1]Ученики!$D$1:$D$500,_xlfn.AGGREGATE(15,6,ROW($A$1:$A$500)/ISNUMBER(SEARCH(" "&SUBSTITUTE(U$1," класс","")," "&[1]Ученики!$B$1:$B$500)),ROW(S10))),"") -> 139 139
C12: =IFERROR(INDEX([1]Ученики!$C$1:$C$500,_xlfn.AGGREGATE(15,6,ROW($A$1:$A$500)/ISNUMBER(SEARCH(" "&SUBSTITUTE(C$1," класс","")," "&[1]Ученики!$B$1:$B$500)),ROW(A11)))&" "&INDEX([1]Ученики!$D$1:$D$500,_xlfn.AGGREGATE(15,6,ROW($A$1:$A$500)/ISNUMBER(SEARCH(" "&SUBSTITUTE(C$1," класс","")," "&[1]Ученики!$B$1:$B$500)),ROW(A11))),"") -> 342 342 | D12: =IFERROR(INDEX([1]Ученики!$C$1:$C$500,_xlfn.AGGREGATE(15,6,ROW($A$1:$A$500)/ISNUMBER(SEARCH(" "&SUBSTITUTE(D$1," класс","")," "&[1]Ученики!$B$1:$B$500)),ROW(B11)))&" "&INDEX([1]Ученики!$D$1:$D$500,_xlfn.AGGREGATE(15,6,ROW($A$1:$A$500)/ISNUMBER(SEARCH(" "&SUBSTITUTE(D$1," класс","")," "&[1]Ученики!$B$1:$B$500)),ROW(B11))),"") -> 253 253 | E12: =IFERROR(INDEX([1]Ученики!$C$1:$C$500,_xlfn.AGGREGATE(15,6,ROW($A$1:$A$500)/ISNUMBER(SEARCH(" "&SUBSTITUTE(E$1," класс","")," "&[1]Ученики!$B$1:$B$500)),ROW(C11)))&" "&INDEX([1]Ученики!$D$1:$D$500,_xlfn.AGGREGATE(15,6,ROW($A$1:$A$500)/ISNUMBER(SEARCH(" "&SUBSTITUTE(E$1," класс","")," "&[1]Ученики!$B$1:$B$500)),ROW(C11))),"") -> 231 231 | F12: =IFERROR(INDEX([1]Ученики!$C$1:$C$500,_xlfn.AGGREGATE(15,6,ROW($A$1:$A$500)/ISNUMBER(SEARCH(" "&SUBSTITUTE(F$1," класс","")," "&[1]Ученики!$B$1:$B$500)),ROW(D11)))&" "&INDEX([1]Ученики!$D$1:$D$500,_xlfn.AGGREGATE(15,6,ROW($A$1:$A$500)/ISNUMBER(SEARCH(" "&SUBSTITUTE(F$1," класс","")," "&[1]Ученики!$B$1:$B$500)),ROW(D11))),"") -> 190 190 | G12: =IFERROR(INDEX([1]Ученики!$C$1:$C$500,_xlfn.AGGREGATE(15,6,ROW($A$1:$A$500)/ISNUMBER(SEARCH(" "&SUBSTITUTE(G$1," класс","")," "&[1]Ученики!$B$1:$B$500)),ROW(E11)))&" "&INDEX([1]Ученики!$D$1:$D$500,_xlfn.AGGREGATE(15,6,ROW($A$1:$A$500)/ISNUMBER(SEARCH(" "&SUBSTITUTE(G$1," класс","")," "&[1]Ученики!$B$1:$B$500)),ROW(E11))),"") -> 170 170 | H12: =IFERROR(INDEX([1]Ученики!$C$1:$C$500,_xlfn.AGGREGATE(15,6,ROW($A$1:$A$500)/ISNUMBER(SEARCH(" "&SUBSTITUTE(H$1," класс","")," "&[1]Ученики!$B$1:$B$500)),ROW(F11)))&" "&INDEX([1]Ученики!$D$1:$D$500,_xlfn.AGGREGATE(15,6,ROW($A$1:$A$500)/ISNUMBER(SEARCH(" "&SUBSTITUTE(H$1," класс","")," "&[1]Ученики!$B$1:$B$500)),ROW(F11))),"") -> 150 150 | I12: =IFERROR(INDEX([1]Ученики!$C$1:$C$500,_xlfn.AGGREGATE(15,6,ROW($A$1:$A$500)/ISNUMBER(SEARCH(" "&SUBSTITUTE(I$1," класс","")," "&[1]Ученики!$B$1:$B$500)),ROW(G11)))&" "&INDEX([1]Ученики!$D$1:$D$500,_xlfn.AGGREGATE(15,6,ROW($A$1:$A$500)/ISNUMBER(SEARCH(" "&SUBSTITUTE(I$1," класс","")," "&[1]Ученики!$B$1:$B$500)),ROW(G11))),"") -> 281 281 | J12: =IFERROR(INDEX([1]Ученики!$C$1:$C$500,_xlfn.AGGREGATE(15,6,ROW($A$1:$A$500)/ISNUMBER(SEARCH(" "&SUBSTITUTE(J$1," класс","")," "&[1]Ученики!$B$1:$B$500)),ROW(H11)))&" "&INDEX([1]Ученики!$D$1:$D$500,_xlfn.AGGREGATE(15,6,ROW($A$1:$A$500)/ISNUMBER(SEARCH(" "&SUBSTITUTE(J$1," класс","")," "&[1]Ученики!$B$1:$B$500)),ROW(H11))),"") -> 177 177 | ... U12: =IFERROR(INDEX([1]Ученики!$C$1:$C$500,_xlfn.AGGREGATE(15,6,ROW($A$1:$A$500)/ISNUMBER(SEARCH(" "&SUBSTITUTE(U$1," класс","")," "&[1]Ученики!$B$1:$B$500)),ROW(S11)))&" "&INDEX([1]Ученики!$D$1:$D$500,_xlfn.AGGREGATE(15,6,ROW($A$1:$A$500)/ISNUMBER(SEARCH(" "&SUBSTITUTE(U$1," класс","")," "&[1]Ученики!$B$1:$B$500)),ROW(S11))),"") -> 153 153
C13: =IFERROR(INDEX([1]Ученики!$C$1:$C$500,_xlfn.AGGREGATE(15,6,ROW($A$1:$A$500)/ISNUMBER(SEARCH(" "&SUBSTITUTE(C$1," класс","")," "&[1]Ученики!$B$1:$B$500)),ROW(A12)))&" "&INDEX([1]Ученики!$D$1:$D$500,_xlfn.AGGREGATE(15,6,ROW($A$1:$A$500)/ISNUMBER(SEARCH(" "&SUBSTITUTE(C$1," класс","")," "&[1]Ученики!$B$1:$B$500)),ROW(A12))),"") -> 343 343 | D13: =IFERROR(INDEX([1]Ученики!$C$1:$C$500,_xlfn.AGGREGATE(15,6,ROW($A$1:$A$500)/ISNUMBER(SEARCH(" "&SUBSTITUTE(D$1," класс","")," "&[1]Ученики!$B$1:$B$500)),ROW(B12)))&" "&INDEX([1]Ученики!$D$1:$D$500,_xlfn.AGGREGATE(15,6,ROW($A$1:$A$500)/ISNUMBER(SEARCH(" "&SUBSTITUTE(D$1," класс","")," "&[1]Ученики!$B$1:$B$500)),ROW(B12))),"") -> 290 290 | E13: =IFERROR(INDEX([1]Ученики!$C$1:$C$500,_xlfn.AGGREGATE(15,6,ROW($A$1:$A$500)/ISNUMBER(SEARCH(" "&SUBSTITUTE(E$1," класс","")," "&[1]Ученики!$B$1:$B$500)),ROW(C12)))&" "&INDEX([1]Ученики!$D$1:$D$500,_xlfn.AGGREGATE(15,6,ROW($A$1:$A$500)/ISNUMBER(SEARCH(" "&SUBSTITUTE(E$1," класс","")," "&[1]Ученики!$B$1:$B$500)),ROW(C12))),"") -> 265 265 | F13: =IFERROR(INDEX([1]Ученики!$C$1:$C$500,_xlfn.AGGREGATE(15,6,ROW($A$1:$A$500)/ISNUMBER(SEARCH(" "&SUBSTITUTE(F$1," класс","")," "&[1]Ученики!$B$1:$B$500)),ROW(D12)))&" "&INDEX([1]Ученики!$D$1:$D$500,_xlfn.AGGREGATE(15,6,ROW($A$1:$A$500)/ISNUMBER(SEARCH(" "&SUBSTITUTE(F$1," класс","")," "&[1]Ученики!$B$1:$B$500)),ROW(D12))),"") -> 220 220 | G13: =IFERROR(INDEX([1]Ученики!$C$1:$C$500,_xlfn.AGGREGATE(15,6,ROW($A$1:$A$500)/ISNUMBER(SEARCH(" "&SUBSTITUTE(G$1," класс","")," "&[1]Ученики!$B$1:$B$500)),ROW(E12)))&" "&INDEX([1]Ученики!$D$1:$D$500,_xlfn.AGGREGATE(15,6,ROW($A$1:$A$500)/ISNUMBER(SEARCH(" "&SUBSTITUTE(G$1," класс","")," "&[1]Ученики!$B$1:$B$500)),ROW(E12))),"") -> 182 182 | H13: =IFERROR(INDEX([1]Ученики!$C$1:$C$500,_xlfn.AGGREGATE(15,6,ROW($A$1:$A$500)/ISNUMBER(SEARCH(" "&SUBSTITUTE(H$1," класс","")," "&[1]Ученики!$B$1:$B$500)),ROW(F12)))&" "&INDEX([1]Ученики!$D$1:$D$500,_xlfn.AGGREGATE(15,6,ROW($A$1:$A$500)/ISNUMBER(SEARCH(" "&SUBSTITUTE(H$1," класс","")," "&[1]Ученики!$B$1:$B$500)),ROW(F12))),"") -> 155 155 | I13: =IFERROR(INDEX([1]Ученики!$C$1:$C$500,_xlfn.AGGREGATE(15,6,ROW($A$1:$A$500)/ISNUMBER(SEARCH(" "&SUBSTITUTE(I$1," класс","")," "&[1]Ученики!$B$1:$B$500)),ROW(G12)))&" "&INDEX([1]Ученики!$D$1:$D$500,_xlfn.AGGREGATE(15,6,ROW($A$1:$A$500)/ISNUMBER(SEARCH(" "&SUBSTITUTE(I$1," класс","")," "&[1]Ученики!$B$1:$B$500)),ROW(G12))),"") -> 292 292 | J13: =IFERROR(INDEX([1]Ученики!$C$1:$C$500,_xlfn.AGGREGATE(15,6,ROW($A$1:$A$500)/ISNUMBER(SEARCH(" "&SUBSTITUTE(J$1," класс","")," "&[1]Ученики!$B$1:$B$500)),ROW(H12)))&" "&INDEX([1]Ученики!$D$1:$D$500,_xlfn.AGGREGATE(15,6,ROW($A$1:$A$500)/ISNUMBER(SEARCH(" "&SUBSTITUTE(J$1," класс","")," "&[1]Ученики!$B$1:$B$500)),ROW(H12))),"") -> 197 197 | ... U13: =IFERROR(INDEX([1]Ученики!$C$1:$C$500,_xlfn.AGGREGATE(15,6,ROW($A$1:$A$500)/ISNUMBER(SEARCH(" "&SUBSTITUTE(U$1," класс","")," "&[1]Ученики!$B$1:$B$500)),ROW(S12)))&" "&INDEX([1]Ученики!$D$1:$D$500,_xlfn.AGGREGATE(15,6,ROW($A$1:$A$500)/ISNUMBER(SEARCH(" "&SUBSTITUTE(U$1," класс","")," "&[1]Ученики!$B$1:$B$500)),ROW(S12))),"") -> 154 154
... C33: =IFERROR(INDEX([1]Ученики!$C$1:$C$500,_xlfn.AGGREGATE(15,6,ROW($A$1:$A$500)/ISNUMBER(SEARCH(" "&SUBSTITUTE(C$1," класс","")," "&[1]Ученики!$B$1:$B$500)),ROW(A32)))&" "&INDEX([1]Ученики!$D$1:$D$500,_xlfn.AGGREGATE(15,6,ROW($A$1:$A$500)/ISNUMBER(SEARCH(" "&SUBSTITUTE(C$1," класс","")," "&[1]Ученики!$B$1:$B$500)),ROW(A32))),"") | D33: =IFERROR(INDEX([1]Ученики!$C$1:$C$500,_xlfn.AGGREGATE(15,6,ROW($A$1:$A$500)/ISNUMBER(SEARCH(" "&SUBSTITUTE(D$1," класс","")," "&[1]Ученики!$B$1:$B$500)),ROW(B32)))&" "&INDEX([1]Ученики!$D$1:$D$500,_xlfn.AGGREGATE(15,6,ROW($A$1:$A$500)/ISNUMBER(SEARCH(" "&SUBSTITUTE(D$1," класс","")," "&[1]Ученики!$B$1:$B$500)),ROW(B32))),"") | E33: =IFERROR(INDEX([1]Ученики!$C$1:$C$500,_xlfn.AGGREGATE(15,6,ROW($A$1:$A$500)/ISNUMBER(SEARCH(" "&SUBSTITUTE(E$1," класс","")," "&[1]Ученики!$B$1:$B$500)),ROW(C32)))&" "&INDEX([1]Ученики!$D$1:$D$500,_xlfn.AGGREGATE(15,6,ROW($A$1:$A$500)/ISNUMBER(SEARCH(" "&SUBSTITUTE(E$1," класс","")," "&[1]Ученики!$B$1:$B$500)),ROW(C32))),"") | F33: =IFERROR(INDEX([1]Ученики!$C$1:$C$500,_xlfn.AGGREGATE(15,6,ROW($A$1:$A$500)/ISNUMBER(SEARCH(" "&SUBSTITUTE(F$1," класс","")," "&[1]Ученики!$B$1:$B$500)),ROW(D32)))&" "&INDEX([1]Ученики!$D$1:$D$500,_xlfn.AGGREGATE(15,6,ROW($A$1:$A$500)/ISNUMBER(SEARCH(" "&SUBSTITUTE(F$1," класс","")," "&[1]Ученики!$B$1:$B$500)),ROW(D32))),"") | G33: =IFERROR(INDEX([1]Ученики!$C$1:$C$500,_xlfn.AGGREGATE(15,6,ROW($A$1:$A$500)/ISNUMBER(SEARCH(" "&SUBSTITUTE(G$1," класс","")," "&[1]Ученики!$B$1:$B$500)),ROW(E32)))&" "&INDEX([1]Ученики!$D$1:$D$500,_xlfn.AGGREGATE(15,6,ROW($A$1:$A$500)/ISNUMBER(SEARCH(" "&SUBSTITUTE(G$1," класс","")," "&[1]Ученики!$B$1:$B$500)),ROW(E32))),"") | H33: =IFERROR(INDEX([1]Ученики!$C$1:$C$500,_xlfn.AGGREGATE(15,6,ROW($A$1:$A$500)/ISNUMBER(SEARCH(" "&SUBSTITUTE(H$1," класс","")," "&[1]Ученики!$B$1:$B$500)),ROW(F32)))&" "&INDEX([1]Ученики!$D$1:$D$500,_xlfn.AGGREGATE(15,6,ROW($A$1:$A$500)/ISNUMBER(SEARCH(" "&SUBSTITUTE(H$1," класс","")," "&[1]Ученики!$B$1:$B$500)),ROW(F32))),"") | I33: =IFERROR(INDEX([1]Ученики!$C$1:$C$500,_xlfn.AGGREGATE(15,6,ROW($A$1:$A$500)/ISNUMBER(SEARCH(" "&SUBSTITUTE(I$1," класс","")," "&[1]Ученики!$B$1:$B$500)),ROW(G32)))&" "&INDEX([1]Ученики!$D$1:$D$500,_xlfn.AGGREGATE(15,6,ROW($A$1:$A$500)/ISNUMBER(SEARCH(" "&SUBSTITUTE(I$1," класс","")," "&[1]Ученики!$B$1:$B$500)),ROW(G32))),"") | J33: =IFERROR(INDEX([1]Ученики!$C$1:$C$500,_xlfn.AGGREGATE(15,6,ROW($A$1:$A$500)/ISNUMBER(SEARCH(" "&SUBSTITUTE(J$1," класс","")," "&[1]Ученики!$B$1:$B$500)),ROW(H32)))&" "&INDEX([1]Ученики!$D$1:$D$500,_xlfn.AGGREGATE(15,6,ROW($A$1:$A$500)/ISNUMBER(SEARCH(" "&SUBSTITUTE(J$1," класс","")," "&[1]Ученики!$B$1:$B$500)),ROW(H32))),"") | ... U33: =IFERROR(INDEX([1]Ученики!$C$1:$C$500,_xlfn.AGGREGATE(15,6,ROW($A$1:$A$500)/ISNUMBER(SEARCH(" "&SUBSTITUTE(U$1," класс","")," "&[1]Ученики!$B$1:$B$500)),ROW(S32)))&" "&INDEX([1]Ученики!$D$1:$D$500,_xlfn.AGGREGATE(15,6,ROW($A$1:$A$500)/ISNUMBER(SEARCH(" "&SUBSTITUTE(U$1," класс","")," "&[1]Ученики!$B$1:$B$500)),ROW(S32))),"")
