Workbook

Sheet Свод
A1: =IFERROR(MATCH(Данные!I1,Данные!I$1:I1,)+MATCH(Данные!H1,J$10:J$12,)/10+ROW()/1000000,"") | B1: =MATCH(SMALL(A:A,ROW()),A:A,) -> 7
A2: =IFERROR(MATCH(Данные!I2,Данные!I$1:I2,)+MATCH(Данные!H2,J$10:J$12,)/10+ROW()/1000000,"") | B2: =MATCH(SMALL(A:A,ROW()),A:A,) -> 11
A3: =IFERROR(MATCH(Данные!I3,Данные!I$1:I3,)+MATCH(Данные!H3,J$10:J$12,)/10+ROW()/1000000,"") | B3: =MATCH(SMALL(A:A,ROW()),A:A,) -> 13
A4: =IFERROR(MATCH(Данные!I4,Данные!I$1:I4,)+MATCH(Данные!H4,J$10:J$12,)/10+ROW()/1000000,"") | B4: =MATCH(SMALL(A:A,ROW()),A:A,) -> 22
A5: =IFERROR(MATCH(Данные!I5,Данные!I$1:I5,)+MATCH(Данные!H5,J$10:J$12,)/10+ROW()/1000000,"") | B5: =MATCH(SMALL(A:A,ROW()),A:A,) -> 10
A6: =IFERROR(MATCH(Данные!I6,Данные!I$1:I6,)+MATCH(Данные!H6,J$10:J$12,)/10+ROW()/1000000,"") | B6: =MATCH(SMALL(A:A,ROW()),A:A,) -> 14
A7: =IFERROR(MATCH(Данные!I7,Данные!I$1:I7,)+MATCH(Данные!H7,J$10:J$12,)/10+ROW()/1000000,"") -> 7.100007 | B7: =MATCH(SMALL(A:A,ROW()),A:A,) -> 15
A8: =IFERROR(MATCH(Данные!I8,Данные!I$1:I8,)+MATCH(Данные!H8,J$10:J$12,)/10+ROW()/1000000,"") -> 8.300008 | B8: =MATCH(SMALL(A:A,ROW()),A:A,) -> 21
A9: =IFERROR(MATCH(Данные!I9,Данные!I$1:I9,)+MATCH(Данные!H9,J$10:J$12,)/10+ROW()/1000000,"") -> 8.300009 | B9: =MATCH(SMALL(A:A,ROW()),A:A,) -> 23
A10: =IFERROR(MATCH(Данные!I10,Данные!I$1:I10,)+MATCH(Данные!H10,J$10:J$12,)/10+ROW()/1000000,"") -> 7.30001 | B10: =MATCH(SMALL(A:A,ROW()),A:A,) -> 24 | J10: Директор
A11: =IFERROR(MATCH(Данные!I11,Данные!I$1:I11,)+MATCH(Данные!H11,J$10:J$12,)/10+ROW()/1000000,"") -> 7.200011 | B11: =MATCH(SMALL(A:A,ROW()),A:A,) -> 25 | D11: ФИО | E11: Должность | J11: Начальник
A12: =IFERROR(MATCH(Данные!I12,Данные!I$1:I12,)+MATCH(Данные!H12,J$10:J$12,)/10+ROW()/1000000,"") -> 8.200012 | B12: =MATCH(SMALL(A:A,ROW()),A:A,) -> 18 | C12: =IFERROR(INDEX(Данные!I:I,B1),"") -> Москва | D12: =IFERROR(INDEX(Данные!G:G,B1),"") -> Иванов Александр Сергеевич | E12: =IFERROR(INDEX(Данные!H:H,B1),"") -> Директор | J12: Специалист
A13: =IFERROR(MATCH(Данные!I13,Данные!I$1:I13,)+MATCH(Данные!H13,J$10:J$12,)/10+ROW()/1000000,"") -> 7.200013 | B13: =MATCH(SMALL(A:A,ROW()),A:A,) -> 12 | C13: =IFERROR(INDEX(Данные!I:I,B2),"") -> Москва | D13: =IFERROR(INDEX(Данные!G:G,B2),"") -> Васильев Сергей Александрович | E13: =IFERROR(INDEX(Данные!H:H,B2),"") -> Начальник
A14: =IFERROR(MATCH(Данные!I14,Данные!I$1:I14,)+MATCH(Данные!H14,J$10:J$12,)/10+ROW()/1000000,"") -> 7.300014 | B14: =MATCH(SMALL(A:A,ROW()),A:A,) -> 20 | C14: =IFERROR(INDEX(Данные!I:I,B3),"") -> Москва | D14: =IFERROR(INDEX(Данные!G:G,B3),"") -> Михайлов Илья Дмитриевич | E14: =IFERROR(INDEX(Данные!H:H,B3),"") -> Начальник
A15: =IFERROR(MATCH(Данные!I15,Данные!I$1:I15,)+MATCH(Данные!H15,J$10:J$12,)/10+ROW()/1000000,"") -> 7.300015 | B15: =MATCH(SMALL(A:A,ROW()),A:A,) -> 8 | C15: =IFERROR(INDEX(Данные!I:I,B4),"") -> Москва | D15: =IFERROR(INDEX(Данные!G:G,B4),"") -> Петрова Мария Сергеевна | E15: =IFERROR(INDEX(Данные!H:H,B4),"") -> Начальник
A16: =IFERROR(MATCH(Данные!I16,Данные!I$1:I16,)+MATCH(Данные!H16,J$10:J$12,)/10+ROW()/1000000,"") -> 8.300016 | B16: =MATCH(SMALL(A:A,ROW()),A:A,) -> 9 | C16: =IFERROR(INDEX(Данные!I:I,B5),"") -> Москва | D16: =IFERROR(INDEX(Данные!G:G,B5),"") -> Попов Андрей Иванович | E16: =IFERROR(INDEX(Данные!H:H,B5),"") -> Специалист
A17: =IFERROR(MATCH(Данные!I17,Данные!I$1:I17,)+MATCH(Данные!H17,J$10:J$12,)/10+ROW()/1000000,"") -> 8.300017 | B17: =MATCH(SMALL(A:A,ROW()),A:A,) -> 16 | C17: =IFERROR(INDEX(Данные!I:I,B6),"") -> Москва | D17: =IFERROR(INDEX(Данные!G:G,B6),"") -> Новиков Артем Алексеевич | E17: =IFERROR(INDEX(Данные!H:H,B6),"") -> Специалист
A18: =IFERROR(MATCH(Данные!I18,Данные!I$1:I18,)+MATCH(Данные!H18,J$10:J$12,)/10+ROW()/1000000,"") -> 8.100018 | B18: =MATCH(SMALL(A:A,ROW()),A:A,) -> 17 | C18: =IFERROR(INDEX(Данные!I:I,B7),"") -> Москва | D18: =IFERROR(INDEX(Данные!G:G,B7),"") -> Морозов Максим Андреевич | E18: =IFERROR(INDEX(Данные!H:H,B7),"") -> Специалист
A19: =IFERROR(MATCH(Данные!I19,Данные!I$1:I19,)+MATCH(Данные!H19,J$10:J$12,)/10+ROW()/1000000,"") -> 8.300019 | B19: =MATCH(SMALL(A:A,ROW()),A:A,) -> 19 | C19: =IFERROR(INDEX(Данные!I:I,B8),"") -> Москва | D19: =IFERROR(INDEX(Данные!G:G,B8),"") -> Иванова Елена Александровна | E19: =IFERROR(INDEX(Данные!H:H,B8),"") -> Специалист
A20: =IFERROR(MATCH(Данные!I20,Данные!I$1:I20,)+MATCH(Данные!H20,J$10:J$12,)/10+ROW()/1000000,"") -> 8.20002 | B20: =MATCH(SMALL(A:A,ROW()),A:A,) -> 26 | C20: =IFERROR(INDEX(Данные!I:I,B9),"") -> Москва | D20: =IFERROR(INDEX(Данные!G:G,B9),"") -> Смирнова Анна Николаевна | E20: =IFERROR(INDEX(Данные!H:H,B9),"") -> Специалист
A21: =IFERROR(MATCH(Данные!I21,Данные!I$1:I21,)+MATCH(Данные!H21,J$10:J$12,)/10+ROW()/1000000,"") -> 7.300021 | B21: =MATCH(SMALL(A:A,ROW()),A:A,) -> #NUM! | C21: =IFERROR(INDEX(Данные!I:I,B10),"") -> Москва | D21: =IFERROR(INDEX(Данные!G:G,B10),"") -> Кузнецова Ольга Владимировна | E21: =IFERROR(INDEX(Данные!H:H,B10),"") -> Специалист
A22: =IFERROR(MATCH(Данные!I22,Данные!I$1:I22,)+MATCH(Данные!H22,J$10:J$12,)/10+ROW()/1000000,"") -> 7.200022 | B22: =MATCH(SMALL(A:A,ROW()),A:A,) -> #NUM! | C22: =IFERROR(INDEX(Данные!I:I,B11),"") -> Москва | D22: =IFERROR(INDEX(Данные!G:G,B11),"") -> Попова Татьяна Ивановна | E22: =IFERROR(INDEX(Данные!H:H,B11),"") -> Специалист
A23: =IFERROR(MATCH(Данные!I23,Данные!I$1:I23,)+MATCH(Данные!H23,J$10:J$12,)/10+ROW()/1000000,"") -> 7.300023 | B23: =MATCH(SMALL(A:A,ROW()),A:A,) -> #NUM! | C23: =IFERROR(INDEX(Данные!I:I,B12),"") -> Казань | D23: =IFERROR(INDEX(Данные!G:G,B12),"") -> Орлов Александр Евгеньевич | E23: =IFERROR(INDEX(Данные!H:H,B12),"") -> Директор
A24: =IFERROR(MATCH(Данные!I24,Данные!I$1:I24,)+MATCH(Данные!H24,J$10:J$12,)/10+ROW()/1000000,"") -> 7.300024 | B24: =MATCH(SMALL(A:A,ROW()),A:A,) -> #NUM! | C24: =IFERROR(INDEX(Данные!I:I,B13),"") -> Казань | D24: =IFERROR(INDEX(Данные!G:G,B13),"") -> Соколов Евгений Петрович | E24: =IFERROR(INDEX(Данные!H:H,B13),"") -> Начальник
... A40: =IFERROR(MATCH(Данные!I40,Данные!I$1:I40,)+MATCH(Данные!H40,J$10:J$12,)/10+ROW()/1000000,"") | B40: =MATCH(SMALL(A:A,ROW()),A:A,) -> #NUM! | C40: =IFERROR(INDEX(Данные!I:I,B29),"") | D40: =IFERROR(INDEX(Данные!G:G,B29),"") | E40: =IFERROR(INDEX(Данные!H:H,B29),"")

Sheet Данные
G7: Иванов Александр Сергеевич | H7: Директор | I7: Москва
G8: Петров Михаил Васильевич | H8: Специалист | I8: Казань
G9: Смирнов Алексей Николаевич | H9: Специалист | I9: Казань
G10: Попов Андрей Иванович | H10: Специалист | I10: Москва
G11: Васильев Сергей Александрович | H11: Начальник | I11: Москва
G12: Соколов Евгений Петрович | H12: Начальник | I12: Казань
G13: Михайлов Илья Дмитриевич | H13: Начальник | I13: Москва
G14: Новиков Артем Алексеевич | H14: Специалист | I14: Москва
G15: Морозов Максим Андреевич | H15: Специалист | I15: Москва
G16: Семенов Олег Витальевич | H16: Специалист | I16: Казань
G17: Степанов Юрий Олегович | H17: Специалист | I17: Казань
G18: Орлов Александр Евгеньевич | H18: Директор | I18: Казань
... G26: Васильева Наталья Васильевна | H26: Специалист | I26: Казань
