{"text_format":"1","workbook":"xlsx","n_sheets":3,"sheets":["Smp99_Donnees","секунды","info"],"not_rendered":{"charts":0,"images":0,"macros":1,"external_links":0,"defined_names":1,"comments":0,"pivot_tables":0},"unopened":[],"bounds":{"document_bytes":16777216,"sheet_cells":100000,"rows_first":2000,"rows_last":500,"rows_between":2000,"halvings":0,"cell_chars":16384,"cell_head_chars":4096},"cells_cut":0,"cells_raw":0,"read":"whole","date_system":"1900"}

{"sheet":"Smp99_Donnees","index":0,"n_rows":35,"n_cols":39,"rows_kept":35,"cut":false,"hidden":false,"merged":[]}
[null,"Журнал отключений"]
[null,"Периметр: MAS1MAN, MAS2MAN"]
[null,"Период: Д (ПВСЧПСВ)   20 сен 2013"]
[null,"Смена: Совмщ.   Един.времени: в Часы:Минуты:Секунды"]
[null,"Тип блока: APE,  Отображ.: Объявл.,  Предел: Нет,  Периметр: Зона"]
[null,"Блоки отключ."]
[null,"С","Дата","Тип","П","П","Длит.","Зона","Модуль","Конеч. размещ.","Прич. остан.","ОПЕ","Комментарий","Тип исход.","Кнц","Смена","Бригад","Разнообр.","Мнемо разнообр.","Поддер.","Поддер. 2","Обнар.модуль","Событие","Заявл.модуль","Конеч.размещ.кода","Прич.","Код откл.","Кл блок.","Класс отключ.","Подкласс отключ.","Потери выпуска","Тип робота","Уровень посреднич.","Разное","NPTНачало","№ошиб.робота","PJI","Код процесса","Prod. к закрытию"]
[null,"З","21.09.2013 00:09:37","APE","Z","По","00:01:04","   601 - MAS1MAN Z1","   0 - COM1 - GLOBAL ZONE",null,"Z3: BAF2 T16",null,null,"APE","21.09.2013 00:10:46","Evening","C",null,null,null,null,"0 - COM1","Z3: BAF2 T16","0 - COM1",null,null,null,1,null,null,null,null,null,null,171,null,"'",null,171]
[null,"З","21.09.2013 00:08:18","APE","Z","По","00:00:24","   701 - MAS2MAN Z1","   0 - COM1 - GLOBAL ZONE",null,"Z2: BAF T15",null,null,"APE","21.09.2013 00:09:12","Evening","A",null,null,null,null,"0 - COM1","Z2: BAF T15","0 - COM1",null,null,null,1,null,null,null,null,null,null,166,null,"'",null,167]
[null,"З","21.09.2013 00:04:45","APE","Z","По","00:01:52","   701 - MAS2MAN Z1","   0 - COM1 - GLOBAL ZONE",null,"Z2: BAF T16",null,null,"APE","21.09.2013 00:07:08","Evening","A",null,null,null,null,"0 - COM1","Z2: BAF T16","0 - COM1",null,null,null,1,null,null,null,null,null,null,164,null,"'",null,165]
[null,"З","21.09.2013 00:00:41","APE","Z","По","00:02:00","   701 - MAS2MAN Z1","   0 - COM1 - GLOBAL ZONE",null,"Z2: BAF T15",null,null,"APE","21.09.2013 00:03:11","Evening","A",null,null,null,null,"0 - COM1","Z2: BAF T15","0 - COM1",null,null,null,1,null,null,null,null,null,null,162,null,"'",null,164]
[null,"З","20.09.2013 23:57:36","APE","Z","По","00:00:40","   701 - MAS2MAN Z1","   0 - COM1 - GLOBAL ZONE",null,"Z2: BAF T15",null,null,"APE","20.09.2013 23:58:46","Evening","A",null,null,null,null,"0 - COM1","Z2: BAF T15","0 - COM1",null,null,null,1,null,null,null,null,null,null,160,null,"'",null,161]
[null,"З","20.09.2013 23:56:13","APE","Z","По","00:02:08","   601 - MAS1MAN Z1","   0 - COM1 - GLOBAL ZONE",null,"Z3: BAF1 T17",null,null,"APE","20.09.2013 23:58:26","Evening","C",null,null,null,null,"0 - COM1","Z3: BAF1 T17","0 - COM1",null,null,null,1,null,null,null,null,null,null,165,null,"'",null,166]
[null,"З","20.09.2013 23:51:13","APE","Z","По","00:03:41","   701 - MAS2MAN Z1","   0 - COM1 - GLOBAL ZONE",null,"Z2: BAF T16",null,null,"APE","20.09.2013 23:55:25","Evening","A",null,null,null,null,"0 - COM1","Z2: BAF T16","0 - COM1",null,null,null,1,null,null,null,null,null,null,159,null,"'",null,160]
[null,"З","20.09.2013 23:51:11","APE","Z","По","00:01:12","   601 - MAS1MAN Z1","   0 - COM1 - GLOBAL ZONE",null,"Z3: BAF1 T17",null,null,"APE","20.09.2013 23:52:28","Evening","C",null,null,null,null,"0 - COM1","Z3: BAF1 T17","0 - COM1",null,null,null,1,null,null,null,null,null,null,163,null,"'",null,164]
[null,"З","20.09.2013 23:45:01","APE","Z","По","00:02:02","   601 - MAS1MAN Z1","   0 - COM1 - GLOBAL ZONE",null,"Z3: BAF1 T17",null,null,"APE","20.09.2013 23:47:08","Evening","C",null,null,null,null,"0 - COM1","Z3: BAF1 T17","0 - COM1",null,null,null,1,null,null,null,null,null,null,161,null,"'",null,161]
[null,"З","20.09.2013 00:43:15","APE","Z","По","00:00:50","   701 - MAS2MAN Z1","   0 - COM1 - GLOBAL ZONE",null,"Z1: BAF2 T08",null,null,"APE","20.09.2013 00:44:35","Night","B",null,null,null,null,"0 - COM1","Z1: BAF2 T08","0 - COM1",null,null,null,1,null,null,null,null,null,null,10,null,"'",null,10]
[null,"З","20.09.2013 00:40:44","APE","Z","По","00:02:02","   601 - MAS1MAN Z1","   0 - COM1 - GLOBAL ZONE",null,"Z3: BAF T23",null,null,"APE","20.09.2013 00:42:52","Night","A",null,null,null,null,"0 - COM1","Z3: BAF T23","0 - COM1",null,null,null,1,null,null,null,null,null,null,8,null,"'",null,9]
[null,"З","20.09.2013 00:38:42","APE","Z","По","00:00:42","   701 - MAS2MAN Z1","   0 - COM1 - GLOBAL ZONE",null,"Z2: BAF T16",null,null,"APE","20.09.2013 00:39:54","Night","B",null,null,null,null,"0 - COM1","Z2: BAF T16","0 - COM1",null,null,null,1,null,null,null,null,null,null,7,null,"'",null,8]
[null,"З","20.09.2013 00:32:37","APE","Z","По","00:02:28","   701 - MAS2MAN Z1","   0 - COM1 - GLOBAL ZONE",null,"Z2: BAF T16",null,null,"APE","20.09.2013 00:35:36","Night","B",null,null,null,null,"0 - COM1","Z2: BAF T16","0 - COM1",null,null,null,1,null,null,null,null,null,null,6,null,"'",null,7]
[null,"З","20.09.2013 00:30:54","APE","Z","По","00:04:11","   601 - MAS1MAN Z1","   0 - COM1 - GLOBAL ZONE",null,"Z3: BAF1 T08",null,null,"APE","20.09.2013 00:35:11","Night","A",null,null,null,null,"0 - COM1","Z3: BAF1 T08","0 - COM1",null,null,null,1,null,null,null,null,null,null,5,null,"'",null,6]
[null,"З","20.09.2013 00:29:41","APE","Z","По","00:00:36","   701 - MAS2MAN Z1","   0 - COM1 - GLOBAL ZONE",null,"Z1: BAF1 T07",null,null,"APE","20.09.2013 00:30:47","Night","B",null,null,null,null,"0 - COM1","Z1: BAF1 T07","0 - COM1",null,null,null,1,null,null,null,null,null,null,5,null,"'",null,5]
[null,"З","20.09.2013 00:21:49","APE","Z","По","00:00:32","   701 - MAS2MAN Z1","   0 - COM1 - GLOBAL ZONE",null,"Z2: BAF T16",null,null,"APE","20.09.2013 00:22:51","Night","B",null,null,null,null,"0 - COM1","Z2: BAF T16","0 - COM1",null,null,null,1,null,null,null,null,null,null,3,null,"'",null,3]
[null,"З","20.09.2013 00:19:51","APE","Z","По","00:02:44","   601 - MAS1MAN Z1","   0 - COM1 - GLOBAL ZONE",null,"Z3: BAF T11",null,null,"APE","20.09.2013 00:22:41","Night","A",null,null,null,null,"0 - COM1","Z3: BAF T11","0 - COM1",null,null,null,1,null,null,null,null,null,null,1,null,"'",null,1]
[null,"З","20.09.2013 00:15:43","APE","Z","По","00:02:47","   601 - MAS1MAN Z1","   0 - COM1 - GLOBAL ZONE",null,"Z3: BAF1 T12",null,null,"APE","20.09.2013 00:18:35","Night","A",null,null,null,null,"0 - COM1","Z3: BAF1 T12","0 - COM1",null,null,null,1,null,null,null,null,null,null,0,null,"'",null,1]
[null,null,null,null,null,null,null,"   "]
[null,null,null,null,null,null,null,"Кл блоков","Длит.","Потери вып."]
[null,null,null,null,null,null,null,504,"17:10:04",0]
[null,null,null,null,null,null,null,"Счетчики"]
[null,null,null,null,null,null,null,"N° et mnйmo Zone","NPR TR","NPR TNR","NPT"]
[null,null,null,null,null,null,null,"     601 - MAS1MAN Z1",431,5,436]
[null,null,null,null,null,null,null,"     602 - MAS1MAN Z2",432,1,433]
[null,null,null,null,null,null,null,"     603 - MAS1MAN Z3",416,8,424]
[null,null,null,null,null,null,null,"     701 - MAS2MAN Z1",437,2,439]
[null,null,null,null,null,null,null,"     702 - MAS2MAN Z2",428,5,433]

{"sheet":"секунды","index":1,"n_rows":3000,"n_cols":5,"rows_kept":3000,"cut":false,"hidden":false,"merged":[]}
[{"$f":"86400*TIMEVALUE(TEXT(Smp99_Donnees!C12,\"чч:мм:сс\"))","v":86256},{"$f":"86400*TIMEVALUE(TEXT(Smp99_Donnees!O12,\"чч:мм:сс\"))","v":86326},{"$f":"B1-A1","v":70},null,58946]
[{"$f":"86400*TIMEVALUE(TEXT(Smp99_Donnees!C13,\"чч:мм:сс\"))","v":86173.000000000015},{"$f":"86400*TIMEVALUE(TEXT(Smp99_Donnees!O13,\"чч:мм:сс\"))","v":86306.000000000015},{"$f":"B2-A2","v":133},null,16.373888888888889]
[{"$f":"86400*TIMEVALUE(TEXT(Smp99_Donnees!C14,\"чч:мм:сс\"))","v":85873},{"$f":"86400*TIMEVALUE(TEXT(Smp99_Donnees!O14,\"чч:мм:сс\"))","v":86125},252,null,{"$f":"TEXT(FLOOR(E1,3600)/3600,\"00\")&\":\"\n&TEXT(FLOOR(E1,60)/60-FLOOR(E1,3600)/60,\"00\")&\":\"\n&TEXT(E1-FLOOR(E1,60),\"00\")","v":"16:22:26"}]
[{"$f":"86400*TIMEVALUE(TEXT(Smp99_Donnees!C15,\"чч:мм:сс\"))","v":85871},{"$f":"86400*TIMEVALUE(TEXT(Smp99_Donnees!O15,\"чч:мм:сс\"))","v":85948},77]
[{"$f":"86400*TIMEVALUE(TEXT(Smp99_Donnees!C16,\"чч:мм:сс\"))","v":85501},{"$f":"86400*TIMEVALUE(TEXT(Smp99_Donnees!O16,\"чч:мм:сс\"))","v":85628},127]
[{"$f":"86400*TIMEVALUE(TEXT(Smp99_Donnees!#REF!,\"чч:мм:сс\"))","v":{"$error":"#REF!"}},{"$f":"86400*TIMEVALUE(TEXT(Smp99_Donnees!#REF!,\"чч:мм:сс\"))","v":{"$error":"#REF!"}},{"$error":"#REF!"}]
[{"$f":"86400*TIMEVALUE(TEXT(Smp99_Donnees!#REF!,\"чч:мм:сс\"))","v":{"$error":"#REF!"}},{"$f":"86400*TIMEVALUE(TEXT(Smp99_Donnees!#REF!,\"чч:мм:сс\"))","v":{"$error":"#REF!"}},{"$error":"#REF!"},null,{"$f":"TEXT(FLOOR(C501,3600)/3600,\"00\")&\":\"\n&TEXT(FLOOR(E5,60)/60-FLOOR(E5,3600)/60,\"00\")&\":\"\n&TEXT(E5-FLOOR(E5,60),\"00\")","v":{"$error":"#REF!"}}]
[{"$f":"86400*TIMEVALUE(TEXT(Smp99_Donnees!#REF!,\"чч:мм:сс\"))","v":{"$error":"#REF!"}},{"$f":"86400*TIMEVALUE(TEXT(Smp99_Donnees!#REF!,\"чч:мм:сс\"))","v":{"$error":"#REF!"}},{"$error":"#REF!"}]
[{"$f":"86400*TIMEVALUE(TEXT(Smp99_Donnees!#REF!,\"чч:мм:сс\"))","v":{"$error":"#REF!"}},{"$f":"86400*TIMEVALUE(TEXT(Smp99_Donnees!#REF!,\"чч:мм:сс\"))","v":{"$error":"#REF!"}},{"$error":"#REF!"}]
[{"$f":"86400*TIMEVALUE(TEXT(Smp99_Donnees!#REF!,\"чч:мм:сс\"))","v":{"$error":"#REF!"}},{"$f":"86400*TIMEVALUE(TEXT(Smp99_Donnees!#REF!,\"чч:мм:сс\"))","v":{"$error":"#REF!"}},{"$error":"#REF!"}]
[{"$f":"86400*TIMEVALUE(TEXT(Smp99_Donnees!#REF!,\"чч:мм:сс\"))","v":{"$error":"#REF!"}},{"$f":"86400*TIMEVALUE(TEXT(Smp99_Donnees!#REF!,\"чч:мм:сс\"))","v":{"$error":"#REF!"}},{"$error":"#REF!"}]
[{"$f":"86400*TIMEVALUE(TEXT(Smp99_Donnees!#REF!,\"чч:мм:сс\"))","v":{"$error":"#REF!"}},{"$f":"86400*TIMEVALUE(TEXT(Smp99_Donnees!#REF!,\"чч:мм:сс\"))","v":{"$error":"#REF!"}},{"$error":"#REF!"}]
[{"$f":"86400*TIMEVALUE(TEXT(Smp99_Donnees!#REF!,\"чч:мм:сс\"))","v":{"$error":"#REF!"}},{"$f":"86400*TIMEVALUE(TEXT(Smp99_Donnees!#REF!,\"чч:мм:сс\"))","v":{"$error":"#REF!"}},{"$error":"#REF!"}]
[{"$f":"86400*TIMEVALUE(TEXT(Smp99_Donnees!#REF!,\"чч:мм:сс\"))","v":{"$error":"#REF!"}},{"$f":"86400*TIMEVALUE(TEXT(Smp99_Donnees!#REF!,\"чч:мм:сс\"))","v":{"$error":"#REF!"}},{"$error":"#REF!"}]
[{"$f":"86400*TIMEVALUE(TEXT(Smp99_Donnees!#REF!,\"чч:мм:сс\"))","v":{"$error":"#REF!"}},{"$f":"86400*TIMEVALUE(TEXT(Smp99_Donnees!#REF!,\"чч:мм:сс\"))","v":{"$error":"#REF!"}},{"$error":"#REF!"}]
[{"$f":"86400*TIMEVALUE(TEXT(Smp99_Donnees!#REF!,\"чч:мм:сс\"))","v":{"$error":"#REF!"}},{"$f":"86400*TIMEVALUE(TEXT(Smp99_Donnees!#REF!,\"чч:мм:сс\"))","v":{"$error":"#REF!"}},{"$error":"#REF!"}]
[{"$f":"86400*TIMEVALUE(TEXT(Smp99_Donnees!#REF!,\"чч:мм:сс\"))","v":{"$error":"#REF!"}},{"$f":"86400*TIMEVALUE(TEXT(Smp99_Donnees!#REF!,\"чч:мм:сс\"))","v":{"$error":"#REF!"}},{"$error":"#REF!"}]
[{"$f":"86400*TIMEVALUE(TEXT(Smp99_Donnees!#REF!,\"чч:мм:сс\"))","v":{"$error":"#REF!"}},{"$f":"86400*TIMEVALUE(TEXT(Smp99_Donnees!#REF!,\"чч:мм:сс\"))","v":{"$error":"#REF!"}},{"$error":"#REF!"}]
[{"$f":"86400*TIMEVALUE(TEXT(Smp99_Donnees!#REF!,\"чч:мм:сс\"))","v":{"$error":"#REF!"}},{"$f":"86400*TIMEVALUE(TEXT(Smp99_Donnees!#REF!,\"чч:мм:сс\"))","v":{"$error":"#REF!"}},{"$error":"#REF!"}]
[{"$f":"86400*TIMEVALUE(TEXT(Smp99_Donnees!#REF!,\"чч:мм:сс\"))","v":{"$error":"#REF!"}},{"$f":"86400*TIMEVALUE(TEXT(Smp99_Donnees!#REF!,\"чч:мм:сс\"))","v":{"$error":"#REF!"}},{"$error":"#REF!"}]
[{"$f":"86400*TIMEVALUE(TEXT(Smp99_Donnees!#REF!,\"чч:мм:сс\"))","v":{"$error":"#REF!"}},{"$f":"86400*TIMEVALUE(TEXT(Smp99_Donnees!#REF!,\"чч:мм:сс\"))","v":{"$error":"#REF!"}},{"$error":"#REF!"}]
[{"$f":"86400*TIMEVALUE(TEXT(Smp99_Donnees!#REF!,\"чч:мм:сс\"))","v":{"$error":"#REF!"}},{"$f":"86400*TIMEVALUE(TEXT(Smp99_Donnees!#REF!,\"чч:мм:сс\"))","v":{"$error":"#REF!"}},{"$error":"#REF!"}]
[{"$f":"86400*TIMEVALUE(TEXT(Smp99_Donnees!#REF!,\"чч:мм:сс\"))","v":{"$error":"#REF!"}},{"$f":"86400*TIMEVALUE(TEXT(Smp99_Donnees!#REF!,\"чч:мм:сс\"))","v":{"$error":"#REF!"}},{"$error":"#REF!"}]
[{"$f":"86400*TIMEVALUE(TEXT(Smp99_Donnees!#REF!,\"чч:мм:сс\"))","v":{"$error":"#REF!"}},{"$f":"86400*TIMEVALUE(TEXT(Smp99_Donnees!#REF!,\"чч:мм:сс\"))","v":{"$error":"#REF!"}},{"$error":"#REF!"}]
[{"$f":"86400*TIMEVALUE(TEXT(Smp99_Donnees!#REF!,\"чч:мм:сс\"))","v":{"$error":"#REF!"}},{"$f":"86400*TIMEVALUE(TEXT(Smp99_Donnees!#REF!,\"чч:мм:сс\"))","v":{"$error":"#REF!"}},{"$error":"#REF!"}]
[{"$f":"86400*TIMEVALUE(TEXT(Smp99_Donnees!#REF!,\"чч:мм:сс\"))","v":{"$error":"#REF!"}},{"$f":"86400*TIMEVALUE(TEXT(Smp99_Donnees!#REF!,\"чч:мм:сс\"))","v":{"$error":"#REF!"}},{"$error":"#REF!"}]
[{"$f":"86400*TIMEVALUE(TEXT(Smp99_Donnees!#REF!,\"чч:мм:сс\"))","v":{"$error":"#REF!"}},{"$f":"86400*TIMEVALUE(TEXT(Smp99_Donnees!#REF!,\"чч:мм:сс\"))","v":{"$error":"#REF!"}},{"$error":"#REF!"}]
[{"$f":"86400*TIMEVALUE(TEXT(Smp99_Donnees!#REF!,\"чч:мм:сс\"))","v":{"$error":"#REF!"}},{"$f":"86400*TIMEVALUE(TEXT(Smp99_Donnees!#REF!,\"чч:мм:сс\"))","v":{"$error":"#REF!"}},{"$error":"#REF!"}]
[{"$f":"86400*TIMEVALUE(TEXT(Smp99_Donnees!#REF!,\"чч:мм:сс\"))","v":{"$error":"#REF!"}},{"$f":"86400*TIMEVALUE(TEXT(Smp99_Donnees!#REF!,\"чч:мм:сс\"))","v":{"$error":"#REF!"}},{"$error":"#REF!"}]
[{"$f":"86400*TIMEVALUE(TEXT(Smp99_Donnees!#REF!,\"чч:мм:сс\"))","v":{"$error":"#REF!"}},{"$f":"86400*TIMEVALUE(TEXT(Smp99_Donnees!#REF!,\"чч:мм:сс\"))","v":{"$error":"#REF!"}},{"$error":"#REF!"}]
[{"$f":"86400*TIMEVALUE(TEXT(Smp99_Donnees!#REF!,\"чч:мм:сс\"))","v":{"$error":"#REF!"}},{"$f":"86400*TIMEVALUE(TEXT(Smp99_Donnees!#REF!,\"чч:мм:сс\"))","v":{"$error":"#REF!"}},{"$error":"#REF!"}]
[{"$f":"86400*TIMEVALUE(TEXT(Smp99_Donnees!#REF!,\"чч:мм:сс\"))","v":{"$error":"#REF!"}},{"$f":"86400*TIMEVALUE(TEXT(Smp99_Donnees!#REF!,\"чч:мм:сс\"))","v":{"$error":"#REF!"}},{"$error":"#REF!"}]
[{"$f":"86400*TIMEVALUE(TEXT(Smp99_Donnees!#REF!,\"чч:мм:сс\"))","v":{"$error":"#REF!"}},{"$f":"86400*TIMEVALUE(TEXT(Smp99_Donnees!#REF!,\"чч:мм:сс\"))","v":{"$error":"#REF!"}},{"$error":"#REF!"}]
[{"$f":"86400*TIMEVALUE(TEXT(Smp99_Donnees!#REF!,\"чч:мм:сс\"))","v":{"$error":"#REF!"}},{"$f":"86400*TIMEVALUE(TEXT(Smp99_Donnees!#REF!,\"чч:мм:сс\"))","v":{"$error":"#REF!"}},{"$error":"#REF!"}]
[{"$f":"86400*TIMEVALUE(TEXT(Smp99_Donnees!#REF!,\"чч:мм:сс\"))","v":{"$error":"#REF!"}},{"$f":"86400*TIMEVALUE(TEXT(Smp99_Donnees!#REF!,\"чч:мм:сс\"))","v":{"$error":"#REF!"}},{"$error":"#REF!"}]
[{"$f":"86400*TIMEVALUE(TEXT(Smp99_Donnees!#REF!,\"чч:мм:сс\"))","v":{"$error":"#REF!"}},{"$f":"86400*TIMEVALUE(TEXT(Smp99_Donnees!#REF!,\"чч:мм:сс\"))","v":{"$error":"#REF!"}},{"$error":"#REF!"}]
[{"$f":"86400*TIMEVALUE(TEXT(Smp99_Donnees!#REF!,\"чч:мм:сс\"))","v":{"$error":"#REF!"}},{"$f":"86400*TIMEVALUE(TEXT(Smp99_Donnees!#REF!,\"чч:мм:сс\"))","v":{"$error":"#REF!"}},{"$error":"#REF!"}]
[{"$f":"86400*TIMEVALUE(TEXT(Smp99_Donnees!#REF!,\"чч:мм:сс\"))","v":{"$error":"#REF!"}},{"$f":"86400*TIMEVALUE(TEXT(Smp99_Donnees!#REF!,\"чч:мм:сс\"))","v":{"$error":"#REF!"}},{"$error":"#REF!"}]
[{"$f":"86400*TIMEVALUE(TEXT(Smp99_Donnees!#REF!,\"чч:мм:сс\"))","v":{"$error":"#REF!"}},{"$f":"86400*TIMEVALUE(TEXT(Smp99_Donnees!#REF!,\"чч:мм:сс\"))","v":{"$error":"#REF!"}},{"$error":"#REF!"}]
[{"$f":"86400*TIMEVALUE(TEXT(Smp99_Donnees!#REF!,\"чч:мм:сс\"))","v":{"$error":"#REF!"}},{"$f":"86400*TIMEVALUE(TEXT(Smp99_Donnees!#REF!,\"чч:мм:сс\"))","v":{"$error":"#REF!"}},{"$error":"#REF!"}]
[{"$f":"86400*TIMEVALUE(TEXT(Smp99_Donnees!#REF!,\"чч:мм:сс\"))","v":{"$error":"#REF!"}},{"$f":"86400*TIMEVALUE(TEXT(Smp99_Donnees!#REF!,\"чч:мм:сс\"))","v":{"$error":"#REF!"}},{"$error":"#REF!"}]
[{"$f":"86400*TIMEVALUE(TEXT(Smp99_Donnees!#REF!,\"чч:мм:сс\"))","v":{"$error":"#REF!"}},{"$f":"86400*TIMEVALUE(TEXT(Smp99_Donnees!#REF!,\"чч:мм:сс\"))","v":{"$error":"#REF!"}},{"$error":"#REF!"}]
[{"$f":"86400*TIMEVALUE(TEXT(Smp99_Donnees!#REF!,\"чч:мм:сс\"))","v":{"$error":"#REF!"}},{"$f":"86400*TIMEVALUE(TEXT(Smp99_Donnees!#REF!,\"чч:мм:сс\"))","v":{"$error":"#REF!"}},{"$error":"#REF!"}]
[{"$f":"86400*TIMEVALUE(TEXT(Smp99_Donnees!#REF!,\"чч:мм:сс\"))","v":{"$error":"#REF!"}},{"$f":"86400*TIMEVALUE(TEXT(Smp99_Donnees!#REF!,\"чч:мм:сс\"))","v":{"$error":"#REF!"}},{"$error":"#REF!"}]
[{"$f":"86400*TIMEVALUE(TEXT(Smp99_Donnees!#REF!,\"чч:мм:сс\"))","v":{"$error":"#REF!"}},{"$f":"86400*TIMEVALUE(TEXT(Smp99_Donnees!#REF!,\"чч:мм:сс\"))","v":{"$error":"#REF!"}},{"$error":"#REF!"}]
[{"$f":"86400*TIMEVALUE(TEXT(Smp99_Donnees!#REF!,\"чч:мм:сс\"))","v":{"$error":"#REF!"}},{"$f":"86400*TIMEVALUE(TEXT(Smp99_Donnees!#REF!,\"чч:мм:сс\"))","v":{"$error":"#REF!"}},{"$error":"#REF!"}]
[{"$f":"86400*TIMEVALUE(TEXT(Smp99_Donnees!#REF!,\"чч:мм:сс\"))","v":{"$error":"#REF!"}},{"$f":"86400*TIMEVALUE(TEXT(Smp99_Donnees!#REF!,\"чч:мм:сс\"))","v":{"$error":"#REF!"}},{"$error":"#REF!"}]
[{"$f":"86400*TIMEVALUE(TEXT(Smp99_Donnees!#REF!,\"чч:мм:сс\"))","v":{"$error":"#REF!"}},{"$f":"86400*TIMEVALUE(TEXT(Smp99_Donnees!#REF!,\"чч:мм:сс\"))","v":{"$error":"#REF!"}},{"$error":"#REF!"}]
[{"$f":"86400*TIMEVALUE(TEXT(Smp99_Donnees!#REF!,\"чч:мм:сс\"))","v":{"$error":"#REF!"}},{"$f":"86400*TIMEVALUE(TEXT(Smp99_Donnees!#REF!,\"чч:мм:сс\"))","v":{"$error":"#REF!"}},{"$error":"#REF!"}]
[{"$f":"86400*TIMEVALUE(TEXT(Smp99_Donnees!#REF!,\"чч:мм:сс\"))","v":{"$error":"#REF!"}},{"$f":"86400*TIMEVALUE(TEXT(Smp99_Donnees!#REF!,\"чч:мм:сс\"))","v":{"$error":"#REF!"}},{"$error":"#REF!"}]
[{"$f":"86400*TIMEVALUE(TEXT(Smp99_Donnees!#REF!,\"чч:мм:сс\"))","v":{"$error":"#REF!"}},{"$f":"86400*TIMEVALUE(TEXT(Smp99_Donnees!#REF!,\"чч:мм:сс\"))","v":{"$error":"#REF!"}},{"$error":"#REF!"}]
[{"$f":"86400*TIMEVALUE(TEXT(Smp99_Donnees!#REF!,\"чч:мм:сс\"))","v":{"$error":"#REF!"}},{"$f":"86400*TIMEVALUE(TEXT(Smp99_Donnees!#REF!,\"чч:мм:сс\"))","v":{"$error":"#REF!"}},{"$error":"#REF!"}]
[{"$f":"86400*TIMEVALUE(TEXT(Smp99_Donnees!#REF!,\"чч:мм:сс\"))","v":{"$error":"#REF!"}},{"$f":"86400*TIMEVALUE(TEXT(Smp99_Donnees!#REF!,\"чч:мм:сс\"))","v":{"$error":"#REF!"}},{"$error":"#REF!"}]
[{"$f":"86400*TIMEVALUE(TEXT(Smp99_Donnees!#REF!,\"чч:мм:сс\"))","v":{"$error":"#REF!"}},{"$f":"86400*TIMEVALUE(TEXT(Smp99_Donnees!#REF!,\"чч:мм:сс\"))","v":{"$error":"#REF!"}},{"$error":"#REF!"}]
[{"$f":"86400*TIMEVALUE(TEXT(Smp99_Donnees!#REF!,\"чч:мм:сс\"))","v":{"$error":"#REF!"}},{"$f":"86400*TIMEVALUE(TEXT(Smp99_Donnees!#REF!,\"чч:мм:сс\"))","v":{"$error":"#REF!"}},{"$error":"#REF!"}]
[{"$f":"86400*TIMEVALUE(TEXT(Smp99_Donnees!#REF!,\"чч:мм:сс\"))","v":{"$error":"#REF!"}},{"$f":"86400*TIMEVALUE(TEXT(Smp99_Donnees!#REF!,\"чч:мм:сс\"))","v":{"$error":"#REF!"}},{"$error":"#REF!"}]
[{"$f":"86400*TIMEVALUE(TEXT(Smp99_Donnees!#REF!,\"чч:мм:сс\"))","v":{"$error":"#REF!"}},{"$f":"86400*TIMEVALUE(TEXT(Smp99_Donnees!#REF!,\"чч:мм:сс\"))","v":{"$error":"#REF!"}},{"$error":"#REF!"}]
[{"$f":"86400*TIMEVALUE(TEXT(Smp99_Donnees!#REF!,\"чч:мм:сс\"))","v":{"$error":"#REF!"}},{"$f":"86400*TIMEVALUE(TEXT(Smp99_Donnees!#REF!,\"чч:мм:сс\"))","v":{"$error":"#REF!"}},{"$error":"#REF!"}]
[{"$f":"86400*TIMEVALUE(TEXT(Smp99_Donnees!#REF!,\"чч:мм:сс\"))","v":{"$error":"#REF!"}},{"$f":"86400*TIMEVALUE(TEXT(Smp99_Donnees!#REF!,\"чч:мм:сс\"))","v":{"$error":"#REF!"}},{"$error":"#REF!"}]
[{"$f":"86400*TIMEVALUE(TEXT(Smp99_Donnees!#REF!,\"чч:мм:сс\"))","v":{"$error":"#REF!"}},{"$f":"86400*TIMEVALUE(TEXT(Smp99_Donnees!#REF!,\"чч:мм:сс\"))","v":{"$error":"#REF!"}},{"$error":"#REF!"}]
[{"$f":"86400*TIMEVALUE(TEXT(Smp99_Donnees!#REF!,\"чч:мм:сс\"))","v":{"$error":"#REF!"}},{"$f":"86400*TIMEVALUE(TEXT(Smp99_Donnees!#REF!,\"чч:мм:сс\"))","v":{"$error":"#REF!"}},{"$error":"#REF!"}]
[{"$f":"86400*TIMEVALUE(TEXT(Smp99_Donnees!#REF!,\"чч:мм:сс\"))","v":{"$error":"#REF!"}},{"$f":"86400*TIMEVALUE(TEXT(Smp99_Donnees!#REF!,\"чч:мм:сс\"))","v":{"$error":"#REF!"}},{"$error":"#REF!"}]
[{"$f":"86400*TIMEVALUE(TEXT(Smp99_Donnees!#REF!,\"чч:мм:сс\"))","v":{"$error":"#REF!"}},{"$f":"86400*TIMEVALUE(TEXT(Smp99_Donnees!#REF!,\"чч:мм:сс\"))","v":{"$error":"#REF!"}},{"$error":"#REF!"}]
[{"$f":"86400*TIMEVALUE(TEXT(Smp99_Donnees!#REF!,\"чч:мм:сс\"))","v":{"$error":"#REF!"}},{"$f":"86400*TIMEVALUE(TEXT(Smp99_Donnees!#REF!,\"чч:мм:сс\"))","v":{"$error":"#REF!"}},{"$error":"#REF!"}]
[{"$f":"86400*TIMEVALUE(TEXT(Smp99_Donnees!#REF!,\"чч:мм:сс\"))","v":{"$error":"#REF!"}},{"$f":"86400*TIMEVALUE(TEXT(Smp99_Donnees!#REF!,\"чч:мм:сс\"))","v":{"$error":"#REF!"}},{"$error":"#REF!"}]
[{"$f":"86400*TIMEVALUE(TEXT(Smp99_Donnees!#REF!,\"чч:мм:сс\"))","v":{"$error":"#REF!"}},{"$f":"86400*TIMEVALUE(TEXT(Smp99_Donnees!#REF!,\"чч:мм:сс\"))","v":{"$error":"#REF!"}},{"$f":"B66-A66","v":{"$error":"#REF!"}}]
[{"$f":"86400*TIMEVALUE(TEXT(Smp99_Donnees!#REF!,\"чч:мм:сс\"))","v":{"$error":"#REF!"}},{"$f":"86400*TIMEVALUE(TEXT(Smp99_Donnees!#REF!,\"чч:мм:сс\"))","v":{"$error":"#REF!"}},{"$error":"#REF!"}]
[{"$f":"86400*TIMEVALUE(TEXT(Smp99_Donnees!#REF!,\"чч:мм:сс\"))","v":{"$error":"#REF!"}},{"$f":"86400*TIMEVALUE(TEXT(Smp99_Donnees!#REF!,\"чч:мм:сс\"))","v":{"$error":"#REF!"}},{"$error":"#REF!"}]
[{"$f":"86400*TIMEVALUE(TEXT(Smp99_Donnees!#REF!,\"чч:мм:сс\"))","v":{"$error":"#REF!"}},{"$f":"86400*TIMEVALUE(TEXT(Smp99_Donnees!#REF!,\"чч:мм:сс\"))","v":{"$error":"#REF!"}},{"$error":"#REF!"}]
[{"$f":"86400*TIMEVALUE(TEXT(Smp99_Donnees!#REF!,\"чч:мм:сс\"))","v":{"$error":"#REF!"}},{"$f":"86400*TIMEVALUE(TEXT(Smp99_Donnees!#REF!,\"чч:мм:сс\"))","v":{"$error":"#REF!"}},{"$error":"#REF!"}]
[{"$f":"86400*TIMEVALUE(TEXT(Smp99_Donnees!#REF!,\"чч:мм:сс\"))","v":{"$error":"#REF!"}},{"$f":"86400*TIMEVALUE(TEXT(Smp99_Donnees!#REF!,\"чч:мм:сс\"))","v":{"$error":"#REF!"}},{"$error":"#REF!"}]
[{"$f":"86400*TIMEVALUE(TEXT(Smp99_Donnees!#REF!,\"чч:мм:сс\"))","v":{"$error":"#REF!"}},{"$f":"86400*TIMEVALUE(TEXT(Smp99_Donnees!#REF!,\"чч:мм:сс\"))","v":{"$error":"#REF!"}},{"$error":"#REF!"}]
[{"$f":"86400*TIMEVALUE(TEXT(Smp99_Donnees!#REF!,\"чч:мм:сс\"))","v":{"$error":"#REF!"}},{"$f":"86400*TIMEVALUE(TEXT(Smp99_Donnees!#REF!,\"чч:мм:сс\"))","v":{"$error":"#REF!"}},{"$error":"#REF!"}]
[{"$f":"86400*TIMEVALUE(TEXT(Smp99_Donnees!#REF!,\"чч:мм:сс\"))","v":{"$error":"#REF!"}},{"$f":"86400*TIMEVALUE(TEXT(Smp99_Donnees!#REF!,\"чч:мм:сс\"))","v":{"$error":"#REF!"}},{"$error":"#REF!"}]
[{"$f":"86400*TIMEVALUE(TEXT(Smp99_Donnees!#REF!,\"чч:мм:сс\"))","v":{"$error":"#REF!"}},{"$f":"86400*TIMEVALUE(TEXT(Smp99_Donnees!#REF!,\"чч:мм:сс\"))","v":{"$error":"#REF!"}},{"$error":"#REF!"}]
[{"$f":"86400*TIMEVALUE(TEXT(Smp99_Donnees!#REF!,\"чч:мм:сс\"))","v":{"$error":"#REF!"}},{"$f":"86400*TIMEVALUE(TEXT(Smp99_Donnees!#REF!,\"чч:мм:сс\"))","v":{"$error":"#REF!"}},{"$error":"#REF!"}]
[{"$f":"86400*TIMEVALUE(TEXT(Smp99_Donnees!#REF!,\"чч:мм:сс\"))","v":{"$error":"#REF!"}},{"$f":"86400*TIMEVALUE(TEXT(Smp99_Donnees!#REF!,\"чч:мм:сс\"))","v":{"$error":"#REF!"}},{"$error":"#REF!"}]
[{"$f":"86400*TIMEVALUE(TEXT(Smp99_Donnees!#REF!,\"чч:мм:сс\"))","v":{"$error":"#REF!"}},{"$f":"86400*TIMEVALUE(TEXT(Smp99_Donnees!#REF!,\"чч:мм:сс\"))","v":{"$error":"#REF!"}},{"$error":"#REF!"}]
[{"$f":"86400*TIMEVALUE(TEXT(Smp99_Donnees!#REF!,\"чч:мм:сс\"))","v":{"$error":"#REF!"}},{"$f":"86400*TIMEVALUE(TEXT(Smp99_Donnees!#REF!,\"чч:мм:сс\"))","v":{"$error":"#REF!"}},{"$error":"#REF!"}]
[{"$f":"86400*TIMEVALUE(TEXT(Smp99_Donnees!#REF!,\"чч:мм:сс\"))","v":{"$error":"#REF!"}},{"$f":"86400*TIMEVALUE(TEXT(Smp99_Donnees!#REF!,\"чч:мм:сс\"))","v":{"$error":"#REF!"}},{"$error":"#REF!"}]
[{"$f":"86400*TIMEVALUE(TEXT(Smp99_Donnees!#REF!,\"чч:мм:сс\"))","v":{"$error":"#REF!"}},{"$f":"86400*TIMEVALUE(TEXT(Smp99_Donnees!#REF!,\"чч:мм:сс\"))","v":{"$error":"#REF!"}},{"$error":"#REF!"}]
[{"$f":"86400*TIMEVALUE(TEXT(Smp99_Donnees!#REF!,\"чч:мм:сс\"))","v":{"$error":"#REF!"}},{"$f":"86400*TIMEVALUE(TEXT(Smp99_Donnees!#REF!,\"чч:мм:сс\"))","v":{"$error":"#REF!"}},{"$error":"#REF!"}]
[{"$f":"86400*TIMEVALUE(TEXT(Smp99_Donnees!#REF!,\"чч:мм:сс\"))","v":{"$error":"#REF!"}},{"$f":"86400*TIMEVALUE(TEXT(Smp99_Donnees!#REF!,\"чч:мм:сс\"))","v":{"$error":"#REF!"}},{"$error":"#REF!"}]
[{"$f":"86400*TIMEVALUE(TEXT(Smp99_Donnees!#REF!,\"чч:мм:сс\"))","v":{"$error":"#REF!"}},{"$f":"86400*TIMEVALUE(TEXT(Smp99_Donnees!#REF!,\"чч:мм:сс\"))","v":{"$error":"#REF!"}},{"$error":"#REF!"}]
[{"$f":"86400*TIMEVALUE(TEXT(Smp99_Donnees!#REF!,\"чч:мм:сс\"))","v":{"$error":"#REF!"}},{"$f":"86400*TIMEVALUE(TEXT(Smp99_Donnees!#REF!,\"чч:мм:сс\"))","v":{"$error":"#REF!"}},{"$error":"#REF!"}]
[{"$f":"86400*TIMEVALUE(TEXT(Smp99_Donnees!#REF!,\"чч:мм:сс\"))","v":{"$error":"#REF!"}},{"$f":"86400*TIMEVALUE(TEXT(Smp99_Donnees!#REF!,\"чч:мм:сс\"))","v":{"$error":"#REF!"}},{"$error":"#REF!"}]
[{"$f":"86400*TIMEVALUE(TEXT(Smp99_Donnees!#REF!,\"чч:мм:сс\"))","v":{"$error":"#REF!"}},{"$f":"86400*TIMEVALUE(TEXT(Smp99_Donnees!#REF!,\"чч:мм:сс\"))","v":{"$error":"#REF!"}},{"$error":"#REF!"}]
[{"$f":"86400*TIMEVALUE(TEXT(Smp99_Donnees!#REF!,\"чч:мм:сс\"))","v":{"$error":"#REF!"}},{"$f":"86400*TIMEVALUE(TEXT(Smp99_Donnees!#REF!,\"чч:мм:сс\"))","v":{"$error":"#REF!"}},{"$error":"#REF!"}]
[{"$f":"86400*TIMEVALUE(TEXT(Smp99_Donnees!#REF!,\"чч:мм:сс\"))","v":{"$error":"#REF!"}},{"$f":"86400*TIMEVALUE(TEXT(Smp99_Donnees!#REF!,\"чч:мм:сс\"))","v":{"$error":"#REF!"}},{"$error":"#REF!"}]
[{"$f":"86400*TIMEVALUE(TEXT(Smp99_Donnees!#REF!,\"чч:мм:сс\"))","v":{"$error":"#REF!"}},{"$f":"86400*TIMEVALUE(TEXT(Smp99_Donnees!#REF!,\"чч:мм:сс\"))","v":{"$error":"#REF!"}},{"$error":"#REF!"}]
[{"$f":"86400*TIMEVALUE(TEXT(Smp99_Donnees!#REF!,\"чч:мм:сс\"))","v":{"$error":"#REF!"}},{"$f":"86400*TIMEVALUE(TEXT(Smp99_Donnees!#REF!,\"чч:мм:сс\"))","v":{"$error":"#REF!"}},{"$error":"#REF!"}]
[{"$f":"86400*TIMEVALUE(TEXT(Smp99_Donnees!#REF!,\"чч:мм:сс\"))","v":{"$error":"#REF!"}},{"$f":"86400*TIMEVALUE(TEXT(Smp99_Donnees!#REF!,\"чч:мм:сс\"))","v":{"$error":"#REF!"}},{"$error":"#REF!"}]
[{"$f":"86400*TIMEVALUE(TEXT(Smp99_Donnees!#REF!,\"чч:мм:сс\"))","v":{"$error":"#REF!"}},{"$f":"86400*TIMEVALUE(TEXT(Smp99_Donnees!#REF!,\"чч:мм:сс\"))","v":{"$error":"#REF!"}},{"$error":"#REF!"}]
[{"$f":"86400*TIMEVALUE(TEXT(Smp99_Donnees!#REF!,\"чч:мм:сс\"))","v":{"$error":"#REF!"}},{"$f":"86400*TIMEVALUE(TEXT(Smp99_Donnees!#REF!,\"чч:мм:сс\"))","v":{"$error":"#REF!"}},{"$error":"#REF!"}]
[{"$f":"86400*TIMEVALUE(TEXT(Smp99_Donnees!#REF!,\"чч:мм:сс\"))","v":{"$error":"#REF!"}},{"$f":"86400*TIMEVALUE(TEXT(Smp99_Donnees!#REF!,\"чч:мм:сс\"))","v":{"$error":"#REF!"}},{"$error":"#REF!"}]
[{"$f":"86400*TIMEVALUE(TEXT(Smp99_Donnees!#REF!,\"чч:мм:сс\"))","v":{"$error":"#REF!"}},{"$f":"86400*TIMEVALUE(TEXT(Smp99_Donnees!#REF!,\"чч:мм:сс\"))","v":{"$error":"#REF!"}},{"$error":"#REF!"}]
[{"$f":"86400*TIMEVALUE(TEXT(Smp99_Donnees!#REF!,\"чч:мм:сс\"))","v":{"$error":"#REF!"}},{"$f":"86400*TIMEVALUE(TEXT(Smp99_Donnees!#REF!,\"чч:мм:сс\"))","v":{"$error":"#REF!"}},{"$error":"#REF!"}]
[{"$f":"86400*TIMEVALUE(TEXT(Smp99_Donnees!#REF!,\"чч:мм:сс\"))","v":{"$error":"#REF!"}},{"$f":"86400*TIMEVALUE(TEXT(Smp99_Donnees!#REF!,\"чч:мм:сс\"))","v":{"$error":"#REF!"}},{"$error":"#REF!"}]
[{"$f":"86400*TIMEVALUE(TEXT(Smp99_Donnees!#REF!,\"чч:мм:сс\"))","v":{"$error":"#REF!"}},{"$f":"86400*TIMEVALUE(TEXT(Smp99_Donnees!#REF!,\"чч:мм:сс\"))","v":{"$error":"#REF!"}},{"$error":"#REF!"}]
[{"$f":"86400*TIMEVALUE(TEXT(Smp99_Donnees!#REF!,\"чч:мм:сс\"))","v":{"$error":"#REF!"}},{"$f":"86400*TIMEVALUE(TEXT(Smp99_Donnees!#REF!,\"чч:мм:сс\"))","v":{"$error":"#REF!"}},{"$error":"#REF!"}]
[{"$f":"86400*TIMEVALUE(TEXT(Smp99_Donnees!#REF!,\"чч:мм:сс\"))","v":{"$error":"#REF!"}},{"$f":"86400*TIMEVALUE(TEXT(Smp99_Donnees!#REF!,\"чч:мм:сс\"))","v":{"$error":"#REF!"}},{"$error":"#REF!"}]
[{"$f":"86400*TIMEVALUE(TEXT(Smp99_Donnees!#REF!,\"чч:мм:сс\"))","v":{"$error":"#REF!"}},{"$f":"86400*TIMEVALUE(TEXT(Smp99_Donnees!#REF!,\"чч:мм:сс\"))","v":{"$error":"#REF!"}},{"$error":"#REF!"}]
[{"$f":"86400*TIMEVALUE(TEXT(Smp99_Donnees!#REF!,\"чч:мм:сс\"))","v":{"$error":"#REF!"}},{"$f":"86400*TIMEVALUE(TEXT(Smp99_Donnees!#REF!,\"чч:мм:сс\"))","v":{"$error":"#REF!"}},{"$error":"#REF!"}]
[{"$f":"86400*TIMEVALUE(TEXT(Smp99_Donnees!#REF!,\"чч:мм:сс\"))","v":{"$error":"#REF!"}},{"$f":"86400*TIMEVALUE(TEXT(Smp99_Donnees!#REF!,\"чч:мм:сс\"))","v":{"$error":"#REF!"}},{"$error":"#REF!"}]
[{"$f":"86400*TIMEVALUE(TEXT(Smp99_Donnees!#REF!,\"чч:мм:сс\"))","v":{"$error":"#REF!"}},{"$f":"86400*TIMEVALUE(TEXT(Smp99_Donnees!#REF!,\"чч:мм:сс\"))","v":{"$error":"#REF!"}},{"$error":"#REF!"}]
[{"$f":"86400*TIMEVALUE(TEXT(Smp99_Donnees!#REF!,\"чч:мм:сс\"))","v":{"$error":"#REF!"}},{"$f":"86400*TIMEVALUE(TEXT(Smp99_Donnees!#REF!,\"чч:мм:сс\"))","v":{"$error":"#REF!"}},{"$error":"#REF!"}]
[{"$f":"86400*TIMEVALUE(TEXT(Smp99_Donnees!#REF!,\"чч:мм:сс\"))","v":{"$error":"#REF!"}},{"$f":"86400*TIMEVALUE(TEXT(Smp99_Donnees!#REF!,\"чч:мм:сс\"))","v":{"$error":"#REF!"}},{"$error":"#REF!"}]
[{"$f":"86400*TIMEVALUE(TEXT(Smp99_Donnees!#REF!,\"чч:мм:сс\"))","v":{"$error":"#REF!"}},{"$f":"86400*TIMEVALUE(TEXT(Smp99_Donnees!#REF!,\"чч:мм:сс\"))","v":{"$error":"#REF!"}},{"$error":"#REF!"}]
[{"$f":"86400*TIMEVALUE(TEXT(Smp99_Donnees!#REF!,\"чч:мм:сс\"))","v":{"$error":"#REF!"}},{"$f":"86400*TIMEVALUE(TEXT(Smp99_Donnees!#REF!,\"чч:мм:сс\"))","v":{"$error":"#REF!"}},{"$error":"#REF!"}]
[{"$f":"86400*TIMEVALUE(TEXT(Smp99_Donnees!#REF!,\"чч:мм:сс\"))","v":{"$error":"#REF!"}},{"$f":"86400*TIMEVALUE(TEXT(Smp99_Donnees!#REF!,\"чч:мм:сс\"))","v":{"$error":"#REF!"}},{"$error":"#REF!"}]
[{"$f":"86400*TIMEVALUE(TEXT(Smp99_Donnees!#REF!,\"чч:мм:сс\"))","v":{"$error":"#REF!"}},{"$f":"86400*TIMEVALUE(TEXT(Smp99_Donnees!#REF!,\"чч:мм:сс\"))","v":{"$error":"#REF!"}},{"$error":"#REF!"}]
[{"$f":"86400*TIMEVALUE(TEXT(Smp99_Donnees!#REF!,\"чч:мм:сс\"))","v":{"$error":"#REF!"}},{"$f":"86400*TIMEVALUE(TEXT(Smp99_Donnees!#REF!,\"чч:мм:сс\"))","v":{"$error":"#REF!"}},{"$error":"#REF!"}]
[{"$f":"86400*TIMEVALUE(TEXT(Smp99_Donnees!#REF!,\"чч:мм:сс\"))","v":{"$error":"#REF!"}},{"$f":"86400*TIMEVALUE(TEXT(Smp99_Donnees!#REF!,\"чч:мм:сс\"))","v":{"$error":"#REF!"}},{"$error":"#REF!"}]
[{"$f":"86400*TIMEVALUE(TEXT(Smp99_Donnees!#REF!,\"чч:мм:сс\"))","v":{"$error":"#REF!"}},{"$f":"86400*TIMEVALUE(TEXT(Smp99_Donnees!#REF!,\"чч:мм:сс\"))","v":{"$error":"#REF!"}},{"$error":"#REF!"}]
[{"$f":"86400*TIMEVALUE(TEXT(Smp99_Donnees!#REF!,\"чч:мм:сс\"))","v":{"$error":"#REF!"}},{"$f":"86400*TIMEVALUE(TEXT(Smp99_Donnees!#REF!,\"чч:мм:сс\"))","v":{"$error":"#REF!"}},{"$error":"#REF!"}]
[{"$f":"86400*TIMEVALUE(TEXT(Smp99_Donnees!#REF!,\"чч:мм:сс\"))","v":{"$error":"#REF!"}},{"$f":"86400*TIMEVALUE(TEXT(Smp99_Donnees!#REF!,\"чч:мм:сс\"))","v":{"$error":"#REF!"}},{"$error":"#REF!"}]
[{"$f":"86400*TIMEVALUE(TEXT(Smp99_Donnees!#REF!,\"чч:мм:сс\"))","v":{"$error":"#REF!"}},{"$f":"86400*TIMEVALUE(TEXT(Smp99_Donnees!#REF!,\"чч:мм:сс\"))","v":{"$error":"#REF!"}},{"$error":"#REF!"}]
[{"$f":"86400*TIMEVALUE(TEXT(Smp99_Donnees!#REF!,\"чч:мм:сс\"))","v":{"$error":"#REF!"}},{"$f":"86400*TIMEVALUE(TEXT(Smp99_Donnees!#REF!,\"чч:мм:сс\"))","v":{"$error":"#REF!"}},{"$error":"#REF!"}]
[{"$f":"86400*TIMEVALUE(TEXT(Smp99_Donnees!#REF!,\"чч:мм:сс\"))","v":{"$error":"#REF!"}},{"$f":"86400*TIMEVALUE(TEXT(Smp99_Donnees!#REF!,\"чч:мм:сс\"))","v":{"$error":"#REF!"}},{"$error":"#REF!"}]
[{"$f":"86400*TIMEVALUE(TEXT(Smp99_Donnees!#REF!,\"чч:мм:сс\"))","v":{"$error":"#REF!"}},{"$f":"86400*TIMEVALUE(TEXT(Smp99_Donnees!#REF!,\"чч:мм:сс\"))","v":{"$error":"#REF!"}},{"$error":"#REF!"}]
[{"$f":"86400*TIMEVALUE(TEXT(Smp99_Donnees!#REF!,\"чч:мм:сс\"))","v":{"$error":"#REF!"}},{"$f":"86400*TIMEVALUE(TEXT(Smp99_Donnees!#REF!,\"чч:мм:сс\"))","v":{"$error":"#REF!"}},{"$error":"#REF!"}]
[{"$f":"86400*TIMEVALUE(TEXT(Smp99_Donnees!#REF!,\"чч:мм:сс\"))","v":{"$error":"#REF!"}},{"$f":"86400*TIMEVALUE(TEXT(Smp99_Donnees!#REF!,\"чч:мм:сс\"))","v":{"$error":"#REF!"}},{"$error":"#REF!"}]
[{"$f":"86400*TIMEVALUE(TEXT(Smp99_Donnees!#REF!,\"чч:мм:сс\"))","v":{"$error":"#REF!"}},{"$f":"86400*TIMEVALUE(TEXT(Smp99_Donnees!#REF!,\"чч:мм:сс\"))","v":{"$error":"#REF!"}},{"$error":"#REF!"}]
[{"$f":"86400*TIMEVALUE(TEXT(Smp99_Donnees!#REF!,\"чч:мм:сс\"))","v":{"$error":"#REF!"}},{"$f":"86400*TIMEVALUE(TEXT(Smp99_Donnees!#REF!,\"чч:мм:сс\"))","v":{"$error":"#REF!"}},{"$error":"#REF!"}]
[{"$f":"86400*TIMEVALUE(TEXT(Smp99_Donnees!#REF!,\"чч:мм:сс\"))","v":{"$error":"#REF!"}},{"$f":"86400*TIMEVALUE(TEXT(Smp99_Donnees!#REF!,\"чч:мм:сс\"))","v":{"$error":"#REF!"}},{"$error":"#REF!"}]
[{"$f":"86400*TIMEVALUE(TEXT(Smp99_Donnees!#REF!,\"чч:мм:сс\"))","v":{"$error":"#REF!"}},{"$f":"86400*TIMEVALUE(TEXT(Smp99_Donnees!#REF!,\"чч:мм:сс\"))","v":{"$error":"#REF!"}},{"$error":"#REF!"}]
[{"$f":"86400*TIMEVALUE(TEXT(Smp99_Donnees!#REF!,\"чч:мм:сс\"))","v":{"$error":"#REF!"}},{"$f":"86400*TIMEVALUE(TEXT(Smp99_Donnees!#REF!,\"чч:мм:сс\"))","v":{"$error":"#REF!"}},{"$error":"#REF!"}]
[{"$f":"86400*TIMEVALUE(TEXT(Smp99_Donnees!#REF!,\"чч:мм:сс\"))","v":{"$error":"#REF!"}},{"$f":"86400*TIMEVALUE(TEXT(Smp99_Donnees!#REF!,\"чч:мм:сс\"))","v":{"$error":"#REF!"}},{"$error":"#REF!"}]
[{"$f":"86400*TIMEVALUE(TEXT(Smp99_Donnees!#REF!,\"чч:мм:сс\"))","v":{"$error":"#REF!"}},{"$f":"86400*TIMEVALUE(TEXT(Smp99_Donnees!#REF!,\"чч:мм:сс\"))","v":{"$error":"#REF!"}},{"$error":"#REF!"}]
[{"$f":"86400*TIMEVALUE(TEXT(Smp99_Donnees!#REF!,\"чч:мм:сс\"))","v":{"$error":"#REF!"}},{"$f":"86400*TIMEVALUE(TEXT(Smp99_Donnees!#REF!,\"чч:мм:сс\"))","v":{"$error":"#REF!"}},{"$f":"B130-A130","v":{"$error":"#REF!"}}]
[{"$f":"86400*TIMEVALUE(TEXT(Smp99_Donnees!#REF!,\"чч:мм:сс\"))","v":{"$error":"#REF!"}},{"$f":"86400*TIMEVALUE(TEXT(Smp99_Donnees!#REF!,\"чч:мм:сс\"))","v":{"$error":"#REF!"}},{"$error":"#REF!"}]
[{"$f":"86400*TIMEVALUE(TEXT(Smp99_Donnees!#REF!,\"чч:мм:сс\"))","v":{"$error":"#REF!"}},{"$f":"86400*TIMEVALUE(TEXT(Smp99_Donnees!#REF!,\"чч:мм:сс\"))","v":{"$error":"#REF!"}},{"$error":"#REF!"}]
[{"$f":"86400*TIMEVALUE(TEXT(Smp99_Donnees!#REF!,\"чч:мм:сс\"))","v":{"$error":"#REF!"}},{"$f":"86400*TIMEVALUE(TEXT(Smp99_Donnees!#REF!,\"чч:мм:сс\"))","v":{"$error":"#REF!"}},{"$error":"#REF!"}]
[{"$f":"86400*TIMEVALUE(TEXT(Smp99_Donnees!#REF!,\"чч:мм:сс\"))","v":{"$error":"#REF!"}},{"$f":"86400*TIMEVALUE(TEXT(Smp99_Donnees!#REF!,\"чч:мм:сс\"))","v":{"$error":"#REF!"}},{"$error":"#REF!"}]
[{"$f":"86400*TIMEVALUE(TEXT(Smp99_Donnees!#REF!,\"чч:мм:сс\"))","v":{"$error":"#REF!"}},{"$f":"86400*TIMEVALUE(TEXT(Smp99_Donnees!#REF!,\"чч:мм:сс\"))","v":{"$error":"#REF!"}},{"$error":"#REF!"}]
[{"$f":"86400*TIMEVALUE(TEXT(Smp99_Donnees!#REF!,\"чч:мм:сс\"))","v":{"$error":"#REF!"}},{"$f":"86400*TIMEVALUE(TEXT(Smp99_Donnees!#REF!,\"чч:мм:сс\"))","v":{"$error":"#REF!"}},{"$error":"#REF!"}]
[{"$f":"86400*TIMEVALUE(TEXT(Smp99_Donnees!#REF!,\"чч:мм:сс\"))","v":{"$error":"#REF!"}},{"$f":"86400*TIMEVALUE(TEXT(Smp99_Donnees!#REF!,\"чч:мм:сс\"))","v":{"$error":"#REF!"}},{"$error":"#REF!"}]
[{"$f":"86400*TIMEVALUE(TEXT(Smp99_Donnees!#REF!,\"чч:мм:сс\"))","v":{"$error":"#REF!"}},{"$f":"86400*TIMEVALUE(TEXT(Smp99_Donnees!#REF!,\"чч:мм:сс\"))","v":{"$error":"#REF!"}},{"$error":"#REF!"}]
[{"$f":"86400*TIMEVALUE(TEXT(Smp99_Donnees!#REF!,\"чч:мм:сс\"))","v":{"$error":"#REF!"}},{"$f":"86400*TIMEVALUE(TEXT(Smp99_Donnees!#REF!,\"чч:мм:сс\"))","v":{"$error":"#REF!"}},{"$error":"#REF!"}]
[{"$f":"86400*TIMEVALUE(TEXT(Smp99_Donnees!#REF!,\"чч:мм:сс\"))","v":{"$error":"#REF!"}},{"$f":"86400*TIMEVALUE(TEXT(Smp99_Donnees!#REF!,\"чч:мм:сс\"))","v":{"$error":"#REF!"}},{"$error":"#REF!"}]
[{"$f":"86400*TIMEVALUE(TEXT(Smp99_Donnees!#REF!,\"чч:мм:сс\"))","v":{"$error":"#REF!"}},{"$f":"86400*TIMEVALUE(TEXT(Smp99_Donnees!#REF!,\"чч:мм:сс\"))","v":{"$error":"#REF!"}},{"$error":"#REF!"}]
[{"$f":"86400*TIMEVALUE(TEXT(Smp99_Donnees!#REF!,\"чч:мм:сс\"))","v":{"$error":"#REF!"}},{"$f":"86400*TIMEVALUE(TEXT(Smp99_Donnees!#REF!,\"чч:мм:сс\"))","v":{"$error":"#REF!"}},{"$error":"#REF!"}]
[{"$f":"86400*TIMEVALUE(TEXT(Smp99_Donnees!#REF!,\"чч:мм:сс\"))","v":{"$error":"#REF!"}},{"$f":"86400*TIMEVALUE(TEXT(Smp99_Donnees!#REF!,\"чч:мм:сс\"))","v":{"$error":"#REF!"}},{"$error":"#REF!"}]
[{"$f":"86400*TIMEVALUE(TEXT(Smp99_Donnees!#REF!,\"чч:мм:сс\"))","v":{"$error":"#REF!"}},{"$f":"86400*TIMEVALUE(TEXT(Smp99_Donnees!#REF!,\"чч:мм:сс\"))","v":{"$error":"#REF!"}},{"$error":"#REF!"}]
[{"$f":"86400*TIMEVALUE(TEXT(Smp99_Donnees!#REF!,\"чч:мм:сс\"))","v":{"$error":"#REF!"}},{"$f":"86400*TIMEVALUE(TEXT(Smp99_Donnees!#REF!,\"чч:мм:сс\"))","v":{"$error":"#REF!"}},{"$error":"#REF!"}]
[{"$f":"86400*TIMEVALUE(TEXT(Smp99_Donnees!#REF!,\"чч:мм:сс\"))","v":{"$error":"#REF!"}},{"$f":"86400*TIMEVALUE(TEXT(Smp99_Donnees!#REF!,\"чч:мм:сс\"))","v":{"$error":"#REF!"}},{"$error":"#REF!"}]
[{"$f":"86400*TIMEVALUE(TEXT(Smp99_Donnees!#REF!,\"чч:мм:сс\"))","v":{"$error":"#REF!"}},{"$f":"86400*TIMEVALUE(TEXT(Smp99_Donnees!#REF!,\"чч:мм:сс\"))","v":{"$error":"#REF!"}},{"$error":"#REF!"}]
[{"$f":"86400*TIMEVALUE(TEXT(Smp99_Donnees!#REF!,\"чч:мм:сс\"))","v":{"$error":"#REF!"}},{"$f":"86400*TIMEVALUE(TEXT(Smp99_Donnees!#REF!,\"чч:мм:сс\"))","v":{"$error":"#REF!"}},{"$error":"#REF!"}]
[{"$f":"86400*TIMEVALUE(TEXT(Smp99_Donnees!#REF!,\"чч:мм:сс\"))","v":{"$error":"#REF!"}},{"$f":"86400*TIMEVALUE(TEXT(Smp99_Donnees!#REF!,\"чч:мм:сс\"))","v":{"$error":"#REF!"}},{"$error":"#REF!"}]
[{"$f":"86400*TIMEVALUE(TEXT(Smp99_Donnees!#REF!,\"чч:мм:сс\"))","v":{"$error":"#REF!"}},{"$f":"86400*TIMEVALUE(TEXT(Smp99_Donnees!#REF!,\"чч:мм:сс\"))","v":{"$error":"#REF!"}},{"$error":"#REF!"}]
[{"$f":"86400*TIMEVALUE(TEXT(Smp99_Donnees!#REF!,\"чч:мм:сс\"))","v":{"$error":"#REF!"}},{"$f":"86400*TIMEVALUE(TEXT(Smp99_Donnees!#REF!,\"чч:мм:сс\"))","v":{"$error":"#REF!"}},{"$error":"#REF!"}]
[{"$f":"86400*TIMEVALUE(TEXT(Smp99_Donnees!#REF!,\"чч:мм:сс\"))","v":{"$error":"#REF!"}},{"$f":"86400*TIMEVALUE(TEXT(Smp99_Donnees!#REF!,\"чч:мм:сс\"))","v":{"$error":"#REF!"}},{"$error":"#REF!"}]
[{"$f":"86400*TIMEVALUE(TEXT(Smp99_Donnees!#REF!,\"чч:мм:сс\"))","v":{"$error":"#REF!"}},{"$f":"86400*TIMEVALUE(TEXT(Smp99_Donnees!#REF!,\"чч:мм:сс\"))","v":{"$error":"#REF!"}},{"$error":"#REF!"}]
[{"$f":"86400*TIMEVALUE(TEXT(Smp99_Donnees!#REF!,\"чч:мм:сс\"))","v":{"$error":"#REF!"}},{"$f":"86400*TIMEVALUE(TEXT(Smp99_Donnees!#REF!,\"чч:мм:сс\"))","v":{"$error":"#REF!"}},{"$error":"#REF!"}]
[{"$f":"86400*TIMEVALUE(TEXT(Smp99_Donnees!#REF!,\"чч:мм:сс\"))","v":{"$error":"#REF!"}},{"$f":"86400*TIMEVALUE(TEXT(Smp99_Donnees!#REF!,\"чч:мм:сс\"))","v":{"$error":"#REF!"}},{"$error":"#REF!"}]
[{"$f":"86400*TIMEVALUE(TEXT(Smp99_Donnees!#REF!,\"чч:мм:сс\"))","v":{"$error":"#REF!"}},{"$f":"86400*TIMEVALUE(TEXT(Smp99_Donnees!#REF!,\"чч:мм:сс\"))","v":{"$error":"#REF!"}},{"$error":"#REF!"}]
[{"$f":"86400*TIMEVALUE(TEXT(Smp99_Donnees!#REF!,\"чч:мм:сс\"))","v":{"$error":"#REF!"}},{"$f":"86400*TIMEVALUE(TEXT(Smp99_Donnees!#REF!,\"чч:мм:сс\"))","v":{"$error":"#REF!"}},{"$error":"#REF!"}]
[{"$f":"86400*TIMEVALUE(TEXT(Smp99_Donnees!#REF!,\"чч:мм:сс\"))","v":{"$error":"#REF!"}},{"$f":"86400*TIMEVALUE(TEXT(Smp99_Donnees!#REF!,\"чч:мм:сс\"))","v":{"$error":"#REF!"}},{"$error":"#REF!"}]
[{"$f":"86400*TIMEVALUE(TEXT(Smp99_Donnees!#REF!,\"чч:мм:сс\"))","v":{"$error":"#REF!"}},{"$f":"86400*TIMEVALUE(TEXT(Smp99_Donnees!#REF!,\"чч:мм:сс\"))","v":{"$error":"#REF!"}},{"$error":"#REF!"}]
[{"$f":"86400*TIMEVALUE(TEXT(Smp99_Donnees!#REF!,\"чч:мм:сс\"))","v":{"$error":"#REF!"}},{"$f":"86400*TIMEVALUE(TEXT(Smp99_Donnees!#REF!,\"чч:мм:сс\"))","v":{"$error":"#REF!"}},{"$error":"#REF!"}]
[{"$f":"86400*TIMEVALUE(TEXT(Smp99_Donnees!#REF!,\"чч:мм:сс\"))","v":{"$error":"#REF!"}},{"$f":"86400*TIMEVALUE(TEXT(Smp99_Donnees!#REF!,\"чч:мм:сс\"))","v":{"$error":"#REF!"}},{"$error":"#REF!"}]
[{"$f":"86400*TIMEVALUE(TEXT(Smp99_Donnees!#REF!,\"чч:мм:сс\"))","v":{"$error":"#REF!"}},{"$f":"86400*TIMEVALUE(TEXT(Smp99_Donnees!#REF!,\"чч:мм:сс\"))","v":{"$error":"#REF!"}},{"$error":"#REF!"}]
[{"$f":"86400*TIMEVALUE(TEXT(Smp99_Donnees!#REF!,\"чч:мм:сс\"))","v":{"$error":"#REF!"}},{"$f":"86400*TIMEVALUE(TEXT(Smp99_Donnees!#REF!,\"чч:мм:сс\"))","v":{"$error":"#REF!"}},{"$error":"#REF!"}]
[{"$f":"86400*TIMEVALUE(TEXT(Smp99_Donnees!#REF!,\"чч:мм:сс\"))","v":{"$error":"#REF!"}},{"$f":"86400*TIMEVALUE(TEXT(Smp99_Donnees!#REF!,\"чч:мм:сс\"))","v":{"$error":"#REF!"}},{"$error":"#REF!"}]
[{"$f":"86400*TIMEVALUE(TEXT(Smp99_Donnees!#REF!,\"чч:мм:сс\"))","v":{"$error":"#REF!"}},{"$f":"86400*TIMEVALUE(TEXT(Smp99_Donnees!#REF!,\"чч:мм:сс\"))","v":{"$error":"#REF!"}},{"$error":"#REF!"}]
[{"$f":"86400*TIMEVALUE(TEXT(Smp99_Donnees!#REF!,\"чч:мм:сс\"))","v":{"$error":"#REF!"}},{"$f":"86400*TIMEVALUE(TEXT(Smp99_Donnees!#REF!,\"чч:мм:сс\"))","v":{"$error":"#REF!"}},{"$error":"#REF!"}]
[{"$f":"86400*TIMEVALUE(TEXT(Smp99_Donnees!#REF!,\"чч:мм:сс\"))","v":{"$error":"#REF!"}},{"$f":"86400*TIMEVALUE(TEXT(Smp99_Donnees!#REF!,\"чч:мм:сс\"))","v":{"$error":"#REF!"}},{"$error":"#REF!"}]
[{"$f":"86400*TIMEVALUE(TEXT(Smp99_Donnees!#REF!,\"чч:мм:сс\"))","v":{"$error":"#REF!"}},{"$f":"86400*TIMEVALUE(TEXT(Smp99_Donnees!#REF!,\"чч:мм:сс\"))","v":{"$error":"#REF!"}},{"$error":"#REF!"}]
[{"$f":"86400*TIMEVALUE(TEXT(Smp99_Donnees!#REF!,\"чч:мм:сс\"))","v":{"$error":"#REF!"}},{"$f":"86400*TIMEVALUE(TEXT(Smp99_Donnees!#REF!,\"чч:мм:сс\"))","v":{"$error":"#REF!"}},{"$error":"#REF!"}]
[{"$f":"86400*TIMEVALUE(TEXT(Smp99_Donnees!#REF!,\"чч:мм:сс\"))","v":{"$error":"#REF!"}},{"$f":"86400*TIMEVALUE(TEXT(Smp99_Donnees!#REF!,\"чч:мм:сс\"))","v":{"$error":"#REF!"}},{"$error":"#REF!"}]
[{"$f":"86400*TIMEVALUE(TEXT(Smp99_Donnees!#REF!,\"чч:мм:сс\"))","v":{"$error":"#REF!"}},{"$f":"86400*TIMEVALUE(TEXT(Smp99_Donnees!#REF!,\"чч:мм:сс\"))","v":{"$error":"#REF!"}},{"$error":"#REF!"}]
[{"$f":"86400*TIMEVALUE(TEXT(Smp99_Donnees!#REF!,\"чч:мм:сс\"))","v":{"$error":"#REF!"}},{"$f":"86400*TIMEVALUE(TEXT(Smp99_Donnees!#REF!,\"чч:мм:сс\"))","v":{"$error":"#REF!"}},{"$error":"#REF!"}]
[{"$f":"86400*TIMEVALUE(TEXT(Smp99_Donnees!#REF!,\"чч:мм:сс\"))","v":{"$error":"#REF!"}},{"$f":"86400*TIMEVALUE(TEXT(Smp99_Donnees!#REF!,\"чч:мм:сс\"))","v":{"$error":"#REF!"}},{"$error":"#REF!"}]
[{"$f":"86400*TIMEVALUE(TEXT(Smp99_Donnees!#REF!,\"чч:мм:сс\"))","v":{"$error":"#REF!"}},{"$f":"86400*TIMEVALUE(TEXT(Smp99_Donnees!#REF!,\"чч:мм:сс\"))","v":{"$error":"#REF!"}},{"$error":"#REF!"}]
[{"$f":"86400*TIMEVALUE(TEXT(Smp99_Donnees!#REF!,\"чч:мм:сс\"))","v":{"$error":"#REF!"}},{"$f":"86400*TIMEVALUE(TEXT(Smp99_Donnees!#REF!,\"чч:мм:сс\"))","v":{"$error":"#REF!"}},{"$error":"#REF!"}]
[{"$f":"86400*TIMEVALUE(TEXT(Smp99_Donnees!#REF!,\"чч:мм:сс\"))","v":{"$error":"#REF!"}},{"$f":"86400*TIMEVALUE(TEXT(Smp99_Donnees!#REF!,\"чч:мм:сс\"))","v":{"$error":"#REF!"}},{"$error":"#REF!"}]
[{"$f":"86400*TIMEVALUE(TEXT(Smp99_Donnees!#REF!,\"чч:мм:сс\"))","v":{"$error":"#REF!"}},{"$f":"86400*TIMEVALUE(TEXT(Smp99_Donnees!#REF!,\"чч:мм:сс\"))","v":{"$error":"#REF!"}},{"$error":"#REF!"}]
[{"$f":"86400*TIMEVALUE(TEXT(Smp99_Donnees!#REF!,\"чч:мм:сс\"))","v":{"$error":"#REF!"}},{"$f":"86400*TIMEVALUE(TEXT(Smp99_Donnees!#REF!,\"чч:мм:сс\"))","v":{"$error":"#REF!"}},{"$error":"#REF!"}]
[{"$f":"86400*TIMEVALUE(TEXT(Smp99_Donnees!#REF!,\"чч:мм:сс\"))","v":{"$error":"#REF!"}},{"$f":"86400*TIMEVALUE(TEXT(Smp99_Donnees!#REF!,\"чч:мм:сс\"))","v":{"$error":"#REF!"}},{"$error":"#REF!"}]
[{"$f":"86400*TIMEVALUE(TEXT(Smp99_Donnees!#REF!,\"чч:мм:сс\"))","v":{"$error":"#REF!"}},{"$f":"86400*TIMEVALUE(TEXT(Smp99_Donnees!#REF!,\"чч:мм:сс\"))","v":{"$error":"#REF!"}},{"$error":"#REF!"}]
[{"$f":"86400*TIMEVALUE(TEXT(Smp99_Donnees!#REF!,\"чч:мм:сс\"))","v":{"$error":"#REF!"}},{"$f":"86400*TIMEVALUE(TEXT(Smp99_Donnees!#REF!,\"чч:мм:сс\"))","v":{"$error":"#REF!"}},{"$error":"#REF!"}]
[{"$f":"86400*TIMEVALUE(TEXT(Smp99_Donnees!#REF!,\"чч:мм:сс\"))","v":{"$error":"#REF!"}},{"$f":"86400*TIMEVALUE(TEXT(Smp99_Donnees!#REF!,\"чч:мм:сс\"))","v":{"$error":"#REF!"}},{"$error":"#REF!"}]
[{"$f":"86400*TIMEVALUE(TEXT(Smp99_Donnees!#REF!,\"чч:мм:сс\"))","v":{"$error":"#REF!"}},{"$f":"86400*TIMEVALUE(TEXT(Smp99_Donnees!#REF!,\"чч:мм:сс\"))","v":{"$error":"#REF!"}},{"$error":"#REF!"}]
[{"$f":"86400*TIMEVALUE(TEXT(Smp99_Donnees!#REF!,\"чч:мм:сс\"))","v":{"$error":"#REF!"}},{"$f":"86400*TIMEVALUE(TEXT(Smp99_Donnees!#REF!,\"чч:мм:сс\"))","v":{"$error":"#REF!"}},{"$error":"#REF!"}]
[{"$f":"86400*TIMEVALUE(TEXT(Smp99_Donnees!#REF!,\"чч:мм:сс\"))","v":{"$error":"#REF!"}},{"$f":"86400*TIMEVALUE(TEXT(Smp99_Donnees!#REF!,\"чч:мм:сс\"))","v":{"$error":"#REF!"}},{"$error":"#REF!"}]
[{"$f":"86400*TIMEVALUE(TEXT(Smp99_Donnees!#REF!,\"чч:мм:сс\"))","v":{"$error":"#REF!"}},{"$f":"86400*TIMEVALUE(TEXT(Smp99_Donnees!#REF!,\"чч:мм:сс\"))","v":{"$error":"#REF!"}},{"$error":"#REF!"}]
[{"$f":"86400*TIMEVALUE(TEXT(Smp99_Donnees!#REF!,\"чч:мм:сс\"))","v":{"$error":"#REF!"}},{"$f":"86400*TIMEVALUE(TEXT(Smp99_Donnees!#REF!,\"чч:мм:сс\"))","v":{"$error":"#REF!"}},{"$error":"#REF!"}]
[{"$f":"86400*TIMEVALUE(TEXT(Smp99_Donnees!#REF!,\"чч:мм:сс\"))","v":{"$error":"#REF!"}},{"$f":"86400*TIMEVALUE(TEXT(Smp99_Donnees!#REF!,\"чч:мм:сс\"))","v":{"$error":"#REF!"}},{"$error":"#REF!"}]
[{"$f":"86400*TIMEVALUE(TEXT(Smp99_Donnees!#REF!,\"чч:мм:сс\"))","v":{"$error":"#REF!"}},{"$f":"86400*TIMEVALUE(TEXT(Smp99_Donnees!#REF!,\"чч:мм:сс\"))","v":{"$error":"#REF!"}},{"$error":"#REF!"}]
[{"$f":"86400*TIMEVALUE(TEXT(Smp99_Donnees!#REF!,\"чч:мм:сс\"))","v":{"$error":"#REF!"}},{"$f":"86400*TIMEVALUE(TEXT(Smp99_Donnees!#REF!,\"чч:мм:сс\"))","v":{"$error":"#REF!"}},{"$error":"#REF!"}]
[{"$f":"86400*TIMEVALUE(TEXT(Smp99_Donnees!#REF!,\"чч:мм:сс\"))","v":{"$error":"#REF!"}},{"$f":"86400*TIMEVALUE(TEXT(Smp99_Donnees!#REF!,\"чч:мм:сс\"))","v":{"$error":"#REF!"}},{"$error":"#REF!"}]
[{"$f":"86400*TIMEVALUE(TEXT(Smp99_Donnees!#REF!,\"чч:мм:сс\"))","v":{"$error":"#REF!"}},{"$f":"86400*TIMEVALUE(TEXT(Smp99_Donnees!#REF!,\"чч:мм:сс\"))","v":{"$error":"#REF!"}},{"$error":"#REF!"}]
[{"$f":"86400*TIMEVALUE(TEXT(Smp99_Donnees!#REF!,\"чч:мм:сс\"))","v":{"$error":"#REF!"}},{"$f":"86400*TIMEVALUE(TEXT(Smp99_Donnees!#REF!,\"чч:мм:сс\"))","v":{"$error":"#REF!"}},{"$error":"#REF!"}]
[{"$f":"86400*TIMEVALUE(TEXT(Smp99_Donnees!#REF!,\"чч:мм:сс\"))","v":{"$error":"#REF!"}},{"$f":"86400*TIMEVALUE(TEXT(Smp99_Donnees!#REF!,\"чч:мм:сс\"))","v":{"$error":"#REF!"}},{"$f":"B194-A194","v":{"$error":"#REF!"}}]
[{"$f":"86400*TIMEVALUE(TEXT(Smp99_Donnees!#REF!,\"чч:мм:сс\"))","v":{"$error":"#REF!"}},{"$f":"86400*TIMEVALUE(TEXT(Smp99_Donnees!#REF!,\"чч:мм:сс\"))","v":{"$error":"#REF!"}},{"$error":"#REF!"}]
[{"$f":"86400*TIMEVALUE(TEXT(Smp99_Donnees!#REF!,\"чч:мм:сс\"))","v":{"$error":"#REF!"}},{"$f":"86400*TIMEVALUE(TEXT(Smp99_Donnees!#REF!,\"чч:мм:сс\"))","v":{"$error":"#REF!"}},{"$error":"#REF!"}]
[{"$f":"86400*TIMEVALUE(TEXT(Smp99_Donnees!#REF!,\"чч:мм:сс\"))","v":{"$error":"#REF!"}},{"$f":"86400*TIMEVALUE(TEXT(Smp99_Donnees!#REF!,\"чч:мм:сс\"))","v":{"$error":"#REF!"}},{"$error":"#REF!"}]
[{"$f":"86400*TIMEVALUE(TEXT(Smp99_Donnees!#REF!,\"чч:мм:сс\"))","v":{"$error":"#REF!"}},{"$f":"86400*TIMEVALUE(TEXT(Smp99_Donnees!#REF!,\"чч:мм:сс\"))","v":{"$error":"#REF!"}},{"$error":"#REF!"}]
[{"$f":"86400*TIMEVALUE(TEXT(Smp99_Donnees!#REF!,\"чч:мм:сс\"))","v":{"$error":"#REF!"}},{"$f":"86400*TIMEVALUE(TEXT(Smp99_Donnees!#REF!,\"чч:мм:сс\"))","v":{"$error":"#REF!"}},{"$error":"#REF!"}]
[{"$f":"86400*TIMEVALUE(TEXT(Smp99_Donnees!#REF!,\"чч:мм:сс\"))","v":{"$error":"#REF!"}},{"$f":"86400*TIMEVALUE(TEXT(Smp99_Donnees!#REF!,\"чч:мм:сс\"))","v":{"$error":"#REF!"}},{"$error":"#REF!"}]
[{"$f":"86400*TIMEVALUE(TEXT(Smp99_Donnees!#REF!,\"чч:мм:сс\"))","v":{"$error":"#REF!"}},{"$f":"86400*TIMEVALUE(TEXT(Smp99_Donnees!#REF!,\"чч:мм:сс\"))","v":{"$error":"#REF!"}},{"$error":"#REF!"}]
[{"$f":"86400*TIMEVALUE(TEXT(Smp99_Donnees!#REF!,\"чч:мм:сс\"))","v":{"$error":"#REF!"}},{"$f":"86400*TIMEVALUE(TEXT(Smp99_Donnees!#REF!,\"чч:мм:сс\"))","v":{"$error":"#REF!"}},{"$error":"#REF!"}]
[{"$f":"86400*TIMEVALUE(TEXT(Smp99_Donnees!#REF!,\"чч:мм:сс\"))","v":{"$error":"#REF!"}},{"$f":"86400*TIMEVALUE(TEXT(Smp99_Donnees!#REF!,\"чч:мм:сс\"))","v":{"$error":"#REF!"}},{"$error":"#REF!"}]
[{"$f":"86400*TIMEVALUE(TEXT(Smp99_Donnees!#REF!,\"чч:мм:сс\"))","v":{"$error":"#REF!"}},{"$f":"86400*TIMEVALUE(TEXT(Smp99_Donnees!#REF!,\"чч:мм:сс\"))","v":{"$error":"#REF!"}},{"$error":"#REF!"}]
[{"$f":"86400*TIMEVALUE(TEXT(Smp99_Donnees!#REF!,\"чч:мм:сс\"))","v":{"$error":"#REF!"}},{"$f":"86400*TIMEVALUE(TEXT(Smp99_Donnees!#REF!,\"чч:мм:сс\"))","v":{"$error":"#REF!"}},{"$error":"#REF!"}]
[{"$f":"86400*TIMEVALUE(TEXT(Smp99_Donnees!#REF!,\"чч:мм:сс\"))","v":{"$error":"#REF!"}},{"$f":"86400*TIMEVALUE(TEXT(Smp99_Donnees!#REF!,\"чч:мм:сс\"))","v":{"$error":"#REF!"}},{"$error":"#REF!"}]
[{"$f":"86400*TIMEVALUE(TEXT(Smp99_Donnees!#REF!,\"чч:мм:сс\"))","v":{"$error":"#REF!"}},{"$f":"86400*TIMEVALUE(TEXT(Smp99_Donnees!#REF!,\"чч:мм:сс\"))","v":{"$error":"#REF!"}},{"$error":"#REF!"}]
[{"$f":"86400*TIMEVALUE(TEXT(Smp99_Donnees!#REF!,\"чч:мм:сс\"))","v":{"$error":"#REF!"}},{"$f":"86400*TIMEVALUE(TEXT(Smp99_Donnees!#REF!,\"чч:мм:сс\"))","v":{"$error":"#REF!"}},{"$error":"#REF!"}]
[{"$f":"86400*TIMEVALUE(TEXT(Smp99_Donnees!#REF!,\"чч:мм:сс\"))","v":{"$error":"#REF!"}},{"$f":"86400*TIMEVALUE(TEXT(Smp99_Donnees!#REF!,\"чч:мм:сс\"))","v":{"$error":"#REF!"}},{"$error":"#REF!"}]
[{"$f":"86400*TIMEVALUE(TEXT(Smp99_Donnees!#REF!,\"чч:мм:сс\"))","v":{"$error":"#REF!"}},{"$f":"86400*TIMEVALUE(TEXT(Smp99_Donnees!#REF!,\"чч:мм:сс\"))","v":{"$error":"#REF!"}},{"$error":"#REF!"}]
[{"$f":"86400*TIMEVALUE(TEXT(Smp99_Donnees!#REF!,\"чч:мм:сс\"))","v":{"$error":"#REF!"}},{"$f":"86400*TIMEVALUE(TEXT(Smp99_Donnees!#REF!,\"чч:мм:сс\"))","v":{"$error":"#REF!"}},{"$error":"#REF!"}]
[{"$f":"86400*TIMEVALUE(TEXT(Smp99_Donnees!#REF!,\"чч:мм:сс\"))","v":{"$error":"#REF!"}},{"$f":"86400*TIMEVALUE(TEXT(Smp99_Donnees!#REF!,\"чч:мм:сс\"))","v":{"$error":"#REF!"}},{"$error":"#REF!"}]
[{"$f":"86400*TIMEVALUE(TEXT(Smp99_Donnees!#REF!,\"чч:мм:сс\"))","v":{"$error":"#REF!"}},{"$f":"86400*TIMEVALUE(TEXT(Smp99_Donnees!#REF!,\"чч:мм:сс\"))","v":{"$error":"#REF!"}},{"$error":"#REF!"}]
[{"$f":"86400*TIMEVALUE(TEXT(Smp99_Donnees!#REF!,\"чч:мм:сс\"))","v":{"$error":"#REF!"}},{"$f":"86400*TIMEVALUE(TEXT(Smp99_Donnees!#REF!,\"чч:мм:сс\"))","v":{"$error":"#REF!"}},{"$error":"#REF!"}]
[{"$f":"86400*TIMEVALUE(TEXT(Smp99_Donnees!#REF!,\"чч:мм:сс\"))","v":{"$error":"#REF!"}},{"$f":"86400*TIMEVALUE(TEXT(Smp99_Donnees!#REF!,\"чч:мм:сс\"))","v":{"$error":"#REF!"}},{"$error":"#REF!"}]
[{"$f":"86400*TIMEVALUE(TEXT(Smp99_Donnees!#REF!,\"чч:мм:сс\"))","v":{"$error":"#REF!"}},{"$f":"86400*TIMEVALUE(TEXT(Smp99_Donnees!#REF!,\"чч:мм:сс\"))","v":{"$error":"#REF!"}},{"$error":"#REF!"}]
[{"$f":"86400*TIMEVALUE(TEXT(Smp99_Donnees!#REF!,\"чч:мм:сс\"))","v":{"$error":"#REF!"}},{"$f":"86400*TIMEVALUE(TEXT(Smp99_Donnees!#REF!,\"чч:мм:сс\"))","v":{"$error":"#REF!"}},{"$error":"#REF!"}]
[{"$f":"86400*TIMEVALUE(TEXT(Smp99_Donnees!#REF!,\"чч:мм:сс\"))","v":{"$error":"#REF!"}},{"$f":"86400*TIMEVALUE(TEXT(Smp99_Donnees!#REF!,\"чч:мм:сс\"))","v":{"$error":"#REF!"}},{"$error":"#REF!"}]
[{"$f":"86400*TIMEVALUE(TEXT(Smp99_Donnees!#REF!,\"чч:мм:сс\"))","v":{"$error":"#REF!"}},{"$f":"86400*TIMEVALUE(TEXT(Smp99_Donnees!#REF!,\"чч:мм:сс\"))","v":{"$error":"#REF!"}},{"$error":"#REF!"}]
[{"$f":"86400*TIMEVALUE(TEXT(Smp99_Donnees!#REF!,\"чч:мм:сс\"))","v":{"$error":"#REF!"}},{"$f":"86400*TIMEVALUE(TEXT(Smp99_Donnees!#REF!,\"чч:мм:сс\"))","v":{"$error":"#REF!"}},{"$error":"#REF!"}]
[{"$f":"86400*TIMEVALUE(TEXT(Smp99_Donnees!#REF!,\"чч:мм:сс\"))","v":{"$error":"#REF!"}},{"$f":"86400*TIMEVALUE(TEXT(Smp99_Donnees!#REF!,\"чч:мм:сс\"))","v":{"$error":"#REF!"}},{"$error":"#REF!"}]
[{"$f":"86400*TIMEVALUE(TEXT(Smp99_Donnees!#REF!,\"чч:мм:сс\"))","v":{"$error":"#REF!"}},{"$f":"86400*TIMEVALUE(TEXT(Smp99_Donnees!#REF!,\"чч:мм:сс\"))","v":{"$error":"#REF!"}},{"$error":"#REF!"}]
[{"$f":"86400*TIMEVALUE(TEXT(Smp99_Donnees!#REF!,\"чч:мм:сс\"))","v":{"$error":"#REF!"}},{"$f":"86400*TIMEVALUE(TEXT(Smp99_Donnees!#REF!,\"чч:мм:сс\"))","v":{"$error":"#REF!"}},{"$error":"#REF!"}]
[{"$f":"86400*TIMEVALUE(TEXT(Smp99_Donnees!#REF!,\"чч:мм:сс\"))","v":{"$error":"#REF!"}},{"$f":"86400*TIMEVALUE(TEXT(Smp99_Donnees!#REF!,\"чч:мм:сс\"))","v":{"$error":"#REF!"}},{"$error":"#REF!"}]
[{"$f":"86400*TIMEVALUE(TEXT(Smp99_Donnees!#REF!,\"чч:мм:сс\"))","v":{"$error":"#REF!"}},{"$f":"86400*TIMEVALUE(TEXT(Smp99_Donnees!#REF!,\"чч:мм:сс\"))","v":{"$error":"#REF!"}},{"$error":"#REF!"}]
[{"$f":"86400*TIMEVALUE(TEXT(Smp99_Donnees!#REF!,\"чч:мм:сс\"))","v":{"$error":"#REF!"}},{"$f":"86400*TIMEVALUE(TEXT(Smp99_Donnees!#REF!,\"чч:мм:сс\"))","v":{"$error":"#REF!"}},{"$error":"#REF!"}]
[{"$f":"86400*TIMEVALUE(TEXT(Smp99_Donnees!#REF!,\"чч:мм:сс\"))","v":{"$error":"#REF!"}},{"$f":"86400*TIMEVALUE(TEXT(Smp99_Donnees!#REF!,\"чч:мм:сс\"))","v":{"$error":"#REF!"}},{"$error":"#REF!"}]
[{"$f":"86400*TIMEVALUE(TEXT(Smp99_Donnees!#REF!,\"чч:мм:сс\"))","v":{"$error":"#REF!"}},{"$f":"86400*TIMEVALUE(TEXT(Smp99_Donnees!#REF!,\"чч:мм:сс\"))","v":{"$error":"#REF!"}},{"$error":"#REF!"}]
[{"$f":"86400*TIMEVALUE(TEXT(Smp99_Donnees!#REF!,\"чч:мм:сс\"))","v":{"$error":"#REF!"}},{"$f":"86400*TIMEVALUE(TEXT(Smp99_Donnees!#REF!,\"чч:мм:сс\"))","v":{"$error":"#REF!"}},{"$error":"#REF!"}]
[{"$f":"86400*TIMEVALUE(TEXT(Smp99_Donnees!#REF!,\"чч:мм:сс\"))","v":{"$error":"#REF!"}},{"$f":"86400*TIMEVALUE(TEXT(Smp99_Donnees!#REF!,\"чч:мм:сс\"))","v":{"$error":"#REF!"}},{"$error":"#REF!"}]
[{"$f":"86400*TIMEVALUE(TEXT(Smp99_Donnees!#REF!,\"чч:мм:сс\"))","v":{"$error":"#REF!"}},{"$f":"86400*TIMEVALUE(TEXT(Smp99_Donnees!#REF!,\"чч:мм:сс\"))","v":{"$error":"#REF!"}},{"$error":"#REF!"}]
[{"$f":"86400*TIMEVALUE(TEXT(Smp99_Donnees!#REF!,\"чч:мм:сс\"))","v":{"$error":"#REF!"}},{"$f":"86400*TIMEVALUE(TEXT(Smp99_Donnees!#REF!,\"чч:мм:сс\"))","v":{"$error":"#REF!"}},{"$error":"#REF!"}]
[{"$f":"86400*TIMEVALUE(TEXT(Smp99_Donnees!#REF!,\"чч:мм:сс\"))","v":{"$error":"#REF!"}},{"$f":"86400*TIMEVALUE(TEXT(Smp99_Donnees!#REF!,\"чч:мм:сс\"))","v":{"$error":"#REF!"}},{"$error":"#REF!"}]
[{"$f":"86400*TIMEVALUE(TEXT(Smp99_Donnees!#REF!,\"чч:мм:сс\"))","v":{"$error":"#REF!"}},{"$f":"86400*TIMEVALUE(TEXT(Smp99_Donnees!#REF!,\"чч:мм:сс\"))","v":{"$error":"#REF!"}},{"$error":"#REF!"}]
[{"$f":"86400*TIMEVALUE(TEXT(Smp99_Donnees!#REF!,\"чч:мм:сс\"))","v":{"$error":"#REF!"}},{"$f":"86400*TIMEVALUE(TEXT(Smp99_Donnees!#REF!,\"чч:мм:сс\"))","v":{"$error":"#REF!"}},{"$error":"#REF!"}]
[{"$f":"86400*TIMEVALUE(TEXT(Smp99_Donnees!#REF!,\"чч:мм:сс\"))","v":{"$error":"#REF!"}},{"$f":"86400*TIMEVALUE(TEXT(Smp99_Donnees!#REF!,\"чч:мм:сс\"))","v":{"$error":"#REF!"}},{"$error":"#REF!"}]
[{"$f":"86400*TIMEVALUE(TEXT(Smp99_Donnees!#REF!,\"чч:мм:сс\"))","v":{"$error":"#REF!"}},{"$f":"86400*TIMEVALUE(TEXT(Smp99_Donnees!#REF!,\"чч:мм:сс\"))","v":{"$error":"#REF!"}},{"$error":"#REF!"}]
[{"$f":"86400*TIMEVALUE(TEXT(Smp99_Donnees!#REF!,\"чч:мм:сс\"))","v":{"$error":"#REF!"}},{"$f":"86400*TIMEVALUE(TEXT(Smp99_Donnees!#REF!,\"чч:мм:сс\"))","v":{"$error":"#REF!"}},{"$error":"#REF!"}]
[{"$f":"86400*TIMEVALUE(TEXT(Smp99_Donnees!#REF!,\"чч:мм:сс\"))","v":{"$error":"#REF!"}},{"$f":"86400*TIMEVALUE(TEXT(Smp99_Donnees!#REF!,\"чч:мм:сс\"))","v":{"$error":"#REF!"}},{"$error":"#REF!"}]
[{"$f":"86400*TIMEVALUE(TEXT(Smp99_Donnees!#REF!,\"чч:мм:сс\"))","v":{"$error":"#REF!"}},{"$f":"86400*TIMEVALUE(TEXT(Smp99_Donnees!#REF!,\"чч:мм:сс\"))","v":{"$error":"#REF!"}},{"$error":"#REF!"}]
[{"$f":"86400*TIMEVALUE(TEXT(Smp99_Donnees!#REF!,\"чч:мм:сс\"))","v":{"$error":"#REF!"}},{"$f":"86400*TIMEVALUE(TEXT(Smp99_Donnees!#REF!,\"чч:мм:сс\"))","v":{"$error":"#REF!"}},{"$error":"#REF!"}]
[{"$f":"86400*TIMEVALUE(TEXT(Smp99_Donnees!#REF!,\"чч:мм:сс\"))","v":{"$error":"#REF!"}},{"$f":"86400*TIMEVALUE(TEXT(Smp99_Donnees!#REF!,\"чч:мм:сс\"))","v":{"$error":"#REF!"}},{"$error":"#REF!"}]
[{"$f":"86400*TIMEVALUE(TEXT(Smp99_Donnees!#REF!,\"чч:мм:сс\"))","v":{"$error":"#REF!"}},{"$f":"86400*TIMEVALUE(TEXT(Smp99_Donnees!#REF!,\"чч:мм:сс\"))","v":{"$error":"#REF!"}},{"$error":"#REF!"}]
[{"$f":"86400*TIMEVALUE(TEXT(Smp99_Donnees!#REF!,\"чч:мм:сс\"))","v":{"$error":"#REF!"}},{"$f":"86400*TIMEVALUE(TEXT(Smp99_Donnees!#REF!,\"чч:мм:сс\"))","v":{"$error":"#REF!"}},{"$error":"#REF!"}]
[{"$f":"86400*TIMEVALUE(TEXT(Smp99_Donnees!#REF!,\"чч:мм:сс\"))","v":{"$error":"#REF!"}},{"$f":"86400*TIMEVALUE(TEXT(Smp99_Donnees!#REF!,\"чч:мм:сс\"))","v":{"$error":"#REF!"}},{"$error":"#REF!"}]
[{"$f":"86400*TIMEVALUE(TEXT(Smp99_Donnees!#REF!,\"чч:мм:сс\"))","v":{"$error":"#REF!"}},{"$f":"86400*TIMEVALUE(TEXT(Smp99_Donnees!#REF!,\"чч:мм:сс\"))","v":{"$error":"#REF!"}},{"$error":"#REF!"}]
[{"$f":"86400*TIMEVALUE(TEXT(Smp99_Donnees!#REF!,\"чч:мм:сс\"))","v":{"$error":"#REF!"}},{"$f":"86400*TIMEVALUE(TEXT(Smp99_Donnees!#REF!,\"чч:мм:сс\"))","v":{"$error":"#REF!"}},{"$error":"#REF!"}]
[{"$f":"86400*TIMEVALUE(TEXT(Smp99_Donnees!#REF!,\"чч:мм:сс\"))","v":{"$error":"#REF!"}},{"$f":"86400*TIMEVALUE(TEXT(Smp99_Donnees!#REF!,\"чч:мм:сс\"))","v":{"$error":"#REF!"}},{"$error":"#REF!"}]
[{"$f":"86400*TIMEVALUE(TEXT(Smp99_Donnees!#REF!,\"чч:мм:сс\"))","v":{"$error":"#REF!"}},{"$f":"86400*TIMEVALUE(TEXT(Smp99_Donnees!#REF!,\"чч:мм:сс\"))","v":{"$error":"#REF!"}},{"$error":"#REF!"}]
[{"$f":"86400*TIMEVALUE(TEXT(Smp99_Donnees!#REF!,\"чч:мм:сс\"))","v":{"$error":"#REF!"}},{"$f":"86400*TIMEVALUE(TEXT(Smp99_Donnees!#REF!,\"чч:мм:сс\"))","v":{"$error":"#REF!"}},{"$error":"#REF!"}]
[{"$f":"86400*TIMEVALUE(TEXT(Smp99_Donnees!#REF!,\"чч:мм:сс\"))","v":{"$error":"#REF!"}},{"$f":"86400*TIMEVALUE(TEXT(Smp99_Donnees!#REF!,\"чч:мм:сс\"))","v":{"$error":"#REF!"}},{"$error":"#REF!"}]
[{"$f":"86400*TIMEVALUE(TEXT(Smp99_Donnees!#REF!,\"чч:мм:сс\"))","v":{"$error":"#REF!"}},{"$f":"86400*TIMEVALUE(TEXT(Smp99_Donnees!#REF!,\"чч:мм:сс\"))","v":{"$error":"#REF!"}},{"$error":"#REF!"}]
[{"$f":"86400*TIMEVALUE(TEXT(Smp99_Donnees!#REF!,\"чч:мм:сс\"))","v":{"$error":"#REF!"}},{"$f":"86400*TIMEVALUE(TEXT(Smp99_Donnees!#REF!,\"чч:мм:сс\"))","v":{"$error":"#REF!"}},{"$error":"#REF!"}]
[{"$f":"86400*TIMEVALUE(TEXT(Smp99_Donnees!#REF!,\"чч:мм:сс\"))","v":{"$error":"#REF!"}},{"$f":"86400*TIMEVALUE(TEXT(Smp99_Donnees!#REF!,\"чч:мм:сс\"))","v":{"$error":"#REF!"}},{"$error":"#REF!"}]
[{"$f":"86400*TIMEVALUE(TEXT(Smp99_Donnees!#REF!,\"чч:мм:сс\"))","v":{"$error":"#REF!"}},{"$f":"86400*TIMEVALUE(TEXT(Smp99_Donnees!#REF!,\"чч:мм:сс\"))","v":{"$error":"#REF!"}},{"$error":"#REF!"}]
[{"$f":"86400*TIMEVALUE(TEXT(Smp99_Donnees!#REF!,\"чч:мм:сс\"))","v":{"$error":"#REF!"}},{"$f":"86400*TIMEVALUE(TEXT(Smp99_Donnees!#REF!,\"чч:мм:сс\"))","v":{"$error":"#REF!"}},{"$error":"#REF!"}]
[{"$f":"86400*TIMEVALUE(TEXT(Smp99_Donnees!#REF!,\"чч:мм:сс\"))","v":{"$error":"#REF!"}},{"$f":"86400*TIMEVALUE(TEXT(Smp99_Donnees!#REF!,\"чч:мм:сс\"))","v":{"$error":"#REF!"}},{"$error":"#REF!"}]
[{"$f":"86400*TIMEVALUE(TEXT(Smp99_Donnees!#REF!,\"чч:мм:сс\"))","v":{"$error":"#REF!"}},{"$f":"86400*TIMEVALUE(TEXT(Smp99_Donnees!#REF!,\"чч:мм:сс\"))","v":{"$error":"#REF!"}},{"$f":"B258-A258","v":{"$error":"#REF!"}}]
[{"$f":"86400*TIMEVALUE(TEXT(Smp99_Donnees!#REF!,\"чч:мм:сс\"))","v":{"$error":"#REF!"}},{"$f":"86400*TIMEVALUE(TEXT(Smp99_Donnees!#REF!,\"чч:мм:сс\"))","v":{"$error":"#REF!"}},{"$error":"#REF!"}]
[{"$f":"86400*TIMEVALUE(TEXT(Smp99_Donnees!#REF!,\"чч:мм:сс\"))","v":{"$error":"#REF!"}},{"$f":"86400*TIMEVALUE(TEXT(Smp99_Donnees!#REF!,\"чч:мм:сс\"))","v":{"$error":"#REF!"}},{"$error":"#REF!"}]
[{"$f":"86400*TIMEVALUE(TEXT(Smp99_Donnees!#REF!,\"чч:мм:сс\"))","v":{"$error":"#REF!"}},{"$f":"86400*TIMEVALUE(TEXT(Smp99_Donnees!#REF!,\"чч:мм:сс\"))","v":{"$error":"#REF!"}},{"$error":"#REF!"}]
[{"$f":"86400*TIMEVALUE(TEXT(Smp99_Donnees!#REF!,\"чч:мм:сс\"))","v":{"$error":"#REF!"}},{"$f":"86400*TIMEVALUE(TEXT(Smp99_Donnees!#REF!,\"чч:мм:сс\"))","v":{"$error":"#REF!"}},{"$error":"#REF!"}]
[{"$f":"86400*TIMEVALUE(TEXT(Smp99_Donnees!#REF!,\"чч:мм:сс\"))","v":{"$error":"#REF!"}},{"$f":"86400*TIMEVALUE(TEXT(Smp99_Donnees!#REF!,\"чч:мм:сс\"))","v":{"$error":"#REF!"}},{"$error":"#REF!"}]
[{"$f":"86400*TIMEVALUE(TEXT(Smp99_Donnees!#REF!,\"чч:мм:сс\"))","v":{"$error":"#REF!"}},{"$f":"86400*TIMEVALUE(TEXT(Smp99_Donnees!#REF!,\"чч:мм:сс\"))","v":{"$error":"#REF!"}},{"$error":"#REF!"}]
[{"$f":"86400*TIMEVALUE(TEXT(Smp99_Donnees!#REF!,\"чч:мм:сс\"))","v":{"$error":"#REF!"}},{"$f":"86400*TIMEVALUE(TEXT(Smp99_Donnees!#REF!,\"чч:мм:сс\"))","v":{"$error":"#REF!"}},{"$error":"#REF!"}]
[{"$f":"86400*TIMEVALUE(TEXT(Smp99_Donnees!#REF!,\"чч:мм:сс\"))","v":{"$error":"#REF!"}},{"$f":"86400*TIMEVALUE(TEXT(Smp99_Donnees!#REF!,\"чч:мм:сс\"))","v":{"$error":"#REF!"}},{"$error":"#REF!"}]
[{"$f":"86400*TIMEVALUE(TEXT(Smp99_Donnees!#REF!,\"чч:мм:сс\"))","v":{"$error":"#REF!"}},{"$f":"86400*TIMEVALUE(TEXT(Smp99_Donnees!#REF!,\"чч:мм:сс\"))","v":{"$error":"#REF!"}},{"$error":"#REF!"}]
[{"$f":"86400*TIMEVALUE(TEXT(Smp99_Donnees!#REF!,\"чч:мм:сс\"))","v":{"$error":"#REF!"}},{"$f":"86400*TIMEVALUE(TEXT(Smp99_Donnees!#REF!,\"чч:мм:сс\"))","v":{"$error":"#REF!"}},{"$error":"#REF!"}]
[{"$f":"86400*TIMEVALUE(TEXT(Smp99_Donnees!#REF!,\"чч:мм:сс\"))","v":{"$error":"#REF!"}},{"$f":"86400*TIMEVALUE(TEXT(Smp99_Donnees!#REF!,\"чч:мм:сс\"))","v":{"$error":"#REF!"}},{"$error":"#REF!"}]
[{"$f":"86400*TIMEVALUE(TEXT(Smp99_Donnees!#REF!,\"чч:мм:сс\"))","v":{"$error":"#REF!"}},{"$f":"86400*TIMEVALUE(TEXT(Smp99_Donnees!#REF!,\"чч:мм:сс\"))","v":{"$error":"#REF!"}},{"$error":"#REF!"}]
[{"$f":"86400*TIMEVALUE(TEXT(Smp99_Donnees!#REF!,\"чч:мм:сс\"))","v":{"$error":"#REF!"}},{"$f":"86400*TIMEVALUE(TEXT(Smp99_Donnees!#REF!,\"чч:мм:сс\"))","v":{"$error":"#REF!"}},{"$error":"#REF!"}]
[{"$f":"86400*TIMEVALUE(TEXT(Smp99_Donnees!#REF!,\"чч:мм:сс\"))","v":{"$error":"#REF!"}},{"$f":"86400*TIMEVALUE(TEXT(Smp99_Donnees!#REF!,\"чч:мм:сс\"))","v":{"$error":"#REF!"}},{"$error":"#REF!"}]
[{"$f":"86400*TIMEVALUE(TEXT(Smp99_Donnees!#REF!,\"чч:мм:сс\"))","v":{"$error":"#REF!"}},{"$f":"86400*TIMEVALUE(TEXT(Smp99_Donnees!#REF!,\"чч:мм:сс\"))","v":{"$error":"#REF!"}},{"$error":"#REF!"}]
[{"$f":"86400*TIMEVALUE(TEXT(Smp99_Donnees!#REF!,\"чч:мм:сс\"))","v":{"$error":"#REF!"}},{"$f":"86400*TIMEVALUE(TEXT(Smp99_Donnees!#REF!,\"чч:мм:сс\"))","v":{"$error":"#REF!"}},{"$error":"#REF!"}]
[{"$f":"86400*TIMEVALUE(TEXT(Smp99_Donnees!#REF!,\"чч:мм:сс\"))","v":{"$error":"#REF!"}},{"$f":"86400*TIMEVALUE(TEXT(Smp99_Donnees!#REF!,\"чч:мм:сс\"))","v":{"$error":"#REF!"}},{"$error":"#REF!"}]
[{"$f":"86400*TIMEVALUE(TEXT(Smp99_Donnees!#REF!,\"чч:мм:сс\"))","v":{"$error":"#REF!"}},{"$f":"86400*TIMEVALUE(TEXT(Smp99_Donnees!#REF!,\"чч:мм:сс\"))","v":{"$error":"#REF!"}},{"$error":"#REF!"}]
[{"$f":"86400*TIMEVALUE(TEXT(Smp99_Donnees!#REF!,\"чч:мм:сс\"))","v":{"$error":"#REF!"}},{"$f":"86400*TIMEVALUE(TEXT(Smp99_Donnees!#REF!,\"чч:мм:сс\"))","v":{"$error":"#REF!"}},{"$error":"#REF!"}]
[{"$f":"86400*TIMEVALUE(TEXT(Smp99_Donnees!#REF!,\"чч:мм:сс\"))","v":{"$error":"#REF!"}},{"$f":"86400*TIMEVALUE(TEXT(Smp99_Donnees!#REF!,\"чч:мм:сс\"))","v":{"$error":"#REF!"}},{"$error":"#REF!"}]
[{"$f":"86400*TIMEVALUE(TEXT(Smp99_Donnees!#REF!,\"чч:мм:сс\"))","v":{"$error":"#REF!"}},{"$f":"86400*TIMEVALUE(TEXT(Smp99_Donnees!#REF!,\"чч:мм:сс\"))","v":{"$error":"#REF!"}},{"$error":"#REF!"}]
[{"$f":"86400*TIMEVALUE(TEXT(Smp99_Donnees!#REF!,\"чч:мм:сс\"))","v":{"$error":"#REF!"}},{"$f":"86400*TIMEVALUE(TEXT(Smp99_Donnees!#REF!,\"чч:мм:сс\"))","v":{"$error":"#REF!"}},{"$error":"#REF!"}]
[{"$f":"86400*TIMEVALUE(TEXT(Smp99_Donnees!#REF!,\"чч:мм:сс\"))","v":{"$error":"#REF!"}},{"$f":"86400*TIMEVALUE(TEXT(Smp99_Donnees!#REF!,\"чч:мм:сс\"))","v":{"$error":"#REF!"}},{"$error":"#REF!"}]
[{"$f":"86400*TIMEVALUE(TEXT(Smp99_Donnees!#REF!,\"чч:мм:сс\"))","v":{"$error":"#REF!"}},{"$f":"86400*TIMEVALUE(TEXT(Smp99_Donnees!#REF!,\"чч:мм:сс\"))","v":{"$error":"#REF!"}},{"$error":"#REF!"}]
[{"$f":"86400*TIMEVALUE(TEXT(Smp99_Donnees!#REF!,\"чч:мм:сс\"))","v":{"$error":"#REF!"}},{"$f":"86400*TIMEVALUE(TEXT(Smp99_Donnees!#REF!,\"чч:мм:сс\"))","v":{"$error":"#REF!"}},{"$error":"#REF!"}]
[{"$f":"86400*TIMEVALUE(TEXT(Smp99_Donnees!#REF!,\"чч:мм:сс\"))","v":{"$error":"#REF!"}},{"$f":"86400*TIMEVALUE(TEXT(Smp99_Donnees!#REF!,\"чч:мм:сс\"))","v":{"$error":"#REF!"}},{"$error":"#REF!"}]
[{"$f":"86400*TIMEVALUE(TEXT(Smp99_Donnees!#REF!,\"чч:мм:сс\"))","v":{"$error":"#REF!"}},{"$f":"86400*TIMEVALUE(TEXT(Smp99_Donnees!#REF!,\"чч:мм:сс\"))","v":{"$error":"#REF!"}},{"$error":"#REF!"}]
[{"$f":"86400*TIMEVALUE(TEXT(Smp99_Donnees!#REF!,\"чч:мм:сс\"))","v":{"$error":"#REF!"}},{"$f":"86400*TIMEVALUE(TEXT(Smp99_Donnees!#REF!,\"чч:мм:сс\"))","v":{"$error":"#REF!"}},{"$error":"#REF!"}]
[{"$f":"86400*TIMEVALUE(TEXT(Smp99_Donnees!#REF!,\"чч:мм:сс\"))","v":{"$error":"#REF!"}},{"$f":"86400*TIMEVALUE(TEXT(Smp99_Donnees!#REF!,\"чч:мм:сс\"))","v":{"$error":"#REF!"}},{"$error":"#REF!"}]
[{"$f":"86400*TIMEVALUE(TEXT(Smp99_Donnees!#REF!,\"чч:мм:сс\"))","v":{"$error":"#REF!"}},{"$f":"86400*TIMEVALUE(TEXT(Smp99_Donnees!#REF!,\"чч:мм:сс\"))","v":{"$error":"#REF!"}},{"$error":"#REF!"}]
[{"$f":"86400*TIMEVALUE(TEXT(Smp99_Donnees!#REF!,\"чч:мм:сс\"))","v":{"$error":"#REF!"}},{"$f":"86400*TIMEVALUE(TEXT(Smp99_Donnees!#REF!,\"чч:мм:сс\"))","v":{"$error":"#REF!"}},{"$error":"#REF!"}]
[{"$f":"86400*TIMEVALUE(TEXT(Smp99_Donnees!#REF!,\"чч:мм:сс\"))","v":{"$error":"#REF!"}},{"$f":"86400*TIMEVALUE(TEXT(Smp99_Donnees!#REF!,\"чч:мм:сс\"))","v":{"$error":"#REF!"}},{"$error":"#REF!"}]
[{"$f":"86400*TIMEVALUE(TEXT(Smp99_Donnees!#REF!,\"чч:мм:сс\"))","v":{"$error":"#REF!"}},{"$f":"86400*TIMEVALUE(TEXT(Smp99_Donnees!#REF!,\"чч:мм:сс\"))","v":{"$error":"#REF!"}},{"$error":"#REF!"}]
[{"$f":"86400*TIMEVALUE(TEXT(Smp99_Donnees!#REF!,\"чч:мм:сс\"))","v":{"$error":"#REF!"}},{"$f":"86400*TIMEVALUE(TEXT(Smp99_Donnees!#REF!,\"чч:мм:сс\"))","v":{"$error":"#REF!"}},{"$error":"#REF!"}]
[{"$f":"86400*TIMEVALUE(TEXT(Smp99_Donnees!#REF!,\"чч:мм:сс\"))","v":{"$error":"#REF!"}},{"$f":"86400*TIMEVALUE(TEXT(Smp99_Donnees!#REF!,\"чч:мм:сс\"))","v":{"$error":"#REF!"}},{"$error":"#REF!"}]
[{"$f":"86400*TIMEVALUE(TEXT(Smp99_Donnees!#REF!,\"чч:мм:сс\"))","v":{"$error":"#REF!"}},{"$f":"86400*TIMEVALUE(TEXT(Smp99_Donnees!#REF!,\"чч:мм:сс\"))","v":{"$error":"#REF!"}},{"$error":"#REF!"}]
[{"$f":"86400*TIMEVALUE(TEXT(Smp99_Donnees!#REF!,\"чч:мм:сс\"))","v":{"$error":"#REF!"}},{"$f":"86400*TIMEVALUE(TEXT(Smp99_Donnees!#REF!,\"чч:мм:сс\"))","v":{"$error":"#REF!"}},{"$error":"#REF!"}]
[{"$f":"86400*TIMEVALUE(TEXT(Smp99_Donnees!#REF!,\"чч:мм:сс\"))","v":{"$error":"#REF!"}},{"$f":"86400*TIMEVALUE(TEXT(Smp99_Donnees!#REF!,\"чч:мм:сс\"))","v":{"$error":"#REF!"}},{"$error":"#REF!"}]
[{"$f":"86400*TIMEVALUE(TEXT(Smp99_Donnees!#REF!,\"чч:мм:сс\"))","v":{"$error":"#REF!"}},{"$f":"86400*TIMEVALUE(TEXT(Smp99_Donnees!#REF!,\"чч:мм:сс\"))","v":{"$error":"#REF!"}},{"$error":"#REF!"}]
[{"$f":"86400*TIMEVALUE(TEXT(Smp99_Donnees!#REF!,\"чч:мм:сс\"))","v":{"$error":"#REF!"}},{"$f":"86400*TIMEVALUE(TEXT(Smp99_Donnees!#REF!,\"чч:мм:сс\"))","v":{"$error":"#REF!"}},{"$error":"#REF!"}]
[{"$f":"86400*TIMEVALUE(TEXT(Smp99_Donnees!#REF!,\"чч:мм:сс\"))","v":{"$error":"#REF!"}},{"$f":"86400*TIMEVALUE(TEXT(Smp99_Donnees!#REF!,\"чч:мм:сс\"))","v":{"$error":"#REF!"}},{"$error":"#REF!"}]
[{"$f":"86400*TIMEVALUE(TEXT(Smp99_Donnees!#REF!,\"чч:мм:сс\"))","v":{"$error":"#REF!"}},{"$f":"86400*TIMEVALUE(TEXT(Smp99_Donnees!#REF!,\"чч:мм:сс\"))","v":{"$error":"#REF!"}},{"$error":"#REF!"}]
[{"$f":"86400*TIMEVALUE(TEXT(Smp99_Donnees!#REF!,\"чч:мм:сс\"))","v":{"$error":"#REF!"}},{"$f":"86400*TIMEVALUE(TEXT(Smp99_Donnees!#REF!,\"чч:мм:сс\"))","v":{"$error":"#REF!"}},{"$error":"#REF!"}]
[{"$f":"86400*TIMEVALUE(TEXT(Smp99_Donnees!#REF!,\"чч:мм:сс\"))","v":{"$error":"#REF!"}},{"$f":"86400*TIMEVALUE(TEXT(Smp99_Donnees!#REF!,\"чч:мм:сс\"))","v":{"$error":"#REF!"}},{"$error":"#REF!"}]
[{"$f":"86400*TIMEVALUE(TEXT(Smp99_Donnees!#REF!,\"чч:мм:сс\"))","v":{"$error":"#REF!"}},{"$f":"86400*TIMEVALUE(TEXT(Smp99_Donnees!#REF!,\"чч:мм:сс\"))","v":{"$error":"#REF!"}},{"$error":"#REF!"}]
[{"$f":"86400*TIMEVALUE(TEXT(Smp99_Donnees!#REF!,\"чч:мм:сс\"))","v":{"$error":"#REF!"}},{"$f":"86400*TIMEVALUE(TEXT(Smp99_Donnees!#REF!,\"чч:мм:сс\"))","v":{"$error":"#REF!"}},{"$error":"#REF!"}]
[{"$f":"86400*TIMEVALUE(TEXT(Smp99_Donnees!#REF!,\"чч:мм:сс\"))","v":{"$error":"#REF!"}},{"$f":"86400*TIMEVALUE(TEXT(Smp99_Donnees!#REF!,\"чч:мм:сс\"))","v":{"$error":"#REF!"}},{"$error":"#REF!"}]
[{"$f":"86400*TIMEVALUE(TEXT(Smp99_Donnees!#REF!,\"чч:мм:сс\"))","v":{"$error":"#REF!"}},{"$f":"86400*TIMEVALUE(TEXT(Smp99_Donnees!#REF!,\"чч:мм:сс\"))","v":{"$error":"#REF!"}},{"$error":"#REF!"}]
[{"$f":"86400*TIMEVALUE(TEXT(Smp99_Donnees!#REF!,\"чч:мм:сс\"))","v":{"$error":"#REF!"}},{"$f":"86400*TIMEVALUE(TEXT(Smp99_Donnees!#REF!,\"чч:мм:сс\"))","v":{"$error":"#REF!"}},{"$error":"#REF!"}]
[{"$f":"86400*TIMEVALUE(TEXT(Smp99_Donnees!#REF!,\"чч:мм:сс\"))","v":{"$error":"#REF!"}},{"$f":"86400*TIMEVALUE(TEXT(Smp99_Donnees!#REF!,\"чч:мм:сс\"))","v":{"$error":"#REF!"}},{"$error":"#REF!"}]
[{"$f":"86400*TIMEVALUE(TEXT(Smp99_Donnees!#REF!,\"чч:мм:сс\"))","v":{"$error":"#REF!"}},{"$f":"86400*TIMEVALUE(TEXT(Smp99_Donnees!#REF!,\"чч:мм:сс\"))","v":{"$error":"#REF!"}},{"$error":"#REF!"}]
[{"$f":"86400*TIMEVALUE(TEXT(Smp99_Donnees!#REF!,\"чч:мм:сс\"))","v":{"$error":"#REF!"}},{"$f":"86400*TIMEVALUE(TEXT(Smp99_Donnees!#REF!,\"чч:мм:сс\"))","v":{"$error":"#REF!"}},{"$error":"#REF!"}]
[{"$f":"86400*TIMEVALUE(TEXT(Smp99_Donnees!#REF!,\"чч:мм:сс\"))","v":{"$error":"#REF!"}},{"$f":"86400*TIMEVALUE(TEXT(Smp99_Donnees!#REF!,\"чч:мм:сс\"))","v":{"$error":"#REF!"}},{"$error":"#REF!"}]
[{"$f":"86400*TIMEVALUE(TEXT(Smp99_Donnees!#REF!,\"чч:мм:сс\"))","v":{"$error":"#REF!"}},{"$f":"86400*TIMEVALUE(TEXT(Smp99_Donnees!#REF!,\"чч:мм:сс\"))","v":{"$error":"#REF!"}},{"$error":"#REF!"}]
[{"$f":"86400*TIMEVALUE(TEXT(Smp99_Donnees!#REF!,\"чч:мм:сс\"))","v":{"$error":"#REF!"}},{"$f":"86400*TIMEVALUE(TEXT(Smp99_Donnees!#REF!,\"чч:мм:сс\"))","v":{"$error":"#REF!"}},{"$error":"#REF!"}]
[{"$f":"86400*TIMEVALUE(TEXT(Smp99_Donnees!#REF!,\"чч:мм:сс\"))","v":{"$error":"#REF!"}},{"$f":"86400*TIMEVALUE(TEXT(Smp99_Donnees!#REF!,\"чч:мм:сс\"))","v":{"$error":"#REF!"}},{"$error":"#REF!"}]
[{"$f":"86400*TIMEVALUE(TEXT(Smp99_Donnees!#REF!,\"чч:мм:сс\"))","v":{"$error":"#REF!"}},{"$f":"86400*TIMEVALUE(TEXT(Smp99_Donnees!#REF!,\"чч:мм:сс\"))","v":{"$error":"#REF!"}},{"$error":"#REF!"}]
[{"$f":"86400*TIMEVALUE(TEXT(Smp99_Donnees!#REF!,\"чч:мм:сс\"))","v":{"$error":"#REF!"}},{"$f":"86400*TIMEVALUE(TEXT(Smp99_Donnees!#REF!,\"чч:мм:сс\"))","v":{"$error":"#REF!"}},{"$error":"#REF!"}]
[{"$f":"86400*TIMEVALUE(TEXT(Smp99_Donnees!#REF!,\"чч:мм:сс\"))","v":{"$error":"#REF!"}},{"$f":"86400*TIMEVALUE(TEXT(Smp99_Donnees!#REF!,\"чч:мм:сс\"))","v":{"$error":"#REF!"}},{"$error":"#REF!"}]
[{"$f":"86400*TIMEVALUE(TEXT(Smp99_Donnees!#REF!,\"чч:мм:сс\"))","v":{"$error":"#REF!"}},{"$f":"86400*TIMEVALUE(TEXT(Smp99_Donnees!#REF!,\"чч:мм:сс\"))","v":{"$error":"#REF!"}},{"$error":"#REF!"}]
[{"$f":"86400*TIMEVALUE(TEXT(Smp99_Donnees!#REF!,\"чч:мм:сс\"))","v":{"$error":"#REF!"}},{"$f":"86400*TIMEVALUE(TEXT(Smp99_Donnees!#REF!,\"чч:мм:сс\"))","v":{"$error":"#REF!"}},{"$error":"#REF!"}]
[{"$f":"86400*TIMEVALUE(TEXT(Smp99_Donnees!#REF!,\"чч:мм:сс\"))","v":{"$error":"#REF!"}},{"$f":"86400*TIMEVALUE(TEXT(Smp99_Donnees!#REF!,\"чч:мм:сс\"))","v":{"$error":"#REF!"}},{"$error":"#REF!"}]
[{"$f":"86400*TIMEVALUE(TEXT(Smp99_Donnees!#REF!,\"чч:мм:сс\"))","v":{"$error":"#REF!"}},{"$f":"86400*TIMEVALUE(TEXT(Smp99_Donnees!#REF!,\"чч:мм:сс\"))","v":{"$error":"#REF!"}},{"$error":"#REF!"}]
[{"$f":"86400*TIMEVALUE(TEXT(Smp99_Donnees!#REF!,\"чч:мм:сс\"))","v":{"$error":"#REF!"}},{"$f":"86400*TIMEVALUE(TEXT(Smp99_Donnees!#REF!,\"чч:мм:сс\"))","v":{"$error":"#REF!"}},{"$f":"B322-A322","v":{"$error":"#REF!"}}]
[{"$f":"86400*TIMEVALUE(TEXT(Smp99_Donnees!#REF!,\"чч:мм:сс\"))","v":{"$error":"#REF!"}},{"$f":"86400*TIMEVALUE(TEXT(Smp99_Donnees!#REF!,\"чч:мм:сс\"))","v":{"$error":"#REF!"}},{"$error":"#REF!"}]
[{"$f":"86400*TIMEVALUE(TEXT(Smp99_Donnees!#REF!,\"чч:мм:сс\"))","v":{"$error":"#REF!"}},{"$f":"86400*TIMEVALUE(TEXT(Smp99_Donnees!#REF!,\"чч:мм:сс\"))","v":{"$error":"#REF!"}},{"$error":"#REF!"}]
[{"$f":"86400*TIMEVALUE(TEXT(Smp99_Donnees!#REF!,\"чч:мм:сс\"))","v":{"$error":"#REF!"}},{"$f":"86400*TIMEVALUE(TEXT(Smp99_Donnees!#REF!,\"чч:мм:сс\"))","v":{"$error":"#REF!"}},{"$error":"#REF!"}]
[{"$f":"86400*TIMEVALUE(TEXT(Smp99_Donnees!#REF!,\"чч:мм:сс\"))","v":{"$error":"#REF!"}},{"$f":"86400*TIMEVALUE(TEXT(Smp99_Donnees!#REF!,\"чч:мм:сс\"))","v":{"$error":"#REF!"}},{"$error":"#REF!"}]
[{"$f":"86400*TIMEVALUE(TEXT(Smp99_Donnees!#REF!,\"чч:мм:сс\"))","v":{"$error":"#REF!"}},{"$f":"86400*TIMEVALUE(TEXT(Smp99_Donnees!#REF!,\"чч:мм:сс\"))","v":{"$error":"#REF!"}},{"$error":"#REF!"}]
[{"$f":"86400*TIMEVALUE(TEXT(Smp99_Donnees!#REF!,\"чч:мм:сс\"))","v":{"$error":"#REF!"}},{"$f":"86400*TIMEVALUE(TEXT(Smp99_Donnees!#REF!,\"чч:мм:сс\"))","v":{"$error":"#REF!"}},{"$error":"#REF!"}]
[{"$f":"86400*TIMEVALUE(TEXT(Smp99_Donnees!#REF!,\"чч:мм:сс\"))","v":{"$error":"#REF!"}},{"$f":"86400*TIMEVALUE(TEXT(Smp99_Donnees!#REF!,\"чч:мм:сс\"))","v":{"$error":"#REF!"}},{"$error":"#REF!"}]
[{"$f":"86400*TIMEVALUE(TEXT(Smp99_Donnees!#REF!,\"чч:мм:сс\"))","v":{"$error":"#REF!"}},{"$f":"86400*TIMEVALUE(TEXT(Smp99_Donnees!#REF!,\"чч:мм:сс\"))","v":{"$error":"#REF!"}},{"$error":"#REF!"}]
[{"$f":"86400*TIMEVALUE(TEXT(Smp99_Donnees!#REF!,\"чч:мм:сс\"))","v":{"$error":"#REF!"}},{"$f":"86400*TIMEVALUE(TEXT(Smp99_Donnees!#REF!,\"чч:мм:сс\"))","v":{"$error":"#REF!"}},{"$error":"#REF!"}]
[{"$f":"86400*TIMEVALUE(TEXT(Smp99_Donnees!#REF!,\"чч:мм:сс\"))","v":{"$error":"#REF!"}},{"$f":"86400*TIMEVALUE(TEXT(Smp99_Donnees!#REF!,\"чч:мм:сс\"))","v":{"$error":"#REF!"}},{"$error":"#REF!"}]
[{"$f":"86400*TIMEVALUE(TEXT(Smp99_Donnees!#REF!,\"чч:мм:сс\"))","v":{"$error":"#REF!"}},{"$f":"86400*TIMEVALUE(TEXT(Smp99_Donnees!#REF!,\"чч:мм:сс\"))","v":{"$error":"#REF!"}},{"$error":"#REF!"}]
[{"$f":"86400*TIMEVALUE(TEXT(Smp99_Donnees!#REF!,\"чч:мм:сс\"))","v":{"$error":"#REF!"}},{"$f":"86400*TIMEVALUE(TEXT(Smp99_Donnees!#REF!,\"чч:мм:сс\"))","v":{"$error":"#REF!"}},{"$error":"#REF!"}]
[{"$f":"86400*TIMEVALUE(TEXT(Smp99_Donnees!#REF!,\"чч:мм:сс\"))","v":{"$error":"#REF!"}},{"$f":"86400*TIMEVALUE(TEXT(Smp99_Donnees!#REF!,\"чч:мм:сс\"))","v":{"$error":"#REF!"}},{"$error":"#REF!"}]
[{"$f":"86400*TIMEVALUE(TEXT(Smp99_Donnees!#REF!,\"чч:мм:сс\"))","v":{"$error":"#REF!"}},{"$f":"86400*TIMEVALUE(TEXT(Smp99_Donnees!#REF!,\"чч:мм:сс\"))","v":{"$error":"#REF!"}},{"$error":"#REF!"}]
[{"$f":"86400*TIMEVALUE(TEXT(Smp99_Donnees!#REF!,\"чч:мм:сс\"))","v":{"$error":"#REF!"}},{"$f":"86400*TIMEVALUE(TEXT(Smp99_Donnees!#REF!,\"чч:мм:сс\"))","v":{"$error":"#REF!"}},{"$error":"#REF!"}]
[{"$f":"86400*TIMEVALUE(TEXT(Smp99_Donnees!#REF!,\"чч:мм:сс\"))","v":{"$error":"#REF!"}},{"$f":"86400*TIMEVALUE(TEXT(Smp99_Donnees!#REF!,\"чч:мм:сс\"))","v":{"$error":"#REF!"}},{"$error":"#REF!"}]
[{"$f":"86400*TIMEVALUE(TEXT(Smp99_Donnees!#REF!,\"чч:мм:сс\"))","v":{"$error":"#REF!"}},{"$f":"86400*TIMEVALUE(TEXT(Smp99_Donnees!#REF!,\"чч:мм:сс\"))","v":{"$error":"#REF!"}},{"$error":"#REF!"}]
[{"$f":"86400*TIMEVALUE(TEXT(Smp99_Donnees!#REF!,\"чч:мм:сс\"))","v":{"$error":"#REF!"}},{"$f":"86400*TIMEVALUE(TEXT(Smp99_Donnees!#REF!,\"чч:мм:сс\"))","v":{"$error":"#REF!"}},{"$error":"#REF!"}]
[{"$f":"86400*TIMEVALUE(TEXT(Smp99_Donnees!#REF!,\"чч:мм:сс\"))","v":{"$error":"#REF!"}},{"$f":"86400*TIMEVALUE(TEXT(Smp99_Donnees!#REF!,\"чч:мм:сс\"))","v":{"$error":"#REF!"}},{"$error":"#REF!"}]
[{"$f":"86400*TIMEVALUE(TEXT(Smp99_Donnees!#REF!,\"чч:мм:сс\"))","v":{"$error":"#REF!"}},{"$f":"86400*TIMEVALUE(TEXT(Smp99_Donnees!#REF!,\"чч:мм:сс\"))","v":{"$error":"#REF!"}},{"$error":"#REF!"}]
[{"$f":"86400*TIMEVALUE(TEXT(Smp99_Donnees!#REF!,\"чч:мм:сс\"))","v":{"$error":"#REF!"}},{"$f":"86400*TIMEVALUE(TEXT(Smp99_Donnees!#REF!,\"чч:мм:сс\"))","v":{"$error":"#REF!"}},{"$error":"#REF!"}]
[{"$f":"86400*TIMEVALUE(TEXT(Smp99_Donnees!#REF!,\"чч:мм:сс\"))","v":{"$error":"#REF!"}},{"$f":"86400*TIMEVALUE(TEXT(Smp99_Donnees!#REF!,\"чч:мм:сс\"))","v":{"$error":"#REF!"}},{"$error":"#REF!"}]
[{"$f":"86400*TIMEVALUE(TEXT(Smp99_Donnees!#REF!,\"чч:мм:сс\"))","v":{"$error":"#REF!"}},{"$f":"86400*TIMEVALUE(TEXT(Smp99_Donnees!#REF!,\"чч:мм:сс\"))","v":{"$error":"#REF!"}},{"$error":"#REF!"}]
[{"$f":"86400*TIMEVALUE(TEXT(Smp99_Donnees!#REF!,\"чч:мм:сс\"))","v":{"$error":"#REF!"}},{"$f":"86400*TIMEVALUE(TEXT(Smp99_Donnees!#REF!,\"чч:мм:сс\"))","v":{"$error":"#REF!"}},{"$error":"#REF!"}]
[{"$f":"86400*TIMEVALUE(TEXT(Smp99_Donnees!#REF!,\"чч:мм:сс\"))","v":{"$error":"#REF!"}},{"$f":"86400*TIMEVALUE(TEXT(Smp99_Donnees!#REF!,\"чч:мм:сс\"))","v":{"$error":"#REF!"}},{"$error":"#REF!"}]
[{"$f":"86400*TIMEVALUE(TEXT(Smp99_Donnees!#REF!,\"чч:мм:сс\"))","v":{"$error":"#REF!"}},{"$f":"86400*TIMEVALUE(TEXT(Smp99_Donnees!#REF!,\"чч:мм:сс\"))","v":{"$error":"#REF!"}},{"$error":"#REF!"}]
[{"$f":"86400*TIMEVALUE(TEXT(Smp99_Donnees!#REF!,\"чч:мм:сс\"))","v":{"$error":"#REF!"}},{"$f":"86400*TIMEVALUE(TEXT(Smp99_Donnees!#REF!,\"чч:мм:сс\"))","v":{"$error":"#REF!"}},{"$error":"#REF!"}]
[{"$f":"86400*TIMEVALUE(TEXT(Smp99_Donnees!#REF!,\"чч:мм:сс\"))","v":{"$error":"#REF!"}},{"$f":"86400*TIMEVALUE(TEXT(Smp99_Donnees!#REF!,\"чч:мм:сс\"))","v":{"$error":"#REF!"}},{"$error":"#REF!"}]
[{"$f":"86400*TIMEVALUE(TEXT(Smp99_Donnees!#REF!,\"чч:мм:сс\"))","v":{"$error":"#REF!"}},{"$f":"86400*TIMEVALUE(TEXT(Smp99_Donnees!#REF!,\"чч:мм:сс\"))","v":{"$error":"#REF!"}},{"$error":"#REF!"}]
[{"$f":"86400*TIMEVALUE(TEXT(Smp99_Donnees!#REF!,\"чч:мм:сс\"))","v":{"$error":"#REF!"}},{"$f":"86400*TIMEVALUE(TEXT(Smp99_Donnees!#REF!,\"чч:мм:сс\"))","v":{"$error":"#REF!"}},{"$error":"#REF!"}]
[{"$f":"86400*TIMEVALUE(TEXT(Smp99_Donnees!#REF!,\"чч:мм:сс\"))","v":{"$error":"#REF!"}},{"$f":"86400*TIMEVALUE(TEXT(Smp99_Donnees!#REF!,\"чч:мм:сс\"))","v":{"$error":"#REF!"}},{"$error":"#REF!"}]
[{"$f":"86400*TIMEVALUE(TEXT(Smp99_Donnees!#REF!,\"чч:мм:сс\"))","v":{"$error":"#REF!"}},{"$f":"86400*TIMEVALUE(TEXT(Smp99_Donnees!#REF!,\"чч:мм:сс\"))","v":{"$error":"#REF!"}},{"$error":"#REF!"}]
[{"$f":"86400*TIMEVALUE(TEXT(Smp99_Donnees!#REF!,\"чч:мм:сс\"))","v":{"$error":"#REF!"}},{"$f":"86400*TIMEVALUE(TEXT(Smp99_Donnees!#REF!,\"чч:мм:сс\"))","v":{"$error":"#REF!"}},{"$error":"#REF!"}]
[{"$f":"86400*TIMEVALUE(TEXT(Smp99_Donnees!#REF!,\"чч:мм:сс\"))","v":{"$error":"#REF!"}},{"$f":"86400*TIMEVALUE(TEXT(Smp99_Donnees!#REF!,\"чч:мм:сс\"))","v":{"$error":"#REF!"}},{"$error":"#REF!"}]
[{"$f":"86400*TIMEVALUE(TEXT(Smp99_Donnees!#REF!,\"чч:мм:сс\"))","v":{"$error":"#REF!"}},{"$f":"86400*TIMEVALUE(TEXT(Smp99_Donnees!#REF!,\"чч:мм:сс\"))","v":{"$error":"#REF!"}},{"$error":"#REF!"}]
[{"$f":"86400*TIMEVALUE(TEXT(Smp99_Donnees!#REF!,\"чч:мм:сс\"))","v":{"$error":"#REF!"}},{"$f":"86400*TIMEVALUE(TEXT(Smp99_Donnees!#REF!,\"чч:мм:сс\"))","v":{"$error":"#REF!"}},{"$error":"#REF!"}]
[{"$f":"86400*TIMEVALUE(TEXT(Smp99_Donnees!#REF!,\"чч:мм:сс\"))","v":{"$error":"#REF!"}},{"$f":"86400*TIMEVALUE(TEXT(Smp99_Donnees!#REF!,\"чч:мм:сс\"))","v":{"$error":"#REF!"}},{"$error":"#REF!"}]
[{"$f":"86400*TIMEVALUE(TEXT(Smp99_Donnees!#REF!,\"чч:мм:сс\"))","v":{"$error":"#REF!"}},{"$f":"86400*TIMEVALUE(TEXT(Smp99_Donnees!#REF!,\"чч:мм:сс\"))","v":{"$error":"#REF!"}},{"$error":"#REF!"}]
[{"$f":"86400*TIMEVALUE(TEXT(Smp99_Donnees!#REF!,\"чч:мм:сс\"))","v":{"$error":"#REF!"}},{"$f":"86400*TIMEVALUE(TEXT(Smp99_Donnees!#REF!,\"чч:мм:сс\"))","v":{"$error":"#REF!"}},{"$error":"#REF!"}]
[{"$f":"86400*TIMEVALUE(TEXT(Smp99_Donnees!#REF!,\"чч:мм:сс\"))","v":{"$error":"#REF!"}},{"$f":"86400*TIMEVALUE(TEXT(Smp99_Donnees!#REF!,\"чч:мм:сс\"))","v":{"$error":"#REF!"}},{"$error":"#REF!"}]
[{"$f":"86400*TIMEVALUE(TEXT(Smp99_Donnees!#REF!,\"чч:мм:сс\"))","v":{"$error":"#REF!"}},{"$f":"86400*TIMEVALUE(TEXT(Smp99_Donnees!#REF!,\"чч:мм:сс\"))","v":{"$error":"#REF!"}},{"$error":"#REF!"}]
[{"$f":"86400*TIMEVALUE(TEXT(Smp99_Donnees!#REF!,\"чч:мм:сс\"))","v":{"$error":"#REF!"}},{"$f":"86400*TIMEVALUE(TEXT(Smp99_Donnees!#REF!,\"чч:мм:сс\"))","v":{"$error":"#REF!"}},{"$error":"#REF!"}]
[{"$f":"86400*TIMEVALUE(TEXT(Smp99_Donnees!#REF!,\"чч:мм:сс\"))","v":{"$error":"#REF!"}},{"$f":"86400*TIMEVALUE(TEXT(Smp99_Donnees!#REF!,\"чч:мм:сс\"))","v":{"$error":"#REF!"}},{"$error":"#REF!"}]
[{"$f":"86400*TIMEVALUE(TEXT(Smp99_Donnees!#REF!,\"чч:мм:сс\"))","v":{"$error":"#REF!"}},{"$f":"86400*TIMEVALUE(TEXT(Smp99_Donnees!#REF!,\"чч:мм:сс\"))","v":{"$error":"#REF!"}},{"$error":"#REF!"}]
[{"$f":"86400*TIMEVALUE(TEXT(Smp99_Donnees!#REF!,\"чч:мм:сс\"))","v":{"$error":"#REF!"}},{"$f":"86400*TIMEVALUE(TEXT(Smp99_Donnees!#REF!,\"чч:мм:сс\"))","v":{"$error":"#REF!"}},{"$error":"#REF!"}]
[{"$f":"86400*TIMEVALUE(TEXT(Smp99_Donnees!#REF!,\"чч:мм:сс\"))","v":{"$error":"#REF!"}},{"$f":"86400*TIMEVALUE(TEXT(Smp99_Donnees!#REF!,\"чч:мм:сс\"))","v":{"$error":"#REF!"}},{"$error":"#REF!"}]
[{"$f":"86400*TIMEVALUE(TEXT(Smp99_Donnees!#REF!,\"чч:мм:сс\"))","v":{"$error":"#REF!"}},{"$f":"86400*TIMEVALUE(TEXT(Smp99_Donnees!#REF!,\"чч:мм:сс\"))","v":{"$error":"#REF!"}},{"$error":"#REF!"}]
[{"$f":"86400*TIMEVALUE(TEXT(Smp99_Donnees!#REF!,\"чч:мм:сс\"))","v":{"$error":"#REF!"}},{"$f":"86400*TIMEVALUE(TEXT(Smp99_Donnees!#REF!,\"чч:мм:сс\"))","v":{"$error":"#REF!"}},{"$error":"#REF!"}]
[{"$f":"86400*TIMEVALUE(TEXT(Smp99_Donnees!#REF!,\"чч:мм:сс\"))","v":{"$error":"#REF!"}},{"$f":"86400*TIMEVALUE(TEXT(Smp99_Donnees!#REF!,\"чч:мм:сс\"))","v":{"$error":"#REF!"}},{"$error":"#REF!"}]
[{"$f":"86400*TIMEVALUE(TEXT(Smp99_Donnees!#REF!,\"чч:мм:сс\"))","v":{"$error":"#REF!"}},{"$f":"86400*TIMEVALUE(TEXT(Smp99_Donnees!#REF!,\"чч:мм:сс\"))","v":{"$error":"#REF!"}},{"$error":"#REF!"}]
[{"$f":"86400*TIMEVALUE(TEXT(Smp99_Donnees!#REF!,\"чч:мм:сс\"))","v":{"$error":"#REF!"}},{"$f":"86400*TIMEVALUE(TEXT(Smp99_Donnees!#REF!,\"чч:мм:сс\"))","v":{"$error":"#REF!"}},{"$error":"#REF!"}]
[{"$f":"86400*TIMEVALUE(TEXT(Smp99_Donnees!#REF!,\"чч:мм:сс\"))","v":{"$error":"#REF!"}},{"$f":"86400*TIMEVALUE(TEXT(Smp99_Donnees!#REF!,\"чч:мм:сс\"))","v":{"$error":"#REF!"}},{"$error":"#REF!"}]
[{"$f":"86400*TIMEVALUE(TEXT(Smp99_Donnees!#REF!,\"чч:мм:сс\"))","v":{"$error":"#REF!"}},{"$f":"86400*TIMEVALUE(TEXT(Smp99_Donnees!#REF!,\"чч:мм:сс\"))","v":{"$error":"#REF!"}},{"$error":"#REF!"}]
[{"$f":"86400*TIMEVALUE(TEXT(Smp99_Donnees!#REF!,\"чч:мм:сс\"))","v":{"$error":"#REF!"}},{"$f":"86400*TIMEVALUE(TEXT(Smp99_Donnees!#REF!,\"чч:мм:сс\"))","v":{"$error":"#REF!"}},{"$error":"#REF!"}]
[{"$f":"86400*TIMEVALUE(TEXT(Smp99_Donnees!#REF!,\"чч:мм:сс\"))","v":{"$error":"#REF!"}},{"$f":"86400*TIMEVALUE(TEXT(Smp99_Donnees!#REF!,\"чч:мм:сс\"))","v":{"$error":"#REF!"}},{"$error":"#REF!"}]
[{"$f":"86400*TIMEVALUE(TEXT(Smp99_Donnees!#REF!,\"чч:мм:сс\"))","v":{"$error":"#REF!"}},{"$f":"86400*TIMEVALUE(TEXT(Smp99_Donnees!#REF!,\"чч:мм:сс\"))","v":{"$error":"#REF!"}},{"$error":"#REF!"}]
[{"$f":"86400*TIMEVALUE(TEXT(Smp99_Donnees!#REF!,\"чч:мм:сс\"))","v":{"$error":"#REF!"}},{"$f":"86400*TIMEVALUE(TEXT(Smp99_Donnees!#REF!,\"чч:мм:сс\"))","v":{"$error":"#REF!"}},{"$error":"#REF!"}]
[{"$f":"86400*TIMEVALUE(TEXT(Smp99_Donnees!#REF!,\"чч:мм:сс\"))","v":{"$error":"#REF!"}},{"$f":"86400*TIMEVALUE(TEXT(Smp99_Donnees!#REF!,\"чч:мм:сс\"))","v":{"$error":"#REF!"}},{"$error":"#REF!"}]
[{"$f":"86400*TIMEVALUE(TEXT(Smp99_Donnees!#REF!,\"чч:мм:сс\"))","v":{"$error":"#REF!"}},{"$f":"86400*TIMEVALUE(TEXT(Smp99_Donnees!#REF!,\"чч:мм:сс\"))","v":{"$error":"#REF!"}},{"$error":"#REF!"}]
[{"$f":"86400*TIMEVALUE(TEXT(Smp99_Donnees!#REF!,\"чч:мм:сс\"))","v":{"$error":"#REF!"}},{"$f":"86400*TIMEVALUE(TEXT(Smp99_Donnees!#REF!,\"чч:мм:сс\"))","v":{"$error":"#REF!"}},{"$error":"#REF!"}]
[{"$f":"86400*TIMEVALUE(TEXT(Smp99_Donnees!#REF!,\"чч:мм:сс\"))","v":{"$error":"#REF!"}},{"$f":"86400*TIMEVALUE(TEXT(Smp99_Donnees!#REF!,\"чч:мм:сс\"))","v":{"$error":"#REF!"}},{"$error":"#REF!"}]
[{"$f":"86400*TIMEVALUE(TEXT(Smp99_Donnees!#REF!,\"чч:мм:сс\"))","v":{"$error":"#REF!"}},{"$f":"86400*TIMEVALUE(TEXT(Smp99_Donnees!#REF!,\"чч:мм:сс\"))","v":{"$error":"#REF!"}},{"$error":"#REF!"}]
[{"$f":"86400*TIMEVALUE(TEXT(Smp99_Donnees!#REF!,\"чч:мм:сс\"))","v":{"$error":"#REF!"}},{"$f":"86400*TIMEVALUE(TEXT(Smp99_Donnees!#REF!,\"чч:мм:сс\"))","v":{"$error":"#REF!"}},{"$error":"#REF!"}]
[{"$f":"86400*TIMEVALUE(TEXT(Smp99_Donnees!#REF!,\"чч:мм:сс\"))","v":{"$error":"#REF!"}},{"$f":"86400*TIMEVALUE(TEXT(Smp99_Donnees!#REF!,\"чч:мм:сс\"))","v":{"$error":"#REF!"}},{"$f":"B386-A386","v":{"$error":"#REF!"}}]
[{"$f":"86400*TIMEVALUE(TEXT(Smp99_Donnees!#REF!,\"чч:мм:сс\"))","v":{"$error":"#REF!"}},{"$f":"86400*TIMEVALUE(TEXT(Smp99_Donnees!#REF!,\"чч:мм:сс\"))","v":{"$error":"#REF!"}},{"$error":"#REF!"}]
[{"$f":"86400*TIMEVALUE(TEXT(Smp99_Donnees!#REF!,\"чч:мм:сс\"))","v":{"$error":"#REF!"}},{"$f":"86400*TIMEVALUE(TEXT(Smp99_Donnees!#REF!,\"чч:мм:сс\"))","v":{"$error":"#REF!"}},{"$error":"#REF!"}]
[{"$f":"86400*TIMEVALUE(TEXT(Smp99_Donnees!#REF!,\"чч:мм:сс\"))","v":{"$error":"#REF!"}},{"$f":"86400*TIMEVALUE(TEXT(Smp99_Donnees!#REF!,\"чч:мм:сс\"))","v":{"$error":"#REF!"}},{"$error":"#REF!"}]
[{"$f":"86400*TIMEVALUE(TEXT(Smp99_Donnees!#REF!,\"чч:мм:сс\"))","v":{"$error":"#REF!"}},{"$f":"86400*TIMEVALUE(TEXT(Smp99_Donnees!#REF!,\"чч:мм:сс\"))","v":{"$error":"#REF!"}},{"$error":"#REF!"}]
[{"$f":"86400*TIMEVALUE(TEXT(Smp99_Donnees!#REF!,\"чч:мм:сс\"))","v":{"$error":"#REF!"}},{"$f":"86400*TIMEVALUE(TEXT(Smp99_Donnees!#REF!,\"чч:мм:сс\"))","v":{"$error":"#REF!"}},{"$error":"#REF!"}]
[{"$f":"86400*TIMEVALUE(TEXT(Smp99_Donnees!#REF!,\"чч:мм:сс\"))","v":{"$error":"#REF!"}},{"$f":"86400*TIMEVALUE(TEXT(Smp99_Donnees!#REF!,\"чч:мм:сс\"))","v":{"$error":"#REF!"}},{"$error":"#REF!"}]
[{"$f":"86400*TIMEVALUE(TEXT(Smp99_Donnees!#REF!,\"чч:мм:сс\"))","v":{"$error":"#REF!"}},{"$f":"86400*TIMEVALUE(TEXT(Smp99_Donnees!#REF!,\"чч:мм:сс\"))","v":{"$error":"#REF!"}},{"$error":"#REF!"}]
[{"$f":"86400*TIMEVALUE(TEXT(Smp99_Donnees!#REF!,\"чч:мм:сс\"))","v":{"$error":"#REF!"}},{"$f":"86400*TIMEVALUE(TEXT(Smp99_Donnees!#REF!,\"чч:мм:сс\"))","v":{"$error":"#REF!"}},{"$error":"#REF!"}]
[{"$f":"86400*TIMEVALUE(TEXT(Smp99_Donnees!#REF!,\"чч:мм:сс\"))","v":{"$error":"#REF!"}},{"$f":"86400*TIMEVALUE(TEXT(Smp99_Donnees!#REF!,\"чч:мм:сс\"))","v":{"$error":"#REF!"}},{"$error":"#REF!"}]
[{"$f":"86400*TIMEVALUE(TEXT(Smp99_Donnees!#REF!,\"чч:мм:сс\"))","v":{"$error":"#REF!"}},{"$f":"86400*TIMEVALUE(TEXT(Smp99_Donnees!#REF!,\"чч:мм:сс\"))","v":{"$error":"#REF!"}},{"$error":"#REF!"}]
[{"$f":"86400*TIMEVALUE(TEXT(Smp99_Donnees!#REF!,\"чч:мм:сс\"))","v":{"$error":"#REF!"}},{"$f":"86400*TIMEVALUE(TEXT(Smp99_Donnees!#REF!,\"чч:мм:сс\"))","v":{"$error":"#REF!"}},{"$error":"#REF!"}]
[{"$f":"86400*TIMEVALUE(TEXT(Smp99_Donnees!#REF!,\"чч:мм:сс\"))","v":{"$error":"#REF!"}},{"$f":"86400*TIMEVALUE(TEXT(Smp99_Donnees!#REF!,\"чч:мм:сс\"))","v":{"$error":"#REF!"}},{"$error":"#REF!"}]
[{"$f":"86400*TIMEVALUE(TEXT(Smp99_Donnees!#REF!,\"чч:мм:сс\"))","v":{"$error":"#REF!"}},{"$f":"86400*TIMEVALUE(TEXT(Smp99_Donnees!#REF!,\"чч:мм:сс\"))","v":{"$error":"#REF!"}},{"$error":"#REF!"}]
[{"$f":"86400*TIMEVALUE(TEXT(Smp99_Donnees!#REF!,\"чч:мм:сс\"))","v":{"$error":"#REF!"}},{"$f":"86400*TIMEVALUE(TEXT(Smp99_Donnees!#REF!,\"чч:мм:сс\"))","v":{"$error":"#REF!"}},{"$error":"#REF!"}]
[{"$f":"86400*TIMEVALUE(TEXT(Smp99_Donnees!#REF!,\"чч:мм:сс\"))","v":{"$error":"#REF!"}},{"$f":"86400*TIMEVALUE(TEXT(Smp99_Donnees!#REF!,\"чч:мм:сс\"))","v":{"$error":"#REF!"}},{"$error":"#REF!"}]
[{"$f":"86400*TIMEVALUE(TEXT(Smp99_Donnees!#REF!,\"чч:мм:сс\"))","v":{"$error":"#REF!"}},{"$f":"86400*TIMEVALUE(TEXT(Smp99_Donnees!#REF!,\"чч:мм:сс\"))","v":{"$error":"#REF!"}},{"$error":"#REF!"}]
[{"$f":"86400*TIMEVALUE(TEXT(Smp99_Donnees!#REF!,\"чч:мм:сс\"))","v":{"$error":"#REF!"}},{"$f":"86400*TIMEVALUE(TEXT(Smp99_Donnees!#REF!,\"чч:мм:сс\"))","v":{"$error":"#REF!"}},{"$error":"#REF!"}]
[{"$f":"86400*TIMEVALUE(TEXT(Smp99_Donnees!#REF!,\"чч:мм:сс\"))","v":{"$error":"#REF!"}},{"$f":"86400*TIMEVALUE(TEXT(Smp99_Donnees!#REF!,\"чч:мм:сс\"))","v":{"$error":"#REF!"}},{"$error":"#REF!"}]
[{"$f":"86400*TIMEVALUE(TEXT(Smp99_Donnees!#REF!,\"чч:мм:сс\"))","v":{"$error":"#REF!"}},{"$f":"86400*TIMEVALUE(TEXT(Smp99_Donnees!#REF!,\"чч:мм:сс\"))","v":{"$error":"#REF!"}},{"$error":"#REF!"}]
[{"$f":"86400*TIMEVALUE(TEXT(Smp99_Donnees!#REF!,\"чч:мм:сс\"))","v":{"$error":"#REF!"}},{"$f":"86400*TIMEVALUE(TEXT(Smp99_Donnees!#REF!,\"чч:мм:сс\"))","v":{"$error":"#REF!"}},{"$error":"#REF!"}]
[{"$f":"86400*TIMEVALUE(TEXT(Smp99_Donnees!#REF!,\"чч:мм:сс\"))","v":{"$error":"#REF!"}},{"$f":"86400*TIMEVALUE(TEXT(Smp99_Donnees!#REF!,\"чч:мм:сс\"))","v":{"$error":"#REF!"}},{"$error":"#REF!"}]
[{"$f":"86400*TIMEVALUE(TEXT(Smp99_Donnees!#REF!,\"чч:мм:сс\"))","v":{"$error":"#REF!"}},{"$f":"86400*TIMEVALUE(TEXT(Smp99_Donnees!#REF!,\"чч:мм:сс\"))","v":{"$error":"#REF!"}},{"$error":"#REF!"}]
[{"$f":"86400*TIMEVALUE(TEXT(Smp99_Donnees!#REF!,\"чч:мм:сс\"))","v":{"$error":"#REF!"}},{"$f":"86400*TIMEVALUE(TEXT(Smp99_Donnees!#REF!,\"чч:мм:сс\"))","v":{"$error":"#REF!"}},{"$error":"#REF!"}]
[{"$f":"86400*TIMEVALUE(TEXT(Smp99_Donnees!#REF!,\"чч:мм:сс\"))","v":{"$error":"#REF!"}},{"$f":"86400*TIMEVALUE(TEXT(Smp99_Donnees!#REF!,\"чч:мм:сс\"))","v":{"$error":"#REF!"}},{"$error":"#REF!"}]
[{"$f":"86400*TIMEVALUE(TEXT(Smp99_Donnees!#REF!,\"чч:мм:сс\"))","v":{"$error":"#REF!"}},{"$f":"86400*TIMEVALUE(TEXT(Smp99_Donnees!#REF!,\"чч:мм:сс\"))","v":{"$error":"#REF!"}},{"$error":"#REF!"}]
[{"$f":"86400*TIMEVALUE(TEXT(Smp99_Donnees!#REF!,\"чч:мм:сс\"))","v":{"$error":"#REF!"}},{"$f":"86400*TIMEVALUE(TEXT(Smp99_Donnees!#REF!,\"чч:мм:сс\"))","v":{"$error":"#REF!"}},{"$error":"#REF!"}]
[{"$f":"86400*TIMEVALUE(TEXT(Smp99_Donnees!#REF!,\"чч:мм:сс\"))","v":{"$error":"#REF!"}},{"$f":"86400*TIMEVALUE(TEXT(Smp99_Donnees!#REF!,\"чч:мм:сс\"))","v":{"$error":"#REF!"}},{"$error":"#REF!"}]
[{"$f":"86400*TIMEVALUE(TEXT(Smp99_Donnees!#REF!,\"чч:мм:сс\"))","v":{"$error":"#REF!"}},{"$f":"86400*TIMEVALUE(TEXT(Smp99_Donnees!#REF!,\"чч:мм:сс\"))","v":{"$error":"#REF!"}},{"$error":"#REF!"}]
[{"$f":"86400*TIMEVALUE(TEXT(Smp99_Donnees!#REF!,\"чч:мм:сс\"))","v":{"$error":"#REF!"}},{"$f":"86400*TIMEVALUE(TEXT(Smp99_Donnees!#REF!,\"чч:мм:сс\"))","v":{"$error":"#REF!"}},{"$error":"#REF!"}]
[{"$f":"86400*TIMEVALUE(TEXT(Smp99_Donnees!#REF!,\"чч:мм:сс\"))","v":{"$error":"#REF!"}},{"$f":"86400*TIMEVALUE(TEXT(Smp99_Donnees!#REF!,\"чч:мм:сс\"))","v":{"$error":"#REF!"}},{"$error":"#REF!"}]
[{"$f":"86400*TIMEVALUE(TEXT(Smp99_Donnees!#REF!,\"чч:мм:сс\"))","v":{"$error":"#REF!"}},{"$f":"86400*TIMEVALUE(TEXT(Smp99_Donnees!#REF!,\"чч:мм:сс\"))","v":{"$error":"#REF!"}},{"$error":"#REF!"}]
[{"$f":"86400*TIMEVALUE(TEXT(Smp99_Donnees!#REF!,\"чч:мм:сс\"))","v":{"$error":"#REF!"}},{"$f":"86400*TIMEVALUE(TEXT(Smp99_Donnees!#REF!,\"чч:мм:сс\"))","v":{"$error":"#REF!"}},{"$error":"#REF!"}]
[{"$f":"86400*TIMEVALUE(TEXT(Smp99_Donnees!#REF!,\"чч:мм:сс\"))","v":{"$error":"#REF!"}},{"$f":"86400*TIMEVALUE(TEXT(Smp99_Donnees!#REF!,\"чч:мм:сс\"))","v":{"$error":"#REF!"}},{"$error":"#REF!"}]
[{"$f":"86400*TIMEVALUE(TEXT(Smp99_Donnees!#REF!,\"чч:мм:сс\"))","v":{"$error":"#REF!"}},{"$f":"86400*TIMEVALUE(TEXT(Smp99_Donnees!#REF!,\"чч:мм:сс\"))","v":{"$error":"#REF!"}},{"$error":"#REF!"}]
[{"$f":"86400*TIMEVALUE(TEXT(Smp99_Donnees!#REF!,\"чч:мм:сс\"))","v":{"$error":"#REF!"}},{"$f":"86400*TIMEVALUE(TEXT(Smp99_Donnees!#REF!,\"чч:мм:сс\"))","v":{"$error":"#REF!"}},{"$error":"#REF!"}]
[{"$f":"86400*TIMEVALUE(TEXT(Smp99_Donnees!#REF!,\"чч:мм:сс\"))","v":{"$error":"#REF!"}},{"$f":"86400*TIMEVALUE(TEXT(Smp99_Donnees!#REF!,\"чч:мм:сс\"))","v":{"$error":"#REF!"}},{"$error":"#REF!"}]
[{"$f":"86400*TIMEVALUE(TEXT(Smp99_Donnees!#REF!,\"чч:мм:сс\"))","v":{"$error":"#REF!"}},{"$f":"86400*TIMEVALUE(TEXT(Smp99_Donnees!#REF!,\"чч:мм:сс\"))","v":{"$error":"#REF!"}},{"$error":"#REF!"}]
[{"$f":"86400*TIMEVALUE(TEXT(Smp99_Donnees!#REF!,\"чч:мм:сс\"))","v":{"$error":"#REF!"}},{"$f":"86400*TIMEVALUE(TEXT(Smp99_Donnees!#REF!,\"чч:мм:сс\"))","v":{"$error":"#REF!"}},{"$error":"#REF!"}]
[{"$f":"86400*TIMEVALUE(TEXT(Smp99_Donnees!#REF!,\"чч:мм:сс\"))","v":{"$error":"#REF!"}},{"$f":"86400*TIMEVALUE(TEXT(Smp99_Donnees!#REF!,\"чч:мм:сс\"))","v":{"$error":"#REF!"}},{"$error":"#REF!"}]
[{"$f":"86400*TIMEVALUE(TEXT(Smp99_Donnees!#REF!,\"чч:мм:сс\"))","v":{"$error":"#REF!"}},{"$f":"86400*TIMEVALUE(TEXT(Smp99_Donnees!#REF!,\"чч:мм:сс\"))","v":{"$error":"#REF!"}},{"$error":"#REF!"}]
[{"$f":"86400*TIMEVALUE(TEXT(Smp99_Donnees!#REF!,\"чч:мм:сс\"))","v":{"$error":"#REF!"}},{"$f":"86400*TIMEVALUE(TEXT(Smp99_Donnees!#REF!,\"чч:мм:сс\"))","v":{"$error":"#REF!"}},{"$error":"#REF!"}]
[{"$f":"86400*TIMEVALUE(TEXT(Smp99_Donnees!#REF!,\"чч:мм:сс\"))","v":{"$error":"#REF!"}},{"$f":"86400*TIMEVALUE(TEXT(Smp99_Donnees!#REF!,\"чч:мм:сс\"))","v":{"$error":"#REF!"}},{"$error":"#REF!"}]
[{"$f":"86400*TIMEVALUE(TEXT(Smp99_Donnees!#REF!,\"чч:мм:сс\"))","v":{"$error":"#REF!"}},{"$f":"86400*TIMEVALUE(TEXT(Smp99_Donnees!#REF!,\"чч:мм:сс\"))","v":{"$error":"#REF!"}},{"$error":"#REF!"}]
[{"$f":"86400*TIMEVALUE(TEXT(Smp99_Donnees!#REF!,\"чч:мм:сс\"))","v":{"$error":"#REF!"}},{"$f":"86400*TIMEVALUE(TEXT(Smp99_Donnees!#REF!,\"чч:мм:сс\"))","v":{"$error":"#REF!"}},{"$error":"#REF!"}]
[{"$f":"86400*TIMEVALUE(TEXT(Smp99_Donnees!#REF!,\"чч:мм:сс\"))","v":{"$error":"#REF!"}},{"$f":"86400*TIMEVALUE(TEXT(Smp99_Donnees!#REF!,\"чч:мм:сс\"))","v":{"$error":"#REF!"}},{"$error":"#REF!"}]
[{"$f":"86400*TIMEVALUE(TEXT(Smp99_Donnees!#REF!,\"чч:мм:сс\"))","v":{"$error":"#REF!"}},{"$f":"86400*TIMEVALUE(TEXT(Smp99_Donnees!#REF!,\"чч:мм:сс\"))","v":{"$error":"#REF!"}},{"$error":"#REF!"}]
[{"$f":"86400*TIMEVALUE(TEXT(Smp99_Donnees!#REF!,\"чч:мм:сс\"))","v":{"$error":"#REF!"}},{"$f":"86400*TIMEVALUE(TEXT(Smp99_Donnees!#REF!,\"чч:мм:сс\"))","v":{"$error":"#REF!"}},{"$error":"#REF!"}]
[{"$f":"86400*TIMEVALUE(TEXT(Smp99_Donnees!#REF!,\"чч:мм:сс\"))","v":{"$error":"#REF!"}},{"$f":"86400*TIMEVALUE(TEXT(Smp99_Donnees!#REF!,\"чч:мм:сс\"))","v":{"$error":"#REF!"}},{"$error":"#REF!"}]
[{"$f":"86400*TIMEVALUE(TEXT(Smp99_Donnees!#REF!,\"чч:мм:сс\"))","v":{"$error":"#REF!"}},{"$f":"86400*TIMEVALUE(TEXT(Smp99_Donnees!#REF!,\"чч:мм:сс\"))","v":{"$error":"#REF!"}},{"$error":"#REF!"}]
[{"$f":"86400*TIMEVALUE(TEXT(Smp99_Donnees!#REF!,\"чч:мм:сс\"))","v":{"$error":"#REF!"}},{"$f":"86400*TIMEVALUE(TEXT(Smp99_Donnees!#REF!,\"чч:мм:сс\"))","v":{"$error":"#REF!"}},{"$error":"#REF!"}]
[{"$f":"86400*TIMEVALUE(TEXT(Smp99_Donnees!#REF!,\"чч:мм:сс\"))","v":{"$error":"#REF!"}},{"$f":"86400*TIMEVALUE(TEXT(Smp99_Donnees!#REF!,\"чч:мм:сс\"))","v":{"$error":"#REF!"}},{"$error":"#REF!"}]
[{"$f":"86400*TIMEVALUE(TEXT(Smp99_Donnees!#REF!,\"чч:мм:сс\"))","v":{"$error":"#REF!"}},{"$f":"86400*TIMEVALUE(TEXT(Smp99_Donnees!#REF!,\"чч:мм:сс\"))","v":{"$error":"#REF!"}},{"$error":"#REF!"}]
[{"$f":"86400*TIMEVALUE(TEXT(Smp99_Donnees!#REF!,\"чч:мм:сс\"))","v":{"$error":"#REF!"}},{"$f":"86400*TIMEVALUE(TEXT(Smp99_Donnees!#REF!,\"чч:мм:сс\"))","v":{"$error":"#REF!"}},{"$error":"#REF!"}]
[{"$f":"86400*TIMEVALUE(TEXT(Smp99_Donnees!#REF!,\"чч:мм:сс\"))","v":{"$error":"#REF!"}},{"$f":"86400*TIMEVALUE(TEXT(Smp99_Donnees!#REF!,\"чч:мм:сс\"))","v":{"$error":"#REF!"}},{"$error":"#REF!"}]
[{"$f":"86400*TIMEVALUE(TEXT(Smp99_Donnees!#REF!,\"чч:мм:сс\"))","v":{"$error":"#REF!"}},{"$f":"86400*TIMEVALUE(TEXT(Smp99_Donnees!#REF!,\"чч:мм:сс\"))","v":{"$error":"#REF!"}},{"$error":"#REF!"}]
[{"$f":"86400*TIMEVALUE(TEXT(Smp99_Donnees!#REF!,\"чч:мм:сс\"))","v":{"$error":"#REF!"}},{"$f":"86400*TIMEVALUE(TEXT(Smp99_Donnees!#REF!,\"чч:мм:сс\"))","v":{"$error":"#REF!"}},{"$error":"#REF!"}]
[{"$f":"86400*TIMEVALUE(TEXT(Smp99_Donnees!#REF!,\"чч:мм:сс\"))","v":{"$error":"#REF!"}},{"$f":"86400*TIMEVALUE(TEXT(Smp99_Donnees!#REF!,\"чч:мм:сс\"))","v":{"$error":"#REF!"}},{"$error":"#REF!"}]
[{"$f":"86400*TIMEVALUE(TEXT(Smp99_Donnees!#REF!,\"чч:мм:сс\"))","v":{"$error":"#REF!"}},{"$f":"86400*TIMEVALUE(TEXT(Smp99_Donnees!#REF!,\"чч:мм:сс\"))","v":{"$error":"#REF!"}},{"$error":"#REF!"}]
[{"$f":"86400*TIMEVALUE(TEXT(Smp99_Donnees!#REF!,\"чч:мм:сс\"))","v":{"$error":"#REF!"}},{"$f":"86400*TIMEVALUE(TEXT(Smp99_Donnees!#REF!,\"чч:мм:сс\"))","v":{"$error":"#REF!"}},{"$error":"#REF!"}]
[{"$f":"86400*TIMEVALUE(TEXT(Smp99_Donnees!#REF!,\"чч:мм:сс\"))","v":{"$error":"#REF!"}},{"$f":"86400*TIMEVALUE(TEXT(Smp99_Donnees!#REF!,\"чч:мм:сс\"))","v":{"$error":"#REF!"}},{"$error":"#REF!"}]
[{"$f":"86400*TIMEVALUE(TEXT(Smp99_Donnees!#REF!,\"чч:мм:сс\"))","v":{"$error":"#REF!"}},{"$f":"86400*TIMEVALUE(TEXT(Smp99_Donnees!#REF!,\"чч:мм:сс\"))","v":{"$error":"#REF!"}},{"$error":"#REF!"}]
[{"$f":"86400*TIMEVALUE(TEXT(Smp99_Donnees!#REF!,\"чч:мм:сс\"))","v":{"$error":"#REF!"}},{"$f":"86400*TIMEVALUE(TEXT(Smp99_Donnees!#REF!,\"чч:мм:сс\"))","v":{"$error":"#REF!"}},{"$error":"#REF!"}]
[{"$f":"86400*TIMEVALUE(TEXT(Smp99_Donnees!#REF!,\"чч:мм:сс\"))","v":{"$error":"#REF!"}},{"$f":"86400*TIMEVALUE(TEXT(Smp99_Donnees!#REF!,\"чч:мм:сс\"))","v":{"$error":"#REF!"}},{"$error":"#REF!"}]
[{"$f":"86400*TIMEVALUE(TEXT(Smp99_Donnees!#REF!,\"чч:мм:сс\"))","v":{"$error":"#REF!"}},{"$f":"86400*TIMEVALUE(TEXT(Smp99_Donnees!#REF!,\"чч:мм:сс\"))","v":{"$error":"#REF!"}},{"$f":"B450-A450","v":{"$error":"#REF!"}}]
[{"$f":"86400*TIMEVALUE(TEXT(Smp99_Donnees!#REF!,\"чч:мм:сс\"))","v":{"$error":"#REF!"}},{"$f":"86400*TIMEVALUE(TEXT(Smp99_Donnees!#REF!,\"чч:мм:сс\"))","v":{"$error":"#REF!"}},{"$error":"#REF!"}]
[{"$f":"86400*TIMEVALUE(TEXT(Smp99_Donnees!#REF!,\"чч:мм:сс\"))","v":{"$error":"#REF!"}},{"$f":"86400*TIMEVALUE(TEXT(Smp99_Donnees!#REF!,\"чч:мм:сс\"))","v":{"$error":"#REF!"}},{"$error":"#REF!"}]
[{"$f":"86400*TIMEVALUE(TEXT(Smp99_Donnees!#REF!,\"чч:мм:сс\"))","v":{"$error":"#REF!"}},{"$f":"86400*TIMEVALUE(TEXT(Smp99_Donnees!#REF!,\"чч:мм:сс\"))","v":{"$error":"#REF!"}},{"$error":"#REF!"}]
[{"$f":"86400*TIMEVALUE(TEXT(Smp99_Donnees!#REF!,\"чч:мм:сс\"))","v":{"$error":"#REF!"}},{"$f":"86400*TIMEVALUE(TEXT(Smp99_Donnees!#REF!,\"чч:мм:сс\"))","v":{"$error":"#REF!"}},{"$error":"#REF!"}]
[{"$f":"86400*TIMEVALUE(TEXT(Smp99_Donnees!#REF!,\"чч:мм:сс\"))","v":{"$error":"#REF!"}},{"$f":"86400*TIMEVALUE(TEXT(Smp99_Donnees!#REF!,\"чч:мм:сс\"))","v":{"$error":"#REF!"}},{"$error":"#REF!"}]
[{"$f":"86400*TIMEVALUE(TEXT(Smp99_Donnees!#REF!,\"чч:мм:сс\"))","v":{"$error":"#REF!"}},{"$f":"86400*TIMEVALUE(TEXT(Smp99_Donnees!#REF!,\"чч:мм:сс\"))","v":{"$error":"#REF!"}},{"$error":"#REF!"}]
[{"$f":"86400*TIMEVALUE(TEXT(Smp99_Donnees!#REF!,\"чч:мм:сс\"))","v":{"$error":"#REF!"}},{"$f":"86400*TIMEVALUE(TEXT(Smp99_Donnees!#REF!,\"чч:мм:сс\"))","v":{"$error":"#REF!"}},{"$error":"#REF!"}]
[{"$f":"86400*TIMEVALUE(TEXT(Smp99_Donnees!#REF!,\"чч:мм:сс\"))","v":{"$error":"#REF!"}},{"$f":"86400*TIMEVALUE(TEXT(Smp99_Donnees!#REF!,\"чч:мм:сс\"))","v":{"$error":"#REF!"}},{"$error":"#REF!"}]
[{"$f":"86400*TIMEVALUE(TEXT(Smp99_Donnees!#REF!,\"чч:мм:сс\"))","v":{"$error":"#REF!"}},{"$f":"86400*TIMEVALUE(TEXT(Smp99_Donnees!#REF!,\"чч:мм:сс\"))","v":{"$error":"#REF!"}},{"$error":"#REF!"}]
[{"$f":"86400*TIMEVALUE(TEXT(Smp99_Donnees!#REF!,\"чч:мм:сс\"))","v":{"$error":"#REF!"}},{"$f":"86400*TIMEVALUE(TEXT(Smp99_Donnees!#REF!,\"чч:мм:сс\"))","v":{"$error":"#REF!"}},{"$error":"#REF!"}]
[{"$f":"86400*TIMEVALUE(TEXT(Smp99_Donnees!#REF!,\"чч:мм:сс\"))","v":{"$error":"#REF!"}},{"$f":"86400*TIMEVALUE(TEXT(Smp99_Donnees!#REF!,\"чч:мм:сс\"))","v":{"$error":"#REF!"}},{"$error":"#REF!"}]
[{"$f":"86400*TIMEVALUE(TEXT(Smp99_Donnees!#REF!,\"чч:мм:сс\"))","v":{"$error":"#REF!"}},{"$f":"86400*TIMEVALUE(TEXT(Smp99_Donnees!#REF!,\"чч:мм:сс\"))","v":{"$error":"#REF!"}},{"$error":"#REF!"}]
[{"$f":"86400*TIMEVALUE(TEXT(Smp99_Donnees!#REF!,\"чч:мм:сс\"))","v":{"$error":"#REF!"}},{"$f":"86400*TIMEVALUE(TEXT(Smp99_Donnees!#REF!,\"чч:мм:сс\"))","v":{"$error":"#REF!"}},{"$error":"#REF!"}]
[{"$f":"86400*TIMEVALUE(TEXT(Smp99_Donnees!#REF!,\"чч:мм:сс\"))","v":{"$error":"#REF!"}},{"$f":"86400*TIMEVALUE(TEXT(Smp99_Donnees!#REF!,\"чч:мм:сс\"))","v":{"$error":"#REF!"}},{"$error":"#REF!"}]
[{"$f":"86400*TIMEVALUE(TEXT(Smp99_Donnees!#REF!,\"чч:мм:сс\"))","v":{"$error":"#REF!"}},{"$f":"86400*TIMEVALUE(TEXT(Smp99_Donnees!#REF!,\"чч:мм:сс\"))","v":{"$error":"#REF!"}},{"$error":"#REF!"}]
[{"$f":"86400*TIMEVALUE(TEXT(Smp99_Donnees!#REF!,\"чч:мм:сс\"))","v":{"$error":"#REF!"}},{"$f":"86400*TIMEVALUE(TEXT(Smp99_Donnees!#REF!,\"чч:мм:сс\"))","v":{"$error":"#REF!"}},{"$error":"#REF!"}]
[{"$f":"86400*TIMEVALUE(TEXT(Smp99_Donnees!#REF!,\"чч:мм:сс\"))","v":{"$error":"#REF!"}},{"$f":"86400*TIMEVALUE(TEXT(Smp99_Donnees!#REF!,\"чч:мм:сс\"))","v":{"$error":"#REF!"}},{"$error":"#REF!"}]
[{"$f":"86400*TIMEVALUE(TEXT(Smp99_Donnees!#REF!,\"чч:мм:сс\"))","v":{"$error":"#REF!"}},{"$f":"86400*TIMEVALUE(TEXT(Smp99_Donnees!#REF!,\"чч:мм:сс\"))","v":{"$error":"#REF!"}},{"$error":"#REF!"}]
[{"$f":"86400*TIMEVALUE(TEXT(Smp99_Donnees!#REF!,\"чч:мм:сс\"))","v":{"$error":"#REF!"}},{"$f":"86400*TIMEVALUE(TEXT(Smp99_Donnees!#REF!,\"чч:мм:сс\"))","v":{"$error":"#REF!"}},{"$error":"#REF!"}]
[{"$f":"86400*TIMEVALUE(TEXT(Smp99_Donnees!#REF!,\"чч:мм:сс\"))","v":{"$error":"#REF!"}},{"$f":"86400*TIMEVALUE(TEXT(Smp99_Donnees!#REF!,\"чч:мм:сс\"))","v":{"$error":"#REF!"}},{"$error":"#REF!"}]
[{"$f":"86400*TIMEVALUE(TEXT(Smp99_Donnees!#REF!,\"чч:мм:сс\"))","v":{"$error":"#REF!"}},{"$f":"86400*TIMEVALUE(TEXT(Smp99_Donnees!#REF!,\"чч:мм:сс\"))","v":{"$error":"#REF!"}},{"$error":"#REF!"}]
[{"$f":"86400*TIMEVALUE(TEXT(Smp99_Donnees!#REF!,\"чч:мм:сс\"))","v":{"$error":"#REF!"}},{"$f":"86400*TIMEVALUE(TEXT(Smp99_Donnees!#REF!,\"чч:мм:сс\"))","v":{"$error":"#REF!"}},{"$error":"#REF!"}]
[{"$f":"86400*TIMEVALUE(TEXT(Smp99_Donnees!#REF!,\"чч:мм:сс\"))","v":{"$error":"#REF!"}},{"$f":"86400*TIMEVALUE(TEXT(Smp99_Donnees!#REF!,\"чч:мм:сс\"))","v":{"$error":"#REF!"}},{"$error":"#REF!"}]
[{"$f":"86400*TIMEVALUE(TEXT(Smp99_Donnees!#REF!,\"чч:мм:сс\"))","v":{"$error":"#REF!"}},{"$f":"86400*TIMEVALUE(TEXT(Smp99_Donnees!#REF!,\"чч:мм:сс\"))","v":{"$error":"#REF!"}},{"$error":"#REF!"}]
[{"$f":"86400*TIMEVALUE(TEXT(Smp99_Donnees!#REF!,\"чч:мм:сс\"))","v":{"$error":"#REF!"}},{"$f":"86400*TIMEVALUE(TEXT(Smp99_Donnees!#REF!,\"чч:мм:сс\"))","v":{"$error":"#REF!"}},{"$error":"#REF!"}]
[{"$f":"86400*TIMEVALUE(TEXT(Smp99_Donnees!#REF!,\"чч:мм:сс\"))","v":{"$error":"#REF!"}},{"$f":"86400*TIMEVALUE(TEXT(Smp99_Donnees!#REF!,\"чч:мм:сс\"))","v":{"$error":"#REF!"}},{"$error":"#REF!"}]
[{"$f":"86400*TIMEVALUE(TEXT(Smp99_Donnees!#REF!,\"чч:мм:сс\"))","v":{"$error":"#REF!"}},{"$f":"86400*TIMEVALUE(TEXT(Smp99_Donnees!#REF!,\"чч:мм:сс\"))","v":{"$error":"#REF!"}},{"$error":"#REF!"}]
[{"$f":"86400*TIMEVALUE(TEXT(Smp99_Donnees!#REF!,\"чч:мм:сс\"))","v":{"$error":"#REF!"}},{"$f":"86400*TIMEVALUE(TEXT(Smp99_Donnees!#REF!,\"чч:мм:сс\"))","v":{"$error":"#REF!"}},{"$error":"#REF!"}]
[{"$f":"86400*TIMEVALUE(TEXT(Smp99_Donnees!#REF!,\"чч:мм:сс\"))","v":{"$error":"#REF!"}},{"$f":"86400*TIMEVALUE(TEXT(Smp99_Donnees!#REF!,\"чч:мм:сс\"))","v":{"$error":"#REF!"}},{"$error":"#REF!"}]
[{"$f":"86400*TIMEVALUE(TEXT(Smp99_Donnees!#REF!,\"чч:мм:сс\"))","v":{"$error":"#REF!"}},{"$f":"86400*TIMEVALUE(TEXT(Smp99_Donnees!#REF!,\"чч:мм:сс\"))","v":{"$error":"#REF!"}},{"$error":"#REF!"}]
[{"$f":"86400*TIMEVALUE(TEXT(Smp99_Donnees!#REF!,\"чч:мм:сс\"))","v":{"$error":"#REF!"}},{"$f":"86400*TIMEVALUE(TEXT(Smp99_Donnees!#REF!,\"чч:мм:сс\"))","v":{"$error":"#REF!"}},{"$error":"#REF!"}]
[{"$f":"86400*TIMEVALUE(TEXT(Smp99_Donnees!#REF!,\"чч:мм:сс\"))","v":{"$error":"#REF!"}},{"$f":"86400*TIMEVALUE(TEXT(Smp99_Donnees!#REF!,\"чч:мм:сс\"))","v":{"$error":"#REF!"}},{"$error":"#REF!"}]
[{"$f":"86400*TIMEVALUE(TEXT(Smp99_Donnees!#REF!,\"чч:мм:сс\"))","v":{"$error":"#REF!"}},{"$f":"86400*TIMEVALUE(TEXT(Smp99_Donnees!#REF!,\"чч:мм:сс\"))","v":{"$error":"#REF!"}},{"$error":"#REF!"}]
[{"$f":"86400*TIMEVALUE(TEXT(Smp99_Donnees!#REF!,\"чч:мм:сс\"))","v":{"$error":"#REF!"}},{"$f":"86400*TIMEVALUE(TEXT(Smp99_Donnees!#REF!,\"чч:мм:сс\"))","v":{"$error":"#REF!"}},{"$error":"#REF!"}]
[{"$f":"86400*TIMEVALUE(TEXT(Smp99_Donnees!#REF!,\"чч:мм:сс\"))","v":{"$error":"#REF!"}},{"$f":"86400*TIMEVALUE(TEXT(Smp99_Donnees!#REF!,\"чч:мм:сс\"))","v":{"$error":"#REF!"}},{"$error":"#REF!"}]
[{"$f":"86400*TIMEVALUE(TEXT(Smp99_Donnees!#REF!,\"чч:мм:сс\"))","v":{"$error":"#REF!"}},{"$f":"86400*TIMEVALUE(TEXT(Smp99_Donnees!#REF!,\"чч:мм:сс\"))","v":{"$error":"#REF!"}},{"$error":"#REF!"}]
[{"$f":"86400*TIMEVALUE(TEXT(Smp99_Donnees!#REF!,\"чч:мм:сс\"))","v":{"$error":"#REF!"}},{"$f":"86400*TIMEVALUE(TEXT(Smp99_Donnees!#REF!,\"чч:мм:сс\"))","v":{"$error":"#REF!"}},{"$error":"#REF!"}]
[{"$f":"86400*TIMEVALUE(TEXT(Smp99_Donnees!#REF!,\"чч:мм:сс\"))","v":{"$error":"#REF!"}},{"$f":"86400*TIMEVALUE(TEXT(Smp99_Donnees!#REF!,\"чч:мм:сс\"))","v":{"$error":"#REF!"}},{"$error":"#REF!"}]
[{"$f":"86400*TIMEVALUE(TEXT(Smp99_Donnees!#REF!,\"чч:мм:сс\"))","v":{"$error":"#REF!"}},{"$f":"86400*TIMEVALUE(TEXT(Smp99_Donnees!#REF!,\"чч:мм:сс\"))","v":{"$error":"#REF!"}},{"$error":"#REF!"}]
[{"$f":"86400*TIMEVALUE(TEXT(Smp99_Donnees!#REF!,\"чч:мм:сс\"))","v":{"$error":"#REF!"}},{"$f":"86400*TIMEVALUE(TEXT(Smp99_Donnees!#REF!,\"чч:мм:сс\"))","v":{"$error":"#REF!"}},{"$error":"#REF!"}]
[{"$f":"86400*TIMEVALUE(TEXT(Smp99_Donnees!#REF!,\"чч:мм:сс\"))","v":{"$error":"#REF!"}},{"$f":"86400*TIMEVALUE(TEXT(Smp99_Donnees!#REF!,\"чч:мм:сс\"))","v":{"$error":"#REF!"}},{"$error":"#REF!"}]
[{"$f":"86400*TIMEVALUE(TEXT(Smp99_Donnees!C17,\"чч:мм:сс\"))","v":2595},{"$f":"86400*TIMEVALUE(TEXT(Smp99_Donnees!O17,\"чч:мм:сс\"))","v":2675},80]
[{"$f":"86400*TIMEVALUE(TEXT(Smp99_Donnees!C18,\"чч:мм:сс\"))","v":2444},{"$f":"86400*TIMEVALUE(TEXT(Smp99_Donnees!O18,\"чч:мм:сс\"))","v":2572},128]
[{"$f":"86400*TIMEVALUE(TEXT(Smp99_Donnees!C19,\"чч:мм:сс\"))","v":2322},{"$f":"86400*TIMEVALUE(TEXT(Smp99_Donnees!O19,\"чч:мм:сс\"))","v":2394},72]
[{"$f":"86400*TIMEVALUE(TEXT(Smp99_Donnees!C20,\"чч:мм:сс\"))","v":1957.0000000000002},{"$f":"86400*TIMEVALUE(TEXT(Smp99_Donnees!O20,\"чч:мм:сс\"))","v":2136.0000000000005},179.00000000000023]
[{"$f":"86400*TIMEVALUE(TEXT(Smp99_Donnees!C21,\"чч:мм:сс\"))","v":1854},{"$f":"86400*TIMEVALUE(TEXT(Smp99_Donnees!O21,\"чч:мм:сс\"))","v":2111},257]
[{"$f":"86400*TIMEVALUE(TEXT(Smp99_Donnees!C22,\"чч:мм:сс\"))","v":1781.0000000000002},{"$f":"86400*TIMEVALUE(TEXT(Smp99_Donnees!O22,\"чч:мм:сс\"))","v":1847.0000000000002},66]
[{"$f":"86400*TIMEVALUE(TEXT(Smp99_Donnees!C23,\"чч:мм:сс\"))","v":1309},{"$f":"86400*TIMEVALUE(TEXT(Smp99_Donnees!O23,\"чч:мм:сс\"))","v":1371},62]
[{"$f":"86400*TIMEVALUE(TEXT(Smp99_Donnees!C24,\"чч:мм:сс\"))","v":1191.0000000000002},{"$f":"86400*TIMEVALUE(TEXT(Smp99_Donnees!O24,\"чч:мм:сс\"))","v":1360.9999999999998},169.99999999999955]
[{"$f":"86400*TIMEVALUE(TEXT(Smp99_Donnees!C25,\"чч:мм:сс\"))","v":942.99999999999989},{"$f":"86400*TIMEVALUE(TEXT(Smp99_Donnees!O25,\"чч:мм:сс\"))","v":1114.9999999999998},171.99999999999989]
[{"$f":"86400*TIMEVALUE(TEXT(Smp99_Donnees!C26,\"чч:мм:сс\"))","v":0},{"$f":"86400*TIMEVALUE(TEXT(Smp99_Donnees!O26,\"чч:мм:сс\"))","v":0},{"$f":"SUM(C1:C500)","v":{"$error":"#REF!"}}]
[{"$f":"86400*TIMEVALUE(TEXT(Smp99_Donnees!C27,\"чч:мм:сс\"))","v":0},{"$f":"86400*TIMEVALUE(TEXT(Smp99_Donnees!O27,\"чч:мм:сс\"))","v":0}]
[0,{"$f":"86400*TIMEVALUE(TEXT(Smp99_Donnees!O28,\"чч:мм:сс\"))","v":0}]
[{"$f":"86400*TIMEVALUE(TEXT(Smp99_Donnees!C29,\"чч:мм:сс\"))","v":0},{"$f":"86400*TIMEVALUE(TEXT(Smp99_Donnees!O29,\"чч:мм:сс\"))","v":0}]
[{"$f":"86400*TIMEVALUE(TEXT(Smp99_Donnees!C30,\"чч:мм:сс\"))","v":0},{"$f":"86400*TIMEVALUE(TEXT(Smp99_Donnees!O30,\"чч:мм:сс\"))","v":0}]
[{"$f":"86400*TIMEVALUE(TEXT(Smp99_Donnees!C31,\"чч:мм:сс\"))","v":0},{"$f":"86400*TIMEVALUE(TEXT(Smp99_Donnees!O31,\"чч:мм:сс\"))","v":0}]
[{"$f":"86400*TIMEVALUE(TEXT(Smp99_Donnees!C32,\"чч:мм:сс\"))","v":0},{"$f":"86400*TIMEVALUE(TEXT(Smp99_Donnees!O32,\"чч:мм:сс\"))","v":0}]
[{"$f":"86400*TIMEVALUE(TEXT(Smp99_Donnees!C33,\"чч:мм:сс\"))","v":0},{"$f":"86400*TIMEVALUE(TEXT(Smp99_Donnees!O33,\"чч:мм:сс\"))","v":0}]
[{"$f":"86400*TIMEVALUE(TEXT(Smp99_Donnees!C34,\"чч:мм:сс\"))","v":0},{"$f":"86400*TIMEVALUE(TEXT(Smp99_Donnees!O34,\"чч:мм:сс\"))","v":0}]
[{"$f":"86400*TIMEVALUE(TEXT(Smp99_Donnees!C35,\"чч:мм:сс\"))","v":0},{"$f":"86400*TIMEVALUE(TEXT(Smp99_Donnees!O35,\"чч:мм:сс\"))","v":0}]
[{"$f":"86400*TIMEVALUE(TEXT(Smp99_Donnees!C36,\"чч:мм:сс\"))","v":0},{"$f":"86400*TIMEVALUE(TEXT(Smp99_Donnees!O36,\"чч:мм:сс\"))","v":0}]
[{"$f":"86400*TIMEVALUE(TEXT(Smp99_Donnees!C37,\"чч:мм:сс\"))","v":0},{"$f":"86400*TIMEVALUE(TEXT(Smp99_Donnees!O37,\"чч:мм:сс\"))","v":0}]
[{"$f":"86400*TIMEVALUE(TEXT(Smp99_Donnees!C38,\"чч:мм:сс\"))","v":0},{"$f":"86400*TIMEVALUE(TEXT(Smp99_Donnees!O38,\"чч:мм:сс\"))","v":0}]
[{"$f":"86400*TIMEVALUE(TEXT(Smp99_Donnees!C39,\"чч:мм:сс\"))","v":0},{"$f":"86400*TIMEVALUE(TEXT(Smp99_Donnees!O39,\"чч:мм:сс\"))","v":0}]
[{"$f":"86400*TIMEVALUE(TEXT(Smp99_Donnees!C40,\"чч:мм:сс\"))","v":0},{"$f":"86400*TIMEVALUE(TEXT(Smp99_Donnees!O40,\"чч:мм:сс\"))","v":0}]
[{"$f":"86400*TIMEVALUE(TEXT(Smp99_Donnees!C41,\"чч:мм:сс\"))","v":0},{"$f":"86400*TIMEVALUE(TEXT(Smp99_Donnees!O41,\"чч:мм:сс\"))","v":0}]
[{"$f":"86400*TIMEVALUE(TEXT(Smp99_Donnees!C42,\"чч:мм:сс\"))","v":0},{"$f":"86400*TIMEVALUE(TEXT(Smp99_Donnees!O42,\"чч:мм:сс\"))","v":0}]
[{"$f":"86400*TIMEVALUE(TEXT(Smp99_Donnees!C43,\"чч:мм:сс\"))","v":0},{"$f":"86400*TIMEVALUE(TEXT(Smp99_Donnees!O43,\"чч:мм:сс\"))","v":0}]
[{"$f":"86400*TIMEVALUE(TEXT(Smp99_Donnees!C44,\"чч:мм:сс\"))","v":0},{"$f":"86400*TIMEVALUE(TEXT(Smp99_Donnees!O44,\"чч:мм:сс\"))","v":0}]
[{"$f":"86400*TIMEVALUE(TEXT(Smp99_Donnees!C45,\"чч:мм:сс\"))","v":0},{"$f":"86400*TIMEVALUE(TEXT(Smp99_Donnees!O45,\"чч:мм:сс\"))","v":0}]
[{"$f":"86400*TIMEVALUE(TEXT(Smp99_Donnees!C46,\"чч:мм:сс\"))","v":0},{"$f":"86400*TIMEVALUE(TEXT(Smp99_Donnees!O46,\"чч:мм:сс\"))","v":0}]
[{"$f":"86400*TIMEVALUE(TEXT(Smp99_Donnees!C47,\"чч:мм:сс\"))","v":0},{"$f":"86400*TIMEVALUE(TEXT(Smp99_Donnees!O47,\"чч:мм:сс\"))","v":0}]
[{"$f":"86400*TIMEVALUE(TEXT(Smp99_Donnees!C48,\"чч:мм:сс\"))","v":0},{"$f":"86400*TIMEVALUE(TEXT(Smp99_Donnees!O48,\"чч:мм:сс\"))","v":0}]
[{"$f":"86400*TIMEVALUE(TEXT(Smp99_Donnees!C49,\"чч:мм:сс\"))","v":0},{"$f":"86400*TIMEVALUE(TEXT(Smp99_Donnees!O49,\"чч:мм:сс\"))","v":0}]
[{"$f":"86400*TIMEVALUE(TEXT(Smp99_Donnees!C50,\"чч:мм:сс\"))","v":0},{"$f":"86400*TIMEVALUE(TEXT(Smp99_Donnees!O50,\"чч:мм:сс\"))","v":0}]
[{"$f":"86400*TIMEVALUE(TEXT(Smp99_Donnees!C51,\"чч:мм:сс\"))","v":0},{"$f":"86400*TIMEVALUE(TEXT(Smp99_Donnees!O51,\"чч:мм:сс\"))","v":0}]
[{"$f":"86400*TIMEVALUE(TEXT(Smp99_Donnees!C52,\"чч:мм:сс\"))","v":0},{"$f":"86400*TIMEVALUE(TEXT(Smp99_Donnees!O52,\"чч:мм:сс\"))","v":0}]
[{"$f":"86400*TIMEVALUE(TEXT(Smp99_Donnees!C53,\"чч:мм:сс\"))","v":0},{"$f":"86400*TIMEVALUE(TEXT(Smp99_Donnees!O53,\"чч:мм:сс\"))","v":0}]
[{"$f":"86400*TIMEVALUE(TEXT(Smp99_Donnees!C54,\"чч:мм:сс\"))","v":0},{"$f":"86400*TIMEVALUE(TEXT(Smp99_Donnees!O54,\"чч:мм:сс\"))","v":0}]
[{"$f":"86400*TIMEVALUE(TEXT(Smp99_Donnees!C55,\"чч:мм:сс\"))","v":0},{"$f":"86400*TIMEVALUE(TEXT(Smp99_Donnees!O55,\"чч:мм:сс\"))","v":0}]
[{"$f":"86400*TIMEVALUE(TEXT(Smp99_Donnees!C56,\"чч:мм:сс\"))","v":0},{"$f":"86400*TIMEVALUE(TEXT(Smp99_Donnees!O56,\"чч:мм:сс\"))","v":0}]
[{"$f":"86400*TIMEVALUE(TEXT(Smp99_Donnees!C57,\"чч:мм:сс\"))","v":0},{"$f":"86400*TIMEVALUE(TEXT(Smp99_Donnees!O57,\"чч:мм:сс\"))","v":0}]
[{"$f":"86400*TIMEVALUE(TEXT(Smp99_Donnees!C58,\"чч:мм:сс\"))","v":0},{"$f":"86400*TIMEVALUE(TEXT(Smp99_Donnees!O58,\"чч:мм:сс\"))","v":0}]
[{"$f":"86400*TIMEVALUE(TEXT(Smp99_Donnees!C59,\"чч:мм:сс\"))","v":0},{"$f":"86400*TIMEVALUE(TEXT(Smp99_Donnees!O59,\"чч:мм:сс\"))","v":0}]
[{"$f":"86400*TIMEVALUE(TEXT(Smp99_Donnees!C60,\"чч:мм:сс\"))","v":0},{"$f":"86400*TIMEVALUE(TEXT(Smp99_Donnees!O60,\"чч:мм:сс\"))","v":0}]
[{"$f":"86400*TIMEVALUE(TEXT(Smp99_Donnees!C61,\"чч:мм:сс\"))","v":0},{"$f":"86400*TIMEVALUE(TEXT(Smp99_Donnees!O61,\"чч:мм:сс\"))","v":0}]
[{"$f":"86400*TIMEVALUE(TEXT(Smp99_Donnees!C62,\"чч:мм:сс\"))","v":0},{"$f":"86400*TIMEVALUE(TEXT(Smp99_Donnees!O62,\"чч:мм:сс\"))","v":0}]
[{"$f":"86400*TIMEVALUE(TEXT(Smp99_Donnees!C63,\"чч:мм:сс\"))","v":0},{"$f":"86400*TIMEVALUE(TEXT(Smp99_Donnees!O63,\"чч:мм:сс\"))","v":0}]
[{"$f":"86400*TIMEVALUE(TEXT(Smp99_Donnees!C64,\"чч:мм:сс\"))","v":0},{"$f":"86400*TIMEVALUE(TEXT(Smp99_Donnees!O64,\"чч:мм:сс\"))","v":0}]
[{"$f":"86400*TIMEVALUE(TEXT(Smp99_Donnees!C65,\"чч:мм:сс\"))","v":0},{"$f":"86400*TIMEVALUE(TEXT(Smp99_Donnees!O65,\"чч:мм:сс\"))","v":0}]
[{"$f":"86400*TIMEVALUE(TEXT(Smp99_Donnees!C66,\"чч:мм:сс\"))","v":0},{"$f":"86400*TIMEVALUE(TEXT(Smp99_Donnees!O66,\"чч:мм:сс\"))","v":0}]
[{"$f":"86400*TIMEVALUE(TEXT(Smp99_Donnees!C67,\"чч:мм:сс\"))","v":0},{"$f":"86400*TIMEVALUE(TEXT(Smp99_Donnees!O67,\"чч:мм:сс\"))","v":0}]
[{"$f":"86400*TIMEVALUE(TEXT(Smp99_Donnees!C68,\"чч:мм:сс\"))","v":0},{"$f":"86400*TIMEVALUE(TEXT(Smp99_Donnees!O68,\"чч:мм:сс\"))","v":0}]
[{"$f":"86400*TIMEVALUE(TEXT(Smp99_Donnees!C69,\"чч:мм:сс\"))","v":0},{"$f":"86400*TIMEVALUE(TEXT(Smp99_Donnees!O69,\"чч:мм:сс\"))","v":0}]
[{"$f":"86400*TIMEVALUE(TEXT(Smp99_Donnees!C70,\"чч:мм:сс\"))","v":0},{"$f":"86400*TIMEVALUE(TEXT(Smp99_Donnees!O70,\"чч:мм:сс\"))","v":0}]
[{"$f":"86400*TIMEVALUE(TEXT(Smp99_Donnees!C71,\"чч:мм:сс\"))","v":0},{"$f":"86400*TIMEVALUE(TEXT(Smp99_Donnees!O71,\"чч:мм:сс\"))","v":0}]
[{"$f":"86400*TIMEVALUE(TEXT(Smp99_Donnees!C72,\"чч:мм:сс\"))","v":0},{"$f":"86400*TIMEVALUE(TEXT(Smp99_Donnees!O72,\"чч:мм:сс\"))","v":0}]
[{"$f":"86400*TIMEVALUE(TEXT(Smp99_Donnees!C73,\"чч:мм:сс\"))","v":0},{"$f":"86400*TIMEVALUE(TEXT(Smp99_Donnees!O73,\"чч:мм:сс\"))","v":0}]
[{"$f":"86400*TIMEVALUE(TEXT(Smp99_Donnees!C74,\"чч:мм:сс\"))","v":0},{"$f":"86400*TIMEVALUE(TEXT(Smp99_Donnees!O74,\"чч:мм:сс\"))","v":0}]
[{"$f":"86400*TIMEVALUE(TEXT(Smp99_Donnees!C75,\"чч:мм:сс\"))","v":0},{"$f":"86400*TIMEVALUE(TEXT(Smp99_Donnees!O75,\"чч:мм:сс\"))","v":0}]
[{"$f":"86400*TIMEVALUE(TEXT(Smp99_Donnees!C76,\"чч:мм:сс\"))","v":0},{"$f":"86400*TIMEVALUE(TEXT(Smp99_Donnees!O76,\"чч:мм:сс\"))","v":0}]
[{"$f":"86400*TIMEVALUE(TEXT(Smp99_Donnees!C77,\"чч:мм:сс\"))","v":0},{"$f":"86400*TIMEVALUE(TEXT(Smp99_Donnees!O77,\"чч:мм:сс\"))","v":0}]
[{"$f":"86400*TIMEVALUE(TEXT(Smp99_Donnees!C78,\"чч:мм:сс\"))","v":0},{"$f":"86400*TIMEVALUE(TEXT(Smp99_Donnees!O78,\"чч:мм:сс\"))","v":0}]
[{"$f":"86400*TIMEVALUE(TEXT(Smp99_Donnees!C79,\"чч:мм:сс\"))","v":0},{"$f":"86400*TIMEVALUE(TEXT(Smp99_Donnees!O79,\"чч:мм:сс\"))","v":0}]
[{"$f":"86400*TIMEVALUE(TEXT(Smp99_Donnees!C80,\"чч:мм:сс\"))","v":0},{"$f":"86400*TIMEVALUE(TEXT(Smp99_Donnees!O80,\"чч:мм:сс\"))","v":0}]
[{"$f":"86400*TIMEVALUE(TEXT(Smp99_Donnees!C81,\"чч:мм:сс\"))","v":0},{"$f":"86400*TIMEVALUE(TEXT(Smp99_Donnees!O81,\"чч:мм:сс\"))","v":0}]
[{"$f":"86400*TIMEVALUE(TEXT(Smp99_Donnees!C82,\"чч:мм:сс\"))","v":0},{"$f":"86400*TIMEVALUE(TEXT(Smp99_Donnees!O82,\"чч:мм:сс\"))","v":0}]
[{"$f":"86400*TIMEVALUE(TEXT(Smp99_Donnees!C83,\"чч:мм:сс\"))","v":0},{"$f":"86400*TIMEVALUE(TEXT(Smp99_Donnees!O83,\"чч:мм:сс\"))","v":0}]
[{"$f":"86400*TIMEVALUE(TEXT(Smp99_Donnees!C84,\"чч:мм:сс\"))","v":0},{"$f":"86400*TIMEVALUE(TEXT(Smp99_Donnees!O84,\"чч:мм:сс\"))","v":0}]
[{"$f":"86400*TIMEVALUE(TEXT(Smp99_Donnees!C85,\"чч:мм:сс\"))","v":0},{"$f":"86400*TIMEVALUE(TEXT(Smp99_Donnees!O85,\"чч:мм:сс\"))","v":0}]
[{"$f":"86400*TIMEVALUE(TEXT(Smp99_Donnees!C86,\"чч:мм:сс\"))","v":0},{"$f":"86400*TIMEVALUE(TEXT(Smp99_Donnees!O86,\"чч:мм:сс\"))","v":0}]
[{"$f":"86400*TIMEVALUE(TEXT(Smp99_Donnees!C87,\"чч:мм:сс\"))","v":0},{"$f":"86400*TIMEVALUE(TEXT(Smp99_Donnees!O87,\"чч:мм:сс\"))","v":0}]
[{"$f":"86400*TIMEVALUE(TEXT(Smp99_Donnees!C88,\"чч:мм:сс\"))","v":0},{"$f":"86400*TIMEVALUE(TEXT(Smp99_Donnees!O88,\"чч:мм:сс\"))","v":0}]
[{"$f":"86400*TIMEVALUE(TEXT(Smp99_Donnees!C89,\"чч:мм:сс\"))","v":0},{"$f":"86400*TIMEVALUE(TEXT(Smp99_Donnees!O89,\"чч:мм:сс\"))","v":0}]
[{"$f":"86400*TIMEVALUE(TEXT(Smp99_Donnees!C90,\"чч:мм:сс\"))","v":0},{"$f":"86400*TIMEVALUE(TEXT(Smp99_Donnees!O90,\"чч:мм:сс\"))","v":0}]
[{"$f":"86400*TIMEVALUE(TEXT(Smp99_Donnees!C91,\"чч:мм:сс\"))","v":0},{"$f":"86400*TIMEVALUE(TEXT(Smp99_Donnees!O91,\"чч:мм:сс\"))","v":0}]
[{"$f":"86400*TIMEVALUE(TEXT(Smp99_Donnees!C92,\"чч:мм:сс\"))","v":0},{"$f":"86400*TIMEVALUE(TEXT(Smp99_Donnees!O92,\"чч:мм:сс\"))","v":0}]
[{"$f":"86400*TIMEVALUE(TEXT(Smp99_Donnees!C93,\"чч:мм:сс\"))","v":0},{"$f":"86400*TIMEVALUE(TEXT(Smp99_Donnees!O93,\"чч:мм:сс\"))","v":0}]
[{"$f":"86400*TIMEVALUE(TEXT(Smp99_Donnees!C94,\"чч:мм:сс\"))","v":0},{"$f":"86400*TIMEVALUE(TEXT(Smp99_Donnees!O94,\"чч:мм:сс\"))","v":0}]
[{"$f":"86400*TIMEVALUE(TEXT(Smp99_Donnees!C95,\"чч:мм:сс\"))","v":0},{"$f":"86400*TIMEVALUE(TEXT(Smp99_Donnees!O95,\"чч:мм:сс\"))","v":0}]
[{"$f":"86400*TIMEVALUE(TEXT(Smp99_Donnees!C96,\"чч:мм:сс\"))","v":0},{"$f":"86400*TIMEVALUE(TEXT(Smp99_Donnees!O96,\"чч:мм:сс\"))","v":0}]
[{"$f":"86400*TIMEVALUE(TEXT(Smp99_Donnees!C97,\"чч:мм:сс\"))","v":0},{"$f":"86400*TIMEVALUE(TEXT(Smp99_Donnees!O97,\"чч:мм:сс\"))","v":0}]
[{"$f":"86400*TIMEVALUE(TEXT(Smp99_Donnees!C98,\"чч:мм:сс\"))","v":0},{"$f":"86400*TIMEVALUE(TEXT(Smp99_Donnees!O98,\"чч:мм:сс\"))","v":0}]
[{"$f":"86400*TIMEVALUE(TEXT(Smp99_Donnees!C99,\"чч:мм:сс\"))","v":0},{"$f":"86400*TIMEVALUE(TEXT(Smp99_Donnees!O99,\"чч:мм:сс\"))","v":0}]
[{"$f":"86400*TIMEVALUE(TEXT(Smp99_Donnees!C100,\"чч:мм:сс\"))","v":0},{"$f":"86400*TIMEVALUE(TEXT(Smp99_Donnees!O100,\"чч:мм:сс\"))","v":0}]
[{"$f":"86400*TIMEVALUE(TEXT(Smp99_Donnees!C101,\"чч:мм:сс\"))","v":0},{"$f":"86400*TIMEVALUE(TEXT(Smp99_Donnees!O101,\"чч:мм:сс\"))","v":0}]
[{"$f":"86400*TIMEVALUE(TEXT(Smp99_Donnees!C102,\"чч:мм:сс\"))","v":0},{"$f":"86400*TIMEVALUE(TEXT(Smp99_Donnees!O102,\"чч:мм:сс\"))","v":0}]
[{"$f":"86400*TIMEVALUE(TEXT(Smp99_Donnees!C103,\"чч:мм:сс\"))","v":0},{"$f":"86400*TIMEVALUE(TEXT(Smp99_Donnees!O103,\"чч:мм:сс\"))","v":0}]
[{"$f":"86400*TIMEVALUE(TEXT(Smp99_Donnees!C104,\"чч:мм:сс\"))","v":0},{"$f":"86400*TIMEVALUE(TEXT(Smp99_Donnees!O104,\"чч:мм:сс\"))","v":0}]
[{"$f":"86400*TIMEVALUE(TEXT(Smp99_Donnees!C105,\"чч:мм:сс\"))","v":0},{"$f":"86400*TIMEVALUE(TEXT(Smp99_Donnees!O105,\"чч:мм:сс\"))","v":0}]
[{"$f":"86400*TIMEVALUE(TEXT(Smp99_Donnees!C106,\"чч:мм:сс\"))","v":0},{"$f":"86400*TIMEVALUE(TEXT(Smp99_Donnees!O106,\"чч:мм:сс\"))","v":0}]
[{"$f":"86400*TIMEVALUE(TEXT(Smp99_Donnees!C107,\"чч:мм:сс\"))","v":0},{"$f":"86400*TIMEVALUE(TEXT(Smp99_Donnees!O107,\"чч:мм:сс\"))","v":0}]
[{"$f":"86400*TIMEVALUE(TEXT(Smp99_Donnees!C108,\"чч:мм:сс\"))","v":0},{"$f":"86400*TIMEVALUE(TEXT(Smp99_Donnees!O108,\"чч:мм:сс\"))","v":0}]
[{"$f":"86400*TIMEVALUE(TEXT(Smp99_Donnees!C109,\"чч:мм:сс\"))","v":0},{"$f":"86400*TIMEVALUE(TEXT(Smp99_Donnees!O109,\"чч:мм:сс\"))","v":0}]
[{"$f":"86400*TIMEVALUE(TEXT(Smp99_Donnees!C110,\"чч:мм:сс\"))","v":0},{"$f":"86400*TIMEVALUE(TEXT(Smp99_Donnees!O110,\"чч:мм:сс\"))","v":0}]
[{"$f":"86400*TIMEVALUE(TEXT(Smp99_Donnees!C111,\"чч:мм:сс\"))","v":0},{"$f":"86400*TIMEVALUE(TEXT(Smp99_Donnees!O111,\"чч:мм:сс\"))","v":0}]
[{"$f":"86400*TIMEVALUE(TEXT(Smp99_Donnees!C112,\"чч:мм:сс\"))","v":0},{"$f":"86400*TIMEVALUE(TEXT(Smp99_Donnees!O112,\"чч:мм:сс\"))","v":0}]
[{"$f":"86400*TIMEVALUE(TEXT(Smp99_Donnees!C113,\"чч:мм:сс\"))","v":0},{"$f":"86400*TIMEVALUE(TEXT(Smp99_Donnees!O113,\"чч:мм:сс\"))","v":0}]
[{"$f":"86400*TIMEVALUE(TEXT(Smp99_Donnees!C114,\"чч:мм:сс\"))","v":0},{"$f":"86400*TIMEVALUE(TEXT(Smp99_Donnees!O114,\"чч:мм:сс\"))","v":0}]
[{"$f":"86400*TIMEVALUE(TEXT(Smp99_Donnees!C115,\"чч:мм:сс\"))","v":0},{"$f":"86400*TIMEVALUE(TEXT(Smp99_Donnees!O115,\"чч:мм:сс\"))","v":0}]
[{"$f":"86400*TIMEVALUE(TEXT(Smp99_Donnees!C116,\"чч:мм:сс\"))","v":0},{"$f":"86400*TIMEVALUE(TEXT(Smp99_Donnees!O116,\"чч:мм:сс\"))","v":0}]
[{"$f":"86400*TIMEVALUE(TEXT(Smp99_Donnees!C117,\"чч:мм:сс\"))","v":0},{"$f":"86400*TIMEVALUE(TEXT(Smp99_Donnees!O117,\"чч:мм:сс\"))","v":0}]
[{"$f":"86400*TIMEVALUE(TEXT(Smp99_Donnees!C118,\"чч:мм:сс\"))","v":0},{"$f":"86400*TIMEVALUE(TEXT(Smp99_Donnees!O118,\"чч:мм:сс\"))","v":0}]
[{"$f":"86400*TIMEVALUE(TEXT(Smp99_Donnees!C119,\"чч:мм:сс\"))","v":0},{"$f":"86400*TIMEVALUE(TEXT(Smp99_Donnees!O119,\"чч:мм:сс\"))","v":0}]
[{"$f":"86400*TIMEVALUE(TEXT(Smp99_Donnees!C120,\"чч:мм:сс\"))","v":0},{"$f":"86400*TIMEVALUE(TEXT(Smp99_Donnees!O120,\"чч:мм:сс\"))","v":0}]
[{"$f":"86400*TIMEVALUE(TEXT(Smp99_Donnees!C121,\"чч:мм:сс\"))","v":0},{"$f":"86400*TIMEVALUE(TEXT(Smp99_Donnees!O121,\"чч:мм:сс\"))","v":0}]
[{"$f":"86400*TIMEVALUE(TEXT(Smp99_Donnees!C122,\"чч:мм:сс\"))","v":0},{"$f":"86400*TIMEVALUE(TEXT(Smp99_Donnees!O122,\"чч:мм:сс\"))","v":0}]
[{"$f":"86400*TIMEVALUE(TEXT(Smp99_Donnees!C123,\"чч:мм:сс\"))","v":0},{"$f":"86400*TIMEVALUE(TEXT(Smp99_Donnees!O123,\"чч:мм:сс\"))","v":0}]
[{"$f":"86400*TIMEVALUE(TEXT(Smp99_Donnees!C124,\"чч:мм:сс\"))","v":0},{"$f":"86400*TIMEVALUE(TEXT(Smp99_Donnees!O124,\"чч:мм:сс\"))","v":0}]
[{"$f":"86400*TIMEVALUE(TEXT(Smp99_Donnees!C125,\"чч:мм:сс\"))","v":0},{"$f":"86400*TIMEVALUE(TEXT(Smp99_Donnees!O125,\"чч:мм:сс\"))","v":0}]
[{"$f":"86400*TIMEVALUE(TEXT(Smp99_Donnees!C126,\"чч:мм:сс\"))","v":0},{"$f":"86400*TIMEVALUE(TEXT(Smp99_Donnees!O126,\"чч:мм:сс\"))","v":0}]
[{"$f":"86400*TIMEVALUE(TEXT(Smp99_Donnees!C127,\"чч:мм:сс\"))","v":0},{"$f":"86400*TIMEVALUE(TEXT(Smp99_Donnees!O127,\"чч:мм:сс\"))","v":0}]
[{"$f":"86400*TIMEVALUE(TEXT(Smp99_Donnees!C128,\"чч:мм:сс\"))","v":0},{"$f":"86400*TIMEVALUE(TEXT(Smp99_Donnees!O128,\"чч:мм:сс\"))","v":0}]
[{"$f":"86400*TIMEVALUE(TEXT(Smp99_Donnees!C129,\"чч:мм:сс\"))","v":0},{"$f":"86400*TIMEVALUE(TEXT(Smp99_Donnees!O129,\"чч:мм:сс\"))","v":0}]
[{"$f":"86400*TIMEVALUE(TEXT(Smp99_Donnees!C130,\"чч:мм:сс\"))","v":0},{"$f":"86400*TIMEVALUE(TEXT(Smp99_Donnees!O130,\"чч:мм:сс\"))","v":0}]
[{"$f":"86400*TIMEVALUE(TEXT(Smp99_Donnees!C131,\"чч:мм:сс\"))","v":0},{"$f":"86400*TIMEVALUE(TEXT(Smp99_Donnees!O131,\"чч:мм:сс\"))","v":0}]
[{"$f":"86400*TIMEVALUE(TEXT(Smp99_Donnees!C132,\"чч:мм:сс\"))","v":0},{"$f":"86400*TIMEVALUE(TEXT(Smp99_Donnees!O132,\"чч:мм:сс\"))","v":0}]
[{"$f":"86400*TIMEVALUE(TEXT(Smp99_Donnees!C133,\"чч:мм:сс\"))","v":0},{"$f":"86400*TIMEVALUE(TEXT(Smp99_Donnees!O133,\"чч:мм:сс\"))","v":0}]
[{"$f":"86400*TIMEVALUE(TEXT(Smp99_Donnees!C134,\"чч:мм:сс\"))","v":0},{"$f":"86400*TIMEVALUE(TEXT(Smp99_Donnees!O134,\"чч:мм:сс\"))","v":0}]
[{"$f":"86400*TIMEVALUE(TEXT(Smp99_Donnees!C135,\"чч:мм:сс\"))","v":0},{"$f":"86400*TIMEVALUE(TEXT(Smp99_Donnees!O135,\"чч:мм:сс\"))","v":0}]
[{"$f":"86400*TIMEVALUE(TEXT(Smp99_Donnees!C136,\"чч:мм:сс\"))","v":0},{"$f":"86400*TIMEVALUE(TEXT(Smp99_Donnees!O136,\"чч:мм:сс\"))","v":0}]
[{"$f":"86400*TIMEVALUE(TEXT(Smp99_Donnees!C137,\"чч:мм:сс\"))","v":0},{"$f":"86400*TIMEVALUE(TEXT(Smp99_Donnees!O137,\"чч:мм:сс\"))","v":0}]
[{"$f":"86400*TIMEVALUE(TEXT(Smp99_Donnees!C138,\"чч:мм:сс\"))","v":0},{"$f":"86400*TIMEVALUE(TEXT(Smp99_Donnees!O138,\"чч:мм:сс\"))","v":0}]
[{"$f":"86400*TIMEVALUE(TEXT(Smp99_Donnees!C139,\"чч:мм:сс\"))","v":0},{"$f":"86400*TIMEVALUE(TEXT(Smp99_Donnees!O139,\"чч:мм:сс\"))","v":0}]
[{"$f":"86400*TIMEVALUE(TEXT(Smp99_Donnees!C140,\"чч:мм:сс\"))","v":0},{"$f":"86400*TIMEVALUE(TEXT(Smp99_Donnees!O140,\"чч:мм:сс\"))","v":0}]
[{"$f":"86400*TIMEVALUE(TEXT(Smp99_Donnees!C141,\"чч:мм:сс\"))","v":0},{"$f":"86400*TIMEVALUE(TEXT(Smp99_Donnees!O141,\"чч:мм:сс\"))","v":0}]
[{"$f":"86400*TIMEVALUE(TEXT(Smp99_Donnees!C142,\"чч:мм:сс\"))","v":0},{"$f":"86400*TIMEVALUE(TEXT(Smp99_Donnees!O142,\"чч:мм:сс\"))","v":0}]
[{"$f":"86400*TIMEVALUE(TEXT(Smp99_Donnees!C143,\"чч:мм:сс\"))","v":0},{"$f":"86400*TIMEVALUE(TEXT(Smp99_Donnees!O143,\"чч:мм:сс\"))","v":0}]
[{"$f":"86400*TIMEVALUE(TEXT(Smp99_Donnees!C144,\"чч:мм:сс\"))","v":0},{"$f":"86400*TIMEVALUE(TEXT(Smp99_Donnees!O144,\"чч:мм:сс\"))","v":0}]
[{"$f":"86400*TIMEVALUE(TEXT(Smp99_Donnees!C145,\"чч:мм:сс\"))","v":0},{"$f":"86400*TIMEVALUE(TEXT(Smp99_Donnees!O145,\"чч:мм:сс\"))","v":0}]
[{"$f":"86400*TIMEVALUE(TEXT(Smp99_Donnees!C146,\"чч:мм:сс\"))","v":0},{"$f":"86400*TIMEVALUE(TEXT(Smp99_Donnees!O146,\"чч:мм:сс\"))","v":0}]
[{"$f":"86400*TIMEVALUE(TEXT(Smp99_Donnees!C147,\"чч:мм:сс\"))","v":0},{"$f":"86400*TIMEVALUE(TEXT(Smp99_Donnees!O147,\"чч:мм:сс\"))","v":0}]
[{"$f":"86400*TIMEVALUE(TEXT(Smp99_Donnees!C148,\"чч:мм:сс\"))","v":0},{"$f":"86400*TIMEVALUE(TEXT(Smp99_Donnees!O148,\"чч:мм:сс\"))","v":0}]
[{"$f":"86400*TIMEVALUE(TEXT(Smp99_Donnees!C149,\"чч:мм:сс\"))","v":0},{"$f":"86400*TIMEVALUE(TEXT(Smp99_Donnees!O149,\"чч:мм:сс\"))","v":0}]
[{"$f":"86400*TIMEVALUE(TEXT(Smp99_Donnees!C150,\"чч:мм:сс\"))","v":0},{"$f":"86400*TIMEVALUE(TEXT(Smp99_Donnees!O150,\"чч:мм:сс\"))","v":0}]
[{"$f":"86400*TIMEVALUE(TEXT(Smp99_Donnees!C151,\"чч:мм:сс\"))","v":0},{"$f":"86400*TIMEVALUE(TEXT(Smp99_Donnees!O151,\"чч:мм:сс\"))","v":0}]
[{"$f":"86400*TIMEVALUE(TEXT(Smp99_Donnees!C152,\"чч:мм:сс\"))","v":0},{"$f":"86400*TIMEVALUE(TEXT(Smp99_Donnees!O152,\"чч:мм:сс\"))","v":0}]
[{"$f":"86400*TIMEVALUE(TEXT(Smp99_Donnees!C153,\"чч:мм:сс\"))","v":0},{"$f":"86400*TIMEVALUE(TEXT(Smp99_Donnees!O153,\"чч:мм:сс\"))","v":0}]
[{"$f":"86400*TIMEVALUE(TEXT(Smp99_Donnees!C154,\"чч:мм:сс\"))","v":0},{"$f":"86400*TIMEVALUE(TEXT(Smp99_Donnees!O154,\"чч:мм:сс\"))","v":0}]
[{"$f":"86400*TIMEVALUE(TEXT(Smp99_Donnees!C155,\"чч:мм:сс\"))","v":0},{"$f":"86400*TIMEVALUE(TEXT(Smp99_Donnees!O155,\"чч:мм:сс\"))","v":0}]
[{"$f":"86400*TIMEVALUE(TEXT(Smp99_Donnees!C156,\"чч:мм:сс\"))","v":0},{"$f":"86400*TIMEVALUE(TEXT(Smp99_Donnees!O156,\"чч:мм:сс\"))","v":0}]
[{"$f":"86400*TIMEVALUE(TEXT(Smp99_Donnees!C157,\"чч:мм:сс\"))","v":0},{"$f":"86400*TIMEVALUE(TEXT(Smp99_Donnees!O157,\"чч:мм:сс\"))","v":0}]
[{"$f":"86400*TIMEVALUE(TEXT(Smp99_Donnees!C158,\"чч:мм:сс\"))","v":0},{"$f":"86400*TIMEVALUE(TEXT(Smp99_Donnees!O158,\"чч:мм:сс\"))","v":0}]
[{"$f":"86400*TIMEVALUE(TEXT(Smp99_Donnees!C159,\"чч:мм:сс\"))","v":0},{"$f":"86400*TIMEVALUE(TEXT(Smp99_Donnees!O159,\"чч:мм:сс\"))","v":0}]
[{"$f":"86400*TIMEVALUE(TEXT(Smp99_Donnees!C160,\"чч:мм:сс\"))","v":0},{"$f":"86400*TIMEVALUE(TEXT(Smp99_Donnees!O160,\"чч:мм:сс\"))","v":0}]
[{"$f":"86400*TIMEVALUE(TEXT(Smp99_Donnees!C161,\"чч:мм:сс\"))","v":0},{"$f":"86400*TIMEVALUE(TEXT(Smp99_Donnees!O161,\"чч:мм:сс\"))","v":0}]
[{"$f":"86400*TIMEVALUE(TEXT(Smp99_Donnees!C162,\"чч:мм:сс\"))","v":0},{"$f":"86400*TIMEVALUE(TEXT(Smp99_Donnees!O162,\"чч:мм:сс\"))","v":0}]
[{"$f":"86400*TIMEVALUE(TEXT(Smp99_Donnees!C163,\"чч:мм:сс\"))","v":0},{"$f":"86400*TIMEVALUE(TEXT(Smp99_Donnees!O163,\"чч:мм:сс\"))","v":0}]
[{"$f":"86400*TIMEVALUE(TEXT(Smp99_Donnees!C164,\"чч:мм:сс\"))","v":0},{"$f":"86400*TIMEVALUE(TEXT(Smp99_Donnees!O164,\"чч:мм:сс\"))","v":0}]
[{"$f":"86400*TIMEVALUE(TEXT(Smp99_Donnees!C165,\"чч:мм:сс\"))","v":0},{"$f":"86400*TIMEVALUE(TEXT(Smp99_Donnees!O165,\"чч:мм:сс\"))","v":0}]
[{"$f":"86400*TIMEVALUE(TEXT(Smp99_Donnees!C166,\"чч:мм:сс\"))","v":0},{"$f":"86400*TIMEVALUE(TEXT(Smp99_Donnees!O166,\"чч:мм:сс\"))","v":0}]
[{"$f":"86400*TIMEVALUE(TEXT(Smp99_Donnees!C167,\"чч:мм:сс\"))","v":0},{"$f":"86400*TIMEVALUE(TEXT(Smp99_Donnees!O167,\"чч:мм:сс\"))","v":0}]
[{"$f":"86400*TIMEVALUE(TEXT(Smp99_Donnees!C168,\"чч:мм:сс\"))","v":0},{"$f":"86400*TIMEVALUE(TEXT(Smp99_Donnees!O168,\"чч:мм:сс\"))","v":0}]
[{"$f":"86400*TIMEVALUE(TEXT(Smp99_Donnees!C169,\"чч:мм:сс\"))","v":0},{"$f":"86400*TIMEVALUE(TEXT(Smp99_Donnees!O169,\"чч:мм:сс\"))","v":0}]
[{"$f":"86400*TIMEVALUE(TEXT(Smp99_Donnees!C170,\"чч:мм:сс\"))","v":0},{"$f":"86400*TIMEVALUE(TEXT(Smp99_Donnees!O170,\"чч:мм:сс\"))","v":0}]
[{"$f":"86400*TIMEVALUE(TEXT(Smp99_Donnees!C171,\"чч:мм:сс\"))","v":0},{"$f":"86400*TIMEVALUE(TEXT(Smp99_Donnees!O171,\"чч:мм:сс\"))","v":0}]
[{"$f":"86400*TIMEVALUE(TEXT(Smp99_Donnees!C172,\"чч:мм:сс\"))","v":0},{"$f":"86400*TIMEVALUE(TEXT(Smp99_Donnees!O172,\"чч:мм:сс\"))","v":0}]
[{"$f":"86400*TIMEVALUE(TEXT(Smp99_Donnees!C173,\"чч:мм:сс\"))","v":0},{"$f":"86400*TIMEVALUE(TEXT(Smp99_Donnees!O173,\"чч:мм:сс\"))","v":0}]
[{"$f":"86400*TIMEVALUE(TEXT(Smp99_Donnees!C174,\"чч:мм:сс\"))","v":0},{"$f":"86400*TIMEVALUE(TEXT(Smp99_Donnees!O174,\"чч:мм:сс\"))","v":0}]
[{"$f":"86400*TIMEVALUE(TEXT(Smp99_Donnees!C175,\"чч:мм:сс\"))","v":0},{"$f":"86400*TIMEVALUE(TEXT(Smp99_Donnees!O175,\"чч:мм:сс\"))","v":0}]
[{"$f":"86400*TIMEVALUE(TEXT(Smp99_Donnees!C176,\"чч:мм:сс\"))","v":0},{"$f":"86400*TIMEVALUE(TEXT(Smp99_Donnees!O176,\"чч:мм:сс\"))","v":0}]
[{"$f":"86400*TIMEVALUE(TEXT(Smp99_Donnees!C177,\"чч:мм:сс\"))","v":0},{"$f":"86400*TIMEVALUE(TEXT(Smp99_Donnees!O177,\"чч:мм:сс\"))","v":0}]
[{"$f":"86400*TIMEVALUE(TEXT(Smp99_Donnees!C178,\"чч:мм:сс\"))","v":0},{"$f":"86400*TIMEVALUE(TEXT(Smp99_Donnees!O178,\"чч:мм:сс\"))","v":0}]
[{"$f":"86400*TIMEVALUE(TEXT(Smp99_Donnees!C179,\"чч:мм:сс\"))","v":0},{"$f":"86400*TIMEVALUE(TEXT(Smp99_Donnees!O179,\"чч:мм:сс\"))","v":0}]
[{"$f":"86400*TIMEVALUE(TEXT(Smp99_Donnees!C180,\"чч:мм:сс\"))","v":0},{"$f":"86400*TIMEVALUE(TEXT(Smp99_Donnees!O180,\"чч:мм:сс\"))","v":0}]
[{"$f":"86400*TIMEVALUE(TEXT(Smp99_Donnees!C181,\"чч:мм:сс\"))","v":0},{"$f":"86400*TIMEVALUE(TEXT(Smp99_Donnees!O181,\"чч:мм:сс\"))","v":0}]
[{"$f":"86400*TIMEVALUE(TEXT(Smp99_Donnees!C182,\"чч:мм:сс\"))","v":0},{"$f":"86400*TIMEVALUE(TEXT(Smp99_Donnees!O182,\"чч:мм:сс\"))","v":0}]
[{"$f":"86400*TIMEVALUE(TEXT(Smp99_Donnees!C183,\"чч:мм:сс\"))","v":0},{"$f":"86400*TIMEVALUE(TEXT(Smp99_Donnees!O183,\"чч:мм:сс\"))","v":0}]
[{"$f":"86400*TIMEVALUE(TEXT(Smp99_Donnees!C184,\"чч:мм:сс\"))","v":0},{"$f":"86400*TIMEVALUE(TEXT(Smp99_Donnees!O184,\"чч:мм:сс\"))","v":0}]
[{"$f":"86400*TIMEVALUE(TEXT(Smp99_Donnees!C185,\"чч:мм:сс\"))","v":0},{"$f":"86400*TIMEVALUE(TEXT(Smp99_Donnees!O185,\"чч:мм:сс\"))","v":0}]
[{"$f":"86400*TIMEVALUE(TEXT(Smp99_Donnees!C186,\"чч:мм:сс\"))","v":0},{"$f":"86400*TIMEVALUE(TEXT(Smp99_Donnees!O186,\"чч:мм:сс\"))","v":0}]
[{"$f":"86400*TIMEVALUE(TEXT(Smp99_Donnees!C187,\"чч:мм:сс\"))","v":0},{"$f":"86400*TIMEVALUE(TEXT(Smp99_Donnees!O187,\"чч:мм:сс\"))","v":0}]
[{"$f":"86400*TIMEVALUE(TEXT(Smp99_Donnees!C188,\"чч:мм:сс\"))","v":0},{"$f":"86400*TIMEVALUE(TEXT(Smp99_Donnees!O188,\"чч:мм:сс\"))","v":0}]
[{"$f":"86400*TIMEVALUE(TEXT(Smp99_Donnees!C189,\"чч:мм:сс\"))","v":0},{"$f":"86400*TIMEVALUE(TEXT(Smp99_Donnees!O189,\"чч:мм:сс\"))","v":0}]
[{"$f":"86400*TIMEVALUE(TEXT(Smp99_Donnees!C190,\"чч:мм:сс\"))","v":0},{"$f":"86400*TIMEVALUE(TEXT(Smp99_Donnees!O190,\"чч:мм:сс\"))","v":0}]
[{"$f":"86400*TIMEVALUE(TEXT(Smp99_Donnees!C191,\"чч:мм:сс\"))","v":0},{"$f":"86400*TIMEVALUE(TEXT(Smp99_Donnees!O191,\"чч:мм:сс\"))","v":0}]
[{"$f":"86400*TIMEVALUE(TEXT(Smp99_Donnees!C192,\"чч:мм:сс\"))","v":0},{"$f":"86400*TIMEVALUE(TEXT(Smp99_Donnees!O192,\"чч:мм:сс\"))","v":0}]
[{"$f":"86400*TIMEVALUE(TEXT(Smp99_Donnees!C193,\"чч:мм:сс\"))","v":0},{"$f":"86400*TIMEVALUE(TEXT(Smp99_Donnees!O193,\"чч:мм:сс\"))","v":0}]
[{"$f":"86400*TIMEVALUE(TEXT(Smp99_Donnees!C194,\"чч:мм:сс\"))","v":0},{"$f":"86400*TIMEVALUE(TEXT(Smp99_Donnees!O194,\"чч:мм:сс\"))","v":0}]
[{"$f":"86400*TIMEVALUE(TEXT(Smp99_Donnees!C195,\"чч:мм:сс\"))","v":0},{"$f":"86400*TIMEVALUE(TEXT(Smp99_Donnees!O195,\"чч:мм:сс\"))","v":0}]
[{"$f":"86400*TIMEVALUE(TEXT(Smp99_Donnees!C196,\"чч:мм:сс\"))","v":0},{"$f":"86400*TIMEVALUE(TEXT(Smp99_Donnees!O196,\"чч:мм:сс\"))","v":0}]
[{"$f":"86400*TIMEVALUE(TEXT(Smp99_Donnees!C197,\"чч:мм:сс\"))","v":0},{"$f":"86400*TIMEVALUE(TEXT(Smp99_Donnees!O197,\"чч:мм:сс\"))","v":0}]
[{"$f":"86400*TIMEVALUE(TEXT(Smp99_Donnees!C198,\"чч:мм:сс\"))","v":0},{"$f":"86400*TIMEVALUE(TEXT(Smp99_Donnees!O198,\"чч:мм:сс\"))","v":0}]
[{"$f":"86400*TIMEVALUE(TEXT(Smp99_Donnees!C199,\"чч:мм:сс\"))","v":0},{"$f":"86400*TIMEVALUE(TEXT(Smp99_Donnees!O199,\"чч:мм:сс\"))","v":0}]
[{"$f":"86400*TIMEVALUE(TEXT(Smp99_Donnees!C200,\"чч:мм:сс\"))","v":0},{"$f":"86400*TIMEVALUE(TEXT(Smp99_Donnees!O200,\"чч:мм:сс\"))","v":0}]
[{"$f":"86400*TIMEVALUE(TEXT(Smp99_Donnees!C201,\"чч:мм:сс\"))","v":0},{"$f":"86400*TIMEVALUE(TEXT(Smp99_Donnees!O201,\"чч:мм:сс\"))","v":0}]
[{"$f":"86400*TIMEVALUE(TEXT(Smp99_Donnees!C202,\"чч:мм:сс\"))","v":0},{"$f":"86400*TIMEVALUE(TEXT(Smp99_Donnees!O202,\"чч:мм:сс\"))","v":0}]
[{"$f":"86400*TIMEVALUE(TEXT(Smp99_Donnees!C203,\"чч:мм:сс\"))","v":0},{"$f":"86400*TIMEVALUE(TEXT(Smp99_Donnees!O203,\"чч:мм:сс\"))","v":0}]
[{"$f":"86400*TIMEVALUE(TEXT(Smp99_Donnees!C204,\"чч:мм:сс\"))","v":0},{"$f":"86400*TIMEVALUE(TEXT(Smp99_Donnees!O204,\"чч:мм:сс\"))","v":0}]
[{"$f":"86400*TIMEVALUE(TEXT(Smp99_Donnees!C205,\"чч:мм:сс\"))","v":0},{"$f":"86400*TIMEVALUE(TEXT(Smp99_Donnees!O205,\"чч:мм:сс\"))","v":0}]
[{"$f":"86400*TIMEVALUE(TEXT(Smp99_Donnees!C206,\"чч:мм:сс\"))","v":0},{"$f":"86400*TIMEVALUE(TEXT(Smp99_Donnees!O206,\"чч:мм:сс\"))","v":0}]
[{"$f":"86400*TIMEVALUE(TEXT(Smp99_Donnees!C207,\"чч:мм:сс\"))","v":0},{"$f":"86400*TIMEVALUE(TEXT(Smp99_Donnees!O207,\"чч:мм:сс\"))","v":0}]
[{"$f":"86400*TIMEVALUE(TEXT(Smp99_Donnees!C208,\"чч:мм:сс\"))","v":0},{"$f":"86400*TIMEVALUE(TEXT(Smp99_Donnees!O208,\"чч:мм:сс\"))","v":0}]
[{"$f":"86400*TIMEVALUE(TEXT(Smp99_Donnees!C209,\"чч:мм:сс\"))","v":0},{"$f":"86400*TIMEVALUE(TEXT(Smp99_Donnees!O209,\"чч:мм:сс\"))","v":0}]
[{"$f":"86400*TIMEVALUE(TEXT(Smp99_Donnees!C210,\"чч:мм:сс\"))","v":0},{"$f":"86400*TIMEVALUE(TEXT(Smp99_Donnees!O210,\"чч:мм:сс\"))","v":0}]
[{"$f":"86400*TIMEVALUE(TEXT(Smp99_Donnees!C211,\"чч:мм:сс\"))","v":0},{"$f":"86400*TIMEVALUE(TEXT(Smp99_Donnees!O211,\"чч:мм:сс\"))","v":0}]
[{"$f":"86400*TIMEVALUE(TEXT(Smp99_Donnees!C212,\"чч:мм:сс\"))","v":0},{"$f":"86400*TIMEVALUE(TEXT(Smp99_Donnees!O212,\"чч:мм:сс\"))","v":0}]
[{"$f":"86400*TIMEVALUE(TEXT(Smp99_Donnees!C213,\"чч:мм:сс\"))","v":0},{"$f":"86400*TIMEVALUE(TEXT(Smp99_Donnees!O213,\"чч:мм:сс\"))","v":0}]
[{"$f":"86400*TIMEVALUE(TEXT(Smp99_Donnees!C214,\"чч:мм:сс\"))","v":0},{"$f":"86400*TIMEVALUE(TEXT(Smp99_Donnees!O214,\"чч:мм:сс\"))","v":0}]
[{"$f":"86400*TIMEVALUE(TEXT(Smp99_Donnees!C215,\"чч:мм:сс\"))","v":0},{"$f":"86400*TIMEVALUE(TEXT(Smp99_Donnees!O215,\"чч:мм:сс\"))","v":0}]
[{"$f":"86400*TIMEVALUE(TEXT(Smp99_Donnees!C216,\"чч:мм:сс\"))","v":0},{"$f":"86400*TIMEVALUE(TEXT(Smp99_Donnees!O216,\"чч:мм:сс\"))","v":0}]
[{"$f":"86400*TIMEVALUE(TEXT(Smp99_Donnees!C217,\"чч:мм:сс\"))","v":0},{"$f":"86400*TIMEVALUE(TEXT(Smp99_Donnees!O217,\"чч:мм:сс\"))","v":0}]
[{"$f":"86400*TIMEVALUE(TEXT(Smp99_Donnees!C218,\"чч:мм:сс\"))","v":0},{"$f":"86400*TIMEVALUE(TEXT(Smp99_Donnees!O218,\"чч:мм:сс\"))","v":0}]
[{"$f":"86400*TIMEVALUE(TEXT(Smp99_Donnees!C219,\"чч:мм:сс\"))","v":0},{"$f":"86400*TIMEVALUE(TEXT(Smp99_Donnees!O219,\"чч:мм:сс\"))","v":0}]
[{"$f":"86400*TIMEVALUE(TEXT(Smp99_Donnees!C220,\"чч:мм:сс\"))","v":0},{"$f":"86400*TIMEVALUE(TEXT(Smp99_Donnees!O220,\"чч:мм:сс\"))","v":0}]
[{"$f":"86400*TIMEVALUE(TEXT(Smp99_Donnees!C221,\"чч:мм:сс\"))","v":0},{"$f":"86400*TIMEVALUE(TEXT(Smp99_Donnees!O221,\"чч:мм:сс\"))","v":0}]
[{"$f":"86400*TIMEVALUE(TEXT(Smp99_Donnees!C222,\"чч:мм:сс\"))","v":0},{"$f":"86400*TIMEVALUE(TEXT(Smp99_Donnees!O222,\"чч:мм:сс\"))","v":0}]
[{"$f":"86400*TIMEVALUE(TEXT(Smp99_Donnees!C223,\"чч:мм:сс\"))","v":0},{"$f":"86400*TIMEVALUE(TEXT(Smp99_Donnees!O223,\"чч:мм:сс\"))","v":0}]
[{"$f":"86400*TIMEVALUE(TEXT(Smp99_Donnees!C224,\"чч:мм:сс\"))","v":0},{"$f":"86400*TIMEVALUE(TEXT(Smp99_Donnees!O224,\"чч:мм:сс\"))","v":0}]
[{"$f":"86400*TIMEVALUE(TEXT(Smp99_Donnees!C225,\"чч:мм:сс\"))","v":0},{"$f":"86400*TIMEVALUE(TEXT(Smp99_Donnees!O225,\"чч:мм:сс\"))","v":0}]
[{"$f":"86400*TIMEVALUE(TEXT(Smp99_Donnees!C226,\"чч:мм:сс\"))","v":0},{"$f":"86400*TIMEVALUE(TEXT(Smp99_Donnees!O226,\"чч:мм:сс\"))","v":0}]
[{"$f":"86400*TIMEVALUE(TEXT(Smp99_Donnees!C227,\"чч:мм:сс\"))","v":0},{"$f":"86400*TIMEVALUE(TEXT(Smp99_Donnees!O227,\"чч:мм:сс\"))","v":0}]
[{"$f":"86400*TIMEVALUE(TEXT(Smp99_Donnees!C228,\"чч:мм:сс\"))","v":0},{"$f":"86400*TIMEVALUE(TEXT(Smp99_Donnees!O228,\"чч:мм:сс\"))","v":0}]
[{"$f":"86400*TIMEVALUE(TEXT(Smp99_Donnees!C229,\"чч:мм:сс\"))","v":0},{"$f":"86400*TIMEVALUE(TEXT(Smp99_Donnees!O229,\"чч:мм:сс\"))","v":0}]
[{"$f":"86400*TIMEVALUE(TEXT(Smp99_Donnees!C230,\"чч:мм:сс\"))","v":0},{"$f":"86400*TIMEVALUE(TEXT(Smp99_Donnees!O230,\"чч:мм:сс\"))","v":0}]
[{"$f":"86400*TIMEVALUE(TEXT(Smp99_Donnees!C231,\"чч:мм:сс\"))","v":0},{"$f":"86400*TIMEVALUE(TEXT(Smp99_Donnees!O231,\"чч:мм:сс\"))","v":0}]
[{"$f":"86400*TIMEVALUE(TEXT(Smp99_Donnees!C232,\"чч:мм:сс\"))","v":0},{"$f":"86400*TIMEVALUE(TEXT(Smp99_Donnees!O232,\"чч:мм:сс\"))","v":0}]
[{"$f":"86400*TIMEVALUE(TEXT(Smp99_Donnees!C233,\"чч:мм:сс\"))","v":0},{"$f":"86400*TIMEVALUE(TEXT(Smp99_Donnees!O233,\"чч:мм:сс\"))","v":0}]
[{"$f":"86400*TIMEVALUE(TEXT(Smp99_Donnees!C234,\"чч:мм:сс\"))","v":0},{"$f":"86400*TIMEVALUE(TEXT(Smp99_Donnees!O234,\"чч:мм:сс\"))","v":0}]
[{"$f":"86400*TIMEVALUE(TEXT(Smp99_Donnees!C235,\"чч:мм:сс\"))","v":0},{"$f":"86400*TIMEVALUE(TEXT(Smp99_Donnees!O235,\"чч:мм:сс\"))","v":0}]
[{"$f":"86400*TIMEVALUE(TEXT(Smp99_Donnees!C236,\"чч:мм:сс\"))","v":0},{"$f":"86400*TIMEVALUE(TEXT(Smp99_Donnees!O236,\"чч:мм:сс\"))","v":0}]
[{"$f":"86400*TIMEVALUE(TEXT(Smp99_Donnees!C237,\"чч:мм:сс\"))","v":0},{"$f":"86400*TIMEVALUE(TEXT(Smp99_Donnees!O237,\"чч:мм:сс\"))","v":0}]
[{"$f":"86400*TIMEVALUE(TEXT(Smp99_Donnees!C238,\"чч:мм:сс\"))","v":0},{"$f":"86400*TIMEVALUE(TEXT(Smp99_Donnees!O238,\"чч:мм:сс\"))","v":0}]
[{"$f":"86400*TIMEVALUE(TEXT(Smp99_Donnees!C239,\"чч:мм:сс\"))","v":0},{"$f":"86400*TIMEVALUE(TEXT(Smp99_Donnees!O239,\"чч:мм:сс\"))","v":0}]
[{"$f":"86400*TIMEVALUE(TEXT(Smp99_Donnees!C240,\"чч:мм:сс\"))","v":0},{"$f":"86400*TIMEVALUE(TEXT(Smp99_Donnees!O240,\"чч:мм:сс\"))","v":0}]
[{"$f":"86400*TIMEVALUE(TEXT(Smp99_Donnees!C241,\"чч:мм:сс\"))","v":0},{"$f":"86400*TIMEVALUE(TEXT(Smp99_Donnees!O241,\"чч:мм:сс\"))","v":0}]
[{"$f":"86400*TIMEVALUE(TEXT(Smp99_Donnees!C242,\"чч:мм:сс\"))","v":0},{"$f":"86400*TIMEVALUE(TEXT(Smp99_Donnees!O242,\"чч:мм:сс\"))","v":0}]
[{"$f":"86400*TIMEVALUE(TEXT(Smp99_Donnees!C243,\"чч:мм:сс\"))","v":0},{"$f":"86400*TIMEVALUE(TEXT(Smp99_Donnees!O243,\"чч:мм:сс\"))","v":0}]
[{"$f":"86400*TIMEVALUE(TEXT(Smp99_Donnees!C244,\"чч:мм:сс\"))","v":0},{"$f":"86400*TIMEVALUE(TEXT(Smp99_Donnees!O244,\"чч:мм:сс\"))","v":0}]
[{"$f":"86400*TIMEVALUE(TEXT(Smp99_Donnees!C245,\"чч:мм:сс\"))","v":0},{"$f":"86400*TIMEVALUE(TEXT(Smp99_Donnees!O245,\"чч:мм:сс\"))","v":0}]
[{"$f":"86400*TIMEVALUE(TEXT(Smp99_Donnees!C246,\"чч:мм:сс\"))","v":0},{"$f":"86400*TIMEVALUE(TEXT(Smp99_Donnees!O246,\"чч:мм:сс\"))","v":0}]
[{"$f":"86400*TIMEVALUE(TEXT(Smp99_Donnees!C247,\"чч:мм:сс\"))","v":0},{"$f":"86400*TIMEVALUE(TEXT(Smp99_Donnees!O247,\"чч:мм:сс\"))","v":0}]
[{"$f":"86400*TIMEVALUE(TEXT(Smp99_Donnees!C248,\"чч:мм:сс\"))","v":0},{"$f":"86400*TIMEVALUE(TEXT(Smp99_Donnees!O248,\"чч:мм:сс\"))","v":0}]
[{"$f":"86400*TIMEVALUE(TEXT(Smp99_Donnees!C249,\"чч:мм:сс\"))","v":0},{"$f":"86400*TIMEVALUE(TEXT(Smp99_Donnees!O249,\"чч:мм:сс\"))","v":0}]
[{"$f":"86400*TIMEVALUE(TEXT(Smp99_Donnees!C250,\"чч:мм:сс\"))","v":0},{"$f":"86400*TIMEVALUE(TEXT(Smp99_Donnees!O250,\"чч:мм:сс\"))","v":0}]
[{"$f":"86400*TIMEVALUE(TEXT(Smp99_Donnees!C251,\"чч:мм:сс\"))","v":0},{"$f":"86400*TIMEVALUE(TEXT(Smp99_Donnees!O251,\"чч:мм:сс\"))","v":0}]
[{"$f":"86400*TIMEVALUE(TEXT(Smp99_Donnees!C252,\"чч:мм:сс\"))","v":0},{"$f":"86400*TIMEVALUE(TEXT(Smp99_Donnees!O252,\"чч:мм:сс\"))","v":0}]
[{"$f":"86400*TIMEVALUE(TEXT(Smp99_Donnees!C253,\"чч:мм:сс\"))","v":0},{"$f":"86400*TIMEVALUE(TEXT(Smp99_Donnees!O253,\"чч:мм:сс\"))","v":0}]
[{"$f":"86400*TIMEVALUE(TEXT(Smp99_Donnees!C254,\"чч:мм:сс\"))","v":0},{"$f":"86400*TIMEVALUE(TEXT(Smp99_Donnees!O254,\"чч:мм:сс\"))","v":0}]
[{"$f":"86400*TIMEVALUE(TEXT(Smp99_Donnees!C255,\"чч:мм:сс\"))","v":0},{"$f":"86400*TIMEVALUE(TEXT(Smp99_Donnees!O255,\"чч:мм:сс\"))","v":0}]
[{"$f":"86400*TIMEVALUE(TEXT(Smp99_Donnees!C256,\"чч:мм:сс\"))","v":0},{"$f":"86400*TIMEVALUE(TEXT(Smp99_Donnees!O256,\"чч:мм:сс\"))","v":0}]
[{"$f":"86400*TIMEVALUE(TEXT(Smp99_Donnees!C257,\"чч:мм:сс\"))","v":0},{"$f":"86400*TIMEVALUE(TEXT(Smp99_Donnees!O257,\"чч:мм:сс\"))","v":0}]
[{"$f":"86400*TIMEVALUE(TEXT(Smp99_Donnees!C258,\"чч:мм:сс\"))","v":0},{"$f":"86400*TIMEVALUE(TEXT(Smp99_Donnees!O258,\"чч:мм:сс\"))","v":0}]
[{"$f":"86400*TIMEVALUE(TEXT(Smp99_Donnees!C259,\"чч:мм:сс\"))","v":0},{"$f":"86400*TIMEVALUE(TEXT(Smp99_Donnees!O259,\"чч:мм:сс\"))","v":0}]
[{"$f":"86400*TIMEVALUE(TEXT(Smp99_Donnees!C260,\"чч:мм:сс\"))","v":0},{"$f":"86400*TIMEVALUE(TEXT(Smp99_Donnees!O260,\"чч:мм:сс\"))","v":0}]
[{"$f":"86400*TIMEVALUE(TEXT(Smp99_Donnees!C261,\"чч:мм:сс\"))","v":0},{"$f":"86400*TIMEVALUE(TEXT(Smp99_Donnees!O261,\"чч:мм:сс\"))","v":0}]
[{"$f":"86400*TIMEVALUE(TEXT(Smp99_Donnees!C262,\"чч:мм:сс\"))","v":0},{"$f":"86400*TIMEVALUE(TEXT(Smp99_Donnees!O262,\"чч:мм:сс\"))","v":0}]
[{"$f":"86400*TIMEVALUE(TEXT(Smp99_Donnees!C263,\"чч:мм:сс\"))","v":0},{"$f":"86400*TIMEVALUE(TEXT(Smp99_Donnees!O263,\"чч:мм:сс\"))","v":0}]
[{"$f":"86400*TIMEVALUE(TEXT(Smp99_Donnees!C264,\"чч:мм:сс\"))","v":0},{"$f":"86400*TIMEVALUE(TEXT(Smp99_Donnees!O264,\"чч:мм:сс\"))","v":0}]
[{"$f":"86400*TIMEVALUE(TEXT(Smp99_Donnees!C265,\"чч:мм:сс\"))","v":0},{"$f":"86400*TIMEVALUE(TEXT(Smp99_Donnees!O265,\"чч:мм:сс\"))","v":0}]
[{"$f":"86400*TIMEVALUE(TEXT(Smp99_Donnees!C266,\"чч:мм:сс\"))","v":0},{"$f":"86400*TIMEVALUE(TEXT(Smp99_Donnees!O266,\"чч:мм:сс\"))","v":0}]
[{"$f":"86400*TIMEVALUE(TEXT(Smp99_Donnees!C267,\"чч:мм:сс\"))","v":0},{"$f":"86400*TIMEVALUE(TEXT(Smp99_Donnees!O267,\"чч:мм:сс\"))","v":0}]
[{"$f":"86400*TIMEVALUE(TEXT(Smp99_Donnees!C268,\"чч:мм:сс\"))","v":0},{"$f":"86400*TIMEVALUE(TEXT(Smp99_Donnees!O268,\"чч:мм:сс\"))","v":0}]
[{"$f":"86400*TIMEVALUE(TEXT(Smp99_Donnees!C269,\"чч:мм:сс\"))","v":0},{"$f":"86400*TIMEVALUE(TEXT(Smp99_Donnees!O269,\"чч:мм:сс\"))","v":0}]
[{"$f":"86400*TIMEVALUE(TEXT(Smp99_Donnees!C270,\"чч:мм:сс\"))","v":0},{"$f":"86400*TIMEVALUE(TEXT(Smp99_Donnees!O270,\"чч:мм:сс\"))","v":0}]
[{"$f":"86400*TIMEVALUE(TEXT(Smp99_Donnees!C271,\"чч:мм:сс\"))","v":0},{"$f":"86400*TIMEVALUE(TEXT(Smp99_Donnees!O271,\"чч:мм:сс\"))","v":0}]
[{"$f":"86400*TIMEVALUE(TEXT(Smp99_Donnees!C272,\"чч:мм:сс\"))","v":0},{"$f":"86400*TIMEVALUE(TEXT(Smp99_Donnees!O272,\"чч:мм:сс\"))","v":0}]
[{"$f":"86400*TIMEVALUE(TEXT(Smp99_Donnees!C273,\"чч:мм:сс\"))","v":0},{"$f":"86400*TIMEVALUE(TEXT(Smp99_Donnees!O273,\"чч:мм:сс\"))","v":0}]
[{"$f":"86400*TIMEVALUE(TEXT(Smp99_Donnees!C274,\"чч:мм:сс\"))","v":0},{"$f":"86400*TIMEVALUE(TEXT(Smp99_Donnees!O274,\"чч:мм:сс\"))","v":0}]
[{"$f":"86400*TIMEVALUE(TEXT(Smp99_Donnees!C275,\"чч:мм:сс\"))","v":0},{"$f":"86400*TIMEVALUE(TEXT(Smp99_Donnees!O275,\"чч:мм:сс\"))","v":0}]
[{"$f":"86400*TIMEVALUE(TEXT(Smp99_Donnees!C276,\"чч:мм:сс\"))","v":0},{"$f":"86400*TIMEVALUE(TEXT(Smp99_Donnees!O276,\"чч:мм:сс\"))","v":0}]
[{"$f":"86400*TIMEVALUE(TEXT(Smp99_Donnees!C277,\"чч:мм:сс\"))","v":0},{"$f":"86400*TIMEVALUE(TEXT(Smp99_Donnees!O277,\"чч:мм:сс\"))","v":0}]
[{"$f":"86400*TIMEVALUE(TEXT(Smp99_Donnees!C278,\"чч:мм:сс\"))","v":0},{"$f":"86400*TIMEVALUE(TEXT(Smp99_Donnees!O278,\"чч:мм:сс\"))","v":0}]
[{"$f":"86400*TIMEVALUE(TEXT(Smp99_Donnees!C279,\"чч:мм:сс\"))","v":0},{"$f":"86400*TIMEVALUE(TEXT(Smp99_Donnees!O279,\"чч:мм:сс\"))","v":0}]
[{"$f":"86400*TIMEVALUE(TEXT(Smp99_Donnees!C280,\"чч:мм:сс\"))","v":0},{"$f":"86400*TIMEVALUE(TEXT(Smp99_Donnees!O280,\"чч:мм:сс\"))","v":0}]
[{"$f":"86400*TIMEVALUE(TEXT(Smp99_Donnees!C281,\"чч:мм:сс\"))","v":0},{"$f":"86400*TIMEVALUE(TEXT(Smp99_Donnees!O281,\"чч:мм:сс\"))","v":0}]
[{"$f":"86400*TIMEVALUE(TEXT(Smp99_Donnees!C282,\"чч:мм:сс\"))","v":0},{"$f":"86400*TIMEVALUE(TEXT(Smp99_Donnees!O282,\"чч:мм:сс\"))","v":0}]
[{"$f":"86400*TIMEVALUE(TEXT(Smp99_Donnees!C283,\"чч:мм:сс\"))","v":0},{"$f":"86400*TIMEVALUE(TEXT(Smp99_Donnees!O283,\"чч:мм:сс\"))","v":0}]
[{"$f":"86400*TIMEVALUE(TEXT(Smp99_Donnees!C284,\"чч:мм:сс\"))","v":0},{"$f":"86400*TIMEVALUE(TEXT(Smp99_Donnees!O284,\"чч:мм:сс\"))","v":0}]
[{"$f":"86400*TIMEVALUE(TEXT(Smp99_Donnees!C285,\"чч:мм:сс\"))","v":0},{"$f":"86400*TIMEVALUE(TEXT(Smp99_Donnees!O285,\"чч:мм:сс\"))","v":0}]
[{"$f":"86400*TIMEVALUE(TEXT(Smp99_Donnees!C286,\"чч:мм:сс\"))","v":0},{"$f":"86400*TIMEVALUE(TEXT(Smp99_Donnees!O286,\"чч:мм:сс\"))","v":0}]
[{"$f":"86400*TIMEVALUE(TEXT(Smp99_Donnees!C287,\"чч:мм:сс\"))","v":0},{"$f":"86400*TIMEVALUE(TEXT(Smp99_Donnees!O287,\"чч:мм:сс\"))","v":0}]
[{"$f":"86400*TIMEVALUE(TEXT(Smp99_Donnees!C288,\"чч:мм:сс\"))","v":0},{"$f":"86400*TIMEVALUE(TEXT(Smp99_Donnees!O288,\"чч:мм:сс\"))","v":0}]
[{"$f":"86400*TIMEVALUE(TEXT(Smp99_Donnees!C289,\"чч:мм:сс\"))","v":0},{"$f":"86400*TIMEVALUE(TEXT(Smp99_Donnees!O289,\"чч:мм:сс\"))","v":0}]
[{"$f":"86400*TIMEVALUE(TEXT(Smp99_Donnees!C290,\"чч:мм:сс\"))","v":0},{"$f":"86400*TIMEVALUE(TEXT(Smp99_Donnees!O290,\"чч:мм:сс\"))","v":0}]
[{"$f":"86400*TIMEVALUE(TEXT(Smp99_Donnees!C291,\"чч:мм:сс\"))","v":0},{"$f":"86400*TIMEVALUE(TEXT(Smp99_Donnees!O291,\"чч:мм:сс\"))","v":0}]
[{"$f":"86400*TIMEVALUE(TEXT(Smp99_Donnees!C292,\"чч:мм:сс\"))","v":0},{"$f":"86400*TIMEVALUE(TEXT(Smp99_Donnees!O292,\"чч:мм:сс\"))","v":0}]
[{"$f":"86400*TIMEVALUE(TEXT(Smp99_Donnees!C293,\"чч:мм:сс\"))","v":0},{"$f":"86400*TIMEVALUE(TEXT(Smp99_Donnees!O293,\"чч:мм:сс\"))","v":0}]
[{"$f":"86400*TIMEVALUE(TEXT(Smp99_Donnees!C294,\"чч:мм:сс\"))","v":0},{"$f":"86400*TIMEVALUE(TEXT(Smp99_Donnees!O294,\"чч:мм:сс\"))","v":0}]
[{"$f":"86400*TIMEVALUE(TEXT(Smp99_Donnees!C295,\"чч:мм:сс\"))","v":0},{"$f":"86400*TIMEVALUE(TEXT(Smp99_Donnees!O295,\"чч:мм:сс\"))","v":0}]
[{"$f":"86400*TIMEVALUE(TEXT(Smp99_Donnees!C296,\"чч:мм:сс\"))","v":0},{"$f":"86400*TIMEVALUE(TEXT(Smp99_Donnees!O296,\"чч:мм:сс\"))","v":0}]
[{"$f":"86400*TIMEVALUE(TEXT(Smp99_Donnees!C297,\"чч:мм:сс\"))","v":0},{"$f":"86400*TIMEVALUE(TEXT(Smp99_Donnees!O297,\"чч:мм:сс\"))","v":0}]
[{"$f":"86400*TIMEVALUE(TEXT(Smp99_Donnees!C298,\"чч:мм:сс\"))","v":0},{"$f":"86400*TIMEVALUE(TEXT(Smp99_Donnees!O298,\"чч:мм:сс\"))","v":0}]
[{"$f":"86400*TIMEVALUE(TEXT(Smp99_Donnees!C299,\"чч:мм:сс\"))","v":0},{"$f":"86400*TIMEVALUE(TEXT(Smp99_Donnees!O299,\"чч:мм:сс\"))","v":0}]
[{"$f":"86400*TIMEVALUE(TEXT(Smp99_Donnees!C300,\"чч:мм:сс\"))","v":0},{"$f":"86400*TIMEVALUE(TEXT(Smp99_Donnees!O300,\"чч:мм:сс\"))","v":0}]
[{"$f":"86400*TIMEVALUE(TEXT(Smp99_Donnees!C301,\"чч:мм:сс\"))","v":0},{"$f":"86400*TIMEVALUE(TEXT(Smp99_Donnees!O301,\"чч:мм:сс\"))","v":0}]
[{"$f":"86400*TIMEVALUE(TEXT(Smp99_Donnees!C302,\"чч:мм:сс\"))","v":0},{"$f":"86400*TIMEVALUE(TEXT(Smp99_Donnees!O302,\"чч:мм:сс\"))","v":0}]
[{"$f":"86400*TIMEVALUE(TEXT(Smp99_Donnees!C303,\"чч:мм:сс\"))","v":0},{"$f":"86400*TIMEVALUE(TEXT(Smp99_Donnees!O303,\"чч:мм:сс\"))","v":0}]
[{"$f":"86400*TIMEVALUE(TEXT(Smp99_Donnees!C304,\"чч:мм:сс\"))","v":0},{"$f":"86400*TIMEVALUE(TEXT(Smp99_Donnees!O304,\"чч:мм:сс\"))","v":0}]
[{"$f":"86400*TIMEVALUE(TEXT(Smp99_Donnees!C305,\"чч:мм:сс\"))","v":0},{"$f":"86400*TIMEVALUE(TEXT(Smp99_Donnees!O305,\"чч:мм:сс\"))","v":0}]
[{"$f":"86400*TIMEVALUE(TEXT(Smp99_Donnees!C306,\"чч:мм:сс\"))","v":0},{"$f":"86400*TIMEVALUE(TEXT(Smp99_Donnees!O306,\"чч:мм:сс\"))","v":0}]
[{"$f":"86400*TIMEVALUE(TEXT(Smp99_Donnees!C307,\"чч:мм:сс\"))","v":0},{"$f":"86400*TIMEVALUE(TEXT(Smp99_Donnees!O307,\"чч:мм:сс\"))","v":0}]
[{"$f":"86400*TIMEVALUE(TEXT(Smp99_Donnees!C308,\"чч:мм:сс\"))","v":0},{"$f":"86400*TIMEVALUE(TEXT(Smp99_Donnees!O308,\"чч:мм:сс\"))","v":0}]
[{"$f":"86400*TIMEVALUE(TEXT(Smp99_Donnees!C309,\"чч:мм:сс\"))","v":0},{"$f":"86400*TIMEVALUE(TEXT(Smp99_Donnees!O309,\"чч:мм:сс\"))","v":0}]
[{"$f":"86400*TIMEVALUE(TEXT(Smp99_Donnees!C310,\"чч:мм:сс\"))","v":0},{"$f":"86400*TIMEVALUE(TEXT(Smp99_Donnees!O310,\"чч:мм:сс\"))","v":0}]
[{"$f":"86400*TIMEVALUE(TEXT(Smp99_Donnees!C311,\"чч:мм:сс\"))","v":0},{"$f":"86400*TIMEVALUE(TEXT(Smp99_Donnees!O311,\"чч:мм:сс\"))","v":0}]
[{"$f":"86400*TIMEVALUE(TEXT(Smp99_Donnees!C312,\"чч:мм:сс\"))","v":0},{"$f":"86400*TIMEVALUE(TEXT(Smp99_Donnees!O312,\"чч:мм:сс\"))","v":0}]
[{"$f":"86400*TIMEVALUE(TEXT(Smp99_Donnees!C313,\"чч:мм:сс\"))","v":0},{"$f":"86400*TIMEVALUE(TEXT(Smp99_Donnees!O313,\"чч:мм:сс\"))","v":0}]
[{"$f":"86400*TIMEVALUE(TEXT(Smp99_Donnees!C314,\"чч:мм:сс\"))","v":0},{"$f":"86400*TIMEVALUE(TEXT(Smp99_Donnees!O314,\"чч:мм:сс\"))","v":0}]
[{"$f":"86400*TIMEVALUE(TEXT(Smp99_Donnees!C315,\"чч:мм:сс\"))","v":0},{"$f":"86400*TIMEVALUE(TEXT(Smp99_Donnees!O315,\"чч:мм:сс\"))","v":0}]
[{"$f":"86400*TIMEVALUE(TEXT(Smp99_Donnees!C316,\"чч:мм:сс\"))","v":0},{"$f":"86400*TIMEVALUE(TEXT(Smp99_Donnees!O316,\"чч:мм:сс\"))","v":0}]
[{"$f":"86400*TIMEVALUE(TEXT(Smp99_Donnees!C317,\"чч:мм:сс\"))","v":0},{"$f":"86400*TIMEVALUE(TEXT(Smp99_Donnees!O317,\"чч:мм:сс\"))","v":0}]
[{"$f":"86400*TIMEVALUE(TEXT(Smp99_Donnees!C318,\"чч:мм:сс\"))","v":0},{"$f":"86400*TIMEVALUE(TEXT(Smp99_Donnees!O318,\"чч:мм:сс\"))","v":0}]
[{"$f":"86400*TIMEVALUE(TEXT(Smp99_Donnees!C319,\"чч:мм:сс\"))","v":0},{"$f":"86400*TIMEVALUE(TEXT(Smp99_Donnees!O319,\"чч:мм:сс\"))","v":0}]
[{"$f":"86400*TIMEVALUE(TEXT(Smp99_Donnees!C320,\"чч:мм:сс\"))","v":0},{"$f":"86400*TIMEVALUE(TEXT(Smp99_Donnees!O320,\"чч:мм:сс\"))","v":0}]
[{"$f":"86400*TIMEVALUE(TEXT(Smp99_Donnees!C321,\"чч:мм:сс\"))","v":0},{"$f":"86400*TIMEVALUE(TEXT(Smp99_Donnees!O321,\"чч:мм:сс\"))","v":0}]
[{"$f":"86400*TIMEVALUE(TEXT(Smp99_Donnees!C322,\"чч:мм:сс\"))","v":0},{"$f":"86400*TIMEVALUE(TEXT(Smp99_Donnees!O322,\"чч:мм:сс\"))","v":0}]
[{"$f":"86400*TIMEVALUE(TEXT(Smp99_Donnees!C323,\"чч:мм:сс\"))","v":0},{"$f":"86400*TIMEVALUE(TEXT(Smp99_Donnees!O323,\"чч:мм:сс\"))","v":0}]
[{"$f":"86400*TIMEVALUE(TEXT(Smp99_Donnees!C324,\"чч:мм:сс\"))","v":0},{"$f":"86400*TIMEVALUE(TEXT(Smp99_Donnees!O324,\"чч:мм:сс\"))","v":0}]
[{"$f":"86400*TIMEVALUE(TEXT(Smp99_Donnees!C325,\"чч:мм:сс\"))","v":0},{"$f":"86400*TIMEVALUE(TEXT(Smp99_Donnees!O325,\"чч:мм:сс\"))","v":0}]
[{"$f":"86400*TIMEVALUE(TEXT(Smp99_Donnees!C326,\"чч:мм:сс\"))","v":0},{"$f":"86400*TIMEVALUE(TEXT(Smp99_Donnees!O326,\"чч:мм:сс\"))","v":0}]
[{"$f":"86400*TIMEVALUE(TEXT(Smp99_Donnees!C327,\"чч:мм:сс\"))","v":0},{"$f":"86400*TIMEVALUE(TEXT(Smp99_Donnees!O327,\"чч:мм:сс\"))","v":0}]
[{"$f":"86400*TIMEVALUE(TEXT(Smp99_Donnees!C328,\"чч:мм:сс\"))","v":0},{"$f":"86400*TIMEVALUE(TEXT(Smp99_Donnees!O328,\"чч:мм:сс\"))","v":0}]
[{"$f":"86400*TIMEVALUE(TEXT(Smp99_Donnees!C329,\"чч:мм:сс\"))","v":0},{"$f":"86400*TIMEVALUE(TEXT(Smp99_Donnees!O329,\"чч:мм:сс\"))","v":0}]
[{"$f":"86400*TIMEVALUE(TEXT(Smp99_Donnees!C330,\"чч:мм:сс\"))","v":0},{"$f":"86400*TIMEVALUE(TEXT(Smp99_Donnees!O330,\"чч:мм:сс\"))","v":0}]
[{"$f":"86400*TIMEVALUE(TEXT(Smp99_Donnees!C331,\"чч:мм:сс\"))","v":0},{"$f":"86400*TIMEVALUE(TEXT(Smp99_Donnees!O331,\"чч:мм:сс\"))","v":0}]
[{"$f":"86400*TIMEVALUE(TEXT(Smp99_Donnees!C332,\"чч:мм:сс\"))","v":0},{"$f":"86400*TIMEVALUE(TEXT(Smp99_Donnees!O332,\"чч:мм:сс\"))","v":0}]
[{"$f":"86400*TIMEVALUE(TEXT(Smp99_Donnees!C333,\"чч:мм:сс\"))","v":0},{"$f":"86400*TIMEVALUE(TEXT(Smp99_Donnees!O333,\"чч:мм:сс\"))","v":0}]
[{"$f":"86400*TIMEVALUE(TEXT(Smp99_Donnees!C334,\"чч:мм:сс\"))","v":0},{"$f":"86400*TIMEVALUE(TEXT(Smp99_Donnees!O334,\"чч:мм:сс\"))","v":0}]
[{"$f":"86400*TIMEVALUE(TEXT(Smp99_Donnees!C335,\"чч:мм:сс\"))","v":0},{"$f":"86400*TIMEVALUE(TEXT(Smp99_Donnees!O335,\"чч:мм:сс\"))","v":0}]
[{"$f":"86400*TIMEVALUE(TEXT(Smp99_Donnees!C336,\"чч:мм:сс\"))","v":0},{"$f":"86400*TIMEVALUE(TEXT(Smp99_Donnees!O336,\"чч:мм:сс\"))","v":0}]
[{"$f":"86400*TIMEVALUE(TEXT(Smp99_Donnees!C337,\"чч:мм:сс\"))","v":0},{"$f":"86400*TIMEVALUE(TEXT(Smp99_Donnees!O337,\"чч:мм:сс\"))","v":0}]
[{"$f":"86400*TIMEVALUE(TEXT(Smp99_Donnees!C338,\"чч:мм:сс\"))","v":0},{"$f":"86400*TIMEVALUE(TEXT(Smp99_Donnees!O338,\"чч:мм:сс\"))","v":0}]
[{"$f":"86400*TIMEVALUE(TEXT(Smp99_Donnees!C339,\"чч:мм:сс\"))","v":0},{"$f":"86400*TIMEVALUE(TEXT(Smp99_Donnees!O339,\"чч:мм:сс\"))","v":0}]
[{"$f":"86400*TIMEVALUE(TEXT(Smp99_Donnees!C340,\"чч:мм:сс\"))","v":0},{"$f":"86400*TIMEVALUE(TEXT(Smp99_Donnees!O340,\"чч:мм:сс\"))","v":0}]
[{"$f":"86400*TIMEVALUE(TEXT(Smp99_Donnees!C341,\"чч:мм:сс\"))","v":0},{"$f":"86400*TIMEVALUE(TEXT(Smp99_Donnees!O341,\"чч:мм:сс\"))","v":0}]
[{"$f":"86400*TIMEVALUE(TEXT(Smp99_Donnees!C342,\"чч:мм:сс\"))","v":0},{"$f":"86400*TIMEVALUE(TEXT(Smp99_Donnees!O342,\"чч:мм:сс\"))","v":0}]
[{"$f":"86400*TIMEVALUE(TEXT(Smp99_Donnees!C343,\"чч:мм:сс\"))","v":0},{"$f":"86400*TIMEVALUE(TEXT(Smp99_Donnees!O343,\"чч:мм:сс\"))","v":0}]
[{"$f":"86400*TIMEVALUE(TEXT(Smp99_Donnees!C344,\"чч:мм:сс\"))","v":0},{"$f":"86400*TIMEVALUE(TEXT(Smp99_Donnees!O344,\"чч:мм:сс\"))","v":0}]
[{"$f":"86400*TIMEVALUE(TEXT(Smp99_Donnees!C345,\"чч:мм:сс\"))","v":0},{"$f":"86400*TIMEVALUE(TEXT(Smp99_Donnees!O345,\"чч:мм:сс\"))","v":0}]
[{"$f":"86400*TIMEVALUE(TEXT(Smp99_Donnees!C346,\"чч:мм:сс\"))","v":0},{"$f":"86400*TIMEVALUE(TEXT(Smp99_Donnees!O346,\"чч:мм:сс\"))","v":0}]
[{"$f":"86400*TIMEVALUE(TEXT(Smp99_Donnees!C347,\"чч:мм:сс\"))","v":0},{"$f":"86400*TIMEVALUE(TEXT(Smp99_Donnees!O347,\"чч:мм:сс\"))","v":0}]
[{"$f":"86400*TIMEVALUE(TEXT(Smp99_Donnees!C348,\"чч:мм:сс\"))","v":0},{"$f":"86400*TIMEVALUE(TEXT(Smp99_Donnees!O348,\"чч:мм:сс\"))","v":0}]
[{"$f":"86400*TIMEVALUE(TEXT(Smp99_Donnees!C349,\"чч:мм:сс\"))","v":0},{"$f":"86400*TIMEVALUE(TEXT(Smp99_Donnees!O349,\"чч:мм:сс\"))","v":0}]
[{"$f":"86400*TIMEVALUE(TEXT(Smp99_Donnees!C350,\"чч:мм:сс\"))","v":0},{"$f":"86400*TIMEVALUE(TEXT(Smp99_Donnees!O350,\"чч:мм:сс\"))","v":0}]
[{"$f":"86400*TIMEVALUE(TEXT(Smp99_Donnees!C351,\"чч:мм:сс\"))","v":0},{"$f":"86400*TIMEVALUE(TEXT(Smp99_Donnees!O351,\"чч:мм:сс\"))","v":0}]
[{"$f":"86400*TIMEVALUE(TEXT(Smp99_Donnees!C352,\"чч:мм:сс\"))","v":0},{"$f":"86400*TIMEVALUE(TEXT(Smp99_Donnees!O352,\"чч:мм:сс\"))","v":0}]
[{"$f":"86400*TIMEVALUE(TEXT(Smp99_Donnees!C353,\"чч:мм:сс\"))","v":0},{"$f":"86400*TIMEVALUE(TEXT(Smp99_Donnees!O353,\"чч:мм:сс\"))","v":0}]
[{"$f":"86400*TIMEVALUE(TEXT(Smp99_Donnees!C354,\"чч:мм:сс\"))","v":0},{"$f":"86400*TIMEVALUE(TEXT(Smp99_Donnees!O354,\"чч:мм:сс\"))","v":0}]
[{"$f":"86400*TIMEVALUE(TEXT(Smp99_Donnees!C355,\"чч:мм:сс\"))","v":0},{"$f":"86400*TIMEVALUE(TEXT(Smp99_Donnees!O355,\"чч:мм:сс\"))","v":0}]
[{"$f":"86400*TIMEVALUE(TEXT(Smp99_Donnees!C356,\"чч:мм:сс\"))","v":0},{"$f":"86400*TIMEVALUE(TEXT(Smp99_Donnees!O356,\"чч:мм:сс\"))","v":0}]
[{"$f":"86400*TIMEVALUE(TEXT(Smp99_Donnees!C357,\"чч:мм:сс\"))","v":0},{"$f":"86400*TIMEVALUE(TEXT(Smp99_Donnees!O357,\"чч:мм:сс\"))","v":0}]
[{"$f":"86400*TIMEVALUE(TEXT(Smp99_Donnees!C358,\"чч:мм:сс\"))","v":0},{"$f":"86400*TIMEVALUE(TEXT(Smp99_Donnees!O358,\"чч:мм:сс\"))","v":0}]
[{"$f":"86400*TIMEVALUE(TEXT(Smp99_Donnees!C359,\"чч:мм:сс\"))","v":0},{"$f":"86400*TIMEVALUE(TEXT(Smp99_Donnees!O359,\"чч:мм:сс\"))","v":0}]
[{"$f":"86400*TIMEVALUE(TEXT(Smp99_Donnees!C360,\"чч:мм:сс\"))","v":0},{"$f":"86400*TIMEVALUE(TEXT(Smp99_Donnees!O360,\"чч:мм:сс\"))","v":0}]
[{"$f":"86400*TIMEVALUE(TEXT(Smp99_Donnees!C361,\"чч:мм:сс\"))","v":0},{"$f":"86400*TIMEVALUE(TEXT(Smp99_Donnees!O361,\"чч:мм:сс\"))","v":0}]
[{"$f":"86400*TIMEVALUE(TEXT(Smp99_Donnees!C362,\"чч:мм:сс\"))","v":0},{"$f":"86400*TIMEVALUE(TEXT(Smp99_Donnees!O362,\"чч:мм:сс\"))","v":0}]
[{"$f":"86400*TIMEVALUE(TEXT(Smp99_Donnees!C363,\"чч:мм:сс\"))","v":0},{"$f":"86400*TIMEVALUE(TEXT(Smp99_Donnees!O363,\"чч:мм:сс\"))","v":0}]
[{"$f":"86400*TIMEVALUE(TEXT(Smp99_Donnees!C364,\"чч:мм:сс\"))","v":0},{"$f":"86400*TIMEVALUE(TEXT(Smp99_Donnees!O364,\"чч:мм:сс\"))","v":0}]
[{"$f":"86400*TIMEVALUE(TEXT(Smp99_Donnees!C365,\"чч:мм:сс\"))","v":0},{"$f":"86400*TIMEVALUE(TEXT(Smp99_Donnees!O365,\"чч:мм:сс\"))","v":0}]
[{"$f":"86400*TIMEVALUE(TEXT(Smp99_Donnees!C366,\"чч:мм:сс\"))","v":0},{"$f":"86400*TIMEVALUE(TEXT(Smp99_Donnees!O366,\"чч:мм:сс\"))","v":0}]
[{"$f":"86400*TIMEVALUE(TEXT(Smp99_Donnees!C367,\"чч:мм:сс\"))","v":0},{"$f":"86400*TIMEVALUE(TEXT(Smp99_Donnees!O367,\"чч:мм:сс\"))","v":0}]
[{"$f":"86400*TIMEVALUE(TEXT(Smp99_Donnees!C368,\"чч:мм:сс\"))","v":0},{"$f":"86400*TIMEVALUE(TEXT(Smp99_Donnees!O368,\"чч:мм:сс\"))","v":0}]
[{"$f":"86400*TIMEVALUE(TEXT(Smp99_Donnees!C369,\"чч:мм:сс\"))","v":0},{"$f":"86400*TIMEVALUE(TEXT(Smp99_Donnees!O369,\"чч:мм:сс\"))","v":0}]
[{"$f":"86400*TIMEVALUE(TEXT(Smp99_Donnees!C370,\"чч:мм:сс\"))","v":0},{"$f":"86400*TIMEVALUE(TEXT(Smp99_Donnees!O370,\"чч:мм:сс\"))","v":0}]
[{"$f":"86400*TIMEVALUE(TEXT(Smp99_Donnees!C371,\"чч:мм:сс\"))","v":0},{"$f":"86400*TIMEVALUE(TEXT(Smp99_Donnees!O371,\"чч:мм:сс\"))","v":0}]
[{"$f":"86400*TIMEVALUE(TEXT(Smp99_Donnees!C372,\"чч:мм:сс\"))","v":0},{"$f":"86400*TIMEVALUE(TEXT(Smp99_Donnees!O372,\"чч:мм:сс\"))","v":0}]
[{"$f":"86400*TIMEVALUE(TEXT(Smp99_Donnees!C373,\"чч:мм:сс\"))","v":0},{"$f":"86400*TIMEVALUE(TEXT(Smp99_Donnees!O373,\"чч:мм:сс\"))","v":0}]
[{"$f":"86400*TIMEVALUE(TEXT(Smp99_Donnees!C374,\"чч:мм:сс\"))","v":0},{"$f":"86400*TIMEVALUE(TEXT(Smp99_Donnees!O374,\"чч:мм:сс\"))","v":0}]
[{"$f":"86400*TIMEVALUE(TEXT(Smp99_Donnees!C375,\"чч:мм:сс\"))","v":0},{"$f":"86400*TIMEVALUE(TEXT(Smp99_Donnees!O375,\"чч:мм:сс\"))","v":0}]
[{"$f":"86400*TIMEVALUE(TEXT(Smp99_Donnees!C376,\"чч:мм:сс\"))","v":0},{"$f":"86400*TIMEVALUE(TEXT(Smp99_Donnees!O376,\"чч:мм:сс\"))","v":0}]
[{"$f":"86400*TIMEVALUE(TEXT(Smp99_Donnees!C377,\"чч:мм:сс\"))","v":0},{"$f":"86400*TIMEVALUE(TEXT(Smp99_Donnees!O377,\"чч:мм:сс\"))","v":0}]
[{"$f":"86400*TIMEVALUE(TEXT(Smp99_Donnees!C378,\"чч:мм:сс\"))","v":0},{"$f":"86400*TIMEVALUE(TEXT(Smp99_Donnees!O378,\"чч:мм:сс\"))","v":0}]
[{"$f":"86400*TIMEVALUE(TEXT(Smp99_Donnees!C379,\"чч:мм:сс\"))","v":0},{"$f":"86400*TIMEVALUE(TEXT(Smp99_Donnees!O379,\"чч:мм:сс\"))","v":0}]
[{"$f":"86400*TIMEVALUE(TEXT(Smp99_Donnees!C380,\"чч:мм:сс\"))","v":0},{"$f":"86400*TIMEVALUE(TEXT(Smp99_Donnees!O380,\"чч:мм:сс\"))","v":0}]
[{"$f":"86400*TIMEVALUE(TEXT(Smp99_Donnees!C381,\"чч:мм:сс\"))","v":0},{"$f":"86400*TIMEVALUE(TEXT(Smp99_Donnees!O381,\"чч:мм:сс\"))","v":0}]
[{"$f":"86400*TIMEVALUE(TEXT(Smp99_Donnees!C382,\"чч:мм:сс\"))","v":0},{"$f":"86400*TIMEVALUE(TEXT(Smp99_Donnees!O382,\"чч:мм:сс\"))","v":0}]
[{"$f":"86400*TIMEVALUE(TEXT(Smp99_Donnees!C383,\"чч:мм:сс\"))","v":0},{"$f":"86400*TIMEVALUE(TEXT(Smp99_Donnees!O383,\"чч:мм:сс\"))","v":0}]
[{"$f":"86400*TIMEVALUE(TEXT(Smp99_Donnees!C384,\"чч:мм:сс\"))","v":0},{"$f":"86400*TIMEVALUE(TEXT(Smp99_Donnees!O384,\"чч:мм:сс\"))","v":0}]
[{"$f":"86400*TIMEVALUE(TEXT(Smp99_Donnees!C385,\"чч:мм:сс\"))","v":0},{"$f":"86400*TIMEVALUE(TEXT(Smp99_Donnees!O385,\"чч:мм:сс\"))","v":0}]
[{"$f":"86400*TIMEVALUE(TEXT(Smp99_Donnees!C386,\"чч:мм:сс\"))","v":0},{"$f":"86400*TIMEVALUE(TEXT(Smp99_Donnees!O386,\"чч:мм:сс\"))","v":0}]
[{"$f":"86400*TIMEVALUE(TEXT(Smp99_Donnees!C387,\"чч:мм:сс\"))","v":0},{"$f":"86400*TIMEVALUE(TEXT(Smp99_Donnees!O387,\"чч:мм:сс\"))","v":0}]
[{"$f":"86400*TIMEVALUE(TEXT(Smp99_Donnees!C388,\"чч:мм:сс\"))","v":0},{"$f":"86400*TIMEVALUE(TEXT(Smp99_Donnees!O388,\"чч:мм:сс\"))","v":0}]
[{"$f":"86400*TIMEVALUE(TEXT(Smp99_Donnees!C389,\"чч:мм:сс\"))","v":0},{"$f":"86400*TIMEVALUE(TEXT(Smp99_Donnees!O389,\"чч:мм:сс\"))","v":0}]
[{"$f":"86400*TIMEVALUE(TEXT(Smp99_Donnees!C390,\"чч:мм:сс\"))","v":0},{"$f":"86400*TIMEVALUE(TEXT(Smp99_Donnees!O390,\"чч:мм:сс\"))","v":0}]
[{"$f":"86400*TIMEVALUE(TEXT(Smp99_Donnees!C391,\"чч:мм:сс\"))","v":0},{"$f":"86400*TIMEVALUE(TEXT(Smp99_Donnees!O391,\"чч:мм:сс\"))","v":0}]
[{"$f":"86400*TIMEVALUE(TEXT(Smp99_Donnees!C392,\"чч:мм:сс\"))","v":0},{"$f":"86400*TIMEVALUE(TEXT(Smp99_Donnees!O392,\"чч:мм:сс\"))","v":0}]
[{"$f":"86400*TIMEVALUE(TEXT(Smp99_Donnees!C393,\"чч:мм:сс\"))","v":0},{"$f":"86400*TIMEVALUE(TEXT(Smp99_Donnees!O393,\"чч:мм:сс\"))","v":0}]
[{"$f":"86400*TIMEVALUE(TEXT(Smp99_Donnees!C394,\"чч:мм:сс\"))","v":0},{"$f":"86400*TIMEVALUE(TEXT(Smp99_Donnees!O394,\"чч:мм:сс\"))","v":0}]
[{"$f":"86400*TIMEVALUE(TEXT(Smp99_Donnees!C395,\"чч:мм:сс\"))","v":0},{"$f":"86400*TIMEVALUE(TEXT(Smp99_Donnees!O395,\"чч:мм:сс\"))","v":0}]
[{"$f":"86400*TIMEVALUE(TEXT(Smp99_Donnees!C396,\"чч:мм:сс\"))","v":0},{"$f":"86400*TIMEVALUE(TEXT(Smp99_Donnees!O396,\"чч:мм:сс\"))","v":0}]
[{"$f":"86400*TIMEVALUE(TEXT(Smp99_Donnees!C397,\"чч:мм:сс\"))","v":0},{"$f":"86400*TIMEVALUE(TEXT(Smp99_Donnees!O397,\"чч:мм:сс\"))","v":0}]
[{"$f":"86400*TIMEVALUE(TEXT(Smp99_Donnees!C398,\"чч:мм:сс\"))","v":0},{"$f":"86400*TIMEVALUE(TEXT(Smp99_Donnees!O398,\"чч:мм:сс\"))","v":0}]
[{"$f":"86400*TIMEVALUE(TEXT(Smp99_Donnees!C399,\"чч:мм:сс\"))","v":0},{"$f":"86400*TIMEVALUE(TEXT(Smp99_Donnees!O399,\"чч:мм:сс\"))","v":0}]
[{"$f":"86400*TIMEVALUE(TEXT(Smp99_Donnees!C400,\"чч:мм:сс\"))","v":0},{"$f":"86400*TIMEVALUE(TEXT(Smp99_Donnees!O400,\"чч:мм:сс\"))","v":0}]
[{"$f":"86400*TIMEVALUE(TEXT(Smp99_Donnees!C401,\"чч:мм:сс\"))","v":0},{"$f":"86400*TIMEVALUE(TEXT(Smp99_Donnees!O401,\"чч:мм:сс\"))","v":0}]
[{"$f":"86400*TIMEVALUE(TEXT(Smp99_Donnees!C402,\"чч:мм:сс\"))","v":0},{"$f":"86400*TIMEVALUE(TEXT(Smp99_Donnees!O402,\"чч:мм:сс\"))","v":0}]
[{"$f":"86400*TIMEVALUE(TEXT(Smp99_Donnees!C403,\"чч:мм:сс\"))","v":0},{"$f":"86400*TIMEVALUE(TEXT(Smp99_Donnees!O403,\"чч:мм:сс\"))","v":0}]
[{"$f":"86400*TIMEVALUE(TEXT(Smp99_Donnees!C404,\"чч:мм:сс\"))","v":0},{"$f":"86400*TIMEVALUE(TEXT(Smp99_Donnees!O404,\"чч:мм:сс\"))","v":0}]
[{"$f":"86400*TIMEVALUE(TEXT(Smp99_Donnees!C405,\"чч:мм:сс\"))","v":0},{"$f":"86400*TIMEVALUE(TEXT(Smp99_Donnees!O405,\"чч:мм:сс\"))","v":0}]
[{"$f":"86400*TIMEVALUE(TEXT(Smp99_Donnees!C406,\"чч:мм:сс\"))","v":0},{"$f":"86400*TIMEVALUE(TEXT(Smp99_Donnees!O406,\"чч:мм:сс\"))","v":0}]
[{"$f":"86400*TIMEVALUE(TEXT(Smp99_Donnees!C407,\"чч:мм:сс\"))","v":0},{"$f":"86400*TIMEVALUE(TEXT(Smp99_Donnees!O407,\"чч:мм:сс\"))","v":0}]
[{"$f":"86400*TIMEVALUE(TEXT(Smp99_Donnees!C408,\"чч:мм:сс\"))","v":0},{"$f":"86400*TIMEVALUE(TEXT(Smp99_Donnees!O408,\"чч:мм:сс\"))","v":0}]
[{"$f":"86400*TIMEVALUE(TEXT(Smp99_Donnees!C409,\"чч:мм:сс\"))","v":0},{"$f":"86400*TIMEVALUE(TEXT(Smp99_Donnees!O409,\"чч:мм:сс\"))","v":0}]
[{"$f":"86400*TIMEVALUE(TEXT(Smp99_Donnees!C410,\"чч:мм:сс\"))","v":0},{"$f":"86400*TIMEVALUE(TEXT(Smp99_Donnees!O410,\"чч:мм:сс\"))","v":0}]
[{"$f":"86400*TIMEVALUE(TEXT(Smp99_Donnees!C411,\"чч:мм:сс\"))","v":0},{"$f":"86400*TIMEVALUE(TEXT(Smp99_Donnees!O411,\"чч:мм:сс\"))","v":0}]
[{"$f":"86400*TIMEVALUE(TEXT(Smp99_Donnees!C412,\"чч:мм:сс\"))","v":0},{"$f":"86400*TIMEVALUE(TEXT(Smp99_Donnees!O412,\"чч:мм:сс\"))","v":0}]
[{"$f":"86400*TIMEVALUE(TEXT(Smp99_Donnees!C413,\"чч:мм:сс\"))","v":0},{"$f":"86400*TIMEVALUE(TEXT(Smp99_Donnees!O413,\"чч:мм:сс\"))","v":0}]
[{"$f":"86400*TIMEVALUE(TEXT(Smp99_Donnees!C414,\"чч:мм:сс\"))","v":0},{"$f":"86400*TIMEVALUE(TEXT(Smp99_Donnees!O414,\"чч:мм:сс\"))","v":0}]
[{"$f":"86400*TIMEVALUE(TEXT(Smp99_Donnees!C415,\"чч:мм:сс\"))","v":0},{"$f":"86400*TIMEVALUE(TEXT(Smp99_Donnees!O415,\"чч:мм:сс\"))","v":0}]
[{"$f":"86400*TIMEVALUE(TEXT(Smp99_Donnees!C416,\"чч:мм:сс\"))","v":0},{"$f":"86400*TIMEVALUE(TEXT(Smp99_Donnees!O416,\"чч:мм:сс\"))","v":0}]
[{"$f":"86400*TIMEVALUE(TEXT(Smp99_Donnees!C417,\"чч:мм:сс\"))","v":0},{"$f":"86400*TIMEVALUE(TEXT(Smp99_Donnees!O417,\"чч:мм:сс\"))","v":0}]
[{"$f":"86400*TIMEVALUE(TEXT(Smp99_Donnees!C418,\"чч:мм:сс\"))","v":0},{"$f":"86400*TIMEVALUE(TEXT(Smp99_Donnees!O418,\"чч:мм:сс\"))","v":0}]
[{"$f":"86400*TIMEVALUE(TEXT(Smp99_Donnees!C419,\"чч:мм:сс\"))","v":0},{"$f":"86400*TIMEVALUE(TEXT(Smp99_Donnees!O419,\"чч:мм:сс\"))","v":0}]
[{"$f":"86400*TIMEVALUE(TEXT(Smp99_Donnees!C420,\"чч:мм:сс\"))","v":0},{"$f":"86400*TIMEVALUE(TEXT(Smp99_Donnees!O420,\"чч:мм:сс\"))","v":0}]
[{"$f":"86400*TIMEVALUE(TEXT(Smp99_Donnees!C421,\"чч:мм:сс\"))","v":0},{"$f":"86400*TIMEVALUE(TEXT(Smp99_Donnees!O421,\"чч:мм:сс\"))","v":0}]
[{"$f":"86400*TIMEVALUE(TEXT(Smp99_Donnees!C422,\"чч:мм:сс\"))","v":0},{"$f":"86400*TIMEVALUE(TEXT(Smp99_Donnees!O422,\"чч:мм:сс\"))","v":0}]
[{"$f":"86400*TIMEVALUE(TEXT(Smp99_Donnees!C423,\"чч:мм:сс\"))","v":0},{"$f":"86400*TIMEVALUE(TEXT(Smp99_Donnees!O423,\"чч:мм:сс\"))","v":0}]
[{"$f":"86400*TIMEVALUE(TEXT(Smp99_Donnees!C424,\"чч:мм:сс\"))","v":0},{"$f":"86400*TIMEVALUE(TEXT(Smp99_Donnees!O424,\"чч:мм:сс\"))","v":0}]
[{"$f":"86400*TIMEVALUE(TEXT(Smp99_Donnees!C425,\"чч:мм:сс\"))","v":0},{"$f":"86400*TIMEVALUE(TEXT(Smp99_Donnees!O425,\"чч:мм:сс\"))","v":0}]
[{"$f":"86400*TIMEVALUE(TEXT(Smp99_Donnees!C426,\"чч:мм:сс\"))","v":0},{"$f":"86400*TIMEVALUE(TEXT(Smp99_Donnees!O426,\"чч:мм:сс\"))","v":0}]
[{"$f":"86400*TIMEVALUE(TEXT(Smp99_Donnees!C427,\"чч:мм:сс\"))","v":0},{"$f":"86400*TIMEVALUE(TEXT(Smp99_Donnees!O427,\"чч:мм:сс\"))","v":0}]
[{"$f":"86400*TIMEVALUE(TEXT(Smp99_Donnees!C428,\"чч:мм:сс\"))","v":0},{"$f":"86400*TIMEVALUE(TEXT(Smp99_Donnees!O428,\"чч:мм:сс\"))","v":0}]
[{"$f":"86400*TIMEVALUE(TEXT(Smp99_Donnees!C429,\"чч:мм:сс\"))","v":0},{"$f":"86400*TIMEVALUE(TEXT(Smp99_Donnees!O429,\"чч:мм:сс\"))","v":0}]
[{"$f":"86400*TIMEVALUE(TEXT(Smp99_Donnees!C430,\"чч:мм:сс\"))","v":0},{"$f":"86400*TIMEVALUE(TEXT(Smp99_Donnees!O430,\"чч:мм:сс\"))","v":0}]
[{"$f":"86400*TIMEVALUE(TEXT(Smp99_Donnees!C431,\"чч:мм:сс\"))","v":0},{"$f":"86400*TIMEVALUE(TEXT(Smp99_Donnees!O431,\"чч:мм:сс\"))","v":0}]
[{"$f":"86400*TIMEVALUE(TEXT(Smp99_Donnees!C432,\"чч:мм:сс\"))","v":0},{"$f":"86400*TIMEVALUE(TEXT(Smp99_Donnees!O432,\"чч:мм:сс\"))","v":0}]
[{"$f":"86400*TIMEVALUE(TEXT(Smp99_Donnees!C433,\"чч:мм:сс\"))","v":0},{"$f":"86400*TIMEVALUE(TEXT(Smp99_Donnees!O433,\"чч:мм:сс\"))","v":0}]
[{"$f":"86400*TIMEVALUE(TEXT(Smp99_Donnees!C434,\"чч:мм:сс\"))","v":0},{"$f":"86400*TIMEVALUE(TEXT(Smp99_Donnees!O434,\"чч:мм:сс\"))","v":0}]
[{"$f":"86400*TIMEVALUE(TEXT(Smp99_Donnees!C435,\"чч:мм:сс\"))","v":0},{"$f":"86400*TIMEVALUE(TEXT(Smp99_Donnees!O435,\"чч:мм:сс\"))","v":0}]
[{"$f":"86400*TIMEVALUE(TEXT(Smp99_Donnees!C436,\"чч:мм:сс\"))","v":0},{"$f":"86400*TIMEVALUE(TEXT(Smp99_Donnees!O436,\"чч:мм:сс\"))","v":0}]
[{"$f":"86400*TIMEVALUE(TEXT(Smp99_Donnees!C437,\"чч:мм:сс\"))","v":0},{"$f":"86400*TIMEVALUE(TEXT(Smp99_Donnees!O437,\"чч:мм:сс\"))","v":0}]
[{"$f":"86400*TIMEVALUE(TEXT(Smp99_Donnees!C438,\"чч:мм:сс\"))","v":0},{"$f":"86400*TIMEVALUE(TEXT(Smp99_Donnees!O438,\"чч:мм:сс\"))","v":0}]
[{"$f":"86400*TIMEVALUE(TEXT(Smp99_Donnees!C439,\"чч:мм:сс\"))","v":0},{"$f":"86400*TIMEVALUE(TEXT(Smp99_Donnees!O439,\"чч:мм:сс\"))","v":0}]
[{"$f":"86400*TIMEVALUE(TEXT(Smp99_Donnees!C440,\"чч:мм:сс\"))","v":0},{"$f":"86400*TIMEVALUE(TEXT(Smp99_Donnees!O440,\"чч:мм:сс\"))","v":0}]
[{"$f":"86400*TIMEVALUE(TEXT(Smp99_Donnees!C441,\"чч:мм:сс\"))","v":0},{"$f":"86400*TIMEVALUE(TEXT(Smp99_Donnees!O441,\"чч:мм:сс\"))","v":0}]
[{"$f":"86400*TIMEVALUE(TEXT(Smp99_Donnees!C442,\"чч:мм:сс\"))","v":0},{"$f":"86400*TIMEVALUE(TEXT(Smp99_Donnees!O442,\"чч:мм:сс\"))","v":0}]
[{"$f":"86400*TIMEVALUE(TEXT(Smp99_Donnees!C443,\"чч:мм:сс\"))","v":0},{"$f":"86400*TIMEVALUE(TEXT(Smp99_Donnees!O443,\"чч:мм:сс\"))","v":0}]
[{"$f":"86400*TIMEVALUE(TEXT(Smp99_Donnees!C444,\"чч:мм:сс\"))","v":0},{"$f":"86400*TIMEVALUE(TEXT(Smp99_Donnees!O444,\"чч:мм:сс\"))","v":0}]
[{"$f":"86400*TIMEVALUE(TEXT(Smp99_Donnees!C445,\"чч:мм:сс\"))","v":0},{"$f":"86400*TIMEVALUE(TEXT(Smp99_Donnees!O445,\"чч:мм:сс\"))","v":0}]
[{"$f":"86400*TIMEVALUE(TEXT(Smp99_Donnees!C446,\"чч:мм:сс\"))","v":0},{"$f":"86400*TIMEVALUE(TEXT(Smp99_Donnees!O446,\"чч:мм:сс\"))","v":0}]
[{"$f":"86400*TIMEVALUE(TEXT(Smp99_Donnees!C447,\"чч:мм:сс\"))","v":0},{"$f":"86400*TIMEVALUE(TEXT(Smp99_Donnees!O447,\"чч:мм:сс\"))","v":0}]
[{"$f":"86400*TIMEVALUE(TEXT(Smp99_Donnees!C448,\"чч:мм:сс\"))","v":0},{"$f":"86400*TIMEVALUE(TEXT(Smp99_Donnees!O448,\"чч:мм:сс\"))","v":0}]
[{"$f":"86400*TIMEVALUE(TEXT(Smp99_Donnees!C449,\"чч:мм:сс\"))","v":0},{"$f":"86400*TIMEVALUE(TEXT(Smp99_Donnees!O449,\"чч:мм:сс\"))","v":0}]
[{"$f":"86400*TIMEVALUE(TEXT(Smp99_Donnees!C450,\"чч:мм:сс\"))","v":0},{"$f":"86400*TIMEVALUE(TEXT(Smp99_Donnees!O450,\"чч:мм:сс\"))","v":0}]
[{"$f":"86400*TIMEVALUE(TEXT(Smp99_Donnees!C451,\"чч:мм:сс\"))","v":0},{"$f":"86400*TIMEVALUE(TEXT(Smp99_Donnees!O451,\"чч:мм:сс\"))","v":0}]
[{"$f":"86400*TIMEVALUE(TEXT(Smp99_Donnees!C452,\"чч:мм:сс\"))","v":0},{"$f":"86400*TIMEVALUE(TEXT(Smp99_Donnees!O452,\"чч:мм:сс\"))","v":0}]
[{"$f":"86400*TIMEVALUE(TEXT(Smp99_Donnees!C453,\"чч:мм:сс\"))","v":0},{"$f":"86400*TIMEVALUE(TEXT(Smp99_Donnees!O453,\"чч:мм:сс\"))","v":0}]
[{"$f":"86400*TIMEVALUE(TEXT(Smp99_Donnees!C454,\"чч:мм:сс\"))","v":0},{"$f":"86400*TIMEVALUE(TEXT(Smp99_Donnees!O454,\"чч:мм:сс\"))","v":0}]
[{"$f":"86400*TIMEVALUE(TEXT(Smp99_Donnees!C455,\"чч:мм:сс\"))","v":0},{"$f":"86400*TIMEVALUE(TEXT(Smp99_Donnees!O455,\"чч:мм:сс\"))","v":0}]
[{"$f":"86400*TIMEVALUE(TEXT(Smp99_Donnees!C456,\"чч:мм:сс\"))","v":0},{"$f":"86400*TIMEVALUE(TEXT(Smp99_Donnees!O456,\"чч:мм:сс\"))","v":0}]
[{"$f":"86400*TIMEVALUE(TEXT(Smp99_Donnees!C457,\"чч:мм:сс\"))","v":0},{"$f":"86400*TIMEVALUE(TEXT(Smp99_Donnees!O457,\"чч:мм:сс\"))","v":0}]
[{"$f":"86400*TIMEVALUE(TEXT(Smp99_Donnees!C458,\"чч:мм:сс\"))","v":0},{"$f":"86400*TIMEVALUE(TEXT(Smp99_Donnees!O458,\"чч:мм:сс\"))","v":0}]
[{"$f":"86400*TIMEVALUE(TEXT(Smp99_Donnees!C459,\"чч:мм:сс\"))","v":0},{"$f":"86400*TIMEVALUE(TEXT(Smp99_Donnees!O459,\"чч:мм:сс\"))","v":0}]
[{"$f":"86400*TIMEVALUE(TEXT(Smp99_Donnees!C460,\"чч:мм:сс\"))","v":0},{"$f":"86400*TIMEVALUE(TEXT(Smp99_Donnees!O460,\"чч:мм:сс\"))","v":0}]
[{"$f":"86400*TIMEVALUE(TEXT(Smp99_Donnees!C461,\"чч:мм:сс\"))","v":0},{"$f":"86400*TIMEVALUE(TEXT(Smp99_Donnees!O461,\"чч:мм:сс\"))","v":0}]
[{"$f":"86400*TIMEVALUE(TEXT(Smp99_Donnees!C462,\"чч:мм:сс\"))","v":0},{"$f":"86400*TIMEVALUE(TEXT(Smp99_Donnees!O462,\"чч:мм:сс\"))","v":0}]
[{"$f":"86400*TIMEVALUE(TEXT(Smp99_Donnees!C463,\"чч:мм:сс\"))","v":0},{"$f":"86400*TIMEVALUE(TEXT(Smp99_Donnees!O463,\"чч:мм:сс\"))","v":0}]
[{"$f":"86400*TIMEVALUE(TEXT(Smp99_Donnees!C464,\"чч:мм:сс\"))","v":0},{"$f":"86400*TIMEVALUE(TEXT(Smp99_Donnees!O464,\"чч:мм:сс\"))","v":0}]
[{"$f":"86400*TIMEVALUE(TEXT(Smp99_Donnees!C465,\"чч:мм:сс\"))","v":0},{"$f":"86400*TIMEVALUE(TEXT(Smp99_Donnees!O465,\"чч:мм:сс\"))","v":0}]
[{"$f":"86400*TIMEVALUE(TEXT(Smp99_Donnees!C466,\"чч:мм:сс\"))","v":0},{"$f":"86400*TIMEVALUE(TEXT(Smp99_Donnees!O466,\"чч:мм:сс\"))","v":0}]
[{"$f":"86400*TIMEVALUE(TEXT(Smp99_Donnees!C467,\"чч:мм:сс\"))","v":0},{"$f":"86400*TIMEVALUE(TEXT(Smp99_Donnees!O467,\"чч:мм:сс\"))","v":0}]
[{"$f":"86400*TIMEVALUE(TEXT(Smp99_Donnees!C468,\"чч:мм:сс\"))","v":0},{"$f":"86400*TIMEVALUE(TEXT(Smp99_Donnees!O468,\"чч:мм:сс\"))","v":0}]
[{"$f":"86400*TIMEVALUE(TEXT(Smp99_Donnees!C469,\"чч:мм:сс\"))","v":0},{"$f":"86400*TIMEVALUE(TEXT(Smp99_Donnees!O469,\"чч:мм:сс\"))","v":0}]
[{"$f":"86400*TIMEVALUE(TEXT(Smp99_Donnees!C470,\"чч:мм:сс\"))","v":0},{"$f":"86400*TIMEVALUE(TEXT(Smp99_Donnees!O470,\"чч:мм:сс\"))","v":0}]
[{"$f":"86400*TIMEVALUE(TEXT(Smp99_Donnees!C471,\"чч:мм:сс\"))","v":0},{"$f":"86400*TIMEVALUE(TEXT(Smp99_Donnees!O471,\"чч:мм:сс\"))","v":0}]
[{"$f":"86400*TIMEVALUE(TEXT(Smp99_Donnees!C472,\"чч:мм:сс\"))","v":0},{"$f":"86400*TIMEVALUE(TEXT(Smp99_Donnees!O472,\"чч:мм:сс\"))","v":0}]
[{"$f":"86400*TIMEVALUE(TEXT(Smp99_Donnees!C473,\"чч:мм:сс\"))","v":0},{"$f":"86400*TIMEVALUE(TEXT(Smp99_Donnees!O473,\"чч:мм:сс\"))","v":0}]
[{"$f":"86400*TIMEVALUE(TEXT(Smp99_Donnees!C474,\"чч:мм:сс\"))","v":0},{"$f":"86400*TIMEVALUE(TEXT(Smp99_Donnees!O474,\"чч:мм:сс\"))","v":0}]
[{"$f":"86400*TIMEVALUE(TEXT(Smp99_Donnees!C475,\"чч:мм:сс\"))","v":0},{"$f":"86400*TIMEVALUE(TEXT(Smp99_Donnees!O475,\"чч:мм:сс\"))","v":0}]
[{"$f":"86400*TIMEVALUE(TEXT(Smp99_Donnees!C476,\"чч:мм:сс\"))","v":0},{"$f":"86400*TIMEVALUE(TEXT(Smp99_Donnees!O476,\"чч:мм:сс\"))","v":0}]
[{"$f":"86400*TIMEVALUE(TEXT(Smp99_Donnees!C477,\"чч:мм:сс\"))","v":0},{"$f":"86400*TIMEVALUE(TEXT(Smp99_Donnees!O477,\"чч:мм:сс\"))","v":0}]
[{"$f":"86400*TIMEVALUE(TEXT(Smp99_Donnees!C478,\"чч:мм:сс\"))","v":0},{"$f":"86400*TIMEVALUE(TEXT(Smp99_Donnees!O478,\"чч:мм:сс\"))","v":0}]
[{"$f":"86400*TIMEVALUE(TEXT(Smp99_Donnees!C479,\"чч:мм:сс\"))","v":0},{"$f":"86400*TIMEVALUE(TEXT(Smp99_Donnees!O479,\"чч:мм:сс\"))","v":0}]
[{"$f":"86400*TIMEVALUE(TEXT(Smp99_Donnees!C480,\"чч:мм:сс\"))","v":0},{"$f":"86400*TIMEVALUE(TEXT(Smp99_Donnees!O480,\"чч:мм:сс\"))","v":0}]
[{"$f":"86400*TIMEVALUE(TEXT(Smp99_Donnees!C481,\"чч:мм:сс\"))","v":0},{"$f":"86400*TIMEVALUE(TEXT(Smp99_Donnees!O481,\"чч:мм:сс\"))","v":0}]
[{"$f":"86400*TIMEVALUE(TEXT(Smp99_Donnees!C482,\"чч:мм:сс\"))","v":0},{"$f":"86400*TIMEVALUE(TEXT(Smp99_Donnees!O482,\"чч:мм:сс\"))","v":0}]
[{"$f":"86400*TIMEVALUE(TEXT(Smp99_Donnees!C483,\"чч:мм:сс\"))","v":0},{"$f":"86400*TIMEVALUE(TEXT(Smp99_Donnees!O483,\"чч:мм:сс\"))","v":0}]
[{"$f":"86400*TIMEVALUE(TEXT(Smp99_Donnees!C484,\"чч:мм:сс\"))","v":0},{"$f":"86400*TIMEVALUE(TEXT(Smp99_Donnees!O484,\"чч:мм:сс\"))","v":0}]
[{"$f":"86400*TIMEVALUE(TEXT(Smp99_Donnees!C485,\"чч:мм:сс\"))","v":0},{"$f":"86400*TIMEVALUE(TEXT(Smp99_Donnees!O485,\"чч:мм:сс\"))","v":0}]
[{"$f":"86400*TIMEVALUE(TEXT(Smp99_Donnees!C486,\"чч:мм:сс\"))","v":0},{"$f":"86400*TIMEVALUE(TEXT(Smp99_Donnees!O486,\"чч:мм:сс\"))","v":0}]
[{"$f":"86400*TIMEVALUE(TEXT(Smp99_Donnees!C487,\"чч:мм:сс\"))","v":0},{"$f":"86400*TIMEVALUE(TEXT(Smp99_Donnees!O487,\"чч:мм:сс\"))","v":0}]
[{"$f":"86400*TIMEVALUE(TEXT(Smp99_Donnees!C488,\"чч:мм:сс\"))","v":0},{"$f":"86400*TIMEVALUE(TEXT(Smp99_Donnees!O488,\"чч:мм:сс\"))","v":0}]
[{"$f":"86400*TIMEVALUE(TEXT(Smp99_Donnees!C489,\"чч:мм:сс\"))","v":0},{"$f":"86400*TIMEVALUE(TEXT(Smp99_Donnees!O489,\"чч:мм:сс\"))","v":0}]
[{"$f":"86400*TIMEVALUE(TEXT(Smp99_Donnees!C490,\"чч:мм:сс\"))","v":0},{"$f":"86400*TIMEVALUE(TEXT(Smp99_Donnees!O490,\"чч:мм:сс\"))","v":0}]
[{"$f":"86400*TIMEVALUE(TEXT(Smp99_Donnees!C491,\"чч:мм:сс\"))","v":0},{"$f":"86400*TIMEVALUE(TEXT(Smp99_Donnees!O491,\"чч:мм:сс\"))","v":0}]
[{"$f":"86400*TIMEVALUE(TEXT(Smp99_Donnees!C492,\"чч:мм:сс\"))","v":0},{"$f":"86400*TIMEVALUE(TEXT(Smp99_Donnees!O492,\"чч:мм:сс\"))","v":0}]
[{"$f":"86400*TIMEVALUE(TEXT(Smp99_Donnees!C493,\"чч:мм:сс\"))","v":0},{"$f":"86400*TIMEVALUE(TEXT(Smp99_Donnees!O493,\"чч:мм:сс\"))","v":0}]
[{"$f":"86400*TIMEVALUE(TEXT(Smp99_Donnees!C494,\"чч:мм:сс\"))","v":0},{"$f":"86400*TIMEVALUE(TEXT(Smp99_Donnees!O494,\"чч:мм:сс\"))","v":0}]
[{"$f":"86400*TIMEVALUE(TEXT(Smp99_Donnees!C495,\"чч:мм:сс\"))","v":0},{"$f":"86400*TIMEVALUE(TEXT(Smp99_Donnees!O495,\"чч:мм:сс\"))","v":0}]
[{"$f":"86400*TIMEVALUE(TEXT(Smp99_Donnees!C496,\"чч:мм:сс\"))","v":0},{"$f":"86400*TIMEVALUE(TEXT(Smp99_Donnees!O496,\"чч:мм:сс\"))","v":0}]
[{"$f":"86400*TIMEVALUE(TEXT(Smp99_Donnees!C497,\"чч:мм:сс\"))","v":0},{"$f":"86400*TIMEVALUE(TEXT(Smp99_Donnees!O497,\"чч:мм:сс\"))","v":0}]
[{"$f":"86400*TIMEVALUE(TEXT(Smp99_Donnees!C498,\"чч:мм:сс\"))","v":0},{"$f":"86400*TIMEVALUE(TEXT(Smp99_Donnees!O498,\"чч:мм:сс\"))","v":0}]
[{"$f":"86400*TIMEVALUE(TEXT(Smp99_Donnees!C499,\"чч:мм:сс\"))","v":0},{"$f":"86400*TIMEVALUE(TEXT(Smp99_Donnees!O499,\"чч:мм:сс\"))","v":0}]
[{"$f":"86400*TIMEVALUE(TEXT(Smp99_Donnees!C500,\"чч:мм:сс\"))","v":0},{"$f":"86400*TIMEVALUE(TEXT(Smp99_Donnees!O500,\"чч:мм:сс\"))","v":0}]
[{"$f":"86400*TIMEVALUE(TEXT(Smp99_Donnees!C501,\"чч:мм:сс\"))","v":0},{"$f":"86400*TIMEVALUE(TEXT(Smp99_Donnees!O501,\"чч:мм:сс\"))","v":0}]
[{"$f":"86400*TIMEVALUE(TEXT(Smp99_Donnees!C502,\"чч:мм:сс\"))","v":0},{"$f":"86400*TIMEVALUE(TEXT(Smp99_Donnees!O502,\"чч:мм:сс\"))","v":0}]
[{"$f":"86400*TIMEVALUE(TEXT(Smp99_Donnees!C503,\"чч:мм:сс\"))","v":0},{"$f":"86400*TIMEVALUE(TEXT(Smp99_Donnees!O503,\"чч:мм:сс\"))","v":0}]
[{"$f":"86400*TIMEVALUE(TEXT(Smp99_Donnees!C504,\"чч:мм:сс\"))","v":0},{"$f":"86400*TIMEVALUE(TEXT(Smp99_Donnees!O504,\"чч:мм:сс\"))","v":0}]
[{"$f":"86400*TIMEVALUE(TEXT(Smp99_Donnees!C505,\"чч:мм:сс\"))","v":0},{"$f":"86400*TIMEVALUE(TEXT(Smp99_Donnees!O505,\"чч:мм:сс\"))","v":0}]
[{"$f":"86400*TIMEVALUE(TEXT(Smp99_Donnees!C506,\"чч:мм:сс\"))","v":0},{"$f":"86400*TIMEVALUE(TEXT(Smp99_Donnees!O506,\"чч:мм:сс\"))","v":0}]
[{"$f":"86400*TIMEVALUE(TEXT(Smp99_Donnees!C507,\"чч:мм:сс\"))","v":0},{"$f":"86400*TIMEVALUE(TEXT(Smp99_Donnees!O507,\"чч:мм:сс\"))","v":0}]
[{"$f":"86400*TIMEVALUE(TEXT(Smp99_Donnees!C508,\"чч:мм:сс\"))","v":0},{"$f":"86400*TIMEVALUE(TEXT(Smp99_Donnees!O508,\"чч:мм:сс\"))","v":0}]
[{"$f":"86400*TIMEVALUE(TEXT(Smp99_Donnees!C509,\"чч:мм:сс\"))","v":0},{"$f":"86400*TIMEVALUE(TEXT(Smp99_Donnees!O509,\"чч:мм:сс\"))","v":0}]
[{"$f":"86400*TIMEVALUE(TEXT(Smp99_Donnees!C510,\"чч:мм:сс\"))","v":0},{"$f":"86400*TIMEVALUE(TEXT(Smp99_Donnees!O510,\"чч:мм:сс\"))","v":0}]
[{"$f":"86400*TIMEVALUE(TEXT(Smp99_Donnees!C511,\"чч:мм:сс\"))","v":0},{"$f":"86400*TIMEVALUE(TEXT(Smp99_Donnees!O511,\"чч:мм:сс\"))","v":0}]
[{"$f":"86400*TIMEVALUE(TEXT(Smp99_Donnees!C512,\"чч:мм:сс\"))","v":0},{"$f":"86400*TIMEVALUE(TEXT(Smp99_Donnees!O512,\"чч:мм:сс\"))","v":0}]
[{"$f":"86400*TIMEVALUE(TEXT(Smp99_Donnees!C513,\"чч:мм:сс\"))","v":0},{"$f":"86400*TIMEVALUE(TEXT(Smp99_Donnees!O513,\"чч:мм:сс\"))","v":0}]
[{"$f":"86400*TIMEVALUE(TEXT(Smp99_Donnees!C514,\"чч:мм:сс\"))","v":0},{"$f":"86400*TIMEVALUE(TEXT(Smp99_Donnees!O514,\"чч:мм:сс\"))","v":0}]
[{"$f":"86400*TIMEVALUE(TEXT(Smp99_Donnees!C515,\"чч:мм:сс\"))","v":0},{"$f":"86400*TIMEVALUE(TEXT(Smp99_Donnees!O515,\"чч:мм:сс\"))","v":0}]
[{"$f":"86400*TIMEVALUE(TEXT(Smp99_Donnees!C516,\"чч:мм:сс\"))","v":0},{"$f":"86400*TIMEVALUE(TEXT(Smp99_Donnees!O516,\"чч:мм:сс\"))","v":0}]
[{"$f":"86400*TIMEVALUE(TEXT(Smp99_Donnees!C517,\"чч:мм:сс\"))","v":0},{"$f":"86400*TIMEVALUE(TEXT(Smp99_Donnees!O517,\"чч:мм:сс\"))","v":0}]
[{"$f":"86400*TIMEVALUE(TEXT(Smp99_Donnees!C518,\"чч:мм:сс\"))","v":0},{"$f":"86400*TIMEVALUE(TEXT(Smp99_Donnees!O518,\"чч:мм:сс\"))","v":0}]
[{"$f":"86400*TIMEVALUE(TEXT(Smp99_Donnees!C519,\"чч:мм:сс\"))","v":0},{"$f":"86400*TIMEVALUE(TEXT(Smp99_Donnees!O519,\"чч:мм:сс\"))","v":0}]
[{"$f":"86400*TIMEVALUE(TEXT(Smp99_Donnees!C520,\"чч:мм:сс\"))","v":0},{"$f":"86400*TIMEVALUE(TEXT(Smp99_Donnees!O520,\"чч:мм:сс\"))","v":0}]
[{"$f":"86400*TIMEVALUE(TEXT(Smp99_Donnees!C521,\"чч:мм:сс\"))","v":0},{"$f":"86400*TIMEVALUE(TEXT(Smp99_Donnees!O521,\"чч:мм:сс\"))","v":0}]
[{"$f":"86400*TIMEVALUE(TEXT(Smp99_Donnees!C522,\"чч:мм:сс\"))","v":0},{"$f":"86400*TIMEVALUE(TEXT(Smp99_Donnees!O522,\"чч:мм:сс\"))","v":0}]
[{"$f":"86400*TIMEVALUE(TEXT(Smp99_Donnees!C523,\"чч:мм:сс\"))","v":0},{"$f":"86400*TIMEVALUE(TEXT(Smp99_Donnees!O523,\"чч:мм:сс\"))","v":0}]
[{"$f":"86400*TIMEVALUE(TEXT(Smp99_Donnees!C524,\"чч:мм:сс\"))","v":0},{"$f":"86400*TIMEVALUE(TEXT(Smp99_Donnees!O524,\"чч:мм:сс\"))","v":0}]
[{"$f":"86400*TIMEVALUE(TEXT(Smp99_Donnees!C525,\"чч:мм:сс\"))","v":0},{"$f":"86400*TIMEVALUE(TEXT(Smp99_Donnees!O525,\"чч:мм:сс\"))","v":0}]
[{"$f":"86400*TIMEVALUE(TEXT(Smp99_Donnees!C526,\"чч:мм:сс\"))","v":0},{"$f":"86400*TIMEVALUE(TEXT(Smp99_Donnees!O526,\"чч:мм:сс\"))","v":0}]
[{"$f":"86400*TIMEVALUE(TEXT(Smp99_Donnees!C527,\"чч:мм:сс\"))","v":0},{"$f":"86400*TIMEVALUE(TEXT(Smp99_Donnees!O527,\"чч:мм:сс\"))","v":0}]
[{"$f":"86400*TIMEVALUE(TEXT(Smp99_Donnees!C528,\"чч:мм:сс\"))","v":0},{"$f":"86400*TIMEVALUE(TEXT(Smp99_Donnees!O528,\"чч:мм:сс\"))","v":0}]
[{"$f":"86400*TIMEVALUE(TEXT(Smp99_Donnees!C529,\"чч:мм:сс\"))","v":0},{"$f":"86400*TIMEVALUE(TEXT(Smp99_Donnees!O529,\"чч:мм:сс\"))","v":0}]
[{"$f":"86400*TIMEVALUE(TEXT(Smp99_Donnees!C530,\"чч:мм:сс\"))","v":0},{"$f":"86400*TIMEVALUE(TEXT(Smp99_Donnees!O530,\"чч:мм:сс\"))","v":0}]
[{"$f":"86400*TIMEVALUE(TEXT(Smp99_Donnees!C531,\"чч:мм:сс\"))","v":0},{"$f":"86400*TIMEVALUE(TEXT(Smp99_Donnees!O531,\"чч:мм:сс\"))","v":0}]
[{"$f":"86400*TIMEVALUE(TEXT(Smp99_Donnees!C532,\"чч:мм:сс\"))","v":0},{"$f":"86400*TIMEVALUE(TEXT(Smp99_Donnees!O532,\"чч:мм:сс\"))","v":0}]
[{"$f":"86400*TIMEVALUE(TEXT(Smp99_Donnees!C533,\"чч:мм:сс\"))","v":0},{"$f":"86400*TIMEVALUE(TEXT(Smp99_Donnees!O533,\"чч:мм:сс\"))","v":0}]
[{"$f":"86400*TIMEVALUE(TEXT(Smp99_Donnees!C534,\"чч:мм:сс\"))","v":0},{"$f":"86400*TIMEVALUE(TEXT(Smp99_Donnees!O534,\"чч:мм:сс\"))","v":0}]
[{"$f":"86400*TIMEVALUE(TEXT(Smp99_Donnees!C535,\"чч:мм:сс\"))","v":0},{"$f":"86400*TIMEVALUE(TEXT(Smp99_Donnees!O535,\"чч:мм:сс\"))","v":0}]
[{"$f":"86400*TIMEVALUE(TEXT(Smp99_Donnees!C536,\"чч:мм:сс\"))","v":0},{"$f":"86400*TIMEVALUE(TEXT(Smp99_Donnees!O536,\"чч:мм:сс\"))","v":0}]
[{"$f":"86400*TIMEVALUE(TEXT(Smp99_Donnees!C537,\"чч:мм:сс\"))","v":0},{"$f":"86400*TIMEVALUE(TEXT(Smp99_Donnees!O537,\"чч:мм:сс\"))","v":0}]
[{"$f":"86400*TIMEVALUE(TEXT(Smp99_Donnees!C538,\"чч:мм:сс\"))","v":0},{"$f":"86400*TIMEVALUE(TEXT(Smp99_Donnees!O538,\"чч:мм:сс\"))","v":0}]
[{"$f":"86400*TIMEVALUE(TEXT(Smp99_Donnees!C539,\"чч:мм:сс\"))","v":0},{"$f":"86400*TIMEVALUE(TEXT(Smp99_Donnees!O539,\"чч:мм:сс\"))","v":0}]
[{"$f":"86400*TIMEVALUE(TEXT(Smp99_Donnees!C540,\"чч:мм:сс\"))","v":0},{"$f":"86400*TIMEVALUE(TEXT(Smp99_Donnees!O540,\"чч:мм:сс\"))","v":0}]
[{"$f":"86400*TIMEVALUE(TEXT(Smp99_Donnees!C541,\"чч:мм:сс\"))","v":0},{"$f":"86400*TIMEVALUE(TEXT(Smp99_Donnees!O541,\"чч:мм:сс\"))","v":0}]
[{"$f":"86400*TIMEVALUE(TEXT(Smp99_Donnees!C542,\"чч:мм:сс\"))","v":0},{"$f":"86400*TIMEVALUE(TEXT(Smp99_Donnees!O542,\"чч:мм:сс\"))","v":0}]
[{"$f":"86400*TIMEVALUE(TEXT(Smp99_Donnees!C543,\"чч:мм:сс\"))","v":0},{"$f":"86400*TIMEVALUE(TEXT(Smp99_Donnees!O543,\"чч:мм:сс\"))","v":0}]
[{"$f":"86400*TIMEVALUE(TEXT(Smp99_Donnees!C544,\"чч:мм:сс\"))","v":0},{"$f":"86400*TIMEVALUE(TEXT(Smp99_Donnees!O544,\"чч:мм:сс\"))","v":0}]
[{"$f":"86400*TIMEVALUE(TEXT(Smp99_Donnees!C545,\"чч:мм:сс\"))","v":0},{"$f":"86400*TIMEVALUE(TEXT(Smp99_Donnees!O545,\"чч:мм:сс\"))","v":0}]
[{"$f":"86400*TIMEVALUE(TEXT(Smp99_Donnees!C546,\"чч:мм:сс\"))","v":0},{"$f":"86400*TIMEVALUE(TEXT(Smp99_Donnees!O546,\"чч:мм:сс\"))","v":0}]
[{"$f":"86400*TIMEVALUE(TEXT(Smp99_Donnees!C547,\"чч:мм:сс\"))","v":0},{"$f":"86400*TIMEVALUE(TEXT(Smp99_Donnees!O547,\"чч:мм:сс\"))","v":0}]
[{"$f":"86400*TIMEVALUE(TEXT(Smp99_Donnees!C548,\"чч:мм:сс\"))","v":0},{"$f":"86400*TIMEVALUE(TEXT(Smp99_Donnees!O548,\"чч:мм:сс\"))","v":0}]
[{"$f":"86400*TIMEVALUE(TEXT(Smp99_Donnees!C549,\"чч:мм:сс\"))","v":0},{"$f":"86400*TIMEVALUE(TEXT(Smp99_Donnees!O549,\"чч:мм:сс\"))","v":0}]
[{"$f":"86400*TIMEVALUE(TEXT(Smp99_Donnees!C550,\"чч:мм:сс\"))","v":0},{"$f":"86400*TIMEVALUE(TEXT(Smp99_Donnees!O550,\"чч:мм:сс\"))","v":0}]
[{"$f":"86400*TIMEVALUE(TEXT(Smp99_Donnees!C551,\"чч:мм:сс\"))","v":0},{"$f":"86400*TIMEVALUE(TEXT(Smp99_Donnees!O551,\"чч:мм:сс\"))","v":0}]
[{"$f":"86400*TIMEVALUE(TEXT(Smp99_Donnees!C552,\"чч:мм:сс\"))","v":0},{"$f":"86400*TIMEVALUE(TEXT(Smp99_Donnees!O552,\"чч:мм:сс\"))","v":0}]
[{"$f":"86400*TIMEVALUE(TEXT(Smp99_Donnees!C553,\"чч:мм:сс\"))","v":0},{"$f":"86400*TIMEVALUE(TEXT(Smp99_Donnees!O553,\"чч:мм:сс\"))","v":0}]
[{"$f":"86400*TIMEVALUE(TEXT(Smp99_Donnees!C554,\"чч:мм:сс\"))","v":0},{"$f":"86400*TIMEVALUE(TEXT(Smp99_Donnees!O554,\"чч:мм:сс\"))","v":0}]
[{"$f":"86400*TIMEVALUE(TEXT(Smp99_Donnees!C555,\"чч:мм:сс\"))","v":0},{"$f":"86400*TIMEVALUE(TEXT(Smp99_Donnees!O555,\"чч:мм:сс\"))","v":0}]
[{"$f":"86400*TIMEVALUE(TEXT(Smp99_Donnees!C556,\"чч:мм:сс\"))","v":0},{"$f":"86400*TIMEVALUE(TEXT(Smp99_Donnees!O556,\"чч:мм:сс\"))","v":0}]
[{"$f":"86400*TIMEVALUE(TEXT(Smp99_Donnees!C557,\"чч:мм:сс\"))","v":0},{"$f":"86400*TIMEVALUE(TEXT(Smp99_Donnees!O557,\"чч:мм:сс\"))","v":0}]
[{"$f":"86400*TIMEVALUE(TEXT(Smp99_Donnees!C558,\"чч:мм:сс\"))","v":0},{"$f":"86400*TIMEVALUE(TEXT(Smp99_Donnees!O558,\"чч:мм:сс\"))","v":0}]
[{"$f":"86400*TIMEVALUE(TEXT(Smp99_Donnees!C559,\"чч:мм:сс\"))","v":0},{"$f":"86400*TIMEVALUE(TEXT(Smp99_Donnees!O559,\"чч:мм:сс\"))","v":0}]
[{"$f":"86400*TIMEVALUE(TEXT(Smp99_Donnees!C560,\"чч:мм:сс\"))","v":0},{"$f":"86400*TIMEVALUE(TEXT(Smp99_Donnees!O560,\"чч:мм:сс\"))","v":0}]
[{"$f":"86400*TIMEVALUE(TEXT(Smp99_Donnees!C561,\"чч:мм:сс\"))","v":0},{"$f":"86400*TIMEVALUE(TEXT(Smp99_Donnees!O561,\"чч:мм:сс\"))","v":0}]
[{"$f":"86400*TIMEVALUE(TEXT(Smp99_Donnees!C562,\"чч:мм:сс\"))","v":0},{"$f":"86400*TIMEVALUE(TEXT(Smp99_Donnees!O562,\"чч:мм:сс\"))","v":0}]
[{"$f":"86400*TIMEVALUE(TEXT(Smp99_Donnees!C563,\"чч:мм:сс\"))","v":0},{"$f":"86400*TIMEVALUE(TEXT(Smp99_Donnees!O563,\"чч:мм:сс\"))","v":0}]
[{"$f":"86400*TIMEVALUE(TEXT(Smp99_Donnees!C564,\"чч:мм:сс\"))","v":0},{"$f":"86400*TIMEVALUE(TEXT(Smp99_Donnees!O564,\"чч:мм:сс\"))","v":0}]
[{"$f":"86400*TIMEVALUE(TEXT(Smp99_Donnees!C565,\"чч:мм:сс\"))","v":0},{"$f":"86400*TIMEVALUE(TEXT(Smp99_Donnees!O565,\"чч:мм:сс\"))","v":0}]
[{"$f":"86400*TIMEVALUE(TEXT(Smp99_Donnees!C566,\"чч:мм:сс\"))","v":0},{"$f":"86400*TIMEVALUE(TEXT(Smp99_Donnees!O566,\"чч:мм:сс\"))","v":0}]
[{"$f":"86400*TIMEVALUE(TEXT(Smp99_Donnees!C567,\"чч:мм:сс\"))","v":0},{"$f":"86400*TIMEVALUE(TEXT(Smp99_Donnees!O567,\"чч:мм:сс\"))","v":0}]
[{"$f":"86400*TIMEVALUE(TEXT(Smp99_Donnees!C568,\"чч:мм:сс\"))","v":0},{"$f":"86400*TIMEVALUE(TEXT(Smp99_Donnees!O568,\"чч:мм:сс\"))","v":0}]
[{"$f":"86400*TIMEVALUE(TEXT(Smp99_Donnees!C569,\"чч:мм:сс\"))","v":0},{"$f":"86400*TIMEVALUE(TEXT(Smp99_Donnees!O569,\"чч:мм:сс\"))","v":0}]
[{"$f":"86400*TIMEVALUE(TEXT(Smp99_Donnees!C570,\"чч:мм:сс\"))","v":0},{"$f":"86400*TIMEVALUE(TEXT(Smp99_Donnees!O570,\"чч:мм:сс\"))","v":0}]
[{"$f":"86400*TIMEVALUE(TEXT(Smp99_Donnees!C571,\"чч:мм:сс\"))","v":0},{"$f":"86400*TIMEVALUE(TEXT(Smp99_Donnees!O571,\"чч:мм:сс\"))","v":0}]
[{"$f":"86400*TIMEVALUE(TEXT(Smp99_Donnees!C572,\"чч:мм:сс\"))","v":0},{"$f":"86400*TIMEVALUE(TEXT(Smp99_Donnees!O572,\"чч:мм:сс\"))","v":0}]
[{"$f":"86400*TIMEVALUE(TEXT(Smp99_Donnees!C573,\"чч:мм:сс\"))","v":0},{"$f":"86400*TIMEVALUE(TEXT(Smp99_Donnees!O573,\"чч:мм:сс\"))","v":0}]
[{"$f":"86400*TIMEVALUE(TEXT(Smp99_Donnees!C574,\"чч:мм:сс\"))","v":0},{"$f":"86400*TIMEVALUE(TEXT(Smp99_Donnees!O574,\"чч:мм:сс\"))","v":0}]
[{"$f":"86400*TIMEVALUE(TEXT(Smp99_Donnees!C575,\"чч:мм:сс\"))","v":0},{"$f":"86400*TIMEVALUE(TEXT(Smp99_Donnees!O575,\"чч:мм:сс\"))","v":0}]
[{"$f":"86400*TIMEVALUE(TEXT(Smp99_Donnees!C576,\"чч:мм:сс\"))","v":0},{"$f":"86400*TIMEVALUE(TEXT(Smp99_Donnees!O576,\"чч:мм:сс\"))","v":0}]
[{"$f":"86400*TIMEVALUE(TEXT(Smp99_Donnees!C577,\"чч:мм:сс\"))","v":0},{"$f":"86400*TIMEVALUE(TEXT(Smp99_Donnees!O577,\"чч:мм:сс\"))","v":0}]
[{"$f":"86400*TIMEVALUE(TEXT(Smp99_Donnees!C578,\"чч:мм:сс\"))","v":0},{"$f":"86400*TIMEVALUE(TEXT(Smp99_Donnees!O578,\"чч:мм:сс\"))","v":0}]
[{"$f":"86400*TIMEVALUE(TEXT(Smp99_Donnees!C579,\"чч:мм:сс\"))","v":0},{"$f":"86400*TIMEVALUE(TEXT(Smp99_Donnees!O579,\"чч:мм:сс\"))","v":0}]
[{"$f":"86400*TIMEVALUE(TEXT(Smp99_Donnees!C580,\"чч:мм:сс\"))","v":0},{"$f":"86400*TIMEVALUE(TEXT(Smp99_Donnees!O580,\"чч:мм:сс\"))","v":0}]
[{"$f":"86400*TIMEVALUE(TEXT(Smp99_Donnees!C581,\"чч:мм:сс\"))","v":0},{"$f":"86400*TIMEVALUE(TEXT(Smp99_Donnees!O581,\"чч:мм:сс\"))","v":0}]
[{"$f":"86400*TIMEVALUE(TEXT(Smp99_Donnees!C582,\"чч:мм:сс\"))","v":0},{"$f":"86400*TIMEVALUE(TEXT(Smp99_Donnees!O582,\"чч:мм:сс\"))","v":0}]
[{"$f":"86400*TIMEVALUE(TEXT(Smp99_Donnees!C583,\"чч:мм:сс\"))","v":0},{"$f":"86400*TIMEVALUE(TEXT(Smp99_Donnees!O583,\"чч:мм:сс\"))","v":0}]
[{"$f":"86400*TIMEVALUE(TEXT(Smp99_Donnees!C584,\"чч:мм:сс\"))","v":0},{"$f":"86400*TIMEVALUE(TEXT(Smp99_Donnees!O584,\"чч:мм:сс\"))","v":0}]
[{"$f":"86400*TIMEVALUE(TEXT(Smp99_Donnees!C585,\"чч:мм:сс\"))","v":0},{"$f":"86400*TIMEVALUE(TEXT(Smp99_Donnees!O585,\"чч:мм:сс\"))","v":0}]
[{"$f":"86400*TIMEVALUE(TEXT(Smp99_Donnees!C586,\"чч:мм:сс\"))","v":0},{"$f":"86400*TIMEVALUE(TEXT(Smp99_Donnees!O586,\"чч:мм:сс\"))","v":0}]
[{"$f":"86400*TIMEVALUE(TEXT(Smp99_Donnees!C587,\"чч:мм:сс\"))","v":0},{"$f":"86400*TIMEVALUE(TEXT(Smp99_Donnees!O587,\"чч:мм:сс\"))","v":0}]
[{"$f":"86400*TIMEVALUE(TEXT(Smp99_Donnees!C588,\"чч:мм:сс\"))","v":0},{"$f":"86400*TIMEVALUE(TEXT(Smp99_Donnees!O588,\"чч:мм:сс\"))","v":0}]
[{"$f":"86400*TIMEVALUE(TEXT(Smp99_Donnees!C589,\"чч:мм:сс\"))","v":0},{"$f":"86400*TIMEVALUE(TEXT(Smp99_Donnees!O589,\"чч:мм:сс\"))","v":0}]
[{"$f":"86400*TIMEVALUE(TEXT(Smp99_Donnees!C590,\"чч:мм:сс\"))","v":0},{"$f":"86400*TIMEVALUE(TEXT(Smp99_Donnees!O590,\"чч:мм:сс\"))","v":0}]
[{"$f":"86400*TIMEVALUE(TEXT(Smp99_Donnees!C591,\"чч:мм:сс\"))","v":0},{"$f":"86400*TIMEVALUE(TEXT(Smp99_Donnees!O591,\"чч:мм:сс\"))","v":0}]
[{"$f":"86400*TIMEVALUE(TEXT(Smp99_Donnees!C592,\"чч:мм:сс\"))","v":0},{"$f":"86400*TIMEVALUE(TEXT(Smp99_Donnees!O592,\"чч:мм:сс\"))","v":0}]
[{"$f":"86400*TIMEVALUE(TEXT(Smp99_Donnees!C593,\"чч:мм:сс\"))","v":0},{"$f":"86400*TIMEVALUE(TEXT(Smp99_Donnees!O593,\"чч:мм:сс\"))","v":0}]
[{"$f":"86400*TIMEVALUE(TEXT(Smp99_Donnees!C594,\"чч:мм:сс\"))","v":0},{"$f":"86400*TIMEVALUE(TEXT(Smp99_Donnees!O594,\"чч:мм:сс\"))","v":0}]
[{"$f":"86400*TIMEVALUE(TEXT(Smp99_Donnees!C595,\"чч:мм:сс\"))","v":0},{"$f":"86400*TIMEVALUE(TEXT(Smp99_Donnees!O595,\"чч:мм:сс\"))","v":0}]
[{"$f":"86400*TIMEVALUE(TEXT(Smp99_Donnees!C596,\"чч:мм:сс\"))","v":0},{"$f":"86400*TIMEVALUE(TEXT(Smp99_Donnees!O596,\"чч:мм:сс\"))","v":0}]
[{"$f":"86400*TIMEVALUE(TEXT(Smp99_Donnees!C597,\"чч:мм:сс\"))","v":0},{"$f":"86400*TIMEVALUE(TEXT(Smp99_Donnees!O597,\"чч:мм:сс\"))","v":0}]
[{"$f":"86400*TIMEVALUE(TEXT(Smp99_Donnees!C598,\"чч:мм:сс\"))","v":0},{"$f":"86400*TIMEVALUE(TEXT(Smp99_Donnees!O598,\"чч:мм:сс\"))","v":0}]
[{"$f":"86400*TIMEVALUE(TEXT(Smp99_Donnees!C599,\"чч:мм:сс\"))","v":0},{"$f":"86400*TIMEVALUE(TEXT(Smp99_Donnees!O599,\"чч:мм:сс\"))","v":0}]
[{"$f":"86400*TIMEVALUE(TEXT(Smp99_Donnees!C600,\"чч:мм:сс\"))","v":0},{"$f":"86400*TIMEVALUE(TEXT(Smp99_Donnees!O600,\"чч:мм:сс\"))","v":0}]
[{"$f":"86400*TIMEVALUE(TEXT(Smp99_Donnees!C601,\"чч:мм:сс\"))","v":0},{"$f":"86400*TIMEVALUE(TEXT(Smp99_Donnees!O601,\"чч:мм:сс\"))","v":0}]
[{"$f":"86400*TIMEVALUE(TEXT(Smp99_Donnees!C602,\"чч:мм:сс\"))","v":0},{"$f":"86400*TIMEVALUE(TEXT(Smp99_Donnees!O602,\"чч:мм:сс\"))","v":0}]
[{"$f":"86400*TIMEVALUE(TEXT(Smp99_Donnees!C603,\"чч:мм:сс\"))","v":0},{"$f":"86400*TIMEVALUE(TEXT(Smp99_Donnees!O603,\"чч:мм:сс\"))","v":0}]
[{"$f":"86400*TIMEVALUE(TEXT(Smp99_Donnees!C604,\"чч:мм:сс\"))","v":0},{"$f":"86400*TIMEVALUE(TEXT(Smp99_Donnees!O604,\"чч:мм:сс\"))","v":0}]
[{"$f":"86400*TIMEVALUE(TEXT(Smp99_Donnees!C605,\"чч:мм:сс\"))","v":0},{"$f":"86400*TIMEVALUE(TEXT(Smp99_Donnees!O605,\"чч:мм:сс\"))","v":0}]
[{"$f":"86400*TIMEVALUE(TEXT(Smp99_Donnees!C606,\"чч:мм:сс\"))","v":0},{"$f":"86400*TIMEVALUE(TEXT(Smp99_Donnees!O606,\"чч:мм:сс\"))","v":0}]
[{"$f":"86400*TIMEVALUE(TEXT(Smp99_Donnees!C607,\"чч:мм:сс\"))","v":0},{"$f":"86400*TIMEVALUE(TEXT(Smp99_Donnees!O607,\"чч:мм:сс\"))","v":0}]
[{"$f":"86400*TIMEVALUE(TEXT(Smp99_Donnees!C608,\"чч:мм:сс\"))","v":0},{"$f":"86400*TIMEVALUE(TEXT(Smp99_Donnees!O608,\"чч:мм:сс\"))","v":0}]
[{"$f":"86400*TIMEVALUE(TEXT(Smp99_Donnees!C609,\"чч:мм:сс\"))","v":0},{"$f":"86400*TIMEVALUE(TEXT(Smp99_Donnees!O609,\"чч:мм:сс\"))","v":0}]
[{"$f":"86400*TIMEVALUE(TEXT(Smp99_Donnees!C610,\"чч:мм:сс\"))","v":0},{"$f":"86400*TIMEVALUE(TEXT(Smp99_Donnees!O610,\"чч:мм:сс\"))","v":0}]
[{"$f":"86400*TIMEVALUE(TEXT(Smp99_Donnees!C611,\"чч:мм:сс\"))","v":0},{"$f":"86400*TIMEVALUE(TEXT(Smp99_Donnees!O611,\"чч:мм:сс\"))","v":0}]
[{"$f":"86400*TIMEVALUE(TEXT(Smp99_Donnees!C612,\"чч:мм:сс\"))","v":0},{"$f":"86400*TIMEVALUE(TEXT(Smp99_Donnees!O612,\"чч:мм:сс\"))","v":0}]
[{"$f":"86400*TIMEVALUE(TEXT(Smp99_Donnees!C613,\"чч:мм:сс\"))","v":0},{"$f":"86400*TIMEVALUE(TEXT(Smp99_Donnees!O613,\"чч:мм:сс\"))","v":0}]
[{"$f":"86400*TIMEVALUE(TEXT(Smp99_Donnees!C614,\"чч:мм:сс\"))","v":0},{"$f":"86400*TIMEVALUE(TEXT(Smp99_Donnees!O614,\"чч:мм:сс\"))","v":0}]
[{"$f":"86400*TIMEVALUE(TEXT(Smp99_Donnees!C615,\"чч:мм:сс\"))","v":0},{"$f":"86400*TIMEVALUE(TEXT(Smp99_Donnees!O615,\"чч:мм:сс\"))","v":0}]
[{"$f":"86400*TIMEVALUE(TEXT(Smp99_Donnees!C616,\"чч:мм:сс\"))","v":0},{"$f":"86400*TIMEVALUE(TEXT(Smp99_Donnees!O616,\"чч:мм:сс\"))","v":0}]
[{"$f":"86400*TIMEVALUE(TEXT(Smp99_Donnees!C617,\"чч:мм:сс\"))","v":0},{"$f":"86400*TIMEVALUE(TEXT(Smp99_Donnees!O617,\"чч:мм:сс\"))","v":0}]
[{"$f":"86400*TIMEVALUE(TEXT(Smp99_Donnees!C618,\"чч:мм:сс\"))","v":0},{"$f":"86400*TIMEVALUE(TEXT(Smp99_Donnees!O618,\"чч:мм:сс\"))","v":0}]
[{"$f":"86400*TIMEVALUE(TEXT(Smp99_Donnees!C619,\"чч:мм:сс\"))","v":0},{"$f":"86400*TIMEVALUE(TEXT(Smp99_Donnees!O619,\"чч:мм:сс\"))","v":0}]
[{"$f":"86400*TIMEVALUE(TEXT(Smp99_Donnees!C620,\"чч:мм:сс\"))","v":0},{"$f":"86400*TIMEVALUE(TEXT(Smp99_Donnees!O620,\"чч:мм:сс\"))","v":0}]
[{"$f":"86400*TIMEVALUE(TEXT(Smp99_Donnees!C621,\"чч:мм:сс\"))","v":0},{"$f":"86400*TIMEVALUE(TEXT(Smp99_Donnees!O621,\"чч:мм:сс\"))","v":0}]
[{"$f":"86400*TIMEVALUE(TEXT(Smp99_Donnees!C622,\"чч:мм:сс\"))","v":0},{"$f":"86400*TIMEVALUE(TEXT(Smp99_Donnees!O622,\"чч:мм:сс\"))","v":0}]
[{"$f":"86400*TIMEVALUE(TEXT(Smp99_Donnees!C623,\"чч:мм:сс\"))","v":0},{"$f":"86400*TIMEVALUE(TEXT(Smp99_Donnees!O623,\"чч:мм:сс\"))","v":0}]
[{"$f":"86400*TIMEVALUE(TEXT(Smp99_Donnees!C624,\"чч:мм:сс\"))","v":0},{"$f":"86400*TIMEVALUE(TEXT(Smp99_Donnees!O624,\"чч:мм:сс\"))","v":0}]
[{"$f":"86400*TIMEVALUE(TEXT(Smp99_Donnees!C625,\"чч:мм:сс\"))","v":0},{"$f":"86400*TIMEVALUE(TEXT(Smp99_Donnees!O625,\"чч:мм:сс\"))","v":0}]
[{"$f":"86400*TIMEVALUE(TEXT(Smp99_Donnees!C626,\"чч:мм:сс\"))","v":0},{"$f":"86400*TIMEVALUE(TEXT(Smp99_Donnees!O626,\"чч:мм:сс\"))","v":0}]
[{"$f":"86400*TIMEVALUE(TEXT(Smp99_Donnees!C627,\"чч:мм:сс\"))","v":0},{"$f":"86400*TIMEVALUE(TEXT(Smp99_Donnees!O627,\"чч:мм:сс\"))","v":0}]
[{"$f":"86400*TIMEVALUE(TEXT(Smp99_Donnees!C628,\"чч:мм:сс\"))","v":0},{"$f":"86400*TIMEVALUE(TEXT(Smp99_Donnees!O628,\"чч:мм:сс\"))","v":0}]
[{"$f":"86400*TIMEVALUE(TEXT(Smp99_Donnees!C629,\"чч:мм:сс\"))","v":0},{"$f":"86400*TIMEVALUE(TEXT(Smp99_Donnees!O629,\"чч:мм:сс\"))","v":0}]
[{"$f":"86400*TIMEVALUE(TEXT(Smp99_Donnees!C630,\"чч:мм:сс\"))","v":0},{"$f":"86400*TIMEVALUE(TEXT(Smp99_Donnees!O630,\"чч:мм:сс\"))","v":0}]
[{"$f":"86400*TIMEVALUE(TEXT(Smp99_Donnees!C631,\"чч:мм:сс\"))","v":0},{"$f":"86400*TIMEVALUE(TEXT(Smp99_Donnees!O631,\"чч:мм:сс\"))","v":0}]
[{"$f":"86400*TIMEVALUE(TEXT(Smp99_Donnees!C632,\"чч:мм:сс\"))","v":0},{"$f":"86400*TIMEVALUE(TEXT(Smp99_Donnees!O632,\"чч:мм:сс\"))","v":0}]
[{"$f":"86400*TIMEVALUE(TEXT(Smp99_Donnees!C633,\"чч:мм:сс\"))","v":0},{"$f":"86400*TIMEVALUE(TEXT(Smp99_Donnees!O633,\"чч:мм:сс\"))","v":0}]
[{"$f":"86400*TIMEVALUE(TEXT(Smp99_Donnees!C634,\"чч:мм:сс\"))","v":0},{"$f":"86400*TIMEVALUE(TEXT(Smp99_Donnees!O634,\"чч:мм:сс\"))","v":0}]
[{"$f":"86400*TIMEVALUE(TEXT(Smp99_Donnees!C635,\"чч:мм:сс\"))","v":0},{"$f":"86400*TIMEVALUE(TEXT(Smp99_Donnees!O635,\"чч:мм:сс\"))","v":0}]
[{"$f":"86400*TIMEVALUE(TEXT(Smp99_Donnees!C636,\"чч:мм:сс\"))","v":0},{"$f":"86400*TIMEVALUE(TEXT(Smp99_Donnees!O636,\"чч:мм:сс\"))","v":0}]
[{"$f":"86400*TIMEVALUE(TEXT(Smp99_Donnees!C637,\"чч:мм:сс\"))","v":0},{"$f":"86400*TIMEVALUE(TEXT(Smp99_Donnees!O637,\"чч:мм:сс\"))","v":0}]
[{"$f":"86400*TIMEVALUE(TEXT(Smp99_Donnees!C638,\"чч:мм:сс\"))","v":0},{"$f":"86400*TIMEVALUE(TEXT(Smp99_Donnees!O638,\"чч:мм:сс\"))","v":0}]
[{"$f":"86400*TIMEVALUE(TEXT(Smp99_Donnees!C639,\"чч:мм:сс\"))","v":0},{"$f":"86400*TIMEVALUE(TEXT(Smp99_Donnees!O639,\"чч:мм:сс\"))","v":0}]
[{"$f":"86400*TIMEVALUE(TEXT(Smp99_Donnees!C640,\"чч:мм:сс\"))","v":0},{"$f":"86400*TIMEVALUE(TEXT(Smp99_Donnees!O640,\"чч:мм:сс\"))","v":0}]
[{"$f":"86400*TIMEVALUE(TEXT(Smp99_Donnees!C641,\"чч:мм:сс\"))","v":0},{"$f":"86400*TIMEVALUE(TEXT(Smp99_Donnees!O641,\"чч:мм:сс\"))","v":0}]
[{"$f":"86400*TIMEVALUE(TEXT(Smp99_Donnees!C642,\"чч:мм:сс\"))","v":0},{"$f":"86400*TIMEVALUE(TEXT(Smp99_Donnees!O642,\"чч:мм:сс\"))","v":0}]
[{"$f":"86400*TIMEVALUE(TEXT(Smp99_Donnees!C643,\"чч:мм:сс\"))","v":0},{"$f":"86400*TIMEVALUE(TEXT(Smp99_Donnees!O643,\"чч:мм:сс\"))","v":0}]
[{"$f":"86400*TIMEVALUE(TEXT(Smp99_Donnees!C644,\"чч:мм:сс\"))","v":0},{"$f":"86400*TIMEVALUE(TEXT(Smp99_Donnees!O644,\"чч:мм:сс\"))","v":0}]
[{"$f":"86400*TIMEVALUE(TEXT(Smp99_Donnees!C645,\"чч:мм:сс\"))","v":0},{"$f":"86400*TIMEVALUE(TEXT(Smp99_Donnees!O645,\"чч:мм:сс\"))","v":0}]
[{"$f":"86400*TIMEVALUE(TEXT(Smp99_Donnees!C646,\"чч:мм:сс\"))","v":0},{"$f":"86400*TIMEVALUE(TEXT(Smp99_Donnees!O646,\"чч:мм:сс\"))","v":0}]
[{"$f":"86400*TIMEVALUE(TEXT(Smp99_Donnees!C647,\"чч:мм:сс\"))","v":0},{"$f":"86400*TIMEVALUE(TEXT(Smp99_Donnees!O647,\"чч:мм:сс\"))","v":0}]
[{"$f":"86400*TIMEVALUE(TEXT(Smp99_Donnees!C648,\"чч:мм:сс\"))","v":0},{"$f":"86400*TIMEVALUE(TEXT(Smp99_Donnees!O648,\"чч:мм:сс\"))","v":0}]
[{"$f":"86400*TIMEVALUE(TEXT(Smp99_Donnees!C649,\"чч:мм:сс\"))","v":0},{"$f":"86400*TIMEVALUE(TEXT(Smp99_Donnees!O649,\"чч:мм:сс\"))","v":0}]
[{"$f":"86400*TIMEVALUE(TEXT(Smp99_Donnees!C650,\"чч:мм:сс\"))","v":0},{"$f":"86400*TIMEVALUE(TEXT(Smp99_Donnees!O650,\"чч:мм:сс\"))","v":0}]
[{"$f":"86400*TIMEVALUE(TEXT(Smp99_Donnees!C651,\"чч:мм:сс\"))","v":0},{"$f":"86400*TIMEVALUE(TEXT(Smp99_Donnees!O651,\"чч:мм:сс\"))","v":0}]
[{"$f":"86400*TIMEVALUE(TEXT(Smp99_Donnees!C652,\"чч:мм:сс\"))","v":0},{"$f":"86400*TIMEVALUE(TEXT(Smp99_Donnees!O652,\"чч:мм:сс\"))","v":0}]
[{"$f":"86400*TIMEVALUE(TEXT(Smp99_Donnees!C653,\"чч:мм:сс\"))","v":0},{"$f":"86400*TIMEVALUE(TEXT(Smp99_Donnees!O653,\"чч:мм:сс\"))","v":0}]
[{"$f":"86400*TIMEVALUE(TEXT(Smp99_Donnees!C654,\"чч:мм:сс\"))","v":0},{"$f":"86400*TIMEVALUE(TEXT(Smp99_Donnees!O654,\"чч:мм:сс\"))","v":0}]
[{"$f":"86400*TIMEVALUE(TEXT(Smp99_Donnees!C655,\"чч:мм:сс\"))","v":0},{"$f":"86400*TIMEVALUE(TEXT(Smp99_Donnees!O655,\"чч:мм:сс\"))","v":0}]
[{"$f":"86400*TIMEVALUE(TEXT(Smp99_Donnees!C656,\"чч:мм:сс\"))","v":0},{"$f":"86400*TIMEVALUE(TEXT(Smp99_Donnees!O656,\"чч:мм:сс\"))","v":0}]
[{"$f":"86400*TIMEVALUE(TEXT(Smp99_Donnees!C657,\"чч:мм:сс\"))","v":0},{"$f":"86400*TIMEVALUE(TEXT(Smp99_Donnees!O657,\"чч:мм:сс\"))","v":0}]
[{"$f":"86400*TIMEVALUE(TEXT(Smp99_Donnees!C658,\"чч:мм:сс\"))","v":0},{"$f":"86400*TIMEVALUE(TEXT(Smp99_Donnees!O658,\"чч:мм:сс\"))","v":0}]
[{"$f":"86400*TIMEVALUE(TEXT(Smp99_Donnees!C659,\"чч:мм:сс\"))","v":0},{"$f":"86400*TIMEVALUE(TEXT(Smp99_Donnees!O659,\"чч:мм:сс\"))","v":0}]
[{"$f":"86400*TIMEVALUE(TEXT(Smp99_Donnees!C660,\"чч:мм:сс\"))","v":0},{"$f":"86400*TIMEVALUE(TEXT(Smp99_Donnees!O660,\"чч:мм:сс\"))","v":0}]
[{"$f":"86400*TIMEVALUE(TEXT(Smp99_Donnees!C661,\"чч:мм:сс\"))","v":0},{"$f":"86400*TIMEVALUE(TEXT(Smp99_Donnees!O661,\"чч:мм:сс\"))","v":0}]
[{"$f":"86400*TIMEVALUE(TEXT(Smp99_Donnees!C662,\"чч:мм:сс\"))","v":0},{"$f":"86400*TIMEVALUE(TEXT(Smp99_Donnees!O662,\"чч:мм:сс\"))","v":0}]
[{"$f":"86400*TIMEVALUE(TEXT(Smp99_Donnees!C663,\"чч:мм:сс\"))","v":0},{"$f":"86400*TIMEVALUE(TEXT(Smp99_Donnees!O663,\"чч:мм:сс\"))","v":0}]
[{"$f":"86400*TIMEVALUE(TEXT(Smp99_Donnees!C664,\"чч:мм:сс\"))","v":0},{"$f":"86400*TIMEVALUE(TEXT(Smp99_Donnees!O664,\"чч:мм:сс\"))","v":0}]
[{"$f":"86400*TIMEVALUE(TEXT(Smp99_Donnees!C665,\"чч:мм:сс\"))","v":0},{"$f":"86400*TIMEVALUE(TEXT(Smp99_Donnees!O665,\"чч:мм:сс\"))","v":0}]
[{"$f":"86400*TIMEVALUE(TEXT(Smp99_Donnees!C666,\"чч:мм:сс\"))","v":0},{"$f":"86400*TIMEVALUE(TEXT(Smp99_Donnees!O666,\"чч:мм:сс\"))","v":0}]
[{"$f":"86400*TIMEVALUE(TEXT(Smp99_Donnees!C667,\"чч:мм:сс\"))","v":0},{"$f":"86400*TIMEVALUE(TEXT(Smp99_Donnees!O667,\"чч:мм:сс\"))","v":0}]
[{"$f":"86400*TIMEVALUE(TEXT(Smp99_Donnees!C668,\"чч:мм:сс\"))","v":0},{"$f":"86400*TIMEVALUE(TEXT(Smp99_Donnees!O668,\"чч:мм:сс\"))","v":0}]
[{"$f":"86400*TIMEVALUE(TEXT(Smp99_Donnees!C669,\"чч:мм:сс\"))","v":0},{"$f":"86400*TIMEVALUE(TEXT(Smp99_Donnees!O669,\"чч:мм:сс\"))","v":0}]
[{"$f":"86400*TIMEVALUE(TEXT(Smp99_Donnees!C670,\"чч:мм:сс\"))","v":0},{"$f":"86400*TIMEVALUE(TEXT(Smp99_Donnees!O670,\"чч:мм:сс\"))","v":0}]
[{"$f":"86400*TIMEVALUE(TEXT(Smp99_Donnees!C671,\"чч:мм:сс\"))","v":0},{"$f":"86400*TIMEVALUE(TEXT(Smp99_Donnees!O671,\"чч:мм:сс\"))","v":0}]
[{"$f":"86400*TIMEVALUE(TEXT(Smp99_Donnees!C672,\"чч:мм:сс\"))","v":0},{"$f":"86400*TIMEVALUE(TEXT(Smp99_Donnees!O672,\"чч:мм:сс\"))","v":0}]
[{"$f":"86400*TIMEVALUE(TEXT(Smp99_Donnees!C673,\"чч:мм:сс\"))","v":0},{"$f":"86400*TIMEVALUE(TEXT(Smp99_Donnees!O673,\"чч:мм:сс\"))","v":0}]
[{"$f":"86400*TIMEVALUE(TEXT(Smp99_Donnees!C674,\"чч:мм:сс\"))","v":0},{"$f":"86400*TIMEVALUE(TEXT(Smp99_Donnees!O674,\"чч:мм:сс\"))","v":0}]
[{"$f":"86400*TIMEVALUE(TEXT(Smp99_Donnees!C675,\"чч:мм:сс\"))","v":0},{"$f":"86400*TIMEVALUE(TEXT(Smp99_Donnees!O675,\"чч:мм:сс\"))","v":0}]
[{"$f":"86400*TIMEVALUE(TEXT(Smp99_Donnees!C676,\"чч:мм:сс\"))","v":0},{"$f":"86400*TIMEVALUE(TEXT(Smp99_Donnees!O676,\"чч:мм:сс\"))","v":0}]
[{"$f":"86400*TIMEVALUE(TEXT(Smp99_Donnees!C677,\"чч:мм:сс\"))","v":0},{"$f":"86400*TIMEVALUE(TEXT(Smp99_Donnees!O677,\"чч:мм:сс\"))","v":0}]
[{"$f":"86400*TIMEVALUE(TEXT(Smp99_Donnees!C678,\"чч:мм:сс\"))","v":0},{"$f":"86400*TIMEVALUE(TEXT(Smp99_Donnees!O678,\"чч:мм:сс\"))","v":0}]
[{"$f":"86400*TIMEVALUE(TEXT(Smp99_Donnees!C679,\"чч:мм:сс\"))","v":0},{"$f":"86400*TIMEVALUE(TEXT(Smp99_Donnees!O679,\"чч:мм:сс\"))","v":0}]
[{"$f":"86400*TIMEVALUE(TEXT(Smp99_Donnees!C680,\"чч:мм:сс\"))","v":0},{"$f":"86400*TIMEVALUE(TEXT(Smp99_Donnees!O680,\"чч:мм:сс\"))","v":0}]
[{"$f":"86400*TIMEVALUE(TEXT(Smp99_Donnees!C681,\"чч:мм:сс\"))","v":0},{"$f":"86400*TIMEVALUE(TEXT(Smp99_Donnees!O681,\"чч:мм:сс\"))","v":0}]
[{"$f":"86400*TIMEVALUE(TEXT(Smp99_Donnees!C682,\"чч:мм:сс\"))","v":0},{"$f":"86400*TIMEVALUE(TEXT(Smp99_Donnees!O682,\"чч:мм:сс\"))","v":0}]
[{"$f":"86400*TIMEVALUE(TEXT(Smp99_Donnees!C683,\"чч:мм:сс\"))","v":0},{"$f":"86400*TIMEVALUE(TEXT(Smp99_Donnees!O683,\"чч:мм:сс\"))","v":0}]
[{"$f":"86400*TIMEVALUE(TEXT(Smp99_Donnees!C684,\"чч:мм:сс\"))","v":0},{"$f":"86400*TIMEVALUE(TEXT(Smp99_Donnees!O684,\"чч:мм:сс\"))","v":0}]
[{"$f":"86400*TIMEVALUE(TEXT(Smp99_Donnees!C685,\"чч:мм:сс\"))","v":0},{"$f":"86400*TIMEVALUE(TEXT(Smp99_Donnees!O685,\"чч:мм:сс\"))","v":0}]
[{"$f":"86400*TIMEVALUE(TEXT(Smp99_Donnees!C686,\"чч:мм:сс\"))","v":0},{"$f":"86400*TIMEVALUE(TEXT(Smp99_Donnees!O686,\"чч:мм:сс\"))","v":0}]
[{"$f":"86400*TIMEVALUE(TEXT(Smp99_Donnees!C687,\"чч:мм:сс\"))","v":0},{"$f":"86400*TIMEVALUE(TEXT(Smp99_Donnees!O687,\"чч:мм:сс\"))","v":0}]
[{"$f":"86400*TIMEVALUE(TEXT(Smp99_Donnees!C688,\"чч:мм:сс\"))","v":0},{"$f":"86400*TIMEVALUE(TEXT(Smp99_Donnees!O688,\"чч:мм:сс\"))","v":0}]
[{"$f":"86400*TIMEVALUE(TEXT(Smp99_Donnees!C689,\"чч:мм:сс\"))","v":0},{"$f":"86400*TIMEVALUE(TEXT(Smp99_Donnees!O689,\"чч:мм:сс\"))","v":0}]
[{"$f":"86400*TIMEVALUE(TEXT(Smp99_Donnees!C690,\"чч:мм:сс\"))","v":0},{"$f":"86400*TIMEVALUE(TEXT(Smp99_Donnees!O690,\"чч:мм:сс\"))","v":0}]
[{"$f":"86400*TIMEVALUE(TEXT(Smp99_Donnees!C691,\"чч:мм:сс\"))","v":0},{"$f":"86400*TIMEVALUE(TEXT(Smp99_Donnees!O691,\"чч:мм:сс\"))","v":0}]
[{"$f":"86400*TIMEVALUE(TEXT(Smp99_Donnees!C692,\"чч:мм:сс\"))","v":0},{"$f":"86400*TIMEVALUE(TEXT(Smp99_Donnees!O692,\"чч:мм:сс\"))","v":0}]
[{"$f":"86400*TIMEVALUE(TEXT(Smp99_Donnees!C693,\"чч:мм:сс\"))","v":0},{"$f":"86400*TIMEVALUE(TEXT(Smp99_Donnees!O693,\"чч:мм:сс\"))","v":0}]
[{"$f":"86400*TIMEVALUE(TEXT(Smp99_Donnees!C694,\"чч:мм:сс\"))","v":0},{"$f":"86400*TIMEVALUE(TEXT(Smp99_Donnees!O694,\"чч:мм:сс\"))","v":0}]
[{"$f":"86400*TIMEVALUE(TEXT(Smp99_Donnees!C695,\"чч:мм:сс\"))","v":0},{"$f":"86400*TIMEVALUE(TEXT(Smp99_Donnees!O695,\"чч:мм:сс\"))","v":0}]
[{"$f":"86400*TIMEVALUE(TEXT(Smp99_Donnees!C696,\"чч:мм:сс\"))","v":0},{"$f":"86400*TIMEVALUE(TEXT(Smp99_Donnees!O696,\"чч:мм:сс\"))","v":0}]
[{"$f":"86400*TIMEVALUE(TEXT(Smp99_Donnees!C697,\"чч:мм:сс\"))","v":0},{"$f":"86400*TIMEVALUE(TEXT(Smp99_Donnees!O697,\"чч:мм:сс\"))","v":0}]
[{"$f":"86400*TIMEVALUE(TEXT(Smp99_Donnees!C698,\"чч:мм:сс\"))","v":0},{"$f":"86400*TIMEVALUE(TEXT(Smp99_Donnees!O698,\"чч:мм:сс\"))","v":0}]
[{"$f":"86400*TIMEVALUE(TEXT(Smp99_Donnees!C699,\"чч:мм:сс\"))","v":0},{"$f":"86400*TIMEVALUE(TEXT(Smp99_Donnees!O699,\"чч:мм:сс\"))","v":0}]
[{"$f":"86400*TIMEVALUE(TEXT(Smp99_Donnees!C700,\"чч:мм:сс\"))","v":0},{"$f":"86400*TIMEVALUE(TEXT(Smp99_Donnees!O700,\"чч:мм:сс\"))","v":0}]
[{"$f":"86400*TIMEVALUE(TEXT(Smp99_Donnees!C701,\"чч:мм:сс\"))","v":0},{"$f":"86400*TIMEVALUE(TEXT(Smp99_Donnees!O701,\"чч:мм:сс\"))","v":0}]
[{"$f":"86400*TIMEVALUE(TEXT(Smp99_Donnees!C702,\"чч:мм:сс\"))","v":0},{"$f":"86400*TIMEVALUE(TEXT(Smp99_Donnees!O702,\"чч:мм:сс\"))","v":0}]
[{"$f":"86400*TIMEVALUE(TEXT(Smp99_Donnees!C703,\"чч:мм:сс\"))","v":0},{"$f":"86400*TIMEVALUE(TEXT(Smp99_Donnees!O703,\"чч:мм:сс\"))","v":0}]
[{"$f":"86400*TIMEVALUE(TEXT(Smp99_Donnees!C704,\"чч:мм:сс\"))","v":0},{"$f":"86400*TIMEVALUE(TEXT(Smp99_Donnees!O704,\"чч:мм:сс\"))","v":0}]
[{"$f":"86400*TIMEVALUE(TEXT(Smp99_Donnees!C705,\"чч:мм:сс\"))","v":0},{"$f":"86400*TIMEVALUE(TEXT(Smp99_Donnees!O705,\"чч:мм:сс\"))","v":0}]
[{"$f":"86400*TIMEVALUE(TEXT(Smp99_Donnees!C706,\"чч:мм:сс\"))","v":0},{"$f":"86400*TIMEVALUE(TEXT(Smp99_Donnees!O706,\"чч:мм:сс\"))","v":0}]
[{"$f":"86400*TIMEVALUE(TEXT(Smp99_Donnees!C707,\"чч:мм:сс\"))","v":0},{"$f":"86400*TIMEVALUE(TEXT(Smp99_Donnees!O707,\"чч:мм:сс\"))","v":0}]
[{"$f":"86400*TIMEVALUE(TEXT(Smp99_Donnees!C708,\"чч:мм:сс\"))","v":0},{"$f":"86400*TIMEVALUE(TEXT(Smp99_Donnees!O708,\"чч:мм:сс\"))","v":0}]
[{"$f":"86400*TIMEVALUE(TEXT(Smp99_Donnees!C709,\"чч:мм:сс\"))","v":0},{"$f":"86400*TIMEVALUE(TEXT(Smp99_Donnees!O709,\"чч:мм:сс\"))","v":0}]
[{"$f":"86400*TIMEVALUE(TEXT(Smp99_Donnees!C710,\"чч:мм:сс\"))","v":0},{"$f":"86400*TIMEVALUE(TEXT(Smp99_Donnees!O710,\"чч:мм:сс\"))","v":0}]
[{"$f":"86400*TIMEVALUE(TEXT(Smp99_Donnees!C711,\"чч:мм:сс\"))","v":0},{"$f":"86400*TIMEVALUE(TEXT(Smp99_Donnees!O711,\"чч:мм:сс\"))","v":0}]
[{"$f":"86400*TIMEVALUE(TEXT(Smp99_Donnees!C712,\"чч:мм:сс\"))","v":0},{"$f":"86400*TIMEVALUE(TEXT(Smp99_Donnees!O712,\"чч:мм:сс\"))","v":0}]
[{"$f":"86400*TIMEVALUE(TEXT(Smp99_Donnees!C713,\"чч:мм:сс\"))","v":0},{"$f":"86400*TIMEVALUE(TEXT(Smp99_Donnees!O713,\"чч:мм:сс\"))","v":0}]
[{"$f":"86400*TIMEVALUE(TEXT(Smp99_Donnees!C714,\"чч:мм:сс\"))","v":0},{"$f":"86400*TIMEVALUE(TEXT(Smp99_Donnees!O714,\"чч:мм:сс\"))","v":0}]
[{"$f":"86400*TIMEVALUE(TEXT(Smp99_Donnees!C715,\"чч:мм:сс\"))","v":0},{"$f":"86400*TIMEVALUE(TEXT(Smp99_Donnees!O715,\"чч:мм:сс\"))","v":0}]
[{"$f":"86400*TIMEVALUE(TEXT(Smp99_Donnees!C716,\"чч:мм:сс\"))","v":0},{"$f":"86400*TIMEVALUE(TEXT(Smp99_Donnees!O716,\"чч:мм:сс\"))","v":0}]
[{"$f":"86400*TIMEVALUE(TEXT(Smp99_Donnees!C717,\"чч:мм:сс\"))","v":0},{"$f":"86400*TIMEVALUE(TEXT(Smp99_Donnees!O717,\"чч:мм:сс\"))","v":0}]
[{"$f":"86400*TIMEVALUE(TEXT(Smp99_Donnees!C718,\"чч:мм:сс\"))","v":0},{"$f":"86400*TIMEVALUE(TEXT(Smp99_Donnees!O718,\"чч:мм:сс\"))","v":0}]
[{"$f":"86400*TIMEVALUE(TEXT(Smp99_Donnees!C719,\"чч:мм:сс\"))","v":0},{"$f":"86400*TIMEVALUE(TEXT(Smp99_Donnees!O719,\"чч:мм:сс\"))","v":0}]
[{"$f":"86400*TIMEVALUE(TEXT(Smp99_Donnees!C720,\"чч:мм:сс\"))","v":0},{"$f":"86400*TIMEVALUE(TEXT(Smp99_Donnees!O720,\"чч:мм:сс\"))","v":0}]
[{"$f":"86400*TIMEVALUE(TEXT(Smp99_Donnees!C721,\"чч:мм:сс\"))","v":0},{"$f":"86400*TIMEVALUE(TEXT(Smp99_Donnees!O721,\"чч:мм:сс\"))","v":0}]
[{"$f":"86400*TIMEVALUE(TEXT(Smp99_Donnees!C722,\"чч:мм:сс\"))","v":0},{"$f":"86400*TIMEVALUE(TEXT(Smp99_Donnees!O722,\"чч:мм:сс\"))","v":0}]
[{"$f":"86400*TIMEVALUE(TEXT(Smp99_Donnees!C723,\"чч:мм:сс\"))","v":0},{"$f":"86400*TIMEVALUE(TEXT(Smp99_Donnees!O723,\"чч:мм:сс\"))","v":0}]
[{"$f":"86400*TIMEVALUE(TEXT(Smp99_Donnees!C724,\"чч:мм:сс\"))","v":0},{"$f":"86400*TIMEVALUE(TEXT(Smp99_Donnees!O724,\"чч:мм:сс\"))","v":0}]
[{"$f":"86400*TIMEVALUE(TEXT(Smp99_Donnees!C725,\"чч:мм:сс\"))","v":0},{"$f":"86400*TIMEVALUE(TEXT(Smp99_Donnees!O725,\"чч:мм:сс\"))","v":0}]
[{"$f":"86400*TIMEVALUE(TEXT(Smp99_Donnees!C726,\"чч:мм:сс\"))","v":0},{"$f":"86400*TIMEVALUE(TEXT(Smp99_Donnees!O726,\"чч:мм:сс\"))","v":0}]
[{"$f":"86400*TIMEVALUE(TEXT(Smp99_Donnees!C727,\"чч:мм:сс\"))","v":0},{"$f":"86400*TIMEVALUE(TEXT(Smp99_Donnees!O727,\"чч:мм:сс\"))","v":0}]
[{"$f":"86400*TIMEVALUE(TEXT(Smp99_Donnees!C728,\"чч:мм:сс\"))","v":0},{"$f":"86400*TIMEVALUE(TEXT(Smp99_Donnees!O728,\"чч:мм:сс\"))","v":0}]
[{"$f":"86400*TIMEVALUE(TEXT(Smp99_Donnees!C729,\"чч:мм:сс\"))","v":0},{"$f":"86400*TIMEVALUE(TEXT(Smp99_Donnees!O729,\"чч:мм:сс\"))","v":0}]
[{"$f":"86400*TIMEVALUE(TEXT(Smp99_Donnees!C730,\"чч:мм:сс\"))","v":0},{"$f":"86400*TIMEVALUE(TEXT(Smp99_Donnees!O730,\"чч:мм:сс\"))","v":0}]
[{"$f":"86400*TIMEVALUE(TEXT(Smp99_Donnees!C731,\"чч:мм:сс\"))","v":0},{"$f":"86400*TIMEVALUE(TEXT(Smp99_Donnees!O731,\"чч:мм:сс\"))","v":0}]
[{"$f":"86400*TIMEVALUE(TEXT(Smp99_Donnees!C732,\"чч:мм:сс\"))","v":0},{"$f":"86400*TIMEVALUE(TEXT(Smp99_Donnees!O732,\"чч:мм:сс\"))","v":0}]
[{"$f":"86400*TIMEVALUE(TEXT(Smp99_Donnees!C733,\"чч:мм:сс\"))","v":0},{"$f":"86400*TIMEVALUE(TEXT(Smp99_Donnees!O733,\"чч:мм:сс\"))","v":0}]
[{"$f":"86400*TIMEVALUE(TEXT(Smp99_Donnees!C734,\"чч:мм:сс\"))","v":0},{"$f":"86400*TIMEVALUE(TEXT(Smp99_Donnees!O734,\"чч:мм:сс\"))","v":0}]
[{"$f":"86400*TIMEVALUE(TEXT(Smp99_Donnees!C735,\"чч:мм:сс\"))","v":0},{"$f":"86400*TIMEVALUE(TEXT(Smp99_Donnees!O735,\"чч:мм:сс\"))","v":0}]
[{"$f":"86400*TIMEVALUE(TEXT(Smp99_Donnees!C736,\"чч:мм:сс\"))","v":0},{"$f":"86400*TIMEVALUE(TEXT(Smp99_Donnees!O736,\"чч:мм:сс\"))","v":0}]
[{"$f":"86400*TIMEVALUE(TEXT(Smp99_Donnees!C737,\"чч:мм:сс\"))","v":0},{"$f":"86400*TIMEVALUE(TEXT(Smp99_Donnees!O737,\"чч:мм:сс\"))","v":0}]
[{"$f":"86400*TIMEVALUE(TEXT(Smp99_Donnees!C738,\"чч:мм:сс\"))","v":0},{"$f":"86400*TIMEVALUE(TEXT(Smp99_Donnees!O738,\"чч:мм:сс\"))","v":0}]
[{"$f":"86400*TIMEVALUE(TEXT(Smp99_Donnees!C739,\"чч:мм:сс\"))","v":0},{"$f":"86400*TIMEVALUE(TEXT(Smp99_Donnees!O739,\"чч:мм:сс\"))","v":0}]
[{"$f":"86400*TIMEVALUE(TEXT(Smp99_Donnees!C740,\"чч:мм:сс\"))","v":0},{"$f":"86400*TIMEVALUE(TEXT(Smp99_Donnees!O740,\"чч:мм:сс\"))","v":0}]
[{"$f":"86400*TIMEVALUE(TEXT(Smp99_Donnees!C741,\"чч:мм:сс\"))","v":0},{"$f":"86400*TIMEVALUE(TEXT(Smp99_Donnees!O741,\"чч:мм:сс\"))","v":0}]
[{"$f":"86400*TIMEVALUE(TEXT(Smp99_Donnees!C742,\"чч:мм:сс\"))","v":0},{"$f":"86400*TIMEVALUE(TEXT(Smp99_Donnees!O742,\"чч:мм:сс\"))","v":0}]
[{"$f":"86400*TIMEVALUE(TEXT(Smp99_Donnees!C743,\"чч:мм:сс\"))","v":0},{"$f":"86400*TIMEVALUE(TEXT(Smp99_Donnees!O743,\"чч:мм:сс\"))","v":0}]
[{"$f":"86400*TIMEVALUE(TEXT(Smp99_Donnees!C744,\"чч:мм:сс\"))","v":0},{"$f":"86400*TIMEVALUE(TEXT(Smp99_Donnees!O744,\"чч:мм:сс\"))","v":0}]
[{"$f":"86400*TIMEVALUE(TEXT(Smp99_Donnees!C745,\"чч:мм:сс\"))","v":0},{"$f":"86400*TIMEVALUE(TEXT(Smp99_Donnees!O745,\"чч:мм:сс\"))","v":0}]
[{"$f":"86400*TIMEVALUE(TEXT(Smp99_Donnees!C746,\"чч:мм:сс\"))","v":0},{"$f":"86400*TIMEVALUE(TEXT(Smp99_Donnees!O746,\"чч:мм:сс\"))","v":0}]
[{"$f":"86400*TIMEVALUE(TEXT(Smp99_Donnees!C747,\"чч:мм:сс\"))","v":0},{"$f":"86400*TIMEVALUE(TEXT(Smp99_Donnees!O747,\"чч:мм:сс\"))","v":0}]
[{"$f":"86400*TIMEVALUE(TEXT(Smp99_Donnees!C748,\"чч:мм:сс\"))","v":0},{"$f":"86400*TIMEVALUE(TEXT(Smp99_Donnees!O748,\"чч:мм:сс\"))","v":0}]
[{"$f":"86400*TIMEVALUE(TEXT(Smp99_Donnees!C749,\"чч:мм:сс\"))","v":0},{"$f":"86400*TIMEVALUE(TEXT(Smp99_Donnees!O749,\"чч:мм:сс\"))","v":0}]
[{"$f":"86400*TIMEVALUE(TEXT(Smp99_Donnees!C750,\"чч:мм:сс\"))","v":0},{"$f":"86400*TIMEVALUE(TEXT(Smp99_Donnees!O750,\"чч:мм:сс\"))","v":0}]
[{"$f":"86400*TIMEVALUE(TEXT(Smp99_Donnees!C751,\"чч:мм:сс\"))","v":0},{"$f":"86400*TIMEVALUE(TEXT(Smp99_Donnees!O751,\"чч:мм:сс\"))","v":0}]
[{"$f":"86400*TIMEVALUE(TEXT(Smp99_Donnees!C752,\"чч:мм:сс\"))","v":0},{"$f":"86400*TIMEVALUE(TEXT(Smp99_Donnees!O752,\"чч:мм:сс\"))","v":0}]
[{"$f":"86400*TIMEVALUE(TEXT(Smp99_Donnees!C753,\"чч:мм:сс\"))","v":0},{"$f":"86400*TIMEVALUE(TEXT(Smp99_Donnees!O753,\"чч:мм:сс\"))","v":0}]
[{"$f":"86400*TIMEVALUE(TEXT(Smp99_Donnees!C754,\"чч:мм:сс\"))","v":0},{"$f":"86400*TIMEVALUE(TEXT(Smp99_Donnees!O754,\"чч:мм:сс\"))","v":0}]
[{"$f":"86400*TIMEVALUE(TEXT(Smp99_Donnees!C755,\"чч:мм:сс\"))","v":0},{"$f":"86400*TIMEVALUE(TEXT(Smp99_Donnees!O755,\"чч:мм:сс\"))","v":0}]
[{"$f":"86400*TIMEVALUE(TEXT(Smp99_Donnees!C756,\"чч:мм:сс\"))","v":0},{"$f":"86400*TIMEVALUE(TEXT(Smp99_Donnees!O756,\"чч:мм:сс\"))","v":0}]
[{"$f":"86400*TIMEVALUE(TEXT(Smp99_Donnees!C757,\"чч:мм:сс\"))","v":0},{"$f":"86400*TIMEVALUE(TEXT(Smp99_Donnees!O757,\"чч:мм:сс\"))","v":0}]
[{"$f":"86400*TIMEVALUE(TEXT(Smp99_Donnees!C758,\"чч:мм:сс\"))","v":0},{"$f":"86400*TIMEVALUE(TEXT(Smp99_Donnees!O758,\"чч:мм:сс\"))","v":0}]
[{"$f":"86400*TIMEVALUE(TEXT(Smp99_Donnees!C759,\"чч:мм:сс\"))","v":0},{"$f":"86400*TIMEVALUE(TEXT(Smp99_Donnees!O759,\"чч:мм:сс\"))","v":0}]
[{"$f":"86400*TIMEVALUE(TEXT(Smp99_Donnees!C760,\"чч:мм:сс\"))","v":0},{"$f":"86400*TIMEVALUE(TEXT(Smp99_Donnees!O760,\"чч:мм:сс\"))","v":0}]
[{"$f":"86400*TIMEVALUE(TEXT(Smp99_Donnees!C761,\"чч:мм:сс\"))","v":0},{"$f":"86400*TIMEVALUE(TEXT(Smp99_Donnees!O761,\"чч:мм:сс\"))","v":0}]
[{"$f":"86400*TIMEVALUE(TEXT(Smp99_Donnees!C762,\"чч:мм:сс\"))","v":0},{"$f":"86400*TIMEVALUE(TEXT(Smp99_Donnees!O762,\"чч:мм:сс\"))","v":0}]
[{"$f":"86400*TIMEVALUE(TEXT(Smp99_Donnees!C763,\"чч:мм:сс\"))","v":0},{"$f":"86400*TIMEVALUE(TEXT(Smp99_Donnees!O763,\"чч:мм:сс\"))","v":0}]
[{"$f":"86400*TIMEVALUE(TEXT(Smp99_Donnees!C764,\"чч:мм:сс\"))","v":0},{"$f":"86400*TIMEVALUE(TEXT(Smp99_Donnees!O764,\"чч:мм:сс\"))","v":0}]
[{"$f":"86400*TIMEVALUE(TEXT(Smp99_Donnees!C765,\"чч:мм:сс\"))","v":0},{"$f":"86400*TIMEVALUE(TEXT(Smp99_Donnees!O765,\"чч:мм:сс\"))","v":0}]
[{"$f":"86400*TIMEVALUE(TEXT(Smp99_Donnees!C766,\"чч:мм:сс\"))","v":0},{"$f":"86400*TIMEVALUE(TEXT(Smp99_Donnees!O766,\"чч:мм:сс\"))","v":0}]
[{"$f":"86400*TIMEVALUE(TEXT(Smp99_Donnees!C767,\"чч:мм:сс\"))","v":0},{"$f":"86400*TIMEVALUE(TEXT(Smp99_Donnees!O767,\"чч:мм:сс\"))","v":0}]
[{"$f":"86400*TIMEVALUE(TEXT(Smp99_Donnees!C768,\"чч:мм:сс\"))","v":0},{"$f":"86400*TIMEVALUE(TEXT(Smp99_Donnees!O768,\"чч:мм:сс\"))","v":0}]
[{"$f":"86400*TIMEVALUE(TEXT(Smp99_Donnees!C769,\"чч:мм:сс\"))","v":0},{"$f":"86400*TIMEVALUE(TEXT(Smp99_Donnees!O769,\"чч:мм:сс\"))","v":0}]
[{"$f":"86400*TIMEVALUE(TEXT(Smp99_Donnees!C770,\"чч:мм:сс\"))","v":0},{"$f":"86400*TIMEVALUE(TEXT(Smp99_Donnees!O770,\"чч:мм:сс\"))","v":0}]
[{"$f":"86400*TIMEVALUE(TEXT(Smp99_Donnees!C771,\"чч:мм:сс\"))","v":0},{"$f":"86400*TIMEVALUE(TEXT(Smp99_Donnees!O771,\"чч:мм:сс\"))","v":0}]
[{"$f":"86400*TIMEVALUE(TEXT(Smp99_Donnees!C772,\"чч:мм:сс\"))","v":0},{"$f":"86400*TIMEVALUE(TEXT(Smp99_Donnees!O772,\"чч:мм:сс\"))","v":0}]
[{"$f":"86400*TIMEVALUE(TEXT(Smp99_Donnees!C773,\"чч:мм:сс\"))","v":0},{"$f":"86400*TIMEVALUE(TEXT(Smp99_Donnees!O773,\"чч:мм:сс\"))","v":0}]
[{"$f":"86400*TIMEVALUE(TEXT(Smp99_Donnees!C774,\"чч:мм:сс\"))","v":0},{"$f":"86400*TIMEVALUE(TEXT(Smp99_Donnees!O774,\"чч:мм:сс\"))","v":0}]
[{"$f":"86400*TIMEVALUE(TEXT(Smp99_Donnees!C775,\"чч:мм:сс\"))","v":0},{"$f":"86400*TIMEVALUE(TEXT(Smp99_Donnees!O775,\"чч:мм:сс\"))","v":0}]
[{"$f":"86400*TIMEVALUE(TEXT(Smp99_Donnees!C776,\"чч:мм:сс\"))","v":0},{"$f":"86400*TIMEVALUE(TEXT(Smp99_Donnees!O776,\"чч:мм:сс\"))","v":0}]
[{"$f":"86400*TIMEVALUE(TEXT(Smp99_Donnees!C777,\"чч:мм:сс\"))","v":0},{"$f":"86400*TIMEVALUE(TEXT(Smp99_Donnees!O777,\"чч:мм:сс\"))","v":0}]
[{"$f":"86400*TIMEVALUE(TEXT(Smp99_Donnees!C778,\"чч:мм:сс\"))","v":0},{"$f":"86400*TIMEVALUE(TEXT(Smp99_Donnees!O778,\"чч:мм:сс\"))","v":0}]
[{"$f":"86400*TIMEVALUE(TEXT(Smp99_Donnees!C779,\"чч:мм:сс\"))","v":0},{"$f":"86400*TIMEVALUE(TEXT(Smp99_Donnees!O779,\"чч:мм:сс\"))","v":0}]
[{"$f":"86400*TIMEVALUE(TEXT(Smp99_Donnees!C780,\"чч:мм:сс\"))","v":0},{"$f":"86400*TIMEVALUE(TEXT(Smp99_Donnees!O780,\"чч:мм:сс\"))","v":0}]
[{"$f":"86400*TIMEVALUE(TEXT(Smp99_Donnees!C781,\"чч:мм:сс\"))","v":0},{"$f":"86400*TIMEVALUE(TEXT(Smp99_Donnees!O781,\"чч:мм:сс\"))","v":0}]
[{"$f":"86400*TIMEVALUE(TEXT(Smp99_Donnees!C782,\"чч:мм:сс\"))","v":0},{"$f":"86400*TIMEVALUE(TEXT(Smp99_Donnees!O782,\"чч:мм:сс\"))","v":0}]
[{"$f":"86400*TIMEVALUE(TEXT(Smp99_Donnees!C783,\"чч:мм:сс\"))","v":0},{"$f":"86400*TIMEVALUE(TEXT(Smp99_Donnees!O783,\"чч:мм:сс\"))","v":0}]
[{"$f":"86400*TIMEVALUE(TEXT(Smp99_Donnees!C784,\"чч:мм:сс\"))","v":0},{"$f":"86400*TIMEVALUE(TEXT(Smp99_Donnees!O784,\"чч:мм:сс\"))","v":0}]
[{"$f":"86400*TIMEVALUE(TEXT(Smp99_Donnees!C785,\"чч:мм:сс\"))","v":0},{"$f":"86400*TIMEVALUE(TEXT(Smp99_Donnees!O785,\"чч:мм:сс\"))","v":0}]
[{"$f":"86400*TIMEVALUE(TEXT(Smp99_Donnees!C786,\"чч:мм:сс\"))","v":0},{"$f":"86400*TIMEVALUE(TEXT(Smp99_Donnees!O786,\"чч:мм:сс\"))","v":0}]
[{"$f":"86400*TIMEVALUE(TEXT(Smp99_Donnees!C787,\"чч:мм:сс\"))","v":0},{"$f":"86400*TIMEVALUE(TEXT(Smp99_Donnees!O787,\"чч:мм:сс\"))","v":0}]
[{"$f":"86400*TIMEVALUE(TEXT(Smp99_Donnees!C788,\"чч:мм:сс\"))","v":0},{"$f":"86400*TIMEVALUE(TEXT(Smp99_Donnees!O788,\"чч:мм:сс\"))","v":0}]
[{"$f":"86400*TIMEVALUE(TEXT(Smp99_Donnees!C789,\"чч:мм:сс\"))","v":0},{"$f":"86400*TIMEVALUE(TEXT(Smp99_Donnees!O789,\"чч:мм:сс\"))","v":0}]
[{"$f":"86400*TIMEVALUE(TEXT(Smp99_Donnees!C790,\"чч:мм:сс\"))","v":0},{"$f":"86400*TIMEVALUE(TEXT(Smp99_Donnees!O790,\"чч:мм:сс\"))","v":0}]
[{"$f":"86400*TIMEVALUE(TEXT(Smp99_Donnees!C791,\"чч:мм:сс\"))","v":0},{"$f":"86400*TIMEVALUE(TEXT(Smp99_Donnees!O791,\"чч:мм:сс\"))","v":0}]
[{"$f":"86400*TIMEVALUE(TEXT(Smp99_Donnees!C792,\"чч:мм:сс\"))","v":0},{"$f":"86400*TIMEVALUE(TEXT(Smp99_Donnees!O792,\"чч:мм:сс\"))","v":0}]
[{"$f":"86400*TIMEVALUE(TEXT(Smp99_Donnees!C793,\"чч:мм:сс\"))","v":0},{"$f":"86400*TIMEVALUE(TEXT(Smp99_Donnees!O793,\"чч:мм:сс\"))","v":0}]
[{"$f":"86400*TIMEVALUE(TEXT(Smp99_Donnees!C794,\"чч:мм:сс\"))","v":0},{"$f":"86400*TIMEVALUE(TEXT(Smp99_Donnees!O794,\"чч:мм:сс\"))","v":0}]
[{"$f":"86400*TIMEVALUE(TEXT(Smp99_Donnees!C795,\"чч:мм:сс\"))","v":0},{"$f":"86400*TIMEVALUE(TEXT(Smp99_Donnees!O795,\"чч:мм:сс\"))","v":0}]
[{"$f":"86400*TIMEVALUE(TEXT(Smp99_Donnees!C796,\"чч:мм:сс\"))","v":0},{"$f":"86400*TIMEVALUE(TEXT(Smp99_Donnees!O796,\"чч:мм:сс\"))","v":0}]
[{"$f":"86400*TIMEVALUE(TEXT(Smp99_Donnees!C797,\"чч:мм:сс\"))","v":0},{"$f":"86400*TIMEVALUE(TEXT(Smp99_Donnees!O797,\"чч:мм:сс\"))","v":0}]
[{"$f":"86400*TIMEVALUE(TEXT(Smp99_Donnees!C798,\"чч:мм:сс\"))","v":0},{"$f":"86400*TIMEVALUE(TEXT(Smp99_Donnees!O798,\"чч:мм:сс\"))","v":0}]
[{"$f":"86400*TIMEVALUE(TEXT(Smp99_Donnees!C799,\"чч:мм:сс\"))","v":0},{"$f":"86400*TIMEVALUE(TEXT(Smp99_Donnees!O799,\"чч:мм:сс\"))","v":0}]
[{"$f":"86400*TIMEVALUE(TEXT(Smp99_Donnees!C800,\"чч:мм:сс\"))","v":0},{"$f":"86400*TIMEVALUE(TEXT(Smp99_Donnees!O800,\"чч:мм:сс\"))","v":0}]
[{"$f":"86400*TIMEVALUE(TEXT(Smp99_Donnees!C801,\"чч:мм:сс\"))","v":0},{"$f":"86400*TIMEVALUE(TEXT(Smp99_Donnees!O801,\"чч:мм:сс\"))","v":0}]
[{"$f":"86400*TIMEVALUE(TEXT(Smp99_Donnees!C802,\"чч:мм:сс\"))","v":0},{"$f":"86400*TIMEVALUE(TEXT(Smp99_Donnees!O802,\"чч:мм:сс\"))","v":0}]
[{"$f":"86400*TIMEVALUE(TEXT(Smp99_Donnees!C803,\"чч:мм:сс\"))","v":0},{"$f":"86400*TIMEVALUE(TEXT(Smp99_Donnees!O803,\"чч:мм:сс\"))","v":0}]
[{"$f":"86400*TIMEVALUE(TEXT(Smp99_Donnees!C804,\"чч:мм:сс\"))","v":0},{"$f":"86400*TIMEVALUE(TEXT(Smp99_Donnees!O804,\"чч:мм:сс\"))","v":0}]
[{"$f":"86400*TIMEVALUE(TEXT(Smp99_Donnees!C805,\"чч:мм:сс\"))","v":0},{"$f":"86400*TIMEVALUE(TEXT(Smp99_Donnees!O805,\"чч:мм:сс\"))","v":0}]
[{"$f":"86400*TIMEVALUE(TEXT(Smp99_Donnees!C806,\"чч:мм:сс\"))","v":0},{"$f":"86400*TIMEVALUE(TEXT(Smp99_Donnees!O806,\"чч:мм:сс\"))","v":0}]
[{"$f":"86400*TIMEVALUE(TEXT(Smp99_Donnees!C807,\"чч:мм:сс\"))","v":0},{"$f":"86400*TIMEVALUE(TEXT(Smp99_Donnees!O807,\"чч:мм:сс\"))","v":0}]
[{"$f":"86400*TIMEVALUE(TEXT(Smp99_Donnees!C808,\"чч:мм:сс\"))","v":0},{"$f":"86400*TIMEVALUE(TEXT(Smp99_Donnees!O808,\"чч:мм:сс\"))","v":0}]
[{"$f":"86400*TIMEVALUE(TEXT(Smp99_Donnees!C809,\"чч:мм:сс\"))","v":0},{"$f":"86400*TIMEVALUE(TEXT(Smp99_Donnees!O809,\"чч:мм:сс\"))","v":0}]
[{"$f":"86400*TIMEVALUE(TEXT(Smp99_Donnees!C810,\"чч:мм:сс\"))","v":0},{"$f":"86400*TIMEVALUE(TEXT(Smp99_Donnees!O810,\"чч:мм:сс\"))","v":0}]
[{"$f":"86400*TIMEVALUE(TEXT(Smp99_Donnees!C811,\"чч:мм:сс\"))","v":0},{"$f":"86400*TIMEVALUE(TEXT(Smp99_Donnees!O811,\"чч:мм:сс\"))","v":0}]
[{"$f":"86400*TIMEVALUE(TEXT(Smp99_Donnees!C812,\"чч:мм:сс\"))","v":0},{"$f":"86400*TIMEVALUE(TEXT(Smp99_Donnees!O812,\"чч:мм:сс\"))","v":0}]
[{"$f":"86400*TIMEVALUE(TEXT(Smp99_Donnees!C813,\"чч:мм:сс\"))","v":0},{"$f":"86400*TIMEVALUE(TEXT(Smp99_Donnees!O813,\"чч:мм:сс\"))","v":0}]
[{"$f":"86400*TIMEVALUE(TEXT(Smp99_Donnees!C814,\"чч:мм:сс\"))","v":0},{"$f":"86400*TIMEVALUE(TEXT(Smp99_Donnees!O814,\"чч:мм:сс\"))","v":0}]
[{"$f":"86400*TIMEVALUE(TEXT(Smp99_Donnees!C815,\"чч:мм:сс\"))","v":0},{"$f":"86400*TIMEVALUE(TEXT(Smp99_Donnees!O815,\"чч:мм:сс\"))","v":0}]
[{"$f":"86400*TIMEVALUE(TEXT(Smp99_Donnees!C816,\"чч:мм:сс\"))","v":0},{"$f":"86400*TIMEVALUE(TEXT(Smp99_Donnees!O816,\"чч:мм:сс\"))","v":0}]
[{"$f":"86400*TIMEVALUE(TEXT(Smp99_Donnees!C817,\"чч:мм:сс\"))","v":0},{"$f":"86400*TIMEVALUE(TEXT(Smp99_Donnees!O817,\"чч:мм:сс\"))","v":0}]
[{"$f":"86400*TIMEVALUE(TEXT(Smp99_Donnees!C818,\"чч:мм:сс\"))","v":0},{"$f":"86400*TIMEVALUE(TEXT(Smp99_Donnees!O818,\"чч:мм:сс\"))","v":0}]
[{"$f":"86400*TIMEVALUE(TEXT(Smp99_Donnees!C819,\"чч:мм:сс\"))","v":0},{"$f":"86400*TIMEVALUE(TEXT(Smp99_Donnees!O819,\"чч:мм:сс\"))","v":0}]
[{"$f":"86400*TIMEVALUE(TEXT(Smp99_Donnees!C820,\"чч:мм:сс\"))","v":0},{"$f":"86400*TIMEVALUE(TEXT(Smp99_Donnees!O820,\"чч:мм:сс\"))","v":0}]
[{"$f":"86400*TIMEVALUE(TEXT(Smp99_Donnees!C821,\"чч:мм:сс\"))","v":0},{"$f":"86400*TIMEVALUE(TEXT(Smp99_Donnees!O821,\"чч:мм:сс\"))","v":0}]
[{"$f":"86400*TIMEVALUE(TEXT(Smp99_Donnees!C822,\"чч:мм:сс\"))","v":0},{"$f":"86400*TIMEVALUE(TEXT(Smp99_Donnees!O822,\"чч:мм:сс\"))","v":0}]
[{"$f":"86400*TIMEVALUE(TEXT(Smp99_Donnees!C823,\"чч:мм:сс\"))","v":0},{"$f":"86400*TIMEVALUE(TEXT(Smp99_Donnees!O823,\"чч:мм:сс\"))","v":0}]
[{"$f":"86400*TIMEVALUE(TEXT(Smp99_Donnees!C824,\"чч:мм:сс\"))","v":0},{"$f":"86400*TIMEVALUE(TEXT(Smp99_Donnees!O824,\"чч:мм:сс\"))","v":0}]
[{"$f":"86400*TIMEVALUE(TEXT(Smp99_Donnees!C825,\"чч:мм:сс\"))","v":0},{"$f":"86400*TIMEVALUE(TEXT(Smp99_Donnees!O825,\"чч:мм:сс\"))","v":0}]
[{"$f":"86400*TIMEVALUE(TEXT(Smp99_Donnees!C826,\"чч:мм:сс\"))","v":0},{"$f":"86400*TIMEVALUE(TEXT(Smp99_Donnees!O826,\"чч:мм:сс\"))","v":0}]
[{"$f":"86400*TIMEVALUE(TEXT(Smp99_Donnees!C827,\"чч:мм:сс\"))","v":0},{"$f":"86400*TIMEVALUE(TEXT(Smp99_Donnees!O827,\"чч:мм:сс\"))","v":0}]
[{"$f":"86400*TIMEVALUE(TEXT(Smp99_Donnees!C828,\"чч:мм:сс\"))","v":0},{"$f":"86400*TIMEVALUE(TEXT(Smp99_Donnees!O828,\"чч:мм:сс\"))","v":0}]
[{"$f":"86400*TIMEVALUE(TEXT(Smp99_Donnees!C829,\"чч:мм:сс\"))","v":0},{"$f":"86400*TIMEVALUE(TEXT(Smp99_Donnees!O829,\"чч:мм:сс\"))","v":0}]
[{"$f":"86400*TIMEVALUE(TEXT(Smp99_Donnees!C830,\"чч:мм:сс\"))","v":0},{"$f":"86400*TIMEVALUE(TEXT(Smp99_Donnees!O830,\"чч:мм:сс\"))","v":0}]
[{"$f":"86400*TIMEVALUE(TEXT(Smp99_Donnees!C831,\"чч:мм:сс\"))","v":0},{"$f":"86400*TIMEVALUE(TEXT(Smp99_Donnees!O831,\"чч:мм:сс\"))","v":0}]
[{"$f":"86400*TIMEVALUE(TEXT(Smp99_Donnees!C832,\"чч:мм:сс\"))","v":0},{"$f":"86400*TIMEVALUE(TEXT(Smp99_Donnees!O832,\"чч:мм:сс\"))","v":0}]
[{"$f":"86400*TIMEVALUE(TEXT(Smp99_Donnees!C833,\"чч:мм:сс\"))","v":0},{"$f":"86400*TIMEVALUE(TEXT(Smp99_Donnees!O833,\"чч:мм:сс\"))","v":0}]
[{"$f":"86400*TIMEVALUE(TEXT(Smp99_Donnees!C834,\"чч:мм:сс\"))","v":0},{"$f":"86400*TIMEVALUE(TEXT(Smp99_Donnees!O834,\"чч:мм:сс\"))","v":0}]
[{"$f":"86400*TIMEVALUE(TEXT(Smp99_Donnees!C835,\"чч:мм:сс\"))","v":0},{"$f":"86400*TIMEVALUE(TEXT(Smp99_Donnees!O835,\"чч:мм:сс\"))","v":0}]
[{"$f":"86400*TIMEVALUE(TEXT(Smp99_Donnees!C836,\"чч:мм:сс\"))","v":0},{"$f":"86400*TIMEVALUE(TEXT(Smp99_Donnees!O836,\"чч:мм:сс\"))","v":0}]
[{"$f":"86400*TIMEVALUE(TEXT(Smp99_Donnees!C837,\"чч:мм:сс\"))","v":0},{"$f":"86400*TIMEVALUE(TEXT(Smp99_Donnees!O837,\"чч:мм:сс\"))","v":0}]
[{"$f":"86400*TIMEVALUE(TEXT(Smp99_Donnees!C838,\"чч:мм:сс\"))","v":0},{"$f":"86400*TIMEVALUE(TEXT(Smp99_Donnees!O838,\"чч:мм:сс\"))","v":0}]
[{"$f":"86400*TIMEVALUE(TEXT(Smp99_Donnees!C839,\"чч:мм:сс\"))","v":0},{"$f":"86400*TIMEVALUE(TEXT(Smp99_Donnees!O839,\"чч:мм:сс\"))","v":0}]
[{"$f":"86400*TIMEVALUE(TEXT(Smp99_Donnees!C840,\"чч:мм:сс\"))","v":0},{"$f":"86400*TIMEVALUE(TEXT(Smp99_Donnees!O840,\"чч:мм:сс\"))","v":0}]
[{"$f":"86400*TIMEVALUE(TEXT(Smp99_Donnees!C841,\"чч:мм:сс\"))","v":0},{"$f":"86400*TIMEVALUE(TEXT(Smp99_Donnees!O841,\"чч:мм:сс\"))","v":0}]
[{"$f":"86400*TIMEVALUE(TEXT(Smp99_Donnees!C842,\"чч:мм:сс\"))","v":0},{"$f":"86400*TIMEVALUE(TEXT(Smp99_Donnees!O842,\"чч:мм:сс\"))","v":0}]
[{"$f":"86400*TIMEVALUE(TEXT(Smp99_Donnees!C843,\"чч:мм:сс\"))","v":0},{"$f":"86400*TIMEVALUE(TEXT(Smp99_Donnees!O843,\"чч:мм:сс\"))","v":0}]
[{"$f":"86400*TIMEVALUE(TEXT(Smp99_Donnees!C844,\"чч:мм:сс\"))","v":0},{"$f":"86400*TIMEVALUE(TEXT(Smp99_Donnees!O844,\"чч:мм:сс\"))","v":0}]
[{"$f":"86400*TIMEVALUE(TEXT(Smp99_Donnees!C845,\"чч:мм:сс\"))","v":0},{"$f":"86400*TIMEVALUE(TEXT(Smp99_Donnees!O845,\"чч:мм:сс\"))","v":0}]
[{"$f":"86400*TIMEVALUE(TEXT(Smp99_Donnees!C846,\"чч:мм:сс\"))","v":0},{"$f":"86400*TIMEVALUE(TEXT(Smp99_Donnees!O846,\"чч:мм:сс\"))","v":0}]
[{"$f":"86400*TIMEVALUE(TEXT(Smp99_Donnees!C847,\"чч:мм:сс\"))","v":0},{"$f":"86400*TIMEVALUE(TEXT(Smp99_Donnees!O847,\"чч:мм:сс\"))","v":0}]
[{"$f":"86400*TIMEVALUE(TEXT(Smp99_Donnees!C848,\"чч:мм:сс\"))","v":0},{"$f":"86400*TIMEVALUE(TEXT(Smp99_Donnees!O848,\"чч:мм:сс\"))","v":0}]
[{"$f":"86400*TIMEVALUE(TEXT(Smp99_Donnees!C849,\"чч:мм:сс\"))","v":0},{"$f":"86400*TIMEVALUE(TEXT(Smp99_Donnees!O849,\"чч:мм:сс\"))","v":0}]
[{"$f":"86400*TIMEVALUE(TEXT(Smp99_Donnees!C850,\"чч:мм:сс\"))","v":0},{"$f":"86400*TIMEVALUE(TEXT(Smp99_Donnees!O850,\"чч:мм:сс\"))","v":0}]
[{"$f":"86400*TIMEVALUE(TEXT(Smp99_Donnees!C851,\"чч:мм:сс\"))","v":0},{"$f":"86400*TIMEVALUE(TEXT(Smp99_Donnees!O851,\"чч:мм:сс\"))","v":0}]
[{"$f":"86400*TIMEVALUE(TEXT(Smp99_Donnees!C852,\"чч:мм:сс\"))","v":0},{"$f":"86400*TIMEVALUE(TEXT(Smp99_Donnees!O852,\"чч:мм:сс\"))","v":0}]
[{"$f":"86400*TIMEVALUE(TEXT(Smp99_Donnees!C853,\"чч:мм:сс\"))","v":0},{"$f":"86400*TIMEVALUE(TEXT(Smp99_Donnees!O853,\"чч:мм:сс\"))","v":0}]
[{"$f":"86400*TIMEVALUE(TEXT(Smp99_Donnees!C854,\"чч:мм:сс\"))","v":0},{"$f":"86400*TIMEVALUE(TEXT(Smp99_Donnees!O854,\"чч:мм:сс\"))","v":0}]
[{"$f":"86400*TIMEVALUE(TEXT(Smp99_Donnees!C855,\"чч:мм:сс\"))","v":0},{"$f":"86400*TIMEVALUE(TEXT(Smp99_Donnees!O855,\"чч:мм:сс\"))","v":0}]
[{"$f":"86400*TIMEVALUE(TEXT(Smp99_Donnees!C856,\"чч:мм:сс\"))","v":0},{"$f":"86400*TIMEVALUE(TEXT(Smp99_Donnees!O856,\"чч:мм:сс\"))","v":0}]
[{"$f":"86400*TIMEVALUE(TEXT(Smp99_Donnees!C857,\"чч:мм:сс\"))","v":0},{"$f":"86400*TIMEVALUE(TEXT(Smp99_Donnees!O857,\"чч:мм:сс\"))","v":0}]
[{"$f":"86400*TIMEVALUE(TEXT(Smp99_Donnees!C858,\"чч:мм:сс\"))","v":0},{"$f":"86400*TIMEVALUE(TEXT(Smp99_Donnees!O858,\"чч:мм:сс\"))","v":0}]
[{"$f":"86400*TIMEVALUE(TEXT(Smp99_Donnees!C859,\"чч:мм:сс\"))","v":0},{"$f":"86400*TIMEVALUE(TEXT(Smp99_Donnees!O859,\"чч:мм:сс\"))","v":0}]
[{"$f":"86400*TIMEVALUE(TEXT(Smp99_Donnees!C860,\"чч:мм:сс\"))","v":0},{"$f":"86400*TIMEVALUE(TEXT(Smp99_Donnees!O860,\"чч:мм:сс\"))","v":0}]
[{"$f":"86400*TIMEVALUE(TEXT(Smp99_Donnees!C861,\"чч:мм:сс\"))","v":0},{"$f":"86400*TIMEVALUE(TEXT(Smp99_Donnees!O861,\"чч:мм:сс\"))","v":0}]
[{"$f":"86400*TIMEVALUE(TEXT(Smp99_Donnees!C862,\"чч:мм:сс\"))","v":0},{"$f":"86400*TIMEVALUE(TEXT(Smp99_Donnees!O862,\"чч:мм:сс\"))","v":0}]
[{"$f":"86400*TIMEVALUE(TEXT(Smp99_Donnees!C863,\"чч:мм:сс\"))","v":0},{"$f":"86400*TIMEVALUE(TEXT(Smp99_Donnees!O863,\"чч:мм:сс\"))","v":0}]
[{"$f":"86400*TIMEVALUE(TEXT(Smp99_Donnees!C864,\"чч:мм:сс\"))","v":0},{"$f":"86400*TIMEVALUE(TEXT(Smp99_Donnees!O864,\"чч:мм:сс\"))","v":0}]
[{"$f":"86400*TIMEVALUE(TEXT(Smp99_Donnees!C865,\"чч:мм:сс\"))","v":0},{"$f":"86400*TIMEVALUE(TEXT(Smp99_Donnees!O865,\"чч:мм:сс\"))","v":0}]
[{"$f":"86400*TIMEVALUE(TEXT(Smp99_Donnees!C866,\"чч:мм:сс\"))","v":0},{"$f":"86400*TIMEVALUE(TEXT(Smp99_Donnees!O866,\"чч:мм:сс\"))","v":0}]
[{"$f":"86400*TIMEVALUE(TEXT(Smp99_Donnees!C867,\"чч:мм:сс\"))","v":0},{"$f":"86400*TIMEVALUE(TEXT(Smp99_Donnees!O867,\"чч:мм:сс\"))","v":0}]
[{"$f":"86400*TIMEVALUE(TEXT(Smp99_Donnees!C868,\"чч:мм:сс\"))","v":0},{"$f":"86400*TIMEVALUE(TEXT(Smp99_Donnees!O868,\"чч:мм:сс\"))","v":0}]
[{"$f":"86400*TIMEVALUE(TEXT(Smp99_Donnees!C869,\"чч:мм:сс\"))","v":0},{"$f":"86400*TIMEVALUE(TEXT(Smp99_Donnees!O869,\"чч:мм:сс\"))","v":0}]
[{"$f":"86400*TIMEVALUE(TEXT(Smp99_Donnees!C870,\"чч:мм:сс\"))","v":0},{"$f":"86400*TIMEVALUE(TEXT(Smp99_Donnees!O870,\"чч:мм:сс\"))","v":0}]
[{"$f":"86400*TIMEVALUE(TEXT(Smp99_Donnees!C871,\"чч:мм:сс\"))","v":0},{"$f":"86400*TIMEVALUE(TEXT(Smp99_Donnees!O871,\"чч:мм:сс\"))","v":0}]
[{"$f":"86400*TIMEVALUE(TEXT(Smp99_Donnees!C872,\"чч:мм:сс\"))","v":0},{"$f":"86400*TIMEVALUE(TEXT(Smp99_Donnees!O872,\"чч:мм:сс\"))","v":0}]
[{"$f":"86400*TIMEVALUE(TEXT(Smp99_Donnees!C873,\"чч:мм:сс\"))","v":0},{"$f":"86400*TIMEVALUE(TEXT(Smp99_Donnees!O873,\"чч:мм:сс\"))","v":0}]
[{"$f":"86400*TIMEVALUE(TEXT(Smp99_Donnees!C874,\"чч:мм:сс\"))","v":0},{"$f":"86400*TIMEVALUE(TEXT(Smp99_Donnees!O874,\"чч:мм:сс\"))","v":0}]
[{"$f":"86400*TIMEVALUE(TEXT(Smp99_Donnees!C875,\"чч:мм:сс\"))","v":0},{"$f":"86400*TIMEVALUE(TEXT(Smp99_Donnees!O875,\"чч:мм:сс\"))","v":0}]
[{"$f":"86400*TIMEVALUE(TEXT(Smp99_Donnees!C876,\"чч:мм:сс\"))","v":0},{"$f":"86400*TIMEVALUE(TEXT(Smp99_Donnees!O876,\"чч:мм:сс\"))","v":0}]
[{"$f":"86400*TIMEVALUE(TEXT(Smp99_Donnees!C877,\"чч:мм:сс\"))","v":0},{"$f":"86400*TIMEVALUE(TEXT(Smp99_Donnees!O877,\"чч:мм:сс\"))","v":0}]
[{"$f":"86400*TIMEVALUE(TEXT(Smp99_Donnees!C878,\"чч:мм:сс\"))","v":0},{"$f":"86400*TIMEVALUE(TEXT(Smp99_Donnees!O878,\"чч:мм:сс\"))","v":0}]
[{"$f":"86400*TIMEVALUE(TEXT(Smp99_Donnees!C879,\"чч:мм:сс\"))","v":0},{"$f":"86400*TIMEVALUE(TEXT(Smp99_Donnees!O879,\"чч:мм:сс\"))","v":0}]
[{"$f":"86400*TIMEVALUE(TEXT(Smp99_Donnees!C880,\"чч:мм:сс\"))","v":0},{"$f":"86400*TIMEVALUE(TEXT(Smp99_Donnees!O880,\"чч:мм:сс\"))","v":0}]
[{"$f":"86400*TIMEVALUE(TEXT(Smp99_Donnees!C881,\"чч:мм:сс\"))","v":0},{"$f":"86400*TIMEVALUE(TEXT(Smp99_Donnees!O881,\"чч:мм:сс\"))","v":0}]
[{"$f":"86400*TIMEVALUE(TEXT(Smp99_Donnees!C882,\"чч:мм:сс\"))","v":0},{"$f":"86400*TIMEVALUE(TEXT(Smp99_Donnees!O882,\"чч:мм:сс\"))","v":0}]
[{"$f":"86400*TIMEVALUE(TEXT(Smp99_Donnees!C883,\"чч:мм:сс\"))","v":0},{"$f":"86400*TIMEVALUE(TEXT(Smp99_Donnees!O883,\"чч:мм:сс\"))","v":0}]
[{"$f":"86400*TIMEVALUE(TEXT(Smp99_Donnees!C884,\"чч:мм:сс\"))","v":0},{"$f":"86400*TIMEVALUE(TEXT(Smp99_Donnees!O884,\"чч:мм:сс\"))","v":0}]
[{"$f":"86400*TIMEVALUE(TEXT(Smp99_Donnees!C885,\"чч:мм:сс\"))","v":0},{"$f":"86400*TIMEVALUE(TEXT(Smp99_Donnees!O885,\"чч:мм:сс\"))","v":0}]
[{"$f":"86400*TIMEVALUE(TEXT(Smp99_Donnees!C886,\"чч:мм:сс\"))","v":0},{"$f":"86400*TIMEVALUE(TEXT(Smp99_Donnees!O886,\"чч:мм:сс\"))","v":0}]
[{"$f":"86400*TIMEVALUE(TEXT(Smp99_Donnees!C887,\"чч:мм:сс\"))","v":0},{"$f":"86400*TIMEVALUE(TEXT(Smp99_Donnees!O887,\"чч:мм:сс\"))","v":0}]
[{"$f":"86400*TIMEVALUE(TEXT(Smp99_Donnees!C888,\"чч:мм:сс\"))","v":0},{"$f":"86400*TIMEVALUE(TEXT(Smp99_Donnees!O888,\"чч:мм:сс\"))","v":0}]
[{"$f":"86400*TIMEVALUE(TEXT(Smp99_Donnees!C889,\"чч:мм:сс\"))","v":0},{"$f":"86400*TIMEVALUE(TEXT(Smp99_Donnees!O889,\"чч:мм:сс\"))","v":0}]
[{"$f":"86400*TIMEVALUE(TEXT(Smp99_Donnees!C890,\"чч:мм:сс\"))","v":0},{"$f":"86400*TIMEVALUE(TEXT(Smp99_Donnees!O890,\"чч:мм:сс\"))","v":0}]
[{"$f":"86400*TIMEVALUE(TEXT(Smp99_Donnees!C891,\"чч:мм:сс\"))","v":0},{"$f":"86400*TIMEVALUE(TEXT(Smp99_Donnees!O891,\"чч:мм:сс\"))","v":0}]
[{"$f":"86400*TIMEVALUE(TEXT(Smp99_Donnees!C892,\"чч:мм:сс\"))","v":0},{"$f":"86400*TIMEVALUE(TEXT(Smp99_Donnees!O892,\"чч:мм:сс\"))","v":0}]
[{"$f":"86400*TIMEVALUE(TEXT(Smp99_Donnees!C893,\"чч:мм:сс\"))","v":0},{"$f":"86400*TIMEVALUE(TEXT(Smp99_Donnees!O893,\"чч:мм:сс\"))","v":0}]
[{"$f":"86400*TIMEVALUE(TEXT(Smp99_Donnees!C894,\"чч:мм:сс\"))","v":0},{"$f":"86400*TIMEVALUE(TEXT(Smp99_Donnees!O894,\"чч:мм:сс\"))","v":0}]
[{"$f":"86400*TIMEVALUE(TEXT(Smp99_Donnees!C895,\"чч:мм:сс\"))","v":0},{"$f":"86400*TIMEVALUE(TEXT(Smp99_Donnees!O895,\"чч:мм:сс\"))","v":0}]
[{"$f":"86400*TIMEVALUE(TEXT(Smp99_Donnees!C896,\"чч:мм:сс\"))","v":0},{"$f":"86400*TIMEVALUE(TEXT(Smp99_Donnees!O896,\"чч:мм:сс\"))","v":0}]
[{"$f":"86400*TIMEVALUE(TEXT(Smp99_Donnees!C897,\"чч:мм:сс\"))","v":0},{"$f":"86400*TIMEVALUE(TEXT(Smp99_Donnees!O897,\"чч:мм:сс\"))","v":0}]
[{"$f":"86400*TIMEVALUE(TEXT(Smp99_Donnees!C898,\"чч:мм:сс\"))","v":0},{"$f":"86400*TIMEVALUE(TEXT(Smp99_Donnees!O898,\"чч:мм:сс\"))","v":0}]
[{"$f":"86400*TIMEVALUE(TEXT(Smp99_Donnees!C899,\"чч:мм:сс\"))","v":0},{"$f":"86400*TIMEVALUE(TEXT(Smp99_Donnees!O899,\"чч:мм:сс\"))","v":0}]
[{"$f":"86400*TIMEVALUE(TEXT(Smp99_Donnees!C900,\"чч:мм:сс\"))","v":0},{"$f":"86400*TIMEVALUE(TEXT(Smp99_Donnees!O900,\"чч:мм:сс\"))","v":0}]
[{"$f":"86400*TIMEVALUE(TEXT(Smp99_Donnees!C901,\"чч:мм:сс\"))","v":0},{"$f":"86400*TIMEVALUE(TEXT(Smp99_Donnees!O901,\"чч:мм:сс\"))","v":0}]
[{"$f":"86400*TIMEVALUE(TEXT(Smp99_Donnees!C902,\"чч:мм:сс\"))","v":0},{"$f":"86400*TIMEVALUE(TEXT(Smp99_Donnees!O902,\"чч:мм:сс\"))","v":0}]
[{"$f":"86400*TIMEVALUE(TEXT(Smp99_Donnees!C903,\"чч:мм:сс\"))","v":0},{"$f":"86400*TIMEVALUE(TEXT(Smp99_Donnees!O903,\"чч:мм:сс\"))","v":0}]
[{"$f":"86400*TIMEVALUE(TEXT(Smp99_Donnees!C904,\"чч:мм:сс\"))","v":0},{"$f":"86400*TIMEVALUE(TEXT(Smp99_Donnees!O904,\"чч:мм:сс\"))","v":0}]
[{"$f":"86400*TIMEVALUE(TEXT(Smp99_Donnees!C905,\"чч:мм:сс\"))","v":0},{"$f":"86400*TIMEVALUE(TEXT(Smp99_Donnees!O905,\"чч:мм:сс\"))","v":0}]
[{"$f":"86400*TIMEVALUE(TEXT(Smp99_Donnees!C906,\"чч:мм:сс\"))","v":0},{"$f":"86400*TIMEVALUE(TEXT(Smp99_Donnees!O906,\"чч:мм:сс\"))","v":0}]
[{"$f":"86400*TIMEVALUE(TEXT(Smp99_Donnees!C907,\"чч:мм:сс\"))","v":0},{"$f":"86400*TIMEVALUE(TEXT(Smp99_Donnees!O907,\"чч:мм:сс\"))","v":0}]
[{"$f":"86400*TIMEVALUE(TEXT(Smp99_Donnees!C908,\"чч:мм:сс\"))","v":0},{"$f":"86400*TIMEVALUE(TEXT(Smp99_Donnees!O908,\"чч:мм:сс\"))","v":0}]
[{"$f":"86400*TIMEVALUE(TEXT(Smp99_Donnees!C909,\"чч:мм:сс\"))","v":0},{"$f":"86400*TIMEVALUE(TEXT(Smp99_Donnees!O909,\"чч:мм:сс\"))","v":0}]
[{"$f":"86400*TIMEVALUE(TEXT(Smp99_Donnees!C910,\"чч:мм:сс\"))","v":0},{"$f":"86400*TIMEVALUE(TEXT(Smp99_Donnees!O910,\"чч:мм:сс\"))","v":0}]
[{"$f":"86400*TIMEVALUE(TEXT(Smp99_Donnees!C911,\"чч:мм:сс\"))","v":0},{"$f":"86400*TIMEVALUE(TEXT(Smp99_Donnees!O911,\"чч:мм:сс\"))","v":0}]
[{"$f":"86400*TIMEVALUE(TEXT(Smp99_Donnees!C912,\"чч:мм:сс\"))","v":0},{"$f":"86400*TIMEVALUE(TEXT(Smp99_Donnees!O912,\"чч:мм:сс\"))","v":0}]
[{"$f":"86400*TIMEVALUE(TEXT(Smp99_Donnees!C913,\"чч:мм:сс\"))","v":0},{"$f":"86400*TIMEVALUE(TEXT(Smp99_Donnees!O913,\"чч:мм:сс\"))","v":0}]
[{"$f":"86400*TIMEVALUE(TEXT(Smp99_Donnees!C914,\"чч:мм:сс\"))","v":0},{"$f":"86400*TIMEVALUE(TEXT(Smp99_Donnees!O914,\"чч:мм:сс\"))","v":0}]
[{"$f":"86400*TIMEVALUE(TEXT(Smp99_Donnees!C915,\"чч:мм:сс\"))","v":0},{"$f":"86400*TIMEVALUE(TEXT(Smp99_Donnees!O915,\"чч:мм:сс\"))","v":0}]
[{"$f":"86400*TIMEVALUE(TEXT(Smp99_Donnees!C916,\"чч:мм:сс\"))","v":0},{"$f":"86400*TIMEVALUE(TEXT(Smp99_Donnees!O916,\"чч:мм:сс\"))","v":0}]
[{"$f":"86400*TIMEVALUE(TEXT(Smp99_Donnees!C917,\"чч:мм:сс\"))","v":0},{"$f":"86400*TIMEVALUE(TEXT(Smp99_Donnees!O917,\"чч:мм:сс\"))","v":0}]
[{"$f":"86400*TIMEVALUE(TEXT(Smp99_Donnees!C918,\"чч:мм:сс\"))","v":0},{"$f":"86400*TIMEVALUE(TEXT(Smp99_Donnees!O918,\"чч:мм:сс\"))","v":0}]
[{"$f":"86400*TIMEVALUE(TEXT(Smp99_Donnees!C919,\"чч:мм:сс\"))","v":0},{"$f":"86400*TIMEVALUE(TEXT(Smp99_Donnees!O919,\"чч:мм:сс\"))","v":0}]
[{"$f":"86400*TIMEVALUE(TEXT(Smp99_Donnees!C920,\"чч:мм:сс\"))","v":0},{"$f":"86400*TIMEVALUE(TEXT(Smp99_Donnees!O920,\"чч:мм:сс\"))","v":0}]
[{"$f":"86400*TIMEVALUE(TEXT(Smp99_Donnees!C921,\"чч:мм:сс\"))","v":0},{"$f":"86400*TIMEVALUE(TEXT(Smp99_Donnees!O921,\"чч:мм:сс\"))","v":0}]
[{"$f":"86400*TIMEVALUE(TEXT(Smp99_Donnees!C922,\"чч:мм:сс\"))","v":0},{"$f":"86400*TIMEVALUE(TEXT(Smp99_Donnees!O922,\"чч:мм:сс\"))","v":0}]
[{"$f":"86400*TIMEVALUE(TEXT(Smp99_Donnees!C923,\"чч:мм:сс\"))","v":0},{"$f":"86400*TIMEVALUE(TEXT(Smp99_Donnees!O923,\"чч:мм:сс\"))","v":0}]
[{"$f":"86400*TIMEVALUE(TEXT(Smp99_Donnees!C924,\"чч:мм:сс\"))","v":0},{"$f":"86400*TIMEVALUE(TEXT(Smp99_Donnees!O924,\"чч:мм:сс\"))","v":0}]
[{"$f":"86400*TIMEVALUE(TEXT(Smp99_Donnees!C925,\"чч:мм:сс\"))","v":0},{"$f":"86400*TIMEVALUE(TEXT(Smp99_Donnees!O925,\"чч:мм:сс\"))","v":0}]
[{"$f":"86400*TIMEVALUE(TEXT(Smp99_Donnees!C926,\"чч:мм:сс\"))","v":0},{"$f":"86400*TIMEVALUE(TEXT(Smp99_Donnees!O926,\"чч:мм:сс\"))","v":0}]
[{"$f":"86400*TIMEVALUE(TEXT(Smp99_Donnees!C927,\"чч:мм:сс\"))","v":0},{"$f":"86400*TIMEVALUE(TEXT(Smp99_Donnees!O927,\"чч:мм:сс\"))","v":0}]
[{"$f":"86400*TIMEVALUE(TEXT(Smp99_Donnees!C928,\"чч:мм:сс\"))","v":0},{"$f":"86400*TIMEVALUE(TEXT(Smp99_Donnees!O928,\"чч:мм:сс\"))","v":0}]
[{"$f":"86400*TIMEVALUE(TEXT(Smp99_Donnees!C929,\"чч:мм:сс\"))","v":0},{"$f":"86400*TIMEVALUE(TEXT(Smp99_Donnees!O929,\"чч:мм:сс\"))","v":0}]
[{"$f":"86400*TIMEVALUE(TEXT(Smp99_Donnees!C930,\"чч:мм:сс\"))","v":0},{"$f":"86400*TIMEVALUE(TEXT(Smp99_Donnees!O930,\"чч:мм:сс\"))","v":0}]
[{"$f":"86400*TIMEVALUE(TEXT(Smp99_Donnees!C931,\"чч:мм:сс\"))","v":0},{"$f":"86400*TIMEVALUE(TEXT(Smp99_Donnees!O931,\"чч:мм:сс\"))","v":0}]
[{"$f":"86400*TIMEVALUE(TEXT(Smp99_Donnees!C932,\"чч:мм:сс\"))","v":0},{"$f":"86400*TIMEVALUE(TEXT(Smp99_Donnees!O932,\"чч:мм:сс\"))","v":0}]
[{"$f":"86400*TIMEVALUE(TEXT(Smp99_Donnees!C933,\"чч:мм:сс\"))","v":0},{"$f":"86400*TIMEVALUE(TEXT(Smp99_Donnees!O933,\"чч:мм:сс\"))","v":0}]
[{"$f":"86400*TIMEVALUE(TEXT(Smp99_Donnees!C934,\"чч:мм:сс\"))","v":0},{"$f":"86400*TIMEVALUE(TEXT(Smp99_Donnees!O934,\"чч:мм:сс\"))","v":0}]
[{"$f":"86400*TIMEVALUE(TEXT(Smp99_Donnees!C935,\"чч:мм:сс\"))","v":0},{"$f":"86400*TIMEVALUE(TEXT(Smp99_Donnees!O935,\"чч:мм:сс\"))","v":0}]
[{"$f":"86400*TIMEVALUE(TEXT(Smp99_Donnees!C936,\"чч:мм:сс\"))","v":0},{"$f":"86400*TIMEVALUE(TEXT(Smp99_Donnees!O936,\"чч:мм:сс\"))","v":0}]
[{"$f":"86400*TIMEVALUE(TEXT(Smp99_Donnees!C937,\"чч:мм:сс\"))","v":0},{"$f":"86400*TIMEVALUE(TEXT(Smp99_Donnees!O937,\"чч:мм:сс\"))","v":0}]
[{"$f":"86400*TIMEVALUE(TEXT(Smp99_Donnees!C938,\"чч:мм:сс\"))","v":0},{"$f":"86400*TIMEVALUE(TEXT(Smp99_Donnees!O938,\"чч:мм:сс\"))","v":0}]
[{"$f":"86400*TIMEVALUE(TEXT(Smp99_Donnees!C939,\"чч:мм:сс\"))","v":0},{"$f":"86400*TIMEVALUE(TEXT(Smp99_Donnees!O939,\"чч:мм:сс\"))","v":0}]
[{"$f":"86400*TIMEVALUE(TEXT(Smp99_Donnees!C940,\"чч:мм:сс\"))","v":0},{"$f":"86400*TIMEVALUE(TEXT(Smp99_Donnees!O940,\"чч:мм:сс\"))","v":0}]
[{"$f":"86400*TIMEVALUE(TEXT(Smp99_Donnees!C941,\"чч:мм:сс\"))","v":0},{"$f":"86400*TIMEVALUE(TEXT(Smp99_Donnees!O941,\"чч:мм:сс\"))","v":0}]
[{"$f":"86400*TIMEVALUE(TEXT(Smp99_Donnees!C942,\"чч:мм:сс\"))","v":0},{"$f":"86400*TIMEVALUE(TEXT(Smp99_Donnees!O942,\"чч:мм:сс\"))","v":0}]
[{"$f":"86400*TIMEVALUE(TEXT(Smp99_Donnees!C943,\"чч:мм:сс\"))","v":0},{"$f":"86400*TIMEVALUE(TEXT(Smp99_Donnees!O943,\"чч:мм:сс\"))","v":0}]
[{"$f":"86400*TIMEVALUE(TEXT(Smp99_Donnees!C944,\"чч:мм:сс\"))","v":0},{"$f":"86400*TIMEVALUE(TEXT(Smp99_Donnees!O944,\"чч:мм:сс\"))","v":0}]
[{"$f":"86400*TIMEVALUE(TEXT(Smp99_Donnees!C945,\"чч:мм:сс\"))","v":0},{"$f":"86400*TIMEVALUE(TEXT(Smp99_Donnees!O945,\"чч:мм:сс\"))","v":0}]
[{"$f":"86400*TIMEVALUE(TEXT(Smp99_Donnees!C946,\"чч:мм:сс\"))","v":0},{"$f":"86400*TIMEVALUE(TEXT(Smp99_Donnees!O946,\"чч:мм:сс\"))","v":0}]
[{"$f":"86400*TIMEVALUE(TEXT(Smp99_Donnees!C947,\"чч:мм:сс\"))","v":0},{"$f":"86400*TIMEVALUE(TEXT(Smp99_Donnees!O947,\"чч:мм:сс\"))","v":0}]
[{"$f":"86400*TIMEVALUE(TEXT(Smp99_Donnees!C948,\"чч:мм:сс\"))","v":0},{"$f":"86400*TIMEVALUE(TEXT(Smp99_Donnees!O948,\"чч:мм:сс\"))","v":0}]
[{"$f":"86400*TIMEVALUE(TEXT(Smp99_Donnees!C949,\"чч:мм:сс\"))","v":0},{"$f":"86400*TIMEVALUE(TEXT(Smp99_Donnees!O949,\"чч:мм:сс\"))","v":0}]
[{"$f":"86400*TIMEVALUE(TEXT(Smp99_Donnees!C950,\"чч:мм:сс\"))","v":0},{"$f":"86400*TIMEVALUE(TEXT(Smp99_Donnees!O950,\"чч:мм:сс\"))","v":0}]
[{"$f":"86400*TIMEVALUE(TEXT(Smp99_Donnees!C951,\"чч:мм:сс\"))","v":0},{"$f":"86400*TIMEVALUE(TEXT(Smp99_Donnees!O951,\"чч:мм:сс\"))","v":0}]
[{"$f":"86400*TIMEVALUE(TEXT(Smp99_Donnees!C952,\"чч:мм:сс\"))","v":0},{"$f":"86400*TIMEVALUE(TEXT(Smp99_Donnees!O952,\"чч:мм:сс\"))","v":0}]
[{"$f":"86400*TIMEVALUE(TEXT(Smp99_Donnees!C953,\"чч:мм:сс\"))","v":0},{"$f":"86400*TIMEVALUE(TEXT(Smp99_Donnees!O953,\"чч:мм:сс\"))","v":0}]
[{"$f":"86400*TIMEVALUE(TEXT(Smp99_Donnees!C954,\"чч:мм:сс\"))","v":0},{"$f":"86400*TIMEVALUE(TEXT(Smp99_Donnees!O954,\"чч:мм:сс\"))","v":0}]
[{"$f":"86400*TIMEVALUE(TEXT(Smp99_Donnees!C955,\"чч:мм:сс\"))","v":0},{"$f":"86400*TIMEVALUE(TEXT(Smp99_Donnees!O955,\"чч:мм:сс\"))","v":0}]
[{"$f":"86400*TIMEVALUE(TEXT(Smp99_Donnees!C956,\"чч:мм:сс\"))","v":0},{"$f":"86400*TIMEVALUE(TEXT(Smp99_Donnees!O956,\"чч:мм:сс\"))","v":0}]
[{"$f":"86400*TIMEVALUE(TEXT(Smp99_Donnees!C957,\"чч:мм:сс\"))","v":0},{"$f":"86400*TIMEVALUE(TEXT(Smp99_Donnees!O957,\"чч:мм:сс\"))","v":0}]
[{"$f":"86400*TIMEVALUE(TEXT(Smp99_Donnees!C958,\"чч:мм:сс\"))","v":0},{"$f":"86400*TIMEVALUE(TEXT(Smp99_Donnees!O958,\"чч:мм:сс\"))","v":0}]
[{"$f":"86400*TIMEVALUE(TEXT(Smp99_Donnees!C959,\"чч:мм:сс\"))","v":0},{"$f":"86400*TIMEVALUE(TEXT(Smp99_Donnees!O959,\"чч:мм:сс\"))","v":0}]
[{"$f":"86400*TIMEVALUE(TEXT(Smp99_Donnees!C960,\"чч:мм:сс\"))","v":0},{"$f":"86400*TIMEVALUE(TEXT(Smp99_Donnees!O960,\"чч:мм:сс\"))","v":0}]
[{"$f":"86400*TIMEVALUE(TEXT(Smp99_Donnees!C961,\"чч:мм:сс\"))","v":0},{"$f":"86400*TIMEVALUE(TEXT(Smp99_Donnees!O961,\"чч:мм:сс\"))","v":0}]
[{"$f":"86400*TIMEVALUE(TEXT(Smp99_Donnees!C962,\"чч:мм:сс\"))","v":0},{"$f":"86400*TIMEVALUE(TEXT(Smp99_Donnees!O962,\"чч:мм:сс\"))","v":0}]
[{"$f":"86400*TIMEVALUE(TEXT(Smp99_Donnees!C963,\"чч:мм:сс\"))","v":0},{"$f":"86400*TIMEVALUE(TEXT(Smp99_Donnees!O963,\"чч:мм:сс\"))","v":0}]
[{"$f":"86400*TIMEVALUE(TEXT(Smp99_Donnees!C964,\"чч:мм:сс\"))","v":0},{"$f":"86400*TIMEVALUE(TEXT(Smp99_Donnees!O964,\"чч:мм:сс\"))","v":0}]
[{"$f":"86400*TIMEVALUE(TEXT(Smp99_Donnees!C965,\"чч:мм:сс\"))","v":0},{"$f":"86400*TIMEVALUE(TEXT(Smp99_Donnees!O965,\"чч:мм:сс\"))","v":0}]
[{"$f":"86400*TIMEVALUE(TEXT(Smp99_Donnees!C966,\"чч:мм:сс\"))","v":0},{"$f":"86400*TIMEVALUE(TEXT(Smp99_Donnees!O966,\"чч:мм:сс\"))","v":0}]
[{"$f":"86400*TIMEVALUE(TEXT(Smp99_Donnees!C967,\"чч:мм:сс\"))","v":0},{"$f":"86400*TIMEVALUE(TEXT(Smp99_Donnees!O967,\"чч:мм:сс\"))","v":0}]
[{"$f":"86400*TIMEVALUE(TEXT(Smp99_Donnees!C968,\"чч:мм:сс\"))","v":0},{"$f":"86400*TIMEVALUE(TEXT(Smp99_Donnees!O968,\"чч:мм:сс\"))","v":0}]
[{"$f":"86400*TIMEVALUE(TEXT(Smp99_Donnees!C969,\"чч:мм:сс\"))","v":0},{"$f":"86400*TIMEVALUE(TEXT(Smp99_Donnees!O969,\"чч:мм:сс\"))","v":0}]
[{"$f":"86400*TIMEVALUE(TEXT(Smp99_Donnees!C970,\"чч:мм:сс\"))","v":0},{"$f":"86400*TIMEVALUE(TEXT(Smp99_Donnees!O970,\"чч:мм:сс\"))","v":0}]
[{"$f":"86400*TIMEVALUE(TEXT(Smp99_Donnees!C971,\"чч:мм:сс\"))","v":0},{"$f":"86400*TIMEVALUE(TEXT(Smp99_Donnees!O971,\"чч:мм:сс\"))","v":0}]
[{"$f":"86400*TIMEVALUE(TEXT(Smp99_Donnees!C972,\"чч:мм:сс\"))","v":0},{"$f":"86400*TIMEVALUE(TEXT(Smp99_Donnees!O972,\"чч:мм:сс\"))","v":0}]
[{"$f":"86400*TIMEVALUE(TEXT(Smp99_Donnees!C973,\"чч:мм:сс\"))","v":0},{"$f":"86400*TIMEVALUE(TEXT(Smp99_Donnees!O973,\"чч:мм:сс\"))","v":0}]
[{"$f":"86400*TIMEVALUE(TEXT(Smp99_Donnees!C974,\"чч:мм:сс\"))","v":0},{"$f":"86400*TIMEVALUE(TEXT(Smp99_Donnees!O974,\"чч:мм:сс\"))","v":0}]
[{"$f":"86400*TIMEVALUE(TEXT(Smp99_Donnees!C975,\"чч:мм:сс\"))","v":0},{"$f":"86400*TIMEVALUE(TEXT(Smp99_Donnees!O975,\"чч:мм:сс\"))","v":0}]
[{"$f":"86400*TIMEVALUE(TEXT(Smp99_Donnees!C976,\"чч:мм:сс\"))","v":0},{"$f":"86400*TIMEVALUE(TEXT(Smp99_Donnees!O976,\"чч:мм:сс\"))","v":0}]
[{"$f":"86400*TIMEVALUE(TEXT(Smp99_Donnees!C977,\"чч:мм:сс\"))","v":0},{"$f":"86400*TIMEVALUE(TEXT(Smp99_Donnees!O977,\"чч:мм:сс\"))","v":0}]
[{"$f":"86400*TIMEVALUE(TEXT(Smp99_Donnees!C978,\"чч:мм:сс\"))","v":0},{"$f":"86400*TIMEVALUE(TEXT(Smp99_Donnees!O978,\"чч:мм:сс\"))","v":0}]
[{"$f":"86400*TIMEVALUE(TEXT(Smp99_Donnees!C979,\"чч:мм:сс\"))","v":0},{"$f":"86400*TIMEVALUE(TEXT(Smp99_Donnees!O979,\"чч:мм:сс\"))","v":0}]
[{"$f":"86400*TIMEVALUE(TEXT(Smp99_Donnees!C980,\"чч:мм:сс\"))","v":0},{"$f":"86400*TIMEVALUE(TEXT(Smp99_Donnees!O980,\"чч:мм:сс\"))","v":0}]
[{"$f":"86400*TIMEVALUE(TEXT(Smp99_Donnees!C981,\"чч:мм:сс\"))","v":0},{"$f":"86400*TIMEVALUE(TEXT(Smp99_Donnees!O981,\"чч:мм:сс\"))","v":0}]
[{"$f":"86400*TIMEVALUE(TEXT(Smp99_Donnees!C982,\"чч:мм:сс\"))","v":0},{"$f":"86400*TIMEVALUE(TEXT(Smp99_Donnees!O982,\"чч:мм:сс\"))","v":0}]
[{"$f":"86400*TIMEVALUE(TEXT(Smp99_Donnees!C983,\"чч:мм:сс\"))","v":0},{"$f":"86400*TIMEVALUE(TEXT(Smp99_Donnees!O983,\"чч:мм:сс\"))","v":0}]
[{"$f":"86400*TIMEVALUE(TEXT(Smp99_Donnees!C984,\"чч:мм:сс\"))","v":0},{"$f":"86400*TIMEVALUE(TEXT(Smp99_Donnees!O984,\"чч:мм:сс\"))","v":0}]
[{"$f":"86400*TIMEVALUE(TEXT(Smp99_Donnees!C985,\"чч:мм:сс\"))","v":0},{"$f":"86400*TIMEVALUE(TEXT(Smp99_Donnees!O985,\"чч:мм:сс\"))","v":0}]
[{"$f":"86400*TIMEVALUE(TEXT(Smp99_Donnees!C986,\"чч:мм:сс\"))","v":0},{"$f":"86400*TIMEVALUE(TEXT(Smp99_Donnees!O986,\"чч:мм:сс\"))","v":0}]
[{"$f":"86400*TIMEVALUE(TEXT(Smp99_Donnees!C987,\"чч:мм:сс\"))","v":0},{"$f":"86400*TIMEVALUE(TEXT(Smp99_Donnees!O987,\"чч:мм:сс\"))","v":0}]
[{"$f":"86400*TIMEVALUE(TEXT(Smp99_Donnees!C988,\"чч:мм:сс\"))","v":0},{"$f":"86400*TIMEVALUE(TEXT(Smp99_Donnees!O988,\"чч:мм:сс\"))","v":0}]
[{"$f":"86400*TIMEVALUE(TEXT(Smp99_Donnees!C989,\"чч:мм:сс\"))","v":0},{"$f":"86400*TIMEVALUE(TEXT(Smp99_Donnees!O989,\"чч:мм:сс\"))","v":0}]
[{"$f":"86400*TIMEVALUE(TEXT(Smp99_Donnees!C990,\"чч:мм:сс\"))","v":0},{"$f":"86400*TIMEVALUE(TEXT(Smp99_Donnees!O990,\"чч:мм:сс\"))","v":0}]
[{"$f":"86400*TIMEVALUE(TEXT(Smp99_Donnees!C991,\"чч:мм:сс\"))","v":0},{"$f":"86400*TIMEVALUE(TEXT(Smp99_Donnees!O991,\"чч:мм:сс\"))","v":0}]
[{"$f":"86400*TIMEVALUE(TEXT(Smp99_Donnees!C992,\"чч:мм:сс\"))","v":0},{"$f":"86400*TIMEVALUE(TEXT(Smp99_Donnees!O992,\"чч:мм:сс\"))","v":0}]
[{"$f":"86400*TIMEVALUE(TEXT(Smp99_Donnees!C993,\"чч:мм:сс\"))","v":0},{"$f":"86400*TIMEVALUE(TEXT(Smp99_Donnees!O993,\"чч:мм:сс\"))","v":0}]
[{"$f":"86400*TIMEVALUE(TEXT(Smp99_Donnees!C994,\"чч:мм:сс\"))","v":0},{"$f":"86400*TIMEVALUE(TEXT(Smp99_Donnees!O994,\"чч:мм:сс\"))","v":0}]
[{"$f":"86400*TIMEVALUE(TEXT(Smp99_Donnees!C995,\"чч:мм:сс\"))","v":0},{"$f":"86400*TIMEVALUE(TEXT(Smp99_Donnees!O995,\"чч:мм:сс\"))","v":0}]
[{"$f":"86400*TIMEVALUE(TEXT(Smp99_Donnees!C996,\"чч:мм:сс\"))","v":0},{"$f":"86400*TIMEVALUE(TEXT(Smp99_Donnees!O996,\"чч:мм:сс\"))","v":0}]
[{"$f":"86400*TIMEVALUE(TEXT(Smp99_Donnees!C997,\"чч:мм:сс\"))","v":0},{"$f":"86400*TIMEVALUE(TEXT(Smp99_Donnees!O997,\"чч:мм:сс\"))","v":0}]
[{"$f":"86400*TIMEVALUE(TEXT(Smp99_Donnees!C998,\"чч:мм:сс\"))","v":0},{"$f":"86400*TIMEVALUE(TEXT(Smp99_Donnees!O998,\"чч:мм:сс\"))","v":0}]
[{"$f":"86400*TIMEVALUE(TEXT(Smp99_Donnees!C999,\"чч:мм:сс\"))","v":0},{"$f":"86400*TIMEVALUE(TEXT(Smp99_Donnees!O999,\"чч:мм:сс\"))","v":0}]
[{"$f":"86400*TIMEVALUE(TEXT(Smp99_Donnees!C1000,\"чч:мм:сс\"))","v":0},{"$f":"86400*TIMEVALUE(TEXT(Smp99_Donnees!O1000,\"чч:мм:сс\"))","v":0}]
[{"$f":"86400*TIMEVALUE(TEXT(Smp99_Donnees!C1001,\"чч:мм:сс\"))","v":0},{"$f":"86400*TIMEVALUE(TEXT(Smp99_Donnees!O1001,\"чч:мм:сс\"))","v":0}]
[{"$f":"86400*TIMEVALUE(TEXT(Smp99_Donnees!C1002,\"чч:мм:сс\"))","v":0},{"$f":"86400*TIMEVALUE(TEXT(Smp99_Donnees!O1002,\"чч:мм:сс\"))","v":0}]
[{"$f":"86400*TIMEVALUE(TEXT(Smp99_Donnees!C1003,\"чч:мм:сс\"))","v":0},{"$f":"86400*TIMEVALUE(TEXT(Smp99_Donnees!O1003,\"чч:мм:сс\"))","v":0}]
[{"$f":"86400*TIMEVALUE(TEXT(Smp99_Donnees!C1004,\"чч:мм:сс\"))","v":0},{"$f":"86400*TIMEVALUE(TEXT(Smp99_Donnees!O1004,\"чч:мм:сс\"))","v":0}]
[{"$f":"86400*TIMEVALUE(TEXT(Smp99_Donnees!C1005,\"чч:мм:сс\"))","v":0},{"$f":"86400*TIMEVALUE(TEXT(Smp99_Donnees!O1005,\"чч:мм:сс\"))","v":0}]
[{"$f":"86400*TIMEVALUE(TEXT(Smp99_Donnees!C1006,\"чч:мм:сс\"))","v":0},{"$f":"86400*TIMEVALUE(TEXT(Smp99_Donnees!O1006,\"чч:мм:сс\"))","v":0}]
[{"$f":"86400*TIMEVALUE(TEXT(Smp99_Donnees!C1007,\"чч:мм:сс\"))","v":0},{"$f":"86400*TIMEVALUE(TEXT(Smp99_Donnees!O1007,\"чч:мм:сс\"))","v":0}]
[{"$f":"86400*TIMEVALUE(TEXT(Smp99_Donnees!C1008,\"чч:мм:сс\"))","v":0},{"$f":"86400*TIMEVALUE(TEXT(Smp99_Donnees!O1008,\"чч:мм:сс\"))","v":0}]
[{"$f":"86400*TIMEVALUE(TEXT(Smp99_Donnees!C1009,\"чч:мм:сс\"))","v":0},{"$f":"86400*TIMEVALUE(TEXT(Smp99_Donnees!O1009,\"чч:мм:сс\"))","v":0}]
[{"$f":"86400*TIMEVALUE(TEXT(Smp99_Donnees!C1010,\"чч:мм:сс\"))","v":0},{"$f":"86400*TIMEVALUE(TEXT(Smp99_Donnees!O1010,\"чч:мм:сс\"))","v":0}]
[{"$f":"86400*TIMEVALUE(TEXT(Smp99_Donnees!C1011,\"чч:мм:сс\"))","v":0},{"$f":"86400*TIMEVALUE(TEXT(Smp99_Donnees!O1011,\"чч:мм:сс\"))","v":0}]
[{"$f":"86400*TIMEVALUE(TEXT(Smp99_Donnees!C1012,\"чч:мм:сс\"))","v":0},{"$f":"86400*TIMEVALUE(TEXT(Smp99_Donnees!O1012,\"чч:мм:сс\"))","v":0}]
[{"$f":"86400*TIMEVALUE(TEXT(Smp99_Donnees!C1013,\"чч:мм:сс\"))","v":0},{"$f":"86400*TIMEVALUE(TEXT(Smp99_Donnees!O1013,\"чч:мм:сс\"))","v":0}]
[{"$f":"86400*TIMEVALUE(TEXT(Smp99_Donnees!C1014,\"чч:мм:сс\"))","v":0},{"$f":"86400*TIMEVALUE(TEXT(Smp99_Donnees!O1014,\"чч:мм:сс\"))","v":0}]
[{"$f":"86400*TIMEVALUE(TEXT(Smp99_Donnees!C1015,\"чч:мм:сс\"))","v":0},{"$f":"86400*TIMEVALUE(TEXT(Smp99_Donnees!O1015,\"чч:мм:сс\"))","v":0}]
[{"$f":"86400*TIMEVALUE(TEXT(Smp99_Donnees!C1016,\"чч:мм:сс\"))","v":0},{"$f":"86400*TIMEVALUE(TEXT(Smp99_Donnees!O1016,\"чч:мм:сс\"))","v":0}]
[{"$f":"86400*TIMEVALUE(TEXT(Smp99_Donnees!C1017,\"чч:мм:сс\"))","v":0},{"$f":"86400*TIMEVALUE(TEXT(Smp99_Donnees!O1017,\"чч:мм:сс\"))","v":0}]
[{"$f":"86400*TIMEVALUE(TEXT(Smp99_Donnees!C1018,\"чч:мм:сс\"))","v":0},{"$f":"86400*TIMEVALUE(TEXT(Smp99_Donnees!O1018,\"чч:мм:сс\"))","v":0}]
[{"$f":"86400*TIMEVALUE(TEXT(Smp99_Donnees!C1019,\"чч:мм:сс\"))","v":0},{"$f":"86400*TIMEVALUE(TEXT(Smp99_Donnees!O1019,\"чч:мм:сс\"))","v":0}]
[{"$f":"86400*TIMEVALUE(TEXT(Smp99_Donnees!C1020,\"чч:мм:сс\"))","v":0},{"$f":"86400*TIMEVALUE(TEXT(Smp99_Donnees!O1020,\"чч:мм:сс\"))","v":0}]
[{"$f":"86400*TIMEVALUE(TEXT(Smp99_Donnees!C1021,\"чч:мм:сс\"))","v":0},{"$f":"86400*TIMEVALUE(TEXT(Smp99_Donnees!O1021,\"чч:мм:сс\"))","v":0}]
[{"$f":"86400*TIMEVALUE(TEXT(Smp99_Donnees!C1022,\"чч:мм:сс\"))","v":0},{"$f":"86400*TIMEVALUE(TEXT(Smp99_Donnees!O1022,\"чч:мм:сс\"))","v":0}]
[{"$f":"86400*TIMEVALUE(TEXT(Smp99_Donnees!C1023,\"чч:мм:сс\"))","v":0},{"$f":"86400*TIMEVALUE(TEXT(Smp99_Donnees!O1023,\"чч:мм:сс\"))","v":0}]
[{"$f":"86400*TIMEVALUE(TEXT(Smp99_Donnees!C1024,\"чч:мм:сс\"))","v":0},{"$f":"86400*TIMEVALUE(TEXT(Smp99_Donnees!O1024,\"чч:мм:сс\"))","v":0}]
[{"$f":"86400*TIMEVALUE(TEXT(Smp99_Donnees!C1025,\"чч:мм:сс\"))","v":0},{"$f":"86400*TIMEVALUE(TEXT(Smp99_Donnees!O1025,\"чч:мм:сс\"))","v":0}]
[{"$f":"86400*TIMEVALUE(TEXT(Smp99_Donnees!C1026,\"чч:мм:сс\"))","v":0},{"$f":"86400*TIMEVALUE(TEXT(Smp99_Donnees!O1026,\"чч:мм:сс\"))","v":0}]
[{"$f":"86400*TIMEVALUE(TEXT(Smp99_Donnees!C1027,\"чч:мм:сс\"))","v":0},{"$f":"86400*TIMEVALUE(TEXT(Smp99_Donnees!O1027,\"чч:мм:сс\"))","v":0}]
[{"$f":"86400*TIMEVALUE(TEXT(Smp99_Donnees!C1028,\"чч:мм:сс\"))","v":0},{"$f":"86400*TIMEVALUE(TEXT(Smp99_Donnees!O1028,\"чч:мм:сс\"))","v":0}]
[{"$f":"86400*TIMEVALUE(TEXT(Smp99_Donnees!C1029,\"чч:мм:сс\"))","v":0},{"$f":"86400*TIMEVALUE(TEXT(Smp99_Donnees!O1029,\"чч:мм:сс\"))","v":0}]
[{"$f":"86400*TIMEVALUE(TEXT(Smp99_Donnees!C1030,\"чч:мм:сс\"))","v":0},{"$f":"86400*TIMEVALUE(TEXT(Smp99_Donnees!O1030,\"чч:мм:сс\"))","v":0}]
[{"$f":"86400*TIMEVALUE(TEXT(Smp99_Donnees!C1031,\"чч:мм:сс\"))","v":0},{"$f":"86400*TIMEVALUE(TEXT(Smp99_Donnees!O1031,\"чч:мм:сс\"))","v":0}]
[{"$f":"86400*TIMEVALUE(TEXT(Smp99_Donnees!C1032,\"чч:мм:сс\"))","v":0},{"$f":"86400*TIMEVALUE(TEXT(Smp99_Donnees!O1032,\"чч:мм:сс\"))","v":0}]
[{"$f":"86400*TIMEVALUE(TEXT(Smp99_Donnees!C1033,\"чч:мм:сс\"))","v":0},{"$f":"86400*TIMEVALUE(TEXT(Smp99_Donnees!O1033,\"чч:мм:сс\"))","v":0}]
[{"$f":"86400*TIMEVALUE(TEXT(Smp99_Donnees!C1034,\"чч:мм:сс\"))","v":0},{"$f":"86400*TIMEVALUE(TEXT(Smp99_Donnees!O1034,\"чч:мм:сс\"))","v":0}]
[{"$f":"86400*TIMEVALUE(TEXT(Smp99_Donnees!C1035,\"чч:мм:сс\"))","v":0},{"$f":"86400*TIMEVALUE(TEXT(Smp99_Donnees!O1035,\"чч:мм:сс\"))","v":0}]
[{"$f":"86400*TIMEVALUE(TEXT(Smp99_Donnees!C1036,\"чч:мм:сс\"))","v":0},{"$f":"86400*TIMEVALUE(TEXT(Smp99_Donnees!O1036,\"чч:мм:сс\"))","v":0}]
[{"$f":"86400*TIMEVALUE(TEXT(Smp99_Donnees!C1037,\"чч:мм:сс\"))","v":0},{"$f":"86400*TIMEVALUE(TEXT(Smp99_Donnees!O1037,\"чч:мм:сс\"))","v":0}]
[{"$f":"86400*TIMEVALUE(TEXT(Smp99_Donnees!C1038,\"чч:мм:сс\"))","v":0},{"$f":"86400*TIMEVALUE(TEXT(Smp99_Donnees!O1038,\"чч:мм:сс\"))","v":0}]
[{"$f":"86400*TIMEVALUE(TEXT(Smp99_Donnees!C1039,\"чч:мм:сс\"))","v":0},{"$f":"86400*TIMEVALUE(TEXT(Smp99_Donnees!O1039,\"чч:мм:сс\"))","v":0}]
[{"$f":"86400*TIMEVALUE(TEXT(Smp99_Donnees!C1040,\"чч:мм:сс\"))","v":0},{"$f":"86400*TIMEVALUE(TEXT(Smp99_Donnees!O1040,\"чч:мм:сс\"))","v":0}]
[{"$f":"86400*TIMEVALUE(TEXT(Smp99_Donnees!C1041,\"чч:мм:сс\"))","v":0},{"$f":"86400*TIMEVALUE(TEXT(Smp99_Donnees!O1041,\"чч:мм:сс\"))","v":0}]
[{"$f":"86400*TIMEVALUE(TEXT(Smp99_Donnees!C1042,\"чч:мм:сс\"))","v":0},{"$f":"86400*TIMEVALUE(TEXT(Smp99_Donnees!O1042,\"чч:мм:сс\"))","v":0}]
[{"$f":"86400*TIMEVALUE(TEXT(Smp99_Donnees!C1043,\"чч:мм:сс\"))","v":0},{"$f":"86400*TIMEVALUE(TEXT(Smp99_Donnees!O1043,\"чч:мм:сс\"))","v":0}]
[{"$f":"86400*TIMEVALUE(TEXT(Smp99_Donnees!C1044,\"чч:мм:сс\"))","v":0},{"$f":"86400*TIMEVALUE(TEXT(Smp99_Donnees!O1044,\"чч:мм:сс\"))","v":0}]
[{"$f":"86400*TIMEVALUE(TEXT(Smp99_Donnees!C1045,\"чч:мм:сс\"))","v":0},{"$f":"86400*TIMEVALUE(TEXT(Smp99_Donnees!O1045,\"чч:мм:сс\"))","v":0}]
[{"$f":"86400*TIMEVALUE(TEXT(Smp99_Donnees!C1046,\"чч:мм:сс\"))","v":0},{"$f":"86400*TIMEVALUE(TEXT(Smp99_Donnees!O1046,\"чч:мм:сс\"))","v":0}]
[{"$f":"86400*TIMEVALUE(TEXT(Smp99_Donnees!C1047,\"чч:мм:сс\"))","v":0},{"$f":"86400*TIMEVALUE(TEXT(Smp99_Donnees!O1047,\"чч:мм:сс\"))","v":0}]
[{"$f":"86400*TIMEVALUE(TEXT(Smp99_Donnees!C1048,\"чч:мм:сс\"))","v":0},{"$f":"86400*TIMEVALUE(TEXT(Smp99_Donnees!O1048,\"чч:мм:сс\"))","v":0}]
[{"$f":"86400*TIMEVALUE(TEXT(Smp99_Donnees!C1049,\"чч:мм:сс\"))","v":0},{"$f":"86400*TIMEVALUE(TEXT(Smp99_Donnees!O1049,\"чч:мм:сс\"))","v":0}]
[{"$f":"86400*TIMEVALUE(TEXT(Smp99_Donnees!C1050,\"чч:мм:сс\"))","v":0},{"$f":"86400*TIMEVALUE(TEXT(Smp99_Donnees!O1050,\"чч:мм:сс\"))","v":0}]
[{"$f":"86400*TIMEVALUE(TEXT(Smp99_Donnees!C1051,\"чч:мм:сс\"))","v":0},{"$f":"86400*TIMEVALUE(TEXT(Smp99_Donnees!O1051,\"чч:мм:сс\"))","v":0}]
[{"$f":"86400*TIMEVALUE(TEXT(Smp99_Donnees!C1052,\"чч:мм:сс\"))","v":0},{"$f":"86400*TIMEVALUE(TEXT(Smp99_Donnees!O1052,\"чч:мм:сс\"))","v":0}]
[{"$f":"86400*TIMEVALUE(TEXT(Smp99_Donnees!C1053,\"чч:мм:сс\"))","v":0},{"$f":"86400*TIMEVALUE(TEXT(Smp99_Donnees!O1053,\"чч:мм:сс\"))","v":0}]
[{"$f":"86400*TIMEVALUE(TEXT(Smp99_Donnees!C1054,\"чч:мм:сс\"))","v":0},{"$f":"86400*TIMEVALUE(TEXT(Smp99_Donnees!O1054,\"чч:мм:сс\"))","v":0}]
[{"$f":"86400*TIMEVALUE(TEXT(Smp99_Donnees!C1055,\"чч:мм:сс\"))","v":0},{"$f":"86400*TIMEVALUE(TEXT(Smp99_Donnees!O1055,\"чч:мм:сс\"))","v":0}]
[{"$f":"86400*TIMEVALUE(TEXT(Smp99_Donnees!C1056,\"чч:мм:сс\"))","v":0},{"$f":"86400*TIMEVALUE(TEXT(Smp99_Donnees!O1056,\"чч:мм:сс\"))","v":0}]
[{"$f":"86400*TIMEVALUE(TEXT(Smp99_Donnees!C1057,\"чч:мм:сс\"))","v":0},{"$f":"86400*TIMEVALUE(TEXT(Smp99_Donnees!O1057,\"чч:мм:сс\"))","v":0}]
[{"$f":"86400*TIMEVALUE(TEXT(Smp99_Donnees!C1058,\"чч:мм:сс\"))","v":0},{"$f":"86400*TIMEVALUE(TEXT(Smp99_Donnees!O1058,\"чч:мм:сс\"))","v":0}]
[{"$f":"86400*TIMEVALUE(TEXT(Smp99_Donnees!C1059,\"чч:мм:сс\"))","v":0},{"$f":"86400*TIMEVALUE(TEXT(Smp99_Donnees!O1059,\"чч:мм:сс\"))","v":0}]
[{"$f":"86400*TIMEVALUE(TEXT(Smp99_Donnees!C1060,\"чч:мм:сс\"))","v":0},{"$f":"86400*TIMEVALUE(TEXT(Smp99_Donnees!O1060,\"чч:мм:сс\"))","v":0}]
[{"$f":"86400*TIMEVALUE(TEXT(Smp99_Donnees!C1061,\"чч:мм:сс\"))","v":0},{"$f":"86400*TIMEVALUE(TEXT(Smp99_Donnees!O1061,\"чч:мм:сс\"))","v":0}]
[{"$f":"86400*TIMEVALUE(TEXT(Smp99_Donnees!C1062,\"чч:мм:сс\"))","v":0},{"$f":"86400*TIMEVALUE(TEXT(Smp99_Donnees!O1062,\"чч:мм:сс\"))","v":0}]
[{"$f":"86400*TIMEVALUE(TEXT(Smp99_Donnees!C1063,\"чч:мм:сс\"))","v":0},{"$f":"86400*TIMEVALUE(TEXT(Smp99_Donnees!O1063,\"чч:мм:сс\"))","v":0}]
[{"$f":"86400*TIMEVALUE(TEXT(Smp99_Donnees!C1064,\"чч:мм:сс\"))","v":0},{"$f":"86400*TIMEVALUE(TEXT(Smp99_Donnees!O1064,\"чч:мм:сс\"))","v":0}]
[{"$f":"86400*TIMEVALUE(TEXT(Smp99_Donnees!C1065,\"чч:мм:сс\"))","v":0},{"$f":"86400*TIMEVALUE(TEXT(Smp99_Donnees!O1065,\"чч:мм:сс\"))","v":0}]
[{"$f":"86400*TIMEVALUE(TEXT(Smp99_Donnees!C1066,\"чч:мм:сс\"))","v":0},{"$f":"86400*TIMEVALUE(TEXT(Smp99_Donnees!O1066,\"чч:мм:сс\"))","v":0}]
[{"$f":"86400*TIMEVALUE(TEXT(Smp99_Donnees!C1067,\"чч:мм:сс\"))","v":0},{"$f":"86400*TIMEVALUE(TEXT(Smp99_Donnees!O1067,\"чч:мм:сс\"))","v":0}]
[{"$f":"86400*TIMEVALUE(TEXT(Smp99_Donnees!C1068,\"чч:мм:сс\"))","v":0},{"$f":"86400*TIMEVALUE(TEXT(Smp99_Donnees!O1068,\"чч:мм:сс\"))","v":0}]
[{"$f":"86400*TIMEVALUE(TEXT(Smp99_Donnees!C1069,\"чч:мм:сс\"))","v":0},{"$f":"86400*TIMEVALUE(TEXT(Smp99_Donnees!O1069,\"чч:мм:сс\"))","v":0}]
[{"$f":"86400*TIMEVALUE(TEXT(Smp99_Donnees!C1070,\"чч:мм:сс\"))","v":0},{"$f":"86400*TIMEVALUE(TEXT(Smp99_Donnees!O1070,\"чч:мм:сс\"))","v":0}]
[{"$f":"86400*TIMEVALUE(TEXT(Smp99_Donnees!C1071,\"чч:мм:сс\"))","v":0},{"$f":"86400*TIMEVALUE(TEXT(Smp99_Donnees!O1071,\"чч:мм:сс\"))","v":0}]
[{"$f":"86400*TIMEVALUE(TEXT(Smp99_Donnees!C1072,\"чч:мм:сс\"))","v":0},{"$f":"86400*TIMEVALUE(TEXT(Smp99_Donnees!O1072,\"чч:мм:сс\"))","v":0}]
[{"$f":"86400*TIMEVALUE(TEXT(Smp99_Donnees!C1073,\"чч:мм:сс\"))","v":0},{"$f":"86400*TIMEVALUE(TEXT(Smp99_Donnees!O1073,\"чч:мм:сс\"))","v":0}]
[{"$f":"86400*TIMEVALUE(TEXT(Smp99_Donnees!C1074,\"чч:мм:сс\"))","v":0},{"$f":"86400*TIMEVALUE(TEXT(Smp99_Donnees!O1074,\"чч:мм:сс\"))","v":0}]
[{"$f":"86400*TIMEVALUE(TEXT(Smp99_Donnees!C1075,\"чч:мм:сс\"))","v":0},{"$f":"86400*TIMEVALUE(TEXT(Smp99_Donnees!O1075,\"чч:мм:сс\"))","v":0}]
[{"$f":"86400*TIMEVALUE(TEXT(Smp99_Donnees!C1076,\"чч:мм:сс\"))","v":0},{"$f":"86400*TIMEVALUE(TEXT(Smp99_Donnees!O1076,\"чч:мм:сс\"))","v":0}]
[{"$f":"86400*TIMEVALUE(TEXT(Smp99_Donnees!C1077,\"чч:мм:сс\"))","v":0},{"$f":"86400*TIMEVALUE(TEXT(Smp99_Donnees!O1077,\"чч:мм:сс\"))","v":0}]
[{"$f":"86400*TIMEVALUE(TEXT(Smp99_Donnees!C1078,\"чч:мм:сс\"))","v":0},{"$f":"86400*TIMEVALUE(TEXT(Smp99_Donnees!O1078,\"чч:мм:сс\"))","v":0}]
[{"$f":"86400*TIMEVALUE(TEXT(Smp99_Donnees!C1079,\"чч:мм:сс\"))","v":0},{"$f":"86400*TIMEVALUE(TEXT(Smp99_Donnees!O1079,\"чч:мм:сс\"))","v":0}]
[{"$f":"86400*TIMEVALUE(TEXT(Smp99_Donnees!C1080,\"чч:мм:сс\"))","v":0},{"$f":"86400*TIMEVALUE(TEXT(Smp99_Donnees!O1080,\"чч:мм:сс\"))","v":0}]
[{"$f":"86400*TIMEVALUE(TEXT(Smp99_Donnees!C1081,\"чч:мм:сс\"))","v":0},{"$f":"86400*TIMEVALUE(TEXT(Smp99_Donnees!O1081,\"чч:мм:сс\"))","v":0}]
[{"$f":"86400*TIMEVALUE(TEXT(Smp99_Donnees!C1082,\"чч:мм:сс\"))","v":0},{"$f":"86400*TIMEVALUE(TEXT(Smp99_Donnees!O1082,\"чч:мм:сс\"))","v":0}]
[{"$f":"86400*TIMEVALUE(TEXT(Smp99_Donnees!C1083,\"чч:мм:сс\"))","v":0},{"$f":"86400*TIMEVALUE(TEXT(Smp99_Donnees!O1083,\"чч:мм:сс\"))","v":0}]
[{"$f":"86400*TIMEVALUE(TEXT(Smp99_Donnees!C1084,\"чч:мм:сс\"))","v":0},{"$f":"86400*TIMEVALUE(TEXT(Smp99_Donnees!O1084,\"чч:мм:сс\"))","v":0}]
[{"$f":"86400*TIMEVALUE(TEXT(Smp99_Donnees!C1085,\"чч:мм:сс\"))","v":0},{"$f":"86400*TIMEVALUE(TEXT(Smp99_Donnees!O1085,\"чч:мм:сс\"))","v":0}]
[{"$f":"86400*TIMEVALUE(TEXT(Smp99_Donnees!C1086,\"чч:мм:сс\"))","v":0},{"$f":"86400*TIMEVALUE(TEXT(Smp99_Donnees!O1086,\"чч:мм:сс\"))","v":0}]
[{"$f":"86400*TIMEVALUE(TEXT(Smp99_Donnees!C1087,\"чч:мм:сс\"))","v":0},{"$f":"86400*TIMEVALUE(TEXT(Smp99_Donnees!O1087,\"чч:мм:сс\"))","v":0}]
[{"$f":"86400*TIMEVALUE(TEXT(Smp99_Donnees!C1088,\"чч:мм:сс\"))","v":0},{"$f":"86400*TIMEVALUE(TEXT(Smp99_Donnees!O1088,\"чч:мм:сс\"))","v":0}]
[{"$f":"86400*TIMEVALUE(TEXT(Smp99_Donnees!C1089,\"чч:мм:сс\"))","v":0},{"$f":"86400*TIMEVALUE(TEXT(Smp99_Donnees!O1089,\"чч:мм:сс\"))","v":0}]
[{"$f":"86400*TIMEVALUE(TEXT(Smp99_Donnees!C1090,\"чч:мм:сс\"))","v":0},{"$f":"86400*TIMEVALUE(TEXT(Smp99_Donnees!O1090,\"чч:мм:сс\"))","v":0}]
[{"$f":"86400*TIMEVALUE(TEXT(Smp99_Donnees!C1091,\"чч:мм:сс\"))","v":0},{"$f":"86400*TIMEVALUE(TEXT(Smp99_Donnees!O1091,\"чч:мм:сс\"))","v":0}]
[{"$f":"86400*TIMEVALUE(TEXT(Smp99_Donnees!C1092,\"чч:мм:сс\"))","v":0},{"$f":"86400*TIMEVALUE(TEXT(Smp99_Donnees!O1092,\"чч:мм:сс\"))","v":0}]
[{"$f":"86400*TIMEVALUE(TEXT(Smp99_Donnees!C1093,\"чч:мм:сс\"))","v":0},{"$f":"86400*TIMEVALUE(TEXT(Smp99_Donnees!O1093,\"чч:мм:сс\"))","v":0}]
[{"$f":"86400*TIMEVALUE(TEXT(Smp99_Donnees!C1094,\"чч:мм:сс\"))","v":0},{"$f":"86400*TIMEVALUE(TEXT(Smp99_Donnees!O1094,\"чч:мм:сс\"))","v":0}]
[{"$f":"86400*TIMEVALUE(TEXT(Smp99_Donnees!C1095,\"чч:мм:сс\"))","v":0},{"$f":"86400*TIMEVALUE(TEXT(Smp99_Donnees!O1095,\"чч:мм:сс\"))","v":0}]
[{"$f":"86400*TIMEVALUE(TEXT(Smp99_Donnees!C1096,\"чч:мм:сс\"))","v":0},{"$f":"86400*TIMEVALUE(TEXT(Smp99_Donnees!O1096,\"чч:мм:сс\"))","v":0}]
[{"$f":"86400*TIMEVALUE(TEXT(Smp99_Donnees!C1097,\"чч:мм:сс\"))","v":0},{"$f":"86400*TIMEVALUE(TEXT(Smp99_Donnees!O1097,\"чч:мм:сс\"))","v":0}]
[{"$f":"86400*TIMEVALUE(TEXT(Smp99_Donnees!C1098,\"чч:мм:сс\"))","v":0},{"$f":"86400*TIMEVALUE(TEXT(Smp99_Donnees!O1098,\"чч:мм:сс\"))","v":0}]
[{"$f":"86400*TIMEVALUE(TEXT(Smp99_Donnees!C1099,\"чч:мм:сс\"))","v":0},{"$f":"86400*TIMEVALUE(TEXT(Smp99_Donnees!O1099,\"чч:мм:сс\"))","v":0}]
[{"$f":"86400*TIMEVALUE(TEXT(Smp99_Donnees!C1100,\"чч:мм:сс\"))","v":0},{"$f":"86400*TIMEVALUE(TEXT(Smp99_Donnees!O1100,\"чч:мм:сс\"))","v":0}]
[{"$f":"86400*TIMEVALUE(TEXT(Smp99_Donnees!C1101,\"чч:мм:сс\"))","v":0},{"$f":"86400*TIMEVALUE(TEXT(Smp99_Donnees!O1101,\"чч:мм:сс\"))","v":0}]
[{"$f":"86400*TIMEVALUE(TEXT(Smp99_Donnees!C1102,\"чч:мм:сс\"))","v":0},{"$f":"86400*TIMEVALUE(TEXT(Smp99_Donnees!O1102,\"чч:мм:сс\"))","v":0}]
[{"$f":"86400*TIMEVALUE(TEXT(Smp99_Donnees!C1103,\"чч:мм:сс\"))","v":0},{"$f":"86400*TIMEVALUE(TEXT(Smp99_Donnees!O1103,\"чч:мм:сс\"))","v":0}]
[{"$f":"86400*TIMEVALUE(TEXT(Smp99_Donnees!C1104,\"чч:мм:сс\"))","v":0},{"$f":"86400*TIMEVALUE(TEXT(Smp99_Donnees!O1104,\"чч:мм:сс\"))","v":0}]
[{"$f":"86400*TIMEVALUE(TEXT(Smp99_Donnees!C1105,\"чч:мм:сс\"))","v":0},{"$f":"86400*TIMEVALUE(TEXT(Smp99_Donnees!O1105,\"чч:мм:сс\"))","v":0}]
[{"$f":"86400*TIMEVALUE(TEXT(Smp99_Donnees!C1106,\"чч:мм:сс\"))","v":0},{"$f":"86400*TIMEVALUE(TEXT(Smp99_Donnees!O1106,\"чч:мм:сс\"))","v":0}]
[{"$f":"86400*TIMEVALUE(TEXT(Smp99_Donnees!C1107,\"чч:мм:сс\"))","v":0},{"$f":"86400*TIMEVALUE(TEXT(Smp99_Donnees!O1107,\"чч:мм:сс\"))","v":0}]
[{"$f":"86400*TIMEVALUE(TEXT(Smp99_Donnees!C1108,\"чч:мм:сс\"))","v":0},{"$f":"86400*TIMEVALUE(TEXT(Smp99_Donnees!O1108,\"чч:мм:сс\"))","v":0}]
[{"$f":"86400*TIMEVALUE(TEXT(Smp99_Donnees!C1109,\"чч:мм:сс\"))","v":0},{"$f":"86400*TIMEVALUE(TEXT(Smp99_Donnees!O1109,\"чч:мм:сс\"))","v":0}]
[{"$f":"86400*TIMEVALUE(TEXT(Smp99_Donnees!C1110,\"чч:мм:сс\"))","v":0},{"$f":"86400*TIMEVALUE(TEXT(Smp99_Donnees!O1110,\"чч:мм:сс\"))","v":0}]
[{"$f":"86400*TIMEVALUE(TEXT(Smp99_Donnees!C1111,\"чч:мм:сс\"))","v":0},{"$f":"86400*TIMEVALUE(TEXT(Smp99_Donnees!O1111,\"чч:мм:сс\"))","v":0}]
[{"$f":"86400*TIMEVALUE(TEXT(Smp99_Donnees!C1112,\"чч:мм:сс\"))","v":0},{"$f":"86400*TIMEVALUE(TEXT(Smp99_Donnees!O1112,\"чч:мм:сс\"))","v":0}]
[{"$f":"86400*TIMEVALUE(TEXT(Smp99_Donnees!C1113,\"чч:мм:сс\"))","v":0},{"$f":"86400*TIMEVALUE(TEXT(Smp99_Donnees!O1113,\"чч:мм:сс\"))","v":0}]
[{"$f":"86400*TIMEVALUE(TEXT(Smp99_Donnees!C1114,\"чч:мм:сс\"))","v":0},{"$f":"86400*TIMEVALUE(TEXT(Smp99_Donnees!O1114,\"чч:мм:сс\"))","v":0}]
[{"$f":"86400*TIMEVALUE(TEXT(Smp99_Donnees!C1115,\"чч:мм:сс\"))","v":0},{"$f":"86400*TIMEVALUE(TEXT(Smp99_Donnees!O1115,\"чч:мм:сс\"))","v":0}]
[{"$f":"86400*TIMEVALUE(TEXT(Smp99_Donnees!C1116,\"чч:мм:сс\"))","v":0},{"$f":"86400*TIMEVALUE(TEXT(Smp99_Donnees!O1116,\"чч:мм:сс\"))","v":0}]
[{"$f":"86400*TIMEVALUE(TEXT(Smp99_Donnees!C1117,\"чч:мм:сс\"))","v":0},{"$f":"86400*TIMEVALUE(TEXT(Smp99_Donnees!O1117,\"чч:мм:сс\"))","v":0}]
[{"$f":"86400*TIMEVALUE(TEXT(Smp99_Donnees!C1118,\"чч:мм:сс\"))","v":0},{"$f":"86400*TIMEVALUE(TEXT(Smp99_Donnees!O1118,\"чч:мм:сс\"))","v":0}]
[{"$f":"86400*TIMEVALUE(TEXT(Smp99_Donnees!C1119,\"чч:мм:сс\"))","v":0},{"$f":"86400*TIMEVALUE(TEXT(Smp99_Donnees!O1119,\"чч:мм:сс\"))","v":0}]
[{"$f":"86400*TIMEVALUE(TEXT(Smp99_Donnees!C1120,\"чч:мм:сс\"))","v":0},{"$f":"86400*TIMEVALUE(TEXT(Smp99_Donnees!O1120,\"чч:мм:сс\"))","v":0}]
[{"$f":"86400*TIMEVALUE(TEXT(Smp99_Donnees!C1121,\"чч:мм:сс\"))","v":0},{"$f":"86400*TIMEVALUE(TEXT(Smp99_Donnees!O1121,\"чч:мм:сс\"))","v":0}]
[{"$f":"86400*TIMEVALUE(TEXT(Smp99_Donnees!C1122,\"чч:мм:сс\"))","v":0},{"$f":"86400*TIMEVALUE(TEXT(Smp99_Donnees!O1122,\"чч:мм:сс\"))","v":0}]
[{"$f":"86400*TIMEVALUE(TEXT(Smp99_Donnees!C1123,\"чч:мм:сс\"))","v":0},{"$f":"86400*TIMEVALUE(TEXT(Smp99_Donnees!O1123,\"чч:мм:сс\"))","v":0}]
[{"$f":"86400*TIMEVALUE(TEXT(Smp99_Donnees!C1124,\"чч:мм:сс\"))","v":0},{"$f":"86400*TIMEVALUE(TEXT(Smp99_Donnees!O1124,\"чч:мм:сс\"))","v":0}]
[{"$f":"86400*TIMEVALUE(TEXT(Smp99_Donnees!C1125,\"чч:мм:сс\"))","v":0},{"$f":"86400*TIMEVALUE(TEXT(Smp99_Donnees!O1125,\"чч:мм:сс\"))","v":0}]
[{"$f":"86400*TIMEVALUE(TEXT(Smp99_Donnees!C1126,\"чч:мм:сс\"))","v":0},{"$f":"86400*TIMEVALUE(TEXT(Smp99_Donnees!O1126,\"чч:мм:сс\"))","v":0}]
[{"$f":"86400*TIMEVALUE(TEXT(Smp99_Donnees!C1127,\"чч:мм:сс\"))","v":0},{"$f":"86400*TIMEVALUE(TEXT(Smp99_Donnees!O1127,\"чч:мм:сс\"))","v":0}]
[{"$f":"86400*TIMEVALUE(TEXT(Smp99_Donnees!C1128,\"чч:мм:сс\"))","v":0},{"$f":"86400*TIMEVALUE(TEXT(Smp99_Donnees!O1128,\"чч:мм:сс\"))","v":0}]
[{"$f":"86400*TIMEVALUE(TEXT(Smp99_Donnees!C1129,\"чч:мм:сс\"))","v":0},{"$f":"86400*TIMEVALUE(TEXT(Smp99_Donnees!O1129,\"чч:мм:сс\"))","v":0}]
[{"$f":"86400*TIMEVALUE(TEXT(Smp99_Donnees!C1130,\"чч:мм:сс\"))","v":0},{"$f":"86400*TIMEVALUE(TEXT(Smp99_Donnees!O1130,\"чч:мм:сс\"))","v":0}]
[{"$f":"86400*TIMEVALUE(TEXT(Smp99_Donnees!C1131,\"чч:мм:сс\"))","v":0},{"$f":"86400*TIMEVALUE(TEXT(Smp99_Donnees!O1131,\"чч:мм:сс\"))","v":0}]
[{"$f":"86400*TIMEVALUE(TEXT(Smp99_Donnees!C1132,\"чч:мм:сс\"))","v":0},{"$f":"86400*TIMEVALUE(TEXT(Smp99_Donnees!O1132,\"чч:мм:сс\"))","v":0}]
[{"$f":"86400*TIMEVALUE(TEXT(Smp99_Donnees!C1133,\"чч:мм:сс\"))","v":0},{"$f":"86400*TIMEVALUE(TEXT(Smp99_Donnees!O1133,\"чч:мм:сс\"))","v":0}]
[{"$f":"86400*TIMEVALUE(TEXT(Smp99_Donnees!C1134,\"чч:мм:сс\"))","v":0},{"$f":"86400*TIMEVALUE(TEXT(Smp99_Donnees!O1134,\"чч:мм:сс\"))","v":0}]
[{"$f":"86400*TIMEVALUE(TEXT(Smp99_Donnees!C1135,\"чч:мм:сс\"))","v":0},{"$f":"86400*TIMEVALUE(TEXT(Smp99_Donnees!O1135,\"чч:мм:сс\"))","v":0}]
[{"$f":"86400*TIMEVALUE(TEXT(Smp99_Donnees!C1136,\"чч:мм:сс\"))","v":0},{"$f":"86400*TIMEVALUE(TEXT(Smp99_Donnees!O1136,\"чч:мм:сс\"))","v":0}]
[{"$f":"86400*TIMEVALUE(TEXT(Smp99_Donnees!C1137,\"чч:мм:сс\"))","v":0},{"$f":"86400*TIMEVALUE(TEXT(Smp99_Donnees!O1137,\"чч:мм:сс\"))","v":0}]
[{"$f":"86400*TIMEVALUE(TEXT(Smp99_Donnees!C1138,\"чч:мм:сс\"))","v":0},{"$f":"86400*TIMEVALUE(TEXT(Smp99_Donnees!O1138,\"чч:мм:сс\"))","v":0}]
[{"$f":"86400*TIMEVALUE(TEXT(Smp99_Donnees!C1139,\"чч:мм:сс\"))","v":0},{"$f":"86400*TIMEVALUE(TEXT(Smp99_Donnees!O1139,\"чч:мм:сс\"))","v":0}]
[{"$f":"86400*TIMEVALUE(TEXT(Smp99_Donnees!C1140,\"чч:мм:сс\"))","v":0},{"$f":"86400*TIMEVALUE(TEXT(Smp99_Donnees!O1140,\"чч:мм:сс\"))","v":0}]
[{"$f":"86400*TIMEVALUE(TEXT(Smp99_Donnees!C1141,\"чч:мм:сс\"))","v":0},{"$f":"86400*TIMEVALUE(TEXT(Smp99_Donnees!O1141,\"чч:мм:сс\"))","v":0}]
[{"$f":"86400*TIMEVALUE(TEXT(Smp99_Donnees!C1142,\"чч:мм:сс\"))","v":0},{"$f":"86400*TIMEVALUE(TEXT(Smp99_Donnees!O1142,\"чч:мм:сс\"))","v":0}]
[{"$f":"86400*TIMEVALUE(TEXT(Smp99_Donnees!C1143,\"чч:мм:сс\"))","v":0},{"$f":"86400*TIMEVALUE(TEXT(Smp99_Donnees!O1143,\"чч:мм:сс\"))","v":0}]
[{"$f":"86400*TIMEVALUE(TEXT(Smp99_Donnees!C1144,\"чч:мм:сс\"))","v":0},{"$f":"86400*TIMEVALUE(TEXT(Smp99_Donnees!O1144,\"чч:мм:сс\"))","v":0}]
[{"$f":"86400*TIMEVALUE(TEXT(Smp99_Donnees!C1145,\"чч:мм:сс\"))","v":0},{"$f":"86400*TIMEVALUE(TEXT(Smp99_Donnees!O1145,\"чч:мм:сс\"))","v":0}]
[{"$f":"86400*TIMEVALUE(TEXT(Smp99_Donnees!C1146,\"чч:мм:сс\"))","v":0},{"$f":"86400*TIMEVALUE(TEXT(Smp99_Donnees!O1146,\"чч:мм:сс\"))","v":0}]
[{"$f":"86400*TIMEVALUE(TEXT(Smp99_Donnees!C1147,\"чч:мм:сс\"))","v":0},{"$f":"86400*TIMEVALUE(TEXT(Smp99_Donnees!O1147,\"чч:мм:сс\"))","v":0}]
[{"$f":"86400*TIMEVALUE(TEXT(Smp99_Donnees!C1148,\"чч:мм:сс\"))","v":0},{"$f":"86400*TIMEVALUE(TEXT(Smp99_Donnees!O1148,\"чч:мм:сс\"))","v":0}]
[{"$f":"86400*TIMEVALUE(TEXT(Smp99_Donnees!C1149,\"чч:мм:сс\"))","v":0},{"$f":"86400*TIMEVALUE(TEXT(Smp99_Donnees!O1149,\"чч:мм:сс\"))","v":0}]
[{"$f":"86400*TIMEVALUE(TEXT(Smp99_Donnees!C1150,\"чч:мм:сс\"))","v":0},{"$f":"86400*TIMEVALUE(TEXT(Smp99_Donnees!O1150,\"чч:мм:сс\"))","v":0}]
[{"$f":"86400*TIMEVALUE(TEXT(Smp99_Donnees!C1151,\"чч:мм:сс\"))","v":0},{"$f":"86400*TIMEVALUE(TEXT(Smp99_Donnees!O1151,\"чч:мм:сс\"))","v":0}]
[{"$f":"86400*TIMEVALUE(TEXT(Smp99_Donnees!C1152,\"чч:мм:сс\"))","v":0},{"$f":"86400*TIMEVALUE(TEXT(Smp99_Donnees!O1152,\"чч:мм:сс\"))","v":0}]
[{"$f":"86400*TIMEVALUE(TEXT(Smp99_Donnees!C1153,\"чч:мм:сс\"))","v":0},{"$f":"86400*TIMEVALUE(TEXT(Smp99_Donnees!O1153,\"чч:мм:сс\"))","v":0}]
[{"$f":"86400*TIMEVALUE(TEXT(Smp99_Donnees!C1154,\"чч:мм:сс\"))","v":0},{"$f":"86400*TIMEVALUE(TEXT(Smp99_Donnees!O1154,\"чч:мм:сс\"))","v":0}]
[{"$f":"86400*TIMEVALUE(TEXT(Smp99_Donnees!C1155,\"чч:мм:сс\"))","v":0},{"$f":"86400*TIMEVALUE(TEXT(Smp99_Donnees!O1155,\"чч:мм:сс\"))","v":0}]
[{"$f":"86400*TIMEVALUE(TEXT(Smp99_Donnees!C1156,\"чч:мм:сс\"))","v":0},{"$f":"86400*TIMEVALUE(TEXT(Smp99_Donnees!O1156,\"чч:мм:сс\"))","v":0}]
[{"$f":"86400*TIMEVALUE(TEXT(Smp99_Donnees!C1157,\"чч:мм:сс\"))","v":0},{"$f":"86400*TIMEVALUE(TEXT(Smp99_Donnees!O1157,\"чч:мм:сс\"))","v":0}]
[{"$f":"86400*TIMEVALUE(TEXT(Smp99_Donnees!C1158,\"чч:мм:сс\"))","v":0},{"$f":"86400*TIMEVALUE(TEXT(Smp99_Donnees!O1158,\"чч:мм:сс\"))","v":0}]
[{"$f":"86400*TIMEVALUE(TEXT(Smp99_Donnees!C1159,\"чч:мм:сс\"))","v":0},{"$f":"86400*TIMEVALUE(TEXT(Smp99_Donnees!O1159,\"чч:мм:сс\"))","v":0}]
[{"$f":"86400*TIMEVALUE(TEXT(Smp99_Donnees!C1160,\"чч:мм:сс\"))","v":0},{"$f":"86400*TIMEVALUE(TEXT(Smp99_Donnees!O1160,\"чч:мм:сс\"))","v":0}]
[{"$f":"86400*TIMEVALUE(TEXT(Smp99_Donnees!C1161,\"чч:мм:сс\"))","v":0},{"$f":"86400*TIMEVALUE(TEXT(Smp99_Donnees!O1161,\"чч:мм:сс\"))","v":0}]
[{"$f":"86400*TIMEVALUE(TEXT(Smp99_Donnees!C1162,\"чч:мм:сс\"))","v":0},{"$f":"86400*TIMEVALUE(TEXT(Smp99_Donnees!O1162,\"чч:мм:сс\"))","v":0}]
[{"$f":"86400*TIMEVALUE(TEXT(Smp99_Donnees!C1163,\"чч:мм:сс\"))","v":0},{"$f":"86400*TIMEVALUE(TEXT(Smp99_Donnees!O1163,\"чч:мм:сс\"))","v":0}]
[{"$f":"86400*TIMEVALUE(TEXT(Smp99_Donnees!C1164,\"чч:мм:сс\"))","v":0},{"$f":"86400*TIMEVALUE(TEXT(Smp99_Donnees!O1164,\"чч:мм:сс\"))","v":0}]
[{"$f":"86400*TIMEVALUE(TEXT(Smp99_Donnees!C1165,\"чч:мм:сс\"))","v":0},{"$f":"86400*TIMEVALUE(TEXT(Smp99_Donnees!O1165,\"чч:мм:сс\"))","v":0}]
[{"$f":"86400*TIMEVALUE(TEXT(Smp99_Donnees!C1166,\"чч:мм:сс\"))","v":0},{"$f":"86400*TIMEVALUE(TEXT(Smp99_Donnees!O1166,\"чч:мм:сс\"))","v":0}]
[{"$f":"86400*TIMEVALUE(TEXT(Smp99_Donnees!C1167,\"чч:мм:сс\"))","v":0},{"$f":"86400*TIMEVALUE(TEXT(Smp99_Donnees!O1167,\"чч:мм:сс\"))","v":0}]
[{"$f":"86400*TIMEVALUE(TEXT(Smp99_Donnees!C1168,\"чч:мм:сс\"))","v":0},{"$f":"86400*TIMEVALUE(TEXT(Smp99_Donnees!O1168,\"чч:мм:сс\"))","v":0}]
[{"$f":"86400*TIMEVALUE(TEXT(Smp99_Donnees!C1169,\"чч:мм:сс\"))","v":0},{"$f":"86400*TIMEVALUE(TEXT(Smp99_Donnees!O1169,\"чч:мм:сс\"))","v":0}]
[{"$f":"86400*TIMEVALUE(TEXT(Smp99_Donnees!C1170,\"чч:мм:сс\"))","v":0},{"$f":"86400*TIMEVALUE(TEXT(Smp99_Donnees!O1170,\"чч:мм:сс\"))","v":0}]
[{"$f":"86400*TIMEVALUE(TEXT(Smp99_Donnees!C1171,\"чч:мм:сс\"))","v":0},{"$f":"86400*TIMEVALUE(TEXT(Smp99_Donnees!O1171,\"чч:мм:сс\"))","v":0}]
[{"$f":"86400*TIMEVALUE(TEXT(Smp99_Donnees!C1172,\"чч:мм:сс\"))","v":0},{"$f":"86400*TIMEVALUE(TEXT(Smp99_Donnees!O1172,\"чч:мм:сс\"))","v":0}]
[{"$f":"86400*TIMEVALUE(TEXT(Smp99_Donnees!C1173,\"чч:мм:сс\"))","v":0},{"$f":"86400*TIMEVALUE(TEXT(Smp99_Donnees!O1173,\"чч:мм:сс\"))","v":0}]
[{"$f":"86400*TIMEVALUE(TEXT(Smp99_Donnees!C1174,\"чч:мм:сс\"))","v":0},{"$f":"86400*TIMEVALUE(TEXT(Smp99_Donnees!O1174,\"чч:мм:сс\"))","v":0}]
[{"$f":"86400*TIMEVALUE(TEXT(Smp99_Donnees!C1175,\"чч:мм:сс\"))","v":0},{"$f":"86400*TIMEVALUE(TEXT(Smp99_Donnees!O1175,\"чч:мм:сс\"))","v":0}]
[{"$f":"86400*TIMEVALUE(TEXT(Smp99_Donnees!C1176,\"чч:мм:сс\"))","v":0},{"$f":"86400*TIMEVALUE(TEXT(Smp99_Donnees!O1176,\"чч:мм:сс\"))","v":0}]
[{"$f":"86400*TIMEVALUE(TEXT(Smp99_Donnees!C1177,\"чч:мм:сс\"))","v":0},{"$f":"86400*TIMEVALUE(TEXT(Smp99_Donnees!O1177,\"чч:мм:сс\"))","v":0}]
[{"$f":"86400*TIMEVALUE(TEXT(Smp99_Donnees!C1178,\"чч:мм:сс\"))","v":0},{"$f":"86400*TIMEVALUE(TEXT(Smp99_Donnees!O1178,\"чч:мм:сс\"))","v":0}]
[{"$f":"86400*TIMEVALUE(TEXT(Smp99_Donnees!C1179,\"чч:мм:сс\"))","v":0},{"$f":"86400*TIMEVALUE(TEXT(Smp99_Donnees!O1179,\"чч:мм:сс\"))","v":0}]
[{"$f":"86400*TIMEVALUE(TEXT(Smp99_Donnees!C1180,\"чч:мм:сс\"))","v":0},{"$f":"86400*TIMEVALUE(TEXT(Smp99_Donnees!O1180,\"чч:мм:сс\"))","v":0}]
[{"$f":"86400*TIMEVALUE(TEXT(Smp99_Donnees!C1181,\"чч:мм:сс\"))","v":0},{"$f":"86400*TIMEVALUE(TEXT(Smp99_Donnees!O1181,\"чч:мм:сс\"))","v":0}]
[{"$f":"86400*TIMEVALUE(TEXT(Smp99_Donnees!C1182,\"чч:мм:сс\"))","v":0},{"$f":"86400*TIMEVALUE(TEXT(Smp99_Donnees!O1182,\"чч:мм:сс\"))","v":0}]
[{"$f":"86400*TIMEVALUE(TEXT(Smp99_Donnees!C1183,\"чч:мм:сс\"))","v":0},{"$f":"86400*TIMEVALUE(TEXT(Smp99_Donnees!O1183,\"чч:мм:сс\"))","v":0}]
[{"$f":"86400*TIMEVALUE(TEXT(Smp99_Donnees!C1184,\"чч:мм:сс\"))","v":0},{"$f":"86400*TIMEVALUE(TEXT(Smp99_Donnees!O1184,\"чч:мм:сс\"))","v":0}]
[{"$f":"86400*TIMEVALUE(TEXT(Smp99_Donnees!C1185,\"чч:мм:сс\"))","v":0},{"$f":"86400*TIMEVALUE(TEXT(Smp99_Donnees!O1185,\"чч:мм:сс\"))","v":0}]
[{"$f":"86400*TIMEVALUE(TEXT(Smp99_Donnees!C1186,\"чч:мм:сс\"))","v":0},{"$f":"86400*TIMEVALUE(TEXT(Smp99_Donnees!O1186,\"чч:мм:сс\"))","v":0}]
[{"$f":"86400*TIMEVALUE(TEXT(Smp99_Donnees!C1187,\"чч:мм:сс\"))","v":0},{"$f":"86400*TIMEVALUE(TEXT(Smp99_Donnees!O1187,\"чч:мм:сс\"))","v":0}]
[{"$f":"86400*TIMEVALUE(TEXT(Smp99_Donnees!C1188,\"чч:мм:сс\"))","v":0},{"$f":"86400*TIMEVALUE(TEXT(Smp99_Donnees!O1188,\"чч:мм:сс\"))","v":0}]
[{"$f":"86400*TIMEVALUE(TEXT(Smp99_Donnees!C1189,\"чч:мм:сс\"))","v":0},{"$f":"86400*TIMEVALUE(TEXT(Smp99_Donnees!O1189,\"чч:мм:сс\"))","v":0}]
[{"$f":"86400*TIMEVALUE(TEXT(Smp99_Donnees!C1190,\"чч:мм:сс\"))","v":0},{"$f":"86400*TIMEVALUE(TEXT(Smp99_Donnees!O1190,\"чч:мм:сс\"))","v":0}]
[{"$f":"86400*TIMEVALUE(TEXT(Smp99_Donnees!C1191,\"чч:мм:сс\"))","v":0},{"$f":"86400*TIMEVALUE(TEXT(Smp99_Donnees!O1191,\"чч:мм:сс\"))","v":0}]
[{"$f":"86400*TIMEVALUE(TEXT(Smp99_Donnees!C1192,\"чч:мм:сс\"))","v":0},{"$f":"86400*TIMEVALUE(TEXT(Smp99_Donnees!O1192,\"чч:мм:сс\"))","v":0}]
[{"$f":"86400*TIMEVALUE(TEXT(Smp99_Donnees!C1193,\"чч:мм:сс\"))","v":0},{"$f":"86400*TIMEVALUE(TEXT(Smp99_Donnees!O1193,\"чч:мм:сс\"))","v":0}]
[{"$f":"86400*TIMEVALUE(TEXT(Smp99_Donnees!C1194,\"чч:мм:сс\"))","v":0},{"$f":"86400*TIMEVALUE(TEXT(Smp99_Donnees!O1194,\"чч:мм:сс\"))","v":0}]
[{"$f":"86400*TIMEVALUE(TEXT(Smp99_Donnees!C1195,\"чч:мм:сс\"))","v":0},{"$f":"86400*TIMEVALUE(TEXT(Smp99_Donnees!O1195,\"чч:мм:сс\"))","v":0}]
[{"$f":"86400*TIMEVALUE(TEXT(Smp99_Donnees!C1196,\"чч:мм:сс\"))","v":0},{"$f":"86400*TIMEVALUE(TEXT(Smp99_Donnees!O1196,\"чч:мм:сс\"))","v":0}]
[{"$f":"86400*TIMEVALUE(TEXT(Smp99_Donnees!C1197,\"чч:мм:сс\"))","v":0},{"$f":"86400*TIMEVALUE(TEXT(Smp99_Donnees!O1197,\"чч:мм:сс\"))","v":0}]
[{"$f":"86400*TIMEVALUE(TEXT(Smp99_Donnees!C1198,\"чч:мм:сс\"))","v":0},{"$f":"86400*TIMEVALUE(TEXT(Smp99_Donnees!O1198,\"чч:мм:сс\"))","v":0}]
[{"$f":"86400*TIMEVALUE(TEXT(Smp99_Donnees!C1199,\"чч:мм:сс\"))","v":0},{"$f":"86400*TIMEVALUE(TEXT(Smp99_Donnees!O1199,\"чч:мм:сс\"))","v":0}]
[{"$f":"86400*TIMEVALUE(TEXT(Smp99_Donnees!C1200,\"чч:мм:сс\"))","v":0},{"$f":"86400*TIMEVALUE(TEXT(Smp99_Donnees!O1200,\"чч:мм:сс\"))","v":0}]
[{"$f":"86400*TIMEVALUE(TEXT(Smp99_Donnees!C1201,\"чч:мм:сс\"))","v":0},{"$f":"86400*TIMEVALUE(TEXT(Smp99_Donnees!O1201,\"чч:мм:сс\"))","v":0}]
[{"$f":"86400*TIMEVALUE(TEXT(Smp99_Donnees!C1202,\"чч:мм:сс\"))","v":0},{"$f":"86400*TIMEVALUE(TEXT(Smp99_Donnees!O1202,\"чч:мм:сс\"))","v":0}]
[{"$f":"86400*TIMEVALUE(TEXT(Smp99_Donnees!C1203,\"чч:мм:сс\"))","v":0},{"$f":"86400*TIMEVALUE(TEXT(Smp99_Donnees!O1203,\"чч:мм:сс\"))","v":0}]
[{"$f":"86400*TIMEVALUE(TEXT(Smp99_Donnees!C1204,\"чч:мм:сс\"))","v":0},{"$f":"86400*TIMEVALUE(TEXT(Smp99_Donnees!O1204,\"чч:мм:сс\"))","v":0}]
[{"$f":"86400*TIMEVALUE(TEXT(Smp99_Donnees!C1205,\"чч:мм:сс\"))","v":0},{"$f":"86400*TIMEVALUE(TEXT(Smp99_Donnees!O1205,\"чч:мм:сс\"))","v":0}]
[{"$f":"86400*TIMEVALUE(TEXT(Smp99_Donnees!C1206,\"чч:мм:сс\"))","v":0},{"$f":"86400*TIMEVALUE(TEXT(Smp99_Donnees!O1206,\"чч:мм:сс\"))","v":0}]
[{"$f":"86400*TIMEVALUE(TEXT(Smp99_Donnees!C1207,\"чч:мм:сс\"))","v":0},{"$f":"86400*TIMEVALUE(TEXT(Smp99_Donnees!O1207,\"чч:мм:сс\"))","v":0}]
[{"$f":"86400*TIMEVALUE(TEXT(Smp99_Donnees!C1208,\"чч:мм:сс\"))","v":0},{"$f":"86400*TIMEVALUE(TEXT(Smp99_Donnees!O1208,\"чч:мм:сс\"))","v":0}]
[{"$f":"86400*TIMEVALUE(TEXT(Smp99_Donnees!C1209,\"чч:мм:сс\"))","v":0},{"$f":"86400*TIMEVALUE(TEXT(Smp99_Donnees!O1209,\"чч:мм:сс\"))","v":0}]
[{"$f":"86400*TIMEVALUE(TEXT(Smp99_Donnees!C1210,\"чч:мм:сс\"))","v":0},{"$f":"86400*TIMEVALUE(TEXT(Smp99_Donnees!O1210,\"чч:мм:сс\"))","v":0}]
[{"$f":"86400*TIMEVALUE(TEXT(Smp99_Donnees!C1211,\"чч:мм:сс\"))","v":0},{"$f":"86400*TIMEVALUE(TEXT(Smp99_Donnees!O1211,\"чч:мм:сс\"))","v":0}]
[{"$f":"86400*TIMEVALUE(TEXT(Smp99_Donnees!C1212,\"чч:мм:сс\"))","v":0},{"$f":"86400*TIMEVALUE(TEXT(Smp99_Donnees!O1212,\"чч:мм:сс\"))","v":0}]
[{"$f":"86400*TIMEVALUE(TEXT(Smp99_Donnees!C1213,\"чч:мм:сс\"))","v":0},{"$f":"86400*TIMEVALUE(TEXT(Smp99_Donnees!O1213,\"чч:мм:сс\"))","v":0}]
[{"$f":"86400*TIMEVALUE(TEXT(Smp99_Donnees!C1214,\"чч:мм:сс\"))","v":0},{"$f":"86400*TIMEVALUE(TEXT(Smp99_Donnees!O1214,\"чч:мм:сс\"))","v":0}]
[{"$f":"86400*TIMEVALUE(TEXT(Smp99_Donnees!C1215,\"чч:мм:сс\"))","v":0},{"$f":"86400*TIMEVALUE(TEXT(Smp99_Donnees!O1215,\"чч:мм:сс\"))","v":0}]
[{"$f":"86400*TIMEVALUE(TEXT(Smp99_Donnees!C1216,\"чч:мм:сс\"))","v":0},{"$f":"86400*TIMEVALUE(TEXT(Smp99_Donnees!O1216,\"чч:мм:сс\"))","v":0}]
[{"$f":"86400*TIMEVALUE(TEXT(Smp99_Donnees!C1217,\"чч:мм:сс\"))","v":0},{"$f":"86400*TIMEVALUE(TEXT(Smp99_Donnees!O1217,\"чч:мм:сс\"))","v":0}]
[{"$f":"86400*TIMEVALUE(TEXT(Smp99_Donnees!C1218,\"чч:мм:сс\"))","v":0},{"$f":"86400*TIMEVALUE(TEXT(Smp99_Donnees!O1218,\"чч:мм:сс\"))","v":0}]
[{"$f":"86400*TIMEVALUE(TEXT(Smp99_Donnees!C1219,\"чч:мм:сс\"))","v":0},{"$f":"86400*TIMEVALUE(TEXT(Smp99_Donnees!O1219,\"чч:мм:сс\"))","v":0}]
[{"$f":"86400*TIMEVALUE(TEXT(Smp99_Donnees!C1220,\"чч:мм:сс\"))","v":0},{"$f":"86400*TIMEVALUE(TEXT(Smp99_Donnees!O1220,\"чч:мм:сс\"))","v":0}]
[{"$f":"86400*TIMEVALUE(TEXT(Smp99_Donnees!C1221,\"чч:мм:сс\"))","v":0},{"$f":"86400*TIMEVALUE(TEXT(Smp99_Donnees!O1221,\"чч:мм:сс\"))","v":0}]
[{"$f":"86400*TIMEVALUE(TEXT(Smp99_Donnees!C1222,\"чч:мм:сс\"))","v":0},{"$f":"86400*TIMEVALUE(TEXT(Smp99_Donnees!O1222,\"чч:мм:сс\"))","v":0}]
[{"$f":"86400*TIMEVALUE(TEXT(Smp99_Donnees!C1223,\"чч:мм:сс\"))","v":0},{"$f":"86400*TIMEVALUE(TEXT(Smp99_Donnees!O1223,\"чч:мм:сс\"))","v":0}]
[{"$f":"86400*TIMEVALUE(TEXT(Smp99_Donnees!C1224,\"чч:мм:сс\"))","v":0},{"$f":"86400*TIMEVALUE(TEXT(Smp99_Donnees!O1224,\"чч:мм:сс\"))","v":0}]
[{"$f":"86400*TIMEVALUE(TEXT(Smp99_Donnees!C1225,\"чч:мм:сс\"))","v":0},{"$f":"86400*TIMEVALUE(TEXT(Smp99_Donnees!O1225,\"чч:мм:сс\"))","v":0}]
[{"$f":"86400*TIMEVALUE(TEXT(Smp99_Donnees!C1226,\"чч:мм:сс\"))","v":0},{"$f":"86400*TIMEVALUE(TEXT(Smp99_Donnees!O1226,\"чч:мм:сс\"))","v":0}]
[{"$f":"86400*TIMEVALUE(TEXT(Smp99_Donnees!C1227,\"чч:мм:сс\"))","v":0},{"$f":"86400*TIMEVALUE(TEXT(Smp99_Donnees!O1227,\"чч:мм:сс\"))","v":0}]
[{"$f":"86400*TIMEVALUE(TEXT(Smp99_Donnees!C1228,\"чч:мм:сс\"))","v":0},{"$f":"86400*TIMEVALUE(TEXT(Smp99_Donnees!O1228,\"чч:мм:сс\"))","v":0}]
[{"$f":"86400*TIMEVALUE(TEXT(Smp99_Donnees!C1229,\"чч:мм:сс\"))","v":0},{"$f":"86400*TIMEVALUE(TEXT(Smp99_Donnees!O1229,\"чч:мм:сс\"))","v":0}]
[{"$f":"86400*TIMEVALUE(TEXT(Smp99_Donnees!C1230,\"чч:мм:сс\"))","v":0},{"$f":"86400*TIMEVALUE(TEXT(Smp99_Donnees!O1230,\"чч:мм:сс\"))","v":0}]
[{"$f":"86400*TIMEVALUE(TEXT(Smp99_Donnees!C1231,\"чч:мм:сс\"))","v":0},{"$f":"86400*TIMEVALUE(TEXT(Smp99_Donnees!O1231,\"чч:мм:сс\"))","v":0}]
[{"$f":"86400*TIMEVALUE(TEXT(Smp99_Donnees!C1232,\"чч:мм:сс\"))","v":0},{"$f":"86400*TIMEVALUE(TEXT(Smp99_Donnees!O1232,\"чч:мм:сс\"))","v":0}]
[{"$f":"86400*TIMEVALUE(TEXT(Smp99_Donnees!C1233,\"чч:мм:сс\"))","v":0},{"$f":"86400*TIMEVALUE(TEXT(Smp99_Donnees!O1233,\"чч:мм:сс\"))","v":0}]
[{"$f":"86400*TIMEVALUE(TEXT(Smp99_Donnees!C1234,\"чч:мм:сс\"))","v":0},{"$f":"86400*TIMEVALUE(TEXT(Smp99_Donnees!O1234,\"чч:мм:сс\"))","v":0}]
[{"$f":"86400*TIMEVALUE(TEXT(Smp99_Donnees!C1235,\"чч:мм:сс\"))","v":0},{"$f":"86400*TIMEVALUE(TEXT(Smp99_Donnees!O1235,\"чч:мм:сс\"))","v":0}]
[{"$f":"86400*TIMEVALUE(TEXT(Smp99_Donnees!C1236,\"чч:мм:сс\"))","v":0},{"$f":"86400*TIMEVALUE(TEXT(Smp99_Donnees!O1236,\"чч:мм:сс\"))","v":0}]
[{"$f":"86400*TIMEVALUE(TEXT(Smp99_Donnees!C1237,\"чч:мм:сс\"))","v":0},{"$f":"86400*TIMEVALUE(TEXT(Smp99_Donnees!O1237,\"чч:мм:сс\"))","v":0}]
[{"$f":"86400*TIMEVALUE(TEXT(Smp99_Donnees!C1238,\"чч:мм:сс\"))","v":0},{"$f":"86400*TIMEVALUE(TEXT(Smp99_Donnees!O1238,\"чч:мм:сс\"))","v":0}]
[{"$f":"86400*TIMEVALUE(TEXT(Smp99_Donnees!C1239,\"чч:мм:сс\"))","v":0},{"$f":"86400*TIMEVALUE(TEXT(Smp99_Donnees!O1239,\"чч:мм:сс\"))","v":0}]
[{"$f":"86400*TIMEVALUE(TEXT(Smp99_Donnees!C1240,\"чч:мм:сс\"))","v":0},{"$f":"86400*TIMEVALUE(TEXT(Smp99_Donnees!O1240,\"чч:мм:сс\"))","v":0}]
[{"$f":"86400*TIMEVALUE(TEXT(Smp99_Donnees!C1241,\"чч:мм:сс\"))","v":0},{"$f":"86400*TIMEVALUE(TEXT(Smp99_Donnees!O1241,\"чч:мм:сс\"))","v":0}]
[{"$f":"86400*TIMEVALUE(TEXT(Smp99_Donnees!C1242,\"чч:мм:сс\"))","v":0},{"$f":"86400*TIMEVALUE(TEXT(Smp99_Donnees!O1242,\"чч:мм:сс\"))","v":0}]
[{"$f":"86400*TIMEVALUE(TEXT(Smp99_Donnees!C1243,\"чч:мм:сс\"))","v":0},{"$f":"86400*TIMEVALUE(TEXT(Smp99_Donnees!O1243,\"чч:мм:сс\"))","v":0}]
[{"$f":"86400*TIMEVALUE(TEXT(Smp99_Donnees!C1244,\"чч:мм:сс\"))","v":0},{"$f":"86400*TIMEVALUE(TEXT(Smp99_Donnees!O1244,\"чч:мм:сс\"))","v":0}]
[{"$f":"86400*TIMEVALUE(TEXT(Smp99_Donnees!C1245,\"чч:мм:сс\"))","v":0},{"$f":"86400*TIMEVALUE(TEXT(Smp99_Donnees!O1245,\"чч:мм:сс\"))","v":0}]
[{"$f":"86400*TIMEVALUE(TEXT(Smp99_Donnees!C1246,\"чч:мм:сс\"))","v":0},{"$f":"86400*TIMEVALUE(TEXT(Smp99_Donnees!O1246,\"чч:мм:сс\"))","v":0}]
[{"$f":"86400*TIMEVALUE(TEXT(Smp99_Donnees!C1247,\"чч:мм:сс\"))","v":0},{"$f":"86400*TIMEVALUE(TEXT(Smp99_Donnees!O1247,\"чч:мм:сс\"))","v":0}]
[{"$f":"86400*TIMEVALUE(TEXT(Smp99_Donnees!C1248,\"чч:мм:сс\"))","v":0},{"$f":"86400*TIMEVALUE(TEXT(Smp99_Donnees!O1248,\"чч:мм:сс\"))","v":0}]
[{"$f":"86400*TIMEVALUE(TEXT(Smp99_Donnees!C1249,\"чч:мм:сс\"))","v":0},{"$f":"86400*TIMEVALUE(TEXT(Smp99_Donnees!O1249,\"чч:мм:сс\"))","v":0}]
[{"$f":"86400*TIMEVALUE(TEXT(Smp99_Donnees!C1250,\"чч:мм:сс\"))","v":0},{"$f":"86400*TIMEVALUE(TEXT(Smp99_Donnees!O1250,\"чч:мм:сс\"))","v":0}]
[{"$f":"86400*TIMEVALUE(TEXT(Smp99_Donnees!C1251,\"чч:мм:сс\"))","v":0},{"$f":"86400*TIMEVALUE(TEXT(Smp99_Donnees!O1251,\"чч:мм:сс\"))","v":0}]
[{"$f":"86400*TIMEVALUE(TEXT(Smp99_Donnees!C1252,\"чч:мм:сс\"))","v":0},{"$f":"86400*TIMEVALUE(TEXT(Smp99_Donnees!O1252,\"чч:мм:сс\"))","v":0}]
[{"$f":"86400*TIMEVALUE(TEXT(Smp99_Donnees!C1253,\"чч:мм:сс\"))","v":0},{"$f":"86400*TIMEVALUE(TEXT(Smp99_Donnees!O1253,\"чч:мм:сс\"))","v":0}]
[{"$f":"86400*TIMEVALUE(TEXT(Smp99_Donnees!C1254,\"чч:мм:сс\"))","v":0},{"$f":"86400*TIMEVALUE(TEXT(Smp99_Donnees!O1254,\"чч:мм:сс\"))","v":0}]
[{"$f":"86400*TIMEVALUE(TEXT(Smp99_Donnees!C1255,\"чч:мм:сс\"))","v":0},{"$f":"86400*TIMEVALUE(TEXT(Smp99_Donnees!O1255,\"чч:мм:сс\"))","v":0}]
[{"$f":"86400*TIMEVALUE(TEXT(Smp99_Donnees!C1256,\"чч:мм:сс\"))","v":0},{"$f":"86400*TIMEVALUE(TEXT(Smp99_Donnees!O1256,\"чч:мм:сс\"))","v":0}]
[{"$f":"86400*TIMEVALUE(TEXT(Smp99_Donnees!C1257,\"чч:мм:сс\"))","v":0},{"$f":"86400*TIMEVALUE(TEXT(Smp99_Donnees!O1257,\"чч:мм:сс\"))","v":0}]
[{"$f":"86400*TIMEVALUE(TEXT(Smp99_Donnees!C1258,\"чч:мм:сс\"))","v":0},{"$f":"86400*TIMEVALUE(TEXT(Smp99_Donnees!O1258,\"чч:мм:сс\"))","v":0}]
[{"$f":"86400*TIMEVALUE(TEXT(Smp99_Donnees!C1259,\"чч:мм:сс\"))","v":0},{"$f":"86400*TIMEVALUE(TEXT(Smp99_Donnees!O1259,\"чч:мм:сс\"))","v":0}]
[{"$f":"86400*TIMEVALUE(TEXT(Smp99_Donnees!C1260,\"чч:мм:сс\"))","v":0},{"$f":"86400*TIMEVALUE(TEXT(Smp99_Donnees!O1260,\"чч:мм:сс\"))","v":0}]
[{"$f":"86400*TIMEVALUE(TEXT(Smp99_Donnees!C1261,\"чч:мм:сс\"))","v":0},{"$f":"86400*TIMEVALUE(TEXT(Smp99_Donnees!O1261,\"чч:мм:сс\"))","v":0}]
[{"$f":"86400*TIMEVALUE(TEXT(Smp99_Donnees!C1262,\"чч:мм:сс\"))","v":0},{"$f":"86400*TIMEVALUE(TEXT(Smp99_Donnees!O1262,\"чч:мм:сс\"))","v":0}]
[{"$f":"86400*TIMEVALUE(TEXT(Smp99_Donnees!C1263,\"чч:мм:сс\"))","v":0},{"$f":"86400*TIMEVALUE(TEXT(Smp99_Donnees!O1263,\"чч:мм:сс\"))","v":0}]
[{"$f":"86400*TIMEVALUE(TEXT(Smp99_Donnees!C1264,\"чч:мм:сс\"))","v":0},{"$f":"86400*TIMEVALUE(TEXT(Smp99_Donnees!O1264,\"чч:мм:сс\"))","v":0}]
[{"$f":"86400*TIMEVALUE(TEXT(Smp99_Donnees!C1265,\"чч:мм:сс\"))","v":0},{"$f":"86400*TIMEVALUE(TEXT(Smp99_Donnees!O1265,\"чч:мм:сс\"))","v":0}]
[{"$f":"86400*TIMEVALUE(TEXT(Smp99_Donnees!C1266,\"чч:мм:сс\"))","v":0},{"$f":"86400*TIMEVALUE(TEXT(Smp99_Donnees!O1266,\"чч:мм:сс\"))","v":0}]
[{"$f":"86400*TIMEVALUE(TEXT(Smp99_Donnees!C1267,\"чч:мм:сс\"))","v":0},{"$f":"86400*TIMEVALUE(TEXT(Smp99_Donnees!O1267,\"чч:мм:сс\"))","v":0}]
[{"$f":"86400*TIMEVALUE(TEXT(Smp99_Donnees!C1268,\"чч:мм:сс\"))","v":0},{"$f":"86400*TIMEVALUE(TEXT(Smp99_Donnees!O1268,\"чч:мм:сс\"))","v":0}]
[{"$f":"86400*TIMEVALUE(TEXT(Smp99_Donnees!C1269,\"чч:мм:сс\"))","v":0},{"$f":"86400*TIMEVALUE(TEXT(Smp99_Donnees!O1269,\"чч:мм:сс\"))","v":0}]
[{"$f":"86400*TIMEVALUE(TEXT(Smp99_Donnees!C1270,\"чч:мм:сс\"))","v":0},{"$f":"86400*TIMEVALUE(TEXT(Smp99_Donnees!O1270,\"чч:мм:сс\"))","v":0}]
[{"$f":"86400*TIMEVALUE(TEXT(Smp99_Donnees!C1271,\"чч:мм:сс\"))","v":0},{"$f":"86400*TIMEVALUE(TEXT(Smp99_Donnees!O1271,\"чч:мм:сс\"))","v":0}]
[{"$f":"86400*TIMEVALUE(TEXT(Smp99_Donnees!C1272,\"чч:мм:сс\"))","v":0},{"$f":"86400*TIMEVALUE(TEXT(Smp99_Donnees!O1272,\"чч:мм:сс\"))","v":0}]
[{"$f":"86400*TIMEVALUE(TEXT(Smp99_Donnees!C1273,\"чч:мм:сс\"))","v":0},{"$f":"86400*TIMEVALUE(TEXT(Smp99_Donnees!O1273,\"чч:мм:сс\"))","v":0}]
[{"$f":"86400*TIMEVALUE(TEXT(Smp99_Donnees!C1274,\"чч:мм:сс\"))","v":0},{"$f":"86400*TIMEVALUE(TEXT(Smp99_Donnees!O1274,\"чч:мм:сс\"))","v":0}]
[{"$f":"86400*TIMEVALUE(TEXT(Smp99_Donnees!C1275,\"чч:мм:сс\"))","v":0},{"$f":"86400*TIMEVALUE(TEXT(Smp99_Donnees!O1275,\"чч:мм:сс\"))","v":0}]
[{"$f":"86400*TIMEVALUE(TEXT(Smp99_Donnees!C1276,\"чч:мм:сс\"))","v":0},{"$f":"86400*TIMEVALUE(TEXT(Smp99_Donnees!O1276,\"чч:мм:сс\"))","v":0}]
[{"$f":"86400*TIMEVALUE(TEXT(Smp99_Donnees!C1277,\"чч:мм:сс\"))","v":0},{"$f":"86400*TIMEVALUE(TEXT(Smp99_Donnees!O1277,\"чч:мм:сс\"))","v":0}]
[{"$f":"86400*TIMEVALUE(TEXT(Smp99_Donnees!C1278,\"чч:мм:сс\"))","v":0},{"$f":"86400*TIMEVALUE(TEXT(Smp99_Donnees!O1278,\"чч:мм:сс\"))","v":0}]
[{"$f":"86400*TIMEVALUE(TEXT(Smp99_Donnees!C1279,\"чч:мм:сс\"))","v":0},{"$f":"86400*TIMEVALUE(TEXT(Smp99_Donnees!O1279,\"чч:мм:сс\"))","v":0}]
[{"$f":"86400*TIMEVALUE(TEXT(Smp99_Donnees!C1280,\"чч:мм:сс\"))","v":0},{"$f":"86400*TIMEVALUE(TEXT(Smp99_Donnees!O1280,\"чч:мм:сс\"))","v":0}]
[{"$f":"86400*TIMEVALUE(TEXT(Smp99_Donnees!C1281,\"чч:мм:сс\"))","v":0},{"$f":"86400*TIMEVALUE(TEXT(Smp99_Donnees!O1281,\"чч:мм:сс\"))","v":0}]
[{"$f":"86400*TIMEVALUE(TEXT(Smp99_Donnees!C1282,\"чч:мм:сс\"))","v":0},{"$f":"86400*TIMEVALUE(TEXT(Smp99_Donnees!O1282,\"чч:мм:сс\"))","v":0}]
[{"$f":"86400*TIMEVALUE(TEXT(Smp99_Donnees!C1283,\"чч:мм:сс\"))","v":0},{"$f":"86400*TIMEVALUE(TEXT(Smp99_Donnees!O1283,\"чч:мм:сс\"))","v":0}]
[{"$f":"86400*TIMEVALUE(TEXT(Smp99_Donnees!C1284,\"чч:мм:сс\"))","v":0},{"$f":"86400*TIMEVALUE(TEXT(Smp99_Donnees!O1284,\"чч:мм:сс\"))","v":0}]
[{"$f":"86400*TIMEVALUE(TEXT(Smp99_Donnees!C1285,\"чч:мм:сс\"))","v":0},{"$f":"86400*TIMEVALUE(TEXT(Smp99_Donnees!O1285,\"чч:мм:сс\"))","v":0}]
[{"$f":"86400*TIMEVALUE(TEXT(Smp99_Donnees!C1286,\"чч:мм:сс\"))","v":0},{"$f":"86400*TIMEVALUE(TEXT(Smp99_Donnees!O1286,\"чч:мм:сс\"))","v":0}]
[{"$f":"86400*TIMEVALUE(TEXT(Smp99_Donnees!C1287,\"чч:мм:сс\"))","v":0},{"$f":"86400*TIMEVALUE(TEXT(Smp99_Donnees!O1287,\"чч:мм:сс\"))","v":0}]
[{"$f":"86400*TIMEVALUE(TEXT(Smp99_Donnees!C1288,\"чч:мм:сс\"))","v":0},{"$f":"86400*TIMEVALUE(TEXT(Smp99_Donnees!O1288,\"чч:мм:сс\"))","v":0}]
[{"$f":"86400*TIMEVALUE(TEXT(Smp99_Donnees!C1289,\"чч:мм:сс\"))","v":0},{"$f":"86400*TIMEVALUE(TEXT(Smp99_Donnees!O1289,\"чч:мм:сс\"))","v":0}]
[{"$f":"86400*TIMEVALUE(TEXT(Smp99_Donnees!C1290,\"чч:мм:сс\"))","v":0},{"$f":"86400*TIMEVALUE(TEXT(Smp99_Donnees!O1290,\"чч:мм:сс\"))","v":0}]
[{"$f":"86400*TIMEVALUE(TEXT(Smp99_Donnees!C1291,\"чч:мм:сс\"))","v":0},{"$f":"86400*TIMEVALUE(TEXT(Smp99_Donnees!O1291,\"чч:мм:сс\"))","v":0}]
[{"$f":"86400*TIMEVALUE(TEXT(Smp99_Donnees!C1292,\"чч:мм:сс\"))","v":0},{"$f":"86400*TIMEVALUE(TEXT(Smp99_Donnees!O1292,\"чч:мм:сс\"))","v":0}]
[{"$f":"86400*TIMEVALUE(TEXT(Smp99_Donnees!C1293,\"чч:мм:сс\"))","v":0},{"$f":"86400*TIMEVALUE(TEXT(Smp99_Donnees!O1293,\"чч:мм:сс\"))","v":0}]
[{"$f":"86400*TIMEVALUE(TEXT(Smp99_Donnees!C1294,\"чч:мм:сс\"))","v":0},{"$f":"86400*TIMEVALUE(TEXT(Smp99_Donnees!O1294,\"чч:мм:сс\"))","v":0}]
[{"$f":"86400*TIMEVALUE(TEXT(Smp99_Donnees!C1295,\"чч:мм:сс\"))","v":0},{"$f":"86400*TIMEVALUE(TEXT(Smp99_Donnees!O1295,\"чч:мм:сс\"))","v":0}]
[{"$f":"86400*TIMEVALUE(TEXT(Smp99_Donnees!C1296,\"чч:мм:сс\"))","v":0},{"$f":"86400*TIMEVALUE(TEXT(Smp99_Donnees!O1296,\"чч:мм:сс\"))","v":0}]
[{"$f":"86400*TIMEVALUE(TEXT(Smp99_Donnees!C1297,\"чч:мм:сс\"))","v":0},{"$f":"86400*TIMEVALUE(TEXT(Smp99_Donnees!O1297,\"чч:мм:сс\"))","v":0}]
[{"$f":"86400*TIMEVALUE(TEXT(Smp99_Donnees!C1298,\"чч:мм:сс\"))","v":0},{"$f":"86400*TIMEVALUE(TEXT(Smp99_Donnees!O1298,\"чч:мм:сс\"))","v":0}]
[{"$f":"86400*TIMEVALUE(TEXT(Smp99_Donnees!C1299,\"чч:мм:сс\"))","v":0},{"$f":"86400*TIMEVALUE(TEXT(Smp99_Donnees!O1299,\"чч:мм:сс\"))","v":0}]
[{"$f":"86400*TIMEVALUE(TEXT(Smp99_Donnees!C1300,\"чч:мм:сс\"))","v":0},{"$f":"86400*TIMEVALUE(TEXT(Smp99_Donnees!O1300,\"чч:мм:сс\"))","v":0}]
[{"$f":"86400*TIMEVALUE(TEXT(Smp99_Donnees!C1301,\"чч:мм:сс\"))","v":0},{"$f":"86400*TIMEVALUE(TEXT(Smp99_Donnees!O1301,\"чч:мм:сс\"))","v":0}]
[{"$f":"86400*TIMEVALUE(TEXT(Smp99_Donnees!C1302,\"чч:мм:сс\"))","v":0},{"$f":"86400*TIMEVALUE(TEXT(Smp99_Donnees!O1302,\"чч:мм:сс\"))","v":0}]
[{"$f":"86400*TIMEVALUE(TEXT(Smp99_Donnees!C1303,\"чч:мм:сс\"))","v":0},{"$f":"86400*TIMEVALUE(TEXT(Smp99_Donnees!O1303,\"чч:мм:сс\"))","v":0}]
[{"$f":"86400*TIMEVALUE(TEXT(Smp99_Donnees!C1304,\"чч:мм:сс\"))","v":0},{"$f":"86400*TIMEVALUE(TEXT(Smp99_Donnees!O1304,\"чч:мм:сс\"))","v":0}]
[{"$f":"86400*TIMEVALUE(TEXT(Smp99_Donnees!C1305,\"чч:мм:сс\"))","v":0},{"$f":"86400*TIMEVALUE(TEXT(Smp99_Donnees!O1305,\"чч:мм:сс\"))","v":0}]
[{"$f":"86400*TIMEVALUE(TEXT(Smp99_Donnees!C1306,\"чч:мм:сс\"))","v":0},{"$f":"86400*TIMEVALUE(TEXT(Smp99_Donnees!O1306,\"чч:мм:сс\"))","v":0}]
[{"$f":"86400*TIMEVALUE(TEXT(Smp99_Donnees!C1307,\"чч:мм:сс\"))","v":0},{"$f":"86400*TIMEVALUE(TEXT(Smp99_Donnees!O1307,\"чч:мм:сс\"))","v":0}]
[{"$f":"86400*TIMEVALUE(TEXT(Smp99_Donnees!C1308,\"чч:мм:сс\"))","v":0},{"$f":"86400*TIMEVALUE(TEXT(Smp99_Donnees!O1308,\"чч:мм:сс\"))","v":0}]
[{"$f":"86400*TIMEVALUE(TEXT(Smp99_Donnees!C1309,\"чч:мм:сс\"))","v":0},{"$f":"86400*TIMEVALUE(TEXT(Smp99_Donnees!O1309,\"чч:мм:сс\"))","v":0}]
[{"$f":"86400*TIMEVALUE(TEXT(Smp99_Donnees!C1310,\"чч:мм:сс\"))","v":0},{"$f":"86400*TIMEVALUE(TEXT(Smp99_Donnees!O1310,\"чч:мм:сс\"))","v":0}]
[{"$f":"86400*TIMEVALUE(TEXT(Smp99_Donnees!C1311,\"чч:мм:сс\"))","v":0},{"$f":"86400*TIMEVALUE(TEXT(Smp99_Donnees!O1311,\"чч:мм:сс\"))","v":0}]
[{"$f":"86400*TIMEVALUE(TEXT(Smp99_Donnees!C1312,\"чч:мм:сс\"))","v":0},{"$f":"86400*TIMEVALUE(TEXT(Smp99_Donnees!O1312,\"чч:мм:сс\"))","v":0}]
[{"$f":"86400*TIMEVALUE(TEXT(Smp99_Donnees!C1313,\"чч:мм:сс\"))","v":0},{"$f":"86400*TIMEVALUE(TEXT(Smp99_Donnees!O1313,\"чч:мм:сс\"))","v":0}]
[{"$f":"86400*TIMEVALUE(TEXT(Smp99_Donnees!C1314,\"чч:мм:сс\"))","v":0},{"$f":"86400*TIMEVALUE(TEXT(Smp99_Donnees!O1314,\"чч:мм:сс\"))","v":0}]
[{"$f":"86400*TIMEVALUE(TEXT(Smp99_Donnees!C1315,\"чч:мм:сс\"))","v":0},{"$f":"86400*TIMEVALUE(TEXT(Smp99_Donnees!O1315,\"чч:мм:сс\"))","v":0}]
[{"$f":"86400*TIMEVALUE(TEXT(Smp99_Donnees!C1316,\"чч:мм:сс\"))","v":0},{"$f":"86400*TIMEVALUE(TEXT(Smp99_Donnees!O1316,\"чч:мм:сс\"))","v":0}]
[{"$f":"86400*TIMEVALUE(TEXT(Smp99_Donnees!C1317,\"чч:мм:сс\"))","v":0},{"$f":"86400*TIMEVALUE(TEXT(Smp99_Donnees!O1317,\"чч:мм:сс\"))","v":0}]
[{"$f":"86400*TIMEVALUE(TEXT(Smp99_Donnees!C1318,\"чч:мм:сс\"))","v":0},{"$f":"86400*TIMEVALUE(TEXT(Smp99_Donnees!O1318,\"чч:мм:сс\"))","v":0}]
[{"$f":"86400*TIMEVALUE(TEXT(Smp99_Donnees!C1319,\"чч:мм:сс\"))","v":0},{"$f":"86400*TIMEVALUE(TEXT(Smp99_Donnees!O1319,\"чч:мм:сс\"))","v":0}]
[{"$f":"86400*TIMEVALUE(TEXT(Smp99_Donnees!C1320,\"чч:мм:сс\"))","v":0},{"$f":"86400*TIMEVALUE(TEXT(Smp99_Donnees!O1320,\"чч:мм:сс\"))","v":0}]
[{"$f":"86400*TIMEVALUE(TEXT(Smp99_Donnees!C1321,\"чч:мм:сс\"))","v":0},{"$f":"86400*TIMEVALUE(TEXT(Smp99_Donnees!O1321,\"чч:мм:сс\"))","v":0}]
[{"$f":"86400*TIMEVALUE(TEXT(Smp99_Donnees!C1322,\"чч:мм:сс\"))","v":0},{"$f":"86400*TIMEVALUE(TEXT(Smp99_Donnees!O1322,\"чч:мм:сс\"))","v":0}]
[{"$f":"86400*TIMEVALUE(TEXT(Smp99_Donnees!C1323,\"чч:мм:сс\"))","v":0},{"$f":"86400*TIMEVALUE(TEXT(Smp99_Donnees!O1323,\"чч:мм:сс\"))","v":0}]
[{"$f":"86400*TIMEVALUE(TEXT(Smp99_Donnees!C1324,\"чч:мм:сс\"))","v":0},{"$f":"86400*TIMEVALUE(TEXT(Smp99_Donnees!O1324,\"чч:мм:сс\"))","v":0}]
[{"$f":"86400*TIMEVALUE(TEXT(Smp99_Donnees!C1325,\"чч:мм:сс\"))","v":0},{"$f":"86400*TIMEVALUE(TEXT(Smp99_Donnees!O1325,\"чч:мм:сс\"))","v":0}]
[{"$f":"86400*TIMEVALUE(TEXT(Smp99_Donnees!C1326,\"чч:мм:сс\"))","v":0},{"$f":"86400*TIMEVALUE(TEXT(Smp99_Donnees!O1326,\"чч:мм:сс\"))","v":0}]
[{"$f":"86400*TIMEVALUE(TEXT(Smp99_Donnees!C1327,\"чч:мм:сс\"))","v":0},{"$f":"86400*TIMEVALUE(TEXT(Smp99_Donnees!O1327,\"чч:мм:сс\"))","v":0}]
[{"$f":"86400*TIMEVALUE(TEXT(Smp99_Donnees!C1328,\"чч:мм:сс\"))","v":0},{"$f":"86400*TIMEVALUE(TEXT(Smp99_Donnees!O1328,\"чч:мм:сс\"))","v":0}]
[{"$f":"86400*TIMEVALUE(TEXT(Smp99_Donnees!C1329,\"чч:мм:сс\"))","v":0},{"$f":"86400*TIMEVALUE(TEXT(Smp99_Donnees!O1329,\"чч:мм:сс\"))","v":0}]
[{"$f":"86400*TIMEVALUE(TEXT(Smp99_Donnees!C1330,\"чч:мм:сс\"))","v":0},{"$f":"86400*TIMEVALUE(TEXT(Smp99_Donnees!O1330,\"чч:мм:сс\"))","v":0}]
[{"$f":"86400*TIMEVALUE(TEXT(Smp99_Donnees!C1331,\"чч:мм:сс\"))","v":0},{"$f":"86400*TIMEVALUE(TEXT(Smp99_Donnees!O1331,\"чч:мм:сс\"))","v":0}]
[{"$f":"86400*TIMEVALUE(TEXT(Smp99_Donnees!C1332,\"чч:мм:сс\"))","v":0},{"$f":"86400*TIMEVALUE(TEXT(Smp99_Donnees!O1332,\"чч:мм:сс\"))","v":0}]
[{"$f":"86400*TIMEVALUE(TEXT(Smp99_Donnees!C1333,\"чч:мм:сс\"))","v":0},{"$f":"86400*TIMEVALUE(TEXT(Smp99_Donnees!O1333,\"чч:мм:сс\"))","v":0}]
[{"$f":"86400*TIMEVALUE(TEXT(Smp99_Donnees!C1334,\"чч:мм:сс\"))","v":0},{"$f":"86400*TIMEVALUE(TEXT(Smp99_Donnees!O1334,\"чч:мм:сс\"))","v":0}]
[{"$f":"86400*TIMEVALUE(TEXT(Smp99_Donnees!C1335,\"чч:мм:сс\"))","v":0},{"$f":"86400*TIMEVALUE(TEXT(Smp99_Donnees!O1335,\"чч:мм:сс\"))","v":0}]
[{"$f":"86400*TIMEVALUE(TEXT(Smp99_Donnees!C1336,\"чч:мм:сс\"))","v":0},{"$f":"86400*TIMEVALUE(TEXT(Smp99_Donnees!O1336,\"чч:мм:сс\"))","v":0}]
[{"$f":"86400*TIMEVALUE(TEXT(Smp99_Donnees!C1337,\"чч:мм:сс\"))","v":0},{"$f":"86400*TIMEVALUE(TEXT(Smp99_Donnees!O1337,\"чч:мм:сс\"))","v":0}]
[{"$f":"86400*TIMEVALUE(TEXT(Smp99_Donnees!C1338,\"чч:мм:сс\"))","v":0},{"$f":"86400*TIMEVALUE(TEXT(Smp99_Donnees!O1338,\"чч:мм:сс\"))","v":0}]
[{"$f":"86400*TIMEVALUE(TEXT(Smp99_Donnees!C1339,\"чч:мм:сс\"))","v":0},{"$f":"86400*TIMEVALUE(TEXT(Smp99_Donnees!O1339,\"чч:мм:сс\"))","v":0}]
[{"$f":"86400*TIMEVALUE(TEXT(Smp99_Donnees!C1340,\"чч:мм:сс\"))","v":0},{"$f":"86400*TIMEVALUE(TEXT(Smp99_Donnees!O1340,\"чч:мм:сс\"))","v":0}]
[{"$f":"86400*TIMEVALUE(TEXT(Smp99_Donnees!C1341,\"чч:мм:сс\"))","v":0},{"$f":"86400*TIMEVALUE(TEXT(Smp99_Donnees!O1341,\"чч:мм:сс\"))","v":0}]
[{"$f":"86400*TIMEVALUE(TEXT(Smp99_Donnees!C1342,\"чч:мм:сс\"))","v":0},{"$f":"86400*TIMEVALUE(TEXT(Smp99_Donnees!O1342,\"чч:мм:сс\"))","v":0}]
[{"$f":"86400*TIMEVALUE(TEXT(Smp99_Donnees!C1343,\"чч:мм:сс\"))","v":0},{"$f":"86400*TIMEVALUE(TEXT(Smp99_Donnees!O1343,\"чч:мм:сс\"))","v":0}]
[{"$f":"86400*TIMEVALUE(TEXT(Smp99_Donnees!C1344,\"чч:мм:сс\"))","v":0},{"$f":"86400*TIMEVALUE(TEXT(Smp99_Donnees!O1344,\"чч:мм:сс\"))","v":0}]
[{"$f":"86400*TIMEVALUE(TEXT(Smp99_Donnees!C1345,\"чч:мм:сс\"))","v":0},{"$f":"86400*TIMEVALUE(TEXT(Smp99_Donnees!O1345,\"чч:мм:сс\"))","v":0}]
[{"$f":"86400*TIMEVALUE(TEXT(Smp99_Donnees!C1346,\"чч:мм:сс\"))","v":0},{"$f":"86400*TIMEVALUE(TEXT(Smp99_Donnees!O1346,\"чч:мм:сс\"))","v":0}]
[{"$f":"86400*TIMEVALUE(TEXT(Smp99_Donnees!C1347,\"чч:мм:сс\"))","v":0},{"$f":"86400*TIMEVALUE(TEXT(Smp99_Donnees!O1347,\"чч:мм:сс\"))","v":0}]
[{"$f":"86400*TIMEVALUE(TEXT(Smp99_Donnees!C1348,\"чч:мм:сс\"))","v":0},{"$f":"86400*TIMEVALUE(TEXT(Smp99_Donnees!O1348,\"чч:мм:сс\"))","v":0}]
[{"$f":"86400*TIMEVALUE(TEXT(Smp99_Donnees!C1349,\"чч:мм:сс\"))","v":0},{"$f":"86400*TIMEVALUE(TEXT(Smp99_Donnees!O1349,\"чч:мм:сс\"))","v":0}]
[{"$f":"86400*TIMEVALUE(TEXT(Smp99_Donnees!C1350,\"чч:мм:сс\"))","v":0},{"$f":"86400*TIMEVALUE(TEXT(Smp99_Donnees!O1350,\"чч:мм:сс\"))","v":0}]
[{"$f":"86400*TIMEVALUE(TEXT(Smp99_Donnees!C1351,\"чч:мм:сс\"))","v":0},{"$f":"86400*TIMEVALUE(TEXT(Smp99_Donnees!O1351,\"чч:мм:сс\"))","v":0}]
[{"$f":"86400*TIMEVALUE(TEXT(Smp99_Donnees!C1352,\"чч:мм:сс\"))","v":0},{"$f":"86400*TIMEVALUE(TEXT(Smp99_Donnees!O1352,\"чч:мм:сс\"))","v":0}]
[{"$f":"86400*TIMEVALUE(TEXT(Smp99_Donnees!C1353,\"чч:мм:сс\"))","v":0},{"$f":"86400*TIMEVALUE(TEXT(Smp99_Donnees!O1353,\"чч:мм:сс\"))","v":0}]
[{"$f":"86400*TIMEVALUE(TEXT(Smp99_Donnees!C1354,\"чч:мм:сс\"))","v":0},{"$f":"86400*TIMEVALUE(TEXT(Smp99_Donnees!O1354,\"чч:мм:сс\"))","v":0}]
[{"$f":"86400*TIMEVALUE(TEXT(Smp99_Donnees!C1355,\"чч:мм:сс\"))","v":0},{"$f":"86400*TIMEVALUE(TEXT(Smp99_Donnees!O1355,\"чч:мм:сс\"))","v":0}]
[{"$f":"86400*TIMEVALUE(TEXT(Smp99_Donnees!C1356,\"чч:мм:сс\"))","v":0},{"$f":"86400*TIMEVALUE(TEXT(Smp99_Donnees!O1356,\"чч:мм:сс\"))","v":0}]
[{"$f":"86400*TIMEVALUE(TEXT(Smp99_Donnees!C1357,\"чч:мм:сс\"))","v":0},{"$f":"86400*TIMEVALUE(TEXT(Smp99_Donnees!O1357,\"чч:мм:сс\"))","v":0}]
[{"$f":"86400*TIMEVALUE(TEXT(Smp99_Donnees!C1358,\"чч:мм:сс\"))","v":0},{"$f":"86400*TIMEVALUE(TEXT(Smp99_Donnees!O1358,\"чч:мм:сс\"))","v":0}]
[{"$f":"86400*TIMEVALUE(TEXT(Smp99_Donnees!C1359,\"чч:мм:сс\"))","v":0},{"$f":"86400*TIMEVALUE(TEXT(Smp99_Donnees!O1359,\"чч:мм:сс\"))","v":0}]
[{"$f":"86400*TIMEVALUE(TEXT(Smp99_Donnees!C1360,\"чч:мм:сс\"))","v":0},{"$f":"86400*TIMEVALUE(TEXT(Smp99_Donnees!O1360,\"чч:мм:сс\"))","v":0}]
[{"$f":"86400*TIMEVALUE(TEXT(Smp99_Donnees!C1361,\"чч:мм:сс\"))","v":0},{"$f":"86400*TIMEVALUE(TEXT(Smp99_Donnees!O1361,\"чч:мм:сс\"))","v":0}]
[{"$f":"86400*TIMEVALUE(TEXT(Smp99_Donnees!C1362,\"чч:мм:сс\"))","v":0},{"$f":"86400*TIMEVALUE(TEXT(Smp99_Donnees!O1362,\"чч:мм:сс\"))","v":0}]
[{"$f":"86400*TIMEVALUE(TEXT(Smp99_Donnees!C1363,\"чч:мм:сс\"))","v":0},{"$f":"86400*TIMEVALUE(TEXT(Smp99_Donnees!O1363,\"чч:мм:сс\"))","v":0}]
[{"$f":"86400*TIMEVALUE(TEXT(Smp99_Donnees!C1364,\"чч:мм:сс\"))","v":0},{"$f":"86400*TIMEVALUE(TEXT(Smp99_Donnees!O1364,\"чч:мм:сс\"))","v":0}]
[{"$f":"86400*TIMEVALUE(TEXT(Smp99_Donnees!C1365,\"чч:мм:сс\"))","v":0},{"$f":"86400*TIMEVALUE(TEXT(Smp99_Donnees!O1365,\"чч:мм:сс\"))","v":0}]
[{"$f":"86400*TIMEVALUE(TEXT(Smp99_Donnees!C1366,\"чч:мм:сс\"))","v":0},{"$f":"86400*TIMEVALUE(TEXT(Smp99_Donnees!O1366,\"чч:мм:сс\"))","v":0}]
[{"$f":"86400*TIMEVALUE(TEXT(Smp99_Donnees!C1367,\"чч:мм:сс\"))","v":0},{"$f":"86400*TIMEVALUE(TEXT(Smp99_Donnees!O1367,\"чч:мм:сс\"))","v":0}]
[{"$f":"86400*TIMEVALUE(TEXT(Smp99_Donnees!C1368,\"чч:мм:сс\"))","v":0},{"$f":"86400*TIMEVALUE(TEXT(Smp99_Donnees!O1368,\"чч:мм:сс\"))","v":0}]
[{"$f":"86400*TIMEVALUE(TEXT(Smp99_Donnees!C1369,\"чч:мм:сс\"))","v":0},{"$f":"86400*TIMEVALUE(TEXT(Smp99_Donnees!O1369,\"чч:мм:сс\"))","v":0}]
[{"$f":"86400*TIMEVALUE(TEXT(Smp99_Donnees!C1370,\"чч:мм:сс\"))","v":0},{"$f":"86400*TIMEVALUE(TEXT(Smp99_Donnees!O1370,\"чч:мм:сс\"))","v":0}]
[{"$f":"86400*TIMEVALUE(TEXT(Smp99_Donnees!C1371,\"чч:мм:сс\"))","v":0},{"$f":"86400*TIMEVALUE(TEXT(Smp99_Donnees!O1371,\"чч:мм:сс\"))","v":0}]
[{"$f":"86400*TIMEVALUE(TEXT(Smp99_Donnees!C1372,\"чч:мм:сс\"))","v":0},{"$f":"86400*TIMEVALUE(TEXT(Smp99_Donnees!O1372,\"чч:мм:сс\"))","v":0}]
[{"$f":"86400*TIMEVALUE(TEXT(Smp99_Donnees!C1373,\"чч:мм:сс\"))","v":0},{"$f":"86400*TIMEVALUE(TEXT(Smp99_Donnees!O1373,\"чч:мм:сс\"))","v":0}]
[{"$f":"86400*TIMEVALUE(TEXT(Smp99_Donnees!C1374,\"чч:мм:сс\"))","v":0},{"$f":"86400*TIMEVALUE(TEXT(Smp99_Donnees!O1374,\"чч:мм:сс\"))","v":0}]
[{"$f":"86400*TIMEVALUE(TEXT(Smp99_Donnees!C1375,\"чч:мм:сс\"))","v":0},{"$f":"86400*TIMEVALUE(TEXT(Smp99_Donnees!O1375,\"чч:мм:сс\"))","v":0}]
[{"$f":"86400*TIMEVALUE(TEXT(Smp99_Donnees!C1376,\"чч:мм:сс\"))","v":0},{"$f":"86400*TIMEVALUE(TEXT(Smp99_Donnees!O1376,\"чч:мм:сс\"))","v":0}]
[{"$f":"86400*TIMEVALUE(TEXT(Smp99_Donnees!C1377,\"чч:мм:сс\"))","v":0},{"$f":"86400*TIMEVALUE(TEXT(Smp99_Donnees!O1377,\"чч:мм:сс\"))","v":0}]
[{"$f":"86400*TIMEVALUE(TEXT(Smp99_Donnees!C1378,\"чч:мм:сс\"))","v":0},{"$f":"86400*TIMEVALUE(TEXT(Smp99_Donnees!O1378,\"чч:мм:сс\"))","v":0}]
[{"$f":"86400*TIMEVALUE(TEXT(Smp99_Donnees!C1379,\"чч:мм:сс\"))","v":0},{"$f":"86400*TIMEVALUE(TEXT(Smp99_Donnees!O1379,\"чч:мм:сс\"))","v":0}]
[{"$f":"86400*TIMEVALUE(TEXT(Smp99_Donnees!C1380,\"чч:мм:сс\"))","v":0},{"$f":"86400*TIMEVALUE(TEXT(Smp99_Donnees!O1380,\"чч:мм:сс\"))","v":0}]
[{"$f":"86400*TIMEVALUE(TEXT(Smp99_Donnees!C1381,\"чч:мм:сс\"))","v":0},{"$f":"86400*TIMEVALUE(TEXT(Smp99_Donnees!O1381,\"чч:мм:сс\"))","v":0}]
[{"$f":"86400*TIMEVALUE(TEXT(Smp99_Donnees!C1382,\"чч:мм:сс\"))","v":0},{"$f":"86400*TIMEVALUE(TEXT(Smp99_Donnees!O1382,\"чч:мм:сс\"))","v":0}]
[{"$f":"86400*TIMEVALUE(TEXT(Smp99_Donnees!C1383,\"чч:мм:сс\"))","v":0},{"$f":"86400*TIMEVALUE(TEXT(Smp99_Donnees!O1383,\"чч:мм:сс\"))","v":0}]
[{"$f":"86400*TIMEVALUE(TEXT(Smp99_Donnees!C1384,\"чч:мм:сс\"))","v":0},{"$f":"86400*TIMEVALUE(TEXT(Smp99_Donnees!O1384,\"чч:мм:сс\"))","v":0}]
[{"$f":"86400*TIMEVALUE(TEXT(Smp99_Donnees!C1385,\"чч:мм:сс\"))","v":0},{"$f":"86400*TIMEVALUE(TEXT(Smp99_Donnees!O1385,\"чч:мм:сс\"))","v":0}]
[{"$f":"86400*TIMEVALUE(TEXT(Smp99_Donnees!C1386,\"чч:мм:сс\"))","v":0},{"$f":"86400*TIMEVALUE(TEXT(Smp99_Donnees!O1386,\"чч:мм:сс\"))","v":0}]
[{"$f":"86400*TIMEVALUE(TEXT(Smp99_Donnees!C1387,\"чч:мм:сс\"))","v":0},{"$f":"86400*TIMEVALUE(TEXT(Smp99_Donnees!O1387,\"чч:мм:сс\"))","v":0}]
[{"$f":"86400*TIMEVALUE(TEXT(Smp99_Donnees!C1388,\"чч:мм:сс\"))","v":0},{"$f":"86400*TIMEVALUE(TEXT(Smp99_Donnees!O1388,\"чч:мм:сс\"))","v":0}]
[{"$f":"86400*TIMEVALUE(TEXT(Smp99_Donnees!C1389,\"чч:мм:сс\"))","v":0},{"$f":"86400*TIMEVALUE(TEXT(Smp99_Donnees!O1389,\"чч:мм:сс\"))","v":0}]
[{"$f":"86400*TIMEVALUE(TEXT(Smp99_Donnees!C1390,\"чч:мм:сс\"))","v":0},{"$f":"86400*TIMEVALUE(TEXT(Smp99_Donnees!O1390,\"чч:мм:сс\"))","v":0}]
[{"$f":"86400*TIMEVALUE(TEXT(Smp99_Donnees!C1391,\"чч:мм:сс\"))","v":0},{"$f":"86400*TIMEVALUE(TEXT(Smp99_Donnees!O1391,\"чч:мм:сс\"))","v":0}]
[{"$f":"86400*TIMEVALUE(TEXT(Smp99_Donnees!C1392,\"чч:мм:сс\"))","v":0},{"$f":"86400*TIMEVALUE(TEXT(Smp99_Donnees!O1392,\"чч:мм:сс\"))","v":0}]
[{"$f":"86400*TIMEVALUE(TEXT(Smp99_Donnees!C1393,\"чч:мм:сс\"))","v":0},{"$f":"86400*TIMEVALUE(TEXT(Smp99_Donnees!O1393,\"чч:мм:сс\"))","v":0}]
[{"$f":"86400*TIMEVALUE(TEXT(Smp99_Donnees!C1394,\"чч:мм:сс\"))","v":0},{"$f":"86400*TIMEVALUE(TEXT(Smp99_Donnees!O1394,\"чч:мм:сс\"))","v":0}]
[{"$f":"86400*TIMEVALUE(TEXT(Smp99_Donnees!C1395,\"чч:мм:сс\"))","v":0},{"$f":"86400*TIMEVALUE(TEXT(Smp99_Donnees!O1395,\"чч:мм:сс\"))","v":0}]
[{"$f":"86400*TIMEVALUE(TEXT(Smp99_Donnees!C1396,\"чч:мм:сс\"))","v":0},{"$f":"86400*TIMEVALUE(TEXT(Smp99_Donnees!O1396,\"чч:мм:сс\"))","v":0}]
[{"$f":"86400*TIMEVALUE(TEXT(Smp99_Donnees!C1397,\"чч:мм:сс\"))","v":0},{"$f":"86400*TIMEVALUE(TEXT(Smp99_Donnees!O1397,\"чч:мм:сс\"))","v":0}]
[{"$f":"86400*TIMEVALUE(TEXT(Smp99_Donnees!C1398,\"чч:мм:сс\"))","v":0},{"$f":"86400*TIMEVALUE(TEXT(Smp99_Donnees!O1398,\"чч:мм:сс\"))","v":0}]
[{"$f":"86400*TIMEVALUE(TEXT(Smp99_Donnees!C1399,\"чч:мм:сс\"))","v":0},{"$f":"86400*TIMEVALUE(TEXT(Smp99_Donnees!O1399,\"чч:мм:сс\"))","v":0}]
[{"$f":"86400*TIMEVALUE(TEXT(Smp99_Donnees!C1400,\"чч:мм:сс\"))","v":0},{"$f":"86400*TIMEVALUE(TEXT(Smp99_Donnees!O1400,\"чч:мм:сс\"))","v":0}]
[{"$f":"86400*TIMEVALUE(TEXT(Smp99_Donnees!C1401,\"чч:мм:сс\"))","v":0},{"$f":"86400*TIMEVALUE(TEXT(Smp99_Donnees!O1401,\"чч:мм:сс\"))","v":0}]
[{"$f":"86400*TIMEVALUE(TEXT(Smp99_Donnees!C1402,\"чч:мм:сс\"))","v":0},{"$f":"86400*TIMEVALUE(TEXT(Smp99_Donnees!O1402,\"чч:мм:сс\"))","v":0}]
[{"$f":"86400*TIMEVALUE(TEXT(Smp99_Donnees!C1403,\"чч:мм:сс\"))","v":0},{"$f":"86400*TIMEVALUE(TEXT(Smp99_Donnees!O1403,\"чч:мм:сс\"))","v":0}]
[{"$f":"86400*TIMEVALUE(TEXT(Smp99_Donnees!C1404,\"чч:мм:сс\"))","v":0},{"$f":"86400*TIMEVALUE(TEXT(Smp99_Donnees!O1404,\"чч:мм:сс\"))","v":0}]
[{"$f":"86400*TIMEVALUE(TEXT(Smp99_Donnees!C1405,\"чч:мм:сс\"))","v":0},{"$f":"86400*TIMEVALUE(TEXT(Smp99_Donnees!O1405,\"чч:мм:сс\"))","v":0}]
[{"$f":"86400*TIMEVALUE(TEXT(Smp99_Donnees!C1406,\"чч:мм:сс\"))","v":0},{"$f":"86400*TIMEVALUE(TEXT(Smp99_Donnees!O1406,\"чч:мм:сс\"))","v":0}]
[{"$f":"86400*TIMEVALUE(TEXT(Smp99_Donnees!C1407,\"чч:мм:сс\"))","v":0},{"$f":"86400*TIMEVALUE(TEXT(Smp99_Donnees!O1407,\"чч:мм:сс\"))","v":0}]
[{"$f":"86400*TIMEVALUE(TEXT(Smp99_Donnees!C1408,\"чч:мм:сс\"))","v":0},{"$f":"86400*TIMEVALUE(TEXT(Smp99_Donnees!O1408,\"чч:мм:сс\"))","v":0}]
[{"$f":"86400*TIMEVALUE(TEXT(Smp99_Donnees!C1409,\"чч:мм:сс\"))","v":0},{"$f":"86400*TIMEVALUE(TEXT(Smp99_Donnees!O1409,\"чч:мм:сс\"))","v":0}]
[{"$f":"86400*TIMEVALUE(TEXT(Smp99_Donnees!C1410,\"чч:мм:сс\"))","v":0},{"$f":"86400*TIMEVALUE(TEXT(Smp99_Donnees!O1410,\"чч:мм:сс\"))","v":0}]
[{"$f":"86400*TIMEVALUE(TEXT(Smp99_Donnees!C1411,\"чч:мм:сс\"))","v":0},{"$f":"86400*TIMEVALUE(TEXT(Smp99_Donnees!O1411,\"чч:мм:сс\"))","v":0}]
[{"$f":"86400*TIMEVALUE(TEXT(Smp99_Donnees!C1412,\"чч:мм:сс\"))","v":0},{"$f":"86400*TIMEVALUE(TEXT(Smp99_Donnees!O1412,\"чч:мм:сс\"))","v":0}]
[{"$f":"86400*TIMEVALUE(TEXT(Smp99_Donnees!C1413,\"чч:мм:сс\"))","v":0},{"$f":"86400*TIMEVALUE(TEXT(Smp99_Donnees!O1413,\"чч:мм:сс\"))","v":0}]
[{"$f":"86400*TIMEVALUE(TEXT(Smp99_Donnees!C1414,\"чч:мм:сс\"))","v":0},{"$f":"86400*TIMEVALUE(TEXT(Smp99_Donnees!O1414,\"чч:мм:сс\"))","v":0}]
[{"$f":"86400*TIMEVALUE(TEXT(Smp99_Donnees!C1415,\"чч:мм:сс\"))","v":0},{"$f":"86400*TIMEVALUE(TEXT(Smp99_Donnees!O1415,\"чч:мм:сс\"))","v":0}]
[{"$f":"86400*TIMEVALUE(TEXT(Smp99_Donnees!C1416,\"чч:мм:сс\"))","v":0},{"$f":"86400*TIMEVALUE(TEXT(Smp99_Donnees!O1416,\"чч:мм:сс\"))","v":0}]
[{"$f":"86400*TIMEVALUE(TEXT(Smp99_Donnees!C1417,\"чч:мм:сс\"))","v":0},{"$f":"86400*TIMEVALUE(TEXT(Smp99_Donnees!O1417,\"чч:мм:сс\"))","v":0}]
[{"$f":"86400*TIMEVALUE(TEXT(Smp99_Donnees!C1418,\"чч:мм:сс\"))","v":0},{"$f":"86400*TIMEVALUE(TEXT(Smp99_Donnees!O1418,\"чч:мм:сс\"))","v":0}]
[{"$f":"86400*TIMEVALUE(TEXT(Smp99_Donnees!C1419,\"чч:мм:сс\"))","v":0},{"$f":"86400*TIMEVALUE(TEXT(Smp99_Donnees!O1419,\"чч:мм:сс\"))","v":0}]
[{"$f":"86400*TIMEVALUE(TEXT(Smp99_Donnees!C1420,\"чч:мм:сс\"))","v":0},{"$f":"86400*TIMEVALUE(TEXT(Smp99_Donnees!O1420,\"чч:мм:сс\"))","v":0}]
[{"$f":"86400*TIMEVALUE(TEXT(Smp99_Donnees!C1421,\"чч:мм:сс\"))","v":0},{"$f":"86400*TIMEVALUE(TEXT(Smp99_Donnees!O1421,\"чч:мм:сс\"))","v":0}]
[{"$f":"86400*TIMEVALUE(TEXT(Smp99_Donnees!C1422,\"чч:мм:сс\"))","v":0},{"$f":"86400*TIMEVALUE(TEXT(Smp99_Donnees!O1422,\"чч:мм:сс\"))","v":0}]
[{"$f":"86400*TIMEVALUE(TEXT(Smp99_Donnees!C1423,\"чч:мм:сс\"))","v":0},{"$f":"86400*TIMEVALUE(TEXT(Smp99_Donnees!O1423,\"чч:мм:сс\"))","v":0}]
[{"$f":"86400*TIMEVALUE(TEXT(Smp99_Donnees!C1424,\"чч:мм:сс\"))","v":0},{"$f":"86400*TIMEVALUE(TEXT(Smp99_Donnees!O1424,\"чч:мм:сс\"))","v":0}]
[{"$f":"86400*TIMEVALUE(TEXT(Smp99_Donnees!C1425,\"чч:мм:сс\"))","v":0},{"$f":"86400*TIMEVALUE(TEXT(Smp99_Donnees!O1425,\"чч:мм:сс\"))","v":0}]
[{"$f":"86400*TIMEVALUE(TEXT(Smp99_Donnees!C1426,\"чч:мм:сс\"))","v":0},{"$f":"86400*TIMEVALUE(TEXT(Smp99_Donnees!O1426,\"чч:мм:сс\"))","v":0}]
[{"$f":"86400*TIMEVALUE(TEXT(Smp99_Donnees!C1427,\"чч:мм:сс\"))","v":0},{"$f":"86400*TIMEVALUE(TEXT(Smp99_Donnees!O1427,\"чч:мм:сс\"))","v":0}]
[{"$f":"86400*TIMEVALUE(TEXT(Smp99_Donnees!C1428,\"чч:мм:сс\"))","v":0},{"$f":"86400*TIMEVALUE(TEXT(Smp99_Donnees!O1428,\"чч:мм:сс\"))","v":0}]
[{"$f":"86400*TIMEVALUE(TEXT(Smp99_Donnees!C1429,\"чч:мм:сс\"))","v":0},{"$f":"86400*TIMEVALUE(TEXT(Smp99_Donnees!O1429,\"чч:мм:сс\"))","v":0}]
[{"$f":"86400*TIMEVALUE(TEXT(Smp99_Donnees!C1430,\"чч:мм:сс\"))","v":0},{"$f":"86400*TIMEVALUE(TEXT(Smp99_Donnees!O1430,\"чч:мм:сс\"))","v":0}]
[{"$f":"86400*TIMEVALUE(TEXT(Smp99_Donnees!C1431,\"чч:мм:сс\"))","v":0},{"$f":"86400*TIMEVALUE(TEXT(Smp99_Donnees!O1431,\"чч:мм:сс\"))","v":0}]
[{"$f":"86400*TIMEVALUE(TEXT(Smp99_Donnees!C1432,\"чч:мм:сс\"))","v":0},{"$f":"86400*TIMEVALUE(TEXT(Smp99_Donnees!O1432,\"чч:мм:сс\"))","v":0}]
[{"$f":"86400*TIMEVALUE(TEXT(Smp99_Donnees!C1433,\"чч:мм:сс\"))","v":0},{"$f":"86400*TIMEVALUE(TEXT(Smp99_Donnees!O1433,\"чч:мм:сс\"))","v":0}]
[{"$f":"86400*TIMEVALUE(TEXT(Smp99_Donnees!C1434,\"чч:мм:сс\"))","v":0},{"$f":"86400*TIMEVALUE(TEXT(Smp99_Donnees!O1434,\"чч:мм:сс\"))","v":0}]
[{"$f":"86400*TIMEVALUE(TEXT(Smp99_Donnees!C1435,\"чч:мм:сс\"))","v":0},{"$f":"86400*TIMEVALUE(TEXT(Smp99_Donnees!O1435,\"чч:мм:сс\"))","v":0}]
[{"$f":"86400*TIMEVALUE(TEXT(Smp99_Donnees!C1436,\"чч:мм:сс\"))","v":0},{"$f":"86400*TIMEVALUE(TEXT(Smp99_Donnees!O1436,\"чч:мм:сс\"))","v":0}]
[{"$f":"86400*TIMEVALUE(TEXT(Smp99_Donnees!C1437,\"чч:мм:сс\"))","v":0},{"$f":"86400*TIMEVALUE(TEXT(Smp99_Donnees!O1437,\"чч:мм:сс\"))","v":0}]
[{"$f":"86400*TIMEVALUE(TEXT(Smp99_Donnees!C1438,\"чч:мм:сс\"))","v":0},{"$f":"86400*TIMEVALUE(TEXT(Smp99_Donnees!O1438,\"чч:мм:сс\"))","v":0}]
[{"$f":"86400*TIMEVALUE(TEXT(Smp99_Donnees!C1439,\"чч:мм:сс\"))","v":0},{"$f":"86400*TIMEVALUE(TEXT(Smp99_Donnees!O1439,\"чч:мм:сс\"))","v":0}]
[{"$f":"86400*TIMEVALUE(TEXT(Smp99_Donnees!C1440,\"чч:мм:сс\"))","v":0},{"$f":"86400*TIMEVALUE(TEXT(Smp99_Donnees!O1440,\"чч:мм:сс\"))","v":0}]
[{"$f":"86400*TIMEVALUE(TEXT(Smp99_Donnees!C1441,\"чч:мм:сс\"))","v":0},{"$f":"86400*TIMEVALUE(TEXT(Smp99_Donnees!O1441,\"чч:мм:сс\"))","v":0}]
[{"$f":"86400*TIMEVALUE(TEXT(Smp99_Donnees!C1442,\"чч:мм:сс\"))","v":0},{"$f":"86400*TIMEVALUE(TEXT(Smp99_Donnees!O1442,\"чч:мм:сс\"))","v":0}]
[{"$f":"86400*TIMEVALUE(TEXT(Smp99_Donnees!C1443,\"чч:мм:сс\"))","v":0},{"$f":"86400*TIMEVALUE(TEXT(Smp99_Donnees!O1443,\"чч:мм:сс\"))","v":0}]
[{"$f":"86400*TIMEVALUE(TEXT(Smp99_Donnees!C1444,\"чч:мм:сс\"))","v":0},{"$f":"86400*TIMEVALUE(TEXT(Smp99_Donnees!O1444,\"чч:мм:сс\"))","v":0}]
[{"$f":"86400*TIMEVALUE(TEXT(Smp99_Donnees!C1445,\"чч:мм:сс\"))","v":0},{"$f":"86400*TIMEVALUE(TEXT(Smp99_Donnees!O1445,\"чч:мм:сс\"))","v":0}]
[{"$f":"86400*TIMEVALUE(TEXT(Smp99_Donnees!C1446,\"чч:мм:сс\"))","v":0},{"$f":"86400*TIMEVALUE(TEXT(Smp99_Donnees!O1446,\"чч:мм:сс\"))","v":0}]
[{"$f":"86400*TIMEVALUE(TEXT(Smp99_Donnees!C1447,\"чч:мм:сс\"))","v":0},{"$f":"86400*TIMEVALUE(TEXT(Smp99_Donnees!O1447,\"чч:мм:сс\"))","v":0}]
[{"$f":"86400*TIMEVALUE(TEXT(Smp99_Donnees!C1448,\"чч:мм:сс\"))","v":0},{"$f":"86400*TIMEVALUE(TEXT(Smp99_Donnees!O1448,\"чч:мм:сс\"))","v":0}]
[{"$f":"86400*TIMEVALUE(TEXT(Smp99_Donnees!C1449,\"чч:мм:сс\"))","v":0},{"$f":"86400*TIMEVALUE(TEXT(Smp99_Donnees!O1449,\"чч:мм:сс\"))","v":0}]
[{"$f":"86400*TIMEVALUE(TEXT(Smp99_Donnees!C1450,\"чч:мм:сс\"))","v":0},{"$f":"86400*TIMEVALUE(TEXT(Smp99_Donnees!O1450,\"чч:мм:сс\"))","v":0}]
[{"$f":"86400*TIMEVALUE(TEXT(Smp99_Donnees!C1451,\"чч:мм:сс\"))","v":0},{"$f":"86400*TIMEVALUE(TEXT(Smp99_Donnees!O1451,\"чч:мм:сс\"))","v":0}]
[{"$f":"86400*TIMEVALUE(TEXT(Smp99_Donnees!C1452,\"чч:мм:сс\"))","v":0},{"$f":"86400*TIMEVALUE(TEXT(Smp99_Donnees!O1452,\"чч:мм:сс\"))","v":0}]
[{"$f":"86400*TIMEVALUE(TEXT(Smp99_Donnees!C1453,\"чч:мм:сс\"))","v":0},{"$f":"86400*TIMEVALUE(TEXT(Smp99_Donnees!O1453,\"чч:мм:сс\"))","v":0}]
[{"$f":"86400*TIMEVALUE(TEXT(Smp99_Donnees!C1454,\"чч:мм:сс\"))","v":0},{"$f":"86400*TIMEVALUE(TEXT(Smp99_Donnees!O1454,\"чч:мм:сс\"))","v":0}]
[{"$f":"86400*TIMEVALUE(TEXT(Smp99_Donnees!C1455,\"чч:мм:сс\"))","v":0},{"$f":"86400*TIMEVALUE(TEXT(Smp99_Donnees!O1455,\"чч:мм:сс\"))","v":0}]
[{"$f":"86400*TIMEVALUE(TEXT(Smp99_Donnees!C1456,\"чч:мм:сс\"))","v":0},{"$f":"86400*TIMEVALUE(TEXT(Smp99_Donnees!O1456,\"чч:мм:сс\"))","v":0}]
[{"$f":"86400*TIMEVALUE(TEXT(Smp99_Donnees!C1457,\"чч:мм:сс\"))","v":0},{"$f":"86400*TIMEVALUE(TEXT(Smp99_Donnees!O1457,\"чч:мм:сс\"))","v":0}]
[{"$f":"86400*TIMEVALUE(TEXT(Smp99_Donnees!C1458,\"чч:мм:сс\"))","v":0},{"$f":"86400*TIMEVALUE(TEXT(Smp99_Donnees!O1458,\"чч:мм:сс\"))","v":0}]
[{"$f":"86400*TIMEVALUE(TEXT(Smp99_Donnees!C1459,\"чч:мм:сс\"))","v":0},{"$f":"86400*TIMEVALUE(TEXT(Smp99_Donnees!O1459,\"чч:мм:сс\"))","v":0}]
[{"$f":"86400*TIMEVALUE(TEXT(Smp99_Donnees!C1460,\"чч:мм:сс\"))","v":0},{"$f":"86400*TIMEVALUE(TEXT(Smp99_Donnees!O1460,\"чч:мм:сс\"))","v":0}]
[{"$f":"86400*TIMEVALUE(TEXT(Smp99_Donnees!C1461,\"чч:мм:сс\"))","v":0},{"$f":"86400*TIMEVALUE(TEXT(Smp99_Donnees!O1461,\"чч:мм:сс\"))","v":0}]
[{"$f":"86400*TIMEVALUE(TEXT(Smp99_Donnees!C1462,\"чч:мм:сс\"))","v":0},{"$f":"86400*TIMEVALUE(TEXT(Smp99_Donnees!O1462,\"чч:мм:сс\"))","v":0}]
[{"$f":"86400*TIMEVALUE(TEXT(Smp99_Donnees!C1463,\"чч:мм:сс\"))","v":0},{"$f":"86400*TIMEVALUE(TEXT(Smp99_Donnees!O1463,\"чч:мм:сс\"))","v":0}]
[{"$f":"86400*TIMEVALUE(TEXT(Smp99_Donnees!C1464,\"чч:мм:сс\"))","v":0},{"$f":"86400*TIMEVALUE(TEXT(Smp99_Donnees!O1464,\"чч:мм:сс\"))","v":0}]
[{"$f":"86400*TIMEVALUE(TEXT(Smp99_Donnees!C1465,\"чч:мм:сс\"))","v":0},{"$f":"86400*TIMEVALUE(TEXT(Smp99_Donnees!O1465,\"чч:мм:сс\"))","v":0}]
[{"$f":"86400*TIMEVALUE(TEXT(Smp99_Donnees!C1466,\"чч:мм:сс\"))","v":0},{"$f":"86400*TIMEVALUE(TEXT(Smp99_Donnees!O1466,\"чч:мм:сс\"))","v":0}]
[{"$f":"86400*TIMEVALUE(TEXT(Smp99_Donnees!C1467,\"чч:мм:сс\"))","v":0},{"$f":"86400*TIMEVALUE(TEXT(Smp99_Donnees!O1467,\"чч:мм:сс\"))","v":0}]
[{"$f":"86400*TIMEVALUE(TEXT(Smp99_Donnees!C1468,\"чч:мм:сс\"))","v":0},{"$f":"86400*TIMEVALUE(TEXT(Smp99_Donnees!O1468,\"чч:мм:сс\"))","v":0}]
[{"$f":"86400*TIMEVALUE(TEXT(Smp99_Donnees!C1469,\"чч:мм:сс\"))","v":0},{"$f":"86400*TIMEVALUE(TEXT(Smp99_Donnees!O1469,\"чч:мм:сс\"))","v":0}]
[{"$f":"86400*TIMEVALUE(TEXT(Smp99_Donnees!C1470,\"чч:мм:сс\"))","v":0},{"$f":"86400*TIMEVALUE(TEXT(Smp99_Donnees!O1470,\"чч:мм:сс\"))","v":0}]
[{"$f":"86400*TIMEVALUE(TEXT(Smp99_Donnees!C1471,\"чч:мм:сс\"))","v":0},{"$f":"86400*TIMEVALUE(TEXT(Smp99_Donnees!O1471,\"чч:мм:сс\"))","v":0}]
[{"$f":"86400*TIMEVALUE(TEXT(Smp99_Donnees!C1472,\"чч:мм:сс\"))","v":0},{"$f":"86400*TIMEVALUE(TEXT(Smp99_Donnees!O1472,\"чч:мм:сс\"))","v":0}]
[{"$f":"86400*TIMEVALUE(TEXT(Smp99_Donnees!C1473,\"чч:мм:сс\"))","v":0},{"$f":"86400*TIMEVALUE(TEXT(Smp99_Donnees!O1473,\"чч:мм:сс\"))","v":0}]
[{"$f":"86400*TIMEVALUE(TEXT(Smp99_Donnees!C1474,\"чч:мм:сс\"))","v":0},{"$f":"86400*TIMEVALUE(TEXT(Smp99_Donnees!O1474,\"чч:мм:сс\"))","v":0}]
[{"$f":"86400*TIMEVALUE(TEXT(Smp99_Donnees!C1475,\"чч:мм:сс\"))","v":0},{"$f":"86400*TIMEVALUE(TEXT(Smp99_Donnees!O1475,\"чч:мм:сс\"))","v":0}]
[{"$f":"86400*TIMEVALUE(TEXT(Smp99_Donnees!C1476,\"чч:мм:сс\"))","v":0},{"$f":"86400*TIMEVALUE(TEXT(Smp99_Donnees!O1476,\"чч:мм:сс\"))","v":0}]
[{"$f":"86400*TIMEVALUE(TEXT(Smp99_Donnees!C1477,\"чч:мм:сс\"))","v":0},{"$f":"86400*TIMEVALUE(TEXT(Smp99_Donnees!O1477,\"чч:мм:сс\"))","v":0}]
[{"$f":"86400*TIMEVALUE(TEXT(Smp99_Donnees!C1478,\"чч:мм:сс\"))","v":0},{"$f":"86400*TIMEVALUE(TEXT(Smp99_Donnees!O1478,\"чч:мм:сс\"))","v":0}]
[{"$f":"86400*TIMEVALUE(TEXT(Smp99_Donnees!C1479,\"чч:мм:сс\"))","v":0},{"$f":"86400*TIMEVALUE(TEXT(Smp99_Donnees!O1479,\"чч:мм:сс\"))","v":0}]
[{"$f":"86400*TIMEVALUE(TEXT(Smp99_Donnees!C1480,\"чч:мм:сс\"))","v":0},{"$f":"86400*TIMEVALUE(TEXT(Smp99_Donnees!O1480,\"чч:мм:сс\"))","v":0}]
[{"$f":"86400*TIMEVALUE(TEXT(Smp99_Donnees!C1481,\"чч:мм:сс\"))","v":0},{"$f":"86400*TIMEVALUE(TEXT(Smp99_Donnees!O1481,\"чч:мм:сс\"))","v":0}]
[{"$f":"86400*TIMEVALUE(TEXT(Smp99_Donnees!C1482,\"чч:мм:сс\"))","v":0},{"$f":"86400*TIMEVALUE(TEXT(Smp99_Donnees!O1482,\"чч:мм:сс\"))","v":0}]
[{"$f":"86400*TIMEVALUE(TEXT(Smp99_Donnees!C1483,\"чч:мм:сс\"))","v":0},{"$f":"86400*TIMEVALUE(TEXT(Smp99_Donnees!O1483,\"чч:мм:сс\"))","v":0}]
[{"$f":"86400*TIMEVALUE(TEXT(Smp99_Donnees!C1484,\"чч:мм:сс\"))","v":0},{"$f":"86400*TIMEVALUE(TEXT(Smp99_Donnees!O1484,\"чч:мм:сс\"))","v":0}]
[{"$f":"86400*TIMEVALUE(TEXT(Smp99_Donnees!C1485,\"чч:мм:сс\"))","v":0},{"$f":"86400*TIMEVALUE(TEXT(Smp99_Donnees!O1485,\"чч:мм:сс\"))","v":0}]
[{"$f":"86400*TIMEVALUE(TEXT(Smp99_Donnees!C1486,\"чч:мм:сс\"))","v":0},{"$f":"86400*TIMEVALUE(TEXT(Smp99_Donnees!O1486,\"чч:мм:сс\"))","v":0}]
[{"$f":"86400*TIMEVALUE(TEXT(Smp99_Donnees!C1487,\"чч:мм:сс\"))","v":0},{"$f":"86400*TIMEVALUE(TEXT(Smp99_Donnees!O1487,\"чч:мм:сс\"))","v":0}]
[{"$f":"86400*TIMEVALUE(TEXT(Smp99_Donnees!C1488,\"чч:мм:сс\"))","v":0},{"$f":"86400*TIMEVALUE(TEXT(Smp99_Donnees!O1488,\"чч:мм:сс\"))","v":0}]
[{"$f":"86400*TIMEVALUE(TEXT(Smp99_Donnees!C1489,\"чч:мм:сс\"))","v":0},{"$f":"86400*TIMEVALUE(TEXT(Smp99_Donnees!O1489,\"чч:мм:сс\"))","v":0}]
[{"$f":"86400*TIMEVALUE(TEXT(Smp99_Donnees!C1490,\"чч:мм:сс\"))","v":0},{"$f":"86400*TIMEVALUE(TEXT(Smp99_Donnees!O1490,\"чч:мм:сс\"))","v":0}]
[{"$f":"86400*TIMEVALUE(TEXT(Smp99_Donnees!C1491,\"чч:мм:сс\"))","v":0},{"$f":"86400*TIMEVALUE(TEXT(Smp99_Donnees!O1491,\"чч:мм:сс\"))","v":0}]
[{"$f":"86400*TIMEVALUE(TEXT(Smp99_Donnees!C1492,\"чч:мм:сс\"))","v":0},{"$f":"86400*TIMEVALUE(TEXT(Smp99_Donnees!O1492,\"чч:мм:сс\"))","v":0}]
[{"$f":"86400*TIMEVALUE(TEXT(Smp99_Donnees!C1493,\"чч:мм:сс\"))","v":0},{"$f":"86400*TIMEVALUE(TEXT(Smp99_Donnees!O1493,\"чч:мм:сс\"))","v":0}]
[{"$f":"86400*TIMEVALUE(TEXT(Smp99_Donnees!C1494,\"чч:мм:сс\"))","v":0},{"$f":"86400*TIMEVALUE(TEXT(Smp99_Donnees!O1494,\"чч:мм:сс\"))","v":0}]
[{"$f":"86400*TIMEVALUE(TEXT(Smp99_Donnees!C1495,\"чч:мм:сс\"))","v":0},{"$f":"86400*TIMEVALUE(TEXT(Smp99_Donnees!O1495,\"чч:мм:сс\"))","v":0}]
[{"$f":"86400*TIMEVALUE(TEXT(Smp99_Donnees!C1496,\"чч:мм:сс\"))","v":0},{"$f":"86400*TIMEVALUE(TEXT(Smp99_Donnees!O1496,\"чч:мм:сс\"))","v":0}]
[{"$f":"86400*TIMEVALUE(TEXT(Smp99_Donnees!C1497,\"чч:мм:сс\"))","v":0},{"$f":"86400*TIMEVALUE(TEXT(Smp99_Donnees!O1497,\"чч:мм:сс\"))","v":0}]
[{"$f":"86400*TIMEVALUE(TEXT(Smp99_Donnees!C1498,\"чч:мм:сс\"))","v":0},{"$f":"86400*TIMEVALUE(TEXT(Smp99_Donnees!O1498,\"чч:мм:сс\"))","v":0}]
[{"$f":"86400*TIMEVALUE(TEXT(Smp99_Donnees!C1499,\"чч:мм:сс\"))","v":0},{"$f":"86400*TIMEVALUE(TEXT(Smp99_Donnees!O1499,\"чч:мм:сс\"))","v":0}]
[{"$f":"86400*TIMEVALUE(TEXT(Smp99_Donnees!C1500,\"чч:мм:сс\"))","v":0},{"$f":"86400*TIMEVALUE(TEXT(Smp99_Donnees!O1500,\"чч:мм:сс\"))","v":0}]
[{"$f":"86400*TIMEVALUE(TEXT(Smp99_Donnees!C1501,\"чч:мм:сс\"))","v":0},{"$f":"86400*TIMEVALUE(TEXT(Smp99_Donnees!O1501,\"чч:мм:сс\"))","v":0}]
[{"$f":"86400*TIMEVALUE(TEXT(Smp99_Donnees!C1502,\"чч:мм:сс\"))","v":0},{"$f":"86400*TIMEVALUE(TEXT(Smp99_Donnees!O1502,\"чч:мм:сс\"))","v":0}]
[{"$f":"86400*TIMEVALUE(TEXT(Smp99_Donnees!C1503,\"чч:мм:сс\"))","v":0},{"$f":"86400*TIMEVALUE(TEXT(Smp99_Donnees!O1503,\"чч:мм:сс\"))","v":0}]
[{"$f":"86400*TIMEVALUE(TEXT(Smp99_Donnees!C1504,\"чч:мм:сс\"))","v":0},{"$f":"86400*TIMEVALUE(TEXT(Smp99_Donnees!O1504,\"чч:мм:сс\"))","v":0}]
[{"$f":"86400*TIMEVALUE(TEXT(Smp99_Donnees!C1505,\"чч:мм:сс\"))","v":0},{"$f":"86400*TIMEVALUE(TEXT(Smp99_Donnees!O1505,\"чч:мм:сс\"))","v":0}]
[{"$f":"86400*TIMEVALUE(TEXT(Smp99_Donnees!C1506,\"чч:мм:сс\"))","v":0},{"$f":"86400*TIMEVALUE(TEXT(Smp99_Donnees!O1506,\"чч:мм:сс\"))","v":0}]
[{"$f":"86400*TIMEVALUE(TEXT(Smp99_Donnees!C1507,\"чч:мм:сс\"))","v":0},{"$f":"86400*TIMEVALUE(TEXT(Smp99_Donnees!O1507,\"чч:мм:сс\"))","v":0}]
[{"$f":"86400*TIMEVALUE(TEXT(Smp99_Donnees!C1508,\"чч:мм:сс\"))","v":0},{"$f":"86400*TIMEVALUE(TEXT(Smp99_Donnees!O1508,\"чч:мм:сс\"))","v":0}]
[{"$f":"86400*TIMEVALUE(TEXT(Smp99_Donnees!C1509,\"чч:мм:сс\"))","v":0},{"$f":"86400*TIMEVALUE(TEXT(Smp99_Donnees!O1509,\"чч:мм:сс\"))","v":0}]
[{"$f":"86400*TIMEVALUE(TEXT(Smp99_Donnees!C1510,\"чч:мм:сс\"))","v":0},{"$f":"86400*TIMEVALUE(TEXT(Smp99_Donnees!O1510,\"чч:мм:сс\"))","v":0}]
[{"$f":"86400*TIMEVALUE(TEXT(Smp99_Donnees!C1511,\"чч:мм:сс\"))","v":0},{"$f":"86400*TIMEVALUE(TEXT(Smp99_Donnees!O1511,\"чч:мм:сс\"))","v":0}]
[{"$f":"86400*TIMEVALUE(TEXT(Smp99_Donnees!C1512,\"чч:мм:сс\"))","v":0},{"$f":"86400*TIMEVALUE(TEXT(Smp99_Donnees!O1512,\"чч:мм:сс\"))","v":0}]
[{"$f":"86400*TIMEVALUE(TEXT(Smp99_Donnees!C1513,\"чч:мм:сс\"))","v":0},{"$f":"86400*TIMEVALUE(TEXT(Smp99_Donnees!O1513,\"чч:мм:сс\"))","v":0}]
[{"$f":"86400*TIMEVALUE(TEXT(Smp99_Donnees!C1514,\"чч:мм:сс\"))","v":0},{"$f":"86400*TIMEVALUE(TEXT(Smp99_Donnees!O1514,\"чч:мм:сс\"))","v":0}]
[{"$f":"86400*TIMEVALUE(TEXT(Smp99_Donnees!C1515,\"чч:мм:сс\"))","v":0},{"$f":"86400*TIMEVALUE(TEXT(Smp99_Donnees!O1515,\"чч:мм:сс\"))","v":0}]
[{"$f":"86400*TIMEVALUE(TEXT(Smp99_Donnees!C1516,\"чч:мм:сс\"))","v":0},{"$f":"86400*TIMEVALUE(TEXT(Smp99_Donnees!O1516,\"чч:мм:сс\"))","v":0}]
[{"$f":"86400*TIMEVALUE(TEXT(Smp99_Donnees!C1517,\"чч:мм:сс\"))","v":0},{"$f":"86400*TIMEVALUE(TEXT(Smp99_Donnees!O1517,\"чч:мм:сс\"))","v":0}]
[{"$f":"86400*TIMEVALUE(TEXT(Smp99_Donnees!C1518,\"чч:мм:сс\"))","v":0},{"$f":"86400*TIMEVALUE(TEXT(Smp99_Donnees!O1518,\"чч:мм:сс\"))","v":0}]
[{"$f":"86400*TIMEVALUE(TEXT(Smp99_Donnees!C1519,\"чч:мм:сс\"))","v":0},{"$f":"86400*TIMEVALUE(TEXT(Smp99_Donnees!O1519,\"чч:мм:сс\"))","v":0}]
[{"$f":"86400*TIMEVALUE(TEXT(Smp99_Donnees!C1520,\"чч:мм:сс\"))","v":0},{"$f":"86400*TIMEVALUE(TEXT(Smp99_Donnees!O1520,\"чч:мм:сс\"))","v":0}]
[{"$f":"86400*TIMEVALUE(TEXT(Smp99_Donnees!C1521,\"чч:мм:сс\"))","v":0},{"$f":"86400*TIMEVALUE(TEXT(Smp99_Donnees!O1521,\"чч:мм:сс\"))","v":0}]
[{"$f":"86400*TIMEVALUE(TEXT(Smp99_Donnees!C1522,\"чч:мм:сс\"))","v":0},{"$f":"86400*TIMEVALUE(TEXT(Smp99_Donnees!O1522,\"чч:мм:сс\"))","v":0}]
[{"$f":"86400*TIMEVALUE(TEXT(Smp99_Donnees!C1523,\"чч:мм:сс\"))","v":0},{"$f":"86400*TIMEVALUE(TEXT(Smp99_Donnees!O1523,\"чч:мм:сс\"))","v":0}]
[{"$f":"86400*TIMEVALUE(TEXT(Smp99_Donnees!C1524,\"чч:мм:сс\"))","v":0},{"$f":"86400*TIMEVALUE(TEXT(Smp99_Donnees!O1524,\"чч:мм:сс\"))","v":0}]
[{"$f":"86400*TIMEVALUE(TEXT(Smp99_Donnees!C1525,\"чч:мм:сс\"))","v":0},{"$f":"86400*TIMEVALUE(TEXT(Smp99_Donnees!O1525,\"чч:мм:сс\"))","v":0}]
[{"$f":"86400*TIMEVALUE(TEXT(Smp99_Donnees!C1526,\"чч:мм:сс\"))","v":0},{"$f":"86400*TIMEVALUE(TEXT(Smp99_Donnees!O1526,\"чч:мм:сс\"))","v":0}]
[{"$f":"86400*TIMEVALUE(TEXT(Smp99_Donnees!C1527,\"чч:мм:сс\"))","v":0},{"$f":"86400*TIMEVALUE(TEXT(Smp99_Donnees!O1527,\"чч:мм:сс\"))","v":0}]
[{"$f":"86400*TIMEVALUE(TEXT(Smp99_Donnees!C1528,\"чч:мм:сс\"))","v":0},{"$f":"86400*TIMEVALUE(TEXT(Smp99_Donnees!O1528,\"чч:мм:сс\"))","v":0}]
[{"$f":"86400*TIMEVALUE(TEXT(Smp99_Donnees!C1529,\"чч:мм:сс\"))","v":0},{"$f":"86400*TIMEVALUE(TEXT(Smp99_Donnees!O1529,\"чч:мм:сс\"))","v":0}]
[{"$f":"86400*TIMEVALUE(TEXT(Smp99_Donnees!C1530,\"чч:мм:сс\"))","v":0},{"$f":"86400*TIMEVALUE(TEXT(Smp99_Donnees!O1530,\"чч:мм:сс\"))","v":0}]
[{"$f":"86400*TIMEVALUE(TEXT(Smp99_Donnees!C1531,\"чч:мм:сс\"))","v":0},{"$f":"86400*TIMEVALUE(TEXT(Smp99_Donnees!O1531,\"чч:мм:сс\"))","v":0}]
[{"$f":"86400*TIMEVALUE(TEXT(Smp99_Donnees!C1532,\"чч:мм:сс\"))","v":0},{"$f":"86400*TIMEVALUE(TEXT(Smp99_Donnees!O1532,\"чч:мм:сс\"))","v":0}]
[{"$f":"86400*TIMEVALUE(TEXT(Smp99_Donnees!C1533,\"чч:мм:сс\"))","v":0},{"$f":"86400*TIMEVALUE(TEXT(Smp99_Donnees!O1533,\"чч:мм:сс\"))","v":0}]
[{"$f":"86400*TIMEVALUE(TEXT(Smp99_Donnees!C1534,\"чч:мм:сс\"))","v":0},{"$f":"86400*TIMEVALUE(TEXT(Smp99_Donnees!O1534,\"чч:мм:сс\"))","v":0}]
[{"$f":"86400*TIMEVALUE(TEXT(Smp99_Donnees!C1535,\"чч:мм:сс\"))","v":0},{"$f":"86400*TIMEVALUE(TEXT(Smp99_Donnees!O1535,\"чч:мм:сс\"))","v":0}]
[{"$f":"86400*TIMEVALUE(TEXT(Smp99_Donnees!C1536,\"чч:мм:сс\"))","v":0},{"$f":"86400*TIMEVALUE(TEXT(Smp99_Donnees!O1536,\"чч:мм:сс\"))","v":0}]
[{"$f":"86400*TIMEVALUE(TEXT(Smp99_Donnees!C1537,\"чч:мм:сс\"))","v":0},{"$f":"86400*TIMEVALUE(TEXT(Smp99_Donnees!O1537,\"чч:мм:сс\"))","v":0}]
[{"$f":"86400*TIMEVALUE(TEXT(Smp99_Donnees!C1538,\"чч:мм:сс\"))","v":0},{"$f":"86400*TIMEVALUE(TEXT(Smp99_Donnees!O1538,\"чч:мм:сс\"))","v":0}]
[{"$f":"86400*TIMEVALUE(TEXT(Smp99_Donnees!C1539,\"чч:мм:сс\"))","v":0},{"$f":"86400*TIMEVALUE(TEXT(Smp99_Donnees!O1539,\"чч:мм:сс\"))","v":0}]
[{"$f":"86400*TIMEVALUE(TEXT(Smp99_Donnees!C1540,\"чч:мм:сс\"))","v":0},{"$f":"86400*TIMEVALUE(TEXT(Smp99_Donnees!O1540,\"чч:мм:сс\"))","v":0}]
[{"$f":"86400*TIMEVALUE(TEXT(Smp99_Donnees!C1541,\"чч:мм:сс\"))","v":0},{"$f":"86400*TIMEVALUE(TEXT(Smp99_Donnees!O1541,\"чч:мм:сс\"))","v":0}]
[{"$f":"86400*TIMEVALUE(TEXT(Smp99_Donnees!C1542,\"чч:мм:сс\"))","v":0},{"$f":"86400*TIMEVALUE(TEXT(Smp99_Donnees!O1542,\"чч:мм:сс\"))","v":0}]
[{"$f":"86400*TIMEVALUE(TEXT(Smp99_Donnees!C1543,\"чч:мм:сс\"))","v":0},{"$f":"86400*TIMEVALUE(TEXT(Smp99_Donnees!O1543,\"чч:мм:сс\"))","v":0}]
[{"$f":"86400*TIMEVALUE(TEXT(Smp99_Donnees!C1544,\"чч:мм:сс\"))","v":0},{"$f":"86400*TIMEVALUE(TEXT(Smp99_Donnees!O1544,\"чч:мм:сс\"))","v":0}]
[{"$f":"86400*TIMEVALUE(TEXT(Smp99_Donnees!C1545,\"чч:мм:сс\"))","v":0},{"$f":"86400*TIMEVALUE(TEXT(Smp99_Donnees!O1545,\"чч:мм:сс\"))","v":0}]
[{"$f":"86400*TIMEVALUE(TEXT(Smp99_Donnees!C1546,\"чч:мм:сс\"))","v":0},{"$f":"86400*TIMEVALUE(TEXT(Smp99_Donnees!O1546,\"чч:мм:сс\"))","v":0}]
[{"$f":"86400*TIMEVALUE(TEXT(Smp99_Donnees!C1547,\"чч:мм:сс\"))","v":0},{"$f":"86400*TIMEVALUE(TEXT(Smp99_Donnees!O1547,\"чч:мм:сс\"))","v":0}]
[{"$f":"86400*TIMEVALUE(TEXT(Smp99_Donnees!C1548,\"чч:мм:сс\"))","v":0},{"$f":"86400*TIMEVALUE(TEXT(Smp99_Donnees!O1548,\"чч:мм:сс\"))","v":0}]
[{"$f":"86400*TIMEVALUE(TEXT(Smp99_Donnees!C1549,\"чч:мм:сс\"))","v":0},{"$f":"86400*TIMEVALUE(TEXT(Smp99_Donnees!O1549,\"чч:мм:сс\"))","v":0}]
[{"$f":"86400*TIMEVALUE(TEXT(Smp99_Donnees!C1550,\"чч:мм:сс\"))","v":0},{"$f":"86400*TIMEVALUE(TEXT(Smp99_Donnees!O1550,\"чч:мм:сс\"))","v":0}]
[{"$f":"86400*TIMEVALUE(TEXT(Smp99_Donnees!C1551,\"чч:мм:сс\"))","v":0},{"$f":"86400*TIMEVALUE(TEXT(Smp99_Donnees!O1551,\"чч:мм:сс\"))","v":0}]
[{"$f":"86400*TIMEVALUE(TEXT(Smp99_Donnees!C1552,\"чч:мм:сс\"))","v":0},{"$f":"86400*TIMEVALUE(TEXT(Smp99_Donnees!O1552,\"чч:мм:сс\"))","v":0}]
[{"$f":"86400*TIMEVALUE(TEXT(Smp99_Donnees!C1553,\"чч:мм:сс\"))","v":0},{"$f":"86400*TIMEVALUE(TEXT(Smp99_Donnees!O1553,\"чч:мм:сс\"))","v":0}]
[{"$f":"86400*TIMEVALUE(TEXT(Smp99_Donnees!C1554,\"чч:мм:сс\"))","v":0},{"$f":"86400*TIMEVALUE(TEXT(Smp99_Donnees!O1554,\"чч:мм:сс\"))","v":0}]
[{"$f":"86400*TIMEVALUE(TEXT(Smp99_Donnees!C1555,\"чч:мм:сс\"))","v":0},{"$f":"86400*TIMEVALUE(TEXT(Smp99_Donnees!O1555,\"чч:мм:сс\"))","v":0}]
[{"$f":"86400*TIMEVALUE(TEXT(Smp99_Donnees!C1556,\"чч:мм:сс\"))","v":0},{"$f":"86400*TIMEVALUE(TEXT(Smp99_Donnees!O1556,\"чч:мм:сс\"))","v":0}]
[{"$f":"86400*TIMEVALUE(TEXT(Smp99_Donnees!C1557,\"чч:мм:сс\"))","v":0},{"$f":"86400*TIMEVALUE(TEXT(Smp99_Donnees!O1557,\"чч:мм:сс\"))","v":0}]
[{"$f":"86400*TIMEVALUE(TEXT(Smp99_Donnees!C1558,\"чч:мм:сс\"))","v":0},{"$f":"86400*TIMEVALUE(TEXT(Smp99_Donnees!O1558,\"чч:мм:сс\"))","v":0}]
[{"$f":"86400*TIMEVALUE(TEXT(Smp99_Donnees!C1559,\"чч:мм:сс\"))","v":0},{"$f":"86400*TIMEVALUE(TEXT(Smp99_Donnees!O1559,\"чч:мм:сс\"))","v":0}]
[{"$f":"86400*TIMEVALUE(TEXT(Smp99_Donnees!C1560,\"чч:мм:сс\"))","v":0},{"$f":"86400*TIMEVALUE(TEXT(Smp99_Donnees!O1560,\"чч:мм:сс\"))","v":0}]
[{"$f":"86400*TIMEVALUE(TEXT(Smp99_Donnees!C1561,\"чч:мм:сс\"))","v":0},{"$f":"86400*TIMEVALUE(TEXT(Smp99_Donnees!O1561,\"чч:мм:сс\"))","v":0}]
[{"$f":"86400*TIMEVALUE(TEXT(Smp99_Donnees!C1562,\"чч:мм:сс\"))","v":0},{"$f":"86400*TIMEVALUE(TEXT(Smp99_Donnees!O1562,\"чч:мм:сс\"))","v":0}]
[{"$f":"86400*TIMEVALUE(TEXT(Smp99_Donnees!C1563,\"чч:мм:сс\"))","v":0},{"$f":"86400*TIMEVALUE(TEXT(Smp99_Donnees!O1563,\"чч:мм:сс\"))","v":0}]
[{"$f":"86400*TIMEVALUE(TEXT(Smp99_Donnees!C1564,\"чч:мм:сс\"))","v":0},{"$f":"86400*TIMEVALUE(TEXT(Smp99_Donnees!O1564,\"чч:мм:сс\"))","v":0}]
[{"$f":"86400*TIMEVALUE(TEXT(Smp99_Donnees!C1565,\"чч:мм:сс\"))","v":0},{"$f":"86400*TIMEVALUE(TEXT(Smp99_Donnees!O1565,\"чч:мм:сс\"))","v":0}]
[{"$f":"86400*TIMEVALUE(TEXT(Smp99_Donnees!C1566,\"чч:мм:сс\"))","v":0},{"$f":"86400*TIMEVALUE(TEXT(Smp99_Donnees!O1566,\"чч:мм:сс\"))","v":0}]
[{"$f":"86400*TIMEVALUE(TEXT(Smp99_Donnees!C1567,\"чч:мм:сс\"))","v":0},{"$f":"86400*TIMEVALUE(TEXT(Smp99_Donnees!O1567,\"чч:мм:сс\"))","v":0}]
[{"$f":"86400*TIMEVALUE(TEXT(Smp99_Donnees!C1568,\"чч:мм:сс\"))","v":0},{"$f":"86400*TIMEVALUE(TEXT(Smp99_Donnees!O1568,\"чч:мм:сс\"))","v":0}]
[{"$f":"86400*TIMEVALUE(TEXT(Smp99_Donnees!C1569,\"чч:мм:сс\"))","v":0},{"$f":"86400*TIMEVALUE(TEXT(Smp99_Donnees!O1569,\"чч:мм:сс\"))","v":0}]
[{"$f":"86400*TIMEVALUE(TEXT(Smp99_Donnees!C1570,\"чч:мм:сс\"))","v":0},{"$f":"86400*TIMEVALUE(TEXT(Smp99_Donnees!O1570,\"чч:мм:сс\"))","v":0}]
[{"$f":"86400*TIMEVALUE(TEXT(Smp99_Donnees!C1571,\"чч:мм:сс\"))","v":0},{"$f":"86400*TIMEVALUE(TEXT(Smp99_Donnees!O1571,\"чч:мм:сс\"))","v":0}]
[{"$f":"86400*TIMEVALUE(TEXT(Smp99_Donnees!C1572,\"чч:мм:сс\"))","v":0},{"$f":"86400*TIMEVALUE(TEXT(Smp99_Donnees!O1572,\"чч:мм:сс\"))","v":0}]
[{"$f":"86400*TIMEVALUE(TEXT(Smp99_Donnees!C1573,\"чч:мм:сс\"))","v":0},{"$f":"86400*TIMEVALUE(TEXT(Smp99_Donnees!O1573,\"чч:мм:сс\"))","v":0}]
[{"$f":"86400*TIMEVALUE(TEXT(Smp99_Donnees!C1574,\"чч:мм:сс\"))","v":0},{"$f":"86400*TIMEVALUE(TEXT(Smp99_Donnees!O1574,\"чч:мм:сс\"))","v":0}]
[{"$f":"86400*TIMEVALUE(TEXT(Smp99_Donnees!C1575,\"чч:мм:сс\"))","v":0},{"$f":"86400*TIMEVALUE(TEXT(Smp99_Donnees!O1575,\"чч:мм:сс\"))","v":0}]
[{"$f":"86400*TIMEVALUE(TEXT(Smp99_Donnees!C1576,\"чч:мм:сс\"))","v":0},{"$f":"86400*TIMEVALUE(TEXT(Smp99_Donnees!O1576,\"чч:мм:сс\"))","v":0}]
[{"$f":"86400*TIMEVALUE(TEXT(Smp99_Donnees!C1577,\"чч:мм:сс\"))","v":0},{"$f":"86400*TIMEVALUE(TEXT(Smp99_Donnees!O1577,\"чч:мм:сс\"))","v":0}]
[{"$f":"86400*TIMEVALUE(TEXT(Smp99_Donnees!C1578,\"чч:мм:сс\"))","v":0},{"$f":"86400*TIMEVALUE(TEXT(Smp99_Donnees!O1578,\"чч:мм:сс\"))","v":0}]
[{"$f":"86400*TIMEVALUE(TEXT(Smp99_Donnees!C1579,\"чч:мм:сс\"))","v":0},{"$f":"86400*TIMEVALUE(TEXT(Smp99_Donnees!O1579,\"чч:мм:сс\"))","v":0}]
[{"$f":"86400*TIMEVALUE(TEXT(Smp99_Donnees!C1580,\"чч:мм:сс\"))","v":0},{"$f":"86400*TIMEVALUE(TEXT(Smp99_Donnees!O1580,\"чч:мм:сс\"))","v":0}]
[{"$f":"86400*TIMEVALUE(TEXT(Smp99_Donnees!C1581,\"чч:мм:сс\"))","v":0},{"$f":"86400*TIMEVALUE(TEXT(Smp99_Donnees!O1581,\"чч:мм:сс\"))","v":0}]
[{"$f":"86400*TIMEVALUE(TEXT(Smp99_Donnees!C1582,\"чч:мм:сс\"))","v":0},{"$f":"86400*TIMEVALUE(TEXT(Smp99_Donnees!O1582,\"чч:мм:сс\"))","v":0}]
[{"$f":"86400*TIMEVALUE(TEXT(Smp99_Donnees!C1583,\"чч:мм:сс\"))","v":0},{"$f":"86400*TIMEVALUE(TEXT(Smp99_Donnees!O1583,\"чч:мм:сс\"))","v":0}]
[{"$f":"86400*TIMEVALUE(TEXT(Smp99_Donnees!C1584,\"чч:мм:сс\"))","v":0},{"$f":"86400*TIMEVALUE(TEXT(Smp99_Donnees!O1584,\"чч:мм:сс\"))","v":0}]
[{"$f":"86400*TIMEVALUE(TEXT(Smp99_Donnees!C1585,\"чч:мм:сс\"))","v":0},{"$f":"86400*TIMEVALUE(TEXT(Smp99_Donnees!O1585,\"чч:мм:сс\"))","v":0}]
[{"$f":"86400*TIMEVALUE(TEXT(Smp99_Donnees!C1586,\"чч:мм:сс\"))","v":0},{"$f":"86400*TIMEVALUE(TEXT(Smp99_Donnees!O1586,\"чч:мм:сс\"))","v":0}]
[{"$f":"86400*TIMEVALUE(TEXT(Smp99_Donnees!C1587,\"чч:мм:сс\"))","v":0},{"$f":"86400*TIMEVALUE(TEXT(Smp99_Donnees!O1587,\"чч:мм:сс\"))","v":0}]
[{"$f":"86400*TIMEVALUE(TEXT(Smp99_Donnees!C1588,\"чч:мм:сс\"))","v":0},{"$f":"86400*TIMEVALUE(TEXT(Smp99_Donnees!O1588,\"чч:мм:сс\"))","v":0}]
[{"$f":"86400*TIMEVALUE(TEXT(Smp99_Donnees!C1589,\"чч:мм:сс\"))","v":0},{"$f":"86400*TIMEVALUE(TEXT(Smp99_Donnees!O1589,\"чч:мм:сс\"))","v":0}]
[{"$f":"86400*TIMEVALUE(TEXT(Smp99_Donnees!C1590,\"чч:мм:сс\"))","v":0},{"$f":"86400*TIMEVALUE(TEXT(Smp99_Donnees!O1590,\"чч:мм:сс\"))","v":0}]
[{"$f":"86400*TIMEVALUE(TEXT(Smp99_Donnees!C1591,\"чч:мм:сс\"))","v":0},{"$f":"86400*TIMEVALUE(TEXT(Smp99_Donnees!O1591,\"чч:мм:сс\"))","v":0}]
[{"$f":"86400*TIMEVALUE(TEXT(Smp99_Donnees!C1592,\"чч:мм:сс\"))","v":0},{"$f":"86400*TIMEVALUE(TEXT(Smp99_Donnees!O1592,\"чч:мм:сс\"))","v":0}]
[{"$f":"86400*TIMEVALUE(TEXT(Smp99_Donnees!C1593,\"чч:мм:сс\"))","v":0},{"$f":"86400*TIMEVALUE(TEXT(Smp99_Donnees!O1593,\"чч:мм:сс\"))","v":0}]
[{"$f":"86400*TIMEVALUE(TEXT(Smp99_Donnees!C1594,\"чч:мм:сс\"))","v":0},{"$f":"86400*TIMEVALUE(TEXT(Smp99_Donnees!O1594,\"чч:мм:сс\"))","v":0}]
[{"$f":"86400*TIMEVALUE(TEXT(Smp99_Donnees!C1595,\"чч:мм:сс\"))","v":0},{"$f":"86400*TIMEVALUE(TEXT(Smp99_Donnees!O1595,\"чч:мм:сс\"))","v":0}]
[{"$f":"86400*TIMEVALUE(TEXT(Smp99_Donnees!C1596,\"чч:мм:сс\"))","v":0},{"$f":"86400*TIMEVALUE(TEXT(Smp99_Donnees!O1596,\"чч:мм:сс\"))","v":0}]
[{"$f":"86400*TIMEVALUE(TEXT(Smp99_Donnees!C1597,\"чч:мм:сс\"))","v":0},{"$f":"86400*TIMEVALUE(TEXT(Smp99_Donnees!O1597,\"чч:мм:сс\"))","v":0}]
[{"$f":"86400*TIMEVALUE(TEXT(Smp99_Donnees!C1598,\"чч:мм:сс\"))","v":0},{"$f":"86400*TIMEVALUE(TEXT(Smp99_Donnees!O1598,\"чч:мм:сс\"))","v":0}]
[{"$f":"86400*TIMEVALUE(TEXT(Smp99_Donnees!C1599,\"чч:мм:сс\"))","v":0},{"$f":"86400*TIMEVALUE(TEXT(Smp99_Donnees!O1599,\"чч:мм:сс\"))","v":0}]
[{"$f":"86400*TIMEVALUE(TEXT(Smp99_Donnees!C1600,\"чч:мм:сс\"))","v":0},{"$f":"86400*TIMEVALUE(TEXT(Smp99_Donnees!O1600,\"чч:мм:сс\"))","v":0}]
[{"$f":"86400*TIMEVALUE(TEXT(Smp99_Donnees!C1601,\"чч:мм:сс\"))","v":0},{"$f":"86400*TIMEVALUE(TEXT(Smp99_Donnees!O1601,\"чч:мм:сс\"))","v":0}]
[{"$f":"86400*TIMEVALUE(TEXT(Smp99_Donnees!C1602,\"чч:мм:сс\"))","v":0},{"$f":"86400*TIMEVALUE(TEXT(Smp99_Donnees!O1602,\"чч:мм:сс\"))","v":0}]
[{"$f":"86400*TIMEVALUE(TEXT(Smp99_Donnees!C1603,\"чч:мм:сс\"))","v":0},{"$f":"86400*TIMEVALUE(TEXT(Smp99_Donnees!O1603,\"чч:мм:сс\"))","v":0}]
[{"$f":"86400*TIMEVALUE(TEXT(Smp99_Donnees!C1604,\"чч:мм:сс\"))","v":0},{"$f":"86400*TIMEVALUE(TEXT(Smp99_Donnees!O1604,\"чч:мм:сс\"))","v":0}]
[{"$f":"86400*TIMEVALUE(TEXT(Smp99_Donnees!C1605,\"чч:мм:сс\"))","v":0},{"$f":"86400*TIMEVALUE(TEXT(Smp99_Donnees!O1605,\"чч:мм:сс\"))","v":0}]
[{"$f":"86400*TIMEVALUE(TEXT(Smp99_Donnees!C1606,\"чч:мм:сс\"))","v":0},{"$f":"86400*TIMEVALUE(TEXT(Smp99_Donnees!O1606,\"чч:мм:сс\"))","v":0}]
[{"$f":"86400*TIMEVALUE(TEXT(Smp99_Donnees!C1607,\"чч:мм:сс\"))","v":0},{"$f":"86400*TIMEVALUE(TEXT(Smp99_Donnees!O1607,\"чч:мм:сс\"))","v":0}]
[{"$f":"86400*TIMEVALUE(TEXT(Smp99_Donnees!C1608,\"чч:мм:сс\"))","v":0},{"$f":"86400*TIMEVALUE(TEXT(Smp99_Donnees!O1608,\"чч:мм:сс\"))","v":0}]
[{"$f":"86400*TIMEVALUE(TEXT(Smp99_Donnees!C1609,\"чч:мм:сс\"))","v":0},{"$f":"86400*TIMEVALUE(TEXT(Smp99_Donnees!O1609,\"чч:мм:сс\"))","v":0}]
[{"$f":"86400*TIMEVALUE(TEXT(Smp99_Donnees!C1610,\"чч:мм:сс\"))","v":0},{"$f":"86400*TIMEVALUE(TEXT(Smp99_Donnees!O1610,\"чч:мм:сс\"))","v":0}]
[{"$f":"86400*TIMEVALUE(TEXT(Smp99_Donnees!C1611,\"чч:мм:сс\"))","v":0},{"$f":"86400*TIMEVALUE(TEXT(Smp99_Donnees!O1611,\"чч:мм:сс\"))","v":0}]
[{"$f":"86400*TIMEVALUE(TEXT(Smp99_Donnees!C1612,\"чч:мм:сс\"))","v":0},{"$f":"86400*TIMEVALUE(TEXT(Smp99_Donnees!O1612,\"чч:мм:сс\"))","v":0}]
[{"$f":"86400*TIMEVALUE(TEXT(Smp99_Donnees!C1613,\"чч:мм:сс\"))","v":0},{"$f":"86400*TIMEVALUE(TEXT(Smp99_Donnees!O1613,\"чч:мм:сс\"))","v":0}]
[{"$f":"86400*TIMEVALUE(TEXT(Smp99_Donnees!C1614,\"чч:мм:сс\"))","v":0},{"$f":"86400*TIMEVALUE(TEXT(Smp99_Donnees!O1614,\"чч:мм:сс\"))","v":0}]
[{"$f":"86400*TIMEVALUE(TEXT(Smp99_Donnees!C1615,\"чч:мм:сс\"))","v":0},{"$f":"86400*TIMEVALUE(TEXT(Smp99_Donnees!O1615,\"чч:мм:сс\"))","v":0}]
[{"$f":"86400*TIMEVALUE(TEXT(Smp99_Donnees!C1616,\"чч:мм:сс\"))","v":0},{"$f":"86400*TIMEVALUE(TEXT(Smp99_Donnees!O1616,\"чч:мм:сс\"))","v":0}]
[{"$f":"86400*TIMEVALUE(TEXT(Smp99_Donnees!C1617,\"чч:мм:сс\"))","v":0},{"$f":"86400*TIMEVALUE(TEXT(Smp99_Donnees!O1617,\"чч:мм:сс\"))","v":0}]
[{"$f":"86400*TIMEVALUE(TEXT(Smp99_Donnees!C1618,\"чч:мм:сс\"))","v":0},{"$f":"86400*TIMEVALUE(TEXT(Smp99_Donnees!O1618,\"чч:мм:сс\"))","v":0}]
[{"$f":"86400*TIMEVALUE(TEXT(Smp99_Donnees!C1619,\"чч:мм:сс\"))","v":0},{"$f":"86400*TIMEVALUE(TEXT(Smp99_Donnees!O1619,\"чч:мм:сс\"))","v":0}]
[{"$f":"86400*TIMEVALUE(TEXT(Smp99_Donnees!C1620,\"чч:мм:сс\"))","v":0},{"$f":"86400*TIMEVALUE(TEXT(Smp99_Donnees!O1620,\"чч:мм:сс\"))","v":0}]
[{"$f":"86400*TIMEVALUE(TEXT(Smp99_Donnees!C1621,\"чч:мм:сс\"))","v":0},{"$f":"86400*TIMEVALUE(TEXT(Smp99_Donnees!O1621,\"чч:мм:сс\"))","v":0}]
[{"$f":"86400*TIMEVALUE(TEXT(Smp99_Donnees!C1622,\"чч:мм:сс\"))","v":0},{"$f":"86400*TIMEVALUE(TEXT(Smp99_Donnees!O1622,\"чч:мм:сс\"))","v":0}]
[{"$f":"86400*TIMEVALUE(TEXT(Smp99_Donnees!C1623,\"чч:мм:сс\"))","v":0},{"$f":"86400*TIMEVALUE(TEXT(Smp99_Donnees!O1623,\"чч:мм:сс\"))","v":0}]
[{"$f":"86400*TIMEVALUE(TEXT(Smp99_Donnees!C1624,\"чч:мм:сс\"))","v":0},{"$f":"86400*TIMEVALUE(TEXT(Smp99_Donnees!O1624,\"чч:мм:сс\"))","v":0}]
[{"$f":"86400*TIMEVALUE(TEXT(Smp99_Donnees!C1625,\"чч:мм:сс\"))","v":0},{"$f":"86400*TIMEVALUE(TEXT(Smp99_Donnees!O1625,\"чч:мм:сс\"))","v":0}]
[{"$f":"86400*TIMEVALUE(TEXT(Smp99_Donnees!C1626,\"чч:мм:сс\"))","v":0},{"$f":"86400*TIMEVALUE(TEXT(Smp99_Donnees!O1626,\"чч:мм:сс\"))","v":0}]
[{"$f":"86400*TIMEVALUE(TEXT(Smp99_Donnees!C1627,\"чч:мм:сс\"))","v":0},{"$f":"86400*TIMEVALUE(TEXT(Smp99_Donnees!O1627,\"чч:мм:сс\"))","v":0}]
[{"$f":"86400*TIMEVALUE(TEXT(Smp99_Donnees!C1628,\"чч:мм:сс\"))","v":0},{"$f":"86400*TIMEVALUE(TEXT(Smp99_Donnees!O1628,\"чч:мм:сс\"))","v":0}]
[{"$f":"86400*TIMEVALUE(TEXT(Smp99_Donnees!C1629,\"чч:мм:сс\"))","v":0},{"$f":"86400*TIMEVALUE(TEXT(Smp99_Donnees!O1629,\"чч:мм:сс\"))","v":0}]
[{"$f":"86400*TIMEVALUE(TEXT(Smp99_Donnees!C1630,\"чч:мм:сс\"))","v":0},{"$f":"86400*TIMEVALUE(TEXT(Smp99_Donnees!O1630,\"чч:мм:сс\"))","v":0}]
[{"$f":"86400*TIMEVALUE(TEXT(Smp99_Donnees!C1631,\"чч:мм:сс\"))","v":0},{"$f":"86400*TIMEVALUE(TEXT(Smp99_Donnees!O1631,\"чч:мм:сс\"))","v":0}]
[{"$f":"86400*TIMEVALUE(TEXT(Smp99_Donnees!C1632,\"чч:мм:сс\"))","v":0},{"$f":"86400*TIMEVALUE(TEXT(Smp99_Donnees!O1632,\"чч:мм:сс\"))","v":0}]
[{"$f":"86400*TIMEVALUE(TEXT(Smp99_Donnees!C1633,\"чч:мм:сс\"))","v":0},{"$f":"86400*TIMEVALUE(TEXT(Smp99_Donnees!O1633,\"чч:мм:сс\"))","v":0}]
[{"$f":"86400*TIMEVALUE(TEXT(Smp99_Donnees!C1634,\"чч:мм:сс\"))","v":0},{"$f":"86400*TIMEVALUE(TEXT(Smp99_Donnees!O1634,\"чч:мм:сс\"))","v":0}]
[{"$f":"86400*TIMEVALUE(TEXT(Smp99_Donnees!C1635,\"чч:мм:сс\"))","v":0},{"$f":"86400*TIMEVALUE(TEXT(Smp99_Donnees!O1635,\"чч:мм:сс\"))","v":0}]
[{"$f":"86400*TIMEVALUE(TEXT(Smp99_Donnees!C1636,\"чч:мм:сс\"))","v":0},{"$f":"86400*TIMEVALUE(TEXT(Smp99_Donnees!O1636,\"чч:мм:сс\"))","v":0}]
[{"$f":"86400*TIMEVALUE(TEXT(Smp99_Donnees!C1637,\"чч:мм:сс\"))","v":0},{"$f":"86400*TIMEVALUE(TEXT(Smp99_Donnees!O1637,\"чч:мм:сс\"))","v":0}]
[{"$f":"86400*TIMEVALUE(TEXT(Smp99_Donnees!C1638,\"чч:мм:сс\"))","v":0},{"$f":"86400*TIMEVALUE(TEXT(Smp99_Donnees!O1638,\"чч:мм:сс\"))","v":0}]
[{"$f":"86400*TIMEVALUE(TEXT(Smp99_Donnees!C1639,\"чч:мм:сс\"))","v":0},{"$f":"86400*TIMEVALUE(TEXT(Smp99_Donnees!O1639,\"чч:мм:сс\"))","v":0}]
[{"$f":"86400*TIMEVALUE(TEXT(Smp99_Donnees!C1640,\"чч:мм:сс\"))","v":0},{"$f":"86400*TIMEVALUE(TEXT(Smp99_Donnees!O1640,\"чч:мм:сс\"))","v":0}]
[{"$f":"86400*TIMEVALUE(TEXT(Smp99_Donnees!C1641,\"чч:мм:сс\"))","v":0},{"$f":"86400*TIMEVALUE(TEXT(Smp99_Donnees!O1641,\"чч:мм:сс\"))","v":0}]
[{"$f":"86400*TIMEVALUE(TEXT(Smp99_Donnees!C1642,\"чч:мм:сс\"))","v":0},{"$f":"86400*TIMEVALUE(TEXT(Smp99_Donnees!O1642,\"чч:мм:сс\"))","v":0}]
[{"$f":"86400*TIMEVALUE(TEXT(Smp99_Donnees!C1643,\"чч:мм:сс\"))","v":0},{"$f":"86400*TIMEVALUE(TEXT(Smp99_Donnees!O1643,\"чч:мм:сс\"))","v":0}]
[{"$f":"86400*TIMEVALUE(TEXT(Smp99_Donnees!C1644,\"чч:мм:сс\"))","v":0},{"$f":"86400*TIMEVALUE(TEXT(Smp99_Donnees!O1644,\"чч:мм:сс\"))","v":0}]
[{"$f":"86400*TIMEVALUE(TEXT(Smp99_Donnees!C1645,\"чч:мм:сс\"))","v":0},{"$f":"86400*TIMEVALUE(TEXT(Smp99_Donnees!O1645,\"чч:мм:сс\"))","v":0}]
[{"$f":"86400*TIMEVALUE(TEXT(Smp99_Donnees!C1646,\"чч:мм:сс\"))","v":0},{"$f":"86400*TIMEVALUE(TEXT(Smp99_Donnees!O1646,\"чч:мм:сс\"))","v":0}]
[{"$f":"86400*TIMEVALUE(TEXT(Smp99_Donnees!C1647,\"чч:мм:сс\"))","v":0},{"$f":"86400*TIMEVALUE(TEXT(Smp99_Donnees!O1647,\"чч:мм:сс\"))","v":0}]
[{"$f":"86400*TIMEVALUE(TEXT(Smp99_Donnees!C1648,\"чч:мм:сс\"))","v":0},{"$f":"86400*TIMEVALUE(TEXT(Smp99_Donnees!O1648,\"чч:мм:сс\"))","v":0}]
[{"$f":"86400*TIMEVALUE(TEXT(Smp99_Donnees!C1649,\"чч:мм:сс\"))","v":0},{"$f":"86400*TIMEVALUE(TEXT(Smp99_Donnees!O1649,\"чч:мм:сс\"))","v":0}]
[{"$f":"86400*TIMEVALUE(TEXT(Smp99_Donnees!C1650,\"чч:мм:сс\"))","v":0},{"$f":"86400*TIMEVALUE(TEXT(Smp99_Donnees!O1650,\"чч:мм:сс\"))","v":0}]
[{"$f":"86400*TIMEVALUE(TEXT(Smp99_Donnees!C1651,\"чч:мм:сс\"))","v":0},{"$f":"86400*TIMEVALUE(TEXT(Smp99_Donnees!O1651,\"чч:мм:сс\"))","v":0}]
[{"$f":"86400*TIMEVALUE(TEXT(Smp99_Donnees!C1652,\"чч:мм:сс\"))","v":0},{"$f":"86400*TIMEVALUE(TEXT(Smp99_Donnees!O1652,\"чч:мм:сс\"))","v":0}]
[{"$f":"86400*TIMEVALUE(TEXT(Smp99_Donnees!C1653,\"чч:мм:сс\"))","v":0},{"$f":"86400*TIMEVALUE(TEXT(Smp99_Donnees!O1653,\"чч:мм:сс\"))","v":0}]
[{"$f":"86400*TIMEVALUE(TEXT(Smp99_Donnees!C1654,\"чч:мм:сс\"))","v":0},{"$f":"86400*TIMEVALUE(TEXT(Smp99_Donnees!O1654,\"чч:мм:сс\"))","v":0}]
[{"$f":"86400*TIMEVALUE(TEXT(Smp99_Donnees!C1655,\"чч:мм:сс\"))","v":0},{"$f":"86400*TIMEVALUE(TEXT(Smp99_Donnees!O1655,\"чч:мм:сс\"))","v":0}]
[{"$f":"86400*TIMEVALUE(TEXT(Smp99_Donnees!C1656,\"чч:мм:сс\"))","v":0},{"$f":"86400*TIMEVALUE(TEXT(Smp99_Donnees!O1656,\"чч:мм:сс\"))","v":0}]
[{"$f":"86400*TIMEVALUE(TEXT(Smp99_Donnees!C1657,\"чч:мм:сс\"))","v":0},{"$f":"86400*TIMEVALUE(TEXT(Smp99_Donnees!O1657,\"чч:мм:сс\"))","v":0}]
[{"$f":"86400*TIMEVALUE(TEXT(Smp99_Donnees!C1658,\"чч:мм:сс\"))","v":0},{"$f":"86400*TIMEVALUE(TEXT(Smp99_Donnees!O1658,\"чч:мм:сс\"))","v":0}]
[{"$f":"86400*TIMEVALUE(TEXT(Smp99_Donnees!C1659,\"чч:мм:сс\"))","v":0},{"$f":"86400*TIMEVALUE(TEXT(Smp99_Donnees!O1659,\"чч:мм:сс\"))","v":0}]
[{"$f":"86400*TIMEVALUE(TEXT(Smp99_Donnees!C1660,\"чч:мм:сс\"))","v":0},{"$f":"86400*TIMEVALUE(TEXT(Smp99_Donnees!O1660,\"чч:мм:сс\"))","v":0}]
[{"$f":"86400*TIMEVALUE(TEXT(Smp99_Donnees!C1661,\"чч:мм:сс\"))","v":0},{"$f":"86400*TIMEVALUE(TEXT(Smp99_Donnees!O1661,\"чч:мм:сс\"))","v":0}]
[{"$f":"86400*TIMEVALUE(TEXT(Smp99_Donnees!C1662,\"чч:мм:сс\"))","v":0},{"$f":"86400*TIMEVALUE(TEXT(Smp99_Donnees!O1662,\"чч:мм:сс\"))","v":0}]
[{"$f":"86400*TIMEVALUE(TEXT(Smp99_Donnees!C1663,\"чч:мм:сс\"))","v":0},{"$f":"86400*TIMEVALUE(TEXT(Smp99_Donnees!O1663,\"чч:мм:сс\"))","v":0}]
[{"$f":"86400*TIMEVALUE(TEXT(Smp99_Donnees!C1664,\"чч:мм:сс\"))","v":0},{"$f":"86400*TIMEVALUE(TEXT(Smp99_Donnees!O1664,\"чч:мм:сс\"))","v":0}]
[{"$f":"86400*TIMEVALUE(TEXT(Smp99_Donnees!C1665,\"чч:мм:сс\"))","v":0},{"$f":"86400*TIMEVALUE(TEXT(Smp99_Donnees!O1665,\"чч:мм:сс\"))","v":0}]
[{"$f":"86400*TIMEVALUE(TEXT(Smp99_Donnees!C1666,\"чч:мм:сс\"))","v":0},{"$f":"86400*TIMEVALUE(TEXT(Smp99_Donnees!O1666,\"чч:мм:сс\"))","v":0}]
[{"$f":"86400*TIMEVALUE(TEXT(Smp99_Donnees!C1667,\"чч:мм:сс\"))","v":0},{"$f":"86400*TIMEVALUE(TEXT(Smp99_Donnees!O1667,\"чч:мм:сс\"))","v":0}]
[{"$f":"86400*TIMEVALUE(TEXT(Smp99_Donnees!C1668,\"чч:мм:сс\"))","v":0},{"$f":"86400*TIMEVALUE(TEXT(Smp99_Donnees!O1668,\"чч:мм:сс\"))","v":0}]
[{"$f":"86400*TIMEVALUE(TEXT(Smp99_Donnees!C1669,\"чч:мм:сс\"))","v":0},{"$f":"86400*TIMEVALUE(TEXT(Smp99_Donnees!O1669,\"чч:мм:сс\"))","v":0}]
[{"$f":"86400*TIMEVALUE(TEXT(Smp99_Donnees!C1670,\"чч:мм:сс\"))","v":0},{"$f":"86400*TIMEVALUE(TEXT(Smp99_Donnees!O1670,\"чч:мм:сс\"))","v":0}]
[{"$f":"86400*TIMEVALUE(TEXT(Smp99_Donnees!C1671,\"чч:мм:сс\"))","v":0},{"$f":"86400*TIMEVALUE(TEXT(Smp99_Donnees!O1671,\"чч:мм:сс\"))","v":0}]
[{"$f":"86400*TIMEVALUE(TEXT(Smp99_Donnees!C1672,\"чч:мм:сс\"))","v":0},{"$f":"86400*TIMEVALUE(TEXT(Smp99_Donnees!O1672,\"чч:мм:сс\"))","v":0}]
[{"$f":"86400*TIMEVALUE(TEXT(Smp99_Donnees!C1673,\"чч:мм:сс\"))","v":0},{"$f":"86400*TIMEVALUE(TEXT(Smp99_Donnees!O1673,\"чч:мм:сс\"))","v":0}]
[{"$f":"86400*TIMEVALUE(TEXT(Smp99_Donnees!C1674,\"чч:мм:сс\"))","v":0},{"$f":"86400*TIMEVALUE(TEXT(Smp99_Donnees!O1674,\"чч:мм:сс\"))","v":0}]
[{"$f":"86400*TIMEVALUE(TEXT(Smp99_Donnees!C1675,\"чч:мм:сс\"))","v":0},{"$f":"86400*TIMEVALUE(TEXT(Smp99_Donnees!O1675,\"чч:мм:сс\"))","v":0}]
[{"$f":"86400*TIMEVALUE(TEXT(Smp99_Donnees!C1676,\"чч:мм:сс\"))","v":0},{"$f":"86400*TIMEVALUE(TEXT(Smp99_Donnees!O1676,\"чч:мм:сс\"))","v":0}]
[{"$f":"86400*TIMEVALUE(TEXT(Smp99_Donnees!C1677,\"чч:мм:сс\"))","v":0},{"$f":"86400*TIMEVALUE(TEXT(Smp99_Donnees!O1677,\"чч:мм:сс\"))","v":0}]
[{"$f":"86400*TIMEVALUE(TEXT(Smp99_Donnees!C1678,\"чч:мм:сс\"))","v":0},{"$f":"86400*TIMEVALUE(TEXT(Smp99_Donnees!O1678,\"чч:мм:сс\"))","v":0}]
[{"$f":"86400*TIMEVALUE(TEXT(Smp99_Donnees!C1679,\"чч:мм:сс\"))","v":0},{"$f":"86400*TIMEVALUE(TEXT(Smp99_Donnees!O1679,\"чч:мм:сс\"))","v":0}]
[{"$f":"86400*TIMEVALUE(TEXT(Smp99_Donnees!C1680,\"чч:мм:сс\"))","v":0},{"$f":"86400*TIMEVALUE(TEXT(Smp99_Donnees!O1680,\"чч:мм:сс\"))","v":0}]
[{"$f":"86400*TIMEVALUE(TEXT(Smp99_Donnees!C1681,\"чч:мм:сс\"))","v":0},{"$f":"86400*TIMEVALUE(TEXT(Smp99_Donnees!O1681,\"чч:мм:сс\"))","v":0}]
[{"$f":"86400*TIMEVALUE(TEXT(Smp99_Donnees!C1682,\"чч:мм:сс\"))","v":0},{"$f":"86400*TIMEVALUE(TEXT(Smp99_Donnees!O1682,\"чч:мм:сс\"))","v":0}]
[{"$f":"86400*TIMEVALUE(TEXT(Smp99_Donnees!C1683,\"чч:мм:сс\"))","v":0},{"$f":"86400*TIMEVALUE(TEXT(Smp99_Donnees!O1683,\"чч:мм:сс\"))","v":0}]
[{"$f":"86400*TIMEVALUE(TEXT(Smp99_Donnees!C1684,\"чч:мм:сс\"))","v":0},{"$f":"86400*TIMEVALUE(TEXT(Smp99_Donnees!O1684,\"чч:мм:сс\"))","v":0}]
[{"$f":"86400*TIMEVALUE(TEXT(Smp99_Donnees!C1685,\"чч:мм:сс\"))","v":0},{"$f":"86400*TIMEVALUE(TEXT(Smp99_Donnees!O1685,\"чч:мм:сс\"))","v":0}]
[{"$f":"86400*TIMEVALUE(TEXT(Smp99_Donnees!C1686,\"чч:мм:сс\"))","v":0},{"$f":"86400*TIMEVALUE(TEXT(Smp99_Donnees!O1686,\"чч:мм:сс\"))","v":0}]
[{"$f":"86400*TIMEVALUE(TEXT(Smp99_Donnees!C1687,\"чч:мм:сс\"))","v":0},{"$f":"86400*TIMEVALUE(TEXT(Smp99_Donnees!O1687,\"чч:мм:сс\"))","v":0}]
[{"$f":"86400*TIMEVALUE(TEXT(Smp99_Donnees!C1688,\"чч:мм:сс\"))","v":0},{"$f":"86400*TIMEVALUE(TEXT(Smp99_Donnees!O1688,\"чч:мм:сс\"))","v":0}]
[{"$f":"86400*TIMEVALUE(TEXT(Smp99_Donnees!C1689,\"чч:мм:сс\"))","v":0},{"$f":"86400*TIMEVALUE(TEXT(Smp99_Donnees!O1689,\"чч:мм:сс\"))","v":0}]
[{"$f":"86400*TIMEVALUE(TEXT(Smp99_Donnees!C1690,\"чч:мм:сс\"))","v":0},{"$f":"86400*TIMEVALUE(TEXT(Smp99_Donnees!O1690,\"чч:мм:сс\"))","v":0}]
[{"$f":"86400*TIMEVALUE(TEXT(Smp99_Donnees!C1691,\"чч:мм:сс\"))","v":0},{"$f":"86400*TIMEVALUE(TEXT(Smp99_Donnees!O1691,\"чч:мм:сс\"))","v":0}]
[{"$f":"86400*TIMEVALUE(TEXT(Smp99_Donnees!C1692,\"чч:мм:сс\"))","v":0},{"$f":"86400*TIMEVALUE(TEXT(Smp99_Donnees!O1692,\"чч:мм:сс\"))","v":0}]
[{"$f":"86400*TIMEVALUE(TEXT(Smp99_Donnees!C1693,\"чч:мм:сс\"))","v":0},{"$f":"86400*TIMEVALUE(TEXT(Smp99_Donnees!O1693,\"чч:мм:сс\"))","v":0}]
[{"$f":"86400*TIMEVALUE(TEXT(Smp99_Donnees!C1694,\"чч:мм:сс\"))","v":0},{"$f":"86400*TIMEVALUE(TEXT(Smp99_Donnees!O1694,\"чч:мм:сс\"))","v":0}]
[{"$f":"86400*TIMEVALUE(TEXT(Smp99_Donnees!C1695,\"чч:мм:сс\"))","v":0},{"$f":"86400*TIMEVALUE(TEXT(Smp99_Donnees!O1695,\"чч:мм:сс\"))","v":0}]
[{"$f":"86400*TIMEVALUE(TEXT(Smp99_Donnees!C1696,\"чч:мм:сс\"))","v":0},{"$f":"86400*TIMEVALUE(TEXT(Smp99_Donnees!O1696,\"чч:мм:сс\"))","v":0}]
[{"$f":"86400*TIMEVALUE(TEXT(Smp99_Donnees!C1697,\"чч:мм:сс\"))","v":0},{"$f":"86400*TIMEVALUE(TEXT(Smp99_Donnees!O1697,\"чч:мм:сс\"))","v":0}]
[{"$f":"86400*TIMEVALUE(TEXT(Smp99_Donnees!C1698,\"чч:мм:сс\"))","v":0},{"$f":"86400*TIMEVALUE(TEXT(Smp99_Donnees!O1698,\"чч:мм:сс\"))","v":0}]
[{"$f":"86400*TIMEVALUE(TEXT(Smp99_Donnees!C1699,\"чч:мм:сс\"))","v":0},{"$f":"86400*TIMEVALUE(TEXT(Smp99_Donnees!O1699,\"чч:мм:сс\"))","v":0}]
[{"$f":"86400*TIMEVALUE(TEXT(Smp99_Donnees!C1700,\"чч:мм:сс\"))","v":0},{"$f":"86400*TIMEVALUE(TEXT(Smp99_Donnees!O1700,\"чч:мм:сс\"))","v":0}]
[{"$f":"86400*TIMEVALUE(TEXT(Smp99_Donnees!C1701,\"чч:мм:сс\"))","v":0},{"$f":"86400*TIMEVALUE(TEXT(Smp99_Donnees!O1701,\"чч:мм:сс\"))","v":0}]
[{"$f":"86400*TIMEVALUE(TEXT(Smp99_Donnees!C1702,\"чч:мм:сс\"))","v":0},{"$f":"86400*TIMEVALUE(TEXT(Smp99_Donnees!O1702,\"чч:мм:сс\"))","v":0}]
[{"$f":"86400*TIMEVALUE(TEXT(Smp99_Donnees!C1703,\"чч:мм:сс\"))","v":0},{"$f":"86400*TIMEVALUE(TEXT(Smp99_Donnees!O1703,\"чч:мм:сс\"))","v":0}]
[{"$f":"86400*TIMEVALUE(TEXT(Smp99_Donnees!C1704,\"чч:мм:сс\"))","v":0},{"$f":"86400*TIMEVALUE(TEXT(Smp99_Donnees!O1704,\"чч:мм:сс\"))","v":0}]
[{"$f":"86400*TIMEVALUE(TEXT(Smp99_Donnees!C1705,\"чч:мм:сс\"))","v":0},{"$f":"86400*TIMEVALUE(TEXT(Smp99_Donnees!O1705,\"чч:мм:сс\"))","v":0}]
[{"$f":"86400*TIMEVALUE(TEXT(Smp99_Donnees!C1706,\"чч:мм:сс\"))","v":0},{"$f":"86400*TIMEVALUE(TEXT(Smp99_Donnees!O1706,\"чч:мм:сс\"))","v":0}]
[{"$f":"86400*TIMEVALUE(TEXT(Smp99_Donnees!C1707,\"чч:мм:сс\"))","v":0},{"$f":"86400*TIMEVALUE(TEXT(Smp99_Donnees!O1707,\"чч:мм:сс\"))","v":0}]
[{"$f":"86400*TIMEVALUE(TEXT(Smp99_Donnees!C1708,\"чч:мм:сс\"))","v":0},{"$f":"86400*TIMEVALUE(TEXT(Smp99_Donnees!O1708,\"чч:мм:сс\"))","v":0}]
[{"$f":"86400*TIMEVALUE(TEXT(Smp99_Donnees!C1709,\"чч:мм:сс\"))","v":0},{"$f":"86400*TIMEVALUE(TEXT(Smp99_Donnees!O1709,\"чч:мм:сс\"))","v":0}]
[{"$f":"86400*TIMEVALUE(TEXT(Smp99_Donnees!C1710,\"чч:мм:сс\"))","v":0},{"$f":"86400*TIMEVALUE(TEXT(Smp99_Donnees!O1710,\"чч:мм:сс\"))","v":0}]
[{"$f":"86400*TIMEVALUE(TEXT(Smp99_Donnees!C1711,\"чч:мм:сс\"))","v":0},{"$f":"86400*TIMEVALUE(TEXT(Smp99_Donnees!O1711,\"чч:мм:сс\"))","v":0}]
[{"$f":"86400*TIMEVALUE(TEXT(Smp99_Donnees!C1712,\"чч:мм:сс\"))","v":0},{"$f":"86400*TIMEVALUE(TEXT(Smp99_Donnees!O1712,\"чч:мм:сс\"))","v":0}]
[{"$f":"86400*TIMEVALUE(TEXT(Smp99_Donnees!C1713,\"чч:мм:сс\"))","v":0},{"$f":"86400*TIMEVALUE(TEXT(Smp99_Donnees!O1713,\"чч:мм:сс\"))","v":0}]
[{"$f":"86400*TIMEVALUE(TEXT(Smp99_Donnees!C1714,\"чч:мм:сс\"))","v":0},{"$f":"86400*TIMEVALUE(TEXT(Smp99_Donnees!O1714,\"чч:мм:сс\"))","v":0}]
[{"$f":"86400*TIMEVALUE(TEXT(Smp99_Donnees!C1715,\"чч:мм:сс\"))","v":0},{"$f":"86400*TIMEVALUE(TEXT(Smp99_Donnees!O1715,\"чч:мм:сс\"))","v":0}]
[{"$f":"86400*TIMEVALUE(TEXT(Smp99_Donnees!C1716,\"чч:мм:сс\"))","v":0},{"$f":"86400*TIMEVALUE(TEXT(Smp99_Donnees!O1716,\"чч:мм:сс\"))","v":0}]
[{"$f":"86400*TIMEVALUE(TEXT(Smp99_Donnees!C1717,\"чч:мм:сс\"))","v":0},{"$f":"86400*TIMEVALUE(TEXT(Smp99_Donnees!O1717,\"чч:мм:сс\"))","v":0}]
[{"$f":"86400*TIMEVALUE(TEXT(Smp99_Donnees!C1718,\"чч:мм:сс\"))","v":0},{"$f":"86400*TIMEVALUE(TEXT(Smp99_Donnees!O1718,\"чч:мм:сс\"))","v":0}]
[{"$f":"86400*TIMEVALUE(TEXT(Smp99_Donnees!C1719,\"чч:мм:сс\"))","v":0},{"$f":"86400*TIMEVALUE(TEXT(Smp99_Donnees!O1719,\"чч:мм:сс\"))","v":0}]
[{"$f":"86400*TIMEVALUE(TEXT(Smp99_Donnees!C1720,\"чч:мм:сс\"))","v":0},{"$f":"86400*TIMEVALUE(TEXT(Smp99_Donnees!O1720,\"чч:мм:сс\"))","v":0}]
[{"$f":"86400*TIMEVALUE(TEXT(Smp99_Donnees!C1721,\"чч:мм:сс\"))","v":0},{"$f":"86400*TIMEVALUE(TEXT(Smp99_Donnees!O1721,\"чч:мм:сс\"))","v":0}]
[{"$f":"86400*TIMEVALUE(TEXT(Smp99_Donnees!C1722,\"чч:мм:сс\"))","v":0},{"$f":"86400*TIMEVALUE(TEXT(Smp99_Donnees!O1722,\"чч:мм:сс\"))","v":0}]
[{"$f":"86400*TIMEVALUE(TEXT(Smp99_Donnees!C1723,\"чч:мм:сс\"))","v":0},{"$f":"86400*TIMEVALUE(TEXT(Smp99_Donnees!O1723,\"чч:мм:сс\"))","v":0}]
[{"$f":"86400*TIMEVALUE(TEXT(Smp99_Donnees!C1724,\"чч:мм:сс\"))","v":0},{"$f":"86400*TIMEVALUE(TEXT(Smp99_Donnees!O1724,\"чч:мм:сс\"))","v":0}]
[{"$f":"86400*TIMEVALUE(TEXT(Smp99_Donnees!C1725,\"чч:мм:сс\"))","v":0},{"$f":"86400*TIMEVALUE(TEXT(Smp99_Donnees!O1725,\"чч:мм:сс\"))","v":0}]
[{"$f":"86400*TIMEVALUE(TEXT(Smp99_Donnees!C1726,\"чч:мм:сс\"))","v":0},{"$f":"86400*TIMEVALUE(TEXT(Smp99_Donnees!O1726,\"чч:мм:сс\"))","v":0}]
[{"$f":"86400*TIMEVALUE(TEXT(Smp99_Donnees!C1727,\"чч:мм:сс\"))","v":0},{"$f":"86400*TIMEVALUE(TEXT(Smp99_Donnees!O1727,\"чч:мм:сс\"))","v":0}]
[{"$f":"86400*TIMEVALUE(TEXT(Smp99_Donnees!C1728,\"чч:мм:сс\"))","v":0},{"$f":"86400*TIMEVALUE(TEXT(Smp99_Donnees!O1728,\"чч:мм:сс\"))","v":0}]
[{"$f":"86400*TIMEVALUE(TEXT(Smp99_Donnees!C1729,\"чч:мм:сс\"))","v":0},{"$f":"86400*TIMEVALUE(TEXT(Smp99_Donnees!O1729,\"чч:мм:сс\"))","v":0}]
[{"$f":"86400*TIMEVALUE(TEXT(Smp99_Donnees!C1730,\"чч:мм:сс\"))","v":0},{"$f":"86400*TIMEVALUE(TEXT(Smp99_Donnees!O1730,\"чч:мм:сс\"))","v":0}]
[{"$f":"86400*TIMEVALUE(TEXT(Smp99_Donnees!C1731,\"чч:мм:сс\"))","v":0},{"$f":"86400*TIMEVALUE(TEXT(Smp99_Donnees!O1731,\"чч:мм:сс\"))","v":0}]
[{"$f":"86400*TIMEVALUE(TEXT(Smp99_Donnees!C1732,\"чч:мм:сс\"))","v":0},{"$f":"86400*TIMEVALUE(TEXT(Smp99_Donnees!O1732,\"чч:мм:сс\"))","v":0}]
[{"$f":"86400*TIMEVALUE(TEXT(Smp99_Donnees!C1733,\"чч:мм:сс\"))","v":0},{"$f":"86400*TIMEVALUE(TEXT(Smp99_Donnees!O1733,\"чч:мм:сс\"))","v":0}]
[{"$f":"86400*TIMEVALUE(TEXT(Smp99_Donnees!C1734,\"чч:мм:сс\"))","v":0},{"$f":"86400*TIMEVALUE(TEXT(Smp99_Donnees!O1734,\"чч:мм:сс\"))","v":0}]
[{"$f":"86400*TIMEVALUE(TEXT(Smp99_Donnees!C1735,\"чч:мм:сс\"))","v":0},{"$f":"86400*TIMEVALUE(TEXT(Smp99_Donnees!O1735,\"чч:мм:сс\"))","v":0}]
[{"$f":"86400*TIMEVALUE(TEXT(Smp99_Donnees!C1736,\"чч:мм:сс\"))","v":0},{"$f":"86400*TIMEVALUE(TEXT(Smp99_Donnees!O1736,\"чч:мм:сс\"))","v":0}]
[{"$f":"86400*TIMEVALUE(TEXT(Smp99_Donnees!C1737,\"чч:мм:сс\"))","v":0},{"$f":"86400*TIMEVALUE(TEXT(Smp99_Donnees!O1737,\"чч:мм:сс\"))","v":0}]
[{"$f":"86400*TIMEVALUE(TEXT(Smp99_Donnees!C1738,\"чч:мм:сс\"))","v":0},{"$f":"86400*TIMEVALUE(TEXT(Smp99_Donnees!O1738,\"чч:мм:сс\"))","v":0}]
[{"$f":"86400*TIMEVALUE(TEXT(Smp99_Donnees!C1739,\"чч:мм:сс\"))","v":0},{"$f":"86400*TIMEVALUE(TEXT(Smp99_Donnees!O1739,\"чч:мм:сс\"))","v":0}]
[{"$f":"86400*TIMEVALUE(TEXT(Smp99_Donnees!C1740,\"чч:мм:сс\"))","v":0},{"$f":"86400*TIMEVALUE(TEXT(Smp99_Donnees!O1740,\"чч:мм:сс\"))","v":0}]
[{"$f":"86400*TIMEVALUE(TEXT(Smp99_Donnees!C1741,\"чч:мм:сс\"))","v":0},{"$f":"86400*TIMEVALUE(TEXT(Smp99_Donnees!O1741,\"чч:мм:сс\"))","v":0}]
[{"$f":"86400*TIMEVALUE(TEXT(Smp99_Donnees!C1742,\"чч:мм:сс\"))","v":0},{"$f":"86400*TIMEVALUE(TEXT(Smp99_Donnees!O1742,\"чч:мм:сс\"))","v":0}]
[{"$f":"86400*TIMEVALUE(TEXT(Smp99_Donnees!C1743,\"чч:мм:сс\"))","v":0},{"$f":"86400*TIMEVALUE(TEXT(Smp99_Donnees!O1743,\"чч:мм:сс\"))","v":0}]
[{"$f":"86400*TIMEVALUE(TEXT(Smp99_Donnees!C1744,\"чч:мм:сс\"))","v":0},{"$f":"86400*TIMEVALUE(TEXT(Smp99_Donnees!O1744,\"чч:мм:сс\"))","v":0}]
[{"$f":"86400*TIMEVALUE(TEXT(Smp99_Donnees!C1745,\"чч:мм:сс\"))","v":0},{"$f":"86400*TIMEVALUE(TEXT(Smp99_Donnees!O1745,\"чч:мм:сс\"))","v":0}]
[{"$f":"86400*TIMEVALUE(TEXT(Smp99_Donnees!C1746,\"чч:мм:сс\"))","v":0},{"$f":"86400*TIMEVALUE(TEXT(Smp99_Donnees!O1746,\"чч:мм:сс\"))","v":0}]
[{"$f":"86400*TIMEVALUE(TEXT(Smp99_Donnees!C1747,\"чч:мм:сс\"))","v":0},{"$f":"86400*TIMEVALUE(TEXT(Smp99_Donnees!O1747,\"чч:мм:сс\"))","v":0}]
[{"$f":"86400*TIMEVALUE(TEXT(Smp99_Donnees!C1748,\"чч:мм:сс\"))","v":0},{"$f":"86400*TIMEVALUE(TEXT(Smp99_Donnees!O1748,\"чч:мм:сс\"))","v":0}]
[{"$f":"86400*TIMEVALUE(TEXT(Smp99_Donnees!C1749,\"чч:мм:сс\"))","v":0},{"$f":"86400*TIMEVALUE(TEXT(Smp99_Donnees!O1749,\"чч:мм:сс\"))","v":0}]
[{"$f":"86400*TIMEVALUE(TEXT(Smp99_Donnees!C1750,\"чч:мм:сс\"))","v":0},{"$f":"86400*TIMEVALUE(TEXT(Smp99_Donnees!O1750,\"чч:мм:сс\"))","v":0}]
[{"$f":"86400*TIMEVALUE(TEXT(Smp99_Donnees!C1751,\"чч:мм:сс\"))","v":0},{"$f":"86400*TIMEVALUE(TEXT(Smp99_Donnees!O1751,\"чч:мм:сс\"))","v":0}]
[{"$f":"86400*TIMEVALUE(TEXT(Smp99_Donnees!C1752,\"чч:мм:сс\"))","v":0},{"$f":"86400*TIMEVALUE(TEXT(Smp99_Donnees!O1752,\"чч:мм:сс\"))","v":0}]
[{"$f":"86400*TIMEVALUE(TEXT(Smp99_Donnees!C1753,\"чч:мм:сс\"))","v":0},{"$f":"86400*TIMEVALUE(TEXT(Smp99_Donnees!O1753,\"чч:мм:сс\"))","v":0}]
[{"$f":"86400*TIMEVALUE(TEXT(Smp99_Donnees!C1754,\"чч:мм:сс\"))","v":0},{"$f":"86400*TIMEVALUE(TEXT(Smp99_Donnees!O1754,\"чч:мм:сс\"))","v":0}]
[{"$f":"86400*TIMEVALUE(TEXT(Smp99_Donnees!C1755,\"чч:мм:сс\"))","v":0},{"$f":"86400*TIMEVALUE(TEXT(Smp99_Donnees!O1755,\"чч:мм:сс\"))","v":0}]
[{"$f":"86400*TIMEVALUE(TEXT(Smp99_Donnees!C1756,\"чч:мм:сс\"))","v":0},{"$f":"86400*TIMEVALUE(TEXT(Smp99_Donnees!O1756,\"чч:мм:сс\"))","v":0}]
[{"$f":"86400*TIMEVALUE(TEXT(Smp99_Donnees!C1757,\"чч:мм:сс\"))","v":0},{"$f":"86400*TIMEVALUE(TEXT(Smp99_Donnees!O1757,\"чч:мм:сс\"))","v":0}]
[{"$f":"86400*TIMEVALUE(TEXT(Smp99_Donnees!C1758,\"чч:мм:сс\"))","v":0},{"$f":"86400*TIMEVALUE(TEXT(Smp99_Donnees!O1758,\"чч:мм:сс\"))","v":0}]
[{"$f":"86400*TIMEVALUE(TEXT(Smp99_Donnees!C1759,\"чч:мм:сс\"))","v":0},{"$f":"86400*TIMEVALUE(TEXT(Smp99_Donnees!O1759,\"чч:мм:сс\"))","v":0}]
[{"$f":"86400*TIMEVALUE(TEXT(Smp99_Donnees!C1760,\"чч:мм:сс\"))","v":0},{"$f":"86400*TIMEVALUE(TEXT(Smp99_Donnees!O1760,\"чч:мм:сс\"))","v":0}]
[{"$f":"86400*TIMEVALUE(TEXT(Smp99_Donnees!C1761,\"чч:мм:сс\"))","v":0},{"$f":"86400*TIMEVALUE(TEXT(Smp99_Donnees!O1761,\"чч:мм:сс\"))","v":0}]
[{"$f":"86400*TIMEVALUE(TEXT(Smp99_Donnees!C1762,\"чч:мм:сс\"))","v":0},{"$f":"86400*TIMEVALUE(TEXT(Smp99_Donnees!O1762,\"чч:мм:сс\"))","v":0}]
[{"$f":"86400*TIMEVALUE(TEXT(Smp99_Donnees!C1763,\"чч:мм:сс\"))","v":0},{"$f":"86400*TIMEVALUE(TEXT(Smp99_Donnees!O1763,\"чч:мм:сс\"))","v":0}]
[{"$f":"86400*TIMEVALUE(TEXT(Smp99_Donnees!C1764,\"чч:мм:сс\"))","v":0},{"$f":"86400*TIMEVALUE(TEXT(Smp99_Donnees!O1764,\"чч:мм:сс\"))","v":0}]
[{"$f":"86400*TIMEVALUE(TEXT(Smp99_Donnees!C1765,\"чч:мм:сс\"))","v":0},{"$f":"86400*TIMEVALUE(TEXT(Smp99_Donnees!O1765,\"чч:мм:сс\"))","v":0}]
[{"$f":"86400*TIMEVALUE(TEXT(Smp99_Donnees!C1766,\"чч:мм:сс\"))","v":0},{"$f":"86400*TIMEVALUE(TEXT(Smp99_Donnees!O1766,\"чч:мм:сс\"))","v":0}]
[{"$f":"86400*TIMEVALUE(TEXT(Smp99_Donnees!C1767,\"чч:мм:сс\"))","v":0},{"$f":"86400*TIMEVALUE(TEXT(Smp99_Donnees!O1767,\"чч:мм:сс\"))","v":0}]
[{"$f":"86400*TIMEVALUE(TEXT(Smp99_Donnees!C1768,\"чч:мм:сс\"))","v":0},{"$f":"86400*TIMEVALUE(TEXT(Smp99_Donnees!O1768,\"чч:мм:сс\"))","v":0}]
[{"$f":"86400*TIMEVALUE(TEXT(Smp99_Donnees!C1769,\"чч:мм:сс\"))","v":0},{"$f":"86400*TIMEVALUE(TEXT(Smp99_Donnees!O1769,\"чч:мм:сс\"))","v":0}]
[{"$f":"86400*TIMEVALUE(TEXT(Smp99_Donnees!C1770,\"чч:мм:сс\"))","v":0},{"$f":"86400*TIMEVALUE(TEXT(Smp99_Donnees!O1770,\"чч:мм:сс\"))","v":0}]
[{"$f":"86400*TIMEVALUE(TEXT(Smp99_Donnees!C1771,\"чч:мм:сс\"))","v":0},{"$f":"86400*TIMEVALUE(TEXT(Smp99_Donnees!O1771,\"чч:мм:сс\"))","v":0}]
[{"$f":"86400*TIMEVALUE(TEXT(Smp99_Donnees!C1772,\"чч:мм:сс\"))","v":0},{"$f":"86400*TIMEVALUE(TEXT(Smp99_Donnees!O1772,\"чч:мм:сс\"))","v":0}]
[{"$f":"86400*TIMEVALUE(TEXT(Smp99_Donnees!C1773,\"чч:мм:сс\"))","v":0},{"$f":"86400*TIMEVALUE(TEXT(Smp99_Donnees!O1773,\"чч:мм:сс\"))","v":0}]
[{"$f":"86400*TIMEVALUE(TEXT(Smp99_Donnees!C1774,\"чч:мм:сс\"))","v":0},{"$f":"86400*TIMEVALUE(TEXT(Smp99_Donnees!O1774,\"чч:мм:сс\"))","v":0}]
[{"$f":"86400*TIMEVALUE(TEXT(Smp99_Donnees!C1775,\"чч:мм:сс\"))","v":0},{"$f":"86400*TIMEVALUE(TEXT(Smp99_Donnees!O1775,\"чч:мм:сс\"))","v":0}]
[{"$f":"86400*TIMEVALUE(TEXT(Smp99_Donnees!C1776,\"чч:мм:сс\"))","v":0},{"$f":"86400*TIMEVALUE(TEXT(Smp99_Donnees!O1776,\"чч:мм:сс\"))","v":0}]
[{"$f":"86400*TIMEVALUE(TEXT(Smp99_Donnees!C1777,\"чч:мм:сс\"))","v":0},{"$f":"86400*TIMEVALUE(TEXT(Smp99_Donnees!O1777,\"чч:мм:сс\"))","v":0}]
[{"$f":"86400*TIMEVALUE(TEXT(Smp99_Donnees!C1778,\"чч:мм:сс\"))","v":0},{"$f":"86400*TIMEVALUE(TEXT(Smp99_Donnees!O1778,\"чч:мм:сс\"))","v":0}]
[{"$f":"86400*TIMEVALUE(TEXT(Smp99_Donnees!C1779,\"чч:мм:сс\"))","v":0},{"$f":"86400*TIMEVALUE(TEXT(Smp99_Donnees!O1779,\"чч:мм:сс\"))","v":0}]
[{"$f":"86400*TIMEVALUE(TEXT(Smp99_Donnees!C1780,\"чч:мм:сс\"))","v":0},{"$f":"86400*TIMEVALUE(TEXT(Smp99_Donnees!O1780,\"чч:мм:сс\"))","v":0}]
[{"$f":"86400*TIMEVALUE(TEXT(Smp99_Donnees!C1781,\"чч:мм:сс\"))","v":0},{"$f":"86400*TIMEVALUE(TEXT(Smp99_Donnees!O1781,\"чч:мм:сс\"))","v":0}]
[{"$f":"86400*TIMEVALUE(TEXT(Smp99_Donnees!C1782,\"чч:мм:сс\"))","v":0},{"$f":"86400*TIMEVALUE(TEXT(Smp99_Donnees!O1782,\"чч:мм:сс\"))","v":0}]
[{"$f":"86400*TIMEVALUE(TEXT(Smp99_Donnees!C1783,\"чч:мм:сс\"))","v":0},{"$f":"86400*TIMEVALUE(TEXT(Smp99_Donnees!O1783,\"чч:мм:сс\"))","v":0}]
[{"$f":"86400*TIMEVALUE(TEXT(Smp99_Donnees!C1784,\"чч:мм:сс\"))","v":0},{"$f":"86400*TIMEVALUE(TEXT(Smp99_Donnees!O1784,\"чч:мм:сс\"))","v":0}]
[{"$f":"86400*TIMEVALUE(TEXT(Smp99_Donnees!C1785,\"чч:мм:сс\"))","v":0},{"$f":"86400*TIMEVALUE(TEXT(Smp99_Donnees!O1785,\"чч:мм:сс\"))","v":0}]
[{"$f":"86400*TIMEVALUE(TEXT(Smp99_Donnees!C1786,\"чч:мм:сс\"))","v":0},{"$f":"86400*TIMEVALUE(TEXT(Smp99_Donnees!O1786,\"чч:мм:сс\"))","v":0}]
[{"$f":"86400*TIMEVALUE(TEXT(Smp99_Donnees!C1787,\"чч:мм:сс\"))","v":0},{"$f":"86400*TIMEVALUE(TEXT(Smp99_Donnees!O1787,\"чч:мм:сс\"))","v":0}]
[{"$f":"86400*TIMEVALUE(TEXT(Smp99_Donnees!C1788,\"чч:мм:сс\"))","v":0},{"$f":"86400*TIMEVALUE(TEXT(Smp99_Donnees!O1788,\"чч:мм:сс\"))","v":0}]
[{"$f":"86400*TIMEVALUE(TEXT(Smp99_Donnees!C1789,\"чч:мм:сс\"))","v":0},{"$f":"86400*TIMEVALUE(TEXT(Smp99_Donnees!O1789,\"чч:мм:сс\"))","v":0}]
[{"$f":"86400*TIMEVALUE(TEXT(Smp99_Donnees!C1790,\"чч:мм:сс\"))","v":0},{"$f":"86400*TIMEVALUE(TEXT(Smp99_Donnees!O1790,\"чч:мм:сс\"))","v":0}]
[{"$f":"86400*TIMEVALUE(TEXT(Smp99_Donnees!C1791,\"чч:мм:сс\"))","v":0},{"$f":"86400*TIMEVALUE(TEXT(Smp99_Donnees!O1791,\"чч:мм:сс\"))","v":0}]
[{"$f":"86400*TIMEVALUE(TEXT(Smp99_Donnees!C1792,\"чч:мм:сс\"))","v":0},{"$f":"86400*TIMEVALUE(TEXT(Smp99_Donnees!O1792,\"чч:мм:сс\"))","v":0}]
[{"$f":"86400*TIMEVALUE(TEXT(Smp99_Donnees!C1793,\"чч:мм:сс\"))","v":0},{"$f":"86400*TIMEVALUE(TEXT(Smp99_Donnees!O1793,\"чч:мм:сс\"))","v":0}]
[{"$f":"86400*TIMEVALUE(TEXT(Smp99_Donnees!C1794,\"чч:мм:сс\"))","v":0},{"$f":"86400*TIMEVALUE(TEXT(Smp99_Donnees!O1794,\"чч:мм:сс\"))","v":0}]
[{"$f":"86400*TIMEVALUE(TEXT(Smp99_Donnees!C1795,\"чч:мм:сс\"))","v":0},{"$f":"86400*TIMEVALUE(TEXT(Smp99_Donnees!O1795,\"чч:мм:сс\"))","v":0}]
[{"$f":"86400*TIMEVALUE(TEXT(Smp99_Donnees!C1796,\"чч:мм:сс\"))","v":0},{"$f":"86400*TIMEVALUE(TEXT(Smp99_Donnees!O1796,\"чч:мм:сс\"))","v":0}]
[{"$f":"86400*TIMEVALUE(TEXT(Smp99_Donnees!C1797,\"чч:мм:сс\"))","v":0},{"$f":"86400*TIMEVALUE(TEXT(Smp99_Donnees!O1797,\"чч:мм:сс\"))","v":0}]
[{"$f":"86400*TIMEVALUE(TEXT(Smp99_Donnees!C1798,\"чч:мм:сс\"))","v":0},{"$f":"86400*TIMEVALUE(TEXT(Smp99_Donnees!O1798,\"чч:мм:сс\"))","v":0}]
[{"$f":"86400*TIMEVALUE(TEXT(Smp99_Donnees!C1799,\"чч:мм:сс\"))","v":0},{"$f":"86400*TIMEVALUE(TEXT(Smp99_Donnees!O1799,\"чч:мм:сс\"))","v":0}]
[{"$f":"86400*TIMEVALUE(TEXT(Smp99_Donnees!C1800,\"чч:мм:сс\"))","v":0},{"$f":"86400*TIMEVALUE(TEXT(Smp99_Donnees!O1800,\"чч:мм:сс\"))","v":0}]
[{"$f":"86400*TIMEVALUE(TEXT(Smp99_Donnees!C1801,\"чч:мм:сс\"))","v":0},{"$f":"86400*TIMEVALUE(TEXT(Smp99_Donnees!O1801,\"чч:мм:сс\"))","v":0}]
[{"$f":"86400*TIMEVALUE(TEXT(Smp99_Donnees!C1802,\"чч:мм:сс\"))","v":0},{"$f":"86400*TIMEVALUE(TEXT(Smp99_Donnees!O1802,\"чч:мм:сс\"))","v":0}]
[{"$f":"86400*TIMEVALUE(TEXT(Smp99_Donnees!C1803,\"чч:мм:сс\"))","v":0},{"$f":"86400*TIMEVALUE(TEXT(Smp99_Donnees!O1803,\"чч:мм:сс\"))","v":0}]
[{"$f":"86400*TIMEVALUE(TEXT(Smp99_Donnees!C1804,\"чч:мм:сс\"))","v":0},{"$f":"86400*TIMEVALUE(TEXT(Smp99_Donnees!O1804,\"чч:мм:сс\"))","v":0}]
[{"$f":"86400*TIMEVALUE(TEXT(Smp99_Donnees!C1805,\"чч:мм:сс\"))","v":0},{"$f":"86400*TIMEVALUE(TEXT(Smp99_Donnees!O1805,\"чч:мм:сс\"))","v":0}]
[{"$f":"86400*TIMEVALUE(TEXT(Smp99_Donnees!C1806,\"чч:мм:сс\"))","v":0},{"$f":"86400*TIMEVALUE(TEXT(Smp99_Donnees!O1806,\"чч:мм:сс\"))","v":0}]
[{"$f":"86400*TIMEVALUE(TEXT(Smp99_Donnees!C1807,\"чч:мм:сс\"))","v":0},{"$f":"86400*TIMEVALUE(TEXT(Smp99_Donnees!O1807,\"чч:мм:сс\"))","v":0}]
[{"$f":"86400*TIMEVALUE(TEXT(Smp99_Donnees!C1808,\"чч:мм:сс\"))","v":0},{"$f":"86400*TIMEVALUE(TEXT(Smp99_Donnees!O1808,\"чч:мм:сс\"))","v":0}]
[{"$f":"86400*TIMEVALUE(TEXT(Smp99_Donnees!C1809,\"чч:мм:сс\"))","v":0},{"$f":"86400*TIMEVALUE(TEXT(Smp99_Donnees!O1809,\"чч:мм:сс\"))","v":0}]
[{"$f":"86400*TIMEVALUE(TEXT(Smp99_Donnees!C1810,\"чч:мм:сс\"))","v":0},{"$f":"86400*TIMEVALUE(TEXT(Smp99_Donnees!O1810,\"чч:мм:сс\"))","v":0}]
[{"$f":"86400*TIMEVALUE(TEXT(Smp99_Donnees!C1811,\"чч:мм:сс\"))","v":0},{"$f":"86400*TIMEVALUE(TEXT(Smp99_Donnees!O1811,\"чч:мм:сс\"))","v":0}]
[{"$f":"86400*TIMEVALUE(TEXT(Smp99_Donnees!C1812,\"чч:мм:сс\"))","v":0},{"$f":"86400*TIMEVALUE(TEXT(Smp99_Donnees!O1812,\"чч:мм:сс\"))","v":0}]
[{"$f":"86400*TIMEVALUE(TEXT(Smp99_Donnees!C1813,\"чч:мм:сс\"))","v":0},{"$f":"86400*TIMEVALUE(TEXT(Smp99_Donnees!O1813,\"чч:мм:сс\"))","v":0}]
[{"$f":"86400*TIMEVALUE(TEXT(Smp99_Donnees!C1814,\"чч:мм:сс\"))","v":0},{"$f":"86400*TIMEVALUE(TEXT(Smp99_Donnees!O1814,\"чч:мм:сс\"))","v":0}]
[{"$f":"86400*TIMEVALUE(TEXT(Smp99_Donnees!C1815,\"чч:мм:сс\"))","v":0},{"$f":"86400*TIMEVALUE(TEXT(Smp99_Donnees!O1815,\"чч:мм:сс\"))","v":0}]
[{"$f":"86400*TIMEVALUE(TEXT(Smp99_Donnees!C1816,\"чч:мм:сс\"))","v":0},{"$f":"86400*TIMEVALUE(TEXT(Smp99_Donnees!O1816,\"чч:мм:сс\"))","v":0}]
[{"$f":"86400*TIMEVALUE(TEXT(Smp99_Donnees!C1817,\"чч:мм:сс\"))","v":0},{"$f":"86400*TIMEVALUE(TEXT(Smp99_Donnees!O1817,\"чч:мм:сс\"))","v":0}]
[{"$f":"86400*TIMEVALUE(TEXT(Smp99_Donnees!C1818,\"чч:мм:сс\"))","v":0},{"$f":"86400*TIMEVALUE(TEXT(Smp99_Donnees!O1818,\"чч:мм:сс\"))","v":0}]
[{"$f":"86400*TIMEVALUE(TEXT(Smp99_Donnees!C1819,\"чч:мм:сс\"))","v":0},{"$f":"86400*TIMEVALUE(TEXT(Smp99_Donnees!O1819,\"чч:мм:сс\"))","v":0}]
[{"$f":"86400*TIMEVALUE(TEXT(Smp99_Donnees!C1820,\"чч:мм:сс\"))","v":0},{"$f":"86400*TIMEVALUE(TEXT(Smp99_Donnees!O1820,\"чч:мм:сс\"))","v":0}]
[{"$f":"86400*TIMEVALUE(TEXT(Smp99_Donnees!C1821,\"чч:мм:сс\"))","v":0},{"$f":"86400*TIMEVALUE(TEXT(Smp99_Donnees!O1821,\"чч:мм:сс\"))","v":0}]
[{"$f":"86400*TIMEVALUE(TEXT(Smp99_Donnees!C1822,\"чч:мм:сс\"))","v":0},{"$f":"86400*TIMEVALUE(TEXT(Smp99_Donnees!O1822,\"чч:мм:сс\"))","v":0}]
[{"$f":"86400*TIMEVALUE(TEXT(Smp99_Donnees!C1823,\"чч:мм:сс\"))","v":0},{"$f":"86400*TIMEVALUE(TEXT(Smp99_Donnees!O1823,\"чч:мм:сс\"))","v":0}]
[{"$f":"86400*TIMEVALUE(TEXT(Smp99_Donnees!C1824,\"чч:мм:сс\"))","v":0},{"$f":"86400*TIMEVALUE(TEXT(Smp99_Donnees!O1824,\"чч:мм:сс\"))","v":0}]
[{"$f":"86400*TIMEVALUE(TEXT(Smp99_Donnees!C1825,\"чч:мм:сс\"))","v":0},{"$f":"86400*TIMEVALUE(TEXT(Smp99_Donnees!O1825,\"чч:мм:сс\"))","v":0}]
[{"$f":"86400*TIMEVALUE(TEXT(Smp99_Donnees!C1826,\"чч:мм:сс\"))","v":0},{"$f":"86400*TIMEVALUE(TEXT(Smp99_Donnees!O1826,\"чч:мм:сс\"))","v":0}]
[{"$f":"86400*TIMEVALUE(TEXT(Smp99_Donnees!C1827,\"чч:мм:сс\"))","v":0},{"$f":"86400*TIMEVALUE(TEXT(Smp99_Donnees!O1827,\"чч:мм:сс\"))","v":0}]
[{"$f":"86400*TIMEVALUE(TEXT(Smp99_Donnees!C1828,\"чч:мм:сс\"))","v":0},{"$f":"86400*TIMEVALUE(TEXT(Smp99_Donnees!O1828,\"чч:мм:сс\"))","v":0}]
[{"$f":"86400*TIMEVALUE(TEXT(Smp99_Donnees!C1829,\"чч:мм:сс\"))","v":0},{"$f":"86400*TIMEVALUE(TEXT(Smp99_Donnees!O1829,\"чч:мм:сс\"))","v":0}]
[{"$f":"86400*TIMEVALUE(TEXT(Smp99_Donnees!C1830,\"чч:мм:сс\"))","v":0},{"$f":"86400*TIMEVALUE(TEXT(Smp99_Donnees!O1830,\"чч:мм:сс\"))","v":0}]
[{"$f":"86400*TIMEVALUE(TEXT(Smp99_Donnees!C1831,\"чч:мм:сс\"))","v":0},{"$f":"86400*TIMEVALUE(TEXT(Smp99_Donnees!O1831,\"чч:мм:сс\"))","v":0}]
[{"$f":"86400*TIMEVALUE(TEXT(Smp99_Donnees!C1832,\"чч:мм:сс\"))","v":0},{"$f":"86400*TIMEVALUE(TEXT(Smp99_Donnees!O1832,\"чч:мм:сс\"))","v":0}]
[{"$f":"86400*TIMEVALUE(TEXT(Smp99_Donnees!C1833,\"чч:мм:сс\"))","v":0},{"$f":"86400*TIMEVALUE(TEXT(Smp99_Donnees!O1833,\"чч:мм:сс\"))","v":0}]
[{"$f":"86400*TIMEVALUE(TEXT(Smp99_Donnees!C1834,\"чч:мм:сс\"))","v":0},{"$f":"86400*TIMEVALUE(TEXT(Smp99_Donnees!O1834,\"чч:мм:сс\"))","v":0}]
[{"$f":"86400*TIMEVALUE(TEXT(Smp99_Donnees!C1835,\"чч:мм:сс\"))","v":0},{"$f":"86400*TIMEVALUE(TEXT(Smp99_Donnees!O1835,\"чч:мм:сс\"))","v":0}]
[{"$f":"86400*TIMEVALUE(TEXT(Smp99_Donnees!C1836,\"чч:мм:сс\"))","v":0},{"$f":"86400*TIMEVALUE(TEXT(Smp99_Donnees!O1836,\"чч:мм:сс\"))","v":0}]
[{"$f":"86400*TIMEVALUE(TEXT(Smp99_Donnees!C1837,\"чч:мм:сс\"))","v":0},{"$f":"86400*TIMEVALUE(TEXT(Smp99_Donnees!O1837,\"чч:мм:сс\"))","v":0}]
[{"$f":"86400*TIMEVALUE(TEXT(Smp99_Donnees!C1838,\"чч:мм:сс\"))","v":0},{"$f":"86400*TIMEVALUE(TEXT(Smp99_Donnees!O1838,\"чч:мм:сс\"))","v":0}]
[{"$f":"86400*TIMEVALUE(TEXT(Smp99_Donnees!C1839,\"чч:мм:сс\"))","v":0},{"$f":"86400*TIMEVALUE(TEXT(Smp99_Donnees!O1839,\"чч:мм:сс\"))","v":0}]
[{"$f":"86400*TIMEVALUE(TEXT(Smp99_Donnees!C1840,\"чч:мм:сс\"))","v":0},{"$f":"86400*TIMEVALUE(TEXT(Smp99_Donnees!O1840,\"чч:мм:сс\"))","v":0}]
[{"$f":"86400*TIMEVALUE(TEXT(Smp99_Donnees!C1841,\"чч:мм:сс\"))","v":0},{"$f":"86400*TIMEVALUE(TEXT(Smp99_Donnees!O1841,\"чч:мм:сс\"))","v":0}]
[{"$f":"86400*TIMEVALUE(TEXT(Smp99_Donnees!C1842,\"чч:мм:сс\"))","v":0},{"$f":"86400*TIMEVALUE(TEXT(Smp99_Donnees!O1842,\"чч:мм:сс\"))","v":0}]
[{"$f":"86400*TIMEVALUE(TEXT(Smp99_Donnees!C1843,\"чч:мм:сс\"))","v":0},{"$f":"86400*TIMEVALUE(TEXT(Smp99_Donnees!O1843,\"чч:мм:сс\"))","v":0}]
[{"$f":"86400*TIMEVALUE(TEXT(Smp99_Donnees!C1844,\"чч:мм:сс\"))","v":0},{"$f":"86400*TIMEVALUE(TEXT(Smp99_Donnees!O1844,\"чч:мм:сс\"))","v":0}]
[{"$f":"86400*TIMEVALUE(TEXT(Smp99_Donnees!C1845,\"чч:мм:сс\"))","v":0},{"$f":"86400*TIMEVALUE(TEXT(Smp99_Donnees!O1845,\"чч:мм:сс\"))","v":0}]
[{"$f":"86400*TIMEVALUE(TEXT(Smp99_Donnees!C1846,\"чч:мм:сс\"))","v":0},{"$f":"86400*TIMEVALUE(TEXT(Smp99_Donnees!O1846,\"чч:мм:сс\"))","v":0}]
[{"$f":"86400*TIMEVALUE(TEXT(Smp99_Donnees!C1847,\"чч:мм:сс\"))","v":0},{"$f":"86400*TIMEVALUE(TEXT(Smp99_Donnees!O1847,\"чч:мм:сс\"))","v":0}]
[{"$f":"86400*TIMEVALUE(TEXT(Smp99_Donnees!C1848,\"чч:мм:сс\"))","v":0},{"$f":"86400*TIMEVALUE(TEXT(Smp99_Donnees!O1848,\"чч:мм:сс\"))","v":0}]
[{"$f":"86400*TIMEVALUE(TEXT(Smp99_Donnees!C1849,\"чч:мм:сс\"))","v":0},{"$f":"86400*TIMEVALUE(TEXT(Smp99_Donnees!O1849,\"чч:мм:сс\"))","v":0}]
[{"$f":"86400*TIMEVALUE(TEXT(Smp99_Donnees!C1850,\"чч:мм:сс\"))","v":0},{"$f":"86400*TIMEVALUE(TEXT(Smp99_Donnees!O1850,\"чч:мм:сс\"))","v":0}]
[{"$f":"86400*TIMEVALUE(TEXT(Smp99_Donnees!C1851,\"чч:мм:сс\"))","v":0},{"$f":"86400*TIMEVALUE(TEXT(Smp99_Donnees!O1851,\"чч:мм:сс\"))","v":0}]
[{"$f":"86400*TIMEVALUE(TEXT(Smp99_Donnees!C1852,\"чч:мм:сс\"))","v":0},{"$f":"86400*TIMEVALUE(TEXT(Smp99_Donnees!O1852,\"чч:мм:сс\"))","v":0}]
[{"$f":"86400*TIMEVALUE(TEXT(Smp99_Donnees!C1853,\"чч:мм:сс\"))","v":0},{"$f":"86400*TIMEVALUE(TEXT(Smp99_Donnees!O1853,\"чч:мм:сс\"))","v":0}]
[{"$f":"86400*TIMEVALUE(TEXT(Smp99_Donnees!C1854,\"чч:мм:сс\"))","v":0},{"$f":"86400*TIMEVALUE(TEXT(Smp99_Donnees!O1854,\"чч:мм:сс\"))","v":0}]
[{"$f":"86400*TIMEVALUE(TEXT(Smp99_Donnees!C1855,\"чч:мм:сс\"))","v":0},{"$f":"86400*TIMEVALUE(TEXT(Smp99_Donnees!O1855,\"чч:мм:сс\"))","v":0}]
[{"$f":"86400*TIMEVALUE(TEXT(Smp99_Donnees!C1856,\"чч:мм:сс\"))","v":0},{"$f":"86400*TIMEVALUE(TEXT(Smp99_Donnees!O1856,\"чч:мм:сс\"))","v":0}]
[{"$f":"86400*TIMEVALUE(TEXT(Smp99_Donnees!C1857,\"чч:мм:сс\"))","v":0},{"$f":"86400*TIMEVALUE(TEXT(Smp99_Donnees!O1857,\"чч:мм:сс\"))","v":0}]
[{"$f":"86400*TIMEVALUE(TEXT(Smp99_Donnees!C1858,\"чч:мм:сс\"))","v":0},{"$f":"86400*TIMEVALUE(TEXT(Smp99_Donnees!O1858,\"чч:мм:сс\"))","v":0}]
[{"$f":"86400*TIMEVALUE(TEXT(Smp99_Donnees!C1859,\"чч:мм:сс\"))","v":0},{"$f":"86400*TIMEVALUE(TEXT(Smp99_Donnees!O1859,\"чч:мм:сс\"))","v":0}]
[{"$f":"86400*TIMEVALUE(TEXT(Smp99_Donnees!C1860,\"чч:мм:сс\"))","v":0},{"$f":"86400*TIMEVALUE(TEXT(Smp99_Donnees!O1860,\"чч:мм:сс\"))","v":0}]
[{"$f":"86400*TIMEVALUE(TEXT(Smp99_Donnees!C1861,\"чч:мм:сс\"))","v":0},{"$f":"86400*TIMEVALUE(TEXT(Smp99_Donnees!O1861,\"чч:мм:сс\"))","v":0}]
[{"$f":"86400*TIMEVALUE(TEXT(Smp99_Donnees!C1862,\"чч:мм:сс\"))","v":0},{"$f":"86400*TIMEVALUE(TEXT(Smp99_Donnees!O1862,\"чч:мм:сс\"))","v":0}]
[{"$f":"86400*TIMEVALUE(TEXT(Smp99_Donnees!C1863,\"чч:мм:сс\"))","v":0},{"$f":"86400*TIMEVALUE(TEXT(Smp99_Donnees!O1863,\"чч:мм:сс\"))","v":0}]
[{"$f":"86400*TIMEVALUE(TEXT(Smp99_Donnees!C1864,\"чч:мм:сс\"))","v":0},{"$f":"86400*TIMEVALUE(TEXT(Smp99_Donnees!O1864,\"чч:мм:сс\"))","v":0}]
[{"$f":"86400*TIMEVALUE(TEXT(Smp99_Donnees!C1865,\"чч:мм:сс\"))","v":0},{"$f":"86400*TIMEVALUE(TEXT(Smp99_Donnees!O1865,\"чч:мм:сс\"))","v":0}]
[{"$f":"86400*TIMEVALUE(TEXT(Smp99_Donnees!C1866,\"чч:мм:сс\"))","v":0},{"$f":"86400*TIMEVALUE(TEXT(Smp99_Donnees!O1866,\"чч:мм:сс\"))","v":0}]
[{"$f":"86400*TIMEVALUE(TEXT(Smp99_Donnees!C1867,\"чч:мм:сс\"))","v":0},{"$f":"86400*TIMEVALUE(TEXT(Smp99_Donnees!O1867,\"чч:мм:сс\"))","v":0}]
[{"$f":"86400*TIMEVALUE(TEXT(Smp99_Donnees!C1868,\"чч:мм:сс\"))","v":0},{"$f":"86400*TIMEVALUE(TEXT(Smp99_Donnees!O1868,\"чч:мм:сс\"))","v":0}]
[{"$f":"86400*TIMEVALUE(TEXT(Smp99_Donnees!C1869,\"чч:мм:сс\"))","v":0},{"$f":"86400*TIMEVALUE(TEXT(Smp99_Donnees!O1869,\"чч:мм:сс\"))","v":0}]
[{"$f":"86400*TIMEVALUE(TEXT(Smp99_Donnees!C1870,\"чч:мм:сс\"))","v":0},{"$f":"86400*TIMEVALUE(TEXT(Smp99_Donnees!O1870,\"чч:мм:сс\"))","v":0}]
[{"$f":"86400*TIMEVALUE(TEXT(Smp99_Donnees!C1871,\"чч:мм:сс\"))","v":0},{"$f":"86400*TIMEVALUE(TEXT(Smp99_Donnees!O1871,\"чч:мм:сс\"))","v":0}]
[{"$f":"86400*TIMEVALUE(TEXT(Smp99_Donnees!C1872,\"чч:мм:сс\"))","v":0},{"$f":"86400*TIMEVALUE(TEXT(Smp99_Donnees!O1872,\"чч:мм:сс\"))","v":0}]
[{"$f":"86400*TIMEVALUE(TEXT(Smp99_Donnees!C1873,\"чч:мм:сс\"))","v":0},{"$f":"86400*TIMEVALUE(TEXT(Smp99_Donnees!O1873,\"чч:мм:сс\"))","v":0}]
[{"$f":"86400*TIMEVALUE(TEXT(Smp99_Donnees!C1874,\"чч:мм:сс\"))","v":0},{"$f":"86400*TIMEVALUE(TEXT(Smp99_Donnees!O1874,\"чч:мм:сс\"))","v":0}]
[{"$f":"86400*TIMEVALUE(TEXT(Smp99_Donnees!C1875,\"чч:мм:сс\"))","v":0},{"$f":"86400*TIMEVALUE(TEXT(Smp99_Donnees!O1875,\"чч:мм:сс\"))","v":0}]
[{"$f":"86400*TIMEVALUE(TEXT(Smp99_Donnees!C1876,\"чч:мм:сс\"))","v":0},{"$f":"86400*TIMEVALUE(TEXT(Smp99_Donnees!O1876,\"чч:мм:сс\"))","v":0}]
[{"$f":"86400*TIMEVALUE(TEXT(Smp99_Donnees!C1877,\"чч:мм:сс\"))","v":0},{"$f":"86400*TIMEVALUE(TEXT(Smp99_Donnees!O1877,\"чч:мм:сс\"))","v":0}]
[{"$f":"86400*TIMEVALUE(TEXT(Smp99_Donnees!C1878,\"чч:мм:сс\"))","v":0},{"$f":"86400*TIMEVALUE(TEXT(Smp99_Donnees!O1878,\"чч:мм:сс\"))","v":0}]
[{"$f":"86400*TIMEVALUE(TEXT(Smp99_Donnees!C1879,\"чч:мм:сс\"))","v":0},{"$f":"86400*TIMEVALUE(TEXT(Smp99_Donnees!O1879,\"чч:мм:сс\"))","v":0}]
[{"$f":"86400*TIMEVALUE(TEXT(Smp99_Donnees!C1880,\"чч:мм:сс\"))","v":0},{"$f":"86400*TIMEVALUE(TEXT(Smp99_Donnees!O1880,\"чч:мм:сс\"))","v":0}]
[{"$f":"86400*TIMEVALUE(TEXT(Smp99_Donnees!C1881,\"чч:мм:сс\"))","v":0},{"$f":"86400*TIMEVALUE(TEXT(Smp99_Donnees!O1881,\"чч:мм:сс\"))","v":0}]
[{"$f":"86400*TIMEVALUE(TEXT(Smp99_Donnees!C1882,\"чч:мм:сс\"))","v":0},{"$f":"86400*TIMEVALUE(TEXT(Smp99_Donnees!O1882,\"чч:мм:сс\"))","v":0}]
[{"$f":"86400*TIMEVALUE(TEXT(Smp99_Donnees!C1883,\"чч:мм:сс\"))","v":0},{"$f":"86400*TIMEVALUE(TEXT(Smp99_Donnees!O1883,\"чч:мм:сс\"))","v":0}]
[{"$f":"86400*TIMEVALUE(TEXT(Smp99_Donnees!C1884,\"чч:мм:сс\"))","v":0},{"$f":"86400*TIMEVALUE(TEXT(Smp99_Donnees!O1884,\"чч:мм:сс\"))","v":0}]
[{"$f":"86400*TIMEVALUE(TEXT(Smp99_Donnees!C1885,\"чч:мм:сс\"))","v":0},{"$f":"86400*TIMEVALUE(TEXT(Smp99_Donnees!O1885,\"чч:мм:сс\"))","v":0}]
[{"$f":"86400*TIMEVALUE(TEXT(Smp99_Donnees!C1886,\"чч:мм:сс\"))","v":0},{"$f":"86400*TIMEVALUE(TEXT(Smp99_Donnees!O1886,\"чч:мм:сс\"))","v":0}]
[{"$f":"86400*TIMEVALUE(TEXT(Smp99_Donnees!C1887,\"чч:мм:сс\"))","v":0},{"$f":"86400*TIMEVALUE(TEXT(Smp99_Donnees!O1887,\"чч:мм:сс\"))","v":0}]
[{"$f":"86400*TIMEVALUE(TEXT(Smp99_Donnees!C1888,\"чч:мм:сс\"))","v":0},{"$f":"86400*TIMEVALUE(TEXT(Smp99_Donnees!O1888,\"чч:мм:сс\"))","v":0}]
[{"$f":"86400*TIMEVALUE(TEXT(Smp99_Donnees!C1889,\"чч:мм:сс\"))","v":0},{"$f":"86400*TIMEVALUE(TEXT(Smp99_Donnees!O1889,\"чч:мм:сс\"))","v":0}]
[{"$f":"86400*TIMEVALUE(TEXT(Smp99_Donnees!C1890,\"чч:мм:сс\"))","v":0},{"$f":"86400*TIMEVALUE(TEXT(Smp99_Donnees!O1890,\"чч:мм:сс\"))","v":0}]
[{"$f":"86400*TIMEVALUE(TEXT(Smp99_Donnees!C1891,\"чч:мм:сс\"))","v":0},{"$f":"86400*TIMEVALUE(TEXT(Smp99_Donnees!O1891,\"чч:мм:сс\"))","v":0}]
[{"$f":"86400*TIMEVALUE(TEXT(Smp99_Donnees!C1892,\"чч:мм:сс\"))","v":0},{"$f":"86400*TIMEVALUE(TEXT(Smp99_Donnees!O1892,\"чч:мм:сс\"))","v":0}]
[{"$f":"86400*TIMEVALUE(TEXT(Smp99_Donnees!C1893,\"чч:мм:сс\"))","v":0},{"$f":"86400*TIMEVALUE(TEXT(Smp99_Donnees!O1893,\"чч:мм:сс\"))","v":0}]
[{"$f":"86400*TIMEVALUE(TEXT(Smp99_Donnees!C1894,\"чч:мм:сс\"))","v":0},{"$f":"86400*TIMEVALUE(TEXT(Smp99_Donnees!O1894,\"чч:мм:сс\"))","v":0}]
[{"$f":"86400*TIMEVALUE(TEXT(Smp99_Donnees!C1895,\"чч:мм:сс\"))","v":0},{"$f":"86400*TIMEVALUE(TEXT(Smp99_Donnees!O1895,\"чч:мм:сс\"))","v":0}]
[{"$f":"86400*TIMEVALUE(TEXT(Smp99_Donnees!C1896,\"чч:мм:сс\"))","v":0},{"$f":"86400*TIMEVALUE(TEXT(Smp99_Donnees!O1896,\"чч:мм:сс\"))","v":0}]
[{"$f":"86400*TIMEVALUE(TEXT(Smp99_Donnees!C1897,\"чч:мм:сс\"))","v":0},{"$f":"86400*TIMEVALUE(TEXT(Smp99_Donnees!O1897,\"чч:мм:сс\"))","v":0}]
[{"$f":"86400*TIMEVALUE(TEXT(Smp99_Donnees!C1898,\"чч:мм:сс\"))","v":0},{"$f":"86400*TIMEVALUE(TEXT(Smp99_Donnees!O1898,\"чч:мм:сс\"))","v":0}]
[{"$f":"86400*TIMEVALUE(TEXT(Smp99_Donnees!C1899,\"чч:мм:сс\"))","v":0},{"$f":"86400*TIMEVALUE(TEXT(Smp99_Donnees!O1899,\"чч:мм:сс\"))","v":0}]
[{"$f":"86400*TIMEVALUE(TEXT(Smp99_Donnees!C1900,\"чч:мм:сс\"))","v":0},{"$f":"86400*TIMEVALUE(TEXT(Smp99_Donnees!O1900,\"чч:мм:сс\"))","v":0}]
[{"$f":"86400*TIMEVALUE(TEXT(Smp99_Donnees!C1901,\"чч:мм:сс\"))","v":0},{"$f":"86400*TIMEVALUE(TEXT(Smp99_Donnees!O1901,\"чч:мм:сс\"))","v":0}]
[{"$f":"86400*TIMEVALUE(TEXT(Smp99_Donnees!C1902,\"чч:мм:сс\"))","v":0},{"$f":"86400*TIMEVALUE(TEXT(Smp99_Donnees!O1902,\"чч:мм:сс\"))","v":0}]
[{"$f":"86400*TIMEVALUE(TEXT(Smp99_Donnees!C1903,\"чч:мм:сс\"))","v":0},{"$f":"86400*TIMEVALUE(TEXT(Smp99_Donnees!O1903,\"чч:мм:сс\"))","v":0}]
[{"$f":"86400*TIMEVALUE(TEXT(Smp99_Donnees!C1904,\"чч:мм:сс\"))","v":0},{"$f":"86400*TIMEVALUE(TEXT(Smp99_Donnees!O1904,\"чч:мм:сс\"))","v":0}]
[{"$f":"86400*TIMEVALUE(TEXT(Smp99_Donnees!C1905,\"чч:мм:сс\"))","v":0},{"$f":"86400*TIMEVALUE(TEXT(Smp99_Donnees!O1905,\"чч:мм:сс\"))","v":0}]
[{"$f":"86400*TIMEVALUE(TEXT(Smp99_Donnees!C1906,\"чч:мм:сс\"))","v":0},{"$f":"86400*TIMEVALUE(TEXT(Smp99_Donnees!O1906,\"чч:мм:сс\"))","v":0}]
[{"$f":"86400*TIMEVALUE(TEXT(Smp99_Donnees!C1907,\"чч:мм:сс\"))","v":0},{"$f":"86400*TIMEVALUE(TEXT(Smp99_Donnees!O1907,\"чч:мм:сс\"))","v":0}]
[{"$f":"86400*TIMEVALUE(TEXT(Smp99_Donnees!C1908,\"чч:мм:сс\"))","v":0},{"$f":"86400*TIMEVALUE(TEXT(Smp99_Donnees!O1908,\"чч:мм:сс\"))","v":0}]
[{"$f":"86400*TIMEVALUE(TEXT(Smp99_Donnees!C1909,\"чч:мм:сс\"))","v":0},{"$f":"86400*TIMEVALUE(TEXT(Smp99_Donnees!O1909,\"чч:мм:сс\"))","v":0}]
[{"$f":"86400*TIMEVALUE(TEXT(Smp99_Donnees!C1910,\"чч:мм:сс\"))","v":0},{"$f":"86400*TIMEVALUE(TEXT(Smp99_Donnees!O1910,\"чч:мм:сс\"))","v":0}]
[{"$f":"86400*TIMEVALUE(TEXT(Smp99_Donnees!C1911,\"чч:мм:сс\"))","v":0},{"$f":"86400*TIMEVALUE(TEXT(Smp99_Donnees!O1911,\"чч:мм:сс\"))","v":0}]
[{"$f":"86400*TIMEVALUE(TEXT(Smp99_Donnees!C1912,\"чч:мм:сс\"))","v":0},{"$f":"86400*TIMEVALUE(TEXT(Smp99_Donnees!O1912,\"чч:мм:сс\"))","v":0}]
[{"$f":"86400*TIMEVALUE(TEXT(Smp99_Donnees!C1913,\"чч:мм:сс\"))","v":0},{"$f":"86400*TIMEVALUE(TEXT(Smp99_Donnees!O1913,\"чч:мм:сс\"))","v":0}]
[{"$f":"86400*TIMEVALUE(TEXT(Smp99_Donnees!C1914,\"чч:мм:сс\"))","v":0},{"$f":"86400*TIMEVALUE(TEXT(Smp99_Donnees!O1914,\"чч:мм:сс\"))","v":0}]
[{"$f":"86400*TIMEVALUE(TEXT(Smp99_Donnees!C1915,\"чч:мм:сс\"))","v":0},{"$f":"86400*TIMEVALUE(TEXT(Smp99_Donnees!O1915,\"чч:мм:сс\"))","v":0}]
[{"$f":"86400*TIMEVALUE(TEXT(Smp99_Donnees!C1916,\"чч:мм:сс\"))","v":0},{"$f":"86400*TIMEVALUE(TEXT(Smp99_Donnees!O1916,\"чч:мм:сс\"))","v":0}]
[{"$f":"86400*TIMEVALUE(TEXT(Smp99_Donnees!C1917,\"чч:мм:сс\"))","v":0},{"$f":"86400*TIMEVALUE(TEXT(Smp99_Donnees!O1917,\"чч:мм:сс\"))","v":0}]
[{"$f":"86400*TIMEVALUE(TEXT(Smp99_Donnees!C1918,\"чч:мм:сс\"))","v":0},{"$f":"86400*TIMEVALUE(TEXT(Smp99_Donnees!O1918,\"чч:мм:сс\"))","v":0}]
[{"$f":"86400*TIMEVALUE(TEXT(Smp99_Donnees!C1919,\"чч:мм:сс\"))","v":0},{"$f":"86400*TIMEVALUE(TEXT(Smp99_Donnees!O1919,\"чч:мм:сс\"))","v":0}]
[{"$f":"86400*TIMEVALUE(TEXT(Smp99_Donnees!C1920,\"чч:мм:сс\"))","v":0},{"$f":"86400*TIMEVALUE(TEXT(Smp99_Donnees!O1920,\"чч:мм:сс\"))","v":0}]
[{"$f":"86400*TIMEVALUE(TEXT(Smp99_Donnees!C1921,\"чч:мм:сс\"))","v":0},{"$f":"86400*TIMEVALUE(TEXT(Smp99_Donnees!O1921,\"чч:мм:сс\"))","v":0}]
[{"$f":"86400*TIMEVALUE(TEXT(Smp99_Donnees!C1922,\"чч:мм:сс\"))","v":0},{"$f":"86400*TIMEVALUE(TEXT(Smp99_Donnees!O1922,\"чч:мм:сс\"))","v":0}]
[{"$f":"86400*TIMEVALUE(TEXT(Smp99_Donnees!C1923,\"чч:мм:сс\"))","v":0},{"$f":"86400*TIMEVALUE(TEXT(Smp99_Donnees!O1923,\"чч:мм:сс\"))","v":0}]
[{"$f":"86400*TIMEVALUE(TEXT(Smp99_Donnees!C1924,\"чч:мм:сс\"))","v":0},{"$f":"86400*TIMEVALUE(TEXT(Smp99_Donnees!O1924,\"чч:мм:сс\"))","v":0}]
[{"$f":"86400*TIMEVALUE(TEXT(Smp99_Donnees!C1925,\"чч:мм:сс\"))","v":0},{"$f":"86400*TIMEVALUE(TEXT(Smp99_Donnees!O1925,\"чч:мм:сс\"))","v":0}]
[{"$f":"86400*TIMEVALUE(TEXT(Smp99_Donnees!C1926,\"чч:мм:сс\"))","v":0},{"$f":"86400*TIMEVALUE(TEXT(Smp99_Donnees!O1926,\"чч:мм:сс\"))","v":0}]
[{"$f":"86400*TIMEVALUE(TEXT(Smp99_Donnees!C1927,\"чч:мм:сс\"))","v":0},{"$f":"86400*TIMEVALUE(TEXT(Smp99_Donnees!O1927,\"чч:мм:сс\"))","v":0}]
[{"$f":"86400*TIMEVALUE(TEXT(Smp99_Donnees!C1928,\"чч:мм:сс\"))","v":0},{"$f":"86400*TIMEVALUE(TEXT(Smp99_Donnees!O1928,\"чч:мм:сс\"))","v":0}]
[{"$f":"86400*TIMEVALUE(TEXT(Smp99_Donnees!C1929,\"чч:мм:сс\"))","v":0},{"$f":"86400*TIMEVALUE(TEXT(Smp99_Donnees!O1929,\"чч:мм:сс\"))","v":0}]
[{"$f":"86400*TIMEVALUE(TEXT(Smp99_Donnees!C1930,\"чч:мм:сс\"))","v":0},{"$f":"86400*TIMEVALUE(TEXT(Smp99_Donnees!O1930,\"чч:мм:сс\"))","v":0}]
[{"$f":"86400*TIMEVALUE(TEXT(Smp99_Donnees!C1931,\"чч:мм:сс\"))","v":0},{"$f":"86400*TIMEVALUE(TEXT(Smp99_Donnees!O1931,\"чч:мм:сс\"))","v":0}]
[{"$f":"86400*TIMEVALUE(TEXT(Smp99_Donnees!C1932,\"чч:мм:сс\"))","v":0},{"$f":"86400*TIMEVALUE(TEXT(Smp99_Donnees!O1932,\"чч:мм:сс\"))","v":0}]
[{"$f":"86400*TIMEVALUE(TEXT(Smp99_Donnees!C1933,\"чч:мм:сс\"))","v":0},{"$f":"86400*TIMEVALUE(TEXT(Smp99_Donnees!O1933,\"чч:мм:сс\"))","v":0}]
[{"$f":"86400*TIMEVALUE(TEXT(Smp99_Donnees!C1934,\"чч:мм:сс\"))","v":0},{"$f":"86400*TIMEVALUE(TEXT(Smp99_Donnees!O1934,\"чч:мм:сс\"))","v":0}]
[{"$f":"86400*TIMEVALUE(TEXT(Smp99_Donnees!C1935,\"чч:мм:сс\"))","v":0},{"$f":"86400*TIMEVALUE(TEXT(Smp99_Donnees!O1935,\"чч:мм:сс\"))","v":0}]
[{"$f":"86400*TIMEVALUE(TEXT(Smp99_Donnees!C1936,\"чч:мм:сс\"))","v":0},{"$f":"86400*TIMEVALUE(TEXT(Smp99_Donnees!O1936,\"чч:мм:сс\"))","v":0}]
[{"$f":"86400*TIMEVALUE(TEXT(Smp99_Donnees!C1937,\"чч:мм:сс\"))","v":0},{"$f":"86400*TIMEVALUE(TEXT(Smp99_Donnees!O1937,\"чч:мм:сс\"))","v":0}]
[{"$f":"86400*TIMEVALUE(TEXT(Smp99_Donnees!C1938,\"чч:мм:сс\"))","v":0},{"$f":"86400*TIMEVALUE(TEXT(Smp99_Donnees!O1938,\"чч:мм:сс\"))","v":0}]
[{"$f":"86400*TIMEVALUE(TEXT(Smp99_Donnees!C1939,\"чч:мм:сс\"))","v":0},{"$f":"86400*TIMEVALUE(TEXT(Smp99_Donnees!O1939,\"чч:мм:сс\"))","v":0}]
[{"$f":"86400*TIMEVALUE(TEXT(Smp99_Donnees!C1940,\"чч:мм:сс\"))","v":0},{"$f":"86400*TIMEVALUE(TEXT(Smp99_Donnees!O1940,\"чч:мм:сс\"))","v":0}]
[{"$f":"86400*TIMEVALUE(TEXT(Smp99_Donnees!C1941,\"чч:мм:сс\"))","v":0},{"$f":"86400*TIMEVALUE(TEXT(Smp99_Donnees!O1941,\"чч:мм:сс\"))","v":0}]
[{"$f":"86400*TIMEVALUE(TEXT(Smp99_Donnees!C1942,\"чч:мм:сс\"))","v":0},{"$f":"86400*TIMEVALUE(TEXT(Smp99_Donnees!O1942,\"чч:мм:сс\"))","v":0}]
[{"$f":"86400*TIMEVALUE(TEXT(Smp99_Donnees!C1943,\"чч:мм:сс\"))","v":0},{"$f":"86400*TIMEVALUE(TEXT(Smp99_Donnees!O1943,\"чч:мм:сс\"))","v":0}]
[{"$f":"86400*TIMEVALUE(TEXT(Smp99_Donnees!C1944,\"чч:мм:сс\"))","v":0},{"$f":"86400*TIMEVALUE(TEXT(Smp99_Donnees!O1944,\"чч:мм:сс\"))","v":0}]
[{"$f":"86400*TIMEVALUE(TEXT(Smp99_Donnees!C1945,\"чч:мм:сс\"))","v":0},{"$f":"86400*TIMEVALUE(TEXT(Smp99_Donnees!O1945,\"чч:мм:сс\"))","v":0}]
[{"$f":"86400*TIMEVALUE(TEXT(Smp99_Donnees!C1946,\"чч:мм:сс\"))","v":0},{"$f":"86400*TIMEVALUE(TEXT(Smp99_Donnees!O1946,\"чч:мм:сс\"))","v":0}]
[{"$f":"86400*TIMEVALUE(TEXT(Smp99_Donnees!C1947,\"чч:мм:сс\"))","v":0},{"$f":"86400*TIMEVALUE(TEXT(Smp99_Donnees!O1947,\"чч:мм:сс\"))","v":0}]
[{"$f":"86400*TIMEVALUE(TEXT(Smp99_Donnees!C1948,\"чч:мм:сс\"))","v":0},{"$f":"86400*TIMEVALUE(TEXT(Smp99_Donnees!O1948,\"чч:мм:сс\"))","v":0}]
[{"$f":"86400*TIMEVALUE(TEXT(Smp99_Donnees!C1949,\"чч:мм:сс\"))","v":0},{"$f":"86400*TIMEVALUE(TEXT(Smp99_Donnees!O1949,\"чч:мм:сс\"))","v":0}]
[{"$f":"86400*TIMEVALUE(TEXT(Smp99_Donnees!C1950,\"чч:мм:сс\"))","v":0},{"$f":"86400*TIMEVALUE(TEXT(Smp99_Donnees!O1950,\"чч:мм:сс\"))","v":0}]
[{"$f":"86400*TIMEVALUE(TEXT(Smp99_Donnees!C1951,\"чч:мм:сс\"))","v":0},{"$f":"86400*TIMEVALUE(TEXT(Smp99_Donnees!O1951,\"чч:мм:сс\"))","v":0}]
[{"$f":"86400*TIMEVALUE(TEXT(Smp99_Donnees!C1952,\"чч:мм:сс\"))","v":0},{"$f":"86400*TIMEVALUE(TEXT(Smp99_Donnees!O1952,\"чч:мм:сс\"))","v":0}]
[{"$f":"86400*TIMEVALUE(TEXT(Smp99_Donnees!C1953,\"чч:мм:сс\"))","v":0},{"$f":"86400*TIMEVALUE(TEXT(Smp99_Donnees!O1953,\"чч:мм:сс\"))","v":0}]
[{"$f":"86400*TIMEVALUE(TEXT(Smp99_Donnees!C1954,\"чч:мм:сс\"))","v":0},{"$f":"86400*TIMEVALUE(TEXT(Smp99_Donnees!O1954,\"чч:мм:сс\"))","v":0}]
[{"$f":"86400*TIMEVALUE(TEXT(Smp99_Donnees!C1955,\"чч:мм:сс\"))","v":0},{"$f":"86400*TIMEVALUE(TEXT(Smp99_Donnees!O1955,\"чч:мм:сс\"))","v":0}]
[{"$f":"86400*TIMEVALUE(TEXT(Smp99_Donnees!C1956,\"чч:мм:сс\"))","v":0},{"$f":"86400*TIMEVALUE(TEXT(Smp99_Donnees!O1956,\"чч:мм:сс\"))","v":0}]
[{"$f":"86400*TIMEVALUE(TEXT(Smp99_Donnees!C1957,\"чч:мм:сс\"))","v":0},{"$f":"86400*TIMEVALUE(TEXT(Smp99_Donnees!O1957,\"чч:мм:сс\"))","v":0}]
[{"$f":"86400*TIMEVALUE(TEXT(Smp99_Donnees!C1958,\"чч:мм:сс\"))","v":0},{"$f":"86400*TIMEVALUE(TEXT(Smp99_Donnees!O1958,\"чч:мм:сс\"))","v":0}]
[{"$f":"86400*TIMEVALUE(TEXT(Smp99_Donnees!C1959,\"чч:мм:сс\"))","v":0},{"$f":"86400*TIMEVALUE(TEXT(Smp99_Donnees!O1959,\"чч:мм:сс\"))","v":0}]
[{"$f":"86400*TIMEVALUE(TEXT(Smp99_Donnees!C1960,\"чч:мм:сс\"))","v":0},{"$f":"86400*TIMEVALUE(TEXT(Smp99_Donnees!O1960,\"чч:мм:сс\"))","v":0}]
[{"$f":"86400*TIMEVALUE(TEXT(Smp99_Donnees!C1961,\"чч:мм:сс\"))","v":0},{"$f":"86400*TIMEVALUE(TEXT(Smp99_Donnees!O1961,\"чч:мм:сс\"))","v":0}]
[{"$f":"86400*TIMEVALUE(TEXT(Smp99_Donnees!C1962,\"чч:мм:сс\"))","v":0},{"$f":"86400*TIMEVALUE(TEXT(Smp99_Donnees!O1962,\"чч:мм:сс\"))","v":0}]
[{"$f":"86400*TIMEVALUE(TEXT(Smp99_Donnees!C1963,\"чч:мм:сс\"))","v":0},{"$f":"86400*TIMEVALUE(TEXT(Smp99_Donnees!O1963,\"чч:мм:сс\"))","v":0}]
[{"$f":"86400*TIMEVALUE(TEXT(Smp99_Donnees!C1964,\"чч:мм:сс\"))","v":0},{"$f":"86400*TIMEVALUE(TEXT(Smp99_Donnees!O1964,\"чч:мм:сс\"))","v":0}]
[{"$f":"86400*TIMEVALUE(TEXT(Smp99_Donnees!C1965,\"чч:мм:сс\"))","v":0},{"$f":"86400*TIMEVALUE(TEXT(Smp99_Donnees!O1965,\"чч:мм:сс\"))","v":0}]
[{"$f":"86400*TIMEVALUE(TEXT(Smp99_Donnees!C1966,\"чч:мм:сс\"))","v":0},{"$f":"86400*TIMEVALUE(TEXT(Smp99_Donnees!O1966,\"чч:мм:сс\"))","v":0}]
[{"$f":"86400*TIMEVALUE(TEXT(Smp99_Donnees!C1967,\"чч:мм:сс\"))","v":0},{"$f":"86400*TIMEVALUE(TEXT(Smp99_Donnees!O1967,\"чч:мм:сс\"))","v":0}]
[{"$f":"86400*TIMEVALUE(TEXT(Smp99_Donnees!C1968,\"чч:мм:сс\"))","v":0},{"$f":"86400*TIMEVALUE(TEXT(Smp99_Donnees!O1968,\"чч:мм:сс\"))","v":0}]
[{"$f":"86400*TIMEVALUE(TEXT(Smp99_Donnees!C1969,\"чч:мм:сс\"))","v":0},{"$f":"86400*TIMEVALUE(TEXT(Smp99_Donnees!O1969,\"чч:мм:сс\"))","v":0}]
[{"$f":"86400*TIMEVALUE(TEXT(Smp99_Donnees!C1970,\"чч:мм:сс\"))","v":0},{"$f":"86400*TIMEVALUE(TEXT(Smp99_Donnees!O1970,\"чч:мм:сс\"))","v":0}]
[{"$f":"86400*TIMEVALUE(TEXT(Smp99_Donnees!C1971,\"чч:мм:сс\"))","v":0},{"$f":"86400*TIMEVALUE(TEXT(Smp99_Donnees!O1971,\"чч:мм:сс\"))","v":0}]
[{"$f":"86400*TIMEVALUE(TEXT(Smp99_Donnees!C1972,\"чч:мм:сс\"))","v":0},{"$f":"86400*TIMEVALUE(TEXT(Smp99_Donnees!O1972,\"чч:мм:сс\"))","v":0}]
[{"$f":"86400*TIMEVALUE(TEXT(Smp99_Donnees!C1973,\"чч:мм:сс\"))","v":0},{"$f":"86400*TIMEVALUE(TEXT(Smp99_Donnees!O1973,\"чч:мм:сс\"))","v":0}]
[{"$f":"86400*TIMEVALUE(TEXT(Smp99_Donnees!C1974,\"чч:мм:сс\"))","v":0},{"$f":"86400*TIMEVALUE(TEXT(Smp99_Donnees!O1974,\"чч:мм:сс\"))","v":0}]
[{"$f":"86400*TIMEVALUE(TEXT(Smp99_Donnees!C1975,\"чч:мм:сс\"))","v":0},{"$f":"86400*TIMEVALUE(TEXT(Smp99_Donnees!O1975,\"чч:мм:сс\"))","v":0}]
[{"$f":"86400*TIMEVALUE(TEXT(Smp99_Donnees!C1976,\"чч:мм:сс\"))","v":0},{"$f":"86400*TIMEVALUE(TEXT(Smp99_Donnees!O1976,\"чч:мм:сс\"))","v":0}]
[{"$f":"86400*TIMEVALUE(TEXT(Smp99_Donnees!C1977,\"чч:мм:сс\"))","v":0},{"$f":"86400*TIMEVALUE(TEXT(Smp99_Donnees!O1977,\"чч:мм:сс\"))","v":0}]
[{"$f":"86400*TIMEVALUE(TEXT(Smp99_Donnees!C1978,\"чч:мм:сс\"))","v":0},{"$f":"86400*TIMEVALUE(TEXT(Smp99_Donnees!O1978,\"чч:мм:сс\"))","v":0}]
[{"$f":"86400*TIMEVALUE(TEXT(Smp99_Donnees!C1979,\"чч:мм:сс\"))","v":0},{"$f":"86400*TIMEVALUE(TEXT(Smp99_Donnees!O1979,\"чч:мм:сс\"))","v":0}]
[{"$f":"86400*TIMEVALUE(TEXT(Smp99_Donnees!C1980,\"чч:мм:сс\"))","v":0},{"$f":"86400*TIMEVALUE(TEXT(Smp99_Donnees!O1980,\"чч:мм:сс\"))","v":0}]
[{"$f":"86400*TIMEVALUE(TEXT(Smp99_Donnees!C1981,\"чч:мм:сс\"))","v":0},{"$f":"86400*TIMEVALUE(TEXT(Smp99_Donnees!O1981,\"чч:мм:сс\"))","v":0}]
[{"$f":"86400*TIMEVALUE(TEXT(Smp99_Donnees!C1982,\"чч:мм:сс\"))","v":0},{"$f":"86400*TIMEVALUE(TEXT(Smp99_Donnees!O1982,\"чч:мм:сс\"))","v":0}]
[{"$f":"86400*TIMEVALUE(TEXT(Smp99_Donnees!C1983,\"чч:мм:сс\"))","v":0},{"$f":"86400*TIMEVALUE(TEXT(Smp99_Donnees!O1983,\"чч:мм:сс\"))","v":0}]
[{"$f":"86400*TIMEVALUE(TEXT(Smp99_Donnees!C1984,\"чч:мм:сс\"))","v":0},{"$f":"86400*TIMEVALUE(TEXT(Smp99_Donnees!O1984,\"чч:мм:сс\"))","v":0}]
[{"$f":"86400*TIMEVALUE(TEXT(Smp99_Donnees!C1985,\"чч:мм:сс\"))","v":0},{"$f":"86400*TIMEVALUE(TEXT(Smp99_Donnees!O1985,\"чч:мм:сс\"))","v":0}]
[{"$f":"86400*TIMEVALUE(TEXT(Smp99_Donnees!C1986,\"чч:мм:сс\"))","v":0},{"$f":"86400*TIMEVALUE(TEXT(Smp99_Donnees!O1986,\"чч:мм:сс\"))","v":0}]
[{"$f":"86400*TIMEVALUE(TEXT(Smp99_Donnees!C1987,\"чч:мм:сс\"))","v":0},{"$f":"86400*TIMEVALUE(TEXT(Smp99_Donnees!O1987,\"чч:мм:сс\"))","v":0}]
[{"$f":"86400*TIMEVALUE(TEXT(Smp99_Donnees!C1988,\"чч:мм:сс\"))","v":0},{"$f":"86400*TIMEVALUE(TEXT(Smp99_Donnees!O1988,\"чч:мм:сс\"))","v":0}]
[{"$f":"86400*TIMEVALUE(TEXT(Smp99_Donnees!C1989,\"чч:мм:сс\"))","v":0},{"$f":"86400*TIMEVALUE(TEXT(Smp99_Donnees!O1989,\"чч:мм:сс\"))","v":0}]
[{"$f":"86400*TIMEVALUE(TEXT(Smp99_Donnees!C1990,\"чч:мм:сс\"))","v":0},{"$f":"86400*TIMEVALUE(TEXT(Smp99_Donnees!O1990,\"чч:мм:сс\"))","v":0}]
[{"$f":"86400*TIMEVALUE(TEXT(Smp99_Donnees!C1991,\"чч:мм:сс\"))","v":0},{"$f":"86400*TIMEVALUE(TEXT(Smp99_Donnees!O1991,\"чч:мм:сс\"))","v":0}]
[{"$f":"86400*TIMEVALUE(TEXT(Smp99_Donnees!C1992,\"чч:мм:сс\"))","v":0},{"$f":"86400*TIMEVALUE(TEXT(Smp99_Donnees!O1992,\"чч:мм:сс\"))","v":0}]
[{"$f":"86400*TIMEVALUE(TEXT(Smp99_Donnees!C1993,\"чч:мм:сс\"))","v":0},{"$f":"86400*TIMEVALUE(TEXT(Smp99_Donnees!O1993,\"чч:мм:сс\"))","v":0}]
[{"$f":"86400*TIMEVALUE(TEXT(Smp99_Donnees!C1994,\"чч:мм:сс\"))","v":0},{"$f":"86400*TIMEVALUE(TEXT(Smp99_Donnees!O1994,\"чч:мм:сс\"))","v":0}]
[{"$f":"86400*TIMEVALUE(TEXT(Smp99_Donnees!C1995,\"чч:мм:сс\"))","v":0},{"$f":"86400*TIMEVALUE(TEXT(Smp99_Donnees!O1995,\"чч:мм:сс\"))","v":0}]
[{"$f":"86400*TIMEVALUE(TEXT(Smp99_Donnees!C1996,\"чч:мм:сс\"))","v":0},{"$f":"86400*TIMEVALUE(TEXT(Smp99_Donnees!O1996,\"чч:мм:сс\"))","v":0}]
[{"$f":"86400*TIMEVALUE(TEXT(Smp99_Donnees!C1997,\"чч:мм:сс\"))","v":0},{"$f":"86400*TIMEVALUE(TEXT(Smp99_Donnees!O1997,\"чч:мм:сс\"))","v":0}]
[{"$f":"86400*TIMEVALUE(TEXT(Smp99_Donnees!C1998,\"чч:мм:сс\"))","v":0},{"$f":"86400*TIMEVALUE(TEXT(Smp99_Donnees!O1998,\"чч:мм:сс\"))","v":0}]
[{"$f":"86400*TIMEVALUE(TEXT(Smp99_Donnees!C1999,\"чч:мм:сс\"))","v":0},{"$f":"86400*TIMEVALUE(TEXT(Smp99_Donnees!O1999,\"чч:мм:сс\"))","v":0}]
[{"$f":"86400*TIMEVALUE(TEXT(Smp99_Donnees!C2000,\"чч:мм:сс\"))","v":0},{"$f":"86400*TIMEVALUE(TEXT(Smp99_Donnees!O2000,\"чч:мм:сс\"))","v":0}]
[{"$f":"86400*TIMEVALUE(TEXT(Smp99_Donnees!C2001,\"чч:мм:сс\"))","v":0},{"$f":"86400*TIMEVALUE(TEXT(Smp99_Donnees!O2001,\"чч:мм:сс\"))","v":0}]
[{"$f":"86400*TIMEVALUE(TEXT(Smp99_Donnees!C2002,\"чч:мм:сс\"))","v":0},{"$f":"86400*TIMEVALUE(TEXT(Smp99_Donnees!O2002,\"чч:мм:сс\"))","v":0}]
[{"$f":"86400*TIMEVALUE(TEXT(Smp99_Donnees!C2003,\"чч:мм:сс\"))","v":0},{"$f":"86400*TIMEVALUE(TEXT(Smp99_Donnees!O2003,\"чч:мм:сс\"))","v":0}]
[{"$f":"86400*TIMEVALUE(TEXT(Smp99_Donnees!C2004,\"чч:мм:сс\"))","v":0},{"$f":"86400*TIMEVALUE(TEXT(Smp99_Donnees!O2004,\"чч:мм:сс\"))","v":0}]
[{"$f":"86400*TIMEVALUE(TEXT(Smp99_Donnees!C2005,\"чч:мм:сс\"))","v":0},{"$f":"86400*TIMEVALUE(TEXT(Smp99_Donnees!O2005,\"чч:мм:сс\"))","v":0}]
[{"$f":"86400*TIMEVALUE(TEXT(Smp99_Donnees!C2006,\"чч:мм:сс\"))","v":0},{"$f":"86400*TIMEVALUE(TEXT(Smp99_Donnees!O2006,\"чч:мм:сс\"))","v":0}]
[{"$f":"86400*TIMEVALUE(TEXT(Smp99_Donnees!C2007,\"чч:мм:сс\"))","v":0},{"$f":"86400*TIMEVALUE(TEXT(Smp99_Donnees!O2007,\"чч:мм:сс\"))","v":0}]
[{"$f":"86400*TIMEVALUE(TEXT(Smp99_Donnees!C2008,\"чч:мм:сс\"))","v":0},{"$f":"86400*TIMEVALUE(TEXT(Smp99_Donnees!O2008,\"чч:мм:сс\"))","v":0}]
[{"$f":"86400*TIMEVALUE(TEXT(Smp99_Donnees!C2009,\"чч:мм:сс\"))","v":0},{"$f":"86400*TIMEVALUE(TEXT(Smp99_Donnees!O2009,\"чч:мм:сс\"))","v":0}]
[{"$f":"86400*TIMEVALUE(TEXT(Smp99_Donnees!C2010,\"чч:мм:сс\"))","v":0},{"$f":"86400*TIMEVALUE(TEXT(Smp99_Donnees!O2010,\"чч:мм:сс\"))","v":0}]
[{"$f":"86400*TIMEVALUE(TEXT(Smp99_Donnees!C2011,\"чч:мм:сс\"))","v":0},{"$f":"86400*TIMEVALUE(TEXT(Smp99_Donnees!O2011,\"чч:мм:сс\"))","v":0}]
[{"$f":"86400*TIMEVALUE(TEXT(Smp99_Donnees!C2012,\"чч:мм:сс\"))","v":0},{"$f":"86400*TIMEVALUE(TEXT(Smp99_Donnees!O2012,\"чч:мм:сс\"))","v":0}]
[{"$f":"86400*TIMEVALUE(TEXT(Smp99_Donnees!C2013,\"чч:мм:сс\"))","v":0},{"$f":"86400*TIMEVALUE(TEXT(Smp99_Donnees!O2013,\"чч:мм:сс\"))","v":0}]
[{"$f":"86400*TIMEVALUE(TEXT(Smp99_Donnees!C2014,\"чч:мм:сс\"))","v":0},{"$f":"86400*TIMEVALUE(TEXT(Smp99_Donnees!O2014,\"чч:мм:сс\"))","v":0}]
[{"$f":"86400*TIMEVALUE(TEXT(Smp99_Donnees!C2015,\"чч:мм:сс\"))","v":0},{"$f":"86400*TIMEVALUE(TEXT(Smp99_Donnees!O2015,\"чч:мм:сс\"))","v":0}]
[{"$f":"86400*TIMEVALUE(TEXT(Smp99_Donnees!C2016,\"чч:мм:сс\"))","v":0},{"$f":"86400*TIMEVALUE(TEXT(Smp99_Donnees!O2016,\"чч:мм:сс\"))","v":0}]
[{"$f":"86400*TIMEVALUE(TEXT(Smp99_Donnees!C2017,\"чч:мм:сс\"))","v":0},{"$f":"86400*TIMEVALUE(TEXT(Smp99_Donnees!O2017,\"чч:мм:сс\"))","v":0}]
[{"$f":"86400*TIMEVALUE(TEXT(Smp99_Donnees!C2018,\"чч:мм:сс\"))","v":0},{"$f":"86400*TIMEVALUE(TEXT(Smp99_Donnees!O2018,\"чч:мм:сс\"))","v":0}]
[{"$f":"86400*TIMEVALUE(TEXT(Smp99_Donnees!C2019,\"чч:мм:сс\"))","v":0},{"$f":"86400*TIMEVALUE(TEXT(Smp99_Donnees!O2019,\"чч:мм:сс\"))","v":0}]
[{"$f":"86400*TIMEVALUE(TEXT(Smp99_Donnees!C2020,\"чч:мм:сс\"))","v":0},{"$f":"86400*TIMEVALUE(TEXT(Smp99_Donnees!O2020,\"чч:мм:сс\"))","v":0}]
[{"$f":"86400*TIMEVALUE(TEXT(Smp99_Donnees!C2021,\"чч:мм:сс\"))","v":0},{"$f":"86400*TIMEVALUE(TEXT(Smp99_Donnees!O2021,\"чч:мм:сс\"))","v":0}]
[{"$f":"86400*TIMEVALUE(TEXT(Smp99_Donnees!C2022,\"чч:мм:сс\"))","v":0},{"$f":"86400*TIMEVALUE(TEXT(Smp99_Donnees!O2022,\"чч:мм:сс\"))","v":0}]
[{"$f":"86400*TIMEVALUE(TEXT(Smp99_Donnees!C2023,\"чч:мм:сс\"))","v":0},{"$f":"86400*TIMEVALUE(TEXT(Smp99_Donnees!O2023,\"чч:мм:сс\"))","v":0}]
[{"$f":"86400*TIMEVALUE(TEXT(Smp99_Donnees!C2024,\"чч:мм:сс\"))","v":0},{"$f":"86400*TIMEVALUE(TEXT(Smp99_Donnees!O2024,\"чч:мм:сс\"))","v":0}]
[{"$f":"86400*TIMEVALUE(TEXT(Smp99_Donnees!C2025,\"чч:мм:сс\"))","v":0},{"$f":"86400*TIMEVALUE(TEXT(Smp99_Donnees!O2025,\"чч:мм:сс\"))","v":0}]
[{"$f":"86400*TIMEVALUE(TEXT(Smp99_Donnees!C2026,\"чч:мм:сс\"))","v":0},{"$f":"86400*TIMEVALUE(TEXT(Smp99_Donnees!O2026,\"чч:мм:сс\"))","v":0}]
[{"$f":"86400*TIMEVALUE(TEXT(Smp99_Donnees!C2027,\"чч:мм:сс\"))","v":0},{"$f":"86400*TIMEVALUE(TEXT(Smp99_Donnees!O2027,\"чч:мм:сс\"))","v":0}]
[{"$f":"86400*TIMEVALUE(TEXT(Smp99_Donnees!C2028,\"чч:мм:сс\"))","v":0},{"$f":"86400*TIMEVALUE(TEXT(Smp99_Donnees!O2028,\"чч:мм:сс\"))","v":0}]
[{"$f":"86400*TIMEVALUE(TEXT(Smp99_Donnees!C2029,\"чч:мм:сс\"))","v":0},{"$f":"86400*TIMEVALUE(TEXT(Smp99_Donnees!O2029,\"чч:мм:сс\"))","v":0}]
[{"$f":"86400*TIMEVALUE(TEXT(Smp99_Donnees!C2030,\"чч:мм:сс\"))","v":0},{"$f":"86400*TIMEVALUE(TEXT(Smp99_Donnees!O2030,\"чч:мм:сс\"))","v":0}]
[{"$f":"86400*TIMEVALUE(TEXT(Smp99_Donnees!C2031,\"чч:мм:сс\"))","v":0},{"$f":"86400*TIMEVALUE(TEXT(Smp99_Donnees!O2031,\"чч:мм:сс\"))","v":0}]
[{"$f":"86400*TIMEVALUE(TEXT(Smp99_Donnees!C2032,\"чч:мм:сс\"))","v":0},{"$f":"86400*TIMEVALUE(TEXT(Smp99_Donnees!O2032,\"чч:мм:сс\"))","v":0}]
[{"$f":"86400*TIMEVALUE(TEXT(Smp99_Donnees!C2033,\"чч:мм:сс\"))","v":0},{"$f":"86400*TIMEVALUE(TEXT(Smp99_Donnees!O2033,\"чч:мм:сс\"))","v":0}]
[{"$f":"86400*TIMEVALUE(TEXT(Smp99_Donnees!C2034,\"чч:мм:сс\"))","v":0},{"$f":"86400*TIMEVALUE(TEXT(Smp99_Donnees!O2034,\"чч:мм:сс\"))","v":0}]
[{"$f":"86400*TIMEVALUE(TEXT(Smp99_Donnees!C2035,\"чч:мм:сс\"))","v":0},{"$f":"86400*TIMEVALUE(TEXT(Smp99_Donnees!O2035,\"чч:мм:сс\"))","v":0}]
[{"$f":"86400*TIMEVALUE(TEXT(Smp99_Donnees!C2036,\"чч:мм:сс\"))","v":0},{"$f":"86400*TIMEVALUE(TEXT(Smp99_Donnees!O2036,\"чч:мм:сс\"))","v":0}]
[{"$f":"86400*TIMEVALUE(TEXT(Smp99_Donnees!C2037,\"чч:мм:сс\"))","v":0},{"$f":"86400*TIMEVALUE(TEXT(Smp99_Donnees!O2037,\"чч:мм:сс\"))","v":0}]
[{"$f":"86400*TIMEVALUE(TEXT(Smp99_Donnees!C2038,\"чч:мм:сс\"))","v":0},{"$f":"86400*TIMEVALUE(TEXT(Smp99_Donnees!O2038,\"чч:мм:сс\"))","v":0}]
[{"$f":"86400*TIMEVALUE(TEXT(Smp99_Donnees!C2039,\"чч:мм:сс\"))","v":0},{"$f":"86400*TIMEVALUE(TEXT(Smp99_Donnees!O2039,\"чч:мм:сс\"))","v":0}]
[{"$f":"86400*TIMEVALUE(TEXT(Smp99_Donnees!C2040,\"чч:мм:сс\"))","v":0},{"$f":"86400*TIMEVALUE(TEXT(Smp99_Donnees!O2040,\"чч:мм:сс\"))","v":0}]
[{"$f":"86400*TIMEVALUE(TEXT(Smp99_Donnees!C2041,\"чч:мм:сс\"))","v":0},{"$f":"86400*TIMEVALUE(TEXT(Smp99_Donnees!O2041,\"чч:мм:сс\"))","v":0}]
[{"$f":"86400*TIMEVALUE(TEXT(Smp99_Donnees!C2042,\"чч:мм:сс\"))","v":0},{"$f":"86400*TIMEVALUE(TEXT(Smp99_Donnees!O2042,\"чч:мм:сс\"))","v":0}]
[{"$f":"86400*TIMEVALUE(TEXT(Smp99_Donnees!C2043,\"чч:мм:сс\"))","v":0},{"$f":"86400*TIMEVALUE(TEXT(Smp99_Donnees!O2043,\"чч:мм:сс\"))","v":0}]
[{"$f":"86400*TIMEVALUE(TEXT(Smp99_Donnees!C2044,\"чч:мм:сс\"))","v":0},{"$f":"86400*TIMEVALUE(TEXT(Smp99_Donnees!O2044,\"чч:мм:сс\"))","v":0}]
[{"$f":"86400*TIMEVALUE(TEXT(Smp99_Donnees!C2045,\"чч:мм:сс\"))","v":0},{"$f":"86400*TIMEVALUE(TEXT(Smp99_Donnees!O2045,\"чч:мм:сс\"))","v":0}]
[{"$f":"86400*TIMEVALUE(TEXT(Smp99_Donnees!C2046,\"чч:мм:сс\"))","v":0},{"$f":"86400*TIMEVALUE(TEXT(Smp99_Donnees!O2046,\"чч:мм:сс\"))","v":0}]
[{"$f":"86400*TIMEVALUE(TEXT(Smp99_Donnees!C2047,\"чч:мм:сс\"))","v":0},{"$f":"86400*TIMEVALUE(TEXT(Smp99_Donnees!O2047,\"чч:мм:сс\"))","v":0}]
[{"$f":"86400*TIMEVALUE(TEXT(Smp99_Donnees!C2048,\"чч:мм:сс\"))","v":0},{"$f":"86400*TIMEVALUE(TEXT(Smp99_Donnees!O2048,\"чч:мм:сс\"))","v":0}]
[{"$f":"86400*TIMEVALUE(TEXT(Smp99_Donnees!C2049,\"чч:мм:сс\"))","v":0},{"$f":"86400*TIMEVALUE(TEXT(Smp99_Donnees!O2049,\"чч:мм:сс\"))","v":0}]
[{"$f":"86400*TIMEVALUE(TEXT(Smp99_Donnees!C2050,\"чч:мм:сс\"))","v":0},{"$f":"86400*TIMEVALUE(TEXT(Smp99_Donnees!O2050,\"чч:мм:сс\"))","v":0}]
[{"$f":"86400*TIMEVALUE(TEXT(Smp99_Donnees!C2051,\"чч:мм:сс\"))","v":0},{"$f":"86400*TIMEVALUE(TEXT(Smp99_Donnees!O2051,\"чч:мм:сс\"))","v":0}]
[{"$f":"86400*TIMEVALUE(TEXT(Smp99_Donnees!C2052,\"чч:мм:сс\"))","v":0},{"$f":"86400*TIMEVALUE(TEXT(Smp99_Donnees!O2052,\"чч:мм:сс\"))","v":0}]
[{"$f":"86400*TIMEVALUE(TEXT(Smp99_Donnees!C2053,\"чч:мм:сс\"))","v":0},{"$f":"86400*TIMEVALUE(TEXT(Smp99_Donnees!O2053,\"чч:мм:сс\"))","v":0}]
[{"$f":"86400*TIMEVALUE(TEXT(Smp99_Donnees!C2054,\"чч:мм:сс\"))","v":0},{"$f":"86400*TIMEVALUE(TEXT(Smp99_Donnees!O2054,\"чч:мм:сс\"))","v":0}]
[{"$f":"86400*TIMEVALUE(TEXT(Smp99_Donnees!C2055,\"чч:мм:сс\"))","v":0},{"$f":"86400*TIMEVALUE(TEXT(Smp99_Donnees!O2055,\"чч:мм:сс\"))","v":0}]
[{"$f":"86400*TIMEVALUE(TEXT(Smp99_Donnees!C2056,\"чч:мм:сс\"))","v":0},{"$f":"86400*TIMEVALUE(TEXT(Smp99_Donnees!O2056,\"чч:мм:сс\"))","v":0}]
[{"$f":"86400*TIMEVALUE(TEXT(Smp99_Donnees!C2057,\"чч:мм:сс\"))","v":0},{"$f":"86400*TIMEVALUE(TEXT(Smp99_Donnees!O2057,\"чч:мм:сс\"))","v":0}]
[{"$f":"86400*TIMEVALUE(TEXT(Smp99_Donnees!C2058,\"чч:мм:сс\"))","v":0},{"$f":"86400*TIMEVALUE(TEXT(Smp99_Donnees!O2058,\"чч:мм:сс\"))","v":0}]
[{"$f":"86400*TIMEVALUE(TEXT(Smp99_Donnees!C2059,\"чч:мм:сс\"))","v":0},{"$f":"86400*TIMEVALUE(TEXT(Smp99_Donnees!O2059,\"чч:мм:сс\"))","v":0}]
[{"$f":"86400*TIMEVALUE(TEXT(Smp99_Donnees!C2060,\"чч:мм:сс\"))","v":0},{"$f":"86400*TIMEVALUE(TEXT(Smp99_Donnees!O2060,\"чч:мм:сс\"))","v":0}]
[{"$f":"86400*TIMEVALUE(TEXT(Smp99_Donnees!C2061,\"чч:мм:сс\"))","v":0},{"$f":"86400*TIMEVALUE(TEXT(Smp99_Donnees!O2061,\"чч:мм:сс\"))","v":0}]
[{"$f":"86400*TIMEVALUE(TEXT(Smp99_Donnees!C2062,\"чч:мм:сс\"))","v":0},{"$f":"86400*TIMEVALUE(TEXT(Smp99_Donnees!O2062,\"чч:мм:сс\"))","v":0}]
[{"$f":"86400*TIMEVALUE(TEXT(Smp99_Donnees!C2063,\"чч:мм:сс\"))","v":0},{"$f":"86400*TIMEVALUE(TEXT(Smp99_Donnees!O2063,\"чч:мм:сс\"))","v":0}]
[{"$f":"86400*TIMEVALUE(TEXT(Smp99_Donnees!C2064,\"чч:мм:сс\"))","v":0},{"$f":"86400*TIMEVALUE(TEXT(Smp99_Donnees!O2064,\"чч:мм:сс\"))","v":0}]
[{"$f":"86400*TIMEVALUE(TEXT(Smp99_Donnees!C2065,\"чч:мм:сс\"))","v":0},{"$f":"86400*TIMEVALUE(TEXT(Smp99_Donnees!O2065,\"чч:мм:сс\"))","v":0}]
[{"$f":"86400*TIMEVALUE(TEXT(Smp99_Donnees!C2066,\"чч:мм:сс\"))","v":0},{"$f":"86400*TIMEVALUE(TEXT(Smp99_Donnees!O2066,\"чч:мм:сс\"))","v":0}]
[{"$f":"86400*TIMEVALUE(TEXT(Smp99_Donnees!C2067,\"чч:мм:сс\"))","v":0},{"$f":"86400*TIMEVALUE(TEXT(Smp99_Donnees!O2067,\"чч:мм:сс\"))","v":0}]
[{"$f":"86400*TIMEVALUE(TEXT(Smp99_Donnees!C2068,\"чч:мм:сс\"))","v":0},{"$f":"86400*TIMEVALUE(TEXT(Smp99_Donnees!O2068,\"чч:мм:сс\"))","v":0}]
[{"$f":"86400*TIMEVALUE(TEXT(Smp99_Donnees!C2069,\"чч:мм:сс\"))","v":0},{"$f":"86400*TIMEVALUE(TEXT(Smp99_Donnees!O2069,\"чч:мм:сс\"))","v":0}]
[{"$f":"86400*TIMEVALUE(TEXT(Smp99_Donnees!C2070,\"чч:мм:сс\"))","v":0},{"$f":"86400*TIMEVALUE(TEXT(Smp99_Donnees!O2070,\"чч:мм:сс\"))","v":0}]
[{"$f":"86400*TIMEVALUE(TEXT(Smp99_Donnees!C2071,\"чч:мм:сс\"))","v":0},{"$f":"86400*TIMEVALUE(TEXT(Smp99_Donnees!O2071,\"чч:мм:сс\"))","v":0}]
[{"$f":"86400*TIMEVALUE(TEXT(Smp99_Donnees!C2072,\"чч:мм:сс\"))","v":0},{"$f":"86400*TIMEVALUE(TEXT(Smp99_Donnees!O2072,\"чч:мм:сс\"))","v":0}]
[{"$f":"86400*TIMEVALUE(TEXT(Smp99_Donnees!C2073,\"чч:мм:сс\"))","v":0},{"$f":"86400*TIMEVALUE(TEXT(Smp99_Donnees!O2073,\"чч:мм:сс\"))","v":0}]
[{"$f":"86400*TIMEVALUE(TEXT(Smp99_Donnees!C2074,\"чч:мм:сс\"))","v":0},{"$f":"86400*TIMEVALUE(TEXT(Smp99_Donnees!O2074,\"чч:мм:сс\"))","v":0}]
[{"$f":"86400*TIMEVALUE(TEXT(Smp99_Donnees!C2075,\"чч:мм:сс\"))","v":0},{"$f":"86400*TIMEVALUE(TEXT(Smp99_Donnees!O2075,\"чч:мм:сс\"))","v":0}]
[{"$f":"86400*TIMEVALUE(TEXT(Smp99_Donnees!C2076,\"чч:мм:сс\"))","v":0},{"$f":"86400*TIMEVALUE(TEXT(Smp99_Donnees!O2076,\"чч:мм:сс\"))","v":0}]
[{"$f":"86400*TIMEVALUE(TEXT(Smp99_Donnees!C2077,\"чч:мм:сс\"))","v":0},{"$f":"86400*TIMEVALUE(TEXT(Smp99_Donnees!O2077,\"чч:мм:сс\"))","v":0}]
[{"$f":"86400*TIMEVALUE(TEXT(Smp99_Donnees!C2078,\"чч:мм:сс\"))","v":0},{"$f":"86400*TIMEVALUE(TEXT(Smp99_Donnees!O2078,\"чч:мм:сс\"))","v":0}]
[{"$f":"86400*TIMEVALUE(TEXT(Smp99_Donnees!C2079,\"чч:мм:сс\"))","v":0},{"$f":"86400*TIMEVALUE(TEXT(Smp99_Donnees!O2079,\"чч:мм:сс\"))","v":0}]
[{"$f":"86400*TIMEVALUE(TEXT(Smp99_Donnees!C2080,\"чч:мм:сс\"))","v":0},{"$f":"86400*TIMEVALUE(TEXT(Smp99_Donnees!O2080,\"чч:мм:сс\"))","v":0}]
[{"$f":"86400*TIMEVALUE(TEXT(Smp99_Donnees!C2081,\"чч:мм:сс\"))","v":0},{"$f":"86400*TIMEVALUE(TEXT(Smp99_Donnees!O2081,\"чч:мм:сс\"))","v":0}]
[{"$f":"86400*TIMEVALUE(TEXT(Smp99_Donnees!C2082,\"чч:мм:сс\"))","v":0},{"$f":"86400*TIMEVALUE(TEXT(Smp99_Donnees!O2082,\"чч:мм:сс\"))","v":0}]
[{"$f":"86400*TIMEVALUE(TEXT(Smp99_Donnees!C2083,\"чч:мм:сс\"))","v":0},{"$f":"86400*TIMEVALUE(TEXT(Smp99_Donnees!O2083,\"чч:мм:сс\"))","v":0}]
[{"$f":"86400*TIMEVALUE(TEXT(Smp99_Donnees!C2084,\"чч:мм:сс\"))","v":0},{"$f":"86400*TIMEVALUE(TEXT(Smp99_Donnees!O2084,\"чч:мм:сс\"))","v":0}]
[{"$f":"86400*TIMEVALUE(TEXT(Smp99_Donnees!C2085,\"чч:мм:сс\"))","v":0},{"$f":"86400*TIMEVALUE(TEXT(Smp99_Donnees!O2085,\"чч:мм:сс\"))","v":0}]
[{"$f":"86400*TIMEVALUE(TEXT(Smp99_Donnees!C2086,\"чч:мм:сс\"))","v":0},{"$f":"86400*TIMEVALUE(TEXT(Smp99_Donnees!O2086,\"чч:мм:сс\"))","v":0}]
[{"$f":"86400*TIMEVALUE(TEXT(Smp99_Donnees!C2087,\"чч:мм:сс\"))","v":0},{"$f":"86400*TIMEVALUE(TEXT(Smp99_Donnees!O2087,\"чч:мм:сс\"))","v":0}]
[{"$f":"86400*TIMEVALUE(TEXT(Smp99_Donnees!C2088,\"чч:мм:сс\"))","v":0},{"$f":"86400*TIMEVALUE(TEXT(Smp99_Donnees!O2088,\"чч:мм:сс\"))","v":0}]
[{"$f":"86400*TIMEVALUE(TEXT(Smp99_Donnees!C2089,\"чч:мм:сс\"))","v":0},{"$f":"86400*TIMEVALUE(TEXT(Smp99_Donnees!O2089,\"чч:мм:сс\"))","v":0}]
[{"$f":"86400*TIMEVALUE(TEXT(Smp99_Donnees!C2090,\"чч:мм:сс\"))","v":0},{"$f":"86400*TIMEVALUE(TEXT(Smp99_Donnees!O2090,\"чч:мм:сс\"))","v":0}]
[{"$f":"86400*TIMEVALUE(TEXT(Smp99_Donnees!C2091,\"чч:мм:сс\"))","v":0},{"$f":"86400*TIMEVALUE(TEXT(Smp99_Donnees!O2091,\"чч:мм:сс\"))","v":0}]
[{"$f":"86400*TIMEVALUE(TEXT(Smp99_Donnees!C2092,\"чч:мм:сс\"))","v":0},{"$f":"86400*TIMEVALUE(TEXT(Smp99_Donnees!O2092,\"чч:мм:сс\"))","v":0}]
[{"$f":"86400*TIMEVALUE(TEXT(Smp99_Donnees!C2093,\"чч:мм:сс\"))","v":0},{"$f":"86400*TIMEVALUE(TEXT(Smp99_Donnees!O2093,\"чч:мм:сс\"))","v":0}]
[{"$f":"86400*TIMEVALUE(TEXT(Smp99_Donnees!C2094,\"чч:мм:сс\"))","v":0},{"$f":"86400*TIMEVALUE(TEXT(Smp99_Donnees!O2094,\"чч:мм:сс\"))","v":0}]
[{"$f":"86400*TIMEVALUE(TEXT(Smp99_Donnees!C2095,\"чч:мм:сс\"))","v":0},{"$f":"86400*TIMEVALUE(TEXT(Smp99_Donnees!O2095,\"чч:мм:сс\"))","v":0}]
[{"$f":"86400*TIMEVALUE(TEXT(Smp99_Donnees!C2096,\"чч:мм:сс\"))","v":0},{"$f":"86400*TIMEVALUE(TEXT(Smp99_Donnees!O2096,\"чч:мм:сс\"))","v":0}]
[{"$f":"86400*TIMEVALUE(TEXT(Smp99_Donnees!C2097,\"чч:мм:сс\"))","v":0},{"$f":"86400*TIMEVALUE(TEXT(Smp99_Donnees!O2097,\"чч:мм:сс\"))","v":0}]
[{"$f":"86400*TIMEVALUE(TEXT(Smp99_Donnees!C2098,\"чч:мм:сс\"))","v":0},{"$f":"86400*TIMEVALUE(TEXT(Smp99_Donnees!O2098,\"чч:мм:сс\"))","v":0}]
[{"$f":"86400*TIMEVALUE(TEXT(Smp99_Donnees!C2099,\"чч:мм:сс\"))","v":0},{"$f":"86400*TIMEVALUE(TEXT(Smp99_Donnees!O2099,\"чч:мм:сс\"))","v":0}]
[{"$f":"86400*TIMEVALUE(TEXT(Smp99_Donnees!C2100,\"чч:мм:сс\"))","v":0},{"$f":"86400*TIMEVALUE(TEXT(Smp99_Donnees!O2100,\"чч:мм:сс\"))","v":0}]
[{"$f":"86400*TIMEVALUE(TEXT(Smp99_Donnees!C2101,\"чч:мм:сс\"))","v":0},{"$f":"86400*TIMEVALUE(TEXT(Smp99_Donnees!O2101,\"чч:мм:сс\"))","v":0}]
[{"$f":"86400*TIMEVALUE(TEXT(Smp99_Donnees!C2102,\"чч:мм:сс\"))","v":0},{"$f":"86400*TIMEVALUE(TEXT(Smp99_Donnees!O2102,\"чч:мм:сс\"))","v":0}]
[{"$f":"86400*TIMEVALUE(TEXT(Smp99_Donnees!C2103,\"чч:мм:сс\"))","v":0},{"$f":"86400*TIMEVALUE(TEXT(Smp99_Donnees!O2103,\"чч:мм:сс\"))","v":0}]
[{"$f":"86400*TIMEVALUE(TEXT(Smp99_Donnees!C2104,\"чч:мм:сс\"))","v":0},{"$f":"86400*TIMEVALUE(TEXT(Smp99_Donnees!O2104,\"чч:мм:сс\"))","v":0}]
[{"$f":"86400*TIMEVALUE(TEXT(Smp99_Donnees!C2105,\"чч:мм:сс\"))","v":0},{"$f":"86400*TIMEVALUE(TEXT(Smp99_Donnees!O2105,\"чч:мм:сс\"))","v":0}]
[{"$f":"86400*TIMEVALUE(TEXT(Smp99_Donnees!C2106,\"чч:мм:сс\"))","v":0},{"$f":"86400*TIMEVALUE(TEXT(Smp99_Donnees!O2106,\"чч:мм:сс\"))","v":0}]
[{"$f":"86400*TIMEVALUE(TEXT(Smp99_Donnees!C2107,\"чч:мм:сс\"))","v":0},{"$f":"86400*TIMEVALUE(TEXT(Smp99_Donnees!O2107,\"чч:мм:сс\"))","v":0}]
[{"$f":"86400*TIMEVALUE(TEXT(Smp99_Donnees!C2108,\"чч:мм:сс\"))","v":0},{"$f":"86400*TIMEVALUE(TEXT(Smp99_Donnees!O2108,\"чч:мм:сс\"))","v":0}]
[{"$f":"86400*TIMEVALUE(TEXT(Smp99_Donnees!C2109,\"чч:мм:сс\"))","v":0},{"$f":"86400*TIMEVALUE(TEXT(Smp99_Donnees!O2109,\"чч:мм:сс\"))","v":0}]
[{"$f":"86400*TIMEVALUE(TEXT(Smp99_Donnees!C2110,\"чч:мм:сс\"))","v":0},{"$f":"86400*TIMEVALUE(TEXT(Smp99_Donnees!O2110,\"чч:мм:сс\"))","v":0}]
[{"$f":"86400*TIMEVALUE(TEXT(Smp99_Donnees!C2111,\"чч:мм:сс\"))","v":0},{"$f":"86400*TIMEVALUE(TEXT(Smp99_Donnees!O2111,\"чч:мм:сс\"))","v":0}]
[{"$f":"86400*TIMEVALUE(TEXT(Smp99_Donnees!C2112,\"чч:мм:сс\"))","v":0},{"$f":"86400*TIMEVALUE(TEXT(Smp99_Donnees!O2112,\"чч:мм:сс\"))","v":0}]
[{"$f":"86400*TIMEVALUE(TEXT(Smp99_Donnees!C2113,\"чч:мм:сс\"))","v":0},{"$f":"86400*TIMEVALUE(TEXT(Smp99_Donnees!O2113,\"чч:мм:сс\"))","v":0}]
[{"$f":"86400*TIMEVALUE(TEXT(Smp99_Donnees!C2114,\"чч:мм:сс\"))","v":0},{"$f":"86400*TIMEVALUE(TEXT(Smp99_Donnees!O2114,\"чч:мм:сс\"))","v":0}]
[{"$f":"86400*TIMEVALUE(TEXT(Smp99_Donnees!C2115,\"чч:мм:сс\"))","v":0},{"$f":"86400*TIMEVALUE(TEXT(Smp99_Donnees!O2115,\"чч:мм:сс\"))","v":0}]
[{"$f":"86400*TIMEVALUE(TEXT(Smp99_Donnees!C2116,\"чч:мм:сс\"))","v":0},{"$f":"86400*TIMEVALUE(TEXT(Smp99_Donnees!O2116,\"чч:мм:сс\"))","v":0}]
[{"$f":"86400*TIMEVALUE(TEXT(Smp99_Donnees!C2117,\"чч:мм:сс\"))","v":0},{"$f":"86400*TIMEVALUE(TEXT(Smp99_Donnees!O2117,\"чч:мм:сс\"))","v":0}]
[{"$f":"86400*TIMEVALUE(TEXT(Smp99_Donnees!C2118,\"чч:мм:сс\"))","v":0},{"$f":"86400*TIMEVALUE(TEXT(Smp99_Donnees!O2118,\"чч:мм:сс\"))","v":0}]
[{"$f":"86400*TIMEVALUE(TEXT(Smp99_Donnees!C2119,\"чч:мм:сс\"))","v":0},{"$f":"86400*TIMEVALUE(TEXT(Smp99_Donnees!O2119,\"чч:мм:сс\"))","v":0}]
[{"$f":"86400*TIMEVALUE(TEXT(Smp99_Donnees!C2120,\"чч:мм:сс\"))","v":0},{"$f":"86400*TIMEVALUE(TEXT(Smp99_Donnees!O2120,\"чч:мм:сс\"))","v":0}]
[{"$f":"86400*TIMEVALUE(TEXT(Smp99_Donnees!C2121,\"чч:мм:сс\"))","v":0},{"$f":"86400*TIMEVALUE(TEXT(Smp99_Donnees!O2121,\"чч:мм:сс\"))","v":0}]
[{"$f":"86400*TIMEVALUE(TEXT(Smp99_Donnees!C2122,\"чч:мм:сс\"))","v":0},{"$f":"86400*TIMEVALUE(TEXT(Smp99_Donnees!O2122,\"чч:мм:сс\"))","v":0}]
[{"$f":"86400*TIMEVALUE(TEXT(Smp99_Donnees!C2123,\"чч:мм:сс\"))","v":0},{"$f":"86400*TIMEVALUE(TEXT(Smp99_Donnees!O2123,\"чч:мм:сс\"))","v":0}]
[{"$f":"86400*TIMEVALUE(TEXT(Smp99_Donnees!C2124,\"чч:мм:сс\"))","v":0},{"$f":"86400*TIMEVALUE(TEXT(Smp99_Donnees!O2124,\"чч:мм:сс\"))","v":0}]
[{"$f":"86400*TIMEVALUE(TEXT(Smp99_Donnees!C2125,\"чч:мм:сс\"))","v":0},{"$f":"86400*TIMEVALUE(TEXT(Smp99_Donnees!O2125,\"чч:мм:сс\"))","v":0}]
[{"$f":"86400*TIMEVALUE(TEXT(Smp99_Donnees!C2126,\"чч:мм:сс\"))","v":0},{"$f":"86400*TIMEVALUE(TEXT(Smp99_Donnees!O2126,\"чч:мм:сс\"))","v":0}]
[{"$f":"86400*TIMEVALUE(TEXT(Smp99_Donnees!C2127,\"чч:мм:сс\"))","v":0},{"$f":"86400*TIMEVALUE(TEXT(Smp99_Donnees!O2127,\"чч:мм:сс\"))","v":0}]
[{"$f":"86400*TIMEVALUE(TEXT(Smp99_Donnees!C2128,\"чч:мм:сс\"))","v":0},{"$f":"86400*TIMEVALUE(TEXT(Smp99_Donnees!O2128,\"чч:мм:сс\"))","v":0}]
[{"$f":"86400*TIMEVALUE(TEXT(Smp99_Donnees!C2129,\"чч:мм:сс\"))","v":0},{"$f":"86400*TIMEVALUE(TEXT(Smp99_Donnees!O2129,\"чч:мм:сс\"))","v":0}]
[{"$f":"86400*TIMEVALUE(TEXT(Smp99_Donnees!C2130,\"чч:мм:сс\"))","v":0},{"$f":"86400*TIMEVALUE(TEXT(Smp99_Donnees!O2130,\"чч:мм:сс\"))","v":0}]
[{"$f":"86400*TIMEVALUE(TEXT(Smp99_Donnees!C2131,\"чч:мм:сс\"))","v":0},{"$f":"86400*TIMEVALUE(TEXT(Smp99_Donnees!O2131,\"чч:мм:сс\"))","v":0}]
[{"$f":"86400*TIMEVALUE(TEXT(Smp99_Donnees!C2132,\"чч:мм:сс\"))","v":0},{"$f":"86400*TIMEVALUE(TEXT(Smp99_Donnees!O2132,\"чч:мм:сс\"))","v":0}]
[{"$f":"86400*TIMEVALUE(TEXT(Smp99_Donnees!C2133,\"чч:мм:сс\"))","v":0},{"$f":"86400*TIMEVALUE(TEXT(Smp99_Donnees!O2133,\"чч:мм:сс\"))","v":0}]
[{"$f":"86400*TIMEVALUE(TEXT(Smp99_Donnees!C2134,\"чч:мм:сс\"))","v":0},{"$f":"86400*TIMEVALUE(TEXT(Smp99_Donnees!O2134,\"чч:мм:сс\"))","v":0}]
[{"$f":"86400*TIMEVALUE(TEXT(Smp99_Donnees!C2135,\"чч:мм:сс\"))","v":0},{"$f":"86400*TIMEVALUE(TEXT(Smp99_Donnees!O2135,\"чч:мм:сс\"))","v":0}]
[{"$f":"86400*TIMEVALUE(TEXT(Smp99_Donnees!C2136,\"чч:мм:сс\"))","v":0},{"$f":"86400*TIMEVALUE(TEXT(Smp99_Donnees!O2136,\"чч:мм:сс\"))","v":0}]
[{"$f":"86400*TIMEVALUE(TEXT(Smp99_Donnees!C2137,\"чч:мм:сс\"))","v":0},{"$f":"86400*TIMEVALUE(TEXT(Smp99_Donnees!O2137,\"чч:мм:сс\"))","v":0}]
[{"$f":"86400*TIMEVALUE(TEXT(Smp99_Donnees!C2138,\"чч:мм:сс\"))","v":0},{"$f":"86400*TIMEVALUE(TEXT(Smp99_Donnees!O2138,\"чч:мм:сс\"))","v":0}]
[{"$f":"86400*TIMEVALUE(TEXT(Smp99_Donnees!C2139,\"чч:мм:сс\"))","v":0},{"$f":"86400*TIMEVALUE(TEXT(Smp99_Donnees!O2139,\"чч:мм:сс\"))","v":0}]
[{"$f":"86400*TIMEVALUE(TEXT(Smp99_Donnees!C2140,\"чч:мм:сс\"))","v":0},{"$f":"86400*TIMEVALUE(TEXT(Smp99_Donnees!O2140,\"чч:мм:сс\"))","v":0}]
[{"$f":"86400*TIMEVALUE(TEXT(Smp99_Donnees!C2141,\"чч:мм:сс\"))","v":0},{"$f":"86400*TIMEVALUE(TEXT(Smp99_Donnees!O2141,\"чч:мм:сс\"))","v":0}]
[{"$f":"86400*TIMEVALUE(TEXT(Smp99_Donnees!C2142,\"чч:мм:сс\"))","v":0},{"$f":"86400*TIMEVALUE(TEXT(Smp99_Donnees!O2142,\"чч:мм:сс\"))","v":0}]
[{"$f":"86400*TIMEVALUE(TEXT(Smp99_Donnees!C2143,\"чч:мм:сс\"))","v":0},{"$f":"86400*TIMEVALUE(TEXT(Smp99_Donnees!O2143,\"чч:мм:сс\"))","v":0}]
[{"$f":"86400*TIMEVALUE(TEXT(Smp99_Donnees!C2144,\"чч:мм:сс\"))","v":0},{"$f":"86400*TIMEVALUE(TEXT(Smp99_Donnees!O2144,\"чч:мм:сс\"))","v":0}]
[{"$f":"86400*TIMEVALUE(TEXT(Smp99_Donnees!C2145,\"чч:мм:сс\"))","v":0},{"$f":"86400*TIMEVALUE(TEXT(Smp99_Donnees!O2145,\"чч:мм:сс\"))","v":0}]
[{"$f":"86400*TIMEVALUE(TEXT(Smp99_Donnees!C2146,\"чч:мм:сс\"))","v":0},{"$f":"86400*TIMEVALUE(TEXT(Smp99_Donnees!O2146,\"чч:мм:сс\"))","v":0}]
[{"$f":"86400*TIMEVALUE(TEXT(Smp99_Donnees!C2147,\"чч:мм:сс\"))","v":0},{"$f":"86400*TIMEVALUE(TEXT(Smp99_Donnees!O2147,\"чч:мм:сс\"))","v":0}]
[{"$f":"86400*TIMEVALUE(TEXT(Smp99_Donnees!C2148,\"чч:мм:сс\"))","v":0},{"$f":"86400*TIMEVALUE(TEXT(Smp99_Donnees!O2148,\"чч:мм:сс\"))","v":0}]
[{"$f":"86400*TIMEVALUE(TEXT(Smp99_Donnees!C2149,\"чч:мм:сс\"))","v":0},{"$f":"86400*TIMEVALUE(TEXT(Smp99_Donnees!O2149,\"чч:мм:сс\"))","v":0}]
[{"$f":"86400*TIMEVALUE(TEXT(Smp99_Donnees!C2150,\"чч:мм:сс\"))","v":0},{"$f":"86400*TIMEVALUE(TEXT(Smp99_Donnees!O2150,\"чч:мм:сс\"))","v":0}]
[{"$f":"86400*TIMEVALUE(TEXT(Smp99_Donnees!C2151,\"чч:мм:сс\"))","v":0},{"$f":"86400*TIMEVALUE(TEXT(Smp99_Donnees!O2151,\"чч:мм:сс\"))","v":0}]
[{"$f":"86400*TIMEVALUE(TEXT(Smp99_Donnees!C2152,\"чч:мм:сс\"))","v":0},{"$f":"86400*TIMEVALUE(TEXT(Smp99_Donnees!O2152,\"чч:мм:сс\"))","v":0}]
[{"$f":"86400*TIMEVALUE(TEXT(Smp99_Donnees!C2153,\"чч:мм:сс\"))","v":0},{"$f":"86400*TIMEVALUE(TEXT(Smp99_Donnees!O2153,\"чч:мм:сс\"))","v":0}]
[{"$f":"86400*TIMEVALUE(TEXT(Smp99_Donnees!C2154,\"чч:мм:сс\"))","v":0},{"$f":"86400*TIMEVALUE(TEXT(Smp99_Donnees!O2154,\"чч:мм:сс\"))","v":0}]
[{"$f":"86400*TIMEVALUE(TEXT(Smp99_Donnees!C2155,\"чч:мм:сс\"))","v":0},{"$f":"86400*TIMEVALUE(TEXT(Smp99_Donnees!O2155,\"чч:мм:сс\"))","v":0}]
[{"$f":"86400*TIMEVALUE(TEXT(Smp99_Donnees!C2156,\"чч:мм:сс\"))","v":0},{"$f":"86400*TIMEVALUE(TEXT(Smp99_Donnees!O2156,\"чч:мм:сс\"))","v":0}]
[{"$f":"86400*TIMEVALUE(TEXT(Smp99_Donnees!C2157,\"чч:мм:сс\"))","v":0},{"$f":"86400*TIMEVALUE(TEXT(Smp99_Donnees!O2157,\"чч:мм:сс\"))","v":0}]
[{"$f":"86400*TIMEVALUE(TEXT(Smp99_Donnees!C2158,\"чч:мм:сс\"))","v":0},{"$f":"86400*TIMEVALUE(TEXT(Smp99_Donnees!O2158,\"чч:мм:сс\"))","v":0}]
[{"$f":"86400*TIMEVALUE(TEXT(Smp99_Donnees!C2159,\"чч:мм:сс\"))","v":0},{"$f":"86400*TIMEVALUE(TEXT(Smp99_Donnees!O2159,\"чч:мм:сс\"))","v":0}]
[{"$f":"86400*TIMEVALUE(TEXT(Smp99_Donnees!C2160,\"чч:мм:сс\"))","v":0},{"$f":"86400*TIMEVALUE(TEXT(Smp99_Donnees!O2160,\"чч:мм:сс\"))","v":0}]
[{"$f":"86400*TIMEVALUE(TEXT(Smp99_Donnees!C2161,\"чч:мм:сс\"))","v":0},{"$f":"86400*TIMEVALUE(TEXT(Smp99_Donnees!O2161,\"чч:мм:сс\"))","v":0}]
[{"$f":"86400*TIMEVALUE(TEXT(Smp99_Donnees!C2162,\"чч:мм:сс\"))","v":0},{"$f":"86400*TIMEVALUE(TEXT(Smp99_Donnees!O2162,\"чч:мм:сс\"))","v":0}]
[{"$f":"86400*TIMEVALUE(TEXT(Smp99_Donnees!C2163,\"чч:мм:сс\"))","v":0},{"$f":"86400*TIMEVALUE(TEXT(Smp99_Donnees!O2163,\"чч:мм:сс\"))","v":0}]
[{"$f":"86400*TIMEVALUE(TEXT(Smp99_Donnees!C2164,\"чч:мм:сс\"))","v":0},{"$f":"86400*TIMEVALUE(TEXT(Smp99_Donnees!O2164,\"чч:мм:сс\"))","v":0}]
[{"$f":"86400*TIMEVALUE(TEXT(Smp99_Donnees!C2165,\"чч:мм:сс\"))","v":0},{"$f":"86400*TIMEVALUE(TEXT(Smp99_Donnees!O2165,\"чч:мм:сс\"))","v":0}]
[{"$f":"86400*TIMEVALUE(TEXT(Smp99_Donnees!C2166,\"чч:мм:сс\"))","v":0},{"$f":"86400*TIMEVALUE(TEXT(Smp99_Donnees!O2166,\"чч:мм:сс\"))","v":0}]
[{"$f":"86400*TIMEVALUE(TEXT(Smp99_Donnees!C2167,\"чч:мм:сс\"))","v":0},{"$f":"86400*TIMEVALUE(TEXT(Smp99_Donnees!O2167,\"чч:мм:сс\"))","v":0}]
[{"$f":"86400*TIMEVALUE(TEXT(Smp99_Donnees!C2168,\"чч:мм:сс\"))","v":0},{"$f":"86400*TIMEVALUE(TEXT(Smp99_Donnees!O2168,\"чч:мм:сс\"))","v":0}]
[{"$f":"86400*TIMEVALUE(TEXT(Smp99_Donnees!C2169,\"чч:мм:сс\"))","v":0},{"$f":"86400*TIMEVALUE(TEXT(Smp99_Donnees!O2169,\"чч:мм:сс\"))","v":0}]
[{"$f":"86400*TIMEVALUE(TEXT(Smp99_Donnees!C2170,\"чч:мм:сс\"))","v":0},{"$f":"86400*TIMEVALUE(TEXT(Smp99_Donnees!O2170,\"чч:мм:сс\"))","v":0}]
[{"$f":"86400*TIMEVALUE(TEXT(Smp99_Donnees!C2171,\"чч:мм:сс\"))","v":0},{"$f":"86400*TIMEVALUE(TEXT(Smp99_Donnees!O2171,\"чч:мм:сс\"))","v":0}]
[{"$f":"86400*TIMEVALUE(TEXT(Smp99_Donnees!C2172,\"чч:мм:сс\"))","v":0},{"$f":"86400*TIMEVALUE(TEXT(Smp99_Donnees!O2172,\"чч:мм:сс\"))","v":0}]
[{"$f":"86400*TIMEVALUE(TEXT(Smp99_Donnees!C2173,\"чч:мм:сс\"))","v":0},{"$f":"86400*TIMEVALUE(TEXT(Smp99_Donnees!O2173,\"чч:мм:сс\"))","v":0}]
[{"$f":"86400*TIMEVALUE(TEXT(Smp99_Donnees!C2174,\"чч:мм:сс\"))","v":0},{"$f":"86400*TIMEVALUE(TEXT(Smp99_Donnees!O2174,\"чч:мм:сс\"))","v":0}]
[{"$f":"86400*TIMEVALUE(TEXT(Smp99_Donnees!C2175,\"чч:мм:сс\"))","v":0},{"$f":"86400*TIMEVALUE(TEXT(Smp99_Donnees!O2175,\"чч:мм:сс\"))","v":0}]
[{"$f":"86400*TIMEVALUE(TEXT(Smp99_Donnees!C2176,\"чч:мм:сс\"))","v":0},{"$f":"86400*TIMEVALUE(TEXT(Smp99_Donnees!O2176,\"чч:мм:сс\"))","v":0}]
[{"$f":"86400*TIMEVALUE(TEXT(Smp99_Donnees!C2177,\"чч:мм:сс\"))","v":0},{"$f":"86400*TIMEVALUE(TEXT(Smp99_Donnees!O2177,\"чч:мм:сс\"))","v":0}]
[{"$f":"86400*TIMEVALUE(TEXT(Smp99_Donnees!C2178,\"чч:мм:сс\"))","v":0},{"$f":"86400*TIMEVALUE(TEXT(Smp99_Donnees!O2178,\"чч:мм:сс\"))","v":0}]
[{"$f":"86400*TIMEVALUE(TEXT(Smp99_Donnees!C2179,\"чч:мм:сс\"))","v":0},{"$f":"86400*TIMEVALUE(TEXT(Smp99_Donnees!O2179,\"чч:мм:сс\"))","v":0}]
[{"$f":"86400*TIMEVALUE(TEXT(Smp99_Donnees!C2180,\"чч:мм:сс\"))","v":0},{"$f":"86400*TIMEVALUE(TEXT(Smp99_Donnees!O2180,\"чч:мм:сс\"))","v":0}]
[{"$f":"86400*TIMEVALUE(TEXT(Smp99_Donnees!C2181,\"чч:мм:сс\"))","v":0},{"$f":"86400*TIMEVALUE(TEXT(Smp99_Donnees!O2181,\"чч:мм:сс\"))","v":0}]
[{"$f":"86400*TIMEVALUE(TEXT(Smp99_Donnees!C2182,\"чч:мм:сс\"))","v":0},{"$f":"86400*TIMEVALUE(TEXT(Smp99_Donnees!O2182,\"чч:мм:сс\"))","v":0}]
[{"$f":"86400*TIMEVALUE(TEXT(Smp99_Donnees!C2183,\"чч:мм:сс\"))","v":0},{"$f":"86400*TIMEVALUE(TEXT(Smp99_Donnees!O2183,\"чч:мм:сс\"))","v":0}]
[{"$f":"86400*TIMEVALUE(TEXT(Smp99_Donnees!C2184,\"чч:мм:сс\"))","v":0},{"$f":"86400*TIMEVALUE(TEXT(Smp99_Donnees!O2184,\"чч:мм:сс\"))","v":0}]
[{"$f":"86400*TIMEVALUE(TEXT(Smp99_Donnees!C2185,\"чч:мм:сс\"))","v":0},{"$f":"86400*TIMEVALUE(TEXT(Smp99_Donnees!O2185,\"чч:мм:сс\"))","v":0}]
[{"$f":"86400*TIMEVALUE(TEXT(Smp99_Donnees!C2186,\"чч:мм:сс\"))","v":0},{"$f":"86400*TIMEVALUE(TEXT(Smp99_Donnees!O2186,\"чч:мм:сс\"))","v":0}]
[{"$f":"86400*TIMEVALUE(TEXT(Smp99_Donnees!C2187,\"чч:мм:сс\"))","v":0},{"$f":"86400*TIMEVALUE(TEXT(Smp99_Donnees!O2187,\"чч:мм:сс\"))","v":0}]
[{"$f":"86400*TIMEVALUE(TEXT(Smp99_Donnees!C2188,\"чч:мм:сс\"))","v":0},{"$f":"86400*TIMEVALUE(TEXT(Smp99_Donnees!O2188,\"чч:мм:сс\"))","v":0}]
[{"$f":"86400*TIMEVALUE(TEXT(Smp99_Donnees!C2189,\"чч:мм:сс\"))","v":0},{"$f":"86400*TIMEVALUE(TEXT(Smp99_Donnees!O2189,\"чч:мм:сс\"))","v":0}]
[{"$f":"86400*TIMEVALUE(TEXT(Smp99_Donnees!C2190,\"чч:мм:сс\"))","v":0},{"$f":"86400*TIMEVALUE(TEXT(Smp99_Donnees!O2190,\"чч:мм:сс\"))","v":0}]
[{"$f":"86400*TIMEVALUE(TEXT(Smp99_Donnees!C2191,\"чч:мм:сс\"))","v":0},{"$f":"86400*TIMEVALUE(TEXT(Smp99_Donnees!O2191,\"чч:мм:сс\"))","v":0}]
[{"$f":"86400*TIMEVALUE(TEXT(Smp99_Donnees!C2192,\"чч:мм:сс\"))","v":0},{"$f":"86400*TIMEVALUE(TEXT(Smp99_Donnees!O2192,\"чч:мм:сс\"))","v":0}]
[{"$f":"86400*TIMEVALUE(TEXT(Smp99_Donnees!C2193,\"чч:мм:сс\"))","v":0},{"$f":"86400*TIMEVALUE(TEXT(Smp99_Donnees!O2193,\"чч:мм:сс\"))","v":0}]
[{"$f":"86400*TIMEVALUE(TEXT(Smp99_Donnees!C2194,\"чч:мм:сс\"))","v":0},{"$f":"86400*TIMEVALUE(TEXT(Smp99_Donnees!O2194,\"чч:мм:сс\"))","v":0}]
[{"$f":"86400*TIMEVALUE(TEXT(Smp99_Donnees!C2195,\"чч:мм:сс\"))","v":0},{"$f":"86400*TIMEVALUE(TEXT(Smp99_Donnees!O2195,\"чч:мм:сс\"))","v":0}]
[{"$f":"86400*TIMEVALUE(TEXT(Smp99_Donnees!C2196,\"чч:мм:сс\"))","v":0},{"$f":"86400*TIMEVALUE(TEXT(Smp99_Donnees!O2196,\"чч:мм:сс\"))","v":0}]
[{"$f":"86400*TIMEVALUE(TEXT(Smp99_Donnees!C2197,\"чч:мм:сс\"))","v":0},{"$f":"86400*TIMEVALUE(TEXT(Smp99_Donnees!O2197,\"чч:мм:сс\"))","v":0}]
[{"$f":"86400*TIMEVALUE(TEXT(Smp99_Donnees!C2198,\"чч:мм:сс\"))","v":0},{"$f":"86400*TIMEVALUE(TEXT(Smp99_Donnees!O2198,\"чч:мм:сс\"))","v":0}]
[{"$f":"86400*TIMEVALUE(TEXT(Smp99_Donnees!C2199,\"чч:мм:сс\"))","v":0},{"$f":"86400*TIMEVALUE(TEXT(Smp99_Donnees!O2199,\"чч:мм:сс\"))","v":0}]
[{"$f":"86400*TIMEVALUE(TEXT(Smp99_Donnees!C2200,\"чч:мм:сс\"))","v":0},{"$f":"86400*TIMEVALUE(TEXT(Smp99_Donnees!O2200,\"чч:мм:сс\"))","v":0}]
[{"$f":"86400*TIMEVALUE(TEXT(Smp99_Donnees!C2201,\"чч:мм:сс\"))","v":0},{"$f":"86400*TIMEVALUE(TEXT(Smp99_Donnees!O2201,\"чч:мм:сс\"))","v":0}]
[{"$f":"86400*TIMEVALUE(TEXT(Smp99_Donnees!C2202,\"чч:мм:сс\"))","v":0},{"$f":"86400*TIMEVALUE(TEXT(Smp99_Donnees!O2202,\"чч:мм:сс\"))","v":0}]
[{"$f":"86400*TIMEVALUE(TEXT(Smp99_Donnees!C2203,\"чч:мм:сс\"))","v":0},{"$f":"86400*TIMEVALUE(TEXT(Smp99_Donnees!O2203,\"чч:мм:сс\"))","v":0}]
[{"$f":"86400*TIMEVALUE(TEXT(Smp99_Donnees!C2204,\"чч:мм:сс\"))","v":0},{"$f":"86400*TIMEVALUE(TEXT(Smp99_Donnees!O2204,\"чч:мм:сс\"))","v":0}]
[{"$f":"86400*TIMEVALUE(TEXT(Smp99_Donnees!C2205,\"чч:мм:сс\"))","v":0},{"$f":"86400*TIMEVALUE(TEXT(Smp99_Donnees!O2205,\"чч:мм:сс\"))","v":0}]
[{"$f":"86400*TIMEVALUE(TEXT(Smp99_Donnees!C2206,\"чч:мм:сс\"))","v":0},{"$f":"86400*TIMEVALUE(TEXT(Smp99_Donnees!O2206,\"чч:мм:сс\"))","v":0}]
[{"$f":"86400*TIMEVALUE(TEXT(Smp99_Donnees!C2207,\"чч:мм:сс\"))","v":0},{"$f":"86400*TIMEVALUE(TEXT(Smp99_Donnees!O2207,\"чч:мм:сс\"))","v":0}]
[{"$f":"86400*TIMEVALUE(TEXT(Smp99_Donnees!C2208,\"чч:мм:сс\"))","v":0},{"$f":"86400*TIMEVALUE(TEXT(Smp99_Donnees!O2208,\"чч:мм:сс\"))","v":0}]
[{"$f":"86400*TIMEVALUE(TEXT(Smp99_Donnees!C2209,\"чч:мм:сс\"))","v":0},{"$f":"86400*TIMEVALUE(TEXT(Smp99_Donnees!O2209,\"чч:мм:сс\"))","v":0}]
[{"$f":"86400*TIMEVALUE(TEXT(Smp99_Donnees!C2210,\"чч:мм:сс\"))","v":0},{"$f":"86400*TIMEVALUE(TEXT(Smp99_Donnees!O2210,\"чч:мм:сс\"))","v":0}]
[{"$f":"86400*TIMEVALUE(TEXT(Smp99_Donnees!C2211,\"чч:мм:сс\"))","v":0},{"$f":"86400*TIMEVALUE(TEXT(Smp99_Donnees!O2211,\"чч:мм:сс\"))","v":0}]
[{"$f":"86400*TIMEVALUE(TEXT(Smp99_Donnees!C2212,\"чч:мм:сс\"))","v":0},{"$f":"86400*TIMEVALUE(TEXT(Smp99_Donnees!O2212,\"чч:мм:сс\"))","v":0}]
[{"$f":"86400*TIMEVALUE(TEXT(Smp99_Donnees!C2213,\"чч:мм:сс\"))","v":0},{"$f":"86400*TIMEVALUE(TEXT(Smp99_Donnees!O2213,\"чч:мм:сс\"))","v":0}]
[{"$f":"86400*TIMEVALUE(TEXT(Smp99_Donnees!C2214,\"чч:мм:сс\"))","v":0},{"$f":"86400*TIMEVALUE(TEXT(Smp99_Donnees!O2214,\"чч:мм:сс\"))","v":0}]
[{"$f":"86400*TIMEVALUE(TEXT(Smp99_Donnees!C2215,\"чч:мм:сс\"))","v":0},{"$f":"86400*TIMEVALUE(TEXT(Smp99_Donnees!O2215,\"чч:мм:сс\"))","v":0}]
[{"$f":"86400*TIMEVALUE(TEXT(Smp99_Donnees!C2216,\"чч:мм:сс\"))","v":0},{"$f":"86400*TIMEVALUE(TEXT(Smp99_Donnees!O2216,\"чч:мм:сс\"))","v":0}]
[{"$f":"86400*TIMEVALUE(TEXT(Smp99_Donnees!C2217,\"чч:мм:сс\"))","v":0},{"$f":"86400*TIMEVALUE(TEXT(Smp99_Donnees!O2217,\"чч:мм:сс\"))","v":0}]
[{"$f":"86400*TIMEVALUE(TEXT(Smp99_Donnees!C2218,\"чч:мм:сс\"))","v":0},{"$f":"86400*TIMEVALUE(TEXT(Smp99_Donnees!O2218,\"чч:мм:сс\"))","v":0}]
[{"$f":"86400*TIMEVALUE(TEXT(Smp99_Donnees!C2219,\"чч:мм:сс\"))","v":0},{"$f":"86400*TIMEVALUE(TEXT(Smp99_Donnees!O2219,\"чч:мм:сс\"))","v":0}]
[{"$f":"86400*TIMEVALUE(TEXT(Smp99_Donnees!C2220,\"чч:мм:сс\"))","v":0},{"$f":"86400*TIMEVALUE(TEXT(Smp99_Donnees!O2220,\"чч:мм:сс\"))","v":0}]
[{"$f":"86400*TIMEVALUE(TEXT(Smp99_Donnees!C2221,\"чч:мм:сс\"))","v":0},{"$f":"86400*TIMEVALUE(TEXT(Smp99_Donnees!O2221,\"чч:мм:сс\"))","v":0}]
[{"$f":"86400*TIMEVALUE(TEXT(Smp99_Donnees!C2222,\"чч:мм:сс\"))","v":0},{"$f":"86400*TIMEVALUE(TEXT(Smp99_Donnees!O2222,\"чч:мм:сс\"))","v":0}]
[{"$f":"86400*TIMEVALUE(TEXT(Smp99_Donnees!C2223,\"чч:мм:сс\"))","v":0},{"$f":"86400*TIMEVALUE(TEXT(Smp99_Donnees!O2223,\"чч:мм:сс\"))","v":0}]
[{"$f":"86400*TIMEVALUE(TEXT(Smp99_Donnees!C2224,\"чч:мм:сс\"))","v":0},{"$f":"86400*TIMEVALUE(TEXT(Smp99_Donnees!O2224,\"чч:мм:сс\"))","v":0}]
[{"$f":"86400*TIMEVALUE(TEXT(Smp99_Donnees!C2225,\"чч:мм:сс\"))","v":0},{"$f":"86400*TIMEVALUE(TEXT(Smp99_Donnees!O2225,\"чч:мм:сс\"))","v":0}]
[{"$f":"86400*TIMEVALUE(TEXT(Smp99_Donnees!C2226,\"чч:мм:сс\"))","v":0},{"$f":"86400*TIMEVALUE(TEXT(Smp99_Donnees!O2226,\"чч:мм:сс\"))","v":0}]
[{"$f":"86400*TIMEVALUE(TEXT(Smp99_Donnees!C2227,\"чч:мм:сс\"))","v":0},{"$f":"86400*TIMEVALUE(TEXT(Smp99_Donnees!O2227,\"чч:мм:сс\"))","v":0}]
[{"$f":"86400*TIMEVALUE(TEXT(Smp99_Donnees!C2228,\"чч:мм:сс\"))","v":0},{"$f":"86400*TIMEVALUE(TEXT(Smp99_Donnees!O2228,\"чч:мм:сс\"))","v":0}]
[{"$f":"86400*TIMEVALUE(TEXT(Smp99_Donnees!C2229,\"чч:мм:сс\"))","v":0},{"$f":"86400*TIMEVALUE(TEXT(Smp99_Donnees!O2229,\"чч:мм:сс\"))","v":0}]
[{"$f":"86400*TIMEVALUE(TEXT(Smp99_Donnees!C2230,\"чч:мм:сс\"))","v":0},{"$f":"86400*TIMEVALUE(TEXT(Smp99_Donnees!O2230,\"чч:мм:сс\"))","v":0}]
[{"$f":"86400*TIMEVALUE(TEXT(Smp99_Donnees!C2231,\"чч:мм:сс\"))","v":0},{"$f":"86400*TIMEVALUE(TEXT(Smp99_Donnees!O2231,\"чч:мм:сс\"))","v":0}]
[{"$f":"86400*TIMEVALUE(TEXT(Smp99_Donnees!C2232,\"чч:мм:сс\"))","v":0},{"$f":"86400*TIMEVALUE(TEXT(Smp99_Donnees!O2232,\"чч:мм:сс\"))","v":0}]
[{"$f":"86400*TIMEVALUE(TEXT(Smp99_Donnees!C2233,\"чч:мм:сс\"))","v":0},{"$f":"86400*TIMEVALUE(TEXT(Smp99_Donnees!O2233,\"чч:мм:сс\"))","v":0}]
[{"$f":"86400*TIMEVALUE(TEXT(Smp99_Donnees!C2234,\"чч:мм:сс\"))","v":0},{"$f":"86400*TIMEVALUE(TEXT(Smp99_Donnees!O2234,\"чч:мм:сс\"))","v":0}]
[{"$f":"86400*TIMEVALUE(TEXT(Smp99_Donnees!C2235,\"чч:мм:сс\"))","v":0},{"$f":"86400*TIMEVALUE(TEXT(Smp99_Donnees!O2235,\"чч:мм:сс\"))","v":0}]
[{"$f":"86400*TIMEVALUE(TEXT(Smp99_Donnees!C2236,\"чч:мм:сс\"))","v":0},{"$f":"86400*TIMEVALUE(TEXT(Smp99_Donnees!O2236,\"чч:мм:сс\"))","v":0}]
[{"$f":"86400*TIMEVALUE(TEXT(Smp99_Donnees!C2237,\"чч:мм:сс\"))","v":0},{"$f":"86400*TIMEVALUE(TEXT(Smp99_Donnees!O2237,\"чч:мм:сс\"))","v":0}]
[{"$f":"86400*TIMEVALUE(TEXT(Smp99_Donnees!C2238,\"чч:мм:сс\"))","v":0},{"$f":"86400*TIMEVALUE(TEXT(Smp99_Donnees!O2238,\"чч:мм:сс\"))","v":0}]
[{"$f":"86400*TIMEVALUE(TEXT(Smp99_Donnees!C2239,\"чч:мм:сс\"))","v":0},{"$f":"86400*TIMEVALUE(TEXT(Smp99_Donnees!O2239,\"чч:мм:сс\"))","v":0}]
[{"$f":"86400*TIMEVALUE(TEXT(Smp99_Donnees!C2240,\"чч:мм:сс\"))","v":0},{"$f":"86400*TIMEVALUE(TEXT(Smp99_Donnees!O2240,\"чч:мм:сс\"))","v":0}]
[{"$f":"86400*TIMEVALUE(TEXT(Smp99_Donnees!C2241,\"чч:мм:сс\"))","v":0},{"$f":"86400*TIMEVALUE(TEXT(Smp99_Donnees!O2241,\"чч:мм:сс\"))","v":0}]
[{"$f":"86400*TIMEVALUE(TEXT(Smp99_Donnees!C2242,\"чч:мм:сс\"))","v":0},{"$f":"86400*TIMEVALUE(TEXT(Smp99_Donnees!O2242,\"чч:мм:сс\"))","v":0}]
[{"$f":"86400*TIMEVALUE(TEXT(Smp99_Donnees!C2243,\"чч:мм:сс\"))","v":0},{"$f":"86400*TIMEVALUE(TEXT(Smp99_Donnees!O2243,\"чч:мм:сс\"))","v":0}]
[{"$f":"86400*TIMEVALUE(TEXT(Smp99_Donnees!C2244,\"чч:мм:сс\"))","v":0},{"$f":"86400*TIMEVALUE(TEXT(Smp99_Donnees!O2244,\"чч:мм:сс\"))","v":0}]
[{"$f":"86400*TIMEVALUE(TEXT(Smp99_Donnees!C2245,\"чч:мм:сс\"))","v":0},{"$f":"86400*TIMEVALUE(TEXT(Smp99_Donnees!O2245,\"чч:мм:сс\"))","v":0}]
[{"$f":"86400*TIMEVALUE(TEXT(Smp99_Donnees!C2246,\"чч:мм:сс\"))","v":0},{"$f":"86400*TIMEVALUE(TEXT(Smp99_Donnees!O2246,\"чч:мм:сс\"))","v":0}]
[{"$f":"86400*TIMEVALUE(TEXT(Smp99_Donnees!C2247,\"чч:мм:сс\"))","v":0},{"$f":"86400*TIMEVALUE(TEXT(Smp99_Donnees!O2247,\"чч:мм:сс\"))","v":0}]
[{"$f":"86400*TIMEVALUE(TEXT(Smp99_Donnees!C2248,\"чч:мм:сс\"))","v":0},{"$f":"86400*TIMEVALUE(TEXT(Smp99_Donnees!O2248,\"чч:мм:сс\"))","v":0}]
[{"$f":"86400*TIMEVALUE(TEXT(Smp99_Donnees!C2249,\"чч:мм:сс\"))","v":0},{"$f":"86400*TIMEVALUE(TEXT(Smp99_Donnees!O2249,\"чч:мм:сс\"))","v":0}]
[{"$f":"86400*TIMEVALUE(TEXT(Smp99_Donnees!C2250,\"чч:мм:сс\"))","v":0},{"$f":"86400*TIMEVALUE(TEXT(Smp99_Donnees!O2250,\"чч:мм:сс\"))","v":0}]
[{"$f":"86400*TIMEVALUE(TEXT(Smp99_Donnees!C2251,\"чч:мм:сс\"))","v":0},{"$f":"86400*TIMEVALUE(TEXT(Smp99_Donnees!O2251,\"чч:мм:сс\"))","v":0}]
[{"$f":"86400*TIMEVALUE(TEXT(Smp99_Donnees!C2252,\"чч:мм:сс\"))","v":0},{"$f":"86400*TIMEVALUE(TEXT(Smp99_Donnees!O2252,\"чч:мм:сс\"))","v":0}]
[{"$f":"86400*TIMEVALUE(TEXT(Smp99_Donnees!C2253,\"чч:мм:сс\"))","v":0},{"$f":"86400*TIMEVALUE(TEXT(Smp99_Donnees!O2253,\"чч:мм:сс\"))","v":0}]
[{"$f":"86400*TIMEVALUE(TEXT(Smp99_Donnees!C2254,\"чч:мм:сс\"))","v":0},{"$f":"86400*TIMEVALUE(TEXT(Smp99_Donnees!O2254,\"чч:мм:сс\"))","v":0}]
[{"$f":"86400*TIMEVALUE(TEXT(Smp99_Donnees!C2255,\"чч:мм:сс\"))","v":0},{"$f":"86400*TIMEVALUE(TEXT(Smp99_Donnees!O2255,\"чч:мм:сс\"))","v":0}]
[{"$f":"86400*TIMEVALUE(TEXT(Smp99_Donnees!C2256,\"чч:мм:сс\"))","v":0},{"$f":"86400*TIMEVALUE(TEXT(Smp99_Donnees!O2256,\"чч:мм:сс\"))","v":0}]
[{"$f":"86400*TIMEVALUE(TEXT(Smp99_Donnees!C2257,\"чч:мм:сс\"))","v":0},{"$f":"86400*TIMEVALUE(TEXT(Smp99_Donnees!O2257,\"чч:мм:сс\"))","v":0}]
[{"$f":"86400*TIMEVALUE(TEXT(Smp99_Donnees!C2258,\"чч:мм:сс\"))","v":0},{"$f":"86400*TIMEVALUE(TEXT(Smp99_Donnees!O2258,\"чч:мм:сс\"))","v":0}]
[{"$f":"86400*TIMEVALUE(TEXT(Smp99_Donnees!C2259,\"чч:мм:сс\"))","v":0},{"$f":"86400*TIMEVALUE(TEXT(Smp99_Donnees!O2259,\"чч:мм:сс\"))","v":0}]
[{"$f":"86400*TIMEVALUE(TEXT(Smp99_Donnees!C2260,\"чч:мм:сс\"))","v":0},{"$f":"86400*TIMEVALUE(TEXT(Smp99_Donnees!O2260,\"чч:мм:сс\"))","v":0}]
[{"$f":"86400*TIMEVALUE(TEXT(Smp99_Donnees!C2261,\"чч:мм:сс\"))","v":0},{"$f":"86400*TIMEVALUE(TEXT(Smp99_Donnees!O2261,\"чч:мм:сс\"))","v":0}]
[{"$f":"86400*TIMEVALUE(TEXT(Smp99_Donnees!C2262,\"чч:мм:сс\"))","v":0},{"$f":"86400*TIMEVALUE(TEXT(Smp99_Donnees!O2262,\"чч:мм:сс\"))","v":0}]
[{"$f":"86400*TIMEVALUE(TEXT(Smp99_Donnees!C2263,\"чч:мм:сс\"))","v":0},{"$f":"86400*TIMEVALUE(TEXT(Smp99_Donnees!O2263,\"чч:мм:сс\"))","v":0}]
[{"$f":"86400*TIMEVALUE(TEXT(Smp99_Donnees!C2264,\"чч:мм:сс\"))","v":0},{"$f":"86400*TIMEVALUE(TEXT(Smp99_Donnees!O2264,\"чч:мм:сс\"))","v":0}]
[{"$f":"86400*TIMEVALUE(TEXT(Smp99_Donnees!C2265,\"чч:мм:сс\"))","v":0},{"$f":"86400*TIMEVALUE(TEXT(Smp99_Donnees!O2265,\"чч:мм:сс\"))","v":0}]
[{"$f":"86400*TIMEVALUE(TEXT(Smp99_Donnees!C2266,\"чч:мм:сс\"))","v":0},{"$f":"86400*TIMEVALUE(TEXT(Smp99_Donnees!O2266,\"чч:мм:сс\"))","v":0}]
[{"$f":"86400*TIMEVALUE(TEXT(Smp99_Donnees!C2267,\"чч:мм:сс\"))","v":0},{"$f":"86400*TIMEVALUE(TEXT(Smp99_Donnees!O2267,\"чч:мм:сс\"))","v":0}]
[{"$f":"86400*TIMEVALUE(TEXT(Smp99_Donnees!C2268,\"чч:мм:сс\"))","v":0},{"$f":"86400*TIMEVALUE(TEXT(Smp99_Donnees!O2268,\"чч:мм:сс\"))","v":0}]
[{"$f":"86400*TIMEVALUE(TEXT(Smp99_Donnees!C2269,\"чч:мм:сс\"))","v":0},{"$f":"86400*TIMEVALUE(TEXT(Smp99_Donnees!O2269,\"чч:мм:сс\"))","v":0}]
[{"$f":"86400*TIMEVALUE(TEXT(Smp99_Donnees!C2270,\"чч:мм:сс\"))","v":0},{"$f":"86400*TIMEVALUE(TEXT(Smp99_Donnees!O2270,\"чч:мм:сс\"))","v":0}]
[{"$f":"86400*TIMEVALUE(TEXT(Smp99_Donnees!C2271,\"чч:мм:сс\"))","v":0},{"$f":"86400*TIMEVALUE(TEXT(Smp99_Donnees!O2271,\"чч:мм:сс\"))","v":0}]
[{"$f":"86400*TIMEVALUE(TEXT(Smp99_Donnees!C2272,\"чч:мм:сс\"))","v":0},{"$f":"86400*TIMEVALUE(TEXT(Smp99_Donnees!O2272,\"чч:мм:сс\"))","v":0}]
[{"$f":"86400*TIMEVALUE(TEXT(Smp99_Donnees!C2273,\"чч:мм:сс\"))","v":0},{"$f":"86400*TIMEVALUE(TEXT(Smp99_Donnees!O2273,\"чч:мм:сс\"))","v":0}]
[{"$f":"86400*TIMEVALUE(TEXT(Smp99_Donnees!C2274,\"чч:мм:сс\"))","v":0},{"$f":"86400*TIMEVALUE(TEXT(Smp99_Donnees!O2274,\"чч:мм:сс\"))","v":0}]
[{"$f":"86400*TIMEVALUE(TEXT(Smp99_Donnees!C2275,\"чч:мм:сс\"))","v":0},{"$f":"86400*TIMEVALUE(TEXT(Smp99_Donnees!O2275,\"чч:мм:сс\"))","v":0}]
[{"$f":"86400*TIMEVALUE(TEXT(Smp99_Donnees!C2276,\"чч:мм:сс\"))","v":0},{"$f":"86400*TIMEVALUE(TEXT(Smp99_Donnees!O2276,\"чч:мм:сс\"))","v":0}]
[{"$f":"86400*TIMEVALUE(TEXT(Smp99_Donnees!C2277,\"чч:мм:сс\"))","v":0},{"$f":"86400*TIMEVALUE(TEXT(Smp99_Donnees!O2277,\"чч:мм:сс\"))","v":0}]
[{"$f":"86400*TIMEVALUE(TEXT(Smp99_Donnees!C2278,\"чч:мм:сс\"))","v":0},{"$f":"86400*TIMEVALUE(TEXT(Smp99_Donnees!O2278,\"чч:мм:сс\"))","v":0}]
[{"$f":"86400*TIMEVALUE(TEXT(Smp99_Donnees!C2279,\"чч:мм:сс\"))","v":0},{"$f":"86400*TIMEVALUE(TEXT(Smp99_Donnees!O2279,\"чч:мм:сс\"))","v":0}]
[{"$f":"86400*TIMEVALUE(TEXT(Smp99_Donnees!C2280,\"чч:мм:сс\"))","v":0},{"$f":"86400*TIMEVALUE(TEXT(Smp99_Donnees!O2280,\"чч:мм:сс\"))","v":0}]
[{"$f":"86400*TIMEVALUE(TEXT(Smp99_Donnees!C2281,\"чч:мм:сс\"))","v":0},{"$f":"86400*TIMEVALUE(TEXT(Smp99_Donnees!O2281,\"чч:мм:сс\"))","v":0}]
[{"$f":"86400*TIMEVALUE(TEXT(Smp99_Donnees!C2282,\"чч:мм:сс\"))","v":0},{"$f":"86400*TIMEVALUE(TEXT(Smp99_Donnees!O2282,\"чч:мм:сс\"))","v":0}]
[{"$f":"86400*TIMEVALUE(TEXT(Smp99_Donnees!C2283,\"чч:мм:сс\"))","v":0},{"$f":"86400*TIMEVALUE(TEXT(Smp99_Donnees!O2283,\"чч:мм:сс\"))","v":0}]
[{"$f":"86400*TIMEVALUE(TEXT(Smp99_Donnees!C2284,\"чч:мм:сс\"))","v":0},{"$f":"86400*TIMEVALUE(TEXT(Smp99_Donnees!O2284,\"чч:мм:сс\"))","v":0}]
[{"$f":"86400*TIMEVALUE(TEXT(Smp99_Donnees!C2285,\"чч:мм:сс\"))","v":0},{"$f":"86400*TIMEVALUE(TEXT(Smp99_Donnees!O2285,\"чч:мм:сс\"))","v":0}]
[{"$f":"86400*TIMEVALUE(TEXT(Smp99_Donnees!C2286,\"чч:мм:сс\"))","v":0},{"$f":"86400*TIMEVALUE(TEXT(Smp99_Donnees!O2286,\"чч:мм:сс\"))","v":0}]
[{"$f":"86400*TIMEVALUE(TEXT(Smp99_Donnees!C2287,\"чч:мм:сс\"))","v":0},{"$f":"86400*TIMEVALUE(TEXT(Smp99_Donnees!O2287,\"чч:мм:сс\"))","v":0}]
[{"$f":"86400*TIMEVALUE(TEXT(Smp99_Donnees!C2288,\"чч:мм:сс\"))","v":0},{"$f":"86400*TIMEVALUE(TEXT(Smp99_Donnees!O2288,\"чч:мм:сс\"))","v":0}]
[{"$f":"86400*TIMEVALUE(TEXT(Smp99_Donnees!C2289,\"чч:мм:сс\"))","v":0},{"$f":"86400*TIMEVALUE(TEXT(Smp99_Donnees!O2289,\"чч:мм:сс\"))","v":0}]
[{"$f":"86400*TIMEVALUE(TEXT(Smp99_Donnees!C2290,\"чч:мм:сс\"))","v":0},{"$f":"86400*TIMEVALUE(TEXT(Smp99_Donnees!O2290,\"чч:мм:сс\"))","v":0}]
[{"$f":"86400*TIMEVALUE(TEXT(Smp99_Donnees!C2291,\"чч:мм:сс\"))","v":0},{"$f":"86400*TIMEVALUE(TEXT(Smp99_Donnees!O2291,\"чч:мм:сс\"))","v":0}]
[{"$f":"86400*TIMEVALUE(TEXT(Smp99_Donnees!C2292,\"чч:мм:сс\"))","v":0},{"$f":"86400*TIMEVALUE(TEXT(Smp99_Donnees!O2292,\"чч:мм:сс\"))","v":0}]
[{"$f":"86400*TIMEVALUE(TEXT(Smp99_Donnees!C2293,\"чч:мм:сс\"))","v":0},{"$f":"86400*TIMEVALUE(TEXT(Smp99_Donnees!O2293,\"чч:мм:сс\"))","v":0}]
[{"$f":"86400*TIMEVALUE(TEXT(Smp99_Donnees!C2294,\"чч:мм:сс\"))","v":0},{"$f":"86400*TIMEVALUE(TEXT(Smp99_Donnees!O2294,\"чч:мм:сс\"))","v":0}]
[{"$f":"86400*TIMEVALUE(TEXT(Smp99_Donnees!C2295,\"чч:мм:сс\"))","v":0},{"$f":"86400*TIMEVALUE(TEXT(Smp99_Donnees!O2295,\"чч:мм:сс\"))","v":0}]
[{"$f":"86400*TIMEVALUE(TEXT(Smp99_Donnees!C2296,\"чч:мм:сс\"))","v":0},{"$f":"86400*TIMEVALUE(TEXT(Smp99_Donnees!O2296,\"чч:мм:сс\"))","v":0}]
[{"$f":"86400*TIMEVALUE(TEXT(Smp99_Donnees!C2297,\"чч:мм:сс\"))","v":0},{"$f":"86400*TIMEVALUE(TEXT(Smp99_Donnees!O2297,\"чч:мм:сс\"))","v":0}]
[{"$f":"86400*TIMEVALUE(TEXT(Smp99_Donnees!C2298,\"чч:мм:сс\"))","v":0},{"$f":"86400*TIMEVALUE(TEXT(Smp99_Donnees!O2298,\"чч:мм:сс\"))","v":0}]
[{"$f":"86400*TIMEVALUE(TEXT(Smp99_Donnees!C2299,\"чч:мм:сс\"))","v":0},{"$f":"86400*TIMEVALUE(TEXT(Smp99_Donnees!O2299,\"чч:мм:сс\"))","v":0}]
[{"$f":"86400*TIMEVALUE(TEXT(Smp99_Donnees!C2300,\"чч:мм:сс\"))","v":0},{"$f":"86400*TIMEVALUE(TEXT(Smp99_Donnees!O2300,\"чч:мм:сс\"))","v":0}]
[{"$f":"86400*TIMEVALUE(TEXT(Smp99_Donnees!C2301,\"чч:мм:сс\"))","v":0},{"$f":"86400*TIMEVALUE(TEXT(Smp99_Donnees!O2301,\"чч:мм:сс\"))","v":0}]
[{"$f":"86400*TIMEVALUE(TEXT(Smp99_Donnees!C2302,\"чч:мм:сс\"))","v":0},{"$f":"86400*TIMEVALUE(TEXT(Smp99_Donnees!O2302,\"чч:мм:сс\"))","v":0}]
[{"$f":"86400*TIMEVALUE(TEXT(Smp99_Donnees!C2303,\"чч:мм:сс\"))","v":0},{"$f":"86400*TIMEVALUE(TEXT(Smp99_Donnees!O2303,\"чч:мм:сс\"))","v":0}]
[{"$f":"86400*TIMEVALUE(TEXT(Smp99_Donnees!C2304,\"чч:мм:сс\"))","v":0},{"$f":"86400*TIMEVALUE(TEXT(Smp99_Donnees!O2304,\"чч:мм:сс\"))","v":0}]
[{"$f":"86400*TIMEVALUE(TEXT(Smp99_Donnees!C2305,\"чч:мм:сс\"))","v":0},{"$f":"86400*TIMEVALUE(TEXT(Smp99_Donnees!O2305,\"чч:мм:сс\"))","v":0}]
[{"$f":"86400*TIMEVALUE(TEXT(Smp99_Donnees!C2306,\"чч:мм:сс\"))","v":0},{"$f":"86400*TIMEVALUE(TEXT(Smp99_Donnees!O2306,\"чч:мм:сс\"))","v":0}]
[{"$f":"86400*TIMEVALUE(TEXT(Smp99_Donnees!C2307,\"чч:мм:сс\"))","v":0},{"$f":"86400*TIMEVALUE(TEXT(Smp99_Donnees!O2307,\"чч:мм:сс\"))","v":0}]
[{"$f":"86400*TIMEVALUE(TEXT(Smp99_Donnees!C2308,\"чч:мм:сс\"))","v":0},{"$f":"86400*TIMEVALUE(TEXT(Smp99_Donnees!O2308,\"чч:мм:сс\"))","v":0}]
[{"$f":"86400*TIMEVALUE(TEXT(Smp99_Donnees!C2309,\"чч:мм:сс\"))","v":0},{"$f":"86400*TIMEVALUE(TEXT(Smp99_Donnees!O2309,\"чч:мм:сс\"))","v":0}]
[{"$f":"86400*TIMEVALUE(TEXT(Smp99_Donnees!C2310,\"чч:мм:сс\"))","v":0},{"$f":"86400*TIMEVALUE(TEXT(Smp99_Donnees!O2310,\"чч:мм:сс\"))","v":0}]
[{"$f":"86400*TIMEVALUE(TEXT(Smp99_Donnees!C2311,\"чч:мм:сс\"))","v":0},{"$f":"86400*TIMEVALUE(TEXT(Smp99_Donnees!O2311,\"чч:мм:сс\"))","v":0}]
[{"$f":"86400*TIMEVALUE(TEXT(Smp99_Donnees!C2312,\"чч:мм:сс\"))","v":0},{"$f":"86400*TIMEVALUE(TEXT(Smp99_Donnees!O2312,\"чч:мм:сс\"))","v":0}]
[{"$f":"86400*TIMEVALUE(TEXT(Smp99_Donnees!C2313,\"чч:мм:сс\"))","v":0},{"$f":"86400*TIMEVALUE(TEXT(Smp99_Donnees!O2313,\"чч:мм:сс\"))","v":0}]
[{"$f":"86400*TIMEVALUE(TEXT(Smp99_Donnees!C2314,\"чч:мм:сс\"))","v":0},{"$f":"86400*TIMEVALUE(TEXT(Smp99_Donnees!O2314,\"чч:мм:сс\"))","v":0}]
[{"$f":"86400*TIMEVALUE(TEXT(Smp99_Donnees!C2315,\"чч:мм:сс\"))","v":0},{"$f":"86400*TIMEVALUE(TEXT(Smp99_Donnees!O2315,\"чч:мм:сс\"))","v":0}]
[{"$f":"86400*TIMEVALUE(TEXT(Smp99_Donnees!C2316,\"чч:мм:сс\"))","v":0},{"$f":"86400*TIMEVALUE(TEXT(Smp99_Donnees!O2316,\"чч:мм:сс\"))","v":0}]
[{"$f":"86400*TIMEVALUE(TEXT(Smp99_Donnees!C2317,\"чч:мм:сс\"))","v":0},{"$f":"86400*TIMEVALUE(TEXT(Smp99_Donnees!O2317,\"чч:мм:сс\"))","v":0}]
[{"$f":"86400*TIMEVALUE(TEXT(Smp99_Donnees!C2318,\"чч:мм:сс\"))","v":0},{"$f":"86400*TIMEVALUE(TEXT(Smp99_Donnees!O2318,\"чч:мм:сс\"))","v":0}]
[{"$f":"86400*TIMEVALUE(TEXT(Smp99_Donnees!C2319,\"чч:мм:сс\"))","v":0},{"$f":"86400*TIMEVALUE(TEXT(Smp99_Donnees!O2319,\"чч:мм:сс\"))","v":0}]
[{"$f":"86400*TIMEVALUE(TEXT(Smp99_Donnees!C2320,\"чч:мм:сс\"))","v":0},{"$f":"86400*TIMEVALUE(TEXT(Smp99_Donnees!O2320,\"чч:мм:сс\"))","v":0}]
[{"$f":"86400*TIMEVALUE(TEXT(Smp99_Donnees!C2321,\"чч:мм:сс\"))","v":0},{"$f":"86400*TIMEVALUE(TEXT(Smp99_Donnees!O2321,\"чч:мм:сс\"))","v":0}]
[{"$f":"86400*TIMEVALUE(TEXT(Smp99_Donnees!C2322,\"чч:мм:сс\"))","v":0},{"$f":"86400*TIMEVALUE(TEXT(Smp99_Donnees!O2322,\"чч:мм:сс\"))","v":0}]
[{"$f":"86400*TIMEVALUE(TEXT(Smp99_Donnees!C2323,\"чч:мм:сс\"))","v":0},{"$f":"86400*TIMEVALUE(TEXT(Smp99_Donnees!O2323,\"чч:мм:сс\"))","v":0}]
[{"$f":"86400*TIMEVALUE(TEXT(Smp99_Donnees!C2324,\"чч:мм:сс\"))","v":0},{"$f":"86400*TIMEVALUE(TEXT(Smp99_Donnees!O2324,\"чч:мм:сс\"))","v":0}]
[{"$f":"86400*TIMEVALUE(TEXT(Smp99_Donnees!C2325,\"чч:мм:сс\"))","v":0},{"$f":"86400*TIMEVALUE(TEXT(Smp99_Donnees!O2325,\"чч:мм:сс\"))","v":0}]
[{"$f":"86400*TIMEVALUE(TEXT(Smp99_Donnees!C2326,\"чч:мм:сс\"))","v":0},{"$f":"86400*TIMEVALUE(TEXT(Smp99_Donnees!O2326,\"чч:мм:сс\"))","v":0}]
[{"$f":"86400*TIMEVALUE(TEXT(Smp99_Donnees!C2327,\"чч:мм:сс\"))","v":0},{"$f":"86400*TIMEVALUE(TEXT(Smp99_Donnees!O2327,\"чч:мм:сс\"))","v":0}]
[{"$f":"86400*TIMEVALUE(TEXT(Smp99_Donnees!C2328,\"чч:мм:сс\"))","v":0},{"$f":"86400*TIMEVALUE(TEXT(Smp99_Donnees!O2328,\"чч:мм:сс\"))","v":0}]
[{"$f":"86400*TIMEVALUE(TEXT(Smp99_Donnees!C2329,\"чч:мм:сс\"))","v":0},{"$f":"86400*TIMEVALUE(TEXT(Smp99_Donnees!O2329,\"чч:мм:сс\"))","v":0}]
[{"$f":"86400*TIMEVALUE(TEXT(Smp99_Donnees!C2330,\"чч:мм:сс\"))","v":0},{"$f":"86400*TIMEVALUE(TEXT(Smp99_Donnees!O2330,\"чч:мм:сс\"))","v":0}]
[{"$f":"86400*TIMEVALUE(TEXT(Smp99_Donnees!C2331,\"чч:мм:сс\"))","v":0},{"$f":"86400*TIMEVALUE(TEXT(Smp99_Donnees!O2331,\"чч:мм:сс\"))","v":0}]
[{"$f":"86400*TIMEVALUE(TEXT(Smp99_Donnees!C2332,\"чч:мм:сс\"))","v":0},{"$f":"86400*TIMEVALUE(TEXT(Smp99_Donnees!O2332,\"чч:мм:сс\"))","v":0}]
[{"$f":"86400*TIMEVALUE(TEXT(Smp99_Donnees!C2333,\"чч:мм:сс\"))","v":0},{"$f":"86400*TIMEVALUE(TEXT(Smp99_Donnees!O2333,\"чч:мм:сс\"))","v":0}]
[{"$f":"86400*TIMEVALUE(TEXT(Smp99_Donnees!C2334,\"чч:мм:сс\"))","v":0},{"$f":"86400*TIMEVALUE(TEXT(Smp99_Donnees!O2334,\"чч:мм:сс\"))","v":0}]
[{"$f":"86400*TIMEVALUE(TEXT(Smp99_Donnees!C2335,\"чч:мм:сс\"))","v":0},{"$f":"86400*TIMEVALUE(TEXT(Smp99_Donnees!O2335,\"чч:мм:сс\"))","v":0}]
[{"$f":"86400*TIMEVALUE(TEXT(Smp99_Donnees!C2336,\"чч:мм:сс\"))","v":0},{"$f":"86400*TIMEVALUE(TEXT(Smp99_Donnees!O2336,\"чч:мм:сс\"))","v":0}]
[{"$f":"86400*TIMEVALUE(TEXT(Smp99_Donnees!C2337,\"чч:мм:сс\"))","v":0},{"$f":"86400*TIMEVALUE(TEXT(Smp99_Donnees!O2337,\"чч:мм:сс\"))","v":0}]
[{"$f":"86400*TIMEVALUE(TEXT(Smp99_Donnees!C2338,\"чч:мм:сс\"))","v":0},{"$f":"86400*TIMEVALUE(TEXT(Smp99_Donnees!O2338,\"чч:мм:сс\"))","v":0}]
[{"$f":"86400*TIMEVALUE(TEXT(Smp99_Donnees!C2339,\"чч:мм:сс\"))","v":0},{"$f":"86400*TIMEVALUE(TEXT(Smp99_Donnees!O2339,\"чч:мм:сс\"))","v":0}]
[{"$f":"86400*TIMEVALUE(TEXT(Smp99_Donnees!C2340,\"чч:мм:сс\"))","v":0},{"$f":"86400*TIMEVALUE(TEXT(Smp99_Donnees!O2340,\"чч:мм:сс\"))","v":0}]
[{"$f":"86400*TIMEVALUE(TEXT(Smp99_Donnees!C2341,\"чч:мм:сс\"))","v":0},{"$f":"86400*TIMEVALUE(TEXT(Smp99_Donnees!O2341,\"чч:мм:сс\"))","v":0}]
[{"$f":"86400*TIMEVALUE(TEXT(Smp99_Donnees!C2342,\"чч:мм:сс\"))","v":0},{"$f":"86400*TIMEVALUE(TEXT(Smp99_Donnees!O2342,\"чч:мм:сс\"))","v":0}]
[{"$f":"86400*TIMEVALUE(TEXT(Smp99_Donnees!C2343,\"чч:мм:сс\"))","v":0},{"$f":"86400*TIMEVALUE(TEXT(Smp99_Donnees!O2343,\"чч:мм:сс\"))","v":0}]
[{"$f":"86400*TIMEVALUE(TEXT(Smp99_Donnees!C2344,\"чч:мм:сс\"))","v":0},{"$f":"86400*TIMEVALUE(TEXT(Smp99_Donnees!O2344,\"чч:мм:сс\"))","v":0}]
[{"$f":"86400*TIMEVALUE(TEXT(Smp99_Donnees!C2345,\"чч:мм:сс\"))","v":0},{"$f":"86400*TIMEVALUE(TEXT(Smp99_Donnees!O2345,\"чч:мм:сс\"))","v":0}]
[{"$f":"86400*TIMEVALUE(TEXT(Smp99_Donnees!C2346,\"чч:мм:сс\"))","v":0},{"$f":"86400*TIMEVALUE(TEXT(Smp99_Donnees!O2346,\"чч:мм:сс\"))","v":0}]
[{"$f":"86400*TIMEVALUE(TEXT(Smp99_Donnees!C2347,\"чч:мм:сс\"))","v":0},{"$f":"86400*TIMEVALUE(TEXT(Smp99_Donnees!O2347,\"чч:мм:сс\"))","v":0}]
[{"$f":"86400*TIMEVALUE(TEXT(Smp99_Donnees!C2348,\"чч:мм:сс\"))","v":0},{"$f":"86400*TIMEVALUE(TEXT(Smp99_Donnees!O2348,\"чч:мм:сс\"))","v":0}]
[{"$f":"86400*TIMEVALUE(TEXT(Smp99_Donnees!C2349,\"чч:мм:сс\"))","v":0},{"$f":"86400*TIMEVALUE(TEXT(Smp99_Donnees!O2349,\"чч:мм:сс\"))","v":0}]
[{"$f":"86400*TIMEVALUE(TEXT(Smp99_Donnees!C2350,\"чч:мм:сс\"))","v":0},{"$f":"86400*TIMEVALUE(TEXT(Smp99_Donnees!O2350,\"чч:мм:сс\"))","v":0}]
[{"$f":"86400*TIMEVALUE(TEXT(Smp99_Donnees!C2351,\"чч:мм:сс\"))","v":0},{"$f":"86400*TIMEVALUE(TEXT(Smp99_Donnees!O2351,\"чч:мм:сс\"))","v":0}]
[{"$f":"86400*TIMEVALUE(TEXT(Smp99_Donnees!C2352,\"чч:мм:сс\"))","v":0},{"$f":"86400*TIMEVALUE(TEXT(Smp99_Donnees!O2352,\"чч:мм:сс\"))","v":0}]
[{"$f":"86400*TIMEVALUE(TEXT(Smp99_Donnees!C2353,\"чч:мм:сс\"))","v":0},{"$f":"86400*TIMEVALUE(TEXT(Smp99_Donnees!O2353,\"чч:мм:сс\"))","v":0}]
[{"$f":"86400*TIMEVALUE(TEXT(Smp99_Donnees!C2354,\"чч:мм:сс\"))","v":0},{"$f":"86400*TIMEVALUE(TEXT(Smp99_Donnees!O2354,\"чч:мм:сс\"))","v":0}]
[{"$f":"86400*TIMEVALUE(TEXT(Smp99_Donnees!C2355,\"чч:мм:сс\"))","v":0},{"$f":"86400*TIMEVALUE(TEXT(Smp99_Donnees!O2355,\"чч:мм:сс\"))","v":0}]
[{"$f":"86400*TIMEVALUE(TEXT(Smp99_Donnees!C2356,\"чч:мм:сс\"))","v":0},{"$f":"86400*TIMEVALUE(TEXT(Smp99_Donnees!O2356,\"чч:мм:сс\"))","v":0}]
[{"$f":"86400*TIMEVALUE(TEXT(Smp99_Donnees!C2357,\"чч:мм:сс\"))","v":0},{"$f":"86400*TIMEVALUE(TEXT(Smp99_Donnees!O2357,\"чч:мм:сс\"))","v":0}]
[{"$f":"86400*TIMEVALUE(TEXT(Smp99_Donnees!C2358,\"чч:мм:сс\"))","v":0},{"$f":"86400*TIMEVALUE(TEXT(Smp99_Donnees!O2358,\"чч:мм:сс\"))","v":0}]
[{"$f":"86400*TIMEVALUE(TEXT(Smp99_Donnees!C2359,\"чч:мм:сс\"))","v":0},{"$f":"86400*TIMEVALUE(TEXT(Smp99_Donnees!O2359,\"чч:мм:сс\"))","v":0}]
[{"$f":"86400*TIMEVALUE(TEXT(Smp99_Donnees!C2360,\"чч:мм:сс\"))","v":0},{"$f":"86400*TIMEVALUE(TEXT(Smp99_Donnees!O2360,\"чч:мм:сс\"))","v":0}]
[{"$f":"86400*TIMEVALUE(TEXT(Smp99_Donnees!C2361,\"чч:мм:сс\"))","v":0},{"$f":"86400*TIMEVALUE(TEXT(Smp99_Donnees!O2361,\"чч:мм:сс\"))","v":0}]
[{"$f":"86400*TIMEVALUE(TEXT(Smp99_Donnees!C2362,\"чч:мм:сс\"))","v":0},{"$f":"86400*TIMEVALUE(TEXT(Smp99_Donnees!O2362,\"чч:мм:сс\"))","v":0}]
[{"$f":"86400*TIMEVALUE(TEXT(Smp99_Donnees!C2363,\"чч:мм:сс\"))","v":0},{"$f":"86400*TIMEVALUE(TEXT(Smp99_Donnees!O2363,\"чч:мм:сс\"))","v":0}]
[{"$f":"86400*TIMEVALUE(TEXT(Smp99_Donnees!C2364,\"чч:мм:сс\"))","v":0},{"$f":"86400*TIMEVALUE(TEXT(Smp99_Donnees!O2364,\"чч:мм:сс\"))","v":0}]
[{"$f":"86400*TIMEVALUE(TEXT(Smp99_Donnees!C2365,\"чч:мм:сс\"))","v":0},{"$f":"86400*TIMEVALUE(TEXT(Smp99_Donnees!O2365,\"чч:мм:сс\"))","v":0}]
[{"$f":"86400*TIMEVALUE(TEXT(Smp99_Donnees!C2366,\"чч:мм:сс\"))","v":0},{"$f":"86400*TIMEVALUE(TEXT(Smp99_Donnees!O2366,\"чч:мм:сс\"))","v":0}]
[{"$f":"86400*TIMEVALUE(TEXT(Smp99_Donnees!C2367,\"чч:мм:сс\"))","v":0},{"$f":"86400*TIMEVALUE(TEXT(Smp99_Donnees!O2367,\"чч:мм:сс\"))","v":0}]
[{"$f":"86400*TIMEVALUE(TEXT(Smp99_Donnees!C2368,\"чч:мм:сс\"))","v":0},{"$f":"86400*TIMEVALUE(TEXT(Smp99_Donnees!O2368,\"чч:мм:сс\"))","v":0}]
[{"$f":"86400*TIMEVALUE(TEXT(Smp99_Donnees!C2369,\"чч:мм:сс\"))","v":0},{"$f":"86400*TIMEVALUE(TEXT(Smp99_Donnees!O2369,\"чч:мм:сс\"))","v":0}]
[{"$f":"86400*TIMEVALUE(TEXT(Smp99_Donnees!C2370,\"чч:мм:сс\"))","v":0},{"$f":"86400*TIMEVALUE(TEXT(Smp99_Donnees!O2370,\"чч:мм:сс\"))","v":0}]
[{"$f":"86400*TIMEVALUE(TEXT(Smp99_Donnees!C2371,\"чч:мм:сс\"))","v":0},{"$f":"86400*TIMEVALUE(TEXT(Smp99_Donnees!O2371,\"чч:мм:сс\"))","v":0}]
[{"$f":"86400*TIMEVALUE(TEXT(Smp99_Donnees!C2372,\"чч:мм:сс\"))","v":0},{"$f":"86400*TIMEVALUE(TEXT(Smp99_Donnees!O2372,\"чч:мм:сс\"))","v":0}]
[{"$f":"86400*TIMEVALUE(TEXT(Smp99_Donnees!C2373,\"чч:мм:сс\"))","v":0},{"$f":"86400*TIMEVALUE(TEXT(Smp99_Donnees!O2373,\"чч:мм:сс\"))","v":0}]
[{"$f":"86400*TIMEVALUE(TEXT(Smp99_Donnees!C2374,\"чч:мм:сс\"))","v":0},{"$f":"86400*TIMEVALUE(TEXT(Smp99_Donnees!O2374,\"чч:мм:сс\"))","v":0}]
[{"$f":"86400*TIMEVALUE(TEXT(Smp99_Donnees!C2375,\"чч:мм:сс\"))","v":0},{"$f":"86400*TIMEVALUE(TEXT(Smp99_Donnees!O2375,\"чч:мм:сс\"))","v":0}]
[{"$f":"86400*TIMEVALUE(TEXT(Smp99_Donnees!C2376,\"чч:мм:сс\"))","v":0},{"$f":"86400*TIMEVALUE(TEXT(Smp99_Donnees!O2376,\"чч:мм:сс\"))","v":0}]
[{"$f":"86400*TIMEVALUE(TEXT(Smp99_Donnees!C2377,\"чч:мм:сс\"))","v":0},{"$f":"86400*TIMEVALUE(TEXT(Smp99_Donnees!O2377,\"чч:мм:сс\"))","v":0}]
[{"$f":"86400*TIMEVALUE(TEXT(Smp99_Donnees!C2378,\"чч:мм:сс\"))","v":0},{"$f":"86400*TIMEVALUE(TEXT(Smp99_Donnees!O2378,\"чч:мм:сс\"))","v":0}]
[{"$f":"86400*TIMEVALUE(TEXT(Smp99_Donnees!C2379,\"чч:мм:сс\"))","v":0},{"$f":"86400*TIMEVALUE(TEXT(Smp99_Donnees!O2379,\"чч:мм:сс\"))","v":0}]
[{"$f":"86400*TIMEVALUE(TEXT(Smp99_Donnees!C2380,\"чч:мм:сс\"))","v":0},{"$f":"86400*TIMEVALUE(TEXT(Smp99_Donnees!O2380,\"чч:мм:сс\"))","v":0}]
[{"$f":"86400*TIMEVALUE(TEXT(Smp99_Donnees!C2381,\"чч:мм:сс\"))","v":0},{"$f":"86400*TIMEVALUE(TEXT(Smp99_Donnees!O2381,\"чч:мм:сс\"))","v":0}]
[{"$f":"86400*TIMEVALUE(TEXT(Smp99_Donnees!C2382,\"чч:мм:сс\"))","v":0},{"$f":"86400*TIMEVALUE(TEXT(Smp99_Donnees!O2382,\"чч:мм:сс\"))","v":0}]
[{"$f":"86400*TIMEVALUE(TEXT(Smp99_Donnees!C2383,\"чч:мм:сс\"))","v":0},{"$f":"86400*TIMEVALUE(TEXT(Smp99_Donnees!O2383,\"чч:мм:сс\"))","v":0}]
[{"$f":"86400*TIMEVALUE(TEXT(Smp99_Donnees!C2384,\"чч:мм:сс\"))","v":0},{"$f":"86400*TIMEVALUE(TEXT(Smp99_Donnees!O2384,\"чч:мм:сс\"))","v":0}]
[{"$f":"86400*TIMEVALUE(TEXT(Smp99_Donnees!C2385,\"чч:мм:сс\"))","v":0},{"$f":"86400*TIMEVALUE(TEXT(Smp99_Donnees!O2385,\"чч:мм:сс\"))","v":0}]
[{"$f":"86400*TIMEVALUE(TEXT(Smp99_Donnees!C2386,\"чч:мм:сс\"))","v":0},{"$f":"86400*TIMEVALUE(TEXT(Smp99_Donnees!O2386,\"чч:мм:сс\"))","v":0}]
[{"$f":"86400*TIMEVALUE(TEXT(Smp99_Donnees!C2387,\"чч:мм:сс\"))","v":0},{"$f":"86400*TIMEVALUE(TEXT(Smp99_Donnees!O2387,\"чч:мм:сс\"))","v":0}]
[{"$f":"86400*TIMEVALUE(TEXT(Smp99_Donnees!C2388,\"чч:мм:сс\"))","v":0},{"$f":"86400*TIMEVALUE(TEXT(Smp99_Donnees!O2388,\"чч:мм:сс\"))","v":0}]
[{"$f":"86400*TIMEVALUE(TEXT(Smp99_Donnees!C2389,\"чч:мм:сс\"))","v":0},{"$f":"86400*TIMEVALUE(TEXT(Smp99_Donnees!O2389,\"чч:мм:сс\"))","v":0}]
[{"$f":"86400*TIMEVALUE(TEXT(Smp99_Donnees!C2390,\"чч:мм:сс\"))","v":0},{"$f":"86400*TIMEVALUE(TEXT(Smp99_Donnees!O2390,\"чч:мм:сс\"))","v":0}]
[{"$f":"86400*TIMEVALUE(TEXT(Smp99_Donnees!C2391,\"чч:мм:сс\"))","v":0},{"$f":"86400*TIMEVALUE(TEXT(Smp99_Donnees!O2391,\"чч:мм:сс\"))","v":0}]
[{"$f":"86400*TIMEVALUE(TEXT(Smp99_Donnees!C2392,\"чч:мм:сс\"))","v":0},{"$f":"86400*TIMEVALUE(TEXT(Smp99_Donnees!O2392,\"чч:мм:сс\"))","v":0}]
[{"$f":"86400*TIMEVALUE(TEXT(Smp99_Donnees!C2393,\"чч:мм:сс\"))","v":0},{"$f":"86400*TIMEVALUE(TEXT(Smp99_Donnees!O2393,\"чч:мм:сс\"))","v":0}]
[{"$f":"86400*TIMEVALUE(TEXT(Smp99_Donnees!C2394,\"чч:мм:сс\"))","v":0},{"$f":"86400*TIMEVALUE(TEXT(Smp99_Donnees!O2394,\"чч:мм:сс\"))","v":0}]
[{"$f":"86400*TIMEVALUE(TEXT(Smp99_Donnees!C2395,\"чч:мм:сс\"))","v":0},{"$f":"86400*TIMEVALUE(TEXT(Smp99_Donnees!O2395,\"чч:мм:сс\"))","v":0}]
[{"$f":"86400*TIMEVALUE(TEXT(Smp99_Donnees!C2396,\"чч:мм:сс\"))","v":0},{"$f":"86400*TIMEVALUE(TEXT(Smp99_Donnees!O2396,\"чч:мм:сс\"))","v":0}]
[{"$f":"86400*TIMEVALUE(TEXT(Smp99_Donnees!C2397,\"чч:мм:сс\"))","v":0},{"$f":"86400*TIMEVALUE(TEXT(Smp99_Donnees!O2397,\"чч:мм:сс\"))","v":0}]
[{"$f":"86400*TIMEVALUE(TEXT(Smp99_Donnees!C2398,\"чч:мм:сс\"))","v":0},{"$f":"86400*TIMEVALUE(TEXT(Smp99_Donnees!O2398,\"чч:мм:сс\"))","v":0}]
[{"$f":"86400*TIMEVALUE(TEXT(Smp99_Donnees!C2399,\"чч:мм:сс\"))","v":0},{"$f":"86400*TIMEVALUE(TEXT(Smp99_Donnees!O2399,\"чч:мм:сс\"))","v":0}]
[{"$f":"86400*TIMEVALUE(TEXT(Smp99_Donnees!C2400,\"чч:мм:сс\"))","v":0},{"$f":"86400*TIMEVALUE(TEXT(Smp99_Donnees!O2400,\"чч:мм:сс\"))","v":0}]
[{"$f":"86400*TIMEVALUE(TEXT(Smp99_Donnees!C2401,\"чч:мм:сс\"))","v":0},{"$f":"86400*TIMEVALUE(TEXT(Smp99_Donnees!O2401,\"чч:мм:сс\"))","v":0}]
[{"$f":"86400*TIMEVALUE(TEXT(Smp99_Donnees!C2402,\"чч:мм:сс\"))","v":0},{"$f":"86400*TIMEVALUE(TEXT(Smp99_Donnees!O2402,\"чч:мм:сс\"))","v":0}]
[{"$f":"86400*TIMEVALUE(TEXT(Smp99_Donnees!C2403,\"чч:мм:сс\"))","v":0},{"$f":"86400*TIMEVALUE(TEXT(Smp99_Donnees!O2403,\"чч:мм:сс\"))","v":0}]
[{"$f":"86400*TIMEVALUE(TEXT(Smp99_Donnees!C2404,\"чч:мм:сс\"))","v":0},{"$f":"86400*TIMEVALUE(TEXT(Smp99_Donnees!O2404,\"чч:мм:сс\"))","v":0}]
[{"$f":"86400*TIMEVALUE(TEXT(Smp99_Donnees!C2405,\"чч:мм:сс\"))","v":0},{"$f":"86400*TIMEVALUE(TEXT(Smp99_Donnees!O2405,\"чч:мм:сс\"))","v":0}]
[{"$f":"86400*TIMEVALUE(TEXT(Smp99_Donnees!C2406,\"чч:мм:сс\"))","v":0},{"$f":"86400*TIMEVALUE(TEXT(Smp99_Donnees!O2406,\"чч:мм:сс\"))","v":0}]
[{"$f":"86400*TIMEVALUE(TEXT(Smp99_Donnees!C2407,\"чч:мм:сс\"))","v":0},{"$f":"86400*TIMEVALUE(TEXT(Smp99_Donnees!O2407,\"чч:мм:сс\"))","v":0}]
[{"$f":"86400*TIMEVALUE(TEXT(Smp99_Donnees!C2408,\"чч:мм:сс\"))","v":0},{"$f":"86400*TIMEVALUE(TEXT(Smp99_Donnees!O2408,\"чч:мм:сс\"))","v":0}]
[{"$f":"86400*TIMEVALUE(TEXT(Smp99_Donnees!C2409,\"чч:мм:сс\"))","v":0},{"$f":"86400*TIMEVALUE(TEXT(Smp99_Donnees!O2409,\"чч:мм:сс\"))","v":0}]
[{"$f":"86400*TIMEVALUE(TEXT(Smp99_Donnees!C2410,\"чч:мм:сс\"))","v":0},{"$f":"86400*TIMEVALUE(TEXT(Smp99_Donnees!O2410,\"чч:мм:сс\"))","v":0}]
[{"$f":"86400*TIMEVALUE(TEXT(Smp99_Donnees!C2411,\"чч:мм:сс\"))","v":0},{"$f":"86400*TIMEVALUE(TEXT(Smp99_Donnees!O2411,\"чч:мм:сс\"))","v":0}]
[{"$f":"86400*TIMEVALUE(TEXT(Smp99_Donnees!C2412,\"чч:мм:сс\"))","v":0},{"$f":"86400*TIMEVALUE(TEXT(Smp99_Donnees!O2412,\"чч:мм:сс\"))","v":0}]
[{"$f":"86400*TIMEVALUE(TEXT(Smp99_Donnees!C2413,\"чч:мм:сс\"))","v":0},{"$f":"86400*TIMEVALUE(TEXT(Smp99_Donnees!O2413,\"чч:мм:сс\"))","v":0}]
[{"$f":"86400*TIMEVALUE(TEXT(Smp99_Donnees!C2414,\"чч:мм:сс\"))","v":0},{"$f":"86400*TIMEVALUE(TEXT(Smp99_Donnees!O2414,\"чч:мм:сс\"))","v":0}]
[{"$f":"86400*TIMEVALUE(TEXT(Smp99_Donnees!C2415,\"чч:мм:сс\"))","v":0},{"$f":"86400*TIMEVALUE(TEXT(Smp99_Donnees!O2415,\"чч:мм:сс\"))","v":0}]
[{"$f":"86400*TIMEVALUE(TEXT(Smp99_Donnees!C2416,\"чч:мм:сс\"))","v":0},{"$f":"86400*TIMEVALUE(TEXT(Smp99_Donnees!O2416,\"чч:мм:сс\"))","v":0}]
[{"$f":"86400*TIMEVALUE(TEXT(Smp99_Donnees!C2417,\"чч:мм:сс\"))","v":0},{"$f":"86400*TIMEVALUE(TEXT(Smp99_Donnees!O2417,\"чч:мм:сс\"))","v":0}]
[{"$f":"86400*TIMEVALUE(TEXT(Smp99_Donnees!C2418,\"чч:мм:сс\"))","v":0},{"$f":"86400*TIMEVALUE(TEXT(Smp99_Donnees!O2418,\"чч:мм:сс\"))","v":0}]
[{"$f":"86400*TIMEVALUE(TEXT(Smp99_Donnees!C2419,\"чч:мм:сс\"))","v":0},{"$f":"86400*TIMEVALUE(TEXT(Smp99_Donnees!O2419,\"чч:мм:сс\"))","v":0}]
[{"$f":"86400*TIMEVALUE(TEXT(Smp99_Donnees!C2420,\"чч:мм:сс\"))","v":0},{"$f":"86400*TIMEVALUE(TEXT(Smp99_Donnees!O2420,\"чч:мм:сс\"))","v":0}]
[{"$f":"86400*TIMEVALUE(TEXT(Smp99_Donnees!C2421,\"чч:мм:сс\"))","v":0},{"$f":"86400*TIMEVALUE(TEXT(Smp99_Donnees!O2421,\"чч:мм:сс\"))","v":0}]
[{"$f":"86400*TIMEVALUE(TEXT(Smp99_Donnees!C2422,\"чч:мм:сс\"))","v":0},{"$f":"86400*TIMEVALUE(TEXT(Smp99_Donnees!O2422,\"чч:мм:сс\"))","v":0}]
[{"$f":"86400*TIMEVALUE(TEXT(Smp99_Donnees!C2423,\"чч:мм:сс\"))","v":0},{"$f":"86400*TIMEVALUE(TEXT(Smp99_Donnees!O2423,\"чч:мм:сс\"))","v":0}]
[{"$f":"86400*TIMEVALUE(TEXT(Smp99_Donnees!C2424,\"чч:мм:сс\"))","v":0},{"$f":"86400*TIMEVALUE(TEXT(Smp99_Donnees!O2424,\"чч:мм:сс\"))","v":0}]
[{"$f":"86400*TIMEVALUE(TEXT(Smp99_Donnees!C2425,\"чч:мм:сс\"))","v":0},{"$f":"86400*TIMEVALUE(TEXT(Smp99_Donnees!O2425,\"чч:мм:сс\"))","v":0}]
[{"$f":"86400*TIMEVALUE(TEXT(Smp99_Donnees!C2426,\"чч:мм:сс\"))","v":0},{"$f":"86400*TIMEVALUE(TEXT(Smp99_Donnees!O2426,\"чч:мм:сс\"))","v":0}]
[{"$f":"86400*TIMEVALUE(TEXT(Smp99_Donnees!C2427,\"чч:мм:сс\"))","v":0},{"$f":"86400*TIMEVALUE(TEXT(Smp99_Donnees!O2427,\"чч:мм:сс\"))","v":0}]
[{"$f":"86400*TIMEVALUE(TEXT(Smp99_Donnees!C2428,\"чч:мм:сс\"))","v":0},{"$f":"86400*TIMEVALUE(TEXT(Smp99_Donnees!O2428,\"чч:мм:сс\"))","v":0}]
[{"$f":"86400*TIMEVALUE(TEXT(Smp99_Donnees!C2429,\"чч:мм:сс\"))","v":0},{"$f":"86400*TIMEVALUE(TEXT(Smp99_Donnees!O2429,\"чч:мм:сс\"))","v":0}]
[{"$f":"86400*TIMEVALUE(TEXT(Smp99_Donnees!C2430,\"чч:мм:сс\"))","v":0},{"$f":"86400*TIMEVALUE(TEXT(Smp99_Donnees!O2430,\"чч:мм:сс\"))","v":0}]
[{"$f":"86400*TIMEVALUE(TEXT(Smp99_Donnees!C2431,\"чч:мм:сс\"))","v":0},{"$f":"86400*TIMEVALUE(TEXT(Smp99_Donnees!O2431,\"чч:мм:сс\"))","v":0}]
[{"$f":"86400*TIMEVALUE(TEXT(Smp99_Donnees!C2432,\"чч:мм:сс\"))","v":0},{"$f":"86400*TIMEVALUE(TEXT(Smp99_Donnees!O2432,\"чч:мм:сс\"))","v":0}]
[{"$f":"86400*TIMEVALUE(TEXT(Smp99_Donnees!C2433,\"чч:мм:сс\"))","v":0},{"$f":"86400*TIMEVALUE(TEXT(Smp99_Donnees!O2433,\"чч:мм:сс\"))","v":0}]
[{"$f":"86400*TIMEVALUE(TEXT(Smp99_Donnees!C2434,\"чч:мм:сс\"))","v":0},{"$f":"86400*TIMEVALUE(TEXT(Smp99_Donnees!O2434,\"чч:мм:сс\"))","v":0}]
[{"$f":"86400*TIMEVALUE(TEXT(Smp99_Donnees!C2435,\"чч:мм:сс\"))","v":0},{"$f":"86400*TIMEVALUE(TEXT(Smp99_Donnees!O2435,\"чч:мм:сс\"))","v":0}]
[{"$f":"86400*TIMEVALUE(TEXT(Smp99_Donnees!C2436,\"чч:мм:сс\"))","v":0},{"$f":"86400*TIMEVALUE(TEXT(Smp99_Donnees!O2436,\"чч:мм:сс\"))","v":0}]
[{"$f":"86400*TIMEVALUE(TEXT(Smp99_Donnees!C2437,\"чч:мм:сс\"))","v":0},{"$f":"86400*TIMEVALUE(TEXT(Smp99_Donnees!O2437,\"чч:мм:сс\"))","v":0}]
[{"$f":"86400*TIMEVALUE(TEXT(Smp99_Donnees!C2438,\"чч:мм:сс\"))","v":0},{"$f":"86400*TIMEVALUE(TEXT(Smp99_Donnees!O2438,\"чч:мм:сс\"))","v":0}]
[{"$f":"86400*TIMEVALUE(TEXT(Smp99_Donnees!C2439,\"чч:мм:сс\"))","v":0},{"$f":"86400*TIMEVALUE(TEXT(Smp99_Donnees!O2439,\"чч:мм:сс\"))","v":0}]
[{"$f":"86400*TIMEVALUE(TEXT(Smp99_Donnees!C2440,\"чч:мм:сс\"))","v":0},{"$f":"86400*TIMEVALUE(TEXT(Smp99_Donnees!O2440,\"чч:мм:сс\"))","v":0}]
[{"$f":"86400*TIMEVALUE(TEXT(Smp99_Donnees!C2441,\"чч:мм:сс\"))","v":0},{"$f":"86400*TIMEVALUE(TEXT(Smp99_Donnees!O2441,\"чч:мм:сс\"))","v":0}]
[{"$f":"86400*TIMEVALUE(TEXT(Smp99_Donnees!C2442,\"чч:мм:сс\"))","v":0},{"$f":"86400*TIMEVALUE(TEXT(Smp99_Donnees!O2442,\"чч:мм:сс\"))","v":0}]
[{"$f":"86400*TIMEVALUE(TEXT(Smp99_Donnees!C2443,\"чч:мм:сс\"))","v":0},{"$f":"86400*TIMEVALUE(TEXT(Smp99_Donnees!O2443,\"чч:мм:сс\"))","v":0}]
[{"$f":"86400*TIMEVALUE(TEXT(Smp99_Donnees!C2444,\"чч:мм:сс\"))","v":0},{"$f":"86400*TIMEVALUE(TEXT(Smp99_Donnees!O2444,\"чч:мм:сс\"))","v":0}]
[{"$f":"86400*TIMEVALUE(TEXT(Smp99_Donnees!C2445,\"чч:мм:сс\"))","v":0},{"$f":"86400*TIMEVALUE(TEXT(Smp99_Donnees!O2445,\"чч:мм:сс\"))","v":0}]
[{"$f":"86400*TIMEVALUE(TEXT(Smp99_Donnees!C2446,\"чч:мм:сс\"))","v":0},{"$f":"86400*TIMEVALUE(TEXT(Smp99_Donnees!O2446,\"чч:мм:сс\"))","v":0}]
[{"$f":"86400*TIMEVALUE(TEXT(Smp99_Donnees!C2447,\"чч:мм:сс\"))","v":0},{"$f":"86400*TIMEVALUE(TEXT(Smp99_Donnees!O2447,\"чч:мм:сс\"))","v":0}]
[{"$f":"86400*TIMEVALUE(TEXT(Smp99_Donnees!C2448,\"чч:мм:сс\"))","v":0},{"$f":"86400*TIMEVALUE(TEXT(Smp99_Donnees!O2448,\"чч:мм:сс\"))","v":0}]
[{"$f":"86400*TIMEVALUE(TEXT(Smp99_Donnees!C2449,\"чч:мм:сс\"))","v":0},{"$f":"86400*TIMEVALUE(TEXT(Smp99_Donnees!O2449,\"чч:мм:сс\"))","v":0}]
[{"$f":"86400*TIMEVALUE(TEXT(Smp99_Donnees!C2450,\"чч:мм:сс\"))","v":0},{"$f":"86400*TIMEVALUE(TEXT(Smp99_Donnees!O2450,\"чч:мм:сс\"))","v":0}]
[{"$f":"86400*TIMEVALUE(TEXT(Smp99_Donnees!C2451,\"чч:мм:сс\"))","v":0},{"$f":"86400*TIMEVALUE(TEXT(Smp99_Donnees!O2451,\"чч:мм:сс\"))","v":0}]
[{"$f":"86400*TIMEVALUE(TEXT(Smp99_Donnees!C2452,\"чч:мм:сс\"))","v":0},{"$f":"86400*TIMEVALUE(TEXT(Smp99_Donnees!O2452,\"чч:мм:сс\"))","v":0}]
[{"$f":"86400*TIMEVALUE(TEXT(Smp99_Donnees!C2453,\"чч:мм:сс\"))","v":0},{"$f":"86400*TIMEVALUE(TEXT(Smp99_Donnees!O2453,\"чч:мм:сс\"))","v":0}]
[{"$f":"86400*TIMEVALUE(TEXT(Smp99_Donnees!C2454,\"чч:мм:сс\"))","v":0},{"$f":"86400*TIMEVALUE(TEXT(Smp99_Donnees!O2454,\"чч:мм:сс\"))","v":0}]
[{"$f":"86400*TIMEVALUE(TEXT(Smp99_Donnees!C2455,\"чч:мм:сс\"))","v":0},{"$f":"86400*TIMEVALUE(TEXT(Smp99_Donnees!O2455,\"чч:мм:сс\"))","v":0}]
[{"$f":"86400*TIMEVALUE(TEXT(Smp99_Donnees!C2456,\"чч:мм:сс\"))","v":0},{"$f":"86400*TIMEVALUE(TEXT(Smp99_Donnees!O2456,\"чч:мм:сс\"))","v":0}]
[{"$f":"86400*TIMEVALUE(TEXT(Smp99_Donnees!C2457,\"чч:мм:сс\"))","v":0},{"$f":"86400*TIMEVALUE(TEXT(Smp99_Donnees!O2457,\"чч:мм:сс\"))","v":0}]
[{"$f":"86400*TIMEVALUE(TEXT(Smp99_Donnees!C2458,\"чч:мм:сс\"))","v":0},{"$f":"86400*TIMEVALUE(TEXT(Smp99_Donnees!O2458,\"чч:мм:сс\"))","v":0}]
[{"$f":"86400*TIMEVALUE(TEXT(Smp99_Donnees!C2459,\"чч:мм:сс\"))","v":0},{"$f":"86400*TIMEVALUE(TEXT(Smp99_Donnees!O2459,\"чч:мм:сс\"))","v":0}]
[{"$f":"86400*TIMEVALUE(TEXT(Smp99_Donnees!C2460,\"чч:мм:сс\"))","v":0},{"$f":"86400*TIMEVALUE(TEXT(Smp99_Donnees!O2460,\"чч:мм:сс\"))","v":0}]
[{"$f":"86400*TIMEVALUE(TEXT(Smp99_Donnees!C2461,\"чч:мм:сс\"))","v":0},{"$f":"86400*TIMEVALUE(TEXT(Smp99_Donnees!O2461,\"чч:мм:сс\"))","v":0}]
[{"$f":"86400*TIMEVALUE(TEXT(Smp99_Donnees!C2462,\"чч:мм:сс\"))","v":0},{"$f":"86400*TIMEVALUE(TEXT(Smp99_Donnees!O2462,\"чч:мм:сс\"))","v":0}]
[{"$f":"86400*TIMEVALUE(TEXT(Smp99_Donnees!C2463,\"чч:мм:сс\"))","v":0},{"$f":"86400*TIMEVALUE(TEXT(Smp99_Donnees!O2463,\"чч:мм:сс\"))","v":0}]
[{"$f":"86400*TIMEVALUE(TEXT(Smp99_Donnees!C2464,\"чч:мм:сс\"))","v":0},{"$f":"86400*TIMEVALUE(TEXT(Smp99_Donnees!O2464,\"чч:мм:сс\"))","v":0}]
[{"$f":"86400*TIMEVALUE(TEXT(Smp99_Donnees!C2465,\"чч:мм:сс\"))","v":0},{"$f":"86400*TIMEVALUE(TEXT(Smp99_Donnees!O2465,\"чч:мм:сс\"))","v":0}]
[{"$f":"86400*TIMEVALUE(TEXT(Smp99_Donnees!C2466,\"чч:мм:сс\"))","v":0},{"$f":"86400*TIMEVALUE(TEXT(Smp99_Donnees!O2466,\"чч:мм:сс\"))","v":0}]
[{"$f":"86400*TIMEVALUE(TEXT(Smp99_Donnees!C2467,\"чч:мм:сс\"))","v":0},{"$f":"86400*TIMEVALUE(TEXT(Smp99_Donnees!O2467,\"чч:мм:сс\"))","v":0}]
[{"$f":"86400*TIMEVALUE(TEXT(Smp99_Donnees!C2468,\"чч:мм:сс\"))","v":0},{"$f":"86400*TIMEVALUE(TEXT(Smp99_Donnees!O2468,\"чч:мм:сс\"))","v":0}]
[{"$f":"86400*TIMEVALUE(TEXT(Smp99_Donnees!C2469,\"чч:мм:сс\"))","v":0},{"$f":"86400*TIMEVALUE(TEXT(Smp99_Donnees!O2469,\"чч:мм:сс\"))","v":0}]
[{"$f":"86400*TIMEVALUE(TEXT(Smp99_Donnees!C2470,\"чч:мм:сс\"))","v":0},{"$f":"86400*TIMEVALUE(TEXT(Smp99_Donnees!O2470,\"чч:мм:сс\"))","v":0}]
[{"$f":"86400*TIMEVALUE(TEXT(Smp99_Donnees!C2471,\"чч:мм:сс\"))","v":0},{"$f":"86400*TIMEVALUE(TEXT(Smp99_Donnees!O2471,\"чч:мм:сс\"))","v":0}]
[{"$f":"86400*TIMEVALUE(TEXT(Smp99_Donnees!C2472,\"чч:мм:сс\"))","v":0},{"$f":"86400*TIMEVALUE(TEXT(Smp99_Donnees!O2472,\"чч:мм:сс\"))","v":0}]
[{"$f":"86400*TIMEVALUE(TEXT(Smp99_Donnees!C2473,\"чч:мм:сс\"))","v":0},{"$f":"86400*TIMEVALUE(TEXT(Smp99_Donnees!O2473,\"чч:мм:сс\"))","v":0}]
[{"$f":"86400*TIMEVALUE(TEXT(Smp99_Donnees!C2474,\"чч:мм:сс\"))","v":0},{"$f":"86400*TIMEVALUE(TEXT(Smp99_Donnees!O2474,\"чч:мм:сс\"))","v":0}]
[{"$f":"86400*TIMEVALUE(TEXT(Smp99_Donnees!C2475,\"чч:мм:сс\"))","v":0},{"$f":"86400*TIMEVALUE(TEXT(Smp99_Donnees!O2475,\"чч:мм:сс\"))","v":0}]
[{"$f":"86400*TIMEVALUE(TEXT(Smp99_Donnees!C2476,\"чч:мм:сс\"))","v":0},{"$f":"86400*TIMEVALUE(TEXT(Smp99_Donnees!O2476,\"чч:мм:сс\"))","v":0}]
[{"$f":"86400*TIMEVALUE(TEXT(Smp99_Donnees!C2477,\"чч:мм:сс\"))","v":0},{"$f":"86400*TIMEVALUE(TEXT(Smp99_Donnees!O2477,\"чч:мм:сс\"))","v":0}]
[{"$f":"86400*TIMEVALUE(TEXT(Smp99_Donnees!C2478,\"чч:мм:сс\"))","v":0},{"$f":"86400*TIMEVALUE(TEXT(Smp99_Donnees!O2478,\"чч:мм:сс\"))","v":0}]
[{"$f":"86400*TIMEVALUE(TEXT(Smp99_Donnees!C2479,\"чч:мм:сс\"))","v":0},{"$f":"86400*TIMEVALUE(TEXT(Smp99_Donnees!O2479,\"чч:мм:сс\"))","v":0}]
[{"$f":"86400*TIMEVALUE(TEXT(Smp99_Donnees!C2480,\"чч:мм:сс\"))","v":0},{"$f":"86400*TIMEVALUE(TEXT(Smp99_Donnees!O2480,\"чч:мм:сс\"))","v":0}]
[{"$f":"86400*TIMEVALUE(TEXT(Smp99_Donnees!C2481,\"чч:мм:сс\"))","v":0},{"$f":"86400*TIMEVALUE(TEXT(Smp99_Donnees!O2481,\"чч:мм:сс\"))","v":0}]
[{"$f":"86400*TIMEVALUE(TEXT(Smp99_Donnees!C2482,\"чч:мм:сс\"))","v":0},{"$f":"86400*TIMEVALUE(TEXT(Smp99_Donnees!O2482,\"чч:мм:сс\"))","v":0}]
[{"$f":"86400*TIMEVALUE(TEXT(Smp99_Donnees!C2483,\"чч:мм:сс\"))","v":0},{"$f":"86400*TIMEVALUE(TEXT(Smp99_Donnees!O2483,\"чч:мм:сс\"))","v":0}]
[{"$f":"86400*TIMEVALUE(TEXT(Smp99_Donnees!C2484,\"чч:мм:сс\"))","v":0},{"$f":"86400*TIMEVALUE(TEXT(Smp99_Donnees!O2484,\"чч:мм:сс\"))","v":0}]
[{"$f":"86400*TIMEVALUE(TEXT(Smp99_Donnees!C2485,\"чч:мм:сс\"))","v":0},{"$f":"86400*TIMEVALUE(TEXT(Smp99_Donnees!O2485,\"чч:мм:сс\"))","v":0}]
[{"$f":"86400*TIMEVALUE(TEXT(Smp99_Donnees!C2486,\"чч:мм:сс\"))","v":0},{"$f":"86400*TIMEVALUE(TEXT(Smp99_Donnees!O2486,\"чч:мм:сс\"))","v":0}]
[{"$f":"86400*TIMEVALUE(TEXT(Smp99_Donnees!C2487,\"чч:мм:сс\"))","v":0},{"$f":"86400*TIMEVALUE(TEXT(Smp99_Donnees!O2487,\"чч:мм:сс\"))","v":0}]
[{"$f":"86400*TIMEVALUE(TEXT(Smp99_Donnees!C2488,\"чч:мм:сс\"))","v":0},{"$f":"86400*TIMEVALUE(TEXT(Smp99_Donnees!O2488,\"чч:мм:сс\"))","v":0}]
[{"$f":"86400*TIMEVALUE(TEXT(Smp99_Donnees!C2489,\"чч:мм:сс\"))","v":0},{"$f":"86400*TIMEVALUE(TEXT(Smp99_Donnees!O2489,\"чч:мм:сс\"))","v":0}]
[{"$f":"86400*TIMEVALUE(TEXT(Smp99_Donnees!C2490,\"чч:мм:сс\"))","v":0},{"$f":"86400*TIMEVALUE(TEXT(Smp99_Donnees!O2490,\"чч:мм:сс\"))","v":0}]
[{"$f":"86400*TIMEVALUE(TEXT(Smp99_Donnees!C2491,\"чч:мм:сс\"))","v":0},{"$f":"86400*TIMEVALUE(TEXT(Smp99_Donnees!O2491,\"чч:мм:сс\"))","v":0}]
[{"$f":"86400*TIMEVALUE(TEXT(Smp99_Donnees!C2492,\"чч:мм:сс\"))","v":0},{"$f":"86400*TIMEVALUE(TEXT(Smp99_Donnees!O2492,\"чч:мм:сс\"))","v":0}]
[{"$f":"86400*TIMEVALUE(TEXT(Smp99_Donnees!C2493,\"чч:мм:сс\"))","v":0},{"$f":"86400*TIMEVALUE(TEXT(Smp99_Donnees!O2493,\"чч:мм:сс\"))","v":0}]
[{"$f":"86400*TIMEVALUE(TEXT(Smp99_Donnees!C2494,\"чч:мм:сс\"))","v":0},{"$f":"86400*TIMEVALUE(TEXT(Smp99_Donnees!O2494,\"чч:мм:сс\"))","v":0}]
[{"$f":"86400*TIMEVALUE(TEXT(Smp99_Donnees!C2495,\"чч:мм:сс\"))","v":0},{"$f":"86400*TIMEVALUE(TEXT(Smp99_Donnees!O2495,\"чч:мм:сс\"))","v":0}]
[{"$f":"86400*TIMEVALUE(TEXT(Smp99_Donnees!C2496,\"чч:мм:сс\"))","v":0},{"$f":"86400*TIMEVALUE(TEXT(Smp99_Donnees!O2496,\"чч:мм:сс\"))","v":0}]
[{"$f":"86400*TIMEVALUE(TEXT(Smp99_Donnees!C2497,\"чч:мм:сс\"))","v":0},{"$f":"86400*TIMEVALUE(TEXT(Smp99_Donnees!O2497,\"чч:мм:сс\"))","v":0}]
[{"$f":"86400*TIMEVALUE(TEXT(Smp99_Donnees!C2498,\"чч:мм:сс\"))","v":0},{"$f":"86400*TIMEVALUE(TEXT(Smp99_Donnees!O2498,\"чч:мм:сс\"))","v":0}]
[{"$f":"86400*TIMEVALUE(TEXT(Smp99_Donnees!C2499,\"чч:мм:сс\"))","v":0},{"$f":"86400*TIMEVALUE(TEXT(Smp99_Donnees!O2499,\"чч:мм:сс\"))","v":0}]
[{"$f":"86400*TIMEVALUE(TEXT(Smp99_Donnees!C2500,\"чч:мм:сс\"))","v":0},{"$f":"86400*TIMEVALUE(TEXT(Smp99_Donnees!O2500,\"чч:мм:сс\"))","v":0}]
[{"$f":"86400*TIMEVALUE(TEXT(Smp99_Donnees!C2501,\"чч:мм:сс\"))","v":0},{"$f":"86400*TIMEVALUE(TEXT(Smp99_Donnees!O2501,\"чч:мм:сс\"))","v":0}]
[{"$f":"86400*TIMEVALUE(TEXT(Smp99_Donnees!C2502,\"чч:мм:сс\"))","v":0},{"$f":"86400*TIMEVALUE(TEXT(Smp99_Donnees!O2502,\"чч:мм:сс\"))","v":0}]
[{"$f":"86400*TIMEVALUE(TEXT(Smp99_Donnees!C2503,\"чч:мм:сс\"))","v":0},{"$f":"86400*TIMEVALUE(TEXT(Smp99_Donnees!O2503,\"чч:мм:сс\"))","v":0}]
[{"$f":"86400*TIMEVALUE(TEXT(Smp99_Donnees!C2504,\"чч:мм:сс\"))","v":0},{"$f":"86400*TIMEVALUE(TEXT(Smp99_Donnees!O2504,\"чч:мм:сс\"))","v":0}]
[{"$f":"86400*TIMEVALUE(TEXT(Smp99_Donnees!C2505,\"чч:мм:сс\"))","v":0},{"$f":"86400*TIMEVALUE(TEXT(Smp99_Donnees!O2505,\"чч:мм:сс\"))","v":0}]
[{"$f":"86400*TIMEVALUE(TEXT(Smp99_Donnees!C2506,\"чч:мм:сс\"))","v":0},{"$f":"86400*TIMEVALUE(TEXT(Smp99_Donnees!O2506,\"чч:мм:сс\"))","v":0}]
[{"$f":"86400*TIMEVALUE(TEXT(Smp99_Donnees!C2507,\"чч:мм:сс\"))","v":0},{"$f":"86400*TIMEVALUE(TEXT(Smp99_Donnees!O2507,\"чч:мм:сс\"))","v":0}]
[{"$f":"86400*TIMEVALUE(TEXT(Smp99_Donnees!C2508,\"чч:мм:сс\"))","v":0},{"$f":"86400*TIMEVALUE(TEXT(Smp99_Donnees!O2508,\"чч:мм:сс\"))","v":0}]
[{"$f":"86400*TIMEVALUE(TEXT(Smp99_Donnees!C2509,\"чч:мм:сс\"))","v":0},{"$f":"86400*TIMEVALUE(TEXT(Smp99_Donnees!O2509,\"чч:мм:сс\"))","v":0}]
[{"$f":"86400*TIMEVALUE(TEXT(Smp99_Donnees!C2510,\"чч:мм:сс\"))","v":0},{"$f":"86400*TIMEVALUE(TEXT(Smp99_Donnees!O2510,\"чч:мм:сс\"))","v":0}]
[{"$f":"86400*TIMEVALUE(TEXT(Smp99_Donnees!C2511,\"чч:мм:сс\"))","v":0},{"$f":"86400*TIMEVALUE(TEXT(Smp99_Donnees!O2511,\"чч:мм:сс\"))","v":0}]
[{"$f":"86400*TIMEVALUE(TEXT(Smp99_Donnees!C2512,\"чч:мм:сс\"))","v":0},{"$f":"86400*TIMEVALUE(TEXT(Smp99_Donnees!O2512,\"чч:мм:сс\"))","v":0}]
[{"$f":"86400*TIMEVALUE(TEXT(Smp99_Donnees!C2513,\"чч:мм:сс\"))","v":0},{"$f":"86400*TIMEVALUE(TEXT(Smp99_Donnees!O2513,\"чч:мм:сс\"))","v":0}]
[{"$f":"86400*TIMEVALUE(TEXT(Smp99_Donnees!C2514,\"чч:мм:сс\"))","v":0},{"$f":"86400*TIMEVALUE(TEXT(Smp99_Donnees!O2514,\"чч:мм:сс\"))","v":0}]
[{"$f":"86400*TIMEVALUE(TEXT(Smp99_Donnees!C2515,\"чч:мм:сс\"))","v":0},{"$f":"86400*TIMEVALUE(TEXT(Smp99_Donnees!O2515,\"чч:мм:сс\"))","v":0}]
[{"$f":"86400*TIMEVALUE(TEXT(Smp99_Donnees!C2516,\"чч:мм:сс\"))","v":0},{"$f":"86400*TIMEVALUE(TEXT(Smp99_Donnees!O2516,\"чч:мм:сс\"))","v":0}]
[{"$f":"86400*TIMEVALUE(TEXT(Smp99_Donnees!C2517,\"чч:мм:сс\"))","v":0},{"$f":"86400*TIMEVALUE(TEXT(Smp99_Donnees!O2517,\"чч:мм:сс\"))","v":0}]
[{"$f":"86400*TIMEVALUE(TEXT(Smp99_Donnees!C2518,\"чч:мм:сс\"))","v":0},{"$f":"86400*TIMEVALUE(TEXT(Smp99_Donnees!O2518,\"чч:мм:сс\"))","v":0}]
[{"$f":"86400*TIMEVALUE(TEXT(Smp99_Donnees!C2519,\"чч:мм:сс\"))","v":0},{"$f":"86400*TIMEVALUE(TEXT(Smp99_Donnees!O2519,\"чч:мм:сс\"))","v":0}]
[{"$f":"86400*TIMEVALUE(TEXT(Smp99_Donnees!C2520,\"чч:мм:сс\"))","v":0},{"$f":"86400*TIMEVALUE(TEXT(Smp99_Donnees!O2520,\"чч:мм:сс\"))","v":0}]
[{"$f":"86400*TIMEVALUE(TEXT(Smp99_Donnees!C2521,\"чч:мм:сс\"))","v":0},{"$f":"86400*TIMEVALUE(TEXT(Smp99_Donnees!O2521,\"чч:мм:сс\"))","v":0}]
[{"$f":"86400*TIMEVALUE(TEXT(Smp99_Donnees!C2522,\"чч:мм:сс\"))","v":0},{"$f":"86400*TIMEVALUE(TEXT(Smp99_Donnees!O2522,\"чч:мм:сс\"))","v":0}]
[{"$f":"86400*TIMEVALUE(TEXT(Smp99_Donnees!C2523,\"чч:мм:сс\"))","v":0},{"$f":"86400*TIMEVALUE(TEXT(Smp99_Donnees!O2523,\"чч:мм:сс\"))","v":0}]
[{"$f":"86400*TIMEVALUE(TEXT(Smp99_Donnees!C2524,\"чч:мм:сс\"))","v":0},{"$f":"86400*TIMEVALUE(TEXT(Smp99_Donnees!O2524,\"чч:мм:сс\"))","v":0}]
[{"$f":"86400*TIMEVALUE(TEXT(Smp99_Donnees!C2525,\"чч:мм:сс\"))","v":0},{"$f":"86400*TIMEVALUE(TEXT(Smp99_Donnees!O2525,\"чч:мм:сс\"))","v":0}]

{"sheet":"info","index":2,"n_rows":21,"n_cols":7,"rows_kept":21,"cut":false,"hidden":false,"merged":[]}
["обеды",null,null,"obedn","obedk"]
["03:00:00","03:30:00",{"$f":"B2-A2","v":"00:30:00"},{"$f":"86400*TIMEVALUE(TEXT(A2,\"чч:мм:сс\"))","v":10800},{"$f":"86400*TIMEVALUE(TEXT(B2,\"чч:мм:сс\"))","v":12600},1]
["09:00:00","09:10:00",{"$f":"B3-A3","v":"00:10:00"},{"$f":"86400*TIMEVALUE(TEXT(A3,\"чч:мм:сс\"))","v":32400},{"$f":"86400*TIMEVALUE(TEXT(B3,\"чч:мм:сс\"))","v":33000},2]
["11:00:00","11:45:00","00:45:00",{"$f":"86400*TIMEVALUE(TEXT(A4,\"чч:мм:сс\"))","v":39600},{"$f":"86400*TIMEVALUE(TEXT(B4,\"чч:мм:сс\"))","v":42300},3]
["14:00:00","14:10:00","00:10:00",50400,51000,4]
["16:00:00","16:10:00","00:10:00",57600,58200.000000000007,5]
["19:30:00","20:00:00","00:30:00",70200,72000,6]
["22:00:00","22:10:00","00:10:00",79200,79800,7]
[null,null,{"$f":"SUM(C2:C8)","v":"02:25:00"}]
[]
[null,"руками (по G с учетом перекрытий)=",null,null,null,null,"12:30:00"]
[]
[null,"Длительность в G - врет в меньшую сторону"]
[]
[null,"за минусом обедов вышло ",null,null,"13:57:43"]
[null,"с обедами",null,null,"16:22:26"]
[null,"разница",null,null,{"$f":"E16-E15","v":"02:24:43"}]
[]
[null,"по функции MCH",null,null,"16:23:07"]
[]
[null,"а без учета перекрытия",null,null,"25:00:00"]