{"text_format":"1","workbook":"xlsx","n_sheets":3,"sheets":["Показатели","Итоговая","II младшая"],"not_rendered":{"charts":7,"images":0,"macros":1,"external_links":1,"defined_names":4,"comments":0,"pivot_tables":0},"unopened":[],"bounds":{"document_bytes":16777216,"sheet_cells":100000,"rows_first":2000,"rows_last":500,"rows_between":2000,"halvings":0,"cell_chars":16384,"cell_head_chars":4096},"cells_cut":0,"cells_raw":0,"read":"whole","date_system":"1900"}

{"sheet":"Показатели","index":0,"n_rows":38,"n_cols":12,"rows_kept":38,"cut":false,"hidden":false,"merged":[[4,6,4,7],[4,8,4,9],[4,0,5,0],[23,0,24,0],[4,10,4,11],[23,2,23,3],[23,4,23,5],[23,6,23,7],[23,8,23,9],[23,10,23,11],[4,2,4,3],[4,4,4,5]]}
[null,"показатели физического развития дошкольников"]
[]
[]
[null,"Мальчики"]
["№ п/п","критерии                                                                                              возраст","3 года",null,"4 года",null,"5 лет",null,"6 лет",null,"7 лет"]
[null,"баллы и цвет, соответствующие данным показателям","низкий    (1 балл)","средний       (2 балла)","низкий    (1 балл)","средний       (2 балла)","низкий    (1 балл)","средний       (2 балла)","низкий               (1 балл)","средний       (2 балла)","низкий    (1 балл)","средний       (2 балла)"]
[1,"Прыжки в длину с места – см.",46,64,52,75,80,101,85,107,95,121]
[2,"Метание мешочка вдаль 200 гр. правой рукой - м",1.8,2.9,2.5,3.9,3.5,5.6,5,8.9,9,11.9]
[3,"Метание мешочка вдаль 200 гр. левой рукой - м",1.5,2.4,2,3.4,2.5,4.4000000000000004,5,6.4,5,6.4]
[4,"Бег с хода 10 м - сек",4,3.7,3.6,2.9,3,2.5,2.6,2.4,2.4,2.1]
[5,"Бег со старта 30 м - сек",11,9.1,10.6,8.9,9.1999999999999993,8.1,8.4,7.7,8,7.5]
[6,"Ловкость (обегание предметов 10 м) - сек",9,8.6999999999999993,8.9,8.5,7.5,7.1,6.9,5.5,5.9,4.9000000000000004]
[7,"Челночный бег (3 х 10 м) - сек",null,null,16.2,13.1,14.2,11.3,12.6,10.5,11.6,9.5]
[8,"Мяч (количество подбрасываний) – раз",5,9,10,14,15,24,26,39,35,59]
[9,"Мяч (количество отбиваний от пола) - раз",1,4,4,7,4,9,9,19,24,38]
[10,"Подъем туловища из и.п. лежа (за 30 с)  - раз",null,null,4,9,8,10,10,13,15,16]
[11,"Равновесие - сек",2,4.9000000000000004,4,9.9,4,14.9,14,29.9,34,59.9]
[12,"Лазание по гимнастической лестнице одноименным способом",0,11,0,11,0,11,0,11,0,11]
[13,"Лазание по гимнастической лестнице разноименным способом",0,11,0,11,0,11,0,11,0,11]
[]
[]
[]
[null,"Девочки"]
["№ п/п","критерии                                                                                              возраст","3 года",null,"4 года",null,"5 лет",null,"6 лет",null,"7 лет"]
[null,"баллы и цвет, соответствующие данным показателям","низкий    (1 балл)","средний       (2 балла)","низкий               (1 балл)","средний       (2 балла)","низкий    (1 балл)","средний       (2 балла)","низкий               (1 балл)","средний       (2 балла)","низкий    (1 балл)","средний       (2 балла)"]
[1,"Прыжки в длину с места – см.",35,49,51,72,66,93,77,98,80,122]
[2,"Метание мешочка вдаль 200 гр. правой рукой - м",1.5,2.4,2.5,3.4,3,4.9000000000000004,4,5.9,5,6.4]
[3,"Метание мешочка вдаль 200 гр. левой рукой - м",1.5,1.9,2,2.9,2.5,3.4,3,4.9000000000000004,4,5.9]
[4,"Бег с хода 10 м - сек",4,3.7,3.4,3.1,3.2,2.9,3,2.7,2.8,2.5]
[5,"Бег со старта 30 м - сек",12,9.6999999999999993,10.8,8.9,9.8000000000000007,8.5,9,7.9,8.6,7.5]
[6,"Ловкость (обегание предметов 10 м) - сек",10,9.6999999999999993,9.9,9.5,8.3000000000000007,7.9,6.9,5.9,5.9,5.5]
[7,"Челночный бег (3 х 10 м) - сек",null,null,15.6,12.7,14.6,11.7,13.2,11.3,12,10.1]
[8,"Мяч (количество подбрасываний) – раз",5,9,10,14,15,24,26,39,35,59]
[9,"Мяч (количество отбиваний от пола) - раз",1,4,4,7,4,9,9,19,24,38]
[10,"Подъем туловища из и.п. лежа (за 30 с)  - раз",null,null,5,9,7,8,10,12,14,15]
[11,"Равновесие - сек",2,4.9000000000000004,4,9.9,4,14.9,14,29.9,34,59.9]
[12,"Лазание по гимнастической лестнице одноименным способом",0,11,0,11,0,11,0,11,0,11]
[13,"Лазание по гимнастической лестнице разноименным способом",0,11,0,11,0,11,0,11,0,11]

{"sheet":"Итоговая","index":1,"n_rows":22,"n_cols":88,"rows_kept":22,"cut":false,"hidden":false,"merged":[[4,86,4,87],[4,78,4,79],[4,80,4,81],[4,82,4,83],[4,84,4,85],[4,74,4,75],[4,76,4,77],[4,58,4,59],[4,60,4,61],[4,62,4,63],[4,64,4,65],[4,66,4,67],[4,68,4,69],[4,70,4,71],[4,72,4,73],[4,38,4,39],[4,40,4,41],[4,42,4,43],[4,54,4,55],[4,56,4,57],[4,44,4,45],[4,46,4,47],[4,48,4,49],[4,50,4,51],[4,52,4,53],[3,4,3,5],[3,6,3,7],[3,8,3,9],[3,10,3,11],[3,20,3,21],[2,82,2,85],[2,86,2,87],[1,78,2,81],[3,24,3,25],[3,26,3,27],[3,36,3,37],[3,38,3,39],[3,40,3,41],[2,62,2,69],[3,42,3,43],[4,34,4,35],[4,36,4,37],[3,22,3,23],[1,82,1,87],[2,4,2,11],[2,12,2,19],[2,20,2,27],[2,28,2,35],[2,36,2,43],[2,44,2,49],[2,50,2,53],[2,54,2,61],[4,28,4,29],[4,30,4,31],[4,32,4,33],[2,70,2,77],[21,0,21,3],[4,24,4,25],[4,26,4,27],[4,4,4,5],[4,6,4,7],[4,8,4,9],[4,10,4,11],[4,12,4,13],[4,14,4,15],[4,16,4,17],[4,18,4,19],[4,20,4,21],[4,22,4,23],[18,0,18,3],[19,0,19,3],[20,0,20,3]]}
["Диагностическая карта обследования детей дошкольного возраста по физической культуре"]
[null,null,null,null,null,null,null,null,null,null,null,null,null,null,null,null,null,null,null,null,null,null,null,null,null,null,null,null,null,null,null,null,null,null,null,null,null,null,null,null,null,null,null,null,null,null,null,null,null,null,null,null,null,null,null,null,null,null,null,null,null,null,null,null,null,null,null,null,null,null,null,null,null,null,null,null,null,null,"ПОДЪЕМ ТУЛОВИЩА из и.п. лежа за 30 с (РАЗ)",null,null,null,"ЛАЗАНИЕ ПО ГИМНАСТИЧЕСКОЙ ЛЕСТНИЦЕ"]
[null,"группа № 6  ",null,null,"ПРЫЖКИ В ДЛИНУ С МЕСТА (СМ)",null,null,null,null,null,null,null,"МЕТАНИЕ МЕШОЧКОВ 200 ГР ВДАЛЬ ПРАВОЙ РУКОЙ (М)",null,null,null,null,null,null,null,"МЕТАНИЕ МЕШОЧКОВ 200 ГР ВДАЛЬ ЛЕВОЙ РУКОЙ (М)",null,null,null,null,null,null,null,"БЕГ 10 МЕТРОВ С ХОДА (СЕК)",null,null,null,null,null,null,null,"БЕГ 30 М СО СТАРТА (СЕК)",null,null,null,null,null,null,null,"ЛОВКОСТЬ 10 М (СЕК)",null,null,null,null,null,"ЧЕЛНОЧНЫЙ БЕГ 3Х10 М (СЕК)",null,null,null,"ПОДБРАСЫВАНИЕ  И ЛОВЛЯ МЯЧА (РАЗ)",null,null,null,null,null,null,null,"ОТБИВАНИЕ МЯЧА ОТ ПОЛА ОДНОЙ РУКОЙ (РАЗ)",null,null,null,null,null,null,null,"РАВНОВЕСИЕ (СЕК)",null,null,null,null,null,null,null,null,null,null,null,"одноименным способом",null,null,null,"разноименным способом"]
[null,"ПЧЕЛКА",null,null,"2 младшая группа",null,"средняя группа",null,"старшая группа",null,"подготовительная",null,"2 младшая группа",null,"средняя группа",null,"старшая группа",null,"подготовительная",null,"2 младшая группа",null,"средняя группа",null,"старшая группа",null,"подготовительная",null,"2 младшая группа",null,"средняя группа",null,"старшая группа",null,"подготовительная",null,"2 младшая группа",null,"средняя группа",null,"старшая группа",null,"подготовительная",null,"средняя группа",null,"старшая группа",null,"подготовительная",null,"старшая группа",null,"подготовительная",null,"2 младшая группа",null,"средняя группа",null,"старшая группа",null,"подготовительная",null,"2 младшая группа",null,"средняя группа",null,"старшая группа",null,"подготовительная",null,"2 младшая группа",null,"средняя группа",null,"старшая группа",null,"подготовительная",null,"старшая группа",null,"подготовительная",null,"старшая группа",null,"подготовительная",null,"подгот. группа"]
[null,null,null,null,"2010 - 2011",null,"2011 - 2012",null,"2012 - 2013",null,"2013 - 2014",null,{"$f":"E5","v":"2010 - 2011"},null,{"$f":"G5","v":"2011 - 2012"},null,{"$f":"I5","v":"2012 - 2013"},null,{"$f":"K5","v":"2013 - 2014"},null,{"$f":"E5","v":"2010 - 2011"},null,{"$f":"G5","v":"2011 - 2012"},null,{"$f":"I5","v":"2012 - 2013"},null,{"$f":"K5","v":"2013 - 2014"},null,{"$f":"E5","v":"2010 - 2011"},null,{"$f":"G5","v":"2011 - 2012"},null,{"$f":"I5","v":"2012 - 2013"},null,{"$f":"K5","v":"2013 - 2014"},null,{"$f":"E5","v":"2010 - 2011"},null,{"$f":"G5","v":"2011 - 2012"},null,{"$f":"I5","v":"2012 - 2013"},null,{"$f":"K5","v":"2013 - 2014"},null,{"$f":"G5","v":"2011 - 2012"},null,{"$f":"I5","v":"2012 - 2013"},null,{"$f":"K5","v":"2013 - 2014"},null,{"$f":"I5","v":"2012 - 2013"},null,{"$f":"K5","v":"2013 - 2014"},null,{"$f":"E5","v":"2010 - 2011"},null,{"$f":"G5","v":"2011 - 2012"},null,{"$f":"I5","v":"2012 - 2013"},null,{"$f":"K5","v":"2013 - 2014"},null,{"$f":"E5","v":"2010 - 2011"},null,{"$f":"G5","v":"2011 - 2012"},null,{"$f":"I5","v":"2012 - 2013"},null,{"$f":"K5","v":"2013 - 2014"},null,{"$f":"E5","v":"2010 - 2011"},null,{"$f":"G5","v":"2011 - 2012"},null,{"$f":"I5","v":"2012 - 2013"},null,{"$f":"K5","v":"2013 - 2014"},null,{"$f":"I5","v":"2012 - 2013"},null,{"$f":"K5","v":"2013 - 2014"},null,{"$f":"I5","v":"2012 - 2013"},null,{"$f":"K5","v":"2013 - 2014"},null,{"$f":"K5","v":"2013 - 2014"}]
["№ п/п","ФИ ребенка","Дата рождения","Пол","сентябрь","май","сентябрь","май","сентябрь","май","сентябрь","май","сентябрь","май","сентябрь","май","сентябрь","май","сентябрь","май","сентябрь","май","сентябрь","май","сентябрь","май","сентябрь","май","сентябрь","май","сентябрь","май","сентябрь","май","сентябрь","май","сентябрь","май","сентябрь","май","сентябрь","май","сентябрь","май","сентябрь","май","сентябрь","май","сентябрь","май","сентябрь","май","сентябрь","май","сентябрь","май","сентябрь","май","сентябрь","май","сентябрь","май","сентябрь","май","сентябрь","май","сентябрь","май","сентябрь","май","сентябрь","май","сентябрь","май","сентябрь","май","сентябрь","май","сентябрь","май","сентябрь","май","сентябрь","май","сентябрь","май","сентябрь","май"]
[null,"Цветков Егор","2007-10-01","м",20,50,null,null,null,null,null,null,1.5,2,null,null,null,null,null,null,1.5,1.5,null,null,null,null,null,null,4.4000000000000004,3.8,null,null,null,null,null,null,12.9]
[null,"Дрожжин Тимофей","2007-11-01","м",40,60,null,null,null,null,null,null,2,3,null,null,null,null,null,null,1,3,null,null,null,null,null,null,4.4000000000000004,3.2,null,null,null,null,null,null,11.4,9.6]
[null,"Кириченко Дима","2007-11-01","м",30,50,null,null,null,null,null,null,2,3.5,null,null,null,null,null,null,2,2,null,null,null,null,null,null,3.6,3.6,null,null,null,null,null,null,12.2,10]
[null,"Гордыбаева Кристина","2007-04-01","д",40,60,null,null,null,null,null,null,3,3.5,null,null,null,null,null,null,2,2.5,null,null,null,null,null,null,3.7,3.4,null,null,null,null,null,null,11.3]
[null,"Четыркина настя","2007-04-01","д",30,50,null,null,null,null,null,null,2,2.5,null,null,null,null,null,null,1,2]
[null,"Абрамова Виолетта","2007-05-01","д",null,40,null,null,null,null,null,null,null,2,null,null,null,null,null,null,null,2,null,null,null,null,null,null,4.7,4.2,null,null,null,null,null,null,"1,4,3",12.4]
[]
[]
[]
[]
[]
[]
["Присутствовало детей:",null,null,null,{"$f":"'II младшая'!G20","v":5},{"$f":"'II младшая'!I20","v":6},{"$f":"#REF!","v":{"$error":"#REF!"}},{"$f":"#REF!","v":{"$error":"#REF!"}},{"$f":"#REF!","v":{"$error":"#REF!"}},{"$f":"#REF!","v":{"$error":"#REF!"}},{"$f":"#REF!","v":{"$error":"#REF!"}},{"$f":"#REF!","v":{"$error":"#REF!"}},{"$f":"'II младшая'!K20","v":5},{"$f":"'II младшая'!M20","v":6},{"$f":"#REF!","v":{"$error":"#REF!"}},{"$f":"#REF!","v":{"$error":"#REF!"}},{"$f":"#REF!","v":{"$error":"#REF!"}},{"$f":"#REF!","v":{"$error":"#REF!"}},{"$f":"#REF!","v":{"$error":"#REF!"}},{"$f":"#REF!","v":{"$error":"#REF!"}},{"$f":"'II младшая'!O20","v":5},{"$f":"'II младшая'!Q20","v":6},{"$f":"#REF!","v":{"$error":"#REF!"}},{"$f":"#REF!","v":{"$error":"#REF!"}},{"$f":"#REF!","v":{"$error":"#REF!"}},{"$f":"#REF!","v":{"$error":"#REF!"}},{"$f":"#REF!","v":{"$error":"#REF!"}},{"$f":"#REF!","v":{"$error":"#REF!"}},{"$f":"'II младшая'!S20","v":5},{"$f":"'II младшая'!U20","v":5},{"$f":"#REF!","v":{"$error":"#REF!"}},{"$f":"#REF!","v":{"$error":"#REF!"}},{"$f":"#REF!","v":{"$error":"#REF!"}},{"$f":"#REF!","v":{"$error":"#REF!"}},{"$f":"#REF!","v":{"$error":"#REF!"}},{"$f":"#REF!","v":{"$error":"#REF!"}},{"$f":"'II младшая'!W20","v":4},{"$f":"'II младшая'!Y20","v":3},{"$f":"#REF!","v":{"$error":"#REF!"}},{"$f":"#REF!","v":{"$error":"#REF!"}},{"$f":"#REF!","v":{"$error":"#REF!"}},{"$f":"#REF!","v":{"$error":"#REF!"}},{"$f":"#REF!","v":{"$error":"#REF!"}},{"$f":"#REF!","v":{"$error":"#REF!"}},{"$f":"#REF!","v":{"$error":"#REF!"}},{"$f":"#REF!","v":{"$error":"#REF!"}},{"$f":"#REF!","v":{"$error":"#REF!"}},{"$f":"#REF!","v":{"$error":"#REF!"}},{"$f":"#REF!","v":{"$error":"#REF!"}},{"$f":"#REF!","v":{"$error":"#REF!"}},{"$f":"#REF!","v":{"$error":"#REF!"}},{"$f":"#REF!","v":{"$error":"#REF!"}},{"$f":"#REF!","v":{"$error":"#REF!"}},{"$f":"#REF!","v":{"$error":"#REF!"}},{"$f":"'II младшая'!AA20","v":0},{"$f":"'II младшая'!AC20","v":0},{"$f":"#REF!","v":{"$error":"#REF!"}},{"$f":"#REF!","v":{"$error":"#REF!"}},{"$f":"#REF!","v":{"$error":"#REF!"}},{"$f":"#REF!","v":{"$error":"#REF!"}},{"$f":"#REF!","v":{"$error":"#REF!"}},{"$f":"#REF!","v":{"$error":"#REF!"}},null,null,{"$f":"#REF!","v":{"$error":"#REF!"}},{"$f":"#REF!","v":{"$error":"#REF!"}},{"$f":"#REF!","v":{"$error":"#REF!"}},{"$f":"#REF!","v":{"$error":"#REF!"}},{"$f":"#REF!","v":{"$error":"#REF!"}},{"$f":"#REF!","v":{"$error":"#REF!"}},null,null,{"$f":"#REF!","v":{"$error":"#REF!"}},{"$f":"#REF!","v":{"$error":"#REF!"}},{"$f":"#REF!","v":{"$error":"#REF!"}},{"$f":"#REF!","v":{"$error":"#REF!"}},{"$f":"#REF!","v":{"$error":"#REF!"}},{"$f":"#REF!","v":{"$error":"#REF!"}},{"$f":"#REF!","v":{"$error":"#REF!"}},{"$f":"#REF!","v":{"$error":"#REF!"}},{"$f":"#REF!","v":{"$error":"#REF!"}},{"$f":"#REF!","v":{"$error":"#REF!"}},{"$f":"#REF!","v":{"$error":"#REF!"}},{"$f":"#REF!","v":{"$error":"#REF!"}},{"$f":"#REF!","v":{"$error":"#REF!"}},{"$f":"#REF!","v":{"$error":"#REF!"}},{"$f":"#REF!","v":{"$error":"#REF!"}},{"$f":"#REF!","v":{"$error":"#REF!"}}]
["низкий уовень:",null,null,null,{"$f":"'II младшая'!H21","v":80},{"$f":"'II младшая'!J21","v":33.333333333333336},{"$f":"#REF!","v":{"$error":"#REF!"}},{"$f":"#REF!","v":{"$error":"#REF!"}},{"$f":"#REF!","v":{"$error":"#REF!"}},{"$f":"#REF!","v":{"$error":"#REF!"}},{"$f":"#REF!","v":{"$error":"#REF!"}},{"$f":"#REF!","v":{"$error":"#REF!"}},{"$f":"'II младшая'!L21","v":20},{"$f":"'II младшая'!N21","v":33.333333333333336},{"$f":"#REF!","v":{"$error":"#REF!"}},{"$f":"#REF!","v":{"$error":"#REF!"}},{"$f":"#REF!","v":{"$error":"#REF!"}},{"$f":"#REF!","v":{"$error":"#REF!"}},{"$f":"#REF!","v":{"$error":"#REF!"}},{"$f":"#REF!","v":{"$error":"#REF!"}},{"$f":"'II младшая'!P21","v":60},{"$f":"'II младшая'!R21","v":50},{"$f":"#REF!","v":{"$error":"#REF!"}},{"$f":"#REF!","v":{"$error":"#REF!"}},{"$f":"#REF!","v":{"$error":"#REF!"}},{"$f":"#REF!","v":{"$error":"#REF!"}},{"$f":"#REF!","v":{"$error":"#REF!"}},{"$f":"#REF!","v":{"$error":"#REF!"}},{"$f":"'II младшая'!T21","v":60},{"$f":"'II младшая'!V21","v":40},{"$f":"#REF!","v":{"$error":"#REF!"}},{"$f":"#REF!","v":{"$error":"#REF!"}},{"$f":"#REF!","v":{"$error":"#REF!"}},{"$f":"#REF!","v":{"$error":"#REF!"}},{"$f":"#REF!","v":{"$error":"#REF!"}},{"$f":"#REF!","v":{"$error":"#REF!"}},{"$f":"'II младшая'!X21","v":100},{"$f":"'II младшая'!Z21","v":33.333333333333336},{"$f":"#REF!","v":{"$error":"#REF!"}},{"$f":"#REF!","v":{"$error":"#REF!"}},{"$f":"#REF!","v":{"$error":"#REF!"}},{"$f":"#REF!","v":{"$error":"#REF!"}},{"$f":"#REF!","v":{"$error":"#REF!"}},{"$f":"#REF!","v":{"$error":"#REF!"}},{"$f":"#REF!","v":{"$error":"#REF!"}},{"$f":"#REF!","v":{"$error":"#REF!"}},{"$f":"#REF!","v":{"$error":"#REF!"}},{"$f":"#REF!","v":{"$error":"#REF!"}},{"$f":"#REF!","v":{"$error":"#REF!"}},{"$f":"#REF!","v":{"$error":"#REF!"}},{"$f":"#REF!","v":{"$error":"#REF!"}},{"$f":"#REF!","v":{"$error":"#REF!"}},{"$f":"#REF!","v":{"$error":"#REF!"}},{"$f":"#REF!","v":{"$error":"#REF!"}},{"$f":"'II младшая'!AB21","v":"-"},{"$f":"'II младшая'!AD21","v":"-"},{"$f":"#REF!","v":{"$error":"#REF!"}},{"$f":"#REF!","v":{"$error":"#REF!"}},{"$f":"#REF!","v":{"$error":"#REF!"}},{"$f":"#REF!","v":{"$error":"#REF!"}},{"$f":"#REF!","v":{"$error":"#REF!"}},{"$f":"#REF!","v":{"$error":"#REF!"}},null,null,{"$f":"#REF!","v":{"$error":"#REF!"}},{"$f":"#REF!","v":{"$error":"#REF!"}},{"$f":"#REF!","v":{"$error":"#REF!"}},{"$f":"#REF!","v":{"$error":"#REF!"}},{"$f":"#REF!","v":{"$error":"#REF!"}},{"$f":"#REF!","v":{"$error":"#REF!"}},null,null,{"$f":"#REF!","v":{"$error":"#REF!"}},{"$f":"#REF!","v":{"$error":"#REF!"}},{"$f":"#REF!","v":{"$error":"#REF!"}},{"$f":"#REF!","v":{"$error":"#REF!"}},{"$f":"#REF!","v":{"$error":"#REF!"}},{"$f":"#REF!","v":{"$error":"#REF!"}},{"$f":"#REF!","v":{"$error":"#REF!"}},{"$f":"#REF!","v":{"$error":"#REF!"}},{"$f":"#REF!","v":{"$error":"#REF!"}},{"$f":"#REF!","v":{"$error":"#REF!"}},{"$f":"#REF!","v":{"$error":"#REF!"}},{"$f":"#REF!","v":{"$error":"#REF!"}},{"$f":"#REF!","v":{"$error":"#REF!"}},{"$f":"#REF!","v":{"$error":"#REF!"}},{"$f":"#REF!","v":{"$error":"#REF!"}},{"$f":"#REF!","v":{"$error":"#REF!"}}]
["средний уровень:",null,null,null,{"$f":"'II младшая'!H22","v":20},{"$f":"'II младшая'!J22","v":66.666666666666671},{"$f":"#REF!","v":{"$error":"#REF!"}},{"$f":"#REF!","v":{"$error":"#REF!"}},{"$f":"#REF!","v":{"$error":"#REF!"}},{"$f":"#REF!","v":{"$error":"#REF!"}},{"$f":"#REF!","v":{"$error":"#REF!"}},{"$f":"#REF!","v":{"$error":"#REF!"}},{"$f":"'II младшая'!L22","v":60},{"$f":"'II младшая'!N22","v":16.666666666666668},{"$f":"#REF!","v":{"$error":"#REF!"}},{"$f":"#REF!","v":{"$error":"#REF!"}},{"$f":"#REF!","v":{"$error":"#REF!"}},{"$f":"#REF!","v":{"$error":"#REF!"}},{"$f":"#REF!","v":{"$error":"#REF!"}},{"$f":"#REF!","v":{"$error":"#REF!"}},{"$f":"'II младшая'!P22","v":20},{"$f":"'II младшая'!R22","v":33.333333333333336},{"$f":"#REF!","v":{"$error":"#REF!"}},{"$f":"#REF!","v":{"$error":"#REF!"}},{"$f":"#REF!","v":{"$error":"#REF!"}},{"$f":"#REF!","v":{"$error":"#REF!"}},{"$f":"#REF!","v":{"$error":"#REF!"}},{"$f":"#REF!","v":{"$error":"#REF!"}},{"$f":"'II младшая'!T22","v":20},{"$f":"'II младшая'!V22","v":20},{"$f":"#REF!","v":{"$error":"#REF!"}},{"$f":"#REF!","v":{"$error":"#REF!"}},{"$f":"#REF!","v":{"$error":"#REF!"}},{"$f":"#REF!","v":{"$error":"#REF!"}},{"$f":"#REF!","v":{"$error":"#REF!"}},{"$f":"#REF!","v":{"$error":"#REF!"}},{"$f":"'II младшая'!X22","v":25},{"$f":"'II младшая'!Z22","v":66.666666666666671},{"$f":"#REF!","v":{"$error":"#REF!"}},{"$f":"#REF!","v":{"$error":"#REF!"}},{"$f":"#REF!","v":{"$error":"#REF!"}},{"$f":"#REF!","v":{"$error":"#REF!"}},{"$f":"#REF!","v":{"$error":"#REF!"}},{"$f":"#REF!","v":{"$error":"#REF!"}},{"$f":"#REF!","v":{"$error":"#REF!"}},{"$f":"#REF!","v":{"$error":"#REF!"}},{"$f":"#REF!","v":{"$error":"#REF!"}},{"$f":"#REF!","v":{"$error":"#REF!"}},{"$f":"#REF!","v":{"$error":"#REF!"}},{"$f":"#REF!","v":{"$error":"#REF!"}},{"$f":"#REF!","v":{"$error":"#REF!"}},{"$f":"#REF!","v":{"$error":"#REF!"}},{"$f":"#REF!","v":{"$error":"#REF!"}},{"$f":"#REF!","v":{"$error":"#REF!"}},{"$f":"'II младшая'!AB22","v":"-"},{"$f":"'II младшая'!AD22","v":"-"},{"$f":"#REF!","v":{"$error":"#REF!"}},{"$f":"#REF!","v":{"$error":"#REF!"}},{"$f":"#REF!","v":{"$error":"#REF!"}},{"$f":"#REF!","v":{"$error":"#REF!"}},{"$f":"#REF!","v":{"$error":"#REF!"}},{"$f":"#REF!","v":{"$error":"#REF!"}},null,null,{"$f":"#REF!","v":{"$error":"#REF!"}},{"$f":"#REF!","v":{"$error":"#REF!"}},{"$f":"#REF!","v":{"$error":"#REF!"}},{"$f":"#REF!","v":{"$error":"#REF!"}},{"$f":"#REF!","v":{"$error":"#REF!"}},{"$f":"#REF!","v":{"$error":"#REF!"}},null,null,{"$f":"#REF!","v":{"$error":"#REF!"}},{"$f":"#REF!","v":{"$error":"#REF!"}},{"$f":"#REF!","v":{"$error":"#REF!"}},{"$f":"#REF!","v":{"$error":"#REF!"}},{"$f":"#REF!","v":{"$error":"#REF!"}},{"$f":"#REF!","v":{"$error":"#REF!"}},{"$f":"#REF!","v":{"$error":"#REF!"}},{"$f":"#REF!","v":{"$error":"#REF!"}},{"$f":"#REF!","v":{"$error":"#REF!"}},{"$f":"#REF!","v":{"$error":"#REF!"}},{"$f":"#REF!","v":{"$error":"#REF!"}},{"$f":"#REF!","v":{"$error":"#REF!"}},{"$f":"#REF!","v":{"$error":"#REF!"}},{"$f":"#REF!","v":{"$error":"#REF!"}},{"$f":"#REF!","v":{"$error":"#REF!"}},{"$f":"#REF!","v":{"$error":"#REF!"}}]
["высокий уровень:",null,null,null,{"$f":"'II младшая'!H23","v":0},{"$f":"'II младшая'!J23","v":0},{"$f":"#REF!","v":{"$error":"#REF!"}},{"$f":"#REF!","v":{"$error":"#REF!"}},{"$f":"#REF!","v":{"$error":"#REF!"}},{"$f":"#REF!","v":{"$error":"#REF!"}},{"$f":"#REF!","v":{"$error":"#REF!"}},{"$f":"#REF!","v":{"$error":"#REF!"}},{"$f":"'II младшая'!L23","v":20},{"$f":"'II младшая'!N23","v":50},{"$f":"#REF!","v":{"$error":"#REF!"}},{"$f":"#REF!","v":{"$error":"#REF!"}},{"$f":"#REF!","v":{"$error":"#REF!"}},{"$f":"#REF!","v":{"$error":"#REF!"}},{"$f":"#REF!","v":{"$error":"#REF!"}},{"$f":"#REF!","v":{"$error":"#REF!"}},{"$f":"'II младшая'!P23","v":20},{"$f":"'II младшая'!R23","v":16.666666666666668},{"$f":"#REF!","v":{"$error":"#REF!"}},{"$f":"#REF!","v":{"$error":"#REF!"}},{"$f":"#REF!","v":{"$error":"#REF!"}},{"$f":"#REF!","v":{"$error":"#REF!"}},{"$f":"#REF!","v":{"$error":"#REF!"}},{"$f":"#REF!","v":{"$error":"#REF!"}},{"$f":"'II младшая'!T23","v":20},{"$f":"'II младшая'!V23","v":40},{"$f":"#REF!","v":{"$error":"#REF!"}},{"$f":"#REF!","v":{"$error":"#REF!"}},{"$f":"#REF!","v":{"$error":"#REF!"}},{"$f":"#REF!","v":{"$error":"#REF!"}},{"$f":"#REF!","v":{"$error":"#REF!"}},{"$f":"#REF!","v":{"$error":"#REF!"}},{"$f":"'II младшая'!X23","v":0},{"$f":"'II младшая'!Z23","v":0},{"$f":"#REF!","v":{"$error":"#REF!"}},{"$f":"#REF!","v":{"$error":"#REF!"}},{"$f":"#REF!","v":{"$error":"#REF!"}},{"$f":"#REF!","v":{"$error":"#REF!"}},{"$f":"#REF!","v":{"$error":"#REF!"}},{"$f":"#REF!","v":{"$error":"#REF!"}},{"$f":"#REF!","v":{"$error":"#REF!"}},{"$f":"#REF!","v":{"$error":"#REF!"}},{"$f":"#REF!","v":{"$error":"#REF!"}},{"$f":"#REF!","v":{"$error":"#REF!"}},{"$f":"#REF!","v":{"$error":"#REF!"}},{"$f":"#REF!","v":{"$error":"#REF!"}},{"$f":"#REF!","v":{"$error":"#REF!"}},{"$f":"#REF!","v":{"$error":"#REF!"}},{"$f":"#REF!","v":{"$error":"#REF!"}},{"$f":"#REF!","v":{"$error":"#REF!"}},{"$f":"'II младшая'!AB23","v":"-"},{"$f":"'II младшая'!AD23","v":"-"},{"$f":"#REF!","v":{"$error":"#REF!"}},{"$f":"#REF!","v":{"$error":"#REF!"}},{"$f":"#REF!","v":{"$error":"#REF!"}},{"$f":"#REF!","v":{"$error":"#REF!"}},{"$f":"#REF!","v":{"$error":"#REF!"}},{"$f":"#REF!","v":{"$error":"#REF!"}},null,null,{"$f":"#REF!","v":{"$error":"#REF!"}},{"$f":"#REF!","v":{"$error":"#REF!"}},{"$f":"#REF!","v":{"$error":"#REF!"}},{"$f":"#REF!","v":{"$error":"#REF!"}},{"$f":"#REF!","v":{"$error":"#REF!"}},{"$f":"#REF!","v":{"$error":"#REF!"}},null,null,{"$f":"#REF!","v":{"$error":"#REF!"}},{"$f":"#REF!","v":{"$error":"#REF!"}},{"$f":"#REF!","v":{"$error":"#REF!"}},{"$f":"#REF!","v":{"$error":"#REF!"}},{"$f":"#REF!","v":{"$error":"#REF!"}},{"$f":"#REF!","v":{"$error":"#REF!"}},{"$f":"#REF!","v":{"$error":"#REF!"}},{"$f":"#REF!","v":{"$error":"#REF!"}},{"$f":"#REF!","v":{"$error":"#REF!"}},{"$f":"#REF!","v":{"$error":"#REF!"}},{"$f":"#REF!","v":{"$error":"#REF!"}},{"$f":"#REF!","v":{"$error":"#REF!"}},{"$f":"#REF!","v":{"$error":"#REF!"}},{"$f":"#REF!","v":{"$error":"#REF!"}},{"$f":"#REF!","v":{"$error":"#REF!"}},{"$f":"#REF!","v":{"$error":"#REF!"}}]

{"sheet":"II младшая","index":2,"n_rows":23,"n_cols":59,"rows_kept":23,"cut":false,"hidden":false,"merged":[[4,26,4,29],[3,31,3,38],[5,47,5,52],[5,53,5,58],[4,39,4,40],[4,41,4,42],[4,43,4,44],[3,39,3,46],[4,37,5,37],[4,38,5,38],[4,45,5,45],[4,46,5,46],[4,31,4,32],[4,33,4,34],[4,35,4,36],[4,14,4,17],[4,18,4,21],[4,22,4,25],[18,0,18,5],[2,0,2,3],[2,4,2,6],[3,0,3,2],[3,4,3,6],[4,4,4,5],[4,6,4,9],[3,10,3,17],[19,0,19,5],[20,0,20,5],[21,0,21,5],[22,0,22,5],[4,10,4,13]]}
["Диагностическая карта обследования детей дошкольного возраста по физической культуре"]
[]
[{"$f":"CONCATENATE(Итоговая!B3,Итоговая!B4)","v":"группа № 6  ПЧЕЛКА"},null,null,null,"2010-09-01"]
["II младшая",null,null,null,"2011-05-01",null,null,null,null,null,"Метание мешочка с песком вдаль 200 гр",null,null,null,null,null,null,null,null,null,null,null,null,null,null,null,null,null,null,null,null,"НАЧАЛО ГОДА",null,null,null,null,null,null,null,"КОНЕЦ ГОДА"]
[null,null,null,null,"возрст",null,"Прыжки в длину с места – см",null,null,null,"правой рукой - м",null,null,null,"левой рукой - м",null,null,null,"Бег 10 метров с хода - с",null,null,null,"Бег 30 метров со старта - с",null,null,null,"Мяч (количество подбрасываний) - раз ",null,null,null,null,"низкий",null,"средний",null,"высокий",null,"средний \nбалл","средний\nуровень","низкий",null,"средний",null,"высокий",null,"средний \nбалл","средний\nуровень"]
["№ п/п","Дата рождения","ФИ ребенка","Пол","н.г.","к.г.","сентябрь","уровень","май","уровень","сентябрь","уровень","май","уровень","сентябрь","уровень","май","уровень","сентябрь","уровень","май","уровень","сентябрь","уровень","май","уровень","сентябрь","уровень","май","уровень",null,"кол-во","%","кол-во","%","кол-во","%",null,null,"кол-во","%","кол-во","%","кол-во","%",null,null,"НАЧАЛО ГОДА",null,null,null,null,null,"КОНЕЦ ГОДА"]
[1,{"$f":"IF(Итоговая!C7=\"\",\"\",Итоговая!C7)","v":"2007-10-01"},{"$f":"IF(Итоговая!B7=\"\",\"\",Итоговая!B7)","v":"Цветков Егор"},{"$f":"IF(Итоговая!D7=\"\",\"\",Итоговая!D7)","v":"м"},{"$f":"IF(C7=\"\",\"\",(ROUNDDOWN(($E$3-B7)/365,0.1)))","v":2},{"$f":"IF(C7=\"\",\"\",(ROUNDDOWN(($E$4-B7)/365,0.1)))","v":3},{"$f":"IF(Итоговая!E7=\"\",\"\",Итоговая!E7)","v":20},{"$f":"IF(G7=\"\",\"\",(IF($D7=\"м\",(IF($E7<=3,(IF(G7<=Показатели!$C$7,\"Н\",(IF(G7<=Показатели!$D$7,\"С\",\"В\")))),(IF($E7=4,(IF(G7<=Показатели!$E$7,\"Н\",(IF(G7<=Показатели!$F$7,\"С\",\"В\")))),(IF($E7=5,(IF(G7<=Показатели!$G$7,\"Н\",(IF(G7<=Показатели!$H$7,\"С\",\"В\")))),(IF($E7=6,(IF(G7<=Показатели!$I$7,\"Н\",(IF(G7<= Показатели!$J$7,\"С\",\"В\")))),(IF($E7>=7,(IF(G7<=Показатели!$K$7,\"Н\",(IF(G7<=Показатели!$L$7,\"С\",\"В\")))))))))))))),(IF($E7<=3,(IF(G7<=Показатели!$C$26,\"Н\",(IF(G7<=Показатели!$D$26,\"С\",\"В\")))),(IF($E7=4,(IF(G7<=Показатели!$E$26,\"Н\",(IF(G7<=Показатели!$F$26,\"С\",\"В\")))),(IF($E7=5,(IF(G7<=Показатели!$G$26,\"Н\",(IF(G7<=Показатели!$H$26,\"С\",\"В\")))),(IF($E7=6,(IF(G7<=Показатели!$I$26,\"Н\",(IF(G7<= Показатели!$J$26,\"С\",\"В\")))),(IF($E7>=7,(IF(G7<=Показатели!$K$26,\"Н\",(IF(G7<=Показатели!$L$26,\"С\",\"В\")))))))))))))))))","v":"Н"},{"$f":"IF(Итоговая!F7=\"\",\"\",Итоговая!F7)","v":50},{"$f":"IF(I7=\"\",\"\",(IF($D7=\"м\",(IF($F7<=3,(IF(I7<=Показатели!$C$7,\"Н\",(IF(I7<=Показатели!$D$7,\"С\",\"В\")))),(IF($F7=4,(IF(I7<=Показатели!$E$7,\"Н\",(IF(I7<=Показатели!$F$7,\"С\",\"В\")))),(IF($F7=5,(IF(I7<=Показатели!$G$7,\"Н\",(IF(I7<=Показатели!$H$7,\"С\",\"В\")))),(IF($F7=6,(IF(I7<=Показатели!$I$7,\"Н\",(IF(I7<= Показатели!$J$7,\"С\",\"В\")))),(IF($F7>=7,(IF(I7<=Показатели!$K$7,\"Н\",(IF(I7<=Показатели!$L$7,\"С\",\"В\")))))))))))))),(IF($F7<=3,(IF(I7<=Показатели!$C$26,\"Н\",(IF(I7<=Показатели!$D$26,\"С\",\"В\")))),(IF($F7=4,(IF(I7<=Показатели!$E$26,\"Н\",(IF(I7<=Показатели!$F$26,\"С\",\"В\")))),(IF($F7=5,(IF(I7<=Показатели!$G$26,\"Н\",(IF(I7<=Показатели!$H$26,\"С\",\"В\")))),(IF($F7=6,(IF(I7<=Показатели!$I$26,\"Н\",(IF(I7<= Показатели!$J$26,\"С\",\"В\")))),(IF($F7>=7,(IF(I7<=Показатели!$K$26,\"Н\",(IF(I7<=Показатели!$L$26,\"С\",\"В\")))))))))))))))))","v":"С"},{"$f":"IF(Итоговая!M7=\"\",\"\",Итоговая!M7)","v":1.5},{"$f":"IF(K7=\"\",\"\",(IF($D7=\"м\",(IF($E7<=3,(IF(K7<=Показатели!$C$8,\"Н\",(IF(K7<=Показатели!$D$8,\"С\",\"В\")))),(IF($E7=4,(IF(K7<=Показатели!$E$8,\"Н\",(IF(K7<=Показатели!$F$8,\"С\",\"В\")))),(IF($E7=5,(IF(K7<=Показатели!$G$8,\"Н\",(IF(K7<=Показатели!$H$8,\"С\",\"В\")))),(IF($E7=6,(IF(K7<=Показатели!$I$8,\"Н\",(IF(K7<= Показатели!$J$8,\"С\",\"В\")))),(IF($E7>=7,(IF(K7<=Показатели!$K$8,\"Н\",(IF(K7<=Показатели!$L$8,\"С\",\"В\")))))))))))))),(IF($E7<=3,(IF(K7<=Показатели!$C$27,\"Н\",(IF(K7<=Показатели!$D$27,\"С\",\"В\")))),(IF($E7=4,(IF(K7<=Показатели!$E$27,\"Н\",(IF(K7<=Показатели!$F$27,\"С\",\"В\")))),(IF($E7=5,(IF(K7<=Показатели!$G$27,\"Н\",(IF(K7<=Показатели!$H$27,\"С\",\"В\")))),(IF($E7=6,(IF(K7<=Показатели!$I$27,\"Н\",(IF(K7<= Показатели!$J$27,\"С\",\"В\")))),(IF($E7>=7,(IF(K7<=Показатели!$K$27,\"Н\",(IF(K7<=Показатели!$L$27,\"С\",\"В\")))))))))))))))))","v":"Н"},{"$f":"IF(Итоговая!N7=\"\",\"\",Итоговая!N7)","v":2},{"$f":"IF(M7=\"\",\"\",(IF($D7=\"м\",(IF($F7<=3,(IF(M7<=Показатели!$C$8,\"Н\",(IF(M7<=Показатели!$D$8,\"С\",\"В\")))),(IF($F7=4,(IF(M7<=Показатели!$E$8,\"Н\",(IF(M7<=Показатели!$F$8,\"С\",\"В\")))),(IF($F7=5,(IF(M7<=Показатели!$G$8,\"Н\",(IF(M7<=Показатели!$H$8,\"С\",\"В\")))),(IF($F7=6,(IF(M7<=Показатели!$I$8,\"Н\",(IF(M7<= Показатели!$J$8,\"С\",\"В\")))),(IF($F7>=7,(IF(M7<=Показатели!$K$8,\"Н\",(IF(M7<=Показатели!$L$8,\"С\",\"В\")))))))))))))),(IF($F7<=3,(IF(M7<=Показатели!$C$27,\"Н\",(IF(M7<=Показатели!$D$27,\"С\",\"В\")))),(IF($F7=4,(IF(M7<=Показатели!$E$27,\"Н\",(IF(M7<=Показатели!$F$27,\"С\",\"В\")))),(IF($F7=5,(IF(M7<=Показатели!$G$27,\"Н\",(IF(M7<=Показатели!$H$27,\"С\",\"В\")))),(IF($F7=6,(IF(M7<=Показатели!$I$27,\"Н\",(IF(M7<= Показатели!$J$27,\"С\",\"В\")))),(IF($F7>=7,(IF(M7<=Показатели!$K$27,\"Н\",(IF(M7<=Показатели!$L$27,\"С\",\"В\")))))))))))))))))","v":"С"},{"$f":"IF(Итоговая!U7=\"\",\"\",Итоговая!U7)","v":1.5},{"$f":"IF(O7=\"\",\"\",(IF($D7=\"м\",(IF($E7<=3,(IF(O7<=Показатели!$C$9,\"Н\",(IF(O7<=Показатели!$D$9,\"С\",\"В\")))),(IF($E7=4,(IF(O7<=Показатели!$E$9,\"Н\",(IF(O7<=Показатели!$F$9,\"С\",\"В\")))),(IF($E7=5,(IF(O7<=Показатели!$G$9,\"Н\",(IF(O7<=Показатели!$H$9,\"С\",\"В\")))),(IF($E7=6,(IF(O7<=Показатели!$I$9,\"Н\",(IF(O7<= Показатели!$J$9,\"С\",\"В\")))),(IF($E7>=7,(IF(O7<=Показатели!$K$9,\"Н\",(IF(O7<=Показатели!$L$9,\"С\",\"В\")))))))))))))),(IF($E7<=3,(IF(O7<=Показатели!$C$28,\"Н\",(IF(O7<=Показатели!$D$28,\"С\",\"В\")))),(IF($E7=4,(IF(O7<=Показатели!$E$28,\"Н\",(IF(O7<=Показатели!$F$28,\"С\",\"В\")))),(IF($E7=5,(IF(O7<=Показатели!$G$28,\"Н\",(IF(O7<=Показатели!$H$28,\"С\",\"В\")))),(IF($E7=6,(IF(O7<=Показатели!$I$28,\"Н\",(IF(O7<= Показатели!$J$28,\"С\",\"В\")))),(IF($E7>=7,(IF(O7<=Показатели!$K$28,\"Н\",(IF(O7<=Показатели!$L$28,\"С\",\"В\")))))))))))))))))","v":"Н"},{"$f":"IF(Итоговая!V7=\"\",\"\",Итоговая!V7)","v":1.5},{"$f":"IF(Q7=\"\",\"\",(IF($D7=\"м\",(IF($F7<=3,(IF(Q7<=Показатели!$C$9,\"Н\",(IF(Q7<=Показатели!$D$9,\"С\",\"В\")))),(IF($F7=4,(IF(Q7<=Показатели!$E$9,\"Н\",(IF(Q7<=Показатели!$F$9,\"С\",\"В\")))),(IF($F7=5,(IF(Q7<=Показатели!$G$9,\"Н\",(IF(Q7<=Показатели!$H$9,\"С\",\"В\")))),(IF($F7=6,(IF(Q7<=Показатели!$I$9,\"Н\",(IF(Q7<= Показатели!$J$9,\"С\",\"В\")))),(IF($F7>=7,(IF(Q7<=Показатели!$K$9,\"Н\",(IF(Q7<=Показатели!$L$9,\"С\",\"В\")))))))))))))),(IF($F7<=3,(IF(Q7<=Показатели!$C$28,\"Н\",(IF(Q7<=Показатели!$D$28,\"С\",\"В\")))),(IF($F7=4,(IF(Q7<=Показатели!$E$28,\"Н\",(IF(Q7<=Показатели!$F$28,\"С\",\"В\")))),(IF($F7=5,(IF(Q7<=Показатели!$G$28,\"Н\",(IF(Q7<=Показатели!$H$28,\"С\",\"В\")))),(IF($F7=6,(IF(Q7<=Показатели!$I$28,\"Н\",(IF(Q7<= Показатели!$J$28,\"С\",\"В\")))),(IF($F7>=7,(IF(Q7<=Показатели!$K$28,\"Н\",(IF(Q7<=Показатели!$L$28,\"С\",\"В\")))))))))))))))))","v":"Н"},{"$f":"IF(Итоговая!AC7=\"\",\"\",Итоговая!AC7)","v":4.4000000000000004},{"$f":"IF(S7=\"\",\"\",(IF($D7=\"м\",(IF($E7<=3,(IF(S7>=Показатели!$C$10,\"Н\",(IF(S7>=Показатели!$D$10,\"С\",\"В\")))),(IF($E7=4,(IF(S7>=Показатели!$E$10,\"Н\",(IF(S7>=Показатели!$F$10,\"С\",\"В\")))),(IF($E7=5,(IF(S7>=Показатели!$G$10,\"Н\",(IF(S7>=Показатели!$H$10,\"С\",\"В\")))),(IF($E7=6,(IF(S7>=Показатели!$I$10,\"Н\",(IF(S7>= Показатели!$J$10,\"С\",\"В\")))),(IF($E7>=7,(IF(S7>=Показатели!$K$10,\"Н\",(IF(S7>=Показатели!$L$10,\"С\",\"В\")))))))))))))),(IF($E7<=3,(IF(S7>=Показатели!$C$29,\"Н\",(IF(S7>=Показатели!$D$29,\"С\",\"В\")))),(IF($E7=4,(IF(S7>=Показатели!$E$29,\"Н\",(IF(S7>=Показатели!$F$29,\"С\",\"В\")))),(IF($E7=5,(IF(S7>=Показатели!$G$29,\"Н\",(IF(S7>=Показатели!$H$29,\"С\",\"В\")))),(IF($E7=6,(IF(S7>=Показатели!$I$29,\"Н\",(IF(S7>= Показатели!$J$29,\"С\",\"В\")))),(IF($E7>=7,(IF(S7>=Показатели!$K$29,\"Н\",(IF(S7>=Показатели!$L$29,\"С\",\"В\")))))))))))))))))","v":"Н"},{"$f":"IF(Итоговая!AD7=\"\",\"\",Итоговая!AD7)","v":3.8},{"$f":"IF(U7=\"\",\"\",(IF($D7=\"м\",(IF($F7<=3,(IF(U7>=Показатели!$C$10,\"Н\",(IF(U7>=Показатели!$D$10,\"С\",\"В\")))),(IF($F7=4,(IF(U7>=Показатели!$E$10,\"Н\",(IF(U7>=Показатели!$F$10,\"С\",\"В\")))),(IF($F7=5,(IF(U7>=Показатели!$G$10,\"Н\",(IF(U7>=Показатели!$H$10,\"С\",\"В\")))),(IF($F7=6,(IF(U7>=Показатели!$I$10,\"Н\",(IF(U7>= Показатели!$J$10,\"С\",\"В\")))),(IF($F7>=7,(IF(U7>=Показатели!$K$10,\"Н\",(IF(U7>=Показатели!$L$10,\"С\",\"В\")))))))))))))),(IF($F7<=3,(IF(U7>=Показатели!$C$29,\"Н\",(IF(U7>=Показатели!$D$29,\"С\",\"В\")))),(IF($F7=4,(IF(U7>=Показатели!$E$29,\"Н\",(IF(U7>=Показатели!$F$29,\"С\",\"В\")))),(IF($F7=5,(IF(U7>=Показатели!$G$29,\"Н\",(IF(U7>=Показатели!$H$29,\"С\",\"В\")))),(IF($F7=6,(IF(U7>=Показатели!$I$29,\"Н\",(IF(U7>= Показатели!$J$29,\"С\",\"В\")))),(IF($F7>=7,(IF(U7>=Показатели!$K$29,\"Н\",(IF(U7>=Показатели!$L$29,\"С\",\"В\")))))))))))))))))","v":"С"},{"$f":"IF(Итоговая!AK7=\"\",\"\",Итоговая!AK7)","v":12.9},{"$f":"IF(W7=\"\",\"\",(IF($D7=\"м\",(IF($E7<=3,(IF(W7>=Показатели!$C$11,\"Н\",(IF(W7>=Показатели!$D$11,\"С\",\"В\")))),(IF($E7=4,(IF(W7>=Показатели!$E$11,\"Н\",(IF(W7>=Показатели!$F$11,\"С\",\"В\")))),(IF($E7=5,(IF(W7>=Показатели!$G$11,\"Н\",(IF(W7>=Показатели!$H$11,\"С\",\"В\")))),(IF($E7=6,(IF(W7>=Показатели!$I$11,\"Н\",(IF(W7>= Показатели!$J$11,\"С\",\"В\")))),(IF($E7>=7,(IF(W7>=Показатели!$K$11,\"Н\",(IF(W7>=Показатели!$L$11,\"С\",\"В\")))))))))))))),(IF($E7<=3,(IF(W7>=Показатели!$C$30,\"Н\",(IF(W7>=Показатели!$D$30,\"С\",\"В\")))),(IF($E7=4,(IF(W7>=Показатели!$E$30,\"Н\",(IF(W7>=Показатели!$F$30,\"С\",\"В\")))),(IF($E7=5,(IF(W7>=Показатели!$G$30,\"Н\",(IF(W7>=Показатели!$H$30,\"С\",\"В\")))),(IF($E7=6,(IF(W7>=Показатели!$I$30,\"Н\",(IF(W7>= Показатели!$J$30,\"С\",\"В\")))),(IF($E7>=7,(IF(W7>=Показатели!$K$30,\"Н\",(IF(W7>=Показатели!$L$30,\"С\",\"В\")))))))))))))))))","v":"Н"},{"$f":"IF(Итоговая!AL7=\"\",\"\",Итоговая!AL7)","v":""},{"$f":"IF(Y7=\"\",\"\",(IF($D7=\"м\",(IF($F7<=3,(IF(Y7>=Показатели!$C$11,\"Н\",(IF(Y7>=Показатели!$D$11,\"С\",\"В\")))),(IF($F7=4,(IF(Y7>=Показатели!$E$11,\"Н\",(IF(Y7>=Показатели!$F$11,\"С\",\"В\")))),(IF($F7=5,(IF(Y7>=Показатели!$G$11,\"Н\",(IF(Y7>=Показатели!$H$11,\"С\",\"В\")))),(IF($F7=6,(IF(Y7>=Показатели!$I$11,\"Н\",(IF(Y7>= Показатели!$J$11,\"С\",\"В\")))),(IF($F7>=7,(IF(Y7>=Показатели!$K$11,\"Н\",(IF(Y7>=Показатели!$L$11,\"С\",\"В\")))))))))))))),(IF($F7<=3,(IF(Y7>=Показатели!$C$30,\"Н\",(IF(Y7>=Показатели!$D$30,\"С\",\"В\")))),(IF($F7=4,(IF(Y7>=Показатели!$E$30,\"Н\",(IF(Y7>=Показатели!$F$30,\"С\",\"В\")))),(IF($F7=5,(IF(Y7>=Показатели!$G$30,\"Н\",(IF(Y7>=Показатели!$H$30,\"С\",\"В\")))),(IF($F7=6,(IF(Y7>=Показатели!$I$30,\"Н\",(IF(Y7>= Показатели!$J$30,\"С\",\"В\")))),(IF($F7>=7,(IF(Y7>=Показатели!$K$30,\"Н\",(IF(Y7>=Показатели!$L$30,\"С\",\"В\")))))))))))))))))","v":""},{"$f":"IF(Итоговая!BC7=\"\",\"\",Итоговая!BC7)","v":""},{"$f":"IF(AA7=\"\",\"\",(IF($D7=\"м\",(IF(AA7<=Показатели!$C$14,\"Н\",(IF(AA7<=Показатели!$D$14,\"С\",\"В\")))),(IF(AA7<=Показатели!$C$33,\"Н\",(IF(AA7<=Показатели!$D$33,\"С\",\"В\")))))))","v":""},{"$f":"IF(Итоговая!BD7=\"\",\"\",Итоговая!BD7)","v":""},{"$f":"IF(AC7=\"\",\"\",(IF($D7=\"м\",(IF(AC7<=Показатели!$E$14,\"Н\",(IF(AC7<=Показатели!$F$14,\"С\",\"В\")))),(IF(AC7<=Показатели!$E$33,\"Н\",(IF(AC7<=Показатели!$F$33,\"С\",\"В\")))))))","v":""},null,{"$f":"IF(COUNTIF($AV7:$BA7,\"=Н\"),COUNTIF($AV7:$BA7,\"=Н\"),\"-\")","v":5},{"$f":"IF(AF7=\"-\",\"-\",(AF7*100)/SUM($AF7,$AH7,$AJ7))","v":100},{"$f":"IF(COUNTIF($AV7:$BA7,\"=С\"),COUNTIF($AV7:$BA7,\"=С\"),\"-\")","v":"-"},{"$f":"IF(AH7=\"-\",\"-\",(AH7*100)/SUM($AF7,$AH7,$AJ7))","v":"-"},{"$f":"IF(COUNTIF($AV7:$BA7,\"=В\"),COUNTIF($AV7:$BA7,\"=В\"),\"-\")","v":"-"},{"$f":"IF(AJ7=\"-\",\"-\",(AJ7*100)/SUM($AF7,$AH7,$AJ7))","v":"-"},{"$f":"IFERROR((COUNTIF(AV7:BA7,\"н\")+COUNTIF(AV7:BA7,\"с\")*2+COUNTIF(AV7:BA7,\"в\")*3)/(COUNTIF(AV7:BA7,\"н\")+COUNTIF(AV7:BA7,\"с\")+COUNTIF(AV7:BA7,\"в\")),\"\")","v":1},{"$f":"IF(AL7=\"\",\"\",IF(AL7<1.5,\"Н\",(IF(AL7<2.5,\"С\",\"В\"))))","v":"Н"},{"$f":"IF(COUNTIF($BB7:$BF7,\"=Н\"),COUNTIF($BB7:$BF7,\"=Н\"),\"-\")","v":1},{"$f":"IF(AN7=\"-\",\"-\",(AN7*100)/SUM($AN7,$AP7,$AR7))","v":25},{"$f":"IF(COUNTIF($BB7:$BF7,\"=С\"),COUNTIF($BB7:$BF7,\"=С\"),\"-\")","v":3},{"$f":"IF(AP7=\"-\",\"-\",(AP7*100)/SUM($AN7,$AP7,$AR7))","v":75},{"$f":"IF(COUNTIF($BB7:$BF7,\"=В\"),COUNTIF($BB7:$BF7,\"=В\"),\"-\")","v":"-"},{"$f":"IF(AR7=\"-\",\"-\",(AR7*100)/SUM($AN7,$AP7,$AR7))","v":"-"},{"$f":"IFERROR((COUNTIF(BB7:BG7,\"н\")+COUNTIF(BB7:BG7,\"с\")*2+COUNTIF(BB7:BG7,\"в\")*3)/(COUNTIF(BB7:BG7,\"н\")+COUNTIF(BB7:BG7,\"с\")+COUNTIF(BB7:BG7,\"в\")),\"\")","v":1.75},{"$f":"IF(AT7=\"\",\"\",IF(AT7<1.5,\"Н\",(IF(AT7<2.5,\"С\",\"В\"))))","v":"С"},{"$f":"H7","v":"Н"},{"$f":"L7","v":"Н"},{"$f":"P7","v":"Н"},{"$f":"T7","v":"Н"},{"$f":"X7","v":"Н"},{"$f":"AB7","v":""},{"$f":"J7","v":"С"},{"$f":"N7","v":"С"},{"$f":"R7","v":"Н"},{"$f":"V7","v":"С"},{"$f":"Z7","v":""},{"$f":"AD7","v":""}]
[{"$f":"IF(Итоговая!A8=\"\",\"\",Итоговая!A8)","v":""},{"$f":"IF(Итоговая!C8=\"\",\"\",Итоговая!C8)","v":"2007-11-01"},{"$f":"IF(Итоговая!B8=\"\",\"\",Итоговая!B8)","v":"Дрожжин Тимофей"},{"$f":"IF(Итоговая!D8=\"\",\"\",Итоговая!D8)","v":"м"},{"$f":"IF(C8=\"\",\"\",(ROUNDDOWN(($E$3-B8)/365,0.1)))","v":2},{"$f":"IF(C8=\"\",\"\",(ROUNDDOWN(($E$4-B8)/365,0.1)))","v":3},{"$f":"IF(Итоговая!E8=\"\",\"\",Итоговая!E8)","v":40},{"$f":"IF(G8=\"\",\"\",(IF($D8=\"м\",(IF($E8<=3,(IF(G8<=Показатели!$C$7,\"Н\",(IF(G8<=Показатели!$D$7,\"С\",\"В\")))),(IF($E8=4,(IF(G8<=Показатели!$E$7,\"Н\",(IF(G8<=Показатели!$F$7,\"С\",\"В\")))),(IF($E8=5,(IF(G8<=Показатели!$G$7,\"Н\",(IF(G8<=Показатели!$H$7,\"С\",\"В\")))),(IF($E8=6,(IF(G8<=Показатели!$I$7,\"Н\",(IF(G8<= Показатели!$J$7,\"С\",\"В\")))),(IF($E8>=7,(IF(G8<=Показатели!$K$7,\"Н\",(IF(G8<=Показатели!$L$7,\"С\",\"В\")))))))))))))),(IF($E8<=3,(IF(G8<=Показатели!$C$26,\"Н\",(IF(G8<=Показатели!$D$26,\"С\",\"В\")))),(IF($E8=4,(IF(G8<=Показатели!$E$26,\"Н\",(IF(G8<=Показатели!$F$26,\"С\",\"В\")))),(IF($E8=5,(IF(G8<=Показатели!$G$26,\"Н\",(IF(G8<=Показатели!$H$26,\"С\",\"В\")))),(IF($E8=6,(IF(G8<=Показатели!$I$26,\"Н\",(IF(G8<= Показатели!$J$26,\"С\",\"В\")))),(IF($E8>=7,(IF(G8<=Показатели!$K$26,\"Н\",(IF(G8<=Показатели!$L$26,\"С\",\"В\")))))))))))))))))","v":"Н"},{"$f":"IF(Итоговая!F8=\"\",\"\",Итоговая!F8)","v":60},{"$f":"IF(I8=\"\",\"\",(IF($D8=\"м\",(IF($F8<=3,(IF(I8<=Показатели!$C$7,\"Н\",(IF(I8<=Показатели!$D$7,\"С\",\"В\")))),(IF($F8=4,(IF(I8<=Показатели!$E$7,\"Н\",(IF(I8<=Показатели!$F$7,\"С\",\"В\")))),(IF($F8=5,(IF(I8<=Показатели!$G$7,\"Н\",(IF(I8<=Показатели!$H$7,\"С\",\"В\")))),(IF($F8=6,(IF(I8<=Показатели!$I$7,\"Н\",(IF(I8<= Показатели!$J$7,\"С\",\"В\")))),(IF($F8>=7,(IF(I8<=Показатели!$K$7,\"Н\",(IF(I8<=Показатели!$L$7,\"С\",\"В\")))))))))))))),(IF($F8<=3,(IF(I8<=Показатели!$C$26,\"Н\",(IF(I8<=Показатели!$D$26,\"С\",\"В\")))),(IF($F8=4,(IF(I8<=Показатели!$E$26,\"Н\",(IF(I8<=Показатели!$F$26,\"С\",\"В\")))),(IF($F8=5,(IF(I8<=Показатели!$G$26,\"Н\",(IF(I8<=Показатели!$H$26,\"С\",\"В\")))),(IF($F8=6,(IF(I8<=Показатели!$I$26,\"Н\",(IF(I8<= Показатели!$J$26,\"С\",\"В\")))),(IF($F8>=7,(IF(I8<=Показатели!$K$26,\"Н\",(IF(I8<=Показатели!$L$26,\"С\",\"В\")))))))))))))))))","v":"С"},{"$f":"IF(Итоговая!M8=\"\",\"\",Итоговая!M8)","v":2},{"$f":"IF(K8=\"\",\"\",(IF($D8=\"м\",(IF($E8<=3,(IF(K8<=Показатели!$C$8,\"Н\",(IF(K8<=Показатели!$D$8,\"С\",\"В\")))),(IF($E8=4,(IF(K8<=Показатели!$E$8,\"Н\",(IF(K8<=Показатели!$F$8,\"С\",\"В\")))),(IF($E8=5,(IF(K8<=Показатели!$G$8,\"Н\",(IF(K8<=Показатели!$H$8,\"С\",\"В\")))),(IF($E8=6,(IF(K8<=Показатели!$I$8,\"Н\",(IF(K8<= Показатели!$J$8,\"С\",\"В\")))),(IF($E8>=7,(IF(K8<=Показатели!$K$8,\"Н\",(IF(K8<=Показатели!$L$8,\"С\",\"В\")))))))))))))),(IF($E8<=3,(IF(K8<=Показатели!$C$27,\"Н\",(IF(K8<=Показатели!$D$27,\"С\",\"В\")))),(IF($E8=4,(IF(K8<=Показатели!$E$27,\"Н\",(IF(K8<=Показатели!$F$27,\"С\",\"В\")))),(IF($E8=5,(IF(K8<=Показатели!$G$27,\"Н\",(IF(K8<=Показатели!$H$27,\"С\",\"В\")))),(IF($E8=6,(IF(K8<=Показатели!$I$27,\"Н\",(IF(K8<= Показатели!$J$27,\"С\",\"В\")))),(IF($E8>=7,(IF(K8<=Показатели!$K$27,\"Н\",(IF(K8<=Показатели!$L$27,\"С\",\"В\")))))))))))))))))","v":"С"},{"$f":"IF(Итоговая!N8=\"\",\"\",Итоговая!N8)","v":3},{"$f":"IF(M8=\"\",\"\",(IF($D8=\"м\",(IF($F8<=3,(IF(M8<=Показатели!$C$8,\"Н\",(IF(M8<=Показатели!$D$8,\"С\",\"В\")))),(IF($F8=4,(IF(M8<=Показатели!$E$8,\"Н\",(IF(M8<=Показатели!$F$8,\"С\",\"В\")))),(IF($F8=5,(IF(M8<=Показатели!$G$8,\"Н\",(IF(M8<=Показатели!$H$8,\"С\",\"В\")))),(IF($F8=6,(IF(M8<=Показатели!$I$8,\"Н\",(IF(M8<= Показатели!$J$8,\"С\",\"В\")))),(IF($F8>=7,(IF(M8<=Показатели!$K$8,\"Н\",(IF(M8<=Показатели!$L$8,\"С\",\"В\")))))))))))))),(IF($F8<=3,(IF(M8<=Показатели!$C$27,\"Н\",(IF(M8<=Показатели!$D$27,\"С\",\"В\")))),(IF($F8=4,(IF(M8<=Показатели!$E$27,\"Н\",(IF(M8<=Показатели!$F$27,\"С\",\"В\")))),(IF($F8=5,(IF(M8<=Показатели!$G$27,\"Н\",(IF(M8<=Показатели!$H$27,\"С\",\"В\")))),(IF($F8=6,(IF(M8<=Показатели!$I$27,\"Н\",(IF(M8<= Показатели!$J$27,\"С\",\"В\")))),(IF($F8>=7,(IF(M8<=Показатели!$K$27,\"Н\",(IF(M8<=Показатели!$L$27,\"С\",\"В\")))))))))))))))))","v":"В"},{"$f":"IF(Итоговая!U8=\"\",\"\",Итоговая!U8)","v":1},{"$f":"IF(O8=\"\",\"\",(IF($D8=\"м\",(IF($E8<=3,(IF(O8<=Показатели!$C$9,\"Н\",(IF(O8<=Показатели!$D$9,\"С\",\"В\")))),(IF($E8=4,(IF(O8<=Показатели!$E$9,\"Н\",(IF(O8<=Показатели!$F$9,\"С\",\"В\")))),(IF($E8=5,(IF(O8<=Показатели!$G$9,\"Н\",(IF(O8<=Показатели!$H$9,\"С\",\"В\")))),(IF($E8=6,(IF(O8<=Показатели!$I$9,\"Н\",(IF(O8<= Показатели!$J$9,\"С\",\"В\")))),(IF($E8>=7,(IF(O8<=Показатели!$K$9,\"Н\",(IF(O8<=Показатели!$L$9,\"С\",\"В\")))))))))))))),(IF($E8<=3,(IF(O8<=Показатели!$C$28,\"Н\",(IF(O8<=Показатели!$D$28,\"С\",\"В\")))),(IF($E8=4,(IF(O8<=Показатели!$E$28,\"Н\",(IF(O8<=Показатели!$F$28,\"С\",\"В\")))),(IF($E8=5,(IF(O8<=Показатели!$G$28,\"Н\",(IF(O8<=Показатели!$H$28,\"С\",\"В\")))),(IF($E8=6,(IF(O8<=Показатели!$I$28,\"Н\",(IF(O8<= Показатели!$J$28,\"С\",\"В\")))),(IF($E8>=7,(IF(O8<=Показатели!$K$28,\"Н\",(IF(O8<=Показатели!$L$28,\"С\",\"В\")))))))))))))))))","v":"Н"},{"$f":"IF(Итоговая!V8=\"\",\"\",Итоговая!V8)","v":3},{"$f":"IF(Q8=\"\",\"\",(IF($D8=\"м\",(IF($F8<=3,(IF(Q8<=Показатели!$C$9,\"Н\",(IF(Q8<=Показатели!$D$9,\"С\",\"В\")))),(IF($F8=4,(IF(Q8<=Показатели!$E$9,\"Н\",(IF(Q8<=Показатели!$F$9,\"С\",\"В\")))),(IF($F8=5,(IF(Q8<=Показатели!$G$9,\"Н\",(IF(Q8<=Показатели!$H$9,\"С\",\"В\")))),(IF($F8=6,(IF(Q8<=Показатели!$I$9,\"Н\",(IF(Q8<= Показатели!$J$9,\"С\",\"В\")))),(IF($F8>=7,(IF(Q8<=Показатели!$K$9,\"Н\",(IF(Q8<=Показатели!$L$9,\"С\",\"В\")))))))))))))),(IF($F8<=3,(IF(Q8<=Показатели!$C$28,\"Н\",(IF(Q8<=Показатели!$D$28,\"С\",\"В\")))),(IF($F8=4,(IF(Q8<=Показатели!$E$28,\"Н\",(IF(Q8<=Показатели!$F$28,\"С\",\"В\")))),(IF($F8=5,(IF(Q8<=Показатели!$G$28,\"Н\",(IF(Q8<=Показатели!$H$28,\"С\",\"В\")))),(IF($F8=6,(IF(Q8<=Показатели!$I$28,\"Н\",(IF(Q8<= Показатели!$J$28,\"С\",\"В\")))),(IF($F8>=7,(IF(Q8<=Показатели!$K$28,\"Н\",(IF(Q8<=Показатели!$L$28,\"С\",\"В\")))))))))))))))))","v":"В"},{"$f":"IF(Итоговая!AC8=\"\",\"\",Итоговая!AC8)","v":4.4000000000000004},{"$f":"IF(S8=\"\",\"\",(IF($D8=\"м\",(IF($E8<=3,(IF(S8>=Показатели!$C$10,\"Н\",(IF(S8>=Показатели!$D$10,\"С\",\"В\")))),(IF($E8=4,(IF(S8>=Показатели!$E$10,\"Н\",(IF(S8>=Показатели!$F$10,\"С\",\"В\")))),(IF($E8=5,(IF(S8>=Показатели!$G$10,\"Н\",(IF(S8>=Показатели!$H$10,\"С\",\"В\")))),(IF($E8=6,(IF(S8>=Показатели!$I$10,\"Н\",(IF(S8>= Показатели!$J$10,\"С\",\"В\")))),(IF($E8>=7,(IF(S8>=Показатели!$K$10,\"Н\",(IF(S8>=Показатели!$L$10,\"С\",\"В\")))))))))))))),(IF($E8<=3,(IF(S8>=Показатели!$C$29,\"Н\",(IF(S8>=Показатели!$D$29,\"С\",\"В\")))),(IF($E8=4,(IF(S8>=Показатели!$E$29,\"Н\",(IF(S8>=Показатели!$F$29,\"С\",\"В\")))),(IF($E8=5,(IF(S8>=Показатели!$G$29,\"Н\",(IF(S8>=Показатели!$H$29,\"С\",\"В\")))),(IF($E8=6,(IF(S8>=Показатели!$I$29,\"Н\",(IF(S8>= Показатели!$J$29,\"С\",\"В\")))),(IF($E8>=7,(IF(S8>=Показатели!$K$29,\"Н\",(IF(S8>=Показатели!$L$29,\"С\",\"В\")))))))))))))))))","v":"Н"},{"$f":"IF(Итоговая!AD8=\"\",\"\",Итоговая!AD8)","v":3.2},{"$f":"IF(U8=\"\",\"\",(IF($D8=\"м\",(IF($F8<=3,(IF(U8>=Показатели!$C$10,\"Н\",(IF(U8>=Показатели!$D$10,\"С\",\"В\")))),(IF($F8=4,(IF(U8>=Показатели!$E$10,\"Н\",(IF(U8>=Показатели!$F$10,\"С\",\"В\")))),(IF($F8=5,(IF(U8>=Показатели!$G$10,\"Н\",(IF(U8>=Показатели!$H$10,\"С\",\"В\")))),(IF($F8=6,(IF(U8>=Показатели!$I$10,\"Н\",(IF(U8>= Показатели!$J$10,\"С\",\"В\")))),(IF($F8>=7,(IF(U8>=Показатели!$K$10,\"Н\",(IF(U8>=Показатели!$L$10,\"С\",\"В\")))))))))))))),(IF($F8<=3,(IF(U8>=Показатели!$C$29,\"Н\",(IF(U8>=Показатели!$D$29,\"С\",\"В\")))),(IF($F8=4,(IF(U8>=Показатели!$E$29,\"Н\",(IF(U8>=Показатели!$F$29,\"С\",\"В\")))),(IF($F8=5,(IF(U8>=Показатели!$G$29,\"Н\",(IF(U8>=Показатели!$H$29,\"С\",\"В\")))),(IF($F8=6,(IF(U8>=Показатели!$I$29,\"Н\",(IF(U8>= Показатели!$J$29,\"С\",\"В\")))),(IF($F8>=7,(IF(U8>=Показатели!$K$29,\"Н\",(IF(U8>=Показатели!$L$29,\"С\",\"В\")))))))))))))))))","v":"В"},{"$f":"IF(Итоговая!AK8=\"\",\"\",Итоговая!AK8)","v":11.4},{"$f":"IF(W8=\"\",\"\",(IF($D8=\"м\",(IF($E8<=3,(IF(W8>=Показатели!$C$11,\"Н\",(IF(W8>=Показатели!$D$11,\"С\",\"В\")))),(IF($E8=4,(IF(W8>=Показатели!$E$11,\"Н\",(IF(W8>=Показатели!$F$11,\"С\",\"В\")))),(IF($E8=5,(IF(W8>=Показатели!$G$11,\"Н\",(IF(W8>=Показатели!$H$11,\"С\",\"В\")))),(IF($E8=6,(IF(W8>=Показатели!$I$11,\"Н\",(IF(W8>= Показатели!$J$11,\"С\",\"В\")))),(IF($E8>=7,(IF(W8>=Показатели!$K$11,\"Н\",(IF(W8>=Показатели!$L$11,\"С\",\"В\")))))))))))))),(IF($E8<=3,(IF(W8>=Показатели!$C$30,\"Н\",(IF(W8>=Показатели!$D$30,\"С\",\"В\")))),(IF($E8=4,(IF(W8>=Показатели!$E$30,\"Н\",(IF(W8>=Показатели!$F$30,\"С\",\"В\")))),(IF($E8=5,(IF(W8>=Показатели!$G$30,\"Н\",(IF(W8>=Показатели!$H$30,\"С\",\"В\")))),(IF($E8=6,(IF(W8>=Показатели!$I$30,\"Н\",(IF(W8>= Показатели!$J$30,\"С\",\"В\")))),(IF($E8>=7,(IF(W8>=Показатели!$K$30,\"Н\",(IF(W8>=Показатели!$L$30,\"С\",\"В\")))))))))))))))))","v":"Н"},{"$f":"IF(Итоговая!AL8=\"\",\"\",Итоговая!AL8)","v":9.6},{"$f":"IF(Y8=\"\",\"\",(IF($D8=\"м\",(IF($F8<=3,(IF(Y8>=Показатели!$C$11,\"Н\",(IF(Y8>=Показатели!$D$11,\"С\",\"В\")))),(IF($F8=4,(IF(Y8>=Показатели!$E$11,\"Н\",(IF(Y8>=Показатели!$F$11,\"С\",\"В\")))),(IF($F8=5,(IF(Y8>=Показатели!$G$11,\"Н\",(IF(Y8>=Показатели!$H$11,\"С\",\"В\")))),(IF($F8=6,(IF(Y8>=Показатели!$I$11,\"Н\",(IF(Y8>= Показатели!$J$11,\"С\",\"В\")))),(IF($F8>=7,(IF(Y8>=Показатели!$K$11,\"Н\",(IF(Y8>=Показатели!$L$11,\"С\",\"В\")))))))))))))),(IF($F8<=3,(IF(Y8>=Показатели!$C$30,\"Н\",(IF(Y8>=Показатели!$D$30,\"С\",\"В\")))),(IF($F8=4,(IF(Y8>=Показатели!$E$30,\"Н\",(IF(Y8>=Показатели!$F$30,\"С\",\"В\")))),(IF($F8=5,(IF(Y8>=Показатели!$G$30,\"Н\",(IF(Y8>=Показатели!$H$30,\"С\",\"В\")))),(IF($F8=6,(IF(Y8>=Показатели!$I$30,\"Н\",(IF(Y8>= Показатели!$J$30,\"С\",\"В\")))),(IF($F8>=7,(IF(Y8>=Показатели!$K$30,\"Н\",(IF(Y8>=Показатели!$L$30,\"С\",\"В\")))))))))))))))))","v":"С"},{"$f":"IF(Итоговая!BC8=\"\",\"\",Итоговая!BC8)","v":""},{"$f":"IF(AA8=\"\",\"\",(IF($D8=\"м\",(IF(AA8<=Показатели!$C$14,\"Н\",(IF(AA8<=Показатели!$D$14,\"С\",\"В\")))),(IF(AA8<=Показатели!$C$33,\"Н\",(IF(AA8<=Показатели!$D$33,\"С\",\"В\")))))))","v":""},{"$f":"IF(Итоговая!BD8=\"\",\"\",Итоговая!BD8)","v":""},{"$f":"IF(AC8=\"\",\"\",(IF($D8=\"м\",(IF(AC8<=Показатели!$E$14,\"Н\",(IF(AC8<=Показатели!$F$14,\"С\",\"В\")))),(IF(AC8<=Показатели!$E$33,\"Н\",(IF(AC8<=Показатели!$F$33,\"С\",\"В\")))))))","v":""},null,{"$f":"IF(COUNTIF($AV8:$BA8,\"=Н\")=0,\"-\",COUNTIF($AV8:$BA8,\"=Н\"))","v":4},{"$f":"IF(AF8=\"-\",\"-\",(AF8*100)/SUM($AF8,$AH8,$AJ8))","v":80},{"$f":"IF(COUNTIF($AV8:$BA8,\"=С\"),COUNTIF($AV8:$BA8,\"=С\"),\"-\")","v":1},{"$f":"IF(AH8=\"-\",\"-\",(AH8*100)/SUM($AF8,$AH8,$AJ8))","v":20},{"$f":"IF(COUNTIF($AV8:$BA8,\"=В\"),COUNTIF($AV8:$BA8,\"=В\"),\"-\")","v":"-"},{"$f":"IF(AJ8=\"-\",\"-\",(AJ8*100)/SUM($AF8,$AH8,$AJ8))","v":"-"},{"$f":"IFERROR((COUNTIF(AV8:BA8,\"н\")+COUNTIF(AV8:BA8,\"с\")*2+COUNTIF(AV8:BA8,\"в\")*3)/(COUNTIF(AV8:BA8,\"н\")+COUNTIF(AV8:BA8,\"с\")+COUNTIF(AV8:BA8,\"в\")),\"\")","v":1.2},{"$f":"IF(AL8=\"\",\"\",IF(AL8<1.5,\"Н\",(IF(AL8<2.5,\"С\",\"В\"))))","v":"Н"},{"$f":"IF(COUNTIF($BB8:$BF8,\"=Н\"),COUNTIF($BB8:$BF8,\"=Н\"),\"-\")","v":"-"},{"$f":"IF(AN8=\"-\",\"-\",(AN8*100)/SUM($AN8,$AP8,$AR8))","v":"-"},{"$f":"IF(COUNTIF($BB8:$BF8,\"=С\"),COUNTIF($BB8:$BF8,\"=С\"),\"-\")","v":2},{"$f":"IF(AP8=\"-\",\"-\",(AP8*100)/SUM($AN8,$AP8,$AR8))","v":40},{"$f":"IF(COUNTIF($BB8:$BF8,\"=В\"),COUNTIF($BB8:$BF8,\"=В\"),\"-\")","v":3},{"$f":"IF(AR8=\"-\",\"-\",(AR8*100)/SUM($AN8,$AP8,$AR8))","v":60},{"$f":"IFERROR((COUNTIF(BB8:BG8,\"н\")+COUNTIF(BB8:BG8,\"с\")*2+COUNTIF(BB8:BG8,\"в\")*3)/(COUNTIF(BB8:BG8,\"н\")+COUNTIF(BB8:BG8,\"с\")+COUNTIF(BB8:BG8,\"в\")),\"\")","v":2.6},{"$f":"IF(AT8=\"\",\"\",IF(AT8<1.5,\"Н\",(IF(AT8<2.5,\"С\",\"В\"))))","v":"В"},{"$f":"H8","v":"Н"},{"$f":"L8","v":"С"},{"$f":"P8","v":"Н"},{"$f":"T8","v":"Н"},{"$f":"X8","v":"Н"},{"$f":"AB8","v":""},{"$f":"J8","v":"С"},{"$f":"N8","v":"В"},{"$f":"R8","v":"В"},{"$f":"V8","v":"В"},{"$f":"Z8","v":"С"},{"$f":"AD8","v":""}]
[{"$f":"IF(Итоговая!A9=\"\",\"\",Итоговая!A9)","v":""},{"$f":"IF(Итоговая!C9=\"\",\"\",Итоговая!C9)","v":"2007-11-01"},{"$f":"IF(Итоговая!B9=\"\",\"\",Итоговая!B9)","v":"Кириченко Дима"},{"$f":"IF(Итоговая!D9=\"\",\"\",Итоговая!D9)","v":"м"},2,3,{"$f":"IF(Итоговая!E9=\"\",\"\",Итоговая!E9)","v":30},{"$f":"IF(G9=\"\",\"\",(IF($D9=\"м\",(IF($E9<=3,(IF(G9<=Показатели!$C$7,\"Н\",(IF(G9<=Показатели!$D$7,\"С\",\"В\")))),(IF($E9=4,(IF(G9<=Показатели!$E$7,\"Н\",(IF(G9<=Показатели!$F$7,\"С\",\"В\")))),(IF($E9=5,(IF(G9<=Показатели!$G$7,\"Н\",(IF(G9<=Показатели!$H$7,\"С\",\"В\")))),(IF($E9=6,(IF(G9<=Показатели!$I$7,\"Н\",(IF(G9<= Показатели!$J$7,\"С\",\"В\")))),(IF($E9>=7,(IF(G9<=Показатели!$K$7,\"Н\",(IF(G9<=Показатели!$L$7,\"С\",\"В\")))))))))))))),(IF($E9<=3,(IF(G9<=Показатели!$C$26,\"Н\",(IF(G9<=Показатели!$D$26,\"С\",\"В\")))),(IF($E9=4,(IF(G9<=Показатели!$E$26,\"Н\",(IF(G9<=Показатели!$F$26,\"С\",\"В\")))),(IF($E9=5,(IF(G9<=Показатели!$G$26,\"Н\",(IF(G9<=Показатели!$H$26,\"С\",\"В\")))),(IF($E9=6,(IF(G9<=Показатели!$I$26,\"Н\",(IF(G9<= Показатели!$J$26,\"С\",\"В\")))),(IF($E9>=7,(IF(G9<=Показатели!$K$26,\"Н\",(IF(G9<=Показатели!$L$26,\"С\",\"В\")))))))))))))))))","v":"Н"},{"$f":"IF(Итоговая!F9=\"\",\"\",Итоговая!F9)","v":50},{"$f":"IF(I9=\"\",\"\",(IF($D9=\"м\",(IF($F9<=3,(IF(I9<=Показатели!$C$7,\"Н\",(IF(I9<=Показатели!$D$7,\"С\",\"В\")))),(IF($F9=4,(IF(I9<=Показатели!$E$7,\"Н\",(IF(I9<=Показатели!$F$7,\"С\",\"В\")))),(IF($F9=5,(IF(I9<=Показатели!$G$7,\"Н\",(IF(I9<=Показатели!$H$7,\"С\",\"В\")))),(IF($F9=6,(IF(I9<=Показатели!$I$7,\"Н\",(IF(I9<= Показатели!$J$7,\"С\",\"В\")))),(IF($F9>=7,(IF(I9<=Показатели!$K$7,\"Н\",(IF(I9<=Показатели!$L$7,\"С\",\"В\")))))))))))))),(IF($F9<=3,(IF(I9<=Показатели!$C$26,\"Н\",(IF(I9<=Показатели!$D$26,\"С\",\"В\")))),(IF($F9=4,(IF(I9<=Показатели!$E$26,\"Н\",(IF(I9<=Показатели!$F$26,\"С\",\"В\")))),(IF($F9=5,(IF(I9<=Показатели!$G$26,\"Н\",(IF(I9<=Показатели!$H$26,\"С\",\"В\")))),(IF($F9=6,(IF(I9<=Показатели!$I$26,\"Н\",(IF(I9<= Показатели!$J$26,\"С\",\"В\")))),(IF($F9>=7,(IF(I9<=Показатели!$K$26,\"Н\",(IF(I9<=Показатели!$L$26,\"С\",\"В\")))))))))))))))))","v":"С"},{"$f":"IF(Итоговая!M9=\"\",\"\",Итоговая!M9)","v":2},{"$f":"IF(K9=\"\",\"\",(IF($D9=\"м\",(IF($E9<=3,(IF(K9<=Показатели!$C$8,\"Н\",(IF(K9<=Показатели!$D$8,\"С\",\"В\")))),(IF($E9=4,(IF(K9<=Показатели!$E$8,\"Н\",(IF(K9<=Показатели!$F$8,\"С\",\"В\")))),(IF($E9=5,(IF(K9<=Показатели!$G$8,\"Н\",(IF(K9<=Показатели!$H$8,\"С\",\"В\")))),(IF($E9=6,(IF(K9<=Показатели!$I$8,\"Н\",(IF(K9<= Показатели!$J$8,\"С\",\"В\")))),(IF($E9>=7,(IF(K9<=Показатели!$K$8,\"Н\",(IF(K9<=Показатели!$L$8,\"С\",\"В\")))))))))))))),(IF($E9<=3,(IF(K9<=Показатели!$C$27,\"Н\",(IF(K9<=Показатели!$D$27,\"С\",\"В\")))),(IF($E9=4,(IF(K9<=Показатели!$E$27,\"Н\",(IF(K9<=Показатели!$F$27,\"С\",\"В\")))),(IF($E9=5,(IF(K9<=Показатели!$G$27,\"Н\",(IF(K9<=Показатели!$H$27,\"С\",\"В\")))),(IF($E9=6,(IF(K9<=Показатели!$I$27,\"Н\",(IF(K9<= Показатели!$J$27,\"С\",\"В\")))),(IF($E9>=7,(IF(K9<=Показатели!$K$27,\"Н\",(IF(K9<=Показатели!$L$27,\"С\",\"В\")))))))))))))))))","v":"С"},{"$f":"IF(Итоговая!N9=\"\",\"\",Итоговая!N9)","v":3.5},{"$f":"IF(M9=\"\",\"\",(IF($D9=\"м\",(IF($F9<=3,(IF(M9<=Показатели!$C$8,\"Н\",(IF(M9<=Показатели!$D$8,\"С\",\"В\")))),(IF($F9=4,(IF(M9<=Показатели!$E$8,\"Н\",(IF(M9<=Показатели!$F$8,\"С\",\"В\")))),(IF($F9=5,(IF(M9<=Показатели!$G$8,\"Н\",(IF(M9<=Показатели!$H$8,\"С\",\"В\")))),(IF($F9=6,(IF(M9<=Показатели!$I$8,\"Н\",(IF(M9<= Показатели!$J$8,\"С\",\"В\")))),(IF($F9>=7,(IF(M9<=Показатели!$K$8,\"Н\",(IF(M9<=Показатели!$L$8,\"С\",\"В\")))))))))))))),(IF($F9<=3,(IF(M9<=Показатели!$C$27,\"Н\",(IF(M9<=Показатели!$D$27,\"С\",\"В\")))),(IF($F9=4,(IF(M9<=Показатели!$E$27,\"Н\",(IF(M9<=Показатели!$F$27,\"С\",\"В\")))),(IF($F9=5,(IF(M9<=Показатели!$G$27,\"Н\",(IF(M9<=Показатели!$H$27,\"С\",\"В\")))),(IF($F9=6,(IF(M9<=Показатели!$I$27,\"Н\",(IF(M9<= Показатели!$J$27,\"С\",\"В\")))),(IF($F9>=7,(IF(M9<=Показатели!$K$27,\"Н\",(IF(M9<=Показатели!$L$27,\"С\",\"В\")))))))))))))))))","v":"В"},{"$f":"IF(Итоговая!U9=\"\",\"\",Итоговая!U9)","v":2},{"$f":"IF(O9=\"\",\"\",(IF($D9=\"м\",(IF($E9<=3,(IF(O9<=Показатели!$C$9,\"Н\",(IF(O9<=Показатели!$D$9,\"С\",\"В\")))),(IF($E9=4,(IF(O9<=Показатели!$E$9,\"Н\",(IF(O9<=Показатели!$F$9,\"С\",\"В\")))),(IF($E9=5,(IF(O9<=Показатели!$G$9,\"Н\",(IF(O9<=Показатели!$H$9,\"С\",\"В\")))),(IF($E9=6,(IF(O9<=Показатели!$I$9,\"Н\",(IF(O9<= Показатели!$J$9,\"С\",\"В\")))),(IF($E9>=7,(IF(O9<=Показатели!$K$9,\"Н\",(IF(O9<=Показатели!$L$9,\"С\",\"В\")))))))))))))),(IF($E9<=3,(IF(O9<=Показатели!$C$28,\"Н\",(IF(O9<=Показатели!$D$28,\"С\",\"В\")))),(IF($E9=4,(IF(O9<=Показатели!$E$28,\"Н\",(IF(O9<=Показатели!$F$28,\"С\",\"В\")))),(IF($E9=5,(IF(O9<=Показатели!$G$28,\"Н\",(IF(O9<=Показатели!$H$28,\"С\",\"В\")))),(IF($E9=6,(IF(O9<=Показатели!$I$28,\"Н\",(IF(O9<= Показатели!$J$28,\"С\",\"В\")))),(IF($E9>=7,(IF(O9<=Показатели!$K$28,\"Н\",(IF(O9<=Показатели!$L$28,\"С\",\"В\")))))))))))))))))","v":"С"},{"$f":"IF(Итоговая!V9=\"\",\"\",Итоговая!V9)","v":2},{"$f":"IF(Q9=\"\",\"\",(IF($D9=\"м\",(IF($F9<=3,(IF(Q9<=Показатели!$C$9,\"Н\",(IF(Q9<=Показатели!$D$9,\"С\",\"В\")))),(IF($F9=4,(IF(Q9<=Показатели!$E$9,\"Н\",(IF(Q9<=Показатели!$F$9,\"С\",\"В\")))),(IF($F9=5,(IF(Q9<=Показатели!$G$9,\"Н\",(IF(Q9<=Показатели!$H$9,\"С\",\"В\")))),(IF($F9=6,(IF(Q9<=Показатели!$I$9,\"Н\",(IF(Q9<= Показатели!$J$9,\"С\",\"В\")))),(IF($F9>=7,(IF(Q9<=Показатели!$K$9,\"Н\",(IF(Q9<=Показатели!$L$9,\"С\",\"В\")))))))))))))),(IF($F9<=3,(IF(Q9<=Показатели!$C$28,\"Н\",(IF(Q9<=Показатели!$D$28,\"С\",\"В\")))),(IF($F9=4,(IF(Q9<=Показатели!$E$28,\"Н\",(IF(Q9<=Показатели!$F$28,\"С\",\"В\")))),(IF($F9=5,(IF(Q9<=Показатели!$G$28,\"Н\",(IF(Q9<=Показатели!$H$28,\"С\",\"В\")))),(IF($F9=6,(IF(Q9<=Показатели!$I$28,\"Н\",(IF(Q9<= Показатели!$J$28,\"С\",\"В\")))),(IF($F9>=7,(IF(Q9<=Показатели!$K$28,\"Н\",(IF(Q9<=Показатели!$L$28,\"С\",\"В\")))))))))))))))))","v":"С"},{"$f":"IF(Итоговая!AC9=\"\",\"\",Итоговая!AC9)","v":3.6},{"$f":"IF(S9=\"\",\"\",(IF($D9=\"м\",(IF($E9<=3,(IF(S9>=Показатели!$C$10,\"Н\",(IF(S9>=Показатели!$D$10,\"С\",\"В\")))),(IF($E9=4,(IF(S9>=Показатели!$E$10,\"Н\",(IF(S9>=Показатели!$F$10,\"С\",\"В\")))),(IF($E9=5,(IF(S9>=Показатели!$G$10,\"Н\",(IF(S9>=Показатели!$H$10,\"С\",\"В\")))),(IF($E9=6,(IF(S9>=Показатели!$I$10,\"Н\",(IF(S9>= Показатели!$J$10,\"С\",\"В\")))),(IF($E9>=7,(IF(S9>=Показатели!$K$10,\"Н\",(IF(S9>=Показатели!$L$10,\"С\",\"В\")))))))))))))),(IF($E9<=3,(IF(S9>=Показатели!$C$29,\"Н\",(IF(S9>=Показатели!$D$29,\"С\",\"В\")))),(IF($E9=4,(IF(S9>=Показатели!$E$29,\"Н\",(IF(S9>=Показатели!$F$29,\"С\",\"В\")))),(IF($E9=5,(IF(S9>=Показатели!$G$29,\"Н\",(IF(S9>=Показатели!$H$29,\"С\",\"В\")))),(IF($E9=6,(IF(S9>=Показатели!$I$29,\"Н\",(IF(S9>= Показатели!$J$29,\"С\",\"В\")))),(IF($E9>=7,(IF(S9>=Показатели!$K$29,\"Н\",(IF(S9>=Показатели!$L$29,\"С\",\"В\")))))))))))))))))","v":"В"},{"$f":"IF(Итоговая!AD9=\"\",\"\",Итоговая!AD9)","v":3.6},{"$f":"IF(U9=\"\",\"\",(IF($D9=\"м\",(IF($F9<=3,(IF(U9>=Показатели!$C$10,\"Н\",(IF(U9>=Показатели!$D$10,\"С\",\"В\")))),(IF($F9=4,(IF(U9>=Показатели!$E$10,\"Н\",(IF(U9>=Показатели!$F$10,\"С\",\"В\")))),(IF($F9=5,(IF(U9>=Показатели!$G$10,\"Н\",(IF(U9>=Показатели!$H$10,\"С\",\"В\")))),(IF($F9=6,(IF(U9>=Показатели!$I$10,\"Н\",(IF(U9>= Показатели!$J$10,\"С\",\"В\")))),(IF($F9>=7,(IF(U9>=Показатели!$K$10,\"Н\",(IF(U9>=Показатели!$L$10,\"С\",\"В\")))))))))))))),(IF($F9<=3,(IF(U9>=Показатели!$C$29,\"Н\",(IF(U9>=Показатели!$D$29,\"С\",\"В\")))),(IF($F9=4,(IF(U9>=Показатели!$E$29,\"Н\",(IF(U9>=Показатели!$F$29,\"С\",\"В\")))),(IF($F9=5,(IF(U9>=Показатели!$G$29,\"Н\",(IF(U9>=Показатели!$H$29,\"С\",\"В\")))),(IF($F9=6,(IF(U9>=Показатели!$I$29,\"Н\",(IF(U9>= Показатели!$J$29,\"С\",\"В\")))),(IF($F9>=7,(IF(U9>=Показатели!$K$29,\"Н\",(IF(U9>=Показатели!$L$29,\"С\",\"В\")))))))))))))))))","v":"В"},{"$f":"IF(Итоговая!AK9=\"\",\"\",Итоговая!AK9)","v":12.2},{"$f":"IF(W9=\"\",\"\",(IF($D9=\"м\",(IF($E9<=3,(IF(W9>=Показатели!$C$11,\"Н\",(IF(W9>=Показатели!$D$11,\"С\",\"В\")))),(IF($E9=4,(IF(W9>=Показатели!$E$11,\"Н\",(IF(W9>=Показатели!$F$11,\"С\",\"В\")))),(IF($E9=5,(IF(W9>=Показатели!$G$11,\"Н\",(IF(W9>=Показатели!$H$11,\"С\",\"В\")))),(IF($E9=6,(IF(W9>=Показатели!$I$11,\"Н\",(IF(W9>= Показатели!$J$11,\"С\",\"В\")))),(IF($E9>=7,(IF(W9>=Показатели!$K$11,\"Н\",(IF(W9>=Показатели!$L$11,\"С\",\"В\")))))))))))))),(IF($E9<=3,(IF(W9>=Показатели!$C$30,\"Н\",(IF(W9>=Показатели!$D$30,\"С\",\"В\")))),(IF($E9=4,(IF(W9>=Показатели!$E$30,\"Н\",(IF(W9>=Показатели!$F$30,\"С\",\"В\")))),(IF($E9=5,(IF(W9>=Показатели!$G$30,\"Н\",(IF(W9>=Показатели!$H$30,\"С\",\"В\")))),(IF($E9=6,(IF(W9>=Показатели!$I$30,\"Н\",(IF(W9>= Показатели!$J$30,\"С\",\"В\")))),(IF($E9>=7,(IF(W9>=Показатели!$K$30,\"Н\",(IF(W9>=Показатели!$L$30,\"С\",\"В\")))))))))))))))))","v":"Н"},{"$f":"IF(Итоговая!AL9=\"\",\"\",Итоговая!AL9)","v":10},{"$f":"IF(Y9=\"\",\"\",(IF($D9=\"м\",(IF($F9<=3,(IF(Y9>=Показатели!$C$11,\"Н\",(IF(Y9>=Показатели!$D$11,\"С\",\"В\")))),(IF($F9=4,(IF(Y9>=Показатели!$E$11,\"Н\",(IF(Y9>=Показатели!$F$11,\"С\",\"В\")))),(IF($F9=5,(IF(Y9>=Показатели!$G$11,\"Н\",(IF(Y9>=Показатели!$H$11,\"С\",\"В\")))),(IF($F9=6,(IF(Y9>=Показатели!$I$11,\"Н\",(IF(Y9>= Показатели!$J$11,\"С\",\"В\")))),(IF($F9>=7,(IF(Y9>=Показатели!$K$11,\"Н\",(IF(Y9>=Показатели!$L$11,\"С\",\"В\")))))))))))))),(IF($F9<=3,(IF(Y9>=Показатели!$C$30,\"Н\",(IF(Y9>=Показатели!$D$30,\"С\",\"В\")))),(IF($F9=4,(IF(Y9>=Показатели!$E$30,\"Н\",(IF(Y9>=Показатели!$F$30,\"С\",\"В\")))),(IF($F9=5,(IF(Y9>=Показатели!$G$30,\"Н\",(IF(Y9>=Показатели!$H$30,\"С\",\"В\")))),(IF($F9=6,(IF(Y9>=Показатели!$I$30,\"Н\",(IF(Y9>= Показатели!$J$30,\"С\",\"В\")))),(IF($F9>=7,(IF(Y9>=Показатели!$K$30,\"Н\",(IF(Y9>=Показатели!$L$30,\"С\",\"В\")))))))))))))))))","v":"С"},{"$f":"IF(Итоговая!BC9=\"\",\"\",Итоговая!BC9)","v":""},{"$f":"IF(AA9=\"\",\"\",(IF($D9=\"м\",(IF(AA9<=Показатели!$C$14,\"Н\",(IF(AA9<=Показатели!$D$14,\"С\",\"В\")))),(IF(AA9<=Показатели!$C$33,\"Н\",(IF(AA9<=Показатели!$D$33,\"С\",\"В\")))))))","v":""},{"$f":"IF(Итоговая!BD9=\"\",\"\",Итоговая!BD9)","v":""},{"$f":"IF(AC9=\"\",\"\",(IF($D9=\"м\",(IF(AC9<=Показатели!$E$14,\"Н\",(IF(AC9<=Показатели!$F$14,\"С\",\"В\")))),(IF(AC9<=Показатели!$E$33,\"Н\",(IF(AC9<=Показатели!$F$33,\"С\",\"В\")))))))","v":""},null,2,40,{"$f":"IF(COUNTIF($AV9:$BA9,\"=С\"),COUNTIF($AV9:$BA9,\"=С\"),\"-\")","v":2},40,1,20,1.8,"С","-","-",3,60,2,40,2.4,"С","Н","С","С","В","Н","","С","В","С","В","С",""]
[{"$f":"IF(Итоговая!A10=\"\",\"\",Итоговая!A10)","v":""},{"$f":"IF(Итоговая!C10=\"\",\"\",Итоговая!C10)","v":"2007-04-01"},{"$f":"IF(Итоговая!B10=\"\",\"\",Итоговая!B10)","v":"Гордыбаева Кристина"},{"$f":"IF(Итоговая!D10=\"\",\"\",Итоговая!D10)","v":"д"},3,4,{"$f":"IF(Итоговая!E10=\"\",\"\",Итоговая!E10)","v":40},{"$f":"IF(G10=\"\",\"\",(IF($D10=\"м\",(IF($E10<=3,(IF(G10<=Показатели!$C$7,\"Н\",(IF(G10<=Показатели!$D$7,\"С\",\"В\")))),(IF($E10=4,(IF(G10<=Показатели!$E$7,\"Н\",(IF(G10<=Показатели!$F$7,\"С\",\"В\")))),(IF($E10=5,(IF(G10<=Показатели!$G$7,\"Н\",(IF(G10<=Показатели!$H$7,\"С\",\"В\")))),(IF($E10=6,(IF(G10<=Показатели!$I$7,\"Н\",(IF(G10<= Показатели!$J$7,\"С\",\"В\")))),(IF($E10>=7,(IF(G10<=Показатели!$K$7,\"Н\",(IF(G10<=Показатели!$L$7,\"С\",\"В\")))))))))))))),(IF($E10<=3,(IF(G10<=Показатели!$C$26,\"Н\",(IF(G10<=Показатели!$D$26,\"С\",\"В\")))),(IF($E10=4,(IF(G10<=Показатели!$E$26,\"Н\",(IF(G10<=Показатели!$F$26,\"С\",\"В\")))),(IF($E10=5,(IF(G10<=Показатели!$G$26,\"Н\",(IF(G10<=Показатели!$H$26,\"С\",\"В\")))),(IF($E10=6,(IF(G10<=Показатели!$I$26,\"Н\",(IF(G10<= Показатели!$J$26,\"С\",\"В\")))),(IF($E10>=7,(IF(G10<=Показатели!$K$26,\"Н\",(IF(G10<=Показатели!$L$26,\"С\",\"В\")))))))))))))))))","v":"С"},{"$f":"IF(Итоговая!F10=\"\",\"\",Итоговая!F10)","v":60},{"$f":"IF(I10=\"\",\"\",(IF($D10=\"м\",(IF($F10<=3,(IF(I10<=Показатели!$C$7,\"Н\",(IF(I10<=Показатели!$D$7,\"С\",\"В\")))),(IF($F10=4,(IF(I10<=Показатели!$E$7,\"Н\",(IF(I10<=Показатели!$F$7,\"С\",\"В\")))),(IF($F10=5,(IF(I10<=Показатели!$G$7,\"Н\",(IF(I10<=Показатели!$H$7,\"С\",\"В\")))),(IF($F10=6,(IF(I10<=Показатели!$I$7,\"Н\",(IF(I10<= Показатели!$J$7,\"С\",\"В\")))),(IF($F10>=7,(IF(I10<=Показатели!$K$7,\"Н\",(IF(I10<=Показатели!$L$7,\"С\",\"В\")))))))))))))),(IF($F10<=3,(IF(I10<=Показатели!$C$26,\"Н\",(IF(I10<=Показатели!$D$26,\"С\",\"В\")))),(IF($F10=4,(IF(I10<=Показатели!$E$26,\"Н\",(IF(I10<=Показатели!$F$26,\"С\",\"В\")))),(IF($F10=5,(IF(I10<=Показатели!$G$26,\"Н\",(IF(I10<=Показатели!$H$26,\"С\",\"В\")))),(IF($F10=6,(IF(I10<=Показатели!$I$26,\"Н\",(IF(I10<= Показатели!$J$26,\"С\",\"В\")))),(IF($F10>=7,(IF(I10<=Показатели!$K$26,\"Н\",(IF(I10<=Показатели!$L$26,\"С\",\"В\")))))))))))))))))","v":"С"},{"$f":"IF(Итоговая!M10=\"\",\"\",Итоговая!M10)","v":3},{"$f":"IF(K10=\"\",\"\",(IF($D10=\"м\",(IF($E10<=3,(IF(K10<=Показатели!$C$8,\"Н\",(IF(K10<=Показатели!$D$8,\"С\",\"В\")))),(IF($E10=4,(IF(K10<=Показатели!$E$8,\"Н\",(IF(K10<=Показатели!$F$8,\"С\",\"В\")))),(IF($E10=5,(IF(K10<=Показатели!$G$8,\"Н\",(IF(K10<=Показатели!$H$8,\"С\",\"В\")))),(IF($E10=6,(IF(K10<=Показатели!$I$8,\"Н\",(IF(K10<= Показатели!$J$8,\"С\",\"В\")))),(IF($E10>=7,(IF(K10<=Показатели!$K$8,\"Н\",(IF(K10<=Показатели!$L$8,\"С\",\"В\")))))))))))))),(IF($E10<=3,(IF(K10<=Показатели!$C$27,\"Н\",(IF(K10<=Показатели!$D$27,\"С\",\"В\")))),(IF($E10=4,(IF(K10<=Показатели!$E$27,\"Н\",(IF(K10<=Показатели!$F$27,\"С\",\"В\")))),(IF($E10=5,(IF(K10<=Показатели!$G$27,\"Н\",(IF(K10<=Показатели!$H$27,\"С\",\"В\")))),(IF($E10=6,(IF(K10<=Показатели!$I$27,\"Н\",(IF(K10<= Показатели!$J$27,\"С\",\"В\")))),(IF($E10>=7,(IF(K10<=Показатели!$K$27,\"Н\",(IF(K10<=Показатели!$L$27,\"С\",\"В\")))))))))))))))))","v":"В"},{"$f":"IF(Итоговая!N10=\"\",\"\",Итоговая!N10)","v":3.5},{"$f":"IF(M10=\"\",\"\",(IF($D10=\"м\",(IF($F10<=3,(IF(M10<=Показатели!$C$8,\"Н\",(IF(M10<=Показатели!$D$8,\"С\",\"В\")))),(IF($F10=4,(IF(M10<=Показатели!$E$8,\"Н\",(IF(M10<=Показатели!$F$8,\"С\",\"В\")))),(IF($F10=5,(IF(M10<=Показатели!$G$8,\"Н\",(IF(M10<=Показатели!$H$8,\"С\",\"В\")))),(IF($F10=6,(IF(M10<=Показатели!$I$8,\"Н\",(IF(M10<= Показатели!$J$8,\"С\",\"В\")))),(IF($F10>=7,(IF(M10<=Показатели!$K$8,\"Н\",(IF(M10<=Показатели!$L$8,\"С\",\"В\")))))))))))))),(IF($F10<=3,(IF(M10<=Показатели!$C$27,\"Н\",(IF(M10<=Показатели!$D$27,\"С\",\"В\")))),(IF($F10=4,(IF(M10<=Показатели!$E$27,\"Н\",(IF(M10<=Показатели!$F$27,\"С\",\"В\")))),(IF($F10=5,(IF(M10<=Показатели!$G$27,\"Н\",(IF(M10<=Показатели!$H$27,\"С\",\"В\")))),(IF($F10=6,(IF(M10<=Показатели!$I$27,\"Н\",(IF(M10<= Показатели!$J$27,\"С\",\"В\")))),(IF($F10>=7,(IF(M10<=Показатели!$K$27,\"Н\",(IF(M10<=Показатели!$L$27,\"С\",\"В\")))))))))))))))))","v":"В"},{"$f":"IF(Итоговая!U10=\"\",\"\",Итоговая!U10)","v":2},{"$f":"IF(O10=\"\",\"\",(IF($D10=\"м\",(IF($E10<=3,(IF(O10<=Показатели!$C$9,\"Н\",(IF(O10<=Показатели!$D$9,\"С\",\"В\")))),(IF($E10=4,(IF(O10<=Показатели!$E$9,\"Н\",(IF(O10<=Показатели!$F$9,\"С\",\"В\")))),(IF($E10=5,(IF(O10<=Показатели!$G$9,\"Н\",(IF(O10<=Показатели!$H$9,\"С\",\"В\")))),(IF($E10=6,(IF(O10<=Показатели!$I$9,\"Н\",(IF(O10<= Показатели!$J$9,\"С\",\"В\")))),(IF($E10>=7,(IF(O10<=Показатели!$K$9,\"Н\",(IF(O10<=Показатели!$L$9,\"С\",\"В\")))))))))))))),(IF($E10<=3,(IF(O10<=Показатели!$C$28,\"Н\",(IF(O10<=Показатели!$D$28,\"С\",\"В\")))),(IF($E10=4,(IF(O10<=Показатели!$E$28,\"Н\",(IF(O10<=Показатели!$F$28,\"С\",\"В\")))),(IF($E10=5,(IF(O10<=Показатели!$G$28,\"Н\",(IF(O10<=Показатели!$H$28,\"С\",\"В\")))),(IF($E10=6,(IF(O10<=Показатели!$I$28,\"Н\",(IF(O10<= Показатели!$J$28,\"С\",\"В\")))),(IF($E10>=7,(IF(O10<=Показатели!$K$28,\"Н\",(IF(O10<=Показатели!$L$28,\"С\",\"В\")))))))))))))))))","v":"В"},{"$f":"IF(Итоговая!V10=\"\",\"\",Итоговая!V10)","v":2.5},{"$f":"IF(Q10=\"\",\"\",(IF($D10=\"м\",(IF($F10<=3,(IF(Q10<=Показатели!$C$9,\"Н\",(IF(Q10<=Показатели!$D$9,\"С\",\"В\")))),(IF($F10=4,(IF(Q10<=Показатели!$E$9,\"Н\",(IF(Q10<=Показатели!$F$9,\"С\",\"В\")))),(IF($F10=5,(IF(Q10<=Показатели!$G$9,\"Н\",(IF(Q10<=Показатели!$H$9,\"С\",\"В\")))),(IF($F10=6,(IF(Q10<=Показатели!$I$9,\"Н\",(IF(Q10<= Показатели!$J$9,\"С\",\"В\")))),(IF($F10>=7,(IF(Q10<=Показатели!$K$9,\"Н\",(IF(Q10<=Показатели!$L$9,\"С\",\"В\")))))))))))))),(IF($F10<=3,(IF(Q10<=Показатели!$C$28,\"Н\",(IF(Q10<=Показатели!$D$28,\"С\",\"В\")))),(IF($F10=4,(IF(Q10<=Показатели!$E$28,\"Н\",(IF(Q10<=Показатели!$F$28,\"С\",\"В\")))),(IF($F10=5,(IF(Q10<=Показатели!$G$28,\"Н\",(IF(Q10<=Показатели!$H$28,\"С\",\"В\")))),(IF($F10=6,(IF(Q10<=Показатели!$I$28,\"Н\",(IF(Q10<= Показатели!$J$28,\"С\",\"В\")))),(IF($F10>=7,(IF(Q10<=Показатели!$K$28,\"Н\",(IF(Q10<=Показатели!$L$28,\"С\",\"В\")))))))))))))))))","v":"С"},{"$f":"IF(Итоговая!AC10=\"\",\"\",Итоговая!AC10)","v":3.7},{"$f":"IF(S10=\"\",\"\",(IF($D10=\"м\",(IF($E10<=3,(IF(S10>=Показатели!$C$10,\"Н\",(IF(S10>=Показатели!$D$10,\"С\",\"В\")))),(IF($E10=4,(IF(S10>=Показатели!$E$10,\"Н\",(IF(S10>=Показатели!$F$10,\"С\",\"В\")))),(IF($E10=5,(IF(S10>=Показатели!$G$10,\"Н\",(IF(S10>=Показатели!$H$10,\"С\",\"В\")))),(IF($E10=6,(IF(S10>=Показатели!$I$10,\"Н\",(IF(S10>= Показатели!$J$10,\"С\",\"В\")))),(IF($E10>=7,(IF(S10>=Показатели!$K$10,\"Н\",(IF(S10>=Показатели!$L$10,\"С\",\"В\")))))))))))))),(IF($E10<=3,(IF(S10>=Показатели!$C$29,\"Н\",(IF(S10>=Показатели!$D$29,\"С\",\"В\")))),(IF($E10=4,(IF(S10>=Показатели!$E$29,\"Н\",(IF(S10>=Показатели!$F$29,\"С\",\"В\")))),(IF($E10=5,(IF(S10>=Показатели!$G$29,\"Н\",(IF(S10>=Показатели!$H$29,\"С\",\"В\")))),(IF($E10=6,(IF(S10>=Показатели!$I$29,\"Н\",(IF(S10>= Показатели!$J$29,\"С\",\"В\")))),(IF($E10>=7,(IF(S10>=Показатели!$K$29,\"Н\",(IF(S10>=Показатели!$L$29,\"С\",\"В\")))))))))))))))))","v":"С"},{"$f":"IF(Итоговая!AD10=\"\",\"\",Итоговая!AD10)","v":3.4},{"$f":"IF(U10=\"\",\"\",(IF($D10=\"м\",(IF($F10<=3,(IF(U10>=Показатели!$C$10,\"Н\",(IF(U10>=Показатели!$D$10,\"С\",\"В\")))),(IF($F10=4,(IF(U10>=Показатели!$E$10,\"Н\",(IF(U10>=Показатели!$F$10,\"С\",\"В\")))),(IF($F10=5,(IF(U10>=Показатели!$G$10,\"Н\",(IF(U10>=Показатели!$H$10,\"С\",\"В\")))),(IF($F10=6,(IF(U10>=Показатели!$I$10,\"Н\",(IF(U10>= Показатели!$J$10,\"С\",\"В\")))),(IF($F10>=7,(IF(U10>=Показатели!$K$10,\"Н\",(IF(U10>=Показатели!$L$10,\"С\",\"В\")))))))))))))),(IF($F10<=3,(IF(U10>=Показатели!$C$29,\"Н\",(IF(U10>=Показатели!$D$29,\"С\",\"В\")))),(IF($F10=4,(IF(U10>=Показатели!$E$29,\"Н\",(IF(U10>=Показатели!$F$29,\"С\",\"В\")))),(IF($F10=5,(IF(U10>=Показатели!$G$29,\"Н\",(IF(U10>=Показатели!$H$29,\"С\",\"В\")))),(IF($F10=6,(IF(U10>=Показатели!$I$29,\"Н\",(IF(U10>= Показатели!$J$29,\"С\",\"В\")))),(IF($F10>=7,(IF(U10>=Показатели!$K$29,\"Н\",(IF(U10>=Показатели!$L$29,\"С\",\"В\")))))))))))))))))","v":"Н"},{"$f":"IF(Итоговая!AK10=\"\",\"\",Итоговая!AK10)","v":11.3},{"$f":"IF(W10=\"\",\"\",(IF($D10=\"м\",(IF($E10<=3,(IF(W10>=Показатели!$C$11,\"Н\",(IF(W10>=Показатели!$D$11,\"С\",\"В\")))),(IF($E10=4,(IF(W10>=Показатели!$E$11,\"Н\",(IF(W10>=Показатели!$F$11,\"С\",\"В\")))),(IF($E10=5,(IF(W10>=Показатели!$G$11,\"Н\",(IF(W10>=Показатели!$H$11,\"С\",\"В\")))),(IF($E10=6,(IF(W10>=Показатели!$I$11,\"Н\",(IF(W10>= Показатели!$J$11,\"С\",\"В\")))),(IF($E10>=7,(IF(W10>=Показатели!$K$11,\"Н\",(IF(W10>=Показатели!$L$11,\"С\",\"В\")))))))))))))),(IF($E10<=3,(IF(W10>=Показатели!$C$30,\"Н\",(IF(W10>=Показатели!$D$30,\"С\",\"В\")))),(IF($E10=4,(IF(W10>=Показатели!$E$30,\"Н\",(IF(W10>=Показатели!$F$30,\"С\",\"В\")))),(IF($E10=5,(IF(W10>=Показатели!$G$30,\"Н\",(IF(W10>=Показатели!$H$30,\"С\",\"В\")))),(IF($E10=6,(IF(W10>=Показатели!$I$30,\"Н\",(IF(W10>= Показатели!$J$30,\"С\",\"В\")))),(IF($E10>=7,(IF(W10>=Показатели!$K$30,\"Н\",(IF(W10>=Показатели!$L$30,\"С\",\"В\")))))))))))))))))","v":"С"},{"$f":"IF(Итоговая!AL10=\"\",\"\",Итоговая!AL10)","v":""},{"$f":"IF(Y10=\"\",\"\",(IF($D10=\"м\",(IF($F10<=3,(IF(Y10>=Показатели!$C$11,\"Н\",(IF(Y10>=Показатели!$D$11,\"С\",\"В\")))),(IF($F10=4,(IF(Y10>=Показатели!$E$11,\"Н\",(IF(Y10>=Показатели!$F$11,\"С\",\"В\")))),(IF($F10=5,(IF(Y10>=Показатели!$G$11,\"Н\",(IF(Y10>=Показатели!$H$11,\"С\",\"В\")))),(IF($F10=6,(IF(Y10>=Показатели!$I$11,\"Н\",(IF(Y10>= Показатели!$J$11,\"С\",\"В\")))),(IF($F10>=7,(IF(Y10>=Показатели!$K$11,\"Н\",(IF(Y10>=Показатели!$L$11,\"С\",\"В\")))))))))))))),(IF($F10<=3,(IF(Y10>=Показатели!$C$30,\"Н\",(IF(Y10>=Показатели!$D$30,\"С\",\"В\")))),(IF($F10=4,(IF(Y10>=Показатели!$E$30,\"Н\",(IF(Y10>=Показатели!$F$30,\"С\",\"В\")))),(IF($F10=5,(IF(Y10>=Показатели!$G$30,\"Н\",(IF(Y10>=Показатели!$H$30,\"С\",\"В\")))),(IF($F10=6,(IF(Y10>=Показатели!$I$30,\"Н\",(IF(Y10>= Показатели!$J$30,\"С\",\"В\")))),(IF($F10>=7,(IF(Y10>=Показатели!$K$30,\"Н\",(IF(Y10>=Показатели!$L$30,\"С\",\"В\")))))))))))))))))","v":""},{"$f":"IF(Итоговая!BC10=\"\",\"\",Итоговая!BC10)","v":""},{"$f":"IF(AA10=\"\",\"\",(IF($D10=\"м\",(IF(AA10<=Показатели!$C$14,\"Н\",(IF(AA10<=Показатели!$D$14,\"С\",\"В\")))),(IF(AA10<=Показатели!$C$33,\"Н\",(IF(AA10<=Показатели!$D$33,\"С\",\"В\")))))))","v":""},{"$f":"IF(Итоговая!BD10=\"\",\"\",Итоговая!BD10)","v":""},{"$f":"IF(AC10=\"\",\"\",(IF($D10=\"м\",(IF(AC10<=Показатели!$E$14,\"Н\",(IF(AC10<=Показатели!$F$14,\"С\",\"В\")))),(IF(AC10<=Показатели!$E$33,\"Н\",(IF(AC10<=Показатели!$F$33,\"С\",\"В\")))))))","v":""},null,"-","-",3,60,2,40,2.4,"С",1,25,2,50,1,25,2,"С","С","В","В","С","С","","С","В","С","Н","",""]
[{"$f":"IF(Итоговая!A11=\"\",\"\",Итоговая!A11)","v":""},{"$f":"IF(Итоговая!C11=\"\",\"\",Итоговая!C11)","v":"2007-04-01"},{"$f":"IF(Итоговая!B11=\"\",\"\",Итоговая!B11)","v":"Четыркина настя"},{"$f":"IF(Итоговая!D11=\"\",\"\",Итоговая!D11)","v":"д"},3,4,{"$f":"IF(Итоговая!E11=\"\",\"\",Итоговая!E11)","v":30},{"$f":"IF(G11=\"\",\"\",(IF($D11=\"м\",(IF($E11<=3,(IF(G11<=Показатели!$C$7,\"Н\",(IF(G11<=Показатели!$D$7,\"С\",\"В\")))),(IF($E11=4,(IF(G11<=Показатели!$E$7,\"Н\",(IF(G11<=Показатели!$F$7,\"С\",\"В\")))),(IF($E11=5,(IF(G11<=Показатели!$G$7,\"Н\",(IF(G11<=Показатели!$H$7,\"С\",\"В\")))),(IF($E11=6,(IF(G11<=Показатели!$I$7,\"Н\",(IF(G11<= Показатели!$J$7,\"С\",\"В\")))),(IF($E11>=7,(IF(G11<=Показатели!$K$7,\"Н\",(IF(G11<=Показатели!$L$7,\"С\",\"В\")))))))))))))),(IF($E11<=3,(IF(G11<=Показатели!$C$26,\"Н\",(IF(G11<=Показатели!$D$26,\"С\",\"В\")))),(IF($E11=4,(IF(G11<=Показатели!$E$26,\"Н\",(IF(G11<=Показатели!$F$26,\"С\",\"В\")))),(IF($E11=5,(IF(G11<=Показатели!$G$26,\"Н\",(IF(G11<=Показатели!$H$26,\"С\",\"В\")))),(IF($E11=6,(IF(G11<=Показатели!$I$26,\"Н\",(IF(G11<= Показатели!$J$26,\"С\",\"В\")))),(IF($E11>=7,(IF(G11<=Показатели!$K$26,\"Н\",(IF(G11<=Показатели!$L$26,\"С\",\"В\")))))))))))))))))","v":"Н"},{"$f":"IF(Итоговая!F11=\"\",\"\",Итоговая!F11)","v":50},{"$f":"IF(I11=\"\",\"\",(IF($D11=\"м\",(IF($F11<=3,(IF(I11<=Показатели!$C$7,\"Н\",(IF(I11<=Показатели!$D$7,\"С\",\"В\")))),(IF($F11=4,(IF(I11<=Показатели!$E$7,\"Н\",(IF(I11<=Показатели!$F$7,\"С\",\"В\")))),(IF($F11=5,(IF(I11<=Показатели!$G$7,\"Н\",(IF(I11<=Показатели!$H$7,\"С\",\"В\")))),(IF($F11=6,(IF(I11<=Показатели!$I$7,\"Н\",(IF(I11<= Показатели!$J$7,\"С\",\"В\")))),(IF($F11>=7,(IF(I11<=Показатели!$K$7,\"Н\",(IF(I11<=Показатели!$L$7,\"С\",\"В\")))))))))))))),(IF($F11<=3,(IF(I11<=Показатели!$C$26,\"Н\",(IF(I11<=Показатели!$D$26,\"С\",\"В\")))),(IF($F11=4,(IF(I11<=Показатели!$E$26,\"Н\",(IF(I11<=Показатели!$F$26,\"С\",\"В\")))),(IF($F11=5,(IF(I11<=Показатели!$G$26,\"Н\",(IF(I11<=Показатели!$H$26,\"С\",\"В\")))),(IF($F11=6,(IF(I11<=Показатели!$I$26,\"Н\",(IF(I11<= Показатели!$J$26,\"С\",\"В\")))),(IF($F11>=7,(IF(I11<=Показатели!$K$26,\"Н\",(IF(I11<=Показатели!$L$26,\"С\",\"В\")))))))))))))))))","v":"Н"},{"$f":"IF(Итоговая!M11=\"\",\"\",Итоговая!M11)","v":2},{"$f":"IF(K11=\"\",\"\",(IF($D11=\"м\",(IF($E11<=3,(IF(K11<=Показатели!$C$8,\"Н\",(IF(K11<=Показатели!$D$8,\"С\",\"В\")))),(IF($E11=4,(IF(K11<=Показатели!$E$8,\"Н\",(IF(K11<=Показатели!$F$8,\"С\",\"В\")))),(IF($E11=5,(IF(K11<=Показатели!$G$8,\"Н\",(IF(K11<=Показатели!$H$8,\"С\",\"В\")))),(IF($E11=6,(IF(K11<=Показатели!$I$8,\"Н\",(IF(K11<= Показатели!$J$8,\"С\",\"В\")))),(IF($E11>=7,(IF(K11<=Показатели!$K$8,\"Н\",(IF(K11<=Показатели!$L$8,\"С\",\"В\")))))))))))))),(IF($E11<=3,(IF(K11<=Показатели!$C$27,\"Н\",(IF(K11<=Показатели!$D$27,\"С\",\"В\")))),(IF($E11=4,(IF(K11<=Показатели!$E$27,\"Н\",(IF(K11<=Показатели!$F$27,\"С\",\"В\")))),(IF($E11=5,(IF(K11<=Показатели!$G$27,\"Н\",(IF(K11<=Показатели!$H$27,\"С\",\"В\")))),(IF($E11=6,(IF(K11<=Показатели!$I$27,\"Н\",(IF(K11<= Показатели!$J$27,\"С\",\"В\")))),(IF($E11>=7,(IF(K11<=Показатели!$K$27,\"Н\",(IF(K11<=Показатели!$L$27,\"С\",\"В\")))))))))))))))))","v":"С"},{"$f":"IF(Итоговая!N11=\"\",\"\",Итоговая!N11)","v":2.5},{"$f":"IF(M11=\"\",\"\",(IF($D11=\"м\",(IF($F11<=3,(IF(M11<=Показатели!$C$8,\"Н\",(IF(M11<=Показатели!$D$8,\"С\",\"В\")))),(IF($F11=4,(IF(M11<=Показатели!$E$8,\"Н\",(IF(M11<=Показатели!$F$8,\"С\",\"В\")))),(IF($F11=5,(IF(M11<=Показатели!$G$8,\"Н\",(IF(M11<=Показатели!$H$8,\"С\",\"В\")))),(IF($F11=6,(IF(M11<=Показатели!$I$8,\"Н\",(IF(M11<= Показатели!$J$8,\"С\",\"В\")))),(IF($F11>=7,(IF(M11<=Показатели!$K$8,\"Н\",(IF(M11<=Показатели!$L$8,\"С\",\"В\")))))))))))))),(IF($F11<=3,(IF(M11<=Показатели!$C$27,\"Н\",(IF(M11<=Показатели!$D$27,\"С\",\"В\")))),(IF($F11=4,(IF(M11<=Показатели!$E$27,\"Н\",(IF(M11<=Показатели!$F$27,\"С\",\"В\")))),(IF($F11=5,(IF(M11<=Показатели!$G$27,\"Н\",(IF(M11<=Показатели!$H$27,\"С\",\"В\")))),(IF($F11=6,(IF(M11<=Показатели!$I$27,\"Н\",(IF(M11<= Показатели!$J$27,\"С\",\"В\")))),(IF($F11>=7,(IF(M11<=Показатели!$K$27,\"Н\",(IF(M11<=Показатели!$L$27,\"С\",\"В\")))))))))))))))))","v":"Н"},{"$f":"IF(Итоговая!U11=\"\",\"\",Итоговая!U11)","v":1},{"$f":"IF(O11=\"\",\"\",(IF($D11=\"м\",(IF($E11<=3,(IF(O11<=Показатели!$C$9,\"Н\",(IF(O11<=Показатели!$D$9,\"С\",\"В\")))),(IF($E11=4,(IF(O11<=Показатели!$E$9,\"Н\",(IF(O11<=Показатели!$F$9,\"С\",\"В\")))),(IF($E11=5,(IF(O11<=Показатели!$G$9,\"Н\",(IF(O11<=Показатели!$H$9,\"С\",\"В\")))),(IF($E11=6,(IF(O11<=Показатели!$I$9,\"Н\",(IF(O11<= Показатели!$J$9,\"С\",\"В\")))),(IF($E11>=7,(IF(O11<=Показатели!$K$9,\"Н\",(IF(O11<=Показатели!$L$9,\"С\",\"В\")))))))))))))),(IF($E11<=3,(IF(O11<=Показатели!$C$28,\"Н\",(IF(O11<=Показатели!$D$28,\"С\",\"В\")))),(IF($E11=4,(IF(O11<=Показатели!$E$28,\"Н\",(IF(O11<=Показатели!$F$28,\"С\",\"В\")))),(IF($E11=5,(IF(O11<=Показатели!$G$28,\"Н\",(IF(O11<=Показатели!$H$28,\"С\",\"В\")))),(IF($E11=6,(IF(O11<=Показатели!$I$28,\"Н\",(IF(O11<= Показатели!$J$28,\"С\",\"В\")))),(IF($E11>=7,(IF(O11<=Показатели!$K$28,\"Н\",(IF(O11<=Показатели!$L$28,\"С\",\"В\")))))))))))))))))","v":"Н"},{"$f":"IF(Итоговая!V11=\"\",\"\",Итоговая!V11)","v":2},{"$f":"IF(Q11=\"\",\"\",(IF($D11=\"м\",(IF($F11<=3,(IF(Q11<=Показатели!$C$9,\"Н\",(IF(Q11<=Показатели!$D$9,\"С\",\"В\")))),(IF($F11=4,(IF(Q11<=Показатели!$E$9,\"Н\",(IF(Q11<=Показатели!$F$9,\"С\",\"В\")))),(IF($F11=5,(IF(Q11<=Показатели!$G$9,\"Н\",(IF(Q11<=Показатели!$H$9,\"С\",\"В\")))),(IF($F11=6,(IF(Q11<=Показатели!$I$9,\"Н\",(IF(Q11<= Показатели!$J$9,\"С\",\"В\")))),(IF($F11>=7,(IF(Q11<=Показатели!$K$9,\"Н\",(IF(Q11<=Показатели!$L$9,\"С\",\"В\")))))))))))))),(IF($F11<=3,(IF(Q11<=Показатели!$C$28,\"Н\",(IF(Q11<=Показатели!$D$28,\"С\",\"В\")))),(IF($F11=4,(IF(Q11<=Показатели!$E$28,\"Н\",(IF(Q11<=Показатели!$F$28,\"С\",\"В\")))),(IF($F11=5,(IF(Q11<=Показатели!$G$28,\"Н\",(IF(Q11<=Показатели!$H$28,\"С\",\"В\")))),(IF($F11=6,(IF(Q11<=Показатели!$I$28,\"Н\",(IF(Q11<= Показатели!$J$28,\"С\",\"В\")))),(IF($F11>=7,(IF(Q11<=Показатели!$K$28,\"Н\",(IF(Q11<=Показатели!$L$28,\"С\",\"В\")))))))))))))))))","v":"Н"},{"$f":"IF(Итоговая!AC11=\"\",\"\",Итоговая!AC11)","v":""},{"$f":"IF(S11=\"\",\"\",(IF($D11=\"м\",(IF($E11<=3,(IF(S11>=Показатели!$C$10,\"Н\",(IF(S11>=Показатели!$D$10,\"С\",\"В\")))),(IF($E11=4,(IF(S11>=Показатели!$E$10,\"Н\",(IF(S11>=Показатели!$F$10,\"С\",\"В\")))),(IF($E11=5,(IF(S11>=Показатели!$G$10,\"Н\",(IF(S11>=Показатели!$H$10,\"С\",\"В\")))),(IF($E11=6,(IF(S11>=Показатели!$I$10,\"Н\",(IF(S11>= Показатели!$J$10,\"С\",\"В\")))),(IF($E11>=7,(IF(S11>=Показатели!$K$10,\"Н\",(IF(S11>=Показатели!$L$10,\"С\",\"В\")))))))))))))),(IF($E11<=3,(IF(S11>=Показатели!$C$29,\"Н\",(IF(S11>=Показатели!$D$29,\"С\",\"В\")))),(IF($E11=4,(IF(S11>=Показатели!$E$29,\"Н\",(IF(S11>=Показатели!$F$29,\"С\",\"В\")))),(IF($E11=5,(IF(S11>=Показатели!$G$29,\"Н\",(IF(S11>=Показатели!$H$29,\"С\",\"В\")))),(IF($E11=6,(IF(S11>=Показатели!$I$29,\"Н\",(IF(S11>= Показатели!$J$29,\"С\",\"В\")))),(IF($E11>=7,(IF(S11>=Показатели!$K$29,\"Н\",(IF(S11>=Показатели!$L$29,\"С\",\"В\")))))))))))))))))","v":""},{"$f":"IF(Итоговая!AD11=\"\",\"\",Итоговая!AD11)","v":""},{"$f":"IF(U11=\"\",\"\",(IF($D11=\"м\",(IF($F11<=3,(IF(U11>=Показатели!$C$10,\"Н\",(IF(U11>=Показатели!$D$10,\"С\",\"В\")))),(IF($F11=4,(IF(U11>=Показатели!$E$10,\"Н\",(IF(U11>=Показатели!$F$10,\"С\",\"В\")))),(IF($F11=5,(IF(U11>=Показатели!$G$10,\"Н\",(IF(U11>=Показатели!$H$10,\"С\",\"В\")))),(IF($F11=6,(IF(U11>=Показатели!$I$10,\"Н\",(IF(U11>= Показатели!$J$10,\"С\",\"В\")))),(IF($F11>=7,(IF(U11>=Показатели!$K$10,\"Н\",(IF(U11>=Показатели!$L$10,\"С\",\"В\")))))))))))))),(IF($F11<=3,(IF(U11>=Показатели!$C$29,\"Н\",(IF(U11>=Показатели!$D$29,\"С\",\"В\")))),(IF($F11=4,(IF(U11>=Показатели!$E$29,\"Н\",(IF(U11>=Показатели!$F$29,\"С\",\"В\")))),(IF($F11=5,(IF(U11>=Показатели!$G$29,\"Н\",(IF(U11>=Показатели!$H$29,\"С\",\"В\")))),(IF($F11=6,(IF(U11>=Показатели!$I$29,\"Н\",(IF(U11>= Показатели!$J$29,\"С\",\"В\")))),(IF($F11>=7,(IF(U11>=Показатели!$K$29,\"Н\",(IF(U11>=Показатели!$L$29,\"С\",\"В\")))))))))))))))))","v":""},{"$f":"IF(Итоговая!AK11=\"\",\"\",Итоговая!AK11)","v":""},{"$f":"IF(W11=\"\",\"\",(IF($D11=\"м\",(IF($E11<=3,(IF(W11>=Показатели!$C$11,\"Н\",(IF(W11>=Показатели!$D$11,\"С\",\"В\")))),(IF($E11=4,(IF(W11>=Показатели!$E$11,\"Н\",(IF(W11>=Показатели!$F$11,\"С\",\"В\")))),(IF($E11=5,(IF(W11>=Показатели!$G$11,\"Н\",(IF(W11>=Показатели!$H$11,\"С\",\"В\")))),(IF($E11=6,(IF(W11>=Показатели!$I$11,\"Н\",(IF(W11>= Показатели!$J$11,\"С\",\"В\")))),(IF($E11>=7,(IF(W11>=Показатели!$K$11,\"Н\",(IF(W11>=Показатели!$L$11,\"С\",\"В\")))))))))))))),(IF($E11<=3,(IF(W11>=Показатели!$C$30,\"Н\",(IF(W11>=Показатели!$D$30,\"С\",\"В\")))),(IF($E11=4,(IF(W11>=Показатели!$E$30,\"Н\",(IF(W11>=Показатели!$F$30,\"С\",\"В\")))),(IF($E11=5,(IF(W11>=Показатели!$G$30,\"Н\",(IF(W11>=Показатели!$H$30,\"С\",\"В\")))),(IF($E11=6,(IF(W11>=Показатели!$I$30,\"Н\",(IF(W11>= Показатели!$J$30,\"С\",\"В\")))),(IF($E11>=7,(IF(W11>=Показатели!$K$30,\"Н\",(IF(W11>=Показатели!$L$30,\"С\",\"В\")))))))))))))))))","v":""},{"$f":"IF(Итоговая!AL11=\"\",\"\",Итоговая!AL11)","v":""},{"$f":"IF(Y11=\"\",\"\",(IF($D11=\"м\",(IF($F11<=3,(IF(Y11>=Показатели!$C$11,\"Н\",(IF(Y11>=Показатели!$D$11,\"С\",\"В\")))),(IF($F11=4,(IF(Y11>=Показатели!$E$11,\"Н\",(IF(Y11>=Показатели!$F$11,\"С\",\"В\")))),(IF($F11=5,(IF(Y11>=Показатели!$G$11,\"Н\",(IF(Y11>=Показатели!$H$11,\"С\",\"В\")))),(IF($F11=6,(IF(Y11>=Показатели!$I$11,\"Н\",(IF(Y11>= Показатели!$J$11,\"С\",\"В\")))),(IF($F11>=7,(IF(Y11>=Показатели!$K$11,\"Н\",(IF(Y11>=Показатели!$L$11,\"С\",\"В\")))))))))))))),(IF($F11<=3,(IF(Y11>=Показатели!$C$30,\"Н\",(IF(Y11>=Показатели!$D$30,\"С\",\"В\")))),(IF($F11=4,(IF(Y11>=Показатели!$E$30,\"Н\",(IF(Y11>=Показатели!$F$30,\"С\",\"В\")))),(IF($F11=5,(IF(Y11>=Показатели!$G$30,\"Н\",(IF(Y11>=Показатели!$H$30,\"С\",\"В\")))),(IF($F11=6,(IF(Y11>=Показатели!$I$30,\"Н\",(IF(Y11>= Показатели!$J$30,\"С\",\"В\")))),(IF($F11>=7,(IF(Y11>=Показатели!$K$30,\"Н\",(IF(Y11>=Показатели!$L$30,\"С\",\"В\")))))))))))))))))","v":""},{"$f":"IF(Итоговая!BC11=\"\",\"\",Итоговая!BC11)","v":""},{"$f":"IF(AA11=\"\",\"\",(IF($D11=\"м\",(IF(AA11<=Показатели!$C$14,\"Н\",(IF(AA11<=Показатели!$D$14,\"С\",\"В\")))),(IF(AA11<=Показатели!$C$33,\"Н\",(IF(AA11<=Показатели!$D$33,\"С\",\"В\")))))))","v":""},{"$f":"IF(Итоговая!BD11=\"\",\"\",Итоговая!BD11)","v":""},{"$f":"IF(AC11=\"\",\"\",(IF($D11=\"м\",(IF(AC11<=Показатели!$E$14,\"Н\",(IF(AC11<=Показатели!$F$14,\"С\",\"В\")))),(IF(AC11<=Показатели!$E$33,\"Н\",(IF(AC11<=Показатели!$F$33,\"С\",\"В\")))))))","v":""},null,2,66.666666666666671,1,33.333333333333336,"-","-",1.3333333333333333,"Н",3,100,"-","-","-","-",1,"Н","Н","С","Н","","","","Н","Н","Н","","",""]
[{"$f":"IF(Итоговая!A12=\"\",\"\",Итоговая!A12)","v":""},{"$f":"IF(Итоговая!C12=\"\",\"\",Итоговая!C12)","v":"2007-05-01"},{"$f":"IF(Итоговая!B12=\"\",\"\",Итоговая!B12)","v":"Абрамова Виолетта"},{"$f":"IF(Итоговая!D12=\"\",\"\",Итоговая!D12)","v":"д"},3,4,{"$f":"IF(Итоговая!E12=\"\",\"\",Итоговая!E12)","v":""},{"$f":"IF(G12=\"\",\"\",(IF($D12=\"м\",(IF($E12<=3,(IF(G12<=Показатели!$C$7,\"Н\",(IF(G12<=Показатели!$D$7,\"С\",\"В\")))),(IF($E12=4,(IF(G12<=Показатели!$E$7,\"Н\",(IF(G12<=Показатели!$F$7,\"С\",\"В\")))),(IF($E12=5,(IF(G12<=Показатели!$G$7,\"Н\",(IF(G12<=Показатели!$H$7,\"С\",\"В\")))),(IF($E12=6,(IF(G12<=Показатели!$I$7,\"Н\",(IF(G12<= Показатели!$J$7,\"С\",\"В\")))),(IF($E12>=7,(IF(G12<=Показатели!$K$7,\"Н\",(IF(G12<=Показатели!$L$7,\"С\",\"В\")))))))))))))),(IF($E12<=3,(IF(G12<=Показатели!$C$26,\"Н\",(IF(G12<=Показатели!$D$26,\"С\",\"В\")))),(IF($E12=4,(IF(G12<=Показатели!$E$26,\"Н\",(IF(G12<=Показатели!$F$26,\"С\",\"В\")))),(IF($E12=5,(IF(G12<=Показатели!$G$26,\"Н\",(IF(G12<=Показатели!$H$26,\"С\",\"В\")))),(IF($E12=6,(IF(G12<=Показатели!$I$26,\"Н\",(IF(G12<= Показатели!$J$26,\"С\",\"В\")))),(IF($E12>=7,(IF(G12<=Показатели!$K$26,\"Н\",(IF(G12<=Показатели!$L$26,\"С\",\"В\")))))))))))))))))","v":""},{"$f":"IF(Итоговая!F12=\"\",\"\",Итоговая!F12)","v":40},{"$f":"IF(I12=\"\",\"\",(IF($D12=\"м\",(IF($F12<=3,(IF(I12<=Показатели!$C$7,\"Н\",(IF(I12<=Показатели!$D$7,\"С\",\"В\")))),(IF($F12=4,(IF(I12<=Показатели!$E$7,\"Н\",(IF(I12<=Показатели!$F$7,\"С\",\"В\")))),(IF($F12=5,(IF(I12<=Показатели!$G$7,\"Н\",(IF(I12<=Показатели!$H$7,\"С\",\"В\")))),(IF($F12=6,(IF(I12<=Показатели!$I$7,\"Н\",(IF(I12<= Показатели!$J$7,\"С\",\"В\")))),(IF($F12>=7,(IF(I12<=Показатели!$K$7,\"Н\",(IF(I12<=Показатели!$L$7,\"С\",\"В\")))))))))))))),(IF($F12<=3,(IF(I12<=Показатели!$C$26,\"Н\",(IF(I12<=Показатели!$D$26,\"С\",\"В\")))),(IF($F12=4,(IF(I12<=Показатели!$E$26,\"Н\",(IF(I12<=Показатели!$F$26,\"С\",\"В\")))),(IF($F12=5,(IF(I12<=Показатели!$G$26,\"Н\",(IF(I12<=Показатели!$H$26,\"С\",\"В\")))),(IF($F12=6,(IF(I12<=Показатели!$I$26,\"Н\",(IF(I12<= Показатели!$J$26,\"С\",\"В\")))),(IF($F12>=7,(IF(I12<=Показатели!$K$26,\"Н\",(IF(I12<=Показатели!$L$26,\"С\",\"В\")))))))))))))))))","v":"Н"},{"$f":"IF(Итоговая!M12=\"\",\"\",Итоговая!M12)","v":""},{"$f":"IF(K12=\"\",\"\",(IF($D12=\"м\",(IF($E12<=3,(IF(K12<=Показатели!$C$8,\"Н\",(IF(K12<=Показатели!$D$8,\"С\",\"В\")))),(IF($E12=4,(IF(K12<=Показатели!$E$8,\"Н\",(IF(K12<=Показатели!$F$8,\"С\",\"В\")))),(IF($E12=5,(IF(K12<=Показатели!$G$8,\"Н\",(IF(K12<=Показатели!$H$8,\"С\",\"В\")))),(IF($E12=6,(IF(K12<=Показатели!$I$8,\"Н\",(IF(K12<= Показатели!$J$8,\"С\",\"В\")))),(IF($E12>=7,(IF(K12<=Показатели!$K$8,\"Н\",(IF(K12<=Показатели!$L$8,\"С\",\"В\")))))))))))))),(IF($E12<=3,(IF(K12<=Показатели!$C$27,\"Н\",(IF(K12<=Показатели!$D$27,\"С\",\"В\")))),(IF($E12=4,(IF(K12<=Показатели!$E$27,\"Н\",(IF(K12<=Показатели!$F$27,\"С\",\"В\")))),(IF($E12=5,(IF(K12<=Показатели!$G$27,\"Н\",(IF(K12<=Показатели!$H$27,\"С\",\"В\")))),(IF($E12=6,(IF(K12<=Показатели!$I$27,\"Н\",(IF(K12<= Показатели!$J$27,\"С\",\"В\")))),(IF($E12>=7,(IF(K12<=Показатели!$K$27,\"Н\",(IF(K12<=Показатели!$L$27,\"С\",\"В\")))))))))))))))))","v":""},{"$f":"IF(Итоговая!N12=\"\",\"\",Итоговая!N12)","v":2},{"$f":"IF(M12=\"\",\"\",(IF($D12=\"м\",(IF($F12<=3,(IF(M12<=Показатели!$C$8,\"Н\",(IF(M12<=Показатели!$D$8,\"С\",\"В\")))),(IF($F12=4,(IF(M12<=Показатели!$E$8,\"Н\",(IF(M12<=Показатели!$F$8,\"С\",\"В\")))),(IF($F12=5,(IF(M12<=Показатели!$G$8,\"Н\",(IF(M12<=Показатели!$H$8,\"С\",\"В\")))),(IF($F12=6,(IF(M12<=Показатели!$I$8,\"Н\",(IF(M12<= Показатели!$J$8,\"С\",\"В\")))),(IF($F12>=7,(IF(M12<=Показатели!$K$8,\"Н\",(IF(M12<=Показатели!$L$8,\"С\",\"В\")))))))))))))),(IF($F12<=3,(IF(M12<=Показатели!$C$27,\"Н\",(IF(M12<=Показатели!$D$27,\"С\",\"В\")))),(IF($F12=4,(IF(M12<=Показатели!$E$27,\"Н\",(IF(M12<=Показатели!$F$27,\"С\",\"В\")))),(IF($F12=5,(IF(M12<=Показатели!$G$27,\"Н\",(IF(M12<=Показатели!$H$27,\"С\",\"В\")))),(IF($F12=6,(IF(M12<=Показатели!$I$27,\"Н\",(IF(M12<= Показатели!$J$27,\"С\",\"В\")))),(IF($F12>=7,(IF(M12<=Показатели!$K$27,\"Н\",(IF(M12<=Показатели!$L$27,\"С\",\"В\")))))))))))))))))","v":"Н"},{"$f":"IF(Итоговая!U12=\"\",\"\",Итоговая!U12)","v":""},{"$f":"IF(O12=\"\",\"\",(IF($D12=\"м\",(IF($E12<=3,(IF(O12<=Показатели!$C$9,\"Н\",(IF(O12<=Показатели!$D$9,\"С\",\"В\")))),(IF($E12=4,(IF(O12<=Показатели!$E$9,\"Н\",(IF(O12<=Показатели!$F$9,\"С\",\"В\")))),(IF($E12=5,(IF(O12<=Показатели!$G$9,\"Н\",(IF(O12<=Показатели!$H$9,\"С\",\"В\")))),(IF($E12=6,(IF(O12<=Показатели!$I$9,\"Н\",(IF(O12<= Показатели!$J$9,\"С\",\"В\")))),(IF($E12>=7,(IF(O12<=Показатели!$K$9,\"Н\",(IF(O12<=Показатели!$L$9,\"С\",\"В\")))))))))))))),(IF($E12<=3,(IF(O12<=Показатели!$C$28,\"Н\",(IF(O12<=Показатели!$D$28,\"С\",\"В\")))),(IF($E12=4,(IF(O12<=Показатели!$E$28,\"Н\",(IF(O12<=Показатели!$F$28,\"С\",\"В\")))),(IF($E12=5,(IF(O12<=Показатели!$G$28,\"Н\",(IF(O12<=Показатели!$H$28,\"С\",\"В\")))),(IF($E12=6,(IF(O12<=Показатели!$I$28,\"Н\",(IF(O12<= Показатели!$J$28,\"С\",\"В\")))),(IF($E12>=7,(IF(O12<=Показатели!$K$28,\"Н\",(IF(O12<=Показатели!$L$28,\"С\",\"В\")))))))))))))))))","v":""},{"$f":"IF(Итоговая!V12=\"\",\"\",Итоговая!V12)","v":2},{"$f":"IF(Q12=\"\",\"\",(IF($D12=\"м\",(IF($F12<=3,(IF(Q12<=Показатели!$C$9,\"Н\",(IF(Q12<=Показатели!$D$9,\"С\",\"В\")))),(IF($F12=4,(IF(Q12<=Показатели!$E$9,\"Н\",(IF(Q12<=Показатели!$F$9,\"С\",\"В\")))),(IF($F12=5,(IF(Q12<=Показатели!$G$9,\"Н\",(IF(Q12<=Показатели!$H$9,\"С\",\"В\")))),(IF($F12=6,(IF(Q12<=Показатели!$I$9,\"Н\",(IF(Q12<= Показатели!$J$9,\"С\",\"В\")))),(IF($F12>=7,(IF(Q12<=Показатели!$K$9,\"Н\",(IF(Q12<=Показатели!$L$9,\"С\",\"В\")))))))))))))),(IF($F12<=3,(IF(Q12<=Показатели!$C$28,\"Н\",(IF(Q12<=Показатели!$D$28,\"С\",\"В\")))),(IF($F12=4,(IF(Q12<=Показатели!$E$28,\"Н\",(IF(Q12<=Показатели!$F$28,\"С\",\"В\")))),(IF($F12=5,(IF(Q12<=Показатели!$G$28,\"Н\",(IF(Q12<=Показатели!$H$28,\"С\",\"В\")))),(IF($F12=6,(IF(Q12<=Показатели!$I$28,\"Н\",(IF(Q12<= Показатели!$J$28,\"С\",\"В\")))),(IF($F12>=7,(IF(Q12<=Показатели!$K$28,\"Н\",(IF(Q12<=Показатели!$L$28,\"С\",\"В\")))))))))))))))))","v":"Н"},{"$f":"IF(Итоговая!AC12=\"\",\"\",Итоговая!AC12)","v":4.7},{"$f":"IF(S12=\"\",\"\",(IF($D12=\"м\",(IF($E12<=3,(IF(S12>=Показатели!$C$10,\"Н\",(IF(S12>=Показатели!$D$10,\"С\",\"В\")))),(IF($E12=4,(IF(S12>=Показатели!$E$10,\"Н\",(IF(S12>=Показатели!$F$10,\"С\",\"В\")))),(IF($E12=5,(IF(S12>=Показатели!$G$10,\"Н\",(IF(S12>=Показатели!$H$10,\"С\",\"В\")))),(IF($E12=6,(IF(S12>=Показатели!$I$10,\"Н\",(IF(S12>= Показатели!$J$10,\"С\",\"В\")))),(IF($E12>=7,(IF(S12>=Показатели!$K$10,\"Н\",(IF(S12>=Показатели!$L$10,\"С\",\"В\")))))))))))))),(IF($E12<=3,(IF(S12>=Показатели!$C$29,\"Н\",(IF(S12>=Показатели!$D$29,\"С\",\"В\")))),(IF($E12=4,(IF(S12>=Показатели!$E$29,\"Н\",(IF(S12>=Показатели!$F$29,\"С\",\"В\")))),(IF($E12=5,(IF(S12>=Показатели!$G$29,\"Н\",(IF(S12>=Показатели!$H$29,\"С\",\"В\")))),(IF($E12=6,(IF(S12>=Показатели!$I$29,\"Н\",(IF(S12>= Показатели!$J$29,\"С\",\"В\")))),(IF($E12>=7,(IF(S12>=Показатели!$K$29,\"Н\",(IF(S12>=Показатели!$L$29,\"С\",\"В\")))))))))))))))))","v":"Н"},{"$f":"IF(Итоговая!AD12=\"\",\"\",Итоговая!AD12)","v":4.2},{"$f":"IF(U12=\"\",\"\",(IF($D12=\"м\",(IF($F12<=3,(IF(U12>=Показатели!$C$10,\"Н\",(IF(U12>=Показатели!$D$10,\"С\",\"В\")))),(IF($F12=4,(IF(U12>=Показатели!$E$10,\"Н\",(IF(U12>=Показатели!$F$10,\"С\",\"В\")))),(IF($F12=5,(IF(U12>=Показатели!$G$10,\"Н\",(IF(U12>=Показатели!$H$10,\"С\",\"В\")))),(IF($F12=6,(IF(U12>=Показатели!$I$10,\"Н\",(IF(U12>= Показатели!$J$10,\"С\",\"В\")))),(IF($F12>=7,(IF(U12>=Показатели!$K$10,\"Н\",(IF(U12>=Показатели!$L$10,\"С\",\"В\")))))))))))))),(IF($F12<=3,(IF(U12>=Показатели!$C$29,\"Н\",(IF(U12>=Показатели!$D$29,\"С\",\"В\")))),(IF($F12=4,(IF(U12>=Показатели!$E$29,\"Н\",(IF(U12>=Показатели!$F$29,\"С\",\"В\")))),(IF($F12=5,(IF(U12>=Показатели!$G$29,\"Н\",(IF(U12>=Показатели!$H$29,\"С\",\"В\")))),(IF($F12=6,(IF(U12>=Показатели!$I$29,\"Н\",(IF(U12>= Показатели!$J$29,\"С\",\"В\")))),(IF($F12>=7,(IF(U12>=Показатели!$K$29,\"Н\",(IF(U12>=Показатели!$L$29,\"С\",\"В\")))))))))))))))))","v":"Н"},{"$f":"IF(Итоговая!AK12=\"\",\"\",Итоговая!AK12)","v":"1,4,3"},{"$f":"IF(W12=\"\",\"\",(IF($D12=\"м\",(IF($E12<=3,(IF(W12>=Показатели!$C$11,\"Н\",(IF(W12>=Показатели!$D$11,\"С\",\"В\")))),(IF($E12=4,(IF(W12>=Показатели!$E$11,\"Н\",(IF(W12>=Показатели!$F$11,\"С\",\"В\")))),(IF($E12=5,(IF(W12>=Показатели!$G$11,\"Н\",(IF(W12>=Показатели!$H$11,\"С\",\"В\")))),(IF($E12=6,(IF(W12>=Показатели!$I$11,\"Н\",(IF(W12>= Показатели!$J$11,\"С\",\"В\")))),(IF($E12>=7,(IF(W12>=Показатели!$K$11,\"Н\",(IF(W12>=Показатели!$L$11,\"С\",\"В\")))))))))))))),(IF($E12<=3,(IF(W12>=Показатели!$C$30,\"Н\",(IF(W12>=Показатели!$D$30,\"С\",\"В\")))),(IF($E12=4,(IF(W12>=Показатели!$E$30,\"Н\",(IF(W12>=Показатели!$F$30,\"С\",\"В\")))),(IF($E12=5,(IF(W12>=Показатели!$G$30,\"Н\",(IF(W12>=Показатели!$H$30,\"С\",\"В\")))),(IF($E12=6,(IF(W12>=Показатели!$I$30,\"Н\",(IF(W12>= Показатели!$J$30,\"С\",\"В\")))),(IF($E12>=7,(IF(W12>=Показатели!$K$30,\"Н\",(IF(W12>=Показатели!$L$30,\"С\",\"В\")))))))))))))))))","v":"Н"},{"$f":"IF(Итоговая!AL12=\"\",\"\",Итоговая!AL12)","v":12.4},{"$f":"IF(Y12=\"\",\"\",(IF($D12=\"м\",(IF($F12<=3,(IF(Y12>=Показатели!$C$11,\"Н\",(IF(Y12>=Показатели!$D$11,\"С\",\"В\")))),(IF($F12=4,(IF(Y12>=Показатели!$E$11,\"Н\",(IF(Y12>=Показатели!$F$11,\"С\",\"В\")))),(IF($F12=5,(IF(Y12>=Показатели!$G$11,\"Н\",(IF(Y12>=Показатели!$H$11,\"С\",\"В\")))),(IF($F12=6,(IF(Y12>=Показатели!$I$11,\"Н\",(IF(Y12>= Показатели!$J$11,\"С\",\"В\")))),(IF($F12>=7,(IF(Y12>=Показатели!$K$11,\"Н\",(IF(Y12>=Показатели!$L$11,\"С\",\"В\")))))))))))))),(IF($F12<=3,(IF(Y12>=Показатели!$C$30,\"Н\",(IF(Y12>=Показатели!$D$30,\"С\",\"В\")))),(IF($F12=4,(IF(Y12>=Показатели!$E$30,\"Н\",(IF(Y12>=Показатели!$F$30,\"С\",\"В\")))),(IF($F12=5,(IF(Y12>=Показатели!$G$30,\"Н\",(IF(Y12>=Показатели!$H$30,\"С\",\"В\")))),(IF($F12=6,(IF(Y12>=Показатели!$I$30,\"Н\",(IF(Y12>= Показатели!$J$30,\"С\",\"В\")))),(IF($F12>=7,(IF(Y12>=Показатели!$K$30,\"Н\",(IF(Y12>=Показатели!$L$30,\"С\",\"В\")))))))))))))))))","v":"Н"},{"$f":"IF(Итоговая!BC12=\"\",\"\",Итоговая!BC12)","v":""},{"$f":"IF(AA12=\"\",\"\",(IF($D12=\"м\",(IF(AA12<=Показатели!$C$14,\"Н\",(IF(AA12<=Показатели!$D$14,\"С\",\"В\")))),(IF(AA12<=Показатели!$C$33,\"Н\",(IF(AA12<=Показатели!$D$33,\"С\",\"В\")))))))","v":""},{"$f":"IF(Итоговая!BD12=\"\",\"\",Итоговая!BD12)","v":""},{"$f":"IF(AC12=\"\",\"\",(IF($D12=\"м\",(IF(AC12<=Показатели!$E$14,\"Н\",(IF(AC12<=Показатели!$F$14,\"С\",\"В\")))),(IF(AC12<=Показатели!$E$33,\"Н\",(IF(AC12<=Показатели!$F$33,\"С\",\"В\")))))))","v":""},null,2,100,"-","-","-","-",1,"Н",5,100,"-","-","-","-",1,"Н","","","","Н","Н","","Н","Н","Н","Н","Н",""]
[{"$f":"IF(Итоговая!A13=\"\",\"\",Итоговая!A13)","v":""},{"$f":"IF(Итоговая!C13=\"\",\"\",Итоговая!C13)","v":""},{"$f":"IF(Итоговая!B13=\"\",\"\",Итоговая!B13)","v":""},{"$f":"IF(Итоговая!D13=\"\",\"\",Итоговая!D13)","v":""},"","",{"$f":"IF(Итоговая!E13=\"\",\"\",Итоговая!E13)","v":""},{"$f":"IF(G13=\"\",\"\",(IF($D13=\"м\",(IF($E13<=3,(IF(G13<=Показатели!$C$7,\"Н\",(IF(G13<=Показатели!$D$7,\"С\",\"В\")))),(IF($E13=4,(IF(G13<=Показатели!$E$7,\"Н\",(IF(G13<=Показатели!$F$7,\"С\",\"В\")))),(IF($E13=5,(IF(G13<=Показатели!$G$7,\"Н\",(IF(G13<=Показатели!$H$7,\"С\",\"В\")))),(IF($E13=6,(IF(G13<=Показатели!$I$7,\"Н\",(IF(G13<= Показатели!$J$7,\"С\",\"В\")))),(IF($E13>=7,(IF(G13<=Показатели!$K$7,\"Н\",(IF(G13<=Показатели!$L$7,\"С\",\"В\")))))))))))))),(IF($E13<=3,(IF(G13<=Показатели!$C$26,\"Н\",(IF(G13<=Показатели!$D$26,\"С\",\"В\")))),(IF($E13=4,(IF(G13<=Показатели!$E$26,\"Н\",(IF(G13<=Показатели!$F$26,\"С\",\"В\")))),(IF($E13=5,(IF(G13<=Показатели!$G$26,\"Н\",(IF(G13<=Показатели!$H$26,\"С\",\"В\")))),(IF($E13=6,(IF(G13<=Показатели!$I$26,\"Н\",(IF(G13<= Показатели!$J$26,\"С\",\"В\")))),(IF($E13>=7,(IF(G13<=Показатели!$K$26,\"Н\",(IF(G13<=Показатели!$L$26,\"С\",\"В\")))))))))))))))))","v":""},{"$f":"IF(Итоговая!F13=\"\",\"\",Итоговая!F13)","v":""},{"$f":"IF(I13=\"\",\"\",(IF($D13=\"м\",(IF($F13<=3,(IF(I13<=Показатели!$C$7,\"Н\",(IF(I13<=Показатели!$D$7,\"С\",\"В\")))),(IF($F13=4,(IF(I13<=Показатели!$E$7,\"Н\",(IF(I13<=Показатели!$F$7,\"С\",\"В\")))),(IF($F13=5,(IF(I13<=Показатели!$G$7,\"Н\",(IF(I13<=Показатели!$H$7,\"С\",\"В\")))),(IF($F13=6,(IF(I13<=Показатели!$I$7,\"Н\",(IF(I13<= Показатели!$J$7,\"С\",\"В\")))),(IF($F13>=7,(IF(I13<=Показатели!$K$7,\"Н\",(IF(I13<=Показатели!$L$7,\"С\",\"В\")))))))))))))),(IF($F13<=3,(IF(I13<=Показатели!$C$26,\"Н\",(IF(I13<=Показатели!$D$26,\"С\",\"В\")))),(IF($F13=4,(IF(I13<=Показатели!$E$26,\"Н\",(IF(I13<=Показатели!$F$26,\"С\",\"В\")))),(IF($F13=5,(IF(I13<=Показатели!$G$26,\"Н\",(IF(I13<=Показатели!$H$26,\"С\",\"В\")))),(IF($F13=6,(IF(I13<=Показатели!$I$26,\"Н\",(IF(I13<= Показатели!$J$26,\"С\",\"В\")))),(IF($F13>=7,(IF(I13<=Показатели!$K$26,\"Н\",(IF(I13<=Показатели!$L$26,\"С\",\"В\")))))))))))))))))","v":""},{"$f":"IF(Итоговая!M13=\"\",\"\",Итоговая!M13)","v":""},{"$f":"IF(K13=\"\",\"\",(IF($D13=\"м\",(IF($E13<=3,(IF(K13<=Показатели!$C$8,\"Н\",(IF(K13<=Показатели!$D$8,\"С\",\"В\")))),(IF($E13=4,(IF(K13<=Показатели!$E$8,\"Н\",(IF(K13<=Показатели!$F$8,\"С\",\"В\")))),(IF($E13=5,(IF(K13<=Показатели!$G$8,\"Н\",(IF(K13<=Показатели!$H$8,\"С\",\"В\")))),(IF($E13=6,(IF(K13<=Показатели!$I$8,\"Н\",(IF(K13<= Показатели!$J$8,\"С\",\"В\")))),(IF($E13>=7,(IF(K13<=Показатели!$K$8,\"Н\",(IF(K13<=Показатели!$L$8,\"С\",\"В\")))))))))))))),(IF($E13<=3,(IF(K13<=Показатели!$C$27,\"Н\",(IF(K13<=Показатели!$D$27,\"С\",\"В\")))),(IF($E13=4,(IF(K13<=Показатели!$E$27,\"Н\",(IF(K13<=Показатели!$F$27,\"С\",\"В\")))),(IF($E13=5,(IF(K13<=Показатели!$G$27,\"Н\",(IF(K13<=Показатели!$H$27,\"С\",\"В\")))),(IF($E13=6,(IF(K13<=Показатели!$I$27,\"Н\",(IF(K13<= Показатели!$J$27,\"С\",\"В\")))),(IF($E13>=7,(IF(K13<=Показатели!$K$27,\"Н\",(IF(K13<=Показатели!$L$27,\"С\",\"В\")))))))))))))))))","v":""},{"$f":"IF(Итоговая!N13=\"\",\"\",Итоговая!N13)","v":""},{"$f":"IF(M13=\"\",\"\",(IF($D13=\"м\",(IF($F13<=3,(IF(M13<=Показатели!$C$8,\"Н\",(IF(M13<=Показатели!$D$8,\"С\",\"В\")))),(IF($F13=4,(IF(M13<=Показатели!$E$8,\"Н\",(IF(M13<=Показатели!$F$8,\"С\",\"В\")))),(IF($F13=5,(IF(M13<=Показатели!$G$8,\"Н\",(IF(M13<=Показатели!$H$8,\"С\",\"В\")))),(IF($F13=6,(IF(M13<=Показатели!$I$8,\"Н\",(IF(M13<= Показатели!$J$8,\"С\",\"В\")))),(IF($F13>=7,(IF(M13<=Показатели!$K$8,\"Н\",(IF(M13<=Показатели!$L$8,\"С\",\"В\")))))))))))))),(IF($F13<=3,(IF(M13<=Показатели!$C$27,\"Н\",(IF(M13<=Показатели!$D$27,\"С\",\"В\")))),(IF($F13=4,(IF(M13<=Показатели!$E$27,\"Н\",(IF(M13<=Показатели!$F$27,\"С\",\"В\")))),(IF($F13=5,(IF(M13<=Показатели!$G$27,\"Н\",(IF(M13<=Показатели!$H$27,\"С\",\"В\")))),(IF($F13=6,(IF(M13<=Показатели!$I$27,\"Н\",(IF(M13<= Показатели!$J$27,\"С\",\"В\")))),(IF($F13>=7,(IF(M13<=Показатели!$K$27,\"Н\",(IF(M13<=Показатели!$L$27,\"С\",\"В\")))))))))))))))))","v":""},{"$f":"IF(Итоговая!U13=\"\",\"\",Итоговая!U13)","v":""},{"$f":"IF(O13=\"\",\"\",(IF($D13=\"м\",(IF($E13<=3,(IF(O13<=Показатели!$C$9,\"Н\",(IF(O13<=Показатели!$D$9,\"С\",\"В\")))),(IF($E13=4,(IF(O13<=Показатели!$E$9,\"Н\",(IF(O13<=Показатели!$F$9,\"С\",\"В\")))),(IF($E13=5,(IF(O13<=Показатели!$G$9,\"Н\",(IF(O13<=Показатели!$H$9,\"С\",\"В\")))),(IF($E13=6,(IF(O13<=Показатели!$I$9,\"Н\",(IF(O13<= Показатели!$J$9,\"С\",\"В\")))),(IF($E13>=7,(IF(O13<=Показатели!$K$9,\"Н\",(IF(O13<=Показатели!$L$9,\"С\",\"В\")))))))))))))),(IF($E13<=3,(IF(O13<=Показатели!$C$28,\"Н\",(IF(O13<=Показатели!$D$28,\"С\",\"В\")))),(IF($E13=4,(IF(O13<=Показатели!$E$28,\"Н\",(IF(O13<=Показатели!$F$28,\"С\",\"В\")))),(IF($E13=5,(IF(O13<=Показатели!$G$28,\"Н\",(IF(O13<=Показатели!$H$28,\"С\",\"В\")))),(IF($E13=6,(IF(O13<=Показатели!$I$28,\"Н\",(IF(O13<= Показатели!$J$28,\"С\",\"В\")))),(IF($E13>=7,(IF(O13<=Показатели!$K$28,\"Н\",(IF(O13<=Показатели!$L$28,\"С\",\"В\")))))))))))))))))","v":""},{"$f":"IF(Итоговая!V13=\"\",\"\",Итоговая!V13)","v":""},{"$f":"IF(Q13=\"\",\"\",(IF($D13=\"м\",(IF($F13<=3,(IF(Q13<=Показатели!$C$9,\"Н\",(IF(Q13<=Показатели!$D$9,\"С\",\"В\")))),(IF($F13=4,(IF(Q13<=Показатели!$E$9,\"Н\",(IF(Q13<=Показатели!$F$9,\"С\",\"В\")))),(IF($F13=5,(IF(Q13<=Показатели!$G$9,\"Н\",(IF(Q13<=Показатели!$H$9,\"С\",\"В\")))),(IF($F13=6,(IF(Q13<=Показатели!$I$9,\"Н\",(IF(Q13<= Показатели!$J$9,\"С\",\"В\")))),(IF($F13>=7,(IF(Q13<=Показатели!$K$9,\"Н\",(IF(Q13<=Показатели!$L$9,\"С\",\"В\")))))))))))))),(IF($F13<=3,(IF(Q13<=Показатели!$C$28,\"Н\",(IF(Q13<=Показатели!$D$28,\"С\",\"В\")))),(IF($F13=4,(IF(Q13<=Показатели!$E$28,\"Н\",(IF(Q13<=Показатели!$F$28,\"С\",\"В\")))),(IF($F13=5,(IF(Q13<=Показатели!$G$28,\"Н\",(IF(Q13<=Показатели!$H$28,\"С\",\"В\")))),(IF($F13=6,(IF(Q13<=Показатели!$I$28,\"Н\",(IF(Q13<= Показатели!$J$28,\"С\",\"В\")))),(IF($F13>=7,(IF(Q13<=Показатели!$K$28,\"Н\",(IF(Q13<=Показатели!$L$28,\"С\",\"В\")))))))))))))))))","v":""},{"$f":"IF(Итоговая!AC13=\"\",\"\",Итоговая!AC13)","v":""},{"$f":"IF(S13=\"\",\"\",(IF($D13=\"м\",(IF($E13<=3,(IF(S13>=Показатели!$C$10,\"Н\",(IF(S13>=Показатели!$D$10,\"С\",\"В\")))),(IF($E13=4,(IF(S13>=Показатели!$E$10,\"Н\",(IF(S13>=Показатели!$F$10,\"С\",\"В\")))),(IF($E13=5,(IF(S13>=Показатели!$G$10,\"Н\",(IF(S13>=Показатели!$H$10,\"С\",\"В\")))),(IF($E13=6,(IF(S13>=Показатели!$I$10,\"Н\",(IF(S13>= Показатели!$J$10,\"С\",\"В\")))),(IF($E13>=7,(IF(S13>=Показатели!$K$10,\"Н\",(IF(S13>=Показатели!$L$10,\"С\",\"В\")))))))))))))),(IF($E13<=3,(IF(S13>=Показатели!$C$29,\"Н\",(IF(S13>=Показатели!$D$29,\"С\",\"В\")))),(IF($E13=4,(IF(S13>=Показатели!$E$29,\"Н\",(IF(S13>=Показатели!$F$29,\"С\",\"В\")))),(IF($E13=5,(IF(S13>=Показатели!$G$29,\"Н\",(IF(S13>=Показатели!$H$29,\"С\",\"В\")))),(IF($E13=6,(IF(S13>=Показатели!$I$29,\"Н\",(IF(S13>= Показатели!$J$29,\"С\",\"В\")))),(IF($E13>=7,(IF(S13>=Показатели!$K$29,\"Н\",(IF(S13>=Показатели!$L$29,\"С\",\"В\")))))))))))))))))","v":""},{"$f":"IF(Итоговая!AD13=\"\",\"\",Итоговая!AD13)","v":""},{"$f":"IF(U13=\"\",\"\",(IF($D13=\"м\",(IF($F13<=3,(IF(U13>=Показатели!$C$10,\"Н\",(IF(U13>=Показатели!$D$10,\"С\",\"В\")))),(IF($F13=4,(IF(U13>=Показатели!$E$10,\"Н\",(IF(U13>=Показатели!$F$10,\"С\",\"В\")))),(IF($F13=5,(IF(U13>=Показатели!$G$10,\"Н\",(IF(U13>=Показатели!$H$10,\"С\",\"В\")))),(IF($F13=6,(IF(U13>=Показатели!$I$10,\"Н\",(IF(U13>= Показатели!$J$10,\"С\",\"В\")))),(IF($F13>=7,(IF(U13>=Показатели!$K$10,\"Н\",(IF(U13>=Показатели!$L$10,\"С\",\"В\")))))))))))))),(IF($F13<=3,(IF(U13>=Показатели!$C$29,\"Н\",(IF(U13>=Показатели!$D$29,\"С\",\"В\")))),(IF($F13=4,(IF(U13>=Показатели!$E$29,\"Н\",(IF(U13>=Показатели!$F$29,\"С\",\"В\")))),(IF($F13=5,(IF(U13>=Показатели!$G$29,\"Н\",(IF(U13>=Показатели!$H$29,\"С\",\"В\")))),(IF($F13=6,(IF(U13>=Показатели!$I$29,\"Н\",(IF(U13>= Показатели!$J$29,\"С\",\"В\")))),(IF($F13>=7,(IF(U13>=Показатели!$K$29,\"Н\",(IF(U13>=Показатели!$L$29,\"С\",\"В\")))))))))))))))))","v":""},{"$f":"IF(Итоговая!AK13=\"\",\"\",Итоговая!AK13)","v":""},{"$f":"IF(W13=\"\",\"\",(IF($D13=\"м\",(IF($E13<=3,(IF(W13>=Показатели!$C$11,\"Н\",(IF(W13>=Показатели!$D$11,\"С\",\"В\")))),(IF($E13=4,(IF(W13>=Показатели!$E$11,\"Н\",(IF(W13>=Показатели!$F$11,\"С\",\"В\")))),(IF($E13=5,(IF(W13>=Показатели!$G$11,\"Н\",(IF(W13>=Показатели!$H$11,\"С\",\"В\")))),(IF($E13=6,(IF(W13>=Показатели!$I$11,\"Н\",(IF(W13>= Показатели!$J$11,\"С\",\"В\")))),(IF($E13>=7,(IF(W13>=Показатели!$K$11,\"Н\",(IF(W13>=Показатели!$L$11,\"С\",\"В\")))))))))))))),(IF($E13<=3,(IF(W13>=Показатели!$C$30,\"Н\",(IF(W13>=Показатели!$D$30,\"С\",\"В\")))),(IF($E13=4,(IF(W13>=Показатели!$E$30,\"Н\",(IF(W13>=Показатели!$F$30,\"С\",\"В\")))),(IF($E13=5,(IF(W13>=Показатели!$G$30,\"Н\",(IF(W13>=Показатели!$H$30,\"С\",\"В\")))),(IF($E13=6,(IF(W13>=Показатели!$I$30,\"Н\",(IF(W13>= Показатели!$J$30,\"С\",\"В\")))),(IF($E13>=7,(IF(W13>=Показатели!$K$30,\"Н\",(IF(W13>=Показатели!$L$30,\"С\",\"В\")))))))))))))))))","v":""},{"$f":"IF(Итоговая!AL13=\"\",\"\",Итоговая!AL13)","v":""},{"$f":"IF(Y13=\"\",\"\",(IF($D13=\"м\",(IF($F13<=3,(IF(Y13>=Показатели!$C$11,\"Н\",(IF(Y13>=Показатели!$D$11,\"С\",\"В\")))),(IF($F13=4,(IF(Y13>=Показатели!$E$11,\"Н\",(IF(Y13>=Показатели!$F$11,\"С\",\"В\")))),(IF($F13=5,(IF(Y13>=Показатели!$G$11,\"Н\",(IF(Y13>=Показатели!$H$11,\"С\",\"В\")))),(IF($F13=6,(IF(Y13>=Показатели!$I$11,\"Н\",(IF(Y13>= Показатели!$J$11,\"С\",\"В\")))),(IF($F13>=7,(IF(Y13>=Показатели!$K$11,\"Н\",(IF(Y13>=Показатели!$L$11,\"С\",\"В\")))))))))))))),(IF($F13<=3,(IF(Y13>=Показатели!$C$30,\"Н\",(IF(Y13>=Показатели!$D$30,\"С\",\"В\")))),(IF($F13=4,(IF(Y13>=Показатели!$E$30,\"Н\",(IF(Y13>=Показатели!$F$30,\"С\",\"В\")))),(IF($F13=5,(IF(Y13>=Показатели!$G$30,\"Н\",(IF(Y13>=Показатели!$H$30,\"С\",\"В\")))),(IF($F13=6,(IF(Y13>=Показатели!$I$30,\"Н\",(IF(Y13>= Показатели!$J$30,\"С\",\"В\")))),(IF($F13>=7,(IF(Y13>=Показатели!$K$30,\"Н\",(IF(Y13>=Показатели!$L$30,\"С\",\"В\")))))))))))))))))","v":""},{"$f":"IF(Итоговая!BC13=\"\",\"\",Итоговая!BC13)","v":""},{"$f":"IF(AA13=\"\",\"\",(IF($D13=\"м\",(IF(AA13<=Показатели!$C$14,\"Н\",(IF(AA13<=Показатели!$D$14,\"С\",\"В\")))),(IF(AA13<=Показатели!$C$33,\"Н\",(IF(AA13<=Показатели!$D$33,\"С\",\"В\")))))))","v":""},{"$f":"IF(Итоговая!BD13=\"\",\"\",Итоговая!BD13)","v":""},{"$f":"IF(AC13=\"\",\"\",(IF($D13=\"м\",(IF(AC13<=Показатели!$E$14,\"Н\",(IF(AC13<=Показатели!$F$14,\"С\",\"В\")))),(IF(AC13<=Показатели!$E$33,\"Н\",(IF(AC13<=Показатели!$F$33,\"С\",\"В\")))))))","v":""},null,"-","-","-","-","-","-",null,null,"-","-","-","-","-","-"]
[{"$f":"IF(Итоговая!A14=\"\",\"\",Итоговая!A14)","v":""},{"$f":"IF(Итоговая!C14=\"\",\"\",Итоговая!C14)","v":""},{"$f":"IF(Итоговая!B14=\"\",\"\",Итоговая!B14)","v":""},{"$f":"IF(Итоговая!D14=\"\",\"\",Итоговая!D14)","v":""},"","",{"$f":"IF(Итоговая!E14=\"\",\"\",Итоговая!E14)","v":""},{"$f":"IF(G14=\"\",\"\",(IF($D14=\"м\",(IF($E14<=3,(IF(G14<=Показатели!$C$7,\"Н\",(IF(G14<=Показатели!$D$7,\"С\",\"В\")))),(IF($E14=4,(IF(G14<=Показатели!$E$7,\"Н\",(IF(G14<=Показатели!$F$7,\"С\",\"В\")))),(IF($E14=5,(IF(G14<=Показатели!$G$7,\"Н\",(IF(G14<=Показатели!$H$7,\"С\",\"В\")))),(IF($E14=6,(IF(G14<=Показатели!$I$7,\"Н\",(IF(G14<= Показатели!$J$7,\"С\",\"В\")))),(IF($E14>=7,(IF(G14<=Показатели!$K$7,\"Н\",(IF(G14<=Показатели!$L$7,\"С\",\"В\")))))))))))))),(IF($E14<=3,(IF(G14<=Показатели!$C$26,\"Н\",(IF(G14<=Показатели!$D$26,\"С\",\"В\")))),(IF($E14=4,(IF(G14<=Показатели!$E$26,\"Н\",(IF(G14<=Показатели!$F$26,\"С\",\"В\")))),(IF($E14=5,(IF(G14<=Показатели!$G$26,\"Н\",(IF(G14<=Показатели!$H$26,\"С\",\"В\")))),(IF($E14=6,(IF(G14<=Показатели!$I$26,\"Н\",(IF(G14<= Показатели!$J$26,\"С\",\"В\")))),(IF($E14>=7,(IF(G14<=Показатели!$K$26,\"Н\",(IF(G14<=Показатели!$L$26,\"С\",\"В\")))))))))))))))))","v":""},{"$f":"IF(Итоговая!F14=\"\",\"\",Итоговая!F14)","v":""},{"$f":"IF(I14=\"\",\"\",(IF($D14=\"м\",(IF($F14<=3,(IF(I14<=Показатели!$C$7,\"Н\",(IF(I14<=Показатели!$D$7,\"С\",\"В\")))),(IF($F14=4,(IF(I14<=Показатели!$E$7,\"Н\",(IF(I14<=Показатели!$F$7,\"С\",\"В\")))),(IF($F14=5,(IF(I14<=Показатели!$G$7,\"Н\",(IF(I14<=Показатели!$H$7,\"С\",\"В\")))),(IF($F14=6,(IF(I14<=Показатели!$I$7,\"Н\",(IF(I14<= Показатели!$J$7,\"С\",\"В\")))),(IF($F14>=7,(IF(I14<=Показатели!$K$7,\"Н\",(IF(I14<=Показатели!$L$7,\"С\",\"В\")))))))))))))),(IF($F14<=3,(IF(I14<=Показатели!$C$26,\"Н\",(IF(I14<=Показатели!$D$26,\"С\",\"В\")))),(IF($F14=4,(IF(I14<=Показатели!$E$26,\"Н\",(IF(I14<=Показатели!$F$26,\"С\",\"В\")))),(IF($F14=5,(IF(I14<=Показатели!$G$26,\"Н\",(IF(I14<=Показатели!$H$26,\"С\",\"В\")))),(IF($F14=6,(IF(I14<=Показатели!$I$26,\"Н\",(IF(I14<= Показатели!$J$26,\"С\",\"В\")))),(IF($F14>=7,(IF(I14<=Показатели!$K$26,\"Н\",(IF(I14<=Показатели!$L$26,\"С\",\"В\")))))))))))))))))","v":""},{"$f":"IF(Итоговая!M14=\"\",\"\",Итоговая!M14)","v":""},{"$f":"IF(K14=\"\",\"\",(IF($D14=\"м\",(IF($E14<=3,(IF(K14<=Показатели!$C$8,\"Н\",(IF(K14<=Показатели!$D$8,\"С\",\"В\")))),(IF($E14=4,(IF(K14<=Показатели!$E$8,\"Н\",(IF(K14<=Показатели!$F$8,\"С\",\"В\")))),(IF($E14=5,(IF(K14<=Показатели!$G$8,\"Н\",(IF(K14<=Показатели!$H$8,\"С\",\"В\")))),(IF($E14=6,(IF(K14<=Показатели!$I$8,\"Н\",(IF(K14<= Показатели!$J$8,\"С\",\"В\")))),(IF($E14>=7,(IF(K14<=Показатели!$K$8,\"Н\",(IF(K14<=Показатели!$L$8,\"С\",\"В\")))))))))))))),(IF($E14<=3,(IF(K14<=Показатели!$C$27,\"Н\",(IF(K14<=Показатели!$D$27,\"С\",\"В\")))),(IF($E14=4,(IF(K14<=Показатели!$E$27,\"Н\",(IF(K14<=Показатели!$F$27,\"С\",\"В\")))),(IF($E14=5,(IF(K14<=Показатели!$G$27,\"Н\",(IF(K14<=Показатели!$H$27,\"С\",\"В\")))),(IF($E14=6,(IF(K14<=Показатели!$I$27,\"Н\",(IF(K14<= Показатели!$J$27,\"С\",\"В\")))),(IF($E14>=7,(IF(K14<=Показатели!$K$27,\"Н\",(IF(K14<=Показатели!$L$27,\"С\",\"В\")))))))))))))))))","v":""},{"$f":"IF(Итоговая!N14=\"\",\"\",Итоговая!N14)","v":""},{"$f":"IF(M14=\"\",\"\",(IF($D14=\"м\",(IF($F14<=3,(IF(M14<=Показатели!$C$8,\"Н\",(IF(M14<=Показатели!$D$8,\"С\",\"В\")))),(IF($F14=4,(IF(M14<=Показатели!$E$8,\"Н\",(IF(M14<=Показатели!$F$8,\"С\",\"В\")))),(IF($F14=5,(IF(M14<=Показатели!$G$8,\"Н\",(IF(M14<=Показатели!$H$8,\"С\",\"В\")))),(IF($F14=6,(IF(M14<=Показатели!$I$8,\"Н\",(IF(M14<= Показатели!$J$8,\"С\",\"В\")))),(IF($F14>=7,(IF(M14<=Показатели!$K$8,\"Н\",(IF(M14<=Показатели!$L$8,\"С\",\"В\")))))))))))))),(IF($F14<=3,(IF(M14<=Показатели!$C$27,\"Н\",(IF(M14<=Показатели!$D$27,\"С\",\"В\")))),(IF($F14=4,(IF(M14<=Показатели!$E$27,\"Н\",(IF(M14<=Показатели!$F$27,\"С\",\"В\")))),(IF($F14=5,(IF(M14<=Показатели!$G$27,\"Н\",(IF(M14<=Показатели!$H$27,\"С\",\"В\")))),(IF($F14=6,(IF(M14<=Показатели!$I$27,\"Н\",(IF(M14<= Показатели!$J$27,\"С\",\"В\")))),(IF($F14>=7,(IF(M14<=Показатели!$K$27,\"Н\",(IF(M14<=Показатели!$L$27,\"С\",\"В\")))))))))))))))))","v":""},{"$f":"IF(Итоговая!U14=\"\",\"\",Итоговая!U14)","v":""},{"$f":"IF(O14=\"\",\"\",(IF($D14=\"м\",(IF($E14<=3,(IF(O14<=Показатели!$C$9,\"Н\",(IF(O14<=Показатели!$D$9,\"С\",\"В\")))),(IF($E14=4,(IF(O14<=Показатели!$E$9,\"Н\",(IF(O14<=Показатели!$F$9,\"С\",\"В\")))),(IF($E14=5,(IF(O14<=Показатели!$G$9,\"Н\",(IF(O14<=Показатели!$H$9,\"С\",\"В\")))),(IF($E14=6,(IF(O14<=Показатели!$I$9,\"Н\",(IF(O14<= Показатели!$J$9,\"С\",\"В\")))),(IF($E14>=7,(IF(O14<=Показатели!$K$9,\"Н\",(IF(O14<=Показатели!$L$9,\"С\",\"В\")))))))))))))),(IF($E14<=3,(IF(O14<=Показатели!$C$28,\"Н\",(IF(O14<=Показатели!$D$28,\"С\",\"В\")))),(IF($E14=4,(IF(O14<=Показатели!$E$28,\"Н\",(IF(O14<=Показатели!$F$28,\"С\",\"В\")))),(IF($E14=5,(IF(O14<=Показатели!$G$28,\"Н\",(IF(O14<=Показатели!$H$28,\"С\",\"В\")))),(IF($E14=6,(IF(O14<=Показатели!$I$28,\"Н\",(IF(O14<= Показатели!$J$28,\"С\",\"В\")))),(IF($E14>=7,(IF(O14<=Показатели!$K$28,\"Н\",(IF(O14<=Показатели!$L$28,\"С\",\"В\")))))))))))))))))","v":""},{"$f":"IF(Итоговая!V14=\"\",\"\",Итоговая!V14)","v":""},{"$f":"IF(Q14=\"\",\"\",(IF($D14=\"м\",(IF($F14<=3,(IF(Q14<=Показатели!$C$9,\"Н\",(IF(Q14<=Показатели!$D$9,\"С\",\"В\")))),(IF($F14=4,(IF(Q14<=Показатели!$E$9,\"Н\",(IF(Q14<=Показатели!$F$9,\"С\",\"В\")))),(IF($F14=5,(IF(Q14<=Показатели!$G$9,\"Н\",(IF(Q14<=Показатели!$H$9,\"С\",\"В\")))),(IF($F14=6,(IF(Q14<=Показатели!$I$9,\"Н\",(IF(Q14<= Показатели!$J$9,\"С\",\"В\")))),(IF($F14>=7,(IF(Q14<=Показатели!$K$9,\"Н\",(IF(Q14<=Показатели!$L$9,\"С\",\"В\")))))))))))))),(IF($F14<=3,(IF(Q14<=Показатели!$C$28,\"Н\",(IF(Q14<=Показатели!$D$28,\"С\",\"В\")))),(IF($F14=4,(IF(Q14<=Показатели!$E$28,\"Н\",(IF(Q14<=Показатели!$F$28,\"С\",\"В\")))),(IF($F14=5,(IF(Q14<=Показатели!$G$28,\"Н\",(IF(Q14<=Показатели!$H$28,\"С\",\"В\")))),(IF($F14=6,(IF(Q14<=Показатели!$I$28,\"Н\",(IF(Q14<= Показатели!$J$28,\"С\",\"В\")))),(IF($F14>=7,(IF(Q14<=Показатели!$K$28,\"Н\",(IF(Q14<=Показатели!$L$28,\"С\",\"В\")))))))))))))))))","v":""},{"$f":"IF(Итоговая!AC14=\"\",\"\",Итоговая!AC14)","v":""},{"$f":"IF(S14=\"\",\"\",(IF($D14=\"м\",(IF($E14<=3,(IF(S14>=Показатели!$C$10,\"Н\",(IF(S14>=Показатели!$D$10,\"С\",\"В\")))),(IF($E14=4,(IF(S14>=Показатели!$E$10,\"Н\",(IF(S14>=Показатели!$F$10,\"С\",\"В\")))),(IF($E14=5,(IF(S14>=Показатели!$G$10,\"Н\",(IF(S14>=Показатели!$H$10,\"С\",\"В\")))),(IF($E14=6,(IF(S14>=Показатели!$I$10,\"Н\",(IF(S14>= Показатели!$J$10,\"С\",\"В\")))),(IF($E14>=7,(IF(S14>=Показатели!$K$10,\"Н\",(IF(S14>=Показатели!$L$10,\"С\",\"В\")))))))))))))),(IF($E14<=3,(IF(S14>=Показатели!$C$29,\"Н\",(IF(S14>=Показатели!$D$29,\"С\",\"В\")))),(IF($E14=4,(IF(S14>=Показатели!$E$29,\"Н\",(IF(S14>=Показатели!$F$29,\"С\",\"В\")))),(IF($E14=5,(IF(S14>=Показатели!$G$29,\"Н\",(IF(S14>=Показатели!$H$29,\"С\",\"В\")))),(IF($E14=6,(IF(S14>=Показатели!$I$29,\"Н\",(IF(S14>= Показатели!$J$29,\"С\",\"В\")))),(IF($E14>=7,(IF(S14>=Показатели!$K$29,\"Н\",(IF(S14>=Показатели!$L$29,\"С\",\"В\")))))))))))))))))","v":""},{"$f":"IF(Итоговая!AD14=\"\",\"\",Итоговая!AD14)","v":""},{"$f":"IF(U14=\"\",\"\",(IF($D14=\"м\",(IF($F14<=3,(IF(U14>=Показатели!$C$10,\"Н\",(IF(U14>=Показатели!$D$10,\"С\",\"В\")))),(IF($F14=4,(IF(U14>=Показатели!$E$10,\"Н\",(IF(U14>=Показатели!$F$10,\"С\",\"В\")))),(IF($F14=5,(IF(U14>=Показатели!$G$10,\"Н\",(IF(U14>=Показатели!$H$10,\"С\",\"В\")))),(IF($F14=6,(IF(U14>=Показатели!$I$10,\"Н\",(IF(U14>= Показатели!$J$10,\"С\",\"В\")))),(IF($F14>=7,(IF(U14>=Показатели!$K$10,\"Н\",(IF(U14>=Показатели!$L$10,\"С\",\"В\")))))))))))))),(IF($F14<=3,(IF(U14>=Показатели!$C$29,\"Н\",(IF(U14>=Показатели!$D$29,\"С\",\"В\")))),(IF($F14=4,(IF(U14>=Показатели!$E$29,\"Н\",(IF(U14>=Показатели!$F$29,\"С\",\"В\")))),(IF($F14=5,(IF(U14>=Показатели!$G$29,\"Н\",(IF(U14>=Показатели!$H$29,\"С\",\"В\")))),(IF($F14=6,(IF(U14>=Показатели!$I$29,\"Н\",(IF(U14>= Показатели!$J$29,\"С\",\"В\")))),(IF($F14>=7,(IF(U14>=Показатели!$K$29,\"Н\",(IF(U14>=Показатели!$L$29,\"С\",\"В\")))))))))))))))))","v":""},{"$f":"IF(Итоговая!AK14=\"\",\"\",Итоговая!AK14)","v":""},{"$f":"IF(W14=\"\",\"\",(IF($D14=\"м\",(IF($E14<=3,(IF(W14>=Показатели!$C$11,\"Н\",(IF(W14>=Показатели!$D$11,\"С\",\"В\")))),(IF($E14=4,(IF(W14>=Показатели!$E$11,\"Н\",(IF(W14>=Показатели!$F$11,\"С\",\"В\")))),(IF($E14=5,(IF(W14>=Показатели!$G$11,\"Н\",(IF(W14>=Показатели!$H$11,\"С\",\"В\")))),(IF($E14=6,(IF(W14>=Показатели!$I$11,\"Н\",(IF(W14>= Показатели!$J$11,\"С\",\"В\")))),(IF($E14>=7,(IF(W14>=Показатели!$K$11,\"Н\",(IF(W14>=Показатели!$L$11,\"С\",\"В\")))))))))))))),(IF($E14<=3,(IF(W14>=Показатели!$C$30,\"Н\",(IF(W14>=Показатели!$D$30,\"С\",\"В\")))),(IF($E14=4,(IF(W14>=Показатели!$E$30,\"Н\",(IF(W14>=Показатели!$F$30,\"С\",\"В\")))),(IF($E14=5,(IF(W14>=Показатели!$G$30,\"Н\",(IF(W14>=Показатели!$H$30,\"С\",\"В\")))),(IF($E14=6,(IF(W14>=Показатели!$I$30,\"Н\",(IF(W14>= Показатели!$J$30,\"С\",\"В\")))),(IF($E14>=7,(IF(W14>=Показатели!$K$30,\"Н\",(IF(W14>=Показатели!$L$30,\"С\",\"В\")))))))))))))))))","v":""},{"$f":"IF(Итоговая!AL14=\"\",\"\",Итоговая!AL14)","v":""},{"$f":"IF(Y14=\"\",\"\",(IF($D14=\"м\",(IF($F14<=3,(IF(Y14>=Показатели!$C$11,\"Н\",(IF(Y14>=Показатели!$D$11,\"С\",\"В\")))),(IF($F14=4,(IF(Y14>=Показатели!$E$11,\"Н\",(IF(Y14>=Показатели!$F$11,\"С\",\"В\")))),(IF($F14=5,(IF(Y14>=Показатели!$G$11,\"Н\",(IF(Y14>=Показатели!$H$11,\"С\",\"В\")))),(IF($F14=6,(IF(Y14>=Показатели!$I$11,\"Н\",(IF(Y14>= Показатели!$J$11,\"С\",\"В\")))),(IF($F14>=7,(IF(Y14>=Показатели!$K$11,\"Н\",(IF(Y14>=Показатели!$L$11,\"С\",\"В\")))))))))))))),(IF($F14<=3,(IF(Y14>=Показатели!$C$30,\"Н\",(IF(Y14>=Показатели!$D$30,\"С\",\"В\")))),(IF($F14=4,(IF(Y14>=Показатели!$E$30,\"Н\",(IF(Y14>=Показатели!$F$30,\"С\",\"В\")))),(IF($F14=5,(IF(Y14>=Показатели!$G$30,\"Н\",(IF(Y14>=Показатели!$H$30,\"С\",\"В\")))),(IF($F14=6,(IF(Y14>=Показатели!$I$30,\"Н\",(IF(Y14>= Показатели!$J$30,\"С\",\"В\")))),(IF($F14>=7,(IF(Y14>=Показатели!$K$30,\"Н\",(IF(Y14>=Показатели!$L$30,\"С\",\"В\")))))))))))))))))","v":""},{"$f":"IF(Итоговая!BC14=\"\",\"\",Итоговая!BC14)","v":""},{"$f":"IF(AA14=\"\",\"\",(IF($D14=\"м\",(IF(AA14<=Показатели!$C$14,\"Н\",(IF(AA14<=Показатели!$D$14,\"С\",\"В\")))),(IF(AA14<=Показатели!$C$33,\"Н\",(IF(AA14<=Показатели!$D$33,\"С\",\"В\")))))))","v":""},{"$f":"IF(Итоговая!BD14=\"\",\"\",Итоговая!BD14)","v":""},{"$f":"IF(AC14=\"\",\"\",(IF($D14=\"м\",(IF(AC14<=Показатели!$E$14,\"Н\",(IF(AC14<=Показатели!$F$14,\"С\",\"В\")))),(IF(AC14<=Показатели!$E$33,\"Н\",(IF(AC14<=Показатели!$F$33,\"С\",\"В\")))))))","v":""},null,"-","-","-","-","-","-",null,null,"-","-","-","-","-","-"]
[{"$f":"IF(Итоговая!A15=\"\",\"\",Итоговая!A15)","v":""},{"$f":"IF(Итоговая!C15=\"\",\"\",Итоговая!C15)","v":""},{"$f":"IF(Итоговая!B15=\"\",\"\",Итоговая!B15)","v":""},{"$f":"IF(Итоговая!D15=\"\",\"\",Итоговая!D15)","v":""},"","",{"$f":"IF(Итоговая!E15=\"\",\"\",Итоговая!E15)","v":""},{"$f":"IF(G15=\"\",\"\",(IF($D15=\"м\",(IF($E15<=3,(IF(G15<=Показатели!$C$7,\"Н\",(IF(G15<=Показатели!$D$7,\"С\",\"В\")))),(IF($E15=4,(IF(G15<=Показатели!$E$7,\"Н\",(IF(G15<=Показатели!$F$7,\"С\",\"В\")))),(IF($E15=5,(IF(G15<=Показатели!$G$7,\"Н\",(IF(G15<=Показатели!$H$7,\"С\",\"В\")))),(IF($E15=6,(IF(G15<=Показатели!$I$7,\"Н\",(IF(G15<= Показатели!$J$7,\"С\",\"В\")))),(IF($E15>=7,(IF(G15<=Показатели!$K$7,\"Н\",(IF(G15<=Показатели!$L$7,\"С\",\"В\")))))))))))))),(IF($E15<=3,(IF(G15<=Показатели!$C$26,\"Н\",(IF(G15<=Показатели!$D$26,\"С\",\"В\")))),(IF($E15=4,(IF(G15<=Показатели!$E$26,\"Н\",(IF(G15<=Показатели!$F$26,\"С\",\"В\")))),(IF($E15=5,(IF(G15<=Показатели!$G$26,\"Н\",(IF(G15<=Показатели!$H$26,\"С\",\"В\")))),(IF($E15=6,(IF(G15<=Показатели!$I$26,\"Н\",(IF(G15<= Показатели!$J$26,\"С\",\"В\")))),(IF($E15>=7,(IF(G15<=Показатели!$K$26,\"Н\",(IF(G15<=Показатели!$L$26,\"С\",\"В\")))))))))))))))))","v":""},{"$f":"IF(Итоговая!F15=\"\",\"\",Итоговая!F15)","v":""},{"$f":"IF(I15=\"\",\"\",(IF($D15=\"м\",(IF($F15<=3,(IF(I15<=Показатели!$C$7,\"Н\",(IF(I15<=Показатели!$D$7,\"С\",\"В\")))),(IF($F15=4,(IF(I15<=Показатели!$E$7,\"Н\",(IF(I15<=Показатели!$F$7,\"С\",\"В\")))),(IF($F15=5,(IF(I15<=Показатели!$G$7,\"Н\",(IF(I15<=Показатели!$H$7,\"С\",\"В\")))),(IF($F15=6,(IF(I15<=Показатели!$I$7,\"Н\",(IF(I15<= Показатели!$J$7,\"С\",\"В\")))),(IF($F15>=7,(IF(I15<=Показатели!$K$7,\"Н\",(IF(I15<=Показатели!$L$7,\"С\",\"В\")))))))))))))),(IF($F15<=3,(IF(I15<=Показатели!$C$26,\"Н\",(IF(I15<=Показатели!$D$26,\"С\",\"В\")))),(IF($F15=4,(IF(I15<=Показатели!$E$26,\"Н\",(IF(I15<=Показатели!$F$26,\"С\",\"В\")))),(IF($F15=5,(IF(I15<=Показатели!$G$26,\"Н\",(IF(I15<=Показатели!$H$26,\"С\",\"В\")))),(IF($F15=6,(IF(I15<=Показатели!$I$26,\"Н\",(IF(I15<= Показатели!$J$26,\"С\",\"В\")))),(IF($F15>=7,(IF(I15<=Показатели!$K$26,\"Н\",(IF(I15<=Показатели!$L$26,\"С\",\"В\")))))))))))))))))","v":""},{"$f":"IF(Итоговая!M15=\"\",\"\",Итоговая!M15)","v":""},{"$f":"IF(K15=\"\",\"\",(IF($D15=\"м\",(IF($E15<=3,(IF(K15<=Показатели!$C$8,\"Н\",(IF(K15<=Показатели!$D$8,\"С\",\"В\")))),(IF($E15=4,(IF(K15<=Показатели!$E$8,\"Н\",(IF(K15<=Показатели!$F$8,\"С\",\"В\")))),(IF($E15=5,(IF(K15<=Показатели!$G$8,\"Н\",(IF(K15<=Показатели!$H$8,\"С\",\"В\")))),(IF($E15=6,(IF(K15<=Показатели!$I$8,\"Н\",(IF(K15<= Показатели!$J$8,\"С\",\"В\")))),(IF($E15>=7,(IF(K15<=Показатели!$K$8,\"Н\",(IF(K15<=Показатели!$L$8,\"С\",\"В\")))))))))))))),(IF($E15<=3,(IF(K15<=Показатели!$C$27,\"Н\",(IF(K15<=Показатели!$D$27,\"С\",\"В\")))),(IF($E15=4,(IF(K15<=Показатели!$E$27,\"Н\",(IF(K15<=Показатели!$F$27,\"С\",\"В\")))),(IF($E15=5,(IF(K15<=Показатели!$G$27,\"Н\",(IF(K15<=Показатели!$H$27,\"С\",\"В\")))),(IF($E15=6,(IF(K15<=Показатели!$I$27,\"Н\",(IF(K15<= Показатели!$J$27,\"С\",\"В\")))),(IF($E15>=7,(IF(K15<=Показатели!$K$27,\"Н\",(IF(K15<=Показатели!$L$27,\"С\",\"В\")))))))))))))))))","v":""},{"$f":"IF(Итоговая!N15=\"\",\"\",Итоговая!N15)","v":""},{"$f":"IF(M15=\"\",\"\",(IF($D15=\"м\",(IF($F15<=3,(IF(M15<=Показатели!$C$8,\"Н\",(IF(M15<=Показатели!$D$8,\"С\",\"В\")))),(IF($F15=4,(IF(M15<=Показатели!$E$8,\"Н\",(IF(M15<=Показатели!$F$8,\"С\",\"В\")))),(IF($F15=5,(IF(M15<=Показатели!$G$8,\"Н\",(IF(M15<=Показатели!$H$8,\"С\",\"В\")))),(IF($F15=6,(IF(M15<=Показатели!$I$8,\"Н\",(IF(M15<= Показатели!$J$8,\"С\",\"В\")))),(IF($F15>=7,(IF(M15<=Показатели!$K$8,\"Н\",(IF(M15<=Показатели!$L$8,\"С\",\"В\")))))))))))))),(IF($F15<=3,(IF(M15<=Показатели!$C$27,\"Н\",(IF(M15<=Показатели!$D$27,\"С\",\"В\")))),(IF($F15=4,(IF(M15<=Показатели!$E$27,\"Н\",(IF(M15<=Показатели!$F$27,\"С\",\"В\")))),(IF($F15=5,(IF(M15<=Показатели!$G$27,\"Н\",(IF(M15<=Показатели!$H$27,\"С\",\"В\")))),(IF($F15=6,(IF(M15<=Показатели!$I$27,\"Н\",(IF(M15<= Показатели!$J$27,\"С\",\"В\")))),(IF($F15>=7,(IF(M15<=Показатели!$K$27,\"Н\",(IF(M15<=Показатели!$L$27,\"С\",\"В\")))))))))))))))))","v":""},{"$f":"IF(Итоговая!U15=\"\",\"\",Итоговая!U15)","v":""},{"$f":"IF(O15=\"\",\"\",(IF($D15=\"м\",(IF($E15<=3,(IF(O15<=Показатели!$C$9,\"Н\",(IF(O15<=Показатели!$D$9,\"С\",\"В\")))),(IF($E15=4,(IF(O15<=Показатели!$E$9,\"Н\",(IF(O15<=Показатели!$F$9,\"С\",\"В\")))),(IF($E15=5,(IF(O15<=Показатели!$G$9,\"Н\",(IF(O15<=Показатели!$H$9,\"С\",\"В\")))),(IF($E15=6,(IF(O15<=Показатели!$I$9,\"Н\",(IF(O15<= Показатели!$J$9,\"С\",\"В\")))),(IF($E15>=7,(IF(O15<=Показатели!$K$9,\"Н\",(IF(O15<=Показатели!$L$9,\"С\",\"В\")))))))))))))),(IF($E15<=3,(IF(O15<=Показатели!$C$28,\"Н\",(IF(O15<=Показатели!$D$28,\"С\",\"В\")))),(IF($E15=4,(IF(O15<=Показатели!$E$28,\"Н\",(IF(O15<=Показатели!$F$28,\"С\",\"В\")))),(IF($E15=5,(IF(O15<=Показатели!$G$28,\"Н\",(IF(O15<=Показатели!$H$28,\"С\",\"В\")))),(IF($E15=6,(IF(O15<=Показатели!$I$28,\"Н\",(IF(O15<= Показатели!$J$28,\"С\",\"В\")))),(IF($E15>=7,(IF(O15<=Показатели!$K$28,\"Н\",(IF(O15<=Показатели!$L$28,\"С\",\"В\")))))))))))))))))","v":""},{"$f":"IF(Итоговая!V15=\"\",\"\",Итоговая!V15)","v":""},{"$f":"IF(Q15=\"\",\"\",(IF($D15=\"м\",(IF($F15<=3,(IF(Q15<=Показатели!$C$9,\"Н\",(IF(Q15<=Показатели!$D$9,\"С\",\"В\")))),(IF($F15=4,(IF(Q15<=Показатели!$E$9,\"Н\",(IF(Q15<=Показатели!$F$9,\"С\",\"В\")))),(IF($F15=5,(IF(Q15<=Показатели!$G$9,\"Н\",(IF(Q15<=Показатели!$H$9,\"С\",\"В\")))),(IF($F15=6,(IF(Q15<=Показатели!$I$9,\"Н\",(IF(Q15<= Показатели!$J$9,\"С\",\"В\")))),(IF($F15>=7,(IF(Q15<=Показатели!$K$9,\"Н\",(IF(Q15<=Показатели!$L$9,\"С\",\"В\")))))))))))))),(IF($F15<=3,(IF(Q15<=Показатели!$C$28,\"Н\",(IF(Q15<=Показатели!$D$28,\"С\",\"В\")))),(IF($F15=4,(IF(Q15<=Показатели!$E$28,\"Н\",(IF(Q15<=Показатели!$F$28,\"С\",\"В\")))),(IF($F15=5,(IF(Q15<=Показатели!$G$28,\"Н\",(IF(Q15<=Показатели!$H$28,\"С\",\"В\")))),(IF($F15=6,(IF(Q15<=Показатели!$I$28,\"Н\",(IF(Q15<= Показатели!$J$28,\"С\",\"В\")))),(IF($F15>=7,(IF(Q15<=Показатели!$K$28,\"Н\",(IF(Q15<=Показатели!$L$28,\"С\",\"В\")))))))))))))))))","v":""},{"$f":"IF(Итоговая!AC15=\"\",\"\",Итоговая!AC15)","v":""},{"$f":"IF(S15=\"\",\"\",(IF($D15=\"м\",(IF($E15<=3,(IF(S15>=Показатели!$C$10,\"Н\",(IF(S15>=Показатели!$D$10,\"С\",\"В\")))),(IF($E15=4,(IF(S15>=Показатели!$E$10,\"Н\",(IF(S15>=Показатели!$F$10,\"С\",\"В\")))),(IF($E15=5,(IF(S15>=Показатели!$G$10,\"Н\",(IF(S15>=Показатели!$H$10,\"С\",\"В\")))),(IF($E15=6,(IF(S15>=Показатели!$I$10,\"Н\",(IF(S15>= Показатели!$J$10,\"С\",\"В\")))),(IF($E15>=7,(IF(S15>=Показатели!$K$10,\"Н\",(IF(S15>=Показатели!$L$10,\"С\",\"В\")))))))))))))),(IF($E15<=3,(IF(S15>=Показатели!$C$29,\"Н\",(IF(S15>=Показатели!$D$29,\"С\",\"В\")))),(IF($E15=4,(IF(S15>=Показатели!$E$29,\"Н\",(IF(S15>=Показатели!$F$29,\"С\",\"В\")))),(IF($E15=5,(IF(S15>=Показатели!$G$29,\"Н\",(IF(S15>=Показатели!$H$29,\"С\",\"В\")))),(IF($E15=6,(IF(S15>=Показатели!$I$29,\"Н\",(IF(S15>= Показатели!$J$29,\"С\",\"В\")))),(IF($E15>=7,(IF(S15>=Показатели!$K$29,\"Н\",(IF(S15>=Показатели!$L$29,\"С\",\"В\")))))))))))))))))","v":""},{"$f":"IF(Итоговая!AD15=\"\",\"\",Итоговая!AD15)","v":""},{"$f":"IF(U15=\"\",\"\",(IF($D15=\"м\",(IF($F15<=3,(IF(U15>=Показатели!$C$10,\"Н\",(IF(U15>=Показатели!$D$10,\"С\",\"В\")))),(IF($F15=4,(IF(U15>=Показатели!$E$10,\"Н\",(IF(U15>=Показатели!$F$10,\"С\",\"В\")))),(IF($F15=5,(IF(U15>=Показатели!$G$10,\"Н\",(IF(U15>=Показатели!$H$10,\"С\",\"В\")))),(IF($F15=6,(IF(U15>=Показатели!$I$10,\"Н\",(IF(U15>= Показатели!$J$10,\"С\",\"В\")))),(IF($F15>=7,(IF(U15>=Показатели!$K$10,\"Н\",(IF(U15>=Показатели!$L$10,\"С\",\"В\")))))))))))))),(IF($F15<=3,(IF(U15>=Показатели!$C$29,\"Н\",(IF(U15>=Показатели!$D$29,\"С\",\"В\")))),(IF($F15=4,(IF(U15>=Показатели!$E$29,\"Н\",(IF(U15>=Показатели!$F$29,\"С\",\"В\")))),(IF($F15=5,(IF(U15>=Показатели!$G$29,\"Н\",(IF(U15>=Показатели!$H$29,\"С\",\"В\")))),(IF($F15=6,(IF(U15>=Показатели!$I$29,\"Н\",(IF(U15>= Показатели!$J$29,\"С\",\"В\")))),(IF($F15>=7,(IF(U15>=Показатели!$K$29,\"Н\",(IF(U15>=Показатели!$L$29,\"С\",\"В\")))))))))))))))))","v":""},{"$f":"IF(Итоговая!AK15=\"\",\"\",Итоговая!AK15)","v":""},{"$f":"IF(W15=\"\",\"\",(IF($D15=\"м\",(IF($E15<=3,(IF(W15>=Показатели!$C$11,\"Н\",(IF(W15>=Показатели!$D$11,\"С\",\"В\")))),(IF($E15=4,(IF(W15>=Показатели!$E$11,\"Н\",(IF(W15>=Показатели!$F$11,\"С\",\"В\")))),(IF($E15=5,(IF(W15>=Показатели!$G$11,\"Н\",(IF(W15>=Показатели!$H$11,\"С\",\"В\")))),(IF($E15=6,(IF(W15>=Показатели!$I$11,\"Н\",(IF(W15>= Показатели!$J$11,\"С\",\"В\")))),(IF($E15>=7,(IF(W15>=Показатели!$K$11,\"Н\",(IF(W15>=Показатели!$L$11,\"С\",\"В\")))))))))))))),(IF($E15<=3,(IF(W15>=Показатели!$C$30,\"Н\",(IF(W15>=Показатели!$D$30,\"С\",\"В\")))),(IF($E15=4,(IF(W15>=Показатели!$E$30,\"Н\",(IF(W15>=Показатели!$F$30,\"С\",\"В\")))),(IF($E15=5,(IF(W15>=Показатели!$G$30,\"Н\",(IF(W15>=Показатели!$H$30,\"С\",\"В\")))),(IF($E15=6,(IF(W15>=Показатели!$I$30,\"Н\",(IF(W15>= Показатели!$J$30,\"С\",\"В\")))),(IF($E15>=7,(IF(W15>=Показатели!$K$30,\"Н\",(IF(W15>=Показатели!$L$30,\"С\",\"В\")))))))))))))))))","v":""},{"$f":"IF(Итоговая!AL15=\"\",\"\",Итоговая!AL15)","v":""},{"$f":"IF(Y15=\"\",\"\",(IF($D15=\"м\",(IF($F15<=3,(IF(Y15>=Показатели!$C$11,\"Н\",(IF(Y15>=Показатели!$D$11,\"С\",\"В\")))),(IF($F15=4,(IF(Y15>=Показатели!$E$11,\"Н\",(IF(Y15>=Показатели!$F$11,\"С\",\"В\")))),(IF($F15=5,(IF(Y15>=Показатели!$G$11,\"Н\",(IF(Y15>=Показатели!$H$11,\"С\",\"В\")))),(IF($F15=6,(IF(Y15>=Показатели!$I$11,\"Н\",(IF(Y15>= Показатели!$J$11,\"С\",\"В\")))),(IF($F15>=7,(IF(Y15>=Показатели!$K$11,\"Н\",(IF(Y15>=Показатели!$L$11,\"С\",\"В\")))))))))))))),(IF($F15<=3,(IF(Y15>=Показатели!$C$30,\"Н\",(IF(Y15>=Показатели!$D$30,\"С\",\"В\")))),(IF($F15=4,(IF(Y15>=Показатели!$E$30,\"Н\",(IF(Y15>=Показатели!$F$30,\"С\",\"В\")))),(IF($F15=5,(IF(Y15>=Показатели!$G$30,\"Н\",(IF(Y15>=Показатели!$H$30,\"С\",\"В\")))),(IF($F15=6,(IF(Y15>=Показатели!$I$30,\"Н\",(IF(Y15>= Показатели!$J$30,\"С\",\"В\")))),(IF($F15>=7,(IF(Y15>=Показатели!$K$30,\"Н\",(IF(Y15>=Показатели!$L$30,\"С\",\"В\")))))))))))))))))","v":""},{"$f":"IF(Итоговая!BC15=\"\",\"\",Итоговая!BC15)","v":""},{"$f":"IF(AA15=\"\",\"\",(IF($D15=\"м\",(IF(AA15<=Показатели!$C$14,\"Н\",(IF(AA15<=Показатели!$D$14,\"С\",\"В\")))),(IF(AA15<=Показатели!$C$33,\"Н\",(IF(AA15<=Показатели!$D$33,\"С\",\"В\")))))))","v":""},{"$f":"IF(Итоговая!BD15=\"\",\"\",Итоговая!BD15)","v":""},{"$f":"IF(AC15=\"\",\"\",(IF($D15=\"м\",(IF(AC15<=Показатели!$E$14,\"Н\",(IF(AC15<=Показатели!$F$14,\"С\",\"В\")))),(IF(AC15<=Показатели!$E$33,\"Н\",(IF(AC15<=Показатели!$F$33,\"С\",\"В\")))))))","v":""},null,"-","-","-","-","-","-",null,null,"-","-","-","-","-","-"]
[{"$f":"IF(Итоговая!A16=\"\",\"\",Итоговая!A16)","v":""},{"$f":"IF(Итоговая!C16=\"\",\"\",Итоговая!C16)","v":""},{"$f":"IF(Итоговая!B16=\"\",\"\",Итоговая!B16)","v":""},{"$f":"IF(Итоговая!D16=\"\",\"\",Итоговая!D16)","v":""},"","",{"$f":"IF(Итоговая!E16=\"\",\"\",Итоговая!E16)","v":""},{"$f":"IF(G16=\"\",\"\",(IF($D16=\"м\",(IF($E16<=3,(IF(G16<=Показатели!$C$7,\"Н\",(IF(G16<=Показатели!$D$7,\"С\",\"В\")))),(IF($E16=4,(IF(G16<=Показатели!$E$7,\"Н\",(IF(G16<=Показатели!$F$7,\"С\",\"В\")))),(IF($E16=5,(IF(G16<=Показатели!$G$7,\"Н\",(IF(G16<=Показатели!$H$7,\"С\",\"В\")))),(IF($E16=6,(IF(G16<=Показатели!$I$7,\"Н\",(IF(G16<= Показатели!$J$7,\"С\",\"В\")))),(IF($E16>=7,(IF(G16<=Показатели!$K$7,\"Н\",(IF(G16<=Показатели!$L$7,\"С\",\"В\")))))))))))))),(IF($E16<=3,(IF(G16<=Показатели!$C$26,\"Н\",(IF(G16<=Показатели!$D$26,\"С\",\"В\")))),(IF($E16=4,(IF(G16<=Показатели!$E$26,\"Н\",(IF(G16<=Показатели!$F$26,\"С\",\"В\")))),(IF($E16=5,(IF(G16<=Показатели!$G$26,\"Н\",(IF(G16<=Показатели!$H$26,\"С\",\"В\")))),(IF($E16=6,(IF(G16<=Показатели!$I$26,\"Н\",(IF(G16<= Показатели!$J$26,\"С\",\"В\")))),(IF($E16>=7,(IF(G16<=Показатели!$K$26,\"Н\",(IF(G16<=Показатели!$L$26,\"С\",\"В\")))))))))))))))))","v":""},{"$f":"IF(Итоговая!F16=\"\",\"\",Итоговая!F16)","v":""},{"$f":"IF(I16=\"\",\"\",(IF($D16=\"м\",(IF($F16<=3,(IF(I16<=Показатели!$C$7,\"Н\",(IF(I16<=Показатели!$D$7,\"С\",\"В\")))),(IF($F16=4,(IF(I16<=Показатели!$E$7,\"Н\",(IF(I16<=Показатели!$F$7,\"С\",\"В\")))),(IF($F16=5,(IF(I16<=Показатели!$G$7,\"Н\",(IF(I16<=Показатели!$H$7,\"С\",\"В\")))),(IF($F16=6,(IF(I16<=Показатели!$I$7,\"Н\",(IF(I16<= Показатели!$J$7,\"С\",\"В\")))),(IF($F16>=7,(IF(I16<=Показатели!$K$7,\"Н\",(IF(I16<=Показатели!$L$7,\"С\",\"В\")))))))))))))),(IF($F16<=3,(IF(I16<=Показатели!$C$26,\"Н\",(IF(I16<=Показатели!$D$26,\"С\",\"В\")))),(IF($F16=4,(IF(I16<=Показатели!$E$26,\"Н\",(IF(I16<=Показатели!$F$26,\"С\",\"В\")))),(IF($F16=5,(IF(I16<=Показатели!$G$26,\"Н\",(IF(I16<=Показатели!$H$26,\"С\",\"В\")))),(IF($F16=6,(IF(I16<=Показатели!$I$26,\"Н\",(IF(I16<= Показатели!$J$26,\"С\",\"В\")))),(IF($F16>=7,(IF(I16<=Показатели!$K$26,\"Н\",(IF(I16<=Показатели!$L$26,\"С\",\"В\")))))))))))))))))","v":""},{"$f":"IF(Итоговая!M16=\"\",\"\",Итоговая!M16)","v":""},{"$f":"IF(K16=\"\",\"\",(IF($D16=\"м\",(IF($E16<=3,(IF(K16<=Показатели!$C$8,\"Н\",(IF(K16<=Показатели!$D$8,\"С\",\"В\")))),(IF($E16=4,(IF(K16<=Показатели!$E$8,\"Н\",(IF(K16<=Показатели!$F$8,\"С\",\"В\")))),(IF($E16=5,(IF(K16<=Показатели!$G$8,\"Н\",(IF(K16<=Показатели!$H$8,\"С\",\"В\")))),(IF($E16=6,(IF(K16<=Показатели!$I$8,\"Н\",(IF(K16<= Показатели!$J$8,\"С\",\"В\")))),(IF($E16>=7,(IF(K16<=Показатели!$K$8,\"Н\",(IF(K16<=Показатели!$L$8,\"С\",\"В\")))))))))))))),(IF($E16<=3,(IF(K16<=Показатели!$C$27,\"Н\",(IF(K16<=Показатели!$D$27,\"С\",\"В\")))),(IF($E16=4,(IF(K16<=Показатели!$E$27,\"Н\",(IF(K16<=Показатели!$F$27,\"С\",\"В\")))),(IF($E16=5,(IF(K16<=Показатели!$G$27,\"Н\",(IF(K16<=Показатели!$H$27,\"С\",\"В\")))),(IF($E16=6,(IF(K16<=Показатели!$I$27,\"Н\",(IF(K16<= Показатели!$J$27,\"С\",\"В\")))),(IF($E16>=7,(IF(K16<=Показатели!$K$27,\"Н\",(IF(K16<=Показатели!$L$27,\"С\",\"В\")))))))))))))))))","v":""},{"$f":"IF(Итоговая!N16=\"\",\"\",Итоговая!N16)","v":""},{"$f":"IF(M16=\"\",\"\",(IF($D16=\"м\",(IF($F16<=3,(IF(M16<=Показатели!$C$8,\"Н\",(IF(M16<=Показатели!$D$8,\"С\",\"В\")))),(IF($F16=4,(IF(M16<=Показатели!$E$8,\"Н\",(IF(M16<=Показатели!$F$8,\"С\",\"В\")))),(IF($F16=5,(IF(M16<=Показатели!$G$8,\"Н\",(IF(M16<=Показатели!$H$8,\"С\",\"В\")))),(IF($F16=6,(IF(M16<=Показатели!$I$8,\"Н\",(IF(M16<= Показатели!$J$8,\"С\",\"В\")))),(IF($F16>=7,(IF(M16<=Показатели!$K$8,\"Н\",(IF(M16<=Показатели!$L$8,\"С\",\"В\")))))))))))))),(IF($F16<=3,(IF(M16<=Показатели!$C$27,\"Н\",(IF(M16<=Показатели!$D$27,\"С\",\"В\")))),(IF($F16=4,(IF(M16<=Показатели!$E$27,\"Н\",(IF(M16<=Показатели!$F$27,\"С\",\"В\")))),(IF($F16=5,(IF(M16<=Показатели!$G$27,\"Н\",(IF(M16<=Показатели!$H$27,\"С\",\"В\")))),(IF($F16=6,(IF(M16<=Показатели!$I$27,\"Н\",(IF(M16<= Показатели!$J$27,\"С\",\"В\")))),(IF($F16>=7,(IF(M16<=Показатели!$K$27,\"Н\",(IF(M16<=Показатели!$L$27,\"С\",\"В\")))))))))))))))))","v":""},{"$f":"IF(Итоговая!U16=\"\",\"\",Итоговая!U16)","v":""},{"$f":"IF(O16=\"\",\"\",(IF($D16=\"м\",(IF($E16<=3,(IF(O16<=Показатели!$C$9,\"Н\",(IF(O16<=Показатели!$D$9,\"С\",\"В\")))),(IF($E16=4,(IF(O16<=Показатели!$E$9,\"Н\",(IF(O16<=Показатели!$F$9,\"С\",\"В\")))),(IF($E16=5,(IF(O16<=Показатели!$G$9,\"Н\",(IF(O16<=Показатели!$H$9,\"С\",\"В\")))),(IF($E16=6,(IF(O16<=Показатели!$I$9,\"Н\",(IF(O16<= Показатели!$J$9,\"С\",\"В\")))),(IF($E16>=7,(IF(O16<=Показатели!$K$9,\"Н\",(IF(O16<=Показатели!$L$9,\"С\",\"В\")))))))))))))),(IF($E16<=3,(IF(O16<=Показатели!$C$28,\"Н\",(IF(O16<=Показатели!$D$28,\"С\",\"В\")))),(IF($E16=4,(IF(O16<=Показатели!$E$28,\"Н\",(IF(O16<=Показатели!$F$28,\"С\",\"В\")))),(IF($E16=5,(IF(O16<=Показатели!$G$28,\"Н\",(IF(O16<=Показатели!$H$28,\"С\",\"В\")))),(IF($E16=6,(IF(O16<=Показатели!$I$28,\"Н\",(IF(O16<= Показатели!$J$28,\"С\",\"В\")))),(IF($E16>=7,(IF(O16<=Показатели!$K$28,\"Н\",(IF(O16<=Показатели!$L$28,\"С\",\"В\")))))))))))))))))","v":""},{"$f":"IF(Итоговая!V16=\"\",\"\",Итоговая!V16)","v":""},{"$f":"IF(Q16=\"\",\"\",(IF($D16=\"м\",(IF($F16<=3,(IF(Q16<=Показатели!$C$9,\"Н\",(IF(Q16<=Показатели!$D$9,\"С\",\"В\")))),(IF($F16=4,(IF(Q16<=Показатели!$E$9,\"Н\",(IF(Q16<=Показатели!$F$9,\"С\",\"В\")))),(IF($F16=5,(IF(Q16<=Показатели!$G$9,\"Н\",(IF(Q16<=Показатели!$H$9,\"С\",\"В\")))),(IF($F16=6,(IF(Q16<=Показатели!$I$9,\"Н\",(IF(Q16<= Показатели!$J$9,\"С\",\"В\")))),(IF($F16>=7,(IF(Q16<=Показатели!$K$9,\"Н\",(IF(Q16<=Показатели!$L$9,\"С\",\"В\")))))))))))))),(IF($F16<=3,(IF(Q16<=Показатели!$C$28,\"Н\",(IF(Q16<=Показатели!$D$28,\"С\",\"В\")))),(IF($F16=4,(IF(Q16<=Показатели!$E$28,\"Н\",(IF(Q16<=Показатели!$F$28,\"С\",\"В\")))),(IF($F16=5,(IF(Q16<=Показатели!$G$28,\"Н\",(IF(Q16<=Показатели!$H$28,\"С\",\"В\")))),(IF($F16=6,(IF(Q16<=Показатели!$I$28,\"Н\",(IF(Q16<= Показатели!$J$28,\"С\",\"В\")))),(IF($F16>=7,(IF(Q16<=Показатели!$K$28,\"Н\",(IF(Q16<=Показатели!$L$28,\"С\",\"В\")))))))))))))))))","v":""},{"$f":"IF(Итоговая!AC16=\"\",\"\",Итоговая!AC16)","v":""},{"$f":"IF(S16=\"\",\"\",(IF($D16=\"м\",(IF($E16<=3,(IF(S16>=Показатели!$C$10,\"Н\",(IF(S16>=Показатели!$D$10,\"С\",\"В\")))),(IF($E16=4,(IF(S16>=Показатели!$E$10,\"Н\",(IF(S16>=Показатели!$F$10,\"С\",\"В\")))),(IF($E16=5,(IF(S16>=Показатели!$G$10,\"Н\",(IF(S16>=Показатели!$H$10,\"С\",\"В\")))),(IF($E16=6,(IF(S16>=Показатели!$I$10,\"Н\",(IF(S16>= Показатели!$J$10,\"С\",\"В\")))),(IF($E16>=7,(IF(S16>=Показатели!$K$10,\"Н\",(IF(S16>=Показатели!$L$10,\"С\",\"В\")))))))))))))),(IF($E16<=3,(IF(S16>=Показатели!$C$29,\"Н\",(IF(S16>=Показатели!$D$29,\"С\",\"В\")))),(IF($E16=4,(IF(S16>=Показатели!$E$29,\"Н\",(IF(S16>=Показатели!$F$29,\"С\",\"В\")))),(IF($E16=5,(IF(S16>=Показатели!$G$29,\"Н\",(IF(S16>=Показатели!$H$29,\"С\",\"В\")))),(IF($E16=6,(IF(S16>=Показатели!$I$29,\"Н\",(IF(S16>= Показатели!$J$29,\"С\",\"В\")))),(IF($E16>=7,(IF(S16>=Показатели!$K$29,\"Н\",(IF(S16>=Показатели!$L$29,\"С\",\"В\")))))))))))))))))","v":""},{"$f":"IF(Итоговая!AD16=\"\",\"\",Итоговая!AD16)","v":""},{"$f":"IF(U16=\"\",\"\",(IF($D16=\"м\",(IF($F16<=3,(IF(U16>=Показатели!$C$10,\"Н\",(IF(U16>=Показатели!$D$10,\"С\",\"В\")))),(IF($F16=4,(IF(U16>=Показатели!$E$10,\"Н\",(IF(U16>=Показатели!$F$10,\"С\",\"В\")))),(IF($F16=5,(IF(U16>=Показатели!$G$10,\"Н\",(IF(U16>=Показатели!$H$10,\"С\",\"В\")))),(IF($F16=6,(IF(U16>=Показатели!$I$10,\"Н\",(IF(U16>= Показатели!$J$10,\"С\",\"В\")))),(IF($F16>=7,(IF(U16>=Показатели!$K$10,\"Н\",(IF(U16>=Показатели!$L$10,\"С\",\"В\")))))))))))))),(IF($F16<=3,(IF(U16>=Показатели!$C$29,\"Н\",(IF(U16>=Показатели!$D$29,\"С\",\"В\")))),(IF($F16=4,(IF(U16>=Показатели!$E$29,\"Н\",(IF(U16>=Показатели!$F$29,\"С\",\"В\")))),(IF($F16=5,(IF(U16>=Показатели!$G$29,\"Н\",(IF(U16>=Показатели!$H$29,\"С\",\"В\")))),(IF($F16=6,(IF(U16>=Показатели!$I$29,\"Н\",(IF(U16>= Показатели!$J$29,\"С\",\"В\")))),(IF($F16>=7,(IF(U16>=Показатели!$K$29,\"Н\",(IF(U16>=Показатели!$L$29,\"С\",\"В\")))))))))))))))))","v":""},{"$f":"IF(Итоговая!AK16=\"\",\"\",Итоговая!AK16)","v":""},{"$f":"IF(W16=\"\",\"\",(IF($D16=\"м\",(IF($E16<=3,(IF(W16>=Показатели!$C$11,\"Н\",(IF(W16>=Показатели!$D$11,\"С\",\"В\")))),(IF($E16=4,(IF(W16>=Показатели!$E$11,\"Н\",(IF(W16>=Показатели!$F$11,\"С\",\"В\")))),(IF($E16=5,(IF(W16>=Показатели!$G$11,\"Н\",(IF(W16>=Показатели!$H$11,\"С\",\"В\")))),(IF($E16=6,(IF(W16>=Показатели!$I$11,\"Н\",(IF(W16>= Показатели!$J$11,\"С\",\"В\")))),(IF($E16>=7,(IF(W16>=Показатели!$K$11,\"Н\",(IF(W16>=Показатели!$L$11,\"С\",\"В\")))))))))))))),(IF($E16<=3,(IF(W16>=Показатели!$C$30,\"Н\",(IF(W16>=Показатели!$D$30,\"С\",\"В\")))),(IF($E16=4,(IF(W16>=Показатели!$E$30,\"Н\",(IF(W16>=Показатели!$F$30,\"С\",\"В\")))),(IF($E16=5,(IF(W16>=Показатели!$G$30,\"Н\",(IF(W16>=Показатели!$H$30,\"С\",\"В\")))),(IF($E16=6,(IF(W16>=Показатели!$I$30,\"Н\",(IF(W16>= Показатели!$J$30,\"С\",\"В\")))),(IF($E16>=7,(IF(W16>=Показатели!$K$30,\"Н\",(IF(W16>=Показатели!$L$30,\"С\",\"В\")))))))))))))))))","v":""},{"$f":"IF(Итоговая!AL16=\"\",\"\",Итоговая!AL16)","v":""},{"$f":"IF(Y16=\"\",\"\",(IF($D16=\"м\",(IF($F16<=3,(IF(Y16>=Показатели!$C$11,\"Н\",(IF(Y16>=Показатели!$D$11,\"С\",\"В\")))),(IF($F16=4,(IF(Y16>=Показатели!$E$11,\"Н\",(IF(Y16>=Показатели!$F$11,\"С\",\"В\")))),(IF($F16=5,(IF(Y16>=Показатели!$G$11,\"Н\",(IF(Y16>=Показатели!$H$11,\"С\",\"В\")))),(IF($F16=6,(IF(Y16>=Показатели!$I$11,\"Н\",(IF(Y16>= Показатели!$J$11,\"С\",\"В\")))),(IF($F16>=7,(IF(Y16>=Показатели!$K$11,\"Н\",(IF(Y16>=Показатели!$L$11,\"С\",\"В\")))))))))))))),(IF($F16<=3,(IF(Y16>=Показатели!$C$30,\"Н\",(IF(Y16>=Показатели!$D$30,\"С\",\"В\")))),(IF($F16=4,(IF(Y16>=Показатели!$E$30,\"Н\",(IF(Y16>=Показатели!$F$30,\"С\",\"В\")))),(IF($F16=5,(IF(Y16>=Показатели!$G$30,\"Н\",(IF(Y16>=Показатели!$H$30,\"С\",\"В\")))),(IF($F16=6,(IF(Y16>=Показатели!$I$30,\"Н\",(IF(Y16>= Показатели!$J$30,\"С\",\"В\")))),(IF($F16>=7,(IF(Y16>=Показатели!$K$30,\"Н\",(IF(Y16>=Показатели!$L$30,\"С\",\"В\")))))))))))))))))","v":""},{"$f":"IF(Итоговая!BC16=\"\",\"\",Итоговая!BC16)","v":""},{"$f":"IF(AA16=\"\",\"\",(IF($D16=\"м\",(IF(AA16<=Показатели!$C$14,\"Н\",(IF(AA16<=Показатели!$D$14,\"С\",\"В\")))),(IF(AA16<=Показатели!$C$33,\"Н\",(IF(AA16<=Показатели!$D$33,\"С\",\"В\")))))))","v":""},{"$f":"IF(Итоговая!BD16=\"\",\"\",Итоговая!BD16)","v":""},{"$f":"IF(AC16=\"\",\"\",(IF($D16=\"м\",(IF(AC16<=Показатели!$E$14,\"Н\",(IF(AC16<=Показатели!$F$14,\"С\",\"В\")))),(IF(AC16<=Показатели!$E$33,\"Н\",(IF(AC16<=Показатели!$F$33,\"С\",\"В\")))))))","v":""},null,"-","-","-","-","-","-",null,null,"-","-","-","-","-","-"]
[{"$f":"IF(Итоговая!A17=\"\",\"\",Итоговая!A17)","v":""},{"$f":"IF(Итоговая!C17=\"\",\"\",Итоговая!C17)","v":""},{"$f":"IF(Итоговая!B17=\"\",\"\",Итоговая!B17)","v":""},{"$f":"IF(Итоговая!D17=\"\",\"\",Итоговая!D17)","v":""},"","",{"$f":"IF(Итоговая!E17=\"\",\"\",Итоговая!E17)","v":""},{"$f":"IF(G17=\"\",\"\",(IF($D17=\"м\",(IF($E17<=3,(IF(G17<=Показатели!$C$7,\"Н\",(IF(G17<=Показатели!$D$7,\"С\",\"В\")))),(IF($E17=4,(IF(G17<=Показатели!$E$7,\"Н\",(IF(G17<=Показатели!$F$7,\"С\",\"В\")))),(IF($E17=5,(IF(G17<=Показатели!$G$7,\"Н\",(IF(G17<=Показатели!$H$7,\"С\",\"В\")))),(IF($E17=6,(IF(G17<=Показатели!$I$7,\"Н\",(IF(G17<= Показатели!$J$7,\"С\",\"В\")))),(IF($E17>=7,(IF(G17<=Показатели!$K$7,\"Н\",(IF(G17<=Показатели!$L$7,\"С\",\"В\")))))))))))))),(IF($E17<=3,(IF(G17<=Показатели!$C$26,\"Н\",(IF(G17<=Показатели!$D$26,\"С\",\"В\")))),(IF($E17=4,(IF(G17<=Показатели!$E$26,\"Н\",(IF(G17<=Показатели!$F$26,\"С\",\"В\")))),(IF($E17=5,(IF(G17<=Показатели!$G$26,\"Н\",(IF(G17<=Показатели!$H$26,\"С\",\"В\")))),(IF($E17=6,(IF(G17<=Показатели!$I$26,\"Н\",(IF(G17<= Показатели!$J$26,\"С\",\"В\")))),(IF($E17>=7,(IF(G17<=Показатели!$K$26,\"Н\",(IF(G17<=Показатели!$L$26,\"С\",\"В\")))))))))))))))))","v":""},{"$f":"IF(Итоговая!F17=\"\",\"\",Итоговая!F17)","v":""},{"$f":"IF(I17=\"\",\"\",(IF($D17=\"м\",(IF($F17<=3,(IF(I17<=Показатели!$C$7,\"Н\",(IF(I17<=Показатели!$D$7,\"С\",\"В\")))),(IF($F17=4,(IF(I17<=Показатели!$E$7,\"Н\",(IF(I17<=Показатели!$F$7,\"С\",\"В\")))),(IF($F17=5,(IF(I17<=Показатели!$G$7,\"Н\",(IF(I17<=Показатели!$H$7,\"С\",\"В\")))),(IF($F17=6,(IF(I17<=Показатели!$I$7,\"Н\",(IF(I17<= Показатели!$J$7,\"С\",\"В\")))),(IF($F17>=7,(IF(I17<=Показатели!$K$7,\"Н\",(IF(I17<=Показатели!$L$7,\"С\",\"В\")))))))))))))),(IF($F17<=3,(IF(I17<=Показатели!$C$26,\"Н\",(IF(I17<=Показатели!$D$26,\"С\",\"В\")))),(IF($F17=4,(IF(I17<=Показатели!$E$26,\"Н\",(IF(I17<=Показатели!$F$26,\"С\",\"В\")))),(IF($F17=5,(IF(I17<=Показатели!$G$26,\"Н\",(IF(I17<=Показатели!$H$26,\"С\",\"В\")))),(IF($F17=6,(IF(I17<=Показатели!$I$26,\"Н\",(IF(I17<= Показатели!$J$26,\"С\",\"В\")))),(IF($F17>=7,(IF(I17<=Показатели!$K$26,\"Н\",(IF(I17<=Показатели!$L$26,\"С\",\"В\")))))))))))))))))","v":""},{"$f":"IF(Итоговая!M17=\"\",\"\",Итоговая!M17)","v":""},{"$f":"IF(K17=\"\",\"\",(IF($D17=\"м\",(IF($E17<=3,(IF(K17<=Показатели!$C$8,\"Н\",(IF(K17<=Показатели!$D$8,\"С\",\"В\")))),(IF($E17=4,(IF(K17<=Показатели!$E$8,\"Н\",(IF(K17<=Показатели!$F$8,\"С\",\"В\")))),(IF($E17=5,(IF(K17<=Показатели!$G$8,\"Н\",(IF(K17<=Показатели!$H$8,\"С\",\"В\")))),(IF($E17=6,(IF(K17<=Показатели!$I$8,\"Н\",(IF(K17<= Показатели!$J$8,\"С\",\"В\")))),(IF($E17>=7,(IF(K17<=Показатели!$K$8,\"Н\",(IF(K17<=Показатели!$L$8,\"С\",\"В\")))))))))))))),(IF($E17<=3,(IF(K17<=Показатели!$C$27,\"Н\",(IF(K17<=Показатели!$D$27,\"С\",\"В\")))),(IF($E17=4,(IF(K17<=Показатели!$E$27,\"Н\",(IF(K17<=Показатели!$F$27,\"С\",\"В\")))),(IF($E17=5,(IF(K17<=Показатели!$G$27,\"Н\",(IF(K17<=Показатели!$H$27,\"С\",\"В\")))),(IF($E17=6,(IF(K17<=Показатели!$I$27,\"Н\",(IF(K17<= Показатели!$J$27,\"С\",\"В\")))),(IF($E17>=7,(IF(K17<=Показатели!$K$27,\"Н\",(IF(K17<=Показатели!$L$27,\"С\",\"В\")))))))))))))))))","v":""},{"$f":"IF(Итоговая!N17=\"\",\"\",Итоговая!N17)","v":""},{"$f":"IF(M17=\"\",\"\",(IF($D17=\"м\",(IF($F17<=3,(IF(M17<=Показатели!$C$8,\"Н\",(IF(M17<=Показатели!$D$8,\"С\",\"В\")))),(IF($F17=4,(IF(M17<=Показатели!$E$8,\"Н\",(IF(M17<=Показатели!$F$8,\"С\",\"В\")))),(IF($F17=5,(IF(M17<=Показатели!$G$8,\"Н\",(IF(M17<=Показатели!$H$8,\"С\",\"В\")))),(IF($F17=6,(IF(M17<=Показатели!$I$8,\"Н\",(IF(M17<= Показатели!$J$8,\"С\",\"В\")))),(IF($F17>=7,(IF(M17<=Показатели!$K$8,\"Н\",(IF(M17<=Показатели!$L$8,\"С\",\"В\")))))))))))))),(IF($F17<=3,(IF(M17<=Показатели!$C$27,\"Н\",(IF(M17<=Показатели!$D$27,\"С\",\"В\")))),(IF($F17=4,(IF(M17<=Показатели!$E$27,\"Н\",(IF(M17<=Показатели!$F$27,\"С\",\"В\")))),(IF($F17=5,(IF(M17<=Показатели!$G$27,\"Н\",(IF(M17<=Показатели!$H$27,\"С\",\"В\")))),(IF($F17=6,(IF(M17<=Показатели!$I$27,\"Н\",(IF(M17<= Показатели!$J$27,\"С\",\"В\")))),(IF($F17>=7,(IF(M17<=Показатели!$K$27,\"Н\",(IF(M17<=Показатели!$L$27,\"С\",\"В\")))))))))))))))))","v":""},{"$f":"IF(Итоговая!U17=\"\",\"\",Итоговая!U17)","v":""},{"$f":"IF(O17=\"\",\"\",(IF($D17=\"м\",(IF($E17<=3,(IF(O17<=Показатели!$C$9,\"Н\",(IF(O17<=Показатели!$D$9,\"С\",\"В\")))),(IF($E17=4,(IF(O17<=Показатели!$E$9,\"Н\",(IF(O17<=Показатели!$F$9,\"С\",\"В\")))),(IF($E17=5,(IF(O17<=Показатели!$G$9,\"Н\",(IF(O17<=Показатели!$H$9,\"С\",\"В\")))),(IF($E17=6,(IF(O17<=Показатели!$I$9,\"Н\",(IF(O17<= Показатели!$J$9,\"С\",\"В\")))),(IF($E17>=7,(IF(O17<=Показатели!$K$9,\"Н\",(IF(O17<=Показатели!$L$9,\"С\",\"В\")))))))))))))),(IF($E17<=3,(IF(O17<=Показатели!$C$28,\"Н\",(IF(O17<=Показатели!$D$28,\"С\",\"В\")))),(IF($E17=4,(IF(O17<=Показатели!$E$28,\"Н\",(IF(O17<=Показатели!$F$28,\"С\",\"В\")))),(IF($E17=5,(IF(O17<=Показатели!$G$28,\"Н\",(IF(O17<=Показатели!$H$28,\"С\",\"В\")))),(IF($E17=6,(IF(O17<=Показатели!$I$28,\"Н\",(IF(O17<= Показатели!$J$28,\"С\",\"В\")))),(IF($E17>=7,(IF(O17<=Показатели!$K$28,\"Н\",(IF(O17<=Показатели!$L$28,\"С\",\"В\")))))))))))))))))","v":""},{"$f":"IF(Итоговая!V17=\"\",\"\",Итоговая!V17)","v":""},{"$f":"IF(Q17=\"\",\"\",(IF($D17=\"м\",(IF($F17<=3,(IF(Q17<=Показатели!$C$9,\"Н\",(IF(Q17<=Показатели!$D$9,\"С\",\"В\")))),(IF($F17=4,(IF(Q17<=Показатели!$E$9,\"Н\",(IF(Q17<=Показатели!$F$9,\"С\",\"В\")))),(IF($F17=5,(IF(Q17<=Показатели!$G$9,\"Н\",(IF(Q17<=Показатели!$H$9,\"С\",\"В\")))),(IF($F17=6,(IF(Q17<=Показатели!$I$9,\"Н\",(IF(Q17<= Показатели!$J$9,\"С\",\"В\")))),(IF($F17>=7,(IF(Q17<=Показатели!$K$9,\"Н\",(IF(Q17<=Показатели!$L$9,\"С\",\"В\")))))))))))))),(IF($F17<=3,(IF(Q17<=Показатели!$C$28,\"Н\",(IF(Q17<=Показатели!$D$28,\"С\",\"В\")))),(IF($F17=4,(IF(Q17<=Показатели!$E$28,\"Н\",(IF(Q17<=Показатели!$F$28,\"С\",\"В\")))),(IF($F17=5,(IF(Q17<=Показатели!$G$28,\"Н\",(IF(Q17<=Показатели!$H$28,\"С\",\"В\")))),(IF($F17=6,(IF(Q17<=Показатели!$I$28,\"Н\",(IF(Q17<= Показатели!$J$28,\"С\",\"В\")))),(IF($F17>=7,(IF(Q17<=Показатели!$K$28,\"Н\",(IF(Q17<=Показатели!$L$28,\"С\",\"В\")))))))))))))))))","v":""},{"$f":"IF(Итоговая!AC17=\"\",\"\",Итоговая!AC17)","v":""},{"$f":"IF(S17=\"\",\"\",(IF($D17=\"м\",(IF($E17<=3,(IF(S17>=Показатели!$C$10,\"Н\",(IF(S17>=Показатели!$D$10,\"С\",\"В\")))),(IF($E17=4,(IF(S17>=Показатели!$E$10,\"Н\",(IF(S17>=Показатели!$F$10,\"С\",\"В\")))),(IF($E17=5,(IF(S17>=Показатели!$G$10,\"Н\",(IF(S17>=Показатели!$H$10,\"С\",\"В\")))),(IF($E17=6,(IF(S17>=Показатели!$I$10,\"Н\",(IF(S17>= Показатели!$J$10,\"С\",\"В\")))),(IF($E17>=7,(IF(S17>=Показатели!$K$10,\"Н\",(IF(S17>=Показатели!$L$10,\"С\",\"В\")))))))))))))),(IF($E17<=3,(IF(S17>=Показатели!$C$29,\"Н\",(IF(S17>=Показатели!$D$29,\"С\",\"В\")))),(IF($E17=4,(IF(S17>=Показатели!$E$29,\"Н\",(IF(S17>=Показатели!$F$29,\"С\",\"В\")))),(IF($E17=5,(IF(S17>=Показатели!$G$29,\"Н\",(IF(S17>=Показатели!$H$29,\"С\",\"В\")))),(IF($E17=6,(IF(S17>=Показатели!$I$29,\"Н\",(IF(S17>= Показатели!$J$29,\"С\",\"В\")))),(IF($E17>=7,(IF(S17>=Показатели!$K$29,\"Н\",(IF(S17>=Показатели!$L$29,\"С\",\"В\")))))))))))))))))","v":""},{"$f":"IF(Итоговая!AD17=\"\",\"\",Итоговая!AD17)","v":""},{"$f":"IF(U17=\"\",\"\",(IF($D17=\"м\",(IF($F17<=3,(IF(U17>=Показатели!$C$10,\"Н\",(IF(U17>=Показатели!$D$10,\"С\",\"В\")))),(IF($F17=4,(IF(U17>=Показатели!$E$10,\"Н\",(IF(U17>=Показатели!$F$10,\"С\",\"В\")))),(IF($F17=5,(IF(U17>=Показатели!$G$10,\"Н\",(IF(U17>=Показатели!$H$10,\"С\",\"В\")))),(IF($F17=6,(IF(U17>=Показатели!$I$10,\"Н\",(IF(U17>= Показатели!$J$10,\"С\",\"В\")))),(IF($F17>=7,(IF(U17>=Показатели!$K$10,\"Н\",(IF(U17>=Показатели!$L$10,\"С\",\"В\")))))))))))))),(IF($F17<=3,(IF(U17>=Показатели!$C$29,\"Н\",(IF(U17>=Показатели!$D$29,\"С\",\"В\")))),(IF($F17=4,(IF(U17>=Показатели!$E$29,\"Н\",(IF(U17>=Показатели!$F$29,\"С\",\"В\")))),(IF($F17=5,(IF(U17>=Показатели!$G$29,\"Н\",(IF(U17>=Показатели!$H$29,\"С\",\"В\")))),(IF($F17=6,(IF(U17>=Показатели!$I$29,\"Н\",(IF(U17>= Показатели!$J$29,\"С\",\"В\")))),(IF($F17>=7,(IF(U17>=Показатели!$K$29,\"Н\",(IF(U17>=Показатели!$L$29,\"С\",\"В\")))))))))))))))))","v":""},{"$f":"IF(Итоговая!AK17=\"\",\"\",Итоговая!AK17)","v":""},{"$f":"IF(W17=\"\",\"\",(IF($D17=\"м\",(IF($E17<=3,(IF(W17>=Показатели!$C$11,\"Н\",(IF(W17>=Показатели!$D$11,\"С\",\"В\")))),(IF($E17=4,(IF(W17>=Показатели!$E$11,\"Н\",(IF(W17>=Показатели!$F$11,\"С\",\"В\")))),(IF($E17=5,(IF(W17>=Показатели!$G$11,\"Н\",(IF(W17>=Показатели!$H$11,\"С\",\"В\")))),(IF($E17=6,(IF(W17>=Показатели!$I$11,\"Н\",(IF(W17>= Показатели!$J$11,\"С\",\"В\")))),(IF($E17>=7,(IF(W17>=Показатели!$K$11,\"Н\",(IF(W17>=Показатели!$L$11,\"С\",\"В\")))))))))))))),(IF($E17<=3,(IF(W17>=Показатели!$C$30,\"Н\",(IF(W17>=Показатели!$D$30,\"С\",\"В\")))),(IF($E17=4,(IF(W17>=Показатели!$E$30,\"Н\",(IF(W17>=Показатели!$F$30,\"С\",\"В\")))),(IF($E17=5,(IF(W17>=Показатели!$G$30,\"Н\",(IF(W17>=Показатели!$H$30,\"С\",\"В\")))),(IF($E17=6,(IF(W17>=Показатели!$I$30,\"Н\",(IF(W17>= Показатели!$J$30,\"С\",\"В\")))),(IF($E17>=7,(IF(W17>=Показатели!$K$30,\"Н\",(IF(W17>=Показатели!$L$30,\"С\",\"В\")))))))))))))))))","v":""},{"$f":"IF(Итоговая!AL17=\"\",\"\",Итоговая!AL17)","v":""},{"$f":"IF(Y17=\"\",\"\",(IF($D17=\"м\",(IF($F17<=3,(IF(Y17>=Показатели!$C$11,\"Н\",(IF(Y17>=Показатели!$D$11,\"С\",\"В\")))),(IF($F17=4,(IF(Y17>=Показатели!$E$11,\"Н\",(IF(Y17>=Показатели!$F$11,\"С\",\"В\")))),(IF($F17=5,(IF(Y17>=Показатели!$G$11,\"Н\",(IF(Y17>=Показатели!$H$11,\"С\",\"В\")))),(IF($F17=6,(IF(Y17>=Показатели!$I$11,\"Н\",(IF(Y17>= Показатели!$J$11,\"С\",\"В\")))),(IF($F17>=7,(IF(Y17>=Показатели!$K$11,\"Н\",(IF(Y17>=Показатели!$L$11,\"С\",\"В\")))))))))))))),(IF($F17<=3,(IF(Y17>=Показатели!$C$30,\"Н\",(IF(Y17>=Показатели!$D$30,\"С\",\"В\")))),(IF($F17=4,(IF(Y17>=Показатели!$E$30,\"Н\",(IF(Y17>=Показатели!$F$30,\"С\",\"В\")))),(IF($F17=5,(IF(Y17>=Показатели!$G$30,\"Н\",(IF(Y17>=Показатели!$H$30,\"С\",\"В\")))),(IF($F17=6,(IF(Y17>=Показатели!$I$30,\"Н\",(IF(Y17>= Показатели!$J$30,\"С\",\"В\")))),(IF($F17>=7,(IF(Y17>=Показатели!$K$30,\"Н\",(IF(Y17>=Показатели!$L$30,\"С\",\"В\")))))))))))))))))","v":""},{"$f":"IF(Итоговая!BC17=\"\",\"\",Итоговая!BC17)","v":""},{"$f":"IF(AA17=\"\",\"\",(IF($D17=\"м\",(IF(AA17<=Показатели!$C$14,\"Н\",(IF(AA17<=Показатели!$D$14,\"С\",\"В\")))),(IF(AA17<=Показатели!$C$33,\"Н\",(IF(AA17<=Показатели!$D$33,\"С\",\"В\")))))))","v":""},{"$f":"IF(Итоговая!BD17=\"\",\"\",Итоговая!BD17)","v":""},{"$f":"IF(AC17=\"\",\"\",(IF($D17=\"м\",(IF(AC17<=Показатели!$E$14,\"Н\",(IF(AC17<=Показатели!$F$14,\"С\",\"В\")))),(IF(AC17<=Показатели!$E$33,\"Н\",(IF(AC17<=Показатели!$F$33,\"С\",\"В\")))))))","v":""},null,"-","-","-","-","-","-",null,null,"-","-","-","-","-","-"]
[{"$f":"IF(Итоговая!A18=\"\",\"\",Итоговая!A18)","v":""},{"$f":"IF(Итоговая!C18=\"\",\"\",Итоговая!C18)","v":""},{"$f":"IF(Итоговая!B18=\"\",\"\",Итоговая!B18)","v":""},{"$f":"IF(Итоговая!D18=\"\",\"\",Итоговая!D18)","v":""},"","",{"$f":"IF(Итоговая!E18=\"\",\"\",Итоговая!E18)","v":""},{"$f":"IF(G18=\"\",\"\",(IF($D18=\"м\",(IF($E18<=3,(IF(G18<=Показатели!$C$7,\"Н\",(IF(G18<=Показатели!$D$7,\"С\",\"В\")))),(IF($E18=4,(IF(G18<=Показатели!$E$7,\"Н\",(IF(G18<=Показатели!$F$7,\"С\",\"В\")))),(IF($E18=5,(IF(G18<=Показатели!$G$7,\"Н\",(IF(G18<=Показатели!$H$7,\"С\",\"В\")))),(IF($E18=6,(IF(G18<=Показатели!$I$7,\"Н\",(IF(G18<= Показатели!$J$7,\"С\",\"В\")))),(IF($E18>=7,(IF(G18<=Показатели!$K$7,\"Н\",(IF(G18<=Показатели!$L$7,\"С\",\"В\")))))))))))))),(IF($E18<=3,(IF(G18<=Показатели!$C$26,\"Н\",(IF(G18<=Показатели!$D$26,\"С\",\"В\")))),(IF($E18=4,(IF(G18<=Показатели!$E$26,\"Н\",(IF(G18<=Показатели!$F$26,\"С\",\"В\")))),(IF($E18=5,(IF(G18<=Показатели!$G$26,\"Н\",(IF(G18<=Показатели!$H$26,\"С\",\"В\")))),(IF($E18=6,(IF(G18<=Показатели!$I$26,\"Н\",(IF(G18<= Показатели!$J$26,\"С\",\"В\")))),(IF($E18>=7,(IF(G18<=Показатели!$K$26,\"Н\",(IF(G18<=Показатели!$L$26,\"С\",\"В\")))))))))))))))))","v":""},{"$f":"IF(Итоговая!F18=\"\",\"\",Итоговая!F18)","v":""},{"$f":"IF(I18=\"\",\"\",(IF($D18=\"м\",(IF($F18<=3,(IF(I18<=Показатели!$C$7,\"Н\",(IF(I18<=Показатели!$D$7,\"С\",\"В\")))),(IF($F18=4,(IF(I18<=Показатели!$E$7,\"Н\",(IF(I18<=Показатели!$F$7,\"С\",\"В\")))),(IF($F18=5,(IF(I18<=Показатели!$G$7,\"Н\",(IF(I18<=Показатели!$H$7,\"С\",\"В\")))),(IF($F18=6,(IF(I18<=Показатели!$I$7,\"Н\",(IF(I18<= Показатели!$J$7,\"С\",\"В\")))),(IF($F18>=7,(IF(I18<=Показатели!$K$7,\"Н\",(IF(I18<=Показатели!$L$7,\"С\",\"В\")))))))))))))),(IF($F18<=3,(IF(I18<=Показатели!$C$26,\"Н\",(IF(I18<=Показатели!$D$26,\"С\",\"В\")))),(IF($F18=4,(IF(I18<=Показатели!$E$26,\"Н\",(IF(I18<=Показатели!$F$26,\"С\",\"В\")))),(IF($F18=5,(IF(I18<=Показатели!$G$26,\"Н\",(IF(I18<=Показатели!$H$26,\"С\",\"В\")))),(IF($F18=6,(IF(I18<=Показатели!$I$26,\"Н\",(IF(I18<= Показатели!$J$26,\"С\",\"В\")))),(IF($F18>=7,(IF(I18<=Показатели!$K$26,\"Н\",(IF(I18<=Показатели!$L$26,\"С\",\"В\")))))))))))))))))","v":""},{"$f":"IF(Итоговая!M18=\"\",\"\",Итоговая!M18)","v":""},{"$f":"IF(K18=\"\",\"\",(IF($D18=\"м\",(IF($E18<=3,(IF(K18<=Показатели!$C$8,\"Н\",(IF(K18<=Показатели!$D$8,\"С\",\"В\")))),(IF($E18=4,(IF(K18<=Показатели!$E$8,\"Н\",(IF(K18<=Показатели!$F$8,\"С\",\"В\")))),(IF($E18=5,(IF(K18<=Показатели!$G$8,\"Н\",(IF(K18<=Показатели!$H$8,\"С\",\"В\")))),(IF($E18=6,(IF(K18<=Показатели!$I$8,\"Н\",(IF(K18<= Показатели!$J$8,\"С\",\"В\")))),(IF($E18>=7,(IF(K18<=Показатели!$K$8,\"Н\",(IF(K18<=Показатели!$L$8,\"С\",\"В\")))))))))))))),(IF($E18<=3,(IF(K18<=Показатели!$C$27,\"Н\",(IF(K18<=Показатели!$D$27,\"С\",\"В\")))),(IF($E18=4,(IF(K18<=Показатели!$E$27,\"Н\",(IF(K18<=Показатели!$F$27,\"С\",\"В\")))),(IF($E18=5,(IF(K18<=Показатели!$G$27,\"Н\",(IF(K18<=Показатели!$H$27,\"С\",\"В\")))),(IF($E18=6,(IF(K18<=Показатели!$I$27,\"Н\",(IF(K18<= Показатели!$J$27,\"С\",\"В\")))),(IF($E18>=7,(IF(K18<=Показатели!$K$27,\"Н\",(IF(K18<=Показатели!$L$27,\"С\",\"В\")))))))))))))))))","v":""},{"$f":"IF(Итоговая!N18=\"\",\"\",Итоговая!N18)","v":""},{"$f":"IF(M18=\"\",\"\",(IF($D18=\"м\",(IF($F18<=3,(IF(M18<=Показатели!$C$8,\"Н\",(IF(M18<=Показатели!$D$8,\"С\",\"В\")))),(IF($F18=4,(IF(M18<=Показатели!$E$8,\"Н\",(IF(M18<=Показатели!$F$8,\"С\",\"В\")))),(IF($F18=5,(IF(M18<=Показатели!$G$8,\"Н\",(IF(M18<=Показатели!$H$8,\"С\",\"В\")))),(IF($F18=6,(IF(M18<=Показатели!$I$8,\"Н\",(IF(M18<= Показатели!$J$8,\"С\",\"В\")))),(IF($F18>=7,(IF(M18<=Показатели!$K$8,\"Н\",(IF(M18<=Показатели!$L$8,\"С\",\"В\")))))))))))))),(IF($F18<=3,(IF(M18<=Показатели!$C$27,\"Н\",(IF(M18<=Показатели!$D$27,\"С\",\"В\")))),(IF($F18=4,(IF(M18<=Показатели!$E$27,\"Н\",(IF(M18<=Показатели!$F$27,\"С\",\"В\")))),(IF($F18=5,(IF(M18<=Показатели!$G$27,\"Н\",(IF(M18<=Показатели!$H$27,\"С\",\"В\")))),(IF($F18=6,(IF(M18<=Показатели!$I$27,\"Н\",(IF(M18<= Показатели!$J$27,\"С\",\"В\")))),(IF($F18>=7,(IF(M18<=Показатели!$K$27,\"Н\",(IF(M18<=Показатели!$L$27,\"С\",\"В\")))))))))))))))))","v":""},{"$f":"IF(Итоговая!U18=\"\",\"\",Итоговая!U18)","v":""},{"$f":"IF(O18=\"\",\"\",(IF($D18=\"м\",(IF($E18<=3,(IF(O18<=Показатели!$C$9,\"Н\",(IF(O18<=Показатели!$D$9,\"С\",\"В\")))),(IF($E18=4,(IF(O18<=Показатели!$E$9,\"Н\",(IF(O18<=Показатели!$F$9,\"С\",\"В\")))),(IF($E18=5,(IF(O18<=Показатели!$G$9,\"Н\",(IF(O18<=Показатели!$H$9,\"С\",\"В\")))),(IF($E18=6,(IF(O18<=Показатели!$I$9,\"Н\",(IF(O18<= Показатели!$J$9,\"С\",\"В\")))),(IF($E18>=7,(IF(O18<=Показатели!$K$9,\"Н\",(IF(O18<=Показатели!$L$9,\"С\",\"В\")))))))))))))),(IF($E18<=3,(IF(O18<=Показатели!$C$28,\"Н\",(IF(O18<=Показатели!$D$28,\"С\",\"В\")))),(IF($E18=4,(IF(O18<=Показатели!$E$28,\"Н\",(IF(O18<=Показатели!$F$28,\"С\",\"В\")))),(IF($E18=5,(IF(O18<=Показатели!$G$28,\"Н\",(IF(O18<=Показатели!$H$28,\"С\",\"В\")))),(IF($E18=6,(IF(O18<=Показатели!$I$28,\"Н\",(IF(O18<= Показатели!$J$28,\"С\",\"В\")))),(IF($E18>=7,(IF(O18<=Показатели!$K$28,\"Н\",(IF(O18<=Показатели!$L$28,\"С\",\"В\")))))))))))))))))","v":""},{"$f":"IF(Итоговая!V18=\"\",\"\",Итоговая!V18)","v":""},{"$f":"IF(Q18=\"\",\"\",(IF($D18=\"м\",(IF($F18<=3,(IF(Q18<=Показатели!$C$9,\"Н\",(IF(Q18<=Показатели!$D$9,\"С\",\"В\")))),(IF($F18=4,(IF(Q18<=Показатели!$E$9,\"Н\",(IF(Q18<=Показатели!$F$9,\"С\",\"В\")))),(IF($F18=5,(IF(Q18<=Показатели!$G$9,\"Н\",(IF(Q18<=Показатели!$H$9,\"С\",\"В\")))),(IF($F18=6,(IF(Q18<=Показатели!$I$9,\"Н\",(IF(Q18<= Показатели!$J$9,\"С\",\"В\")))),(IF($F18>=7,(IF(Q18<=Показатели!$K$9,\"Н\",(IF(Q18<=Показатели!$L$9,\"С\",\"В\")))))))))))))),(IF($F18<=3,(IF(Q18<=Показатели!$C$28,\"Н\",(IF(Q18<=Показатели!$D$28,\"С\",\"В\")))),(IF($F18=4,(IF(Q18<=Показатели!$E$28,\"Н\",(IF(Q18<=Показатели!$F$28,\"С\",\"В\")))),(IF($F18=5,(IF(Q18<=Показатели!$G$28,\"Н\",(IF(Q18<=Показатели!$H$28,\"С\",\"В\")))),(IF($F18=6,(IF(Q18<=Показатели!$I$28,\"Н\",(IF(Q18<= Показатели!$J$28,\"С\",\"В\")))),(IF($F18>=7,(IF(Q18<=Показатели!$K$28,\"Н\",(IF(Q18<=Показатели!$L$28,\"С\",\"В\")))))))))))))))))","v":""},{"$f":"IF(Итоговая!AC18=\"\",\"\",Итоговая!AC18)","v":""},{"$f":"IF(S18=\"\",\"\",(IF($D18=\"м\",(IF($E18<=3,(IF(S18>=Показатели!$C$10,\"Н\",(IF(S18>=Показатели!$D$10,\"С\",\"В\")))),(IF($E18=4,(IF(S18>=Показатели!$E$10,\"Н\",(IF(S18>=Показатели!$F$10,\"С\",\"В\")))),(IF($E18=5,(IF(S18>=Показатели!$G$10,\"Н\",(IF(S18>=Показатели!$H$10,\"С\",\"В\")))),(IF($E18=6,(IF(S18>=Показатели!$I$10,\"Н\",(IF(S18>= Показатели!$J$10,\"С\",\"В\")))),(IF($E18>=7,(IF(S18>=Показатели!$K$10,\"Н\",(IF(S18>=Показатели!$L$10,\"С\",\"В\")))))))))))))),(IF($E18<=3,(IF(S18>=Показатели!$C$29,\"Н\",(IF(S18>=Показатели!$D$29,\"С\",\"В\")))),(IF($E18=4,(IF(S18>=Показатели!$E$29,\"Н\",(IF(S18>=Показатели!$F$29,\"С\",\"В\")))),(IF($E18=5,(IF(S18>=Показатели!$G$29,\"Н\",(IF(S18>=Показатели!$H$29,\"С\",\"В\")))),(IF($E18=6,(IF(S18>=Показатели!$I$29,\"Н\",(IF(S18>= Показатели!$J$29,\"С\",\"В\")))),(IF($E18>=7,(IF(S18>=Показатели!$K$29,\"Н\",(IF(S18>=Показатели!$L$29,\"С\",\"В\")))))))))))))))))","v":""},{"$f":"IF(Итоговая!AD18=\"\",\"\",Итоговая!AD18)","v":""},{"$f":"IF(U18=\"\",\"\",(IF($D18=\"м\",(IF($F18<=3,(IF(U18>=Показатели!$C$10,\"Н\",(IF(U18>=Показатели!$D$10,\"С\",\"В\")))),(IF($F18=4,(IF(U18>=Показатели!$E$10,\"Н\",(IF(U18>=Показатели!$F$10,\"С\",\"В\")))),(IF($F18=5,(IF(U18>=Показатели!$G$10,\"Н\",(IF(U18>=Показатели!$H$10,\"С\",\"В\")))),(IF($F18=6,(IF(U18>=Показатели!$I$10,\"Н\",(IF(U18>= Показатели!$J$10,\"С\",\"В\")))),(IF($F18>=7,(IF(U18>=Показатели!$K$10,\"Н\",(IF(U18>=Показатели!$L$10,\"С\",\"В\")))))))))))))),(IF($F18<=3,(IF(U18>=Показатели!$C$29,\"Н\",(IF(U18>=Показатели!$D$29,\"С\",\"В\")))),(IF($F18=4,(IF(U18>=Показатели!$E$29,\"Н\",(IF(U18>=Показатели!$F$29,\"С\",\"В\")))),(IF($F18=5,(IF(U18>=Показатели!$G$29,\"Н\",(IF(U18>=Показатели!$H$29,\"С\",\"В\")))),(IF($F18=6,(IF(U18>=Показатели!$I$29,\"Н\",(IF(U18>= Показатели!$J$29,\"С\",\"В\")))),(IF($F18>=7,(IF(U18>=Показатели!$K$29,\"Н\",(IF(U18>=Показатели!$L$29,\"С\",\"В\")))))))))))))))))","v":""},{"$f":"IF(Итоговая!AK18=\"\",\"\",Итоговая!AK18)","v":""},{"$f":"IF(W18=\"\",\"\",(IF($D18=\"м\",(IF($E18<=3,(IF(W18>=Показатели!$C$11,\"Н\",(IF(W18>=Показатели!$D$11,\"С\",\"В\")))),(IF($E18=4,(IF(W18>=Показатели!$E$11,\"Н\",(IF(W18>=Показатели!$F$11,\"С\",\"В\")))),(IF($E18=5,(IF(W18>=Показатели!$G$11,\"Н\",(IF(W18>=Показатели!$H$11,\"С\",\"В\")))),(IF($E18=6,(IF(W18>=Показатели!$I$11,\"Н\",(IF(W18>= Показатели!$J$11,\"С\",\"В\")))),(IF($E18>=7,(IF(W18>=Показатели!$K$11,\"Н\",(IF(W18>=Показатели!$L$11,\"С\",\"В\")))))))))))))),(IF($E18<=3,(IF(W18>=Показатели!$C$30,\"Н\",(IF(W18>=Показатели!$D$30,\"С\",\"В\")))),(IF($E18=4,(IF(W18>=Показатели!$E$30,\"Н\",(IF(W18>=Показатели!$F$30,\"С\",\"В\")))),(IF($E18=5,(IF(W18>=Показатели!$G$30,\"Н\",(IF(W18>=Показатели!$H$30,\"С\",\"В\")))),(IF($E18=6,(IF(W18>=Показатели!$I$30,\"Н\",(IF(W18>= Показатели!$J$30,\"С\",\"В\")))),(IF($E18>=7,(IF(W18>=Показатели!$K$30,\"Н\",(IF(W18>=Показатели!$L$30,\"С\",\"В\")))))))))))))))))","v":""},{"$f":"IF(Итоговая!AL18=\"\",\"\",Итоговая!AL18)","v":""},{"$f":"IF(Y18=\"\",\"\",(IF($D18=\"м\",(IF($F18<=3,(IF(Y18>=Показатели!$C$11,\"Н\",(IF(Y18>=Показатели!$D$11,\"С\",\"В\")))),(IF($F18=4,(IF(Y18>=Показатели!$E$11,\"Н\",(IF(Y18>=Показатели!$F$11,\"С\",\"В\")))),(IF($F18=5,(IF(Y18>=Показатели!$G$11,\"Н\",(IF(Y18>=Показатели!$H$11,\"С\",\"В\")))),(IF($F18=6,(IF(Y18>=Показатели!$I$11,\"Н\",(IF(Y18>= Показатели!$J$11,\"С\",\"В\")))),(IF($F18>=7,(IF(Y18>=Показатели!$K$11,\"Н\",(IF(Y18>=Показатели!$L$11,\"С\",\"В\")))))))))))))),(IF($F18<=3,(IF(Y18>=Показатели!$C$30,\"Н\",(IF(Y18>=Показатели!$D$30,\"С\",\"В\")))),(IF($F18=4,(IF(Y18>=Показатели!$E$30,\"Н\",(IF(Y18>=Показатели!$F$30,\"С\",\"В\")))),(IF($F18=5,(IF(Y18>=Показатели!$G$30,\"Н\",(IF(Y18>=Показатели!$H$30,\"С\",\"В\")))),(IF($F18=6,(IF(Y18>=Показатели!$I$30,\"Н\",(IF(Y18>= Показатели!$J$30,\"С\",\"В\")))),(IF($F18>=7,(IF(Y18>=Показатели!$K$30,\"Н\",(IF(Y18>=Показатели!$L$30,\"С\",\"В\")))))))))))))))))","v":""},{"$f":"IF(Итоговая!BC18=\"\",\"\",Итоговая!BC18)","v":""},{"$f":"IF(AA18=\"\",\"\",(IF($D18=\"м\",(IF(AA18<=Показатели!$C$14,\"Н\",(IF(AA18<=Показатели!$D$14,\"С\",\"В\")))),(IF(AA18<=Показатели!$C$33,\"Н\",(IF(AA18<=Показатели!$D$33,\"С\",\"В\")))))))","v":""},{"$f":"IF(Итоговая!BD18=\"\",\"\",Итоговая!BD18)","v":""},{"$f":"IF(AC18=\"\",\"\",(IF($D18=\"м\",(IF(AC18<=Показатели!$E$14,\"Н\",(IF(AC18<=Показатели!$F$14,\"С\",\"В\")))),(IF(AC18<=Показатели!$E$33,\"Н\",(IF(AC18<=Показатели!$F$33,\"С\",\"В\")))))))","v":""},null,"-","-","-","-","-",null,null,null,"-","-","-","-","-","-"]
["Всего детей:",null,null,null,null,null,{"$f":"ROWS(C7:C18)-COUNTIF(C7:C18,\"\")","v":6}]
["из них присутствовало (кол-во и %):",null,null,null,null,null,{"$f":"COUNTIF(G7:G12,\">=0\")","v":5},{"$f":"G20*100/$G$19","v":83.333333333333329},{"$f":"COUNTIF(I7:I18,\">=0\")","v":6},{"$f":"I20*100/$G$19","v":100},{"$f":"COUNTIF(K7:K18,\">=0\")","v":5},{"$f":"K20*100/$G$19","v":83.333333333333329},{"$f":"COUNTIF(M7:M18,\">=0\")","v":6},{"$f":"M20*100/$G$19","v":100},{"$f":"COUNTIF(O7:O18,\">=0\")","v":5},{"$f":"O20*100/$G$19","v":83.333333333333329},{"$f":"COUNTIF(Q7:Q18,\">=0\")","v":6},{"$f":"Q20*100/$G$19","v":100},{"$f":"COUNTIF(S7:S18,\">=0\")","v":5},{"$f":"S20*100/$G$19","v":83.333333333333329},{"$f":"COUNTIF(U7:U18,\">=0\")","v":5},{"$f":"U20*100/$G$19","v":83.333333333333329},{"$f":"COUNTIF(W7:W18,\">=0\")","v":4},{"$f":"W20*100/$G$19","v":66.666666666666671},{"$f":"COUNTIF(Y7:Y18,\">=0\")","v":3},{"$f":"Y20*100/$G$19","v":50},{"$f":"COUNTIF(AA7:AA18,\">=0\")","v":0},{"$f":"AA20*100/$G$19","v":0},{"$f":"COUNTIF(AC7:AC12,\">0\")","v":0},{"$f":"AC20*100/$G$19","v":0},null,{"$f":"SUM(AF7:AF12)","v":15},{"$f":"AF20*100/SUM($AF$20,$AH$20,$AJ$20)","v":60},{"$f":"SUM(AH7:AH12)","v":7},{"$f":"AH20*100/SUM($AF$20,$AH$20,$AJ$20)","v":28},{"$f":"SUM(AJ7:AJ12)","v":3},{"$f":"AJ20*100/SUM($AF$20,$AH$20,$AJ$20)","v":12},{"$f":"SUM(AG20,AI20,AK20)","v":100},null,{"$f":"SUM(AN7:AN12)","v":10},{"$f":"AN20*100/SUM($AN$20,$AP$20,$AR$20)","v":38.46153846153846},{"$f":"SUM(AP7:AP12)","v":10},{"$f":"AP20*100/SUM($AN$20,$AP$20,$AR$20)","v":38.46153846153846},{"$f":"SUM(AR7:AR12)","v":6},{"$f":"AR20*100/SUM($AN$20,$AP$20,$AR$20)","v":23.076923076923077},{"$f":"SUM(AO20,AQ20,AS20)","v":100}]
[" низкий (кол-во и %)",null,null,null,null,null,{"$f":"IF($D$7=\"\",\"\",COUNTIF(H7:H12,\"Н\"))","v":4},{"$f":"IF($G$20<>0,(G21*100/$G$20),\"-\")","v":80},{"$f":"IF($D$7=\"\",\"\",COUNTIF(J7:J12,\"Н\"))","v":2},{"$f":"IF($I$20<>0,(I21*100/$I$20),\"-\")","v":33.333333333333336},{"$f":"IF($D$7=\"\",\"\",COUNTIF(L7:L12,\"Н\"))","v":1},{"$f":"IF($K$20<>0,(K21*100/$K$20),\"-\")","v":20},{"$f":"IF($D$7=\"\",\"\",COUNTIF(N7:N12,\"Н\"))","v":2},{"$f":"IF($M$20<>0,(M21*100/$M$20),\"-\")","v":33.333333333333336},{"$f":"IF($D$7=\"\",\"\",COUNTIF(P7:P12,\"Н\"))","v":3},{"$f":"IF($O$20<>0,(O21*100/$O$20),\"-\")","v":60},{"$f":"IF($D$7=\"\",\"\",COUNTIF(R7:R12,\"Н\"))","v":3},{"$f":"IF($Q$20<>0,(Q21*100/$Q$20),\"-\")","v":50},{"$f":"IF($D$7=\"\",\"\",COUNTIF(T7:T12,\"Н\"))","v":3},{"$f":"IF($S$20<>0,(S21*100/$S$20),\"-\")","v":60},{"$f":"IF($D$7=\"\",\"\",COUNTIF(V7:V12,\"Н\"))","v":2},{"$f":"IF($U$20<>0,(U21*100/$U$20),\"-\")","v":40},{"$f":"IF($D$7=\"\",\"\",COUNTIF(X7:X12,\"Н\"))","v":4},{"$f":"IF($W$20<>0,(W21*100/$W$20),\"-\")","v":100},{"$f":"IF($D$7=\"\",\"\",COUNTIF(Z7:Z12,\"Н\"))","v":1},{"$f":"IF($Y$20<>0,(Y21*100/$Y$20),\"-\")","v":33.333333333333336},{"$f":"IF($D$7=\"\",\"\",COUNTIF(AB7:AB12,\"Н\"))","v":0},{"$f":"IF($AA$20<>0,(AA21*100/$AA$20),\"-\")","v":"-"},{"$f":"IF($D$7=\"\",\"\",COUNTIF(AD7:AD12,\"Н\"))","v":0},{"$f":"IF($AC$20<>0,(AC21*100/$AC$20),\"-\")","v":"-"}]
["средний (кол-во и %)",null,null,null,null,null,{"$f":"IF($D$8=\"\",\"\",COUNTIF(H7:H12,\"С\"))","v":1},{"$f":"IF($G$20<>0,(G22*100/$G$20),\"-\")","v":20},{"$f":"IF($D$8=\"\",\"\",COUNTIF(J7:J12,\"С\"))","v":4},{"$f":"IF($I$20<>0,(I22*100/$I$20),\"-\")","v":66.666666666666671},{"$f":"IF($D$8=\"\",\"\",COUNTIF(L7:L12,\"С\"))","v":3},{"$f":"IF($K$20<>0,(K22*100/$K$20),\"-\")","v":60},{"$f":"IF($D$8=\"\",\"\",COUNTIF(N7:N12,\"С\"))","v":1},{"$f":"IF($M$20<>0,(M22*100/$M$20),\"-\")","v":16.666666666666668},{"$f":"IF($D$8=\"\",\"\",COUNTIF(P7:P12,\"С\"))","v":1},{"$f":"IF($O$20<>0,(O22*100/$O$20),\"-\")","v":20},{"$f":"IF($D$8=\"\",\"\",COUNTIF(R7:R12,\"С\"))","v":2},{"$f":"IF($Q$20<>0,(Q22*100/$Q$20),\"-\")","v":33.333333333333336},{"$f":"IF($D$8=\"\",\"\",COUNTIF(T7:T12,\"С\"))","v":1},{"$f":"IF($S$20<>0,(S22*100/$S$20),\"-\")","v":20},{"$f":"IF($D$8=\"\",\"\",COUNTIF(V7:V12,\"С\"))","v":1},{"$f":"IF($U$20<>0,(U22*100/$U$20),\"-\")","v":20},{"$f":"IF($D$8=\"\",\"\",COUNTIF(X7:X12,\"С\"))","v":1},{"$f":"IF($W$20<>0,(W22*100/$W$20),\"-\")","v":25},{"$f":"IF($D$8=\"\",\"\",COUNTIF(Z7:Z12,\"С\"))","v":2},{"$f":"IF($Y$20<>0,(Y22*100/$Y$20),\"-\")","v":66.666666666666671},{"$f":"IF($D$8=\"\",\"\",COUNTIF(AB7:AB12,\"С\"))","v":0},{"$f":"IF($AA$20<>0,(AA22*100/$AA$20),\"-\")","v":"-"},{"$f":"IF($D$8=\"\",\"\",COUNTIF(AD7:AD12,\"С\"))","v":0},{"$f":"IF($AC$20<>0,(AC22*100/$AC$20),\"-\")","v":"-"}]
["высокий (кол-во и %)",null,null,null,null,null,{"$f":"IF($D$9=\"\",\"\",COUNTIF(H7:H12,\"В\"))","v":0},0,{"$f":"IF($D$9=\"\",\"\",COUNTIF(J7:J12,\"В\"))","v":0},0,{"$f":"IF($D$9=\"\",\"\",COUNTIF(L7:L12,\"В\"))","v":1},20,{"$f":"IF($D$9=\"\",\"\",COUNTIF(N7:N12,\"В\"))","v":3},50,{"$f":"IF($D$9=\"\",\"\",COUNTIF(P7:P12,\"В\"))","v":1},20,{"$f":"IF($D$9=\"\",\"\",COUNTIF(R7:R12,\"В\"))","v":1},16.666666666666668,{"$f":"IF($D$9=\"\",\"\",COUNTIF(T7:T12,\"В\"))","v":1},20,{"$f":"IF($D$9=\"\",\"\",COUNTIF(V7:V12,\"В\"))","v":2},40,{"$f":"IF($D$9=\"\",\"\",COUNTIF(X7:X12,\"В\"))","v":0},0,{"$f":"IF($D$9=\"\",\"\",COUNTIF(Z7:Z12,\"В\"))","v":0},0,{"$f":"IF($D$9=\"\",\"\",COUNTIF(AB7:AB12,\"В\"))","v":0},"-",{"$f":"IF($D$9=\"\",\"\",COUNTIF(AD7:AD12,\"В\"))","v":0},"-"]