{"text_format":"1","workbook":"xlsx","n_sheets":2,"sheets":["Список дел","Лист1"],"not_rendered":{"charts":0,"images":0,"macros":1,"external_links":1,"defined_names":164,"comments":0,"pivot_tables":0},"unopened":[],"bounds":{"document_bytes":16777216,"sheet_cells":100000,"rows_first":2000,"rows_last":500,"rows_between":2000,"halvings":0,"cell_chars":16384,"cell_head_chars":4096},"cells_cut":0,"cells_raw":0,"read":"whole","date_system":"1900"}

{"sheet":"Список дел","index":0,"n_rows":40,"n_cols":8,"rows_kept":40,"cut":false,"hidden":false,"merged":[]}
["№ п/п","№ ","Сотрудник","Дата ","кодировка","Контактное лицо","Решение по делу","Дата решения"]
[36,80524,"Скрябин","2013-02-28",13923,"Тимкин К.В.","Ответ","2013-03-14"]
[36,80525,"Балабанов","2013-03-01",10976,"Багаев","Ответ","2013-07-01"]
[37,80526,"Балабанов","2013-03-06",31987,"Горев Эдуард Валерьевич","Ответ","2013-05-06"]
[38,80527,"Балабанов","2013-03-07",31789,"Бацанова Татьяна Афанасьевна","Ответ","2013-03-27"]
[40,80529,"Оприна","2013-03-11",17835,"Бурков Павел Владимирович","Ответ","2013-06-11"]
[43,80530,"Сболева","2013-03-19",77319,"Исупов Артур Анатольевич","Ответ","2013-04-18"]
[51,80538,"Сболева","2013-03-25",38719,"Шемякин А.Ю.","Ответ","2013-05-22"]
[52,60580,"Скрябин","2012-10-31",198,"Кривокорытов Владимир Иванович","Ответ","2013-03-29"]
[53,80539,"Балабанов","2013-03-26",109,"Кулябин Константин Альбертович","возврат","2013-06-26"]
[57,12613,"Оприна","2013-03-19",159,"Тюлькин Сергей Сергеевич","возврат","2013-06-07"]
[58,80543,"Князина","2013-04-01",null,"Сохин Олег Анатольевич","возврат","2013-08-01"]
[126,80604,"Скрябин","2013-09-04",19789,"Овчинников Владимир Александрович"]
[130,80606,"Балабанов","2013-09-30",22854,"Бауэр Владислав Вячеславович Сычев Алексей Дмитриевич"]
[136,80608,"Балабанов","2013-10-03",14405,"Кочуров Валерий Аркадьевич"]
[137,80609,"Балабанов","2013-10-10",13559,"Бакин Александр Анатольевич"]
[138,80610,"Скрябин","2013-10-10",38719,"Широкова Анастасия Андреевна","возврат","2013-10-28"]
[139,80611,"Скрябин","2013-10-14",38719,"Фоминых Виталий Александрович","возврат"]
[140,80612,"Князина","2013-10-14",13329,"Силин Василий Васильевич"]
[141,80613,"Оприна","2013-10-14",29134,"Малюганова Яна Валерьевна"]
[143,80615,"Князина","2013-10-14",23228,"Кошеля Руслан Александрович"]
[144,80616,"Князина","2013-10-14",17739,"Гетманский Алексей Викторович","возврат","2013-10-29"]
[146,80617,"Балабанов","2013-10-15",16511,"Кирьяков Николай Николаевич"]
[147,80618,"Георгиа","2013-10-15",31568,"Мулькумов Илькин Ильгарович"]
[148,80293,"Скрябин","2013-10-10",13109,"Половников Александр Владимирович"]
[149,80619,"Георгиа","2013-10-16",11939,"Лоскутов Алексаендр Иванович"]
[150,80620,"Князина","2013-10-17",40895,"Грибанов Виктор Владимирович"]
[151,80621,"Князина","2013-10-18",45409]
[152,80622,"Сболева","2013-10-23",45987,"Пономарев Николай Алексеевич"]
[153,80623,"Скрябин","2013-10-24",76504,"Бажин Вадим Эдуардович   Черных Александр Дмитриевич"]
[155,80625,"Сболева","2013-10-30",40955,"Ушаков Владимир Михайлович"]
[156,80626,"Скрябин","2013-10-31",45987,"Смирнов В.Н."]
[157,80627,"Князина","2013-11-05",45874,"Евдокимов Евгений Александрович"]
[159,80628,"Балабанов","2013-11-06",34533,"Рябцев"]
[160,80629,"Скрябин","2013-11-06",9458,"Никонюк Е.А.    Широбокова А.С."]
[161,80630,"Князина","2013-11-08",49584,"Касимов Владислав Олегович"]
[162,80631,"Георгиа","2013-11-11",44333,"Бурков Михаил Сергеевич"]
[163,80632,"Скрябин","2013-11-12",9847,"Разумова Майя Владимировна"]
[164,80633,"Князина","2013-11-12",9857,"Веретенникова Олеся Михайловна"]
[165,80634,"Балабанов","2013-11-15",56783,"Гончаров Андрей Николаевич"]

{"sheet":"Лист1","index":1,"n_rows":54,"n_cols":5,"rows_kept":54,"cut":false,"hidden":false,"merged":[]}
[]
[null,null,null,"Балабанов"]
[]
[null,"№","дата ","контактное лицо","Кодировка"]
[null,{"$f":"INDEX(Таблица1[[№ ]],SMALL(IF((Таблица1[Сотрудник]=$D$2)*(Таблица1[Решение по делу]=\"\"),ROW(INDIRECT(\"$A$1:$A$\"&ROWS(Таблица1[#Data])))),ROW(A1)))","v":80606},{"$f":"INDEX(Таблица1[[Дата ]],MATCH($B5,Таблица1[[№ ]],0))","v":"2013-09-30"},{"$f":"INDEX(Таблица1[Контактное лицо],MATCH($B5,Таблица1[[№ ]],0))","v":"Бауэр Владислав Вячеславович Сычев Алексей Дмитриевич"},{"$f":"INDEX(Таблица1[кодировка],MATCH($B5,Таблица1[[№ ]],0))","v":22854}]
[null,{"$f":"INDEX(Таблица1[[№ ]],SMALL(IF((Таблица1[Сотрудник]=$D$2)*(Таблица1[Решение по делу]=\"\"),ROW(INDIRECT(\"$A$1:$A$\"&ROWS(Таблица1[#Data])))),ROW(A2)))","v":80608},{"$f":"INDEX(Таблица1[[Дата ]],MATCH($B6,Таблица1[[№ ]],0))","v":"2013-10-03"},{"$f":"INDEX(Таблица1[Контактное лицо],MATCH($B6,Таблица1[[№ ]],0))","v":"Кочуров Валерий Аркадьевич"},{"$f":"INDEX(Таблица1[кодировка],MATCH($B6,Таблица1[[№ ]],0))","v":14405}]
[null,{"$f":"INDEX(Таблица1[[№ ]],SMALL(IF((Таблица1[Сотрудник]=$D$2)*(Таблица1[Решение по делу]=\"\"),ROW(INDIRECT(\"$A$1:$A$\"&ROWS(Таблица1[#Data])))),ROW(A3)))","v":80609},{"$f":"INDEX(Таблица1[[Дата ]],MATCH($B7,Таблица1[[№ ]],0))","v":"2013-10-10"},{"$f":"INDEX(Таблица1[Контактное лицо],MATCH($B7,Таблица1[[№ ]],0))","v":"Бакин Александр Анатольевич"},{"$f":"INDEX(Таблица1[кодировка],MATCH($B7,Таблица1[[№ ]],0))","v":13559}]
[null,{"$f":"INDEX(Таблица1[[№ ]],SMALL(IF((Таблица1[Сотрудник]=$D$2)*(Таблица1[Решение по делу]=\"\"),ROW(INDIRECT(\"$A$1:$A$\"&ROWS(Таблица1[#Data])))),ROW(A4)))","v":80617},{"$f":"INDEX(Таблица1[[Дата ]],MATCH($B8,Таблица1[[№ ]],0))","v":"2013-10-15"},{"$f":"INDEX(Таблица1[Контактное лицо],MATCH($B8,Таблица1[[№ ]],0))","v":"Кирьяков Николай Николаевич"},{"$f":"INDEX(Таблица1[кодировка],MATCH($B8,Таблица1[[№ ]],0))","v":16511}]
[null,{"$f":"INDEX(Таблица1[[№ ]],SMALL(IF((Таблица1[Сотрудник]=$D$2)*(Таблица1[Решение по делу]=\"\"),ROW(INDIRECT(\"$A$1:$A$\"&ROWS(Таблица1[#Data])))),ROW(A5)))","v":80628},{"$f":"INDEX(Таблица1[[Дата ]],MATCH($B9,Таблица1[[№ ]],0))","v":"2013-11-06"},{"$f":"INDEX(Таблица1[Контактное лицо],MATCH($B9,Таблица1[[№ ]],0))","v":"Рябцев"},{"$f":"INDEX(Таблица1[кодировка],MATCH($B9,Таблица1[[№ ]],0))","v":34533}]
[null,{"$f":"INDEX(Таблица1[[№ ]],SMALL(IF((Таблица1[Сотрудник]=$D$2)*(Таблица1[Решение по делу]=\"\"),ROW(INDIRECT(\"$A$1:$A$\"&ROWS(Таблица1[#Data])))),ROW(A6)))","v":80634},{"$f":"INDEX(Таблица1[[Дата ]],MATCH($B10,Таблица1[[№ ]],0))","v":"2013-11-15"},{"$f":"INDEX(Таблица1[Контактное лицо],MATCH($B10,Таблица1[[№ ]],0))","v":"Гончаров Андрей Николаевич"},{"$f":"INDEX(Таблица1[кодировка],MATCH($B10,Таблица1[[№ ]],0))","v":56783}]
[null,{"$f":"INDEX(Таблица1[[№ ]],SMALL(IF((Таблица1[Сотрудник]=$D$2)*(Таблица1[Решение по делу]=\"\"),ROW(INDIRECT(\"$A$1:$A$\"&ROWS(Таблица1[#Data])))),ROW(A7)))","v":{"$error":"#NUM!"}},{"$f":"INDEX(Таблица1[[Дата ]],MATCH($B11,Таблица1[[№ ]],0))","v":{"$error":"#NUM!"}},{"$f":"INDEX(Таблица1[Контактное лицо],MATCH($B11,Таблица1[[№ ]],0))","v":{"$error":"#NUM!"}},{"$f":"INDEX(Таблица1[кодировка],MATCH($B11,Таблица1[[№ ]],0))","v":{"$error":"#NUM!"}}]
[null,{"$f":"INDEX(Таблица1[[№ ]],SMALL(IF((Таблица1[Сотрудник]=$D$2)*(Таблица1[Решение по делу]=\"\"),ROW(INDIRECT(\"$A$1:$A$\"&ROWS(Таблица1[#Data])))),ROW(A8)))","v":{"$error":"#NUM!"}},{"$f":"INDEX(Таблица1[[Дата ]],MATCH($B12,Таблица1[[№ ]],0))","v":{"$error":"#NUM!"}},{"$f":"INDEX(Таблица1[Контактное лицо],MATCH($B12,Таблица1[[№ ]],0))","v":{"$error":"#NUM!"}},{"$f":"INDEX(Таблица1[кодировка],MATCH($B12,Таблица1[[№ ]],0))","v":{"$error":"#NUM!"}}]
[null,{"$f":"INDEX(Таблица1[[№ ]],SMALL(IF((Таблица1[Сотрудник]=$D$2)*(Таблица1[Решение по делу]=\"\"),ROW(INDIRECT(\"$A$1:$A$\"&ROWS(Таблица1[#Data])))),ROW(A9)))","v":{"$error":"#NUM!"}},{"$f":"INDEX(Таблица1[[Дата ]],MATCH($B13,Таблица1[[№ ]],0))","v":{"$error":"#NUM!"}},{"$f":"INDEX(Таблица1[Контактное лицо],MATCH($B13,Таблица1[[№ ]],0))","v":{"$error":"#NUM!"}},{"$f":"INDEX(Таблица1[кодировка],MATCH($B13,Таблица1[[№ ]],0))","v":{"$error":"#NUM!"}}]
[null,{"$f":"INDEX(Таблица1[[№ ]],SMALL(IF((Таблица1[Сотрудник]=$D$2)*(Таблица1[Решение по делу]=\"\"),ROW(INDIRECT(\"$A$1:$A$\"&ROWS(Таблица1[#Data])))),ROW(A10)))","v":{"$error":"#NUM!"}},{"$f":"INDEX(Таблица1[[Дата ]],MATCH($B14,Таблица1[[№ ]],0))","v":{"$error":"#NUM!"}},{"$f":"INDEX(Таблица1[Контактное лицо],MATCH($B14,Таблица1[[№ ]],0))","v":{"$error":"#NUM!"}},{"$f":"INDEX(Таблица1[кодировка],MATCH($B14,Таблица1[[№ ]],0))","v":{"$error":"#NUM!"}}]
[null,{"$f":"INDEX(Таблица1[[№ ]],SMALL(IF((Таблица1[Сотрудник]=$D$2)*(Таблица1[Решение по делу]=\"\"),ROW(INDIRECT(\"$A$1:$A$\"&ROWS(Таблица1[#Data])))),ROW(A11)))","v":{"$error":"#NUM!"}},{"$f":"INDEX(Таблица1[[Дата ]],MATCH($B15,Таблица1[[№ ]],0))","v":{"$error":"#NUM!"}},{"$f":"INDEX(Таблица1[Контактное лицо],MATCH($B15,Таблица1[[№ ]],0))","v":{"$error":"#NUM!"}},{"$f":"INDEX(Таблица1[кодировка],MATCH($B15,Таблица1[[№ ]],0))","v":{"$error":"#NUM!"}}]
[null,{"$f":"INDEX(Таблица1[[№ ]],SMALL(IF((Таблица1[Сотрудник]=$D$2)*(Таблица1[Решение по делу]=\"\"),ROW(INDIRECT(\"$A$1:$A$\"&ROWS(Таблица1[#Data])))),ROW(A12)))","v":{"$error":"#NUM!"}},{"$f":"INDEX(Таблица1[[Дата ]],MATCH($B16,Таблица1[[№ ]],0))","v":{"$error":"#NUM!"}},{"$f":"INDEX(Таблица1[Контактное лицо],MATCH($B16,Таблица1[[№ ]],0))","v":{"$error":"#NUM!"}},{"$f":"INDEX(Таблица1[кодировка],MATCH($B16,Таблица1[[№ ]],0))","v":{"$error":"#NUM!"}}]
[null,{"$f":"INDEX(Таблица1[[№ ]],SMALL(IF((Таблица1[Сотрудник]=$D$2)*(Таблица1[Решение по делу]=\"\"),ROW(INDIRECT(\"$A$1:$A$\"&ROWS(Таблица1[#Data])))),ROW(A13)))","v":{"$error":"#NUM!"}},{"$f":"INDEX(Таблица1[[Дата ]],MATCH($B17,Таблица1[[№ ]],0))","v":{"$error":"#NUM!"}},{"$f":"INDEX(Таблица1[Контактное лицо],MATCH($B17,Таблица1[[№ ]],0))","v":{"$error":"#NUM!"}},{"$f":"INDEX(Таблица1[кодировка],MATCH($B17,Таблица1[[№ ]],0))","v":{"$error":"#NUM!"}}]
[]
[]
[]
[null,null,null,"Князина"]
[]
[null,"№","дата ","контактное лицо","Кодировка"]
[null,{"$f":"INDEX(Таблица1[[№ ]],SMALL(IF((Таблица1[Сотрудник]=$D$21)*(Таблица1[Решение по делу]=\"\"),ROW(INDIRECT(\"$A$1:$A$\"&ROWS(Таблица1[#Data])))),ROW(A1)))","v":80618},{"$f":"VLOOKUP($B24,'Список дел'!$A$2:$H$124,4)","v":"2013-11-15"},{"$f":"VLOOKUP($B24,'Список дел'!$A$2:$H$124,6)","v":"Гончаров Андрей Николаевич"},{"$f":"VLOOKUP($B24,'Список дел'!$A$2:$H$124,5)","v":56783}]
[null,{"$f":"INDEX(Таблица1[[№ ]],SMALL(IF((Таблица1[Сотрудник]=$D$21)*(Таблица1[Решение по делу]=\"\"),ROW(INDIRECT(\"$A$1:$A$\"&ROWS(Таблица1[#Data])))),ROW(A2)))","v":{"$error":"#NUM!"}},{"$f":"VLOOKUP($B25,'Список дел'!$A$2:$H$124,4)","v":{"$error":"#NUM!"}},{"$f":"VLOOKUP($B25,'Список дел'!$A$2:$H$124,6)","v":{"$error":"#NUM!"}},{"$f":"VLOOKUP($B25,'Список дел'!$A$2:$H$124,5)","v":{"$error":"#NUM!"}}]
[null,{"$f":"INDEX(Таблица1[[№ ]],SMALL(IF((Таблица1[Сотрудник]=$D$21)*(Таблица1[Решение по делу]=\"\"),ROW(INDIRECT(\"$A$1:$A$\"&ROWS(Таблица1[#Data])))),ROW(A3)))","v":{"$error":"#NUM!"}},{"$f":"VLOOKUP($B26,'Список дел'!$A$2:$H$124,4)","v":{"$error":"#NUM!"}},{"$f":"VLOOKUP($B26,'Список дел'!$A$2:$H$124,6)","v":{"$error":"#NUM!"}},{"$f":"VLOOKUP($B26,'Список дел'!$A$2:$H$124,5)","v":{"$error":"#NUM!"}}]
[null,{"$f":"INDEX(Таблица1[[№ ]],SMALL(IF((Таблица1[Сотрудник]=$D$21)*(Таблица1[Решение по делу]=\"\"),ROW(INDIRECT(\"$A$1:$A$\"&ROWS(Таблица1[#Data])))),ROW(A4)))","v":{"$error":"#NUM!"}},{"$f":"VLOOKUP($B27,'Список дел'!$A$2:$H$124,4)","v":{"$error":"#NUM!"}},{"$f":"VLOOKUP($B27,'Список дел'!$A$2:$H$124,6)","v":{"$error":"#NUM!"}},{"$f":"VLOOKUP($B27,'Список дел'!$A$2:$H$124,5)","v":{"$error":"#NUM!"}}]
[null,{"$f":"INDEX(Таблица1[[№ ]],SMALL(IF((Таблица1[Сотрудник]=$D$21)*(Таблица1[Решение по делу]=\"\"),ROW(INDIRECT(\"$A$1:$A$\"&ROWS(Таблица1[#Data])))),ROW(A5)))","v":{"$error":"#NUM!"}},{"$f":"VLOOKUP($B28,'Список дел'!$A$2:$H$124,4)","v":{"$error":"#NUM!"}},{"$f":"VLOOKUP($B28,'Список дел'!$A$2:$H$124,6)","v":{"$error":"#NUM!"}},{"$f":"VLOOKUP($B28,'Список дел'!$A$2:$H$124,5)","v":{"$error":"#NUM!"}}]
[null,{"$f":"INDEX(Таблица1[[№ ]],SMALL(IF((Таблица1[Сотрудник]=$D$21)*(Таблица1[Решение по делу]=\"\"),ROW(INDIRECT(\"$A$1:$A$\"&ROWS(Таблица1[#Data])))),ROW(A6)))","v":{"$error":"#NUM!"}},{"$f":"VLOOKUP($B29,'Список дел'!$A$2:$H$124,4)","v":{"$error":"#NUM!"}},{"$f":"VLOOKUP($B29,'Список дел'!$A$2:$H$124,6)","v":{"$error":"#NUM!"}},{"$f":"VLOOKUP($B29,'Список дел'!$A$2:$H$124,5)","v":{"$error":"#NUM!"}}]
[null,{"$f":"INDEX(Таблица1[[№ ]],SMALL(IF((Таблица1[Сотрудник]=$D$21)*(Таблица1[Решение по делу]=\"\"),ROW(INDIRECT(\"$A$1:$A$\"&ROWS(Таблица1[#Data])))),ROW(A7)))","v":{"$error":"#NUM!"}},{"$f":"VLOOKUP($B30,'Список дел'!$A$2:$H$124,4)","v":{"$error":"#NUM!"}},{"$f":"VLOOKUP($B30,'Список дел'!$A$2:$H$124,6)","v":{"$error":"#NUM!"}},{"$f":"VLOOKUP($B30,'Список дел'!$A$2:$H$124,5)","v":{"$error":"#NUM!"}}]
[null,{"$f":"INDEX(Таблица1[[№ ]],SMALL(IF((Таблица1[Сотрудник]=$D$21)*(Таблица1[Решение по делу]=\"\"),ROW(INDIRECT(\"$A$1:$A$\"&ROWS(Таблица1[#Data])))),ROW(A8)))","v":{"$error":"#NUM!"}},{"$f":"VLOOKUP($B31,'Список дел'!$A$2:$H$124,4)","v":{"$error":"#NUM!"}},{"$f":"VLOOKUP($B31,'Список дел'!$A$2:$H$124,6)","v":{"$error":"#NUM!"}},{"$f":"VLOOKUP($B31,'Список дел'!$A$2:$H$124,5)","v":{"$error":"#NUM!"}}]
[null,{"$f":"INDEX(Таблица1[[№ ]],SMALL(IF((Таблица1[Сотрудник]=$D$21)*(Таблица1[Решение по делу]=\"\"),ROW(INDIRECT(\"$A$1:$A$\"&ROWS(Таблица1[#Data])))),ROW(A9)))","v":{"$error":"#NUM!"}},{"$f":"VLOOKUP($B32,'Список дел'!$A$2:$H$124,4)","v":{"$error":"#NUM!"}},{"$f":"VLOOKUP($B32,'Список дел'!$A$2:$H$124,6)","v":{"$error":"#NUM!"}},{"$f":"VLOOKUP($B32,'Список дел'!$A$2:$H$124,5)","v":{"$error":"#NUM!"}}]
[null,{"$f":"INDEX(Таблица1[[№ ]],SMALL(IF((Таблица1[Сотрудник]=$D$21)*(Таблица1[Решение по делу]=\"\"),ROW(INDIRECT(\"$A$1:$A$\"&ROWS(Таблица1[#Data])))),ROW(A10)))","v":{"$error":"#NUM!"}},{"$f":"VLOOKUP($B33,'Список дел'!$A$2:$H$124,4)","v":{"$error":"#NUM!"}},{"$f":"VLOOKUP($B33,'Список дел'!$A$2:$H$124,6)","v":{"$error":"#NUM!"}},{"$f":"VLOOKUP($B33,'Список дел'!$A$2:$H$124,5)","v":{"$error":"#NUM!"}}]
[null,{"$f":"INDEX(Таблица1[[№ ]],SMALL(IF((Таблица1[Сотрудник]=$D$21)*(Таблица1[Решение по делу]=\"\"),ROW(INDIRECT(\"$A$1:$A$\"&ROWS(Таблица1[#Data])))),ROW(A11)))","v":{"$error":"#NUM!"}},{"$f":"VLOOKUP($B34,'Список дел'!$A$2:$H$124,4)","v":{"$error":"#NUM!"}},{"$f":"VLOOKUP($B34,'Список дел'!$A$2:$H$124,6)","v":{"$error":"#NUM!"}},{"$f":"VLOOKUP($B34,'Список дел'!$A$2:$H$124,5)","v":{"$error":"#NUM!"}}]
[null,{"$f":"INDEX(Таблица1[[№ ]],SMALL(IF((Таблица1[Сотрудник]=$D$21)*(Таблица1[Решение по делу]=\"\"),ROW(INDIRECT(\"$A$1:$A$\"&ROWS(Таблица1[#Data])))),ROW(A12)))","v":{"$error":"#NUM!"}},{"$f":"VLOOKUP($B35,'Список дел'!$A$2:$H$124,4)","v":{"$error":"#NUM!"}},{"$f":"VLOOKUP($B35,'Список дел'!$A$2:$H$124,6)","v":{"$error":"#NUM!"}},{"$f":"VLOOKUP($B35,'Список дел'!$A$2:$H$124,5)","v":{"$error":"#NUM!"}}]
[null,{"$f":"INDEX(Таблица1[[№ ]],SMALL(IF((Таблица1[Сотрудник]=$D$21)*(Таблица1[Решение по делу]=\"\"),ROW(INDIRECT(\"$A$1:$A$\"&ROWS(Таблица1[#Data])))),ROW(A13)))","v":{"$error":"#NUM!"}},{"$f":"VLOOKUP($B36,'Список дел'!$A$2:$H$124,4)","v":{"$error":"#NUM!"}},{"$f":"VLOOKUP($B36,'Список дел'!$A$2:$H$124,6)","v":{"$error":"#NUM!"}},{"$f":"VLOOKUP($B36,'Список дел'!$A$2:$H$124,5)","v":{"$error":"#NUM!"}}]
[]
[]
[null,null,null,"Балабанов"]
[]
[null,"№","дата ","контактное лицо","Кодировка"]
[null,{"$f":"INDEX(Таблица1[[№ ]],SMALL(IF((Таблица1[Сотрудник]=$D$39)*(Таблица1[Решение по делу]=\"\"),ROW(INDIRECT(\"$A$1:$A$\"&ROWS(Таблица1[#Data])))),ROW(A1)))","v":{"$error":"#VALUE!"}},{"$f":"VLOOKUP($B42,'Список дел'!$A$2:$H$124,4)","v":{"$error":"#VALUE!"}},{"$f":"VLOOKUP($B42,'Список дел'!$A$2:$H$124,6)","v":{"$error":"#VALUE!"}},{"$f":"VLOOKUP($B42,'Список дел'!$A$2:$H$124,5)","v":{"$error":"#VALUE!"}}]
[null,{"$f":"INDEX(Таблица1[[№ ]],SMALL(IF((Таблица1[Сотрудник]=$D$39)*(Таблица1[Решение по делу]=\"\"),ROW(INDIRECT(\"$A$1:$A$\"&ROWS(Таблица1[#Data])))),ROW(A2)))","v":{"$error":"#VALUE!"}},{"$f":"VLOOKUP($B43,'Список дел'!$A$2:$H$124,4)","v":{"$error":"#VALUE!"}},{"$f":"VLOOKUP($B43,'Список дел'!$A$2:$H$124,6)","v":{"$error":"#VALUE!"}},{"$f":"VLOOKUP($B43,'Список дел'!$A$2:$H$124,5)","v":{"$error":"#VALUE!"}}]
[null,{"$f":"INDEX(Таблица1[[№ ]],SMALL(IF((Таблица1[Сотрудник]=$D$39)*(Таблица1[Решение по делу]=\"\"),ROW(INDIRECT(\"$A$1:$A$\"&ROWS(Таблица1[#Data])))),ROW(A3)))","v":{"$error":"#VALUE!"}},{"$f":"VLOOKUP($B44,'Список дел'!$A$2:$H$124,4)","v":{"$error":"#VALUE!"}},{"$f":"VLOOKUP($B44,'Список дел'!$A$2:$H$124,6)","v":{"$error":"#VALUE!"}},{"$f":"VLOOKUP($B44,'Список дел'!$A$2:$H$124,5)","v":{"$error":"#VALUE!"}}]
[null,{"$f":"INDEX(Таблица1[[№ ]],SMALL(IF((Таблица1[Сотрудник]=$D$39)*(Таблица1[Решение по делу]=\"\"),ROW(INDIRECT(\"$A$1:$A$\"&ROWS(Таблица1[#Data])))),ROW(A4)))","v":{"$error":"#VALUE!"}},{"$f":"VLOOKUP($B45,'Список дел'!$A$2:$H$124,4)","v":{"$error":"#VALUE!"}},{"$f":"VLOOKUP($B45,'Список дел'!$A$2:$H$124,6)","v":{"$error":"#VALUE!"}},{"$f":"VLOOKUP($B45,'Список дел'!$A$2:$H$124,5)","v":{"$error":"#VALUE!"}}]
[null,{"$f":"INDEX(Таблица1[[№ ]],SMALL(IF((Таблица1[Сотрудник]=$D$39)*(Таблица1[Решение по делу]=\"\"),ROW(INDIRECT(\"$A$1:$A$\"&ROWS(Таблица1[#Data])))),ROW(A5)))","v":{"$error":"#VALUE!"}},{"$f":"VLOOKUP($B46,'Список дел'!$A$2:$H$124,4)","v":{"$error":"#VALUE!"}},{"$f":"VLOOKUP($B46,'Список дел'!$A$2:$H$124,6)","v":{"$error":"#VALUE!"}},{"$f":"VLOOKUP($B46,'Список дел'!$A$2:$H$124,5)","v":{"$error":"#VALUE!"}}]
[null,{"$f":"INDEX(Таблица1[[№ ]],SMALL(IF((Таблица1[Сотрудник]=$D$39)*(Таблица1[Решение по делу]=\"\"),ROW(INDIRECT(\"$A$1:$A$\"&ROWS(Таблица1[#Data])))),ROW(A6)))","v":{"$error":"#VALUE!"}},{"$f":"VLOOKUP($B47,'Список дел'!$A$2:$H$124,4)","v":{"$error":"#VALUE!"}},{"$f":"VLOOKUP($B47,'Список дел'!$A$2:$H$124,6)","v":{"$error":"#VALUE!"}},{"$f":"VLOOKUP($B47,'Список дел'!$A$2:$H$124,5)","v":{"$error":"#VALUE!"}}]
[null,{"$f":"INDEX(Таблица1[[№ ]],SMALL(IF((Таблица1[Сотрудник]=$D$39)*(Таблица1[Решение по делу]=\"\"),ROW(INDIRECT(\"$A$1:$A$\"&ROWS(Таблица1[#Data])))),ROW(A7)))","v":{"$error":"#VALUE!"}},{"$f":"VLOOKUP($B48,'Список дел'!$A$2:$H$124,4)","v":{"$error":"#VALUE!"}},{"$f":"VLOOKUP($B48,'Список дел'!$A$2:$H$124,6)","v":{"$error":"#VALUE!"}},{"$f":"VLOOKUP($B48,'Список дел'!$A$2:$H$124,5)","v":{"$error":"#VALUE!"}}]
[null,{"$f":"INDEX(Таблица1[[№ ]],SMALL(IF((Таблица1[Сотрудник]=$D$39)*(Таблица1[Решение по делу]=\"\"),ROW(INDIRECT(\"$A$1:$A$\"&ROWS(Таблица1[#Data])))),ROW(A8)))","v":{"$error":"#VALUE!"}},{"$f":"VLOOKUP($B49,'Список дел'!$A$2:$H$124,4)","v":{"$error":"#VALUE!"}},{"$f":"VLOOKUP($B49,'Список дел'!$A$2:$H$124,6)","v":{"$error":"#VALUE!"}},{"$f":"VLOOKUP($B49,'Список дел'!$A$2:$H$124,5)","v":{"$error":"#VALUE!"}}]
[null,{"$f":"INDEX(Таблица1[[№ ]],SMALL(IF((Таблица1[Сотрудник]=$D$39)*(Таблица1[Решение по делу]=\"\"),ROW(INDIRECT(\"$A$1:$A$\"&ROWS(Таблица1[#Data])))),ROW(A9)))","v":{"$error":"#VALUE!"}},{"$f":"VLOOKUP($B50,'Список дел'!$A$2:$H$124,4)","v":{"$error":"#VALUE!"}},{"$f":"VLOOKUP($B50,'Список дел'!$A$2:$H$124,6)","v":{"$error":"#VALUE!"}},{"$f":"VLOOKUP($B50,'Список дел'!$A$2:$H$124,5)","v":{"$error":"#VALUE!"}}]
[null,{"$f":"INDEX(Таблица1[[№ ]],SMALL(IF((Таблица1[Сотрудник]=$D$39)*(Таблица1[Решение по делу]=\"\"),ROW(INDIRECT(\"$A$1:$A$\"&ROWS(Таблица1[#Data])))),ROW(A10)))","v":{"$error":"#VALUE!"}},{"$f":"VLOOKUP($B51,'Список дел'!$A$2:$H$124,4)","v":{"$error":"#VALUE!"}},{"$f":"VLOOKUP($B51,'Список дел'!$A$2:$H$124,6)","v":{"$error":"#VALUE!"}},{"$f":"VLOOKUP($B51,'Список дел'!$A$2:$H$124,5)","v":{"$error":"#VALUE!"}}]
[null,{"$f":"INDEX(Таблица1[[№ ]],SMALL(IF((Таблица1[Сотрудник]=$D$39)*(Таблица1[Решение по делу]=\"\"),ROW(INDIRECT(\"$A$1:$A$\"&ROWS(Таблица1[#Data])))),ROW(A11)))","v":{"$error":"#VALUE!"}},{"$f":"VLOOKUP($B52,'Список дел'!$A$2:$H$124,4)","v":{"$error":"#VALUE!"}},{"$f":"VLOOKUP($B52,'Список дел'!$A$2:$H$124,6)","v":{"$error":"#VALUE!"}},{"$f":"VLOOKUP($B52,'Список дел'!$A$2:$H$124,5)","v":{"$error":"#VALUE!"}}]
[null,{"$f":"INDEX(Таблица1[[№ ]],SMALL(IF((Таблица1[Сотрудник]=$D$39)*(Таблица1[Решение по делу]=\"\"),ROW(INDIRECT(\"$A$1:$A$\"&ROWS(Таблица1[#Data])))),ROW(A12)))","v":{"$error":"#VALUE!"}},{"$f":"VLOOKUP($B53,'Список дел'!$A$2:$H$124,4)","v":{"$error":"#VALUE!"}},{"$f":"VLOOKUP($B53,'Список дел'!$A$2:$H$124,6)","v":{"$error":"#VALUE!"}},{"$f":"VLOOKUP($B53,'Список дел'!$A$2:$H$124,5)","v":{"$error":"#VALUE!"}}]
[null,{"$f":"INDEX(Таблица1[[№ ]],SMALL(IF((Таблица1[Сотрудник]=$D$39)*(Таблица1[Решение по делу]=\"\"),ROW(INDIRECT(\"$A$1:$A$\"&ROWS(Таблица1[#Data])))),ROW(A13)))","v":{"$error":"#VALUE!"}},{"$f":"VLOOKUP($B54,'Список дел'!$A$2:$H$124,4)","v":{"$error":"#VALUE!"}},{"$f":"VLOOKUP($B54,'Список дел'!$A$2:$H$124,6)","v":{"$error":"#VALUE!"}},{"$f":"VLOOKUP($B54,'Список дел'!$A$2:$H$124,5)","v":{"$error":"#VALUE!"}}]