{"text_format":"1","workbook":"xlsx","n_sheets":2,"sheets":["Перечень ","неделя"],"not_rendered":{"charts":0,"images":0,"macros":1,"external_links":0,"defined_names":1,"comments":0,"pivot_tables":0},"unopened":[],"bounds":{"document_bytes":16777216,"sheet_cells":100000,"rows_first":2000,"rows_last":500,"rows_between":2000,"halvings":0,"cell_chars":16384,"cell_head_chars":4096},"cells_cut":0,"cells_raw":0,"read":"whole","date_system":"1900"}

{"sheet":"Перечень ","index":0,"n_rows":28,"n_cols":11,"rows_kept":28,"cut":false,"hidden":false,"merged":[[2,6,2,7],[1,5,2,5],[1,0,2,0],[1,1,2,1],[1,2,2,2],[1,4,2,4],[1,3,2,3]]}
[null,"\uffff\uffff",null,null,null,"ПРИЛОЖЕНИЕ 2",{"$f":"TODAY()","v":"2017-06-03"},"2кв",{"$f":"DATE(YEAR(TODAY())-1,MONTH(TODAY())-1,1)","v":"2016-05-01"}]
["№ п/п","Наименование","Периодичность","Сроки представления","Краткое наименование","Дата",null,1,"DO1C14"]
[null,null,null,null,null,null,"ответственный",null,"DO1C14_name8_w_17_22_V001"]
[1,"наименование 1","_m","до 13 ч.м. СЗОП","name1","2017-07-13",null,null,{"$f":"$I$2 & \"_\" & E4 & C4 & \"_\" & TEXT(TODAY(),\"ГГ\") & \"_\" & TEXT($I$1,\"ММ\") & \"_V001\"","v":"DO1C14_name1_m_17_05_V001"}]
[2,"наименование 1","_d","до 18.00 (МСК) отчетного дня","name2","2017-06-12",null,null,{"$f":"$I$2 & \"_\" & E5 & C5 & \"_\" & TEXT(TODAY(),\"ГГ\") & \"_\" & TEXT(TODAY(),\"ДДММ\") & \"_V001\"","v":"DO1C14_name2_d_17_0306_V001"}]
[3,"наименование 1","_q","до 20 ч.м. СЗОП","name3","2017-07-20",null,null,{"$f":"$I$2 & \"_\" & E6 & C6 & \"_\" & TEXT(TODAY(),\"ГГ\") & \"_\" & $H$1 & \"_V001\"","v":"DO1C14_name3_q_17_2кв_V001"}]
[4,"наименование 1","_q","до 15 ч.м. СЗОП","name4","2017-07-15",null,null,{"$f":"$I$2 & \"_\" & E7 & C7 & \"_\" & TEXT(TODAY(),\"ГГ\") & \"_\" & $H$1 & \"_V001\"","v":"DO1C14_name4_q_17_2кв_V001"}]
[5,"наименование 1","_w","до 18:00 (МСК) четверга СЗОП","name5","2017-07-15",null,null,{"$f":"$I$2 & \"_\" & E8 & C8 & \"_\" & TEXT(TODAY(),\"ГГ\") & \"_\" & неделя!$B$4 & \"_V001\"","v":"DO1C14_name5_w_17_22_V001"}]
[6,"наименование 1","_w","понедельник отчетной недели","name6","2017-06-12",null,null,{"$f":"$I$2 & \"_\" & E9 & C9 & \"_\" & TEXT(TODAY(),\"ГГ\") & \"_\" & неделя!$B$4 & \"_V001\"","v":"DO1C14_name6_w_17_22_V001"}]
[7,"наименование 1","_w","среда СЗОП","name7","2017-06-14",null,null,{"$f":"$I$2 & \"_\" & E10 & C10 & \"_\" & TEXT(TODAY(),\"ГГ\") & \"_\" & неделя!$B$4 & \"_V001\"","v":"DO1C14_name7_w_17_22_V001"}]
[8,"наименование 1","_w","понедельник СЗОП","name8","2017-06-12",null,null,{"$f":"$I$2 & \"_\" & E11 & C11 & \"_\" & TEXT(TODAY(),\"ГГ\") & \"_\" & неделя!$B$4 & \"_V001\"","v":"DO1C14_name8_w_17_22_V001"}]
[9,"наименование 1","_q","до 29 ч.м. СЗОП","name9","2017-07-31",null,null,{"$f":"$I$2 & \"_\" & E12 & C12 & \"_\" & TEXT(TODAY(),\"ГГ\") & \"_\" & $H$1 & \"_V001\"","v":"DO1C14_name9_q_17_2кв_V001"}]
[10,"наименование 1","_m","до 7 ч.м. СЗОП","name10","2017-06-07",null,null,{"$f":"$I$2 & \"_\" & E13 & C13 & \"_\" & TEXT(TODAY(),\"ГГ\") & \"_\" & TEXT($I$1,\"ММ\") & \"_V001\"","v":"DO1C14_name10_m_17_05_V001"}]
[11,"наименование 1","_m","до 10 ч.м. СЗОП","name11","2017-06-10",null,null,{"$f":"$I$2 & \"_\" & E14 & C14 & \"_\" & TEXT(TODAY(),\"ГГ\") & \"_\" & TEXT($I$1,\"ММ\") & \"_V001\"","v":"DO1C14_name11_m_17_05_V001"}]
[12,"наименование 1","_m","до 7 ч.м. СЗОП","name12","2017-06-07",null,null,{"$f":"$I$2 & \"_\" & E15 & C15 & \"_\" & TEXT(TODAY(),\"ГГ\") & \"_\" & TEXT($I$1,\"ММ\") & \"_V001\"","v":"DO1C14_name12_m_17_05_V001"}]
[13,"наименование 1","_m","до 7 ч.м. СЗОП","name13","2017-06-07",null,null,{"$f":"$I$2 & \"_\" & E16 & C16 & \"_\" & TEXT(TODAY(),\"ГГ\") & \"_\" & TEXT($I$1,\"ММ\") & \"_V001\"","v":"DO1C14_name13_m_17_05_V001"},null,"\uffff\uffff"]
[14,"наименование 1","_q","до 7 ч.м. СЗОП","name14","2017-06-07",null,null,{"$f":"$I$2 & \"_\" & E17 & C17 & \"_\" & TEXT(TODAY(),\"ГГ\") & \"_\" & $H$1 & \"_V001\"","v":"DO1C14_name14_q_17_2кв_V001"}]
[15,"наименование 1","_q","до 7 ч.м. СЗОП","name15","2017-06-07",null,null,{"$f":"$I$2 & \"_\" & E18 & C18 & \"_\" & TEXT(TODAY(),\"ГГ\") & \"_\" & $H$1 & \"_V001\"","v":"DO1C14_name15_q_17_2кв_V001"}]
[16,"наименование 1","_w","до 11:00 понедельника СЗОП","name16","2017-06-12",null,null,{"$f":"$I$2 & \"_\" & E19 & C19 & \"_\" & TEXT(TODAY(),\"ГГ\") & \"_\" & неделя!$B$4 & \"_V001\"","v":"DO1C14_name16_w_17_22_V001"}]
[17,"наименование 1","_w","до 12:00 вторника СЗОП","name17","2017-06-13",null,null,{"$f":"$I$2 & \"_\" & E20 & C20 & \"_\" & TEXT(TODAY(),\"ГГ\") & \"_\" & неделя!$B$4 & \"_V001\"","v":"DO1C14_name17_w_17_22_V001"}]
[18,"наименование 1","_h","до 15 ч.м. СЗОП","name18","2017-07-15",null,null,{"$f":"$I$2 & \"_\" & E21 & C21 & \"_\" & TEXT(TODAY(),\"ГГ\") & \"_\" & $H$2 & \"_V001\"","v":"DO1C14_name18_h_17_1_V001"}]
[19,"наименование 1","_y","В сроки годового отчета","name19","В сроки годового отчета",null,null,{"$f":"$I$2 & \"_\" & E22 & C22 & \"_\" & TEXT($I$1,\"ГГ\") & \"_V001\"","v":"DO1C14_name19_y_16_V001"}]
[20,"наименование 1","_h","до 20 ч.м. СЗОП","name20","В сроки годового отчета",null,null,{"$f":"$I$2 & \"_\" & E23 & C23 & \"_\" & TEXT(TODAY(),\"ГГ\") & \"_\" & $H$2 & \"_V001\"","v":"DO1C14_name20_h_17_1_V001"}]
[21,"наименование 1","_q","до 28 ч.м. СЗОП, годовая – в срок годового отчета. ","name21","В сроки годового отчета",null,null,{"$f":"$I$2 & \"_\" & E24 & C24 & \"_\" & TEXT(TODAY(),\"ГГ\") & \"_\" & $H$1 & \"_V001\"","v":"DO1C14_name21_q_17_2кв_V001"}]
[22,"наименование 1","_w","до 12:00 среды СЗОП","name22","2017-06-14",null,null,{"$f":"$I$2 & \"_\" & E25 & C25 & \"_\" & TEXT(TODAY(),\"ГГ\") & \"_\" & неделя!$B$4 & \"_V001\"","v":"DO1C14_name22_w_17_22_V001"}]
[23,"наименование 1","_w","до 12:00 среды СЗОП","name23","2017-06-14",null,null,{"$f":"$I$2 & \"_\" & E26 & C26 & \"_\" & TEXT(TODAY(),\"ГГ\") & \"_\" & неделя!$B$4 & \"_V001\"","v":"DO1C14_name23_w_17_22_V001"}]
[24,"наименование 1","_m","до 15 ч.м. СЗОП","name24","2017-06-15",null,null,{"$f":"$I$2 & \"_\" & E27 & C27 & \"_\" & TEXT(TODAY(),\"ГГ\") & \"_\" & TEXT($I$1,\"ММ\") & \"_V001\"","v":"DO1C14_name24_m_17_05_V001"}]
[25,"наименование 1","_m","до 08 ч.м. СЗОП - ожид. \nдо 28 ч.м. СЗОП - факт","name25","2017-06-28",null,null,{"$f":"$I$2 & \"_\" & E28 & C28 & \"_\" & TEXT(TODAY(),\"ГГ\") & \"_\" & TEXT($I$1,\"ММ\") & \"_V001\"","v":"DO1C14_name25_m_17_05_V001"}]

{"sheet":"неделя","index":1,"n_rows":7,"n_cols":3,"rows_kept":7,"cut":false,"hidden":false,"merged":[]}
[]
[null,null,{"$f":"WEEKDAY(DATE(B3,1,1),11)","v":7}]
[null,{"$f":"YEAR(TODAY())","v":2017},{"$f":"DATE(B3,1,C2+3)","v":"2017-01-10"}]
[null,{"$f":"INT(C4/7)+2","v":22},{"$f":"TODAY()-C3","v":144}]
[]
[{"$f":"WEEKDAY(TODAY(),2)","v":6},{"$f":"TODAY()-A6+1","v":"2017-05-29"},{"$f":"B6+6","v":"2017-06-04"}]
[null,{"$f":"B6-7","v":"2017-05-22"},{"$f":"C6-7","v":"2017-05-28"}]