{"text_format":"1","workbook":"xlsx","n_sheets":3,"sheets":["ОСНОВНОЙ ТАБЕЛЬ (2)","норма","ТАБЛИЦА"],"not_rendered":{"charts":0,"images":0,"macros":1,"external_links":0,"defined_names":3,"comments":1,"pivot_tables":0},"unopened":[],"bounds":{"document_bytes":16777216,"sheet_cells":100000,"rows_first":2000,"rows_last":500,"rows_between":2000,"halvings":0,"cell_chars":16384,"cell_head_chars":4096},"cells_cut":0,"cells_raw":0,"read":"whole","date_system":"1900"}

{"sheet":"ОСНОВНОЙ ТАБЕЛЬ (2)","index":0,"n_rows":18,"n_cols":72,"rows_kept":18,"cut":false,"hidden":false,"merged":[[11,71,12,74],[9,71,10,78],[0,2,1,12],[0,13,1,19],[0,20,1,21],[0,22,0,28],[0,29,0,35],[0,47,0,52],[0,53,0,58],[1,22,1,28],[1,29,1,35],[1,47,1,49],[1,50,1,52],[1,53,1,55],[1,56,1,58],[0,36,0,46],[7,71,8,71],[6,15,6,30],[6,2,8,3],[6,4,8,5],[6,14,8,14],[6,12,8,13],[6,6,8,11],[6,65,8,70],[7,60,7,64],[8,60,8,64],[6,43,8,46],[6,39,8,42],[6,35,8,38],[6,31,8,34],[6,47,8,50],[6,51,8,54],[7,55,7,59],[8,55,8,59],[6,55,6,64],[9,2,10,3],[9,14,10,14],[9,12,10,13],[9,4,10,5],[11,4,12,5],[11,14,12,14],[9,6,10,11],[13,12,14,13],[9,35,10,38],[11,6,12,11],[13,6,14,11],[13,35,14,38],[9,31,10,34],[11,31,12,34],[13,31,14,34],[17,2,18,3],[17,14,18,14],[15,2,16,3],[15,4,16,5],[15,14,16,14],[15,12,16,13],[17,12,18,13],[17,4,18,5],[13,2,14,3],[13,4,14,5],[13,14,14,14],[2,4,2,70],[3,19,3,28],[3,29,3,42],[4,23,4,29],[4,34,4,38],[11,65,12,70],[15,51,16,54],[17,35,18,38],[17,43,18,46],[17,47,18,50],[17,51,18,54],[11,35,12,38],[11,43,12,46],[11,47,12,50],[13,65,14,70],[11,12,12,13],[9,55,10,59],[9,60,10,64],[11,55,12,59],[11,60,12,64],[13,55,14,59],[13,60,14,64],[11,51,12,54],[13,43,14,46],[15,31,16,34],[9,65,10,70],[17,31,18,34],[15,35,16,38],[15,43,16,46],[15,47,16,50],[15,65,16,70],[15,55,16,59],[15,60,16,64],[17,55,18,59],[17,60,18,64],[17,65,18,70],[13,47,14,50],[13,51,14,54],[9,39,10,42],[9,43,10,46],[9,47,10,50],[9,51,10,54]]}
[null,null,"ОТЧЁТНЫЙ ПЕРИОД",null,null,null,null,null,null,null,null,null,null,{"$f":"--(1&\"/\"&U1&\"/\"&норма!$A$1)","v":"2018-04-01"},null,null,null,null,null,null,4,null,"Рабочий выходной день",null,null,null,null,null,null,"Предпраздничный",null,null,null,null,null,null,"Праздничные",null,null,null,null,null,null,null,null,null,null,"Муж.график",null,null,null,null,null,"Жен.график",null,null,null,null,null,8]
[null,null,null,null,null,null,null,null,null,null,null,null,null,null,null,null,null,null,null,null,null,null,{"$f":"IFERROR(--(INDEX(норма!$P$3:$P$14,$U1)&\"/\"&$U1),\"\")","v":"2018-04-28"},null,null,null,null,null,null,{"$f":"IFERROR(--(INDEX(норма!$M$3:$M$14,$U1)&\"/\"&$U1),\"\")","v":"2018-04-28"},null,null,null,null,null,null,{"$f":"IFERROR(--(INDEX(норма!$D$3:$D$14,$U1)&\"/\"&$U1),\"\")","v":""},{"$f":"IFERROR(--(INDEX(норма!$E$3:$E$14,$U1)&\"/\"&$U1),\"\")","v":"2018-04-30"},{"$f":"IFERROR(--(INDEX(норма!$F$3:$F$14,$U1)&\"/\"&$U1),\"\")","v":""},{"$f":"IFERROR(--(INDEX(норма!$G$3:$G$14,$U1)&\"/\"&$U1),\"\")","v":""},{"$f":"IFERROR(--(INDEX(норма!$H$3:$H$14,$U1)&\"/\"&$U1),\"\")","v":""},{"$f":"IFERROR(--(INDEX(норма!$I$3:$I$14,$U1)&\"/\"&$U1),\"\")","v":""},{"$f":"IFERROR(--(INDEX(норма!$J$3:$J$14,$U1)&\"/\"&$U1),\"\")","v":""},{"$f":"IFERROR(--(INDEX(норма!$K$3:$K$14,$U1)&\"/\"&$U1),\"\")","v":""},{"$f":"IFERROR(--(INDEX(норма!$L$3:$L$14,$U1)&\"/\"&$U1),\"\")","v":""},null,null,{"$f":"VLOOKUP($U$1,норма!$B$19:$G$30,3,FALSE)&  CONCATENATE(\" д\")","v":"21 д"},null,null,{"$f":"VLOOKUP($U$1,норма!$B$19:$G$30,4,FALSE)&  CONCATENATE(\" ч\")","v":"167 ч"},null,null,{"$f":"VLOOKUP($U$1,норма!$B$19:$G$30,5,FALSE)&  CONCATENATE(\" д\")","v":"21 д"},null,null,{"$f":"VLOOKUP($U$1,норма!$B$19:$G$30,6,FALSE)&  CONCATENATE(\" ч\")","v":"150 ч"}]
[null,null,null,null,"Т А Б Е Л Ь"]
[null,null,null,null,null,null,null,null,null,null,null,null,null,null,null,null,null,null,null,"рабочего времени "]
[null,null,null,null,null,null,null,null,null,null,null,null,null,null,null,null,null,null,null,null,null,null,"за",{"$f":"N1","v":"2018-04-01"},null,null,null,null,null,null,"месяц",null,null,null,{"$f":"N1","v":"2018-04-01"},null,null,null,null,"г."]
[]
[null,null,null,null,"№ п/п",null,null,null,null,null,null,null,"Таб. \n№\n",null,"Специальность","ДНИ И ЧИСЛА РАБОТЫ",null,null,null,null,null,null,null,null,null,null,null,null,null,null,null,"Основное рабочее время",null,null,null,"Переработка\nВ/О 187",null,null,null,"Отггулы",null,null,null,"Σ\nрабочее\nвремя",null,null,null,"Ночное\nвремя",null,null,null,"Празд.\nвремя",null,null,null,"Сменность",null,null,null,null,null,null,null,null,null,"В/О\n219"]
[null,null,null,null,null,null,null,null,null,null,null,null,null,null,null,{"$f":"N1","v":"2018-04-01"},{"$f":"P8+1","v":"2018-04-02"},{"$f":"Q8+1","v":"2018-04-03"},"2018-04-04","2018-04-05","2018-04-06",{"$f":"U8+1","v":"2018-04-07"},"2018-04-08","2018-04-09","2018-04-10","2018-04-11","2018-04-12","2018-04-13","2018-04-14","2018-04-15",null,null,null,null,null,null,null,null,null,null,null,null,null,null,null,null,null,null,null,null,null,null,null,null,null,"8 ч.",null,null,null,null,"12 ч."]
[null,null,null,null,null,null,null,null,null,null,null,null,null,null,null,{"$f":"AD8+1","v":"2018-04-16"},{"$f":"P9+1","v":"2018-04-17"},{"$f":"Q9+1","v":"2018-04-18"},{"$f":"R9+1","v":"2018-04-19"},{"$f":"S9+1","v":"2018-04-20"},{"$f":"T9+1","v":"2018-04-21"},{"$f":"U9+1","v":"2018-04-22"},"2018-04-23","2018-04-24","2018-04-25","2018-04-26",{"$f":"Z9+1","v":"2018-04-27"},{"$f":"AA9+1","v":"2018-04-28"},{"$f":"IF(DAY(AB$9+1)>DAY($AB9),$AB9+1,\"\")","v":"2018-04-29"},{"$f":"IF(DAY(AB$9+2)>DAY($AB9),$AB9+2,\"\")","v":"2018-04-30"},{"$f":"IF(DAY(AB$9+3)>DAY($AB9),$AB9+3,\"\")","v":""},null,null,null,null,null,null,null,null,null,null,null,null,null,null,null,null,null,null,null,null,null,null,null,null,{"$f":"SUM(BD10:BH19)","v":24},null,null,null,null,{"$f":"SUM(BI10:BM19)","v":24}]
[null,null,null,null,1,null,"Иванов И.И.",null,null,null,null,null,111,null,"Рабочий",null,"16/2","8/6",null,"16/2","8/6",null,"о",null,"16/2","8/6",null,"16/2","8/6",null,null,{"$f":"IF(M10>0,VLOOKUP($U$1,норма!$B$19:$G$30,4,FALSE),\"-\")","v":167},null,null,null,null,null,null,null,null,null,null,null,{"$f":"SUMPRODUCT(--TEXT(MID(P10:AE11&\"0\",1,SEARCH(\"/\",SUBSTITUTE(SUBSTITUTE(P10:AE11,\".\",\",\"),\"я\",)&\"0/\")-1),\"0;;0;\\0\"))","v":204},null,null,null,{"$f":"SUM(IFERROR(--MID(P10:AE11,SEARCH(\"/\",P10:AE11)+1,9),0))","v":66},null,null,null,null,null,null,null,{"$f":"COUNTIF(P10:AE11,\"8\")+COUNTIF(P10:AE11,\"8/6\")","v":8},null,null,null,null,{"$f":"COUNTIF(P10:AE11,\"16/2\")","v":8},null,null,null,null,{"$f":"SumTsv(P10:AE11,BH$1)","v":40},null,null,null,null,null,"Пробовал через SumCellsByFontColor(не получилось)\n(сумма красных 16+8+16\"перезд дробью,за / это ушло в ночное\")"]
[null,null,null,null,null,null,null,null,null,null,null,null,null,null,null,"16/2","8/6",null,"12я/2","8/6",null,null,null,"16/2","8/6",null,"16/2","8/6",null,"16/2"]
[null,null,null,null,2,null,"Иванов И.И.",null,null,null,null,null,111,null,"Рабочий",null,"16/2","8/6",null,"16/2","8/6",null,null,null,"16/2","8/6",null,"16/2","8/6",null,null,{"$f":"IF(M12>0,VLOOKUP($U$1,норма!$B$19:$G$30,4,FALSE),\"-\")","v":167},null,null,null,1,null,null,null,null,null,null,null,{"$f":"SUMPRODUCT(--MID(P12:AE13&\"0\",1,SEARCH(\"/\",SUBSTITUTE(SUBSTITUTE(P12:AE13,\".\",\",\"),\"я\",)&\"0/\")-1))","v":204},null,null,null,{"$f":"SUM(IFERROR(--MID(P12:AE13,SEARCH(\"/\",P12:AE13)+1,9),0))","v":66},null,null,null,null,null,null,null,{"$f":"COUNTIF(P12:AE13,\"8\")+COUNTIF(P12:AE13,\"8/6\")","v":8},null,null,null,null,{"$f":"COUNTIF(P12:AE13,\"16/2\")","v":8},null,null,null,null,40,null,null,null,null,null,"должно быть так"]
[null,null,null,null,null,null,null,null,null,null,null,null,null,null,null,"16/2","8/6",null,"12я/2","8/6",null,null,null,"16/2","8/6",null,"16/2","8/6",null,"16/2"]
[null,null,null,null,3,null,"Сидоров С.С.",null,null,null,null,null,113,null,"Рабочий",null,"16/2","8/6",null,"16/2","8/6",null,null,null,"16/2","8/6",null,"16/2","8/6",null,null,{"$f":"IF(M14>0,VLOOKUP($U$1,норма!$B$19:$G$30,4,FALSE),\"-\")","v":167},null,null,null,null,null,null,null,null,null,null,null,{"$f":"SUMPRODUCT(--MID(P14:AE15&\"0\",1,SEARCH(\"/\",SUBSTITUTE(SUBSTITUTE(P14:AE15,\".\",\",\"),\"я\",)&\"0/\")-1))","v":204},null,null,null,{"$f":"SUM(IFERROR(--MID(P14:AE15,SEARCH(\"/\",P14:AE15)+1,9),0))","v":66},null,null,null,null,null,null,null,{"$f":"COUNTIF(P14:AE15,\"8\")+COUNTIF(P14:AE15,\"8/6\")","v":8},null,null,null,null,{"$f":"COUNTIF(P14:AE15,\"16/2\")","v":8}]
[null,null,null,null,null,null,null,null,null,null,null,null,null,null,null,"16/2","8/6",null,"12я/2","8/6",null,null,null,"16/2","8/6",null,"16/2","8/6",null,"16/2"]
[null,null,null,null,4,null,null,null,null,null,null,null,null,null,null,null,null,null,null,null,null,null,null,null,null,null,null,null,null,null,null,{"$f":"IF(M16>0,VLOOKUP($U$1,норма!$B$19:$G$30,4,FALSE),\"-\")","v":"-"},null,null,null,null,null,null,null,null,null,null,null,{"$f":"SUMPRODUCT(--MID(P16:AE17&\"0\",1,SEARCH(\"/\",SUBSTITUTE(SUBSTITUTE(P16:AE17,\".\",\",\"),\"я\",)&\"0/\")-1))","v":0},null,null,null,{"$f":"SUM(IFERROR(--MID(P16:AE17,SEARCH(\"/\",P16:AE17)+1,9),0))","v":0},null,null,null,null,null,null,null,{"$f":"COUNTIF(P16:AE17,\"8\")+COUNTIF(P16:AE17,\"8/6\")","v":0},null,null,null,null,{"$f":"COUNTIF(P16:AE17,\"16/2\")","v":0}]
[]
[null,null,null,null,5,null,null,null,null,null,null,null,null,null,null,null,null,null,null,null,null,null,null,null,null,null,null,null,null,null,null,{"$f":"IF(M18>0,VLOOKUP($U$1,норма!$B$19:$G$30,4,FALSE),\"-\")","v":"-"},null,null,null,null,null,null,null,null,null,null,null,{"$f":"SUMPRODUCT(--MID(P18:AE19&\"0\",1,SEARCH(\"/\",SUBSTITUTE(SUBSTITUTE(P18:AE19,\".\",\",\"),\"я\",)&\"0/\")-1))","v":0},null,null,null,{"$f":"SUM(IFERROR(--MID(P18:AE19,SEARCH(\"/\",P18:AE19)+1,9),0))","v":0},null,null,null,null,null,null,null,{"$f":"COUNTIF(P18:AE19,\"8\")+COUNTIF(P18:AE19,\"8/6\")","v":0},null,null,null,null,{"$f":"COUNTIF(P18:AE19,\"16/2\")","v":0}]

{"sheet":"норма","index":1,"n_rows":30,"n_cols":19,"rows_kept":30,"cut":false,"hidden":false,"merged":[[0,1,0,11],[1,3,1,11],[1,13,13,14],[2,1,4,1],[5,1,7,1],[8,1,10,1],[11,1,13,1],[27,0,29,0],[16,1,16,6],[17,3,17,4],[17,5,17,6],[18,0,20,0],[21,0,23,0],[24,0,26,0]]}
[2018,"Заполняется раз в год",null,null,null,null,null,null,null,null,null,null,null,null,null,null,null,null,"Праздники"]
[null,null,null,"Праздничные",null,null,null,null,null,null,null,null,"Предпраздничные","тут нужно заполнять ТОЛЬКО праздники, которые НЕ в выходные дни.\n",null,"раб вых день",null,null,{"$f":"IFERROR(SMALL(IF(D$3:L$14,--(D$3:L$14&\"/\"&C$3:C$14&\"/\"&A$1)),ROW(S1)),\"\")","v":"2018-01-01"}]
[null,"1 квартал","январь",1,2,3,4,5,8,null,null,null,null,null,null,null,null,null,{"$f":"IFERROR(SMALL(IF(D$3:L$14,--(D$3:L$14&\"/\"&C$3:C$14&\"/\"&A$1)),ROW(S2)),\"\")","v":"2018-01-02"}]
[null,null,"февраль",23,null,null,null,null,null,null,null,null,22,null,null,null,null,null,{"$f":"IFERROR(SMALL(IF(D$3:L$14,--(D$3:L$14&\"/\"&C$3:C$14&\"/\"&A$1)),ROW(S3)),\"\")","v":"2018-01-03"}]
[null,null,"март",8,9,null,null,null,null,null,null,null,7,null,null,null,null,null,{"$f":"IFERROR(SMALL(IF(D$3:L$14,--(D$3:L$14&\"/\"&C$3:C$14&\"/\"&A$1)),ROW(S4)),\"\")","v":"2018-01-04"}]
[null,"2 квартал","апрель",null,30,null,null,null,null,null,null,null,28,null,null,28,null,null,{"$f":"IFERROR(SMALL(IF(D$3:L$14,--(D$3:L$14&\"/\"&C$3:C$14&\"/\"&A$1)),ROW(S5)),\"\")","v":"2018-01-05"}]
[null,null,"май",1,2,9,null,null,null,null,null,null,8,null,null,null,null,null,{"$f":"IFERROR(SMALL(IF(D$3:L$14,--(D$3:L$14&\"/\"&C$3:C$14&\"/\"&A$1)),ROW(S6)),\"\")","v":"2018-01-08"}]
[null,null,"июнь",11,12,null,null,null,null,null,null,null,9,null,null,9,null,null,{"$f":"IFERROR(SMALL(IF(D$3:L$14,--(D$3:L$14&\"/\"&C$3:C$14&\"/\"&A$1)),ROW(S7)),\"\")","v":"2018-02-23"}]
[null,"3 квартал","июль",null,null,null,null,null,null,null,null,null,null,null,null,null,null,null,{"$f":"IFERROR(SMALL(IF(D$3:L$14,--(D$3:L$14&\"/\"&C$3:C$14&\"/\"&A$1)),ROW(S8)),\"\")","v":"2018-03-08"}]
[null,null,"август",null,null,null,null,null,null,null,null,null,null,null,null,null,null,null,{"$f":"IFERROR(SMALL(IF(D$3:L$14,--(D$3:L$14&\"/\"&C$3:C$14&\"/\"&A$1)),ROW(S9)),\"\")","v":"2018-03-09"}]
[null,null,"сентябрь",null,null,null,null,null,null,null,null,null,null,null,null,null,null,null,{"$f":"IFERROR(SMALL(IF(D$3:L$14,--(D$3:L$14&\"/\"&C$3:C$14&\"/\"&A$1)),ROW(S10)),\"\")","v":"2018-04-30"}]
[null,"4 квартал","октябрь",null,null,null,null,null,null,null,null,null,null,null,null,null,null,null,{"$f":"IFERROR(SMALL(IF(D$3:L$14,--(D$3:L$14&\"/\"&C$3:C$14&\"/\"&A$1)),ROW(S11)),\"\")","v":"2018-05-01"}]
[null,null,"ноябрь",5,null,null,null,null,null,null,null,null,null,null,null,null,null,null,{"$f":"IFERROR(SMALL(IF(D$3:L$14,--(D$3:L$14&\"/\"&C$3:C$14&\"/\"&A$1)),ROW(S12)),\"\")","v":"2018-05-02"}]
[null,null,"декабрь",31,null,null,null,null,null,null,null,null,29,null,null,29,null,null,{"$f":"IFERROR(SMALL(IF(D$3:L$14,--(D$3:L$14&\"/\"&C$3:C$14&\"/\"&A$1)),ROW(S13)),\"\")","v":"2018-05-09"}]
[null,null,null,null,null,null,null,null,null,null,null,null,null,null,null,null,null,null,{"$f":"IFERROR(SMALL(IF(D$3:L$14,--(D$3:L$14&\"/\"&C$3:C$14&\"/\"&A$1)),ROW(S14)),\"\")","v":"2018-06-11"}]
[null,null,null,null,null,null,null,null,null,null,null,null,null,null,null,null,null,null,{"$f":"IFERROR(SMALL(IF(D$3:L$14,--(D$3:L$14&\"/\"&C$3:C$14&\"/\"&A$1)),ROW(S15)),\"\")","v":"2018-06-12"}]
[null,"Производственный календарь на 2018г. при 5 дневной рабочей неделе",null,null,null,null,null,null,null,null,null,null,null,null,null,null,null,null,{"$f":"IFERROR(SMALL(IF(D$3:L$14,--(D$3:L$14&\"/\"&C$3:C$14&\"/\"&A$1)),ROW(S16)),\"\")","v":"2018-11-05"}]
[null,null,null,"муж.гр",null,"жен.гр",null,null,null,null,null,null,null,null,null,"нач","кон",null,{"$f":"IFERROR(SMALL(IF(D$3:L$14,--(D$3:L$14&\"/\"&C$3:C$14&\"/\"&A$1)),ROW(S17)),\"\")","v":"2018-12-31"}]
["1 квартал",1,"Январь",17,136,{"$f":"D19","v":17},123,null,null,null,null,1,"Январь","Января","01",9,31,null,{"$f":"IFERROR(SMALL(IF(D$3:L$14,--(D$3:L$14&\"/\"&C$3:C$14&\"/\"&A$1)),ROW(S18)),\"\")","v":""}]
[null,2,"Февраль",19,151,{"$f":"D20","v":19},136,null,null,null,null,2,"Февраль","Февраля","02",1,28,null,{"$f":"IFERROR(SMALL(IF(D$3:L$14,--(D$3:L$14&\"/\"&C$3:C$14&\"/\"&A$1)),ROW(S19)),\"\")","v":""}]
[null,3,"Март",20,159,20,143,null,null,null,null,3,"Март","Марта","03",1,30,null,{"$f":"IFERROR(SMALL(IF(D$3:L$14,--(D$3:L$14&\"/\"&C$3:C$14&\"/\"&A$1)),ROW(S20)),\"\")","v":""}]
["2 квартал",4,"Апрель",21,167,21,150,null,null,null,null,4,"Апрель","Апреля","04",2,28,null,{"$f":"IFERROR(SMALL(IF(D$3:L$14,--(D$3:L$14&\"/\"&C$3:C$14&\"/\"&A$1)),ROW(S21)),\"\")","v":""}]
[null,5,"Май",20,159,{"$f":"D23","v":20},143,null,null,null,null,5,"Май","Мая","05",3,31,null,{"$f":"IFERROR(SMALL(IF(D$3:L$14,--(D$3:L$14&\"/\"&C$3:C$14&\"/\"&A$1)),ROW(S22)),\"\")","v":""}]
[null,6,"Июнь",20,159,{"$f":"D24","v":20},143,null,null,null,null,6,"Июнь","Июня","06",1,29,null,{"$f":"IFERROR(SMALL(IF(D$3:L$14,--(D$3:L$14&\"/\"&C$3:C$14&\"/\"&A$1)),ROW(S23)),\"\")","v":""}]
["3 квартал",7,"Июль",22,176,22,159,null,null,null,null,7,"Июль","Июля","07",2,31,null,{"$f":"IFERROR(SMALL(IF(D$3:L$14,--(D$3:L$14&\"/\"&C$3:C$14&\"/\"&A$1)),ROW(S24)),\"\")","v":""}]
[null,8,"Август",23,184,23,165,null,null,null,null,8,"Август","Августа","08",1,31]
[null,9,"Сентябрь",20,160,20,144,null,null,null,null,9,"Сентябрь","Сентября","09",3,28]
["4 квартал",10,"Октябрь",23,184,23,166,null,null,null,null,10,"Октябрь","Октября","10",1,31]
[null,11,"Ноябрь",21,168,21,151,null,null,null,null,11,"Ноябрь","Ноября","11",1,30]
[null,12,"Декабрь",21,167,21,150,null,null,null,null,12,"Декабрь","Декабря","12",3,29]

{"sheet":"ТАБЛИЦА","index":2,"n_rows":93,"n_cols":1,"rows_kept":93,"cut":false,"hidden":false,"merged":[]}
["15.5я/0"]
["15.5я/1"]
["15.5я/2"]
["15я/0"]
["15я/1"]
["15я/2"]
["14.5я/0"]
["14.5я/1"]
["14.5я/2"]
["14я/0"]
["14я/1"]
["14я/2"]
["13.5я/0"]
["13.5я/1"]
["13.5я/2"]
["13я/0"]
["13я/1"]
["13я/2"]
["12.5я/0"]
["12.5я/1"]
["12.5я/2"]
["12я/0"]
["12я/1"]
["12я/2"]
["11.5я/0"]
["11.5я/1"]
["11.5я/2"]
["11я/0"]
["11я/1"]
["11я/2"]
["10.5я/0"]
["10.5я/1"]
["10.5я/2"]
["10я/0"]
["10я/1"]
["10я/2"]
["9.5я/0"]
["9.5я/1"]
["9.5я/2"]
["9я/0"]
["9я/1"]
["9я/2"]
["8.5я/0"]
["8.5я/1"]
["8.5я/2"]
["8я/0"]
["8я/1"]
["8я/2"]
["7.5я/0"]
["7.5я/1"]
["7.5я/2"]
["7я/0"]
["7я/1"]
["7я/2"]
["6.5я/0"]
["6.5я/1"]
["6.5я/2"]
["6я/0"]
["6я/1"]
["6я/2"]
["5.5я/0"]
["5.5я/1"]
["5.5я/2"]
["5я/0"]
["5я/1"]
["5я/2"]
["4.5я/0"]
["4.5я/1"]
["4.5я/2"]
["4я/0"]
["4я/1"]
["4я/2"]
["3.5я/0"]
["3.5я/1"]
["3.5я/2"]
["3я/0"]
["3я/1"]
["3я/2"]
["2.5я/0"]
["2.5я/1"]
["2.5я/2"]
["2я/0"]
["2я/1"]
["2я/2"]
["1.5я/0"]
["1.5я/1"]
["1.5я/2"]
["1я/0"]
["1я/1"]
["1я/2"]
["0.5я/0"]
["0.5я/1"]
["0.5я/2"]