{"text_format":"1","workbook":"xlsx","n_sheets":5,"sheets":["Мониторинг","Мониторинг тип","Лист1","СОК","Вес"],"not_rendered":{"charts":0,"images":0,"macros":1,"external_links":0,"defined_names":9,"comments":0,"pivot_tables":0},"unopened":[],"bounds":{"document_bytes":16777216,"sheet_cells":100000,"rows_first":2000,"rows_last":500,"rows_between":2000,"halvings":0,"cell_chars":16384,"cell_head_chars":4096},"cells_cut":0,"cells_raw":0,"read":"whole","date_system":"1900"}

{"sheet":"Мониторинг","index":0,"n_rows":9,"n_cols":151,"rows_kept":9,"cut":false,"hidden":false,"merged":[[0,11,0,16],[0,17,0,20],[0,21,0,23],[0,24,0,27],[0,0,3,0],[0,5,3,5],[0,4,3,4],[0,3,3,3],[0,2,3,2],[0,1,3,1],[0,6,0,8],[0,9,0,10],[0,29,1,29],[0,30,3,30],[0,31,3,31],[0,32,3,32],[0,33,3,33],[0,34,3,34],[0,35,3,35],[0,146,1,146],[0,40,1,40],[0,38,1,38],[0,39,1,39],[0,142,1,142],[0,143,1,143],[0,144,1,144],[0,145,1,145]]}
["Дата проведения мониторинга","ФИО мониторившего","Столбец 12","Столбец 13","Результат","Ссылка на звонок","Приветствие ",null,null,"Диагностика",null,"Решение вопроса",null,null,null,null,null,"Дополнительные предложение",null,null,null,"Прощание",null,null,"Общие критерии",null,null,null,null,"балл","Суть звонка","Сильные стороны","Слабые стороны","площадка","Проработка слабых сторон","ФИО ответственного за проработку"]
[null,null,null,null,null,null,7,8,9,10,11,12,13,14,15,16,17,18,19,20,21,22,23,24,25,26,27,28]
[null,null,null,null,null,null,{"$f":"IFERROR((G4/0.3),\"\")","v":""},{"$f":"IFERROR((H4/0.3),\"\")","v":""},"","","","",null,"","","","","","","","","","","","","","","",null,{"$f":"AVERAGE(G3:AC3)","v":{"$error":"#DIV/0!"}}]
[null,null,null,null,null,null,{"$f":"IFERROR(AVERAGE(#REF!),\"\")","v":""},{"$f":"IFERROR(AVERAGE(#REF!),\"\")","v":""},{"$f":"IFERROR(AVERAGE(#REF!),\"\")","v":""},{"$f":"IFERROR(AVERAGE(#REF!),\"\")","v":""},{"$f":"IFERROR(AVERAGE(#REF!),\"\")","v":""},{"$f":"IFERROR(AVERAGE(#REF!),\"\")","v":""},null,{"$f":"IFERROR(AVERAGE(#REF!),\"\")","v":""},{"$f":"IFERROR(AVERAGE(#REF!),\"\")","v":""},{"$f":"IFERROR(AVERAGE(#REF!),\"\")","v":""},{"$f":"IFERROR(AVERAGE(#REF!),\"\")","v":""},{"$f":"IFERROR(AVERAGE(#REF!),\"\")","v":""},{"$f":"IFERROR(AVERAGE(#REF!),\"\")","v":""},{"$f":"IFERROR(AVERAGE(#REF!),\"\")","v":""},{"$f":"IFERROR(AVERAGE(#REF!),\"\")","v":""},{"$f":"IFERROR(AVERAGE(#REF!),\"\")","v":""},{"$f":"IFERROR(AVERAGE(#REF!),\"\")","v":""},{"$f":"IFERROR(AVERAGE(#REF!),\"\")","v":""},{"$f":"IFERROR(AVERAGE(#REF!),\"\")","v":""},{"$f":"IFERROR(AVERAGE(#REF!),\"\")","v":""},{"$f":"IFERROR(AVERAGE(#REF!),\"\")","v":""},{"$f":"IFERROR(AVERAGE(#REF!),\"\")","v":""},null,{"$f":"AVERAGE(AD5:AD1048576)","v":0.86187500000000017}]
[null,null,"Отлично","нет необхо - димости",15,null,"Отлично","Отлично","Отлично","Отлично","Отлично","Отлично","нет необхо - димости","Отлично","Отлично","Отлично","Отлично","Отлично","Отлично","Отлично","Авто","Отлично","Отлично","Отлично","Отлично","Отлично","Отлично","Отлично",0.9,0.85,"Сервисные вопросы (Service)",null,null,null,null,null,null,null,null,null,null,null,null,null,null,null,null,null,null,null,null,null,null,null,null,null,null,null,null,null,null,null,null,null,null,null,null,null,null,null,null,null,null,null,null,null,null,null,null,null,null,null,null,null,null,null,null,null,null,null,null,null,null,null,null,null,null,null,null,null,null,null,null,null,null,null,null,null,null,null,null,null,null,null,null,null,null,null,null,null,null,null,null,null,null,null,null,null,null,null,null,null,null,null,null,null,null,null,null,null,null,null,null,null,"Авто","Отлично",3,4,"Отлично",6,7]
[null,null,"Отлично","Плохо",8,null,null,null,null,null,null,null,null,null,null,null,null,null,null,null,null,null,null,null,null,null,null,null,null,null,null,null,null,null,null,null,null,null,null,null,null,null,null,null,null,null,null,null,null,null,null,null,null,null,null,null,null,null,null,null,null,null,null,null,null,null,null,null,null,null,null,null,null,null,null,null,null,null,null,null,null,null,null,null,null,null,null,null,null,null,null,null,null,null,null,null,null,null,null,null,null,null,null,null,null,null,null,null,null,null,null,null,null,null,null,null,null,null,null,null,null,null,null,null,null,null,null,null,null,null,null,null,null,null,null,null,null,null,null,null,null,null,null,null,"Нет","Нормально","ДА",null,"Плохо","Отлично","Нет"]
[null,null,"Плохо","Отлично",7,null,null,null,null,null,null,null,null,null,null,null,null,null,null,null,null,null,null,null,null,null,null,null,null,null,null,null,null,null,null,null,null,null,null,null,null,null,null,null,null,null,null,null,null,null,null,null,null,null,null,null,null,null,null,null,null,null,null,null,null,null,null,null,null,null,null,null,null,null,null,null,null,null,null,null,null,null,null,null,null,null,null,null,null,null,null,null,null,null,null,null,null,null,null,null,null,null,null,null,null,null,null,null,null,null,null,null,null,null,null,null,null,null,null,null,null,null,null,null,null,null,null,null,null,null,null,null,null,null,null,null,null,null,null,null,null,null,null,null,null,"Плохо","НЕТ",null,"нет необхо - димости","Нет"]
[null,null,"Плохо","Плохо",0,null,null,null,null,null,null,null,null,null,null,null,null,null,null,null,null,null,null,null,null,null,null,null,null,null,null,null,null,null,null,null,null,null,null,null,null,null,null,null,null,null,null,null,null,null,null,null,null,null,null,null,null,null,null,null,null,null,null,null,null,null,null,null,null,null,null,null,null,null,null,null,null,null,null,null,null,null,null,null,null,null,null,null,null,null,null,null,null,null,null,null,null,null,null,null,null,null,null,null,null,null,null,null,null,null,null,null,null,null,null,null,null,null,null,null,null,null,null,null,null,null,null,null,null,null,null,null,null,null,null,null,null,null,null,null,null,null,null,null,null,"нет необхо - димости"]
[null,null,"нет необхо - димости","нет необхо - димости",15]

{"sheet":"Мониторинг тип","index":1,"n_rows":127,"n_cols":33,"rows_kept":127,"cut":false,"hidden":true,"merged":[[115,0,115,1],[56,0,59,0],[60,0,63,0],[64,0,67,0],[68,0,70,0],[71,0,73,0],[74,0,76,0],[77,0,79,0],[80,0,83,0],[100,0,103,0],[104,0,107,0],[84,0,87,0],[88,0,91,0],[92,0,95,0],[96,0,99,0],[3,0,3,1],[0,0,0,1],[1,0,1,1],[2,0,2,1],[4,0,7,0],[126,0,126,1],[125,0,125,1],[124,0,124,1],[52,0,55,0],[111,0,111,1],[116,0,116,1],[122,0,122,1],[123,0,123,1],[118,0,118,1],[119,0,119,1],[120,0,120,1],[121,0,121,1],[117,0,117,1],[112,0,112,1],[113,0,113,1],[114,0,114,1],[8,0,13,0],[14,0,19,0],[110,0,110,1],[109,0,109,2],[49,0,51,0],[20,0,25,0],[26,0,31,0],[38,0,43,0],[44,0,48,0],[32,0,37,0]]}
["Дата",null,"Июль","2013-06-01","2013-06-02","2013-06-03","2013-06-04","2013-06-05","2013-06-06","2013-06-07","2013-06-08","2013-06-09","2013-06-10","2013-06-11","2013-06-12","2013-06-13","2013-06-14","2013-06-15","2013-06-16","2013-06-17","2013-06-18","2013-06-19","2013-06-20","2013-06-21","2013-06-22","2013-06-23","2013-06-24","2013-06-25","2013-06-26","2013-06-27","2013-06-28","2013-06-29","2013-06-30"]
["Прослушано звонков:",null,{"$f":"SUM(D2:AG2)","v":0},{"$f":"COUNTIF(Мониторинг!$A:$A,'Мониторинг тип'!D1)","v":0},{"$f":"COUNTIF(Мониторинг!$A:$A,'Мониторинг тип'!E1)","v":0},{"$f":"COUNTIF(Мониторинг!$A:$A,'Мониторинг тип'!F1)","v":0},{"$f":"COUNTIF(Мониторинг!$A:$A,'Мониторинг тип'!G1)","v":0},{"$f":"COUNTIF(Мониторинг!$A:$A,'Мониторинг тип'!H1)","v":0},{"$f":"COUNTIF(Мониторинг!$A:$A,'Мониторинг тип'!I1)","v":0},{"$f":"COUNTIF(Мониторинг!$A:$A,'Мониторинг тип'!J1)","v":0},{"$f":"COUNTIF(Мониторинг!$A:$A,'Мониторинг тип'!K1)","v":0},{"$f":"COUNTIF(Мониторинг!$A:$A,'Мониторинг тип'!L1)","v":0},{"$f":"COUNTIF(Мониторинг!$A:$A,'Мониторинг тип'!M1)","v":0},{"$f":"COUNTIF(Мониторинг!$A:$A,'Мониторинг тип'!N1)","v":0},{"$f":"COUNTIF(Мониторинг!$A:$A,'Мониторинг тип'!O1)","v":0},{"$f":"COUNTIF(Мониторинг!$A:$A,'Мониторинг тип'!P1)","v":0},{"$f":"COUNTIF(Мониторинг!$A:$A,'Мониторинг тип'!Q1)","v":0},{"$f":"COUNTIF(Мониторинг!$A:$A,'Мониторинг тип'!R1)","v":0},{"$f":"COUNTIF(Мониторинг!$A:$A,'Мониторинг тип'!S1)","v":0},{"$f":"COUNTIF(Мониторинг!$A:$A,'Мониторинг тип'!T1)","v":0},{"$f":"COUNTIF(Мониторинг!$A:$A,'Мониторинг тип'!U1)","v":0},{"$f":"COUNTIF(Мониторинг!$A:$A,'Мониторинг тип'!V1)","v":0},{"$f":"COUNTIF(Мониторинг!$A:$A,'Мониторинг тип'!W1)","v":0},{"$f":"COUNTIF(Мониторинг!$A:$A,'Мониторинг тип'!X1)","v":0},{"$f":"COUNTIF(Мониторинг!$A:$A,'Мониторинг тип'!Y1)","v":0},{"$f":"COUNTIF(Мониторинг!$A:$A,'Мониторинг тип'!Z1)","v":0},{"$f":"COUNTIF(Мониторинг!$A:$A,'Мониторинг тип'!AA1)","v":0},{"$f":"COUNTIF(Мониторинг!$A:$A,'Мониторинг тип'!AB1)","v":0},{"$f":"COUNTIF(Мониторинг!$A:$A,'Мониторинг тип'!AC1)","v":0},{"$f":"COUNTIF(Мониторинг!$A:$A,'Мониторинг тип'!AD1)","v":0},{"$f":"COUNTIF(Мониторинг!$A:$A,'Мониторинг тип'!AE1)","v":0},{"$f":"COUNTIF(Мониторинг!$A:$A,'Мониторинг тип'!AF1)","v":0},{"$f":"COUNTIF(Мониторинг!$A:$A,'Мониторинг тип'!AG1)","v":0}]
["Итоговый балл:",null,{"$f":"AVERAGE(Мониторинг!AD5:AD51588)","v":0.86187500000000017},{"$f":"IF(COUNTIF(Мониторинг!$A:$A,D1)<>0,SUMIF(Мониторинг!$A:$A,D1,Мониторинг!$AD:$AD)/COUNTIF(Мониторинг!$A:$A,D1),\"\")","v":""},{"$f":"IF(COUNTIF(Мониторинг!$A:$A,E1)<>0,SUMIF(Мониторинг!$A:$A,E1,Мониторинг!$AD:$AD)/COUNTIF(Мониторинг!$A:$A,E1),\"\")","v":""},{"$f":"IF(COUNTIF(Мониторинг!$A:$A,F1)<>0,SUMIF(Мониторинг!$A:$A,F1,Мониторинг!$AD:$AD)/COUNTIF(Мониторинг!$A:$A,F1),\"\")","v":""},{"$f":"IF(COUNTIF(Мониторинг!$A:$A,G1)<>0,SUMIF(Мониторинг!$A:$A,G1,Мониторинг!$AD:$AD)/COUNTIF(Мониторинг!$A:$A,G1),\"\")","v":""},{"$f":"IF(COUNTIF(Мониторинг!$A:$A,H1)<>0,SUMIF(Мониторинг!$A:$A,H1,Мониторинг!$AD:$AD)/COUNTIF(Мониторинг!$A:$A,H1),\"\")","v":""},{"$f":"IF(COUNTIF(Мониторинг!$A:$A,I1)<>0,SUMIF(Мониторинг!$A:$A,I1,Мониторинг!$AD:$AD)/COUNTIF(Мониторинг!$A:$A,I1),\"\")","v":""},{"$f":"IF(COUNTIF(Мониторинг!$A:$A,J1)<>0,SUMIF(Мониторинг!$A:$A,J1,Мониторинг!$AD:$AD)/COUNTIF(Мониторинг!$A:$A,J1),\"\")","v":""},{"$f":"IF(COUNTIF(Мониторинг!$A:$A,K1)<>0,SUMIF(Мониторинг!$A:$A,K1,Мониторинг!$AD:$AD)/COUNTIF(Мониторинг!$A:$A,K1),\"\")","v":""},{"$f":"IF(COUNTIF(Мониторинг!$A:$A,L1)<>0,SUMIF(Мониторинг!$A:$A,L1,Мониторинг!$AD:$AD)/COUNTIF(Мониторинг!$A:$A,L1),\"\")","v":""},{"$f":"IF(COUNTIF(Мониторинг!$A:$A,M1)<>0,SUMIF(Мониторинг!$A:$A,M1,Мониторинг!$AD:$AD)/COUNTIF(Мониторинг!$A:$A,M1),\"\")","v":""},{"$f":"IF(COUNTIF(Мониторинг!$A:$A,N1)<>0,SUMIF(Мониторинг!$A:$A,N1,Мониторинг!$AD:$AD)/COUNTIF(Мониторинг!$A:$A,N1),\"\")","v":""},{"$f":"IF(COUNTIF(Мониторинг!$A:$A,O1)<>0,SUMIF(Мониторинг!$A:$A,O1,Мониторинг!$AD:$AD)/COUNTIF(Мониторинг!$A:$A,O1),\"\")","v":""},{"$f":"IF(COUNTIF(Мониторинг!$A:$A,P1)<>0,SUMIF(Мониторинг!$A:$A,P1,Мониторинг!$AD:$AD)/COUNTIF(Мониторинг!$A:$A,P1),\"\")","v":""},{"$f":"IF(COUNTIF(Мониторинг!$A:$A,Q1)<>0,SUMIF(Мониторинг!$A:$A,Q1,Мониторинг!$AD:$AD)/COUNTIF(Мониторинг!$A:$A,Q1),\"\")","v":""},{"$f":"IF(COUNTIF(Мониторинг!$A:$A,R1)<>0,SUMIF(Мониторинг!$A:$A,R1,Мониторинг!$AD:$AD)/COUNTIF(Мониторинг!$A:$A,R1),\"\")","v":""},{"$f":"IF(COUNTIF(Мониторинг!$A:$A,S1)<>0,SUMIF(Мониторинг!$A:$A,S1,Мониторинг!$AD:$AD)/COUNTIF(Мониторинг!$A:$A,S1),\"\")","v":""},{"$f":"IF(COUNTIF(Мониторинг!$A:$A,T1)<>0,SUMIF(Мониторинг!$A:$A,T1,Мониторинг!$AD:$AD)/COUNTIF(Мониторинг!$A:$A,T1),\"\")","v":""},{"$f":"IF(COUNTIF(Мониторинг!$A:$A,U1)<>0,SUMIF(Мониторинг!$A:$A,U1,Мониторинг!$AD:$AD)/COUNTIF(Мониторинг!$A:$A,U1),\"\")","v":""},{"$f":"IF(COUNTIF(Мониторинг!$A:$A,V1)<>0,SUMIF(Мониторинг!$A:$A,V1,Мониторинг!$AD:$AD)/COUNTIF(Мониторинг!$A:$A,V1),\"\")","v":""},{"$f":"IF(COUNTIF(Мониторинг!$A:$A,W1)<>0,SUMIF(Мониторинг!$A:$A,W1,Мониторинг!$AD:$AD)/COUNTIF(Мониторинг!$A:$A,W1),\"\")","v":""},{"$f":"IF(COUNTIF(Мониторинг!$A:$A,X1)<>0,SUMIF(Мониторинг!$A:$A,X1,Мониторинг!$AD:$AD)/COUNTIF(Мониторинг!$A:$A,X1),\"\")","v":""},{"$f":"IF(COUNTIF(Мониторинг!$A:$A,Y1)<>0,SUMIF(Мониторинг!$A:$A,Y1,Мониторинг!$AD:$AD)/COUNTIF(Мониторинг!$A:$A,Y1),\"\")","v":""},{"$f":"IF(COUNTIF(Мониторинг!$A:$A,Z1)<>0,SUMIF(Мониторинг!$A:$A,Z1,Мониторинг!$AD:$AD)/COUNTIF(Мониторинг!$A:$A,Z1),\"\")","v":""},{"$f":"IF(COUNTIF(Мониторинг!$A:$A,AA1)<>0,SUMIF(Мониторинг!$A:$A,AA1,Мониторинг!$AD:$AD)/COUNTIF(Мониторинг!$A:$A,AA1),\"\")","v":""},{"$f":"IF(COUNTIF(Мониторинг!$A:$A,AB1)<>0,SUMIF(Мониторинг!$A:$A,AB1,Мониторинг!$AD:$AD)/COUNTIF(Мониторинг!$A:$A,AB1),\"\")","v":""},{"$f":"IF(COUNTIF(Мониторинг!$A:$A,AC1)<>0,SUMIF(Мониторинг!$A:$A,AC1,Мониторинг!$AD:$AD)/COUNTIF(Мониторинг!$A:$A,AC1),\"\")","v":""},{"$f":"IF(COUNTIF(Мониторинг!$A:$A,AD1)<>0,SUMIF(Мониторинг!$A:$A,AD1,Мониторинг!$AD:$AD)/COUNTIF(Мониторинг!$A:$A,AD1),\"\")","v":""},{"$f":"IF(COUNTIF(Мониторинг!$A:$A,AE1)<>0,SUMIF(Мониторинг!$A:$A,AE1,Мониторинг!$AD:$AD)/COUNTIF(Мониторинг!$A:$A,AE1),\"\")","v":""},{"$f":"IF(COUNTIF(Мониторинг!$A:$A,AF1)<>0,SUMIF(Мониторинг!$A:$A,AF1,Мониторинг!$AD:$AD)/COUNTIF(Мониторинг!$A:$A,AF1),\"\")","v":""},{"$f":"IF(COUNTIF(Мониторинг!$A:$A,AG1)<>0,SUMIF(Мониторинг!$A:$A,AG1,Мониторинг!$AD:$AD)/COUNTIF(Мониторинг!$A:$A,AG1),\"\")","v":""}]
["Cоблюдения критериев структуры звонка:"]
["Установление контакта",{"$f":"Лист1!G11","v":"A"},{"$f":"SUM(D5:AG5)","v":0},{"$f":"IFERROR(COUNTIFS(Мониторинг!#REF!,'Мониторинг тип'!$B5,Мониторинг!$A$5:$A$10,'Мониторинг тип'!D$1),0)","v":0},{"$f":"IFERROR(COUNTIFS(Мониторинг!#REF!,'Мониторинг тип'!$B5,Мониторинг!$A$5:$A$10,'Мониторинг тип'!E$1),0)","v":0},{"$f":"IFERROR(COUNTIFS(Мониторинг!#REF!,'Мониторинг тип'!$B5,Мониторинг!$A$5:$A$10,'Мониторинг тип'!F$1),0)","v":0},{"$f":"IFERROR(COUNTIFS(Мониторинг!#REF!,'Мониторинг тип'!$B5,Мониторинг!$A$5:$A$10,'Мониторинг тип'!G$1),0)","v":0},{"$f":"IFERROR(COUNTIFS(Мониторинг!#REF!,'Мониторинг тип'!$B5,Мониторинг!$A$5:$A$10,'Мониторинг тип'!H$1),0)","v":0},{"$f":"IFERROR(COUNTIFS(Мониторинг!#REF!,'Мониторинг тип'!$B5,Мониторинг!$A$5:$A$10,'Мониторинг тип'!I$1),0)","v":0},{"$f":"IFERROR(COUNTIFS(Мониторинг!#REF!,'Мониторинг тип'!$B5,Мониторинг!$A$5:$A$10,'Мониторинг тип'!J$1),0)","v":0},{"$f":"IFERROR(COUNTIFS(Мониторинг!#REF!,'Мониторинг тип'!$B5,Мониторинг!$A$5:$A$10,'Мониторинг тип'!K$1),0)","v":0},{"$f":"IFERROR(COUNTIFS(Мониторинг!#REF!,'Мониторинг тип'!$B5,Мониторинг!$A$5:$A$10,'Мониторинг тип'!L$1),0)","v":0},{"$f":"IFERROR(COUNTIFS(Мониторинг!#REF!,'Мониторинг тип'!$B5,Мониторинг!$A$5:$A$10,'Мониторинг тип'!M$1),0)","v":0},{"$f":"IFERROR(COUNTIFS(Мониторинг!#REF!,'Мониторинг тип'!$B5,Мониторинг!$A$5:$A$10,'Мониторинг тип'!N$1),0)","v":0},{"$f":"IFERROR(COUNTIFS(Мониторинг!#REF!,'Мониторинг тип'!$B5,Мониторинг!$A$5:$A$10,'Мониторинг тип'!O$1),0)","v":0},{"$f":"IFERROR(COUNTIFS(Мониторинг!#REF!,'Мониторинг тип'!$B5,Мониторинг!$A$5:$A$10,'Мониторинг тип'!P$1),0)","v":0},{"$f":"IFERROR(COUNTIFS(Мониторинг!#REF!,'Мониторинг тип'!$B5,Мониторинг!$A$5:$A$10,'Мониторинг тип'!Q$1),0)","v":0},{"$f":"IFERROR(COUNTIFS(Мониторинг!#REF!,'Мониторинг тип'!$B5,Мониторинг!$A$5:$A$10,'Мониторинг тип'!R$1),0)","v":0},{"$f":"IFERROR(COUNTIFS(Мониторинг!#REF!,'Мониторинг тип'!$B5,Мониторинг!$A$5:$A$10,'Мониторинг тип'!S$1),0)","v":0},{"$f":"IFERROR(COUNTIFS(Мониторинг!#REF!,'Мониторинг тип'!$B5,Мониторинг!$A$5:$A$10,'Мониторинг тип'!T$1),0)","v":0},{"$f":"IFERROR(COUNTIFS(Мониторинг!#REF!,'Мониторинг тип'!$B5,Мониторинг!$A$5:$A$10,'Мониторинг тип'!U$1),0)","v":0},{"$f":"IFERROR(COUNTIFS(Мониторинг!#REF!,'Мониторинг тип'!$B5,Мониторинг!$A$5:$A$10,'Мониторинг тип'!V$1),0)","v":0},{"$f":"IFERROR(COUNTIFS(Мониторинг!#REF!,'Мониторинг тип'!$B5,Мониторинг!$A$5:$A$10,'Мониторинг тип'!W$1),0)","v":0},{"$f":"IFERROR(COUNTIFS(Мониторинг!#REF!,'Мониторинг тип'!$B5,Мониторинг!$A$5:$A$10,'Мониторинг тип'!X$1),0)","v":0},{"$f":"IFERROR(COUNTIFS(Мониторинг!#REF!,'Мониторинг тип'!$B5,Мониторинг!$A$5:$A$10,'Мониторинг тип'!Y$1),0)","v":0},{"$f":"IFERROR(COUNTIFS(Мониторинг!#REF!,'Мониторинг тип'!$B5,Мониторинг!$A$5:$A$10,'Мониторинг тип'!Z$1),0)","v":0},{"$f":"IFERROR(COUNTIFS(Мониторинг!#REF!,'Мониторинг тип'!$B5,Мониторинг!$A$5:$A$10,'Мониторинг тип'!AA$1),0)","v":0},{"$f":"IFERROR(COUNTIFS(Мониторинг!#REF!,'Мониторинг тип'!$B5,Мониторинг!$A$5:$A$10,'Мониторинг тип'!AB$1),0)","v":0},{"$f":"IFERROR(COUNTIFS(Мониторинг!#REF!,'Мониторинг тип'!$B5,Мониторинг!$A$5:$A$10,'Мониторинг тип'!AC$1),0)","v":0},{"$f":"IFERROR(COUNTIFS(Мониторинг!#REF!,'Мониторинг тип'!$B5,Мониторинг!$A$5:$A$10,'Мониторинг тип'!AD$1),0)","v":0},{"$f":"IFERROR(COUNTIFS(Мониторинг!#REF!,'Мониторинг тип'!$B5,Мониторинг!$A$5:$A$10,'Мониторинг тип'!AE$1),0)","v":0},{"$f":"IFERROR(COUNTIFS(Мониторинг!#REF!,'Мониторинг тип'!$B5,Мониторинг!$A$5:$A$10,'Мониторинг тип'!AF$1),0)","v":0},{"$f":"IFERROR(COUNTIFS(Мониторинг!#REF!,'Мониторинг тип'!$B5,Мониторинг!$A$5:$A$10,'Мониторинг тип'!AG$1),0)","v":0}]
[null,{"$f":"Лист1!G12","v":"D"},{"$f":"SUM(D6:AG6)","v":0},{"$f":"IFERROR(COUNTIFS(Мониторинг!#REF!,'Мониторинг тип'!$B6,Мониторинг!$A$5:$A$10,'Мониторинг тип'!D$1),0)","v":0},{"$f":"IFERROR(COUNTIFS(Мониторинг!#REF!,'Мониторинг тип'!$B6,Мониторинг!$A$5:$A$10,'Мониторинг тип'!E$1),0)","v":0},{"$f":"IFERROR(COUNTIFS(Мониторинг!#REF!,'Мониторинг тип'!$B6,Мониторинг!$A$5:$A$10,'Мониторинг тип'!F$1),0)","v":0},{"$f":"IFERROR(COUNTIFS(Мониторинг!#REF!,'Мониторинг тип'!$B6,Мониторинг!$A$5:$A$10,'Мониторинг тип'!G$1),0)","v":0},{"$f":"IFERROR(COUNTIFS(Мониторинг!#REF!,'Мониторинг тип'!$B6,Мониторинг!$A$5:$A$10,'Мониторинг тип'!H$1),0)","v":0},{"$f":"IFERROR(COUNTIFS(Мониторинг!#REF!,'Мониторинг тип'!$B6,Мониторинг!$A$5:$A$10,'Мониторинг тип'!I$1),0)","v":0},{"$f":"IFERROR(COUNTIFS(Мониторинг!#REF!,'Мониторинг тип'!$B6,Мониторинг!$A$5:$A$10,'Мониторинг тип'!J$1),0)","v":0},{"$f":"IFERROR(COUNTIFS(Мониторинг!#REF!,'Мониторинг тип'!$B6,Мониторинг!$A$5:$A$10,'Мониторинг тип'!K$1),0)","v":0},{"$f":"IFERROR(COUNTIFS(Мониторинг!#REF!,'Мониторинг тип'!$B6,Мониторинг!$A$5:$A$10,'Мониторинг тип'!L$1),0)","v":0},{"$f":"IFERROR(COUNTIFS(Мониторинг!#REF!,'Мониторинг тип'!$B6,Мониторинг!$A$5:$A$10,'Мониторинг тип'!M$1),0)","v":0},{"$f":"IFERROR(COUNTIFS(Мониторинг!#REF!,'Мониторинг тип'!$B6,Мониторинг!$A$5:$A$10,'Мониторинг тип'!N$1),0)","v":0},{"$f":"IFERROR(COUNTIFS(Мониторинг!#REF!,'Мониторинг тип'!$B6,Мониторинг!$A$5:$A$10,'Мониторинг тип'!O$1),0)","v":0},{"$f":"IFERROR(COUNTIFS(Мониторинг!#REF!,'Мониторинг тип'!$B6,Мониторинг!$A$5:$A$10,'Мониторинг тип'!P$1),0)","v":0},{"$f":"IFERROR(COUNTIFS(Мониторинг!#REF!,'Мониторинг тип'!$B6,Мониторинг!$A$5:$A$10,'Мониторинг тип'!Q$1),0)","v":0},{"$f":"IFERROR(COUNTIFS(Мониторинг!#REF!,'Мониторинг тип'!$B6,Мониторинг!$A$5:$A$10,'Мониторинг тип'!R$1),0)","v":0},{"$f":"IFERROR(COUNTIFS(Мониторинг!#REF!,'Мониторинг тип'!$B6,Мониторинг!$A$5:$A$10,'Мониторинг тип'!S$1),0)","v":0},{"$f":"IFERROR(COUNTIFS(Мониторинг!#REF!,'Мониторинг тип'!$B6,Мониторинг!$A$5:$A$10,'Мониторинг тип'!T$1),0)","v":0},{"$f":"IFERROR(COUNTIFS(Мониторинг!#REF!,'Мониторинг тип'!$B6,Мониторинг!$A$5:$A$10,'Мониторинг тип'!U$1),0)","v":0},{"$f":"IFERROR(COUNTIFS(Мониторинг!#REF!,'Мониторинг тип'!$B6,Мониторинг!$A$5:$A$10,'Мониторинг тип'!V$1),0)","v":0},{"$f":"IFERROR(COUNTIFS(Мониторинг!#REF!,'Мониторинг тип'!$B6,Мониторинг!$A$5:$A$10,'Мониторинг тип'!W$1),0)","v":0},{"$f":"IFERROR(COUNTIFS(Мониторинг!#REF!,'Мониторинг тип'!$B6,Мониторинг!$A$5:$A$10,'Мониторинг тип'!X$1),0)","v":0},{"$f":"IFERROR(COUNTIFS(Мониторинг!#REF!,'Мониторинг тип'!$B6,Мониторинг!$A$5:$A$10,'Мониторинг тип'!Y$1),0)","v":0},{"$f":"IFERROR(COUNTIFS(Мониторинг!#REF!,'Мониторинг тип'!$B6,Мониторинг!$A$5:$A$10,'Мониторинг тип'!Z$1),0)","v":0},{"$f":"IFERROR(COUNTIFS(Мониторинг!#REF!,'Мониторинг тип'!$B6,Мониторинг!$A$5:$A$10,'Мониторинг тип'!AA$1),0)","v":0},{"$f":"IFERROR(COUNTIFS(Мониторинг!#REF!,'Мониторинг тип'!$B6,Мониторинг!$A$5:$A$10,'Мониторинг тип'!AB$1),0)","v":0},{"$f":"IFERROR(COUNTIFS(Мониторинг!#REF!,'Мониторинг тип'!$B6,Мониторинг!$A$5:$A$10,'Мониторинг тип'!AC$1),0)","v":0},{"$f":"IFERROR(COUNTIFS(Мониторинг!#REF!,'Мониторинг тип'!$B6,Мониторинг!$A$5:$A$10,'Мониторинг тип'!AD$1),0)","v":0},{"$f":"IFERROR(COUNTIFS(Мониторинг!#REF!,'Мониторинг тип'!$B6,Мониторинг!$A$5:$A$10,'Мониторинг тип'!AE$1),0)","v":0},{"$f":"IFERROR(COUNTIFS(Мониторинг!#REF!,'Мониторинг тип'!$B6,Мониторинг!$A$5:$A$10,'Мониторинг тип'!AF$1),0)","v":0},{"$f":"IFERROR(COUNTIFS(Мониторинг!#REF!,'Мониторинг тип'!$B6,Мониторинг!$A$5:$A$10,'Мониторинг тип'!AG$1),0)","v":0}]
[null,{"$f":"Лист1!G15","v":0},{"$f":"SUM(D7:AG7)","v":0},{"$f":"IFERROR(COUNTIFS(Мониторинг!#REF!,'Мониторинг тип'!$B7,Мониторинг!$A$5:$A$10,'Мониторинг тип'!D$1),0)","v":0},{"$f":"IFERROR(COUNTIFS(Мониторинг!#REF!,'Мониторинг тип'!$B7,Мониторинг!$A$5:$A$10,'Мониторинг тип'!E$1),0)","v":0},{"$f":"IFERROR(COUNTIFS(Мониторинг!#REF!,'Мониторинг тип'!$B7,Мониторинг!$A$5:$A$10,'Мониторинг тип'!F$1),0)","v":0},{"$f":"IFERROR(COUNTIFS(Мониторинг!#REF!,'Мониторинг тип'!$B7,Мониторинг!$A$5:$A$10,'Мониторинг тип'!G$1),0)","v":0},{"$f":"IFERROR(COUNTIFS(Мониторинг!#REF!,'Мониторинг тип'!$B7,Мониторинг!$A$5:$A$10,'Мониторинг тип'!H$1),0)","v":0},{"$f":"IFERROR(COUNTIFS(Мониторинг!#REF!,'Мониторинг тип'!$B7,Мониторинг!$A$5:$A$10,'Мониторинг тип'!I$1),0)","v":0},{"$f":"IFERROR(COUNTIFS(Мониторинг!#REF!,'Мониторинг тип'!$B7,Мониторинг!$A$5:$A$10,'Мониторинг тип'!J$1),0)","v":0},{"$f":"IFERROR(COUNTIFS(Мониторинг!#REF!,'Мониторинг тип'!$B7,Мониторинг!$A$5:$A$10,'Мониторинг тип'!K$1),0)","v":0},{"$f":"IFERROR(COUNTIFS(Мониторинг!#REF!,'Мониторинг тип'!$B7,Мониторинг!$A$5:$A$10,'Мониторинг тип'!L$1),0)","v":0},{"$f":"IFERROR(COUNTIFS(Мониторинг!#REF!,'Мониторинг тип'!$B7,Мониторинг!$A$5:$A$10,'Мониторинг тип'!M$1),0)","v":0},{"$f":"IFERROR(COUNTIFS(Мониторинг!#REF!,'Мониторинг тип'!$B7,Мониторинг!$A$5:$A$10,'Мониторинг тип'!N$1),0)","v":0},{"$f":"IFERROR(COUNTIFS(Мониторинг!#REF!,'Мониторинг тип'!$B7,Мониторинг!$A$5:$A$10,'Мониторинг тип'!O$1),0)","v":0},{"$f":"IFERROR(COUNTIFS(Мониторинг!#REF!,'Мониторинг тип'!$B7,Мониторинг!$A$5:$A$10,'Мониторинг тип'!P$1),0)","v":0},{"$f":"IFERROR(COUNTIFS(Мониторинг!#REF!,'Мониторинг тип'!$B7,Мониторинг!$A$5:$A$10,'Мониторинг тип'!Q$1),0)","v":0},{"$f":"IFERROR(COUNTIFS(Мониторинг!#REF!,'Мониторинг тип'!$B7,Мониторинг!$A$5:$A$10,'Мониторинг тип'!R$1),0)","v":0},{"$f":"IFERROR(COUNTIFS(Мониторинг!#REF!,'Мониторинг тип'!$B7,Мониторинг!$A$5:$A$10,'Мониторинг тип'!S$1),0)","v":0},{"$f":"IFERROR(COUNTIFS(Мониторинг!#REF!,'Мониторинг тип'!$B7,Мониторинг!$A$5:$A$10,'Мониторинг тип'!T$1),0)","v":0},{"$f":"IFERROR(COUNTIFS(Мониторинг!#REF!,'Мониторинг тип'!$B7,Мониторинг!$A$5:$A$10,'Мониторинг тип'!U$1),0)","v":0},{"$f":"IFERROR(COUNTIFS(Мониторинг!#REF!,'Мониторинг тип'!$B7,Мониторинг!$A$5:$A$10,'Мониторинг тип'!V$1),0)","v":0},{"$f":"IFERROR(COUNTIFS(Мониторинг!#REF!,'Мониторинг тип'!$B7,Мониторинг!$A$5:$A$10,'Мониторинг тип'!W$1),0)","v":0},{"$f":"IFERROR(COUNTIFS(Мониторинг!#REF!,'Мониторинг тип'!$B7,Мониторинг!$A$5:$A$10,'Мониторинг тип'!X$1),0)","v":0},{"$f":"IFERROR(COUNTIFS(Мониторинг!#REF!,'Мониторинг тип'!$B7,Мониторинг!$A$5:$A$10,'Мониторинг тип'!Y$1),0)","v":0},{"$f":"IFERROR(COUNTIFS(Мониторинг!#REF!,'Мониторинг тип'!$B7,Мониторинг!$A$5:$A$10,'Мониторинг тип'!Z$1),0)","v":0},{"$f":"IFERROR(COUNTIFS(Мониторинг!#REF!,'Мониторинг тип'!$B7,Мониторинг!$A$5:$A$10,'Мониторинг тип'!AA$1),0)","v":0},{"$f":"IFERROR(COUNTIFS(Мониторинг!#REF!,'Мониторинг тип'!$B7,Мониторинг!$A$5:$A$10,'Мониторинг тип'!AB$1),0)","v":0},{"$f":"IFERROR(COUNTIFS(Мониторинг!#REF!,'Мониторинг тип'!$B7,Мониторинг!$A$5:$A$10,'Мониторинг тип'!AC$1),0)","v":0},{"$f":"IFERROR(COUNTIFS(Мониторинг!#REF!,'Мониторинг тип'!$B7,Мониторинг!$A$5:$A$10,'Мониторинг тип'!AD$1),0)","v":0},{"$f":"IFERROR(COUNTIFS(Мониторинг!#REF!,'Мониторинг тип'!$B7,Мониторинг!$A$5:$A$10,'Мониторинг тип'!AE$1),0)","v":0},{"$f":"IFERROR(COUNTIFS(Мониторинг!#REF!,'Мониторинг тип'!$B7,Мониторинг!$A$5:$A$10,'Мониторинг тип'!AF$1),0)","v":0},{"$f":"IFERROR(COUNTIFS(Мониторинг!#REF!,'Мониторинг тип'!$B7,Мониторинг!$A$5:$A$10,'Мониторинг тип'!AG$1),0)","v":0}]
[null,"% информирования",{"$f":"IF(SUM(C5:C7)<>0,(C5*100%+(C6*50%)+(C7*30%))/SUM(C5:C7),\"\")","v":""},{"$f":"IF(SUM(D5:D7)<>0,(D5*100%+(D6*50%)+(D7*30%))/SUM(D5:D7),\"\")","v":""},"","","","","","","","","","","","","","","","","","","","","","","","","","","","",""]
["Раскрытие (актуализация) потребностей",{"$f":"Лист1!H13","v":0},{"$f":"SUM(D9:AG9)","v":0},{"$f":"IFERROR(COUNTIFS(Мониторинг!$L$5:$L$10,$B9,Мониторинг!$A$5:$A$10,'Мониторинг тип'!D$1),0)","v":0},{"$f":"IFERROR(COUNTIFS(Мониторинг!$L$5:$L$10,$B9,Мониторинг!$A$5:$A$10,'Мониторинг тип'!E$1),0)","v":0},{"$f":"IFERROR(COUNTIFS(Мониторинг!$L$5:$L$10,$B9,Мониторинг!$A$5:$A$10,'Мониторинг тип'!F$1),0)","v":0},{"$f":"IFERROR(COUNTIFS(Мониторинг!$L$5:$L$10,$B9,Мониторинг!$A$5:$A$10,'Мониторинг тип'!G$1),0)","v":0},{"$f":"IFERROR(COUNTIFS(Мониторинг!$L$5:$L$10,$B9,Мониторинг!$A$5:$A$10,'Мониторинг тип'!H$1),0)","v":0},{"$f":"IFERROR(COUNTIFS(Мониторинг!$L$5:$L$10,$B9,Мониторинг!$A$5:$A$10,'Мониторинг тип'!I$1),0)","v":0},{"$f":"IFERROR(COUNTIFS(Мониторинг!$L$5:$L$10,$B9,Мониторинг!$A$5:$A$10,'Мониторинг тип'!J$1),0)","v":0},{"$f":"IFERROR(COUNTIFS(Мониторинг!$L$5:$L$10,$B9,Мониторинг!$A$5:$A$10,'Мониторинг тип'!K$1),0)","v":0},{"$f":"IFERROR(COUNTIFS(Мониторинг!$L$5:$L$10,$B9,Мониторинг!$A$5:$A$10,'Мониторинг тип'!L$1),0)","v":0},{"$f":"IFERROR(COUNTIFS(Мониторинг!$L$5:$L$10,$B9,Мониторинг!$A$5:$A$10,'Мониторинг тип'!M$1),0)","v":0},{"$f":"IFERROR(COUNTIFS(Мониторинг!$L$5:$L$10,$B9,Мониторинг!$A$5:$A$10,'Мониторинг тип'!N$1),0)","v":0},{"$f":"IFERROR(COUNTIFS(Мониторинг!$L$5:$L$10,$B9,Мониторинг!$A$5:$A$10,'Мониторинг тип'!O$1),0)","v":0},{"$f":"IFERROR(COUNTIFS(Мониторинг!$L$5:$L$10,$B9,Мониторинг!$A$5:$A$10,'Мониторинг тип'!P$1),0)","v":0},{"$f":"IFERROR(COUNTIFS(Мониторинг!$L$5:$L$10,$B9,Мониторинг!$A$5:$A$10,'Мониторинг тип'!Q$1),0)","v":0},{"$f":"IFERROR(COUNTIFS(Мониторинг!$L$5:$L$10,$B9,Мониторинг!$A$5:$A$10,'Мониторинг тип'!R$1),0)","v":0},{"$f":"IFERROR(COUNTIFS(Мониторинг!$L$5:$L$10,$B9,Мониторинг!$A$5:$A$10,'Мониторинг тип'!S$1),0)","v":0},{"$f":"IFERROR(COUNTIFS(Мониторинг!$L$5:$L$10,$B9,Мониторинг!$A$5:$A$10,'Мониторинг тип'!T$1),0)","v":0},{"$f":"IFERROR(COUNTIFS(Мониторинг!$L$5:$L$10,$B9,Мониторинг!$A$5:$A$10,'Мониторинг тип'!U$1),0)","v":0},{"$f":"IFERROR(COUNTIFS(Мониторинг!$L$5:$L$10,$B9,Мониторинг!$A$5:$A$10,'Мониторинг тип'!V$1),0)","v":0},{"$f":"IFERROR(COUNTIFS(Мониторинг!$L$5:$L$10,$B9,Мониторинг!$A$5:$A$10,'Мониторинг тип'!W$1),0)","v":0},{"$f":"IFERROR(COUNTIFS(Мониторинг!$L$5:$L$10,$B9,Мониторинг!$A$5:$A$10,'Мониторинг тип'!X$1),0)","v":0},{"$f":"IFERROR(COUNTIFS(Мониторинг!$L$5:$L$10,$B9,Мониторинг!$A$5:$A$10,'Мониторинг тип'!Y$1),0)","v":0},{"$f":"IFERROR(COUNTIFS(Мониторинг!$L$5:$L$10,$B9,Мониторинг!$A$5:$A$10,'Мониторинг тип'!Z$1),0)","v":0},{"$f":"IFERROR(COUNTIFS(Мониторинг!$L$5:$L$10,$B9,Мониторинг!$A$5:$A$10,'Мониторинг тип'!AA$1),0)","v":0},{"$f":"IFERROR(COUNTIFS(Мониторинг!$L$5:$L$10,$B9,Мониторинг!$A$5:$A$10,'Мониторинг тип'!AB$1),0)","v":0},{"$f":"IFERROR(COUNTIFS(Мониторинг!$L$5:$L$10,$B9,Мониторинг!$A$5:$A$10,'Мониторинг тип'!AC$1),0)","v":0},{"$f":"IFERROR(COUNTIFS(Мониторинг!$L$5:$L$10,$B9,Мониторинг!$A$5:$A$10,'Мониторинг тип'!AD$1),0)","v":0},{"$f":"IFERROR(COUNTIFS(Мониторинг!$L$5:$L$10,$B9,Мониторинг!$A$5:$A$10,'Мониторинг тип'!AE$1),0)","v":0},{"$f":"IFERROR(COUNTIFS(Мониторинг!$L$5:$L$10,$B9,Мониторинг!$A$5:$A$10,'Мониторинг тип'!AF$1),0)","v":0},{"$f":"IFERROR(COUNTIFS(Мониторинг!$L$5:$L$10,$B9,Мониторинг!$A$5:$A$10,'Мониторинг тип'!AG$1),0)","v":0}]
[null,{"$f":"Лист1!H14","v":0},{"$f":"SUM(D10:AG10)","v":0},{"$f":"IFERROR(COUNTIFS(Мониторинг!$L$5:$L$10,$B10,Мониторинг!$A$5:$A$10,'Мониторинг тип'!D$1),0)","v":0},{"$f":"IFERROR(COUNTIFS(Мониторинг!$L$5:$L$10,$B10,Мониторинг!$A$5:$A$10,'Мониторинг тип'!E$1),0)","v":0},{"$f":"IFERROR(COUNTIFS(Мониторинг!$L$5:$L$10,$B10,Мониторинг!$A$5:$A$10,'Мониторинг тип'!F$1),0)","v":0},{"$f":"IFERROR(COUNTIFS(Мониторинг!$L$5:$L$10,$B10,Мониторинг!$A$5:$A$10,'Мониторинг тип'!G$1),0)","v":0},{"$f":"IFERROR(COUNTIFS(Мониторинг!$L$5:$L$10,$B10,Мониторинг!$A$5:$A$10,'Мониторинг тип'!H$1),0)","v":0},{"$f":"IFERROR(COUNTIFS(Мониторинг!$L$5:$L$10,$B10,Мониторинг!$A$5:$A$10,'Мониторинг тип'!I$1),0)","v":0},{"$f":"IFERROR(COUNTIFS(Мониторинг!$L$5:$L$10,$B10,Мониторинг!$A$5:$A$10,'Мониторинг тип'!J$1),0)","v":0},{"$f":"IFERROR(COUNTIFS(Мониторинг!$L$5:$L$10,$B10,Мониторинг!$A$5:$A$10,'Мониторинг тип'!K$1),0)","v":0},{"$f":"IFERROR(COUNTIFS(Мониторинг!$L$5:$L$10,$B10,Мониторинг!$A$5:$A$10,'Мониторинг тип'!L$1),0)","v":0},{"$f":"IFERROR(COUNTIFS(Мониторинг!$L$5:$L$10,$B10,Мониторинг!$A$5:$A$10,'Мониторинг тип'!M$1),0)","v":0},{"$f":"IFERROR(COUNTIFS(Мониторинг!$L$5:$L$10,$B10,Мониторинг!$A$5:$A$10,'Мониторинг тип'!N$1),0)","v":0},{"$f":"IFERROR(COUNTIFS(Мониторинг!$L$5:$L$10,$B10,Мониторинг!$A$5:$A$10,'Мониторинг тип'!O$1),0)","v":0},{"$f":"IFERROR(COUNTIFS(Мониторинг!$L$5:$L$10,$B10,Мониторинг!$A$5:$A$10,'Мониторинг тип'!P$1),0)","v":0},{"$f":"IFERROR(COUNTIFS(Мониторинг!$L$5:$L$10,$B10,Мониторинг!$A$5:$A$10,'Мониторинг тип'!Q$1),0)","v":0},{"$f":"IFERROR(COUNTIFS(Мониторинг!$L$5:$L$10,$B10,Мониторинг!$A$5:$A$10,'Мониторинг тип'!R$1),0)","v":0},{"$f":"IFERROR(COUNTIFS(Мониторинг!$L$5:$L$10,$B10,Мониторинг!$A$5:$A$10,'Мониторинг тип'!S$1),0)","v":0},{"$f":"IFERROR(COUNTIFS(Мониторинг!$L$5:$L$10,$B10,Мониторинг!$A$5:$A$10,'Мониторинг тип'!T$1),0)","v":0},{"$f":"IFERROR(COUNTIFS(Мониторинг!$L$5:$L$10,$B10,Мониторинг!$A$5:$A$10,'Мониторинг тип'!U$1),0)","v":0},{"$f":"IFERROR(COUNTIFS(Мониторинг!$L$5:$L$10,$B10,Мониторинг!$A$5:$A$10,'Мониторинг тип'!V$1),0)","v":0},{"$f":"IFERROR(COUNTIFS(Мониторинг!$L$5:$L$10,$B10,Мониторинг!$A$5:$A$10,'Мониторинг тип'!W$1),0)","v":0},{"$f":"IFERROR(COUNTIFS(Мониторинг!$L$5:$L$10,$B10,Мониторинг!$A$5:$A$10,'Мониторинг тип'!X$1),0)","v":0},{"$f":"IFERROR(COUNTIFS(Мониторинг!$L$5:$L$10,$B10,Мониторинг!$A$5:$A$10,'Мониторинг тип'!Y$1),0)","v":0},{"$f":"IFERROR(COUNTIFS(Мониторинг!$L$5:$L$10,$B10,Мониторинг!$A$5:$A$10,'Мониторинг тип'!Z$1),0)","v":0},{"$f":"IFERROR(COUNTIFS(Мониторинг!$L$5:$L$10,$B10,Мониторинг!$A$5:$A$10,'Мониторинг тип'!AA$1),0)","v":0},{"$f":"IFERROR(COUNTIFS(Мониторинг!$L$5:$L$10,$B10,Мониторинг!$A$5:$A$10,'Мониторинг тип'!AB$1),0)","v":0},{"$f":"IFERROR(COUNTIFS(Мониторинг!$L$5:$L$10,$B10,Мониторинг!$A$5:$A$10,'Мониторинг тип'!AC$1),0)","v":0},{"$f":"IFERROR(COUNTIFS(Мониторинг!$L$5:$L$10,$B10,Мониторинг!$A$5:$A$10,'Мониторинг тип'!AD$1),0)","v":0},{"$f":"IFERROR(COUNTIFS(Мониторинг!$L$5:$L$10,$B10,Мониторинг!$A$5:$A$10,'Мониторинг тип'!AE$1),0)","v":0},{"$f":"IFERROR(COUNTIFS(Мониторинг!$L$5:$L$10,$B10,Мониторинг!$A$5:$A$10,'Мониторинг тип'!AF$1),0)","v":0},{"$f":"IFERROR(COUNTIFS(Мониторинг!$L$5:$L$10,$B10,Мониторинг!$A$5:$A$10,'Мониторинг тип'!AG$1),0)","v":0}]
[null,{"$f":"Лист1!H15","v":0},{"$f":"SUM(D11:AG11)","v":0},{"$f":"IFERROR(COUNTIFS(Мониторинг!$L$5:$L$10,$B11,Мониторинг!$A$5:$A$10,'Мониторинг тип'!D$1),0)","v":0},{"$f":"IFERROR(COUNTIFS(Мониторинг!$L$5:$L$10,$B11,Мониторинг!$A$5:$A$10,'Мониторинг тип'!E$1),0)","v":0},{"$f":"IFERROR(COUNTIFS(Мониторинг!$L$5:$L$10,$B11,Мониторинг!$A$5:$A$10,'Мониторинг тип'!F$1),0)","v":0},{"$f":"IFERROR(COUNTIFS(Мониторинг!$L$5:$L$10,$B11,Мониторинг!$A$5:$A$10,'Мониторинг тип'!G$1),0)","v":0},{"$f":"IFERROR(COUNTIFS(Мониторинг!$L$5:$L$10,$B11,Мониторинг!$A$5:$A$10,'Мониторинг тип'!H$1),0)","v":0},{"$f":"IFERROR(COUNTIFS(Мониторинг!$L$5:$L$10,$B11,Мониторинг!$A$5:$A$10,'Мониторинг тип'!I$1),0)","v":0},{"$f":"IFERROR(COUNTIFS(Мониторинг!$L$5:$L$10,$B11,Мониторинг!$A$5:$A$10,'Мониторинг тип'!J$1),0)","v":0},{"$f":"IFERROR(COUNTIFS(Мониторинг!$L$5:$L$10,$B11,Мониторинг!$A$5:$A$10,'Мониторинг тип'!K$1),0)","v":0},{"$f":"IFERROR(COUNTIFS(Мониторинг!$L$5:$L$10,$B11,Мониторинг!$A$5:$A$10,'Мониторинг тип'!L$1),0)","v":0},{"$f":"IFERROR(COUNTIFS(Мониторинг!$L$5:$L$10,$B11,Мониторинг!$A$5:$A$10,'Мониторинг тип'!M$1),0)","v":0},{"$f":"IFERROR(COUNTIFS(Мониторинг!$L$5:$L$10,$B11,Мониторинг!$A$5:$A$10,'Мониторинг тип'!N$1),0)","v":0},{"$f":"IFERROR(COUNTIFS(Мониторинг!$L$5:$L$10,$B11,Мониторинг!$A$5:$A$10,'Мониторинг тип'!O$1),0)","v":0},{"$f":"IFERROR(COUNTIFS(Мониторинг!$L$5:$L$10,$B11,Мониторинг!$A$5:$A$10,'Мониторинг тип'!P$1),0)","v":0},{"$f":"IFERROR(COUNTIFS(Мониторинг!$L$5:$L$10,$B11,Мониторинг!$A$5:$A$10,'Мониторинг тип'!Q$1),0)","v":0},{"$f":"IFERROR(COUNTIFS(Мониторинг!$L$5:$L$10,$B11,Мониторинг!$A$5:$A$10,'Мониторинг тип'!R$1),0)","v":0},{"$f":"IFERROR(COUNTIFS(Мониторинг!$L$5:$L$10,$B11,Мониторинг!$A$5:$A$10,'Мониторинг тип'!S$1),0)","v":0},{"$f":"IFERROR(COUNTIFS(Мониторинг!$L$5:$L$10,$B11,Мониторинг!$A$5:$A$10,'Мониторинг тип'!T$1),0)","v":0},{"$f":"IFERROR(COUNTIFS(Мониторинг!$L$5:$L$10,$B11,Мониторинг!$A$5:$A$10,'Мониторинг тип'!U$1),0)","v":0},{"$f":"IFERROR(COUNTIFS(Мониторинг!$L$5:$L$10,$B11,Мониторинг!$A$5:$A$10,'Мониторинг тип'!V$1),0)","v":0},{"$f":"IFERROR(COUNTIFS(Мониторинг!$L$5:$L$10,$B11,Мониторинг!$A$5:$A$10,'Мониторинг тип'!W$1),0)","v":0},{"$f":"IFERROR(COUNTIFS(Мониторинг!$L$5:$L$10,$B11,Мониторинг!$A$5:$A$10,'Мониторинг тип'!X$1),0)","v":0},{"$f":"IFERROR(COUNTIFS(Мониторинг!$L$5:$L$10,$B11,Мониторинг!$A$5:$A$10,'Мониторинг тип'!Y$1),0)","v":0},{"$f":"IFERROR(COUNTIFS(Мониторинг!$L$5:$L$10,$B11,Мониторинг!$A$5:$A$10,'Мониторинг тип'!Z$1),0)","v":0},{"$f":"IFERROR(COUNTIFS(Мониторинг!$L$5:$L$10,$B11,Мониторинг!$A$5:$A$10,'Мониторинг тип'!AA$1),0)","v":0},{"$f":"IFERROR(COUNTIFS(Мониторинг!$L$5:$L$10,$B11,Мониторинг!$A$5:$A$10,'Мониторинг тип'!AB$1),0)","v":0},{"$f":"IFERROR(COUNTIFS(Мониторинг!$L$5:$L$10,$B11,Мониторинг!$A$5:$A$10,'Мониторинг тип'!AC$1),0)","v":0},{"$f":"IFERROR(COUNTIFS(Мониторинг!$L$5:$L$10,$B11,Мониторинг!$A$5:$A$10,'Мониторинг тип'!AD$1),0)","v":0},{"$f":"IFERROR(COUNTIFS(Мониторинг!$L$5:$L$10,$B11,Мониторинг!$A$5:$A$10,'Мониторинг тип'!AE$1),0)","v":0},{"$f":"IFERROR(COUNTIFS(Мониторинг!$L$5:$L$10,$B11,Мониторинг!$A$5:$A$10,'Мониторинг тип'!AF$1),0)","v":0},{"$f":"IFERROR(COUNTIFS(Мониторинг!$L$5:$L$10,$B11,Мониторинг!$A$5:$A$10,'Мониторинг тип'!AG$1),0)","v":0}]
[null,{"$f":"Лист1!H16","v":0},{"$f":"SUM(D12:AG12)","v":0},{"$f":"IFERROR(COUNTIFS(Мониторинг!$L$5:$L$10,$B12,Мониторинг!$A$5:$A$10,'Мониторинг тип'!D$1),0)","v":0},{"$f":"IFERROR(COUNTIFS(Мониторинг!$L$5:$L$10,$B12,Мониторинг!$A$5:$A$10,'Мониторинг тип'!E$1),0)","v":0},{"$f":"IFERROR(COUNTIFS(Мониторинг!$L$5:$L$10,$B12,Мониторинг!$A$5:$A$10,'Мониторинг тип'!F$1),0)","v":0},{"$f":"IFERROR(COUNTIFS(Мониторинг!$L$5:$L$10,$B12,Мониторинг!$A$5:$A$10,'Мониторинг тип'!G$1),0)","v":0},{"$f":"IFERROR(COUNTIFS(Мониторинг!$L$5:$L$10,$B12,Мониторинг!$A$5:$A$10,'Мониторинг тип'!H$1),0)","v":0},{"$f":"IFERROR(COUNTIFS(Мониторинг!$L$5:$L$10,$B12,Мониторинг!$A$5:$A$10,'Мониторинг тип'!I$1),0)","v":0},{"$f":"IFERROR(COUNTIFS(Мониторинг!$L$5:$L$10,$B12,Мониторинг!$A$5:$A$10,'Мониторинг тип'!J$1),0)","v":0},{"$f":"IFERROR(COUNTIFS(Мониторинг!$L$5:$L$10,$B12,Мониторинг!$A$5:$A$10,'Мониторинг тип'!K$1),0)","v":0},{"$f":"IFERROR(COUNTIFS(Мониторинг!$L$5:$L$10,$B12,Мониторинг!$A$5:$A$10,'Мониторинг тип'!L$1),0)","v":0},{"$f":"IFERROR(COUNTIFS(Мониторинг!$L$5:$L$10,$B12,Мониторинг!$A$5:$A$10,'Мониторинг тип'!M$1),0)","v":0},{"$f":"IFERROR(COUNTIFS(Мониторинг!$L$5:$L$10,$B12,Мониторинг!$A$5:$A$10,'Мониторинг тип'!N$1),0)","v":0},{"$f":"IFERROR(COUNTIFS(Мониторинг!$L$5:$L$10,$B12,Мониторинг!$A$5:$A$10,'Мониторинг тип'!O$1),0)","v":0},{"$f":"IFERROR(COUNTIFS(Мониторинг!$L$5:$L$10,$B12,Мониторинг!$A$5:$A$10,'Мониторинг тип'!P$1),0)","v":0},{"$f":"IFERROR(COUNTIFS(Мониторинг!$L$5:$L$10,$B12,Мониторинг!$A$5:$A$10,'Мониторинг тип'!Q$1),0)","v":0},{"$f":"IFERROR(COUNTIFS(Мониторинг!$L$5:$L$10,$B12,Мониторинг!$A$5:$A$10,'Мониторинг тип'!R$1),0)","v":0},{"$f":"IFERROR(COUNTIFS(Мониторинг!$L$5:$L$10,$B12,Мониторинг!$A$5:$A$10,'Мониторинг тип'!S$1),0)","v":0},{"$f":"IFERROR(COUNTIFS(Мониторинг!$L$5:$L$10,$B12,Мониторинг!$A$5:$A$10,'Мониторинг тип'!T$1),0)","v":0},{"$f":"IFERROR(COUNTIFS(Мониторинг!$L$5:$L$10,$B12,Мониторинг!$A$5:$A$10,'Мониторинг тип'!U$1),0)","v":0},{"$f":"IFERROR(COUNTIFS(Мониторинг!$L$5:$L$10,$B12,Мониторинг!$A$5:$A$10,'Мониторинг тип'!V$1),0)","v":0},{"$f":"IFERROR(COUNTIFS(Мониторинг!$L$5:$L$10,$B12,Мониторинг!$A$5:$A$10,'Мониторинг тип'!W$1),0)","v":0},{"$f":"IFERROR(COUNTIFS(Мониторинг!$L$5:$L$10,$B12,Мониторинг!$A$5:$A$10,'Мониторинг тип'!X$1),0)","v":0},{"$f":"IFERROR(COUNTIFS(Мониторинг!$L$5:$L$10,$B12,Мониторинг!$A$5:$A$10,'Мониторинг тип'!Y$1),0)","v":0},{"$f":"IFERROR(COUNTIFS(Мониторинг!$L$5:$L$10,$B12,Мониторинг!$A$5:$A$10,'Мониторинг тип'!Z$1),0)","v":0},{"$f":"IFERROR(COUNTIFS(Мониторинг!$L$5:$L$10,$B12,Мониторинг!$A$5:$A$10,'Мониторинг тип'!AA$1),0)","v":0},{"$f":"IFERROR(COUNTIFS(Мониторинг!$L$5:$L$10,$B12,Мониторинг!$A$5:$A$10,'Мониторинг тип'!AB$1),0)","v":0},{"$f":"IFERROR(COUNTIFS(Мониторинг!$L$5:$L$10,$B12,Мониторинг!$A$5:$A$10,'Мониторинг тип'!AC$1),0)","v":0},{"$f":"IFERROR(COUNTIFS(Мониторинг!$L$5:$L$10,$B12,Мониторинг!$A$5:$A$10,'Мониторинг тип'!AD$1),0)","v":0},{"$f":"IFERROR(COUNTIFS(Мониторинг!$L$5:$L$10,$B12,Мониторинг!$A$5:$A$10,'Мониторинг тип'!AE$1),0)","v":0},{"$f":"IFERROR(COUNTIFS(Мониторинг!$L$5:$L$10,$B12,Мониторинг!$A$5:$A$10,'Мониторинг тип'!AF$1),0)","v":0},{"$f":"IFERROR(COUNTIFS(Мониторинг!$L$5:$L$10,$B12,Мониторинг!$A$5:$A$10,'Мониторинг тип'!AG$1),0)","v":0}]
[null,{"$f":"Лист1!H17","v":0},0,{"$f":"IFERROR(COUNTIFS(Мониторинг!$L$5:$L$10,$B13,Мониторинг!$A$5:$A$10,'Мониторинг тип'!D$1),0)","v":0},{"$f":"IFERROR(COUNTIFS(Мониторинг!$L$5:$L$10,$B13,Мониторинг!$A$5:$A$10,'Мониторинг тип'!E$1),0)","v":0},{"$f":"IFERROR(COUNTIFS(Мониторинг!$L$5:$L$10,$B13,Мониторинг!$A$5:$A$10,'Мониторинг тип'!F$1),0)","v":0},{"$f":"IFERROR(COUNTIFS(Мониторинг!$L$5:$L$10,$B13,Мониторинг!$A$5:$A$10,'Мониторинг тип'!G$1),0)","v":0},{"$f":"IFERROR(COUNTIFS(Мониторинг!$L$5:$L$10,$B13,Мониторинг!$A$5:$A$10,'Мониторинг тип'!H$1),0)","v":0},{"$f":"IFERROR(COUNTIFS(Мониторинг!$L$5:$L$10,$B13,Мониторинг!$A$5:$A$10,'Мониторинг тип'!I$1),0)","v":0},{"$f":"IFERROR(COUNTIFS(Мониторинг!$L$5:$L$10,$B13,Мониторинг!$A$5:$A$10,'Мониторинг тип'!J$1),0)","v":0},{"$f":"IFERROR(COUNTIFS(Мониторинг!$L$5:$L$10,$B13,Мониторинг!$A$5:$A$10,'Мониторинг тип'!K$1),0)","v":0},{"$f":"IFERROR(COUNTIFS(Мониторинг!$L$5:$L$10,$B13,Мониторинг!$A$5:$A$10,'Мониторинг тип'!L$1),0)","v":0},{"$f":"IFERROR(COUNTIFS(Мониторинг!$L$5:$L$10,$B13,Мониторинг!$A$5:$A$10,'Мониторинг тип'!M$1),0)","v":0},{"$f":"IFERROR(COUNTIFS(Мониторинг!$L$5:$L$10,$B13,Мониторинг!$A$5:$A$10,'Мониторинг тип'!N$1),0)","v":0},{"$f":"IFERROR(COUNTIFS(Мониторинг!$L$5:$L$10,$B13,Мониторинг!$A$5:$A$10,'Мониторинг тип'!O$1),0)","v":0},{"$f":"IFERROR(COUNTIFS(Мониторинг!$L$5:$L$10,$B13,Мониторинг!$A$5:$A$10,'Мониторинг тип'!P$1),0)","v":0},{"$f":"IFERROR(COUNTIFS(Мониторинг!$L$5:$L$10,$B13,Мониторинг!$A$5:$A$10,'Мониторинг тип'!Q$1),0)","v":0},{"$f":"IFERROR(COUNTIFS(Мониторинг!$L$5:$L$10,$B13,Мониторинг!$A$5:$A$10,'Мониторинг тип'!R$1),0)","v":0},{"$f":"IFERROR(COUNTIFS(Мониторинг!$L$5:$L$10,$B13,Мониторинг!$A$5:$A$10,'Мониторинг тип'!S$1),0)","v":0},{"$f":"IFERROR(COUNTIFS(Мониторинг!$L$5:$L$10,$B13,Мониторинг!$A$5:$A$10,'Мониторинг тип'!T$1),0)","v":0},{"$f":"IFERROR(COUNTIFS(Мониторинг!$L$5:$L$10,$B13,Мониторинг!$A$5:$A$10,'Мониторинг тип'!U$1),0)","v":0},{"$f":"IFERROR(COUNTIFS(Мониторинг!$L$5:$L$10,$B13,Мониторинг!$A$5:$A$10,'Мониторинг тип'!V$1),0)","v":0},{"$f":"IFERROR(COUNTIFS(Мониторинг!$L$5:$L$10,$B13,Мониторинг!$A$5:$A$10,'Мониторинг тип'!W$1),0)","v":0},{"$f":"IFERROR(COUNTIFS(Мониторинг!$L$5:$L$10,$B13,Мониторинг!$A$5:$A$10,'Мониторинг тип'!X$1),0)","v":0},{"$f":"IFERROR(COUNTIFS(Мониторинг!$L$5:$L$10,$B13,Мониторинг!$A$5:$A$10,'Мониторинг тип'!Y$1),0)","v":0},{"$f":"IFERROR(COUNTIFS(Мониторинг!$L$5:$L$10,$B13,Мониторинг!$A$5:$A$10,'Мониторинг тип'!Z$1),0)","v":0},{"$f":"IFERROR(COUNTIFS(Мониторинг!$L$5:$L$10,$B13,Мониторинг!$A$5:$A$10,'Мониторинг тип'!AA$1),0)","v":0},{"$f":"IFERROR(COUNTIFS(Мониторинг!$L$5:$L$10,$B13,Мониторинг!$A$5:$A$10,'Мониторинг тип'!AB$1),0)","v":0},{"$f":"IFERROR(COUNTIFS(Мониторинг!$L$5:$L$10,$B13,Мониторинг!$A$5:$A$10,'Мониторинг тип'!AC$1),0)","v":0},{"$f":"IFERROR(COUNTIFS(Мониторинг!$L$5:$L$10,$B13,Мониторинг!$A$5:$A$10,'Мониторинг тип'!AD$1),0)","v":0},{"$f":"IFERROR(COUNTIFS(Мониторинг!$L$5:$L$10,$B13,Мониторинг!$A$5:$A$10,'Мониторинг тип'!AE$1),0)","v":0},{"$f":"IFERROR(COUNTIFS(Мониторинг!$L$5:$L$10,$B13,Мониторинг!$A$5:$A$10,'Мониторинг тип'!AF$1),0)","v":0},{"$f":"IFERROR(COUNTIFS(Мониторинг!$L$5:$L$10,$B13,Мониторинг!$A$5:$A$10,'Мониторинг тип'!AG$1),0)","v":0}]
[null,"% информирования",{"$f":"IF(SUM(C9:C13)<>0,(C9*100%+(C10*50%)+(C11*30%)+(C12*0%)+(C13*100%))/SUM(C9:C13),\"\")","v":""},{"$f":"IF(SUM(D9:D13)<>0,(D9*100%+(D10*50%)+(D11*30%)+(D12*0%)+(D13*100%))/SUM(D9:D13),\"\")","v":""},"","","","","","","","","","","","","","","","","","","","","","","","","","","","",""]
[" Презентация оптимального предложения",{"$f":"Лист1!I13","v":0},{"$f":"SUM(D15:AG15)","v":0},{"$f":"IFERROR(COUNTIFS(Мониторинг!$N$5:$N$10,'Мониторинг тип'!$B15,Мониторинг!$A$5:$A$10,D$1),0)","v":0},{"$f":"IFERROR(COUNTIFS(Мониторинг!$N$5:$N$10,'Мониторинг тип'!$B15,Мониторинг!$A$5:$A$10,E$1),0)","v":0},{"$f":"IFERROR(COUNTIFS(Мониторинг!$N$5:$N$10,'Мониторинг тип'!$B15,Мониторинг!$A$5:$A$10,F$1),0)","v":0},{"$f":"IFERROR(COUNTIFS(Мониторинг!$N$5:$N$10,'Мониторинг тип'!$B15,Мониторинг!$A$5:$A$10,G$1),0)","v":0},{"$f":"IFERROR(COUNTIFS(Мониторинг!$N$5:$N$10,'Мониторинг тип'!$B15,Мониторинг!$A$5:$A$10,H$1),0)","v":0},{"$f":"IFERROR(COUNTIFS(Мониторинг!$N$5:$N$10,'Мониторинг тип'!$B15,Мониторинг!$A$5:$A$10,I$1),0)","v":0},{"$f":"IFERROR(COUNTIFS(Мониторинг!$N$5:$N$10,'Мониторинг тип'!$B15,Мониторинг!$A$5:$A$10,J$1),0)","v":0},{"$f":"IFERROR(COUNTIFS(Мониторинг!$N$5:$N$10,'Мониторинг тип'!$B15,Мониторинг!$A$5:$A$10,K$1),0)","v":0},{"$f":"IFERROR(COUNTIFS(Мониторинг!$N$5:$N$10,'Мониторинг тип'!$B15,Мониторинг!$A$5:$A$10,L$1),0)","v":0},{"$f":"IFERROR(COUNTIFS(Мониторинг!$N$5:$N$10,'Мониторинг тип'!$B15,Мониторинг!$A$5:$A$10,M$1),0)","v":0},{"$f":"IFERROR(COUNTIFS(Мониторинг!$N$5:$N$10,'Мониторинг тип'!$B15,Мониторинг!$A$5:$A$10,N$1),0)","v":0},{"$f":"IFERROR(COUNTIFS(Мониторинг!$N$5:$N$10,'Мониторинг тип'!$B15,Мониторинг!$A$5:$A$10,O$1),0)","v":0},{"$f":"IFERROR(COUNTIFS(Мониторинг!$N$5:$N$10,'Мониторинг тип'!$B15,Мониторинг!$A$5:$A$10,P$1),0)","v":0},{"$f":"IFERROR(COUNTIFS(Мониторинг!$N$5:$N$10,'Мониторинг тип'!$B15,Мониторинг!$A$5:$A$10,Q$1),0)","v":0},{"$f":"IFERROR(COUNTIFS(Мониторинг!$N$5:$N$10,'Мониторинг тип'!$B15,Мониторинг!$A$5:$A$10,R$1),0)","v":0},{"$f":"IFERROR(COUNTIFS(Мониторинг!$N$5:$N$10,'Мониторинг тип'!$B15,Мониторинг!$A$5:$A$10,S$1),0)","v":0},{"$f":"IFERROR(COUNTIFS(Мониторинг!$N$5:$N$10,'Мониторинг тип'!$B15,Мониторинг!$A$5:$A$10,T$1),0)","v":0},{"$f":"IFERROR(COUNTIFS(Мониторинг!$N$5:$N$10,'Мониторинг тип'!$B15,Мониторинг!$A$5:$A$10,U$1),0)","v":0},{"$f":"IFERROR(COUNTIFS(Мониторинг!$N$5:$N$10,'Мониторинг тип'!$B15,Мониторинг!$A$5:$A$10,V$1),0)","v":0},{"$f":"IFERROR(COUNTIFS(Мониторинг!$N$5:$N$10,'Мониторинг тип'!$B15,Мониторинг!$A$5:$A$10,W$1),0)","v":0},{"$f":"IFERROR(COUNTIFS(Мониторинг!$N$5:$N$10,'Мониторинг тип'!$B15,Мониторинг!$A$5:$A$10,X$1),0)","v":0},{"$f":"IFERROR(COUNTIFS(Мониторинг!$N$5:$N$10,'Мониторинг тип'!$B15,Мониторинг!$A$5:$A$10,Y$1),0)","v":0},{"$f":"IFERROR(COUNTIFS(Мониторинг!$N$5:$N$10,'Мониторинг тип'!$B15,Мониторинг!$A$5:$A$10,Z$1),0)","v":0},{"$f":"IFERROR(COUNTIFS(Мониторинг!$N$5:$N$10,'Мониторинг тип'!$B15,Мониторинг!$A$5:$A$10,AA$1),0)","v":0},{"$f":"IFERROR(COUNTIFS(Мониторинг!$N$5:$N$10,'Мониторинг тип'!$B15,Мониторинг!$A$5:$A$10,AB$1),0)","v":0},{"$f":"IFERROR(COUNTIFS(Мониторинг!$N$5:$N$10,'Мониторинг тип'!$B15,Мониторинг!$A$5:$A$10,AC$1),0)","v":0},{"$f":"IFERROR(COUNTIFS(Мониторинг!$N$5:$N$10,'Мониторинг тип'!$B15,Мониторинг!$A$5:$A$10,AD$1),0)","v":0},{"$f":"IFERROR(COUNTIFS(Мониторинг!$N$5:$N$10,'Мониторинг тип'!$B15,Мониторинг!$A$5:$A$10,AE$1),0)","v":0},{"$f":"IFERROR(COUNTIFS(Мониторинг!$N$5:$N$10,'Мониторинг тип'!$B15,Мониторинг!$A$5:$A$10,AF$1),0)","v":0},{"$f":"IFERROR(COUNTIFS(Мониторинг!$N$5:$N$10,'Мониторинг тип'!$B15,Мониторинг!$A$5:$A$10,AG$1),0)","v":0}]
[null,{"$f":"Лист1!I14","v":0},{"$f":"SUM(D16:AG16)","v":0},{"$f":"IFERROR(COUNTIFS(Мониторинг!$N$5:$N$10,'Мониторинг тип'!$B16,Мониторинг!$A$5:$A$10,D$1),0)","v":0},{"$f":"IFERROR(COUNTIFS(Мониторинг!$N$5:$N$10,'Мониторинг тип'!$B16,Мониторинг!$A$5:$A$10,E$1),0)","v":0},{"$f":"IFERROR(COUNTIFS(Мониторинг!$N$5:$N$10,'Мониторинг тип'!$B16,Мониторинг!$A$5:$A$10,F$1),0)","v":0},{"$f":"IFERROR(COUNTIFS(Мониторинг!$N$5:$N$10,'Мониторинг тип'!$B16,Мониторинг!$A$5:$A$10,G$1),0)","v":0},{"$f":"IFERROR(COUNTIFS(Мониторинг!$N$5:$N$10,'Мониторинг тип'!$B16,Мониторинг!$A$5:$A$10,H$1),0)","v":0},{"$f":"IFERROR(COUNTIFS(Мониторинг!$N$5:$N$10,'Мониторинг тип'!$B16,Мониторинг!$A$5:$A$10,I$1),0)","v":0},{"$f":"IFERROR(COUNTIFS(Мониторинг!$N$5:$N$10,'Мониторинг тип'!$B16,Мониторинг!$A$5:$A$10,J$1),0)","v":0},{"$f":"IFERROR(COUNTIFS(Мониторинг!$N$5:$N$10,'Мониторинг тип'!$B16,Мониторинг!$A$5:$A$10,K$1),0)","v":0},{"$f":"IFERROR(COUNTIFS(Мониторинг!$N$5:$N$10,'Мониторинг тип'!$B16,Мониторинг!$A$5:$A$10,L$1),0)","v":0},{"$f":"IFERROR(COUNTIFS(Мониторинг!$N$5:$N$10,'Мониторинг тип'!$B16,Мониторинг!$A$5:$A$10,M$1),0)","v":0},{"$f":"IFERROR(COUNTIFS(Мониторинг!$N$5:$N$10,'Мониторинг тип'!$B16,Мониторинг!$A$5:$A$10,N$1),0)","v":0},{"$f":"IFERROR(COUNTIFS(Мониторинг!$N$5:$N$10,'Мониторинг тип'!$B16,Мониторинг!$A$5:$A$10,O$1),0)","v":0},{"$f":"IFERROR(COUNTIFS(Мониторинг!$N$5:$N$10,'Мониторинг тип'!$B16,Мониторинг!$A$5:$A$10,P$1),0)","v":0},{"$f":"IFERROR(COUNTIFS(Мониторинг!$N$5:$N$10,'Мониторинг тип'!$B16,Мониторинг!$A$5:$A$10,Q$1),0)","v":0},{"$f":"IFERROR(COUNTIFS(Мониторинг!$N$5:$N$10,'Мониторинг тип'!$B16,Мониторинг!$A$5:$A$10,R$1),0)","v":0},{"$f":"IFERROR(COUNTIFS(Мониторинг!$N$5:$N$10,'Мониторинг тип'!$B16,Мониторинг!$A$5:$A$10,S$1),0)","v":0},{"$f":"IFERROR(COUNTIFS(Мониторинг!$N$5:$N$10,'Мониторинг тип'!$B16,Мониторинг!$A$5:$A$10,T$1),0)","v":0},{"$f":"IFERROR(COUNTIFS(Мониторинг!$N$5:$N$10,'Мониторинг тип'!$B16,Мониторинг!$A$5:$A$10,U$1),0)","v":0},{"$f":"IFERROR(COUNTIFS(Мониторинг!$N$5:$N$10,'Мониторинг тип'!$B16,Мониторинг!$A$5:$A$10,V$1),0)","v":0},{"$f":"IFERROR(COUNTIFS(Мониторинг!$N$5:$N$10,'Мониторинг тип'!$B16,Мониторинг!$A$5:$A$10,W$1),0)","v":0},{"$f":"IFERROR(COUNTIFS(Мониторинг!$N$5:$N$10,'Мониторинг тип'!$B16,Мониторинг!$A$5:$A$10,X$1),0)","v":0},{"$f":"IFERROR(COUNTIFS(Мониторинг!$N$5:$N$10,'Мониторинг тип'!$B16,Мониторинг!$A$5:$A$10,Y$1),0)","v":0},{"$f":"IFERROR(COUNTIFS(Мониторинг!$N$5:$N$10,'Мониторинг тип'!$B16,Мониторинг!$A$5:$A$10,Z$1),0)","v":0},{"$f":"IFERROR(COUNTIFS(Мониторинг!$N$5:$N$10,'Мониторинг тип'!$B16,Мониторинг!$A$5:$A$10,AA$1),0)","v":0},{"$f":"IFERROR(COUNTIFS(Мониторинг!$N$5:$N$10,'Мониторинг тип'!$B16,Мониторинг!$A$5:$A$10,AB$1),0)","v":0},{"$f":"IFERROR(COUNTIFS(Мониторинг!$N$5:$N$10,'Мониторинг тип'!$B16,Мониторинг!$A$5:$A$10,AC$1),0)","v":0},{"$f":"IFERROR(COUNTIFS(Мониторинг!$N$5:$N$10,'Мониторинг тип'!$B16,Мониторинг!$A$5:$A$10,AD$1),0)","v":0},{"$f":"IFERROR(COUNTIFS(Мониторинг!$N$5:$N$10,'Мониторинг тип'!$B16,Мониторинг!$A$5:$A$10,AE$1),0)","v":0},{"$f":"IFERROR(COUNTIFS(Мониторинг!$N$5:$N$10,'Мониторинг тип'!$B16,Мониторинг!$A$5:$A$10,AF$1),0)","v":0},{"$f":"IFERROR(COUNTIFS(Мониторинг!$N$5:$N$10,'Мониторинг тип'!$B16,Мониторинг!$A$5:$A$10,AG$1),0)","v":0}]
[null,{"$f":"Лист1!I15","v":0},{"$f":"SUM(D17:AG17)","v":0},{"$f":"IFERROR(COUNTIFS(Мониторинг!$N$5:$N$10,'Мониторинг тип'!$B17,Мониторинг!$A$5:$A$10,D$1),0)","v":0},{"$f":"IFERROR(COUNTIFS(Мониторинг!$N$5:$N$10,'Мониторинг тип'!$B17,Мониторинг!$A$5:$A$10,E$1),0)","v":0},{"$f":"IFERROR(COUNTIFS(Мониторинг!$N$5:$N$10,'Мониторинг тип'!$B17,Мониторинг!$A$5:$A$10,F$1),0)","v":0},{"$f":"IFERROR(COUNTIFS(Мониторинг!$N$5:$N$10,'Мониторинг тип'!$B17,Мониторинг!$A$5:$A$10,G$1),0)","v":0},{"$f":"IFERROR(COUNTIFS(Мониторинг!$N$5:$N$10,'Мониторинг тип'!$B17,Мониторинг!$A$5:$A$10,H$1),0)","v":0},{"$f":"IFERROR(COUNTIFS(Мониторинг!$N$5:$N$10,'Мониторинг тип'!$B17,Мониторинг!$A$5:$A$10,I$1),0)","v":0},{"$f":"IFERROR(COUNTIFS(Мониторинг!$N$5:$N$10,'Мониторинг тип'!$B17,Мониторинг!$A$5:$A$10,J$1),0)","v":0},{"$f":"IFERROR(COUNTIFS(Мониторинг!$N$5:$N$10,'Мониторинг тип'!$B17,Мониторинг!$A$5:$A$10,K$1),0)","v":0},{"$f":"IFERROR(COUNTIFS(Мониторинг!$N$5:$N$10,'Мониторинг тип'!$B17,Мониторинг!$A$5:$A$10,L$1),0)","v":0},{"$f":"IFERROR(COUNTIFS(Мониторинг!$N$5:$N$10,'Мониторинг тип'!$B17,Мониторинг!$A$5:$A$10,M$1),0)","v":0},{"$f":"IFERROR(COUNTIFS(Мониторинг!$N$5:$N$10,'Мониторинг тип'!$B17,Мониторинг!$A$5:$A$10,N$1),0)","v":0},{"$f":"IFERROR(COUNTIFS(Мониторинг!$N$5:$N$10,'Мониторинг тип'!$B17,Мониторинг!$A$5:$A$10,O$1),0)","v":0},{"$f":"IFERROR(COUNTIFS(Мониторинг!$N$5:$N$10,'Мониторинг тип'!$B17,Мониторинг!$A$5:$A$10,P$1),0)","v":0},{"$f":"IFERROR(COUNTIFS(Мониторинг!$N$5:$N$10,'Мониторинг тип'!$B17,Мониторинг!$A$5:$A$10,Q$1),0)","v":0},{"$f":"IFERROR(COUNTIFS(Мониторинг!$N$5:$N$10,'Мониторинг тип'!$B17,Мониторинг!$A$5:$A$10,R$1),0)","v":0},{"$f":"IFERROR(COUNTIFS(Мониторинг!$N$5:$N$10,'Мониторинг тип'!$B17,Мониторинг!$A$5:$A$10,S$1),0)","v":0},{"$f":"IFERROR(COUNTIFS(Мониторинг!$N$5:$N$10,'Мониторинг тип'!$B17,Мониторинг!$A$5:$A$10,T$1),0)","v":0},{"$f":"IFERROR(COUNTIFS(Мониторинг!$N$5:$N$10,'Мониторинг тип'!$B17,Мониторинг!$A$5:$A$10,U$1),0)","v":0},{"$f":"IFERROR(COUNTIFS(Мониторинг!$N$5:$N$10,'Мониторинг тип'!$B17,Мониторинг!$A$5:$A$10,V$1),0)","v":0},{"$f":"IFERROR(COUNTIFS(Мониторинг!$N$5:$N$10,'Мониторинг тип'!$B17,Мониторинг!$A$5:$A$10,W$1),0)","v":0},{"$f":"IFERROR(COUNTIFS(Мониторинг!$N$5:$N$10,'Мониторинг тип'!$B17,Мониторинг!$A$5:$A$10,X$1),0)","v":0},{"$f":"IFERROR(COUNTIFS(Мониторинг!$N$5:$N$10,'Мониторинг тип'!$B17,Мониторинг!$A$5:$A$10,Y$1),0)","v":0},{"$f":"IFERROR(COUNTIFS(Мониторинг!$N$5:$N$10,'Мониторинг тип'!$B17,Мониторинг!$A$5:$A$10,Z$1),0)","v":0},{"$f":"IFERROR(COUNTIFS(Мониторинг!$N$5:$N$10,'Мониторинг тип'!$B17,Мониторинг!$A$5:$A$10,AA$1),0)","v":0},{"$f":"IFERROR(COUNTIFS(Мониторинг!$N$5:$N$10,'Мониторинг тип'!$B17,Мониторинг!$A$5:$A$10,AB$1),0)","v":0},{"$f":"IFERROR(COUNTIFS(Мониторинг!$N$5:$N$10,'Мониторинг тип'!$B17,Мониторинг!$A$5:$A$10,AC$1),0)","v":0},{"$f":"IFERROR(COUNTIFS(Мониторинг!$N$5:$N$10,'Мониторинг тип'!$B17,Мониторинг!$A$5:$A$10,AD$1),0)","v":0},{"$f":"IFERROR(COUNTIFS(Мониторинг!$N$5:$N$10,'Мониторинг тип'!$B17,Мониторинг!$A$5:$A$10,AE$1),0)","v":0},{"$f":"IFERROR(COUNTIFS(Мониторинг!$N$5:$N$10,'Мониторинг тип'!$B17,Мониторинг!$A$5:$A$10,AF$1),0)","v":0},{"$f":"IFERROR(COUNTIFS(Мониторинг!$N$5:$N$10,'Мониторинг тип'!$B17,Мониторинг!$A$5:$A$10,AG$1),0)","v":0}]
[null,{"$f":"Лист1!I16","v":0},{"$f":"SUM(D18:AG18)","v":0},{"$f":"IFERROR(COUNTIFS(Мониторинг!$N$5:$N$10,'Мониторинг тип'!$B18,Мониторинг!$A$5:$A$10,D$1),0)","v":0},{"$f":"IFERROR(COUNTIFS(Мониторинг!$N$5:$N$10,'Мониторинг тип'!$B18,Мониторинг!$A$5:$A$10,E$1),0)","v":0},{"$f":"IFERROR(COUNTIFS(Мониторинг!$N$5:$N$10,'Мониторинг тип'!$B18,Мониторинг!$A$5:$A$10,F$1),0)","v":0},{"$f":"IFERROR(COUNTIFS(Мониторинг!$N$5:$N$10,'Мониторинг тип'!$B18,Мониторинг!$A$5:$A$10,G$1),0)","v":0},{"$f":"IFERROR(COUNTIFS(Мониторинг!$N$5:$N$10,'Мониторинг тип'!$B18,Мониторинг!$A$5:$A$10,H$1),0)","v":0},{"$f":"IFERROR(COUNTIFS(Мониторинг!$N$5:$N$10,'Мониторинг тип'!$B18,Мониторинг!$A$5:$A$10,I$1),0)","v":0},{"$f":"IFERROR(COUNTIFS(Мониторинг!$N$5:$N$10,'Мониторинг тип'!$B18,Мониторинг!$A$5:$A$10,J$1),0)","v":0},{"$f":"IFERROR(COUNTIFS(Мониторинг!$N$5:$N$10,'Мониторинг тип'!$B18,Мониторинг!$A$5:$A$10,K$1),0)","v":0},{"$f":"IFERROR(COUNTIFS(Мониторинг!$N$5:$N$10,'Мониторинг тип'!$B18,Мониторинг!$A$5:$A$10,L$1),0)","v":0},{"$f":"IFERROR(COUNTIFS(Мониторинг!$N$5:$N$10,'Мониторинг тип'!$B18,Мониторинг!$A$5:$A$10,M$1),0)","v":0},{"$f":"IFERROR(COUNTIFS(Мониторинг!$N$5:$N$10,'Мониторинг тип'!$B18,Мониторинг!$A$5:$A$10,N$1),0)","v":0},{"$f":"IFERROR(COUNTIFS(Мониторинг!$N$5:$N$10,'Мониторинг тип'!$B18,Мониторинг!$A$5:$A$10,O$1),0)","v":0},{"$f":"IFERROR(COUNTIFS(Мониторинг!$N$5:$N$10,'Мониторинг тип'!$B18,Мониторинг!$A$5:$A$10,P$1),0)","v":0},{"$f":"IFERROR(COUNTIFS(Мониторинг!$N$5:$N$10,'Мониторинг тип'!$B18,Мониторинг!$A$5:$A$10,Q$1),0)","v":0},{"$f":"IFERROR(COUNTIFS(Мониторинг!$N$5:$N$10,'Мониторинг тип'!$B18,Мониторинг!$A$5:$A$10,R$1),0)","v":0},{"$f":"IFERROR(COUNTIFS(Мониторинг!$N$5:$N$10,'Мониторинг тип'!$B18,Мониторинг!$A$5:$A$10,S$1),0)","v":0},{"$f":"IFERROR(COUNTIFS(Мониторинг!$N$5:$N$10,'Мониторинг тип'!$B18,Мониторинг!$A$5:$A$10,T$1),0)","v":0},{"$f":"IFERROR(COUNTIFS(Мониторинг!$N$5:$N$10,'Мониторинг тип'!$B18,Мониторинг!$A$5:$A$10,U$1),0)","v":0},{"$f":"IFERROR(COUNTIFS(Мониторинг!$N$5:$N$10,'Мониторинг тип'!$B18,Мониторинг!$A$5:$A$10,V$1),0)","v":0},{"$f":"IFERROR(COUNTIFS(Мониторинг!$N$5:$N$10,'Мониторинг тип'!$B18,Мониторинг!$A$5:$A$10,W$1),0)","v":0},{"$f":"IFERROR(COUNTIFS(Мониторинг!$N$5:$N$10,'Мониторинг тип'!$B18,Мониторинг!$A$5:$A$10,X$1),0)","v":0},{"$f":"IFERROR(COUNTIFS(Мониторинг!$N$5:$N$10,'Мониторинг тип'!$B18,Мониторинг!$A$5:$A$10,Y$1),0)","v":0},{"$f":"IFERROR(COUNTIFS(Мониторинг!$N$5:$N$10,'Мониторинг тип'!$B18,Мониторинг!$A$5:$A$10,Z$1),0)","v":0},{"$f":"IFERROR(COUNTIFS(Мониторинг!$N$5:$N$10,'Мониторинг тип'!$B18,Мониторинг!$A$5:$A$10,AA$1),0)","v":0},{"$f":"IFERROR(COUNTIFS(Мониторинг!$N$5:$N$10,'Мониторинг тип'!$B18,Мониторинг!$A$5:$A$10,AB$1),0)","v":0},{"$f":"IFERROR(COUNTIFS(Мониторинг!$N$5:$N$10,'Мониторинг тип'!$B18,Мониторинг!$A$5:$A$10,AC$1),0)","v":0},{"$f":"IFERROR(COUNTIFS(Мониторинг!$N$5:$N$10,'Мониторинг тип'!$B18,Мониторинг!$A$5:$A$10,AD$1),0)","v":0},{"$f":"IFERROR(COUNTIFS(Мониторинг!$N$5:$N$10,'Мониторинг тип'!$B18,Мониторинг!$A$5:$A$10,AE$1),0)","v":0},{"$f":"IFERROR(COUNTIFS(Мониторинг!$N$5:$N$10,'Мониторинг тип'!$B18,Мониторинг!$A$5:$A$10,AF$1),0)","v":0},{"$f":"IFERROR(COUNTIFS(Мониторинг!$N$5:$N$10,'Мониторинг тип'!$B18,Мониторинг!$A$5:$A$10,AG$1),0)","v":0}]
[null,{"$f":"Лист1!I17","v":0},0,{"$f":"IFERROR(COUNTIFS(Мониторинг!$N$5:$N$10,'Мониторинг тип'!$B19,Мониторинг!$A$5:$A$10,D$1),0)","v":0},{"$f":"IFERROR(COUNTIFS(Мониторинг!$N$5:$N$10,'Мониторинг тип'!$B19,Мониторинг!$A$5:$A$10,E$1),0)","v":0},{"$f":"IFERROR(COUNTIFS(Мониторинг!$N$5:$N$10,'Мониторинг тип'!$B19,Мониторинг!$A$5:$A$10,F$1),0)","v":0},{"$f":"IFERROR(COUNTIFS(Мониторинг!$N$5:$N$10,'Мониторинг тип'!$B19,Мониторинг!$A$5:$A$10,G$1),0)","v":0},{"$f":"IFERROR(COUNTIFS(Мониторинг!$N$5:$N$10,'Мониторинг тип'!$B19,Мониторинг!$A$5:$A$10,H$1),0)","v":0},{"$f":"IFERROR(COUNTIFS(Мониторинг!$N$5:$N$10,'Мониторинг тип'!$B19,Мониторинг!$A$5:$A$10,I$1),0)","v":0},{"$f":"IFERROR(COUNTIFS(Мониторинг!$N$5:$N$10,'Мониторинг тип'!$B19,Мониторинг!$A$5:$A$10,J$1),0)","v":0},{"$f":"IFERROR(COUNTIFS(Мониторинг!$N$5:$N$10,'Мониторинг тип'!$B19,Мониторинг!$A$5:$A$10,K$1),0)","v":0},{"$f":"IFERROR(COUNTIFS(Мониторинг!$N$5:$N$10,'Мониторинг тип'!$B19,Мониторинг!$A$5:$A$10,L$1),0)","v":0},{"$f":"IFERROR(COUNTIFS(Мониторинг!$N$5:$N$10,'Мониторинг тип'!$B19,Мониторинг!$A$5:$A$10,M$1),0)","v":0},{"$f":"IFERROR(COUNTIFS(Мониторинг!$N$5:$N$10,'Мониторинг тип'!$B19,Мониторинг!$A$5:$A$10,N$1),0)","v":0},{"$f":"IFERROR(COUNTIFS(Мониторинг!$N$5:$N$10,'Мониторинг тип'!$B19,Мониторинг!$A$5:$A$10,O$1),0)","v":0},{"$f":"IFERROR(COUNTIFS(Мониторинг!$N$5:$N$10,'Мониторинг тип'!$B19,Мониторинг!$A$5:$A$10,P$1),0)","v":0},{"$f":"IFERROR(COUNTIFS(Мониторинг!$N$5:$N$10,'Мониторинг тип'!$B19,Мониторинг!$A$5:$A$10,Q$1),0)","v":0},{"$f":"IFERROR(COUNTIFS(Мониторинг!$N$5:$N$10,'Мониторинг тип'!$B19,Мониторинг!$A$5:$A$10,R$1),0)","v":0},{"$f":"IFERROR(COUNTIFS(Мониторинг!$N$5:$N$10,'Мониторинг тип'!$B19,Мониторинг!$A$5:$A$10,S$1),0)","v":0},{"$f":"IFERROR(COUNTIFS(Мониторинг!$N$5:$N$10,'Мониторинг тип'!$B19,Мониторинг!$A$5:$A$10,T$1),0)","v":0},{"$f":"IFERROR(COUNTIFS(Мониторинг!$N$5:$N$10,'Мониторинг тип'!$B19,Мониторинг!$A$5:$A$10,U$1),0)","v":0},{"$f":"IFERROR(COUNTIFS(Мониторинг!$N$5:$N$10,'Мониторинг тип'!$B19,Мониторинг!$A$5:$A$10,V$1),0)","v":0},{"$f":"IFERROR(COUNTIFS(Мониторинг!$N$5:$N$10,'Мониторинг тип'!$B19,Мониторинг!$A$5:$A$10,W$1),0)","v":0},{"$f":"IFERROR(COUNTIFS(Мониторинг!$N$5:$N$10,'Мониторинг тип'!$B19,Мониторинг!$A$5:$A$10,X$1),0)","v":0},{"$f":"IFERROR(COUNTIFS(Мониторинг!$N$5:$N$10,'Мониторинг тип'!$B19,Мониторинг!$A$5:$A$10,Y$1),0)","v":0},{"$f":"IFERROR(COUNTIFS(Мониторинг!$N$5:$N$10,'Мониторинг тип'!$B19,Мониторинг!$A$5:$A$10,Z$1),0)","v":0},{"$f":"IFERROR(COUNTIFS(Мониторинг!$N$5:$N$10,'Мониторинг тип'!$B19,Мониторинг!$A$5:$A$10,AA$1),0)","v":0},{"$f":"IFERROR(COUNTIFS(Мониторинг!$N$5:$N$10,'Мониторинг тип'!$B19,Мониторинг!$A$5:$A$10,AB$1),0)","v":0},{"$f":"IFERROR(COUNTIFS(Мониторинг!$N$5:$N$10,'Мониторинг тип'!$B19,Мониторинг!$A$5:$A$10,AC$1),0)","v":0},{"$f":"IFERROR(COUNTIFS(Мониторинг!$N$5:$N$10,'Мониторинг тип'!$B19,Мониторинг!$A$5:$A$10,AD$1),0)","v":0},{"$f":"IFERROR(COUNTIFS(Мониторинг!$N$5:$N$10,'Мониторинг тип'!$B19,Мониторинг!$A$5:$A$10,AE$1),0)","v":0},{"$f":"IFERROR(COUNTIFS(Мониторинг!$N$5:$N$10,'Мониторинг тип'!$B19,Мониторинг!$A$5:$A$10,AF$1),0)","v":0},{"$f":"IFERROR(COUNTIFS(Мониторинг!$N$5:$N$10,'Мониторинг тип'!$B19,Мониторинг!$A$5:$A$10,AG$1),0)","v":0}]
[null,"% информирования",{"$f":"IF(SUM(C15:C19)<>0,(C15*100%+(C16*50%)+(C17*30%)+(C18*0%)+(C19*100%))/SUM(C15:C19),\"\")","v":""},{"$f":"IF(SUM(D15:D19)<>0,(D15*100%+(D16*50%)+(D17*30%)+(D18*0%)+(D19*100%))/SUM(D15:D19),\"\")","v":""},"","","","","","","","","","","","","","","","","","","","","","","","","","","","",""]
["Использование фраз выгод ",{"$f":"Лист1!J13","v":0},{"$f":"SUM(D21:AG21)","v":0},{"$f":"IFERROR(COUNTIFS(Мониторинг!$O$5:$O$10,'Мониторинг тип'!$B21,Мониторинг!$A$5:$A$10,'Мониторинг тип'!D$1),0)","v":0},{"$f":"IFERROR(COUNTIFS(Мониторинг!$O$5:$O$10,'Мониторинг тип'!$B21,Мониторинг!$A$5:$A$10,'Мониторинг тип'!E$1),0)","v":0},{"$f":"IFERROR(COUNTIFS(Мониторинг!$O$5:$O$10,'Мониторинг тип'!$B21,Мониторинг!$A$5:$A$10,'Мониторинг тип'!F$1),0)","v":0},{"$f":"IFERROR(COUNTIFS(Мониторинг!$O$5:$O$10,'Мониторинг тип'!$B21,Мониторинг!$A$5:$A$10,'Мониторинг тип'!G$1),0)","v":0},{"$f":"IFERROR(COUNTIFS(Мониторинг!$O$5:$O$10,'Мониторинг тип'!$B21,Мониторинг!$A$5:$A$10,'Мониторинг тип'!H$1),0)","v":0},{"$f":"IFERROR(COUNTIFS(Мониторинг!$O$5:$O$10,'Мониторинг тип'!$B21,Мониторинг!$A$5:$A$10,'Мониторинг тип'!I$1),0)","v":0},{"$f":"IFERROR(COUNTIFS(Мониторинг!$O$5:$O$10,'Мониторинг тип'!$B21,Мониторинг!$A$5:$A$10,'Мониторинг тип'!J$1),0)","v":0},{"$f":"IFERROR(COUNTIFS(Мониторинг!$O$5:$O$10,'Мониторинг тип'!$B21,Мониторинг!$A$5:$A$10,'Мониторинг тип'!K$1),0)","v":0},{"$f":"IFERROR(COUNTIFS(Мониторинг!$O$5:$O$10,'Мониторинг тип'!$B21,Мониторинг!$A$5:$A$10,'Мониторинг тип'!L$1),0)","v":0},{"$f":"IFERROR(COUNTIFS(Мониторинг!$O$5:$O$10,'Мониторинг тип'!$B21,Мониторинг!$A$5:$A$10,'Мониторинг тип'!M$1),0)","v":0},{"$f":"IFERROR(COUNTIFS(Мониторинг!$O$5:$O$10,'Мониторинг тип'!$B21,Мониторинг!$A$5:$A$10,'Мониторинг тип'!N$1),0)","v":0},{"$f":"IFERROR(COUNTIFS(Мониторинг!$O$5:$O$10,'Мониторинг тип'!$B21,Мониторинг!$A$5:$A$10,'Мониторинг тип'!O$1),0)","v":0},{"$f":"IFERROR(COUNTIFS(Мониторинг!$O$5:$O$10,'Мониторинг тип'!$B21,Мониторинг!$A$5:$A$10,'Мониторинг тип'!P$1),0)","v":0},{"$f":"IFERROR(COUNTIFS(Мониторинг!$O$5:$O$10,'Мониторинг тип'!$B21,Мониторинг!$A$5:$A$10,'Мониторинг тип'!Q$1),0)","v":0},{"$f":"IFERROR(COUNTIFS(Мониторинг!$O$5:$O$10,'Мониторинг тип'!$B21,Мониторинг!$A$5:$A$10,'Мониторинг тип'!R$1),0)","v":0},{"$f":"IFERROR(COUNTIFS(Мониторинг!$O$5:$O$10,'Мониторинг тип'!$B21,Мониторинг!$A$5:$A$10,'Мониторинг тип'!S$1),0)","v":0},{"$f":"IFERROR(COUNTIFS(Мониторинг!$O$5:$O$10,'Мониторинг тип'!$B21,Мониторинг!$A$5:$A$10,'Мониторинг тип'!T$1),0)","v":0},{"$f":"IFERROR(COUNTIFS(Мониторинг!$O$5:$O$10,'Мониторинг тип'!$B21,Мониторинг!$A$5:$A$10,'Мониторинг тип'!U$1),0)","v":0},{"$f":"IFERROR(COUNTIFS(Мониторинг!$O$5:$O$10,'Мониторинг тип'!$B21,Мониторинг!$A$5:$A$10,'Мониторинг тип'!V$1),0)","v":0},{"$f":"IFERROR(COUNTIFS(Мониторинг!$O$5:$O$10,'Мониторинг тип'!$B21,Мониторинг!$A$5:$A$10,'Мониторинг тип'!W$1),0)","v":0},{"$f":"IFERROR(COUNTIFS(Мониторинг!$O$5:$O$10,'Мониторинг тип'!$B21,Мониторинг!$A$5:$A$10,'Мониторинг тип'!X$1),0)","v":0},{"$f":"IFERROR(COUNTIFS(Мониторинг!$O$5:$O$10,'Мониторинг тип'!$B21,Мониторинг!$A$5:$A$10,'Мониторинг тип'!Y$1),0)","v":0},{"$f":"IFERROR(COUNTIFS(Мониторинг!$O$5:$O$10,'Мониторинг тип'!$B21,Мониторинг!$A$5:$A$10,'Мониторинг тип'!Z$1),0)","v":0},{"$f":"IFERROR(COUNTIFS(Мониторинг!$O$5:$O$10,'Мониторинг тип'!$B21,Мониторинг!$A$5:$A$10,'Мониторинг тип'!AA$1),0)","v":0},{"$f":"IFERROR(COUNTIFS(Мониторинг!$O$5:$O$10,'Мониторинг тип'!$B21,Мониторинг!$A$5:$A$10,'Мониторинг тип'!AB$1),0)","v":0},{"$f":"IFERROR(COUNTIFS(Мониторинг!$O$5:$O$10,'Мониторинг тип'!$B21,Мониторинг!$A$5:$A$10,'Мониторинг тип'!AC$1),0)","v":0},{"$f":"IFERROR(COUNTIFS(Мониторинг!$O$5:$O$10,'Мониторинг тип'!$B21,Мониторинг!$A$5:$A$10,'Мониторинг тип'!AD$1),0)","v":0},{"$f":"IFERROR(COUNTIFS(Мониторинг!$O$5:$O$10,'Мониторинг тип'!$B21,Мониторинг!$A$5:$A$10,'Мониторинг тип'!AE$1),0)","v":0},{"$f":"IFERROR(COUNTIFS(Мониторинг!$O$5:$O$10,'Мониторинг тип'!$B21,Мониторинг!$A$5:$A$10,'Мониторинг тип'!AF$1),0)","v":0},{"$f":"IFERROR(COUNTIFS(Мониторинг!$O$5:$O$10,'Мониторинг тип'!$B21,Мониторинг!$A$5:$A$10,'Мониторинг тип'!AG$1),0)","v":0}]
[null,{"$f":"Лист1!J14","v":0},{"$f":"SUM(D22:AG22)","v":0},{"$f":"IFERROR(COUNTIFS(Мониторинг!$O$5:$O$10,'Мониторинг тип'!$B22,Мониторинг!$A$5:$A$10,'Мониторинг тип'!D$1),0)","v":0},{"$f":"IFERROR(COUNTIFS(Мониторинг!$O$5:$O$10,'Мониторинг тип'!$B22,Мониторинг!$A$5:$A$10,'Мониторинг тип'!E$1),0)","v":0},{"$f":"IFERROR(COUNTIFS(Мониторинг!$O$5:$O$10,'Мониторинг тип'!$B22,Мониторинг!$A$5:$A$10,'Мониторинг тип'!F$1),0)","v":0},{"$f":"IFERROR(COUNTIFS(Мониторинг!$O$5:$O$10,'Мониторинг тип'!$B22,Мониторинг!$A$5:$A$10,'Мониторинг тип'!G$1),0)","v":0},{"$f":"IFERROR(COUNTIFS(Мониторинг!$O$5:$O$10,'Мониторинг тип'!$B22,Мониторинг!$A$5:$A$10,'Мониторинг тип'!H$1),0)","v":0},{"$f":"IFERROR(COUNTIFS(Мониторинг!$O$5:$O$10,'Мониторинг тип'!$B22,Мониторинг!$A$5:$A$10,'Мониторинг тип'!I$1),0)","v":0},{"$f":"IFERROR(COUNTIFS(Мониторинг!$O$5:$O$10,'Мониторинг тип'!$B22,Мониторинг!$A$5:$A$10,'Мониторинг тип'!J$1),0)","v":0},{"$f":"IFERROR(COUNTIFS(Мониторинг!$O$5:$O$10,'Мониторинг тип'!$B22,Мониторинг!$A$5:$A$10,'Мониторинг тип'!K$1),0)","v":0},{"$f":"IFERROR(COUNTIFS(Мониторинг!$O$5:$O$10,'Мониторинг тип'!$B22,Мониторинг!$A$5:$A$10,'Мониторинг тип'!L$1),0)","v":0},{"$f":"IFERROR(COUNTIFS(Мониторинг!$O$5:$O$10,'Мониторинг тип'!$B22,Мониторинг!$A$5:$A$10,'Мониторинг тип'!M$1),0)","v":0},{"$f":"IFERROR(COUNTIFS(Мониторинг!$O$5:$O$10,'Мониторинг тип'!$B22,Мониторинг!$A$5:$A$10,'Мониторинг тип'!N$1),0)","v":0},{"$f":"IFERROR(COUNTIFS(Мониторинг!$O$5:$O$10,'Мониторинг тип'!$B22,Мониторинг!$A$5:$A$10,'Мониторинг тип'!O$1),0)","v":0},{"$f":"IFERROR(COUNTIFS(Мониторинг!$O$5:$O$10,'Мониторинг тип'!$B22,Мониторинг!$A$5:$A$10,'Мониторинг тип'!P$1),0)","v":0},{"$f":"IFERROR(COUNTIFS(Мониторинг!$O$5:$O$10,'Мониторинг тип'!$B22,Мониторинг!$A$5:$A$10,'Мониторинг тип'!Q$1),0)","v":0},{"$f":"IFERROR(COUNTIFS(Мониторинг!$O$5:$O$10,'Мониторинг тип'!$B22,Мониторинг!$A$5:$A$10,'Мониторинг тип'!R$1),0)","v":0},{"$f":"IFERROR(COUNTIFS(Мониторинг!$O$5:$O$10,'Мониторинг тип'!$B22,Мониторинг!$A$5:$A$10,'Мониторинг тип'!S$1),0)","v":0},{"$f":"IFERROR(COUNTIFS(Мониторинг!$O$5:$O$10,'Мониторинг тип'!$B22,Мониторинг!$A$5:$A$10,'Мониторинг тип'!T$1),0)","v":0},{"$f":"IFERROR(COUNTIFS(Мониторинг!$O$5:$O$10,'Мониторинг тип'!$B22,Мониторинг!$A$5:$A$10,'Мониторинг тип'!U$1),0)","v":0},{"$f":"IFERROR(COUNTIFS(Мониторинг!$O$5:$O$10,'Мониторинг тип'!$B22,Мониторинг!$A$5:$A$10,'Мониторинг тип'!V$1),0)","v":0},{"$f":"IFERROR(COUNTIFS(Мониторинг!$O$5:$O$10,'Мониторинг тип'!$B22,Мониторинг!$A$5:$A$10,'Мониторинг тип'!W$1),0)","v":0},{"$f":"IFERROR(COUNTIFS(Мониторинг!$O$5:$O$10,'Мониторинг тип'!$B22,Мониторинг!$A$5:$A$10,'Мониторинг тип'!X$1),0)","v":0},{"$f":"IFERROR(COUNTIFS(Мониторинг!$O$5:$O$10,'Мониторинг тип'!$B22,Мониторинг!$A$5:$A$10,'Мониторинг тип'!Y$1),0)","v":0},{"$f":"IFERROR(COUNTIFS(Мониторинг!$O$5:$O$10,'Мониторинг тип'!$B22,Мониторинг!$A$5:$A$10,'Мониторинг тип'!Z$1),0)","v":0},{"$f":"IFERROR(COUNTIFS(Мониторинг!$O$5:$O$10,'Мониторинг тип'!$B22,Мониторинг!$A$5:$A$10,'Мониторинг тип'!AA$1),0)","v":0},{"$f":"IFERROR(COUNTIFS(Мониторинг!$O$5:$O$10,'Мониторинг тип'!$B22,Мониторинг!$A$5:$A$10,'Мониторинг тип'!AB$1),0)","v":0},{"$f":"IFERROR(COUNTIFS(Мониторинг!$O$5:$O$10,'Мониторинг тип'!$B22,Мониторинг!$A$5:$A$10,'Мониторинг тип'!AC$1),0)","v":0},{"$f":"IFERROR(COUNTIFS(Мониторинг!$O$5:$O$10,'Мониторинг тип'!$B22,Мониторинг!$A$5:$A$10,'Мониторинг тип'!AD$1),0)","v":0},{"$f":"IFERROR(COUNTIFS(Мониторинг!$O$5:$O$10,'Мониторинг тип'!$B22,Мониторинг!$A$5:$A$10,'Мониторинг тип'!AE$1),0)","v":0},{"$f":"IFERROR(COUNTIFS(Мониторинг!$O$5:$O$10,'Мониторинг тип'!$B22,Мониторинг!$A$5:$A$10,'Мониторинг тип'!AF$1),0)","v":0},{"$f":"IFERROR(COUNTIFS(Мониторинг!$O$5:$O$10,'Мониторинг тип'!$B22,Мониторинг!$A$5:$A$10,'Мониторинг тип'!AG$1),0)","v":0}]
[null,{"$f":"Лист1!J15","v":0},{"$f":"SUM(D23:AG23)","v":0},{"$f":"IFERROR(COUNTIFS(Мониторинг!$O$5:$O$10,'Мониторинг тип'!$B23,Мониторинг!$A$5:$A$10,'Мониторинг тип'!D$1),0)","v":0},{"$f":"IFERROR(COUNTIFS(Мониторинг!$O$5:$O$10,'Мониторинг тип'!$B23,Мониторинг!$A$5:$A$10,'Мониторинг тип'!E$1),0)","v":0},{"$f":"IFERROR(COUNTIFS(Мониторинг!$O$5:$O$10,'Мониторинг тип'!$B23,Мониторинг!$A$5:$A$10,'Мониторинг тип'!F$1),0)","v":0},{"$f":"IFERROR(COUNTIFS(Мониторинг!$O$5:$O$10,'Мониторинг тип'!$B23,Мониторинг!$A$5:$A$10,'Мониторинг тип'!G$1),0)","v":0},{"$f":"IFERROR(COUNTIFS(Мониторинг!$O$5:$O$10,'Мониторинг тип'!$B23,Мониторинг!$A$5:$A$10,'Мониторинг тип'!H$1),0)","v":0},{"$f":"IFERROR(COUNTIFS(Мониторинг!$O$5:$O$10,'Мониторинг тип'!$B23,Мониторинг!$A$5:$A$10,'Мониторинг тип'!I$1),0)","v":0},{"$f":"IFERROR(COUNTIFS(Мониторинг!$O$5:$O$10,'Мониторинг тип'!$B23,Мониторинг!$A$5:$A$10,'Мониторинг тип'!J$1),0)","v":0},{"$f":"IFERROR(COUNTIFS(Мониторинг!$O$5:$O$10,'Мониторинг тип'!$B23,Мониторинг!$A$5:$A$10,'Мониторинг тип'!K$1),0)","v":0},{"$f":"IFERROR(COUNTIFS(Мониторинг!$O$5:$O$10,'Мониторинг тип'!$B23,Мониторинг!$A$5:$A$10,'Мониторинг тип'!L$1),0)","v":0},{"$f":"IFERROR(COUNTIFS(Мониторинг!$O$5:$O$10,'Мониторинг тип'!$B23,Мониторинг!$A$5:$A$10,'Мониторинг тип'!M$1),0)","v":0},{"$f":"IFERROR(COUNTIFS(Мониторинг!$O$5:$O$10,'Мониторинг тип'!$B23,Мониторинг!$A$5:$A$10,'Мониторинг тип'!N$1),0)","v":0},{"$f":"IFERROR(COUNTIFS(Мониторинг!$O$5:$O$10,'Мониторинг тип'!$B23,Мониторинг!$A$5:$A$10,'Мониторинг тип'!O$1),0)","v":0},{"$f":"IFERROR(COUNTIFS(Мониторинг!$O$5:$O$10,'Мониторинг тип'!$B23,Мониторинг!$A$5:$A$10,'Мониторинг тип'!P$1),0)","v":0},{"$f":"IFERROR(COUNTIFS(Мониторинг!$O$5:$O$10,'Мониторинг тип'!$B23,Мониторинг!$A$5:$A$10,'Мониторинг тип'!Q$1),0)","v":0},{"$f":"IFERROR(COUNTIFS(Мониторинг!$O$5:$O$10,'Мониторинг тип'!$B23,Мониторинг!$A$5:$A$10,'Мониторинг тип'!R$1),0)","v":0},{"$f":"IFERROR(COUNTIFS(Мониторинг!$O$5:$O$10,'Мониторинг тип'!$B23,Мониторинг!$A$5:$A$10,'Мониторинг тип'!S$1),0)","v":0},{"$f":"IFERROR(COUNTIFS(Мониторинг!$O$5:$O$10,'Мониторинг тип'!$B23,Мониторинг!$A$5:$A$10,'Мониторинг тип'!T$1),0)","v":0},{"$f":"IFERROR(COUNTIFS(Мониторинг!$O$5:$O$10,'Мониторинг тип'!$B23,Мониторинг!$A$5:$A$10,'Мониторинг тип'!U$1),0)","v":0},{"$f":"IFERROR(COUNTIFS(Мониторинг!$O$5:$O$10,'Мониторинг тип'!$B23,Мониторинг!$A$5:$A$10,'Мониторинг тип'!V$1),0)","v":0},{"$f":"IFERROR(COUNTIFS(Мониторинг!$O$5:$O$10,'Мониторинг тип'!$B23,Мониторинг!$A$5:$A$10,'Мониторинг тип'!W$1),0)","v":0},{"$f":"IFERROR(COUNTIFS(Мониторинг!$O$5:$O$10,'Мониторинг тип'!$B23,Мониторинг!$A$5:$A$10,'Мониторинг тип'!X$1),0)","v":0},{"$f":"IFERROR(COUNTIFS(Мониторинг!$O$5:$O$10,'Мониторинг тип'!$B23,Мониторинг!$A$5:$A$10,'Мониторинг тип'!Y$1),0)","v":0},{"$f":"IFERROR(COUNTIFS(Мониторинг!$O$5:$O$10,'Мониторинг тип'!$B23,Мониторинг!$A$5:$A$10,'Мониторинг тип'!Z$1),0)","v":0},{"$f":"IFERROR(COUNTIFS(Мониторинг!$O$5:$O$10,'Мониторинг тип'!$B23,Мониторинг!$A$5:$A$10,'Мониторинг тип'!AA$1),0)","v":0},{"$f":"IFERROR(COUNTIFS(Мониторинг!$O$5:$O$10,'Мониторинг тип'!$B23,Мониторинг!$A$5:$A$10,'Мониторинг тип'!AB$1),0)","v":0},{"$f":"IFERROR(COUNTIFS(Мониторинг!$O$5:$O$10,'Мониторинг тип'!$B23,Мониторинг!$A$5:$A$10,'Мониторинг тип'!AC$1),0)","v":0},{"$f":"IFERROR(COUNTIFS(Мониторинг!$O$5:$O$10,'Мониторинг тип'!$B23,Мониторинг!$A$5:$A$10,'Мониторинг тип'!AD$1),0)","v":0},{"$f":"IFERROR(COUNTIFS(Мониторинг!$O$5:$O$10,'Мониторинг тип'!$B23,Мониторинг!$A$5:$A$10,'Мониторинг тип'!AE$1),0)","v":0},{"$f":"IFERROR(COUNTIFS(Мониторинг!$O$5:$O$10,'Мониторинг тип'!$B23,Мониторинг!$A$5:$A$10,'Мониторинг тип'!AF$1),0)","v":0},{"$f":"IFERROR(COUNTIFS(Мониторинг!$O$5:$O$10,'Мониторинг тип'!$B23,Мониторинг!$A$5:$A$10,'Мониторинг тип'!AG$1),0)","v":0}]
[null,{"$f":"Лист1!J16","v":0},{"$f":"SUM(D24:AG24)","v":0},{"$f":"IFERROR(COUNTIFS(Мониторинг!$O$5:$O$10,'Мониторинг тип'!$B24,Мониторинг!$A$5:$A$10,'Мониторинг тип'!D$1),0)","v":0},{"$f":"IFERROR(COUNTIFS(Мониторинг!$O$5:$O$10,'Мониторинг тип'!$B24,Мониторинг!$A$5:$A$10,'Мониторинг тип'!E$1),0)","v":0},{"$f":"IFERROR(COUNTIFS(Мониторинг!$O$5:$O$10,'Мониторинг тип'!$B24,Мониторинг!$A$5:$A$10,'Мониторинг тип'!F$1),0)","v":0},{"$f":"IFERROR(COUNTIFS(Мониторинг!$O$5:$O$10,'Мониторинг тип'!$B24,Мониторинг!$A$5:$A$10,'Мониторинг тип'!G$1),0)","v":0},{"$f":"IFERROR(COUNTIFS(Мониторинг!$O$5:$O$10,'Мониторинг тип'!$B24,Мониторинг!$A$5:$A$10,'Мониторинг тип'!H$1),0)","v":0},{"$f":"IFERROR(COUNTIFS(Мониторинг!$O$5:$O$10,'Мониторинг тип'!$B24,Мониторинг!$A$5:$A$10,'Мониторинг тип'!I$1),0)","v":0},{"$f":"IFERROR(COUNTIFS(Мониторинг!$O$5:$O$10,'Мониторинг тип'!$B24,Мониторинг!$A$5:$A$10,'Мониторинг тип'!J$1),0)","v":0},{"$f":"IFERROR(COUNTIFS(Мониторинг!$O$5:$O$10,'Мониторинг тип'!$B24,Мониторинг!$A$5:$A$10,'Мониторинг тип'!K$1),0)","v":0},{"$f":"IFERROR(COUNTIFS(Мониторинг!$O$5:$O$10,'Мониторинг тип'!$B24,Мониторинг!$A$5:$A$10,'Мониторинг тип'!L$1),0)","v":0},{"$f":"IFERROR(COUNTIFS(Мониторинг!$O$5:$O$10,'Мониторинг тип'!$B24,Мониторинг!$A$5:$A$10,'Мониторинг тип'!M$1),0)","v":0},{"$f":"IFERROR(COUNTIFS(Мониторинг!$O$5:$O$10,'Мониторинг тип'!$B24,Мониторинг!$A$5:$A$10,'Мониторинг тип'!N$1),0)","v":0},{"$f":"IFERROR(COUNTIFS(Мониторинг!$O$5:$O$10,'Мониторинг тип'!$B24,Мониторинг!$A$5:$A$10,'Мониторинг тип'!O$1),0)","v":0},{"$f":"IFERROR(COUNTIFS(Мониторинг!$O$5:$O$10,'Мониторинг тип'!$B24,Мониторинг!$A$5:$A$10,'Мониторинг тип'!P$1),0)","v":0},{"$f":"IFERROR(COUNTIFS(Мониторинг!$O$5:$O$10,'Мониторинг тип'!$B24,Мониторинг!$A$5:$A$10,'Мониторинг тип'!Q$1),0)","v":0},{"$f":"IFERROR(COUNTIFS(Мониторинг!$O$5:$O$10,'Мониторинг тип'!$B24,Мониторинг!$A$5:$A$10,'Мониторинг тип'!R$1),0)","v":0},{"$f":"IFERROR(COUNTIFS(Мониторинг!$O$5:$O$10,'Мониторинг тип'!$B24,Мониторинг!$A$5:$A$10,'Мониторинг тип'!S$1),0)","v":0},{"$f":"IFERROR(COUNTIFS(Мониторинг!$O$5:$O$10,'Мониторинг тип'!$B24,Мониторинг!$A$5:$A$10,'Мониторинг тип'!T$1),0)","v":0},{"$f":"IFERROR(COUNTIFS(Мониторинг!$O$5:$O$10,'Мониторинг тип'!$B24,Мониторинг!$A$5:$A$10,'Мониторинг тип'!U$1),0)","v":0},{"$f":"IFERROR(COUNTIFS(Мониторинг!$O$5:$O$10,'Мониторинг тип'!$B24,Мониторинг!$A$5:$A$10,'Мониторинг тип'!V$1),0)","v":0},{"$f":"IFERROR(COUNTIFS(Мониторинг!$O$5:$O$10,'Мониторинг тип'!$B24,Мониторинг!$A$5:$A$10,'Мониторинг тип'!W$1),0)","v":0},{"$f":"IFERROR(COUNTIFS(Мониторинг!$O$5:$O$10,'Мониторинг тип'!$B24,Мониторинг!$A$5:$A$10,'Мониторинг тип'!X$1),0)","v":0},{"$f":"IFERROR(COUNTIFS(Мониторинг!$O$5:$O$10,'Мониторинг тип'!$B24,Мониторинг!$A$5:$A$10,'Мониторинг тип'!Y$1),0)","v":0},{"$f":"IFERROR(COUNTIFS(Мониторинг!$O$5:$O$10,'Мониторинг тип'!$B24,Мониторинг!$A$5:$A$10,'Мониторинг тип'!Z$1),0)","v":0},{"$f":"IFERROR(COUNTIFS(Мониторинг!$O$5:$O$10,'Мониторинг тип'!$B24,Мониторинг!$A$5:$A$10,'Мониторинг тип'!AA$1),0)","v":0},{"$f":"IFERROR(COUNTIFS(Мониторинг!$O$5:$O$10,'Мониторинг тип'!$B24,Мониторинг!$A$5:$A$10,'Мониторинг тип'!AB$1),0)","v":0},{"$f":"IFERROR(COUNTIFS(Мониторинг!$O$5:$O$10,'Мониторинг тип'!$B24,Мониторинг!$A$5:$A$10,'Мониторинг тип'!AC$1),0)","v":0},{"$f":"IFERROR(COUNTIFS(Мониторинг!$O$5:$O$10,'Мониторинг тип'!$B24,Мониторинг!$A$5:$A$10,'Мониторинг тип'!AD$1),0)","v":0},{"$f":"IFERROR(COUNTIFS(Мониторинг!$O$5:$O$10,'Мониторинг тип'!$B24,Мониторинг!$A$5:$A$10,'Мониторинг тип'!AE$1),0)","v":0},{"$f":"IFERROR(COUNTIFS(Мониторинг!$O$5:$O$10,'Мониторинг тип'!$B24,Мониторинг!$A$5:$A$10,'Мониторинг тип'!AF$1),0)","v":0},{"$f":"IFERROR(COUNTIFS(Мониторинг!$O$5:$O$10,'Мониторинг тип'!$B24,Мониторинг!$A$5:$A$10,'Мониторинг тип'!AG$1),0)","v":0}]
[null,{"$f":"Лист1!J17","v":0},0,{"$f":"IFERROR(COUNTIFS(Мониторинг!$O$5:$O$10,'Мониторинг тип'!$B25,Мониторинг!$A$5:$A$10,'Мониторинг тип'!D$1),0)","v":0},{"$f":"IFERROR(COUNTIFS(Мониторинг!$O$5:$O$10,'Мониторинг тип'!$B25,Мониторинг!$A$5:$A$10,'Мониторинг тип'!E$1),0)","v":0},{"$f":"IFERROR(COUNTIFS(Мониторинг!$O$5:$O$10,'Мониторинг тип'!$B25,Мониторинг!$A$5:$A$10,'Мониторинг тип'!F$1),0)","v":0},{"$f":"IFERROR(COUNTIFS(Мониторинг!$O$5:$O$10,'Мониторинг тип'!$B25,Мониторинг!$A$5:$A$10,'Мониторинг тип'!G$1),0)","v":0},{"$f":"IFERROR(COUNTIFS(Мониторинг!$O$5:$O$10,'Мониторинг тип'!$B25,Мониторинг!$A$5:$A$10,'Мониторинг тип'!H$1),0)","v":0},{"$f":"IFERROR(COUNTIFS(Мониторинг!$O$5:$O$10,'Мониторинг тип'!$B25,Мониторинг!$A$5:$A$10,'Мониторинг тип'!I$1),0)","v":0},{"$f":"IFERROR(COUNTIFS(Мониторинг!$O$5:$O$10,'Мониторинг тип'!$B25,Мониторинг!$A$5:$A$10,'Мониторинг тип'!J$1),0)","v":0},{"$f":"IFERROR(COUNTIFS(Мониторинг!$O$5:$O$10,'Мониторинг тип'!$B25,Мониторинг!$A$5:$A$10,'Мониторинг тип'!K$1),0)","v":0},{"$f":"IFERROR(COUNTIFS(Мониторинг!$O$5:$O$10,'Мониторинг тип'!$B25,Мониторинг!$A$5:$A$10,'Мониторинг тип'!L$1),0)","v":0},{"$f":"IFERROR(COUNTIFS(Мониторинг!$O$5:$O$10,'Мониторинг тип'!$B25,Мониторинг!$A$5:$A$10,'Мониторинг тип'!M$1),0)","v":0},{"$f":"IFERROR(COUNTIFS(Мониторинг!$O$5:$O$10,'Мониторинг тип'!$B25,Мониторинг!$A$5:$A$10,'Мониторинг тип'!N$1),0)","v":0},{"$f":"IFERROR(COUNTIFS(Мониторинг!$O$5:$O$10,'Мониторинг тип'!$B25,Мониторинг!$A$5:$A$10,'Мониторинг тип'!O$1),0)","v":0},{"$f":"IFERROR(COUNTIFS(Мониторинг!$O$5:$O$10,'Мониторинг тип'!$B25,Мониторинг!$A$5:$A$10,'Мониторинг тип'!P$1),0)","v":0},{"$f":"IFERROR(COUNTIFS(Мониторинг!$O$5:$O$10,'Мониторинг тип'!$B25,Мониторинг!$A$5:$A$10,'Мониторинг тип'!Q$1),0)","v":0},{"$f":"IFERROR(COUNTIFS(Мониторинг!$O$5:$O$10,'Мониторинг тип'!$B25,Мониторинг!$A$5:$A$10,'Мониторинг тип'!R$1),0)","v":0},{"$f":"IFERROR(COUNTIFS(Мониторинг!$O$5:$O$10,'Мониторинг тип'!$B25,Мониторинг!$A$5:$A$10,'Мониторинг тип'!S$1),0)","v":0},{"$f":"IFERROR(COUNTIFS(Мониторинг!$O$5:$O$10,'Мониторинг тип'!$B25,Мониторинг!$A$5:$A$10,'Мониторинг тип'!T$1),0)","v":0},{"$f":"IFERROR(COUNTIFS(Мониторинг!$O$5:$O$10,'Мониторинг тип'!$B25,Мониторинг!$A$5:$A$10,'Мониторинг тип'!U$1),0)","v":0},{"$f":"IFERROR(COUNTIFS(Мониторинг!$O$5:$O$10,'Мониторинг тип'!$B25,Мониторинг!$A$5:$A$10,'Мониторинг тип'!V$1),0)","v":0},{"$f":"IFERROR(COUNTIFS(Мониторинг!$O$5:$O$10,'Мониторинг тип'!$B25,Мониторинг!$A$5:$A$10,'Мониторинг тип'!W$1),0)","v":0},{"$f":"IFERROR(COUNTIFS(Мониторинг!$O$5:$O$10,'Мониторинг тип'!$B25,Мониторинг!$A$5:$A$10,'Мониторинг тип'!X$1),0)","v":0},{"$f":"IFERROR(COUNTIFS(Мониторинг!$O$5:$O$10,'Мониторинг тип'!$B25,Мониторинг!$A$5:$A$10,'Мониторинг тип'!Y$1),0)","v":0},{"$f":"IFERROR(COUNTIFS(Мониторинг!$O$5:$O$10,'Мониторинг тип'!$B25,Мониторинг!$A$5:$A$10,'Мониторинг тип'!Z$1),0)","v":0},{"$f":"IFERROR(COUNTIFS(Мониторинг!$O$5:$O$10,'Мониторинг тип'!$B25,Мониторинг!$A$5:$A$10,'Мониторинг тип'!AA$1),0)","v":0},{"$f":"IFERROR(COUNTIFS(Мониторинг!$O$5:$O$10,'Мониторинг тип'!$B25,Мониторинг!$A$5:$A$10,'Мониторинг тип'!AB$1),0)","v":0},{"$f":"IFERROR(COUNTIFS(Мониторинг!$O$5:$O$10,'Мониторинг тип'!$B25,Мониторинг!$A$5:$A$10,'Мониторинг тип'!AC$1),0)","v":0},{"$f":"IFERROR(COUNTIFS(Мониторинг!$O$5:$O$10,'Мониторинг тип'!$B25,Мониторинг!$A$5:$A$10,'Мониторинг тип'!AD$1),0)","v":0},{"$f":"IFERROR(COUNTIFS(Мониторинг!$O$5:$O$10,'Мониторинг тип'!$B25,Мониторинг!$A$5:$A$10,'Мониторинг тип'!AE$1),0)","v":0},{"$f":"IFERROR(COUNTIFS(Мониторинг!$O$5:$O$10,'Мониторинг тип'!$B25,Мониторинг!$A$5:$A$10,'Мониторинг тип'!AF$1),0)","v":0},{"$f":"IFERROR(COUNTIFS(Мониторинг!$O$5:$O$10,'Мониторинг тип'!$B25,Мониторинг!$A$5:$A$10,'Мониторинг тип'!AG$1),0)","v":0}]
[null,"% информирования",{"$f":"IF(SUM(C21:C25)<>0,(C21*100%+(C22*50%)+(C23*30%)+(C24*0%)+(C25*100%))/SUM(C21:C25),\"\")","v":""},{"$f":"IF(SUM(D21:D25)<>0,(D21*100%+(D22*50%)+(D23*30%)+(D24*0%)+(D25*100%))/SUM(D21:D25),\"\")","v":""},"","","","","","","","","","","","","","","","","","","","","","","","","","","","",""]
["Использование техник работы с ценой",{"$f":"Лист1!K13","v":0},{"$f":"SUM(D27:AG27)","v":0},{"$f":"IFERROR(COUNTIFS(Мониторинг!$P$5:$P$10,'Мониторинг тип'!$B27,Мониторинг!$A$5:$A$10,'Мониторинг тип'!D$1),0)","v":0},{"$f":"IFERROR(COUNTIFS(Мониторинг!$P$5:$P$10,'Мониторинг тип'!$B27,Мониторинг!$A$5:$A$10,'Мониторинг тип'!E$1),0)","v":0},{"$f":"IFERROR(COUNTIFS(Мониторинг!$P$5:$P$10,'Мониторинг тип'!$B27,Мониторинг!$A$5:$A$10,'Мониторинг тип'!F$1),0)","v":0},{"$f":"IFERROR(COUNTIFS(Мониторинг!$P$5:$P$10,'Мониторинг тип'!$B27,Мониторинг!$A$5:$A$10,'Мониторинг тип'!G$1),0)","v":0},{"$f":"IFERROR(COUNTIFS(Мониторинг!$P$5:$P$10,'Мониторинг тип'!$B27,Мониторинг!$A$5:$A$10,'Мониторинг тип'!H$1),0)","v":0},{"$f":"IFERROR(COUNTIFS(Мониторинг!$P$5:$P$10,'Мониторинг тип'!$B27,Мониторинг!$A$5:$A$10,'Мониторинг тип'!I$1),0)","v":0},{"$f":"IFERROR(COUNTIFS(Мониторинг!$P$5:$P$10,'Мониторинг тип'!$B27,Мониторинг!$A$5:$A$10,'Мониторинг тип'!J$1),0)","v":0},{"$f":"IFERROR(COUNTIFS(Мониторинг!$P$5:$P$10,'Мониторинг тип'!$B27,Мониторинг!$A$5:$A$10,'Мониторинг тип'!K$1),0)","v":0},{"$f":"IFERROR(COUNTIFS(Мониторинг!$P$5:$P$10,'Мониторинг тип'!$B27,Мониторинг!$A$5:$A$10,'Мониторинг тип'!L$1),0)","v":0},{"$f":"IFERROR(COUNTIFS(Мониторинг!$P$5:$P$10,'Мониторинг тип'!$B27,Мониторинг!$A$5:$A$10,'Мониторинг тип'!M$1),0)","v":0},{"$f":"IFERROR(COUNTIFS(Мониторинг!$P$5:$P$10,'Мониторинг тип'!$B27,Мониторинг!$A$5:$A$10,'Мониторинг тип'!N$1),0)","v":0},{"$f":"IFERROR(COUNTIFS(Мониторинг!$P$5:$P$10,'Мониторинг тип'!$B27,Мониторинг!$A$5:$A$10,'Мониторинг тип'!O$1),0)","v":0},{"$f":"IFERROR(COUNTIFS(Мониторинг!$P$5:$P$10,'Мониторинг тип'!$B27,Мониторинг!$A$5:$A$10,'Мониторинг тип'!P$1),0)","v":0},{"$f":"IFERROR(COUNTIFS(Мониторинг!$P$5:$P$10,'Мониторинг тип'!$B27,Мониторинг!$A$5:$A$10,'Мониторинг тип'!Q$1),0)","v":0},{"$f":"IFERROR(COUNTIFS(Мониторинг!$P$5:$P$10,'Мониторинг тип'!$B27,Мониторинг!$A$5:$A$10,'Мониторинг тип'!R$1),0)","v":0},{"$f":"IFERROR(COUNTIFS(Мониторинг!$P$5:$P$10,'Мониторинг тип'!$B27,Мониторинг!$A$5:$A$10,'Мониторинг тип'!S$1),0)","v":0},{"$f":"IFERROR(COUNTIFS(Мониторинг!$P$5:$P$10,'Мониторинг тип'!$B27,Мониторинг!$A$5:$A$10,'Мониторинг тип'!T$1),0)","v":0},{"$f":"IFERROR(COUNTIFS(Мониторинг!$P$5:$P$10,'Мониторинг тип'!$B27,Мониторинг!$A$5:$A$10,'Мониторинг тип'!U$1),0)","v":0},{"$f":"IFERROR(COUNTIFS(Мониторинг!$P$5:$P$10,'Мониторинг тип'!$B27,Мониторинг!$A$5:$A$10,'Мониторинг тип'!V$1),0)","v":0},{"$f":"IFERROR(COUNTIFS(Мониторинг!$P$5:$P$10,'Мониторинг тип'!$B27,Мониторинг!$A$5:$A$10,'Мониторинг тип'!W$1),0)","v":0},{"$f":"IFERROR(COUNTIFS(Мониторинг!$P$5:$P$10,'Мониторинг тип'!$B27,Мониторинг!$A$5:$A$10,'Мониторинг тип'!X$1),0)","v":0},{"$f":"IFERROR(COUNTIFS(Мониторинг!$P$5:$P$10,'Мониторинг тип'!$B27,Мониторинг!$A$5:$A$10,'Мониторинг тип'!Y$1),0)","v":0},{"$f":"IFERROR(COUNTIFS(Мониторинг!$P$5:$P$10,'Мониторинг тип'!$B27,Мониторинг!$A$5:$A$10,'Мониторинг тип'!Z$1),0)","v":0},{"$f":"IFERROR(COUNTIFS(Мониторинг!$P$5:$P$10,'Мониторинг тип'!$B27,Мониторинг!$A$5:$A$10,'Мониторинг тип'!AA$1),0)","v":0},{"$f":"IFERROR(COUNTIFS(Мониторинг!$P$5:$P$10,'Мониторинг тип'!$B27,Мониторинг!$A$5:$A$10,'Мониторинг тип'!AB$1),0)","v":0},{"$f":"IFERROR(COUNTIFS(Мониторинг!$P$5:$P$10,'Мониторинг тип'!$B27,Мониторинг!$A$5:$A$10,'Мониторинг тип'!AC$1),0)","v":0},{"$f":"IFERROR(COUNTIFS(Мониторинг!$P$5:$P$10,'Мониторинг тип'!$B27,Мониторинг!$A$5:$A$10,'Мониторинг тип'!AD$1),0)","v":0},{"$f":"IFERROR(COUNTIFS(Мониторинг!$P$5:$P$10,'Мониторинг тип'!$B27,Мониторинг!$A$5:$A$10,'Мониторинг тип'!AE$1),0)","v":0},{"$f":"IFERROR(COUNTIFS(Мониторинг!$P$5:$P$10,'Мониторинг тип'!$B27,Мониторинг!$A$5:$A$10,'Мониторинг тип'!AF$1),0)","v":0},{"$f":"IFERROR(COUNTIFS(Мониторинг!$P$5:$P$10,'Мониторинг тип'!$B27,Мониторинг!$A$5:$A$10,'Мониторинг тип'!AG$1),0)","v":0}]
[null,{"$f":"Лист1!K14","v":0},{"$f":"SUM(D28:AG28)","v":0},{"$f":"IFERROR(COUNTIFS(Мониторинг!$P$5:$P$10,'Мониторинг тип'!$B28,Мониторинг!$A$5:$A$10,'Мониторинг тип'!D$1),0)","v":0},{"$f":"IFERROR(COUNTIFS(Мониторинг!$P$5:$P$10,'Мониторинг тип'!$B28,Мониторинг!$A$5:$A$10,'Мониторинг тип'!E$1),0)","v":0},{"$f":"IFERROR(COUNTIFS(Мониторинг!$P$5:$P$10,'Мониторинг тип'!$B28,Мониторинг!$A$5:$A$10,'Мониторинг тип'!F$1),0)","v":0},{"$f":"IFERROR(COUNTIFS(Мониторинг!$P$5:$P$10,'Мониторинг тип'!$B28,Мониторинг!$A$5:$A$10,'Мониторинг тип'!G$1),0)","v":0},{"$f":"IFERROR(COUNTIFS(Мониторинг!$P$5:$P$10,'Мониторинг тип'!$B28,Мониторинг!$A$5:$A$10,'Мониторинг тип'!H$1),0)","v":0},{"$f":"IFERROR(COUNTIFS(Мониторинг!$P$5:$P$10,'Мониторинг тип'!$B28,Мониторинг!$A$5:$A$10,'Мониторинг тип'!I$1),0)","v":0},{"$f":"IFERROR(COUNTIFS(Мониторинг!$P$5:$P$10,'Мониторинг тип'!$B28,Мониторинг!$A$5:$A$10,'Мониторинг тип'!J$1),0)","v":0},{"$f":"IFERROR(COUNTIFS(Мониторинг!$P$5:$P$10,'Мониторинг тип'!$B28,Мониторинг!$A$5:$A$10,'Мониторинг тип'!K$1),0)","v":0},{"$f":"IFERROR(COUNTIFS(Мониторинг!$P$5:$P$10,'Мониторинг тип'!$B28,Мониторинг!$A$5:$A$10,'Мониторинг тип'!L$1),0)","v":0},{"$f":"IFERROR(COUNTIFS(Мониторинг!$P$5:$P$10,'Мониторинг тип'!$B28,Мониторинг!$A$5:$A$10,'Мониторинг тип'!M$1),0)","v":0},{"$f":"IFERROR(COUNTIFS(Мониторинг!$P$5:$P$10,'Мониторинг тип'!$B28,Мониторинг!$A$5:$A$10,'Мониторинг тип'!N$1),0)","v":0},{"$f":"IFERROR(COUNTIFS(Мониторинг!$P$5:$P$10,'Мониторинг тип'!$B28,Мониторинг!$A$5:$A$10,'Мониторинг тип'!O$1),0)","v":0},{"$f":"IFERROR(COUNTIFS(Мониторинг!$P$5:$P$10,'Мониторинг тип'!$B28,Мониторинг!$A$5:$A$10,'Мониторинг тип'!P$1),0)","v":0},{"$f":"IFERROR(COUNTIFS(Мониторинг!$P$5:$P$10,'Мониторинг тип'!$B28,Мониторинг!$A$5:$A$10,'Мониторинг тип'!Q$1),0)","v":0},{"$f":"IFERROR(COUNTIFS(Мониторинг!$P$5:$P$10,'Мониторинг тип'!$B28,Мониторинг!$A$5:$A$10,'Мониторинг тип'!R$1),0)","v":0},{"$f":"IFERROR(COUNTIFS(Мониторинг!$P$5:$P$10,'Мониторинг тип'!$B28,Мониторинг!$A$5:$A$10,'Мониторинг тип'!S$1),0)","v":0},{"$f":"IFERROR(COUNTIFS(Мониторинг!$P$5:$P$10,'Мониторинг тип'!$B28,Мониторинг!$A$5:$A$10,'Мониторинг тип'!T$1),0)","v":0},{"$f":"IFERROR(COUNTIFS(Мониторинг!$P$5:$P$10,'Мониторинг тип'!$B28,Мониторинг!$A$5:$A$10,'Мониторинг тип'!U$1),0)","v":0},{"$f":"IFERROR(COUNTIFS(Мониторинг!$P$5:$P$10,'Мониторинг тип'!$B28,Мониторинг!$A$5:$A$10,'Мониторинг тип'!V$1),0)","v":0},{"$f":"IFERROR(COUNTIFS(Мониторинг!$P$5:$P$10,'Мониторинг тип'!$B28,Мониторинг!$A$5:$A$10,'Мониторинг тип'!W$1),0)","v":0},{"$f":"IFERROR(COUNTIFS(Мониторинг!$P$5:$P$10,'Мониторинг тип'!$B28,Мониторинг!$A$5:$A$10,'Мониторинг тип'!X$1),0)","v":0},{"$f":"IFERROR(COUNTIFS(Мониторинг!$P$5:$P$10,'Мониторинг тип'!$B28,Мониторинг!$A$5:$A$10,'Мониторинг тип'!Y$1),0)","v":0},{"$f":"IFERROR(COUNTIFS(Мониторинг!$P$5:$P$10,'Мониторинг тип'!$B28,Мониторинг!$A$5:$A$10,'Мониторинг тип'!Z$1),0)","v":0},{"$f":"IFERROR(COUNTIFS(Мониторинг!$P$5:$P$10,'Мониторинг тип'!$B28,Мониторинг!$A$5:$A$10,'Мониторинг тип'!AA$1),0)","v":0},{"$f":"IFERROR(COUNTIFS(Мониторинг!$P$5:$P$10,'Мониторинг тип'!$B28,Мониторинг!$A$5:$A$10,'Мониторинг тип'!AB$1),0)","v":0},{"$f":"IFERROR(COUNTIFS(Мониторинг!$P$5:$P$10,'Мониторинг тип'!$B28,Мониторинг!$A$5:$A$10,'Мониторинг тип'!AC$1),0)","v":0},{"$f":"IFERROR(COUNTIFS(Мониторинг!$P$5:$P$10,'Мониторинг тип'!$B28,Мониторинг!$A$5:$A$10,'Мониторинг тип'!AD$1),0)","v":0},{"$f":"IFERROR(COUNTIFS(Мониторинг!$P$5:$P$10,'Мониторинг тип'!$B28,Мониторинг!$A$5:$A$10,'Мониторинг тип'!AE$1),0)","v":0},{"$f":"IFERROR(COUNTIFS(Мониторинг!$P$5:$P$10,'Мониторинг тип'!$B28,Мониторинг!$A$5:$A$10,'Мониторинг тип'!AF$1),0)","v":0},{"$f":"IFERROR(COUNTIFS(Мониторинг!$P$5:$P$10,'Мониторинг тип'!$B28,Мониторинг!$A$5:$A$10,'Мониторинг тип'!AG$1),0)","v":0}]
[null,{"$f":"Лист1!K15","v":0},{"$f":"SUM(D29:AG29)","v":0},{"$f":"IFERROR(COUNTIFS(Мониторинг!$P$5:$P$10,'Мониторинг тип'!$B29,Мониторинг!$A$5:$A$10,'Мониторинг тип'!D$1),0)","v":0},{"$f":"IFERROR(COUNTIFS(Мониторинг!$P$5:$P$10,'Мониторинг тип'!$B29,Мониторинг!$A$5:$A$10,'Мониторинг тип'!E$1),0)","v":0},{"$f":"IFERROR(COUNTIFS(Мониторинг!$P$5:$P$10,'Мониторинг тип'!$B29,Мониторинг!$A$5:$A$10,'Мониторинг тип'!F$1),0)","v":0},{"$f":"IFERROR(COUNTIFS(Мониторинг!$P$5:$P$10,'Мониторинг тип'!$B29,Мониторинг!$A$5:$A$10,'Мониторинг тип'!G$1),0)","v":0},{"$f":"IFERROR(COUNTIFS(Мониторинг!$P$5:$P$10,'Мониторинг тип'!$B29,Мониторинг!$A$5:$A$10,'Мониторинг тип'!H$1),0)","v":0},{"$f":"IFERROR(COUNTIFS(Мониторинг!$P$5:$P$10,'Мониторинг тип'!$B29,Мониторинг!$A$5:$A$10,'Мониторинг тип'!I$1),0)","v":0},{"$f":"IFERROR(COUNTIFS(Мониторинг!$P$5:$P$10,'Мониторинг тип'!$B29,Мониторинг!$A$5:$A$10,'Мониторинг тип'!J$1),0)","v":0},{"$f":"IFERROR(COUNTIFS(Мониторинг!$P$5:$P$10,'Мониторинг тип'!$B29,Мониторинг!$A$5:$A$10,'Мониторинг тип'!K$1),0)","v":0},{"$f":"IFERROR(COUNTIFS(Мониторинг!$P$5:$P$10,'Мониторинг тип'!$B29,Мониторинг!$A$5:$A$10,'Мониторинг тип'!L$1),0)","v":0},{"$f":"IFERROR(COUNTIFS(Мониторинг!$P$5:$P$10,'Мониторинг тип'!$B29,Мониторинг!$A$5:$A$10,'Мониторинг тип'!M$1),0)","v":0},{"$f":"IFERROR(COUNTIFS(Мониторинг!$P$5:$P$10,'Мониторинг тип'!$B29,Мониторинг!$A$5:$A$10,'Мониторинг тип'!N$1),0)","v":0},{"$f":"IFERROR(COUNTIFS(Мониторинг!$P$5:$P$10,'Мониторинг тип'!$B29,Мониторинг!$A$5:$A$10,'Мониторинг тип'!O$1),0)","v":0},{"$f":"IFERROR(COUNTIFS(Мониторинг!$P$5:$P$10,'Мониторинг тип'!$B29,Мониторинг!$A$5:$A$10,'Мониторинг тип'!P$1),0)","v":0},{"$f":"IFERROR(COUNTIFS(Мониторинг!$P$5:$P$10,'Мониторинг тип'!$B29,Мониторинг!$A$5:$A$10,'Мониторинг тип'!Q$1),0)","v":0},{"$f":"IFERROR(COUNTIFS(Мониторинг!$P$5:$P$10,'Мониторинг тип'!$B29,Мониторинг!$A$5:$A$10,'Мониторинг тип'!R$1),0)","v":0},{"$f":"IFERROR(COUNTIFS(Мониторинг!$P$5:$P$10,'Мониторинг тип'!$B29,Мониторинг!$A$5:$A$10,'Мониторинг тип'!S$1),0)","v":0},{"$f":"IFERROR(COUNTIFS(Мониторинг!$P$5:$P$10,'Мониторинг тип'!$B29,Мониторинг!$A$5:$A$10,'Мониторинг тип'!T$1),0)","v":0},{"$f":"IFERROR(COUNTIFS(Мониторинг!$P$5:$P$10,'Мониторинг тип'!$B29,Мониторинг!$A$5:$A$10,'Мониторинг тип'!U$1),0)","v":0},{"$f":"IFERROR(COUNTIFS(Мониторинг!$P$5:$P$10,'Мониторинг тип'!$B29,Мониторинг!$A$5:$A$10,'Мониторинг тип'!V$1),0)","v":0},{"$f":"IFERROR(COUNTIFS(Мониторинг!$P$5:$P$10,'Мониторинг тип'!$B29,Мониторинг!$A$5:$A$10,'Мониторинг тип'!W$1),0)","v":0},{"$f":"IFERROR(COUNTIFS(Мониторинг!$P$5:$P$10,'Мониторинг тип'!$B29,Мониторинг!$A$5:$A$10,'Мониторинг тип'!X$1),0)","v":0},{"$f":"IFERROR(COUNTIFS(Мониторинг!$P$5:$P$10,'Мониторинг тип'!$B29,Мониторинг!$A$5:$A$10,'Мониторинг тип'!Y$1),0)","v":0},{"$f":"IFERROR(COUNTIFS(Мониторинг!$P$5:$P$10,'Мониторинг тип'!$B29,Мониторинг!$A$5:$A$10,'Мониторинг тип'!Z$1),0)","v":0},{"$f":"IFERROR(COUNTIFS(Мониторинг!$P$5:$P$10,'Мониторинг тип'!$B29,Мониторинг!$A$5:$A$10,'Мониторинг тип'!AA$1),0)","v":0},{"$f":"IFERROR(COUNTIFS(Мониторинг!$P$5:$P$10,'Мониторинг тип'!$B29,Мониторинг!$A$5:$A$10,'Мониторинг тип'!AB$1),0)","v":0},{"$f":"IFERROR(COUNTIFS(Мониторинг!$P$5:$P$10,'Мониторинг тип'!$B29,Мониторинг!$A$5:$A$10,'Мониторинг тип'!AC$1),0)","v":0},{"$f":"IFERROR(COUNTIFS(Мониторинг!$P$5:$P$10,'Мониторинг тип'!$B29,Мониторинг!$A$5:$A$10,'Мониторинг тип'!AD$1),0)","v":0},{"$f":"IFERROR(COUNTIFS(Мониторинг!$P$5:$P$10,'Мониторинг тип'!$B29,Мониторинг!$A$5:$A$10,'Мониторинг тип'!AE$1),0)","v":0},{"$f":"IFERROR(COUNTIFS(Мониторинг!$P$5:$P$10,'Мониторинг тип'!$B29,Мониторинг!$A$5:$A$10,'Мониторинг тип'!AF$1),0)","v":0},{"$f":"IFERROR(COUNTIFS(Мониторинг!$P$5:$P$10,'Мониторинг тип'!$B29,Мониторинг!$A$5:$A$10,'Мониторинг тип'!AG$1),0)","v":0}]
[null,{"$f":"Лист1!K16","v":0},{"$f":"SUM(D30:AG30)","v":0},{"$f":"IFERROR(COUNTIFS(Мониторинг!$P$5:$P$10,'Мониторинг тип'!$B30,Мониторинг!$A$5:$A$10,'Мониторинг тип'!D$1),0)","v":0},{"$f":"IFERROR(COUNTIFS(Мониторинг!$P$5:$P$10,'Мониторинг тип'!$B30,Мониторинг!$A$5:$A$10,'Мониторинг тип'!E$1),0)","v":0},{"$f":"IFERROR(COUNTIFS(Мониторинг!$P$5:$P$10,'Мониторинг тип'!$B30,Мониторинг!$A$5:$A$10,'Мониторинг тип'!F$1),0)","v":0},{"$f":"IFERROR(COUNTIFS(Мониторинг!$P$5:$P$10,'Мониторинг тип'!$B30,Мониторинг!$A$5:$A$10,'Мониторинг тип'!G$1),0)","v":0},{"$f":"IFERROR(COUNTIFS(Мониторинг!$P$5:$P$10,'Мониторинг тип'!$B30,Мониторинг!$A$5:$A$10,'Мониторинг тип'!H$1),0)","v":0},{"$f":"IFERROR(COUNTIFS(Мониторинг!$P$5:$P$10,'Мониторинг тип'!$B30,Мониторинг!$A$5:$A$10,'Мониторинг тип'!I$1),0)","v":0},{"$f":"IFERROR(COUNTIFS(Мониторинг!$P$5:$P$10,'Мониторинг тип'!$B30,Мониторинг!$A$5:$A$10,'Мониторинг тип'!J$1),0)","v":0},{"$f":"IFERROR(COUNTIFS(Мониторинг!$P$5:$P$10,'Мониторинг тип'!$B30,Мониторинг!$A$5:$A$10,'Мониторинг тип'!K$1),0)","v":0},{"$f":"IFERROR(COUNTIFS(Мониторинг!$P$5:$P$10,'Мониторинг тип'!$B30,Мониторинг!$A$5:$A$10,'Мониторинг тип'!L$1),0)","v":0},{"$f":"IFERROR(COUNTIFS(Мониторинг!$P$5:$P$10,'Мониторинг тип'!$B30,Мониторинг!$A$5:$A$10,'Мониторинг тип'!M$1),0)","v":0},{"$f":"IFERROR(COUNTIFS(Мониторинг!$P$5:$P$10,'Мониторинг тип'!$B30,Мониторинг!$A$5:$A$10,'Мониторинг тип'!N$1),0)","v":0},{"$f":"IFERROR(COUNTIFS(Мониторинг!$P$5:$P$10,'Мониторинг тип'!$B30,Мониторинг!$A$5:$A$10,'Мониторинг тип'!O$1),0)","v":0},{"$f":"IFERROR(COUNTIFS(Мониторинг!$P$5:$P$10,'Мониторинг тип'!$B30,Мониторинг!$A$5:$A$10,'Мониторинг тип'!P$1),0)","v":0},{"$f":"IFERROR(COUNTIFS(Мониторинг!$P$5:$P$10,'Мониторинг тип'!$B30,Мониторинг!$A$5:$A$10,'Мониторинг тип'!Q$1),0)","v":0},{"$f":"IFERROR(COUNTIFS(Мониторинг!$P$5:$P$10,'Мониторинг тип'!$B30,Мониторинг!$A$5:$A$10,'Мониторинг тип'!R$1),0)","v":0},{"$f":"IFERROR(COUNTIFS(Мониторинг!$P$5:$P$10,'Мониторинг тип'!$B30,Мониторинг!$A$5:$A$10,'Мониторинг тип'!S$1),0)","v":0},{"$f":"IFERROR(COUNTIFS(Мониторинг!$P$5:$P$10,'Мониторинг тип'!$B30,Мониторинг!$A$5:$A$10,'Мониторинг тип'!T$1),0)","v":0},{"$f":"IFERROR(COUNTIFS(Мониторинг!$P$5:$P$10,'Мониторинг тип'!$B30,Мониторинг!$A$5:$A$10,'Мониторинг тип'!U$1),0)","v":0},{"$f":"IFERROR(COUNTIFS(Мониторинг!$P$5:$P$10,'Мониторинг тип'!$B30,Мониторинг!$A$5:$A$10,'Мониторинг тип'!V$1),0)","v":0},{"$f":"IFERROR(COUNTIFS(Мониторинг!$P$5:$P$10,'Мониторинг тип'!$B30,Мониторинг!$A$5:$A$10,'Мониторинг тип'!W$1),0)","v":0},{"$f":"IFERROR(COUNTIFS(Мониторинг!$P$5:$P$10,'Мониторинг тип'!$B30,Мониторинг!$A$5:$A$10,'Мониторинг тип'!X$1),0)","v":0},{"$f":"IFERROR(COUNTIFS(Мониторинг!$P$5:$P$10,'Мониторинг тип'!$B30,Мониторинг!$A$5:$A$10,'Мониторинг тип'!Y$1),0)","v":0},{"$f":"IFERROR(COUNTIFS(Мониторинг!$P$5:$P$10,'Мониторинг тип'!$B30,Мониторинг!$A$5:$A$10,'Мониторинг тип'!Z$1),0)","v":0},{"$f":"IFERROR(COUNTIFS(Мониторинг!$P$5:$P$10,'Мониторинг тип'!$B30,Мониторинг!$A$5:$A$10,'Мониторинг тип'!AA$1),0)","v":0},{"$f":"IFERROR(COUNTIFS(Мониторинг!$P$5:$P$10,'Мониторинг тип'!$B30,Мониторинг!$A$5:$A$10,'Мониторинг тип'!AB$1),0)","v":0},{"$f":"IFERROR(COUNTIFS(Мониторинг!$P$5:$P$10,'Мониторинг тип'!$B30,Мониторинг!$A$5:$A$10,'Мониторинг тип'!AC$1),0)","v":0},{"$f":"IFERROR(COUNTIFS(Мониторинг!$P$5:$P$10,'Мониторинг тип'!$B30,Мониторинг!$A$5:$A$10,'Мониторинг тип'!AD$1),0)","v":0},{"$f":"IFERROR(COUNTIFS(Мониторинг!$P$5:$P$10,'Мониторинг тип'!$B30,Мониторинг!$A$5:$A$10,'Мониторинг тип'!AE$1),0)","v":0},{"$f":"IFERROR(COUNTIFS(Мониторинг!$P$5:$P$10,'Мониторинг тип'!$B30,Мониторинг!$A$5:$A$10,'Мониторинг тип'!AF$1),0)","v":0},{"$f":"IFERROR(COUNTIFS(Мониторинг!$P$5:$P$10,'Мониторинг тип'!$B30,Мониторинг!$A$5:$A$10,'Мониторинг тип'!AG$1),0)","v":0}]
[null,{"$f":"Лист1!K17","v":0},0,{"$f":"IFERROR(COUNTIFS(Мониторинг!$P$5:$P$10,'Мониторинг тип'!$B31,Мониторинг!$A$5:$A$10,'Мониторинг тип'!D$1),0)","v":0},{"$f":"IFERROR(COUNTIFS(Мониторинг!$P$5:$P$10,'Мониторинг тип'!$B31,Мониторинг!$A$5:$A$10,'Мониторинг тип'!E$1),0)","v":0},{"$f":"IFERROR(COUNTIFS(Мониторинг!$P$5:$P$10,'Мониторинг тип'!$B31,Мониторинг!$A$5:$A$10,'Мониторинг тип'!F$1),0)","v":0},{"$f":"IFERROR(COUNTIFS(Мониторинг!$P$5:$P$10,'Мониторинг тип'!$B31,Мониторинг!$A$5:$A$10,'Мониторинг тип'!G$1),0)","v":0},{"$f":"IFERROR(COUNTIFS(Мониторинг!$P$5:$P$10,'Мониторинг тип'!$B31,Мониторинг!$A$5:$A$10,'Мониторинг тип'!H$1),0)","v":0},{"$f":"IFERROR(COUNTIFS(Мониторинг!$P$5:$P$10,'Мониторинг тип'!$B31,Мониторинг!$A$5:$A$10,'Мониторинг тип'!I$1),0)","v":0},{"$f":"IFERROR(COUNTIFS(Мониторинг!$P$5:$P$10,'Мониторинг тип'!$B31,Мониторинг!$A$5:$A$10,'Мониторинг тип'!J$1),0)","v":0},{"$f":"IFERROR(COUNTIFS(Мониторинг!$P$5:$P$10,'Мониторинг тип'!$B31,Мониторинг!$A$5:$A$10,'Мониторинг тип'!K$1),0)","v":0},{"$f":"IFERROR(COUNTIFS(Мониторинг!$P$5:$P$10,'Мониторинг тип'!$B31,Мониторинг!$A$5:$A$10,'Мониторинг тип'!L$1),0)","v":0},{"$f":"IFERROR(COUNTIFS(Мониторинг!$P$5:$P$10,'Мониторинг тип'!$B31,Мониторинг!$A$5:$A$10,'Мониторинг тип'!M$1),0)","v":0},{"$f":"IFERROR(COUNTIFS(Мониторинг!$P$5:$P$10,'Мониторинг тип'!$B31,Мониторинг!$A$5:$A$10,'Мониторинг тип'!N$1),0)","v":0},{"$f":"IFERROR(COUNTIFS(Мониторинг!$P$5:$P$10,'Мониторинг тип'!$B31,Мониторинг!$A$5:$A$10,'Мониторинг тип'!O$1),0)","v":0},{"$f":"IFERROR(COUNTIFS(Мониторинг!$P$5:$P$10,'Мониторинг тип'!$B31,Мониторинг!$A$5:$A$10,'Мониторинг тип'!P$1),0)","v":0},{"$f":"IFERROR(COUNTIFS(Мониторинг!$P$5:$P$10,'Мониторинг тип'!$B31,Мониторинг!$A$5:$A$10,'Мониторинг тип'!Q$1),0)","v":0},{"$f":"IFERROR(COUNTIFS(Мониторинг!$P$5:$P$10,'Мониторинг тип'!$B31,Мониторинг!$A$5:$A$10,'Мониторинг тип'!R$1),0)","v":0},{"$f":"IFERROR(COUNTIFS(Мониторинг!$P$5:$P$10,'Мониторинг тип'!$B31,Мониторинг!$A$5:$A$10,'Мониторинг тип'!S$1),0)","v":0},{"$f":"IFERROR(COUNTIFS(Мониторинг!$P$5:$P$10,'Мониторинг тип'!$B31,Мониторинг!$A$5:$A$10,'Мониторинг тип'!T$1),0)","v":0},{"$f":"IFERROR(COUNTIFS(Мониторинг!$P$5:$P$10,'Мониторинг тип'!$B31,Мониторинг!$A$5:$A$10,'Мониторинг тип'!U$1),0)","v":0},{"$f":"IFERROR(COUNTIFS(Мониторинг!$P$5:$P$10,'Мониторинг тип'!$B31,Мониторинг!$A$5:$A$10,'Мониторинг тип'!V$1),0)","v":0},{"$f":"IFERROR(COUNTIFS(Мониторинг!$P$5:$P$10,'Мониторинг тип'!$B31,Мониторинг!$A$5:$A$10,'Мониторинг тип'!W$1),0)","v":0},{"$f":"IFERROR(COUNTIFS(Мониторинг!$P$5:$P$10,'Мониторинг тип'!$B31,Мониторинг!$A$5:$A$10,'Мониторинг тип'!X$1),0)","v":0},{"$f":"IFERROR(COUNTIFS(Мониторинг!$P$5:$P$10,'Мониторинг тип'!$B31,Мониторинг!$A$5:$A$10,'Мониторинг тип'!Y$1),0)","v":0},{"$f":"IFERROR(COUNTIFS(Мониторинг!$P$5:$P$10,'Мониторинг тип'!$B31,Мониторинг!$A$5:$A$10,'Мониторинг тип'!Z$1),0)","v":0},{"$f":"IFERROR(COUNTIFS(Мониторинг!$P$5:$P$10,'Мониторинг тип'!$B31,Мониторинг!$A$5:$A$10,'Мониторинг тип'!AA$1),0)","v":0},{"$f":"IFERROR(COUNTIFS(Мониторинг!$P$5:$P$10,'Мониторинг тип'!$B31,Мониторинг!$A$5:$A$10,'Мониторинг тип'!AB$1),0)","v":0},{"$f":"IFERROR(COUNTIFS(Мониторинг!$P$5:$P$10,'Мониторинг тип'!$B31,Мониторинг!$A$5:$A$10,'Мониторинг тип'!AC$1),0)","v":0},{"$f":"IFERROR(COUNTIFS(Мониторинг!$P$5:$P$10,'Мониторинг тип'!$B31,Мониторинг!$A$5:$A$10,'Мониторинг тип'!AD$1),0)","v":0},{"$f":"IFERROR(COUNTIFS(Мониторинг!$P$5:$P$10,'Мониторинг тип'!$B31,Мониторинг!$A$5:$A$10,'Мониторинг тип'!AE$1),0)","v":0},{"$f":"IFERROR(COUNTIFS(Мониторинг!$P$5:$P$10,'Мониторинг тип'!$B31,Мониторинг!$A$5:$A$10,'Мониторинг тип'!AF$1),0)","v":0},{"$f":"IFERROR(COUNTIFS(Мониторинг!$P$5:$P$10,'Мониторинг тип'!$B31,Мониторинг!$A$5:$A$10,'Мониторинг тип'!AG$1),0)","v":0}]
[null,"% информирования",{"$f":"IF(SUM(C27:C31)<>0,(C27*100%+(C28*50%)+(C29*30%)+(C30*0%)+(C31*100%))/SUM(C27:C31),\"\")","v":""},{"$f":"IF(SUM(D27:D31)<>0,(D27*100%+(D28*50%)+(D29*30%)+(D30*0%)+(D31*100%))/SUM(D27:D31),\"\")","v":""},"","","","","","","","","","","","","","","","","","","","","","","","","","","","",""]
["Принятие возражения клиента","A",{"$f":"SUM(D33:AG33)","v":0},{"$f":"IFERROR(COUNTIFS(Мониторинг!$Q$5:$Q$10,'Мониторинг тип'!$B33,Мониторинг!$A$5:$A$10,'Мониторинг тип'!D$1),0)","v":0},{"$f":"IFERROR(COUNTIFS(Мониторинг!$Q$5:$Q$10,'Мониторинг тип'!$B33,Мониторинг!$A$5:$A$10,'Мониторинг тип'!E$1),0)","v":0},{"$f":"IFERROR(COUNTIFS(Мониторинг!$Q$5:$Q$10,'Мониторинг тип'!$B33,Мониторинг!$A$5:$A$10,'Мониторинг тип'!F$1),0)","v":0},{"$f":"IFERROR(COUNTIFS(Мониторинг!$Q$5:$Q$10,'Мониторинг тип'!$B33,Мониторинг!$A$5:$A$10,'Мониторинг тип'!G$1),0)","v":0},{"$f":"IFERROR(COUNTIFS(Мониторинг!$Q$5:$Q$10,'Мониторинг тип'!$B33,Мониторинг!$A$5:$A$10,'Мониторинг тип'!H$1),0)","v":0},{"$f":"IFERROR(COUNTIFS(Мониторинг!$Q$5:$Q$10,'Мониторинг тип'!$B33,Мониторинг!$A$5:$A$10,'Мониторинг тип'!I$1),0)","v":0},{"$f":"IFERROR(COUNTIFS(Мониторинг!$Q$5:$Q$10,'Мониторинг тип'!$B33,Мониторинг!$A$5:$A$10,'Мониторинг тип'!J$1),0)","v":0},{"$f":"IFERROR(COUNTIFS(Мониторинг!$Q$5:$Q$10,'Мониторинг тип'!$B33,Мониторинг!$A$5:$A$10,'Мониторинг тип'!K$1),0)","v":0},{"$f":"IFERROR(COUNTIFS(Мониторинг!$Q$5:$Q$10,'Мониторинг тип'!$B33,Мониторинг!$A$5:$A$10,'Мониторинг тип'!L$1),0)","v":0},{"$f":"IFERROR(COUNTIFS(Мониторинг!$Q$5:$Q$10,'Мониторинг тип'!$B33,Мониторинг!$A$5:$A$10,'Мониторинг тип'!M$1),0)","v":0},{"$f":"IFERROR(COUNTIFS(Мониторинг!$Q$5:$Q$10,'Мониторинг тип'!$B33,Мониторинг!$A$5:$A$10,'Мониторинг тип'!N$1),0)","v":0},{"$f":"IFERROR(COUNTIFS(Мониторинг!$Q$5:$Q$10,'Мониторинг тип'!$B33,Мониторинг!$A$5:$A$10,'Мониторинг тип'!O$1),0)","v":0},{"$f":"IFERROR(COUNTIFS(Мониторинг!$Q$5:$Q$10,'Мониторинг тип'!$B33,Мониторинг!$A$5:$A$10,'Мониторинг тип'!P$1),0)","v":0},{"$f":"IFERROR(COUNTIFS(Мониторинг!$Q$5:$Q$10,'Мониторинг тип'!$B33,Мониторинг!$A$5:$A$10,'Мониторинг тип'!Q$1),0)","v":0},{"$f":"IFERROR(COUNTIFS(Мониторинг!$Q$5:$Q$10,'Мониторинг тип'!$B33,Мониторинг!$A$5:$A$10,'Мониторинг тип'!R$1),0)","v":0},{"$f":"IFERROR(COUNTIFS(Мониторинг!$Q$5:$Q$10,'Мониторинг тип'!$B33,Мониторинг!$A$5:$A$10,'Мониторинг тип'!S$1),0)","v":0},{"$f":"IFERROR(COUNTIFS(Мониторинг!$Q$5:$Q$10,'Мониторинг тип'!$B33,Мониторинг!$A$5:$A$10,'Мониторинг тип'!T$1),0)","v":0},{"$f":"IFERROR(COUNTIFS(Мониторинг!$Q$5:$Q$10,'Мониторинг тип'!$B33,Мониторинг!$A$5:$A$10,'Мониторинг тип'!U$1),0)","v":0},{"$f":"IFERROR(COUNTIFS(Мониторинг!$Q$5:$Q$10,'Мониторинг тип'!$B33,Мониторинг!$A$5:$A$10,'Мониторинг тип'!V$1),0)","v":0},{"$f":"IFERROR(COUNTIFS(Мониторинг!$Q$5:$Q$10,'Мониторинг тип'!$B33,Мониторинг!$A$5:$A$10,'Мониторинг тип'!W$1),0)","v":0},{"$f":"IFERROR(COUNTIFS(Мониторинг!$Q$5:$Q$10,'Мониторинг тип'!$B33,Мониторинг!$A$5:$A$10,'Мониторинг тип'!X$1),0)","v":0},{"$f":"IFERROR(COUNTIFS(Мониторинг!$Q$5:$Q$10,'Мониторинг тип'!$B33,Мониторинг!$A$5:$A$10,'Мониторинг тип'!Y$1),0)","v":0},{"$f":"IFERROR(COUNTIFS(Мониторинг!$Q$5:$Q$10,'Мониторинг тип'!$B33,Мониторинг!$A$5:$A$10,'Мониторинг тип'!Z$1),0)","v":0},{"$f":"IFERROR(COUNTIFS(Мониторинг!$Q$5:$Q$10,'Мониторинг тип'!$B33,Мониторинг!$A$5:$A$10,'Мониторинг тип'!AA$1),0)","v":0},{"$f":"IFERROR(COUNTIFS(Мониторинг!$Q$5:$Q$10,'Мониторинг тип'!$B33,Мониторинг!$A$5:$A$10,'Мониторинг тип'!AB$1),0)","v":0},{"$f":"IFERROR(COUNTIFS(Мониторинг!$Q$5:$Q$10,'Мониторинг тип'!$B33,Мониторинг!$A$5:$A$10,'Мониторинг тип'!AC$1),0)","v":0},{"$f":"IFERROR(COUNTIFS(Мониторинг!$Q$5:$Q$10,'Мониторинг тип'!$B33,Мониторинг!$A$5:$A$10,'Мониторинг тип'!AD$1),0)","v":0},{"$f":"IFERROR(COUNTIFS(Мониторинг!$Q$5:$Q$10,'Мониторинг тип'!$B33,Мониторинг!$A$5:$A$10,'Мониторинг тип'!AE$1),0)","v":0},{"$f":"IFERROR(COUNTIFS(Мониторинг!$Q$5:$Q$10,'Мониторинг тип'!$B33,Мониторинг!$A$5:$A$10,'Мониторинг тип'!AF$1),0)","v":0},{"$f":"IFERROR(COUNTIFS(Мониторинг!$Q$5:$Q$10,'Мониторинг тип'!$B33,Мониторинг!$A$5:$A$10,'Мониторинг тип'!AG$1),0)","v":0}]
[null,"B",{"$f":"SUM(D34:AG34)","v":0},{"$f":"IFERROR(COUNTIFS(Мониторинг!$Q$5:$Q$10,'Мониторинг тип'!$B34,Мониторинг!$A$5:$A$10,'Мониторинг тип'!D$1),0)","v":0},{"$f":"IFERROR(COUNTIFS(Мониторинг!$Q$5:$Q$10,'Мониторинг тип'!$B34,Мониторинг!$A$5:$A$10,'Мониторинг тип'!E$1),0)","v":0},{"$f":"IFERROR(COUNTIFS(Мониторинг!$Q$5:$Q$10,'Мониторинг тип'!$B34,Мониторинг!$A$5:$A$10,'Мониторинг тип'!F$1),0)","v":0},{"$f":"IFERROR(COUNTIFS(Мониторинг!$Q$5:$Q$10,'Мониторинг тип'!$B34,Мониторинг!$A$5:$A$10,'Мониторинг тип'!G$1),0)","v":0},{"$f":"IFERROR(COUNTIFS(Мониторинг!$Q$5:$Q$10,'Мониторинг тип'!$B34,Мониторинг!$A$5:$A$10,'Мониторинг тип'!H$1),0)","v":0},{"$f":"IFERROR(COUNTIFS(Мониторинг!$Q$5:$Q$10,'Мониторинг тип'!$B34,Мониторинг!$A$5:$A$10,'Мониторинг тип'!I$1),0)","v":0},{"$f":"IFERROR(COUNTIFS(Мониторинг!$Q$5:$Q$10,'Мониторинг тип'!$B34,Мониторинг!$A$5:$A$10,'Мониторинг тип'!J$1),0)","v":0},{"$f":"IFERROR(COUNTIFS(Мониторинг!$Q$5:$Q$10,'Мониторинг тип'!$B34,Мониторинг!$A$5:$A$10,'Мониторинг тип'!K$1),0)","v":0},{"$f":"IFERROR(COUNTIFS(Мониторинг!$Q$5:$Q$10,'Мониторинг тип'!$B34,Мониторинг!$A$5:$A$10,'Мониторинг тип'!L$1),0)","v":0},{"$f":"IFERROR(COUNTIFS(Мониторинг!$Q$5:$Q$10,'Мониторинг тип'!$B34,Мониторинг!$A$5:$A$10,'Мониторинг тип'!M$1),0)","v":0},{"$f":"IFERROR(COUNTIFS(Мониторинг!$Q$5:$Q$10,'Мониторинг тип'!$B34,Мониторинг!$A$5:$A$10,'Мониторинг тип'!N$1),0)","v":0},{"$f":"IFERROR(COUNTIFS(Мониторинг!$Q$5:$Q$10,'Мониторинг тип'!$B34,Мониторинг!$A$5:$A$10,'Мониторинг тип'!O$1),0)","v":0},{"$f":"IFERROR(COUNTIFS(Мониторинг!$Q$5:$Q$10,'Мониторинг тип'!$B34,Мониторинг!$A$5:$A$10,'Мониторинг тип'!P$1),0)","v":0},{"$f":"IFERROR(COUNTIFS(Мониторинг!$Q$5:$Q$10,'Мониторинг тип'!$B34,Мониторинг!$A$5:$A$10,'Мониторинг тип'!Q$1),0)","v":0},{"$f":"IFERROR(COUNTIFS(Мониторинг!$Q$5:$Q$10,'Мониторинг тип'!$B34,Мониторинг!$A$5:$A$10,'Мониторинг тип'!R$1),0)","v":0},{"$f":"IFERROR(COUNTIFS(Мониторинг!$Q$5:$Q$10,'Мониторинг тип'!$B34,Мониторинг!$A$5:$A$10,'Мониторинг тип'!S$1),0)","v":0},{"$f":"IFERROR(COUNTIFS(Мониторинг!$Q$5:$Q$10,'Мониторинг тип'!$B34,Мониторинг!$A$5:$A$10,'Мониторинг тип'!T$1),0)","v":0},{"$f":"IFERROR(COUNTIFS(Мониторинг!$Q$5:$Q$10,'Мониторинг тип'!$B34,Мониторинг!$A$5:$A$10,'Мониторинг тип'!U$1),0)","v":0},{"$f":"IFERROR(COUNTIFS(Мониторинг!$Q$5:$Q$10,'Мониторинг тип'!$B34,Мониторинг!$A$5:$A$10,'Мониторинг тип'!V$1),0)","v":0},{"$f":"IFERROR(COUNTIFS(Мониторинг!$Q$5:$Q$10,'Мониторинг тип'!$B34,Мониторинг!$A$5:$A$10,'Мониторинг тип'!W$1),0)","v":0},{"$f":"IFERROR(COUNTIFS(Мониторинг!$Q$5:$Q$10,'Мониторинг тип'!$B34,Мониторинг!$A$5:$A$10,'Мониторинг тип'!X$1),0)","v":0},{"$f":"IFERROR(COUNTIFS(Мониторинг!$Q$5:$Q$10,'Мониторинг тип'!$B34,Мониторинг!$A$5:$A$10,'Мониторинг тип'!Y$1),0)","v":0},{"$f":"IFERROR(COUNTIFS(Мониторинг!$Q$5:$Q$10,'Мониторинг тип'!$B34,Мониторинг!$A$5:$A$10,'Мониторинг тип'!Z$1),0)","v":0},{"$f":"IFERROR(COUNTIFS(Мониторинг!$Q$5:$Q$10,'Мониторинг тип'!$B34,Мониторинг!$A$5:$A$10,'Мониторинг тип'!AA$1),0)","v":0},{"$f":"IFERROR(COUNTIFS(Мониторинг!$Q$5:$Q$10,'Мониторинг тип'!$B34,Мониторинг!$A$5:$A$10,'Мониторинг тип'!AB$1),0)","v":0},{"$f":"IFERROR(COUNTIFS(Мониторинг!$Q$5:$Q$10,'Мониторинг тип'!$B34,Мониторинг!$A$5:$A$10,'Мониторинг тип'!AC$1),0)","v":0},{"$f":"IFERROR(COUNTIFS(Мониторинг!$Q$5:$Q$10,'Мониторинг тип'!$B34,Мониторинг!$A$5:$A$10,'Мониторинг тип'!AD$1),0)","v":0},{"$f":"IFERROR(COUNTIFS(Мониторинг!$Q$5:$Q$10,'Мониторинг тип'!$B34,Мониторинг!$A$5:$A$10,'Мониторинг тип'!AE$1),0)","v":0},{"$f":"IFERROR(COUNTIFS(Мониторинг!$Q$5:$Q$10,'Мониторинг тип'!$B34,Мониторинг!$A$5:$A$10,'Мониторинг тип'!AF$1),0)","v":0},{"$f":"IFERROR(COUNTIFS(Мониторинг!$Q$5:$Q$10,'Мониторинг тип'!$B34,Мониторинг!$A$5:$A$10,'Мониторинг тип'!AG$1),0)","v":0}]
[null,"C",{"$f":"SUM(D35:AG35)","v":0},{"$f":"IFERROR(COUNTIFS(Мониторинг!$Q$5:$Q$10,'Мониторинг тип'!$B35,Мониторинг!$A$5:$A$10,'Мониторинг тип'!D$1),0)","v":0},{"$f":"IFERROR(COUNTIFS(Мониторинг!$Q$5:$Q$10,'Мониторинг тип'!$B35,Мониторинг!$A$5:$A$10,'Мониторинг тип'!E$1),0)","v":0},{"$f":"IFERROR(COUNTIFS(Мониторинг!$Q$5:$Q$10,'Мониторинг тип'!$B35,Мониторинг!$A$5:$A$10,'Мониторинг тип'!F$1),0)","v":0},{"$f":"IFERROR(COUNTIFS(Мониторинг!$Q$5:$Q$10,'Мониторинг тип'!$B35,Мониторинг!$A$5:$A$10,'Мониторинг тип'!G$1),0)","v":0},{"$f":"IFERROR(COUNTIFS(Мониторинг!$Q$5:$Q$10,'Мониторинг тип'!$B35,Мониторинг!$A$5:$A$10,'Мониторинг тип'!H$1),0)","v":0},{"$f":"IFERROR(COUNTIFS(Мониторинг!$Q$5:$Q$10,'Мониторинг тип'!$B35,Мониторинг!$A$5:$A$10,'Мониторинг тип'!I$1),0)","v":0},{"$f":"IFERROR(COUNTIFS(Мониторинг!$Q$5:$Q$10,'Мониторинг тип'!$B35,Мониторинг!$A$5:$A$10,'Мониторинг тип'!J$1),0)","v":0},{"$f":"IFERROR(COUNTIFS(Мониторинг!$Q$5:$Q$10,'Мониторинг тип'!$B35,Мониторинг!$A$5:$A$10,'Мониторинг тип'!K$1),0)","v":0},{"$f":"IFERROR(COUNTIFS(Мониторинг!$Q$5:$Q$10,'Мониторинг тип'!$B35,Мониторинг!$A$5:$A$10,'Мониторинг тип'!L$1),0)","v":0},{"$f":"IFERROR(COUNTIFS(Мониторинг!$Q$5:$Q$10,'Мониторинг тип'!$B35,Мониторинг!$A$5:$A$10,'Мониторинг тип'!M$1),0)","v":0},{"$f":"IFERROR(COUNTIFS(Мониторинг!$Q$5:$Q$10,'Мониторинг тип'!$B35,Мониторинг!$A$5:$A$10,'Мониторинг тип'!N$1),0)","v":0},{"$f":"IFERROR(COUNTIFS(Мониторинг!$Q$5:$Q$10,'Мониторинг тип'!$B35,Мониторинг!$A$5:$A$10,'Мониторинг тип'!O$1),0)","v":0},{"$f":"IFERROR(COUNTIFS(Мониторинг!$Q$5:$Q$10,'Мониторинг тип'!$B35,Мониторинг!$A$5:$A$10,'Мониторинг тип'!P$1),0)","v":0},{"$f":"IFERROR(COUNTIFS(Мониторинг!$Q$5:$Q$10,'Мониторинг тип'!$B35,Мониторинг!$A$5:$A$10,'Мониторинг тип'!Q$1),0)","v":0},{"$f":"IFERROR(COUNTIFS(Мониторинг!$Q$5:$Q$10,'Мониторинг тип'!$B35,Мониторинг!$A$5:$A$10,'Мониторинг тип'!R$1),0)","v":0},{"$f":"IFERROR(COUNTIFS(Мониторинг!$Q$5:$Q$10,'Мониторинг тип'!$B35,Мониторинг!$A$5:$A$10,'Мониторинг тип'!S$1),0)","v":0},{"$f":"IFERROR(COUNTIFS(Мониторинг!$Q$5:$Q$10,'Мониторинг тип'!$B35,Мониторинг!$A$5:$A$10,'Мониторинг тип'!T$1),0)","v":0},{"$f":"IFERROR(COUNTIFS(Мониторинг!$Q$5:$Q$10,'Мониторинг тип'!$B35,Мониторинг!$A$5:$A$10,'Мониторинг тип'!U$1),0)","v":0},{"$f":"IFERROR(COUNTIFS(Мониторинг!$Q$5:$Q$10,'Мониторинг тип'!$B35,Мониторинг!$A$5:$A$10,'Мониторинг тип'!V$1),0)","v":0},{"$f":"IFERROR(COUNTIFS(Мониторинг!$Q$5:$Q$10,'Мониторинг тип'!$B35,Мониторинг!$A$5:$A$10,'Мониторинг тип'!W$1),0)","v":0},{"$f":"IFERROR(COUNTIFS(Мониторинг!$Q$5:$Q$10,'Мониторинг тип'!$B35,Мониторинг!$A$5:$A$10,'Мониторинг тип'!X$1),0)","v":0},{"$f":"IFERROR(COUNTIFS(Мониторинг!$Q$5:$Q$10,'Мониторинг тип'!$B35,Мониторинг!$A$5:$A$10,'Мониторинг тип'!Y$1),0)","v":0},{"$f":"IFERROR(COUNTIFS(Мониторинг!$Q$5:$Q$10,'Мониторинг тип'!$B35,Мониторинг!$A$5:$A$10,'Мониторинг тип'!Z$1),0)","v":0},{"$f":"IFERROR(COUNTIFS(Мониторинг!$Q$5:$Q$10,'Мониторинг тип'!$B35,Мониторинг!$A$5:$A$10,'Мониторинг тип'!AA$1),0)","v":0},{"$f":"IFERROR(COUNTIFS(Мониторинг!$Q$5:$Q$10,'Мониторинг тип'!$B35,Мониторинг!$A$5:$A$10,'Мониторинг тип'!AB$1),0)","v":0},{"$f":"IFERROR(COUNTIFS(Мониторинг!$Q$5:$Q$10,'Мониторинг тип'!$B35,Мониторинг!$A$5:$A$10,'Мониторинг тип'!AC$1),0)","v":0},{"$f":"IFERROR(COUNTIFS(Мониторинг!$Q$5:$Q$10,'Мониторинг тип'!$B35,Мониторинг!$A$5:$A$10,'Мониторинг тип'!AD$1),0)","v":0},{"$f":"IFERROR(COUNTIFS(Мониторинг!$Q$5:$Q$10,'Мониторинг тип'!$B35,Мониторинг!$A$5:$A$10,'Мониторинг тип'!AE$1),0)","v":0},{"$f":"IFERROR(COUNTIFS(Мониторинг!$Q$5:$Q$10,'Мониторинг тип'!$B35,Мониторинг!$A$5:$A$10,'Мониторинг тип'!AF$1),0)","v":0},{"$f":"IFERROR(COUNTIFS(Мониторинг!$Q$5:$Q$10,'Мониторинг тип'!$B35,Мониторинг!$A$5:$A$10,'Мониторинг тип'!AG$1),0)","v":0}]
[null,"-",{"$f":"SUM(D36:AG36)","v":0},{"$f":"IFERROR(COUNTIFS(Мониторинг!$Q$5:$Q$10,'Мониторинг тип'!$B36,Мониторинг!$A$5:$A$10,'Мониторинг тип'!D$1),0)","v":0},{"$f":"IFERROR(COUNTIFS(Мониторинг!$Q$5:$Q$10,'Мониторинг тип'!$B36,Мониторинг!$A$5:$A$10,'Мониторинг тип'!E$1),0)","v":0},{"$f":"IFERROR(COUNTIFS(Мониторинг!$Q$5:$Q$10,'Мониторинг тип'!$B36,Мониторинг!$A$5:$A$10,'Мониторинг тип'!F$1),0)","v":0},{"$f":"IFERROR(COUNTIFS(Мониторинг!$Q$5:$Q$10,'Мониторинг тип'!$B36,Мониторинг!$A$5:$A$10,'Мониторинг тип'!G$1),0)","v":0},{"$f":"IFERROR(COUNTIFS(Мониторинг!$Q$5:$Q$10,'Мониторинг тип'!$B36,Мониторинг!$A$5:$A$10,'Мониторинг тип'!H$1),0)","v":0},{"$f":"IFERROR(COUNTIFS(Мониторинг!$Q$5:$Q$10,'Мониторинг тип'!$B36,Мониторинг!$A$5:$A$10,'Мониторинг тип'!I$1),0)","v":0},{"$f":"IFERROR(COUNTIFS(Мониторинг!$Q$5:$Q$10,'Мониторинг тип'!$B36,Мониторинг!$A$5:$A$10,'Мониторинг тип'!J$1),0)","v":0},{"$f":"IFERROR(COUNTIFS(Мониторинг!$Q$5:$Q$10,'Мониторинг тип'!$B36,Мониторинг!$A$5:$A$10,'Мониторинг тип'!K$1),0)","v":0},{"$f":"IFERROR(COUNTIFS(Мониторинг!$Q$5:$Q$10,'Мониторинг тип'!$B36,Мониторинг!$A$5:$A$10,'Мониторинг тип'!L$1),0)","v":0},{"$f":"IFERROR(COUNTIFS(Мониторинг!$Q$5:$Q$10,'Мониторинг тип'!$B36,Мониторинг!$A$5:$A$10,'Мониторинг тип'!M$1),0)","v":0},{"$f":"IFERROR(COUNTIFS(Мониторинг!$Q$5:$Q$10,'Мониторинг тип'!$B36,Мониторинг!$A$5:$A$10,'Мониторинг тип'!N$1),0)","v":0},{"$f":"IFERROR(COUNTIFS(Мониторинг!$Q$5:$Q$10,'Мониторинг тип'!$B36,Мониторинг!$A$5:$A$10,'Мониторинг тип'!O$1),0)","v":0},{"$f":"IFERROR(COUNTIFS(Мониторинг!$Q$5:$Q$10,'Мониторинг тип'!$B36,Мониторинг!$A$5:$A$10,'Мониторинг тип'!P$1),0)","v":0},{"$f":"IFERROR(COUNTIFS(Мониторинг!$Q$5:$Q$10,'Мониторинг тип'!$B36,Мониторинг!$A$5:$A$10,'Мониторинг тип'!Q$1),0)","v":0},{"$f":"IFERROR(COUNTIFS(Мониторинг!$Q$5:$Q$10,'Мониторинг тип'!$B36,Мониторинг!$A$5:$A$10,'Мониторинг тип'!R$1),0)","v":0},{"$f":"IFERROR(COUNTIFS(Мониторинг!$Q$5:$Q$10,'Мониторинг тип'!$B36,Мониторинг!$A$5:$A$10,'Мониторинг тип'!S$1),0)","v":0},{"$f":"IFERROR(COUNTIFS(Мониторинг!$Q$5:$Q$10,'Мониторинг тип'!$B36,Мониторинг!$A$5:$A$10,'Мониторинг тип'!T$1),0)","v":0},{"$f":"IFERROR(COUNTIFS(Мониторинг!$Q$5:$Q$10,'Мониторинг тип'!$B36,Мониторинг!$A$5:$A$10,'Мониторинг тип'!U$1),0)","v":0},{"$f":"IFERROR(COUNTIFS(Мониторинг!$Q$5:$Q$10,'Мониторинг тип'!$B36,Мониторинг!$A$5:$A$10,'Мониторинг тип'!V$1),0)","v":0},{"$f":"IFERROR(COUNTIFS(Мониторинг!$Q$5:$Q$10,'Мониторинг тип'!$B36,Мониторинг!$A$5:$A$10,'Мониторинг тип'!W$1),0)","v":0},{"$f":"IFERROR(COUNTIFS(Мониторинг!$Q$5:$Q$10,'Мониторинг тип'!$B36,Мониторинг!$A$5:$A$10,'Мониторинг тип'!X$1),0)","v":0},{"$f":"IFERROR(COUNTIFS(Мониторинг!$Q$5:$Q$10,'Мониторинг тип'!$B36,Мониторинг!$A$5:$A$10,'Мониторинг тип'!Y$1),0)","v":0},{"$f":"IFERROR(COUNTIFS(Мониторинг!$Q$5:$Q$10,'Мониторинг тип'!$B36,Мониторинг!$A$5:$A$10,'Мониторинг тип'!Z$1),0)","v":0},{"$f":"IFERROR(COUNTIFS(Мониторинг!$Q$5:$Q$10,'Мониторинг тип'!$B36,Мониторинг!$A$5:$A$10,'Мониторинг тип'!AA$1),0)","v":0},{"$f":"IFERROR(COUNTIFS(Мониторинг!$Q$5:$Q$10,'Мониторинг тип'!$B36,Мониторинг!$A$5:$A$10,'Мониторинг тип'!AB$1),0)","v":0},{"$f":"IFERROR(COUNTIFS(Мониторинг!$Q$5:$Q$10,'Мониторинг тип'!$B36,Мониторинг!$A$5:$A$10,'Мониторинг тип'!AC$1),0)","v":0},{"$f":"IFERROR(COUNTIFS(Мониторинг!$Q$5:$Q$10,'Мониторинг тип'!$B36,Мониторинг!$A$5:$A$10,'Мониторинг тип'!AD$1),0)","v":0},{"$f":"IFERROR(COUNTIFS(Мониторинг!$Q$5:$Q$10,'Мониторинг тип'!$B36,Мониторинг!$A$5:$A$10,'Мониторинг тип'!AE$1),0)","v":0},{"$f":"IFERROR(COUNTIFS(Мониторинг!$Q$5:$Q$10,'Мониторинг тип'!$B36,Мониторинг!$A$5:$A$10,'Мониторинг тип'!AF$1),0)","v":0},{"$f":"IFERROR(COUNTIFS(Мониторинг!$Q$5:$Q$10,'Мониторинг тип'!$B36,Мониторинг!$A$5:$A$10,'Мониторинг тип'!AG$1),0)","v":0}]
[null,"~",{"$f":"SUM(D37:AG37)","v":0},{"$f":"IFERROR(COUNTIFS(Мониторинг!$Q$5:$Q$10,'Мониторинг тип'!$B37,Мониторинг!$A$5:$A$10,'Мониторинг тип'!D$1),0)","v":0},{"$f":"IFERROR(COUNTIFS(Мониторинг!$Q$5:$Q$10,'Мониторинг тип'!$B37,Мониторинг!$A$5:$A$10,'Мониторинг тип'!E$1),0)","v":0},{"$f":"IFERROR(COUNTIFS(Мониторинг!$Q$5:$Q$10,'Мониторинг тип'!$B37,Мониторинг!$A$5:$A$10,'Мониторинг тип'!F$1),0)","v":0},{"$f":"IFERROR(COUNTIFS(Мониторинг!$Q$5:$Q$10,'Мониторинг тип'!$B37,Мониторинг!$A$5:$A$10,'Мониторинг тип'!G$1),0)","v":0},{"$f":"IFERROR(COUNTIFS(Мониторинг!$Q$5:$Q$10,'Мониторинг тип'!$B37,Мониторинг!$A$5:$A$10,'Мониторинг тип'!H$1),0)","v":0},{"$f":"IFERROR(COUNTIFS(Мониторинг!$Q$5:$Q$10,'Мониторинг тип'!$B37,Мониторинг!$A$5:$A$10,'Мониторинг тип'!I$1),0)","v":0},{"$f":"IFERROR(COUNTIFS(Мониторинг!$Q$5:$Q$10,'Мониторинг тип'!$B37,Мониторинг!$A$5:$A$10,'Мониторинг тип'!J$1),0)","v":0},{"$f":"IFERROR(COUNTIFS(Мониторинг!$Q$5:$Q$10,'Мониторинг тип'!$B37,Мониторинг!$A$5:$A$10,'Мониторинг тип'!K$1),0)","v":0},{"$f":"IFERROR(COUNTIFS(Мониторинг!$Q$5:$Q$10,'Мониторинг тип'!$B37,Мониторинг!$A$5:$A$10,'Мониторинг тип'!L$1),0)","v":0},{"$f":"IFERROR(COUNTIFS(Мониторинг!$Q$5:$Q$10,'Мониторинг тип'!$B37,Мониторинг!$A$5:$A$10,'Мониторинг тип'!M$1),0)","v":0},{"$f":"IFERROR(COUNTIFS(Мониторинг!$Q$5:$Q$10,'Мониторинг тип'!$B37,Мониторинг!$A$5:$A$10,'Мониторинг тип'!N$1),0)","v":0},{"$f":"IFERROR(COUNTIFS(Мониторинг!$Q$5:$Q$10,'Мониторинг тип'!$B37,Мониторинг!$A$5:$A$10,'Мониторинг тип'!O$1),0)","v":0},{"$f":"IFERROR(COUNTIFS(Мониторинг!$Q$5:$Q$10,'Мониторинг тип'!$B37,Мониторинг!$A$5:$A$10,'Мониторинг тип'!P$1),0)","v":0},{"$f":"IFERROR(COUNTIFS(Мониторинг!$Q$5:$Q$10,'Мониторинг тип'!$B37,Мониторинг!$A$5:$A$10,'Мониторинг тип'!Q$1),0)","v":0},{"$f":"IFERROR(COUNTIFS(Мониторинг!$Q$5:$Q$10,'Мониторинг тип'!$B37,Мониторинг!$A$5:$A$10,'Мониторинг тип'!R$1),0)","v":0},{"$f":"IFERROR(COUNTIFS(Мониторинг!$Q$5:$Q$10,'Мониторинг тип'!$B37,Мониторинг!$A$5:$A$10,'Мониторинг тип'!S$1),0)","v":0},{"$f":"IFERROR(COUNTIFS(Мониторинг!$Q$5:$Q$10,'Мониторинг тип'!$B37,Мониторинг!$A$5:$A$10,'Мониторинг тип'!T$1),0)","v":0},{"$f":"IFERROR(COUNTIFS(Мониторинг!$Q$5:$Q$10,'Мониторинг тип'!$B37,Мониторинг!$A$5:$A$10,'Мониторинг тип'!U$1),0)","v":0},{"$f":"IFERROR(COUNTIFS(Мониторинг!$Q$5:$Q$10,'Мониторинг тип'!$B37,Мониторинг!$A$5:$A$10,'Мониторинг тип'!V$1),0)","v":0},{"$f":"IFERROR(COUNTIFS(Мониторинг!$Q$5:$Q$10,'Мониторинг тип'!$B37,Мониторинг!$A$5:$A$10,'Мониторинг тип'!W$1),0)","v":0},{"$f":"IFERROR(COUNTIFS(Мониторинг!$Q$5:$Q$10,'Мониторинг тип'!$B37,Мониторинг!$A$5:$A$10,'Мониторинг тип'!X$1),0)","v":0},{"$f":"IFERROR(COUNTIFS(Мониторинг!$Q$5:$Q$10,'Мониторинг тип'!$B37,Мониторинг!$A$5:$A$10,'Мониторинг тип'!Y$1),0)","v":0},{"$f":"IFERROR(COUNTIFS(Мониторинг!$Q$5:$Q$10,'Мониторинг тип'!$B37,Мониторинг!$A$5:$A$10,'Мониторинг тип'!Z$1),0)","v":0},{"$f":"IFERROR(COUNTIFS(Мониторинг!$Q$5:$Q$10,'Мониторинг тип'!$B37,Мониторинг!$A$5:$A$10,'Мониторинг тип'!AA$1),0)","v":0},{"$f":"IFERROR(COUNTIFS(Мониторинг!$Q$5:$Q$10,'Мониторинг тип'!$B37,Мониторинг!$A$5:$A$10,'Мониторинг тип'!AB$1),0)","v":0},{"$f":"IFERROR(COUNTIFS(Мониторинг!$Q$5:$Q$10,'Мониторинг тип'!$B37,Мониторинг!$A$5:$A$10,'Мониторинг тип'!AC$1),0)","v":0},{"$f":"IFERROR(COUNTIFS(Мониторинг!$Q$5:$Q$10,'Мониторинг тип'!$B37,Мониторинг!$A$5:$A$10,'Мониторинг тип'!AD$1),0)","v":0},{"$f":"IFERROR(COUNTIFS(Мониторинг!$Q$5:$Q$10,'Мониторинг тип'!$B37,Мониторинг!$A$5:$A$10,'Мониторинг тип'!AE$1),0)","v":0},{"$f":"IFERROR(COUNTIFS(Мониторинг!$Q$5:$Q$10,'Мониторинг тип'!$B37,Мониторинг!$A$5:$A$10,'Мониторинг тип'!AF$1),0)","v":0},{"$f":"IFERROR(COUNTIFS(Мониторинг!$Q$5:$Q$10,'Мониторинг тип'!$B37,Мониторинг!$A$5:$A$10,'Мониторинг тип'!AG$1),0)","v":0}]
[null,"% информирования",{"$f":"IF(SUM(C33:C37)<>0,(C33*100%+(C34*50%)+(C35*30%)+(C36*0%)+(C37*100%))/SUM(C33:C37),\"\")","v":""},{"$f":"IF(SUM(D33:D37)<>0,(D33*100%+(D34*50%)+(D35*30%)+(D36*0%)+(D37*100%))/SUM(D33:D37),\"\")","v":""},{"$f":"IF(SUM(E33:E37)<>0,(E33*100%+(E34*50%)+(E35*30%)+(E36*0%)+(E37*100%))/SUM(E33:E37),\"\")","v":""},"","","","","","","","","","","","","","","","","","","","","","","","","","","",""]
["Работа с возражениями",{"$f":"Лист1!M13","v":"C"},{"$f":"SUM(D39:AG39)","v":0},{"$f":"IFERROR(COUNTIFS(Мониторинг!$R$5:$R$10,'Мониторинг тип'!$B39,Мониторинг!$A$5:$A$10,'Мониторинг тип'!D$1),0)","v":0},{"$f":"IFERROR(COUNTIFS(Мониторинг!$R$5:$R$10,'Мониторинг тип'!$B39,Мониторинг!$A$5:$A$10,'Мониторинг тип'!E$1),0)","v":0},{"$f":"IFERROR(COUNTIFS(Мониторинг!$R$5:$R$10,'Мониторинг тип'!$B39,Мониторинг!$A$5:$A$10,'Мониторинг тип'!F$1),0)","v":0},{"$f":"IFERROR(COUNTIFS(Мониторинг!$R$5:$R$10,'Мониторинг тип'!$B39,Мониторинг!$A$5:$A$10,'Мониторинг тип'!G$1),0)","v":0},{"$f":"IFERROR(COUNTIFS(Мониторинг!$R$5:$R$10,'Мониторинг тип'!$B39,Мониторинг!$A$5:$A$10,'Мониторинг тип'!H$1),0)","v":0},{"$f":"IFERROR(COUNTIFS(Мониторинг!$R$5:$R$10,'Мониторинг тип'!$B39,Мониторинг!$A$5:$A$10,'Мониторинг тип'!I$1),0)","v":0},{"$f":"IFERROR(COUNTIFS(Мониторинг!$R$5:$R$10,'Мониторинг тип'!$B39,Мониторинг!$A$5:$A$10,'Мониторинг тип'!J$1),0)","v":0},{"$f":"IFERROR(COUNTIFS(Мониторинг!$R$5:$R$10,'Мониторинг тип'!$B39,Мониторинг!$A$5:$A$10,'Мониторинг тип'!K$1),0)","v":0},{"$f":"IFERROR(COUNTIFS(Мониторинг!$R$5:$R$10,'Мониторинг тип'!$B39,Мониторинг!$A$5:$A$10,'Мониторинг тип'!L$1),0)","v":0},{"$f":"IFERROR(COUNTIFS(Мониторинг!$R$5:$R$10,'Мониторинг тип'!$B39,Мониторинг!$A$5:$A$10,'Мониторинг тип'!M$1),0)","v":0},{"$f":"IFERROR(COUNTIFS(Мониторинг!$R$5:$R$10,'Мониторинг тип'!$B39,Мониторинг!$A$5:$A$10,'Мониторинг тип'!N$1),0)","v":0},{"$f":"IFERROR(COUNTIFS(Мониторинг!$R$5:$R$10,'Мониторинг тип'!$B39,Мониторинг!$A$5:$A$10,'Мониторинг тип'!O$1),0)","v":0},{"$f":"IFERROR(COUNTIFS(Мониторинг!$R$5:$R$10,'Мониторинг тип'!$B39,Мониторинг!$A$5:$A$10,'Мониторинг тип'!P$1),0)","v":0},{"$f":"IFERROR(COUNTIFS(Мониторинг!$R$5:$R$10,'Мониторинг тип'!$B39,Мониторинг!$A$5:$A$10,'Мониторинг тип'!Q$1),0)","v":0},{"$f":"IFERROR(COUNTIFS(Мониторинг!$R$5:$R$10,'Мониторинг тип'!$B39,Мониторинг!$A$5:$A$10,'Мониторинг тип'!R$1),0)","v":0},{"$f":"IFERROR(COUNTIFS(Мониторинг!$R$5:$R$10,'Мониторинг тип'!$B39,Мониторинг!$A$5:$A$10,'Мониторинг тип'!S$1),0)","v":0},{"$f":"IFERROR(COUNTIFS(Мониторинг!$R$5:$R$10,'Мониторинг тип'!$B39,Мониторинг!$A$5:$A$10,'Мониторинг тип'!T$1),0)","v":0},{"$f":"IFERROR(COUNTIFS(Мониторинг!$R$5:$R$10,'Мониторинг тип'!$B39,Мониторинг!$A$5:$A$10,'Мониторинг тип'!U$1),0)","v":0},{"$f":"IFERROR(COUNTIFS(Мониторинг!$R$5:$R$10,'Мониторинг тип'!$B39,Мониторинг!$A$5:$A$10,'Мониторинг тип'!V$1),0)","v":0},{"$f":"IFERROR(COUNTIFS(Мониторинг!$R$5:$R$10,'Мониторинг тип'!$B39,Мониторинг!$A$5:$A$10,'Мониторинг тип'!W$1),0)","v":0},{"$f":"IFERROR(COUNTIFS(Мониторинг!$R$5:$R$10,'Мониторинг тип'!$B39,Мониторинг!$A$5:$A$10,'Мониторинг тип'!X$1),0)","v":0},{"$f":"IFERROR(COUNTIFS(Мониторинг!$R$5:$R$10,'Мониторинг тип'!$B39,Мониторинг!$A$5:$A$10,'Мониторинг тип'!Y$1),0)","v":0},{"$f":"IFERROR(COUNTIFS(Мониторинг!$R$5:$R$10,'Мониторинг тип'!$B39,Мониторинг!$A$5:$A$10,'Мониторинг тип'!Z$1),0)","v":0},{"$f":"IFERROR(COUNTIFS(Мониторинг!$R$5:$R$10,'Мониторинг тип'!$B39,Мониторинг!$A$5:$A$10,'Мониторинг тип'!AA$1),0)","v":0},{"$f":"IFERROR(COUNTIFS(Мониторинг!$R$5:$R$10,'Мониторинг тип'!$B39,Мониторинг!$A$5:$A$10,'Мониторинг тип'!AB$1),0)","v":0},{"$f":"IFERROR(COUNTIFS(Мониторинг!$R$5:$R$10,'Мониторинг тип'!$B39,Мониторинг!$A$5:$A$10,'Мониторинг тип'!AC$1),0)","v":0},{"$f":"IFERROR(COUNTIFS(Мониторинг!$R$5:$R$10,'Мониторинг тип'!$B39,Мониторинг!$A$5:$A$10,'Мониторинг тип'!AD$1),0)","v":0},{"$f":"IFERROR(COUNTIFS(Мониторинг!$R$5:$R$10,'Мониторинг тип'!$B39,Мониторинг!$A$5:$A$10,'Мониторинг тип'!AE$1),0)","v":0},{"$f":"IFERROR(COUNTIFS(Мониторинг!$R$5:$R$10,'Мониторинг тип'!$B39,Мониторинг!$A$5:$A$10,'Мониторинг тип'!AF$1),0)","v":0},{"$f":"IFERROR(COUNTIFS(Мониторинг!$R$5:$R$10,'Мониторинг тип'!$B39,Мониторинг!$A$5:$A$10,'Мониторинг тип'!AG$1),0)","v":0}]
[null,{"$f":"Лист1!M14","v":"D"},{"$f":"SUM(D40:AG40)","v":0},{"$f":"IFERROR(COUNTIFS(Мониторинг!$R$5:$R$10,'Мониторинг тип'!$B40,Мониторинг!$A$5:$A$10,'Мониторинг тип'!D$1),0)","v":0},{"$f":"IFERROR(COUNTIFS(Мониторинг!$R$5:$R$10,'Мониторинг тип'!$B40,Мониторинг!$A$5:$A$10,'Мониторинг тип'!E$1),0)","v":0},{"$f":"IFERROR(COUNTIFS(Мониторинг!$R$5:$R$10,'Мониторинг тип'!$B40,Мониторинг!$A$5:$A$10,'Мониторинг тип'!F$1),0)","v":0},{"$f":"IFERROR(COUNTIFS(Мониторинг!$R$5:$R$10,'Мониторинг тип'!$B40,Мониторинг!$A$5:$A$10,'Мониторинг тип'!G$1),0)","v":0},{"$f":"IFERROR(COUNTIFS(Мониторинг!$R$5:$R$10,'Мониторинг тип'!$B40,Мониторинг!$A$5:$A$10,'Мониторинг тип'!H$1),0)","v":0},{"$f":"IFERROR(COUNTIFS(Мониторинг!$R$5:$R$10,'Мониторинг тип'!$B40,Мониторинг!$A$5:$A$10,'Мониторинг тип'!I$1),0)","v":0},{"$f":"IFERROR(COUNTIFS(Мониторинг!$R$5:$R$10,'Мониторинг тип'!$B40,Мониторинг!$A$5:$A$10,'Мониторинг тип'!J$1),0)","v":0},{"$f":"IFERROR(COUNTIFS(Мониторинг!$R$5:$R$10,'Мониторинг тип'!$B40,Мониторинг!$A$5:$A$10,'Мониторинг тип'!K$1),0)","v":0},{"$f":"IFERROR(COUNTIFS(Мониторинг!$R$5:$R$10,'Мониторинг тип'!$B40,Мониторинг!$A$5:$A$10,'Мониторинг тип'!L$1),0)","v":0},{"$f":"IFERROR(COUNTIFS(Мониторинг!$R$5:$R$10,'Мониторинг тип'!$B40,Мониторинг!$A$5:$A$10,'Мониторинг тип'!M$1),0)","v":0},{"$f":"IFERROR(COUNTIFS(Мониторинг!$R$5:$R$10,'Мониторинг тип'!$B40,Мониторинг!$A$5:$A$10,'Мониторинг тип'!N$1),0)","v":0},{"$f":"IFERROR(COUNTIFS(Мониторинг!$R$5:$R$10,'Мониторинг тип'!$B40,Мониторинг!$A$5:$A$10,'Мониторинг тип'!O$1),0)","v":0},{"$f":"IFERROR(COUNTIFS(Мониторинг!$R$5:$R$10,'Мониторинг тип'!$B40,Мониторинг!$A$5:$A$10,'Мониторинг тип'!P$1),0)","v":0},{"$f":"IFERROR(COUNTIFS(Мониторинг!$R$5:$R$10,'Мониторинг тип'!$B40,Мониторинг!$A$5:$A$10,'Мониторинг тип'!Q$1),0)","v":0},{"$f":"IFERROR(COUNTIFS(Мониторинг!$R$5:$R$10,'Мониторинг тип'!$B40,Мониторинг!$A$5:$A$10,'Мониторинг тип'!R$1),0)","v":0},{"$f":"IFERROR(COUNTIFS(Мониторинг!$R$5:$R$10,'Мониторинг тип'!$B40,Мониторинг!$A$5:$A$10,'Мониторинг тип'!S$1),0)","v":0},{"$f":"IFERROR(COUNTIFS(Мониторинг!$R$5:$R$10,'Мониторинг тип'!$B40,Мониторинг!$A$5:$A$10,'Мониторинг тип'!T$1),0)","v":0},{"$f":"IFERROR(COUNTIFS(Мониторинг!$R$5:$R$10,'Мониторинг тип'!$B40,Мониторинг!$A$5:$A$10,'Мониторинг тип'!U$1),0)","v":0},{"$f":"IFERROR(COUNTIFS(Мониторинг!$R$5:$R$10,'Мониторинг тип'!$B40,Мониторинг!$A$5:$A$10,'Мониторинг тип'!V$1),0)","v":0},{"$f":"IFERROR(COUNTIFS(Мониторинг!$R$5:$R$10,'Мониторинг тип'!$B40,Мониторинг!$A$5:$A$10,'Мониторинг тип'!W$1),0)","v":0},{"$f":"IFERROR(COUNTIFS(Мониторинг!$R$5:$R$10,'Мониторинг тип'!$B40,Мониторинг!$A$5:$A$10,'Мониторинг тип'!X$1),0)","v":0},{"$f":"IFERROR(COUNTIFS(Мониторинг!$R$5:$R$10,'Мониторинг тип'!$B40,Мониторинг!$A$5:$A$10,'Мониторинг тип'!Y$1),0)","v":0},{"$f":"IFERROR(COUNTIFS(Мониторинг!$R$5:$R$10,'Мониторинг тип'!$B40,Мониторинг!$A$5:$A$10,'Мониторинг тип'!Z$1),0)","v":0},{"$f":"IFERROR(COUNTIFS(Мониторинг!$R$5:$R$10,'Мониторинг тип'!$B40,Мониторинг!$A$5:$A$10,'Мониторинг тип'!AA$1),0)","v":0},{"$f":"IFERROR(COUNTIFS(Мониторинг!$R$5:$R$10,'Мониторинг тип'!$B40,Мониторинг!$A$5:$A$10,'Мониторинг тип'!AB$1),0)","v":0},{"$f":"IFERROR(COUNTIFS(Мониторинг!$R$5:$R$10,'Мониторинг тип'!$B40,Мониторинг!$A$5:$A$10,'Мониторинг тип'!AC$1),0)","v":0},{"$f":"IFERROR(COUNTIFS(Мониторинг!$R$5:$R$10,'Мониторинг тип'!$B40,Мониторинг!$A$5:$A$10,'Мониторинг тип'!AD$1),0)","v":0},{"$f":"IFERROR(COUNTIFS(Мониторинг!$R$5:$R$10,'Мониторинг тип'!$B40,Мониторинг!$A$5:$A$10,'Мониторинг тип'!AE$1),0)","v":0},{"$f":"IFERROR(COUNTIFS(Мониторинг!$R$5:$R$10,'Мониторинг тип'!$B40,Мониторинг!$A$5:$A$10,'Мониторинг тип'!AF$1),0)","v":0},{"$f":"IFERROR(COUNTIFS(Мониторинг!$R$5:$R$10,'Мониторинг тип'!$B40,Мониторинг!$A$5:$A$10,'Мониторинг тип'!AG$1),0)","v":0}]
[null,{"$f":"Лист1!M15","v":"NA"},{"$f":"SUM(D41:AG41)","v":0},{"$f":"IFERROR(COUNTIFS(Мониторинг!$R$5:$R$10,'Мониторинг тип'!$B41,Мониторинг!$A$5:$A$10,'Мониторинг тип'!D$1),0)","v":0},{"$f":"IFERROR(COUNTIFS(Мониторинг!$R$5:$R$10,'Мониторинг тип'!$B41,Мониторинг!$A$5:$A$10,'Мониторинг тип'!E$1),0)","v":0},{"$f":"IFERROR(COUNTIFS(Мониторинг!$R$5:$R$10,'Мониторинг тип'!$B41,Мониторинг!$A$5:$A$10,'Мониторинг тип'!F$1),0)","v":0},{"$f":"IFERROR(COUNTIFS(Мониторинг!$R$5:$R$10,'Мониторинг тип'!$B41,Мониторинг!$A$5:$A$10,'Мониторинг тип'!G$1),0)","v":0},{"$f":"IFERROR(COUNTIFS(Мониторинг!$R$5:$R$10,'Мониторинг тип'!$B41,Мониторинг!$A$5:$A$10,'Мониторинг тип'!H$1),0)","v":0},{"$f":"IFERROR(COUNTIFS(Мониторинг!$R$5:$R$10,'Мониторинг тип'!$B41,Мониторинг!$A$5:$A$10,'Мониторинг тип'!I$1),0)","v":0},{"$f":"IFERROR(COUNTIFS(Мониторинг!$R$5:$R$10,'Мониторинг тип'!$B41,Мониторинг!$A$5:$A$10,'Мониторинг тип'!J$1),0)","v":0},{"$f":"IFERROR(COUNTIFS(Мониторинг!$R$5:$R$10,'Мониторинг тип'!$B41,Мониторинг!$A$5:$A$10,'Мониторинг тип'!K$1),0)","v":0},{"$f":"IFERROR(COUNTIFS(Мониторинг!$R$5:$R$10,'Мониторинг тип'!$B41,Мониторинг!$A$5:$A$10,'Мониторинг тип'!L$1),0)","v":0},{"$f":"IFERROR(COUNTIFS(Мониторинг!$R$5:$R$10,'Мониторинг тип'!$B41,Мониторинг!$A$5:$A$10,'Мониторинг тип'!M$1),0)","v":0},{"$f":"IFERROR(COUNTIFS(Мониторинг!$R$5:$R$10,'Мониторинг тип'!$B41,Мониторинг!$A$5:$A$10,'Мониторинг тип'!N$1),0)","v":0},{"$f":"IFERROR(COUNTIFS(Мониторинг!$R$5:$R$10,'Мониторинг тип'!$B41,Мониторинг!$A$5:$A$10,'Мониторинг тип'!O$1),0)","v":0},{"$f":"IFERROR(COUNTIFS(Мониторинг!$R$5:$R$10,'Мониторинг тип'!$B41,Мониторинг!$A$5:$A$10,'Мониторинг тип'!P$1),0)","v":0},{"$f":"IFERROR(COUNTIFS(Мониторинг!$R$5:$R$10,'Мониторинг тип'!$B41,Мониторинг!$A$5:$A$10,'Мониторинг тип'!Q$1),0)","v":0},{"$f":"IFERROR(COUNTIFS(Мониторинг!$R$5:$R$10,'Мониторинг тип'!$B41,Мониторинг!$A$5:$A$10,'Мониторинг тип'!R$1),0)","v":0},{"$f":"IFERROR(COUNTIFS(Мониторинг!$R$5:$R$10,'Мониторинг тип'!$B41,Мониторинг!$A$5:$A$10,'Мониторинг тип'!S$1),0)","v":0},{"$f":"IFERROR(COUNTIFS(Мониторинг!$R$5:$R$10,'Мониторинг тип'!$B41,Мониторинг!$A$5:$A$10,'Мониторинг тип'!T$1),0)","v":0},{"$f":"IFERROR(COUNTIFS(Мониторинг!$R$5:$R$10,'Мониторинг тип'!$B41,Мониторинг!$A$5:$A$10,'Мониторинг тип'!U$1),0)","v":0},{"$f":"IFERROR(COUNTIFS(Мониторинг!$R$5:$R$10,'Мониторинг тип'!$B41,Мониторинг!$A$5:$A$10,'Мониторинг тип'!V$1),0)","v":0},{"$f":"IFERROR(COUNTIFS(Мониторинг!$R$5:$R$10,'Мониторинг тип'!$B41,Мониторинг!$A$5:$A$10,'Мониторинг тип'!W$1),0)","v":0},{"$f":"IFERROR(COUNTIFS(Мониторинг!$R$5:$R$10,'Мониторинг тип'!$B41,Мониторинг!$A$5:$A$10,'Мониторинг тип'!X$1),0)","v":0},{"$f":"IFERROR(COUNTIFS(Мониторинг!$R$5:$R$10,'Мониторинг тип'!$B41,Мониторинг!$A$5:$A$10,'Мониторинг тип'!Y$1),0)","v":0},{"$f":"IFERROR(COUNTIFS(Мониторинг!$R$5:$R$10,'Мониторинг тип'!$B41,Мониторинг!$A$5:$A$10,'Мониторинг тип'!Z$1),0)","v":0},{"$f":"IFERROR(COUNTIFS(Мониторинг!$R$5:$R$10,'Мониторинг тип'!$B41,Мониторинг!$A$5:$A$10,'Мониторинг тип'!AA$1),0)","v":0},{"$f":"IFERROR(COUNTIFS(Мониторинг!$R$5:$R$10,'Мониторинг тип'!$B41,Мониторинг!$A$5:$A$10,'Мониторинг тип'!AB$1),0)","v":0},{"$f":"IFERROR(COUNTIFS(Мониторинг!$R$5:$R$10,'Мониторинг тип'!$B41,Мониторинг!$A$5:$A$10,'Мониторинг тип'!AC$1),0)","v":0},{"$f":"IFERROR(COUNTIFS(Мониторинг!$R$5:$R$10,'Мониторинг тип'!$B41,Мониторинг!$A$5:$A$10,'Мониторинг тип'!AD$1),0)","v":0},{"$f":"IFERROR(COUNTIFS(Мониторинг!$R$5:$R$10,'Мониторинг тип'!$B41,Мониторинг!$A$5:$A$10,'Мониторинг тип'!AE$1),0)","v":0},{"$f":"IFERROR(COUNTIFS(Мониторинг!$R$5:$R$10,'Мониторинг тип'!$B41,Мониторинг!$A$5:$A$10,'Мониторинг тип'!AF$1),0)","v":0},{"$f":"IFERROR(COUNTIFS(Мониторинг!$R$5:$R$10,'Мониторинг тип'!$B41,Мониторинг!$A$5:$A$10,'Мониторинг тип'!AG$1),0)","v":0}]
[null,{"$f":"Лист1!M16","v":0},{"$f":"SUM(D42:AG42)","v":0},{"$f":"IFERROR(COUNTIFS(Мониторинг!$R$5:$R$10,'Мониторинг тип'!$B42,Мониторинг!$A$5:$A$10,'Мониторинг тип'!D$1),0)","v":0},{"$f":"IFERROR(COUNTIFS(Мониторинг!$R$5:$R$10,'Мониторинг тип'!$B42,Мониторинг!$A$5:$A$10,'Мониторинг тип'!E$1),0)","v":0},{"$f":"IFERROR(COUNTIFS(Мониторинг!$R$5:$R$10,'Мониторинг тип'!$B42,Мониторинг!$A$5:$A$10,'Мониторинг тип'!F$1),0)","v":0},{"$f":"IFERROR(COUNTIFS(Мониторинг!$R$5:$R$10,'Мониторинг тип'!$B42,Мониторинг!$A$5:$A$10,'Мониторинг тип'!G$1),0)","v":0},{"$f":"IFERROR(COUNTIFS(Мониторинг!$R$5:$R$10,'Мониторинг тип'!$B42,Мониторинг!$A$5:$A$10,'Мониторинг тип'!H$1),0)","v":0},{"$f":"IFERROR(COUNTIFS(Мониторинг!$R$5:$R$10,'Мониторинг тип'!$B42,Мониторинг!$A$5:$A$10,'Мониторинг тип'!I$1),0)","v":0},{"$f":"IFERROR(COUNTIFS(Мониторинг!$R$5:$R$10,'Мониторинг тип'!$B42,Мониторинг!$A$5:$A$10,'Мониторинг тип'!J$1),0)","v":0},{"$f":"IFERROR(COUNTIFS(Мониторинг!$R$5:$R$10,'Мониторинг тип'!$B42,Мониторинг!$A$5:$A$10,'Мониторинг тип'!K$1),0)","v":0},{"$f":"IFERROR(COUNTIFS(Мониторинг!$R$5:$R$10,'Мониторинг тип'!$B42,Мониторинг!$A$5:$A$10,'Мониторинг тип'!L$1),0)","v":0},{"$f":"IFERROR(COUNTIFS(Мониторинг!$R$5:$R$10,'Мониторинг тип'!$B42,Мониторинг!$A$5:$A$10,'Мониторинг тип'!M$1),0)","v":0},{"$f":"IFERROR(COUNTIFS(Мониторинг!$R$5:$R$10,'Мониторинг тип'!$B42,Мониторинг!$A$5:$A$10,'Мониторинг тип'!N$1),0)","v":0},{"$f":"IFERROR(COUNTIFS(Мониторинг!$R$5:$R$10,'Мониторинг тип'!$B42,Мониторинг!$A$5:$A$10,'Мониторинг тип'!O$1),0)","v":0},{"$f":"IFERROR(COUNTIFS(Мониторинг!$R$5:$R$10,'Мониторинг тип'!$B42,Мониторинг!$A$5:$A$10,'Мониторинг тип'!P$1),0)","v":0},{"$f":"IFERROR(COUNTIFS(Мониторинг!$R$5:$R$10,'Мониторинг тип'!$B42,Мониторинг!$A$5:$A$10,'Мониторинг тип'!Q$1),0)","v":0},{"$f":"IFERROR(COUNTIFS(Мониторинг!$R$5:$R$10,'Мониторинг тип'!$B42,Мониторинг!$A$5:$A$10,'Мониторинг тип'!R$1),0)","v":0},{"$f":"IFERROR(COUNTIFS(Мониторинг!$R$5:$R$10,'Мониторинг тип'!$B42,Мониторинг!$A$5:$A$10,'Мониторинг тип'!S$1),0)","v":0},{"$f":"IFERROR(COUNTIFS(Мониторинг!$R$5:$R$10,'Мониторинг тип'!$B42,Мониторинг!$A$5:$A$10,'Мониторинг тип'!T$1),0)","v":0},{"$f":"IFERROR(COUNTIFS(Мониторинг!$R$5:$R$10,'Мониторинг тип'!$B42,Мониторинг!$A$5:$A$10,'Мониторинг тип'!U$1),0)","v":0},{"$f":"IFERROR(COUNTIFS(Мониторинг!$R$5:$R$10,'Мониторинг тип'!$B42,Мониторинг!$A$5:$A$10,'Мониторинг тип'!V$1),0)","v":0},{"$f":"IFERROR(COUNTIFS(Мониторинг!$R$5:$R$10,'Мониторинг тип'!$B42,Мониторинг!$A$5:$A$10,'Мониторинг тип'!W$1),0)","v":0},{"$f":"IFERROR(COUNTIFS(Мониторинг!$R$5:$R$10,'Мониторинг тип'!$B42,Мониторинг!$A$5:$A$10,'Мониторинг тип'!X$1),0)","v":0},{"$f":"IFERROR(COUNTIFS(Мониторинг!$R$5:$R$10,'Мониторинг тип'!$B42,Мониторинг!$A$5:$A$10,'Мониторинг тип'!Y$1),0)","v":0},{"$f":"IFERROR(COUNTIFS(Мониторинг!$R$5:$R$10,'Мониторинг тип'!$B42,Мониторинг!$A$5:$A$10,'Мониторинг тип'!Z$1),0)","v":0},{"$f":"IFERROR(COUNTIFS(Мониторинг!$R$5:$R$10,'Мониторинг тип'!$B42,Мониторинг!$A$5:$A$10,'Мониторинг тип'!AA$1),0)","v":0},{"$f":"IFERROR(COUNTIFS(Мониторинг!$R$5:$R$10,'Мониторинг тип'!$B42,Мониторинг!$A$5:$A$10,'Мониторинг тип'!AB$1),0)","v":0},{"$f":"IFERROR(COUNTIFS(Мониторинг!$R$5:$R$10,'Мониторинг тип'!$B42,Мониторинг!$A$5:$A$10,'Мониторинг тип'!AC$1),0)","v":0},{"$f":"IFERROR(COUNTIFS(Мониторинг!$R$5:$R$10,'Мониторинг тип'!$B42,Мониторинг!$A$5:$A$10,'Мониторинг тип'!AD$1),0)","v":0},{"$f":"IFERROR(COUNTIFS(Мониторинг!$R$5:$R$10,'Мониторинг тип'!$B42,Мониторинг!$A$5:$A$10,'Мониторинг тип'!AE$1),0)","v":0},{"$f":"IFERROR(COUNTIFS(Мониторинг!$R$5:$R$10,'Мониторинг тип'!$B42,Мониторинг!$A$5:$A$10,'Мониторинг тип'!AF$1),0)","v":0},{"$f":"IFERROR(COUNTIFS(Мониторинг!$R$5:$R$10,'Мониторинг тип'!$B42,Мониторинг!$A$5:$A$10,'Мониторинг тип'!AG$1),0)","v":0}]
[null,{"$f":"Лист1!M17","v":0},{"$f":"SUM(D43:AG43)","v":0},{"$f":"IFERROR(COUNTIFS(Мониторинг!$R$5:$R$10,'Мониторинг тип'!$B43,Мониторинг!$A$5:$A$10,'Мониторинг тип'!D$1),0)","v":0},{"$f":"IFERROR(COUNTIFS(Мониторинг!$R$5:$R$10,'Мониторинг тип'!$B43,Мониторинг!$A$5:$A$10,'Мониторинг тип'!E$1),0)","v":0},{"$f":"IFERROR(COUNTIFS(Мониторинг!$R$5:$R$10,'Мониторинг тип'!$B43,Мониторинг!$A$5:$A$10,'Мониторинг тип'!F$1),0)","v":0},{"$f":"IFERROR(COUNTIFS(Мониторинг!$R$5:$R$10,'Мониторинг тип'!$B43,Мониторинг!$A$5:$A$10,'Мониторинг тип'!G$1),0)","v":0},{"$f":"IFERROR(COUNTIFS(Мониторинг!$R$5:$R$10,'Мониторинг тип'!$B43,Мониторинг!$A$5:$A$10,'Мониторинг тип'!H$1),0)","v":0},{"$f":"IFERROR(COUNTIFS(Мониторинг!$R$5:$R$10,'Мониторинг тип'!$B43,Мониторинг!$A$5:$A$10,'Мониторинг тип'!I$1),0)","v":0},{"$f":"IFERROR(COUNTIFS(Мониторинг!$R$5:$R$10,'Мониторинг тип'!$B43,Мониторинг!$A$5:$A$10,'Мониторинг тип'!J$1),0)","v":0},{"$f":"IFERROR(COUNTIFS(Мониторинг!$R$5:$R$10,'Мониторинг тип'!$B43,Мониторинг!$A$5:$A$10,'Мониторинг тип'!K$1),0)","v":0},{"$f":"IFERROR(COUNTIFS(Мониторинг!$R$5:$R$10,'Мониторинг тип'!$B43,Мониторинг!$A$5:$A$10,'Мониторинг тип'!L$1),0)","v":0},{"$f":"IFERROR(COUNTIFS(Мониторинг!$R$5:$R$10,'Мониторинг тип'!$B43,Мониторинг!$A$5:$A$10,'Мониторинг тип'!M$1),0)","v":0},{"$f":"IFERROR(COUNTIFS(Мониторинг!$R$5:$R$10,'Мониторинг тип'!$B43,Мониторинг!$A$5:$A$10,'Мониторинг тип'!N$1),0)","v":0},{"$f":"IFERROR(COUNTIFS(Мониторинг!$R$5:$R$10,'Мониторинг тип'!$B43,Мониторинг!$A$5:$A$10,'Мониторинг тип'!O$1),0)","v":0},{"$f":"IFERROR(COUNTIFS(Мониторинг!$R$5:$R$10,'Мониторинг тип'!$B43,Мониторинг!$A$5:$A$10,'Мониторинг тип'!P$1),0)","v":0},{"$f":"IFERROR(COUNTIFS(Мониторинг!$R$5:$R$10,'Мониторинг тип'!$B43,Мониторинг!$A$5:$A$10,'Мониторинг тип'!Q$1),0)","v":0},{"$f":"IFERROR(COUNTIFS(Мониторинг!$R$5:$R$10,'Мониторинг тип'!$B43,Мониторинг!$A$5:$A$10,'Мониторинг тип'!R$1),0)","v":0},{"$f":"IFERROR(COUNTIFS(Мониторинг!$R$5:$R$10,'Мониторинг тип'!$B43,Мониторинг!$A$5:$A$10,'Мониторинг тип'!S$1),0)","v":0},{"$f":"IFERROR(COUNTIFS(Мониторинг!$R$5:$R$10,'Мониторинг тип'!$B43,Мониторинг!$A$5:$A$10,'Мониторинг тип'!T$1),0)","v":0},{"$f":"IFERROR(COUNTIFS(Мониторинг!$R$5:$R$10,'Мониторинг тип'!$B43,Мониторинг!$A$5:$A$10,'Мониторинг тип'!U$1),0)","v":0},{"$f":"IFERROR(COUNTIFS(Мониторинг!$R$5:$R$10,'Мониторинг тип'!$B43,Мониторинг!$A$5:$A$10,'Мониторинг тип'!V$1),0)","v":0},{"$f":"IFERROR(COUNTIFS(Мониторинг!$R$5:$R$10,'Мониторинг тип'!$B43,Мониторинг!$A$5:$A$10,'Мониторинг тип'!W$1),0)","v":0},{"$f":"IFERROR(COUNTIFS(Мониторинг!$R$5:$R$10,'Мониторинг тип'!$B43,Мониторинг!$A$5:$A$10,'Мониторинг тип'!X$1),0)","v":0},{"$f":"IFERROR(COUNTIFS(Мониторинг!$R$5:$R$10,'Мониторинг тип'!$B43,Мониторинг!$A$5:$A$10,'Мониторинг тип'!Y$1),0)","v":0},{"$f":"IFERROR(COUNTIFS(Мониторинг!$R$5:$R$10,'Мониторинг тип'!$B43,Мониторинг!$A$5:$A$10,'Мониторинг тип'!Z$1),0)","v":0},{"$f":"IFERROR(COUNTIFS(Мониторинг!$R$5:$R$10,'Мониторинг тип'!$B43,Мониторинг!$A$5:$A$10,'Мониторинг тип'!AA$1),0)","v":0},{"$f":"IFERROR(COUNTIFS(Мониторинг!$R$5:$R$10,'Мониторинг тип'!$B43,Мониторинг!$A$5:$A$10,'Мониторинг тип'!AB$1),0)","v":0},{"$f":"IFERROR(COUNTIFS(Мониторинг!$R$5:$R$10,'Мониторинг тип'!$B43,Мониторинг!$A$5:$A$10,'Мониторинг тип'!AC$1),0)","v":0},{"$f":"IFERROR(COUNTIFS(Мониторинг!$R$5:$R$10,'Мониторинг тип'!$B43,Мониторинг!$A$5:$A$10,'Мониторинг тип'!AD$1),0)","v":0},{"$f":"IFERROR(COUNTIFS(Мониторинг!$R$5:$R$10,'Мониторинг тип'!$B43,Мониторинг!$A$5:$A$10,'Мониторинг тип'!AE$1),0)","v":0},{"$f":"IFERROR(COUNTIFS(Мониторинг!$R$5:$R$10,'Мониторинг тип'!$B43,Мониторинг!$A$5:$A$10,'Мониторинг тип'!AF$1),0)","v":0},{"$f":"IFERROR(COUNTIFS(Мониторинг!$R$5:$R$10,'Мониторинг тип'!$B43,Мониторинг!$A$5:$A$10,'Мониторинг тип'!AG$1),0)","v":0}]
[null,"% информирования",{"$f":"IF(SUM(C39:C43)<>0,(C39*100%+(C40*50%)+(C41*30%)+(C42*0%)+(C43*100%))/SUM(C39:C43),\"\")","v":""},{"$f":"IF(SUM(D39:D43)<>0,(D39*100%+(D40*50%)+(D41*30%)+(D42*0%)+(D43*100%))/SUM(D39:D43),\"\")","v":""},"","","","","","","","","","","","","","","","","","","","","","","","","","","","",""]
["Завершение сделки",{"$f":"Лист1!N13","v":"C"},{"$f":"SUM(D45:AG45)","v":0},{"$f":"IFERROR(COUNTIFS(Мониторинг!#REF!,'Мониторинг тип'!$B45,Мониторинг!$A$5:$A$10,'Мониторинг тип'!D$1),0)","v":0},{"$f":"IFERROR(COUNTIFS(Мониторинг!#REF!,'Мониторинг тип'!$B45,Мониторинг!$A$5:$A$10,'Мониторинг тип'!E$1),0)","v":0},{"$f":"IFERROR(COUNTIFS(Мониторинг!#REF!,'Мониторинг тип'!$B45,Мониторинг!$A$5:$A$10,'Мониторинг тип'!F$1),0)","v":0},{"$f":"IFERROR(COUNTIFS(Мониторинг!#REF!,'Мониторинг тип'!$B45,Мониторинг!$A$5:$A$10,'Мониторинг тип'!G$1),0)","v":0},{"$f":"IFERROR(COUNTIFS(Мониторинг!#REF!,'Мониторинг тип'!$B45,Мониторинг!$A$5:$A$10,'Мониторинг тип'!H$1),0)","v":0},{"$f":"IFERROR(COUNTIFS(Мониторинг!#REF!,'Мониторинг тип'!$B45,Мониторинг!$A$5:$A$10,'Мониторинг тип'!I$1),0)","v":0},{"$f":"IFERROR(COUNTIFS(Мониторинг!#REF!,'Мониторинг тип'!$B45,Мониторинг!$A$5:$A$10,'Мониторинг тип'!J$1),0)","v":0},{"$f":"IFERROR(COUNTIFS(Мониторинг!#REF!,'Мониторинг тип'!$B45,Мониторинг!$A$5:$A$10,'Мониторинг тип'!K$1),0)","v":0},{"$f":"IFERROR(COUNTIFS(Мониторинг!#REF!,'Мониторинг тип'!$B45,Мониторинг!$A$5:$A$10,'Мониторинг тип'!L$1),0)","v":0},{"$f":"IFERROR(COUNTIFS(Мониторинг!#REF!,'Мониторинг тип'!$B45,Мониторинг!$A$5:$A$10,'Мониторинг тип'!M$1),0)","v":0},{"$f":"IFERROR(COUNTIFS(Мониторинг!#REF!,'Мониторинг тип'!$B45,Мониторинг!$A$5:$A$10,'Мониторинг тип'!N$1),0)","v":0},{"$f":"IFERROR(COUNTIFS(Мониторинг!#REF!,'Мониторинг тип'!$B45,Мониторинг!$A$5:$A$10,'Мониторинг тип'!O$1),0)","v":0},{"$f":"IFERROR(COUNTIFS(Мониторинг!#REF!,'Мониторинг тип'!$B45,Мониторинг!$A$5:$A$10,'Мониторинг тип'!P$1),0)","v":0},{"$f":"IFERROR(COUNTIFS(Мониторинг!#REF!,'Мониторинг тип'!$B45,Мониторинг!$A$5:$A$10,'Мониторинг тип'!Q$1),0)","v":0},{"$f":"IFERROR(COUNTIFS(Мониторинг!#REF!,'Мониторинг тип'!$B45,Мониторинг!$A$5:$A$10,'Мониторинг тип'!R$1),0)","v":0},{"$f":"IFERROR(COUNTIFS(Мониторинг!#REF!,'Мониторинг тип'!$B45,Мониторинг!$A$5:$A$10,'Мониторинг тип'!S$1),0)","v":0},{"$f":"IFERROR(COUNTIFS(Мониторинг!#REF!,'Мониторинг тип'!$B45,Мониторинг!$A$5:$A$10,'Мониторинг тип'!T$1),0)","v":0},{"$f":"IFERROR(COUNTIFS(Мониторинг!#REF!,'Мониторинг тип'!$B45,Мониторинг!$A$5:$A$10,'Мониторинг тип'!U$1),0)","v":0},{"$f":"IFERROR(COUNTIFS(Мониторинг!#REF!,'Мониторинг тип'!$B45,Мониторинг!$A$5:$A$10,'Мониторинг тип'!V$1),0)","v":0},{"$f":"IFERROR(COUNTIFS(Мониторинг!#REF!,'Мониторинг тип'!$B45,Мониторинг!$A$5:$A$10,'Мониторинг тип'!W$1),0)","v":0},{"$f":"IFERROR(COUNTIFS(Мониторинг!#REF!,'Мониторинг тип'!$B45,Мониторинг!$A$5:$A$10,'Мониторинг тип'!X$1),0)","v":0},{"$f":"IFERROR(COUNTIFS(Мониторинг!#REF!,'Мониторинг тип'!$B45,Мониторинг!$A$5:$A$10,'Мониторинг тип'!Y$1),0)","v":0},{"$f":"IFERROR(COUNTIFS(Мониторинг!#REF!,'Мониторинг тип'!$B45,Мониторинг!$A$5:$A$10,'Мониторинг тип'!Z$1),0)","v":0},{"$f":"IFERROR(COUNTIFS(Мониторинг!#REF!,'Мониторинг тип'!$B45,Мониторинг!$A$5:$A$10,'Мониторинг тип'!AA$1),0)","v":0},{"$f":"IFERROR(COUNTIFS(Мониторинг!#REF!,'Мониторинг тип'!$B45,Мониторинг!$A$5:$A$10,'Мониторинг тип'!AB$1),0)","v":0},{"$f":"IFERROR(COUNTIFS(Мониторинг!#REF!,'Мониторинг тип'!$B45,Мониторинг!$A$5:$A$10,'Мониторинг тип'!AC$1),0)","v":0},{"$f":"IFERROR(COUNTIFS(Мониторинг!#REF!,'Мониторинг тип'!$B45,Мониторинг!$A$5:$A$10,'Мониторинг тип'!AD$1),0)","v":0},{"$f":"IFERROR(COUNTIFS(Мониторинг!#REF!,'Мониторинг тип'!$B45,Мониторинг!$A$5:$A$10,'Мониторинг тип'!AE$1),0)","v":0},{"$f":"IFERROR(COUNTIFS(Мониторинг!#REF!,'Мониторинг тип'!$B45,Мониторинг!$A$5:$A$10,'Мониторинг тип'!AF$1),0)","v":0},{"$f":"IFERROR(COUNTIFS(Мониторинг!#REF!,'Мониторинг тип'!$B45,Мониторинг!$A$5:$A$10,'Мониторинг тип'!AG$1),0)","v":0}]
[null,{"$f":"Лист1!N14","v":"D"},{"$f":"SUM(D46:AG46)","v":0},{"$f":"IFERROR(COUNTIFS(Мониторинг!#REF!,'Мониторинг тип'!$B46,Мониторинг!$A$5:$A$10,'Мониторинг тип'!D$1),0)","v":0},{"$f":"IFERROR(COUNTIFS(Мониторинг!#REF!,'Мониторинг тип'!$B46,Мониторинг!$A$5:$A$10,'Мониторинг тип'!E$1),0)","v":0},{"$f":"IFERROR(COUNTIFS(Мониторинг!#REF!,'Мониторинг тип'!$B46,Мониторинг!$A$5:$A$10,'Мониторинг тип'!F$1),0)","v":0},{"$f":"IFERROR(COUNTIFS(Мониторинг!#REF!,'Мониторинг тип'!$B46,Мониторинг!$A$5:$A$10,'Мониторинг тип'!G$1),0)","v":0},{"$f":"IFERROR(COUNTIFS(Мониторинг!#REF!,'Мониторинг тип'!$B46,Мониторинг!$A$5:$A$10,'Мониторинг тип'!H$1),0)","v":0},{"$f":"IFERROR(COUNTIFS(Мониторинг!#REF!,'Мониторинг тип'!$B46,Мониторинг!$A$5:$A$10,'Мониторинг тип'!I$1),0)","v":0},{"$f":"IFERROR(COUNTIFS(Мониторинг!#REF!,'Мониторинг тип'!$B46,Мониторинг!$A$5:$A$10,'Мониторинг тип'!J$1),0)","v":0},{"$f":"IFERROR(COUNTIFS(Мониторинг!#REF!,'Мониторинг тип'!$B46,Мониторинг!$A$5:$A$10,'Мониторинг тип'!K$1),0)","v":0},{"$f":"IFERROR(COUNTIFS(Мониторинг!#REF!,'Мониторинг тип'!$B46,Мониторинг!$A$5:$A$10,'Мониторинг тип'!L$1),0)","v":0},{"$f":"IFERROR(COUNTIFS(Мониторинг!#REF!,'Мониторинг тип'!$B46,Мониторинг!$A$5:$A$10,'Мониторинг тип'!M$1),0)","v":0},{"$f":"IFERROR(COUNTIFS(Мониторинг!#REF!,'Мониторинг тип'!$B46,Мониторинг!$A$5:$A$10,'Мониторинг тип'!N$1),0)","v":0},{"$f":"IFERROR(COUNTIFS(Мониторинг!#REF!,'Мониторинг тип'!$B46,Мониторинг!$A$5:$A$10,'Мониторинг тип'!O$1),0)","v":0},{"$f":"IFERROR(COUNTIFS(Мониторинг!#REF!,'Мониторинг тип'!$B46,Мониторинг!$A$5:$A$10,'Мониторинг тип'!P$1),0)","v":0},{"$f":"IFERROR(COUNTIFS(Мониторинг!#REF!,'Мониторинг тип'!$B46,Мониторинг!$A$5:$A$10,'Мониторинг тип'!Q$1),0)","v":0},{"$f":"IFERROR(COUNTIFS(Мониторинг!#REF!,'Мониторинг тип'!$B46,Мониторинг!$A$5:$A$10,'Мониторинг тип'!R$1),0)","v":0},{"$f":"IFERROR(COUNTIFS(Мониторинг!#REF!,'Мониторинг тип'!$B46,Мониторинг!$A$5:$A$10,'Мониторинг тип'!S$1),0)","v":0},{"$f":"IFERROR(COUNTIFS(Мониторинг!#REF!,'Мониторинг тип'!$B46,Мониторинг!$A$5:$A$10,'Мониторинг тип'!T$1),0)","v":0},{"$f":"IFERROR(COUNTIFS(Мониторинг!#REF!,'Мониторинг тип'!$B46,Мониторинг!$A$5:$A$10,'Мониторинг тип'!U$1),0)","v":0},{"$f":"IFERROR(COUNTIFS(Мониторинг!#REF!,'Мониторинг тип'!$B46,Мониторинг!$A$5:$A$10,'Мониторинг тип'!V$1),0)","v":0},{"$f":"IFERROR(COUNTIFS(Мониторинг!#REF!,'Мониторинг тип'!$B46,Мониторинг!$A$5:$A$10,'Мониторинг тип'!W$1),0)","v":0},{"$f":"IFERROR(COUNTIFS(Мониторинг!#REF!,'Мониторинг тип'!$B46,Мониторинг!$A$5:$A$10,'Мониторинг тип'!X$1),0)","v":0},{"$f":"IFERROR(COUNTIFS(Мониторинг!#REF!,'Мониторинг тип'!$B46,Мониторинг!$A$5:$A$10,'Мониторинг тип'!Y$1),0)","v":0},{"$f":"IFERROR(COUNTIFS(Мониторинг!#REF!,'Мониторинг тип'!$B46,Мониторинг!$A$5:$A$10,'Мониторинг тип'!Z$1),0)","v":0},{"$f":"IFERROR(COUNTIFS(Мониторинг!#REF!,'Мониторинг тип'!$B46,Мониторинг!$A$5:$A$10,'Мониторинг тип'!AA$1),0)","v":0},{"$f":"IFERROR(COUNTIFS(Мониторинг!#REF!,'Мониторинг тип'!$B46,Мониторинг!$A$5:$A$10,'Мониторинг тип'!AB$1),0)","v":0},{"$f":"IFERROR(COUNTIFS(Мониторинг!#REF!,'Мониторинг тип'!$B46,Мониторинг!$A$5:$A$10,'Мониторинг тип'!AC$1),0)","v":0},{"$f":"IFERROR(COUNTIFS(Мониторинг!#REF!,'Мониторинг тип'!$B46,Мониторинг!$A$5:$A$10,'Мониторинг тип'!AD$1),0)","v":0},{"$f":"IFERROR(COUNTIFS(Мониторинг!#REF!,'Мониторинг тип'!$B46,Мониторинг!$A$5:$A$10,'Мониторинг тип'!AE$1),0)","v":0},{"$f":"IFERROR(COUNTIFS(Мониторинг!#REF!,'Мониторинг тип'!$B46,Мониторинг!$A$5:$A$10,'Мониторинг тип'!AF$1),0)","v":0},{"$f":"IFERROR(COUNTIFS(Мониторинг!#REF!,'Мониторинг тип'!$B46,Мониторинг!$A$5:$A$10,'Мониторинг тип'!AG$1),0)","v":0}]
[null,{"$f":"Лист1!N15","v":"NA"},{"$f":"SUM(D47:AG47)","v":0},{"$f":"IFERROR(COUNTIFS(Мониторинг!#REF!,'Мониторинг тип'!$B47,Мониторинг!$A$5:$A$10,'Мониторинг тип'!D$1),0)","v":0},{"$f":"IFERROR(COUNTIFS(Мониторинг!#REF!,'Мониторинг тип'!$B47,Мониторинг!$A$5:$A$10,'Мониторинг тип'!E$1),0)","v":0},{"$f":"IFERROR(COUNTIFS(Мониторинг!#REF!,'Мониторинг тип'!$B47,Мониторинг!$A$5:$A$10,'Мониторинг тип'!F$1),0)","v":0},{"$f":"IFERROR(COUNTIFS(Мониторинг!#REF!,'Мониторинг тип'!$B47,Мониторинг!$A$5:$A$10,'Мониторинг тип'!G$1),0)","v":0},{"$f":"IFERROR(COUNTIFS(Мониторинг!#REF!,'Мониторинг тип'!$B47,Мониторинг!$A$5:$A$10,'Мониторинг тип'!H$1),0)","v":0},{"$f":"IFERROR(COUNTIFS(Мониторинг!#REF!,'Мониторинг тип'!$B47,Мониторинг!$A$5:$A$10,'Мониторинг тип'!I$1),0)","v":0},{"$f":"IFERROR(COUNTIFS(Мониторинг!#REF!,'Мониторинг тип'!$B47,Мониторинг!$A$5:$A$10,'Мониторинг тип'!J$1),0)","v":0},{"$f":"IFERROR(COUNTIFS(Мониторинг!#REF!,'Мониторинг тип'!$B47,Мониторинг!$A$5:$A$10,'Мониторинг тип'!K$1),0)","v":0},{"$f":"IFERROR(COUNTIFS(Мониторинг!#REF!,'Мониторинг тип'!$B47,Мониторинг!$A$5:$A$10,'Мониторинг тип'!L$1),0)","v":0},{"$f":"IFERROR(COUNTIFS(Мониторинг!#REF!,'Мониторинг тип'!$B47,Мониторинг!$A$5:$A$10,'Мониторинг тип'!M$1),0)","v":0},{"$f":"IFERROR(COUNTIFS(Мониторинг!#REF!,'Мониторинг тип'!$B47,Мониторинг!$A$5:$A$10,'Мониторинг тип'!N$1),0)","v":0},{"$f":"IFERROR(COUNTIFS(Мониторинг!#REF!,'Мониторинг тип'!$B47,Мониторинг!$A$5:$A$10,'Мониторинг тип'!O$1),0)","v":0},{"$f":"IFERROR(COUNTIFS(Мониторинг!#REF!,'Мониторинг тип'!$B47,Мониторинг!$A$5:$A$10,'Мониторинг тип'!P$1),0)","v":0},{"$f":"IFERROR(COUNTIFS(Мониторинг!#REF!,'Мониторинг тип'!$B47,Мониторинг!$A$5:$A$10,'Мониторинг тип'!Q$1),0)","v":0},{"$f":"IFERROR(COUNTIFS(Мониторинг!#REF!,'Мониторинг тип'!$B47,Мониторинг!$A$5:$A$10,'Мониторинг тип'!R$1),0)","v":0},{"$f":"IFERROR(COUNTIFS(Мониторинг!#REF!,'Мониторинг тип'!$B47,Мониторинг!$A$5:$A$10,'Мониторинг тип'!S$1),0)","v":0},{"$f":"IFERROR(COUNTIFS(Мониторинг!#REF!,'Мониторинг тип'!$B47,Мониторинг!$A$5:$A$10,'Мониторинг тип'!T$1),0)","v":0},{"$f":"IFERROR(COUNTIFS(Мониторинг!#REF!,'Мониторинг тип'!$B47,Мониторинг!$A$5:$A$10,'Мониторинг тип'!U$1),0)","v":0},{"$f":"IFERROR(COUNTIFS(Мониторинг!#REF!,'Мониторинг тип'!$B47,Мониторинг!$A$5:$A$10,'Мониторинг тип'!V$1),0)","v":0},{"$f":"IFERROR(COUNTIFS(Мониторинг!#REF!,'Мониторинг тип'!$B47,Мониторинг!$A$5:$A$10,'Мониторинг тип'!W$1),0)","v":0},{"$f":"IFERROR(COUNTIFS(Мониторинг!#REF!,'Мониторинг тип'!$B47,Мониторинг!$A$5:$A$10,'Мониторинг тип'!X$1),0)","v":0},{"$f":"IFERROR(COUNTIFS(Мониторинг!#REF!,'Мониторинг тип'!$B47,Мониторинг!$A$5:$A$10,'Мониторинг тип'!Y$1),0)","v":0},{"$f":"IFERROR(COUNTIFS(Мониторинг!#REF!,'Мониторинг тип'!$B47,Мониторинг!$A$5:$A$10,'Мониторинг тип'!Z$1),0)","v":0},{"$f":"IFERROR(COUNTIFS(Мониторинг!#REF!,'Мониторинг тип'!$B47,Мониторинг!$A$5:$A$10,'Мониторинг тип'!AA$1),0)","v":0},{"$f":"IFERROR(COUNTIFS(Мониторинг!#REF!,'Мониторинг тип'!$B47,Мониторинг!$A$5:$A$10,'Мониторинг тип'!AB$1),0)","v":0},{"$f":"IFERROR(COUNTIFS(Мониторинг!#REF!,'Мониторинг тип'!$B47,Мониторинг!$A$5:$A$10,'Мониторинг тип'!AC$1),0)","v":0},{"$f":"IFERROR(COUNTIFS(Мониторинг!#REF!,'Мониторинг тип'!$B47,Мониторинг!$A$5:$A$10,'Мониторинг тип'!AD$1),0)","v":0},{"$f":"IFERROR(COUNTIFS(Мониторинг!#REF!,'Мониторинг тип'!$B47,Мониторинг!$A$5:$A$10,'Мониторинг тип'!AE$1),0)","v":0},{"$f":"IFERROR(COUNTIFS(Мониторинг!#REF!,'Мониторинг тип'!$B47,Мониторинг!$A$5:$A$10,'Мониторинг тип'!AF$1),0)","v":0},{"$f":"IFERROR(COUNTIFS(Мониторинг!#REF!,'Мониторинг тип'!$B47,Мониторинг!$A$5:$A$10,'Мониторинг тип'!AG$1),0)","v":0}]
[null,{"$f":"Лист1!N16","v":0},{"$f":"SUM(D48:AG48)","v":0},{"$f":"IFERROR(COUNTIFS(Мониторинг!#REF!,'Мониторинг тип'!$B48,Мониторинг!$A$5:$A$10,'Мониторинг тип'!D$1),0)","v":0},{"$f":"IFERROR(COUNTIFS(Мониторинг!#REF!,'Мониторинг тип'!$B48,Мониторинг!$A$5:$A$10,'Мониторинг тип'!E$1),0)","v":0},{"$f":"IFERROR(COUNTIFS(Мониторинг!#REF!,'Мониторинг тип'!$B48,Мониторинг!$A$5:$A$10,'Мониторинг тип'!F$1),0)","v":0},{"$f":"IFERROR(COUNTIFS(Мониторинг!#REF!,'Мониторинг тип'!$B48,Мониторинг!$A$5:$A$10,'Мониторинг тип'!G$1),0)","v":0},{"$f":"IFERROR(COUNTIFS(Мониторинг!#REF!,'Мониторинг тип'!$B48,Мониторинг!$A$5:$A$10,'Мониторинг тип'!H$1),0)","v":0},{"$f":"IFERROR(COUNTIFS(Мониторинг!#REF!,'Мониторинг тип'!$B48,Мониторинг!$A$5:$A$10,'Мониторинг тип'!I$1),0)","v":0},{"$f":"IFERROR(COUNTIFS(Мониторинг!#REF!,'Мониторинг тип'!$B48,Мониторинг!$A$5:$A$10,'Мониторинг тип'!J$1),0)","v":0},{"$f":"IFERROR(COUNTIFS(Мониторинг!#REF!,'Мониторинг тип'!$B48,Мониторинг!$A$5:$A$10,'Мониторинг тип'!K$1),0)","v":0},{"$f":"IFERROR(COUNTIFS(Мониторинг!#REF!,'Мониторинг тип'!$B48,Мониторинг!$A$5:$A$10,'Мониторинг тип'!L$1),0)","v":0},{"$f":"IFERROR(COUNTIFS(Мониторинг!#REF!,'Мониторинг тип'!$B48,Мониторинг!$A$5:$A$10,'Мониторинг тип'!M$1),0)","v":0},{"$f":"IFERROR(COUNTIFS(Мониторинг!#REF!,'Мониторинг тип'!$B48,Мониторинг!$A$5:$A$10,'Мониторинг тип'!N$1),0)","v":0},{"$f":"IFERROR(COUNTIFS(Мониторинг!#REF!,'Мониторинг тип'!$B48,Мониторинг!$A$5:$A$10,'Мониторинг тип'!O$1),0)","v":0},{"$f":"IFERROR(COUNTIFS(Мониторинг!#REF!,'Мониторинг тип'!$B48,Мониторинг!$A$5:$A$10,'Мониторинг тип'!P$1),0)","v":0},{"$f":"IFERROR(COUNTIFS(Мониторинг!#REF!,'Мониторинг тип'!$B48,Мониторинг!$A$5:$A$10,'Мониторинг тип'!Q$1),0)","v":0},{"$f":"IFERROR(COUNTIFS(Мониторинг!#REF!,'Мониторинг тип'!$B48,Мониторинг!$A$5:$A$10,'Мониторинг тип'!R$1),0)","v":0},{"$f":"IFERROR(COUNTIFS(Мониторинг!#REF!,'Мониторинг тип'!$B48,Мониторинг!$A$5:$A$10,'Мониторинг тип'!S$1),0)","v":0},{"$f":"IFERROR(COUNTIFS(Мониторинг!#REF!,'Мониторинг тип'!$B48,Мониторинг!$A$5:$A$10,'Мониторинг тип'!T$1),0)","v":0},{"$f":"IFERROR(COUNTIFS(Мониторинг!#REF!,'Мониторинг тип'!$B48,Мониторинг!$A$5:$A$10,'Мониторинг тип'!U$1),0)","v":0},{"$f":"IFERROR(COUNTIFS(Мониторинг!#REF!,'Мониторинг тип'!$B48,Мониторинг!$A$5:$A$10,'Мониторинг тип'!V$1),0)","v":0},{"$f":"IFERROR(COUNTIFS(Мониторинг!#REF!,'Мониторинг тип'!$B48,Мониторинг!$A$5:$A$10,'Мониторинг тип'!W$1),0)","v":0},{"$f":"IFERROR(COUNTIFS(Мониторинг!#REF!,'Мониторинг тип'!$B48,Мониторинг!$A$5:$A$10,'Мониторинг тип'!X$1),0)","v":0},{"$f":"IFERROR(COUNTIFS(Мониторинг!#REF!,'Мониторинг тип'!$B48,Мониторинг!$A$5:$A$10,'Мониторинг тип'!Y$1),0)","v":0},{"$f":"IFERROR(COUNTIFS(Мониторинг!#REF!,'Мониторинг тип'!$B48,Мониторинг!$A$5:$A$10,'Мониторинг тип'!Z$1),0)","v":0},{"$f":"IFERROR(COUNTIFS(Мониторинг!#REF!,'Мониторинг тип'!$B48,Мониторинг!$A$5:$A$10,'Мониторинг тип'!AA$1),0)","v":0},{"$f":"IFERROR(COUNTIFS(Мониторинг!#REF!,'Мониторинг тип'!$B48,Мониторинг!$A$5:$A$10,'Мониторинг тип'!AB$1),0)","v":0},{"$f":"IFERROR(COUNTIFS(Мониторинг!#REF!,'Мониторинг тип'!$B48,Мониторинг!$A$5:$A$10,'Мониторинг тип'!AC$1),0)","v":0},{"$f":"IFERROR(COUNTIFS(Мониторинг!#REF!,'Мониторинг тип'!$B48,Мониторинг!$A$5:$A$10,'Мониторинг тип'!AD$1),0)","v":0},{"$f":"IFERROR(COUNTIFS(Мониторинг!#REF!,'Мониторинг тип'!$B48,Мониторинг!$A$5:$A$10,'Мониторинг тип'!AE$1),0)","v":0},{"$f":"IFERROR(COUNTIFS(Мониторинг!#REF!,'Мониторинг тип'!$B48,Мониторинг!$A$5:$A$10,'Мониторинг тип'!AF$1),0)","v":0},{"$f":"IFERROR(COUNTIFS(Мониторинг!#REF!,'Мониторинг тип'!$B48,Мониторинг!$A$5:$A$10,'Мониторинг тип'!AG$1),0)","v":0}]
[null,"% информирования",{"$f":"IF(SUM(C45:C48)<>0,(C45*100%+(C46*30%)+(C47*0%)+(C48*100%))/SUM(C45:C48),\"\")","v":""},{"$f":"IF(SUM(D45:D48)<>0,(D45*100%+(D46*30%)+(D47*0%)+(D48*100%))/SUM(D45:D48),\"\")","v":""},"","","","","","","","","","","","","","","","","","","","","","","","","","","","",""]
["Корректность предоставляемой информации по акционному ТП",{"$f":"Лист1!#REF!","v":{"$error":"#REF!"}},{"$f":"SUM(D50:AG50)","v":0},{"$f":"IFERROR(COUNTIFS(Мониторинг!$S$5:$S$10,'Мониторинг тип'!$B50,Мониторинг!$A$5:$A$10,'Мониторинг тип'!D$1),0)","v":0},{"$f":"IFERROR(COUNTIFS(Мониторинг!$S$5:$S$10,'Мониторинг тип'!$B50,Мониторинг!$A$5:$A$10,'Мониторинг тип'!E$1),0)","v":0},{"$f":"IFERROR(COUNTIFS(Мониторинг!$S$5:$S$10,'Мониторинг тип'!$B50,Мониторинг!$A$5:$A$10,'Мониторинг тип'!F$1),0)","v":0},{"$f":"IFERROR(COUNTIFS(Мониторинг!$S$5:$S$10,'Мониторинг тип'!$B50,Мониторинг!$A$5:$A$10,'Мониторинг тип'!G$1),0)","v":0},{"$f":"IFERROR(COUNTIFS(Мониторинг!$S$5:$S$10,'Мониторинг тип'!$B50,Мониторинг!$A$5:$A$10,'Мониторинг тип'!H$1),0)","v":0},{"$f":"IFERROR(COUNTIFS(Мониторинг!$S$5:$S$10,'Мониторинг тип'!$B50,Мониторинг!$A$5:$A$10,'Мониторинг тип'!I$1),0)","v":0},{"$f":"IFERROR(COUNTIFS(Мониторинг!$S$5:$S$10,'Мониторинг тип'!$B50,Мониторинг!$A$5:$A$10,'Мониторинг тип'!J$1),0)","v":0},{"$f":"IFERROR(COUNTIFS(Мониторинг!$S$5:$S$10,'Мониторинг тип'!$B50,Мониторинг!$A$5:$A$10,'Мониторинг тип'!K$1),0)","v":0},{"$f":"IFERROR(COUNTIFS(Мониторинг!$S$5:$S$10,'Мониторинг тип'!$B50,Мониторинг!$A$5:$A$10,'Мониторинг тип'!L$1),0)","v":0},{"$f":"IFERROR(COUNTIFS(Мониторинг!$S$5:$S$10,'Мониторинг тип'!$B50,Мониторинг!$A$5:$A$10,'Мониторинг тип'!M$1),0)","v":0},{"$f":"IFERROR(COUNTIFS(Мониторинг!$S$5:$S$10,'Мониторинг тип'!$B50,Мониторинг!$A$5:$A$10,'Мониторинг тип'!N$1),0)","v":0},{"$f":"IFERROR(COUNTIFS(Мониторинг!$S$5:$S$10,'Мониторинг тип'!$B50,Мониторинг!$A$5:$A$10,'Мониторинг тип'!O$1),0)","v":0},{"$f":"IFERROR(COUNTIFS(Мониторинг!$S$5:$S$10,'Мониторинг тип'!$B50,Мониторинг!$A$5:$A$10,'Мониторинг тип'!P$1),0)","v":0},{"$f":"IFERROR(COUNTIFS(Мониторинг!$S$5:$S$10,'Мониторинг тип'!$B50,Мониторинг!$A$5:$A$10,'Мониторинг тип'!Q$1),0)","v":0},{"$f":"IFERROR(COUNTIFS(Мониторинг!$S$5:$S$10,'Мониторинг тип'!$B50,Мониторинг!$A$5:$A$10,'Мониторинг тип'!R$1),0)","v":0},{"$f":"IFERROR(COUNTIFS(Мониторинг!$S$5:$S$10,'Мониторинг тип'!$B50,Мониторинг!$A$5:$A$10,'Мониторинг тип'!S$1),0)","v":0},{"$f":"IFERROR(COUNTIFS(Мониторинг!$S$5:$S$10,'Мониторинг тип'!$B50,Мониторинг!$A$5:$A$10,'Мониторинг тип'!T$1),0)","v":0},{"$f":"IFERROR(COUNTIFS(Мониторинг!$S$5:$S$10,'Мониторинг тип'!$B50,Мониторинг!$A$5:$A$10,'Мониторинг тип'!U$1),0)","v":0},{"$f":"IFERROR(COUNTIFS(Мониторинг!$S$5:$S$10,'Мониторинг тип'!$B50,Мониторинг!$A$5:$A$10,'Мониторинг тип'!V$1),0)","v":0},{"$f":"IFERROR(COUNTIFS(Мониторинг!$S$5:$S$10,'Мониторинг тип'!$B50,Мониторинг!$A$5:$A$10,'Мониторинг тип'!W$1),0)","v":0},{"$f":"IFERROR(COUNTIFS(Мониторинг!$S$5:$S$10,'Мониторинг тип'!$B50,Мониторинг!$A$5:$A$10,'Мониторинг тип'!X$1),0)","v":0},{"$f":"IFERROR(COUNTIFS(Мониторинг!$S$5:$S$10,'Мониторинг тип'!$B50,Мониторинг!$A$5:$A$10,'Мониторинг тип'!Y$1),0)","v":0},{"$f":"IFERROR(COUNTIFS(Мониторинг!$S$5:$S$10,'Мониторинг тип'!$B50,Мониторинг!$A$5:$A$10,'Мониторинг тип'!Z$1),0)","v":0},{"$f":"IFERROR(COUNTIFS(Мониторинг!$S$5:$S$10,'Мониторинг тип'!$B50,Мониторинг!$A$5:$A$10,'Мониторинг тип'!AA$1),0)","v":0},{"$f":"IFERROR(COUNTIFS(Мониторинг!$S$5:$S$10,'Мониторинг тип'!$B50,Мониторинг!$A$5:$A$10,'Мониторинг тип'!AB$1),0)","v":0},{"$f":"IFERROR(COUNTIFS(Мониторинг!$S$5:$S$10,'Мониторинг тип'!$B50,Мониторинг!$A$5:$A$10,'Мониторинг тип'!AC$1),0)","v":0},{"$f":"IFERROR(COUNTIFS(Мониторинг!$S$5:$S$10,'Мониторинг тип'!$B50,Мониторинг!$A$5:$A$10,'Мониторинг тип'!AD$1),0)","v":0},{"$f":"IFERROR(COUNTIFS(Мониторинг!$S$5:$S$10,'Мониторинг тип'!$B50,Мониторинг!$A$5:$A$10,'Мониторинг тип'!AE$1),0)","v":0},{"$f":"IFERROR(COUNTIFS(Мониторинг!$S$5:$S$10,'Мониторинг тип'!$B50,Мониторинг!$A$5:$A$10,'Мониторинг тип'!AF$1),0)","v":0},{"$f":"IFERROR(COUNTIFS(Мониторинг!$S$5:$S$10,'Мониторинг тип'!$B50,Мониторинг!$A$5:$A$10,'Мониторинг тип'!AG$1),0)","v":0}]
[null,{"$f":"Лист1!O12","v":"D"},{"$f":"SUM(D51:AG51)","v":0},{"$f":"IFERROR(COUNTIFS(Мониторинг!$S$5:$S$10,'Мониторинг тип'!$B51,Мониторинг!$A$5:$A$10,'Мониторинг тип'!D$1),0)","v":0},{"$f":"IFERROR(COUNTIFS(Мониторинг!$S$5:$S$10,'Мониторинг тип'!$B51,Мониторинг!$A$5:$A$10,'Мониторинг тип'!E$1),0)","v":0},{"$f":"IFERROR(COUNTIFS(Мониторинг!$S$5:$S$10,'Мониторинг тип'!$B51,Мониторинг!$A$5:$A$10,'Мониторинг тип'!F$1),0)","v":0},{"$f":"IFERROR(COUNTIFS(Мониторинг!$S$5:$S$10,'Мониторинг тип'!$B51,Мониторинг!$A$5:$A$10,'Мониторинг тип'!G$1),0)","v":0},{"$f":"IFERROR(COUNTIFS(Мониторинг!$S$5:$S$10,'Мониторинг тип'!$B51,Мониторинг!$A$5:$A$10,'Мониторинг тип'!H$1),0)","v":0},{"$f":"IFERROR(COUNTIFS(Мониторинг!$S$5:$S$10,'Мониторинг тип'!$B51,Мониторинг!$A$5:$A$10,'Мониторинг тип'!I$1),0)","v":0},{"$f":"IFERROR(COUNTIFS(Мониторинг!$S$5:$S$10,'Мониторинг тип'!$B51,Мониторинг!$A$5:$A$10,'Мониторинг тип'!J$1),0)","v":0},{"$f":"IFERROR(COUNTIFS(Мониторинг!$S$5:$S$10,'Мониторинг тип'!$B51,Мониторинг!$A$5:$A$10,'Мониторинг тип'!K$1),0)","v":0},{"$f":"IFERROR(COUNTIFS(Мониторинг!$S$5:$S$10,'Мониторинг тип'!$B51,Мониторинг!$A$5:$A$10,'Мониторинг тип'!L$1),0)","v":0},{"$f":"IFERROR(COUNTIFS(Мониторинг!$S$5:$S$10,'Мониторинг тип'!$B51,Мониторинг!$A$5:$A$10,'Мониторинг тип'!M$1),0)","v":0},{"$f":"IFERROR(COUNTIFS(Мониторинг!$S$5:$S$10,'Мониторинг тип'!$B51,Мониторинг!$A$5:$A$10,'Мониторинг тип'!N$1),0)","v":0},{"$f":"IFERROR(COUNTIFS(Мониторинг!$S$5:$S$10,'Мониторинг тип'!$B51,Мониторинг!$A$5:$A$10,'Мониторинг тип'!O$1),0)","v":0},{"$f":"IFERROR(COUNTIFS(Мониторинг!$S$5:$S$10,'Мониторинг тип'!$B51,Мониторинг!$A$5:$A$10,'Мониторинг тип'!P$1),0)","v":0},{"$f":"IFERROR(COUNTIFS(Мониторинг!$S$5:$S$10,'Мониторинг тип'!$B51,Мониторинг!$A$5:$A$10,'Мониторинг тип'!Q$1),0)","v":0},{"$f":"IFERROR(COUNTIFS(Мониторинг!$S$5:$S$10,'Мониторинг тип'!$B51,Мониторинг!$A$5:$A$10,'Мониторинг тип'!R$1),0)","v":0},{"$f":"IFERROR(COUNTIFS(Мониторинг!$S$5:$S$10,'Мониторинг тип'!$B51,Мониторинг!$A$5:$A$10,'Мониторинг тип'!S$1),0)","v":0},{"$f":"IFERROR(COUNTIFS(Мониторинг!$S$5:$S$10,'Мониторинг тип'!$B51,Мониторинг!$A$5:$A$10,'Мониторинг тип'!T$1),0)","v":0},{"$f":"IFERROR(COUNTIFS(Мониторинг!$S$5:$S$10,'Мониторинг тип'!$B51,Мониторинг!$A$5:$A$10,'Мониторинг тип'!U$1),0)","v":0},{"$f":"IFERROR(COUNTIFS(Мониторинг!$S$5:$S$10,'Мониторинг тип'!$B51,Мониторинг!$A$5:$A$10,'Мониторинг тип'!V$1),0)","v":0},{"$f":"IFERROR(COUNTIFS(Мониторинг!$S$5:$S$10,'Мониторинг тип'!$B51,Мониторинг!$A$5:$A$10,'Мониторинг тип'!W$1),0)","v":0},{"$f":"IFERROR(COUNTIFS(Мониторинг!$S$5:$S$10,'Мониторинг тип'!$B51,Мониторинг!$A$5:$A$10,'Мониторинг тип'!X$1),0)","v":0},{"$f":"IFERROR(COUNTIFS(Мониторинг!$S$5:$S$10,'Мониторинг тип'!$B51,Мониторинг!$A$5:$A$10,'Мониторинг тип'!Y$1),0)","v":0},{"$f":"IFERROR(COUNTIFS(Мониторинг!$S$5:$S$10,'Мониторинг тип'!$B51,Мониторинг!$A$5:$A$10,'Мониторинг тип'!Z$1),0)","v":0},{"$f":"IFERROR(COUNTIFS(Мониторинг!$S$5:$S$10,'Мониторинг тип'!$B51,Мониторинг!$A$5:$A$10,'Мониторинг тип'!AA$1),0)","v":0},{"$f":"IFERROR(COUNTIFS(Мониторинг!$S$5:$S$10,'Мониторинг тип'!$B51,Мониторинг!$A$5:$A$10,'Мониторинг тип'!AB$1),0)","v":0},{"$f":"IFERROR(COUNTIFS(Мониторинг!$S$5:$S$10,'Мониторинг тип'!$B51,Мониторинг!$A$5:$A$10,'Мониторинг тип'!AC$1),0)","v":0},{"$f":"IFERROR(COUNTIFS(Мониторинг!$S$5:$S$10,'Мониторинг тип'!$B51,Мониторинг!$A$5:$A$10,'Мониторинг тип'!AD$1),0)","v":0},{"$f":"IFERROR(COUNTIFS(Мониторинг!$S$5:$S$10,'Мониторинг тип'!$B51,Мониторинг!$A$5:$A$10,'Мониторинг тип'!AE$1),0)","v":0},{"$f":"IFERROR(COUNTIFS(Мониторинг!$S$5:$S$10,'Мониторинг тип'!$B51,Мониторинг!$A$5:$A$10,'Мониторинг тип'!AF$1),0)","v":0},{"$f":"IFERROR(COUNTIFS(Мониторинг!$S$5:$S$10,'Мониторинг тип'!$B51,Мониторинг!$A$5:$A$10,'Мониторинг тип'!AG$1),0)","v":0}]
[null,"% информирования",{"$f":"IF(SUM(C50:C51)<>0,(C50*100%+(C51*0%))/SUM(C50:C51),\"\")","v":""},{"$f":"IF(SUM(D50:D51)<>0,(D50*100%+(D51*0%))/SUM(D50:D51),\"\")","v":""},"","","","","","","","","","","","","","","","","","","","","","","","","","","","",""]
["Корректность и полнота информации по дополнительному оборудованию ",{"$f":"Лист1!P13","v":"C"},{"$f":"SUM(D53:AG53)","v":0},{"$f":"IFERROR(COUNTIFS(Мониторинг!$U$5:$U$10,'Мониторинг тип'!$B53,Мониторинг!$A$5:$A$10,'Мониторинг тип'!D$1),0)","v":0},{"$f":"IFERROR(COUNTIFS(Мониторинг!$U$5:$U$10,'Мониторинг тип'!$B53,Мониторинг!$A$5:$A$10,'Мониторинг тип'!E$1),0)","v":0},{"$f":"IFERROR(COUNTIFS(Мониторинг!$U$5:$U$10,'Мониторинг тип'!$B53,Мониторинг!$A$5:$A$10,'Мониторинг тип'!F$1),0)","v":0},{"$f":"IFERROR(COUNTIFS(Мониторинг!$U$5:$U$10,'Мониторинг тип'!$B53,Мониторинг!$A$5:$A$10,'Мониторинг тип'!G$1),0)","v":0},{"$f":"IFERROR(COUNTIFS(Мониторинг!$U$5:$U$10,'Мониторинг тип'!$B53,Мониторинг!$A$5:$A$10,'Мониторинг тип'!H$1),0)","v":0},{"$f":"IFERROR(COUNTIFS(Мониторинг!$U$5:$U$10,'Мониторинг тип'!$B53,Мониторинг!$A$5:$A$10,'Мониторинг тип'!I$1),0)","v":0},{"$f":"IFERROR(COUNTIFS(Мониторинг!$U$5:$U$10,'Мониторинг тип'!$B53,Мониторинг!$A$5:$A$10,'Мониторинг тип'!J$1),0)","v":0},{"$f":"IFERROR(COUNTIFS(Мониторинг!$U$5:$U$10,'Мониторинг тип'!$B53,Мониторинг!$A$5:$A$10,'Мониторинг тип'!K$1),0)","v":0},{"$f":"IFERROR(COUNTIFS(Мониторинг!$U$5:$U$10,'Мониторинг тип'!$B53,Мониторинг!$A$5:$A$10,'Мониторинг тип'!L$1),0)","v":0},{"$f":"IFERROR(COUNTIFS(Мониторинг!$U$5:$U$10,'Мониторинг тип'!$B53,Мониторинг!$A$5:$A$10,'Мониторинг тип'!M$1),0)","v":0},{"$f":"IFERROR(COUNTIFS(Мониторинг!$U$5:$U$10,'Мониторинг тип'!$B53,Мониторинг!$A$5:$A$10,'Мониторинг тип'!N$1),0)","v":0},{"$f":"IFERROR(COUNTIFS(Мониторинг!$U$5:$U$10,'Мониторинг тип'!$B53,Мониторинг!$A$5:$A$10,'Мониторинг тип'!O$1),0)","v":0},{"$f":"IFERROR(COUNTIFS(Мониторинг!$U$5:$U$10,'Мониторинг тип'!$B53,Мониторинг!$A$5:$A$10,'Мониторинг тип'!P$1),0)","v":0},{"$f":"IFERROR(COUNTIFS(Мониторинг!$U$5:$U$10,'Мониторинг тип'!$B53,Мониторинг!$A$5:$A$10,'Мониторинг тип'!Q$1),0)","v":0},{"$f":"IFERROR(COUNTIFS(Мониторинг!$U$5:$U$10,'Мониторинг тип'!$B53,Мониторинг!$A$5:$A$10,'Мониторинг тип'!R$1),0)","v":0},{"$f":"IFERROR(COUNTIFS(Мониторинг!$U$5:$U$10,'Мониторинг тип'!$B53,Мониторинг!$A$5:$A$10,'Мониторинг тип'!S$1),0)","v":0},{"$f":"IFERROR(COUNTIFS(Мониторинг!$U$5:$U$10,'Мониторинг тип'!$B53,Мониторинг!$A$5:$A$10,'Мониторинг тип'!T$1),0)","v":0},{"$f":"IFERROR(COUNTIFS(Мониторинг!$U$5:$U$10,'Мониторинг тип'!$B53,Мониторинг!$A$5:$A$10,'Мониторинг тип'!U$1),0)","v":0},{"$f":"IFERROR(COUNTIFS(Мониторинг!$U$5:$U$10,'Мониторинг тип'!$B53,Мониторинг!$A$5:$A$10,'Мониторинг тип'!V$1),0)","v":0},{"$f":"IFERROR(COUNTIFS(Мониторинг!$U$5:$U$10,'Мониторинг тип'!$B53,Мониторинг!$A$5:$A$10,'Мониторинг тип'!W$1),0)","v":0},{"$f":"IFERROR(COUNTIFS(Мониторинг!$U$5:$U$10,'Мониторинг тип'!$B53,Мониторинг!$A$5:$A$10,'Мониторинг тип'!X$1),0)","v":0},{"$f":"IFERROR(COUNTIFS(Мониторинг!$U$5:$U$10,'Мониторинг тип'!$B53,Мониторинг!$A$5:$A$10,'Мониторинг тип'!Y$1),0)","v":0},{"$f":"IFERROR(COUNTIFS(Мониторинг!$U$5:$U$10,'Мониторинг тип'!$B53,Мониторинг!$A$5:$A$10,'Мониторинг тип'!Z$1),0)","v":0},{"$f":"IFERROR(COUNTIFS(Мониторинг!$U$5:$U$10,'Мониторинг тип'!$B53,Мониторинг!$A$5:$A$10,'Мониторинг тип'!AA$1),0)","v":0},{"$f":"IFERROR(COUNTIFS(Мониторинг!$U$5:$U$10,'Мониторинг тип'!$B53,Мониторинг!$A$5:$A$10,'Мониторинг тип'!AB$1),0)","v":0},{"$f":"IFERROR(COUNTIFS(Мониторинг!$U$5:$U$10,'Мониторинг тип'!$B53,Мониторинг!$A$5:$A$10,'Мониторинг тип'!AC$1),0)","v":0},{"$f":"IFERROR(COUNTIFS(Мониторинг!$U$5:$U$10,'Мониторинг тип'!$B53,Мониторинг!$A$5:$A$10,'Мониторинг тип'!AD$1),0)","v":0},{"$f":"IFERROR(COUNTIFS(Мониторинг!$U$5:$U$10,'Мониторинг тип'!$B53,Мониторинг!$A$5:$A$10,'Мониторинг тип'!AE$1),0)","v":0},{"$f":"IFERROR(COUNTIFS(Мониторинг!$U$5:$U$10,'Мониторинг тип'!$B53,Мониторинг!$A$5:$A$10,'Мониторинг тип'!AF$1),0)","v":0},{"$f":"IFERROR(COUNTIFS(Мониторинг!$U$5:$U$10,'Мониторинг тип'!$B53,Мониторинг!$A$5:$A$10,'Мониторинг тип'!AG$1),0)","v":0}]
[null,{"$f":"Лист1!P14","v":"D"},{"$f":"SUM(D54:AG54)","v":0},{"$f":"IFERROR(COUNTIFS(Мониторинг!$U$5:$U$10,'Мониторинг тип'!$B54,Мониторинг!$A$5:$A$10,'Мониторинг тип'!D$1),0)","v":0},{"$f":"IFERROR(COUNTIFS(Мониторинг!$U$5:$U$10,'Мониторинг тип'!$B54,Мониторинг!$A$5:$A$10,'Мониторинг тип'!E$1),0)","v":0},{"$f":"IFERROR(COUNTIFS(Мониторинг!$U$5:$U$10,'Мониторинг тип'!$B54,Мониторинг!$A$5:$A$10,'Мониторинг тип'!F$1),0)","v":0},{"$f":"IFERROR(COUNTIFS(Мониторинг!$U$5:$U$10,'Мониторинг тип'!$B54,Мониторинг!$A$5:$A$10,'Мониторинг тип'!G$1),0)","v":0},{"$f":"IFERROR(COUNTIFS(Мониторинг!$U$5:$U$10,'Мониторинг тип'!$B54,Мониторинг!$A$5:$A$10,'Мониторинг тип'!H$1),0)","v":0},{"$f":"IFERROR(COUNTIFS(Мониторинг!$U$5:$U$10,'Мониторинг тип'!$B54,Мониторинг!$A$5:$A$10,'Мониторинг тип'!I$1),0)","v":0},{"$f":"IFERROR(COUNTIFS(Мониторинг!$U$5:$U$10,'Мониторинг тип'!$B54,Мониторинг!$A$5:$A$10,'Мониторинг тип'!J$1),0)","v":0},{"$f":"IFERROR(COUNTIFS(Мониторинг!$U$5:$U$10,'Мониторинг тип'!$B54,Мониторинг!$A$5:$A$10,'Мониторинг тип'!K$1),0)","v":0},{"$f":"IFERROR(COUNTIFS(Мониторинг!$U$5:$U$10,'Мониторинг тип'!$B54,Мониторинг!$A$5:$A$10,'Мониторинг тип'!L$1),0)","v":0},{"$f":"IFERROR(COUNTIFS(Мониторинг!$U$5:$U$10,'Мониторинг тип'!$B54,Мониторинг!$A$5:$A$10,'Мониторинг тип'!M$1),0)","v":0},{"$f":"IFERROR(COUNTIFS(Мониторинг!$U$5:$U$10,'Мониторинг тип'!$B54,Мониторинг!$A$5:$A$10,'Мониторинг тип'!N$1),0)","v":0},{"$f":"IFERROR(COUNTIFS(Мониторинг!$U$5:$U$10,'Мониторинг тип'!$B54,Мониторинг!$A$5:$A$10,'Мониторинг тип'!O$1),0)","v":0},{"$f":"IFERROR(COUNTIFS(Мониторинг!$U$5:$U$10,'Мониторинг тип'!$B54,Мониторинг!$A$5:$A$10,'Мониторинг тип'!P$1),0)","v":0},{"$f":"IFERROR(COUNTIFS(Мониторинг!$U$5:$U$10,'Мониторинг тип'!$B54,Мониторинг!$A$5:$A$10,'Мониторинг тип'!Q$1),0)","v":0},{"$f":"IFERROR(COUNTIFS(Мониторинг!$U$5:$U$10,'Мониторинг тип'!$B54,Мониторинг!$A$5:$A$10,'Мониторинг тип'!R$1),0)","v":0},{"$f":"IFERROR(COUNTIFS(Мониторинг!$U$5:$U$10,'Мониторинг тип'!$B54,Мониторинг!$A$5:$A$10,'Мониторинг тип'!S$1),0)","v":0},{"$f":"IFERROR(COUNTIFS(Мониторинг!$U$5:$U$10,'Мониторинг тип'!$B54,Мониторинг!$A$5:$A$10,'Мониторинг тип'!T$1),0)","v":0},{"$f":"IFERROR(COUNTIFS(Мониторинг!$U$5:$U$10,'Мониторинг тип'!$B54,Мониторинг!$A$5:$A$10,'Мониторинг тип'!U$1),0)","v":0},{"$f":"IFERROR(COUNTIFS(Мониторинг!$U$5:$U$10,'Мониторинг тип'!$B54,Мониторинг!$A$5:$A$10,'Мониторинг тип'!V$1),0)","v":0},{"$f":"IFERROR(COUNTIFS(Мониторинг!$U$5:$U$10,'Мониторинг тип'!$B54,Мониторинг!$A$5:$A$10,'Мониторинг тип'!W$1),0)","v":0},{"$f":"IFERROR(COUNTIFS(Мониторинг!$U$5:$U$10,'Мониторинг тип'!$B54,Мониторинг!$A$5:$A$10,'Мониторинг тип'!X$1),0)","v":0},{"$f":"IFERROR(COUNTIFS(Мониторинг!$U$5:$U$10,'Мониторинг тип'!$B54,Мониторинг!$A$5:$A$10,'Мониторинг тип'!Y$1),0)","v":0},{"$f":"IFERROR(COUNTIFS(Мониторинг!$U$5:$U$10,'Мониторинг тип'!$B54,Мониторинг!$A$5:$A$10,'Мониторинг тип'!Z$1),0)","v":0},{"$f":"IFERROR(COUNTIFS(Мониторинг!$U$5:$U$10,'Мониторинг тип'!$B54,Мониторинг!$A$5:$A$10,'Мониторинг тип'!AA$1),0)","v":0},{"$f":"IFERROR(COUNTIFS(Мониторинг!$U$5:$U$10,'Мониторинг тип'!$B54,Мониторинг!$A$5:$A$10,'Мониторинг тип'!AB$1),0)","v":0},{"$f":"IFERROR(COUNTIFS(Мониторинг!$U$5:$U$10,'Мониторинг тип'!$B54,Мониторинг!$A$5:$A$10,'Мониторинг тип'!AC$1),0)","v":0},{"$f":"IFERROR(COUNTIFS(Мониторинг!$U$5:$U$10,'Мониторинг тип'!$B54,Мониторинг!$A$5:$A$10,'Мониторинг тип'!AD$1),0)","v":0},{"$f":"IFERROR(COUNTIFS(Мониторинг!$U$5:$U$10,'Мониторинг тип'!$B54,Мониторинг!$A$5:$A$10,'Мониторинг тип'!AE$1),0)","v":0},{"$f":"IFERROR(COUNTIFS(Мониторинг!$U$5:$U$10,'Мониторинг тип'!$B54,Мониторинг!$A$5:$A$10,'Мониторинг тип'!AF$1),0)","v":0},{"$f":"IFERROR(COUNTIFS(Мониторинг!$U$5:$U$10,'Мониторинг тип'!$B54,Мониторинг!$A$5:$A$10,'Мониторинг тип'!AG$1),0)","v":0}]
[null,{"$f":"Лист1!P15","v":"NA"},{"$f":"SUM(D55:AG55)","v":0},{"$f":"IFERROR(COUNTIFS(Мониторинг!$U$5:$U$10,'Мониторинг тип'!$B55,Мониторинг!$A$5:$A$10,'Мониторинг тип'!D$1),0)","v":0},{"$f":"IFERROR(COUNTIFS(Мониторинг!$U$5:$U$10,'Мониторинг тип'!$B55,Мониторинг!$A$5:$A$10,'Мониторинг тип'!E$1),0)","v":0},{"$f":"IFERROR(COUNTIFS(Мониторинг!$U$5:$U$10,'Мониторинг тип'!$B55,Мониторинг!$A$5:$A$10,'Мониторинг тип'!F$1),0)","v":0},{"$f":"IFERROR(COUNTIFS(Мониторинг!$U$5:$U$10,'Мониторинг тип'!$B55,Мониторинг!$A$5:$A$10,'Мониторинг тип'!G$1),0)","v":0},{"$f":"IFERROR(COUNTIFS(Мониторинг!$U$5:$U$10,'Мониторинг тип'!$B55,Мониторинг!$A$5:$A$10,'Мониторинг тип'!H$1),0)","v":0},{"$f":"IFERROR(COUNTIFS(Мониторинг!$U$5:$U$10,'Мониторинг тип'!$B55,Мониторинг!$A$5:$A$10,'Мониторинг тип'!I$1),0)","v":0},{"$f":"IFERROR(COUNTIFS(Мониторинг!$U$5:$U$10,'Мониторинг тип'!$B55,Мониторинг!$A$5:$A$10,'Мониторинг тип'!J$1),0)","v":0},{"$f":"IFERROR(COUNTIFS(Мониторинг!$U$5:$U$10,'Мониторинг тип'!$B55,Мониторинг!$A$5:$A$10,'Мониторинг тип'!K$1),0)","v":0},{"$f":"IFERROR(COUNTIFS(Мониторинг!$U$5:$U$10,'Мониторинг тип'!$B55,Мониторинг!$A$5:$A$10,'Мониторинг тип'!L$1),0)","v":0},{"$f":"IFERROR(COUNTIFS(Мониторинг!$U$5:$U$10,'Мониторинг тип'!$B55,Мониторинг!$A$5:$A$10,'Мониторинг тип'!M$1),0)","v":0},{"$f":"IFERROR(COUNTIFS(Мониторинг!$U$5:$U$10,'Мониторинг тип'!$B55,Мониторинг!$A$5:$A$10,'Мониторинг тип'!N$1),0)","v":0},{"$f":"IFERROR(COUNTIFS(Мониторинг!$U$5:$U$10,'Мониторинг тип'!$B55,Мониторинг!$A$5:$A$10,'Мониторинг тип'!O$1),0)","v":0},{"$f":"IFERROR(COUNTIFS(Мониторинг!$U$5:$U$10,'Мониторинг тип'!$B55,Мониторинг!$A$5:$A$10,'Мониторинг тип'!P$1),0)","v":0},{"$f":"IFERROR(COUNTIFS(Мониторинг!$U$5:$U$10,'Мониторинг тип'!$B55,Мониторинг!$A$5:$A$10,'Мониторинг тип'!Q$1),0)","v":0},{"$f":"IFERROR(COUNTIFS(Мониторинг!$U$5:$U$10,'Мониторинг тип'!$B55,Мониторинг!$A$5:$A$10,'Мониторинг тип'!R$1),0)","v":0},{"$f":"IFERROR(COUNTIFS(Мониторинг!$U$5:$U$10,'Мониторинг тип'!$B55,Мониторинг!$A$5:$A$10,'Мониторинг тип'!S$1),0)","v":0},{"$f":"IFERROR(COUNTIFS(Мониторинг!$U$5:$U$10,'Мониторинг тип'!$B55,Мониторинг!$A$5:$A$10,'Мониторинг тип'!T$1),0)","v":0},{"$f":"IFERROR(COUNTIFS(Мониторинг!$U$5:$U$10,'Мониторинг тип'!$B55,Мониторинг!$A$5:$A$10,'Мониторинг тип'!U$1),0)","v":0},{"$f":"IFERROR(COUNTIFS(Мониторинг!$U$5:$U$10,'Мониторинг тип'!$B55,Мониторинг!$A$5:$A$10,'Мониторинг тип'!V$1),0)","v":0},{"$f":"IFERROR(COUNTIFS(Мониторинг!$U$5:$U$10,'Мониторинг тип'!$B55,Мониторинг!$A$5:$A$10,'Мониторинг тип'!W$1),0)","v":0},{"$f":"IFERROR(COUNTIFS(Мониторинг!$U$5:$U$10,'Мониторинг тип'!$B55,Мониторинг!$A$5:$A$10,'Мониторинг тип'!X$1),0)","v":0},{"$f":"IFERROR(COUNTIFS(Мониторинг!$U$5:$U$10,'Мониторинг тип'!$B55,Мониторинг!$A$5:$A$10,'Мониторинг тип'!Y$1),0)","v":0},{"$f":"IFERROR(COUNTIFS(Мониторинг!$U$5:$U$10,'Мониторинг тип'!$B55,Мониторинг!$A$5:$A$10,'Мониторинг тип'!Z$1),0)","v":0},{"$f":"IFERROR(COUNTIFS(Мониторинг!$U$5:$U$10,'Мониторинг тип'!$B55,Мониторинг!$A$5:$A$10,'Мониторинг тип'!AA$1),0)","v":0},{"$f":"IFERROR(COUNTIFS(Мониторинг!$U$5:$U$10,'Мониторинг тип'!$B55,Мониторинг!$A$5:$A$10,'Мониторинг тип'!AB$1),0)","v":0},{"$f":"IFERROR(COUNTIFS(Мониторинг!$U$5:$U$10,'Мониторинг тип'!$B55,Мониторинг!$A$5:$A$10,'Мониторинг тип'!AC$1),0)","v":0},{"$f":"IFERROR(COUNTIFS(Мониторинг!$U$5:$U$10,'Мониторинг тип'!$B55,Мониторинг!$A$5:$A$10,'Мониторинг тип'!AD$1),0)","v":0},{"$f":"IFERROR(COUNTIFS(Мониторинг!$U$5:$U$10,'Мониторинг тип'!$B55,Мониторинг!$A$5:$A$10,'Мониторинг тип'!AE$1),0)","v":0},{"$f":"IFERROR(COUNTIFS(Мониторинг!$U$5:$U$10,'Мониторинг тип'!$B55,Мониторинг!$A$5:$A$10,'Мониторинг тип'!AF$1),0)","v":0},{"$f":"IFERROR(COUNTIFS(Мониторинг!$U$5:$U$10,'Мониторинг тип'!$B55,Мониторинг!$A$5:$A$10,'Мониторинг тип'!AG$1),0)","v":0}]
[null,"% информирования",{"$f":"IF(SUM(C53:C55)<>0,(C53*100%+(C54*0%)+(C55*100%))/SUM(C53:C55),\"\")","v":""},{"$f":"IF(SUM(D53:D55)<>0,(D53*100%+(D54*0%)+(D55*100%))/SUM(D53:D55),\"\")","v":""},"","","","","","","","","","","","","","","","","","","","","","","","","","","","",""]
["Корректность и полнота инф по подключению",{"$f":"Лист1!Q13","v":"C"},{"$f":"SUM(D57:AG57)","v":0},{"$f":"IFERROR(COUNTIFS(Мониторинг!$V$5:$V$10,'Мониторинг тип'!$B57,Мониторинг!$A$5:$A$10,'Мониторинг тип'!D$1),0)","v":0},{"$f":"IFERROR(COUNTIFS(Мониторинг!$V$5:$V$10,'Мониторинг тип'!$B57,Мониторинг!$A$5:$A$10,'Мониторинг тип'!E$1),0)","v":0},{"$f":"IFERROR(COUNTIFS(Мониторинг!$V$5:$V$10,'Мониторинг тип'!$B57,Мониторинг!$A$5:$A$10,'Мониторинг тип'!F$1),0)","v":0},{"$f":"IFERROR(COUNTIFS(Мониторинг!$V$5:$V$10,'Мониторинг тип'!$B57,Мониторинг!$A$5:$A$10,'Мониторинг тип'!G$1),0)","v":0},{"$f":"IFERROR(COUNTIFS(Мониторинг!$V$5:$V$10,'Мониторинг тип'!$B57,Мониторинг!$A$5:$A$10,'Мониторинг тип'!H$1),0)","v":0},{"$f":"IFERROR(COUNTIFS(Мониторинг!$V$5:$V$10,'Мониторинг тип'!$B57,Мониторинг!$A$5:$A$10,'Мониторинг тип'!I$1),0)","v":0},{"$f":"IFERROR(COUNTIFS(Мониторинг!$V$5:$V$10,'Мониторинг тип'!$B57,Мониторинг!$A$5:$A$10,'Мониторинг тип'!J$1),0)","v":0},{"$f":"IFERROR(COUNTIFS(Мониторинг!$V$5:$V$10,'Мониторинг тип'!$B57,Мониторинг!$A$5:$A$10,'Мониторинг тип'!K$1),0)","v":0},{"$f":"IFERROR(COUNTIFS(Мониторинг!$V$5:$V$10,'Мониторинг тип'!$B57,Мониторинг!$A$5:$A$10,'Мониторинг тип'!L$1),0)","v":0},{"$f":"IFERROR(COUNTIFS(Мониторинг!$V$5:$V$10,'Мониторинг тип'!$B57,Мониторинг!$A$5:$A$10,'Мониторинг тип'!M$1),0)","v":0},{"$f":"IFERROR(COUNTIFS(Мониторинг!$V$5:$V$10,'Мониторинг тип'!$B57,Мониторинг!$A$5:$A$10,'Мониторинг тип'!N$1),0)","v":0},{"$f":"IFERROR(COUNTIFS(Мониторинг!$V$5:$V$10,'Мониторинг тип'!$B57,Мониторинг!$A$5:$A$10,'Мониторинг тип'!O$1),0)","v":0},{"$f":"IFERROR(COUNTIFS(Мониторинг!$V$5:$V$10,'Мониторинг тип'!$B57,Мониторинг!$A$5:$A$10,'Мониторинг тип'!P$1),0)","v":0},{"$f":"IFERROR(COUNTIFS(Мониторинг!$V$5:$V$10,'Мониторинг тип'!$B57,Мониторинг!$A$5:$A$10,'Мониторинг тип'!Q$1),0)","v":0},{"$f":"IFERROR(COUNTIFS(Мониторинг!$V$5:$V$10,'Мониторинг тип'!$B57,Мониторинг!$A$5:$A$10,'Мониторинг тип'!R$1),0)","v":0},{"$f":"IFERROR(COUNTIFS(Мониторинг!$V$5:$V$10,'Мониторинг тип'!$B57,Мониторинг!$A$5:$A$10,'Мониторинг тип'!S$1),0)","v":0},{"$f":"IFERROR(COUNTIFS(Мониторинг!$V$5:$V$10,'Мониторинг тип'!$B57,Мониторинг!$A$5:$A$10,'Мониторинг тип'!T$1),0)","v":0},{"$f":"IFERROR(COUNTIFS(Мониторинг!$V$5:$V$10,'Мониторинг тип'!$B57,Мониторинг!$A$5:$A$10,'Мониторинг тип'!U$1),0)","v":0},{"$f":"IFERROR(COUNTIFS(Мониторинг!$V$5:$V$10,'Мониторинг тип'!$B57,Мониторинг!$A$5:$A$10,'Мониторинг тип'!V$1),0)","v":0},{"$f":"IFERROR(COUNTIFS(Мониторинг!$V$5:$V$10,'Мониторинг тип'!$B57,Мониторинг!$A$5:$A$10,'Мониторинг тип'!W$1),0)","v":0},{"$f":"IFERROR(COUNTIFS(Мониторинг!$V$5:$V$10,'Мониторинг тип'!$B57,Мониторинг!$A$5:$A$10,'Мониторинг тип'!X$1),0)","v":0},{"$f":"IFERROR(COUNTIFS(Мониторинг!$V$5:$V$10,'Мониторинг тип'!$B57,Мониторинг!$A$5:$A$10,'Мониторинг тип'!Y$1),0)","v":0},{"$f":"IFERROR(COUNTIFS(Мониторинг!$V$5:$V$10,'Мониторинг тип'!$B57,Мониторинг!$A$5:$A$10,'Мониторинг тип'!Z$1),0)","v":0},{"$f":"IFERROR(COUNTIFS(Мониторинг!$V$5:$V$10,'Мониторинг тип'!$B57,Мониторинг!$A$5:$A$10,'Мониторинг тип'!AA$1),0)","v":0},{"$f":"IFERROR(COUNTIFS(Мониторинг!$V$5:$V$10,'Мониторинг тип'!$B57,Мониторинг!$A$5:$A$10,'Мониторинг тип'!AB$1),0)","v":0},{"$f":"IFERROR(COUNTIFS(Мониторинг!$V$5:$V$10,'Мониторинг тип'!$B57,Мониторинг!$A$5:$A$10,'Мониторинг тип'!AC$1),0)","v":0},{"$f":"IFERROR(COUNTIFS(Мониторинг!$V$5:$V$10,'Мониторинг тип'!$B57,Мониторинг!$A$5:$A$10,'Мониторинг тип'!AD$1),0)","v":0},{"$f":"IFERROR(COUNTIFS(Мониторинг!$V$5:$V$10,'Мониторинг тип'!$B57,Мониторинг!$A$5:$A$10,'Мониторинг тип'!AE$1),0)","v":0},{"$f":"IFERROR(COUNTIFS(Мониторинг!$V$5:$V$10,'Мониторинг тип'!$B57,Мониторинг!$A$5:$A$10,'Мониторинг тип'!AF$1),0)","v":0},{"$f":"IFERROR(COUNTIFS(Мониторинг!$V$5:$V$10,'Мониторинг тип'!$B57,Мониторинг!$A$5:$A$10,'Мониторинг тип'!AG$1),0)","v":0}]
[null,{"$f":"Лист1!Q14","v":"D"},{"$f":"SUM(D58:AG58)","v":0},{"$f":"IFERROR(COUNTIFS(Мониторинг!$V$5:$V$10,'Мониторинг тип'!$B58,Мониторинг!$A$5:$A$10,'Мониторинг тип'!D$1),0)","v":0},{"$f":"IFERROR(COUNTIFS(Мониторинг!$V$5:$V$10,'Мониторинг тип'!$B58,Мониторинг!$A$5:$A$10,'Мониторинг тип'!E$1),0)","v":0},{"$f":"IFERROR(COUNTIFS(Мониторинг!$V$5:$V$10,'Мониторинг тип'!$B58,Мониторинг!$A$5:$A$10,'Мониторинг тип'!F$1),0)","v":0},{"$f":"IFERROR(COUNTIFS(Мониторинг!$V$5:$V$10,'Мониторинг тип'!$B58,Мониторинг!$A$5:$A$10,'Мониторинг тип'!G$1),0)","v":0},{"$f":"IFERROR(COUNTIFS(Мониторинг!$V$5:$V$10,'Мониторинг тип'!$B58,Мониторинг!$A$5:$A$10,'Мониторинг тип'!H$1),0)","v":0},{"$f":"IFERROR(COUNTIFS(Мониторинг!$V$5:$V$10,'Мониторинг тип'!$B58,Мониторинг!$A$5:$A$10,'Мониторинг тип'!I$1),0)","v":0},{"$f":"IFERROR(COUNTIFS(Мониторинг!$V$5:$V$10,'Мониторинг тип'!$B58,Мониторинг!$A$5:$A$10,'Мониторинг тип'!J$1),0)","v":0},{"$f":"IFERROR(COUNTIFS(Мониторинг!$V$5:$V$10,'Мониторинг тип'!$B58,Мониторинг!$A$5:$A$10,'Мониторинг тип'!K$1),0)","v":0},{"$f":"IFERROR(COUNTIFS(Мониторинг!$V$5:$V$10,'Мониторинг тип'!$B58,Мониторинг!$A$5:$A$10,'Мониторинг тип'!L$1),0)","v":0},{"$f":"IFERROR(COUNTIFS(Мониторинг!$V$5:$V$10,'Мониторинг тип'!$B58,Мониторинг!$A$5:$A$10,'Мониторинг тип'!M$1),0)","v":0},{"$f":"IFERROR(COUNTIFS(Мониторинг!$V$5:$V$10,'Мониторинг тип'!$B58,Мониторинг!$A$5:$A$10,'Мониторинг тип'!N$1),0)","v":0},{"$f":"IFERROR(COUNTIFS(Мониторинг!$V$5:$V$10,'Мониторинг тип'!$B58,Мониторинг!$A$5:$A$10,'Мониторинг тип'!O$1),0)","v":0},{"$f":"IFERROR(COUNTIFS(Мониторинг!$V$5:$V$10,'Мониторинг тип'!$B58,Мониторинг!$A$5:$A$10,'Мониторинг тип'!P$1),0)","v":0},{"$f":"IFERROR(COUNTIFS(Мониторинг!$V$5:$V$10,'Мониторинг тип'!$B58,Мониторинг!$A$5:$A$10,'Мониторинг тип'!Q$1),0)","v":0},{"$f":"IFERROR(COUNTIFS(Мониторинг!$V$5:$V$10,'Мониторинг тип'!$B58,Мониторинг!$A$5:$A$10,'Мониторинг тип'!R$1),0)","v":0},{"$f":"IFERROR(COUNTIFS(Мониторинг!$V$5:$V$10,'Мониторинг тип'!$B58,Мониторинг!$A$5:$A$10,'Мониторинг тип'!S$1),0)","v":0},{"$f":"IFERROR(COUNTIFS(Мониторинг!$V$5:$V$10,'Мониторинг тип'!$B58,Мониторинг!$A$5:$A$10,'Мониторинг тип'!T$1),0)","v":0},{"$f":"IFERROR(COUNTIFS(Мониторинг!$V$5:$V$10,'Мониторинг тип'!$B58,Мониторинг!$A$5:$A$10,'Мониторинг тип'!U$1),0)","v":0},{"$f":"IFERROR(COUNTIFS(Мониторинг!$V$5:$V$10,'Мониторинг тип'!$B58,Мониторинг!$A$5:$A$10,'Мониторинг тип'!V$1),0)","v":0},{"$f":"IFERROR(COUNTIFS(Мониторинг!$V$5:$V$10,'Мониторинг тип'!$B58,Мониторинг!$A$5:$A$10,'Мониторинг тип'!W$1),0)","v":0},{"$f":"IFERROR(COUNTIFS(Мониторинг!$V$5:$V$10,'Мониторинг тип'!$B58,Мониторинг!$A$5:$A$10,'Мониторинг тип'!X$1),0)","v":0},{"$f":"IFERROR(COUNTIFS(Мониторинг!$V$5:$V$10,'Мониторинг тип'!$B58,Мониторинг!$A$5:$A$10,'Мониторинг тип'!Y$1),0)","v":0},{"$f":"IFERROR(COUNTIFS(Мониторинг!$V$5:$V$10,'Мониторинг тип'!$B58,Мониторинг!$A$5:$A$10,'Мониторинг тип'!Z$1),0)","v":0},{"$f":"IFERROR(COUNTIFS(Мониторинг!$V$5:$V$10,'Мониторинг тип'!$B58,Мониторинг!$A$5:$A$10,'Мониторинг тип'!AA$1),0)","v":0},{"$f":"IFERROR(COUNTIFS(Мониторинг!$V$5:$V$10,'Мониторинг тип'!$B58,Мониторинг!$A$5:$A$10,'Мониторинг тип'!AB$1),0)","v":0},{"$f":"IFERROR(COUNTIFS(Мониторинг!$V$5:$V$10,'Мониторинг тип'!$B58,Мониторинг!$A$5:$A$10,'Мониторинг тип'!AC$1),0)","v":0},{"$f":"IFERROR(COUNTIFS(Мониторинг!$V$5:$V$10,'Мониторинг тип'!$B58,Мониторинг!$A$5:$A$10,'Мониторинг тип'!AD$1),0)","v":0},{"$f":"IFERROR(COUNTIFS(Мониторинг!$V$5:$V$10,'Мониторинг тип'!$B58,Мониторинг!$A$5:$A$10,'Мониторинг тип'!AE$1),0)","v":0},{"$f":"IFERROR(COUNTIFS(Мониторинг!$V$5:$V$10,'Мониторинг тип'!$B58,Мониторинг!$A$5:$A$10,'Мониторинг тип'!AF$1),0)","v":0},{"$f":"IFERROR(COUNTIFS(Мониторинг!$V$5:$V$10,'Мониторинг тип'!$B58,Мониторинг!$A$5:$A$10,'Мониторинг тип'!AG$1),0)","v":0}]
[null,{"$f":"Лист1!Q15","v":"NA"},{"$f":"SUM(D59:AG59)","v":0},{"$f":"IFERROR(COUNTIFS(Мониторинг!$V$5:$V$10,'Мониторинг тип'!$B59,Мониторинг!$A$5:$A$10,'Мониторинг тип'!D$1),0)","v":0},{"$f":"IFERROR(COUNTIFS(Мониторинг!$V$5:$V$10,'Мониторинг тип'!$B59,Мониторинг!$A$5:$A$10,'Мониторинг тип'!E$1),0)","v":0},{"$f":"IFERROR(COUNTIFS(Мониторинг!$V$5:$V$10,'Мониторинг тип'!$B59,Мониторинг!$A$5:$A$10,'Мониторинг тип'!F$1),0)","v":0},{"$f":"IFERROR(COUNTIFS(Мониторинг!$V$5:$V$10,'Мониторинг тип'!$B59,Мониторинг!$A$5:$A$10,'Мониторинг тип'!G$1),0)","v":0},{"$f":"IFERROR(COUNTIFS(Мониторинг!$V$5:$V$10,'Мониторинг тип'!$B59,Мониторинг!$A$5:$A$10,'Мониторинг тип'!H$1),0)","v":0},{"$f":"IFERROR(COUNTIFS(Мониторинг!$V$5:$V$10,'Мониторинг тип'!$B59,Мониторинг!$A$5:$A$10,'Мониторинг тип'!I$1),0)","v":0},{"$f":"IFERROR(COUNTIFS(Мониторинг!$V$5:$V$10,'Мониторинг тип'!$B59,Мониторинг!$A$5:$A$10,'Мониторинг тип'!J$1),0)","v":0},{"$f":"IFERROR(COUNTIFS(Мониторинг!$V$5:$V$10,'Мониторинг тип'!$B59,Мониторинг!$A$5:$A$10,'Мониторинг тип'!K$1),0)","v":0},{"$f":"IFERROR(COUNTIFS(Мониторинг!$V$5:$V$10,'Мониторинг тип'!$B59,Мониторинг!$A$5:$A$10,'Мониторинг тип'!L$1),0)","v":0},{"$f":"IFERROR(COUNTIFS(Мониторинг!$V$5:$V$10,'Мониторинг тип'!$B59,Мониторинг!$A$5:$A$10,'Мониторинг тип'!M$1),0)","v":0},{"$f":"IFERROR(COUNTIFS(Мониторинг!$V$5:$V$10,'Мониторинг тип'!$B59,Мониторинг!$A$5:$A$10,'Мониторинг тип'!N$1),0)","v":0},{"$f":"IFERROR(COUNTIFS(Мониторинг!$V$5:$V$10,'Мониторинг тип'!$B59,Мониторинг!$A$5:$A$10,'Мониторинг тип'!O$1),0)","v":0},{"$f":"IFERROR(COUNTIFS(Мониторинг!$V$5:$V$10,'Мониторинг тип'!$B59,Мониторинг!$A$5:$A$10,'Мониторинг тип'!P$1),0)","v":0},{"$f":"IFERROR(COUNTIFS(Мониторинг!$V$5:$V$10,'Мониторинг тип'!$B59,Мониторинг!$A$5:$A$10,'Мониторинг тип'!Q$1),0)","v":0},{"$f":"IFERROR(COUNTIFS(Мониторинг!$V$5:$V$10,'Мониторинг тип'!$B59,Мониторинг!$A$5:$A$10,'Мониторинг тип'!R$1),0)","v":0},{"$f":"IFERROR(COUNTIFS(Мониторинг!$V$5:$V$10,'Мониторинг тип'!$B59,Мониторинг!$A$5:$A$10,'Мониторинг тип'!S$1),0)","v":0},{"$f":"IFERROR(COUNTIFS(Мониторинг!$V$5:$V$10,'Мониторинг тип'!$B59,Мониторинг!$A$5:$A$10,'Мониторинг тип'!T$1),0)","v":0},{"$f":"IFERROR(COUNTIFS(Мониторинг!$V$5:$V$10,'Мониторинг тип'!$B59,Мониторинг!$A$5:$A$10,'Мониторинг тип'!U$1),0)","v":0},{"$f":"IFERROR(COUNTIFS(Мониторинг!$V$5:$V$10,'Мониторинг тип'!$B59,Мониторинг!$A$5:$A$10,'Мониторинг тип'!V$1),0)","v":0},{"$f":"IFERROR(COUNTIFS(Мониторинг!$V$5:$V$10,'Мониторинг тип'!$B59,Мониторинг!$A$5:$A$10,'Мониторинг тип'!W$1),0)","v":0},{"$f":"IFERROR(COUNTIFS(Мониторинг!$V$5:$V$10,'Мониторинг тип'!$B59,Мониторинг!$A$5:$A$10,'Мониторинг тип'!X$1),0)","v":0},{"$f":"IFERROR(COUNTIFS(Мониторинг!$V$5:$V$10,'Мониторинг тип'!$B59,Мониторинг!$A$5:$A$10,'Мониторинг тип'!Y$1),0)","v":0},{"$f":"IFERROR(COUNTIFS(Мониторинг!$V$5:$V$10,'Мониторинг тип'!$B59,Мониторинг!$A$5:$A$10,'Мониторинг тип'!Z$1),0)","v":0},{"$f":"IFERROR(COUNTIFS(Мониторинг!$V$5:$V$10,'Мониторинг тип'!$B59,Мониторинг!$A$5:$A$10,'Мониторинг тип'!AA$1),0)","v":0},{"$f":"IFERROR(COUNTIFS(Мониторинг!$V$5:$V$10,'Мониторинг тип'!$B59,Мониторинг!$A$5:$A$10,'Мониторинг тип'!AB$1),0)","v":0},{"$f":"IFERROR(COUNTIFS(Мониторинг!$V$5:$V$10,'Мониторинг тип'!$B59,Мониторинг!$A$5:$A$10,'Мониторинг тип'!AC$1),0)","v":0},{"$f":"IFERROR(COUNTIFS(Мониторинг!$V$5:$V$10,'Мониторинг тип'!$B59,Мониторинг!$A$5:$A$10,'Мониторинг тип'!AD$1),0)","v":0},{"$f":"IFERROR(COUNTIFS(Мониторинг!$V$5:$V$10,'Мониторинг тип'!$B59,Мониторинг!$A$5:$A$10,'Мониторинг тип'!AE$1),0)","v":0},{"$f":"IFERROR(COUNTIFS(Мониторинг!$V$5:$V$10,'Мониторинг тип'!$B59,Мониторинг!$A$5:$A$10,'Мониторинг тип'!AF$1),0)","v":0},{"$f":"IFERROR(COUNTIFS(Мониторинг!$V$5:$V$10,'Мониторинг тип'!$B59,Мониторинг!$A$5:$A$10,'Мониторинг тип'!AG$1),0)","v":0}]
[null,"% информирования",{"$f":"IF(SUM(C57:C59)<>0,(C57*100%+(C58*0%)+(C59*100%))/SUM(C57:C59),\"\")","v":""},{"$f":"IF(SUM(D57:D59)<>0,(D57*100%+(D58*0%)+(D59*100%))/SUM(D57:D59),\"\")","v":""},"","","","","","","","","","","","","","","","","","","","","","","","","","","","",""]
["Информирование по выходу из акции",{"$f":"Лист1!R13","v":"NA"},{"$f":"SUM(D61:AG61)","v":0},{"$f":"IFERROR(COUNTIFS(Мониторинг!#REF!,'Мониторинг тип'!$B61,Мониторинг!$A$5:$A$10,'Мониторинг тип'!D$1),0)","v":0},{"$f":"IFERROR(COUNTIFS(Мониторинг!#REF!,'Мониторинг тип'!$B61,Мониторинг!$A$5:$A$10,'Мониторинг тип'!E$1),0)","v":0},{"$f":"IFERROR(COUNTIFS(Мониторинг!#REF!,'Мониторинг тип'!$B61,Мониторинг!$A$5:$A$10,'Мониторинг тип'!F$1),0)","v":0},{"$f":"IFERROR(COUNTIFS(Мониторинг!#REF!,'Мониторинг тип'!$B61,Мониторинг!$A$5:$A$10,'Мониторинг тип'!G$1),0)","v":0},{"$f":"IFERROR(COUNTIFS(Мониторинг!#REF!,'Мониторинг тип'!$B61,Мониторинг!$A$5:$A$10,'Мониторинг тип'!H$1),0)","v":0},{"$f":"IFERROR(COUNTIFS(Мониторинг!#REF!,'Мониторинг тип'!$B61,Мониторинг!$A$5:$A$10,'Мониторинг тип'!I$1),0)","v":0},{"$f":"IFERROR(COUNTIFS(Мониторинг!#REF!,'Мониторинг тип'!$B61,Мониторинг!$A$5:$A$10,'Мониторинг тип'!J$1),0)","v":0},{"$f":"IFERROR(COUNTIFS(Мониторинг!#REF!,'Мониторинг тип'!$B61,Мониторинг!$A$5:$A$10,'Мониторинг тип'!K$1),0)","v":0},{"$f":"IFERROR(COUNTIFS(Мониторинг!#REF!,'Мониторинг тип'!$B61,Мониторинг!$A$5:$A$10,'Мониторинг тип'!L$1),0)","v":0},{"$f":"IFERROR(COUNTIFS(Мониторинг!#REF!,'Мониторинг тип'!$B61,Мониторинг!$A$5:$A$10,'Мониторинг тип'!M$1),0)","v":0},{"$f":"IFERROR(COUNTIFS(Мониторинг!#REF!,'Мониторинг тип'!$B61,Мониторинг!$A$5:$A$10,'Мониторинг тип'!N$1),0)","v":0},{"$f":"IFERROR(COUNTIFS(Мониторинг!#REF!,'Мониторинг тип'!$B61,Мониторинг!$A$5:$A$10,'Мониторинг тип'!O$1),0)","v":0},{"$f":"IFERROR(COUNTIFS(Мониторинг!#REF!,'Мониторинг тип'!$B61,Мониторинг!$A$5:$A$10,'Мониторинг тип'!P$1),0)","v":0},{"$f":"IFERROR(COUNTIFS(Мониторинг!#REF!,'Мониторинг тип'!$B61,Мониторинг!$A$5:$A$10,'Мониторинг тип'!Q$1),0)","v":0},{"$f":"IFERROR(COUNTIFS(Мониторинг!#REF!,'Мониторинг тип'!$B61,Мониторинг!$A$5:$A$10,'Мониторинг тип'!R$1),0)","v":0},{"$f":"IFERROR(COUNTIFS(Мониторинг!#REF!,'Мониторинг тип'!$B61,Мониторинг!$A$5:$A$10,'Мониторинг тип'!S$1),0)","v":0},{"$f":"IFERROR(COUNTIFS(Мониторинг!#REF!,'Мониторинг тип'!$B61,Мониторинг!$A$5:$A$10,'Мониторинг тип'!T$1),0)","v":0},{"$f":"IFERROR(COUNTIFS(Мониторинг!#REF!,'Мониторинг тип'!$B61,Мониторинг!$A$5:$A$10,'Мониторинг тип'!U$1),0)","v":0},{"$f":"IFERROR(COUNTIFS(Мониторинг!#REF!,'Мониторинг тип'!$B61,Мониторинг!$A$5:$A$10,'Мониторинг тип'!V$1),0)","v":0},{"$f":"IFERROR(COUNTIFS(Мониторинг!#REF!,'Мониторинг тип'!$B61,Мониторинг!$A$5:$A$10,'Мониторинг тип'!W$1),0)","v":0},{"$f":"IFERROR(COUNTIFS(Мониторинг!#REF!,'Мониторинг тип'!$B61,Мониторинг!$A$5:$A$10,'Мониторинг тип'!X$1),0)","v":0},{"$f":"IFERROR(COUNTIFS(Мониторинг!#REF!,'Мониторинг тип'!$B61,Мониторинг!$A$5:$A$10,'Мониторинг тип'!Y$1),0)","v":0},{"$f":"IFERROR(COUNTIFS(Мониторинг!#REF!,'Мониторинг тип'!$B61,Мониторинг!$A$5:$A$10,'Мониторинг тип'!Z$1),0)","v":0},{"$f":"IFERROR(COUNTIFS(Мониторинг!#REF!,'Мониторинг тип'!$B61,Мониторинг!$A$5:$A$10,'Мониторинг тип'!AA$1),0)","v":0},{"$f":"IFERROR(COUNTIFS(Мониторинг!#REF!,'Мониторинг тип'!$B61,Мониторинг!$A$5:$A$10,'Мониторинг тип'!AB$1),0)","v":0},{"$f":"IFERROR(COUNTIFS(Мониторинг!#REF!,'Мониторинг тип'!$B61,Мониторинг!$A$5:$A$10,'Мониторинг тип'!AC$1),0)","v":0},{"$f":"IFERROR(COUNTIFS(Мониторинг!#REF!,'Мониторинг тип'!$B61,Мониторинг!$A$5:$A$10,'Мониторинг тип'!AD$1),0)","v":0},{"$f":"IFERROR(COUNTIFS(Мониторинг!#REF!,'Мониторинг тип'!$B61,Мониторинг!$A$5:$A$10,'Мониторинг тип'!AE$1),0)","v":0},{"$f":"IFERROR(COUNTIFS(Мониторинг!#REF!,'Мониторинг тип'!$B61,Мониторинг!$A$5:$A$10,'Мониторинг тип'!AF$1),0)","v":0},{"$f":"IFERROR(COUNTIFS(Мониторинг!#REF!,'Мониторинг тип'!$B61,Мониторинг!$A$5:$A$10,'Мониторинг тип'!AG$1),0)","v":0}]
[null,{"$f":"Лист1!R12","v":"D"},{"$f":"SUM(D62:AG62)","v":0},{"$f":"IFERROR(COUNTIFS(Мониторинг!#REF!,'Мониторинг тип'!$B62,Мониторинг!$A$5:$A$10,'Мониторинг тип'!D$1),0)","v":0},{"$f":"IFERROR(COUNTIFS(Мониторинг!#REF!,'Мониторинг тип'!$B62,Мониторинг!$A$5:$A$10,'Мониторинг тип'!E$1),0)","v":0},{"$f":"IFERROR(COUNTIFS(Мониторинг!#REF!,'Мониторинг тип'!$B62,Мониторинг!$A$5:$A$10,'Мониторинг тип'!F$1),0)","v":0},{"$f":"IFERROR(COUNTIFS(Мониторинг!#REF!,'Мониторинг тип'!$B62,Мониторинг!$A$5:$A$10,'Мониторинг тип'!G$1),0)","v":0},{"$f":"IFERROR(COUNTIFS(Мониторинг!#REF!,'Мониторинг тип'!$B62,Мониторинг!$A$5:$A$10,'Мониторинг тип'!H$1),0)","v":0},{"$f":"IFERROR(COUNTIFS(Мониторинг!#REF!,'Мониторинг тип'!$B62,Мониторинг!$A$5:$A$10,'Мониторинг тип'!I$1),0)","v":0},{"$f":"IFERROR(COUNTIFS(Мониторинг!#REF!,'Мониторинг тип'!$B62,Мониторинг!$A$5:$A$10,'Мониторинг тип'!J$1),0)","v":0},{"$f":"IFERROR(COUNTIFS(Мониторинг!#REF!,'Мониторинг тип'!$B62,Мониторинг!$A$5:$A$10,'Мониторинг тип'!K$1),0)","v":0},{"$f":"IFERROR(COUNTIFS(Мониторинг!#REF!,'Мониторинг тип'!$B62,Мониторинг!$A$5:$A$10,'Мониторинг тип'!L$1),0)","v":0},{"$f":"IFERROR(COUNTIFS(Мониторинг!#REF!,'Мониторинг тип'!$B62,Мониторинг!$A$5:$A$10,'Мониторинг тип'!M$1),0)","v":0},{"$f":"IFERROR(COUNTIFS(Мониторинг!#REF!,'Мониторинг тип'!$B62,Мониторинг!$A$5:$A$10,'Мониторинг тип'!N$1),0)","v":0},{"$f":"IFERROR(COUNTIFS(Мониторинг!#REF!,'Мониторинг тип'!$B62,Мониторинг!$A$5:$A$10,'Мониторинг тип'!O$1),0)","v":0},{"$f":"IFERROR(COUNTIFS(Мониторинг!#REF!,'Мониторинг тип'!$B62,Мониторинг!$A$5:$A$10,'Мониторинг тип'!P$1),0)","v":0},{"$f":"IFERROR(COUNTIFS(Мониторинг!#REF!,'Мониторинг тип'!$B62,Мониторинг!$A$5:$A$10,'Мониторинг тип'!Q$1),0)","v":0},{"$f":"IFERROR(COUNTIFS(Мониторинг!#REF!,'Мониторинг тип'!$B62,Мониторинг!$A$5:$A$10,'Мониторинг тип'!R$1),0)","v":0},{"$f":"IFERROR(COUNTIFS(Мониторинг!#REF!,'Мониторинг тип'!$B62,Мониторинг!$A$5:$A$10,'Мониторинг тип'!S$1),0)","v":0},{"$f":"IFERROR(COUNTIFS(Мониторинг!#REF!,'Мониторинг тип'!$B62,Мониторинг!$A$5:$A$10,'Мониторинг тип'!T$1),0)","v":0},{"$f":"IFERROR(COUNTIFS(Мониторинг!#REF!,'Мониторинг тип'!$B62,Мониторинг!$A$5:$A$10,'Мониторинг тип'!U$1),0)","v":0},{"$f":"IFERROR(COUNTIFS(Мониторинг!#REF!,'Мониторинг тип'!$B62,Мониторинг!$A$5:$A$10,'Мониторинг тип'!V$1),0)","v":0},{"$f":"IFERROR(COUNTIFS(Мониторинг!#REF!,'Мониторинг тип'!$B62,Мониторинг!$A$5:$A$10,'Мониторинг тип'!W$1),0)","v":0},{"$f":"IFERROR(COUNTIFS(Мониторинг!#REF!,'Мониторинг тип'!$B62,Мониторинг!$A$5:$A$10,'Мониторинг тип'!X$1),0)","v":0},{"$f":"IFERROR(COUNTIFS(Мониторинг!#REF!,'Мониторинг тип'!$B62,Мониторинг!$A$5:$A$10,'Мониторинг тип'!Y$1),0)","v":0},{"$f":"IFERROR(COUNTIFS(Мониторинг!#REF!,'Мониторинг тип'!$B62,Мониторинг!$A$5:$A$10,'Мониторинг тип'!Z$1),0)","v":0},{"$f":"IFERROR(COUNTIFS(Мониторинг!#REF!,'Мониторинг тип'!$B62,Мониторинг!$A$5:$A$10,'Мониторинг тип'!AA$1),0)","v":0},{"$f":"IFERROR(COUNTIFS(Мониторинг!#REF!,'Мониторинг тип'!$B62,Мониторинг!$A$5:$A$10,'Мониторинг тип'!AB$1),0)","v":0},{"$f":"IFERROR(COUNTIFS(Мониторинг!#REF!,'Мониторинг тип'!$B62,Мониторинг!$A$5:$A$10,'Мониторинг тип'!AC$1),0)","v":0},{"$f":"IFERROR(COUNTIFS(Мониторинг!#REF!,'Мониторинг тип'!$B62,Мониторинг!$A$5:$A$10,'Мониторинг тип'!AD$1),0)","v":0},{"$f":"IFERROR(COUNTIFS(Мониторинг!#REF!,'Мониторинг тип'!$B62,Мониторинг!$A$5:$A$10,'Мониторинг тип'!AE$1),0)","v":0},{"$f":"IFERROR(COUNTIFS(Мониторинг!#REF!,'Мониторинг тип'!$B62,Мониторинг!$A$5:$A$10,'Мониторинг тип'!AF$1),0)","v":0},{"$f":"IFERROR(COUNTIFS(Мониторинг!#REF!,'Мониторинг тип'!$B62,Мониторинг!$A$5:$A$10,'Мониторинг тип'!AG$1),0)","v":0}]
[null,{"$f":"Лист1!R15","v":0},{"$f":"SUM(D63:AG63)","v":0},{"$f":"IFERROR(COUNTIFS(Мониторинг!#REF!,'Мониторинг тип'!$B63,Мониторинг!$A$5:$A$10,'Мониторинг тип'!D$1),0)","v":0},{"$f":"IFERROR(COUNTIFS(Мониторинг!#REF!,'Мониторинг тип'!$B63,Мониторинг!$A$5:$A$10,'Мониторинг тип'!E$1),0)","v":0},{"$f":"IFERROR(COUNTIFS(Мониторинг!#REF!,'Мониторинг тип'!$B63,Мониторинг!$A$5:$A$10,'Мониторинг тип'!F$1),0)","v":0},{"$f":"IFERROR(COUNTIFS(Мониторинг!#REF!,'Мониторинг тип'!$B63,Мониторинг!$A$5:$A$10,'Мониторинг тип'!G$1),0)","v":0},{"$f":"IFERROR(COUNTIFS(Мониторинг!#REF!,'Мониторинг тип'!$B63,Мониторинг!$A$5:$A$10,'Мониторинг тип'!H$1),0)","v":0},{"$f":"IFERROR(COUNTIFS(Мониторинг!#REF!,'Мониторинг тип'!$B63,Мониторинг!$A$5:$A$10,'Мониторинг тип'!I$1),0)","v":0},{"$f":"IFERROR(COUNTIFS(Мониторинг!#REF!,'Мониторинг тип'!$B63,Мониторинг!$A$5:$A$10,'Мониторинг тип'!J$1),0)","v":0},{"$f":"IFERROR(COUNTIFS(Мониторинг!#REF!,'Мониторинг тип'!$B63,Мониторинг!$A$5:$A$10,'Мониторинг тип'!K$1),0)","v":0},{"$f":"IFERROR(COUNTIFS(Мониторинг!#REF!,'Мониторинг тип'!$B63,Мониторинг!$A$5:$A$10,'Мониторинг тип'!L$1),0)","v":0},{"$f":"IFERROR(COUNTIFS(Мониторинг!#REF!,'Мониторинг тип'!$B63,Мониторинг!$A$5:$A$10,'Мониторинг тип'!M$1),0)","v":0},{"$f":"IFERROR(COUNTIFS(Мониторинг!#REF!,'Мониторинг тип'!$B63,Мониторинг!$A$5:$A$10,'Мониторинг тип'!N$1),0)","v":0},{"$f":"IFERROR(COUNTIFS(Мониторинг!#REF!,'Мониторинг тип'!$B63,Мониторинг!$A$5:$A$10,'Мониторинг тип'!O$1),0)","v":0},{"$f":"IFERROR(COUNTIFS(Мониторинг!#REF!,'Мониторинг тип'!$B63,Мониторинг!$A$5:$A$10,'Мониторинг тип'!P$1),0)","v":0},{"$f":"IFERROR(COUNTIFS(Мониторинг!#REF!,'Мониторинг тип'!$B63,Мониторинг!$A$5:$A$10,'Мониторинг тип'!Q$1),0)","v":0},{"$f":"IFERROR(COUNTIFS(Мониторинг!#REF!,'Мониторинг тип'!$B63,Мониторинг!$A$5:$A$10,'Мониторинг тип'!R$1),0)","v":0},{"$f":"IFERROR(COUNTIFS(Мониторинг!#REF!,'Мониторинг тип'!$B63,Мониторинг!$A$5:$A$10,'Мониторинг тип'!S$1),0)","v":0},{"$f":"IFERROR(COUNTIFS(Мониторинг!#REF!,'Мониторинг тип'!$B63,Мониторинг!$A$5:$A$10,'Мониторинг тип'!T$1),0)","v":0},{"$f":"IFERROR(COUNTIFS(Мониторинг!#REF!,'Мониторинг тип'!$B63,Мониторинг!$A$5:$A$10,'Мониторинг тип'!U$1),0)","v":0},{"$f":"IFERROR(COUNTIFS(Мониторинг!#REF!,'Мониторинг тип'!$B63,Мониторинг!$A$5:$A$10,'Мониторинг тип'!V$1),0)","v":0},{"$f":"IFERROR(COUNTIFS(Мониторинг!#REF!,'Мониторинг тип'!$B63,Мониторинг!$A$5:$A$10,'Мониторинг тип'!W$1),0)","v":0},{"$f":"IFERROR(COUNTIFS(Мониторинг!#REF!,'Мониторинг тип'!$B63,Мониторинг!$A$5:$A$10,'Мониторинг тип'!X$1),0)","v":0},{"$f":"IFERROR(COUNTIFS(Мониторинг!#REF!,'Мониторинг тип'!$B63,Мониторинг!$A$5:$A$10,'Мониторинг тип'!Y$1),0)","v":0},{"$f":"IFERROR(COUNTIFS(Мониторинг!#REF!,'Мониторинг тип'!$B63,Мониторинг!$A$5:$A$10,'Мониторинг тип'!Z$1),0)","v":0},{"$f":"IFERROR(COUNTIFS(Мониторинг!#REF!,'Мониторинг тип'!$B63,Мониторинг!$A$5:$A$10,'Мониторинг тип'!AA$1),0)","v":0},{"$f":"IFERROR(COUNTIFS(Мониторинг!#REF!,'Мониторинг тип'!$B63,Мониторинг!$A$5:$A$10,'Мониторинг тип'!AB$1),0)","v":0},{"$f":"IFERROR(COUNTIFS(Мониторинг!#REF!,'Мониторинг тип'!$B63,Мониторинг!$A$5:$A$10,'Мониторинг тип'!AC$1),0)","v":0},{"$f":"IFERROR(COUNTIFS(Мониторинг!#REF!,'Мониторинг тип'!$B63,Мониторинг!$A$5:$A$10,'Мониторинг тип'!AD$1),0)","v":0},{"$f":"IFERROR(COUNTIFS(Мониторинг!#REF!,'Мониторинг тип'!$B63,Мониторинг!$A$5:$A$10,'Мониторинг тип'!AE$1),0)","v":0},{"$f":"IFERROR(COUNTIFS(Мониторинг!#REF!,'Мониторинг тип'!$B63,Мониторинг!$A$5:$A$10,'Мониторинг тип'!AF$1),0)","v":0},{"$f":"IFERROR(COUNTIFS(Мониторинг!#REF!,'Мониторинг тип'!$B63,Мониторинг!$A$5:$A$10,'Мониторинг тип'!AG$1),0)","v":0}]
[null,"% информирования",{"$f":"IF(SUM(C61:C63)<>0,(C61*100%+(C62*0%)+(C63*100%))/SUM(C61:C63),\"\")","v":""},{"$f":"IF(SUM(D61:D63)<>0,(D61*100%+(D62*0%)+(D63*100%))/SUM(D61:D63),\"\")","v":""},"","","","","","","","","","","","","","","","","","","","","","","","","","","","",""]
["Позитивная реакция на запрос",{"$f":"Лист1!S13","v":"NA"},{"$f":"SUM(D65:AG65)","v":0},{"$f":"IFERROR(COUNTIFS(Мониторинг!$G$5:$G$10,'Мониторинг тип'!$B65,Мониторинг!$A$5:$A$10,'Мониторинг тип'!D$1),0)","v":0},{"$f":"IFERROR(COUNTIFS(Мониторинг!$G$5:$G$10,'Мониторинг тип'!$B65,Мониторинг!$A$5:$A$10,'Мониторинг тип'!E$1),0)","v":0},{"$f":"IFERROR(COUNTIFS(Мониторинг!$G$5:$G$10,'Мониторинг тип'!$B65,Мониторинг!$A$5:$A$10,'Мониторинг тип'!F$1),0)","v":0},{"$f":"IFERROR(COUNTIFS(Мониторинг!$G$5:$G$10,'Мониторинг тип'!$B65,Мониторинг!$A$5:$A$10,'Мониторинг тип'!G$1),0)","v":0},{"$f":"IFERROR(COUNTIFS(Мониторинг!$G$5:$G$10,'Мониторинг тип'!$B65,Мониторинг!$A$5:$A$10,'Мониторинг тип'!H$1),0)","v":0},{"$f":"IFERROR(COUNTIFS(Мониторинг!$G$5:$G$10,'Мониторинг тип'!$B65,Мониторинг!$A$5:$A$10,'Мониторинг тип'!I$1),0)","v":0},{"$f":"IFERROR(COUNTIFS(Мониторинг!$G$5:$G$10,'Мониторинг тип'!$B65,Мониторинг!$A$5:$A$10,'Мониторинг тип'!J$1),0)","v":0},{"$f":"IFERROR(COUNTIFS(Мониторинг!$G$5:$G$10,'Мониторинг тип'!$B65,Мониторинг!$A$5:$A$10,'Мониторинг тип'!K$1),0)","v":0},{"$f":"IFERROR(COUNTIFS(Мониторинг!$G$5:$G$10,'Мониторинг тип'!$B65,Мониторинг!$A$5:$A$10,'Мониторинг тип'!L$1),0)","v":0},{"$f":"IFERROR(COUNTIFS(Мониторинг!$G$5:$G$10,'Мониторинг тип'!$B65,Мониторинг!$A$5:$A$10,'Мониторинг тип'!M$1),0)","v":0},{"$f":"IFERROR(COUNTIFS(Мониторинг!$G$5:$G$10,'Мониторинг тип'!$B65,Мониторинг!$A$5:$A$10,'Мониторинг тип'!N$1),0)","v":0},{"$f":"IFERROR(COUNTIFS(Мониторинг!$G$5:$G$10,'Мониторинг тип'!$B65,Мониторинг!$A$5:$A$10,'Мониторинг тип'!O$1),0)","v":0},{"$f":"IFERROR(COUNTIFS(Мониторинг!$G$5:$G$10,'Мониторинг тип'!$B65,Мониторинг!$A$5:$A$10,'Мониторинг тип'!P$1),0)","v":0},{"$f":"IFERROR(COUNTIFS(Мониторинг!$G$5:$G$10,'Мониторинг тип'!$B65,Мониторинг!$A$5:$A$10,'Мониторинг тип'!Q$1),0)","v":0},{"$f":"IFERROR(COUNTIFS(Мониторинг!$G$5:$G$10,'Мониторинг тип'!$B65,Мониторинг!$A$5:$A$10,'Мониторинг тип'!R$1),0)","v":0},{"$f":"IFERROR(COUNTIFS(Мониторинг!$G$5:$G$10,'Мониторинг тип'!$B65,Мониторинг!$A$5:$A$10,'Мониторинг тип'!S$1),0)","v":0},{"$f":"IFERROR(COUNTIFS(Мониторинг!$G$5:$G$10,'Мониторинг тип'!$B65,Мониторинг!$A$5:$A$10,'Мониторинг тип'!T$1),0)","v":0},{"$f":"IFERROR(COUNTIFS(Мониторинг!$G$5:$G$10,'Мониторинг тип'!$B65,Мониторинг!$A$5:$A$10,'Мониторинг тип'!U$1),0)","v":0},{"$f":"IFERROR(COUNTIFS(Мониторинг!$G$5:$G$10,'Мониторинг тип'!$B65,Мониторинг!$A$5:$A$10,'Мониторинг тип'!V$1),0)","v":0},{"$f":"IFERROR(COUNTIFS(Мониторинг!$G$5:$G$10,'Мониторинг тип'!$B65,Мониторинг!$A$5:$A$10,'Мониторинг тип'!W$1),0)","v":0},{"$f":"IFERROR(COUNTIFS(Мониторинг!$G$5:$G$10,'Мониторинг тип'!$B65,Мониторинг!$A$5:$A$10,'Мониторинг тип'!X$1),0)","v":0},{"$f":"IFERROR(COUNTIFS(Мониторинг!$G$5:$G$10,'Мониторинг тип'!$B65,Мониторинг!$A$5:$A$10,'Мониторинг тип'!Y$1),0)","v":0},{"$f":"IFERROR(COUNTIFS(Мониторинг!$G$5:$G$10,'Мониторинг тип'!$B65,Мониторинг!$A$5:$A$10,'Мониторинг тип'!Z$1),0)","v":0},{"$f":"IFERROR(COUNTIFS(Мониторинг!$G$5:$G$10,'Мониторинг тип'!$B65,Мониторинг!$A$5:$A$10,'Мониторинг тип'!AA$1),0)","v":0},{"$f":"IFERROR(COUNTIFS(Мониторинг!$G$5:$G$10,'Мониторинг тип'!$B65,Мониторинг!$A$5:$A$10,'Мониторинг тип'!AB$1),0)","v":0},{"$f":"IFERROR(COUNTIFS(Мониторинг!$G$5:$G$10,'Мониторинг тип'!$B65,Мониторинг!$A$5:$A$10,'Мониторинг тип'!AC$1),0)","v":0},{"$f":"IFERROR(COUNTIFS(Мониторинг!$G$5:$G$10,'Мониторинг тип'!$B65,Мониторинг!$A$5:$A$10,'Мониторинг тип'!AD$1),0)","v":0},{"$f":"IFERROR(COUNTIFS(Мониторинг!$G$5:$G$10,'Мониторинг тип'!$B65,Мониторинг!$A$5:$A$10,'Мониторинг тип'!AE$1),0)","v":0},{"$f":"IFERROR(COUNTIFS(Мониторинг!$G$5:$G$10,'Мониторинг тип'!$B65,Мониторинг!$A$5:$A$10,'Мониторинг тип'!AF$1),0)","v":0},{"$f":"IFERROR(COUNTIFS(Мониторинг!$G$5:$G$10,'Мониторинг тип'!$B65,Мониторинг!$A$5:$A$10,'Мониторинг тип'!AG$1),0)","v":0}]
[null,{"$f":"Лист1!S12","v":"D"},{"$f":"SUM(D66:AG66)","v":0},{"$f":"IFERROR(COUNTIFS(Мониторинг!$G$5:$G$10,'Мониторинг тип'!$B66,Мониторинг!$A$5:$A$10,'Мониторинг тип'!D$1),0)","v":0},{"$f":"IFERROR(COUNTIFS(Мониторинг!$G$5:$G$10,'Мониторинг тип'!$B66,Мониторинг!$A$5:$A$10,'Мониторинг тип'!E$1),0)","v":0},{"$f":"IFERROR(COUNTIFS(Мониторинг!$G$5:$G$10,'Мониторинг тип'!$B66,Мониторинг!$A$5:$A$10,'Мониторинг тип'!F$1),0)","v":0},{"$f":"IFERROR(COUNTIFS(Мониторинг!$G$5:$G$10,'Мониторинг тип'!$B66,Мониторинг!$A$5:$A$10,'Мониторинг тип'!G$1),0)","v":0},{"$f":"IFERROR(COUNTIFS(Мониторинг!$G$5:$G$10,'Мониторинг тип'!$B66,Мониторинг!$A$5:$A$10,'Мониторинг тип'!H$1),0)","v":0},{"$f":"IFERROR(COUNTIFS(Мониторинг!$G$5:$G$10,'Мониторинг тип'!$B66,Мониторинг!$A$5:$A$10,'Мониторинг тип'!I$1),0)","v":0},{"$f":"IFERROR(COUNTIFS(Мониторинг!$G$5:$G$10,'Мониторинг тип'!$B66,Мониторинг!$A$5:$A$10,'Мониторинг тип'!J$1),0)","v":0},{"$f":"IFERROR(COUNTIFS(Мониторинг!$G$5:$G$10,'Мониторинг тип'!$B66,Мониторинг!$A$5:$A$10,'Мониторинг тип'!K$1),0)","v":0},{"$f":"IFERROR(COUNTIFS(Мониторинг!$G$5:$G$10,'Мониторинг тип'!$B66,Мониторинг!$A$5:$A$10,'Мониторинг тип'!L$1),0)","v":0},{"$f":"IFERROR(COUNTIFS(Мониторинг!$G$5:$G$10,'Мониторинг тип'!$B66,Мониторинг!$A$5:$A$10,'Мониторинг тип'!M$1),0)","v":0},{"$f":"IFERROR(COUNTIFS(Мониторинг!$G$5:$G$10,'Мониторинг тип'!$B66,Мониторинг!$A$5:$A$10,'Мониторинг тип'!N$1),0)","v":0},{"$f":"IFERROR(COUNTIFS(Мониторинг!$G$5:$G$10,'Мониторинг тип'!$B66,Мониторинг!$A$5:$A$10,'Мониторинг тип'!O$1),0)","v":0},{"$f":"IFERROR(COUNTIFS(Мониторинг!$G$5:$G$10,'Мониторинг тип'!$B66,Мониторинг!$A$5:$A$10,'Мониторинг тип'!P$1),0)","v":0},{"$f":"IFERROR(COUNTIFS(Мониторинг!$G$5:$G$10,'Мониторинг тип'!$B66,Мониторинг!$A$5:$A$10,'Мониторинг тип'!Q$1),0)","v":0},{"$f":"IFERROR(COUNTIFS(Мониторинг!$G$5:$G$10,'Мониторинг тип'!$B66,Мониторинг!$A$5:$A$10,'Мониторинг тип'!R$1),0)","v":0},{"$f":"IFERROR(COUNTIFS(Мониторинг!$G$5:$G$10,'Мониторинг тип'!$B66,Мониторинг!$A$5:$A$10,'Мониторинг тип'!S$1),0)","v":0},{"$f":"IFERROR(COUNTIFS(Мониторинг!$G$5:$G$10,'Мониторинг тип'!$B66,Мониторинг!$A$5:$A$10,'Мониторинг тип'!T$1),0)","v":0},{"$f":"IFERROR(COUNTIFS(Мониторинг!$G$5:$G$10,'Мониторинг тип'!$B66,Мониторинг!$A$5:$A$10,'Мониторинг тип'!U$1),0)","v":0},{"$f":"IFERROR(COUNTIFS(Мониторинг!$G$5:$G$10,'Мониторинг тип'!$B66,Мониторинг!$A$5:$A$10,'Мониторинг тип'!V$1),0)","v":0},{"$f":"IFERROR(COUNTIFS(Мониторинг!$G$5:$G$10,'Мониторинг тип'!$B66,Мониторинг!$A$5:$A$10,'Мониторинг тип'!W$1),0)","v":0},{"$f":"IFERROR(COUNTIFS(Мониторинг!$G$5:$G$10,'Мониторинг тип'!$B66,Мониторинг!$A$5:$A$10,'Мониторинг тип'!X$1),0)","v":0},{"$f":"IFERROR(COUNTIFS(Мониторинг!$G$5:$G$10,'Мониторинг тип'!$B66,Мониторинг!$A$5:$A$10,'Мониторинг тип'!Y$1),0)","v":0},{"$f":"IFERROR(COUNTIFS(Мониторинг!$G$5:$G$10,'Мониторинг тип'!$B66,Мониторинг!$A$5:$A$10,'Мониторинг тип'!Z$1),0)","v":0},{"$f":"IFERROR(COUNTIFS(Мониторинг!$G$5:$G$10,'Мониторинг тип'!$B66,Мониторинг!$A$5:$A$10,'Мониторинг тип'!AA$1),0)","v":0},{"$f":"IFERROR(COUNTIFS(Мониторинг!$G$5:$G$10,'Мониторинг тип'!$B66,Мониторинг!$A$5:$A$10,'Мониторинг тип'!AB$1),0)","v":0},{"$f":"IFERROR(COUNTIFS(Мониторинг!$G$5:$G$10,'Мониторинг тип'!$B66,Мониторинг!$A$5:$A$10,'Мониторинг тип'!AC$1),0)","v":0},{"$f":"IFERROR(COUNTIFS(Мониторинг!$G$5:$G$10,'Мониторинг тип'!$B66,Мониторинг!$A$5:$A$10,'Мониторинг тип'!AD$1),0)","v":0},{"$f":"IFERROR(COUNTIFS(Мониторинг!$G$5:$G$10,'Мониторинг тип'!$B66,Мониторинг!$A$5:$A$10,'Мониторинг тип'!AE$1),0)","v":0},{"$f":"IFERROR(COUNTIFS(Мониторинг!$G$5:$G$10,'Мониторинг тип'!$B66,Мониторинг!$A$5:$A$10,'Мониторинг тип'!AF$1),0)","v":0},{"$f":"IFERROR(COUNTIFS(Мониторинг!$G$5:$G$10,'Мониторинг тип'!$B66,Мониторинг!$A$5:$A$10,'Мониторинг тип'!AG$1),0)","v":0}]
[null,"Нет необходимости",{"$f":"SUM(D67:AG67)","v":0},{"$f":"IFERROR(COUNTIFS(Мониторинг!$G$5:$G$10,'Мониторинг тип'!$B67,Мониторинг!$A$5:$A$10,'Мониторинг тип'!D$1),0)","v":0},{"$f":"IFERROR(COUNTIFS(Мониторинг!$G$5:$G$10,'Мониторинг тип'!$B67,Мониторинг!$A$5:$A$10,'Мониторинг тип'!E$1),0)","v":0},{"$f":"IFERROR(COUNTIFS(Мониторинг!$G$5:$G$10,'Мониторинг тип'!$B67,Мониторинг!$A$5:$A$10,'Мониторинг тип'!F$1),0)","v":0},{"$f":"IFERROR(COUNTIFS(Мониторинг!$G$5:$G$10,'Мониторинг тип'!$B67,Мониторинг!$A$5:$A$10,'Мониторинг тип'!G$1),0)","v":0},{"$f":"IFERROR(COUNTIFS(Мониторинг!$G$5:$G$10,'Мониторинг тип'!$B67,Мониторинг!$A$5:$A$10,'Мониторинг тип'!H$1),0)","v":0},{"$f":"IFERROR(COUNTIFS(Мониторинг!$G$5:$G$10,'Мониторинг тип'!$B67,Мониторинг!$A$5:$A$10,'Мониторинг тип'!I$1),0)","v":0},{"$f":"IFERROR(COUNTIFS(Мониторинг!$G$5:$G$10,'Мониторинг тип'!$B67,Мониторинг!$A$5:$A$10,'Мониторинг тип'!J$1),0)","v":0},{"$f":"IFERROR(COUNTIFS(Мониторинг!$G$5:$G$10,'Мониторинг тип'!$B67,Мониторинг!$A$5:$A$10,'Мониторинг тип'!K$1),0)","v":0},{"$f":"IFERROR(COUNTIFS(Мониторинг!$G$5:$G$10,'Мониторинг тип'!$B67,Мониторинг!$A$5:$A$10,'Мониторинг тип'!L$1),0)","v":0},{"$f":"IFERROR(COUNTIFS(Мониторинг!$G$5:$G$10,'Мониторинг тип'!$B67,Мониторинг!$A$5:$A$10,'Мониторинг тип'!M$1),0)","v":0},{"$f":"IFERROR(COUNTIFS(Мониторинг!$G$5:$G$10,'Мониторинг тип'!$B67,Мониторинг!$A$5:$A$10,'Мониторинг тип'!N$1),0)","v":0},{"$f":"IFERROR(COUNTIFS(Мониторинг!$G$5:$G$10,'Мониторинг тип'!$B67,Мониторинг!$A$5:$A$10,'Мониторинг тип'!O$1),0)","v":0},{"$f":"IFERROR(COUNTIFS(Мониторинг!$G$5:$G$10,'Мониторинг тип'!$B67,Мониторинг!$A$5:$A$10,'Мониторинг тип'!P$1),0)","v":0},{"$f":"IFERROR(COUNTIFS(Мониторинг!$G$5:$G$10,'Мониторинг тип'!$B67,Мониторинг!$A$5:$A$10,'Мониторинг тип'!Q$1),0)","v":0},{"$f":"IFERROR(COUNTIFS(Мониторинг!$G$5:$G$10,'Мониторинг тип'!$B67,Мониторинг!$A$5:$A$10,'Мониторинг тип'!R$1),0)","v":0},{"$f":"IFERROR(COUNTIFS(Мониторинг!$G$5:$G$10,'Мониторинг тип'!$B67,Мониторинг!$A$5:$A$10,'Мониторинг тип'!S$1),0)","v":0},{"$f":"IFERROR(COUNTIFS(Мониторинг!$G$5:$G$10,'Мониторинг тип'!$B67,Мониторинг!$A$5:$A$10,'Мониторинг тип'!T$1),0)","v":0},{"$f":"IFERROR(COUNTIFS(Мониторинг!$G$5:$G$10,'Мониторинг тип'!$B67,Мониторинг!$A$5:$A$10,'Мониторинг тип'!U$1),0)","v":0},{"$f":"IFERROR(COUNTIFS(Мониторинг!$G$5:$G$10,'Мониторинг тип'!$B67,Мониторинг!$A$5:$A$10,'Мониторинг тип'!V$1),0)","v":0},{"$f":"IFERROR(COUNTIFS(Мониторинг!$G$5:$G$10,'Мониторинг тип'!$B67,Мониторинг!$A$5:$A$10,'Мониторинг тип'!W$1),0)","v":0},{"$f":"IFERROR(COUNTIFS(Мониторинг!$G$5:$G$10,'Мониторинг тип'!$B67,Мониторинг!$A$5:$A$10,'Мониторинг тип'!X$1),0)","v":0},{"$f":"IFERROR(COUNTIFS(Мониторинг!$G$5:$G$10,'Мониторинг тип'!$B67,Мониторинг!$A$5:$A$10,'Мониторинг тип'!Y$1),0)","v":0},{"$f":"IFERROR(COUNTIFS(Мониторинг!$G$5:$G$10,'Мониторинг тип'!$B67,Мониторинг!$A$5:$A$10,'Мониторинг тип'!Z$1),0)","v":0},{"$f":"IFERROR(COUNTIFS(Мониторинг!$G$5:$G$10,'Мониторинг тип'!$B67,Мониторинг!$A$5:$A$10,'Мониторинг тип'!AA$1),0)","v":0},{"$f":"IFERROR(COUNTIFS(Мониторинг!$G$5:$G$10,'Мониторинг тип'!$B67,Мониторинг!$A$5:$A$10,'Мониторинг тип'!AB$1),0)","v":0},{"$f":"IFERROR(COUNTIFS(Мониторинг!$G$5:$G$10,'Мониторинг тип'!$B67,Мониторинг!$A$5:$A$10,'Мониторинг тип'!AC$1),0)","v":0},{"$f":"IFERROR(COUNTIFS(Мониторинг!$G$5:$G$10,'Мониторинг тип'!$B67,Мониторинг!$A$5:$A$10,'Мониторинг тип'!AD$1),0)","v":0},{"$f":"IFERROR(COUNTIFS(Мониторинг!$G$5:$G$10,'Мониторинг тип'!$B67,Мониторинг!$A$5:$A$10,'Мониторинг тип'!AE$1),0)","v":0},{"$f":"IFERROR(COUNTIFS(Мониторинг!$G$5:$G$10,'Мониторинг тип'!$B67,Мониторинг!$A$5:$A$10,'Мониторинг тип'!AF$1),0)","v":0},{"$f":"IFERROR(COUNTIFS(Мониторинг!$G$5:$G$10,'Мониторинг тип'!$B67,Мониторинг!$A$5:$A$10,'Мониторинг тип'!AG$1),0)","v":0}]
[null,"% информирования",{"$f":"IF(SUM(C65:C67)<>0,(C65*100%+(C66*0%)+(C67*100%))/SUM(C65:C67),\"\")","v":""},{"$f":"IF(SUM(D65:D67)<>0,(D65*100%+(D66*0%)+(D67*100%))/SUM(D65:D67),\"\")","v":""},"","","","","","","","","","","","","","","","","","","","","","","","","","","","",""]
["Личностное обращение к клиенту",{"$f":"Лист1!T13","v":"NA"},{"$f":"SUM(D69:AG69)","v":0},{"$f":"IFERROR(COUNTIFS(Мониторинг!$H$5:$H$10,'Мониторинг тип'!$B69,Мониторинг!$A$5:$A$10,'Мониторинг тип'!D$1),0)","v":0},{"$f":"IFERROR(COUNTIFS(Мониторинг!$H$5:$H$10,'Мониторинг тип'!$B69,Мониторинг!$A$5:$A$10,'Мониторинг тип'!E$1),0)","v":0},{"$f":"IFERROR(COUNTIFS(Мониторинг!$H$5:$H$10,'Мониторинг тип'!$B69,Мониторинг!$A$5:$A$10,'Мониторинг тип'!F$1),0)","v":0},{"$f":"IFERROR(COUNTIFS(Мониторинг!$H$5:$H$10,'Мониторинг тип'!$B69,Мониторинг!$A$5:$A$10,'Мониторинг тип'!G$1),0)","v":0},{"$f":"IFERROR(COUNTIFS(Мониторинг!$H$5:$H$10,'Мониторинг тип'!$B69,Мониторинг!$A$5:$A$10,'Мониторинг тип'!H$1),0)","v":0},{"$f":"IFERROR(COUNTIFS(Мониторинг!$H$5:$H$10,'Мониторинг тип'!$B69,Мониторинг!$A$5:$A$10,'Мониторинг тип'!I$1),0)","v":0},{"$f":"IFERROR(COUNTIFS(Мониторинг!$H$5:$H$10,'Мониторинг тип'!$B69,Мониторинг!$A$5:$A$10,'Мониторинг тип'!J$1),0)","v":0},{"$f":"IFERROR(COUNTIFS(Мониторинг!$H$5:$H$10,'Мониторинг тип'!$B69,Мониторинг!$A$5:$A$10,'Мониторинг тип'!K$1),0)","v":0},{"$f":"IFERROR(COUNTIFS(Мониторинг!$H$5:$H$10,'Мониторинг тип'!$B69,Мониторинг!$A$5:$A$10,'Мониторинг тип'!L$1),0)","v":0},{"$f":"IFERROR(COUNTIFS(Мониторинг!$H$5:$H$10,'Мониторинг тип'!$B69,Мониторинг!$A$5:$A$10,'Мониторинг тип'!M$1),0)","v":0},{"$f":"IFERROR(COUNTIFS(Мониторинг!$H$5:$H$10,'Мониторинг тип'!$B69,Мониторинг!$A$5:$A$10,'Мониторинг тип'!N$1),0)","v":0},{"$f":"IFERROR(COUNTIFS(Мониторинг!$H$5:$H$10,'Мониторинг тип'!$B69,Мониторинг!$A$5:$A$10,'Мониторинг тип'!O$1),0)","v":0},{"$f":"IFERROR(COUNTIFS(Мониторинг!$H$5:$H$10,'Мониторинг тип'!$B69,Мониторинг!$A$5:$A$10,'Мониторинг тип'!P$1),0)","v":0},{"$f":"IFERROR(COUNTIFS(Мониторинг!$H$5:$H$10,'Мониторинг тип'!$B69,Мониторинг!$A$5:$A$10,'Мониторинг тип'!Q$1),0)","v":0},{"$f":"IFERROR(COUNTIFS(Мониторинг!$H$5:$H$10,'Мониторинг тип'!$B69,Мониторинг!$A$5:$A$10,'Мониторинг тип'!R$1),0)","v":0},{"$f":"IFERROR(COUNTIFS(Мониторинг!$H$5:$H$10,'Мониторинг тип'!$B69,Мониторинг!$A$5:$A$10,'Мониторинг тип'!S$1),0)","v":0},{"$f":"IFERROR(COUNTIFS(Мониторинг!$H$5:$H$10,'Мониторинг тип'!$B69,Мониторинг!$A$5:$A$10,'Мониторинг тип'!T$1),0)","v":0},{"$f":"IFERROR(COUNTIFS(Мониторинг!$H$5:$H$10,'Мониторинг тип'!$B69,Мониторинг!$A$5:$A$10,'Мониторинг тип'!U$1),0)","v":0},{"$f":"IFERROR(COUNTIFS(Мониторинг!$H$5:$H$10,'Мониторинг тип'!$B69,Мониторинг!$A$5:$A$10,'Мониторинг тип'!V$1),0)","v":0},{"$f":"IFERROR(COUNTIFS(Мониторинг!$H$5:$H$10,'Мониторинг тип'!$B69,Мониторинг!$A$5:$A$10,'Мониторинг тип'!W$1),0)","v":0},{"$f":"IFERROR(COUNTIFS(Мониторинг!$H$5:$H$10,'Мониторинг тип'!$B69,Мониторинг!$A$5:$A$10,'Мониторинг тип'!X$1),0)","v":0},{"$f":"IFERROR(COUNTIFS(Мониторинг!$H$5:$H$10,'Мониторинг тип'!$B69,Мониторинг!$A$5:$A$10,'Мониторинг тип'!Y$1),0)","v":0},{"$f":"IFERROR(COUNTIFS(Мониторинг!$H$5:$H$10,'Мониторинг тип'!$B69,Мониторинг!$A$5:$A$10,'Мониторинг тип'!Z$1),0)","v":0},{"$f":"IFERROR(COUNTIFS(Мониторинг!$H$5:$H$10,'Мониторинг тип'!$B69,Мониторинг!$A$5:$A$10,'Мониторинг тип'!AA$1),0)","v":0},{"$f":"IFERROR(COUNTIFS(Мониторинг!$H$5:$H$10,'Мониторинг тип'!$B69,Мониторинг!$A$5:$A$10,'Мониторинг тип'!AB$1),0)","v":0},{"$f":"IFERROR(COUNTIFS(Мониторинг!$H$5:$H$10,'Мониторинг тип'!$B69,Мониторинг!$A$5:$A$10,'Мониторинг тип'!AC$1),0)","v":0},{"$f":"IFERROR(COUNTIFS(Мониторинг!$H$5:$H$10,'Мониторинг тип'!$B69,Мониторинг!$A$5:$A$10,'Мониторинг тип'!AD$1),0)","v":0},{"$f":"IFERROR(COUNTIFS(Мониторинг!$H$5:$H$10,'Мониторинг тип'!$B69,Мониторинг!$A$5:$A$10,'Мониторинг тип'!AE$1),0)","v":0},{"$f":"IFERROR(COUNTIFS(Мониторинг!$H$5:$H$10,'Мониторинг тип'!$B69,Мониторинг!$A$5:$A$10,'Мониторинг тип'!AF$1),0)","v":0},{"$f":"IFERROR(COUNTIFS(Мониторинг!$H$5:$H$10,'Мониторинг тип'!$B69,Мониторинг!$A$5:$A$10,'Мониторинг тип'!AG$1),0)","v":0}]
[null,{"$f":"Лист1!T14","v":0},{"$f":"SUM(D70:AG70)","v":0},{"$f":"IFERROR(COUNTIFS(Мониторинг!$H$5:$H$10,'Мониторинг тип'!$B70,Мониторинг!$A$5:$A$10,'Мониторинг тип'!D$1),0)","v":0},{"$f":"IFERROR(COUNTIFS(Мониторинг!$H$5:$H$10,'Мониторинг тип'!$B70,Мониторинг!$A$5:$A$10,'Мониторинг тип'!E$1),0)","v":0},{"$f":"IFERROR(COUNTIFS(Мониторинг!$H$5:$H$10,'Мониторинг тип'!$B70,Мониторинг!$A$5:$A$10,'Мониторинг тип'!F$1),0)","v":0},{"$f":"IFERROR(COUNTIFS(Мониторинг!$H$5:$H$10,'Мониторинг тип'!$B70,Мониторинг!$A$5:$A$10,'Мониторинг тип'!G$1),0)","v":0},{"$f":"IFERROR(COUNTIFS(Мониторинг!$H$5:$H$10,'Мониторинг тип'!$B70,Мониторинг!$A$5:$A$10,'Мониторинг тип'!H$1),0)","v":0},{"$f":"IFERROR(COUNTIFS(Мониторинг!$H$5:$H$10,'Мониторинг тип'!$B70,Мониторинг!$A$5:$A$10,'Мониторинг тип'!I$1),0)","v":0},{"$f":"IFERROR(COUNTIFS(Мониторинг!$H$5:$H$10,'Мониторинг тип'!$B70,Мониторинг!$A$5:$A$10,'Мониторинг тип'!J$1),0)","v":0},{"$f":"IFERROR(COUNTIFS(Мониторинг!$H$5:$H$10,'Мониторинг тип'!$B70,Мониторинг!$A$5:$A$10,'Мониторинг тип'!K$1),0)","v":0},{"$f":"IFERROR(COUNTIFS(Мониторинг!$H$5:$H$10,'Мониторинг тип'!$B70,Мониторинг!$A$5:$A$10,'Мониторинг тип'!L$1),0)","v":0},{"$f":"IFERROR(COUNTIFS(Мониторинг!$H$5:$H$10,'Мониторинг тип'!$B70,Мониторинг!$A$5:$A$10,'Мониторинг тип'!M$1),0)","v":0},{"$f":"IFERROR(COUNTIFS(Мониторинг!$H$5:$H$10,'Мониторинг тип'!$B70,Мониторинг!$A$5:$A$10,'Мониторинг тип'!N$1),0)","v":0},{"$f":"IFERROR(COUNTIFS(Мониторинг!$H$5:$H$10,'Мониторинг тип'!$B70,Мониторинг!$A$5:$A$10,'Мониторинг тип'!O$1),0)","v":0},{"$f":"IFERROR(COUNTIFS(Мониторинг!$H$5:$H$10,'Мониторинг тип'!$B70,Мониторинг!$A$5:$A$10,'Мониторинг тип'!P$1),0)","v":0},{"$f":"IFERROR(COUNTIFS(Мониторинг!$H$5:$H$10,'Мониторинг тип'!$B70,Мониторинг!$A$5:$A$10,'Мониторинг тип'!Q$1),0)","v":0},{"$f":"IFERROR(COUNTIFS(Мониторинг!$H$5:$H$10,'Мониторинг тип'!$B70,Мониторинг!$A$5:$A$10,'Мониторинг тип'!R$1),0)","v":0},{"$f":"IFERROR(COUNTIFS(Мониторинг!$H$5:$H$10,'Мониторинг тип'!$B70,Мониторинг!$A$5:$A$10,'Мониторинг тип'!S$1),0)","v":0},{"$f":"IFERROR(COUNTIFS(Мониторинг!$H$5:$H$10,'Мониторинг тип'!$B70,Мониторинг!$A$5:$A$10,'Мониторинг тип'!T$1),0)","v":0},{"$f":"IFERROR(COUNTIFS(Мониторинг!$H$5:$H$10,'Мониторинг тип'!$B70,Мониторинг!$A$5:$A$10,'Мониторинг тип'!U$1),0)","v":0},{"$f":"IFERROR(COUNTIFS(Мониторинг!$H$5:$H$10,'Мониторинг тип'!$B70,Мониторинг!$A$5:$A$10,'Мониторинг тип'!V$1),0)","v":0},{"$f":"IFERROR(COUNTIFS(Мониторинг!$H$5:$H$10,'Мониторинг тип'!$B70,Мониторинг!$A$5:$A$10,'Мониторинг тип'!W$1),0)","v":0},{"$f":"IFERROR(COUNTIFS(Мониторинг!$H$5:$H$10,'Мониторинг тип'!$B70,Мониторинг!$A$5:$A$10,'Мониторинг тип'!X$1),0)","v":0},{"$f":"IFERROR(COUNTIFS(Мониторинг!$H$5:$H$10,'Мониторинг тип'!$B70,Мониторинг!$A$5:$A$10,'Мониторинг тип'!Y$1),0)","v":0},{"$f":"IFERROR(COUNTIFS(Мониторинг!$H$5:$H$10,'Мониторинг тип'!$B70,Мониторинг!$A$5:$A$10,'Мониторинг тип'!Z$1),0)","v":0},{"$f":"IFERROR(COUNTIFS(Мониторинг!$H$5:$H$10,'Мониторинг тип'!$B70,Мониторинг!$A$5:$A$10,'Мониторинг тип'!AA$1),0)","v":0},{"$f":"IFERROR(COUNTIFS(Мониторинг!$H$5:$H$10,'Мониторинг тип'!$B70,Мониторинг!$A$5:$A$10,'Мониторинг тип'!AB$1),0)","v":0},{"$f":"IFERROR(COUNTIFS(Мониторинг!$H$5:$H$10,'Мониторинг тип'!$B70,Мониторинг!$A$5:$A$10,'Мониторинг тип'!AC$1),0)","v":0},{"$f":"IFERROR(COUNTIFS(Мониторинг!$H$5:$H$10,'Мониторинг тип'!$B70,Мониторинг!$A$5:$A$10,'Мониторинг тип'!AD$1),0)","v":0},{"$f":"IFERROR(COUNTIFS(Мониторинг!$H$5:$H$10,'Мониторинг тип'!$B70,Мониторинг!$A$5:$A$10,'Мониторинг тип'!AE$1),0)","v":0},{"$f":"IFERROR(COUNTIFS(Мониторинг!$H$5:$H$10,'Мониторинг тип'!$B70,Мониторинг!$A$5:$A$10,'Мониторинг тип'!AF$1),0)","v":0},{"$f":"IFERROR(COUNTIFS(Мониторинг!$H$5:$H$10,'Мониторинг тип'!$B70,Мониторинг!$A$5:$A$10,'Мониторинг тип'!AG$1),0)","v":0}]
[null,"% информирования",{"$f":"IF(SUM(C69:C70)<>0,(C69*100%+(C70*0%))/SUM(C69:C70),\"\")","v":""},{"$f":"IF(SUM(D69:D70)<>0,(D69*100%+(D70*0%))/SUM(D69:D70),\"\")","v":""},"","","","","","","","","","","","","","","","","","","","","","","","","","","","",""]
["Грамотность и культура речи",{"$f":"Лист1!U13","v":0},{"$f":"SUM(D72:AG72)","v":0},{"$f":"IFERROR(COUNTIFS(Мониторинг!$I$5:$I$10,'Мониторинг тип'!$B72,Мониторинг!$A$5:$A$10,'Мониторинг тип'!D$1),0)","v":0},{"$f":"IFERROR(COUNTIFS(Мониторинг!$I$5:$I$10,'Мониторинг тип'!$B72,Мониторинг!$A$5:$A$10,'Мониторинг тип'!E$1),0)","v":0},{"$f":"IFERROR(COUNTIFS(Мониторинг!$I$5:$I$10,'Мониторинг тип'!$B72,Мониторинг!$A$5:$A$10,'Мониторинг тип'!F$1),0)","v":0},{"$f":"IFERROR(COUNTIFS(Мониторинг!$I$5:$I$10,'Мониторинг тип'!$B72,Мониторинг!$A$5:$A$10,'Мониторинг тип'!G$1),0)","v":0},{"$f":"IFERROR(COUNTIFS(Мониторинг!$I$5:$I$10,'Мониторинг тип'!$B72,Мониторинг!$A$5:$A$10,'Мониторинг тип'!H$1),0)","v":0},{"$f":"IFERROR(COUNTIFS(Мониторинг!$I$5:$I$10,'Мониторинг тип'!$B72,Мониторинг!$A$5:$A$10,'Мониторинг тип'!I$1),0)","v":0},{"$f":"IFERROR(COUNTIFS(Мониторинг!$I$5:$I$10,'Мониторинг тип'!$B72,Мониторинг!$A$5:$A$10,'Мониторинг тип'!J$1),0)","v":0},{"$f":"IFERROR(COUNTIFS(Мониторинг!$I$5:$I$10,'Мониторинг тип'!$B72,Мониторинг!$A$5:$A$10,'Мониторинг тип'!K$1),0)","v":0},{"$f":"IFERROR(COUNTIFS(Мониторинг!$I$5:$I$10,'Мониторинг тип'!$B72,Мониторинг!$A$5:$A$10,'Мониторинг тип'!L$1),0)","v":0},{"$f":"IFERROR(COUNTIFS(Мониторинг!$I$5:$I$10,'Мониторинг тип'!$B72,Мониторинг!$A$5:$A$10,'Мониторинг тип'!M$1),0)","v":0},{"$f":"IFERROR(COUNTIFS(Мониторинг!$I$5:$I$10,'Мониторинг тип'!$B72,Мониторинг!$A$5:$A$10,'Мониторинг тип'!N$1),0)","v":0},{"$f":"IFERROR(COUNTIFS(Мониторинг!$I$5:$I$10,'Мониторинг тип'!$B72,Мониторинг!$A$5:$A$10,'Мониторинг тип'!O$1),0)","v":0},{"$f":"IFERROR(COUNTIFS(Мониторинг!$I$5:$I$10,'Мониторинг тип'!$B72,Мониторинг!$A$5:$A$10,'Мониторинг тип'!P$1),0)","v":0},{"$f":"IFERROR(COUNTIFS(Мониторинг!$I$5:$I$10,'Мониторинг тип'!$B72,Мониторинг!$A$5:$A$10,'Мониторинг тип'!Q$1),0)","v":0},{"$f":"IFERROR(COUNTIFS(Мониторинг!$I$5:$I$10,'Мониторинг тип'!$B72,Мониторинг!$A$5:$A$10,'Мониторинг тип'!R$1),0)","v":0},{"$f":"IFERROR(COUNTIFS(Мониторинг!$I$5:$I$10,'Мониторинг тип'!$B72,Мониторинг!$A$5:$A$10,'Мониторинг тип'!S$1),0)","v":0},{"$f":"IFERROR(COUNTIFS(Мониторинг!$I$5:$I$10,'Мониторинг тип'!$B72,Мониторинг!$A$5:$A$10,'Мониторинг тип'!T$1),0)","v":0},{"$f":"IFERROR(COUNTIFS(Мониторинг!$I$5:$I$10,'Мониторинг тип'!$B72,Мониторинг!$A$5:$A$10,'Мониторинг тип'!U$1),0)","v":0},{"$f":"IFERROR(COUNTIFS(Мониторинг!$I$5:$I$10,'Мониторинг тип'!$B72,Мониторинг!$A$5:$A$10,'Мониторинг тип'!V$1),0)","v":0},{"$f":"IFERROR(COUNTIFS(Мониторинг!$I$5:$I$10,'Мониторинг тип'!$B72,Мониторинг!$A$5:$A$10,'Мониторинг тип'!W$1),0)","v":0},{"$f":"IFERROR(COUNTIFS(Мониторинг!$I$5:$I$10,'Мониторинг тип'!$B72,Мониторинг!$A$5:$A$10,'Мониторинг тип'!X$1),0)","v":0},{"$f":"IFERROR(COUNTIFS(Мониторинг!$I$5:$I$10,'Мониторинг тип'!$B72,Мониторинг!$A$5:$A$10,'Мониторинг тип'!Y$1),0)","v":0},{"$f":"IFERROR(COUNTIFS(Мониторинг!$I$5:$I$10,'Мониторинг тип'!$B72,Мониторинг!$A$5:$A$10,'Мониторинг тип'!Z$1),0)","v":0},{"$f":"IFERROR(COUNTIFS(Мониторинг!$I$5:$I$10,'Мониторинг тип'!$B72,Мониторинг!$A$5:$A$10,'Мониторинг тип'!AA$1),0)","v":0},{"$f":"IFERROR(COUNTIFS(Мониторинг!$I$5:$I$10,'Мониторинг тип'!$B72,Мониторинг!$A$5:$A$10,'Мониторинг тип'!AB$1),0)","v":0},{"$f":"IFERROR(COUNTIFS(Мониторинг!$I$5:$I$10,'Мониторинг тип'!$B72,Мониторинг!$A$5:$A$10,'Мониторинг тип'!AC$1),0)","v":0},{"$f":"IFERROR(COUNTIFS(Мониторинг!$I$5:$I$10,'Мониторинг тип'!$B72,Мониторинг!$A$5:$A$10,'Мониторинг тип'!AD$1),0)","v":0},{"$f":"IFERROR(COUNTIFS(Мониторинг!$I$5:$I$10,'Мониторинг тип'!$B72,Мониторинг!$A$5:$A$10,'Мониторинг тип'!AE$1),0)","v":0},{"$f":"IFERROR(COUNTIFS(Мониторинг!$I$5:$I$10,'Мониторинг тип'!$B72,Мониторинг!$A$5:$A$10,'Мониторинг тип'!AF$1),0)","v":0},{"$f":"IFERROR(COUNTIFS(Мониторинг!$I$5:$I$10,'Мониторинг тип'!$B72,Мониторинг!$A$5:$A$10,'Мониторинг тип'!AG$1),0)","v":0}]
[null,{"$f":"Лист1!U14","v":0},{"$f":"SUM(D73:AG73)","v":0},{"$f":"IFERROR(COUNTIFS(Мониторинг!$I$5:$I$10,'Мониторинг тип'!$B73,Мониторинг!$A$5:$A$10,'Мониторинг тип'!D$1),0)","v":0},{"$f":"IFERROR(COUNTIFS(Мониторинг!$I$5:$I$10,'Мониторинг тип'!$B73,Мониторинг!$A$5:$A$10,'Мониторинг тип'!E$1),0)","v":0},{"$f":"IFERROR(COUNTIFS(Мониторинг!$I$5:$I$10,'Мониторинг тип'!$B73,Мониторинг!$A$5:$A$10,'Мониторинг тип'!F$1),0)","v":0},{"$f":"IFERROR(COUNTIFS(Мониторинг!$I$5:$I$10,'Мониторинг тип'!$B73,Мониторинг!$A$5:$A$10,'Мониторинг тип'!G$1),0)","v":0},{"$f":"IFERROR(COUNTIFS(Мониторинг!$I$5:$I$10,'Мониторинг тип'!$B73,Мониторинг!$A$5:$A$10,'Мониторинг тип'!H$1),0)","v":0},{"$f":"IFERROR(COUNTIFS(Мониторинг!$I$5:$I$10,'Мониторинг тип'!$B73,Мониторинг!$A$5:$A$10,'Мониторинг тип'!I$1),0)","v":0},{"$f":"IFERROR(COUNTIFS(Мониторинг!$I$5:$I$10,'Мониторинг тип'!$B73,Мониторинг!$A$5:$A$10,'Мониторинг тип'!J$1),0)","v":0},{"$f":"IFERROR(COUNTIFS(Мониторинг!$I$5:$I$10,'Мониторинг тип'!$B73,Мониторинг!$A$5:$A$10,'Мониторинг тип'!K$1),0)","v":0},{"$f":"IFERROR(COUNTIFS(Мониторинг!$I$5:$I$10,'Мониторинг тип'!$B73,Мониторинг!$A$5:$A$10,'Мониторинг тип'!L$1),0)","v":0},{"$f":"IFERROR(COUNTIFS(Мониторинг!$I$5:$I$10,'Мониторинг тип'!$B73,Мониторинг!$A$5:$A$10,'Мониторинг тип'!M$1),0)","v":0},{"$f":"IFERROR(COUNTIFS(Мониторинг!$I$5:$I$10,'Мониторинг тип'!$B73,Мониторинг!$A$5:$A$10,'Мониторинг тип'!N$1),0)","v":0},{"$f":"IFERROR(COUNTIFS(Мониторинг!$I$5:$I$10,'Мониторинг тип'!$B73,Мониторинг!$A$5:$A$10,'Мониторинг тип'!O$1),0)","v":0},{"$f":"IFERROR(COUNTIFS(Мониторинг!$I$5:$I$10,'Мониторинг тип'!$B73,Мониторинг!$A$5:$A$10,'Мониторинг тип'!P$1),0)","v":0},{"$f":"IFERROR(COUNTIFS(Мониторинг!$I$5:$I$10,'Мониторинг тип'!$B73,Мониторинг!$A$5:$A$10,'Мониторинг тип'!Q$1),0)","v":0},{"$f":"IFERROR(COUNTIFS(Мониторинг!$I$5:$I$10,'Мониторинг тип'!$B73,Мониторинг!$A$5:$A$10,'Мониторинг тип'!R$1),0)","v":0},{"$f":"IFERROR(COUNTIFS(Мониторинг!$I$5:$I$10,'Мониторинг тип'!$B73,Мониторинг!$A$5:$A$10,'Мониторинг тип'!S$1),0)","v":0},{"$f":"IFERROR(COUNTIFS(Мониторинг!$I$5:$I$10,'Мониторинг тип'!$B73,Мониторинг!$A$5:$A$10,'Мониторинг тип'!T$1),0)","v":0},{"$f":"IFERROR(COUNTIFS(Мониторинг!$I$5:$I$10,'Мониторинг тип'!$B73,Мониторинг!$A$5:$A$10,'Мониторинг тип'!U$1),0)","v":0},{"$f":"IFERROR(COUNTIFS(Мониторинг!$I$5:$I$10,'Мониторинг тип'!$B73,Мониторинг!$A$5:$A$10,'Мониторинг тип'!V$1),0)","v":0},{"$f":"IFERROR(COUNTIFS(Мониторинг!$I$5:$I$10,'Мониторинг тип'!$B73,Мониторинг!$A$5:$A$10,'Мониторинг тип'!W$1),0)","v":0},{"$f":"IFERROR(COUNTIFS(Мониторинг!$I$5:$I$10,'Мониторинг тип'!$B73,Мониторинг!$A$5:$A$10,'Мониторинг тип'!X$1),0)","v":0},{"$f":"IFERROR(COUNTIFS(Мониторинг!$I$5:$I$10,'Мониторинг тип'!$B73,Мониторинг!$A$5:$A$10,'Мониторинг тип'!Y$1),0)","v":0},{"$f":"IFERROR(COUNTIFS(Мониторинг!$I$5:$I$10,'Мониторинг тип'!$B73,Мониторинг!$A$5:$A$10,'Мониторинг тип'!Z$1),0)","v":0},{"$f":"IFERROR(COUNTIFS(Мониторинг!$I$5:$I$10,'Мониторинг тип'!$B73,Мониторинг!$A$5:$A$10,'Мониторинг тип'!AA$1),0)","v":0},{"$f":"IFERROR(COUNTIFS(Мониторинг!$I$5:$I$10,'Мониторинг тип'!$B73,Мониторинг!$A$5:$A$10,'Мониторинг тип'!AB$1),0)","v":0},{"$f":"IFERROR(COUNTIFS(Мониторинг!$I$5:$I$10,'Мониторинг тип'!$B73,Мониторинг!$A$5:$A$10,'Мониторинг тип'!AC$1),0)","v":0},{"$f":"IFERROR(COUNTIFS(Мониторинг!$I$5:$I$10,'Мониторинг тип'!$B73,Мониторинг!$A$5:$A$10,'Мониторинг тип'!AD$1),0)","v":0},{"$f":"IFERROR(COUNTIFS(Мониторинг!$I$5:$I$10,'Мониторинг тип'!$B73,Мониторинг!$A$5:$A$10,'Мониторинг тип'!AE$1),0)","v":0},{"$f":"IFERROR(COUNTIFS(Мониторинг!$I$5:$I$10,'Мониторинг тип'!$B73,Мониторинг!$A$5:$A$10,'Мониторинг тип'!AF$1),0)","v":0},{"$f":"IFERROR(COUNTIFS(Мониторинг!$I$5:$I$10,'Мониторинг тип'!$B73,Мониторинг!$A$5:$A$10,'Мониторинг тип'!AG$1),0)","v":0}]
[null,"% информирования",{"$f":"IF(SUM(C72:C73)<>0,(C72*100%+(C73*0%))/SUM(C72:C73),\"\")","v":""},{"$f":"IF(SUM(D72:D73)<>0,(D72*100%+(D73*0%))/SUM(D72:D73),\"\")","v":""},"","","","","","","","","","","","","","","","","","","","","","","","","","","","",""]
["Доброжелательный тон",{"$f":"Лист1!V13","v":0},{"$f":"SUM(D75:AG75)","v":0},{"$f":"IFERROR(COUNTIFS(Мониторинг!$J$5:$J$10,'Мониторинг тип'!$B75,Мониторинг!$A$5:$A$10,'Мониторинг тип'!D$1),0)","v":0},{"$f":"IFERROR(COUNTIFS(Мониторинг!$J$5:$J$10,'Мониторинг тип'!$B75,Мониторинг!$A$5:$A$10,'Мониторинг тип'!E$1),0)","v":0},{"$f":"IFERROR(COUNTIFS(Мониторинг!$J$5:$J$10,'Мониторинг тип'!$B75,Мониторинг!$A$5:$A$10,'Мониторинг тип'!F$1),0)","v":0},{"$f":"IFERROR(COUNTIFS(Мониторинг!$J$5:$J$10,'Мониторинг тип'!$B75,Мониторинг!$A$5:$A$10,'Мониторинг тип'!G$1),0)","v":0},{"$f":"IFERROR(COUNTIFS(Мониторинг!$J$5:$J$10,'Мониторинг тип'!$B75,Мониторинг!$A$5:$A$10,'Мониторинг тип'!H$1),0)","v":0},{"$f":"IFERROR(COUNTIFS(Мониторинг!$J$5:$J$10,'Мониторинг тип'!$B75,Мониторинг!$A$5:$A$10,'Мониторинг тип'!I$1),0)","v":0},{"$f":"IFERROR(COUNTIFS(Мониторинг!$J$5:$J$10,'Мониторинг тип'!$B75,Мониторинг!$A$5:$A$10,'Мониторинг тип'!J$1),0)","v":0},{"$f":"IFERROR(COUNTIFS(Мониторинг!$J$5:$J$10,'Мониторинг тип'!$B75,Мониторинг!$A$5:$A$10,'Мониторинг тип'!K$1),0)","v":0},{"$f":"IFERROR(COUNTIFS(Мониторинг!$J$5:$J$10,'Мониторинг тип'!$B75,Мониторинг!$A$5:$A$10,'Мониторинг тип'!L$1),0)","v":0},{"$f":"IFERROR(COUNTIFS(Мониторинг!$J$5:$J$10,'Мониторинг тип'!$B75,Мониторинг!$A$5:$A$10,'Мониторинг тип'!M$1),0)","v":0},{"$f":"IFERROR(COUNTIFS(Мониторинг!$J$5:$J$10,'Мониторинг тип'!$B75,Мониторинг!$A$5:$A$10,'Мониторинг тип'!N$1),0)","v":0},{"$f":"IFERROR(COUNTIFS(Мониторинг!$J$5:$J$10,'Мониторинг тип'!$B75,Мониторинг!$A$5:$A$10,'Мониторинг тип'!O$1),0)","v":0},{"$f":"IFERROR(COUNTIFS(Мониторинг!$J$5:$J$10,'Мониторинг тип'!$B75,Мониторинг!$A$5:$A$10,'Мониторинг тип'!P$1),0)","v":0},{"$f":"IFERROR(COUNTIFS(Мониторинг!$J$5:$J$10,'Мониторинг тип'!$B75,Мониторинг!$A$5:$A$10,'Мониторинг тип'!Q$1),0)","v":0},{"$f":"IFERROR(COUNTIFS(Мониторинг!$J$5:$J$10,'Мониторинг тип'!$B75,Мониторинг!$A$5:$A$10,'Мониторинг тип'!R$1),0)","v":0},{"$f":"IFERROR(COUNTIFS(Мониторинг!$J$5:$J$10,'Мониторинг тип'!$B75,Мониторинг!$A$5:$A$10,'Мониторинг тип'!S$1),0)","v":0},{"$f":"IFERROR(COUNTIFS(Мониторинг!$J$5:$J$10,'Мониторинг тип'!$B75,Мониторинг!$A$5:$A$10,'Мониторинг тип'!T$1),0)","v":0},{"$f":"IFERROR(COUNTIFS(Мониторинг!$J$5:$J$10,'Мониторинг тип'!$B75,Мониторинг!$A$5:$A$10,'Мониторинг тип'!U$1),0)","v":0},{"$f":"IFERROR(COUNTIFS(Мониторинг!$J$5:$J$10,'Мониторинг тип'!$B75,Мониторинг!$A$5:$A$10,'Мониторинг тип'!V$1),0)","v":0},{"$f":"IFERROR(COUNTIFS(Мониторинг!$J$5:$J$10,'Мониторинг тип'!$B75,Мониторинг!$A$5:$A$10,'Мониторинг тип'!W$1),0)","v":0},{"$f":"IFERROR(COUNTIFS(Мониторинг!$J$5:$J$10,'Мониторинг тип'!$B75,Мониторинг!$A$5:$A$10,'Мониторинг тип'!X$1),0)","v":0},{"$f":"IFERROR(COUNTIFS(Мониторинг!$J$5:$J$10,'Мониторинг тип'!$B75,Мониторинг!$A$5:$A$10,'Мониторинг тип'!Y$1),0)","v":0},{"$f":"IFERROR(COUNTIFS(Мониторинг!$J$5:$J$10,'Мониторинг тип'!$B75,Мониторинг!$A$5:$A$10,'Мониторинг тип'!Z$1),0)","v":0},{"$f":"IFERROR(COUNTIFS(Мониторинг!$J$5:$J$10,'Мониторинг тип'!$B75,Мониторинг!$A$5:$A$10,'Мониторинг тип'!AA$1),0)","v":0},{"$f":"IFERROR(COUNTIFS(Мониторинг!$J$5:$J$10,'Мониторинг тип'!$B75,Мониторинг!$A$5:$A$10,'Мониторинг тип'!AB$1),0)","v":0},{"$f":"IFERROR(COUNTIFS(Мониторинг!$J$5:$J$10,'Мониторинг тип'!$B75,Мониторинг!$A$5:$A$10,'Мониторинг тип'!AC$1),0)","v":0},{"$f":"IFERROR(COUNTIFS(Мониторинг!$J$5:$J$10,'Мониторинг тип'!$B75,Мониторинг!$A$5:$A$10,'Мониторинг тип'!AD$1),0)","v":0},{"$f":"IFERROR(COUNTIFS(Мониторинг!$J$5:$J$10,'Мониторинг тип'!$B75,Мониторинг!$A$5:$A$10,'Мониторинг тип'!AE$1),0)","v":0},{"$f":"IFERROR(COUNTIFS(Мониторинг!$J$5:$J$10,'Мониторинг тип'!$B75,Мониторинг!$A$5:$A$10,'Мониторинг тип'!AF$1),0)","v":0},{"$f":"IFERROR(COUNTIFS(Мониторинг!$J$5:$J$10,'Мониторинг тип'!$B75,Мониторинг!$A$5:$A$10,'Мониторинг тип'!AG$1),0)","v":0}]
[null,{"$f":"Лист1!V14","v":0},{"$f":"SUM(D76:AG76)","v":0},{"$f":"IFERROR(COUNTIFS(Мониторинг!$J$5:$J$10,'Мониторинг тип'!$B76,Мониторинг!$A$5:$A$10,'Мониторинг тип'!D$1),0)","v":0},{"$f":"IFERROR(COUNTIFS(Мониторинг!$J$5:$J$10,'Мониторинг тип'!$B76,Мониторинг!$A$5:$A$10,'Мониторинг тип'!E$1),0)","v":0},{"$f":"IFERROR(COUNTIFS(Мониторинг!$J$5:$J$10,'Мониторинг тип'!$B76,Мониторинг!$A$5:$A$10,'Мониторинг тип'!F$1),0)","v":0},{"$f":"IFERROR(COUNTIFS(Мониторинг!$J$5:$J$10,'Мониторинг тип'!$B76,Мониторинг!$A$5:$A$10,'Мониторинг тип'!G$1),0)","v":0},{"$f":"IFERROR(COUNTIFS(Мониторинг!$J$5:$J$10,'Мониторинг тип'!$B76,Мониторинг!$A$5:$A$10,'Мониторинг тип'!H$1),0)","v":0},{"$f":"IFERROR(COUNTIFS(Мониторинг!$J$5:$J$10,'Мониторинг тип'!$B76,Мониторинг!$A$5:$A$10,'Мониторинг тип'!I$1),0)","v":0},{"$f":"IFERROR(COUNTIFS(Мониторинг!$J$5:$J$10,'Мониторинг тип'!$B76,Мониторинг!$A$5:$A$10,'Мониторинг тип'!J$1),0)","v":0},{"$f":"IFERROR(COUNTIFS(Мониторинг!$J$5:$J$10,'Мониторинг тип'!$B76,Мониторинг!$A$5:$A$10,'Мониторинг тип'!K$1),0)","v":0},{"$f":"IFERROR(COUNTIFS(Мониторинг!$J$5:$J$10,'Мониторинг тип'!$B76,Мониторинг!$A$5:$A$10,'Мониторинг тип'!L$1),0)","v":0},{"$f":"IFERROR(COUNTIFS(Мониторинг!$J$5:$J$10,'Мониторинг тип'!$B76,Мониторинг!$A$5:$A$10,'Мониторинг тип'!M$1),0)","v":0},{"$f":"IFERROR(COUNTIFS(Мониторинг!$J$5:$J$10,'Мониторинг тип'!$B76,Мониторинг!$A$5:$A$10,'Мониторинг тип'!N$1),0)","v":0},{"$f":"IFERROR(COUNTIFS(Мониторинг!$J$5:$J$10,'Мониторинг тип'!$B76,Мониторинг!$A$5:$A$10,'Мониторинг тип'!O$1),0)","v":0},{"$f":"IFERROR(COUNTIFS(Мониторинг!$J$5:$J$10,'Мониторинг тип'!$B76,Мониторинг!$A$5:$A$10,'Мониторинг тип'!P$1),0)","v":0},{"$f":"IFERROR(COUNTIFS(Мониторинг!$J$5:$J$10,'Мониторинг тип'!$B76,Мониторинг!$A$5:$A$10,'Мониторинг тип'!Q$1),0)","v":0},{"$f":"IFERROR(COUNTIFS(Мониторинг!$J$5:$J$10,'Мониторинг тип'!$B76,Мониторинг!$A$5:$A$10,'Мониторинг тип'!R$1),0)","v":0},{"$f":"IFERROR(COUNTIFS(Мониторинг!$J$5:$J$10,'Мониторинг тип'!$B76,Мониторинг!$A$5:$A$10,'Мониторинг тип'!S$1),0)","v":0},{"$f":"IFERROR(COUNTIFS(Мониторинг!$J$5:$J$10,'Мониторинг тип'!$B76,Мониторинг!$A$5:$A$10,'Мониторинг тип'!T$1),0)","v":0},{"$f":"IFERROR(COUNTIFS(Мониторинг!$J$5:$J$10,'Мониторинг тип'!$B76,Мониторинг!$A$5:$A$10,'Мониторинг тип'!U$1),0)","v":0},{"$f":"IFERROR(COUNTIFS(Мониторинг!$J$5:$J$10,'Мониторинг тип'!$B76,Мониторинг!$A$5:$A$10,'Мониторинг тип'!V$1),0)","v":0},{"$f":"IFERROR(COUNTIFS(Мониторинг!$J$5:$J$10,'Мониторинг тип'!$B76,Мониторинг!$A$5:$A$10,'Мониторинг тип'!W$1),0)","v":0},{"$f":"IFERROR(COUNTIFS(Мониторинг!$J$5:$J$10,'Мониторинг тип'!$B76,Мониторинг!$A$5:$A$10,'Мониторинг тип'!X$1),0)","v":0},{"$f":"IFERROR(COUNTIFS(Мониторинг!$J$5:$J$10,'Мониторинг тип'!$B76,Мониторинг!$A$5:$A$10,'Мониторинг тип'!Y$1),0)","v":0},{"$f":"IFERROR(COUNTIFS(Мониторинг!$J$5:$J$10,'Мониторинг тип'!$B76,Мониторинг!$A$5:$A$10,'Мониторинг тип'!Z$1),0)","v":0},{"$f":"IFERROR(COUNTIFS(Мониторинг!$J$5:$J$10,'Мониторинг тип'!$B76,Мониторинг!$A$5:$A$10,'Мониторинг тип'!AA$1),0)","v":0},{"$f":"IFERROR(COUNTIFS(Мониторинг!$J$5:$J$10,'Мониторинг тип'!$B76,Мониторинг!$A$5:$A$10,'Мониторинг тип'!AB$1),0)","v":0},{"$f":"IFERROR(COUNTIFS(Мониторинг!$J$5:$J$10,'Мониторинг тип'!$B76,Мониторинг!$A$5:$A$10,'Мониторинг тип'!AC$1),0)","v":0},{"$f":"IFERROR(COUNTIFS(Мониторинг!$J$5:$J$10,'Мониторинг тип'!$B76,Мониторинг!$A$5:$A$10,'Мониторинг тип'!AD$1),0)","v":0},{"$f":"IFERROR(COUNTIFS(Мониторинг!$J$5:$J$10,'Мониторинг тип'!$B76,Мониторинг!$A$5:$A$10,'Мониторинг тип'!AE$1),0)","v":0},{"$f":"IFERROR(COUNTIFS(Мониторинг!$J$5:$J$10,'Мониторинг тип'!$B76,Мониторинг!$A$5:$A$10,'Мониторинг тип'!AF$1),0)","v":0},{"$f":"IFERROR(COUNTIFS(Мониторинг!$J$5:$J$10,'Мониторинг тип'!$B76,Мониторинг!$A$5:$A$10,'Мониторинг тип'!AG$1),0)","v":0}]
[null,"% информирования",{"$f":"IF(SUM(C75:C76)<>0,(C75*100%+(C76*0%))/SUM(C75:C76),\"\")","v":""},{"$f":"IF(SUM(D75:D76)<>0,(D75*100%+(D76*0%))/SUM(D75:D76),\"\")","v":""},"","","","","","","","","","","","","","","","","","","","","","","","","","","","",""]
["Активное слушание",{"$f":"Лист1!W13","v":0},{"$f":"SUM(D78:AG78)","v":0},{"$f":"IFERROR(COUNTIFS(Мониторинг!$K$5:$K$10,'Мониторинг тип'!$B78,Мониторинг!$A$5:$A$10,'Мониторинг тип'!D$1),0)","v":0},{"$f":"IFERROR(COUNTIFS(Мониторинг!$K$5:$K$10,'Мониторинг тип'!$B78,Мониторинг!$A$5:$A$10,'Мониторинг тип'!E$1),0)","v":0},{"$f":"IFERROR(COUNTIFS(Мониторинг!$K$5:$K$10,'Мониторинг тип'!$B78,Мониторинг!$A$5:$A$10,'Мониторинг тип'!F$1),0)","v":0},{"$f":"IFERROR(COUNTIFS(Мониторинг!$K$5:$K$10,'Мониторинг тип'!$B78,Мониторинг!$A$5:$A$10,'Мониторинг тип'!G$1),0)","v":0},{"$f":"IFERROR(COUNTIFS(Мониторинг!$K$5:$K$10,'Мониторинг тип'!$B78,Мониторинг!$A$5:$A$10,'Мониторинг тип'!H$1),0)","v":0},{"$f":"IFERROR(COUNTIFS(Мониторинг!$K$5:$K$10,'Мониторинг тип'!$B78,Мониторинг!$A$5:$A$10,'Мониторинг тип'!I$1),0)","v":0},{"$f":"IFERROR(COUNTIFS(Мониторинг!$K$5:$K$10,'Мониторинг тип'!$B78,Мониторинг!$A$5:$A$10,'Мониторинг тип'!J$1),0)","v":0},{"$f":"IFERROR(COUNTIFS(Мониторинг!$K$5:$K$10,'Мониторинг тип'!$B78,Мониторинг!$A$5:$A$10,'Мониторинг тип'!K$1),0)","v":0},{"$f":"IFERROR(COUNTIFS(Мониторинг!$K$5:$K$10,'Мониторинг тип'!$B78,Мониторинг!$A$5:$A$10,'Мониторинг тип'!L$1),0)","v":0},{"$f":"IFERROR(COUNTIFS(Мониторинг!$K$5:$K$10,'Мониторинг тип'!$B78,Мониторинг!$A$5:$A$10,'Мониторинг тип'!M$1),0)","v":0},{"$f":"IFERROR(COUNTIFS(Мониторинг!$K$5:$K$10,'Мониторинг тип'!$B78,Мониторинг!$A$5:$A$10,'Мониторинг тип'!N$1),0)","v":0},{"$f":"IFERROR(COUNTIFS(Мониторинг!$K$5:$K$10,'Мониторинг тип'!$B78,Мониторинг!$A$5:$A$10,'Мониторинг тип'!O$1),0)","v":0},{"$f":"IFERROR(COUNTIFS(Мониторинг!$K$5:$K$10,'Мониторинг тип'!$B78,Мониторинг!$A$5:$A$10,'Мониторинг тип'!P$1),0)","v":0},{"$f":"IFERROR(COUNTIFS(Мониторинг!$K$5:$K$10,'Мониторинг тип'!$B78,Мониторинг!$A$5:$A$10,'Мониторинг тип'!Q$1),0)","v":0},{"$f":"IFERROR(COUNTIFS(Мониторинг!$K$5:$K$10,'Мониторинг тип'!$B78,Мониторинг!$A$5:$A$10,'Мониторинг тип'!R$1),0)","v":0},{"$f":"IFERROR(COUNTIFS(Мониторинг!$K$5:$K$10,'Мониторинг тип'!$B78,Мониторинг!$A$5:$A$10,'Мониторинг тип'!S$1),0)","v":0},{"$f":"IFERROR(COUNTIFS(Мониторинг!$K$5:$K$10,'Мониторинг тип'!$B78,Мониторинг!$A$5:$A$10,'Мониторинг тип'!T$1),0)","v":0},{"$f":"IFERROR(COUNTIFS(Мониторинг!$K$5:$K$10,'Мониторинг тип'!$B78,Мониторинг!$A$5:$A$10,'Мониторинг тип'!U$1),0)","v":0},{"$f":"IFERROR(COUNTIFS(Мониторинг!$K$5:$K$10,'Мониторинг тип'!$B78,Мониторинг!$A$5:$A$10,'Мониторинг тип'!V$1),0)","v":0},{"$f":"IFERROR(COUNTIFS(Мониторинг!$K$5:$K$10,'Мониторинг тип'!$B78,Мониторинг!$A$5:$A$10,'Мониторинг тип'!W$1),0)","v":0},{"$f":"IFERROR(COUNTIFS(Мониторинг!$K$5:$K$10,'Мониторинг тип'!$B78,Мониторинг!$A$5:$A$10,'Мониторинг тип'!X$1),0)","v":0},{"$f":"IFERROR(COUNTIFS(Мониторинг!$K$5:$K$10,'Мониторинг тип'!$B78,Мониторинг!$A$5:$A$10,'Мониторинг тип'!Y$1),0)","v":0},{"$f":"IFERROR(COUNTIFS(Мониторинг!$K$5:$K$10,'Мониторинг тип'!$B78,Мониторинг!$A$5:$A$10,'Мониторинг тип'!Z$1),0)","v":0},{"$f":"IFERROR(COUNTIFS(Мониторинг!$K$5:$K$10,'Мониторинг тип'!$B78,Мониторинг!$A$5:$A$10,'Мониторинг тип'!AA$1),0)","v":0},{"$f":"IFERROR(COUNTIFS(Мониторинг!$K$5:$K$10,'Мониторинг тип'!$B78,Мониторинг!$A$5:$A$10,'Мониторинг тип'!AB$1),0)","v":0},{"$f":"IFERROR(COUNTIFS(Мониторинг!$K$5:$K$10,'Мониторинг тип'!$B78,Мониторинг!$A$5:$A$10,'Мониторинг тип'!AC$1),0)","v":0},{"$f":"IFERROR(COUNTIFS(Мониторинг!$K$5:$K$10,'Мониторинг тип'!$B78,Мониторинг!$A$5:$A$10,'Мониторинг тип'!AD$1),0)","v":0},{"$f":"IFERROR(COUNTIFS(Мониторинг!$K$5:$K$10,'Мониторинг тип'!$B78,Мониторинг!$A$5:$A$10,'Мониторинг тип'!AE$1),0)","v":0},{"$f":"IFERROR(COUNTIFS(Мониторинг!$K$5:$K$10,'Мониторинг тип'!$B78,Мониторинг!$A$5:$A$10,'Мониторинг тип'!AF$1),0)","v":0},{"$f":"IFERROR(COUNTIFS(Мониторинг!$K$5:$K$10,'Мониторинг тип'!$B78,Мониторинг!$A$5:$A$10,'Мониторинг тип'!AG$1),0)","v":0}]
[null,{"$f":"Лист1!W14","v":0},{"$f":"SUM(D79:AG79)","v":0},{"$f":"IFERROR(COUNTIFS(Мониторинг!$K$5:$K$10,'Мониторинг тип'!$B79,Мониторинг!$A$5:$A$10,'Мониторинг тип'!D$1),0)","v":0},{"$f":"IFERROR(COUNTIFS(Мониторинг!$K$5:$K$10,'Мониторинг тип'!$B79,Мониторинг!$A$5:$A$10,'Мониторинг тип'!E$1),0)","v":0},{"$f":"IFERROR(COUNTIFS(Мониторинг!$K$5:$K$10,'Мониторинг тип'!$B79,Мониторинг!$A$5:$A$10,'Мониторинг тип'!F$1),0)","v":0},{"$f":"IFERROR(COUNTIFS(Мониторинг!$K$5:$K$10,'Мониторинг тип'!$B79,Мониторинг!$A$5:$A$10,'Мониторинг тип'!G$1),0)","v":0},{"$f":"IFERROR(COUNTIFS(Мониторинг!$K$5:$K$10,'Мониторинг тип'!$B79,Мониторинг!$A$5:$A$10,'Мониторинг тип'!H$1),0)","v":0},{"$f":"IFERROR(COUNTIFS(Мониторинг!$K$5:$K$10,'Мониторинг тип'!$B79,Мониторинг!$A$5:$A$10,'Мониторинг тип'!I$1),0)","v":0},{"$f":"IFERROR(COUNTIFS(Мониторинг!$K$5:$K$10,'Мониторинг тип'!$B79,Мониторинг!$A$5:$A$10,'Мониторинг тип'!J$1),0)","v":0},{"$f":"IFERROR(COUNTIFS(Мониторинг!$K$5:$K$10,'Мониторинг тип'!$B79,Мониторинг!$A$5:$A$10,'Мониторинг тип'!K$1),0)","v":0},{"$f":"IFERROR(COUNTIFS(Мониторинг!$K$5:$K$10,'Мониторинг тип'!$B79,Мониторинг!$A$5:$A$10,'Мониторинг тип'!L$1),0)","v":0},{"$f":"IFERROR(COUNTIFS(Мониторинг!$K$5:$K$10,'Мониторинг тип'!$B79,Мониторинг!$A$5:$A$10,'Мониторинг тип'!M$1),0)","v":0},{"$f":"IFERROR(COUNTIFS(Мониторинг!$K$5:$K$10,'Мониторинг тип'!$B79,Мониторинг!$A$5:$A$10,'Мониторинг тип'!N$1),0)","v":0},{"$f":"IFERROR(COUNTIFS(Мониторинг!$K$5:$K$10,'Мониторинг тип'!$B79,Мониторинг!$A$5:$A$10,'Мониторинг тип'!O$1),0)","v":0},{"$f":"IFERROR(COUNTIFS(Мониторинг!$K$5:$K$10,'Мониторинг тип'!$B79,Мониторинг!$A$5:$A$10,'Мониторинг тип'!P$1),0)","v":0},{"$f":"IFERROR(COUNTIFS(Мониторинг!$K$5:$K$10,'Мониторинг тип'!$B79,Мониторинг!$A$5:$A$10,'Мониторинг тип'!Q$1),0)","v":0},{"$f":"IFERROR(COUNTIFS(Мониторинг!$K$5:$K$10,'Мониторинг тип'!$B79,Мониторинг!$A$5:$A$10,'Мониторинг тип'!R$1),0)","v":0},{"$f":"IFERROR(COUNTIFS(Мониторинг!$K$5:$K$10,'Мониторинг тип'!$B79,Мониторинг!$A$5:$A$10,'Мониторинг тип'!S$1),0)","v":0},{"$f":"IFERROR(COUNTIFS(Мониторинг!$K$5:$K$10,'Мониторинг тип'!$B79,Мониторинг!$A$5:$A$10,'Мониторинг тип'!T$1),0)","v":0},{"$f":"IFERROR(COUNTIFS(Мониторинг!$K$5:$K$10,'Мониторинг тип'!$B79,Мониторинг!$A$5:$A$10,'Мониторинг тип'!U$1),0)","v":0},{"$f":"IFERROR(COUNTIFS(Мониторинг!$K$5:$K$10,'Мониторинг тип'!$B79,Мониторинг!$A$5:$A$10,'Мониторинг тип'!V$1),0)","v":0},{"$f":"IFERROR(COUNTIFS(Мониторинг!$K$5:$K$10,'Мониторинг тип'!$B79,Мониторинг!$A$5:$A$10,'Мониторинг тип'!W$1),0)","v":0},{"$f":"IFERROR(COUNTIFS(Мониторинг!$K$5:$K$10,'Мониторинг тип'!$B79,Мониторинг!$A$5:$A$10,'Мониторинг тип'!X$1),0)","v":0},{"$f":"IFERROR(COUNTIFS(Мониторинг!$K$5:$K$10,'Мониторинг тип'!$B79,Мониторинг!$A$5:$A$10,'Мониторинг тип'!Y$1),0)","v":0},{"$f":"IFERROR(COUNTIFS(Мониторинг!$K$5:$K$10,'Мониторинг тип'!$B79,Мониторинг!$A$5:$A$10,'Мониторинг тип'!Z$1),0)","v":0},{"$f":"IFERROR(COUNTIFS(Мониторинг!$K$5:$K$10,'Мониторинг тип'!$B79,Мониторинг!$A$5:$A$10,'Мониторинг тип'!AA$1),0)","v":0},{"$f":"IFERROR(COUNTIFS(Мониторинг!$K$5:$K$10,'Мониторинг тип'!$B79,Мониторинг!$A$5:$A$10,'Мониторинг тип'!AB$1),0)","v":0},{"$f":"IFERROR(COUNTIFS(Мониторинг!$K$5:$K$10,'Мониторинг тип'!$B79,Мониторинг!$A$5:$A$10,'Мониторинг тип'!AC$1),0)","v":0},{"$f":"IFERROR(COUNTIFS(Мониторинг!$K$5:$K$10,'Мониторинг тип'!$B79,Мониторинг!$A$5:$A$10,'Мониторинг тип'!AD$1),0)","v":0},{"$f":"IFERROR(COUNTIFS(Мониторинг!$K$5:$K$10,'Мониторинг тип'!$B79,Мониторинг!$A$5:$A$10,'Мониторинг тип'!AE$1),0)","v":0},{"$f":"IFERROR(COUNTIFS(Мониторинг!$K$5:$K$10,'Мониторинг тип'!$B79,Мониторинг!$A$5:$A$10,'Мониторинг тип'!AF$1),0)","v":0},{"$f":"IFERROR(COUNTIFS(Мониторинг!$K$5:$K$10,'Мониторинг тип'!$B79,Мониторинг!$A$5:$A$10,'Мониторинг тип'!AG$1),0)","v":0}]
[null,"% информирования",{"$f":"IF(SUM(C78:C79)<>0,(C78*100%+(C79*0%))/SUM(C78:C79),\"\")","v":""},{"$f":"IF(SUM(D78:D79)<>0,(D78*100%+(D79*0%))/SUM(D78:D79),\"\")","v":""},"","","","","","","","","","","","","","","","","","","","","","","","","","","","",""]
[null,"Да",{"$f":"SUM(D81:AG81)","v":0},{"$f":"COUNTIF(Мониторинг!$BI:$BI,CONCATENATE(DAY(D$1),\"ДА\"))","v":0},{"$f":"COUNTIF(Мониторинг!$BI:$BI,CONCATENATE(DAY(E$1),\"ДА\"))","v":0},{"$f":"COUNTIF(Мониторинг!$BI:$BI,CONCATENATE(DAY(F$1),\"ДА\"))","v":0},{"$f":"COUNTIF(Мониторинг!$BI:$BI,CONCATENATE(DAY(G$1),\"ДА\"))","v":0},{"$f":"COUNTIF(Мониторинг!$BI:$BI,CONCATENATE(DAY(H$1),\"ДА\"))","v":0},{"$f":"COUNTIF(Мониторинг!$BI:$BI,CONCATENATE(DAY(I$1),\"ДА\"))","v":0},{"$f":"COUNTIF(Мониторинг!$BI:$BI,CONCATENATE(DAY(J$1),\"ДА\"))","v":0},{"$f":"COUNTIF(Мониторинг!$BI:$BI,CONCATENATE(DAY(K$1),\"ДА\"))","v":0},{"$f":"COUNTIF(Мониторинг!$BI:$BI,CONCATENATE(DAY(L$1),\"ДА\"))","v":0},{"$f":"COUNTIF(Мониторинг!$BI:$BI,CONCATENATE(DAY(M$1),\"ДА\"))","v":0},{"$f":"COUNTIF(Мониторинг!$BI:$BI,CONCATENATE(DAY(N$1),\"ДА\"))","v":0},{"$f":"COUNTIF(Мониторинг!$BI:$BI,CONCATENATE(DAY(O$1),\"ДА\"))","v":0},{"$f":"COUNTIF(Мониторинг!$BI:$BI,CONCATENATE(DAY(P$1),\"ДА\"))","v":0},{"$f":"COUNTIF(Мониторинг!$BI:$BI,CONCATENATE(DAY(Q$1),\"ДА\"))","v":0},{"$f":"COUNTIF(Мониторинг!$BI:$BI,CONCATENATE(DAY(R$1),\"ДА\"))","v":0},{"$f":"COUNTIF(Мониторинг!$BI:$BI,CONCATENATE(DAY(S$1),\"ДА\"))","v":0},{"$f":"COUNTIF(Мониторинг!$BI:$BI,CONCATENATE(DAY(T$1),\"ДА\"))","v":0},{"$f":"COUNTIF(Мониторинг!$BI:$BI,CONCATENATE(DAY(U$1),\"ДА\"))","v":0},{"$f":"COUNTIF(Мониторинг!$BI:$BI,CONCATENATE(DAY(V$1),\"ДА\"))","v":0},{"$f":"COUNTIF(Мониторинг!$BI:$BI,CONCATENATE(DAY(W$1),\"ДА\"))","v":0},{"$f":"COUNTIF(Мониторинг!$BI:$BI,CONCATENATE(DAY(X$1),\"ДА\"))","v":0},{"$f":"COUNTIF(Мониторинг!$BI:$BI,CONCATENATE(DAY(Y$1),\"ДА\"))","v":0},{"$f":"COUNTIF(Мониторинг!$BI:$BI,CONCATENATE(DAY(Z$1),\"ДА\"))","v":0},{"$f":"COUNTIF(Мониторинг!$BI:$BI,CONCATENATE(DAY(AA$1),\"ДА\"))","v":0},{"$f":"COUNTIF(Мониторинг!$BI:$BI,CONCATENATE(DAY(AB$1),\"ДА\"))","v":0},{"$f":"COUNTIF(Мониторинг!$BI:$BI,CONCATENATE(DAY(AC$1),\"ДА\"))","v":0},{"$f":"COUNTIF(Мониторинг!$BI:$BI,CONCATENATE(DAY(AD$1),\"ДА\"))","v":0},{"$f":"COUNTIF(Мониторинг!$BI:$BI,CONCATENATE(DAY(AE$1),\"ДА\"))","v":0},{"$f":"COUNTIF(Мониторинг!$BI:$BI,CONCATENATE(DAY(AF$1),\"ДА\"))","v":0},{"$f":"COUNTIF(Мониторинг!$BI:$BI,CONCATENATE(DAY(AG$1),\"ДА\"))","v":0}]
[null,"Нет",{"$f":"SUM(D82:AG82)","v":0},{"$f":"COUNTIF(Мониторинг!$BI:$BI,CONCATENATE(DAY(D$1),\"НЕТ\"))","v":0},{"$f":"COUNTIF(Мониторинг!$BI:$BI,CONCATENATE(DAY(E$1),\"НЕТ\"))","v":0},{"$f":"COUNTIF(Мониторинг!$BI:$BI,CONCATENATE(DAY(F$1),\"НЕТ\"))","v":0},{"$f":"COUNTIF(Мониторинг!$BI:$BI,CONCATENATE(DAY(G$1),\"НЕТ\"))","v":0},{"$f":"COUNTIF(Мониторинг!$BI:$BI,CONCATENATE(DAY(H$1),\"НЕТ\"))","v":0},{"$f":"COUNTIF(Мониторинг!$BI:$BI,CONCATENATE(DAY(I$1),\"НЕТ\"))","v":0},{"$f":"COUNTIF(Мониторинг!$BI:$BI,CONCATENATE(DAY(J$1),\"НЕТ\"))","v":0},{"$f":"COUNTIF(Мониторинг!$BI:$BI,CONCATENATE(DAY(K$1),\"НЕТ\"))","v":0},{"$f":"COUNTIF(Мониторинг!$BI:$BI,CONCATENATE(DAY(L$1),\"НЕТ\"))","v":0},{"$f":"COUNTIF(Мониторинг!$BI:$BI,CONCATENATE(DAY(M$1),\"НЕТ\"))","v":0},{"$f":"COUNTIF(Мониторинг!$BI:$BI,CONCATENATE(DAY(N$1),\"НЕТ\"))","v":0},{"$f":"COUNTIF(Мониторинг!$BI:$BI,CONCATENATE(DAY(O$1),\"НЕТ\"))","v":0},{"$f":"COUNTIF(Мониторинг!$BI:$BI,CONCATENATE(DAY(P$1),\"НЕТ\"))","v":0},{"$f":"COUNTIF(Мониторинг!$BI:$BI,CONCATENATE(DAY(Q$1),\"НЕТ\"))","v":0},{"$f":"COUNTIF(Мониторинг!$BI:$BI,CONCATENATE(DAY(R$1),\"НЕТ\"))","v":0},{"$f":"COUNTIF(Мониторинг!$BI:$BI,CONCATENATE(DAY(S$1),\"НЕТ\"))","v":0},{"$f":"COUNTIF(Мониторинг!$BI:$BI,CONCATENATE(DAY(T$1),\"НЕТ\"))","v":0},{"$f":"COUNTIF(Мониторинг!$BI:$BI,CONCATENATE(DAY(U$1),\"НЕТ\"))","v":0},{"$f":"COUNTIF(Мониторинг!$BI:$BI,CONCATENATE(DAY(V$1),\"НЕТ\"))","v":0},{"$f":"COUNTIF(Мониторинг!$BI:$BI,CONCATENATE(DAY(W$1),\"НЕТ\"))","v":0},{"$f":"COUNTIF(Мониторинг!$BI:$BI,CONCATENATE(DAY(X$1),\"НЕТ\"))","v":0},{"$f":"COUNTIF(Мониторинг!$BI:$BI,CONCATENATE(DAY(Y$1),\"НЕТ\"))","v":0},{"$f":"COUNTIF(Мониторинг!$BI:$BI,CONCATENATE(DAY(Z$1),\"НЕТ\"))","v":0},{"$f":"COUNTIF(Мониторинг!$BI:$BI,CONCATENATE(DAY(AA$1),\"НЕТ\"))","v":0},{"$f":"COUNTIF(Мониторинг!$BI:$BI,CONCATENATE(DAY(AB$1),\"НЕТ\"))","v":0},{"$f":"COUNTIF(Мониторинг!$BI:$BI,CONCATENATE(DAY(AC$1),\"НЕТ\"))","v":0},{"$f":"COUNTIF(Мониторинг!$BI:$BI,CONCATENATE(DAY(AD$1),\"НЕТ\"))","v":0},{"$f":"COUNTIF(Мониторинг!$BI:$BI,CONCATENATE(DAY(AE$1),\"НЕТ\"))","v":0},{"$f":"COUNTIF(Мониторинг!$BI:$BI,CONCATENATE(DAY(AF$1),\"НЕТ\"))","v":0},{"$f":"COUNTIF(Мониторинг!$BI:$BI,CONCATENATE(DAY(AG$1),\"НЕТ\"))","v":0}]
[null,"Нет необходимости",{"$f":"SUM(D83:AG83)","v":0},{"$f":"COUNTIF(Мониторинг!$BI:$BI,CONCATENATE(DAY(D$1),\"нет необхо - димости\"))","v":0},{"$f":"COUNTIF(Мониторинг!$BI:$BI,CONCATENATE(DAY(E$1),\"нет необхо - димости\"))","v":0},{"$f":"COUNTIF(Мониторинг!$BI:$BI,CONCATENATE(DAY(F$1),\"нет необхо - димости\"))","v":0},{"$f":"COUNTIF(Мониторинг!$BI:$BI,CONCATENATE(DAY(G$1),\"нет необхо - димости\"))","v":0},{"$f":"COUNTIF(Мониторинг!$BI:$BI,CONCATENATE(DAY(H$1),\"нет необхо - димости\"))","v":0},{"$f":"COUNTIF(Мониторинг!$BI:$BI,CONCATENATE(DAY(I$1),\"нет необхо - димости\"))","v":0},{"$f":"COUNTIF(Мониторинг!$BI:$BI,CONCATENATE(DAY(J$1),\"нет необхо - димости\"))","v":0},{"$f":"COUNTIF(Мониторинг!$BI:$BI,CONCATENATE(DAY(K$1),\"нет необхо - димости\"))","v":0},{"$f":"COUNTIF(Мониторинг!$BI:$BI,CONCATENATE(DAY(L$1),\"нет необхо - димости\"))","v":0},{"$f":"COUNTIF(Мониторинг!$BI:$BI,CONCATENATE(DAY(M$1),\"нет необхо - димости\"))","v":0},{"$f":"COUNTIF(Мониторинг!$BI:$BI,CONCATENATE(DAY(N$1),\"нет необхо - димости\"))","v":0},{"$f":"COUNTIF(Мониторинг!$BI:$BI,CONCATENATE(DAY(O$1),\"нет необхо - димости\"))","v":0},{"$f":"COUNTIF(Мониторинг!$BI:$BI,CONCATENATE(DAY(P$1),\"нет необхо - димости\"))","v":0},{"$f":"COUNTIF(Мониторинг!$BI:$BI,CONCATENATE(DAY(Q$1),\"нет необхо - димости\"))","v":0},{"$f":"COUNTIF(Мониторинг!$BI:$BI,CONCATENATE(DAY(R$1),\"нет необхо - димости\"))","v":0},{"$f":"COUNTIF(Мониторинг!$BI:$BI,CONCATENATE(DAY(S$1),\"нет необхо - димости\"))","v":0},{"$f":"COUNTIF(Мониторинг!$BI:$BI,CONCATENATE(DAY(T$1),\"нет необхо - димости\"))","v":0},{"$f":"COUNTIF(Мониторинг!$BI:$BI,CONCATENATE(DAY(U$1),\"нет необхо - димости\"))","v":0},{"$f":"COUNTIF(Мониторинг!$BI:$BI,CONCATENATE(DAY(V$1),\"нет необхо - димости\"))","v":0},{"$f":"COUNTIF(Мониторинг!$BI:$BI,CONCATENATE(DAY(W$1),\"нет необхо - димости\"))","v":0},{"$f":"COUNTIF(Мониторинг!$BI:$BI,CONCATENATE(DAY(X$1),\"нет необхо - димости\"))","v":0},{"$f":"COUNTIF(Мониторинг!$BI:$BI,CONCATENATE(DAY(Y$1),\"нет необхо - димости\"))","v":0},{"$f":"COUNTIF(Мониторинг!$BI:$BI,CONCATENATE(DAY(Z$1),\"нет необхо - димости\"))","v":0},{"$f":"COUNTIF(Мониторинг!$BI:$BI,CONCATENATE(DAY(AA$1),\"нет необхо - димости\"))","v":0},{"$f":"COUNTIF(Мониторинг!$BI:$BI,CONCATENATE(DAY(AB$1),\"нет необхо - димости\"))","v":0},{"$f":"COUNTIF(Мониторинг!$BI:$BI,CONCATENATE(DAY(AC$1),\"нет необхо - димости\"))","v":0},{"$f":"COUNTIF(Мониторинг!$BI:$BI,CONCATENATE(DAY(AD$1),\"нет необхо - димости\"))","v":0},{"$f":"COUNTIF(Мониторинг!$BI:$BI,CONCATENATE(DAY(AE$1),\"нет необхо - димости\"))","v":0},{"$f":"COUNTIF(Мониторинг!$BI:$BI,CONCATENATE(DAY(AF$1),\"нет необхо - димости\"))","v":0},{"$f":"COUNTIF(Мониторинг!$BI:$BI,CONCATENATE(DAY(AG$1),\"нет необхо - димости\"))","v":0}]
[null,"% информирования",{"$f":"IF(SUM(C81:C83)<>0,(C81+C83)/SUM(C81:C83),\"\")","v":""},"","","","","","","","","","","","","","","","","","","","","","","","","","","","","",""]
[null,"Да",{"$f":"SUM(D85:AG85)","v":0},{"$f":"COUNTIF(Мониторинг!$BJ:$BJ,CONCATENATE(DAY(D$1),\"ДА\"))","v":0},{"$f":"COUNTIF(Мониторинг!$BJ:$BJ,CONCATENATE(DAY(E$1),\"ДА\"))","v":0},{"$f":"COUNTIF(Мониторинг!$BJ:$BJ,CONCATENATE(DAY(F$1),\"ДА\"))","v":0},{"$f":"COUNTIF(Мониторинг!$BJ:$BJ,CONCATENATE(DAY(G$1),\"ДА\"))","v":0},{"$f":"COUNTIF(Мониторинг!$BJ:$BJ,CONCATENATE(DAY(H$1),\"ДА\"))","v":0},{"$f":"COUNTIF(Мониторинг!$BJ:$BJ,CONCATENATE(DAY(I$1),\"ДА\"))","v":0},{"$f":"COUNTIF(Мониторинг!$BJ:$BJ,CONCATENATE(DAY(J$1),\"ДА\"))","v":0},{"$f":"COUNTIF(Мониторинг!$BJ:$BJ,CONCATENATE(DAY(K$1),\"ДА\"))","v":0},{"$f":"COUNTIF(Мониторинг!$BJ:$BJ,CONCATENATE(DAY(L$1),\"ДА\"))","v":0},{"$f":"COUNTIF(Мониторинг!$BJ:$BJ,CONCATENATE(DAY(M$1),\"ДА\"))","v":0},{"$f":"COUNTIF(Мониторинг!$BJ:$BJ,CONCATENATE(DAY(N$1),\"ДА\"))","v":0},{"$f":"COUNTIF(Мониторинг!$BJ:$BJ,CONCATENATE(DAY(O$1),\"ДА\"))","v":0},{"$f":"COUNTIF(Мониторинг!$BJ:$BJ,CONCATENATE(DAY(P$1),\"ДА\"))","v":0},{"$f":"COUNTIF(Мониторинг!$BJ:$BJ,CONCATENATE(DAY(Q$1),\"ДА\"))","v":0},{"$f":"COUNTIF(Мониторинг!$BJ:$BJ,CONCATENATE(DAY(R$1),\"ДА\"))","v":0},{"$f":"COUNTIF(Мониторинг!$BJ:$BJ,CONCATENATE(DAY(S$1),\"ДА\"))","v":0},{"$f":"COUNTIF(Мониторинг!$BJ:$BJ,CONCATENATE(DAY(T$1),\"ДА\"))","v":0},{"$f":"COUNTIF(Мониторинг!$BJ:$BJ,CONCATENATE(DAY(U$1),\"ДА\"))","v":0},{"$f":"COUNTIF(Мониторинг!$BJ:$BJ,CONCATENATE(DAY(V$1),\"ДА\"))","v":0},{"$f":"COUNTIF(Мониторинг!$BJ:$BJ,CONCATENATE(DAY(W$1),\"ДА\"))","v":0},{"$f":"COUNTIF(Мониторинг!$BJ:$BJ,CONCATENATE(DAY(X$1),\"ДА\"))","v":0},{"$f":"COUNTIF(Мониторинг!$BJ:$BJ,CONCATENATE(DAY(Y$1),\"ДА\"))","v":0},{"$f":"COUNTIF(Мониторинг!$BJ:$BJ,CONCATENATE(DAY(Z$1),\"ДА\"))","v":0},{"$f":"COUNTIF(Мониторинг!$BJ:$BJ,CONCATENATE(DAY(AA$1),\"ДА\"))","v":0},{"$f":"COUNTIF(Мониторинг!$BJ:$BJ,CONCATENATE(DAY(AB$1),\"ДА\"))","v":0},{"$f":"COUNTIF(Мониторинг!$BJ:$BJ,CONCATENATE(DAY(AC$1),\"ДА\"))","v":0},{"$f":"COUNTIF(Мониторинг!$BJ:$BJ,CONCATENATE(DAY(AD$1),\"ДА\"))","v":0},{"$f":"COUNTIF(Мониторинг!$BJ:$BJ,CONCATENATE(DAY(AE$1),\"ДА\"))","v":0},{"$f":"COUNTIF(Мониторинг!$BJ:$BJ,CONCATENATE(DAY(AF$1),\"ДА\"))","v":0},{"$f":"COUNTIF(Мониторинг!$BJ:$BJ,CONCATENATE(DAY(AG$1),\"ДА\"))","v":0}]
[null,"Нет",{"$f":"SUM(D86:AG86)","v":0},{"$f":"COUNTIF(Мониторинг!$BJ:$BJ,CONCATENATE(DAY(D$1),\"НЕТ\"))","v":0},{"$f":"COUNTIF(Мониторинг!$BJ:$BJ,CONCATENATE(DAY(E$1),\"НЕТ\"))","v":0},{"$f":"COUNTIF(Мониторинг!$BJ:$BJ,CONCATENATE(DAY(F$1),\"НЕТ\"))","v":0},{"$f":"COUNTIF(Мониторинг!$BJ:$BJ,CONCATENATE(DAY(G$1),\"НЕТ\"))","v":0},{"$f":"COUNTIF(Мониторинг!$BJ:$BJ,CONCATENATE(DAY(H$1),\"НЕТ\"))","v":0},{"$f":"COUNTIF(Мониторинг!$BJ:$BJ,CONCATENATE(DAY(I$1),\"НЕТ\"))","v":0},{"$f":"COUNTIF(Мониторинг!$BJ:$BJ,CONCATENATE(DAY(J$1),\"НЕТ\"))","v":0},{"$f":"COUNTIF(Мониторинг!$BJ:$BJ,CONCATENATE(DAY(K$1),\"НЕТ\"))","v":0},{"$f":"COUNTIF(Мониторинг!$BJ:$BJ,CONCATENATE(DAY(L$1),\"НЕТ\"))","v":0},{"$f":"COUNTIF(Мониторинг!$BJ:$BJ,CONCATENATE(DAY(M$1),\"НЕТ\"))","v":0},{"$f":"COUNTIF(Мониторинг!$BJ:$BJ,CONCATENATE(DAY(N$1),\"НЕТ\"))","v":0},{"$f":"COUNTIF(Мониторинг!$BJ:$BJ,CONCATENATE(DAY(O$1),\"НЕТ\"))","v":0},{"$f":"COUNTIF(Мониторинг!$BJ:$BJ,CONCATENATE(DAY(P$1),\"НЕТ\"))","v":0},{"$f":"COUNTIF(Мониторинг!$BJ:$BJ,CONCATENATE(DAY(Q$1),\"НЕТ\"))","v":0},{"$f":"COUNTIF(Мониторинг!$BJ:$BJ,CONCATENATE(DAY(R$1),\"НЕТ\"))","v":0},{"$f":"COUNTIF(Мониторинг!$BJ:$BJ,CONCATENATE(DAY(S$1),\"НЕТ\"))","v":0},{"$f":"COUNTIF(Мониторинг!$BJ:$BJ,CONCATENATE(DAY(T$1),\"НЕТ\"))","v":0},{"$f":"COUNTIF(Мониторинг!$BJ:$BJ,CONCATENATE(DAY(U$1),\"НЕТ\"))","v":0},{"$f":"COUNTIF(Мониторинг!$BJ:$BJ,CONCATENATE(DAY(V$1),\"НЕТ\"))","v":0},{"$f":"COUNTIF(Мониторинг!$BJ:$BJ,CONCATENATE(DAY(W$1),\"НЕТ\"))","v":0},{"$f":"COUNTIF(Мониторинг!$BJ:$BJ,CONCATENATE(DAY(X$1),\"НЕТ\"))","v":0},{"$f":"COUNTIF(Мониторинг!$BJ:$BJ,CONCATENATE(DAY(Y$1),\"НЕТ\"))","v":0},{"$f":"COUNTIF(Мониторинг!$BJ:$BJ,CONCATENATE(DAY(Z$1),\"НЕТ\"))","v":0},{"$f":"COUNTIF(Мониторинг!$BJ:$BJ,CONCATENATE(DAY(AA$1),\"НЕТ\"))","v":0},{"$f":"COUNTIF(Мониторинг!$BJ:$BJ,CONCATENATE(DAY(AB$1),\"НЕТ\"))","v":0},{"$f":"COUNTIF(Мониторинг!$BJ:$BJ,CONCATENATE(DAY(AC$1),\"НЕТ\"))","v":0},{"$f":"COUNTIF(Мониторинг!$BJ:$BJ,CONCATENATE(DAY(AD$1),\"НЕТ\"))","v":0},{"$f":"COUNTIF(Мониторинг!$BJ:$BJ,CONCATENATE(DAY(AE$1),\"НЕТ\"))","v":0},{"$f":"COUNTIF(Мониторинг!$BJ:$BJ,CONCATENATE(DAY(AF$1),\"НЕТ\"))","v":0},{"$f":"COUNTIF(Мониторинг!$BJ:$BJ,CONCATENATE(DAY(AG$1),\"НЕТ\"))","v":0}]
[null,"Нет необходимости",{"$f":"SUM(D87:AG87)","v":0},{"$f":"COUNTIF(Мониторинг!$BJ:$BJ,CONCATENATE(DAY(D$1),\"нет необхо - димости\"))","v":0},{"$f":"COUNTIF(Мониторинг!$BJ:$BJ,CONCATENATE(DAY(E$1),\"нет необхо - димости\"))","v":0},{"$f":"COUNTIF(Мониторинг!$BJ:$BJ,CONCATENATE(DAY(F$1),\"нет необхо - димости\"))","v":0},{"$f":"COUNTIF(Мониторинг!$BJ:$BJ,CONCATENATE(DAY(G$1),\"нет необхо - димости\"))","v":0},{"$f":"COUNTIF(Мониторинг!$BJ:$BJ,CONCATENATE(DAY(H$1),\"нет необхо - димости\"))","v":0},{"$f":"COUNTIF(Мониторинг!$BJ:$BJ,CONCATENATE(DAY(I$1),\"нет необхо - димости\"))","v":0},{"$f":"COUNTIF(Мониторинг!$BJ:$BJ,CONCATENATE(DAY(J$1),\"нет необхо - димости\"))","v":0},{"$f":"COUNTIF(Мониторинг!$BJ:$BJ,CONCATENATE(DAY(K$1),\"нет необхо - димости\"))","v":0},{"$f":"COUNTIF(Мониторинг!$BJ:$BJ,CONCATENATE(DAY(L$1),\"нет необхо - димости\"))","v":0},{"$f":"COUNTIF(Мониторинг!$BJ:$BJ,CONCATENATE(DAY(M$1),\"нет необхо - димости\"))","v":0},{"$f":"COUNTIF(Мониторинг!$BJ:$BJ,CONCATENATE(DAY(N$1),\"нет необхо - димости\"))","v":0},{"$f":"COUNTIF(Мониторинг!$BJ:$BJ,CONCATENATE(DAY(O$1),\"нет необхо - димости\"))","v":0},{"$f":"COUNTIF(Мониторинг!$BJ:$BJ,CONCATENATE(DAY(P$1),\"нет необхо - димости\"))","v":0},{"$f":"COUNTIF(Мониторинг!$BJ:$BJ,CONCATENATE(DAY(Q$1),\"нет необхо - димости\"))","v":0},{"$f":"COUNTIF(Мониторинг!$BJ:$BJ,CONCATENATE(DAY(R$1),\"нет необхо - димости\"))","v":0},{"$f":"COUNTIF(Мониторинг!$BJ:$BJ,CONCATENATE(DAY(S$1),\"нет необхо - димости\"))","v":0},{"$f":"COUNTIF(Мониторинг!$BJ:$BJ,CONCATENATE(DAY(T$1),\"нет необхо - димости\"))","v":0},{"$f":"COUNTIF(Мониторинг!$BJ:$BJ,CONCATENATE(DAY(U$1),\"нет необхо - димости\"))","v":0},{"$f":"COUNTIF(Мониторинг!$BJ:$BJ,CONCATENATE(DAY(V$1),\"нет необхо - димости\"))","v":0},{"$f":"COUNTIF(Мониторинг!$BJ:$BJ,CONCATENATE(DAY(W$1),\"нет необхо - димости\"))","v":0},{"$f":"COUNTIF(Мониторинг!$BJ:$BJ,CONCATENATE(DAY(X$1),\"нет необхо - димости\"))","v":0},{"$f":"COUNTIF(Мониторинг!$BJ:$BJ,CONCATENATE(DAY(Y$1),\"нет необхо - димости\"))","v":0},{"$f":"COUNTIF(Мониторинг!$BJ:$BJ,CONCATENATE(DAY(Z$1),\"нет необхо - димости\"))","v":0},{"$f":"COUNTIF(Мониторинг!$BJ:$BJ,CONCATENATE(DAY(AA$1),\"нет необхо - димости\"))","v":0},{"$f":"COUNTIF(Мониторинг!$BJ:$BJ,CONCATENATE(DAY(AB$1),\"нет необхо - димости\"))","v":0},{"$f":"COUNTIF(Мониторинг!$BJ:$BJ,CONCATENATE(DAY(AC$1),\"нет необхо - димости\"))","v":0},{"$f":"COUNTIF(Мониторинг!$BJ:$BJ,CONCATENATE(DAY(AD$1),\"нет необхо - димости\"))","v":0},{"$f":"COUNTIF(Мониторинг!$BJ:$BJ,CONCATENATE(DAY(AE$1),\"нет необхо - димости\"))","v":0},{"$f":"COUNTIF(Мониторинг!$BJ:$BJ,CONCATENATE(DAY(AF$1),\"нет необхо - димости\"))","v":0},{"$f":"COUNTIF(Мониторинг!$BJ:$BJ,CONCATENATE(DAY(AG$1),\"нет необхо - димости\"))","v":0}]
[null,"% информирования",{"$f":"IF(SUM(C85:C87)<>0,(C85+C87)/SUM(C85:C87),\"\")","v":""},"","","","","","","","","","","","","","","","","","","","","","","","","","","","","",""]
[null,"Да",{"$f":"SUM(D89:AG89)","v":0},{"$f":"COUNTIF(Мониторинг!$BK:$BK,CONCATENATE(DAY(D$1),\"ДА\"))","v":0},{"$f":"COUNTIF(Мониторинг!$BK:$BK,CONCATENATE(DAY(E$1),\"ДА\"))","v":0},{"$f":"COUNTIF(Мониторинг!$BK:$BK,CONCATENATE(DAY(F$1),\"ДА\"))","v":0},{"$f":"COUNTIF(Мониторинг!$BK:$BK,CONCATENATE(DAY(G$1),\"ДА\"))","v":0},{"$f":"COUNTIF(Мониторинг!$BK:$BK,CONCATENATE(DAY(H$1),\"ДА\"))","v":0},{"$f":"COUNTIF(Мониторинг!$BK:$BK,CONCATENATE(DAY(I$1),\"ДА\"))","v":0},{"$f":"COUNTIF(Мониторинг!$BK:$BK,CONCATENATE(DAY(J$1),\"ДА\"))","v":0},{"$f":"COUNTIF(Мониторинг!$BK:$BK,CONCATENATE(DAY(K$1),\"ДА\"))","v":0},{"$f":"COUNTIF(Мониторинг!$BK:$BK,CONCATENATE(DAY(L$1),\"ДА\"))","v":0},{"$f":"COUNTIF(Мониторинг!$BK:$BK,CONCATENATE(DAY(M$1),\"ДА\"))","v":0},{"$f":"COUNTIF(Мониторинг!$BK:$BK,CONCATENATE(DAY(N$1),\"ДА\"))","v":0},{"$f":"COUNTIF(Мониторинг!$BK:$BK,CONCATENATE(DAY(O$1),\"ДА\"))","v":0},{"$f":"COUNTIF(Мониторинг!$BK:$BK,CONCATENATE(DAY(P$1),\"ДА\"))","v":0},{"$f":"COUNTIF(Мониторинг!$BK:$BK,CONCATENATE(DAY(Q$1),\"ДА\"))","v":0},{"$f":"COUNTIF(Мониторинг!$BK:$BK,CONCATENATE(DAY(R$1),\"ДА\"))","v":0},{"$f":"COUNTIF(Мониторинг!$BK:$BK,CONCATENATE(DAY(S$1),\"ДА\"))","v":0},{"$f":"COUNTIF(Мониторинг!$BK:$BK,CONCATENATE(DAY(T$1),\"ДА\"))","v":0},{"$f":"COUNTIF(Мониторинг!$BK:$BK,CONCATENATE(DAY(U$1),\"ДА\"))","v":0},{"$f":"COUNTIF(Мониторинг!$BK:$BK,CONCATENATE(DAY(V$1),\"ДА\"))","v":0},{"$f":"COUNTIF(Мониторинг!$BK:$BK,CONCATENATE(DAY(W$1),\"ДА\"))","v":0},{"$f":"COUNTIF(Мониторинг!$BK:$BK,CONCATENATE(DAY(X$1),\"ДА\"))","v":0},{"$f":"COUNTIF(Мониторинг!$BK:$BK,CONCATENATE(DAY(Y$1),\"ДА\"))","v":0},{"$f":"COUNTIF(Мониторинг!$BK:$BK,CONCATENATE(DAY(Z$1),\"ДА\"))","v":0},{"$f":"COUNTIF(Мониторинг!$BK:$BK,CONCATENATE(DAY(AA$1),\"ДА\"))","v":0},{"$f":"COUNTIF(Мониторинг!$BK:$BK,CONCATENATE(DAY(AB$1),\"ДА\"))","v":0},{"$f":"COUNTIF(Мониторинг!$BK:$BK,CONCATENATE(DAY(AC$1),\"ДА\"))","v":0},{"$f":"COUNTIF(Мониторинг!$BK:$BK,CONCATENATE(DAY(AD$1),\"ДА\"))","v":0},{"$f":"COUNTIF(Мониторинг!$BK:$BK,CONCATENATE(DAY(AE$1),\"ДА\"))","v":0},{"$f":"COUNTIF(Мониторинг!$BK:$BK,CONCATENATE(DAY(AF$1),\"ДА\"))","v":0},{"$f":"COUNTIF(Мониторинг!$BK:$BK,CONCATENATE(DAY(AG$1),\"ДА\"))","v":0}]
[null,"Нет",{"$f":"SUM(D90:AG90)","v":0},{"$f":"COUNTIF(Мониторинг!$BK:$BK,CONCATENATE(DAY(D$1),\"НЕТ\"))","v":0},{"$f":"COUNTIF(Мониторинг!$BK:$BK,CONCATENATE(DAY(E$1),\"НЕТ\"))","v":0},{"$f":"COUNTIF(Мониторинг!$BK:$BK,CONCATENATE(DAY(F$1),\"НЕТ\"))","v":0},{"$f":"COUNTIF(Мониторинг!$BK:$BK,CONCATENATE(DAY(G$1),\"НЕТ\"))","v":0},{"$f":"COUNTIF(Мониторинг!$BK:$BK,CONCATENATE(DAY(H$1),\"НЕТ\"))","v":0},{"$f":"COUNTIF(Мониторинг!$BK:$BK,CONCATENATE(DAY(I$1),\"НЕТ\"))","v":0},{"$f":"COUNTIF(Мониторинг!$BK:$BK,CONCATENATE(DAY(J$1),\"НЕТ\"))","v":0},{"$f":"COUNTIF(Мониторинг!$BK:$BK,CONCATENATE(DAY(K$1),\"НЕТ\"))","v":0},{"$f":"COUNTIF(Мониторинг!$BK:$BK,CONCATENATE(DAY(L$1),\"НЕТ\"))","v":0},{"$f":"COUNTIF(Мониторинг!$BK:$BK,CONCATENATE(DAY(M$1),\"НЕТ\"))","v":0},{"$f":"COUNTIF(Мониторинг!$BK:$BK,CONCATENATE(DAY(N$1),\"НЕТ\"))","v":0},{"$f":"COUNTIF(Мониторинг!$BK:$BK,CONCATENATE(DAY(O$1),\"НЕТ\"))","v":0},{"$f":"COUNTIF(Мониторинг!$BK:$BK,CONCATENATE(DAY(P$1),\"НЕТ\"))","v":0},{"$f":"COUNTIF(Мониторинг!$BK:$BK,CONCATENATE(DAY(Q$1),\"НЕТ\"))","v":0},{"$f":"COUNTIF(Мониторинг!$BK:$BK,CONCATENATE(DAY(R$1),\"НЕТ\"))","v":0},{"$f":"COUNTIF(Мониторинг!$BK:$BK,CONCATENATE(DAY(S$1),\"НЕТ\"))","v":0},{"$f":"COUNTIF(Мониторинг!$BK:$BK,CONCATENATE(DAY(T$1),\"НЕТ\"))","v":0},{"$f":"COUNTIF(Мониторинг!$BK:$BK,CONCATENATE(DAY(U$1),\"НЕТ\"))","v":0},{"$f":"COUNTIF(Мониторинг!$BK:$BK,CONCATENATE(DAY(V$1),\"НЕТ\"))","v":0},{"$f":"COUNTIF(Мониторинг!$BK:$BK,CONCATENATE(DAY(W$1),\"НЕТ\"))","v":0},{"$f":"COUNTIF(Мониторинг!$BK:$BK,CONCATENATE(DAY(X$1),\"НЕТ\"))","v":0},{"$f":"COUNTIF(Мониторинг!$BK:$BK,CONCATENATE(DAY(Y$1),\"НЕТ\"))","v":0},{"$f":"COUNTIF(Мониторинг!$BK:$BK,CONCATENATE(DAY(Z$1),\"НЕТ\"))","v":0},{"$f":"COUNTIF(Мониторинг!$BK:$BK,CONCATENATE(DAY(AA$1),\"НЕТ\"))","v":0},{"$f":"COUNTIF(Мониторинг!$BK:$BK,CONCATENATE(DAY(AB$1),\"НЕТ\"))","v":0},{"$f":"COUNTIF(Мониторинг!$BK:$BK,CONCATENATE(DAY(AC$1),\"НЕТ\"))","v":0},{"$f":"COUNTIF(Мониторинг!$BK:$BK,CONCATENATE(DAY(AD$1),\"НЕТ\"))","v":0},{"$f":"COUNTIF(Мониторинг!$BK:$BK,CONCATENATE(DAY(AE$1),\"НЕТ\"))","v":0},{"$f":"COUNTIF(Мониторинг!$BK:$BK,CONCATENATE(DAY(AF$1),\"НЕТ\"))","v":0},{"$f":"COUNTIF(Мониторинг!$BK:$BK,CONCATENATE(DAY(AG$1),\"НЕТ\"))","v":0}]
[null,"Нет необходимости",{"$f":"SUM(D91:AG91)","v":0},{"$f":"COUNTIF(Мониторинг!$BK:$BK,CONCATENATE(DAY(D$1),\"нет необхо - димости\"))","v":0},{"$f":"COUNTIF(Мониторинг!$BK:$BK,CONCATENATE(DAY(E$1),\"нет необхо - димости\"))","v":0},{"$f":"COUNTIF(Мониторинг!$BK:$BK,CONCATENATE(DAY(F$1),\"нет необхо - димости\"))","v":0},{"$f":"COUNTIF(Мониторинг!$BK:$BK,CONCATENATE(DAY(G$1),\"нет необхо - димости\"))","v":0},{"$f":"COUNTIF(Мониторинг!$BK:$BK,CONCATENATE(DAY(H$1),\"нет необхо - димости\"))","v":0},{"$f":"COUNTIF(Мониторинг!$BK:$BK,CONCATENATE(DAY(I$1),\"нет необхо - димости\"))","v":0},{"$f":"COUNTIF(Мониторинг!$BK:$BK,CONCATENATE(DAY(J$1),\"нет необхо - димости\"))","v":0},{"$f":"COUNTIF(Мониторинг!$BK:$BK,CONCATENATE(DAY(K$1),\"нет необхо - димости\"))","v":0},{"$f":"COUNTIF(Мониторинг!$BK:$BK,CONCATENATE(DAY(L$1),\"нет необхо - димости\"))","v":0},{"$f":"COUNTIF(Мониторинг!$BK:$BK,CONCATENATE(DAY(M$1),\"нет необхо - димости\"))","v":0},{"$f":"COUNTIF(Мониторинг!$BK:$BK,CONCATENATE(DAY(N$1),\"нет необхо - димости\"))","v":0},{"$f":"COUNTIF(Мониторинг!$BK:$BK,CONCATENATE(DAY(O$1),\"нет необхо - димости\"))","v":0},{"$f":"COUNTIF(Мониторинг!$BK:$BK,CONCATENATE(DAY(P$1),\"нет необхо - димости\"))","v":0},{"$f":"COUNTIF(Мониторинг!$BK:$BK,CONCATENATE(DAY(Q$1),\"нет необхо - димости\"))","v":0},{"$f":"COUNTIF(Мониторинг!$BK:$BK,CONCATENATE(DAY(R$1),\"нет необхо - димости\"))","v":0},{"$f":"COUNTIF(Мониторинг!$BK:$BK,CONCATENATE(DAY(S$1),\"нет необхо - димости\"))","v":0},{"$f":"COUNTIF(Мониторинг!$BK:$BK,CONCATENATE(DAY(T$1),\"нет необхо - димости\"))","v":0},{"$f":"COUNTIF(Мониторинг!$BK:$BK,CONCATENATE(DAY(U$1),\"нет необхо - димости\"))","v":0},{"$f":"COUNTIF(Мониторинг!$BK:$BK,CONCATENATE(DAY(V$1),\"нет необхо - димости\"))","v":0},{"$f":"COUNTIF(Мониторинг!$BK:$BK,CONCATENATE(DAY(W$1),\"нет необхо - димости\"))","v":0},{"$f":"COUNTIF(Мониторинг!$BK:$BK,CONCATENATE(DAY(X$1),\"нет необхо - димости\"))","v":0},{"$f":"COUNTIF(Мониторинг!$BK:$BK,CONCATENATE(DAY(Y$1),\"нет необхо - димости\"))","v":0},{"$f":"COUNTIF(Мониторинг!$BK:$BK,CONCATENATE(DAY(Z$1),\"нет необхо - димости\"))","v":0},{"$f":"COUNTIF(Мониторинг!$BK:$BK,CONCATENATE(DAY(AA$1),\"нет необхо - димости\"))","v":0},{"$f":"COUNTIF(Мониторинг!$BK:$BK,CONCATENATE(DAY(AB$1),\"нет необхо - димости\"))","v":0},{"$f":"COUNTIF(Мониторинг!$BK:$BK,CONCATENATE(DAY(AC$1),\"нет необхо - димости\"))","v":0},{"$f":"COUNTIF(Мониторинг!$BK:$BK,CONCATENATE(DAY(AD$1),\"нет необхо - димости\"))","v":0},{"$f":"COUNTIF(Мониторинг!$BK:$BK,CONCATENATE(DAY(AE$1),\"нет необхо - димости\"))","v":0},{"$f":"COUNTIF(Мониторинг!$BK:$BK,CONCATENATE(DAY(AF$1),\"нет необхо - димости\"))","v":0},{"$f":"COUNTIF(Мониторинг!$BK:$BK,CONCATENATE(DAY(AG$1),\"нет необхо - димости\"))","v":0}]
[null,"% информирования",{"$f":"IF(SUM(C89:C91)<>0,(C89+C91)/SUM(C89:C91),\"\")","v":""},"","","","","","","","","","","","","","","","","","","","","","","","","","","","","",""]
[null,"Да",{"$f":"SUM(D93:AG93)","v":0},{"$f":"COUNTIF(Мониторинг!$BL:$BL,CONCATENATE(DAY(D$1),\"ДА\"))","v":0},{"$f":"COUNTIF(Мониторинг!$BL:$BL,CONCATENATE(DAY(E$1),\"ДА\"))","v":0},{"$f":"COUNTIF(Мониторинг!$BL:$BL,CONCATENATE(DAY(F$1),\"ДА\"))","v":0},{"$f":"COUNTIF(Мониторинг!$BL:$BL,CONCATENATE(DAY(G$1),\"ДА\"))","v":0},{"$f":"COUNTIF(Мониторинг!$BL:$BL,CONCATENATE(DAY(H$1),\"ДА\"))","v":0},{"$f":"COUNTIF(Мониторинг!$BL:$BL,CONCATENATE(DAY(I$1),\"ДА\"))","v":0},{"$f":"COUNTIF(Мониторинг!$BL:$BL,CONCATENATE(DAY(J$1),\"ДА\"))","v":0},{"$f":"COUNTIF(Мониторинг!$BL:$BL,CONCATENATE(DAY(K$1),\"ДА\"))","v":0},{"$f":"COUNTIF(Мониторинг!$BL:$BL,CONCATENATE(DAY(L$1),\"ДА\"))","v":0},{"$f":"COUNTIF(Мониторинг!$BL:$BL,CONCATENATE(DAY(M$1),\"ДА\"))","v":0},{"$f":"COUNTIF(Мониторинг!$BL:$BL,CONCATENATE(DAY(N$1),\"ДА\"))","v":0},{"$f":"COUNTIF(Мониторинг!$BL:$BL,CONCATENATE(DAY(O$1),\"ДА\"))","v":0},{"$f":"COUNTIF(Мониторинг!$BL:$BL,CONCATENATE(DAY(P$1),\"ДА\"))","v":0},{"$f":"COUNTIF(Мониторинг!$BL:$BL,CONCATENATE(DAY(Q$1),\"ДА\"))","v":0},{"$f":"COUNTIF(Мониторинг!$BL:$BL,CONCATENATE(DAY(R$1),\"ДА\"))","v":0},{"$f":"COUNTIF(Мониторинг!$BL:$BL,CONCATENATE(DAY(S$1),\"ДА\"))","v":0},{"$f":"COUNTIF(Мониторинг!$BL:$BL,CONCATENATE(DAY(T$1),\"ДА\"))","v":0},{"$f":"COUNTIF(Мониторинг!$BL:$BL,CONCATENATE(DAY(U$1),\"ДА\"))","v":0},{"$f":"COUNTIF(Мониторинг!$BL:$BL,CONCATENATE(DAY(V$1),\"ДА\"))","v":0},{"$f":"COUNTIF(Мониторинг!$BL:$BL,CONCATENATE(DAY(W$1),\"ДА\"))","v":0},{"$f":"COUNTIF(Мониторинг!$BL:$BL,CONCATENATE(DAY(X$1),\"ДА\"))","v":0},{"$f":"COUNTIF(Мониторинг!$BL:$BL,CONCATENATE(DAY(Y$1),\"ДА\"))","v":0},{"$f":"COUNTIF(Мониторинг!$BL:$BL,CONCATENATE(DAY(Z$1),\"ДА\"))","v":0},{"$f":"COUNTIF(Мониторинг!$BL:$BL,CONCATENATE(DAY(AA$1),\"ДА\"))","v":0},{"$f":"COUNTIF(Мониторинг!$BL:$BL,CONCATENATE(DAY(AB$1),\"ДА\"))","v":0},{"$f":"COUNTIF(Мониторинг!$BL:$BL,CONCATENATE(DAY(AC$1),\"ДА\"))","v":0},{"$f":"COUNTIF(Мониторинг!$BL:$BL,CONCATENATE(DAY(AD$1),\"ДА\"))","v":0},{"$f":"COUNTIF(Мониторинг!$BL:$BL,CONCATENATE(DAY(AE$1),\"ДА\"))","v":0},{"$f":"COUNTIF(Мониторинг!$BL:$BL,CONCATENATE(DAY(AF$1),\"ДА\"))","v":0},{"$f":"COUNTIF(Мониторинг!$BL:$BL,CONCATENATE(DAY(AG$1),\"ДА\"))","v":0}]
[null,"Нет",{"$f":"SUM(D94:AG94)","v":0},{"$f":"COUNTIF(Мониторинг!$BL:$BL,CONCATENATE(DAY(D$1),\"НЕТ\"))","v":0},{"$f":"COUNTIF(Мониторинг!$BL:$BL,CONCATENATE(DAY(E$1),\"НЕТ\"))","v":0},{"$f":"COUNTIF(Мониторинг!$BL:$BL,CONCATENATE(DAY(F$1),\"НЕТ\"))","v":0},{"$f":"COUNTIF(Мониторинг!$BL:$BL,CONCATENATE(DAY(G$1),\"НЕТ\"))","v":0},{"$f":"COUNTIF(Мониторинг!$BL:$BL,CONCATENATE(DAY(H$1),\"НЕТ\"))","v":0},{"$f":"COUNTIF(Мониторинг!$BL:$BL,CONCATENATE(DAY(I$1),\"НЕТ\"))","v":0},{"$f":"COUNTIF(Мониторинг!$BL:$BL,CONCATENATE(DAY(J$1),\"НЕТ\"))","v":0},{"$f":"COUNTIF(Мониторинг!$BL:$BL,CONCATENATE(DAY(K$1),\"НЕТ\"))","v":0},{"$f":"COUNTIF(Мониторинг!$BL:$BL,CONCATENATE(DAY(L$1),\"НЕТ\"))","v":0},{"$f":"COUNTIF(Мониторинг!$BL:$BL,CONCATENATE(DAY(M$1),\"НЕТ\"))","v":0},{"$f":"COUNTIF(Мониторинг!$BL:$BL,CONCATENATE(DAY(N$1),\"НЕТ\"))","v":0},{"$f":"COUNTIF(Мониторинг!$BL:$BL,CONCATENATE(DAY(O$1),\"НЕТ\"))","v":0},{"$f":"COUNTIF(Мониторинг!$BL:$BL,CONCATENATE(DAY(P$1),\"НЕТ\"))","v":0},{"$f":"COUNTIF(Мониторинг!$BL:$BL,CONCATENATE(DAY(Q$1),\"НЕТ\"))","v":0},{"$f":"COUNTIF(Мониторинг!$BL:$BL,CONCATENATE(DAY(R$1),\"НЕТ\"))","v":0},{"$f":"COUNTIF(Мониторинг!$BL:$BL,CONCATENATE(DAY(S$1),\"НЕТ\"))","v":0},{"$f":"COUNTIF(Мониторинг!$BL:$BL,CONCATENATE(DAY(T$1),\"НЕТ\"))","v":0},{"$f":"COUNTIF(Мониторинг!$BL:$BL,CONCATENATE(DAY(U$1),\"НЕТ\"))","v":0},{"$f":"COUNTIF(Мониторинг!$BL:$BL,CONCATENATE(DAY(V$1),\"НЕТ\"))","v":0},{"$f":"COUNTIF(Мониторинг!$BL:$BL,CONCATENATE(DAY(W$1),\"НЕТ\"))","v":0},{"$f":"COUNTIF(Мониторинг!$BL:$BL,CONCATENATE(DAY(X$1),\"НЕТ\"))","v":0},{"$f":"COUNTIF(Мониторинг!$BL:$BL,CONCATENATE(DAY(Y$1),\"НЕТ\"))","v":0},{"$f":"COUNTIF(Мониторинг!$BL:$BL,CONCATENATE(DAY(Z$1),\"НЕТ\"))","v":0},{"$f":"COUNTIF(Мониторинг!$BL:$BL,CONCATENATE(DAY(AA$1),\"НЕТ\"))","v":0},{"$f":"COUNTIF(Мониторинг!$BL:$BL,CONCATENATE(DAY(AB$1),\"НЕТ\"))","v":0},{"$f":"COUNTIF(Мониторинг!$BL:$BL,CONCATENATE(DAY(AC$1),\"НЕТ\"))","v":0},{"$f":"COUNTIF(Мониторинг!$BL:$BL,CONCATENATE(DAY(AD$1),\"НЕТ\"))","v":0},{"$f":"COUNTIF(Мониторинг!$BL:$BL,CONCATENATE(DAY(AE$1),\"НЕТ\"))","v":0},{"$f":"COUNTIF(Мониторинг!$BL:$BL,CONCATENATE(DAY(AF$1),\"НЕТ\"))","v":0},{"$f":"COUNTIF(Мониторинг!$BL:$BL,CONCATENATE(DAY(AG$1),\"НЕТ\"))","v":0}]
[null,"Нет необходимости",{"$f":"SUM(D95:AG95)","v":0},{"$f":"COUNTIF(Мониторинг!$BL:$BL,CONCATENATE(DAY(D$1),\"нет необхо - димости\"))","v":0},{"$f":"COUNTIF(Мониторинг!$BL:$BL,CONCATENATE(DAY(E$1),\"нет необхо - димости\"))","v":0},{"$f":"COUNTIF(Мониторинг!$BL:$BL,CONCATENATE(DAY(F$1),\"нет необхо - димости\"))","v":0},{"$f":"COUNTIF(Мониторинг!$BL:$BL,CONCATENATE(DAY(G$1),\"нет необхо - димости\"))","v":0},{"$f":"COUNTIF(Мониторинг!$BL:$BL,CONCATENATE(DAY(H$1),\"нет необхо - димости\"))","v":0},{"$f":"COUNTIF(Мониторинг!$BL:$BL,CONCATENATE(DAY(I$1),\"нет необхо - димости\"))","v":0},{"$f":"COUNTIF(Мониторинг!$BL:$BL,CONCATENATE(DAY(J$1),\"нет необхо - димости\"))","v":0},{"$f":"COUNTIF(Мониторинг!$BL:$BL,CONCATENATE(DAY(K$1),\"нет необхо - димости\"))","v":0},{"$f":"COUNTIF(Мониторинг!$BL:$BL,CONCATENATE(DAY(L$1),\"нет необхо - димости\"))","v":0},{"$f":"COUNTIF(Мониторинг!$BL:$BL,CONCATENATE(DAY(M$1),\"нет необхо - димости\"))","v":0},{"$f":"COUNTIF(Мониторинг!$BL:$BL,CONCATENATE(DAY(N$1),\"нет необхо - димости\"))","v":0},{"$f":"COUNTIF(Мониторинг!$BL:$BL,CONCATENATE(DAY(O$1),\"нет необхо - димости\"))","v":0},{"$f":"COUNTIF(Мониторинг!$BL:$BL,CONCATENATE(DAY(P$1),\"нет необхо - димости\"))","v":0},{"$f":"COUNTIF(Мониторинг!$BL:$BL,CONCATENATE(DAY(Q$1),\"нет необхо - димости\"))","v":0},{"$f":"COUNTIF(Мониторинг!$BL:$BL,CONCATENATE(DAY(R$1),\"нет необхо - димости\"))","v":0},{"$f":"COUNTIF(Мониторинг!$BL:$BL,CONCATENATE(DAY(S$1),\"нет необхо - димости\"))","v":0},{"$f":"COUNTIF(Мониторинг!$BL:$BL,CONCATENATE(DAY(T$1),\"нет необхо - димости\"))","v":0},{"$f":"COUNTIF(Мониторинг!$BL:$BL,CONCATENATE(DAY(U$1),\"нет необхо - димости\"))","v":0},{"$f":"COUNTIF(Мониторинг!$BL:$BL,CONCATENATE(DAY(V$1),\"нет необхо - димости\"))","v":0},{"$f":"COUNTIF(Мониторинг!$BL:$BL,CONCATENATE(DAY(W$1),\"нет необхо - димости\"))","v":0},{"$f":"COUNTIF(Мониторинг!$BL:$BL,CONCATENATE(DAY(X$1),\"нет необхо - димости\"))","v":0},{"$f":"COUNTIF(Мониторинг!$BL:$BL,CONCATENATE(DAY(Y$1),\"нет необхо - димости\"))","v":0},{"$f":"COUNTIF(Мониторинг!$BL:$BL,CONCATENATE(DAY(Z$1),\"нет необхо - димости\"))","v":0},{"$f":"COUNTIF(Мониторинг!$BL:$BL,CONCATENATE(DAY(AA$1),\"нет необхо - димости\"))","v":0},{"$f":"COUNTIF(Мониторинг!$BL:$BL,CONCATENATE(DAY(AB$1),\"нет необхо - димости\"))","v":0},{"$f":"COUNTIF(Мониторинг!$BL:$BL,CONCATENATE(DAY(AC$1),\"нет необхо - димости\"))","v":0},{"$f":"COUNTIF(Мониторинг!$BL:$BL,CONCATENATE(DAY(AD$1),\"нет необхо - димости\"))","v":0},{"$f":"COUNTIF(Мониторинг!$BL:$BL,CONCATENATE(DAY(AE$1),\"нет необхо - димости\"))","v":0},{"$f":"COUNTIF(Мониторинг!$BL:$BL,CONCATENATE(DAY(AF$1),\"нет необхо - димости\"))","v":0},{"$f":"COUNTIF(Мониторинг!$BL:$BL,CONCATENATE(DAY(AG$1),\"нет необхо - димости\"))","v":0}]
[null,"% информирования",{"$f":"IF(SUM(C93:C95)<>0,(C93+C95)/SUM(C93:C95),\"\")","v":""},"","","","","","","","","","","","","","","","","","","","","","","","","","","","","",""]
[null,"Да",{"$f":"SUM(D97:AG97)","v":0},{"$f":"COUNTIF(Мониторинг!$BM:$BM,CONCATENATE(DAY(D$1),\"ДА\"))","v":0},{"$f":"COUNTIF(Мониторинг!$BM:$BM,CONCATENATE(DAY(E$1),\"ДА\"))","v":0},{"$f":"COUNTIF(Мониторинг!$BM:$BM,CONCATENATE(DAY(F$1),\"ДА\"))","v":0},{"$f":"COUNTIF(Мониторинг!$BM:$BM,CONCATENATE(DAY(G$1),\"ДА\"))","v":0},{"$f":"COUNTIF(Мониторинг!$BM:$BM,CONCATENATE(DAY(H$1),\"ДА\"))","v":0},{"$f":"COUNTIF(Мониторинг!$BM:$BM,CONCATENATE(DAY(I$1),\"ДА\"))","v":0},{"$f":"COUNTIF(Мониторинг!$BM:$BM,CONCATENATE(DAY(J$1),\"ДА\"))","v":0},{"$f":"COUNTIF(Мониторинг!$BM:$BM,CONCATENATE(DAY(K$1),\"ДА\"))","v":0},{"$f":"COUNTIF(Мониторинг!$BM:$BM,CONCATENATE(DAY(L$1),\"ДА\"))","v":0},{"$f":"COUNTIF(Мониторинг!$BM:$BM,CONCATENATE(DAY(M$1),\"ДА\"))","v":0},{"$f":"COUNTIF(Мониторинг!$BM:$BM,CONCATENATE(DAY(N$1),\"ДА\"))","v":0},{"$f":"COUNTIF(Мониторинг!$BM:$BM,CONCATENATE(DAY(O$1),\"ДА\"))","v":0},{"$f":"COUNTIF(Мониторинг!$BM:$BM,CONCATENATE(DAY(P$1),\"ДА\"))","v":0},{"$f":"COUNTIF(Мониторинг!$BM:$BM,CONCATENATE(DAY(Q$1),\"ДА\"))","v":0},{"$f":"COUNTIF(Мониторинг!$BM:$BM,CONCATENATE(DAY(R$1),\"ДА\"))","v":0},{"$f":"COUNTIF(Мониторинг!$BM:$BM,CONCATENATE(DAY(S$1),\"ДА\"))","v":0},{"$f":"COUNTIF(Мониторинг!$BM:$BM,CONCATENATE(DAY(T$1),\"ДА\"))","v":0},{"$f":"COUNTIF(Мониторинг!$BM:$BM,CONCATENATE(DAY(U$1),\"ДА\"))","v":0},{"$f":"COUNTIF(Мониторинг!$BM:$BM,CONCATENATE(DAY(V$1),\"ДА\"))","v":0},{"$f":"COUNTIF(Мониторинг!$BM:$BM,CONCATENATE(DAY(W$1),\"ДА\"))","v":0},{"$f":"COUNTIF(Мониторинг!$BM:$BM,CONCATENATE(DAY(X$1),\"ДА\"))","v":0},{"$f":"COUNTIF(Мониторинг!$BM:$BM,CONCATENATE(DAY(Y$1),\"ДА\"))","v":0},{"$f":"COUNTIF(Мониторинг!$BM:$BM,CONCATENATE(DAY(Z$1),\"ДА\"))","v":0},{"$f":"COUNTIF(Мониторинг!$BM:$BM,CONCATENATE(DAY(AA$1),\"ДА\"))","v":0},{"$f":"COUNTIF(Мониторинг!$BM:$BM,CONCATENATE(DAY(AB$1),\"ДА\"))","v":0},{"$f":"COUNTIF(Мониторинг!$BM:$BM,CONCATENATE(DAY(AC$1),\"ДА\"))","v":0},{"$f":"COUNTIF(Мониторинг!$BM:$BM,CONCATENATE(DAY(AD$1),\"ДА\"))","v":0},{"$f":"COUNTIF(Мониторинг!$BM:$BM,CONCATENATE(DAY(AE$1),\"ДА\"))","v":0},{"$f":"COUNTIF(Мониторинг!$BM:$BM,CONCATENATE(DAY(AF$1),\"ДА\"))","v":0},{"$f":"COUNTIF(Мониторинг!$BM:$BM,CONCATENATE(DAY(AG$1),\"ДА\"))","v":0}]
[null,"Нет",{"$f":"SUM(D98:AG98)","v":0},{"$f":"COUNTIF(Мониторинг!$BM:$BM,CONCATENATE(DAY(D$1),\"НЕТ\"))","v":0},{"$f":"COUNTIF(Мониторинг!$BM:$BM,CONCATENATE(DAY(E$1),\"НЕТ\"))","v":0},{"$f":"COUNTIF(Мониторинг!$BM:$BM,CONCATENATE(DAY(F$1),\"НЕТ\"))","v":0},{"$f":"COUNTIF(Мониторинг!$BM:$BM,CONCATENATE(DAY(G$1),\"НЕТ\"))","v":0},{"$f":"COUNTIF(Мониторинг!$BM:$BM,CONCATENATE(DAY(H$1),\"НЕТ\"))","v":0},{"$f":"COUNTIF(Мониторинг!$BM:$BM,CONCATENATE(DAY(I$1),\"НЕТ\"))","v":0},{"$f":"COUNTIF(Мониторинг!$BM:$BM,CONCATENATE(DAY(J$1),\"НЕТ\"))","v":0},{"$f":"COUNTIF(Мониторинг!$BM:$BM,CONCATENATE(DAY(K$1),\"НЕТ\"))","v":0},{"$f":"COUNTIF(Мониторинг!$BM:$BM,CONCATENATE(DAY(L$1),\"НЕТ\"))","v":0},{"$f":"COUNTIF(Мониторинг!$BM:$BM,CONCATENATE(DAY(M$1),\"НЕТ\"))","v":0},{"$f":"COUNTIF(Мониторинг!$BM:$BM,CONCATENATE(DAY(N$1),\"НЕТ\"))","v":0},{"$f":"COUNTIF(Мониторинг!$BM:$BM,CONCATENATE(DAY(O$1),\"НЕТ\"))","v":0},{"$f":"COUNTIF(Мониторинг!$BM:$BM,CONCATENATE(DAY(P$1),\"НЕТ\"))","v":0},{"$f":"COUNTIF(Мониторинг!$BM:$BM,CONCATENATE(DAY(Q$1),\"НЕТ\"))","v":0},{"$f":"COUNTIF(Мониторинг!$BM:$BM,CONCATENATE(DAY(R$1),\"НЕТ\"))","v":0},{"$f":"COUNTIF(Мониторинг!$BM:$BM,CONCATENATE(DAY(S$1),\"НЕТ\"))","v":0},{"$f":"COUNTIF(Мониторинг!$BM:$BM,CONCATENATE(DAY(T$1),\"НЕТ\"))","v":0},{"$f":"COUNTIF(Мониторинг!$BM:$BM,CONCATENATE(DAY(U$1),\"НЕТ\"))","v":0},{"$f":"COUNTIF(Мониторинг!$BM:$BM,CONCATENATE(DAY(V$1),\"НЕТ\"))","v":0},{"$f":"COUNTIF(Мониторинг!$BM:$BM,CONCATENATE(DAY(W$1),\"НЕТ\"))","v":0},{"$f":"COUNTIF(Мониторинг!$BM:$BM,CONCATENATE(DAY(X$1),\"НЕТ\"))","v":0},{"$f":"COUNTIF(Мониторинг!$BM:$BM,CONCATENATE(DAY(Y$1),\"НЕТ\"))","v":0},{"$f":"COUNTIF(Мониторинг!$BM:$BM,CONCATENATE(DAY(Z$1),\"НЕТ\"))","v":0},{"$f":"COUNTIF(Мониторинг!$BM:$BM,CONCATENATE(DAY(AA$1),\"НЕТ\"))","v":0},{"$f":"COUNTIF(Мониторинг!$BM:$BM,CONCATENATE(DAY(AB$1),\"НЕТ\"))","v":0},{"$f":"COUNTIF(Мониторинг!$BM:$BM,CONCATENATE(DAY(AC$1),\"НЕТ\"))","v":0},{"$f":"COUNTIF(Мониторинг!$BM:$BM,CONCATENATE(DAY(AD$1),\"НЕТ\"))","v":0},{"$f":"COUNTIF(Мониторинг!$BM:$BM,CONCATENATE(DAY(AE$1),\"НЕТ\"))","v":0},{"$f":"COUNTIF(Мониторинг!$BM:$BM,CONCATENATE(DAY(AF$1),\"НЕТ\"))","v":0},{"$f":"COUNTIF(Мониторинг!$BM:$BM,CONCATENATE(DAY(AG$1),\"НЕТ\"))","v":0}]
[null,"Нет необходимости",{"$f":"SUM(D99:AG99)","v":0},{"$f":"COUNTIF(Мониторинг!$BM:$BM,CONCATENATE(DAY(D$1),\"нет необхо - димости\"))","v":0},{"$f":"COUNTIF(Мониторинг!$BM:$BM,CONCATENATE(DAY(E$1),\"нет необхо - димости\"))","v":0},{"$f":"COUNTIF(Мониторинг!$BM:$BM,CONCATENATE(DAY(F$1),\"нет необхо - димости\"))","v":0},{"$f":"COUNTIF(Мониторинг!$BM:$BM,CONCATENATE(DAY(G$1),\"нет необхо - димости\"))","v":0},{"$f":"COUNTIF(Мониторинг!$BM:$BM,CONCATENATE(DAY(H$1),\"нет необхо - димости\"))","v":0},{"$f":"COUNTIF(Мониторинг!$BM:$BM,CONCATENATE(DAY(I$1),\"нет необхо - димости\"))","v":0},{"$f":"COUNTIF(Мониторинг!$BM:$BM,CONCATENATE(DAY(J$1),\"нет необхо - димости\"))","v":0},{"$f":"COUNTIF(Мониторинг!$BM:$BM,CONCATENATE(DAY(K$1),\"нет необхо - димости\"))","v":0},{"$f":"COUNTIF(Мониторинг!$BM:$BM,CONCATENATE(DAY(L$1),\"нет необхо - димости\"))","v":0},{"$f":"COUNTIF(Мониторинг!$BM:$BM,CONCATENATE(DAY(M$1),\"нет необхо - димости\"))","v":0},{"$f":"COUNTIF(Мониторинг!$BM:$BM,CONCATENATE(DAY(N$1),\"нет необхо - димости\"))","v":0},{"$f":"COUNTIF(Мониторинг!$BM:$BM,CONCATENATE(DAY(O$1),\"нет необхо - димости\"))","v":0},{"$f":"COUNTIF(Мониторинг!$BM:$BM,CONCATENATE(DAY(P$1),\"нет необхо - димости\"))","v":0},{"$f":"COUNTIF(Мониторинг!$BM:$BM,CONCATENATE(DAY(Q$1),\"нет необхо - димости\"))","v":0},{"$f":"COUNTIF(Мониторинг!$BM:$BM,CONCATENATE(DAY(R$1),\"нет необхо - димости\"))","v":0},{"$f":"COUNTIF(Мониторинг!$BM:$BM,CONCATENATE(DAY(S$1),\"нет необхо - димости\"))","v":0},{"$f":"COUNTIF(Мониторинг!$BM:$BM,CONCATENATE(DAY(T$1),\"нет необхо - димости\"))","v":0},{"$f":"COUNTIF(Мониторинг!$BM:$BM,CONCATENATE(DAY(U$1),\"нет необхо - димости\"))","v":0},{"$f":"COUNTIF(Мониторинг!$BM:$BM,CONCATENATE(DAY(V$1),\"нет необхо - димости\"))","v":0},{"$f":"COUNTIF(Мониторинг!$BM:$BM,CONCATENATE(DAY(W$1),\"нет необхо - димости\"))","v":0},{"$f":"COUNTIF(Мониторинг!$BM:$BM,CONCATENATE(DAY(X$1),\"нет необхо - димости\"))","v":0},{"$f":"COUNTIF(Мониторинг!$BM:$BM,CONCATENATE(DAY(Y$1),\"нет необхо - димости\"))","v":0},{"$f":"COUNTIF(Мониторинг!$BM:$BM,CONCATENATE(DAY(Z$1),\"нет необхо - димости\"))","v":0},{"$f":"COUNTIF(Мониторинг!$BM:$BM,CONCATENATE(DAY(AA$1),\"нет необхо - димости\"))","v":0},{"$f":"COUNTIF(Мониторинг!$BM:$BM,CONCATENATE(DAY(AB$1),\"нет необхо - димости\"))","v":0},{"$f":"COUNTIF(Мониторинг!$BM:$BM,CONCATENATE(DAY(AC$1),\"нет необхо - димости\"))","v":0},{"$f":"COUNTIF(Мониторинг!$BM:$BM,CONCATENATE(DAY(AD$1),\"нет необхо - димости\"))","v":0},{"$f":"COUNTIF(Мониторинг!$BM:$BM,CONCATENATE(DAY(AE$1),\"нет необхо - димости\"))","v":0},{"$f":"COUNTIF(Мониторинг!$BM:$BM,CONCATENATE(DAY(AF$1),\"нет необхо - димости\"))","v":0},{"$f":"COUNTIF(Мониторинг!$BM:$BM,CONCATENATE(DAY(AG$1),\"нет необхо - димости\"))","v":0}]
[null,"% информирования",{"$f":"IF(SUM(C97:C99)<>0,(C97+C99)/SUM(C97:C99),\"\")","v":""},"","","","","","","","","","","","","","","","","","","","","","","","","","","","","",""]
[null,"Да",{"$f":"SUM(D101:AG101)","v":0},{"$f":"COUNTIF(Мониторинг!$BN:$BN,CONCATENATE(DAY(D$1),\"ДА\"))","v":0},{"$f":"COUNTIF(Мониторинг!$BN:$BN,CONCATENATE(DAY(E$1),\"ДА\"))","v":0},{"$f":"COUNTIF(Мониторинг!$BN:$BN,CONCATENATE(DAY(F$1),\"ДА\"))","v":0},{"$f":"COUNTIF(Мониторинг!$BN:$BN,CONCATENATE(DAY(G$1),\"ДА\"))","v":0},{"$f":"COUNTIF(Мониторинг!$BN:$BN,CONCATENATE(DAY(H$1),\"ДА\"))","v":0},{"$f":"COUNTIF(Мониторинг!$BN:$BN,CONCATENATE(DAY(I$1),\"ДА\"))","v":0},{"$f":"COUNTIF(Мониторинг!$BN:$BN,CONCATENATE(DAY(J$1),\"ДА\"))","v":0},{"$f":"COUNTIF(Мониторинг!$BN:$BN,CONCATENATE(DAY(K$1),\"ДА\"))","v":0},{"$f":"COUNTIF(Мониторинг!$BN:$BN,CONCATENATE(DAY(L$1),\"ДА\"))","v":0},{"$f":"COUNTIF(Мониторинг!$BN:$BN,CONCATENATE(DAY(M$1),\"ДА\"))","v":0},{"$f":"COUNTIF(Мониторинг!$BN:$BN,CONCATENATE(DAY(N$1),\"ДА\"))","v":0},{"$f":"COUNTIF(Мониторинг!$BN:$BN,CONCATENATE(DAY(O$1),\"ДА\"))","v":0},{"$f":"COUNTIF(Мониторинг!$BN:$BN,CONCATENATE(DAY(P$1),\"ДА\"))","v":0},{"$f":"COUNTIF(Мониторинг!$BN:$BN,CONCATENATE(DAY(Q$1),\"ДА\"))","v":0},{"$f":"COUNTIF(Мониторинг!$BN:$BN,CONCATENATE(DAY(R$1),\"ДА\"))","v":0},{"$f":"COUNTIF(Мониторинг!$BN:$BN,CONCATENATE(DAY(S$1),\"ДА\"))","v":0},{"$f":"COUNTIF(Мониторинг!$BN:$BN,CONCATENATE(DAY(T$1),\"ДА\"))","v":0},{"$f":"COUNTIF(Мониторинг!$BN:$BN,CONCATENATE(DAY(U$1),\"ДА\"))","v":0},{"$f":"COUNTIF(Мониторинг!$BN:$BN,CONCATENATE(DAY(V$1),\"ДА\"))","v":0},{"$f":"COUNTIF(Мониторинг!$BN:$BN,CONCATENATE(DAY(W$1),\"ДА\"))","v":0},{"$f":"COUNTIF(Мониторинг!$BN:$BN,CONCATENATE(DAY(X$1),\"ДА\"))","v":0},{"$f":"COUNTIF(Мониторинг!$BN:$BN,CONCATENATE(DAY(Y$1),\"ДА\"))","v":0},{"$f":"COUNTIF(Мониторинг!$BN:$BN,CONCATENATE(DAY(Z$1),\"ДА\"))","v":0},{"$f":"COUNTIF(Мониторинг!$BN:$BN,CONCATENATE(DAY(AA$1),\"ДА\"))","v":0},{"$f":"COUNTIF(Мониторинг!$BN:$BN,CONCATENATE(DAY(AB$1),\"ДА\"))","v":0},{"$f":"COUNTIF(Мониторинг!$BN:$BN,CONCATENATE(DAY(AC$1),\"ДА\"))","v":0},{"$f":"COUNTIF(Мониторинг!$BN:$BN,CONCATENATE(DAY(AD$1),\"ДА\"))","v":0},{"$f":"COUNTIF(Мониторинг!$BN:$BN,CONCATENATE(DAY(AE$1),\"ДА\"))","v":0},{"$f":"COUNTIF(Мониторинг!$BN:$BN,CONCATENATE(DAY(AF$1),\"ДА\"))","v":0},{"$f":"COUNTIF(Мониторинг!$BN:$BN,CONCATENATE(DAY(AG$1),\"ДА\"))","v":0}]
[null,"Нет",{"$f":"SUM(D102:AG102)","v":0},{"$f":"COUNTIF(Мониторинг!$BN:$BN,CONCATENATE(DAY(D$1),\"НЕТ\"))","v":0},{"$f":"COUNTIF(Мониторинг!$BN:$BN,CONCATENATE(DAY(E$1),\"НЕТ\"))","v":0},{"$f":"COUNTIF(Мониторинг!$BN:$BN,CONCATENATE(DAY(F$1),\"НЕТ\"))","v":0},{"$f":"COUNTIF(Мониторинг!$BN:$BN,CONCATENATE(DAY(G$1),\"НЕТ\"))","v":0},{"$f":"COUNTIF(Мониторинг!$BN:$BN,CONCATENATE(DAY(H$1),\"НЕТ\"))","v":0},{"$f":"COUNTIF(Мониторинг!$BN:$BN,CONCATENATE(DAY(I$1),\"НЕТ\"))","v":0},{"$f":"COUNTIF(Мониторинг!$BN:$BN,CONCATENATE(DAY(J$1),\"НЕТ\"))","v":0},{"$f":"COUNTIF(Мониторинг!$BN:$BN,CONCATENATE(DAY(K$1),\"НЕТ\"))","v":0},{"$f":"COUNTIF(Мониторинг!$BN:$BN,CONCATENATE(DAY(L$1),\"НЕТ\"))","v":0},{"$f":"COUNTIF(Мониторинг!$BN:$BN,CONCATENATE(DAY(M$1),\"НЕТ\"))","v":0},{"$f":"COUNTIF(Мониторинг!$BN:$BN,CONCATENATE(DAY(N$1),\"НЕТ\"))","v":0},{"$f":"COUNTIF(Мониторинг!$BN:$BN,CONCATENATE(DAY(O$1),\"НЕТ\"))","v":0},{"$f":"COUNTIF(Мониторинг!$BN:$BN,CONCATENATE(DAY(P$1),\"НЕТ\"))","v":0},{"$f":"COUNTIF(Мониторинг!$BN:$BN,CONCATENATE(DAY(Q$1),\"НЕТ\"))","v":0},{"$f":"COUNTIF(Мониторинг!$BN:$BN,CONCATENATE(DAY(R$1),\"НЕТ\"))","v":0},{"$f":"COUNTIF(Мониторинг!$BN:$BN,CONCATENATE(DAY(S$1),\"НЕТ\"))","v":0},{"$f":"COUNTIF(Мониторинг!$BN:$BN,CONCATENATE(DAY(T$1),\"НЕТ\"))","v":0},{"$f":"COUNTIF(Мониторинг!$BN:$BN,CONCATENATE(DAY(U$1),\"НЕТ\"))","v":0},{"$f":"COUNTIF(Мониторинг!$BN:$BN,CONCATENATE(DAY(V$1),\"НЕТ\"))","v":0},{"$f":"COUNTIF(Мониторинг!$BN:$BN,CONCATENATE(DAY(W$1),\"НЕТ\"))","v":0},{"$f":"COUNTIF(Мониторинг!$BN:$BN,CONCATENATE(DAY(X$1),\"НЕТ\"))","v":0},{"$f":"COUNTIF(Мониторинг!$BN:$BN,CONCATENATE(DAY(Y$1),\"НЕТ\"))","v":0},{"$f":"COUNTIF(Мониторинг!$BN:$BN,CONCATENATE(DAY(Z$1),\"НЕТ\"))","v":0},{"$f":"COUNTIF(Мониторинг!$BN:$BN,CONCATENATE(DAY(AA$1),\"НЕТ\"))","v":0},{"$f":"COUNTIF(Мониторинг!$BN:$BN,CONCATENATE(DAY(AB$1),\"НЕТ\"))","v":0},{"$f":"COUNTIF(Мониторинг!$BN:$BN,CONCATENATE(DAY(AC$1),\"НЕТ\"))","v":0},{"$f":"COUNTIF(Мониторинг!$BN:$BN,CONCATENATE(DAY(AD$1),\"НЕТ\"))","v":0},{"$f":"COUNTIF(Мониторинг!$BN:$BN,CONCATENATE(DAY(AE$1),\"НЕТ\"))","v":0},{"$f":"COUNTIF(Мониторинг!$BN:$BN,CONCATENATE(DAY(AF$1),\"НЕТ\"))","v":0},{"$f":"COUNTIF(Мониторинг!$BN:$BN,CONCATENATE(DAY(AG$1),\"НЕТ\"))","v":0}]
[null,"Нет необходимости",{"$f":"SUM(D103:AG103)","v":0},{"$f":"COUNTIF(Мониторинг!$BN:$BN,CONCATENATE(DAY(D$1),\"нет необхо - димости\"))","v":0},{"$f":"COUNTIF(Мониторинг!$BN:$BN,CONCATENATE(DAY(E$1),\"нет необхо - димости\"))","v":0},{"$f":"COUNTIF(Мониторинг!$BN:$BN,CONCATENATE(DAY(F$1),\"нет необхо - димости\"))","v":0},{"$f":"COUNTIF(Мониторинг!$BN:$BN,CONCATENATE(DAY(G$1),\"нет необхо - димости\"))","v":0},{"$f":"COUNTIF(Мониторинг!$BN:$BN,CONCATENATE(DAY(H$1),\"нет необхо - димости\"))","v":0},{"$f":"COUNTIF(Мониторинг!$BN:$BN,CONCATENATE(DAY(I$1),\"нет необхо - димости\"))","v":0},{"$f":"COUNTIF(Мониторинг!$BN:$BN,CONCATENATE(DAY(J$1),\"нет необхо - димости\"))","v":0},{"$f":"COUNTIF(Мониторинг!$BN:$BN,CONCATENATE(DAY(K$1),\"нет необхо - димости\"))","v":0},{"$f":"COUNTIF(Мониторинг!$BN:$BN,CONCATENATE(DAY(L$1),\"нет необхо - димости\"))","v":0},{"$f":"COUNTIF(Мониторинг!$BN:$BN,CONCATENATE(DAY(M$1),\"нет необхо - димости\"))","v":0},{"$f":"COUNTIF(Мониторинг!$BN:$BN,CONCATENATE(DAY(N$1),\"нет необхо - димости\"))","v":0},{"$f":"COUNTIF(Мониторинг!$BN:$BN,CONCATENATE(DAY(O$1),\"нет необхо - димости\"))","v":0},{"$f":"COUNTIF(Мониторинг!$BN:$BN,CONCATENATE(DAY(P$1),\"нет необхо - димости\"))","v":0},{"$f":"COUNTIF(Мониторинг!$BN:$BN,CONCATENATE(DAY(Q$1),\"нет необхо - димости\"))","v":0},{"$f":"COUNTIF(Мониторинг!$BN:$BN,CONCATENATE(DAY(R$1),\"нет необхо - димости\"))","v":0},{"$f":"COUNTIF(Мониторинг!$BN:$BN,CONCATENATE(DAY(S$1),\"нет необхо - димости\"))","v":0},{"$f":"COUNTIF(Мониторинг!$BN:$BN,CONCATENATE(DAY(T$1),\"нет необхо - димости\"))","v":0},{"$f":"COUNTIF(Мониторинг!$BN:$BN,CONCATENATE(DAY(U$1),\"нет необхо - димости\"))","v":0},{"$f":"COUNTIF(Мониторинг!$BN:$BN,CONCATENATE(DAY(V$1),\"нет необхо - димости\"))","v":0},{"$f":"COUNTIF(Мониторинг!$BN:$BN,CONCATENATE(DAY(W$1),\"нет необхо - димости\"))","v":0},{"$f":"COUNTIF(Мониторинг!$BN:$BN,CONCATENATE(DAY(X$1),\"нет необхо - димости\"))","v":0},{"$f":"COUNTIF(Мониторинг!$BN:$BN,CONCATENATE(DAY(Y$1),\"нет необхо - димости\"))","v":0},{"$f":"COUNTIF(Мониторинг!$BN:$BN,CONCATENATE(DAY(Z$1),\"нет необхо - димости\"))","v":0},{"$f":"COUNTIF(Мониторинг!$BN:$BN,CONCATENATE(DAY(AA$1),\"нет необхо - димости\"))","v":0},{"$f":"COUNTIF(Мониторинг!$BN:$BN,CONCATENATE(DAY(AB$1),\"нет необхо - димости\"))","v":0},{"$f":"COUNTIF(Мониторинг!$BN:$BN,CONCATENATE(DAY(AC$1),\"нет необхо - димости\"))","v":0},{"$f":"COUNTIF(Мониторинг!$BN:$BN,CONCATENATE(DAY(AD$1),\"нет необхо - димости\"))","v":0},{"$f":"COUNTIF(Мониторинг!$BN:$BN,CONCATENATE(DAY(AE$1),\"нет необхо - димости\"))","v":0},{"$f":"COUNTIF(Мониторинг!$BN:$BN,CONCATENATE(DAY(AF$1),\"нет необхо - димости\"))","v":0},{"$f":"COUNTIF(Мониторинг!$BN:$BN,CONCATENATE(DAY(AG$1),\"нет необхо - димости\"))","v":0}]
[null,"% информирования",{"$f":"IF(SUM(C101:C103)<>0,(C101+C103)/SUM(C101:C103),\"\")","v":""},"","","","","","","","","","","","","","","","","","","","","","","","","","","","","",""]
[null,"Да",{"$f":"SUM(D105:AG105)","v":0},{"$f":"COUNTIF(Мониторинг!$BO:$BO,CONCATENATE(DAY(D$1),\"ДА\"))","v":0},{"$f":"COUNTIF(Мониторинг!$BO:$BO,CONCATENATE(DAY(E$1),\"ДА\"))","v":0},{"$f":"COUNTIF(Мониторинг!$BO:$BO,CONCATENATE(DAY(F$1),\"ДА\"))","v":0},{"$f":"COUNTIF(Мониторинг!$BO:$BO,CONCATENATE(DAY(G$1),\"ДА\"))","v":0},{"$f":"COUNTIF(Мониторинг!$BO:$BO,CONCATENATE(DAY(H$1),\"ДА\"))","v":0},{"$f":"COUNTIF(Мониторинг!$BO:$BO,CONCATENATE(DAY(I$1),\"ДА\"))","v":0},{"$f":"COUNTIF(Мониторинг!$BO:$BO,CONCATENATE(DAY(J$1),\"ДА\"))","v":0},{"$f":"COUNTIF(Мониторинг!$BO:$BO,CONCATENATE(DAY(K$1),\"ДА\"))","v":0},{"$f":"COUNTIF(Мониторинг!$BO:$BO,CONCATENATE(DAY(L$1),\"ДА\"))","v":0},{"$f":"COUNTIF(Мониторинг!$BO:$BO,CONCATENATE(DAY(M$1),\"ДА\"))","v":0},{"$f":"COUNTIF(Мониторинг!$BO:$BO,CONCATENATE(DAY(N$1),\"ДА\"))","v":0},{"$f":"COUNTIF(Мониторинг!$BO:$BO,CONCATENATE(DAY(O$1),\"ДА\"))","v":0},{"$f":"COUNTIF(Мониторинг!$BO:$BO,CONCATENATE(DAY(P$1),\"ДА\"))","v":0},{"$f":"COUNTIF(Мониторинг!$BO:$BO,CONCATENATE(DAY(Q$1),\"ДА\"))","v":0},{"$f":"COUNTIF(Мониторинг!$BO:$BO,CONCATENATE(DAY(R$1),\"ДА\"))","v":0},{"$f":"COUNTIF(Мониторинг!$BO:$BO,CONCATENATE(DAY(S$1),\"ДА\"))","v":0},{"$f":"COUNTIF(Мониторинг!$BO:$BO,CONCATENATE(DAY(T$1),\"ДА\"))","v":0},{"$f":"COUNTIF(Мониторинг!$BO:$BO,CONCATENATE(DAY(U$1),\"ДА\"))","v":0},{"$f":"COUNTIF(Мониторинг!$BO:$BO,CONCATENATE(DAY(V$1),\"ДА\"))","v":0},{"$f":"COUNTIF(Мониторинг!$BO:$BO,CONCATENATE(DAY(W$1),\"ДА\"))","v":0},{"$f":"COUNTIF(Мониторинг!$BO:$BO,CONCATENATE(DAY(X$1),\"ДА\"))","v":0},{"$f":"COUNTIF(Мониторинг!$BO:$BO,CONCATENATE(DAY(Y$1),\"ДА\"))","v":0},{"$f":"COUNTIF(Мониторинг!$BO:$BO,CONCATENATE(DAY(Z$1),\"ДА\"))","v":0},{"$f":"COUNTIF(Мониторинг!$BO:$BO,CONCATENATE(DAY(AA$1),\"ДА\"))","v":0},{"$f":"COUNTIF(Мониторинг!$BO:$BO,CONCATENATE(DAY(AB$1),\"ДА\"))","v":0},{"$f":"COUNTIF(Мониторинг!$BO:$BO,CONCATENATE(DAY(AC$1),\"ДА\"))","v":0},{"$f":"COUNTIF(Мониторинг!$BO:$BO,CONCATENATE(DAY(AD$1),\"ДА\"))","v":0},{"$f":"COUNTIF(Мониторинг!$BO:$BO,CONCATENATE(DAY(AE$1),\"ДА\"))","v":0},{"$f":"COUNTIF(Мониторинг!$BO:$BO,CONCATENATE(DAY(AF$1),\"ДА\"))","v":0},{"$f":"COUNTIF(Мониторинг!$BO:$BO,CONCATENATE(DAY(AG$1),\"ДА\"))","v":0}]
[null,"Нет",{"$f":"SUM(D106:AG106)","v":0},{"$f":"COUNTIF(Мониторинг!$BO:$BO,CONCATENATE(DAY(D$1),\"НЕТ\"))","v":0},{"$f":"COUNTIF(Мониторинг!$BO:$BO,CONCATENATE(DAY(E$1),\"НЕТ\"))","v":0},{"$f":"COUNTIF(Мониторинг!$BO:$BO,CONCATENATE(DAY(F$1),\"НЕТ\"))","v":0},{"$f":"COUNTIF(Мониторинг!$BO:$BO,CONCATENATE(DAY(G$1),\"НЕТ\"))","v":0},{"$f":"COUNTIF(Мониторинг!$BO:$BO,CONCATENATE(DAY(H$1),\"НЕТ\"))","v":0},{"$f":"COUNTIF(Мониторинг!$BO:$BO,CONCATENATE(DAY(I$1),\"НЕТ\"))","v":0},{"$f":"COUNTIF(Мониторинг!$BO:$BO,CONCATENATE(DAY(J$1),\"НЕТ\"))","v":0},{"$f":"COUNTIF(Мониторинг!$BO:$BO,CONCATENATE(DAY(K$1),\"НЕТ\"))","v":0},{"$f":"COUNTIF(Мониторинг!$BO:$BO,CONCATENATE(DAY(L$1),\"НЕТ\"))","v":0},{"$f":"COUNTIF(Мониторинг!$BO:$BO,CONCATENATE(DAY(M$1),\"НЕТ\"))","v":0},{"$f":"COUNTIF(Мониторинг!$BO:$BO,CONCATENATE(DAY(N$1),\"НЕТ\"))","v":0},{"$f":"COUNTIF(Мониторинг!$BO:$BO,CONCATENATE(DAY(O$1),\"НЕТ\"))","v":0},{"$f":"COUNTIF(Мониторинг!$BO:$BO,CONCATENATE(DAY(P$1),\"НЕТ\"))","v":0},{"$f":"COUNTIF(Мониторинг!$BO:$BO,CONCATENATE(DAY(Q$1),\"НЕТ\"))","v":0},{"$f":"COUNTIF(Мониторинг!$BO:$BO,CONCATENATE(DAY(R$1),\"НЕТ\"))","v":0},{"$f":"COUNTIF(Мониторинг!$BO:$BO,CONCATENATE(DAY(S$1),\"НЕТ\"))","v":0},{"$f":"COUNTIF(Мониторинг!$BO:$BO,CONCATENATE(DAY(T$1),\"НЕТ\"))","v":0},{"$f":"COUNTIF(Мониторинг!$BO:$BO,CONCATENATE(DAY(U$1),\"НЕТ\"))","v":0},{"$f":"COUNTIF(Мониторинг!$BO:$BO,CONCATENATE(DAY(V$1),\"НЕТ\"))","v":0},{"$f":"COUNTIF(Мониторинг!$BO:$BO,CONCATENATE(DAY(W$1),\"НЕТ\"))","v":0},{"$f":"COUNTIF(Мониторинг!$BO:$BO,CONCATENATE(DAY(X$1),\"НЕТ\"))","v":0},{"$f":"COUNTIF(Мониторинг!$BO:$BO,CONCATENATE(DAY(Y$1),\"НЕТ\"))","v":0},{"$f":"COUNTIF(Мониторинг!$BO:$BO,CONCATENATE(DAY(Z$1),\"НЕТ\"))","v":0},{"$f":"COUNTIF(Мониторинг!$BO:$BO,CONCATENATE(DAY(AA$1),\"НЕТ\"))","v":0},{"$f":"COUNTIF(Мониторинг!$BO:$BO,CONCATENATE(DAY(AB$1),\"НЕТ\"))","v":0},{"$f":"COUNTIF(Мониторинг!$BO:$BO,CONCATENATE(DAY(AC$1),\"НЕТ\"))","v":0},{"$f":"COUNTIF(Мониторинг!$BO:$BO,CONCATENATE(DAY(AD$1),\"НЕТ\"))","v":0},{"$f":"COUNTIF(Мониторинг!$BO:$BO,CONCATENATE(DAY(AE$1),\"НЕТ\"))","v":0},{"$f":"COUNTIF(Мониторинг!$BO:$BO,CONCATENATE(DAY(AF$1),\"НЕТ\"))","v":0},{"$f":"COUNTIF(Мониторинг!$BO:$BO,CONCATENATE(DAY(AG$1),\"НЕТ\"))","v":0}]
[null,"Нет необходимости",{"$f":"SUM(D107:AG107)","v":0},{"$f":"COUNTIF(Мониторинг!$BO:$BO,CONCATENATE(DAY(D$1),\"нет необхо - димости\"))","v":0},{"$f":"COUNTIF(Мониторинг!$BO:$BO,CONCATENATE(DAY(E$1),\"нет необхо - димости\"))","v":0},{"$f":"COUNTIF(Мониторинг!$BO:$BO,CONCATENATE(DAY(F$1),\"нет необхо - димости\"))","v":0},{"$f":"COUNTIF(Мониторинг!$BO:$BO,CONCATENATE(DAY(G$1),\"нет необхо - димости\"))","v":0},{"$f":"COUNTIF(Мониторинг!$BO:$BO,CONCATENATE(DAY(H$1),\"нет необхо - димости\"))","v":0},{"$f":"COUNTIF(Мониторинг!$BO:$BO,CONCATENATE(DAY(I$1),\"нет необхо - димости\"))","v":0},{"$f":"COUNTIF(Мониторинг!$BO:$BO,CONCATENATE(DAY(J$1),\"нет необхо - димости\"))","v":0},{"$f":"COUNTIF(Мониторинг!$BO:$BO,CONCATENATE(DAY(K$1),\"нет необхо - димости\"))","v":0},{"$f":"COUNTIF(Мониторинг!$BO:$BO,CONCATENATE(DAY(L$1),\"нет необхо - димости\"))","v":0},{"$f":"COUNTIF(Мониторинг!$BO:$BO,CONCATENATE(DAY(M$1),\"нет необхо - димости\"))","v":0},{"$f":"COUNTIF(Мониторинг!$BO:$BO,CONCATENATE(DAY(N$1),\"нет необхо - димости\"))","v":0},{"$f":"COUNTIF(Мониторинг!$BO:$BO,CONCATENATE(DAY(O$1),\"нет необхо - димости\"))","v":0},{"$f":"COUNTIF(Мониторинг!$BO:$BO,CONCATENATE(DAY(P$1),\"нет необхо - димости\"))","v":0},{"$f":"COUNTIF(Мониторинг!$BO:$BO,CONCATENATE(DAY(Q$1),\"нет необхо - димости\"))","v":0},{"$f":"COUNTIF(Мониторинг!$BO:$BO,CONCATENATE(DAY(R$1),\"нет необхо - димости\"))","v":0},{"$f":"COUNTIF(Мониторинг!$BO:$BO,CONCATENATE(DAY(S$1),\"нет необхо - димости\"))","v":0},{"$f":"COUNTIF(Мониторинг!$BO:$BO,CONCATENATE(DAY(T$1),\"нет необхо - димости\"))","v":0},{"$f":"COUNTIF(Мониторинг!$BO:$BO,CONCATENATE(DAY(U$1),\"нет необхо - димости\"))","v":0},{"$f":"COUNTIF(Мониторинг!$BO:$BO,CONCATENATE(DAY(V$1),\"нет необхо - димости\"))","v":0},{"$f":"COUNTIF(Мониторинг!$BO:$BO,CONCATENATE(DAY(W$1),\"нет необхо - димости\"))","v":0},{"$f":"COUNTIF(Мониторинг!$BO:$BO,CONCATENATE(DAY(X$1),\"нет необхо - димости\"))","v":0},{"$f":"COUNTIF(Мониторинг!$BO:$BO,CONCATENATE(DAY(Y$1),\"нет необхо - димости\"))","v":0},{"$f":"COUNTIF(Мониторинг!$BO:$BO,CONCATENATE(DAY(Z$1),\"нет необхо - димости\"))","v":0},{"$f":"COUNTIF(Мониторинг!$BO:$BO,CONCATENATE(DAY(AA$1),\"нет необхо - димости\"))","v":0},{"$f":"COUNTIF(Мониторинг!$BO:$BO,CONCATENATE(DAY(AB$1),\"нет необхо - димости\"))","v":0},{"$f":"COUNTIF(Мониторинг!$BO:$BO,CONCATENATE(DAY(AC$1),\"нет необхо - димости\"))","v":0},{"$f":"COUNTIF(Мониторинг!$BO:$BO,CONCATENATE(DAY(AD$1),\"нет необхо - димости\"))","v":0},{"$f":"COUNTIF(Мониторинг!$BO:$BO,CONCATENATE(DAY(AE$1),\"нет необхо - димости\"))","v":0},{"$f":"COUNTIF(Мониторинг!$BO:$BO,CONCATENATE(DAY(AF$1),\"нет необхо - димости\"))","v":0},{"$f":"COUNTIF(Мониторинг!$BO:$BO,CONCATENATE(DAY(AG$1),\"нет необхо - димости\"))","v":0}]
[null,"% информирования",{"$f":"IF(SUM(C105:C107)<>0,(C105+C107)/SUM(C105:C107),\"\")","v":""},"","","","","","","","","","","","","","","","","","","","","","","","","","","","","",""]
[]
[]
["ЦО Инет",null,{"$f":"IF(SUM(D111:AG111)<>0,SUM(D111:AG111),\"\")","v":""},{"$f":"COUNTIFS(Мониторинг!$A$5:$A$1048576,D$1,Мониторинг!$AE$5:$AE$1048576,$A111)","v":0},{"$f":"COUNTIFS(Мониторинг!$A$5:$A$1048576,E$1,Мониторинг!$AE$5:$AE$1048576,$A111)","v":0},{"$f":"COUNTIFS(Мониторинг!$A$5:$A$1048576,F$1,Мониторинг!$AE$5:$AE$1048576,$A111)","v":0},{"$f":"COUNTIFS(Мониторинг!$A$5:$A$1048576,G$1,Мониторинг!$AE$5:$AE$1048576,$A111)","v":0},{"$f":"COUNTIFS(Мониторинг!$A$5:$A$1048576,H$1,Мониторинг!$AE$5:$AE$1048576,$A111)","v":0},{"$f":"COUNTIFS(Мониторинг!$A$5:$A$1048576,I$1,Мониторинг!$AE$5:$AE$1048576,$A111)","v":0},{"$f":"COUNTIFS(Мониторинг!$A$5:$A$1048576,J$1,Мониторинг!$AE$5:$AE$1048576,$A111)","v":0},{"$f":"COUNTIFS(Мониторинг!$A$5:$A$1048576,K$1,Мониторинг!$AE$5:$AE$1048576,$A111)","v":0},{"$f":"COUNTIFS(Мониторинг!$A$5:$A$1048576,L$1,Мониторинг!$AE$5:$AE$1048576,$A111)","v":0},{"$f":"COUNTIFS(Мониторинг!$A$5:$A$1048576,M$1,Мониторинг!$AE$5:$AE$1048576,$A111)","v":0},{"$f":"COUNTIFS(Мониторинг!$A$5:$A$1048576,N$1,Мониторинг!$AE$5:$AE$1048576,$A111)","v":0},{"$f":"COUNTIFS(Мониторинг!$A$5:$A$1048576,O$1,Мониторинг!$AE$5:$AE$1048576,$A111)","v":0},{"$f":"COUNTIFS(Мониторинг!$A$5:$A$1048576,P$1,Мониторинг!$AE$5:$AE$1048576,$A111)","v":0},{"$f":"COUNTIFS(Мониторинг!$A$5:$A$1048576,Q$1,Мониторинг!$AE$5:$AE$1048576,$A111)","v":0},{"$f":"COUNTIFS(Мониторинг!$A$5:$A$1048576,R$1,Мониторинг!$AE$5:$AE$1048576,$A111)","v":0},{"$f":"COUNTIFS(Мониторинг!$A$5:$A$1048576,S$1,Мониторинг!$AE$5:$AE$1048576,$A111)","v":0},{"$f":"COUNTIFS(Мониторинг!$A$5:$A$1048576,T$1,Мониторинг!$AE$5:$AE$1048576,$A111)","v":0},{"$f":"COUNTIFS(Мониторинг!$A$5:$A$1048576,U$1,Мониторинг!$AE$5:$AE$1048576,$A111)","v":0},{"$f":"COUNTIFS(Мониторинг!$A$5:$A$1048576,V$1,Мониторинг!$AE$5:$AE$1048576,$A111)","v":0},{"$f":"COUNTIFS(Мониторинг!$A$5:$A$1048576,W$1,Мониторинг!$AE$5:$AE$1048576,$A111)","v":0},{"$f":"COUNTIFS(Мониторинг!$A$5:$A$1048576,X$1,Мониторинг!$AE$5:$AE$1048576,$A111)","v":0},{"$f":"COUNTIFS(Мониторинг!$A$5:$A$1048576,Y$1,Мониторинг!$AE$5:$AE$1048576,$A111)","v":0},{"$f":"COUNTIFS(Мониторинг!$A$5:$A$1048576,Z$1,Мониторинг!$AE$5:$AE$1048576,$A111)","v":0},{"$f":"COUNTIFS(Мониторинг!$A$5:$A$1048576,AA$1,Мониторинг!$AE$5:$AE$1048576,$A111)","v":0},{"$f":"COUNTIFS(Мониторинг!$A$5:$A$1048576,AB$1,Мониторинг!$AE$5:$AE$1048576,$A111)","v":0},{"$f":"COUNTIFS(Мониторинг!$A$5:$A$1048576,AC$1,Мониторинг!$AE$5:$AE$1048576,$A111)","v":0},{"$f":"COUNTIFS(Мониторинг!$A$5:$A$1048576,AD$1,Мониторинг!$AE$5:$AE$1048576,$A111)","v":0},{"$f":"COUNTIFS(Мониторинг!$A$5:$A$1048576,AE$1,Мониторинг!$AE$5:$AE$1048576,$A111)","v":0},{"$f":"COUNTIFS(Мониторинг!$A$5:$A$1048576,AF$1,Мониторинг!$AE$5:$AE$1048576,$A111)","v":0},{"$f":"COUNTIFS(Мониторинг!$A$5:$A$1048576,AG$1,Мониторинг!$AE$5:$AE$1048576,$A111)","v":0}]
["ЦО КТВ/ЦТВ",null,{"$f":"IF(SUM(D112:AG112)<>0,SUM(D112:AG112),\"\")","v":""},{"$f":"COUNTIFS(Мониторинг!$A$5:$A$1048576,D$1,Мониторинг!$AE$5:$AE$1048576,$A112)","v":0},{"$f":"COUNTIFS(Мониторинг!$A$5:$A$1048576,E$1,Мониторинг!$AE$5:$AE$1048576,$A112)","v":0},{"$f":"COUNTIFS(Мониторинг!$A$5:$A$1048576,F$1,Мониторинг!$AE$5:$AE$1048576,$A112)","v":0},{"$f":"COUNTIFS(Мониторинг!$A$5:$A$1048576,G$1,Мониторинг!$AE$5:$AE$1048576,$A112)","v":0},{"$f":"COUNTIFS(Мониторинг!$A$5:$A$1048576,H$1,Мониторинг!$AE$5:$AE$1048576,$A112)","v":0},{"$f":"COUNTIFS(Мониторинг!$A$5:$A$1048576,I$1,Мониторинг!$AE$5:$AE$1048576,$A112)","v":0},{"$f":"COUNTIFS(Мониторинг!$A$5:$A$1048576,J$1,Мониторинг!$AE$5:$AE$1048576,$A112)","v":0},{"$f":"COUNTIFS(Мониторинг!$A$5:$A$1048576,K$1,Мониторинг!$AE$5:$AE$1048576,$A112)","v":0},{"$f":"COUNTIFS(Мониторинг!$A$5:$A$1048576,L$1,Мониторинг!$AE$5:$AE$1048576,$A112)","v":0},{"$f":"COUNTIFS(Мониторинг!$A$5:$A$1048576,M$1,Мониторинг!$AE$5:$AE$1048576,$A112)","v":0},{"$f":"COUNTIFS(Мониторинг!$A$5:$A$1048576,N$1,Мониторинг!$AE$5:$AE$1048576,$A112)","v":0},{"$f":"COUNTIFS(Мониторинг!$A$5:$A$1048576,O$1,Мониторинг!$AE$5:$AE$1048576,$A112)","v":0},{"$f":"COUNTIFS(Мониторинг!$A$5:$A$1048576,P$1,Мониторинг!$AE$5:$AE$1048576,$A112)","v":0},{"$f":"COUNTIFS(Мониторинг!$A$5:$A$1048576,Q$1,Мониторинг!$AE$5:$AE$1048576,$A112)","v":0},{"$f":"COUNTIFS(Мониторинг!$A$5:$A$1048576,R$1,Мониторинг!$AE$5:$AE$1048576,$A112)","v":0},{"$f":"COUNTIFS(Мониторинг!$A$5:$A$1048576,S$1,Мониторинг!$AE$5:$AE$1048576,$A112)","v":0},{"$f":"COUNTIFS(Мониторинг!$A$5:$A$1048576,T$1,Мониторинг!$AE$5:$AE$1048576,$A112)","v":0},{"$f":"COUNTIFS(Мониторинг!$A$5:$A$1048576,U$1,Мониторинг!$AE$5:$AE$1048576,$A112)","v":0},{"$f":"COUNTIFS(Мониторинг!$A$5:$A$1048576,V$1,Мониторинг!$AE$5:$AE$1048576,$A112)","v":0},{"$f":"COUNTIFS(Мониторинг!$A$5:$A$1048576,W$1,Мониторинг!$AE$5:$AE$1048576,$A112)","v":0},{"$f":"COUNTIFS(Мониторинг!$A$5:$A$1048576,X$1,Мониторинг!$AE$5:$AE$1048576,$A112)","v":0},{"$f":"COUNTIFS(Мониторинг!$A$5:$A$1048576,Y$1,Мониторинг!$AE$5:$AE$1048576,$A112)","v":0},{"$f":"COUNTIFS(Мониторинг!$A$5:$A$1048576,Z$1,Мониторинг!$AE$5:$AE$1048576,$A112)","v":0},{"$f":"COUNTIFS(Мониторинг!$A$5:$A$1048576,AA$1,Мониторинг!$AE$5:$AE$1048576,$A112)","v":0},{"$f":"COUNTIFS(Мониторинг!$A$5:$A$1048576,AB$1,Мониторинг!$AE$5:$AE$1048576,$A112)","v":0},{"$f":"COUNTIFS(Мониторинг!$A$5:$A$1048576,AC$1,Мониторинг!$AE$5:$AE$1048576,$A112)","v":0},{"$f":"COUNTIFS(Мониторинг!$A$5:$A$1048576,AD$1,Мониторинг!$AE$5:$AE$1048576,$A112)","v":0},{"$f":"COUNTIFS(Мониторинг!$A$5:$A$1048576,AE$1,Мониторинг!$AE$5:$AE$1048576,$A112)","v":0},{"$f":"COUNTIFS(Мониторинг!$A$5:$A$1048576,AF$1,Мониторинг!$AE$5:$AE$1048576,$A112)","v":0},{"$f":"COUNTIFS(Мониторинг!$A$5:$A$1048576,AG$1,Мониторинг!$AE$5:$AE$1048576,$A112)","v":0}]
["ЦО Бандл",null,"",{"$f":"COUNTIFS(Мониторинг!$A$5:$A$1048576,D$1,Мониторинг!$AE$5:$AE$1048576,$A113)","v":0},{"$f":"COUNTIFS(Мониторинг!$A$5:$A$1048576,E$1,Мониторинг!$AE$5:$AE$1048576,$A113)","v":0},{"$f":"COUNTIFS(Мониторинг!$A$5:$A$1048576,F$1,Мониторинг!$AE$5:$AE$1048576,$A113)","v":0},{"$f":"COUNTIFS(Мониторинг!$A$5:$A$1048576,G$1,Мониторинг!$AE$5:$AE$1048576,$A113)","v":0},{"$f":"COUNTIFS(Мониторинг!$A$5:$A$1048576,H$1,Мониторинг!$AE$5:$AE$1048576,$A113)","v":0},{"$f":"COUNTIFS(Мониторинг!$A$5:$A$1048576,I$1,Мониторинг!$AE$5:$AE$1048576,$A113)","v":0},{"$f":"COUNTIFS(Мониторинг!$A$5:$A$1048576,J$1,Мониторинг!$AE$5:$AE$1048576,$A113)","v":0},{"$f":"COUNTIFS(Мониторинг!$A$5:$A$1048576,K$1,Мониторинг!$AE$5:$AE$1048576,$A113)","v":0},{"$f":"COUNTIFS(Мониторинг!$A$5:$A$1048576,L$1,Мониторинг!$AE$5:$AE$1048576,$A113)","v":0},{"$f":"COUNTIFS(Мониторинг!$A$5:$A$1048576,M$1,Мониторинг!$AE$5:$AE$1048576,$A113)","v":0},{"$f":"COUNTIFS(Мониторинг!$A$5:$A$1048576,N$1,Мониторинг!$AE$5:$AE$1048576,$A113)","v":0},{"$f":"COUNTIFS(Мониторинг!$A$5:$A$1048576,O$1,Мониторинг!$AE$5:$AE$1048576,$A113)","v":0},{"$f":"COUNTIFS(Мониторинг!$A$5:$A$1048576,P$1,Мониторинг!$AE$5:$AE$1048576,$A113)","v":0},{"$f":"COUNTIFS(Мониторинг!$A$5:$A$1048576,Q$1,Мониторинг!$AE$5:$AE$1048576,$A113)","v":0},{"$f":"COUNTIFS(Мониторинг!$A$5:$A$1048576,R$1,Мониторинг!$AE$5:$AE$1048576,$A113)","v":0},{"$f":"COUNTIFS(Мониторинг!$A$5:$A$1048576,S$1,Мониторинг!$AE$5:$AE$1048576,$A113)","v":0},{"$f":"COUNTIFS(Мониторинг!$A$5:$A$1048576,T$1,Мониторинг!$AE$5:$AE$1048576,$A113)","v":0},{"$f":"COUNTIFS(Мониторинг!$A$5:$A$1048576,U$1,Мониторинг!$AE$5:$AE$1048576,$A113)","v":0},{"$f":"COUNTIFS(Мониторинг!$A$5:$A$1048576,V$1,Мониторинг!$AE$5:$AE$1048576,$A113)","v":0},{"$f":"COUNTIFS(Мониторинг!$A$5:$A$1048576,W$1,Мониторинг!$AE$5:$AE$1048576,$A113)","v":0},{"$f":"COUNTIFS(Мониторинг!$A$5:$A$1048576,X$1,Мониторинг!$AE$5:$AE$1048576,$A113)","v":0},{"$f":"COUNTIFS(Мониторинг!$A$5:$A$1048576,Y$1,Мониторинг!$AE$5:$AE$1048576,$A113)","v":0},{"$f":"COUNTIFS(Мониторинг!$A$5:$A$1048576,Z$1,Мониторинг!$AE$5:$AE$1048576,$A113)","v":0},{"$f":"COUNTIFS(Мониторинг!$A$5:$A$1048576,AA$1,Мониторинг!$AE$5:$AE$1048576,$A113)","v":0},{"$f":"COUNTIFS(Мониторинг!$A$5:$A$1048576,AB$1,Мониторинг!$AE$5:$AE$1048576,$A113)","v":0},{"$f":"COUNTIFS(Мониторинг!$A$5:$A$1048576,AC$1,Мониторинг!$AE$5:$AE$1048576,$A113)","v":0},{"$f":"COUNTIFS(Мониторинг!$A$5:$A$1048576,AD$1,Мониторинг!$AE$5:$AE$1048576,$A113)","v":0},{"$f":"COUNTIFS(Мониторинг!$A$5:$A$1048576,AE$1,Мониторинг!$AE$5:$AE$1048576,$A113)","v":0},{"$f":"COUNTIFS(Мониторинг!$A$5:$A$1048576,AF$1,Мониторинг!$AE$5:$AE$1048576,$A113)","v":0},{"$f":"COUNTIFS(Мониторинг!$A$5:$A$1048576,AG$1,Мониторинг!$AE$5:$AE$1048576,$A113)","v":0}]
["Рек. на КЦ",null,"",{"$f":"IF(SUMIF(Мониторинг!$AQ:$AQ,CONCATENATE($A114,DAY(D$1)),Мониторинг!$AD:$AD)<>0,SUMIF(Мониторинг!$AQ:$AQ,CONCATENATE($A114,DAY(D$1)),Мониторинг!$AD:$AD),\"\")","v":""},{"$f":"IF(SUMIF(Мониторинг!$AQ:$AQ,CONCATENATE($A114,DAY(E$1)),Мониторинг!$AD:$AD)<>0,SUMIF(Мониторинг!$AQ:$AQ,CONCATENATE($A114,DAY(E$1)),Мониторинг!$AD:$AD),\"\")","v":""},{"$f":"IF(SUMIF(Мониторинг!$AQ:$AQ,CONCATENATE($A114,DAY(F$1)),Мониторинг!$AD:$AD)<>0,SUMIF(Мониторинг!$AQ:$AQ,CONCATENATE($A114,DAY(F$1)),Мониторинг!$AD:$AD),\"\")","v":""},{"$f":"IF(SUMIF(Мониторинг!$AQ:$AQ,CONCATENATE($A114,DAY(G$1)),Мониторинг!$AD:$AD)<>0,SUMIF(Мониторинг!$AQ:$AQ,CONCATENATE($A114,DAY(G$1)),Мониторинг!$AD:$AD),\"\")","v":""},{"$f":"IF(SUMIF(Мониторинг!$AQ:$AQ,CONCATENATE($A114,DAY(H$1)),Мониторинг!$AD:$AD)<>0,SUMIF(Мониторинг!$AQ:$AQ,CONCATENATE($A114,DAY(H$1)),Мониторинг!$AD:$AD),\"\")","v":""},{"$f":"IF(SUMIF(Мониторинг!$AQ:$AQ,CONCATENATE($A114,DAY(I$1)),Мониторинг!$AD:$AD)<>0,SUMIF(Мониторинг!$AQ:$AQ,CONCATENATE($A114,DAY(I$1)),Мониторинг!$AD:$AD),\"\")","v":""},{"$f":"IF(SUMIF(Мониторинг!$AQ:$AQ,CONCATENATE($A114,DAY(J$1)),Мониторинг!$AD:$AD)<>0,SUMIF(Мониторинг!$AQ:$AQ,CONCATENATE($A114,DAY(J$1)),Мониторинг!$AD:$AD),\"\")","v":""},{"$f":"IF(SUMIF(Мониторинг!$AQ:$AQ,CONCATENATE($A114,DAY(K$1)),Мониторинг!$AD:$AD)<>0,SUMIF(Мониторинг!$AQ:$AQ,CONCATENATE($A114,DAY(K$1)),Мониторинг!$AD:$AD),\"\")","v":""},{"$f":"IF(SUMIF(Мониторинг!$AQ:$AQ,CONCATENATE($A114,DAY(L$1)),Мониторинг!$AD:$AD)<>0,SUMIF(Мониторинг!$AQ:$AQ,CONCATENATE($A114,DAY(L$1)),Мониторинг!$AD:$AD),\"\")","v":""},{"$f":"IF(SUMIF(Мониторинг!$AQ:$AQ,CONCATENATE($A114,DAY(M$1)),Мониторинг!$AD:$AD)<>0,SUMIF(Мониторинг!$AQ:$AQ,CONCATENATE($A114,DAY(M$1)),Мониторинг!$AD:$AD),\"\")","v":""},{"$f":"IF(SUMIF(Мониторинг!$AQ:$AQ,CONCATENATE($A114,DAY(N$1)),Мониторинг!$AD:$AD)<>0,SUMIF(Мониторинг!$AQ:$AQ,CONCATENATE($A114,DAY(N$1)),Мониторинг!$AD:$AD),\"\")","v":""},{"$f":"IF(SUMIF(Мониторинг!$AQ:$AQ,CONCATENATE($A114,DAY(O$1)),Мониторинг!$AD:$AD)<>0,SUMIF(Мониторинг!$AQ:$AQ,CONCATENATE($A114,DAY(O$1)),Мониторинг!$AD:$AD),\"\")","v":""},{"$f":"IF(SUMIF(Мониторинг!$AQ:$AQ,CONCATENATE($A114,DAY(P$1)),Мониторинг!$AD:$AD)<>0,SUMIF(Мониторинг!$AQ:$AQ,CONCATENATE($A114,DAY(P$1)),Мониторинг!$AD:$AD),\"\")","v":""},{"$f":"IF(SUMIF(Мониторинг!$AQ:$AQ,CONCATENATE($A114,DAY(Q$1)),Мониторинг!$AD:$AD)<>0,SUMIF(Мониторинг!$AQ:$AQ,CONCATENATE($A114,DAY(Q$1)),Мониторинг!$AD:$AD),\"\")","v":""},{"$f":"IF(SUMIF(Мониторинг!$AQ:$AQ,CONCATENATE($A114,DAY(R$1)),Мониторинг!$AD:$AD)<>0,SUMIF(Мониторинг!$AQ:$AQ,CONCATENATE($A114,DAY(R$1)),Мониторинг!$AD:$AD),\"\")","v":""},{"$f":"IF(SUMIF(Мониторинг!$AQ:$AQ,CONCATENATE($A114,DAY(S$1)),Мониторинг!$AD:$AD)<>0,SUMIF(Мониторинг!$AQ:$AQ,CONCATENATE($A114,DAY(S$1)),Мониторинг!$AD:$AD),\"\")","v":""},{"$f":"IF(SUMIF(Мониторинг!$AQ:$AQ,CONCATENATE($A114,DAY(T$1)),Мониторинг!$AD:$AD)<>0,SUMIF(Мониторинг!$AQ:$AQ,CONCATENATE($A114,DAY(T$1)),Мониторинг!$AD:$AD),\"\")","v":""},{"$f":"IF(SUMIF(Мониторинг!$AQ:$AQ,CONCATENATE($A114,DAY(U$1)),Мониторинг!$AD:$AD)<>0,SUMIF(Мониторинг!$AQ:$AQ,CONCATENATE($A114,DAY(U$1)),Мониторинг!$AD:$AD),\"\")","v":""},{"$f":"IF(SUMIF(Мониторинг!$AQ:$AQ,CONCATENATE($A114,DAY(V$1)),Мониторинг!$AD:$AD)<>0,SUMIF(Мониторинг!$AQ:$AQ,CONCATENATE($A114,DAY(V$1)),Мониторинг!$AD:$AD),\"\")","v":""},{"$f":"IF(SUMIF(Мониторинг!$AQ:$AQ,CONCATENATE($A114,DAY(W$1)),Мониторинг!$AD:$AD)<>0,SUMIF(Мониторинг!$AQ:$AQ,CONCATENATE($A114,DAY(W$1)),Мониторинг!$AD:$AD),\"\")","v":""},{"$f":"IF(SUMIF(Мониторинг!$AQ:$AQ,CONCATENATE($A114,DAY(X$1)),Мониторинг!$AD:$AD)<>0,SUMIF(Мониторинг!$AQ:$AQ,CONCATENATE($A114,DAY(X$1)),Мониторинг!$AD:$AD),\"\")","v":""},{"$f":"IF(SUMIF(Мониторинг!$AQ:$AQ,CONCATENATE($A114,DAY(Y$1)),Мониторинг!$AD:$AD)<>0,SUMIF(Мониторинг!$AQ:$AQ,CONCATENATE($A114,DAY(Y$1)),Мониторинг!$AD:$AD),\"\")","v":""},{"$f":"IF(SUMIF(Мониторинг!$AQ:$AQ,CONCATENATE($A114,DAY(Z$1)),Мониторинг!$AD:$AD)<>0,SUMIF(Мониторинг!$AQ:$AQ,CONCATENATE($A114,DAY(Z$1)),Мониторинг!$AD:$AD),\"\")","v":""},{"$f":"IF(SUMIF(Мониторинг!$AQ:$AQ,CONCATENATE($A114,DAY(AA$1)),Мониторинг!$AD:$AD)<>0,SUMIF(Мониторинг!$AQ:$AQ,CONCATENATE($A114,DAY(AA$1)),Мониторинг!$AD:$AD),\"\")","v":""},{"$f":"IF(SUMIF(Мониторинг!$AQ:$AQ,CONCATENATE($A114,DAY(AB$1)),Мониторинг!$AD:$AD)<>0,SUMIF(Мониторинг!$AQ:$AQ,CONCATENATE($A114,DAY(AB$1)),Мониторинг!$AD:$AD),\"\")","v":""},{"$f":"IF(SUMIF(Мониторинг!$AQ:$AQ,CONCATENATE($A114,DAY(AC$1)),Мониторинг!$AD:$AD)<>0,SUMIF(Мониторинг!$AQ:$AQ,CONCATENATE($A114,DAY(AC$1)),Мониторинг!$AD:$AD),\"\")","v":""},{"$f":"IF(SUMIF(Мониторинг!$AQ:$AQ,CONCATENATE($A114,DAY(AD$1)),Мониторинг!$AD:$AD)<>0,SUMIF(Мониторинг!$AQ:$AQ,CONCATENATE($A114,DAY(AD$1)),Мониторинг!$AD:$AD),\"\")","v":""},{"$f":"IF(SUMIF(Мониторинг!$AQ:$AQ,CONCATENATE($A114,DAY(AE$1)),Мониторинг!$AD:$AD)<>0,SUMIF(Мониторинг!$AQ:$AQ,CONCATENATE($A114,DAY(AE$1)),Мониторинг!$AD:$AD),\"\")","v":""},{"$f":"IF(SUMIF(Мониторинг!$AQ:$AQ,CONCATENATE($A114,DAY(AF$1)),Мониторинг!$AD:$AD)<>0,SUMIF(Мониторинг!$AQ:$AQ,CONCATENATE($A114,DAY(AF$1)),Мониторинг!$AD:$AD),\"\")","v":""},{"$f":"IF(SUMIF(Мониторинг!$AQ:$AQ,CONCATENATE($A114,DAY(AG$1)),Мониторинг!$AD:$AD)<>0,SUMIF(Мониторинг!$AQ:$AQ,CONCATENATE($A114,DAY(AG$1)),Мониторинг!$AD:$AD),\"\")","v":""}]
["Жалоба на скорость",null,"",{"$f":"IF(SUMIF(Мониторинг!$AQ:$AQ,CONCATENATE($A115,DAY(D$1)),Мониторинг!$AD:$AD)<>0,SUMIF(Мониторинг!$AQ:$AQ,CONCATENATE($A115,DAY(D$1)),Мониторинг!$AD:$AD),\"\")","v":""},{"$f":"IF(SUMIF(Мониторинг!$AQ:$AQ,CONCATENATE($A115,DAY(E$1)),Мониторинг!$AD:$AD)<>0,SUMIF(Мониторинг!$AQ:$AQ,CONCATENATE($A115,DAY(E$1)),Мониторинг!$AD:$AD),\"\")","v":""},{"$f":"IF(SUMIF(Мониторинг!$AQ:$AQ,CONCATENATE($A115,DAY(F$1)),Мониторинг!$AD:$AD)<>0,SUMIF(Мониторинг!$AQ:$AQ,CONCATENATE($A115,DAY(F$1)),Мониторинг!$AD:$AD),\"\")","v":""},{"$f":"IF(SUMIF(Мониторинг!$AQ:$AQ,CONCATENATE($A115,DAY(G$1)),Мониторинг!$AD:$AD)<>0,SUMIF(Мониторинг!$AQ:$AQ,CONCATENATE($A115,DAY(G$1)),Мониторинг!$AD:$AD),\"\")","v":""},{"$f":"IF(SUMIF(Мониторинг!$AQ:$AQ,CONCATENATE($A115,DAY(H$1)),Мониторинг!$AD:$AD)<>0,SUMIF(Мониторинг!$AQ:$AQ,CONCATENATE($A115,DAY(H$1)),Мониторинг!$AD:$AD),\"\")","v":""},{"$f":"IF(SUMIF(Мониторинг!$AQ:$AQ,CONCATENATE($A115,DAY(I$1)),Мониторинг!$AD:$AD)<>0,SUMIF(Мониторинг!$AQ:$AQ,CONCATENATE($A115,DAY(I$1)),Мониторинг!$AD:$AD),\"\")","v":""},{"$f":"IF(SUMIF(Мониторинг!$AQ:$AQ,CONCATENATE($A115,DAY(J$1)),Мониторинг!$AD:$AD)<>0,SUMIF(Мониторинг!$AQ:$AQ,CONCATENATE($A115,DAY(J$1)),Мониторинг!$AD:$AD),\"\")","v":""},{"$f":"IF(SUMIF(Мониторинг!$AQ:$AQ,CONCATENATE($A115,DAY(K$1)),Мониторинг!$AD:$AD)<>0,SUMIF(Мониторинг!$AQ:$AQ,CONCATENATE($A115,DAY(K$1)),Мониторинг!$AD:$AD),\"\")","v":""},{"$f":"IF(SUMIF(Мониторинг!$AQ:$AQ,CONCATENATE($A115,DAY(L$1)),Мониторинг!$AD:$AD)<>0,SUMIF(Мониторинг!$AQ:$AQ,CONCATENATE($A115,DAY(L$1)),Мониторинг!$AD:$AD),\"\")","v":""},{"$f":"IF(SUMIF(Мониторинг!$AQ:$AQ,CONCATENATE($A115,DAY(M$1)),Мониторинг!$AD:$AD)<>0,SUMIF(Мониторинг!$AQ:$AQ,CONCATENATE($A115,DAY(M$1)),Мониторинг!$AD:$AD),\"\")","v":""},{"$f":"IF(SUMIF(Мониторинг!$AQ:$AQ,CONCATENATE($A115,DAY(N$1)),Мониторинг!$AD:$AD)<>0,SUMIF(Мониторинг!$AQ:$AQ,CONCATENATE($A115,DAY(N$1)),Мониторинг!$AD:$AD),\"\")","v":""},{"$f":"IF(SUMIF(Мониторинг!$AQ:$AQ,CONCATENATE($A115,DAY(O$1)),Мониторинг!$AD:$AD)<>0,SUMIF(Мониторинг!$AQ:$AQ,CONCATENATE($A115,DAY(O$1)),Мониторинг!$AD:$AD),\"\")","v":""},{"$f":"IF(SUMIF(Мониторинг!$AQ:$AQ,CONCATENATE($A115,DAY(P$1)),Мониторинг!$AD:$AD)<>0,SUMIF(Мониторинг!$AQ:$AQ,CONCATENATE($A115,DAY(P$1)),Мониторинг!$AD:$AD),\"\")","v":""},{"$f":"IF(SUMIF(Мониторинг!$AQ:$AQ,CONCATENATE($A115,DAY(Q$1)),Мониторинг!$AD:$AD)<>0,SUMIF(Мониторинг!$AQ:$AQ,CONCATENATE($A115,DAY(Q$1)),Мониторинг!$AD:$AD),\"\")","v":""},{"$f":"IF(SUMIF(Мониторинг!$AQ:$AQ,CONCATENATE($A115,DAY(R$1)),Мониторинг!$AD:$AD)<>0,SUMIF(Мониторинг!$AQ:$AQ,CONCATENATE($A115,DAY(R$1)),Мониторинг!$AD:$AD),\"\")","v":""},{"$f":"IF(SUMIF(Мониторинг!$AQ:$AQ,CONCATENATE($A115,DAY(S$1)),Мониторинг!$AD:$AD)<>0,SUMIF(Мониторинг!$AQ:$AQ,CONCATENATE($A115,DAY(S$1)),Мониторинг!$AD:$AD),\"\")","v":""},{"$f":"IF(SUMIF(Мониторинг!$AQ:$AQ,CONCATENATE($A115,DAY(T$1)),Мониторинг!$AD:$AD)<>0,SUMIF(Мониторинг!$AQ:$AQ,CONCATENATE($A115,DAY(T$1)),Мониторинг!$AD:$AD),\"\")","v":""},{"$f":"IF(SUMIF(Мониторинг!$AQ:$AQ,CONCATENATE($A115,DAY(U$1)),Мониторинг!$AD:$AD)<>0,SUMIF(Мониторинг!$AQ:$AQ,CONCATENATE($A115,DAY(U$1)),Мониторинг!$AD:$AD),\"\")","v":""},{"$f":"IF(SUMIF(Мониторинг!$AQ:$AQ,CONCATENATE($A115,DAY(V$1)),Мониторинг!$AD:$AD)<>0,SUMIF(Мониторинг!$AQ:$AQ,CONCATENATE($A115,DAY(V$1)),Мониторинг!$AD:$AD),\"\")","v":""},{"$f":"IF(SUMIF(Мониторинг!$AQ:$AQ,CONCATENATE($A115,DAY(W$1)),Мониторинг!$AD:$AD)<>0,SUMIF(Мониторинг!$AQ:$AQ,CONCATENATE($A115,DAY(W$1)),Мониторинг!$AD:$AD),\"\")","v":""},{"$f":"IF(SUMIF(Мониторинг!$AQ:$AQ,CONCATENATE($A115,DAY(X$1)),Мониторинг!$AD:$AD)<>0,SUMIF(Мониторинг!$AQ:$AQ,CONCATENATE($A115,DAY(X$1)),Мониторинг!$AD:$AD),\"\")","v":""},{"$f":"IF(SUMIF(Мониторинг!$AQ:$AQ,CONCATENATE($A115,DAY(Y$1)),Мониторинг!$AD:$AD)<>0,SUMIF(Мониторинг!$AQ:$AQ,CONCATENATE($A115,DAY(Y$1)),Мониторинг!$AD:$AD),\"\")","v":""},{"$f":"IF(SUMIF(Мониторинг!$AQ:$AQ,CONCATENATE($A115,DAY(Z$1)),Мониторинг!$AD:$AD)<>0,SUMIF(Мониторинг!$AQ:$AQ,CONCATENATE($A115,DAY(Z$1)),Мониторинг!$AD:$AD),\"\")","v":""},{"$f":"IF(SUMIF(Мониторинг!$AQ:$AQ,CONCATENATE($A115,DAY(AA$1)),Мониторинг!$AD:$AD)<>0,SUMIF(Мониторинг!$AQ:$AQ,CONCATENATE($A115,DAY(AA$1)),Мониторинг!$AD:$AD),\"\")","v":""},{"$f":"IF(SUMIF(Мониторинг!$AQ:$AQ,CONCATENATE($A115,DAY(AB$1)),Мониторинг!$AD:$AD)<>0,SUMIF(Мониторинг!$AQ:$AQ,CONCATENATE($A115,DAY(AB$1)),Мониторинг!$AD:$AD),\"\")","v":""},{"$f":"IF(SUMIF(Мониторинг!$AQ:$AQ,CONCATENATE($A115,DAY(AC$1)),Мониторинг!$AD:$AD)<>0,SUMIF(Мониторинг!$AQ:$AQ,CONCATENATE($A115,DAY(AC$1)),Мониторинг!$AD:$AD),\"\")","v":""},{"$f":"IF(SUMIF(Мониторинг!$AQ:$AQ,CONCATENATE($A115,DAY(AD$1)),Мониторинг!$AD:$AD)<>0,SUMIF(Мониторинг!$AQ:$AQ,CONCATENATE($A115,DAY(AD$1)),Мониторинг!$AD:$AD),\"\")","v":""},{"$f":"IF(SUMIF(Мониторинг!$AQ:$AQ,CONCATENATE($A115,DAY(AE$1)),Мониторинг!$AD:$AD)<>0,SUMIF(Мониторинг!$AQ:$AQ,CONCATENATE($A115,DAY(AE$1)),Мониторинг!$AD:$AD),\"\")","v":""},{"$f":"IF(SUMIF(Мониторинг!$AQ:$AQ,CONCATENATE($A115,DAY(AF$1)),Мониторинг!$AD:$AD)<>0,SUMIF(Мониторинг!$AQ:$AQ,CONCATENATE($A115,DAY(AF$1)),Мониторинг!$AD:$AD),\"\")","v":""},{"$f":"IF(SUMIF(Мониторинг!$AQ:$AQ,CONCATENATE($A115,DAY(AG$1)),Мониторинг!$AD:$AD)<>0,SUMIF(Мониторинг!$AQ:$AQ,CONCATENATE($A115,DAY(AG$1)),Мониторинг!$AD:$AD),\"\")","v":""}]
["Комиссия банка",null,"",{"$f":"IF(SUMIF(Мониторинг!$AQ:$AQ,CONCATENATE($A116,DAY(D$1)),Мониторинг!$AD:$AD)<>0,SUMIF(Мониторинг!$AQ:$AQ,CONCATENATE($A116,DAY(D$1)),Мониторинг!$AD:$AD),\"\")","v":""},{"$f":"IF(SUMIF(Мониторинг!$AQ:$AQ,CONCATENATE($A116,DAY(E$1)),Мониторинг!$AD:$AD)<>0,SUMIF(Мониторинг!$AQ:$AQ,CONCATENATE($A116,DAY(E$1)),Мониторинг!$AD:$AD),\"\")","v":""},{"$f":"IF(SUMIF(Мониторинг!$AQ:$AQ,CONCATENATE($A116,DAY(F$1)),Мониторинг!$AD:$AD)<>0,SUMIF(Мониторинг!$AQ:$AQ,CONCATENATE($A116,DAY(F$1)),Мониторинг!$AD:$AD),\"\")","v":""},{"$f":"IF(SUMIF(Мониторинг!$AQ:$AQ,CONCATENATE($A116,DAY(G$1)),Мониторинг!$AD:$AD)<>0,SUMIF(Мониторинг!$AQ:$AQ,CONCATENATE($A116,DAY(G$1)),Мониторинг!$AD:$AD),\"\")","v":""},{"$f":"IF(SUMIF(Мониторинг!$AQ:$AQ,CONCATENATE($A116,DAY(H$1)),Мониторинг!$AD:$AD)<>0,SUMIF(Мониторинг!$AQ:$AQ,CONCATENATE($A116,DAY(H$1)),Мониторинг!$AD:$AD),\"\")","v":""},{"$f":"IF(SUMIF(Мониторинг!$AQ:$AQ,CONCATENATE($A116,DAY(I$1)),Мониторинг!$AD:$AD)<>0,SUMIF(Мониторинг!$AQ:$AQ,CONCATENATE($A116,DAY(I$1)),Мониторинг!$AD:$AD),\"\")","v":""},{"$f":"IF(SUMIF(Мониторинг!$AQ:$AQ,CONCATENATE($A116,DAY(J$1)),Мониторинг!$AD:$AD)<>0,SUMIF(Мониторинг!$AQ:$AQ,CONCATENATE($A116,DAY(J$1)),Мониторинг!$AD:$AD),\"\")","v":""},{"$f":"IF(SUMIF(Мониторинг!$AQ:$AQ,CONCATENATE($A116,DAY(K$1)),Мониторинг!$AD:$AD)<>0,SUMIF(Мониторинг!$AQ:$AQ,CONCATENATE($A116,DAY(K$1)),Мониторинг!$AD:$AD),\"\")","v":""},{"$f":"IF(SUMIF(Мониторинг!$AQ:$AQ,CONCATENATE($A116,DAY(L$1)),Мониторинг!$AD:$AD)<>0,SUMIF(Мониторинг!$AQ:$AQ,CONCATENATE($A116,DAY(L$1)),Мониторинг!$AD:$AD),\"\")","v":""},{"$f":"IF(SUMIF(Мониторинг!$AQ:$AQ,CONCATENATE($A116,DAY(M$1)),Мониторинг!$AD:$AD)<>0,SUMIF(Мониторинг!$AQ:$AQ,CONCATENATE($A116,DAY(M$1)),Мониторинг!$AD:$AD),\"\")","v":""},{"$f":"IF(SUMIF(Мониторинг!$AQ:$AQ,CONCATENATE($A116,DAY(N$1)),Мониторинг!$AD:$AD)<>0,SUMIF(Мониторинг!$AQ:$AQ,CONCATENATE($A116,DAY(N$1)),Мониторинг!$AD:$AD),\"\")","v":""},{"$f":"IF(SUMIF(Мониторинг!$AQ:$AQ,CONCATENATE($A116,DAY(O$1)),Мониторинг!$AD:$AD)<>0,SUMIF(Мониторинг!$AQ:$AQ,CONCATENATE($A116,DAY(O$1)),Мониторинг!$AD:$AD),\"\")","v":""},{"$f":"IF(SUMIF(Мониторинг!$AQ:$AQ,CONCATENATE($A116,DAY(P$1)),Мониторинг!$AD:$AD)<>0,SUMIF(Мониторинг!$AQ:$AQ,CONCATENATE($A116,DAY(P$1)),Мониторинг!$AD:$AD),\"\")","v":""},{"$f":"IF(SUMIF(Мониторинг!$AQ:$AQ,CONCATENATE($A116,DAY(Q$1)),Мониторинг!$AD:$AD)<>0,SUMIF(Мониторинг!$AQ:$AQ,CONCATENATE($A116,DAY(Q$1)),Мониторинг!$AD:$AD),\"\")","v":""},{"$f":"IF(SUMIF(Мониторинг!$AQ:$AQ,CONCATENATE($A116,DAY(R$1)),Мониторинг!$AD:$AD)<>0,SUMIF(Мониторинг!$AQ:$AQ,CONCATENATE($A116,DAY(R$1)),Мониторинг!$AD:$AD),\"\")","v":""},{"$f":"IF(SUMIF(Мониторинг!$AQ:$AQ,CONCATENATE($A116,DAY(S$1)),Мониторинг!$AD:$AD)<>0,SUMIF(Мониторинг!$AQ:$AQ,CONCATENATE($A116,DAY(S$1)),Мониторинг!$AD:$AD),\"\")","v":""},{"$f":"IF(SUMIF(Мониторинг!$AQ:$AQ,CONCATENATE($A116,DAY(T$1)),Мониторинг!$AD:$AD)<>0,SUMIF(Мониторинг!$AQ:$AQ,CONCATENATE($A116,DAY(T$1)),Мониторинг!$AD:$AD),\"\")","v":""},{"$f":"IF(SUMIF(Мониторинг!$AQ:$AQ,CONCATENATE($A116,DAY(U$1)),Мониторинг!$AD:$AD)<>0,SUMIF(Мониторинг!$AQ:$AQ,CONCATENATE($A116,DAY(U$1)),Мониторинг!$AD:$AD),\"\")","v":""},{"$f":"IF(SUMIF(Мониторинг!$AQ:$AQ,CONCATENATE($A116,DAY(V$1)),Мониторинг!$AD:$AD)<>0,SUMIF(Мониторинг!$AQ:$AQ,CONCATENATE($A116,DAY(V$1)),Мониторинг!$AD:$AD),\"\")","v":""},{"$f":"IF(SUMIF(Мониторинг!$AQ:$AQ,CONCATENATE($A116,DAY(W$1)),Мониторинг!$AD:$AD)<>0,SUMIF(Мониторинг!$AQ:$AQ,CONCATENATE($A116,DAY(W$1)),Мониторинг!$AD:$AD),\"\")","v":""},{"$f":"IF(SUMIF(Мониторинг!$AQ:$AQ,CONCATENATE($A116,DAY(X$1)),Мониторинг!$AD:$AD)<>0,SUMIF(Мониторинг!$AQ:$AQ,CONCATENATE($A116,DAY(X$1)),Мониторинг!$AD:$AD),\"\")","v":""},{"$f":"IF(SUMIF(Мониторинг!$AQ:$AQ,CONCATENATE($A116,DAY(Y$1)),Мониторинг!$AD:$AD)<>0,SUMIF(Мониторинг!$AQ:$AQ,CONCATENATE($A116,DAY(Y$1)),Мониторинг!$AD:$AD),\"\")","v":""},{"$f":"IF(SUMIF(Мониторинг!$AQ:$AQ,CONCATENATE($A116,DAY(Z$1)),Мониторинг!$AD:$AD)<>0,SUMIF(Мониторинг!$AQ:$AQ,CONCATENATE($A116,DAY(Z$1)),Мониторинг!$AD:$AD),\"\")","v":""},{"$f":"IF(SUMIF(Мониторинг!$AQ:$AQ,CONCATENATE($A116,DAY(AA$1)),Мониторинг!$AD:$AD)<>0,SUMIF(Мониторинг!$AQ:$AQ,CONCATENATE($A116,DAY(AA$1)),Мониторинг!$AD:$AD),\"\")","v":""},{"$f":"IF(SUMIF(Мониторинг!$AQ:$AQ,CONCATENATE($A116,DAY(AB$1)),Мониторинг!$AD:$AD)<>0,SUMIF(Мониторинг!$AQ:$AQ,CONCATENATE($A116,DAY(AB$1)),Мониторинг!$AD:$AD),\"\")","v":""},{"$f":"IF(SUMIF(Мониторинг!$AQ:$AQ,CONCATENATE($A116,DAY(AC$1)),Мониторинг!$AD:$AD)<>0,SUMIF(Мониторинг!$AQ:$AQ,CONCATENATE($A116,DAY(AC$1)),Мониторинг!$AD:$AD),\"\")","v":""},{"$f":"IF(SUMIF(Мониторинг!$AQ:$AQ,CONCATENATE($A116,DAY(AD$1)),Мониторинг!$AD:$AD)<>0,SUMIF(Мониторинг!$AQ:$AQ,CONCATENATE($A116,DAY(AD$1)),Мониторинг!$AD:$AD),\"\")","v":""},{"$f":"IF(SUMIF(Мониторинг!$AQ:$AQ,CONCATENATE($A116,DAY(AE$1)),Мониторинг!$AD:$AD)<>0,SUMIF(Мониторинг!$AQ:$AQ,CONCATENATE($A116,DAY(AE$1)),Мониторинг!$AD:$AD),\"\")","v":""},{"$f":"IF(SUMIF(Мониторинг!$AQ:$AQ,CONCATENATE($A116,DAY(AF$1)),Мониторинг!$AD:$AD)<>0,SUMIF(Мониторинг!$AQ:$AQ,CONCATENATE($A116,DAY(AF$1)),Мониторинг!$AD:$AD),\"\")","v":""},{"$f":"IF(SUMIF(Мониторинг!$AQ:$AQ,CONCATENATE($A116,DAY(AG$1)),Мониторинг!$AD:$AD)<>0,SUMIF(Мониторинг!$AQ:$AQ,CONCATENATE($A116,DAY(AG$1)),Мониторинг!$AD:$AD),\"\")","v":""}]
["Справка по использованию Персонального сайта, IVR",null,"",{"$f":"IF(SUMIF(Мониторинг!$AQ:$AQ,CONCATENATE($A117,DAY(D$1)),Мониторинг!$AD:$AD)<>0,SUMIF(Мониторинг!$AQ:$AQ,CONCATENATE($A117,DAY(D$1)),Мониторинг!$AD:$AD),\"\")","v":""},{"$f":"IF(SUMIF(Мониторинг!$AQ:$AQ,CONCATENATE($A117,DAY(E$1)),Мониторинг!$AD:$AD)<>0,SUMIF(Мониторинг!$AQ:$AQ,CONCATENATE($A117,DAY(E$1)),Мониторинг!$AD:$AD),\"\")","v":""},{"$f":"IF(SUMIF(Мониторинг!$AQ:$AQ,CONCATENATE($A117,DAY(F$1)),Мониторинг!$AD:$AD)<>0,SUMIF(Мониторинг!$AQ:$AQ,CONCATENATE($A117,DAY(F$1)),Мониторинг!$AD:$AD),\"\")","v":""},{"$f":"IF(SUMIF(Мониторинг!$AQ:$AQ,CONCATENATE($A117,DAY(G$1)),Мониторинг!$AD:$AD)<>0,SUMIF(Мониторинг!$AQ:$AQ,CONCATENATE($A117,DAY(G$1)),Мониторинг!$AD:$AD),\"\")","v":""},{"$f":"IF(SUMIF(Мониторинг!$AQ:$AQ,CONCATENATE($A117,DAY(H$1)),Мониторинг!$AD:$AD)<>0,SUMIF(Мониторинг!$AQ:$AQ,CONCATENATE($A117,DAY(H$1)),Мониторинг!$AD:$AD),\"\")","v":""},{"$f":"IF(SUMIF(Мониторинг!$AQ:$AQ,CONCATENATE($A117,DAY(I$1)),Мониторинг!$AD:$AD)<>0,SUMIF(Мониторинг!$AQ:$AQ,CONCATENATE($A117,DAY(I$1)),Мониторинг!$AD:$AD),\"\")","v":""},{"$f":"IF(SUMIF(Мониторинг!$AQ:$AQ,CONCATENATE($A117,DAY(J$1)),Мониторинг!$AD:$AD)<>0,SUMIF(Мониторинг!$AQ:$AQ,CONCATENATE($A117,DAY(J$1)),Мониторинг!$AD:$AD),\"\")","v":""},{"$f":"IF(SUMIF(Мониторинг!$AQ:$AQ,CONCATENATE($A117,DAY(K$1)),Мониторинг!$AD:$AD)<>0,SUMIF(Мониторинг!$AQ:$AQ,CONCATENATE($A117,DAY(K$1)),Мониторинг!$AD:$AD),\"\")","v":""},{"$f":"IF(SUMIF(Мониторинг!$AQ:$AQ,CONCATENATE($A117,DAY(L$1)),Мониторинг!$AD:$AD)<>0,SUMIF(Мониторинг!$AQ:$AQ,CONCATENATE($A117,DAY(L$1)),Мониторинг!$AD:$AD),\"\")","v":""},{"$f":"IF(SUMIF(Мониторинг!$AQ:$AQ,CONCATENATE($A117,DAY(M$1)),Мониторинг!$AD:$AD)<>0,SUMIF(Мониторинг!$AQ:$AQ,CONCATENATE($A117,DAY(M$1)),Мониторинг!$AD:$AD),\"\")","v":""},{"$f":"IF(SUMIF(Мониторинг!$AQ:$AQ,CONCATENATE($A117,DAY(N$1)),Мониторинг!$AD:$AD)<>0,SUMIF(Мониторинг!$AQ:$AQ,CONCATENATE($A117,DAY(N$1)),Мониторинг!$AD:$AD),\"\")","v":""},{"$f":"IF(SUMIF(Мониторинг!$AQ:$AQ,CONCATENATE($A117,DAY(O$1)),Мониторинг!$AD:$AD)<>0,SUMIF(Мониторинг!$AQ:$AQ,CONCATENATE($A117,DAY(O$1)),Мониторинг!$AD:$AD),\"\")","v":""},{"$f":"IF(SUMIF(Мониторинг!$AQ:$AQ,CONCATENATE($A117,DAY(P$1)),Мониторинг!$AD:$AD)<>0,SUMIF(Мониторинг!$AQ:$AQ,CONCATENATE($A117,DAY(P$1)),Мониторинг!$AD:$AD),\"\")","v":""},{"$f":"IF(SUMIF(Мониторинг!$AQ:$AQ,CONCATENATE($A117,DAY(Q$1)),Мониторинг!$AD:$AD)<>0,SUMIF(Мониторинг!$AQ:$AQ,CONCATENATE($A117,DAY(Q$1)),Мониторинг!$AD:$AD),\"\")","v":""},{"$f":"IF(SUMIF(Мониторинг!$AQ:$AQ,CONCATENATE($A117,DAY(R$1)),Мониторинг!$AD:$AD)<>0,SUMIF(Мониторинг!$AQ:$AQ,CONCATENATE($A117,DAY(R$1)),Мониторинг!$AD:$AD),\"\")","v":""},{"$f":"IF(SUMIF(Мониторинг!$AQ:$AQ,CONCATENATE($A117,DAY(S$1)),Мониторинг!$AD:$AD)<>0,SUMIF(Мониторинг!$AQ:$AQ,CONCATENATE($A117,DAY(S$1)),Мониторинг!$AD:$AD),\"\")","v":""},{"$f":"IF(SUMIF(Мониторинг!$AQ:$AQ,CONCATENATE($A117,DAY(T$1)),Мониторинг!$AD:$AD)<>0,SUMIF(Мониторинг!$AQ:$AQ,CONCATENATE($A117,DAY(T$1)),Мониторинг!$AD:$AD),\"\")","v":""},{"$f":"IF(SUMIF(Мониторинг!$AQ:$AQ,CONCATENATE($A117,DAY(U$1)),Мониторинг!$AD:$AD)<>0,SUMIF(Мониторинг!$AQ:$AQ,CONCATENATE($A117,DAY(U$1)),Мониторинг!$AD:$AD),\"\")","v":""},{"$f":"IF(SUMIF(Мониторинг!$AQ:$AQ,CONCATENATE($A117,DAY(V$1)),Мониторинг!$AD:$AD)<>0,SUMIF(Мониторинг!$AQ:$AQ,CONCATENATE($A117,DAY(V$1)),Мониторинг!$AD:$AD),\"\")","v":""},{"$f":"IF(SUMIF(Мониторинг!$AQ:$AQ,CONCATENATE($A117,DAY(W$1)),Мониторинг!$AD:$AD)<>0,SUMIF(Мониторинг!$AQ:$AQ,CONCATENATE($A117,DAY(W$1)),Мониторинг!$AD:$AD),\"\")","v":""},{"$f":"IF(SUMIF(Мониторинг!$AQ:$AQ,CONCATENATE($A117,DAY(X$1)),Мониторинг!$AD:$AD)<>0,SUMIF(Мониторинг!$AQ:$AQ,CONCATENATE($A117,DAY(X$1)),Мониторинг!$AD:$AD),\"\")","v":""},{"$f":"IF(SUMIF(Мониторинг!$AQ:$AQ,CONCATENATE($A117,DAY(Y$1)),Мониторинг!$AD:$AD)<>0,SUMIF(Мониторинг!$AQ:$AQ,CONCATENATE($A117,DAY(Y$1)),Мониторинг!$AD:$AD),\"\")","v":""},{"$f":"IF(SUMIF(Мониторинг!$AQ:$AQ,CONCATENATE($A117,DAY(Z$1)),Мониторинг!$AD:$AD)<>0,SUMIF(Мониторинг!$AQ:$AQ,CONCATENATE($A117,DAY(Z$1)),Мониторинг!$AD:$AD),\"\")","v":""},{"$f":"IF(SUMIF(Мониторинг!$AQ:$AQ,CONCATENATE($A117,DAY(AA$1)),Мониторинг!$AD:$AD)<>0,SUMIF(Мониторинг!$AQ:$AQ,CONCATENATE($A117,DAY(AA$1)),Мониторинг!$AD:$AD),\"\")","v":""},{"$f":"IF(SUMIF(Мониторинг!$AQ:$AQ,CONCATENATE($A117,DAY(AB$1)),Мониторинг!$AD:$AD)<>0,SUMIF(Мониторинг!$AQ:$AQ,CONCATENATE($A117,DAY(AB$1)),Мониторинг!$AD:$AD),\"\")","v":""},{"$f":"IF(SUMIF(Мониторинг!$AQ:$AQ,CONCATENATE($A117,DAY(AC$1)),Мониторинг!$AD:$AD)<>0,SUMIF(Мониторинг!$AQ:$AQ,CONCATENATE($A117,DAY(AC$1)),Мониторинг!$AD:$AD),\"\")","v":""},{"$f":"IF(SUMIF(Мониторинг!$AQ:$AQ,CONCATENATE($A117,DAY(AD$1)),Мониторинг!$AD:$AD)<>0,SUMIF(Мониторинг!$AQ:$AQ,CONCATENATE($A117,DAY(AD$1)),Мониторинг!$AD:$AD),\"\")","v":""},{"$f":"IF(SUMIF(Мониторинг!$AQ:$AQ,CONCATENATE($A117,DAY(AE$1)),Мониторинг!$AD:$AD)<>0,SUMIF(Мониторинг!$AQ:$AQ,CONCATENATE($A117,DAY(AE$1)),Мониторинг!$AD:$AD),\"\")","v":""},{"$f":"IF(SUMIF(Мониторинг!$AQ:$AQ,CONCATENATE($A117,DAY(AF$1)),Мониторинг!$AD:$AD)<>0,SUMIF(Мониторинг!$AQ:$AQ,CONCATENATE($A117,DAY(AF$1)),Мониторинг!$AD:$AD),\"\")","v":""},{"$f":"IF(SUMIF(Мониторинг!$AQ:$AQ,CONCATENATE($A117,DAY(AG$1)),Мониторинг!$AD:$AD)<>0,SUMIF(Мониторинг!$AQ:$AQ,CONCATENATE($A117,DAY(AG$1)),Мониторинг!$AD:$AD),\"\")","v":""}]
["Справка по льготе",null,"",{"$f":"IF(SUMIF(Мониторинг!$AQ:$AQ,CONCATENATE($A118,DAY(D$1)),Мониторинг!$AD:$AD)<>0,SUMIF(Мониторинг!$AQ:$AQ,CONCATENATE($A118,DAY(D$1)),Мониторинг!$AD:$AD),\"\")","v":""},{"$f":"IF(SUMIF(Мониторинг!$AQ:$AQ,CONCATENATE($A118,DAY(E$1)),Мониторинг!$AD:$AD)<>0,SUMIF(Мониторинг!$AQ:$AQ,CONCATENATE($A118,DAY(E$1)),Мониторинг!$AD:$AD),\"\")","v":""},{"$f":"IF(SUMIF(Мониторинг!$AQ:$AQ,CONCATENATE($A118,DAY(F$1)),Мониторинг!$AD:$AD)<>0,SUMIF(Мониторинг!$AQ:$AQ,CONCATENATE($A118,DAY(F$1)),Мониторинг!$AD:$AD),\"\")","v":""},{"$f":"IF(SUMIF(Мониторинг!$AQ:$AQ,CONCATENATE($A118,DAY(G$1)),Мониторинг!$AD:$AD)<>0,SUMIF(Мониторинг!$AQ:$AQ,CONCATENATE($A118,DAY(G$1)),Мониторинг!$AD:$AD),\"\")","v":""},{"$f":"IF(SUMIF(Мониторинг!$AQ:$AQ,CONCATENATE($A118,DAY(H$1)),Мониторинг!$AD:$AD)<>0,SUMIF(Мониторинг!$AQ:$AQ,CONCATENATE($A118,DAY(H$1)),Мониторинг!$AD:$AD),\"\")","v":""},{"$f":"IF(SUMIF(Мониторинг!$AQ:$AQ,CONCATENATE($A118,DAY(I$1)),Мониторинг!$AD:$AD)<>0,SUMIF(Мониторинг!$AQ:$AQ,CONCATENATE($A118,DAY(I$1)),Мониторинг!$AD:$AD),\"\")","v":""},{"$f":"IF(SUMIF(Мониторинг!$AQ:$AQ,CONCATENATE($A118,DAY(J$1)),Мониторинг!$AD:$AD)<>0,SUMIF(Мониторинг!$AQ:$AQ,CONCATENATE($A118,DAY(J$1)),Мониторинг!$AD:$AD),\"\")","v":""},{"$f":"IF(SUMIF(Мониторинг!$AQ:$AQ,CONCATENATE($A118,DAY(K$1)),Мониторинг!$AD:$AD)<>0,SUMIF(Мониторинг!$AQ:$AQ,CONCATENATE($A118,DAY(K$1)),Мониторинг!$AD:$AD),\"\")","v":""},{"$f":"IF(SUMIF(Мониторинг!$AQ:$AQ,CONCATENATE($A118,DAY(L$1)),Мониторинг!$AD:$AD)<>0,SUMIF(Мониторинг!$AQ:$AQ,CONCATENATE($A118,DAY(L$1)),Мониторинг!$AD:$AD),\"\")","v":""},{"$f":"IF(SUMIF(Мониторинг!$AQ:$AQ,CONCATENATE($A118,DAY(M$1)),Мониторинг!$AD:$AD)<>0,SUMIF(Мониторинг!$AQ:$AQ,CONCATENATE($A118,DAY(M$1)),Мониторинг!$AD:$AD),\"\")","v":""},{"$f":"IF(SUMIF(Мониторинг!$AQ:$AQ,CONCATENATE($A118,DAY(N$1)),Мониторинг!$AD:$AD)<>0,SUMIF(Мониторинг!$AQ:$AQ,CONCATENATE($A118,DAY(N$1)),Мониторинг!$AD:$AD),\"\")","v":""},{"$f":"IF(SUMIF(Мониторинг!$AQ:$AQ,CONCATENATE($A118,DAY(O$1)),Мониторинг!$AD:$AD)<>0,SUMIF(Мониторинг!$AQ:$AQ,CONCATENATE($A118,DAY(O$1)),Мониторинг!$AD:$AD),\"\")","v":""},{"$f":"IF(SUMIF(Мониторинг!$AQ:$AQ,CONCATENATE($A118,DAY(P$1)),Мониторинг!$AD:$AD)<>0,SUMIF(Мониторинг!$AQ:$AQ,CONCATENATE($A118,DAY(P$1)),Мониторинг!$AD:$AD),\"\")","v":""},{"$f":"IF(SUMIF(Мониторинг!$AQ:$AQ,CONCATENATE($A118,DAY(Q$1)),Мониторинг!$AD:$AD)<>0,SUMIF(Мониторинг!$AQ:$AQ,CONCATENATE($A118,DAY(Q$1)),Мониторинг!$AD:$AD),\"\")","v":""},{"$f":"IF(SUMIF(Мониторинг!$AQ:$AQ,CONCATENATE($A118,DAY(R$1)),Мониторинг!$AD:$AD)<>0,SUMIF(Мониторинг!$AQ:$AQ,CONCATENATE($A118,DAY(R$1)),Мониторинг!$AD:$AD),\"\")","v":""},{"$f":"IF(SUMIF(Мониторинг!$AQ:$AQ,CONCATENATE($A118,DAY(S$1)),Мониторинг!$AD:$AD)<>0,SUMIF(Мониторинг!$AQ:$AQ,CONCATENATE($A118,DAY(S$1)),Мониторинг!$AD:$AD),\"\")","v":""},{"$f":"IF(SUMIF(Мониторинг!$AQ:$AQ,CONCATENATE($A118,DAY(T$1)),Мониторинг!$AD:$AD)<>0,SUMIF(Мониторинг!$AQ:$AQ,CONCATENATE($A118,DAY(T$1)),Мониторинг!$AD:$AD),\"\")","v":""},{"$f":"IF(SUMIF(Мониторинг!$AQ:$AQ,CONCATENATE($A118,DAY(U$1)),Мониторинг!$AD:$AD)<>0,SUMIF(Мониторинг!$AQ:$AQ,CONCATENATE($A118,DAY(U$1)),Мониторинг!$AD:$AD),\"\")","v":""},{"$f":"IF(SUMIF(Мониторинг!$AQ:$AQ,CONCATENATE($A118,DAY(V$1)),Мониторинг!$AD:$AD)<>0,SUMIF(Мониторинг!$AQ:$AQ,CONCATENATE($A118,DAY(V$1)),Мониторинг!$AD:$AD),\"\")","v":""},{"$f":"IF(SUMIF(Мониторинг!$AQ:$AQ,CONCATENATE($A118,DAY(W$1)),Мониторинг!$AD:$AD)<>0,SUMIF(Мониторинг!$AQ:$AQ,CONCATENATE($A118,DAY(W$1)),Мониторинг!$AD:$AD),\"\")","v":""},{"$f":"IF(SUMIF(Мониторинг!$AQ:$AQ,CONCATENATE($A118,DAY(X$1)),Мониторинг!$AD:$AD)<>0,SUMIF(Мониторинг!$AQ:$AQ,CONCATENATE($A118,DAY(X$1)),Мониторинг!$AD:$AD),\"\")","v":""},{"$f":"IF(SUMIF(Мониторинг!$AQ:$AQ,CONCATENATE($A118,DAY(Y$1)),Мониторинг!$AD:$AD)<>0,SUMIF(Мониторинг!$AQ:$AQ,CONCATENATE($A118,DAY(Y$1)),Мониторинг!$AD:$AD),\"\")","v":""},{"$f":"IF(SUMIF(Мониторинг!$AQ:$AQ,CONCATENATE($A118,DAY(Z$1)),Мониторинг!$AD:$AD)<>0,SUMIF(Мониторинг!$AQ:$AQ,CONCATENATE($A118,DAY(Z$1)),Мониторинг!$AD:$AD),\"\")","v":""},{"$f":"IF(SUMIF(Мониторинг!$AQ:$AQ,CONCATENATE($A118,DAY(AA$1)),Мониторинг!$AD:$AD)<>0,SUMIF(Мониторинг!$AQ:$AQ,CONCATENATE($A118,DAY(AA$1)),Мониторинг!$AD:$AD),\"\")","v":""},{"$f":"IF(SUMIF(Мониторинг!$AQ:$AQ,CONCATENATE($A118,DAY(AB$1)),Мониторинг!$AD:$AD)<>0,SUMIF(Мониторинг!$AQ:$AQ,CONCATENATE($A118,DAY(AB$1)),Мониторинг!$AD:$AD),\"\")","v":""},{"$f":"IF(SUMIF(Мониторинг!$AQ:$AQ,CONCATENATE($A118,DAY(AC$1)),Мониторинг!$AD:$AD)<>0,SUMIF(Мониторинг!$AQ:$AQ,CONCATENATE($A118,DAY(AC$1)),Мониторинг!$AD:$AD),\"\")","v":""},{"$f":"IF(SUMIF(Мониторинг!$AQ:$AQ,CONCATENATE($A118,DAY(AD$1)),Мониторинг!$AD:$AD)<>0,SUMIF(Мониторинг!$AQ:$AQ,CONCATENATE($A118,DAY(AD$1)),Мониторинг!$AD:$AD),\"\")","v":""},{"$f":"IF(SUMIF(Мониторинг!$AQ:$AQ,CONCATENATE($A118,DAY(AE$1)),Мониторинг!$AD:$AD)<>0,SUMIF(Мониторинг!$AQ:$AQ,CONCATENATE($A118,DAY(AE$1)),Мониторинг!$AD:$AD),\"\")","v":""},{"$f":"IF(SUMIF(Мониторинг!$AQ:$AQ,CONCATENATE($A118,DAY(AF$1)),Мониторинг!$AD:$AD)<>0,SUMIF(Мониторинг!$AQ:$AQ,CONCATENATE($A118,DAY(AF$1)),Мониторинг!$AD:$AD),\"\")","v":""},{"$f":"IF(SUMIF(Мониторинг!$AQ:$AQ,CONCATENATE($A118,DAY(AG$1)),Мониторинг!$AD:$AD)<>0,SUMIF(Мониторинг!$AQ:$AQ,CONCATENATE($A118,DAY(AG$1)),Мониторинг!$AD:$AD),\"\")","v":""}]
["Справка по отсутствию сигнала/по уровням сигналов",null,"",{"$f":"IF(SUMIF(Мониторинг!$AQ:$AQ,CONCATENATE($A119,DAY(D$1)),Мониторинг!$AD:$AD)<>0,SUMIF(Мониторинг!$AQ:$AQ,CONCATENATE($A119,DAY(D$1)),Мониторинг!$AD:$AD),\"\")","v":""},{"$f":"IF(SUMIF(Мониторинг!$AQ:$AQ,CONCATENATE($A119,DAY(E$1)),Мониторинг!$AD:$AD)<>0,SUMIF(Мониторинг!$AQ:$AQ,CONCATENATE($A119,DAY(E$1)),Мониторинг!$AD:$AD),\"\")","v":""},{"$f":"IF(SUMIF(Мониторинг!$AQ:$AQ,CONCATENATE($A119,DAY(F$1)),Мониторинг!$AD:$AD)<>0,SUMIF(Мониторинг!$AQ:$AQ,CONCATENATE($A119,DAY(F$1)),Мониторинг!$AD:$AD),\"\")","v":""},{"$f":"IF(SUMIF(Мониторинг!$AQ:$AQ,CONCATENATE($A119,DAY(G$1)),Мониторинг!$AD:$AD)<>0,SUMIF(Мониторинг!$AQ:$AQ,CONCATENATE($A119,DAY(G$1)),Мониторинг!$AD:$AD),\"\")","v":""},{"$f":"IF(SUMIF(Мониторинг!$AQ:$AQ,CONCATENATE($A119,DAY(H$1)),Мониторинг!$AD:$AD)<>0,SUMIF(Мониторинг!$AQ:$AQ,CONCATENATE($A119,DAY(H$1)),Мониторинг!$AD:$AD),\"\")","v":""},{"$f":"IF(SUMIF(Мониторинг!$AQ:$AQ,CONCATENATE($A119,DAY(I$1)),Мониторинг!$AD:$AD)<>0,SUMIF(Мониторинг!$AQ:$AQ,CONCATENATE($A119,DAY(I$1)),Мониторинг!$AD:$AD),\"\")","v":""},{"$f":"IF(SUMIF(Мониторинг!$AQ:$AQ,CONCATENATE($A119,DAY(J$1)),Мониторинг!$AD:$AD)<>0,SUMIF(Мониторинг!$AQ:$AQ,CONCATENATE($A119,DAY(J$1)),Мониторинг!$AD:$AD),\"\")","v":""},{"$f":"IF(SUMIF(Мониторинг!$AQ:$AQ,CONCATENATE($A119,DAY(K$1)),Мониторинг!$AD:$AD)<>0,SUMIF(Мониторинг!$AQ:$AQ,CONCATENATE($A119,DAY(K$1)),Мониторинг!$AD:$AD),\"\")","v":""},{"$f":"IF(SUMIF(Мониторинг!$AQ:$AQ,CONCATENATE($A119,DAY(L$1)),Мониторинг!$AD:$AD)<>0,SUMIF(Мониторинг!$AQ:$AQ,CONCATENATE($A119,DAY(L$1)),Мониторинг!$AD:$AD),\"\")","v":""},{"$f":"IF(SUMIF(Мониторинг!$AQ:$AQ,CONCATENATE($A119,DAY(M$1)),Мониторинг!$AD:$AD)<>0,SUMIF(Мониторинг!$AQ:$AQ,CONCATENATE($A119,DAY(M$1)),Мониторинг!$AD:$AD),\"\")","v":""},{"$f":"IF(SUMIF(Мониторинг!$AQ:$AQ,CONCATENATE($A119,DAY(N$1)),Мониторинг!$AD:$AD)<>0,SUMIF(Мониторинг!$AQ:$AQ,CONCATENATE($A119,DAY(N$1)),Мониторинг!$AD:$AD),\"\")","v":""},{"$f":"IF(SUMIF(Мониторинг!$AQ:$AQ,CONCATENATE($A119,DAY(O$1)),Мониторинг!$AD:$AD)<>0,SUMIF(Мониторинг!$AQ:$AQ,CONCATENATE($A119,DAY(O$1)),Мониторинг!$AD:$AD),\"\")","v":""},{"$f":"IF(SUMIF(Мониторинг!$AQ:$AQ,CONCATENATE($A119,DAY(P$1)),Мониторинг!$AD:$AD)<>0,SUMIF(Мониторинг!$AQ:$AQ,CONCATENATE($A119,DAY(P$1)),Мониторинг!$AD:$AD),\"\")","v":""},{"$f":"IF(SUMIF(Мониторинг!$AQ:$AQ,CONCATENATE($A119,DAY(Q$1)),Мониторинг!$AD:$AD)<>0,SUMIF(Мониторинг!$AQ:$AQ,CONCATENATE($A119,DAY(Q$1)),Мониторинг!$AD:$AD),\"\")","v":""},{"$f":"IF(SUMIF(Мониторинг!$AQ:$AQ,CONCATENATE($A119,DAY(R$1)),Мониторинг!$AD:$AD)<>0,SUMIF(Мониторинг!$AQ:$AQ,CONCATENATE($A119,DAY(R$1)),Мониторинг!$AD:$AD),\"\")","v":""},{"$f":"IF(SUMIF(Мониторинг!$AQ:$AQ,CONCATENATE($A119,DAY(S$1)),Мониторинг!$AD:$AD)<>0,SUMIF(Мониторинг!$AQ:$AQ,CONCATENATE($A119,DAY(S$1)),Мониторинг!$AD:$AD),\"\")","v":""},{"$f":"IF(SUMIF(Мониторинг!$AQ:$AQ,CONCATENATE($A119,DAY(T$1)),Мониторинг!$AD:$AD)<>0,SUMIF(Мониторинг!$AQ:$AQ,CONCATENATE($A119,DAY(T$1)),Мониторинг!$AD:$AD),\"\")","v":""},{"$f":"IF(SUMIF(Мониторинг!$AQ:$AQ,CONCATENATE($A119,DAY(U$1)),Мониторинг!$AD:$AD)<>0,SUMIF(Мониторинг!$AQ:$AQ,CONCATENATE($A119,DAY(U$1)),Мониторинг!$AD:$AD),\"\")","v":""},{"$f":"IF(SUMIF(Мониторинг!$AQ:$AQ,CONCATENATE($A119,DAY(V$1)),Мониторинг!$AD:$AD)<>0,SUMIF(Мониторинг!$AQ:$AQ,CONCATENATE($A119,DAY(V$1)),Мониторинг!$AD:$AD),\"\")","v":""},{"$f":"IF(SUMIF(Мониторинг!$AQ:$AQ,CONCATENATE($A119,DAY(W$1)),Мониторинг!$AD:$AD)<>0,SUMIF(Мониторинг!$AQ:$AQ,CONCATENATE($A119,DAY(W$1)),Мониторинг!$AD:$AD),\"\")","v":""},{"$f":"IF(SUMIF(Мониторинг!$AQ:$AQ,CONCATENATE($A119,DAY(X$1)),Мониторинг!$AD:$AD)<>0,SUMIF(Мониторинг!$AQ:$AQ,CONCATENATE($A119,DAY(X$1)),Мониторинг!$AD:$AD),\"\")","v":""},{"$f":"IF(SUMIF(Мониторинг!$AQ:$AQ,CONCATENATE($A119,DAY(Y$1)),Мониторинг!$AD:$AD)<>0,SUMIF(Мониторинг!$AQ:$AQ,CONCATENATE($A119,DAY(Y$1)),Мониторинг!$AD:$AD),\"\")","v":""},{"$f":"IF(SUMIF(Мониторинг!$AQ:$AQ,CONCATENATE($A119,DAY(Z$1)),Мониторинг!$AD:$AD)<>0,SUMIF(Мониторинг!$AQ:$AQ,CONCATENATE($A119,DAY(Z$1)),Мониторинг!$AD:$AD),\"\")","v":""},{"$f":"IF(SUMIF(Мониторинг!$AQ:$AQ,CONCATENATE($A119,DAY(AA$1)),Мониторинг!$AD:$AD)<>0,SUMIF(Мониторинг!$AQ:$AQ,CONCATENATE($A119,DAY(AA$1)),Мониторинг!$AD:$AD),\"\")","v":""},{"$f":"IF(SUMIF(Мониторинг!$AQ:$AQ,CONCATENATE($A119,DAY(AB$1)),Мониторинг!$AD:$AD)<>0,SUMIF(Мониторинг!$AQ:$AQ,CONCATENATE($A119,DAY(AB$1)),Мониторинг!$AD:$AD),\"\")","v":""},{"$f":"IF(SUMIF(Мониторинг!$AQ:$AQ,CONCATENATE($A119,DAY(AC$1)),Мониторинг!$AD:$AD)<>0,SUMIF(Мониторинг!$AQ:$AQ,CONCATENATE($A119,DAY(AC$1)),Мониторинг!$AD:$AD),\"\")","v":""},{"$f":"IF(SUMIF(Мониторинг!$AQ:$AQ,CONCATENATE($A119,DAY(AD$1)),Мониторинг!$AD:$AD)<>0,SUMIF(Мониторинг!$AQ:$AQ,CONCATENATE($A119,DAY(AD$1)),Мониторинг!$AD:$AD),\"\")","v":""},{"$f":"IF(SUMIF(Мониторинг!$AQ:$AQ,CONCATENATE($A119,DAY(AE$1)),Мониторинг!$AD:$AD)<>0,SUMIF(Мониторинг!$AQ:$AQ,CONCATENATE($A119,DAY(AE$1)),Мониторинг!$AD:$AD),\"\")","v":""},{"$f":"IF(SUMIF(Мониторинг!$AQ:$AQ,CONCATENATE($A119,DAY(AF$1)),Мониторинг!$AD:$AD)<>0,SUMIF(Мониторинг!$AQ:$AQ,CONCATENATE($A119,DAY(AF$1)),Мониторинг!$AD:$AD),\"\")","v":""},{"$f":"IF(SUMIF(Мониторинг!$AQ:$AQ,CONCATENATE($A119,DAY(AG$1)),Мониторинг!$AD:$AD)<>0,SUMIF(Мониторинг!$AQ:$AQ,CONCATENATE($A119,DAY(AG$1)),Мониторинг!$AD:$AD),\"\")","v":""}]
["Справка по спец-счетам/ваучерам",null,"",{"$f":"IF(SUMIF(Мониторинг!$AQ:$AQ,CONCATENATE($A120,DAY(D$1)),Мониторинг!$AD:$AD)<>0,SUMIF(Мониторинг!$AQ:$AQ,CONCATENATE($A120,DAY(D$1)),Мониторинг!$AD:$AD),\"\")","v":""},{"$f":"IF(SUMIF(Мониторинг!$AQ:$AQ,CONCATENATE($A120,DAY(E$1)),Мониторинг!$AD:$AD)<>0,SUMIF(Мониторинг!$AQ:$AQ,CONCATENATE($A120,DAY(E$1)),Мониторинг!$AD:$AD),\"\")","v":""},{"$f":"IF(SUMIF(Мониторинг!$AQ:$AQ,CONCATENATE($A120,DAY(F$1)),Мониторинг!$AD:$AD)<>0,SUMIF(Мониторинг!$AQ:$AQ,CONCATENATE($A120,DAY(F$1)),Мониторинг!$AD:$AD),\"\")","v":""},{"$f":"IF(SUMIF(Мониторинг!$AQ:$AQ,CONCATENATE($A120,DAY(G$1)),Мониторинг!$AD:$AD)<>0,SUMIF(Мониторинг!$AQ:$AQ,CONCATENATE($A120,DAY(G$1)),Мониторинг!$AD:$AD),\"\")","v":""},{"$f":"IF(SUMIF(Мониторинг!$AQ:$AQ,CONCATENATE($A120,DAY(H$1)),Мониторинг!$AD:$AD)<>0,SUMIF(Мониторинг!$AQ:$AQ,CONCATENATE($A120,DAY(H$1)),Мониторинг!$AD:$AD),\"\")","v":""},{"$f":"IF(SUMIF(Мониторинг!$AQ:$AQ,CONCATENATE($A120,DAY(I$1)),Мониторинг!$AD:$AD)<>0,SUMIF(Мониторинг!$AQ:$AQ,CONCATENATE($A120,DAY(I$1)),Мониторинг!$AD:$AD),\"\")","v":""},{"$f":"IF(SUMIF(Мониторинг!$AQ:$AQ,CONCATENATE($A120,DAY(J$1)),Мониторинг!$AD:$AD)<>0,SUMIF(Мониторинг!$AQ:$AQ,CONCATENATE($A120,DAY(J$1)),Мониторинг!$AD:$AD),\"\")","v":""},{"$f":"IF(SUMIF(Мониторинг!$AQ:$AQ,CONCATENATE($A120,DAY(K$1)),Мониторинг!$AD:$AD)<>0,SUMIF(Мониторинг!$AQ:$AQ,CONCATENATE($A120,DAY(K$1)),Мониторинг!$AD:$AD),\"\")","v":""},{"$f":"IF(SUMIF(Мониторинг!$AQ:$AQ,CONCATENATE($A120,DAY(L$1)),Мониторинг!$AD:$AD)<>0,SUMIF(Мониторинг!$AQ:$AQ,CONCATENATE($A120,DAY(L$1)),Мониторинг!$AD:$AD),\"\")","v":""},{"$f":"IF(SUMIF(Мониторинг!$AQ:$AQ,CONCATENATE($A120,DAY(M$1)),Мониторинг!$AD:$AD)<>0,SUMIF(Мониторинг!$AQ:$AQ,CONCATENATE($A120,DAY(M$1)),Мониторинг!$AD:$AD),\"\")","v":""},{"$f":"IF(SUMIF(Мониторинг!$AQ:$AQ,CONCATENATE($A120,DAY(N$1)),Мониторинг!$AD:$AD)<>0,SUMIF(Мониторинг!$AQ:$AQ,CONCATENATE($A120,DAY(N$1)),Мониторинг!$AD:$AD),\"\")","v":""},{"$f":"IF(SUMIF(Мониторинг!$AQ:$AQ,CONCATENATE($A120,DAY(O$1)),Мониторинг!$AD:$AD)<>0,SUMIF(Мониторинг!$AQ:$AQ,CONCATENATE($A120,DAY(O$1)),Мониторинг!$AD:$AD),\"\")","v":""},{"$f":"IF(SUMIF(Мониторинг!$AQ:$AQ,CONCATENATE($A120,DAY(P$1)),Мониторинг!$AD:$AD)<>0,SUMIF(Мониторинг!$AQ:$AQ,CONCATENATE($A120,DAY(P$1)),Мониторинг!$AD:$AD),\"\")","v":""},{"$f":"IF(SUMIF(Мониторинг!$AQ:$AQ,CONCATENATE($A120,DAY(Q$1)),Мониторинг!$AD:$AD)<>0,SUMIF(Мониторинг!$AQ:$AQ,CONCATENATE($A120,DAY(Q$1)),Мониторинг!$AD:$AD),\"\")","v":""},{"$f":"IF(SUMIF(Мониторинг!$AQ:$AQ,CONCATENATE($A120,DAY(R$1)),Мониторинг!$AD:$AD)<>0,SUMIF(Мониторинг!$AQ:$AQ,CONCATENATE($A120,DAY(R$1)),Мониторинг!$AD:$AD),\"\")","v":""},{"$f":"IF(SUMIF(Мониторинг!$AQ:$AQ,CONCATENATE($A120,DAY(S$1)),Мониторинг!$AD:$AD)<>0,SUMIF(Мониторинг!$AQ:$AQ,CONCATENATE($A120,DAY(S$1)),Мониторинг!$AD:$AD),\"\")","v":""},{"$f":"IF(SUMIF(Мониторинг!$AQ:$AQ,CONCATENATE($A120,DAY(T$1)),Мониторинг!$AD:$AD)<>0,SUMIF(Мониторинг!$AQ:$AQ,CONCATENATE($A120,DAY(T$1)),Мониторинг!$AD:$AD),\"\")","v":""},{"$f":"IF(SUMIF(Мониторинг!$AQ:$AQ,CONCATENATE($A120,DAY(U$1)),Мониторинг!$AD:$AD)<>0,SUMIF(Мониторинг!$AQ:$AQ,CONCATENATE($A120,DAY(U$1)),Мониторинг!$AD:$AD),\"\")","v":""},{"$f":"IF(SUMIF(Мониторинг!$AQ:$AQ,CONCATENATE($A120,DAY(V$1)),Мониторинг!$AD:$AD)<>0,SUMIF(Мониторинг!$AQ:$AQ,CONCATENATE($A120,DAY(V$1)),Мониторинг!$AD:$AD),\"\")","v":""},{"$f":"IF(SUMIF(Мониторинг!$AQ:$AQ,CONCATENATE($A120,DAY(W$1)),Мониторинг!$AD:$AD)<>0,SUMIF(Мониторинг!$AQ:$AQ,CONCATENATE($A120,DAY(W$1)),Мониторинг!$AD:$AD),\"\")","v":""},{"$f":"IF(SUMIF(Мониторинг!$AQ:$AQ,CONCATENATE($A120,DAY(X$1)),Мониторинг!$AD:$AD)<>0,SUMIF(Мониторинг!$AQ:$AQ,CONCATENATE($A120,DAY(X$1)),Мониторинг!$AD:$AD),\"\")","v":""},{"$f":"IF(SUMIF(Мониторинг!$AQ:$AQ,CONCATENATE($A120,DAY(Y$1)),Мониторинг!$AD:$AD)<>0,SUMIF(Мониторинг!$AQ:$AQ,CONCATENATE($A120,DAY(Y$1)),Мониторинг!$AD:$AD),\"\")","v":""},{"$f":"IF(SUMIF(Мониторинг!$AQ:$AQ,CONCATENATE($A120,DAY(Z$1)),Мониторинг!$AD:$AD)<>0,SUMIF(Мониторинг!$AQ:$AQ,CONCATENATE($A120,DAY(Z$1)),Мониторинг!$AD:$AD),\"\")","v":""},{"$f":"IF(SUMIF(Мониторинг!$AQ:$AQ,CONCATENATE($A120,DAY(AA$1)),Мониторинг!$AD:$AD)<>0,SUMIF(Мониторинг!$AQ:$AQ,CONCATENATE($A120,DAY(AA$1)),Мониторинг!$AD:$AD),\"\")","v":""},{"$f":"IF(SUMIF(Мониторинг!$AQ:$AQ,CONCATENATE($A120,DAY(AB$1)),Мониторинг!$AD:$AD)<>0,SUMIF(Мониторинг!$AQ:$AQ,CONCATENATE($A120,DAY(AB$1)),Мониторинг!$AD:$AD),\"\")","v":""},{"$f":"IF(SUMIF(Мониторинг!$AQ:$AQ,CONCATENATE($A120,DAY(AC$1)),Мониторинг!$AD:$AD)<>0,SUMIF(Мониторинг!$AQ:$AQ,CONCATENATE($A120,DAY(AC$1)),Мониторинг!$AD:$AD),\"\")","v":""},{"$f":"IF(SUMIF(Мониторинг!$AQ:$AQ,CONCATENATE($A120,DAY(AD$1)),Мониторинг!$AD:$AD)<>0,SUMIF(Мониторинг!$AQ:$AQ,CONCATENATE($A120,DAY(AD$1)),Мониторинг!$AD:$AD),\"\")","v":""},{"$f":"IF(SUMIF(Мониторинг!$AQ:$AQ,CONCATENATE($A120,DAY(AE$1)),Мониторинг!$AD:$AD)<>0,SUMIF(Мониторинг!$AQ:$AQ,CONCATENATE($A120,DAY(AE$1)),Мониторинг!$AD:$AD),\"\")","v":""},{"$f":"IF(SUMIF(Мониторинг!$AQ:$AQ,CONCATENATE($A120,DAY(AF$1)),Мониторинг!$AD:$AD)<>0,SUMIF(Мониторинг!$AQ:$AQ,CONCATENATE($A120,DAY(AF$1)),Мониторинг!$AD:$AD),\"\")","v":""},{"$f":"IF(SUMIF(Мониторинг!$AQ:$AQ,CONCATENATE($A120,DAY(AG$1)),Мониторинг!$AD:$AD)<>0,SUMIF(Мониторинг!$AQ:$AQ,CONCATENATE($A120,DAY(AG$1)),Мониторинг!$AD:$AD),\"\")","v":""}]
["Переключение удержание",null,"",{"$f":"IF(SUMIF(Мониторинг!$AQ:$AQ,CONCATENATE($A121,DAY(D$1)),Мониторинг!$AD:$AD)<>0,SUMIF(Мониторинг!$AQ:$AQ,CONCATENATE($A121,DAY(D$1)),Мониторинг!$AD:$AD),\"\")","v":""},{"$f":"IF(SUMIF(Мониторинг!$AQ:$AQ,CONCATENATE($A121,DAY(E$1)),Мониторинг!$AD:$AD)<>0,SUMIF(Мониторинг!$AQ:$AQ,CONCATENATE($A121,DAY(E$1)),Мониторинг!$AD:$AD),\"\")","v":""},{"$f":"IF(SUMIF(Мониторинг!$AQ:$AQ,CONCATENATE($A121,DAY(F$1)),Мониторинг!$AD:$AD)<>0,SUMIF(Мониторинг!$AQ:$AQ,CONCATENATE($A121,DAY(F$1)),Мониторинг!$AD:$AD),\"\")","v":""},{"$f":"IF(SUMIF(Мониторинг!$AQ:$AQ,CONCATENATE($A121,DAY(G$1)),Мониторинг!$AD:$AD)<>0,SUMIF(Мониторинг!$AQ:$AQ,CONCATENATE($A121,DAY(G$1)),Мониторинг!$AD:$AD),\"\")","v":""},{"$f":"IF(SUMIF(Мониторинг!$AQ:$AQ,CONCATENATE($A121,DAY(H$1)),Мониторинг!$AD:$AD)<>0,SUMIF(Мониторинг!$AQ:$AQ,CONCATENATE($A121,DAY(H$1)),Мониторинг!$AD:$AD),\"\")","v":""},{"$f":"IF(SUMIF(Мониторинг!$AQ:$AQ,CONCATENATE($A121,DAY(I$1)),Мониторинг!$AD:$AD)<>0,SUMIF(Мониторинг!$AQ:$AQ,CONCATENATE($A121,DAY(I$1)),Мониторинг!$AD:$AD),\"\")","v":""},{"$f":"IF(SUMIF(Мониторинг!$AQ:$AQ,CONCATENATE($A121,DAY(J$1)),Мониторинг!$AD:$AD)<>0,SUMIF(Мониторинг!$AQ:$AQ,CONCATENATE($A121,DAY(J$1)),Мониторинг!$AD:$AD),\"\")","v":""},{"$f":"IF(SUMIF(Мониторинг!$AQ:$AQ,CONCATENATE($A121,DAY(K$1)),Мониторинг!$AD:$AD)<>0,SUMIF(Мониторинг!$AQ:$AQ,CONCATENATE($A121,DAY(K$1)),Мониторинг!$AD:$AD),\"\")","v":""},{"$f":"IF(SUMIF(Мониторинг!$AQ:$AQ,CONCATENATE($A121,DAY(L$1)),Мониторинг!$AD:$AD)<>0,SUMIF(Мониторинг!$AQ:$AQ,CONCATENATE($A121,DAY(L$1)),Мониторинг!$AD:$AD),\"\")","v":""},{"$f":"IF(SUMIF(Мониторинг!$AQ:$AQ,CONCATENATE($A121,DAY(M$1)),Мониторинг!$AD:$AD)<>0,SUMIF(Мониторинг!$AQ:$AQ,CONCATENATE($A121,DAY(M$1)),Мониторинг!$AD:$AD),\"\")","v":""},{"$f":"IF(SUMIF(Мониторинг!$AQ:$AQ,CONCATENATE($A121,DAY(N$1)),Мониторинг!$AD:$AD)<>0,SUMIF(Мониторинг!$AQ:$AQ,CONCATENATE($A121,DAY(N$1)),Мониторинг!$AD:$AD),\"\")","v":""},{"$f":"IF(SUMIF(Мониторинг!$AQ:$AQ,CONCATENATE($A121,DAY(O$1)),Мониторинг!$AD:$AD)<>0,SUMIF(Мониторинг!$AQ:$AQ,CONCATENATE($A121,DAY(O$1)),Мониторинг!$AD:$AD),\"\")","v":""},{"$f":"IF(SUMIF(Мониторинг!$AQ:$AQ,CONCATENATE($A121,DAY(P$1)),Мониторинг!$AD:$AD)<>0,SUMIF(Мониторинг!$AQ:$AQ,CONCATENATE($A121,DAY(P$1)),Мониторинг!$AD:$AD),\"\")","v":""},{"$f":"IF(SUMIF(Мониторинг!$AQ:$AQ,CONCATENATE($A121,DAY(Q$1)),Мониторинг!$AD:$AD)<>0,SUMIF(Мониторинг!$AQ:$AQ,CONCATENATE($A121,DAY(Q$1)),Мониторинг!$AD:$AD),\"\")","v":""},{"$f":"IF(SUMIF(Мониторинг!$AQ:$AQ,CONCATENATE($A121,DAY(R$1)),Мониторинг!$AD:$AD)<>0,SUMIF(Мониторинг!$AQ:$AQ,CONCATENATE($A121,DAY(R$1)),Мониторинг!$AD:$AD),\"\")","v":""},{"$f":"IF(SUMIF(Мониторинг!$AQ:$AQ,CONCATENATE($A121,DAY(S$1)),Мониторинг!$AD:$AD)<>0,SUMIF(Мониторинг!$AQ:$AQ,CONCATENATE($A121,DAY(S$1)),Мониторинг!$AD:$AD),\"\")","v":""},{"$f":"IF(SUMIF(Мониторинг!$AQ:$AQ,CONCATENATE($A121,DAY(T$1)),Мониторинг!$AD:$AD)<>0,SUMIF(Мониторинг!$AQ:$AQ,CONCATENATE($A121,DAY(T$1)),Мониторинг!$AD:$AD),\"\")","v":""},{"$f":"IF(SUMIF(Мониторинг!$AQ:$AQ,CONCATENATE($A121,DAY(U$1)),Мониторинг!$AD:$AD)<>0,SUMIF(Мониторинг!$AQ:$AQ,CONCATENATE($A121,DAY(U$1)),Мониторинг!$AD:$AD),\"\")","v":""},{"$f":"IF(SUMIF(Мониторинг!$AQ:$AQ,CONCATENATE($A121,DAY(V$1)),Мониторинг!$AD:$AD)<>0,SUMIF(Мониторинг!$AQ:$AQ,CONCATENATE($A121,DAY(V$1)),Мониторинг!$AD:$AD),\"\")","v":""},{"$f":"IF(SUMIF(Мониторинг!$AQ:$AQ,CONCATENATE($A121,DAY(W$1)),Мониторинг!$AD:$AD)<>0,SUMIF(Мониторинг!$AQ:$AQ,CONCATENATE($A121,DAY(W$1)),Мониторинг!$AD:$AD),\"\")","v":""},{"$f":"IF(SUMIF(Мониторинг!$AQ:$AQ,CONCATENATE($A121,DAY(X$1)),Мониторинг!$AD:$AD)<>0,SUMIF(Мониторинг!$AQ:$AQ,CONCATENATE($A121,DAY(X$1)),Мониторинг!$AD:$AD),\"\")","v":""},{"$f":"IF(SUMIF(Мониторинг!$AQ:$AQ,CONCATENATE($A121,DAY(Y$1)),Мониторинг!$AD:$AD)<>0,SUMIF(Мониторинг!$AQ:$AQ,CONCATENATE($A121,DAY(Y$1)),Мониторинг!$AD:$AD),\"\")","v":""},{"$f":"IF(SUMIF(Мониторинг!$AQ:$AQ,CONCATENATE($A121,DAY(Z$1)),Мониторинг!$AD:$AD)<>0,SUMIF(Мониторинг!$AQ:$AQ,CONCATENATE($A121,DAY(Z$1)),Мониторинг!$AD:$AD),\"\")","v":""},{"$f":"IF(SUMIF(Мониторинг!$AQ:$AQ,CONCATENATE($A121,DAY(AA$1)),Мониторинг!$AD:$AD)<>0,SUMIF(Мониторинг!$AQ:$AQ,CONCATENATE($A121,DAY(AA$1)),Мониторинг!$AD:$AD),\"\")","v":""},{"$f":"IF(SUMIF(Мониторинг!$AQ:$AQ,CONCATENATE($A121,DAY(AB$1)),Мониторинг!$AD:$AD)<>0,SUMIF(Мониторинг!$AQ:$AQ,CONCATENATE($A121,DAY(AB$1)),Мониторинг!$AD:$AD),\"\")","v":""},{"$f":"IF(SUMIF(Мониторинг!$AQ:$AQ,CONCATENATE($A121,DAY(AC$1)),Мониторинг!$AD:$AD)<>0,SUMIF(Мониторинг!$AQ:$AQ,CONCATENATE($A121,DAY(AC$1)),Мониторинг!$AD:$AD),\"\")","v":""},{"$f":"IF(SUMIF(Мониторинг!$AQ:$AQ,CONCATENATE($A121,DAY(AD$1)),Мониторинг!$AD:$AD)<>0,SUMIF(Мониторинг!$AQ:$AQ,CONCATENATE($A121,DAY(AD$1)),Мониторинг!$AD:$AD),\"\")","v":""},{"$f":"IF(SUMIF(Мониторинг!$AQ:$AQ,CONCATENATE($A121,DAY(AE$1)),Мониторинг!$AD:$AD)<>0,SUMIF(Мониторинг!$AQ:$AQ,CONCATENATE($A121,DAY(AE$1)),Мониторинг!$AD:$AD),\"\")","v":""},{"$f":"IF(SUMIF(Мониторинг!$AQ:$AQ,CONCATENATE($A121,DAY(AF$1)),Мониторинг!$AD:$AD)<>0,SUMIF(Мониторинг!$AQ:$AQ,CONCATENATE($A121,DAY(AF$1)),Мониторинг!$AD:$AD),\"\")","v":""},{"$f":"IF(SUMIF(Мониторинг!$AQ:$AQ,CONCATENATE($A121,DAY(AG$1)),Мониторинг!$AD:$AD)<>0,SUMIF(Мониторинг!$AQ:$AQ,CONCATENATE($A121,DAY(AG$1)),Мониторинг!$AD:$AD),\"\")","v":""}]
["Сверка платежей (ИТП)",null,"",{"$f":"IF(SUMIF(Мониторинг!$AQ:$AQ,CONCATENATE($A122,DAY(D$1)),Мониторинг!$AD:$AD)<>0,SUMIF(Мониторинг!$AQ:$AQ,CONCATENATE($A122,DAY(D$1)),Мониторинг!$AD:$AD),\"\")","v":""},{"$f":"IF(SUMIF(Мониторинг!$AQ:$AQ,CONCATENATE($A122,DAY(E$1)),Мониторинг!$AD:$AD)<>0,SUMIF(Мониторинг!$AQ:$AQ,CONCATENATE($A122,DAY(E$1)),Мониторинг!$AD:$AD),\"\")","v":""},{"$f":"IF(SUMIF(Мониторинг!$AQ:$AQ,CONCATENATE($A122,DAY(F$1)),Мониторинг!$AD:$AD)<>0,SUMIF(Мониторинг!$AQ:$AQ,CONCATENATE($A122,DAY(F$1)),Мониторинг!$AD:$AD),\"\")","v":""},{"$f":"IF(SUMIF(Мониторинг!$AQ:$AQ,CONCATENATE($A122,DAY(G$1)),Мониторинг!$AD:$AD)<>0,SUMIF(Мониторинг!$AQ:$AQ,CONCATENATE($A122,DAY(G$1)),Мониторинг!$AD:$AD),\"\")","v":""},{"$f":"IF(SUMIF(Мониторинг!$AQ:$AQ,CONCATENATE($A122,DAY(H$1)),Мониторинг!$AD:$AD)<>0,SUMIF(Мониторинг!$AQ:$AQ,CONCATENATE($A122,DAY(H$1)),Мониторинг!$AD:$AD),\"\")","v":""},{"$f":"IF(SUMIF(Мониторинг!$AQ:$AQ,CONCATENATE($A122,DAY(I$1)),Мониторинг!$AD:$AD)<>0,SUMIF(Мониторинг!$AQ:$AQ,CONCATENATE($A122,DAY(I$1)),Мониторинг!$AD:$AD),\"\")","v":""},{"$f":"IF(SUMIF(Мониторинг!$AQ:$AQ,CONCATENATE($A122,DAY(J$1)),Мониторинг!$AD:$AD)<>0,SUMIF(Мониторинг!$AQ:$AQ,CONCATENATE($A122,DAY(J$1)),Мониторинг!$AD:$AD),\"\")","v":""},{"$f":"IF(SUMIF(Мониторинг!$AQ:$AQ,CONCATENATE($A122,DAY(K$1)),Мониторинг!$AD:$AD)<>0,SUMIF(Мониторинг!$AQ:$AQ,CONCATENATE($A122,DAY(K$1)),Мониторинг!$AD:$AD),\"\")","v":""},{"$f":"IF(SUMIF(Мониторинг!$AQ:$AQ,CONCATENATE($A122,DAY(L$1)),Мониторинг!$AD:$AD)<>0,SUMIF(Мониторинг!$AQ:$AQ,CONCATENATE($A122,DAY(L$1)),Мониторинг!$AD:$AD),\"\")","v":""},{"$f":"IF(SUMIF(Мониторинг!$AQ:$AQ,CONCATENATE($A122,DAY(M$1)),Мониторинг!$AD:$AD)<>0,SUMIF(Мониторинг!$AQ:$AQ,CONCATENATE($A122,DAY(M$1)),Мониторинг!$AD:$AD),\"\")","v":""},{"$f":"IF(SUMIF(Мониторинг!$AQ:$AQ,CONCATENATE($A122,DAY(N$1)),Мониторинг!$AD:$AD)<>0,SUMIF(Мониторинг!$AQ:$AQ,CONCATENATE($A122,DAY(N$1)),Мониторинг!$AD:$AD),\"\")","v":""},{"$f":"IF(SUMIF(Мониторинг!$AQ:$AQ,CONCATENATE($A122,DAY(O$1)),Мониторинг!$AD:$AD)<>0,SUMIF(Мониторинг!$AQ:$AQ,CONCATENATE($A122,DAY(O$1)),Мониторинг!$AD:$AD),\"\")","v":""},{"$f":"IF(SUMIF(Мониторинг!$AQ:$AQ,CONCATENATE($A122,DAY(P$1)),Мониторинг!$AD:$AD)<>0,SUMIF(Мониторинг!$AQ:$AQ,CONCATENATE($A122,DAY(P$1)),Мониторинг!$AD:$AD),\"\")","v":""},{"$f":"IF(SUMIF(Мониторинг!$AQ:$AQ,CONCATENATE($A122,DAY(Q$1)),Мониторинг!$AD:$AD)<>0,SUMIF(Мониторинг!$AQ:$AQ,CONCATENATE($A122,DAY(Q$1)),Мониторинг!$AD:$AD),\"\")","v":""},{"$f":"IF(SUMIF(Мониторинг!$AQ:$AQ,CONCATENATE($A122,DAY(R$1)),Мониторинг!$AD:$AD)<>0,SUMIF(Мониторинг!$AQ:$AQ,CONCATENATE($A122,DAY(R$1)),Мониторинг!$AD:$AD),\"\")","v":""},{"$f":"IF(SUMIF(Мониторинг!$AQ:$AQ,CONCATENATE($A122,DAY(S$1)),Мониторинг!$AD:$AD)<>0,SUMIF(Мониторинг!$AQ:$AQ,CONCATENATE($A122,DAY(S$1)),Мониторинг!$AD:$AD),\"\")","v":""},{"$f":"IF(SUMIF(Мониторинг!$AQ:$AQ,CONCATENATE($A122,DAY(T$1)),Мониторинг!$AD:$AD)<>0,SUMIF(Мониторинг!$AQ:$AQ,CONCATENATE($A122,DAY(T$1)),Мониторинг!$AD:$AD),\"\")","v":""},{"$f":"IF(SUMIF(Мониторинг!$AQ:$AQ,CONCATENATE($A122,DAY(U$1)),Мониторинг!$AD:$AD)<>0,SUMIF(Мониторинг!$AQ:$AQ,CONCATENATE($A122,DAY(U$1)),Мониторинг!$AD:$AD),\"\")","v":""},{"$f":"IF(SUMIF(Мониторинг!$AQ:$AQ,CONCATENATE($A122,DAY(V$1)),Мониторинг!$AD:$AD)<>0,SUMIF(Мониторинг!$AQ:$AQ,CONCATENATE($A122,DAY(V$1)),Мониторинг!$AD:$AD),\"\")","v":""},{"$f":"IF(SUMIF(Мониторинг!$AQ:$AQ,CONCATENATE($A122,DAY(W$1)),Мониторинг!$AD:$AD)<>0,SUMIF(Мониторинг!$AQ:$AQ,CONCATENATE($A122,DAY(W$1)),Мониторинг!$AD:$AD),\"\")","v":""},{"$f":"IF(SUMIF(Мониторинг!$AQ:$AQ,CONCATENATE($A122,DAY(X$1)),Мониторинг!$AD:$AD)<>0,SUMIF(Мониторинг!$AQ:$AQ,CONCATENATE($A122,DAY(X$1)),Мониторинг!$AD:$AD),\"\")","v":""},{"$f":"IF(SUMIF(Мониторинг!$AQ:$AQ,CONCATENATE($A122,DAY(Y$1)),Мониторинг!$AD:$AD)<>0,SUMIF(Мониторинг!$AQ:$AQ,CONCATENATE($A122,DAY(Y$1)),Мониторинг!$AD:$AD),\"\")","v":""},{"$f":"IF(SUMIF(Мониторинг!$AQ:$AQ,CONCATENATE($A122,DAY(Z$1)),Мониторинг!$AD:$AD)<>0,SUMIF(Мониторинг!$AQ:$AQ,CONCATENATE($A122,DAY(Z$1)),Мониторинг!$AD:$AD),\"\")","v":""},{"$f":"IF(SUMIF(Мониторинг!$AQ:$AQ,CONCATENATE($A122,DAY(AA$1)),Мониторинг!$AD:$AD)<>0,SUMIF(Мониторинг!$AQ:$AQ,CONCATENATE($A122,DAY(AA$1)),Мониторинг!$AD:$AD),\"\")","v":""},{"$f":"IF(SUMIF(Мониторинг!$AQ:$AQ,CONCATENATE($A122,DAY(AB$1)),Мониторинг!$AD:$AD)<>0,SUMIF(Мониторинг!$AQ:$AQ,CONCATENATE($A122,DAY(AB$1)),Мониторинг!$AD:$AD),\"\")","v":""},{"$f":"IF(SUMIF(Мониторинг!$AQ:$AQ,CONCATENATE($A122,DAY(AC$1)),Мониторинг!$AD:$AD)<>0,SUMIF(Мониторинг!$AQ:$AQ,CONCATENATE($A122,DAY(AC$1)),Мониторинг!$AD:$AD),\"\")","v":""},{"$f":"IF(SUMIF(Мониторинг!$AQ:$AQ,CONCATENATE($A122,DAY(AD$1)),Мониторинг!$AD:$AD)<>0,SUMIF(Мониторинг!$AQ:$AQ,CONCATENATE($A122,DAY(AD$1)),Мониторинг!$AD:$AD),\"\")","v":""},{"$f":"IF(SUMIF(Мониторинг!$AQ:$AQ,CONCATENATE($A122,DAY(AE$1)),Мониторинг!$AD:$AD)<>0,SUMIF(Мониторинг!$AQ:$AQ,CONCATENATE($A122,DAY(AE$1)),Мониторинг!$AD:$AD),\"\")","v":""},{"$f":"IF(SUMIF(Мониторинг!$AQ:$AQ,CONCATENATE($A122,DAY(AF$1)),Мониторинг!$AD:$AD)<>0,SUMIF(Мониторинг!$AQ:$AQ,CONCATENATE($A122,DAY(AF$1)),Мониторинг!$AD:$AD),\"\")","v":""},{"$f":"IF(SUMIF(Мониторинг!$AQ:$AQ,CONCATENATE($A122,DAY(AG$1)),Мониторинг!$AD:$AD)<>0,SUMIF(Мониторинг!$AQ:$AQ,CONCATENATE($A122,DAY(AG$1)),Мониторинг!$AD:$AD),\"\")","v":""}]
["Сверка платежей (Регулярные)",null,"",{"$f":"IF(SUMIF(Мониторинг!$AQ:$AQ,CONCATENATE($A123,DAY(D$1)),Мониторинг!$AD:$AD)<>0,SUMIF(Мониторинг!$AQ:$AQ,CONCATENATE($A123,DAY(D$1)),Мониторинг!$AD:$AD),\"\")","v":""},{"$f":"IF(SUMIF(Мониторинг!$AQ:$AQ,CONCATENATE($A123,DAY(E$1)),Мониторинг!$AD:$AD)<>0,SUMIF(Мониторинг!$AQ:$AQ,CONCATENATE($A123,DAY(E$1)),Мониторинг!$AD:$AD),\"\")","v":""},{"$f":"IF(SUMIF(Мониторинг!$AQ:$AQ,CONCATENATE($A123,DAY(F$1)),Мониторинг!$AD:$AD)<>0,SUMIF(Мониторинг!$AQ:$AQ,CONCATENATE($A123,DAY(F$1)),Мониторинг!$AD:$AD),\"\")","v":""},{"$f":"IF(SUMIF(Мониторинг!$AQ:$AQ,CONCATENATE($A123,DAY(G$1)),Мониторинг!$AD:$AD)<>0,SUMIF(Мониторинг!$AQ:$AQ,CONCATENATE($A123,DAY(G$1)),Мониторинг!$AD:$AD),\"\")","v":""},{"$f":"IF(SUMIF(Мониторинг!$AQ:$AQ,CONCATENATE($A123,DAY(H$1)),Мониторинг!$AD:$AD)<>0,SUMIF(Мониторинг!$AQ:$AQ,CONCATENATE($A123,DAY(H$1)),Мониторинг!$AD:$AD),\"\")","v":""},{"$f":"IF(SUMIF(Мониторинг!$AQ:$AQ,CONCATENATE($A123,DAY(I$1)),Мониторинг!$AD:$AD)<>0,SUMIF(Мониторинг!$AQ:$AQ,CONCATENATE($A123,DAY(I$1)),Мониторинг!$AD:$AD),\"\")","v":""},{"$f":"IF(SUMIF(Мониторинг!$AQ:$AQ,CONCATENATE($A123,DAY(J$1)),Мониторинг!$AD:$AD)<>0,SUMIF(Мониторинг!$AQ:$AQ,CONCATENATE($A123,DAY(J$1)),Мониторинг!$AD:$AD),\"\")","v":""},{"$f":"IF(SUMIF(Мониторинг!$AQ:$AQ,CONCATENATE($A123,DAY(K$1)),Мониторинг!$AD:$AD)<>0,SUMIF(Мониторинг!$AQ:$AQ,CONCATENATE($A123,DAY(K$1)),Мониторинг!$AD:$AD),\"\")","v":""},{"$f":"IF(SUMIF(Мониторинг!$AQ:$AQ,CONCATENATE($A123,DAY(L$1)),Мониторинг!$AD:$AD)<>0,SUMIF(Мониторинг!$AQ:$AQ,CONCATENATE($A123,DAY(L$1)),Мониторинг!$AD:$AD),\"\")","v":""},{"$f":"IF(SUMIF(Мониторинг!$AQ:$AQ,CONCATENATE($A123,DAY(M$1)),Мониторинг!$AD:$AD)<>0,SUMIF(Мониторинг!$AQ:$AQ,CONCATENATE($A123,DAY(M$1)),Мониторинг!$AD:$AD),\"\")","v":""},{"$f":"IF(SUMIF(Мониторинг!$AQ:$AQ,CONCATENATE($A123,DAY(N$1)),Мониторинг!$AD:$AD)<>0,SUMIF(Мониторинг!$AQ:$AQ,CONCATENATE($A123,DAY(N$1)),Мониторинг!$AD:$AD),\"\")","v":""},{"$f":"IF(SUMIF(Мониторинг!$AQ:$AQ,CONCATENATE($A123,DAY(O$1)),Мониторинг!$AD:$AD)<>0,SUMIF(Мониторинг!$AQ:$AQ,CONCATENATE($A123,DAY(O$1)),Мониторинг!$AD:$AD),\"\")","v":""},{"$f":"IF(SUMIF(Мониторинг!$AQ:$AQ,CONCATENATE($A123,DAY(P$1)),Мониторинг!$AD:$AD)<>0,SUMIF(Мониторинг!$AQ:$AQ,CONCATENATE($A123,DAY(P$1)),Мониторинг!$AD:$AD),\"\")","v":""},{"$f":"IF(SUMIF(Мониторинг!$AQ:$AQ,CONCATENATE($A123,DAY(Q$1)),Мониторинг!$AD:$AD)<>0,SUMIF(Мониторинг!$AQ:$AQ,CONCATENATE($A123,DAY(Q$1)),Мониторинг!$AD:$AD),\"\")","v":""},{"$f":"IF(SUMIF(Мониторинг!$AQ:$AQ,CONCATENATE($A123,DAY(R$1)),Мониторинг!$AD:$AD)<>0,SUMIF(Мониторинг!$AQ:$AQ,CONCATENATE($A123,DAY(R$1)),Мониторинг!$AD:$AD),\"\")","v":""},{"$f":"IF(SUMIF(Мониторинг!$AQ:$AQ,CONCATENATE($A123,DAY(S$1)),Мониторинг!$AD:$AD)<>0,SUMIF(Мониторинг!$AQ:$AQ,CONCATENATE($A123,DAY(S$1)),Мониторинг!$AD:$AD),\"\")","v":""},{"$f":"IF(SUMIF(Мониторинг!$AQ:$AQ,CONCATENATE($A123,DAY(T$1)),Мониторинг!$AD:$AD)<>0,SUMIF(Мониторинг!$AQ:$AQ,CONCATENATE($A123,DAY(T$1)),Мониторинг!$AD:$AD),\"\")","v":""},{"$f":"IF(SUMIF(Мониторинг!$AQ:$AQ,CONCATENATE($A123,DAY(U$1)),Мониторинг!$AD:$AD)<>0,SUMIF(Мониторинг!$AQ:$AQ,CONCATENATE($A123,DAY(U$1)),Мониторинг!$AD:$AD),\"\")","v":""},{"$f":"IF(SUMIF(Мониторинг!$AQ:$AQ,CONCATENATE($A123,DAY(V$1)),Мониторинг!$AD:$AD)<>0,SUMIF(Мониторинг!$AQ:$AQ,CONCATENATE($A123,DAY(V$1)),Мониторинг!$AD:$AD),\"\")","v":""},{"$f":"IF(SUMIF(Мониторинг!$AQ:$AQ,CONCATENATE($A123,DAY(W$1)),Мониторинг!$AD:$AD)<>0,SUMIF(Мониторинг!$AQ:$AQ,CONCATENATE($A123,DAY(W$1)),Мониторинг!$AD:$AD),\"\")","v":""},{"$f":"IF(SUMIF(Мониторинг!$AQ:$AQ,CONCATENATE($A123,DAY(X$1)),Мониторинг!$AD:$AD)<>0,SUMIF(Мониторинг!$AQ:$AQ,CONCATENATE($A123,DAY(X$1)),Мониторинг!$AD:$AD),\"\")","v":""},{"$f":"IF(SUMIF(Мониторинг!$AQ:$AQ,CONCATENATE($A123,DAY(Y$1)),Мониторинг!$AD:$AD)<>0,SUMIF(Мониторинг!$AQ:$AQ,CONCATENATE($A123,DAY(Y$1)),Мониторинг!$AD:$AD),\"\")","v":""},{"$f":"IF(SUMIF(Мониторинг!$AQ:$AQ,CONCATENATE($A123,DAY(Z$1)),Мониторинг!$AD:$AD)<>0,SUMIF(Мониторинг!$AQ:$AQ,CONCATENATE($A123,DAY(Z$1)),Мониторинг!$AD:$AD),\"\")","v":""},{"$f":"IF(SUMIF(Мониторинг!$AQ:$AQ,CONCATENATE($A123,DAY(AA$1)),Мониторинг!$AD:$AD)<>0,SUMIF(Мониторинг!$AQ:$AQ,CONCATENATE($A123,DAY(AA$1)),Мониторинг!$AD:$AD),\"\")","v":""},{"$f":"IF(SUMIF(Мониторинг!$AQ:$AQ,CONCATENATE($A123,DAY(AB$1)),Мониторинг!$AD:$AD)<>0,SUMIF(Мониторинг!$AQ:$AQ,CONCATENATE($A123,DAY(AB$1)),Мониторинг!$AD:$AD),\"\")","v":""},{"$f":"IF(SUMIF(Мониторинг!$AQ:$AQ,CONCATENATE($A123,DAY(AC$1)),Мониторинг!$AD:$AD)<>0,SUMIF(Мониторинг!$AQ:$AQ,CONCATENATE($A123,DAY(AC$1)),Мониторинг!$AD:$AD),\"\")","v":""},{"$f":"IF(SUMIF(Мониторинг!$AQ:$AQ,CONCATENATE($A123,DAY(AD$1)),Мониторинг!$AD:$AD)<>0,SUMIF(Мониторинг!$AQ:$AQ,CONCATENATE($A123,DAY(AD$1)),Мониторинг!$AD:$AD),\"\")","v":""},{"$f":"IF(SUMIF(Мониторинг!$AQ:$AQ,CONCATENATE($A123,DAY(AE$1)),Мониторинг!$AD:$AD)<>0,SUMIF(Мониторинг!$AQ:$AQ,CONCATENATE($A123,DAY(AE$1)),Мониторинг!$AD:$AD),\"\")","v":""},{"$f":"IF(SUMIF(Мониторинг!$AQ:$AQ,CONCATENATE($A123,DAY(AF$1)),Мониторинг!$AD:$AD)<>0,SUMIF(Мониторинг!$AQ:$AQ,CONCATENATE($A123,DAY(AF$1)),Мониторинг!$AD:$AD),\"\")","v":""},{"$f":"IF(SUMIF(Мониторинг!$AQ:$AQ,CONCATENATE($A123,DAY(AG$1)),Мониторинг!$AD:$AD)<>0,SUMIF(Мониторинг!$AQ:$AQ,CONCATENATE($A123,DAY(AG$1)),Мониторинг!$AD:$AD),\"\")","v":""}]
["Неисправность ВББ (Доксис)",null,"",{"$f":"IF(SUMIF(Мониторинг!$AQ:$AQ,CONCATENATE($A124,DAY(D$1)),Мониторинг!$AD:$AD)<>0,SUMIF(Мониторинг!$AQ:$AQ,CONCATENATE($A124,DAY(D$1)),Мониторинг!$AD:$AD),\"\")","v":""},{"$f":"IF(SUMIF(Мониторинг!$AQ:$AQ,CONCATENATE($A124,DAY(E$1)),Мониторинг!$AD:$AD)<>0,SUMIF(Мониторинг!$AQ:$AQ,CONCATENATE($A124,DAY(E$1)),Мониторинг!$AD:$AD),\"\")","v":""},{"$f":"IF(SUMIF(Мониторинг!$AQ:$AQ,CONCATENATE($A124,DAY(F$1)),Мониторинг!$AD:$AD)<>0,SUMIF(Мониторинг!$AQ:$AQ,CONCATENATE($A124,DAY(F$1)),Мониторинг!$AD:$AD),\"\")","v":""},{"$f":"IF(SUMIF(Мониторинг!$AQ:$AQ,CONCATENATE($A124,DAY(G$1)),Мониторинг!$AD:$AD)<>0,SUMIF(Мониторинг!$AQ:$AQ,CONCATENATE($A124,DAY(G$1)),Мониторинг!$AD:$AD),\"\")","v":""},{"$f":"IF(SUMIF(Мониторинг!$AQ:$AQ,CONCATENATE($A124,DAY(H$1)),Мониторинг!$AD:$AD)<>0,SUMIF(Мониторинг!$AQ:$AQ,CONCATENATE($A124,DAY(H$1)),Мониторинг!$AD:$AD),\"\")","v":""},{"$f":"IF(SUMIF(Мониторинг!$AQ:$AQ,CONCATENATE($A124,DAY(I$1)),Мониторинг!$AD:$AD)<>0,SUMIF(Мониторинг!$AQ:$AQ,CONCATENATE($A124,DAY(I$1)),Мониторинг!$AD:$AD),\"\")","v":""},{"$f":"IF(SUMIF(Мониторинг!$AQ:$AQ,CONCATENATE($A124,DAY(J$1)),Мониторинг!$AD:$AD)<>0,SUMIF(Мониторинг!$AQ:$AQ,CONCATENATE($A124,DAY(J$1)),Мониторинг!$AD:$AD),\"\")","v":""},{"$f":"IF(SUMIF(Мониторинг!$AQ:$AQ,CONCATENATE($A124,DAY(K$1)),Мониторинг!$AD:$AD)<>0,SUMIF(Мониторинг!$AQ:$AQ,CONCATENATE($A124,DAY(K$1)),Мониторинг!$AD:$AD),\"\")","v":""},{"$f":"IF(SUMIF(Мониторинг!$AQ:$AQ,CONCATENATE($A124,DAY(L$1)),Мониторинг!$AD:$AD)<>0,SUMIF(Мониторинг!$AQ:$AQ,CONCATENATE($A124,DAY(L$1)),Мониторинг!$AD:$AD),\"\")","v":""},{"$f":"IF(SUMIF(Мониторинг!$AQ:$AQ,CONCATENATE($A124,DAY(M$1)),Мониторинг!$AD:$AD)<>0,SUMIF(Мониторинг!$AQ:$AQ,CONCATENATE($A124,DAY(M$1)),Мониторинг!$AD:$AD),\"\")","v":""},{"$f":"IF(SUMIF(Мониторинг!$AQ:$AQ,CONCATENATE($A124,DAY(N$1)),Мониторинг!$AD:$AD)<>0,SUMIF(Мониторинг!$AQ:$AQ,CONCATENATE($A124,DAY(N$1)),Мониторинг!$AD:$AD),\"\")","v":""},{"$f":"IF(SUMIF(Мониторинг!$AQ:$AQ,CONCATENATE($A124,DAY(O$1)),Мониторинг!$AD:$AD)<>0,SUMIF(Мониторинг!$AQ:$AQ,CONCATENATE($A124,DAY(O$1)),Мониторинг!$AD:$AD),\"\")","v":""},{"$f":"IF(SUMIF(Мониторинг!$AQ:$AQ,CONCATENATE($A124,DAY(P$1)),Мониторинг!$AD:$AD)<>0,SUMIF(Мониторинг!$AQ:$AQ,CONCATENATE($A124,DAY(P$1)),Мониторинг!$AD:$AD),\"\")","v":""},{"$f":"IF(SUMIF(Мониторинг!$AQ:$AQ,CONCATENATE($A124,DAY(Q$1)),Мониторинг!$AD:$AD)<>0,SUMIF(Мониторинг!$AQ:$AQ,CONCATENATE($A124,DAY(Q$1)),Мониторинг!$AD:$AD),\"\")","v":""},{"$f":"IF(SUMIF(Мониторинг!$AQ:$AQ,CONCATENATE($A124,DAY(R$1)),Мониторинг!$AD:$AD)<>0,SUMIF(Мониторинг!$AQ:$AQ,CONCATENATE($A124,DAY(R$1)),Мониторинг!$AD:$AD),\"\")","v":""},{"$f":"IF(SUMIF(Мониторинг!$AQ:$AQ,CONCATENATE($A124,DAY(S$1)),Мониторинг!$AD:$AD)<>0,SUMIF(Мониторинг!$AQ:$AQ,CONCATENATE($A124,DAY(S$1)),Мониторинг!$AD:$AD),\"\")","v":""},{"$f":"IF(SUMIF(Мониторинг!$AQ:$AQ,CONCATENATE($A124,DAY(T$1)),Мониторинг!$AD:$AD)<>0,SUMIF(Мониторинг!$AQ:$AQ,CONCATENATE($A124,DAY(T$1)),Мониторинг!$AD:$AD),\"\")","v":""},{"$f":"IF(SUMIF(Мониторинг!$AQ:$AQ,CONCATENATE($A124,DAY(U$1)),Мониторинг!$AD:$AD)<>0,SUMIF(Мониторинг!$AQ:$AQ,CONCATENATE($A124,DAY(U$1)),Мониторинг!$AD:$AD),\"\")","v":""},{"$f":"IF(SUMIF(Мониторинг!$AQ:$AQ,CONCATENATE($A124,DAY(V$1)),Мониторинг!$AD:$AD)<>0,SUMIF(Мониторинг!$AQ:$AQ,CONCATENATE($A124,DAY(V$1)),Мониторинг!$AD:$AD),\"\")","v":""},{"$f":"IF(SUMIF(Мониторинг!$AQ:$AQ,CONCATENATE($A124,DAY(W$1)),Мониторинг!$AD:$AD)<>0,SUMIF(Мониторинг!$AQ:$AQ,CONCATENATE($A124,DAY(W$1)),Мониторинг!$AD:$AD),\"\")","v":""},{"$f":"IF(SUMIF(Мониторинг!$AQ:$AQ,CONCATENATE($A124,DAY(X$1)),Мониторинг!$AD:$AD)<>0,SUMIF(Мониторинг!$AQ:$AQ,CONCATENATE($A124,DAY(X$1)),Мониторинг!$AD:$AD),\"\")","v":""},{"$f":"IF(SUMIF(Мониторинг!$AQ:$AQ,CONCATENATE($A124,DAY(Y$1)),Мониторинг!$AD:$AD)<>0,SUMIF(Мониторинг!$AQ:$AQ,CONCATENATE($A124,DAY(Y$1)),Мониторинг!$AD:$AD),\"\")","v":""},{"$f":"IF(SUMIF(Мониторинг!$AQ:$AQ,CONCATENATE($A124,DAY(Z$1)),Мониторинг!$AD:$AD)<>0,SUMIF(Мониторинг!$AQ:$AQ,CONCATENATE($A124,DAY(Z$1)),Мониторинг!$AD:$AD),\"\")","v":""},{"$f":"IF(SUMIF(Мониторинг!$AQ:$AQ,CONCATENATE($A124,DAY(AA$1)),Мониторинг!$AD:$AD)<>0,SUMIF(Мониторинг!$AQ:$AQ,CONCATENATE($A124,DAY(AA$1)),Мониторинг!$AD:$AD),\"\")","v":""},{"$f":"IF(SUMIF(Мониторинг!$AQ:$AQ,CONCATENATE($A124,DAY(AB$1)),Мониторинг!$AD:$AD)<>0,SUMIF(Мониторинг!$AQ:$AQ,CONCATENATE($A124,DAY(AB$1)),Мониторинг!$AD:$AD),\"\")","v":""},{"$f":"IF(SUMIF(Мониторинг!$AQ:$AQ,CONCATENATE($A124,DAY(AC$1)),Мониторинг!$AD:$AD)<>0,SUMIF(Мониторинг!$AQ:$AQ,CONCATENATE($A124,DAY(AC$1)),Мониторинг!$AD:$AD),\"\")","v":""},{"$f":"IF(SUMIF(Мониторинг!$AQ:$AQ,CONCATENATE($A124,DAY(AD$1)),Мониторинг!$AD:$AD)<>0,SUMIF(Мониторинг!$AQ:$AQ,CONCATENATE($A124,DAY(AD$1)),Мониторинг!$AD:$AD),\"\")","v":""},{"$f":"IF(SUMIF(Мониторинг!$AQ:$AQ,CONCATENATE($A124,DAY(AE$1)),Мониторинг!$AD:$AD)<>0,SUMIF(Мониторинг!$AQ:$AQ,CONCATENATE($A124,DAY(AE$1)),Мониторинг!$AD:$AD),\"\")","v":""},{"$f":"IF(SUMIF(Мониторинг!$AQ:$AQ,CONCATENATE($A124,DAY(AF$1)),Мониторинг!$AD:$AD)<>0,SUMIF(Мониторинг!$AQ:$AQ,CONCATENATE($A124,DAY(AF$1)),Мониторинг!$AD:$AD),\"\")","v":""},{"$f":"IF(SUMIF(Мониторинг!$AQ:$AQ,CONCATENATE($A124,DAY(AG$1)),Мониторинг!$AD:$AD)<>0,SUMIF(Мониторинг!$AQ:$AQ,CONCATENATE($A124,DAY(AG$1)),Мониторинг!$AD:$AD),\"\")","v":""}]
["Неисправность ВББ (Ethernet)",null,"",{"$f":"IF(SUMIF(Мониторинг!$AQ:$AQ,CONCATENATE($A125,DAY(D$1)),Мониторинг!$AD:$AD)<>0,SUMIF(Мониторинг!$AQ:$AQ,CONCATENATE($A125,DAY(D$1)),Мониторинг!$AD:$AD),\"\")","v":""},{"$f":"IF(SUMIF(Мониторинг!$AQ:$AQ,CONCATENATE($A125,DAY(E$1)),Мониторинг!$AD:$AD)<>0,SUMIF(Мониторинг!$AQ:$AQ,CONCATENATE($A125,DAY(E$1)),Мониторинг!$AD:$AD),\"\")","v":""},{"$f":"IF(SUMIF(Мониторинг!$AQ:$AQ,CONCATENATE($A125,DAY(F$1)),Мониторинг!$AD:$AD)<>0,SUMIF(Мониторинг!$AQ:$AQ,CONCATENATE($A125,DAY(F$1)),Мониторинг!$AD:$AD),\"\")","v":""},{"$f":"IF(SUMIF(Мониторинг!$AQ:$AQ,CONCATENATE($A125,DAY(G$1)),Мониторинг!$AD:$AD)<>0,SUMIF(Мониторинг!$AQ:$AQ,CONCATENATE($A125,DAY(G$1)),Мониторинг!$AD:$AD),\"\")","v":""},{"$f":"IF(SUMIF(Мониторинг!$AQ:$AQ,CONCATENATE($A125,DAY(H$1)),Мониторинг!$AD:$AD)<>0,SUMIF(Мониторинг!$AQ:$AQ,CONCATENATE($A125,DAY(H$1)),Мониторинг!$AD:$AD),\"\")","v":""},{"$f":"IF(SUMIF(Мониторинг!$AQ:$AQ,CONCATENATE($A125,DAY(I$1)),Мониторинг!$AD:$AD)<>0,SUMIF(Мониторинг!$AQ:$AQ,CONCATENATE($A125,DAY(I$1)),Мониторинг!$AD:$AD),\"\")","v":""},{"$f":"IF(SUMIF(Мониторинг!$AQ:$AQ,CONCATENATE($A125,DAY(J$1)),Мониторинг!$AD:$AD)<>0,SUMIF(Мониторинг!$AQ:$AQ,CONCATENATE($A125,DAY(J$1)),Мониторинг!$AD:$AD),\"\")","v":""},{"$f":"IF(SUMIF(Мониторинг!$AQ:$AQ,CONCATENATE($A125,DAY(K$1)),Мониторинг!$AD:$AD)<>0,SUMIF(Мониторинг!$AQ:$AQ,CONCATENATE($A125,DAY(K$1)),Мониторинг!$AD:$AD),\"\")","v":""},{"$f":"IF(SUMIF(Мониторинг!$AQ:$AQ,CONCATENATE($A125,DAY(L$1)),Мониторинг!$AD:$AD)<>0,SUMIF(Мониторинг!$AQ:$AQ,CONCATENATE($A125,DAY(L$1)),Мониторинг!$AD:$AD),\"\")","v":""},{"$f":"IF(SUMIF(Мониторинг!$AQ:$AQ,CONCATENATE($A125,DAY(M$1)),Мониторинг!$AD:$AD)<>0,SUMIF(Мониторинг!$AQ:$AQ,CONCATENATE($A125,DAY(M$1)),Мониторинг!$AD:$AD),\"\")","v":""},{"$f":"IF(SUMIF(Мониторинг!$AQ:$AQ,CONCATENATE($A125,DAY(N$1)),Мониторинг!$AD:$AD)<>0,SUMIF(Мониторинг!$AQ:$AQ,CONCATENATE($A125,DAY(N$1)),Мониторинг!$AD:$AD),\"\")","v":""},{"$f":"IF(SUMIF(Мониторинг!$AQ:$AQ,CONCATENATE($A125,DAY(O$1)),Мониторинг!$AD:$AD)<>0,SUMIF(Мониторинг!$AQ:$AQ,CONCATENATE($A125,DAY(O$1)),Мониторинг!$AD:$AD),\"\")","v":""},{"$f":"IF(SUMIF(Мониторинг!$AQ:$AQ,CONCATENATE($A125,DAY(P$1)),Мониторинг!$AD:$AD)<>0,SUMIF(Мониторинг!$AQ:$AQ,CONCATENATE($A125,DAY(P$1)),Мониторинг!$AD:$AD),\"\")","v":""},{"$f":"IF(SUMIF(Мониторинг!$AQ:$AQ,CONCATENATE($A125,DAY(Q$1)),Мониторинг!$AD:$AD)<>0,SUMIF(Мониторинг!$AQ:$AQ,CONCATENATE($A125,DAY(Q$1)),Мониторинг!$AD:$AD),\"\")","v":""},{"$f":"IF(SUMIF(Мониторинг!$AQ:$AQ,CONCATENATE($A125,DAY(R$1)),Мониторинг!$AD:$AD)<>0,SUMIF(Мониторинг!$AQ:$AQ,CONCATENATE($A125,DAY(R$1)),Мониторинг!$AD:$AD),\"\")","v":""},{"$f":"IF(SUMIF(Мониторинг!$AQ:$AQ,CONCATENATE($A125,DAY(S$1)),Мониторинг!$AD:$AD)<>0,SUMIF(Мониторинг!$AQ:$AQ,CONCATENATE($A125,DAY(S$1)),Мониторинг!$AD:$AD),\"\")","v":""},{"$f":"IF(SUMIF(Мониторинг!$AQ:$AQ,CONCATENATE($A125,DAY(T$1)),Мониторинг!$AD:$AD)<>0,SUMIF(Мониторинг!$AQ:$AQ,CONCATENATE($A125,DAY(T$1)),Мониторинг!$AD:$AD),\"\")","v":""},{"$f":"IF(SUMIF(Мониторинг!$AQ:$AQ,CONCATENATE($A125,DAY(U$1)),Мониторинг!$AD:$AD)<>0,SUMIF(Мониторинг!$AQ:$AQ,CONCATENATE($A125,DAY(U$1)),Мониторинг!$AD:$AD),\"\")","v":""},{"$f":"IF(SUMIF(Мониторинг!$AQ:$AQ,CONCATENATE($A125,DAY(V$1)),Мониторинг!$AD:$AD)<>0,SUMIF(Мониторинг!$AQ:$AQ,CONCATENATE($A125,DAY(V$1)),Мониторинг!$AD:$AD),\"\")","v":""},{"$f":"IF(SUMIF(Мониторинг!$AQ:$AQ,CONCATENATE($A125,DAY(W$1)),Мониторинг!$AD:$AD)<>0,SUMIF(Мониторинг!$AQ:$AQ,CONCATENATE($A125,DAY(W$1)),Мониторинг!$AD:$AD),\"\")","v":""},{"$f":"IF(SUMIF(Мониторинг!$AQ:$AQ,CONCATENATE($A125,DAY(X$1)),Мониторинг!$AD:$AD)<>0,SUMIF(Мониторинг!$AQ:$AQ,CONCATENATE($A125,DAY(X$1)),Мониторинг!$AD:$AD),\"\")","v":""},{"$f":"IF(SUMIF(Мониторинг!$AQ:$AQ,CONCATENATE($A125,DAY(Y$1)),Мониторинг!$AD:$AD)<>0,SUMIF(Мониторинг!$AQ:$AQ,CONCATENATE($A125,DAY(Y$1)),Мониторинг!$AD:$AD),\"\")","v":""},{"$f":"IF(SUMIF(Мониторинг!$AQ:$AQ,CONCATENATE($A125,DAY(Z$1)),Мониторинг!$AD:$AD)<>0,SUMIF(Мониторинг!$AQ:$AQ,CONCATENATE($A125,DAY(Z$1)),Мониторинг!$AD:$AD),\"\")","v":""},{"$f":"IF(SUMIF(Мониторинг!$AQ:$AQ,CONCATENATE($A125,DAY(AA$1)),Мониторинг!$AD:$AD)<>0,SUMIF(Мониторинг!$AQ:$AQ,CONCATENATE($A125,DAY(AA$1)),Мониторинг!$AD:$AD),\"\")","v":""},{"$f":"IF(SUMIF(Мониторинг!$AQ:$AQ,CONCATENATE($A125,DAY(AB$1)),Мониторинг!$AD:$AD)<>0,SUMIF(Мониторинг!$AQ:$AQ,CONCATENATE($A125,DAY(AB$1)),Мониторинг!$AD:$AD),\"\")","v":""},{"$f":"IF(SUMIF(Мониторинг!$AQ:$AQ,CONCATENATE($A125,DAY(AC$1)),Мониторинг!$AD:$AD)<>0,SUMIF(Мониторинг!$AQ:$AQ,CONCATENATE($A125,DAY(AC$1)),Мониторинг!$AD:$AD),\"\")","v":""},{"$f":"IF(SUMIF(Мониторинг!$AQ:$AQ,CONCATENATE($A125,DAY(AD$1)),Мониторинг!$AD:$AD)<>0,SUMIF(Мониторинг!$AQ:$AQ,CONCATENATE($A125,DAY(AD$1)),Мониторинг!$AD:$AD),\"\")","v":""},{"$f":"IF(SUMIF(Мониторинг!$AQ:$AQ,CONCATENATE($A125,DAY(AE$1)),Мониторинг!$AD:$AD)<>0,SUMIF(Мониторинг!$AQ:$AQ,CONCATENATE($A125,DAY(AE$1)),Мониторинг!$AD:$AD),\"\")","v":""},{"$f":"IF(SUMIF(Мониторинг!$AQ:$AQ,CONCATENATE($A125,DAY(AF$1)),Мониторинг!$AD:$AD)<>0,SUMIF(Мониторинг!$AQ:$AQ,CONCATENATE($A125,DAY(AF$1)),Мониторинг!$AD:$AD),\"\")","v":""},{"$f":"IF(SUMIF(Мониторинг!$AQ:$AQ,CONCATENATE($A125,DAY(AG$1)),Мониторинг!$AD:$AD)<>0,SUMIF(Мониторинг!$AQ:$AQ,CONCATENATE($A125,DAY(AG$1)),Мониторинг!$AD:$AD),\"\")","v":""}]
["Неисправность КТВ/ВПТВ(проблема с разводкой)",null,"",{"$f":"IF(SUMIF(Мониторинг!$AQ:$AQ,CONCATENATE($A126,DAY(D$1)),Мониторинг!$AD:$AD)<>0,SUMIF(Мониторинг!$AQ:$AQ,CONCATENATE($A126,DAY(D$1)),Мониторинг!$AD:$AD),\"\")","v":""},{"$f":"IF(SUMIF(Мониторинг!$AQ:$AQ,CONCATENATE($A126,DAY(E$1)),Мониторинг!$AD:$AD)<>0,SUMIF(Мониторинг!$AQ:$AQ,CONCATENATE($A126,DAY(E$1)),Мониторинг!$AD:$AD),\"\")","v":""},{"$f":"IF(SUMIF(Мониторинг!$AQ:$AQ,CONCATENATE($A126,DAY(F$1)),Мониторинг!$AD:$AD)<>0,SUMIF(Мониторинг!$AQ:$AQ,CONCATENATE($A126,DAY(F$1)),Мониторинг!$AD:$AD),\"\")","v":""},{"$f":"IF(SUMIF(Мониторинг!$AQ:$AQ,CONCATENATE($A126,DAY(G$1)),Мониторинг!$AD:$AD)<>0,SUMIF(Мониторинг!$AQ:$AQ,CONCATENATE($A126,DAY(G$1)),Мониторинг!$AD:$AD),\"\")","v":""},{"$f":"IF(SUMIF(Мониторинг!$AQ:$AQ,CONCATENATE($A126,DAY(H$1)),Мониторинг!$AD:$AD)<>0,SUMIF(Мониторинг!$AQ:$AQ,CONCATENATE($A126,DAY(H$1)),Мониторинг!$AD:$AD),\"\")","v":""},{"$f":"IF(SUMIF(Мониторинг!$AQ:$AQ,CONCATENATE($A126,DAY(I$1)),Мониторинг!$AD:$AD)<>0,SUMIF(Мониторинг!$AQ:$AQ,CONCATENATE($A126,DAY(I$1)),Мониторинг!$AD:$AD),\"\")","v":""},{"$f":"IF(SUMIF(Мониторинг!$AQ:$AQ,CONCATENATE($A126,DAY(J$1)),Мониторинг!$AD:$AD)<>0,SUMIF(Мониторинг!$AQ:$AQ,CONCATENATE($A126,DAY(J$1)),Мониторинг!$AD:$AD),\"\")","v":""},{"$f":"IF(SUMIF(Мониторинг!$AQ:$AQ,CONCATENATE($A126,DAY(K$1)),Мониторинг!$AD:$AD)<>0,SUMIF(Мониторинг!$AQ:$AQ,CONCATENATE($A126,DAY(K$1)),Мониторинг!$AD:$AD),\"\")","v":""},{"$f":"IF(SUMIF(Мониторинг!$AQ:$AQ,CONCATENATE($A126,DAY(L$1)),Мониторинг!$AD:$AD)<>0,SUMIF(Мониторинг!$AQ:$AQ,CONCATENATE($A126,DAY(L$1)),Мониторинг!$AD:$AD),\"\")","v":""},{"$f":"IF(SUMIF(Мониторинг!$AQ:$AQ,CONCATENATE($A126,DAY(M$1)),Мониторинг!$AD:$AD)<>0,SUMIF(Мониторинг!$AQ:$AQ,CONCATENATE($A126,DAY(M$1)),Мониторинг!$AD:$AD),\"\")","v":""},{"$f":"IF(SUMIF(Мониторинг!$AQ:$AQ,CONCATENATE($A126,DAY(N$1)),Мониторинг!$AD:$AD)<>0,SUMIF(Мониторинг!$AQ:$AQ,CONCATENATE($A126,DAY(N$1)),Мониторинг!$AD:$AD),\"\")","v":""},{"$f":"IF(SUMIF(Мониторинг!$AQ:$AQ,CONCATENATE($A126,DAY(O$1)),Мониторинг!$AD:$AD)<>0,SUMIF(Мониторинг!$AQ:$AQ,CONCATENATE($A126,DAY(O$1)),Мониторинг!$AD:$AD),\"\")","v":""},{"$f":"IF(SUMIF(Мониторинг!$AQ:$AQ,CONCATENATE($A126,DAY(P$1)),Мониторинг!$AD:$AD)<>0,SUMIF(Мониторинг!$AQ:$AQ,CONCATENATE($A126,DAY(P$1)),Мониторинг!$AD:$AD),\"\")","v":""},{"$f":"IF(SUMIF(Мониторинг!$AQ:$AQ,CONCATENATE($A126,DAY(Q$1)),Мониторинг!$AD:$AD)<>0,SUMIF(Мониторинг!$AQ:$AQ,CONCATENATE($A126,DAY(Q$1)),Мониторинг!$AD:$AD),\"\")","v":""},{"$f":"IF(SUMIF(Мониторинг!$AQ:$AQ,CONCATENATE($A126,DAY(R$1)),Мониторинг!$AD:$AD)<>0,SUMIF(Мониторинг!$AQ:$AQ,CONCATENATE($A126,DAY(R$1)),Мониторинг!$AD:$AD),\"\")","v":""},{"$f":"IF(SUMIF(Мониторинг!$AQ:$AQ,CONCATENATE($A126,DAY(S$1)),Мониторинг!$AD:$AD)<>0,SUMIF(Мониторинг!$AQ:$AQ,CONCATENATE($A126,DAY(S$1)),Мониторинг!$AD:$AD),\"\")","v":""},{"$f":"IF(SUMIF(Мониторинг!$AQ:$AQ,CONCATENATE($A126,DAY(T$1)),Мониторинг!$AD:$AD)<>0,SUMIF(Мониторинг!$AQ:$AQ,CONCATENATE($A126,DAY(T$1)),Мониторинг!$AD:$AD),\"\")","v":""},{"$f":"IF(SUMIF(Мониторинг!$AQ:$AQ,CONCATENATE($A126,DAY(U$1)),Мониторинг!$AD:$AD)<>0,SUMIF(Мониторинг!$AQ:$AQ,CONCATENATE($A126,DAY(U$1)),Мониторинг!$AD:$AD),\"\")","v":""},{"$f":"IF(SUMIF(Мониторинг!$AQ:$AQ,CONCATENATE($A126,DAY(V$1)),Мониторинг!$AD:$AD)<>0,SUMIF(Мониторинг!$AQ:$AQ,CONCATENATE($A126,DAY(V$1)),Мониторинг!$AD:$AD),\"\")","v":""},{"$f":"IF(SUMIF(Мониторинг!$AQ:$AQ,CONCATENATE($A126,DAY(W$1)),Мониторинг!$AD:$AD)<>0,SUMIF(Мониторинг!$AQ:$AQ,CONCATENATE($A126,DAY(W$1)),Мониторинг!$AD:$AD),\"\")","v":""},{"$f":"IF(SUMIF(Мониторинг!$AQ:$AQ,CONCATENATE($A126,DAY(X$1)),Мониторинг!$AD:$AD)<>0,SUMIF(Мониторинг!$AQ:$AQ,CONCATENATE($A126,DAY(X$1)),Мониторинг!$AD:$AD),\"\")","v":""},{"$f":"IF(SUMIF(Мониторинг!$AQ:$AQ,CONCATENATE($A126,DAY(Y$1)),Мониторинг!$AD:$AD)<>0,SUMIF(Мониторинг!$AQ:$AQ,CONCATENATE($A126,DAY(Y$1)),Мониторинг!$AD:$AD),\"\")","v":""},{"$f":"IF(SUMIF(Мониторинг!$AQ:$AQ,CONCATENATE($A126,DAY(Z$1)),Мониторинг!$AD:$AD)<>0,SUMIF(Мониторинг!$AQ:$AQ,CONCATENATE($A126,DAY(Z$1)),Мониторинг!$AD:$AD),\"\")","v":""},{"$f":"IF(SUMIF(Мониторинг!$AQ:$AQ,CONCATENATE($A126,DAY(AA$1)),Мониторинг!$AD:$AD)<>0,SUMIF(Мониторинг!$AQ:$AQ,CONCATENATE($A126,DAY(AA$1)),Мониторинг!$AD:$AD),\"\")","v":""},{"$f":"IF(SUMIF(Мониторинг!$AQ:$AQ,CONCATENATE($A126,DAY(AB$1)),Мониторинг!$AD:$AD)<>0,SUMIF(Мониторинг!$AQ:$AQ,CONCATENATE($A126,DAY(AB$1)),Мониторинг!$AD:$AD),\"\")","v":""},{"$f":"IF(SUMIF(Мониторинг!$AQ:$AQ,CONCATENATE($A126,DAY(AC$1)),Мониторинг!$AD:$AD)<>0,SUMIF(Мониторинг!$AQ:$AQ,CONCATENATE($A126,DAY(AC$1)),Мониторинг!$AD:$AD),\"\")","v":""},{"$f":"IF(SUMIF(Мониторинг!$AQ:$AQ,CONCATENATE($A126,DAY(AD$1)),Мониторинг!$AD:$AD)<>0,SUMIF(Мониторинг!$AQ:$AQ,CONCATENATE($A126,DAY(AD$1)),Мониторинг!$AD:$AD),\"\")","v":""},{"$f":"IF(SUMIF(Мониторинг!$AQ:$AQ,CONCATENATE($A126,DAY(AE$1)),Мониторинг!$AD:$AD)<>0,SUMIF(Мониторинг!$AQ:$AQ,CONCATENATE($A126,DAY(AE$1)),Мониторинг!$AD:$AD),\"\")","v":""},{"$f":"IF(SUMIF(Мониторинг!$AQ:$AQ,CONCATENATE($A126,DAY(AF$1)),Мониторинг!$AD:$AD)<>0,SUMIF(Мониторинг!$AQ:$AQ,CONCATENATE($A126,DAY(AF$1)),Мониторинг!$AD:$AD),\"\")","v":""},{"$f":"IF(SUMIF(Мониторинг!$AQ:$AQ,CONCATENATE($A126,DAY(AG$1)),Мониторинг!$AD:$AD)<>0,SUMIF(Мониторинг!$AQ:$AQ,CONCATENATE($A126,DAY(AG$1)),Мониторинг!$AD:$AD),\"\")","v":""}]
["Неисправность КТВ/ВПТВ(проблема с настройками)",null,"",{"$f":"IF(SUMIF(Мониторинг!$AQ:$AQ,CONCATENATE($A127,DAY(D$1)),Мониторинг!$AD:$AD)<>0,SUMIF(Мониторинг!$AQ:$AQ,CONCATENATE($A127,DAY(D$1)),Мониторинг!$AD:$AD),\"\")","v":""},{"$f":"IF(SUMIF(Мониторинг!$AQ:$AQ,CONCATENATE($A127,DAY(E$1)),Мониторинг!$AD:$AD)<>0,SUMIF(Мониторинг!$AQ:$AQ,CONCATENATE($A127,DAY(E$1)),Мониторинг!$AD:$AD),\"\")","v":""},{"$f":"IF(SUMIF(Мониторинг!$AQ:$AQ,CONCATENATE($A127,DAY(F$1)),Мониторинг!$AD:$AD)<>0,SUMIF(Мониторинг!$AQ:$AQ,CONCATENATE($A127,DAY(F$1)),Мониторинг!$AD:$AD),\"\")","v":""},{"$f":"IF(SUMIF(Мониторинг!$AQ:$AQ,CONCATENATE($A127,DAY(G$1)),Мониторинг!$AD:$AD)<>0,SUMIF(Мониторинг!$AQ:$AQ,CONCATENATE($A127,DAY(G$1)),Мониторинг!$AD:$AD),\"\")","v":""},{"$f":"IF(SUMIF(Мониторинг!$AQ:$AQ,CONCATENATE($A127,DAY(H$1)),Мониторинг!$AD:$AD)<>0,SUMIF(Мониторинг!$AQ:$AQ,CONCATENATE($A127,DAY(H$1)),Мониторинг!$AD:$AD),\"\")","v":""},{"$f":"IF(SUMIF(Мониторинг!$AQ:$AQ,CONCATENATE($A127,DAY(I$1)),Мониторинг!$AD:$AD)<>0,SUMIF(Мониторинг!$AQ:$AQ,CONCATENATE($A127,DAY(I$1)),Мониторинг!$AD:$AD),\"\")","v":""},{"$f":"IF(SUMIF(Мониторинг!$AQ:$AQ,CONCATENATE($A127,DAY(J$1)),Мониторинг!$AD:$AD)<>0,SUMIF(Мониторинг!$AQ:$AQ,CONCATENATE($A127,DAY(J$1)),Мониторинг!$AD:$AD),\"\")","v":""},{"$f":"IF(SUMIF(Мониторинг!$AQ:$AQ,CONCATENATE($A127,DAY(K$1)),Мониторинг!$AD:$AD)<>0,SUMIF(Мониторинг!$AQ:$AQ,CONCATENATE($A127,DAY(K$1)),Мониторинг!$AD:$AD),\"\")","v":""},{"$f":"IF(SUMIF(Мониторинг!$AQ:$AQ,CONCATENATE($A127,DAY(L$1)),Мониторинг!$AD:$AD)<>0,SUMIF(Мониторинг!$AQ:$AQ,CONCATENATE($A127,DAY(L$1)),Мониторинг!$AD:$AD),\"\")","v":""},{"$f":"IF(SUMIF(Мониторинг!$AQ:$AQ,CONCATENATE($A127,DAY(M$1)),Мониторинг!$AD:$AD)<>0,SUMIF(Мониторинг!$AQ:$AQ,CONCATENATE($A127,DAY(M$1)),Мониторинг!$AD:$AD),\"\")","v":""},{"$f":"IF(SUMIF(Мониторинг!$AQ:$AQ,CONCATENATE($A127,DAY(N$1)),Мониторинг!$AD:$AD)<>0,SUMIF(Мониторинг!$AQ:$AQ,CONCATENATE($A127,DAY(N$1)),Мониторинг!$AD:$AD),\"\")","v":""},{"$f":"IF(SUMIF(Мониторинг!$AQ:$AQ,CONCATENATE($A127,DAY(O$1)),Мониторинг!$AD:$AD)<>0,SUMIF(Мониторинг!$AQ:$AQ,CONCATENATE($A127,DAY(O$1)),Мониторинг!$AD:$AD),\"\")","v":""},{"$f":"IF(SUMIF(Мониторинг!$AQ:$AQ,CONCATENATE($A127,DAY(P$1)),Мониторинг!$AD:$AD)<>0,SUMIF(Мониторинг!$AQ:$AQ,CONCATENATE($A127,DAY(P$1)),Мониторинг!$AD:$AD),\"\")","v":""},{"$f":"IF(SUMIF(Мониторинг!$AQ:$AQ,CONCATENATE($A127,DAY(Q$1)),Мониторинг!$AD:$AD)<>0,SUMIF(Мониторинг!$AQ:$AQ,CONCATENATE($A127,DAY(Q$1)),Мониторинг!$AD:$AD),\"\")","v":""},{"$f":"IF(SUMIF(Мониторинг!$AQ:$AQ,CONCATENATE($A127,DAY(R$1)),Мониторинг!$AD:$AD)<>0,SUMIF(Мониторинг!$AQ:$AQ,CONCATENATE($A127,DAY(R$1)),Мониторинг!$AD:$AD),\"\")","v":""},{"$f":"IF(SUMIF(Мониторинг!$AQ:$AQ,CONCATENATE($A127,DAY(S$1)),Мониторинг!$AD:$AD)<>0,SUMIF(Мониторинг!$AQ:$AQ,CONCATENATE($A127,DAY(S$1)),Мониторинг!$AD:$AD),\"\")","v":""},{"$f":"IF(SUMIF(Мониторинг!$AQ:$AQ,CONCATENATE($A127,DAY(T$1)),Мониторинг!$AD:$AD)<>0,SUMIF(Мониторинг!$AQ:$AQ,CONCATENATE($A127,DAY(T$1)),Мониторинг!$AD:$AD),\"\")","v":""},{"$f":"IF(SUMIF(Мониторинг!$AQ:$AQ,CONCATENATE($A127,DAY(U$1)),Мониторинг!$AD:$AD)<>0,SUMIF(Мониторинг!$AQ:$AQ,CONCATENATE($A127,DAY(U$1)),Мониторинг!$AD:$AD),\"\")","v":""},{"$f":"IF(SUMIF(Мониторинг!$AQ:$AQ,CONCATENATE($A127,DAY(V$1)),Мониторинг!$AD:$AD)<>0,SUMIF(Мониторинг!$AQ:$AQ,CONCATENATE($A127,DAY(V$1)),Мониторинг!$AD:$AD),\"\")","v":""},{"$f":"IF(SUMIF(Мониторинг!$AQ:$AQ,CONCATENATE($A127,DAY(W$1)),Мониторинг!$AD:$AD)<>0,SUMIF(Мониторинг!$AQ:$AQ,CONCATENATE($A127,DAY(W$1)),Мониторинг!$AD:$AD),\"\")","v":""},{"$f":"IF(SUMIF(Мониторинг!$AQ:$AQ,CONCATENATE($A127,DAY(X$1)),Мониторинг!$AD:$AD)<>0,SUMIF(Мониторинг!$AQ:$AQ,CONCATENATE($A127,DAY(X$1)),Мониторинг!$AD:$AD),\"\")","v":""},{"$f":"IF(SUMIF(Мониторинг!$AQ:$AQ,CONCATENATE($A127,DAY(Y$1)),Мониторинг!$AD:$AD)<>0,SUMIF(Мониторинг!$AQ:$AQ,CONCATENATE($A127,DAY(Y$1)),Мониторинг!$AD:$AD),\"\")","v":""},{"$f":"IF(SUMIF(Мониторинг!$AQ:$AQ,CONCATENATE($A127,DAY(Z$1)),Мониторинг!$AD:$AD)<>0,SUMIF(Мониторинг!$AQ:$AQ,CONCATENATE($A127,DAY(Z$1)),Мониторинг!$AD:$AD),\"\")","v":""},{"$f":"IF(SUMIF(Мониторинг!$AQ:$AQ,CONCATENATE($A127,DAY(AA$1)),Мониторинг!$AD:$AD)<>0,SUMIF(Мониторинг!$AQ:$AQ,CONCATENATE($A127,DAY(AA$1)),Мониторинг!$AD:$AD),\"\")","v":""},{"$f":"IF(SUMIF(Мониторинг!$AQ:$AQ,CONCATENATE($A127,DAY(AB$1)),Мониторинг!$AD:$AD)<>0,SUMIF(Мониторинг!$AQ:$AQ,CONCATENATE($A127,DAY(AB$1)),Мониторинг!$AD:$AD),\"\")","v":""},{"$f":"IF(SUMIF(Мониторинг!$AQ:$AQ,CONCATENATE($A127,DAY(AC$1)),Мониторинг!$AD:$AD)<>0,SUMIF(Мониторинг!$AQ:$AQ,CONCATENATE($A127,DAY(AC$1)),Мониторинг!$AD:$AD),\"\")","v":""},{"$f":"IF(SUMIF(Мониторинг!$AQ:$AQ,CONCATENATE($A127,DAY(AD$1)),Мониторинг!$AD:$AD)<>0,SUMIF(Мониторинг!$AQ:$AQ,CONCATENATE($A127,DAY(AD$1)),Мониторинг!$AD:$AD),\"\")","v":""},{"$f":"IF(SUMIF(Мониторинг!$AQ:$AQ,CONCATENATE($A127,DAY(AE$1)),Мониторинг!$AD:$AD)<>0,SUMIF(Мониторинг!$AQ:$AQ,CONCATENATE($A127,DAY(AE$1)),Мониторинг!$AD:$AD),\"\")","v":""},{"$f":"IF(SUMIF(Мониторинг!$AQ:$AQ,CONCATENATE($A127,DAY(AF$1)),Мониторинг!$AD:$AD)<>0,SUMIF(Мониторинг!$AQ:$AQ,CONCATENATE($A127,DAY(AF$1)),Мониторинг!$AD:$AD),\"\")","v":""},{"$f":"IF(SUMIF(Мониторинг!$AQ:$AQ,CONCATENATE($A127,DAY(AG$1)),Мониторинг!$AD:$AD)<>0,SUMIF(Мониторинг!$AQ:$AQ,CONCATENATE($A127,DAY(AG$1)),Мониторинг!$AD:$AD),\"\")","v":""}]

{"sheet":"Лист1","index":2,"n_rows":1048559,"n_cols":16384,"rows_kept":4500,"cut":true,"hidden":true,"merged":[[0,17,0,18],[4,11,4,16],[4,17,4,18],[7,3,7,4],[6,3,6,4],[5,3,5,4],[4,0,4,5],[0,0,1,0],[0,1,1,1],[0,2,1,2],[0,3,1,3],[0,4,1,4],[0,5,1,5],[0,6,0,10],[10,3,10,4],[9,2,9,4],[8,2,8,4],[4,6,4,10],[0,11,0,16]],"bounds":{"rows_first":2000,"rows_last":500,"rows_between":2000,"halvings":0}}
["Дата проведения мониторинга","ФИО мониторившего","ФИО консультанта","Город","№ договора","Ссылка на звонок","Базовые навыки коммуникации",null,null,null,null,"Навыки эффективных продаж",null,null,null,null,null,"Знание регламентирующих документов"]
[null,null,null,null,null,null,"Позитивная реакция на запрос","Личностное обращение к клиенту","Гаммотность и культура речи","Доброжелательный тон/фразы вежливости","Активное слушание","Раскрытие (актуализация) потребностей"," Презентация основной услуги с демонстрацией выгод","Использование техник работы с ценой","Принятие возражения клиента","Работа с возражениями","Завершение сделки","Корректность предоставляемой информации по акционному/регулярному ТП","Корректность и полнота информации по дополнительному оборудованию, подключению."]
[null,null,null,null,null,10,0.3,0.3,0.4,0.5,0.5,1.1000000000000001,1.2,0.5,0.6,1.1000000000000001,0.5,1.5,1.5,null,null,null,null,null,null,null,null,null,0]
[]
["10 баллов",null,null,null,null,null,0.2,null,null,null,null,0.5,null,null,null,null,null,0.3]
[null,null,null,"Отлично",null,"A",0.3,0.3,0.4,0.5,0.5,1.1000000000000001,1.2,0.5,0.6,1.1000000000000001,0.5,1.5,1.5]
[null,null,null,"Хорошо",null,"B",null,null,null,null,null,0.7,0.7,0.3,null,0.7,0.3]
[null,null,null,"Допустимо",null,"C",null,null,null,null,null,0.2,0.2,0.1,null,0.2,0.1]
[null,null,"НЕТ",null,null,"D",0,0,0,0,0,0,0,0,0,0,0,0,0]
[null,null,"нет необхо - димости",null,null,"NA",null,null,null,null,null,1.1000000000000001,1.2,0.5,0.6,1.1000000000000001,1.1000000000000001]
[null,null,null,null,null,null,"A","A","A","A","A","A","A","A","A","A","A","A","A","A"]
[null,null,null,null,null,null,"D","D","D","D","D","B","B","B","D","B","B","D","D","D"]
["ЦО Инет",null,null,null,null,null,null,null,null,null,null,"C","C","C","NA","C","C","NA","NA","NA"]
["ЦО КТВ/ЦТВ",null,null,null,null,null,null,null,null,null,null,"D","D","D",null,"D","D"]
["ЦО Бандл",null,null,null,null,null,null,null,null,null,null,"NA","NA","NA",null,"NA","NA"]
["ЦО Volia Smart HD"]
[]
[]
[]
["Отлично","A",1]
["Хорошо","B",0.6]
["Допустимо","C",0.2]
["НЕТ","D",0]
["нет необхо - димости","NA",1]
[]
[]
[]
[]
[]
[]
[]
[]
[]
[]
[]
[]
[]
[]
[]
[]
[]
[]
[]
[]
[]
[]
[]
[]
[]
[]
[]
[]
[]
[]
[]
[]
[]
[]
[]
[]
[]
[]
[]
[]
[]
[]
[]
[]
[]
[]
[]
[]
[]
[]
[]
[]
[]
[]
[]
[]
[]
[]
[]
[]
[]
[]
[]
[]
[]
[]
[]
[]
[]
[]
[]
[]
[]
[]
[]
[]
[]
[]
[]
[]
[]
[]
[]
[]
[]
[]
[]
[]
[]
[]
[]
[]
[]
[]
[]
[]
[]
[]
[]
[]
[]
[]
[]
[]
[]
[]
[]
[]
[]
[]
[]
[]
[]
[]
[]
[]
[]
[]
[]
[]
[]
[]
[]
[]
[]
[]
[]
[]
[]
[]
[]
[]
[]
[]
[]
[]
[]
[]
[]
[]
[]
[]
[]
[]
[]
[]
[]
[]
[]
[]
[]
[]
[]
[]
[]
[]
[]
[]
[]
[]
[]
[]
[]
[]
[]
[]
[]
[]
[]
[]
[]
[]
[]
[]
[]
[]
[]
[]
[]
[]
[]
[]
[]
[]
[]
[]
[]
[]
[]
[]
[]
[]
[]
[]
[]
[]
[]
[]
[]
[]
[]
[]
[]
[]
[]
[]
[]
[]
[]
[]
[]
[]
[]
[]
[]
[]
[]
[]
[]
[]
[]
[]
[]
[]
[]
[]
[]
[]
[]
[]
[]
[]
[]
[]
[]
[]
[]
[]
[]
[]
[]
[]
[]
[]
[]
[]
[]
[]
[]
[]
[]
[]
[]
[]
[]
[]
[]
[]
[]
[]
[]
[]
[]
[]
[]
[]
[]
[]
[]
[]
[]
[]
[]
[]
[]
[]
[]
[]
[]
[]
[]
[]
[]
[]
[]
[]
[]
[]
[]
[]
[]
[]
[]
[]
[]
[]
[]
[]
[]
[]
[]
[]
[]
[]
[]
[]
[]
[]
[]
[]
[]
[]
[]
[]
[]
[]
[]
[]
[]
[]
[]
[]
[]
[]
[]
[]
[]
[]
[]
[]
[]
[]
[]
[]
[]
[]
[]
[]
[]
[]
[]
[]
[]
[]
[]
[]
[]
[]
[]
[]
[]
[]
[]
[]
[]
[]
[]
[]
[]
[]
[]
[]
[]
[]
[]
[]
[]
[]
[]
[]
[]
[]
[]
[]
[]
[]
[]
[]
[]
[]
[]
[]
[]
[]
[]
[]
[]
[]
[]
[]
[]
[]
[]
[]
[]
[]
[]
[]
[]
[]
[]
[]
[]
[]
[]
[]
[]
[]
[]
[]
[]
[]
[]
[]
[]
[]
[]
[]
[]
[]
[]
[]
[]
[]
[]
[]
[]
[]
[]
[]
[]
[]
[]
[]
[]
[]
[]
[]
[]
[]
[]
[]
[]
[]
[]
[]
[]
[]
[]
[]
[]
[]
[]
[]
[]
[]
[]
[]
[]
[]
[]
[]
[]
[]
[]
[]
[]
[]
[]
[]
[]
[]
[]
[]
[]
[]
[]
[]
[]
[]
[]
[]
[]
[]
[]
[]
[]
[]
[]
[]
[]
[]
[]
[]
[]
[]
[]
[]
[]
[]
[]
[]
[]
[]
[]
[]
[]
[]
[]
[]
[]
[]
[]
[]
[]
[]
[]
[]
[]
[]
[]
[]
[]
[]
[]
[]
[]
[]
[]
[]
[]
[]
[]
[]
[]
[]
[]
[]
[]
[]
[]
[]
[]
[]
[]
[]
[]
[]
[]
[]
[]
[]
[]
[]
[]
[]
[]
[]
[]
[]
[]
[]
[]
[]
[]
[]
[]
[]
[]
[]
[]
[]
[]
[]
[]
[]
[]
[]
[]
[]
[]
[]
[]
[]
[]
[]
[]
[]
[]
[]
[]
[]
[]
[]
[]
[]
[]
[]
[]
[]
[]
[]
[]
[]
[]
[]
[]
[]
[]
[]
[]
[]
[]
[]
[]
[]
[]
[]
[]
[]
[]
[]
[]
[]
[]
[]
[]
[]
[]
[]
[]
[]
[]
[]
[]
[]
[]
[]
[]
[]
[]
[]
[]
[]
[]
[]
[]
[]
[]
[]
[]
[]
[]
[]
[]
[]
[]
[]
[]
[]
[]
[]
[]
[]
[]
[]
[]
[]
[]
[]
[]
[]
[]
[]
[]
[]
[]
[]
[]
[]
[]
[]
[]
[]
[]
[]
[]
[]
[]
[]
[]
[]
[]
[]
[]
[]
[]
[]
[]
[]
[]
[]
[]
[]
[]
[]
[]
[]
[]
[]
[]
[]
[]
[]
[]
[]
[]
[]
[]
[]
[]
[]
[]
[]
[]
[]
[]
[]
[]
[]
[]
[]
[]
[]
[]
[]
[]
[]
[]
[]
[]
[]
[]
[]
[]
[]
[]
[]
[]
[]
[]
[]
[]
[]
[]
[]
[]
[]
[]
[]
[]
[]
[]
[]
[]
[]
[]
[]
[]
[]
[]
[]
[]
[]
[]
[]
[]
[]
[]
[]
[]
[]
[]
[]
[]
[]
[]
[]
[]
[]
[]
[]
[]
[]
[]
[]
[]
[]
[]
[]
[]
[]
[]
[]
[]
[]
[]
[]
[]
[]
[]
[]
[]
[]
[]
[]
[]
[]
[]
[]
[]
[]
[]
[]
[]
[]
[]
[]
[]
[]
[]
[]
[]
[]
[]
[]
[]
[]
[]
[]
[]
[]
[]
[]
[]
[]
[]
[]
[]
[]
[]
[]
[]
[]
[]
[]
[]
[]
[]
[]
[]
[]
[]
[]
[]
[]
[]
[]
[]
[]
[]
[]
[]
[]
[]
[]
[]
[]
[]
[]
[]
[]
[]
[]
[]
[]
[]
[]
[]
[]
[]
[]
[]
[]
[]
[]
[]
[]
[]
[]
[]
[]
[]
[]
[]
[]
[]
[]
[]
[]
[]
[]
[]
[]
[]
[]
[]
[]
[]
[]
[]
[]
[]
[]
[]
[]
[]
[]
[]
[]
[]
[]
[]
[]
[]
[]
[]
[]
[]
[]
[]
[]
[]
[]
[]
[]
[]
[]
[]
[]
[]
[]
[]
[]
[]
[]
[]
[]
[]
[]
[]
[]
[]
[]
[]
[]
[]
[]
[]
[]
[]
[]
[]
[]
[]
[]
[]
[]
[]
[]
[]
[]
[]
[]
[]
[]
[]
[]
[]
[]
[]
[]
[]
[]
[]
[]
[]
[]
[]
[]
[]
[]
[]
[]
[]
[]
[]
[]
[]
[]
[]
[]
[]
[]
[]
[]
[]
[]
[]
[]
[]
[]
[]
[]
[]
[]
[]
[]
[]
[]
[]
[]
[]
[]
[]
[]
[]
[]
[]
[]
[]
[]
[]
[]
[]
[]
[]
[]
[]
[]
[]
[]
[]
[]
[]
[]
[]
[]
[]
[]
[]
[]
[]
[]
[]
[]
[]
[]
[]
[]
[]
[]
[]
[]
[]
[]
[]
[]
[]
[]
[]
[]
[]
[]
[]
[]
[]
[]
[]
[]
[]
[]
[]
[]
[]
[]
[]
[]
[]
[]
[]
[]
[]
[]
[]
[]
[]
[]
[]
[]
[]
[]
[]
[]
[]
[]
[]
[]
[]
[]
[]
[]
[]
[]
[]
[]
[]
[]
[]
[]
[]
[]
[]
[]
[]
[]
[]
[]
[]
[]
[]
[]
[]
[]
[]
[]
[]
[]
[]
[]
[]
[]
[]
[]
[]
[]
[]
[]
[]
[]
[]
[]
[]
[]
[]
[]
[]
[]
[]
[]
[]
[]
[]
[]
[]
[]
[]
[]
[]
[]
[]
[]
[]
[]
[]
[]
[]
[]
[]
[]
[]
[]
[]
[]
[]
[]
[]
[]
[]
[]
[]
[]
[]
[]
[]
[]
[]
[]
[]
[]
[]
[]
[]
[]
[]
[]
[]
[]
[]
[]
[]
[]
[]
[]
[]
[]
[]
[]
[]
[]
[]
[]
[]
[]
[]
[]
[]
[]
[]
[]
[]
[]
[]
[]
[]
[]
[]
[]
[]
[]
[]
[]
[]
[]
[]
[]
[]
[]
[]
[]
[]
[]
[]
[]
[]
[]
[]
[]
[]
[]
[]
[]
[]
[]
[]
[]
[]
[]
[]
[]
[]
[]
[]
[]
[]
[]
[]
[]
[]
[]
[]
[]
[]
[]
[]
[]
[]
[]
[]
[]
[]
[]
[]
[]
[]
[]
[]
[]
[]
[]
[]
[]
[]
[]
[]
[]
[]
[]
[]
[]
[]
[]
[]
[]
[]
[]
[]
[]
[]
[]
[]
[]
[]
[]
[]
[]
[]
[]
[]
[]
[]
[]
[]
[]
[]
[]
[]
[]
[]
[]
[]
[]
[]
[]
[]
[]
[]
[]
[]
[]
[]
[]
[]
[]
[]
[]
[]
[]
[]
[]
[]
[]
[]
[]
[]
[]
[]
[]
[]
[]
[]
[]
[]
[]
[]
[]
[]
[]
[]
[]
[]
[]
[]
[]
[]
[]
[]
[]
[]
[]
[]
[]
[]
[]
[]
[]
[]
[]
[]
[]
[]
[]
[]
[]
[]
[]
[]
[]
[]
[]
[]
[]
[]
[]
[]
[]
[]
[]
[]
[]
[]
[]
[]
[]
[]
[]
[]
[]
[]
[]
[]
[]
[]
[]
[]
[]
[]
[]
[]
[]
[]
[]
[]
[]
[]
[]
[]
[]
[]
[]
[]
[]
[]
[]
[]
[]
[]
[]
[]
[]
[]
[]
[]
[]
[]
[]
[]
[]
[]
[]
[]
[]
[]
[]
[]
[]
[]
[]
[]
[]
[]
[]
[]
[]
[]
[]
[]
[]
[]
[]
[]
[]
[]
[]
[]
[]
[]
[]
[]
[]
[]
[]
[]
[]
[]
[]
[]
[]
[]
[]
[]
[]
[]
[]
[]
[]
[]
[]
[]
[]
[]
[]
[]
[]
[]
[]
[]
[]
[]
[]
[]
[]
[]
[]
[]
[]
[]
[]
[]
[]
[]
[]
[]
[]
[]
[]
[]
[]
[]
[]
[]
[]
[]
[]
[]
[]
[]
[]
[]
[]
[]
[]
[]
[]
[]
[]
[]
[]
[]
[]
[]
[]
[]
[]
[]
[]
[]
[]
[]
[]
[]
[]
[]
[]
[]
[]
[]
[]
[]
[]
[]
[]
[]
[]
[]
[]
[]
[]
[]
[]
[]
[]
[]
[]
[]
[]
[]
[]
[]
[]
[]
[]
[]
[]
[]
[]
[]
[]
[]
[]
[]
[]
[]
[]
[]
[]
[]
[]
[]
[]
[]
[]
[]
[]
[]
[]
[]
[]
[]
[]
[]
[]
[]
[]
[]
[]
[]
[]
[]
[]
[]
[]
[]
[]
[]
[]
[]
[]
[]
[]
[]
[]
[]
[]
[]
[]
[]
[]
[]
[]
[]
[]
[]
[]
[]
[]
[]
[]
[]
[]
[]
[]
[]
[]
[]
[]
[]
[]
[]
[]
[]
[]
[]
[]
[]
[]
[]
[]
[]
[]
[]
[]
[]
[]
[]
[]
[]
[]
[]
[]
[]
[]
[]
[]
[]
[]
[]
[]
[]
[]
[]
[]
[]
[]
[]
[]
[]
[]
[]
[]
[]
[]
[]
[]
[]
[]
[]
[]
[]
[]
[]
[]
[]
[]
[]
[]
[]
[]
[]
[]
[]
[]
[]
[]
[]
[]
[]
[]
[]
[]
[]
[]
[]
[]
[]
[]
[]
[]
[]
[]
[]
[]
[]
[]
[]
[]
[]
[]
[]
[]
[]
[]
[]
[]
[]
[]
[]
[]
[]
[]
[]
[]
[]
[]
[]
[]
[]
[]
[]
[]
[]
[]
[]
[]
[]
[]
[]
[]
[]
[]
[]
[]
[]
[]
[]
[]
[]
[]
[]
[]
[]
[]
[]
[]
[]
[]
[]
[]
[]
[]
[]
[]
[]
[]
[]
[]
[]
[]
[]
[]
[]
[]
[]
[]
[]
[]
[]
[]
[]
[]
[]
[]
[]
[]
[]
[]
[]
[]
[]
[]
[]
[]
[]
[]
[]
[]
[]
[]
[]
[]
[]
[]
[]
[]
[]
[]
[]
[]
[]
[]
[]
[]
[]
[]
[]
[]
[]
[]
[]
[]
[]
[]
[]
[]
[]
[]
[]
[]
[]
[]
[]
[]
[]
[]
[]
[]
[]
[]
[]
[]
[]
[]
[]
[]
[]
[]
[]
[]
[]
[]
[]
[]
[]
[]
[]
[]
[]
[]
[]
[]
[]
[]
[]
[]
[]
[]
[]
[]
[]
[]
[]
[]
[]
[]
[]
[]
[]
[]
[]
[]
[]
[]
[]
[]
[]
[]
[]
[]
[]
[]
[]
[]
[]
[]
[]
[]
[]
[]
[]
[]
[]
[]
[]
[]
[]
[]
[]
[]
[]
[]
[]
[]
[]
[]
[]
[]
[]
[]
[]
[]
[]
[]
[]
[]
[]
[]
[]
[]
[]
[]
[]
[]
[]
[]
[]
[]
[]
[]
[]
[]
[]
[]
[]
[]
[]
[]
[]
[]
[]
[]
[]
[]
[]
[]
[]
[]
[]
[]
[]
[]
[]
[]
[]
[]
[]
[]
[]
[]
[]
[]
[]
[]
[]
[]
[]
[]
[]
[]
[]
[]
[]
[]
[]
[]
[]
[]
[]
[]
[]
[]
[]
[]
[]
[]
[]
[]
[]
[]
[]
[]
[]
[]
[]
[]
[]
[]
[]
[]
[]
[]
[]
[]
[]
[]
[]
[]
[]
[]
[]
[]
[]
[]
[]
[]
[]
[]
[]
[]
[]
[]
[]
[]
[]
[]
[]
[]
[]
[]
[]
[]
[]
[]
[]
[]
[]
[]
[]
[]
[]
[]
[]
[]
[]
[]
[]
[]
[]
[]
[]
[]
[]
[]
[]
[]
[]
[]
[]
[]
[]
[]
[]
[]
[]
[]
[]
[]
[]
[]
[]
[]
[]
[]
[]
[]
[]
[]
[]
[]
[]
[]
[]
[]
[]
[]
[]
[]
[]
[]
[]
[]
[]
[]
[]
[]
[]
[]
[]
[]
[]
[]
[]
[]
[]
[]
[]
[]
[]
[]
[]
[]
[]
[]
[]
[]
[]
[]
[]
[]
[]
[]
[]
[]
[]
[]
[]
[]
[]
[]
[]
[]
[]
[]
[]
[]
[]
[]
[]
[]
[]
[]
[]
[]
[]
[]
[]
[]
[]
[]
[]
[]
[]
[]
[]
[]
[]
[]
[]
[]
[]
[]
[]
[]
[]
[]
[]
[]
[]
[]
[]
[]
[]
[]
[]
[]
[]
[]
[]
[]
[]
[]
[]
[]
[]
[]
[]
[]
[]
[]
[]
[]
[]
[]
[]
[]
[]
[]
[]
[]
[]
[]
[]
[]
[]
[]
[]
[]
[]
[]
[]
[]
[]
[]
[]
[]
[]
[]
[]
[]
[]
[]
[]
[]
[]
[]
[]
[]
[]
[]
[]
[]
[]
[]
[]
[]
[]
[]
[]
[]
[]
[]
[]
[]
[]
[]
[]
[]
[]
[]
[]
[]
[]
[]
[]
[]
[]
[]
[]
[]
[]
[]
[]
[]
[]
[]
[]
[]
[]
[]
[]
[]
[]
[]
[]
[]
[]
[]
[]
[]
[]
[]
[]
[]
[]
[]
[]
[]
[]
[]
[]
[]
[]
[]
[]
[]
[]
[]
[]
[]
[]
[]
[]
[]
[]
[]
[]
[]
[]
[]
[]
[]
[]
[]
[]
[]
[]
[]
[]
[]
[]
[]
[]
[]
[]
[]
[]
[]
[]
[]
[]
[]
[]
[]
[]
[]
[]
[]
[]
[]
[]
[]
[]
[]
[]
[]
[]
[]
[]
[]
[]
[]
[]
[]
[]
[]
[]
[]
[]
[]
[]
[]
[]
[]
[]
[]
[]
[]
[]
[]
[]
[]
[]
[]
[]
[]
[]
[]
[]
[]
[]
[]
[]
[]
[]
[]
[]
[]
[]
[]
[]
[]
[]
[]
[]
[]
[]
[]
[]
[]
[]
[]
[]
[]
[]
[]
[]
[]
[]
[]
[]
[]
[]
[]
[]
[]
[]
[]
[]
[]
[]
[]
[]
[]
[]
[]
[]
[]
[]
[]
[]
[]
[]
[]
[]
[]
[]
[]
[]
[]
[]
[]
[]
[]
[]
[]
[]
[]
[]
[]
[]
[]
[]
[]
[]
[]
[]
[]
[]
[]
[]
[]
[]
[]
[]
[]
[]
[]
[]
[]
[]
[]
[]
[]
[]
[]
[]
[]
[]
[]
[]
[]
[]
[]
[]
[]
[]
[]
[]
[]
[]
[]
[]
[]
[]
[]
[]
[]
[]
[]
[]
[]
[]
[]
[]
[]
[]
[]
[]
[]
[]
[]
[]
[]
[]
[]
[]
[]
[]
[]
[]
[]
[]
[]
[]
[]
[]
[]
[]
[]
[]
[]
[]
[]
[]
[]
[]
[]
[]
[]
[]
[]
[]
[]
[]
[]
[]
[]
[]
[]
[]
[]
[]
[]
[]
[]
[]
[]
[]
[]
[]
[]
[]
[]
[]
[]
[]
[]
[]
[]
[]
[]
[]
[]
[]
[]
[]
[]
[]
[]
[]
[]
[]
[]
[]
[]
[]
[]
[]
[]
[]
[]
[]
[]
[]
[]
[]
[]
[]
[]
[]
[]
[]
[]
[]
[]
[]
[]
[]
[]
[]
[]
[]
[]
[]
[]
[]
[]
[]
[]
[]
[]
[]
[]
[]
[]
[]
[]
[]
[]
[]
[]
[]
[]
[]
[]
[]
[]
[]
[]
[]
[]
[]
[]
[]
[]
[]
[]
[]
[]
[]
[]
[]
[]
[]
[]
[]
[]
[]
[]
[]
[]
[]
[]
[]
[]
[]
[]
[]
[]
[]
[]
[]
[]
[]
[]
[]
[]
[]
[]
[]
[]
[]
[]
[]
[]
[]
[]
[]
[]
[]
[]
[]
[]
[]
[]
[]
[]
[]
[]
[]
[]
[]
[]
[]
[]
[]
[]
[]
[]
[]
[]
[]
[]
[]
[]
[]
[]
[]
[]
[]
[]
[]
[]
[]
[]
[]
[]
[]
[]
[]
[]
[]
[]
[]
[]
[]
[]
[]
[]
[]
[]
[]
[]
[]
[]
[]
[]
[]
[]
[]
[]
[]
[]
[]
[]
[]
[]
[]
[]
[]
[]
[]
[]
[]
[]
[]
[]
[]
[]
[]
[]
[]
[]
[]
[]
[]
[]
[]
[]
[]
[]
[]
[]
[]
[]
[]
[]
[]
[]
[]
[]
[]
[]
[]
[]
[]
[]
[]
[]
[]
[]
[]
[]
[]
[]
[]
[]
[]
[]
[]
[]
[]
[]
[]
[]
[]
[]
[]
[]
[]
[]
[]
[]
[]
[]
[]
[]
[]
[]
[]
[]
[]
[]
[]
[]
[]
[]
[]
[]
[]
[]
[]
[]
[]
[]
[]
[]
[]
[]
[]
[]
[]
[]
[]
[]
[]
[]
[]
[]
[]
[]
[]
[]
[]
[]
[]
[]
[]
[]
[]
[]
[]
[]
[]
[]
[]
[]
[]
[]
[]
[]
[]
[]
[]
[]
[]
[]
[]
[]
[]
[]
[]
[]
[]
[]
[]
[]
[]
[]
[]
[]
[]
[]
[]
[]
[]
[]
[]
[]
[]
[]
[]
[]
[]
[]
[]
[]
[]
[]
[]
[]
[]
[]
[]
[]
[]
[]
[]
[]
[]
[]
[]
[]
[]
[]
[]
[]
[]
[]
[]
[]
[]
[]
[]
[]
[]
[]
[]
[]
[]
[]
[]
[]
[]
[]
[]
[]
[]
[]
[]
[]
[]
[]
[]
[]
[]
[]
[]
[]
[]
[]
[]
[]
[]
[]
[]
[]
[]
[]
[]
[]
[]
[]
[]
[]
[]
[]
[]
[]
[]
[]
[]
[]
[]
[]
[]
[]
[]
[]
[]
[]
[]
[]
[]
[]
[]
[]
[]
[]
[]
[]
[]
[]
[]
[]
[]
[]
[]
[]
[]
[]
[]
[]
[]
[]
[]
[]
[]
[]
[]
[]
[]
[]
[]
[]
[]
[]
[]
[]
[]
[]
[]
[]
[]
[]
[]
[]
[]
[]
[]
[]
[]
[]
[]
[]
[]
[]
[]
[]
[]
[]
[]
[]
[]
[]
[]
[]
[]
[]
[]
[]
[]
[]
[]
[]
[]
[]
[]
[]
[]
[]
[]
[]
[]
[]
[]
[]
[]
[]
[]
[]
[]
[]
[]
[]
[]
[]
[]
[]
[]
[]
[]
[]
[]
[]
[]
[]
[]
[]
[]
[]
[]
[]
[]
[]
[]
[]
[]
[]
[]
[]
[]
[]
[]
[]
[]
[]
[]
[]
[]
[]
[]
[]
[]
[]
[]
[]
[]
[]
[]
[]
[]
[]
[]
[]
[]
[]
[]
[]
[]
[]
[]
[]
[]
[]
[]
[]
[]
[]
[]
[]
[]
[]
[]
[]
[]
[]
[]
[]
[]
[]
[]
[]
[]
[]
[]
[]
[]
[]
[]
[]
[]
[]
[]
[]
[]
[]
[]
[]
[]
[]
[]
[]
[]
[]
[]
[]
[]
[]
[]
[]
[]
[]
[]
[]
[]
[]
[]
[]
[]
[]
[]
[]
[]
[]
[]
[]
[]
[]
[]
[]
[]
[]
[]
[]
[]
[]
[]
[]
[]
[]
[]
[]
[]
[]
[]
[]
[]
[]
[]
[]
[]
[]
[]
[]
[]
[]
[]
[]
[]
[]
[]
[]
[]
[]
[]
[]
[]
[]
[]
[]
[]
[]
[]
[]
[]
[]
[]
[]
[]
[]
[]
[]
[]
[]
[]
[]
[]
[]
[]
[]
[]
[]
[]
[]
[]
[]
[]
[]
[]
[]
[]
[]
[]
[]
[]
[]
[]
[]
[]
[]
[]
[]
[]
[]
[]
[]
[]
[]
[]
[]
[]
[]
[]
[]
[]
[]
[]
[]
[]
[]
[]
[]
[]
[]
[]
[]
[]
[]
[]
[]
[]
[]
[]
[]
[]
[]
[]
[]
[]
[]
[]
[]
[]
[]
[]
[]
[]
[]
[]
[]
[]
[]
[]
[]
[]
[]
[]
[]
[]
[]
[]
[]
[]
[]
[]
[]
[]
[]
[]
[]
[]
[]
[]
[]
[]
[]
[]
[]
[]
[]
[]
[]
[]
[]
[]
[]
[]
[]
[]
[]
[]
[]
[]
[]
[]
[]
[]
[]
[]
[]
[]
[]
[]
[]
[]
[]
[]
[]
[]
[]
[]
[]
[]
[]
[]
[]
[]
[]
[]
[]
[]
[]
[]
[]
[]
[]
[]
[]
[]
[]
[]
[]
[]
[]
[]
[]
[]
[]
[]
[]
[]
[]
[]
[]
[]
[]
[]
[]
[]
[]
[]
[]
[]
[]
[]
[]
[]
[]
[]
[]
[]
[]
[]
[]
[]
[]
[]
[]
[]
[]
[]
[]
[]
[]
[]
[]
[]
[]
[]
[]
[]
[]
[]
[]
[]
[]
[]
[]
[]
[]
[]
[]
[]
[]
[]
[]
[]
[]
[]
[]
[]
[]
[]
[]
[]
[]
[]
[]
[]
[]
[]
[]
[]
[]
[]
[]
[]
[]
[]
[]
[]
[]
[]
[]
[]
[]
[]
[]
[]
[]
[]
[]
[]
[]
[]
[]
[]
[]
[]
[]
[]
[]
[]
[]
[]
[]
[]
[]
[]
[]
[]
[]
[]
[]
[]
[]
[]
[]
[]
[]
[]
[]
[]
[]
[]
[]
[]
[]
[]
[]
[]
[]
[]
[]
[]
[]
[]
[]
[]
[]
[]
[]
[]
[]
[]
[]
[]
[]
[]
[]
[]
[]
[]
[]
[]
[]
[]
[]
[]
[]
[]
[]
[]
[]
[]
[]
[]
[]
[]
[]
[]
[]
[]
[]
[]
[]
[]
[]
[]
[]
[]
[]
[]
[]
[]
[]
[]
[]
[]
[]
[]
[]
[]
[]
[]
[]
[]
[]
[]
[]
[]
[]
[]
[]
[]
[]
[]
[]
[]
[]
[]
[]
[]
[]
[]
[]
[]
[]
[]
[]
[]
[]
[]
[]
[]
[]
[]
[]
[]
[]
[]
[]
[]
[]
[]
[]
[]
[]
[]
[]
[]
[]
[]
[]
[]
[]
[]
[]
[]
[]
[]
[]
[]
[]
[]
[]
[]
[]
[]
[]
[]
[]
[]
[]
[]
[]
[]
[]
[]
[]
[]
[]
[]
[]
[]
[]
[]
[]
[]
[]
[]
[]
[]
[]
[]
[]
[]
[]
[]
[]
[]
[]
[]
[]
[]
[]
[]
[]
[]
[]
[]
[]
[]
[]
[]
[]
[]
[]
[]
[]
[]
[]
[]
[]
[]
[]
[]
[]
[]
[]
[]
[]
[]
[]
[]
[]
[]
[]
[]
[]
[]
[]
[]
[]
[]
[]
[]
[]
[]
[]
[]
[]
[]
[]
[]
[]
[]
[]
[]
[]
[]
[]
[]
[]
[]
[]
[]
[]
[]
[]
[]
[]
[]
[]
[]
[]
[]
[]
[]
[]
[]
[]
[]
[]
[]
[]
[]
[]
[]
[]
[]
[]
[]
[]
[]
[]
[]
[]
[]
[]
[]
[]
[]
[]
[]
[]
[]
[]
[]
[]
[]
[]
[]
[]
[]
[]
[]
[]
[]
[]
[]
[]
[]
[]
[]
[]
[]
[]
[]
[]
[]
[]
[]
[]
[]
[]
[]
[]
[]
[]
[]
[]
[]
[]
[]
[]
[]
[]
[]
[]
[]
[]
[]
[]
[]
[]
[]
[]
[]
[]
[]
[]
[]
[]
[]
[]
[]
[]
[]
[]
[]
[]
[]
[]
[]
[]
[]
[]
[]
[]
[]
[]
[]
[]
[]
[]
[]
[]
[]
[]
[]
[]
[]
[]
[]
[]
[]
[]
[]
[]
[]
[]
[]
[]
[]
[]
[]
[]
[]
[]
[]
[]
[]
[]
[]
[]
[]
[]
[]
[]
[]
[]
[]
[]
[]
[]
[]
[]
[]
[]
[]
[]
[]
[]
[]
[]
[]
[]
[]
[]
[]
[]
[]
[]
[]
[]
[]
[]
[]
[]
[]
[]
[]
[]
[]
[]
[]
[]
[]
[]
[]
[]
[]
[]
[]
[]
[]
[]
[]
[]
[]
[]
[]
[]
[]
[]
[]
[]
[]
[]
[]
[]
[]
[]
[]
[]
[]
[]
[]
[]
[]
[]
[]
[]
[]
[]
[]
[]
[]
[]
[]
[]
[]
[]
[]
[]
[]
[]
[]
[]
[]
[]
[]
[]
[]
[]
[]
[]
[]
[]
[]
[]
[]
[]
[]
[]
[]
[]
[]
[]
[]
[]
[]
[]
[]
[]
[]
[]
[]
[]
[]
[]
[]
[]
[]
[]
[]
[]
[]
[]
[]
[]
[]
[]
[]
[]
[]
[]
[]
[]
[]
[]
[]
[]
[]
[]
[]
[]
[]
[]
[]
[]
[]
[]
[]
[]
[]
[]
[]
[]
[]
[]
[]
[]
[]
[]
[]
[]
[]
[]
[]
[]
[]
[]
[]
[]
[]
[]
[]
[]
[]
[]
[]
[]
[]
[]
[]
[]
[]
[]
[]
[]
[]
[]
[]
[]
[]
[]
[]
[]
[]
[]
[]
[]
[]
[]
[]
[]
[]
[]
[]
[]
[]
[]
[]
[]
[]
[]
[]
[]
[]
[]
[]
[]
[]
[]
[]
[]
[]
[]
[]
[]
[]
[]
[]
[]
[]
[]
[]
[]
[]
[]
[]
[]
[]
[]
[]
[]
[]
[]
[]
[]
[]
[]
[]
[]
[]
[]
[]
[]
[]
[]
[]
[]
[]
[]
[]
[]
[]
[]
[]
[]
[]
[]
[]
[]
[]
[]
[]
[]
[]
[]
[]
[]
[]
[]
[]
[]
[]
[]
[]
[]
[]
[]
[]
[]
[]
[]
[]
[]
[]
[]
[]
[]
[]
[]
[]
[]
[]
[]
[]
[]
[]
[]
[]
[]
[]
[]
[]
[]
[]
[]
[]
[]
[]
[]
[]
[]
[]
[]
[]
[]
[]
[]
[]
[]
[]
[]
[]
[]
[]
[]
[]
[]
[]
[]
[]
[]
[]
[]
[]
[]
[]
[]
[]
[]
[]
[]
[]
[]
[]
[]
[]
[]
[]
[]
[]
[]
[]
[]
[]
[]
[]
[]
[]
[]
[]
[]
[]
[]
[]
[]
[]
[]
[]
[]
[]
[]
[]
[]
[]
[]
[]
[]
[]
[]
[]
[]
[]
[]
[]
[]
[]
[]
[]
[]
[]
[]
[]
[]
[]
[]
[]
[]
[]
[]
[]
[]
[]
[]
[]
[]
[]
[]
[]
[]
[]
[]
[]
[]
[]
[]
[]
[]
[]
[null,null,null,null,null,null,null,null,null,null,null,null,null,null,null,null,null,null,null,null,null,null,null,null,null,null,null,null,null,null,null,null,null,null,null,null,null,null,null,null,null,null,null,null,null,null,null,null,null,null,null,null,null,null,null,null,null,null,null,null,null,null,null,null,null,null,null,null,null,null,null,null,null,null,null,null,null,null,null,null,null,null,null,null,null,null,null,null,null,null,null,null,null,null,null,null,null,null,null,null,null,null,null,null,null,null,null,null,null,null,null,null,null,null,null,null,null,null,null,null,null,null,null,null,null,null,null,null,null,null,null,null,null,null,null,null,null,null,null,null,null,null,null,null,null,null,null,null,null,null,null,null,null,null,null,null,null,null,null,null,null,null,null,null,null,null,null,null,null,null,null,null,null,null,null,null,null,null,null,null,null,null,null,null,null,null,null,null,null,null,null,null,null,null,null,null,null,null,null,null,null,null,null,null,null,null,null,null,null,null,null,null,null,null,null,null,null,null,null,null,null,null,null,null,null,null,null,null,null,null,null,null,null,null,null,null,null,null,null,null,null,null,null,null,null,null,null,null,null,null,null,null,null,null,null,null,null,null,null,null,null,null,null,null,null,null,null,null,null,null,null,null,null,null,null,null,null,null,null,null,null,null,null,null,null,null,null,null,null,null,null,null,null,null,null,null,null,null,null,null,null,null,null,null,null,null,null,null,null,null,null,null,null,null,null,null,null,null,null,null,null,null,null,null,null,null,null,null,null,null,null,null,null,null,null,null,null,null,null,null,null,null,null,null,null,null,null,null,null,null,null,null,null,null,null,null,null,null,null,null,null,null,null,null,null,null,null,null,null,null,null,null,null,null,null,null,null,null,null,null,null,null,null,null,null,null,null,null,null,null,null,null,null,null,null,null,null,null,null,null,null,null,null,null,null,null,null,null,null,null,null,null,null,null,null,null,null,null,null,null,null,null,null,null,null,null,null,null,null,null,null,null,null,null,null,null,null,null,null,null,null,null,null,null,null,null,null,null,null,null,null,null,null,null,null,null,null,null,null,null,null,null,null,null,null,null,null,null,null,null,null,null,null,null,null,null,null,null,null,null,null,null,null,null,null,null,null,null,null,null,null,null,null,null,null,null,null,null,null,null,null,null,null,null,null,null,null,null,null,null,null,null,null,null,null,null,null,null,null,null,null,null,null,null,null,null,null,null,null,null,null,null,null,null,null,null,null,null,null,null,null,null,null,null,null,null,null,null,null,null,null,null,null,null,null,null,null,null,null,null,null,null,null,null,null,null,null,null,null,null,null,null,null,null,null,null,null,null,null,null,null,null,null,null,null,null,null,null,null,null,null,null,null,null,null,null,null,null,null,null,null,null,null,null,null,null,null,null,null,null,null,null,null,null,null,null,null,null,null,null,null,null,null,null,null,null,null,null,null,null,null,null,null,null,null,null,null,null,null,null,null,null,null,null,null,null,null,null,null,null,null,null,null,null,null,null,null,null,null,null,null,null,null,null,null,null,null,null,null,null,null,null,null,null,null,null,null,null,null,null,null,null,null,null,null,null,null,null,null,null,null,null,null,null,null,null,null,null,null,null,null,null,null,null,null,null,null,null,null,null,null,null,null,null,null,null,null,null,null,null,null,null,null,null,null,null,null,null,null,null,null,null,null,null,null,null,null,null,null,null,null,null,null,null,null,null,null,null,null,null,null,null,null,null,null,null,null,null,null,null,null,null,null,null,null,null,null,null,null,null,null,null,null,null,null,null,null,null,null,null,null,null,null,null,null,null,null,null,null,null,null,null,null,null,null,null,null,null,null,null,null,null,null,null,null,null,null,null,null,null,null,null,null,null,null,null,null,null,null,null,null,null,null,null,null,null,null,null,null,null,null,null,null,null,null,null,null,null,null,null,null,null,null,null,null,null,null,null,null,null,null,null,null,null,null,null,null,null,null,null,null,null,null,null,null,null,null,null,null,null,null,null,null,null,null,null,null,null,null,null,null,null,null,null,null,null,null,null,null,null,null,null,null,null,null,null,null,null,null,null,null,null,null,null,null,null,null,null,null,null,null,null,null,null,null,null,null,null,null,null,null,null,null,null,null,null,null,null,null,null,null,null,null,null,null,null,null,null,null,null,null,null,null,null,null,null,null,null,null,null,null,null,null,null,null,null,null,null,null,null,null,null,null,null,null,null,null,null,null,null,null,null,null,null,null,null,null,null,null,null,null,null,null,null,null,null,null,null,null,null,null,null,null,null,null,null,null,null,null,null,null,null,null,null,null,null,null,null,null,null,null,null,null,null,null,null,null,null,null,null,null,null,null,null,null,null,null,null,null,null,null,null,null,null,null,null,null,null,null,null,null,null,null,null,null,null,null,null,null,null,null,null,null,null,null,null,null,null,null,null,null,null,null,null,null,null,null,null,null,null,null,null,null,null,null,null,null,null,null,null,null,null,null,null,null,null,null,null,null,null,null,null,null,null,null,null,null,null,null,null,null,null,null,null,null,null,null,null,null,null,null,null,null,null,null,null,null,null,null,null,null,null,null,null,null,null,null,null,null,null,null,null,null,null,null,null,null,null,null,null,null,null,null,null,null,null,null,null,null,null,null,null,null,null,null,null,null,null,null,null,null,null,null,null,null,null,null,null,null,null,null,null,null,null,null,null,null,null,null,null,null,null,null,null,null,null,null,null,null,null,null,null,null,null,null,null,null,null,null,null,null,null,null,null,null,null,null,null,null,null,null,null,null,null,null,null,null,null,null,null,null,null,null,null,null,null,null,null,null,null,null,null,null,null,null,null,null,null,null,null,null,null,null,null,null,null,null,null,null,null,null,null,null,null,null,null,null,null,null,null,null,null,null,null,null,null,null,null,null,null,null,null,null,null,null,null,null,null,null,null,null,null,null,null,null,null,null,null,null,null,null,null,null,null,null,null,null,null,null,null,null,null,null,null,null,null,null,null,null,null,null,null,null,null,null,null,null,null,null,null,null,null,null,null,null,null,null,null,null,null,null,null,null,null,null,null,null,null,null,null,null,null,null,null,null,null,null,null,null,null,null,null,null,null,null,null,null,null,null,null,null,null,null,null,null,null,null,null,null,null,null,null,null,null,null,null,null,null,null,null,null,null,null,null,null,null,null,null,null,null,null,null,null,null,null,null,null,null,null,null,null,null,null,null,null,null,null,null,null,null,null,null,null,null,null,null,null,null,null,null,null,null,null,null,null,null,null,null,null,null,null,null,null,null,null,null,null,null,null,null,null,null,null,null,null,null,null,null,null,null,null,null,null,null,null,null,null,null,null,null,null,null,null,null,null,null,null,null,null,null,null,null,null,null,null,null,null,null,null,null,null,null,null,null,null,null,null,null,null,null,null,null,null,null,null,null,null,null,null,null,null,null,null,null,null,null,null,null,null,null,null,null,null,null,null,null,null,null,null,null,null,null,null,null,null,null,null,null,null,null,null,null,null,null,null,null,null,null,null,null,null,null,null,null,null,null,null,null,null,null,null,null,null,null,null,null,null,null,null,null,null,null,null,null,null,null,null,null,null,null,null,null,null,null,null,null,null,null,null,null,null,null,null,null,null,null,null,null,null,null,null,null,null,null,null,null,null,null,null,null,null,null,null,null,null,null,null,null,null,null,null,null,null,null,null,null,null,null,null,null,null,null,null,null,null,null,null,null,null,null,null,null,null,null,null,null,null,null,null,null,null,null,null,null,null,null,null,null,null,null,null,null,null,null,null,null,null,null,null,null,null,null,null,null,null,null,null,null,null,null,null,null,null,null,null,null,null,null,null,null,null,null,null,null,null,null,null,null,null,null,null,null,null,null,null,null,null,null,null,null,null,null,null,null,null,null,null,null,null,null,null,null,null,null,null,null,null,null,null,null,null,null,null,null,null,null,null,null,null,null,null,null,null,null,null,null,null,null,null,null,null,null,null,null,null,null,null,null,null,null,null,null,null,null,null,null,null,null,null,null,null,null,null,null,null,null,null,null,null,null,null,null,null,null,null,null,null,null,null,null,null,null,null,null,null,null,null,null,null,null,null,null,null,null,null,null,null,null,null,null,null,null,null,null,null,null,null,null,null,null,null,null,null,null,null,null,null,null,null,null,null,null,null,null,null,null,null,null,null,null,null,null,null,null,null,null,null,null,null,null,null,null,null,null,null,null,null,null,null,null,null,null,null,null,null,null,null,null,null,null,null,null,null,null,null,null,null,null,null,null,null,null,null,null,null,null,null,null,null,null,null,null,null,null,null,null,null,null,null,null,null,null,null,null,null,null,null,null,null,null,null,null,null,null,null,null,null,null,null,null,null,null,null,null,null,null,null,null,null,null,null,null,null,null,null,null,null,null,null,null,null,null,null,null,null,null,null,null,null,null,null,null,null,null,null,null,null,null,null,null,null,null,null,null,null,null,null,null,null,null,null,null,null,null,null,null,null,null,null,null,null,null,null,null,null,null,null,null,null,null,null,null,null,null,null,null,null,null,null,null,null,null,null,null,null,null,null,null,null,null,null,null,null,null,null,null,null,null,null,null,null,null,null,null,null,null,null,null,null,null,null,null,null,null,null,null,null,null,null,null,null,null,null,null,null,null,null,null,null,null,null,null,null,null,null,null,null,null,null,null,null,null,null,null,null,null,null,null,null,null,null,null,null,null,null,null,null,null,null,null,null,null,null,null,null,null,null,null,null,null,null,null,null,null,null,null,null,null,null,null,null,null,null,null,null,null,null,null,null,null,null,null,null,null,null,null,null,null,null,null,null,null,null,null,null,null,null,null,null,null,null,null,null,null,null,null,null,null,null,null,null,null,null,null,null,null,null,null,null,null,null,null,null,null,null,null,null,null,null,null,null,null,null,null,null,null,null,null,null,null,null,null,null,null,null,null,null,null,null,null,null,null,null,null,null,null,null,null,null,null,null,null,null,null,null,null,null,null,null,null,null,null,null,null,null,null,null,null,null,null,null,null,null,null,null,null,null,null,null,null,null,null,null,null,null,null,null,null,null,null,null,null,null,null,null,null,null,null,null,null,null,null,null,null,null,null,null,null,null,null,null,null,null,null,null,null,null,null,null,null,null,null,null,null,null,null,null,null,null,null,null,null,null,null,null,null,null,null,null,null,null,null,null,null,null,null,null,null,null,null,null,null,null,null,null,null,null,null,null,null,null,null,null,null,null,null,null,null,null,null,null,null,null,null,null,null,null,null,null,null,null,null,null,null,null,null,null,null,null,null,null,null,null,null,null,null,null,null,null,null,null,null,null,null,null,null,null,null,null,null,null,null,null,null,null,null,null,null,null,null,null,null,null,null,null,null,null,null,null,null,null,null,null,null,null,null,null,null,null,null,null,null,null,null,null,null,null,null,null,null,null,null,null,null,null,null,null,null,null,null,null,null,null,null,null,null,null,null,null,null,null,null,null,null,null,null,null,null,null,null,null,null,null,null,null,null,null,null,null,null,null,null,null,null,null,null,null,null,null,null,null,null,null,null,null,null,null,null,null,null,null,null,null,null,null,null,null,null,null,null,null,null,null,null,null,null,null,null,null,null,null,null,null,null,null,null,null,null,null,null,null,null,null,null,null,null,null,null,null,null,null,null,null,null,null,null,null,null,null,null,null,null,null,null,null,null,null,null,null,null,null,null,null,null,null,null,null,null,null,null,null,null,null,null,null,null,null,null,null,null,null,null,null,null,null,null,null,null,null,null,null,null,null,null,null,null,null,null,null,null,null,null,null,null,null,null,null,null,null,null,null,null,null,null,null,null,null,null,null,null,null,null,null,null,null,null,null,null,null,null,null,null,null,null,null,null,null,null,null,null,null,null,null,null,null,null,null,null,null,null,null,null,null,null,null,null,null,null,null,null,null,null,null,null,null,null,null,null,null,null,null,null,null,null,null,null,null,null,null,null,null,null,null,null,null,null,null,null,null,null,null,null,null,null,null,null,null,null,null,null,null,null,null,null,null,null,null,null,null,null,null,null,null,null,null,null,null,null,null,null,null,null,null,null,null,null,null,null,null,null,null,null,null,null,null,null,null,null,null,null,null,null,null,null,null,null,null,null,null,null,null,null,null,null,null,null,null,null,null,null,null,null,null,null,null,null,null,null,null,null,null,null,null,null,null,null,null,null,null,null,null,null,null,null,null,null,null,null,null,null,null,null,null,null,null,null,null,null,null,null,null,null,null,null,null,null,null,null,null,null,null,null,null,null,null,null,null,null,null,null,null,null,null,null,null,null,null,null,null,null,null,null,null,null,null,null,null,null,null,null,null,null,null,null,null,null,null,null,null,null,null,null,null,null,null,null,null,null,null,null,null,null,null,null,null,null,null,null,null,null,null,null,null,null,null,null,null,null,null,null,null,null,null,null,null,null,null,null,null,null,null,null,null,null,null,null,null,null,null,null,null,null,null,null,null,null,null,null,null,null,null,null,null,null,null,null,null,null,null,null,null,null,null,null,null,null,null,null,null,null,null,null,null,null,null,null,null,null,null,null,null,null,null,null,null,null,null,null,null,null,null,null,null,null,null,null,null,null,null,null,null,null,null,null,null,null,null,null,null,null,null,null,null,null,null,null,null,null,null,null,null,null,null,null,null,null,null,null,null,null,null,null,null,null,null,null,null,null,null,null,null,null,null,null,null,null,null,null,null,null,null,null,null,null,null,null,null,null,null,null,null,null,null,null,null,null,null,null,null,null,null,null,null,null,null,null,null,null,null,null,null,null,null,null,null,null,null,null,null,null,null,null,null,null,null,null,null,null,null,null,null,null,null,null,null,null,null,null,null,null,null,null,null,null,null,null,null,null,null,null,null,null,null,null,null,null,null,null,null,null,null,null,null,null,null,null,null,null,null,null,null,null,null,null,null,null,null,null,null,null,null,null,null,null,null,null,null,null,null,null,null,null,null,null,null,null,null,null,null,null,null,null,null,null,null,null,null,null,null,null,null,null,null,null,null,null,null,null,null,null,null,null,null,null,null,null,null,null,null,null,null,null,null,null,null,null,null,null,null,null,null,null,null,null,null,null,null,null,null,null,null,null,null,null,null,null,null,null,null,null,null,null,null,null,null,null,null,null,null,null,null,null,null,null,null,null,null,null,null,null,null,null,null,null,null,null,null,null,null,null,null,null,null,null,null,null,null,null,null,null,null,null,null,null,null,null,null,null,null,null,null,null,null,null,null,null,null,null,null,null,null,null,null,null,null,null,null,null,null,null,null,null,null,null,null,null,null,null,null,null,null,null,null,null,null,null,null,null,null,null,null,null,null,null,null,null,null,null,null,null,null,null,null,null,null,null,null,null,null,null,null,null,null,null,null,null,null,null,null,null,null,null,null,null,null,null,null,null,null,null,null,null,null,null,null,null,null,null,null,null,null,null,null,null,null,null,null,null,null,null,null,null,null,null,null,null,null,null,null,null,null,null,null,null,null,null,null,null,null,null,null,null,null,null,null,null,null,null,null,null,null,null,null,null,null,null,null,null,null,null,null,null,null,null,null,null,null,null,null,null,null,null,null,null,null,null,null,null,null,null,null,null,null,null,null,null,null,null,null,null,null,null,null,null,null,null,null,null,null,null,null,null,null,null,null,null,null,null,null,null,null,null,null,null,null,null,null,null,null,null,null,null,null,null,null,null,null,null,null,null,null,null,null,null,null,null,null,null,null,null,null,null,null,null,null,null,null,null,null,null,null,null,null,null,null,null,null,null,null,null,null,null,null,null,null,null,null,null,null,null,null,null,null,null,null,null,null,null,null,null,null,null,null,null,null,null,null,null,null,null,null,null,null,null,null,null,null,null,null,null,null,null,null,null,null,null,null,null,null,null,null,null,null,null,null,null,null,null,null,null,null,null,null,null,null,null,null,null,null,null,null,null,null,null,null,null,null,null,null,null,null,null,null,null,null,null,null,null,null,null,null,null,null,null,null,null,null,null,null,null,null,null,null,null,null,null,null,null,null,null,null,null,null,null,null,null,null,null,null,null,null,null,null,null,null,null,null,null,null,null,null,null,null,null,null,null,null,null,null,null,null,null,null,null,null,null,null,null,null,null,null,null,null,null,null,null,null,null,null,null,null,null,null,null,null,null,null,null,null,null,null,null,null,null,null,null,null,null,null,null,null,null,null,null,null,null,null,null,null,null,null,null,null,null,null,null,null,null,null,null,null,null,null,null,null,null,null,null,null,null,null,null,null,null,null,null,null,null,null,null,null,null,null,null,null,null,null,null,null,null,null,null,null,null,null,null,null,null,null,null,null,null,null,null,null,null,null,null,null,null,null,null,null,null,null,null,null,null,null,null,null,null,null,null,null,null,null,null,null,null,null,null,null,null,null,null,null,null,null,null,null,null,null,null,null,null,null,null,null,null,null,null,null,null,null,null,null,null,null,null,null,null,null,null,null,null,null,null,null,null,null,null,null,null,null,null,null,null,null,null,null,null,null,null,null,null,null,null,null,null,null,null,null,null,null,null,null,null,null,null,null,null,null,null,null,null,null,null,null,null,null,null,null,null,null,null,null,null,null,null,null,null,null,null,null,null,null,null,null,null,null,null,null,null,null,null,null,null,null,null,null,null,null,null,null,null,null,null,null,null,null,null,null,null,null,null,null,null,null,null,null,null,null,null,null,null,null,null,null,null,null,null,null,null,null,null,null,null,null,null,null,null,null,null,null,null,null,null,null,null,null,null,null,null,null,null,null,null,null,null,null,null,null,null,null,null,null,null,null,null,null,null,null,null,null,null,null,null,null,null,null,null,null,null,null,null,null,null,null,null,null,null,null,null,null,null,null,null,null,null,null,null,null,null,null,null,null,null,null,null,null,null,null,null,null,null,null,null,null,null,null,null,null,null,null,null,null,null,null,null,null,null,null,null,null,null,null,null,null,null,null,null,null,null,null,null,null,null,null,null,null,null,null,null,null,null,null,null,null,null,null,null,null,null,null,null,null,null,null,null,null,null,null,null,null,null,null,null,null,null,null,null,null,null,null,null,null,null,null,null,null,null,null,null,null,null,null,null,null,null,null,null,null,null,null,null,null,null,null,null,null,null,null,null,null,null,null,null,null,null,null,null,null,null,null,null,null,null,null,null,null,null,null,null,null,null,null,null,null,null,null,null,null,null,null,null,null,null,null,null,null,null,null,null,null,null,null,null,null,null,null,null,null,null,null,null,null,null,null,null,null,null,null,null,null,null,null,null,null,null,null,null,null,null,null,null,null,null,null,null,null,null,null,null,null,null,null,null,null,null,null,null,null,null,null,null,null,null,null,null,null,null,null,null,null,null,null,null,null,null,null,null,null,null,null,null,null,null,null,null,null,null,null,null,null,null,null,null,null,null,null,null,null,null,null,null,null,null,null,null,null,null,null,null,null,null,null,null,null,null,null,null,null,null,null,null,null,null,null,null,null,null,null,null,null,null,null,null,null,null,null,null,null,null,null,null,null,null,null,null,null,null,null,null,null,null,null,null,null,null,null,null,null,null,null,null,null,null,null,null,null,null,null,null,null,null,null,null,null,null,null,null,null,null,null,null,null,null,null,null,null,null,null,null,null,null,null,null,null,null,null,null,null,null,null,null,null,null,null,null,null,null,null,null,null,null,null,null,null,null,null,null,null,null,null,null,null,null,null,null,null,null,null,null,null,null,null,null,null,null,null,null,null,null,null,null,null,null,null,null,null,null,null,null,null,null,null,null,null,null,null,null,null,null,null,null,null,null,null,null,null,null,null,null,null,null,null,null,null,null,null,null,null,null,null,null,null,null,null,null,null,null,null,null,null,null,null,null,null,null,null,null,null,null,null,null,null,null,null,null,null,null,null,null,null,null,null,null,null,null,null,null,null,null,null,null,null,null,null,null,null,null,null,null,null,null,null,null,null,null,null,null,null,null,null,null,null,null,null,null,null,null,null,null,null,null,null,null,null,null,null,null,null,null,null,null,null,null,null,null,null,null,null,null,null,null,null,null,null,null,null,null,null,null,null,null,null,null,null,null,null,null,null,null,null,null,null,null,null,null,null,null,null,null,null,null,null,null,null,null,null,null,null,null,null,null,null,null,null,null,null,null,null,null,null,null,null,null,null,null,null,null,null,null,null,null,null,null,null,null,null,null,null,null,null,null,null,null,null,null,null,null,null,null,null,null,null,null,null,null,null,null,null,null,null,null,null,null,null,null,null,null,null,null,null,null,null,null,null,null,null,null,null,null,null,null,null,null,null,null,null,null,null,null,null,null,null,null,null,null,null,null,null,null,null,null,null,null,null,null,null,null,null,null,null,null,null,null,null,null,null,null,null,null,null,null,null,null,null,null,null,null,null,null,null,null,null,null,null,null,null,null,null,null,null,null,null,null,null,null,null,null,null,null,null,null,null,null,null,null,null,null,null,null,null,null,null,null,null,null,null,null,null,null,null,null,null,null,null,null,null,null,null,null,null,null,null,null,null,null,null,null,null,null,null,null,null,null,null,null,null,null,null,null,null,null,null,null,null,null,null,null,null,null,null,null,null,null,null,null,null,null,null,null,null,null,null,null,null,null,null,null,null,null,null,null,null,null,null,null,null,null,null,null,null,null,null,null,null,null,null,null,null,null,null,null,null,null,null,null,null,null,null,null,null,null,null,null,null,null,null,null,null,null,null,null,null,null,null,null,null,null,null,null,null,null,null,null,null,null,null,null,null,null,null,null,null,null,null,null,null,null,null,null,null,null,null,null,null,null,null,null,null,null,null,null,null,null,null,null,null,null,null,null,null,null,null,null,null,null,null,null,null,null,null,null,null,null,null,null,null,null,null,null,null,null,null,null,null,null,null,null,null,null,null,null,null,null,null,null,null,null,null,null,null,null,null,null,null,null,null,null,null,null,null,null,null,null,null,null,null,null,null,null,null,null,null,null,null,null,null,null,null,null,null,null,null,null,null,null,null,null,null,null,null,null,null,null,null,null,null,null,null,null,null,null,null,null,null,null,null,null,null,null,null,null,null,null,null,null,null,null,null,null,null,null,null,null,null,null,null,null,null,null,null,null,null,null,null,null,null,null,null,null,null,null,null,null,null,null,null,null,null,null,null,null,null,null,null,null,null,null,null,null,null,null,null,null,null,null,null,null,null,null,null,null,null,null,null,null,null,null,null,null,null,null,null,null,null,null,null,null,null,null,null,null,null,null,null,null,null,null,null,null,null,null,null,null,null,null,null,null,null,null,null,null,null,null,null,null,null,null,null,null,null,null,null,null,null,null,null,null,null,null,null,null,null,null,null,null,null,null,null,null,null,null,null,null,null,null,null,null,null,null,null,null,null,null,null,null,null,null,null,null,null,null,null,null,null,null,null,null,null,null,null,null,null,null,null,null,null,null,null,null,null,null,null,null,null,null,null,null,null,null,null,null,null,null,null,null,null,null,null,null,null,null,null,null,null,null,null,null,null,null,null,null,null,null,null,null,null,null,null,null,null,null,null,null,null,null,null,null,null,null,null,null,null,null,null,null,null,null,null,null,null,null,null,null,null,null,null,null,null,null,null,null,null,null,null,null,null,null,null,null,null,null,null,null,null,null,null,null,null,null,null,null,null,null,null,null,null,null,null,null,null,null,null,null,null,null,null,null,null,null,null,null,null,null,null,null,null,null,null,null,null,null,null,null,null,null,null,null,null,null,null,null,null,null,null,null,null,null,null,null,null,null,null,null,null,null,null,null,null,null,null,null,null,null,null,null,null,null,null,null,null,null,null,null,null,null,null,null,null,null,null,null,null,null,null,null,null,null,null,null,null,null,null,null,null,null,null,null,null,null,null,null,null,null,null,null,null,null,null,null,null,null,null,null,null,null,null,null,null,null,null,null,null,null,null,null,null,null,null,null,null,null,null,null,null,null,null,null,null,null,null,null,null,null,null,null,null,null,null,null,null,null,null,null,null,null,null,null,null,null,null,null,null,null,null,null,null,null,null,null,null,null,null,null,null,null,null,null,null,null,null,null,null,null,null,null,null,null,null,null,null,null,null,null,null,null,null,null,null,null,null,null,null,null,null,null,null,null,null,null,null,null,null,null,null,null,null,null,null,null,null,null,null,null,null,null,null,null,null,null,null,null,null,null,null,null,null,null,null,null,null,null,null,null,null,null,null,null,null,null,null,null,null,null,null,null,null,null,null,null,null,null,null,null,null,null,null,null,null,null,null,null,null,null,null,null,null,null,null,null,null,null,null,null,null,null,null,null,null,null,null,null,null,null,null,null,null,null,null,null,null,null,null,null,null,null,null,null,null,null,null,null,null,null,null,null,null,null,null,null,null,null,null,null,null,null,null,null,null,null,null,null,null,null,null,null,null,null,null,null,null,null,null,null,null,null,null,null,null,null,null,null,null,null,null,null,null,null,null,null,null,null,null,null,null,null,null,null,null,null,null,null,null,null,null,null,null,null,null,null,null,null,null,null,null,null,null,null,null,null,null,null,null,null,null,null,null,null,null,null,null,null,null,null,null,null,null,null,null,null,null,null,null,null,null,null,null,null,null,null,null,null,null,null,null,null,null,null,null,null,null,null,null,null,null,null,null,null,null,null,null,null,null,null,null,null,null,null,null,null,null,null,null,null,null,null,null,null,null,null,null,null,null,null,null,null,null,null,null,null,null,null,null,null,null,null,null,null,null,null,null,null,null,null,null,null,null,null,null,null,null,null,null,null,null,null,null,null,null,null,null,null,null,null,null,null,null,null,null,null,null,null,null,null,null,null,null,null,null,null,null,null,null,null,null,null,null,null,null,null,null,null,null,null,null,null,null,null,null,null,null,null,null,null,null,null,null,null,null,null,null,null,null,null,null,null,null,null,null,null,null,null,null,null,null,null,null,null,null,null,null,null,null,null,null,null,null,null,null,null,null,null,null,null,null,null,null,null,null,null,null,null,null,null,null,null,null,null,null,null,null,null,null,null,null,null,null,null,null,null,null,null,null,null,null,null,null,null,null,null,null,null,null,null,null,null,null,null,null,null,null,null,null,null,null,null,null,null,null,null,null,null,null,null,null,null,null,null,null,null,null,null,null,null,null,null,null,null,null,null,null,null,null,null,null,null,null,null,null,null,null,null,null,null,null,null,null,null,null,null,null,null,null,null,null,null,null,null,null,null,null,null,null,null,null,null,null,null,null,null,null,null,null,null,null,null,null,null,null,null,null,null,null,null,null,null,null,null,null,null,null,null,null,null,null,null,null,null,null,null,null,null,null,null,null,null,null,null,null,null,null,null,null,null,null,null,null,null,null,null,null,null,null,null,null,null,null,null,null,null,null,null,null,null,null,null,null,null,null,null,null,null,null,null,null,null,null,null,null,null,null,null,null,null,null,null,null,null,null,null,null,null,null,null,null,null,null,null,null,null,null,null,null,null,null,null,null,null,null,null,null,null,null,null,null,null,null,null,null,null,null,null,null,null,null,null,null,null,null,null,null,null,null,null,null,null,null,null,null,null,null,null,null,null,null,null,null,null,null,null,null,null,null,null,null,null,null,null,null,null,null,null,null,null,null,null,null,null,null,null,null,null,null,null,null,null,null,null,null,null,null,null,null,null,null,null,null,null,null,null,null,null,null,null,null,null,null,null,null,null,null,null,null,null,null,null,null,null,null,null,null,null,null,null,null,null,null,null,null,null,null,null,null,null,null,null,null,null,null,null,null,null,null,null,null,null,null,null,null,null,null,null,null,null,null,null,null,null,null,null,null,null,null,null,null,null,null,null,null,null,null,null,null,null,null,null,null,null,null,null,null,null,null,null,null,null,null,null,null,null,null,null,null,null,null,null,null,null,null,null,null,null,null,null,null,null,null,null,null,null,null,null,null,null,null,null,null,null,null,null,null,null,null,null,null,null,null,null,null,null,null,null,null,null,null,null,null,null,null,null,null,null,null,null,null,null,null,null,null,null,null,null,null,null,null,null,null,null,null,null,null,null,null,null,null,null,null,null,null,null,null,null,null,null,null,null,null,null,null,null,null,null,null,null,null,null,null,null,null,null,null,null,null,null,null,null,null,null,null,null,null,null,null,null,null,null,null,null,null,null,null,null,null,null,null,null,null,null,null,null,null,null,null,null,null,null,null,null,null,null,null,null,null,null,null,null,null,null,null,null,null,null,null,null,null,null,null,null,null,null,null,null,null,null,null,null,null,null,null,null,null,null,null,null,null,null,null,null,null,null,null,null,null,null,null,null,null,null,null,null,null,null,null,null,null,null,null,null,null,null,null,null,null,null,null,null,null,null,null,null,null,null,null,null,null,null,null,null,null,null,null,null,null,null,null,null,null,null,null,null,null,null,null,null,null,null,null,null,null,null,null,null,null,null,null,null,null,null,null,null,null,null,null,null,null,null,null,null,null,null,null,null,null,null,null,null,null,null,null,null,null,null,null,null,null,null,null,null,null,null,null,null,null,null,null,null,null,null,null,null,null,null,null,null,null,null,null,null,null,null,null,null,null,null,null,null,null,null,null,null,null,null,null,null,null,null,null,null,null,null,null,null,null,null,null,null,null,null,null,null,null,null,null,null,null,null,null,null,null,null,null,null,null,null,null,null,null,null,null,null,null,null,null,null,null,null,null,null,null,null,null,null,null,null,null,null,null,null,null,null,null,null,null,null,null,null,null,null,null,null,null,null,null,null,null,null,null,null,null,null,null,null,null,null,null,null,null,null,null,null,null,null,null,null,null,null,null,null,null,null,null,null,null,null,null,null,null,null,null,null,null,null,null,null,null,null,null,null,null,null,null,null,null,null,null,null,null,null,null,null,null,null,null,null,null,null,null,null,null,null,null,null,null,null,null,null,null,null,null,null,null,null,null,null,null,null,null,null,null,null,null,null,null,null,null,null,null,null,null,null,null,null,null,null,null,null,null,null,null,null,null,null,null,null,null,null,null,null,null,null,null,null,null,null,null,null,null,null,null,null,null,null,null,null,null,null,null,null,null,null,null,null,null,null,null,null,null,null,null,null,null,null,null,null,null,null,null,null,null,null,null,null,null,null,null,null,null,null,null,null,null,null,null,null,null,null,null,null,null,null,null,null,null,null,null,null,null,null,null,null,null,null,null,null,null,null,null,null,null,null,null,null,null,null,null,null,null,null,null,null,null,null,null,null,null,null,null,null,null,null,null,null,null,null,null,null,null,null,null,null,null,null,null,null,null,null,null,null,null,null,null,null,null,null,null,null,null,null,null,null,null,null,null,null,null,null,null,null,null,null,null,null,null,null,null,null,null,null,null,null,null,null,null,null,null,null,null,null,null,null,null,null,null,null,null,null,null,null,null,null,null,null,null,null,null,null,null,null,null,null,null,null,null,null,null,null,null,null,null,null,null,null,null,null,null,null,null,null,null,null,null,null,null,null,null,null,null,null,null,null,null,null,null,null,null,null,null,null,null,null,null,null,null,null,null,null,null,null,null,null,null,null,null,null,null,null,null,null,null,null,null,null,null,null,null,null,null,null,null,null,null,null,null,null,null,null,null,null,null,null,null,null,null,null,null,null,null,null,null,null,null,null,null,null,null,null,null,null,null,null,null,null,null,null,null,null,null,null,null,null,null,null,null,null,null,null,null,null,null,null,null,null,null,null,null,null,null,null,null,null,null,null,null,null,null,null,null,null,null,null,null,null,null,null,null,null,null,null,null,null,null,null,null,null,null,null,null,null,null,null,null,null,null,null,null,null,null,null,null,null,null,null,null,null,null,null,null,null,null,null,null,null,null,null,null,null,null,null,null,null,null,null,null,null,null,null,null,null,null,null,null,null,null,null,null,null,null,null,null,null,null,null,null,null,null,null,null,null,null,null,null,null,null,null,null,null,null,null,null,null,null,null,null,null,null,null,null,null,null,null,null,null,null,null,null,null,null,null,null,null,null,null,null,null,null,null,null,null,null,null,null,null,null,null,null,null,null,null,null,null,null,null,null,null,null,null,null,null,null,null,null,null,null,null,null,null,null,null,null,null,null,null,null,null,null,null,null,null,null,null,null,null,null,null,null,null,null,null,null,null,null,null,null,null,null,null,null,null,null,null,null,null,null,null,null,null,null,null,null,null,null,null,null,null,null,null,null,null,null,null,null,null,null,null,null,null,null,null,null,null,null,null,null,null,null,null,null,null,null,null,null,null,null,null,null,null,null,null,null,null,null,null,null,null,null,null,null,null,null,null,null,null,null,null,null,null,null,null,null,null,null,null,null,null,null,null,null,null,null,null,null,null,null,null,null,null,null,null,null,null,null,null,null,null,null,null,null,null,null,null,null,null,null,null,null,null,null,null,null,null,null,null,null,null,null,null,null,null,null,null,null,null,null,null,null,null,null,null,null,null,null,null,null,null,null,null,null,null,null,null,null,null,null,null,null,null,null,null,null,null,null,null,null,null,null,null,null,null,null,null,null,null,null,null,null,null,null,null,null,null,null,null,null,null,null,null,null,null,null,null,null,null,null,null,null,null,null,null,null,null,null,null,null,null,null,null,null,null,null,null,null,null,null,null,null,null,null,null,null,null,null,null,null,null,null,null,null,null,null,null,null,null,null,null,null,null,null,null,null,null,null,null,null,null,null,null,null,null,null,null,null,null,null,null,null,null,null,null,null,null,null,null,null,null,null,null,null,null,null,null,null,null,null,null,null,null,null,null,null,null,null,null,null,null,null,null,null,null,null,null,null,null,null,null,null,null,null,null,null,null,null,null,null,null,null,null,null,null,null,null,null,null,null,null,null,null,null,null,null,null,null,null,null,null,null,null,null,null,null,null,null,null,null,null,null,null,null,null,null,null,null,null,null,null,null,null,null,null,null,null,null,null,null,null,null,null,null,null,null,null,null,null,null,null,null,null,null,null,null,null,null,null,null,null,null,null,null,null,null,null,null,null,null,null,null,null,null,null,null,null,null,null,null,null,null,null,null,null,null,null,null,null,null,null,null,null,null,null,null,null,null,null,null,null,null,null,null,null,null,null,null,null,null,null,null,null,null,null,null,null,null,null,null,null,null,null,null,null,null,null,null,null,null,null,null,null,null,null,null,null,null,null,null,null,null,null,null,null,null,null,null,null,null,null,null,null,null,null,null,null,null,null,null,null,null,null,null,null,null,null,null,null,null,null,null,null,null,null,null,null,null,null,null,null,null,null,null,null,null,null,null,null,null,null,null,null,null,null,null,null,null,null,null,null,null,null,null,null,null,null,null,null,null,null,null,null,null,null,null,null,null,null,null,null,null,null,null,null,null,null,null,null,null,null,null,null,null,null,null,null,null,null,null,null,null,null,null,null,null,null,null,null,null,null,null,null,null,null,null,null,null,null,null,null,null,null,null,null,null,null,null,null,null,null,null,null,null,null,null,null,null,null,null,null,null,null,null,null,null,null,null,null,null,null,null,null,null,null,null,null,null,null,null,null,null,null,null,null,null,null,null,null,null,null,null,null,null,null,null,null,null,null,null,null,null,null,null,null,null,null,null,null,null,null,null,null,null,null,null,null,null,null,null,null,null,null,null,null,null,null,null,null,null,null,null,null,null,null,null,null,null,null,null,null,null,null,null,null,null,null,null,null,null,null,null,null,null,null,null,null,null,null,null,null,null,null,null,null,null,null,null,null,null,null,null,null,null,null,null,null,null,null,null,null,null,null,null,null,null,null,null,null,null,null,null,null,null,null,null,null,null,null,null,null,null,null,null,null,null,null,null,null,null,null,null,null,null,null,null,null,null,null,null,null,null,null,null,null,null,null,null,null,null,null,null,null,null,null,null,null,null,null,null,null,null,null,null,null,null,null,null,null,null,null,null,null,null,null,null,null,null,null,null,null,null,null,null,null,null,null,null,null,null,null,null,null,null,null,null,null,null,null,null,null,null,null,null,null,null,null,null,null,null,null,null,null,null,null,null,null,null,null,null,null,null,null,null,null,null,null,null,null,null,null,null,null,null,null,null,null,null,null,null,null,null,null,null,null,null,null,null,null,null,null,null,null,null,null,null,null,null,null,null,null,null,null,null,null,null,null,null,null,null,null,null,null,null,null,null,null,null,null,null,null,null,null,null,null,null,null,null,null,null,null,null,null,null,null,null,null,null,null,null,null,null,null,null,null,null,null,null,null,null,null,null,null,null,null,null,null,null,null,null,null,null,null,null,null,null,null,null,null,null,null,null,null,null,null,null,null,null,null,null,null,null,null,null,null,null,null,null,null,null,null,null,null,null,null,null,null,null,null,null,null,null,null,null,null,null,null,null,null,null,null,null,null,null,null,null,null,null,null,null,null,null,null,null,null,null,null,null,null,null,null,null,null,null,null,null,null,null,null,null,null,null,null,null,null,null,null,null,null,null,null,null,null,null,null,null,null,null,null,null,null,null,null,null,null,null,null,null,null,null,null,null,null,null,null,null,null,null,null,null,null,null,null,null,null,null,null,null,null,null,null,null,null,null,null,null,null,null,null,null,null,null,null,null,null,null,null,null,null,null,null,null,null,null,null,null,null,null,null,null,null,null,null,null,null,null,null,null,null,null,null,null,null,null,null,null,null,null,null,null,null,null,null,null,null,null,null,null,null,null,null,null,null,null,null,null,null,null,null,null,null,null,null,null,null,null,null,null,null,null,null,null,null,null,null,null,null,null,null,null,null,null,null,null,null,null,null,null,null,null,null,null,null,null,null,null,null,null,null,null,null,null,null,null,null,null,null,null,null,null,null,null,null,null,null,null,null,null,null,null,null,null,null,null,null,null,null,null,null,null,null,null,null,null,null,null,null,null,null,null,null,null,null,null,null,null,null,null,null,null,null,null,null,null,null,null,null,null,null,null,null,null,null,null,null,null,null,null,null,null,null,null,null,null,null,null,null,null,null,null,null,null,null,null,null,null,null,null,null,null,null,null,null,null,null,null,null,null,null,null,null,null,null,null,null,null,null,null,null,null,null,null,null,null,null,null,null,null,null,null,null,null,null,null,null,null,null,null,null,null,null,null,null,null,null,null,null,null,null,null,null,null,null,null,null,null,null,null,null,null,null,null,null,null,null,null,null,null,null,null,null,null,null,null,null,null,null,null,null,null,null,null,null,null,null,null,null,null,null,null,null,null,null,null,null,null,null,null,null,null,null,null,null,null,null,null,null,null,null,null,null,null,null,null,null,null,null,null,null,null,null,null,null,null,null,null,null,null,null,null,null,null,null,null,null,null,null,null,null,null,null,null,null,null,null,null,null,null,null,null,null,null,null,null,null,null,null,null,null,null,null,null,null,null,null,null,null,null,null,null,null,null,null,null,null,null,null,null,null,null,null,null,null,null,null,null,null,null,null,null,null,null,null,null,null,null,null,null,null,null,null,null,null,null,null,null,null,null,null,null,null,null,null,null,null,null,null,null,null,null,null,null,null,null,null,null,null,null,null,null,null,null,null,null,null,null,null,null,null,null,null,null,null,null,null,null,null,null,null,null,null,null,null,null,null,null,null,null,null,null,null,null,null,null,null,null,null,null,null,null,null,null,null,null,null,null,null,null,null,null,null,null,null,null,null,null,null,null,null,null,null,null,null,null,null,null,null,null,null,null,null,null,null,null,null,null,null,null,null,null,null,null,null,null,null,null,null,null,null,null,null,null,null,null,null,null,null,null,null,null,null,null,null,null,null,null,null,null,null,null,null,null,null,null,null,null,null,null,null,null,null,null,null,null,null,null,null,null,null,null,null,null,null,null,null,null,null,null,null,null,null,null,null,null,null,null,null,null,null,null,null,null,null,null,null,null,null,null,null,null,null,null,null,null,null,null,null,null,null,null,null,null,null,null,null,null,null,null,null,null,null,null,null,null,null,null,null,null,null,null,null,null,null,null,null,null,null,null,null,null,null,null,null,null,null,null,null,null,null,null,null,null,null,null,null,null,null,null,null,null,null,null,null,null,null,null,null,null,null,null,null,null,null,null,null,null,null,null,null,null,null,null,null,null,null,null,null,null,null,null,null,null,null,null,null,null,null,null,null,null,null,null,null,null,null,null,null,null,null,null,null,null,null,null,null,null,null,null,null,null,null,null,null,null,null,null,null,null,null,null,null,null,null,null,null,null,null,null,null,null,null,null,null,null,null,null,null,null,null,null,null,null,null,null,null,null,null,null,null,null,null,null,null,null,null,null,null,null,null,null,null,null,null,null,null,null,null,null,null,null,null,null,null,null,null,null,null,null,null,null,null,null,null,null,null,null,null,null,null,null,null,null,null,null,null,null,null,null,null,null,null,null,null,null,null,null,null,null,null,null,null,null,null,null,null,null,null,null,null,null,null,null,null,null,null,null,null,null,null,null,null,null,null,null,null,null,null,null,null,null,null,null,null,null,null,null,null,null,null,null,null,null,null,null,null,null,null,null,null,null,null,null,null,null,null,null,null,null,null,null,null,null,null,null,null,null,null,null,null,null,null,null,null,null,null,null,null,null,null,null,null,null,null,null,null,null,null,null,null,null,null,null,null,null,null,null,null,null,null,null,null,null,null,null,null,null,null,null,null,null,null,null,null,null,null,null,null,null,null,null,null,null,null,null,null,null,null,null,null,null,null,null,null,null,null,null,null,null,null,null,null,null,null,null,null,null,null,null,null,null,null,null,null,null,null,null,null,null,null,null,null,null,null,null,null,null,null,null,null,null,null,null,null,null,null,null,null,null,null,null,null,null,null,null,null,null,null,null,null,null,null,null,null,null,null,null,null,null,null,null,null,null,null,null,null,null,null,null,null,null,null,null,null,null,null,null,null,null,null,null,null,null,null,null,null,null,null,null,null,null,null,null,null,null,null,null,null,null,null,null,null,null,null,null,null,null,null,null,null,null,null,null,null,null,null,null,null,null,null,null,null,null,null,null,null,null,null,null,null,null,null,null,null,null,null,null,null,null,null,null,null,null,null,null,null,null,null,null,null,null,null,null,null,null,null,null,null,null,null,null,null,null,null,null,null,null,null,null,null,null,null,null,null,null,null,null,null,null,null,null,null,null,null,null,null,null,null,null,null,null,null,null,null,null,null,null,null,null,null,null,null,null,null,null,null,null,null,null,null,null,null,null,null,null,null,null,null,null,null,null,null,null,null,null,null,null,null,null,null,null,null,null,null,null,null,null,null,null,null,null,null,null,null,null,null,null,null,null,null,null,null,null,null,null,null,null,null,null,null,null,null,null,null,null,null,null,null,null,null,null,null,null,null,null,null,null,null,null,null,null,null,null,null,null,null,null,null,null,null,null,null,null,null,null,null,null,null,null,null,null,null,null,null,null,null,null,null,null,null,null,null,null,null,null,null,null,null,null,null,null,null,null,null,null,null,null,null,null,null,null,null,null,null,null,null,null,null,null,null,null,null,null,null,null,null,null,null,null,null,null,null,null,null,null,null,null,null,null,null,null,null,null,null,null,null,null,null,null,null,null,null,null,null,null,null,null,null,null,null,null,null,null,null,null,null,null,null,null,null,null,null,null,null,null,null,null,null,null,null,null,null,null,null,null,null,null,null,null,null,null,null,null,null,null,null,null,null,null,null,null,null,null,null,null,null,null,null,null,null,null,null,null,null,null,null,null,null,null,null,null,null,null,null,null,null,null,null,null,null,null,null,null,null,null,null,null,null,null,null,null,null,null,null,null,null,null,null,null,null,null,null,null,null,null,null,null,null,null,null,null,null,null,null,null,null,null,null,null,null,null,null,null,null,null,null,null,null,null,null,null,null,null,null,null,null,null,null,null,null,null,null,null,null,null,null,null,null,null,null,null,null,null,null,null,null,null,null,null,null,null,null,null,null,null,null,null,null,null,null,null,null,null,null,null,null,null,null,null,null,null,null,null,null,null,null,null,null,null,null,null,null,null,null,null,null,null,null,null,null,null,null,null,null,null,null,null,null,null,null,null,null,null,null,null,null,null,null,null,null,null,null,null,null,null,null,null,null,null,null,null,null,null,null,null,null,null,null,null,null,null,null,null,null,null,null,null,null,null,null,null,null,null,null,null,null,null,null,null,null,null,null,null,null,null,null,null,null,null,null,null,null,null,null,null,null,null,null,null,null,null,null,null,null,null,null,null,null,null,null,null,null,null,null,null,null,null,null,null,null,null,null,null,null,null,null,null,null,null,null,null,null,null,null,null,null,null,null,null,null,null,null,null,null,null,null,null,null,null,null,null,null,null,null,null,null,null,null,null,null,null,null,null,null,null,null,null,null,null,null,null,null,null,null,null,null,null,null,null,null,null,null,null,null,null,null,null,null,null,null,null,null,null,null,null,null,null,null,null,null,null,null,null,null,null,null,null,null,null,null,null,null,null,null,null,null,null,null,null,null,null,null,null,null,null,null,null,null,null,null,null,null,null,null,null,null,null,null,null,null,null,null,null,null,null,null,null,null,null,null,null,null,null,null,null,null,null,null,null,null,null,null,null,null,null,null,null,null,null,null,null,null,null,null,null,null,null,null,null,null,null,null,null,null,null,null,null,null,null,null,null,null,null,null,null,null,null,null,null,null,null,null,null,null,null,null,null,null,null,null,null,null,null,null,null,null,null,null,null,null,null,null,null,null,null,null,null,null,null,null,null,null,null,null,null,null,null,null,null,null,null,null,null,null,null,null,null,null,null,null,null,null,null,null,null,null,null,null,null,null,null,null,null,null,null,null,null,null,null,null,null,null,null,null,null,null,null,null,null,null,null,null,null,null,null,null,null,null,null,null,null,null,null,null,null,null,null,null,null,null,null,null,null,null,null,null,null,null,null,null,null,null,null,null,null,null,null,null,null,null,null,null,null,null,null,null,null,null,null,null,null,null,null,null,null,null,null,null,null,null,null,null,null,null,null,null,null,null,null,null,null,null,null,null,null,null,null,null,null,null,null,null,null,null,null,null,null,null,null,null,null,null,null,null,null,null,null,null,null,null,null,null,null,null,null,null,null,null,null,null,null,null,null,null,null,null,null,null,null,null,null,null,null,null,null,null,null,null,null,null,null,null,null,null,null,null,null,null,null,null,null,null,null,null,null,null,null,null,null,null,null,null,null,null,null,null,null,null,null,null,null,null,null,null,null,null,null,null,null,null,null,null,null,null,null,null,null,null,null,null,null,null,null,null,null,null,null,null,null,null,null,null,null,null,null,null,null,null,null,null,null,null,null,null,null,null,null,null,null,null,null,null,null,null,null,null,null,null,null,null,null,null,null,null,null,null,null,null,null,null,null,null,null,null,null,null,null,null,null,null,null,null,null,null,null,null,null,null,null,null,null,null,null,null,null,null,null,null,null,null,null,null,null,null,null,null,null,null,null,null,null,null,null,null,null,null,null,null,null,null,null,null,null,null,null,null,null,null,null,null,null,null,null,null,null,null,null,null,null,null,null,null,null,null,null,null,null,null,null,null,null,null,null,null,null,null,null,null,null,null,null,null,null,null,null,null,null,null,null,null,null,null,null,null,null,null,null,null,null,null,null,null,null,null,null,null,null,null,null,null,null,null,null,null,null,null,null,null,null,null,null,null,null,null,null,null,null,null,null,null,null,null,null,null,null,null,null,null,null,null,null,null,null,null,null,null,null,null,null,null,null,null,null,null,null,null,null,null,null,null,null,null,null,null,null,null,null,null,null,null,null,null,null,null,null,null,null,null,null,null,null,null,null,null,null,null,null,null,null,null,null,null,null,null,null,null,null,null,null,null,null,null,null,null,null,null,null,null,null,null,null,null,null,null,null,null,null,null,null,null,null,null,null,null,null,null,null,null,null,null,null,null,null,null,null,null,null,null,null,null,null,null,null,null,null,null,null,null,null,null,null,null,null,null,null,null,null,null,null,null,null,null,null,null,null,null,null,null,null,null,null,null,null,null,null,null,null,null,null,null,null,null,null,null,null,null,null,null,null,null,null,null,null,null,null,null,null,null,null,null,null,null,null,null,null,null,null,null,null,null,null,null,null,null,null,null,null,null,null,null,null,null,null,null,null,null,null,null,null,null,null,null,null,null,null,null,null,null,null,null,null,null,null,null,null,null,null,null,null,null,null,null,null,null,null,null,null,null,null,null,null,null,null,null,null,null,null,null,null,null,null,null,null,null,null,null,null,null,null,null,null,null,null,null,null,null,null,null,null,null,null,null,null,null,null,null,null,null,null,null,null,null,null,null,null,null,null,null,null,null,null,null,null,null,null,null,null,null,null,null,null,null,null,null,null,null,null,null,null,null,null,null,null,null,null,null,null,null,null,null,null,null,null,null,null,null,null,null,null,null,null,null,null,null,null,null,null,null,null,null,null,null,null,null,null,null,null,null,null,null,null,null,null,null,null,null,null,null,null,null,null,null,null,null,null,null,null,null,null,null,null,null,null,null,null,null,null,null,null,null,null,null,null,null,null,null,null,null,null,null,null,null,null,null,null,null,null,null,null,null,null,null,null,null,null,null,null,null,null,null,null,null,null,null,null,null,null,null,null,null,null,null,null,null,null,null,null,null,null,null,null,null,null,null,null,null,null,null,null,null,null,null,null,null,null,null,null,null,null,null,null,null,null,null,null,null,null,null,null,null,null,null,null,null,null,null,null,null,null,null,null,null,null,null,null,null,null,null,null,null,null,null,null,null,null,null,null,null,null,null,null,null,null,null,null,null,null,null,null,null,null,null,null,null,null,null,null,null,null,null,null,null,null,null,null,null,null,null,null,null,null,null,null,null,null,null,null,null,null,null,null,null,null,null,null,null,null,null,null,null,null,null,null,null,null,null,null,null,null,null,null,null,null,null,null,null,null,null,null,null,null,null,null,null,null,null,null,null,null,null,null,null,null,null,null,null,null,null,null,null,null,null,null,null,null,null,null,null,null,null,null,null,null,null,null,null,null,null,null,null,null,null,null,null,null,null,null,null,null,null,null,null,null,null,null,null,null,null,null,null,null,null,null,null,null,null,null,null,null,null,null,null,null,null,null,null,null,null,null,null,null,null,null,null,null,null,null,null,null,null,null,null,null,null,null,null,null,null,null,null,null,null,null,null,null,null,null,null,null,null,null,null,null,null,null,null,null,null,null,null,null,null,null,null,null,null,null,null,null,null,null,null,null,null,null,null,null,null,null,null,null,null,null,null,null,null,null,null,null,null,null,null,null,null,null,null,null,null,null,null,null,null,null,null,null,null,null,null,null,null,null,null,null,null,null,null,null,null,null,null,null,null,null,null,null,null,null,null,null,null,null,null,null,null,null,null,null,null,null,null,null,null,null,null,null,null,null,null,null,null,null,null,null,null,null,null,null,null,null,null,null,null,null,null,null,null,null,null,null,null,null,null,null,null,null,null,null,null,null,null,null,null,null,null,null,null,null,null,null,null,null,null,null,null,null,null,null,null,null,null,null,null,null,null,null,null,null,null,null,null,null,null,null,null,null,null,null,null,null,null,null,null,null,null,null,null,null,null,null,null,null,null,null,null,null,null,null,null,null,null,null,null,null,null,null,null,null,null,null,null,null,null,null,null,null,null,null,null,null,null,null,null,null,null,null,null,null,null,null,null,null,null,null,null,null,null,null,null,null,null,null,null,null,null,null,null,null,null,null,null,null,null,null,null,null,null,null,null,null,null,null,null,null,null,null,null,null,null,null,null,null,null,null,null,null,null,null,null,null,null,null,null,null,null,null,null,null,null,null,null,null,null,null,null,null,null,null,null,null,null,null,null,null,null,null,null,null,null,null,null,null,null,null,null,null,null,null,null,null,null,null,null,null,null,null,null,null,null,null,null,null,null,null,null,null,null,null,null,null,null,null,null,null,null,null,null,null,null,null,null,null,null,null,null,null,null,null,null,null,null,null,null,null,null,null,null,null,null,null,null,null,null,null,null,null,null,null,null,null,null,null,null,null,null,null,null,null,null,null,null,null,null,null,null,null,null,null,null,null,null,null,null,null,null,null,null,null,null,null,null,null,null,null,null,null,null,null,null,null,null,null,null,null,null,null,null,null,null,null,null,null,null,null,null,null,null,null,null,null,null,null,null,null,null,null,null,null,null,null,null,null,null,null,null,null,null,null,null,null,null,null,null,null,null,null,null,null,null,null,null,null,null,null,null,null,null,null,null,null,null,null,null,null,null,null,null,null,null,null,null,null,null,null,null,null,null,null,null,null,null,null,null,null,null,null,null,null,null,null,null,null,null,null,null,null,null,null,null,null,null,null,null,null,null,null,null,null,null,null,null,null,null,null,null,null,null,null,null,null,null,null,null,null,null,null,null,null,null,null,null,null,null,null,null,null,null,null,null,null,null,null,null,null,null,null,null,null,null,null,null,null,null,null,null,null,null,null,null,null,null,null,null,null,null,null,null,null,null,null,null,null,null,null,null,null,null,null,null,null,null,null,null,null,null,null,null,null,null,null,null,null,null,null,null,null,null,null,null,null,null,null,null,null,null,null,null,null,null,null,null,null,null,null,null,null,null,null,null,null,null,null,null,null,null,null,null,null,null,null,null,null,null,null,null,null,null,null,null,null,null,null,null,null,null,null,null,null,null,null,null,null,null,null,null,null,null,null,null,null,null,null,null,null,null,null,null,null,null,null,null,null,null,null,null,null,null,null,null,null,null,null,null,null,null,null,null,null,null,null,null,null,null,null,null,null,null,null,null,null,null,null,null,null,null,null,null,null,null,null,null,null,null,null,null,null,null,null,null,null,null,null,null,null,null,null,null,null,null,null,null,null,null,null,null,null,null,null,null,null,null,null,null,null,null,null,null,null,null,null,null,null,null,null,null,null,null,null,null,null,null,null,null,null,null,null,null,null,null,null,null,null,null,null,null,null,null,null,null,null,null,null,null,null,null,null,null,null,null,null,null,null,null,null,null,null,null,null,null,null,null,null,null,null,null,null,null,null,null,null,null,null,null,null,null,null,null,null,null,null,null,null,null,null,null,null,null,null,null,null,null,null,null,null,null,null,null,null,null,null,null,null,null,null,null,null,null,null,null,null,null,null,null,null,null,null,null,null,null,null,null,null,null,null,null,null,null,null,null,null,null,null,null,null,null,null,null,null,null,null,null,null,null,null,null,null,null,null,null,null,null,null,null,null,null,null,null,null,null,null,null,null,null,null,null,null,null,null,null,null,null,null,null,null,null,null,null,null,null,null,null,null,null,null,null,null,null,null,null,null,null,null,null,null,null,null,null,null,null,null,null,null,null,null,null,null,null,null,null,null,null,null,null,null,null,null,null,null,null,null,null,null,null,null,null,null,null,null,null,null,null,null,null,null,null,null,null,null,null,null,null,null,null,null,null,null,null,null,null,null,null,null,null,null,null,null,null,null,null,null,null,null,null,null,null,null,null,null,null,null,null,null,null,null,null,null,null,null,null,null,null,null,null,null,null,null,null,null,null,null,null,null,null,null,null,null,null,null,null,null,null,null,null,null,null,null,null,null,null,null,null,null,null,null,null,null,null,null,null,null,null,null,null,null,null,null,null,null,null,null,null,null,null,null,null,null,null,null,null,null,null,null,null,null,null,null,null,null,null,null,null,null,null,null,null,null,null,null,null,null,null,null,null,null,null,null,null,null,null,null,null,null,null,null,null,null,null,null,null,null,null,null,null,null,null,null,null,null,null,null,null,null,null,null,null,null,null,null,null,null,null,null,null,null,null,null,null,null,null,null,null,null,null,null,null,null,null,null,null,null,null,null,null,null,null,null,null,null,null,null,null,null,null,null,null,null,null,null,null,null,null,null,null,null,null,null,null,null,null,null,null,null,null,null,null,null,null,null,null,null,null,null,null,null,null,null,null,null,null,null,null,null,null,null,null,null,null,null,null,null,null,null,null,null,null,null,null,null,null,null,null,null,null,null,null,null,null,null,null,null,null,null,null,null,null,null,null,null,null,null,null,null,null,null,null,null,null,null,null,null,null,null,null,null,null,null,null,null,null,null,null,null,null,null,null,null,null,null,null,null,null,null,null,null,null,null,null,null,null,null,null,null,null,null,null,null,null,null,null,null,null,null,null,null,null,null,null,null,null,null,null,null,null,null,null,null,null,null,null,null,null,null,null,null,null,null,null,null,null,null,null,null,null,null,null,null,null,null,null,null,null,null,null,null,null,null,null,null,null,null,null,null,null,null,null,null,null,null,null,null,null,null,null,null,null,null,null,null,null,null,null,null,null,null,null,null,null,null,null,null,null,null,null,null,null,null,null,null,null,null,null,null,null,null,null,null,null,null,null,null,null,null,null,null,null,null,null,null,null,null,null,null,null,null,null,null,null,null,null,null,null,null,null,null,null,null,null,null,null,null,null,null,null,null,null,null,null,null,null,null,null,null,null,null,null,null,null,null,null,null,null,null,null,null,null,null,null,null,null,null,null,null,null,null,null,null,null,null,null,null,null,null,null,null,null,null,null,null,null,null,null,null,null,null,null,null,null,null,null,null,null,null,null,null,null,null,null,null,null,null,null,null,null,null,null,null,null,null,null,null,null,null,null,null,null,null,null,null,null,null,null,null,null,null,null,null,null,null,null,null,null,null,null,null,null,null,null,null,null,null,null,null,null,null,null,null,null,null,null,null,null,null,null,null,null,null,null,null,null,null,null,null,null,null,null,null,null,null,null,null,null,null,null,null,null,null,null,null,null,null,null,null,null,null,null,null,null,null,null,null,null,null,null,null,null,null,null,null,null,null,null,null,null,null,null,null,null,null,null,null,null,null,null,null,null,null,null,null,null,null,null,null,null,null,null,null,null,null,null,null,null,null,null,null,null,null,null,null,null,null,null,null,null,null,null,null,null,null,null,null,null,null,null,null,null,null,null,null,null,null,null,null,null,null,null,null,null,null,null,null,null,null,null,null,null,null,null,null,null,null,null,null,null,null,null,null,null,null,null,null,null,null,null,null,null,null,null,null,null,null,null,null,null,null,null,null,null,null,null,null,null,null,null,null,null,null,null,null,null,null,null,null,null,null,null,null,null,null,null,null,null,null,null,null,null,null,null,null,null,null,null,null,null,null,null,null,null,null,null,null,null,null,null,null,null,null,null,null,null,null,null,null,null,null,null,null,null,null,null,null,null,null,null,null,null,null,null,null,null,null,null,null,null,null,null,null,null,null,null,null,null,null,null,null,null,null,null,null,null,null,null,null,null,null,null,null,null,null,null,null,null,null,null,null,null,null,null,null,null,null,null,null,null,null,null,null,null,null,null,null,null,null,null,null,null,null,null,null,null,null,null,null,null,null,null,null,null,null,null,null,null,null,null,null,null,null,null,null,null,null,null,null,null,null,null,null,null,null,null,null,null,null,null,null,null,null,null,null,null,null,null,null,null,null,null,null,null,null,null,null,null,null,null,null,null,null,null,null,null,null,null,null,null,null,null,null,null,null,null,null,null,null,null,null,null,null,null,null,null,null,null,null,null,null,null,null,null,null,null,null,null,null,null,null,null,null,null,null,null,null,null,null,null,null,null,null,null,null,null,null,null,null,null,null,null,null,null,null,null,null,null,null,null,null,null,null,null,null,null,null,null,null,null,null,null,null,null,null,null,null,null,null,null,null,null,null,null,null,null,null,null,null,null,null,null,null,null,null,null,null,null,null,null,null,null,null,null,null,null,null,null,null,null,null,null,null,null,null,null,null,null,null,null,null,null,null,null,null,null,null,null,null,null,null,null,null,null,null,null,null,null,null,null,null,null,null,null,null,null,null,null,null,null,null,null,null,null,null,null,null,null,null,null,null,null,null,null,null,null,null,null,null,null,null,null,null,null,null,null,null,null,null,null,null,null,null,null,null,null,null,null,null,null,null,null,null,null,null,null,null,null,null,null,null,null,null,null,null,null,null,null,null,null,null,null,null,null,null,null,null,null,null,null,null,null,null,null,null,null,null,null,null,null,null,null,null,null,null,null,null,null,null,null,null,null,null,null,null,null,null,null,null,null,null,null,null,null,null,null,null,null,null,null,null,null,null,null,null,null,null,null,null,null,null,null,null,null,null,null,null,null,null,null,null,null,null,null,null,null,null,null,null,null,null,null,null,null,null,null,null,null,null,null,null,null,null,null,null,null,null,null,null,null,null,null,null,null,null,null,null,null,null,null,null,null,null,null,null,null,null,null,null,null,null,null,null,null,null,null,null,null,null,null,null,null,null,null,null,null,null,null,null,null,null,null,null,null,null,null,null,null,null,null,null,null,null,null,null,null,null,null,null,null,null,null,null,null,null,null,null,null,null,null,null,null,null,null,null,null,null,null,null,null,null,null,null,null,null,null,null,null,null,null,null,null,null,null,null,null,null,null,null,null,null,null,null,null,null,null,null,null,null,null,null,null,null,null,null,null,null,null,null,null,null,null,null,null,null,null,null,null,null,null,null,null,null,null,null,null,null,null,null,null,null,null,null,null,null,null,null,null,null,null,null,null,null,null,null,null,null,null,null,null,null,null,null,null,null,null,null,null,null,null,null,null,null,null,null,null,null,null,null,null,null,null,null,null,null,null,null,null,null,null,null,null,null,null,null,null,null,null,null,null,null,null,null,null,null,null,null,null,null,null,null,null,null,null,null,null,null,null,null,null,null,null,null,null,null,null,null,null,null,null,null,null,null,null,null,null,null,null,null,null,null,null,null,null,null,null,null,null,null,null,null,null,null,null,null,null,null,null,null,null,null,null,null,null,null,null,null,null,null,null,null,null,null,null,null,null,null,null,null,null,null,null,null,null,null,null,null,null,null,null,null,null,null,null,null,null,null,null,null,null,null,null,null,null,null,null,null,null,null,null,null,null,null,null,null,null,null,null,null,null,null,null,null,null,null,null,null,null,null,null,null,null,null,null,null,null,null,null,null,null,null,null,null,null,null,null,null,null,null,null,null,null,null,null,null,null,null,null,null,null,null,null,null,null,null,null,null,null,null,null,null,null,null,null,null,null,null,null,null,null,null,null,null,null,null,null,null,null,null,null,null,null,null,null,null,null,null,null,null,null,null,null,null,null,null,null,null,null,null,null,null,null,null,null,null,null,null,null,null,null,null,null,null,null,null,null,null,null,null,null,null,null,null,null,null,null,null,null,null,null,null,null,null,null,null,null,null,null,null,null,null,null,null,null,null,null,null,null,null,null,null,null,null,null,null,null,null,null,null,null,null,null,null,null,null,null,null,null,null,null,null,null,null,null,null,null,null,null,null,null,null,null,null,null,null,null,null,null,null,null,null,null,null,null,null,null,null,null,null,null,null,null,null,null,null,null,null,null,null,null,null,null,null,null,null,null,null,null,null,null,null,null,null,null,null,null,null,null,null,null,null,null,null,null,null,null,null,null,null,null,null,null,null,null,null,null,null,null,null,null,null,null,null,null,null,null,null,null,null,null,null,null,null,null,null,null,null,null,null,null,null,null,null,null,null,null,null,null,null,null,null,null,null,null,null,null,null,null,null,null,null,null,null,null,null,null,null,null,null,null,null,null,null,null,null,null,null,null,null,null,null,null,null,null,null,null,null,null,null,null,null,null,null,null,null,null,null,null,null,null,null,null,null,null,null,null,null,null,null,null,null,null,null,null,null,null,null,null,null,null,null,null,null,null,null,null,null,null,null,null,null,null,null,null,null,null,null,null,null,null,null,null,null,null,null,null,null,null,null,null,null,null,null,null,null,null,null,null,null,null,null,null,null,null,null,null,null,null,null,null,null,null,null,null,null,null,null,null,null,null,null,null,null,null,null,null,null,null,null,null,null,null,null,null,null,null,null,null,null,null,null,null,null,null,null,null,null,null,null,null,null,null,null,null,null,null,null,null,null,null,null,null,null,null,null,null,null,null,null,null,null,null,null,null,null,null,null,null,null,null,null,null,null,null,null,null,null,null,null,null,null,null,null,null,null,null,null,null,null,null,null,null,null,null,null,null,null,null,null,null,null,null,null,null,null,null,null,null,null,null,null,null,null,null,null,null,null,null,null,null,null,null,null,null,null,null,null,null,null,null,null,null,null,null,null,null,null,null,null,null,null,null,null,null,null,null,null,null,null,null,null,null,null,null,null,null,null,null,null,null,null,null,null,null,null,null,null,null,null,null,null,null,null,null,null,null,null,null,null,null,null,null,null,null,null,null,null,null,null,null,null,null,null,null,null,null,null,null,null,null,null,null,null,null,null,null,null,null,null,null,null,null,null,null,null,null,null,null,null,null,null,null,null,null,null,null,null,null,null,null,null,null,null,null,null,null,null,null,null,null,null,null,null,null,null,null,null,null,null,null,null,null,null,null,null,null,null,null,null,null,null,null,null,null,null,null,null,null,null,null,null,null,null,null,null,null,null,null,null,null,null,null,null,null,null,null,null,null,null,null,null,null,null,null,null,null,null,null,null,null,null,null,null,null,null,null,null,null,null,null,null,null,null,null,null,null,null,null,null,null,null,null,null,null,null,null,null,null,null,null,null,null,null,null,null,null,null,null,null,null,null,null,null,null,null,null,null,null,null,null,null,null,null,null,null,null,null,null,null,null,null,null,null,null,null,null,null,null,null,null,null,null,null,null,null,null,null,null,null,null,null,null,null,null,null,null,null,null,null,null,null,null,null,null,null,null,null,null,null,null,null,null,null,null,null,null,null,null,null,null,null,null,null,null,null,null,null,null,null,null,null,null,null,null,null,null,null,null,null,null,null,null,null,null,null,null,null,null,null,null,null,null,null,null,null,null,null,null,null,null,null,null,null,null,null,null,null,null,null,null,null,null,null,null,null,null,null,null,null,null,null,null,null,null,null,null,null,null,null,null,null,null,null,null,null,null,null,null,null,null,null,null,null,null,null,null,null,null,null,null,null,null,null,null,null,null,null,null,null,null,null,null,null,null,null,null,null,null,null,null,null,null,null,null,null,null,null,null,null,null,null,null,null,null,null,null,null,null,null,null,null,null,null,null,null,null,null,null,null,null,null,null,null,null,null,null,null,null,null,null,null,null,null,null,null,null,null,null,null,null,null,null,null,null,null,null,null,null,null,null,null,null,null,null,null,null,null,null,null,null,null,null,null,null,null,null,null,null,null,null,null,null,null,null,null,null,null,null,null,null,null,null,null,null,null,null,null,null,null,null,null,null,null,null,null,null,null,null,null,null,null,null,null,null,null,null,null,null,null,null,null,null,null,null,null,null,null,null,null,null,null,null,null,null,null,null,null,null,null,null,null,null,null,null,null,null,null,null,null,null,null,null,null,null,null,null,null,null,null,null,null,null,null,null,null,null,null,null,null,null,null,null,null,null,null,null,null,null,null,null,null,null,null,null,null,null,null,null,null,null,null,null,null,null,null,null,null,null,null,null,null,null,null,null,null,null,null,null,null,null,null,null,null,null,null,null,null,null,null,null,null,null,null,null,null,null,null,null,null,null,null,null,null,null,null,null,null,null,null,null,null,null,null,null,null,null,null,null,null,null,null,null,null,null,null,null,null,null,null,null,null,null,null,null,null,null,null,null,null,null,null,null,null,null,null,null,null,null,null,null,null,null,null,null,null,null,null,null,null,null,null,null,null,null,null,null,null,null,null,null,null,null,null,null,null,null,null,null,null,null,null,null,null,null,null,null,null,null,null,null,null,null,null,null,null,null,null,null,null,null,null,null,null,null,null,null,null,null,null,null,null,null,null,null,null,null,null,null,null,null,null,null,null,null,null,null,null,null,null,null,null,null,null,null,null,null,null,null,null,null,null,null,null,null,null,null,null,null,null,null,null,null,null,null,null,null,null,null,null,null,null,null,null,null,null,null,null,null,null,null,null,null,null,null,null,null,null,null,null,null,null,null,null,null,null,null,null,null,null,null,null,null,null,null,null,null,null,null,null,null,null,null,null,null,null,null,null,null,null,null,null,null,null,null,null,null,null,null,null,null,null,null,null,null,null,null,null,null,null,null,null,null,null,null,null,null,null,null,null,null,null,null,null,null,null,null,null,null,null,null,null,null,null,null,null,null,null,null,null,null,null,null,null,null,null,null,null,null,null,null,null,null,null,null,null,null,null,null,null,null,null,null,null,null,null,null,null,null,null,null,null,null,null,null,null,null,null,null,null,null,null,null,null,null,null,null,null,null,null,null,null,null,null,null,null,null,null,null,null,null,null,null,null,null,null,null,null,null,null,null,null,null,null,null,null,null,null,null,null,null,null,null,null,null,null,null,null,null,null,null,null,null,null,null,null,null,null,null,null,null,null,null,null,null,null,null,null,null,null,null,null,null,null,null,null,null,null,null,null,null,null,null,null,null,null,null,null,null,null,null,null,null,null,null,null,null,null,null,null,null,null,null,null,null,null,null,null,null,null,null,null,null,null,null,null,null,null,null,null,null,null,null,null,null,null,null,null,null,null,null,null,null,null,null,null,null,null,null,null,null,null,null,null,null,null,null,null,null,null,null,null,null,null,null,null,null,null,null,null,null,null,null,null,null,null,null,null,null,null,null,null,null,null,null,null,null,null,null,null,null,null,null,null,null,null,null,null,null,null,null,null,null,null,null,null,null,null,null,null,null,null,null,null,null,null,null,null,null,null,null,null,null,null,null,null,null,null,null,null,null,null,null,null,null,null,null,null,null,null,null,null,null,null,null,null,null,null,null,null,null,null,null,null,null,null,null,null,null,null,null,null,null,null,null,null,null,null,null,null,null,null,null,null,null,null,null,null,null,null,null,null,null,null,null,null,null,null,null,null,null,null,null,null,null,null,null,null,null,null,null,null,null,null,null,null,null,null,null,null,null,null,null,null,null,null,null,null,null,null,null,null,null,null,null,null,null,null,null,null,null,null,null,null,null,null,null,null,null,null,null,null,null,null,null,null,null,null,null,null,null,null,null,null,null,null,null,null,null,null,null,null,null,null,null,null,null,null,null,null,null,null,null,null,null,null,null,null,null,null,null,null,null,null,null,null,null,null,null,null,null,null,null,null,null,null,null,null,null,null,null,null,null,null,null,null,null,null,null,null,null,null,null,null,null,null,null,null,null,null,null,null,null,null,null,null,null,null,null,null,null,null,null,null,null,null,null,null,null,null,null,null,null,null,null,null,null,null,null,null,null,null,null,null,null,null,null,null,null,null,null,null,null,null,null,null,null,null,null,null,null,null,null,null,null,null,null,null,null,null,null,null,null,null,null,null,null,null,null,null,null,null,null,null,null,null,null,null,null,null,null,null,null,null,null,null,null,null,null,null,null,null,null,null,null,null,null,null,null,null,null,null,null,null,null,null,null,null,null,null,null,null,null,null,null,null,null,null,null,null,null,null,null,null,null,null,null,null,null,null,null,null,null,null,null,null,null,null,null,null,null,null,null,null,null,null,null,null,null,null,null,null,null,null,null,null,null,null,null,null,null,null,null,null,null,null,null,null,null,null,null,null,null,null,null,null,null,null,null,null,null,null,null,null,null,null,null,null,null,null,null,null,null,null,null,null,null,null,null,null,null,null,null,null,null,null,null,null,null,null,null,null,null,null,null,null,null,null,null,null,null,null,null,null,null,null,null,null,null,null,null,null,null,null,null,null,null,null,null,null,null,null,null,null,null,null,null,null,null,null,null,null,null,null,null,null,null,null,null,null,null,null,null,null,null,null,null,null,null,null,null,null,null,null,null,null,null,null,null,null,null,null,null,null,null,null,null,null,null,null,null,null,null,null,null,null,null,null,null,null,null,null,null,null,null,null,null,null,null,null,null,null,null,null,null,null,null,null,null,null,null,null,null,null,null,null,null,null,null,null,null,null,null,null,null,null,null,null,null,null,null,null,null,null,null,null,null,null,null,null,null,null,null,null,null,null,null,null,null,null,null,null,null,null,null,null,null,null,null,null,null,null,null,null,null,null,null,null,null,null,null,null,null,null,null,null,null,null,null,null,null,null,null,null,null,null,null,null,null,null,null,null,null,null,null,null,null,null,null,null,null,null,null,null,null,null,null,null,null,null,null,null,null,null,null,null,null,null,null,null,null,null,null,null,null,null,null,null,null,null,null,null,null,null,null,null,null,null,null,null,null,null,null,null,null,null,null,null,null,null,null,null,null,null,null,null,null,null,null,null,null,null,null,null,null,null,null,null,null,null,null,null,null,null,null,null,null,null,null,null,null,null,null,null,null,null,null,null,null,null,null,null,null,null,null,null,null,null,null,null,null,null,null,null,null,null,null,null,null,null,null,null,null,null,null,null,null,null,null,null,null,null,null,null,null,null,null,null,null,null,null,null,null,null,null,null,null,null,null,null,null,null,null,null,null,null,null,null,null,null,null,null,null,null,null,null,null,null,null,null,null,null,null,null,null,null,null,null,null,null,null,null,null,null,null,null,null,null,null,null,null,null,null,null,null,null,null,null,null,null,null,null,null,null,null,null,null,null,null,null,null,null,null,null,null,null,null,null,null,null,null,null,null,null,null,null,null,null,null,null,null,null,null,null,null,null,null,null,null,null,null,null,null,null,null,null,null,null,null,null,null,null,null,null,null,null,null,null,null,null,null,null,null,null,null,null,null,null,null,null,null,null,null,null,null,null,null,null,null,null,null,null,null,null,null,null,null,null,null,null,null,null,null,null,null,null,null,null,null,null,null,null,null,null,null,null,null,null,null,null,null,null,null,null,null,null,null,null,null,null,null,null,null,null,null,null,null,null,null,null,null,null,null,null,null,null,null,null,null,null,null,null,null,null,null,null,null,null,null,null,null,null,null,null,null,null,null,null,null,null,null,null,null,null,null,null,null,null,null,null,null,null,null,null,null,null,null,null,null,null,null,null,null,null,null,null,null,null,null,null,null,null,null,null,null,null,null,null,null,null,null,null,null,null,null,null,null,null,null,null,null,null,null,null,null,null,null,null,null,null,null,null,null,null,null,null,null,null,null,null,null,null,null,null,null,null,null,null,null,null,null,null,null,null,null,null,null,null,null,null,null,null,null,null,null,null,null,null,null,null,null,null,null,null,null,null,null,null,null,null,null,null,null,null,null,null,null,null,null,null,null,null,null,null,null,null,null,null,null,null,null,null,null,null,null,null,null,null,null,null,null,null,null,null,null,null,null,null,null,null,null,null,null,null,null,null,null,null,null,null,null,null,null,null,null,null,"q1w2e3r4"]

{"sheet":"СОК","index":3,"n_rows":6,"n_cols":32,"rows_kept":6,"cut":false,"hidden":true,"merged":[]}
[{"$f":"SUM(C3:AF6)","v":0},null,"2013-08-01","2013-08-02","2013-08-03","2013-08-04","2013-08-05","2013-08-06","2013-08-07","2013-08-08","2013-08-09","2013-08-10","2013-08-11","2013-08-12","2013-08-13","2013-08-14","2013-08-15","2013-08-16","2013-08-17","2013-08-18","2013-08-19","2013-08-20","2013-08-21","2013-08-22","2013-08-23","2013-08-24","2013-08-25","2013-08-26","2013-08-27","2013-08-28","2013-08-29","2013-08-30"]
[null,null,{"$f":"SUM(C3:C6)","v":0},{"$f":"SUM(D3:D6)","v":0},0,0,0,0,0,0,0,0,0,0,0,0,0,0,0,0,0,0,0,0,0,0,0,0,0,0,0,0]
["Гришай Марина",{"$f":"SUM(C3:AF3)","v":0},{"$f":"COUNTIFS(Мониторинг!$B$5:$B$1048576,$A3,Мониторинг!$A$5:$A$1048576,C$1)","v":0},{"$f":"COUNTIFS(Мониторинг!$B$5:$B$1048576,$A3,Мониторинг!$A$5:$A$1048576,D$1)","v":0},{"$f":"COUNTIFS(Мониторинг!$B$5:$B$1048576,$A3,Мониторинг!$A$5:$A$1048576,E$1)","v":0},{"$f":"COUNTIFS(Мониторинг!$B$5:$B$1048576,$A3,Мониторинг!$A$5:$A$1048576,F$1)","v":0},{"$f":"COUNTIFS(Мониторинг!$B$5:$B$1048576,$A3,Мониторинг!$A$5:$A$1048576,G$1)","v":0},{"$f":"COUNTIFS(Мониторинг!$B$5:$B$1048576,$A3,Мониторинг!$A$5:$A$1048576,H$1)","v":0},{"$f":"COUNTIFS(Мониторинг!$B$5:$B$1048576,$A3,Мониторинг!$A$5:$A$1048576,I$1)","v":0},{"$f":"COUNTIFS(Мониторинг!$B$5:$B$1048576,$A3,Мониторинг!$A$5:$A$1048576,J$1)","v":0},{"$f":"COUNTIFS(Мониторинг!$B$5:$B$1048576,$A3,Мониторинг!$A$5:$A$1048576,K$1)","v":0},{"$f":"COUNTIFS(Мониторинг!$B$5:$B$1048576,$A3,Мониторинг!$A$5:$A$1048576,L$1)","v":0},{"$f":"COUNTIFS(Мониторинг!$B$5:$B$1048576,$A3,Мониторинг!$A$5:$A$1048576,M$1)","v":0},{"$f":"COUNTIFS(Мониторинг!$B$5:$B$1048576,$A3,Мониторинг!$A$5:$A$1048576,N$1)","v":0},{"$f":"COUNTIFS(Мониторинг!$B$5:$B$1048576,$A3,Мониторинг!$A$5:$A$1048576,O$1)","v":0},{"$f":"COUNTIFS(Мониторинг!$B$5:$B$1048576,$A3,Мониторинг!$A$5:$A$1048576,P$1)","v":0},{"$f":"COUNTIFS(Мониторинг!$B$5:$B$1048576,$A3,Мониторинг!$A$5:$A$1048576,Q$1)","v":0},{"$f":"COUNTIFS(Мониторинг!$B$5:$B$1048576,$A3,Мониторинг!$A$5:$A$1048576,R$1)","v":0},{"$f":"COUNTIFS(Мониторинг!$B$5:$B$1048576,$A3,Мониторинг!$A$5:$A$1048576,S$1)","v":0},{"$f":"COUNTIFS(Мониторинг!$B$5:$B$1048576,$A3,Мониторинг!$A$5:$A$1048576,T$1)","v":0},{"$f":"COUNTIFS(Мониторинг!$B$5:$B$1048576,$A3,Мониторинг!$A$5:$A$1048576,U$1)","v":0},{"$f":"COUNTIFS(Мониторинг!$B$5:$B$1048576,$A3,Мониторинг!$A$5:$A$1048576,V$1)","v":0},{"$f":"COUNTIFS(Мониторинг!$B$5:$B$1048576,$A3,Мониторинг!$A$5:$A$1048576,W$1)","v":0},{"$f":"COUNTIFS(Мониторинг!$B$5:$B$1048576,$A3,Мониторинг!$A$5:$A$1048576,X$1)","v":0},{"$f":"COUNTIFS(Мониторинг!$B$5:$B$1048576,$A3,Мониторинг!$A$5:$A$1048576,Y$1)","v":0},{"$f":"COUNTIFS(Мониторинг!$B$5:$B$1048576,$A3,Мониторинг!$A$5:$A$1048576,Z$1)","v":0},{"$f":"COUNTIFS(Мониторинг!$B$5:$B$1048576,$A3,Мониторинг!$A$5:$A$1048576,AA$1)","v":0},{"$f":"COUNTIFS(Мониторинг!$B$5:$B$1048576,$A3,Мониторинг!$A$5:$A$1048576,AB$1)","v":0},{"$f":"COUNTIFS(Мониторинг!$B$5:$B$1048576,$A3,Мониторинг!$A$5:$A$1048576,AC$1)","v":0},{"$f":"COUNTIFS(Мониторинг!$B$5:$B$1048576,$A3,Мониторинг!$A$5:$A$1048576,AD$1)","v":0},{"$f":"COUNTIFS(Мониторинг!$B$5:$B$1048576,$A3,Мониторинг!$A$5:$A$1048576,AE$1)","v":0},{"$f":"COUNTIFS(Мониторинг!$B$5:$B$1048576,$A3,Мониторинг!$A$5:$A$1048576,AF$1)","v":0}]
["Дураніна Ольга",{"$f":"SUM(C4:AF4)","v":0},{"$f":"COUNTIFS(Мониторинг!$B$5:$B$1048576,$A4,Мониторинг!$A$5:$A$1048576,C$1)","v":0},{"$f":"COUNTIFS(Мониторинг!$B$5:$B$1048576,$A4,Мониторинг!$A$5:$A$1048576,D$1)","v":0},{"$f":"COUNTIFS(Мониторинг!$B$5:$B$1048576,$A4,Мониторинг!$A$5:$A$1048576,E$1)","v":0},{"$f":"COUNTIFS(Мониторинг!$B$5:$B$1048576,$A4,Мониторинг!$A$5:$A$1048576,F$1)","v":0},{"$f":"COUNTIFS(Мониторинг!$B$5:$B$1048576,$A4,Мониторинг!$A$5:$A$1048576,G$1)","v":0},{"$f":"COUNTIFS(Мониторинг!$B$5:$B$1048576,$A4,Мониторинг!$A$5:$A$1048576,H$1)","v":0},{"$f":"COUNTIFS(Мониторинг!$B$5:$B$1048576,$A4,Мониторинг!$A$5:$A$1048576,I$1)","v":0},{"$f":"COUNTIFS(Мониторинг!$B$5:$B$1048576,$A4,Мониторинг!$A$5:$A$1048576,J$1)","v":0},{"$f":"COUNTIFS(Мониторинг!$B$5:$B$1048576,$A4,Мониторинг!$A$5:$A$1048576,K$1)","v":0},{"$f":"COUNTIFS(Мониторинг!$B$5:$B$1048576,$A4,Мониторинг!$A$5:$A$1048576,L$1)","v":0},{"$f":"COUNTIFS(Мониторинг!$B$5:$B$1048576,$A4,Мониторинг!$A$5:$A$1048576,M$1)","v":0},{"$f":"COUNTIFS(Мониторинг!$B$5:$B$1048576,$A4,Мониторинг!$A$5:$A$1048576,N$1)","v":0},{"$f":"COUNTIFS(Мониторинг!$B$5:$B$1048576,$A4,Мониторинг!$A$5:$A$1048576,O$1)","v":0},{"$f":"COUNTIFS(Мониторинг!$B$5:$B$1048576,$A4,Мониторинг!$A$5:$A$1048576,P$1)","v":0},{"$f":"COUNTIFS(Мониторинг!$B$5:$B$1048576,$A4,Мониторинг!$A$5:$A$1048576,Q$1)","v":0},{"$f":"COUNTIFS(Мониторинг!$B$5:$B$1048576,$A4,Мониторинг!$A$5:$A$1048576,R$1)","v":0},{"$f":"COUNTIFS(Мониторинг!$B$5:$B$1048576,$A4,Мониторинг!$A$5:$A$1048576,S$1)","v":0},{"$f":"COUNTIFS(Мониторинг!$B$5:$B$1048576,$A4,Мониторинг!$A$5:$A$1048576,T$1)","v":0},{"$f":"COUNTIFS(Мониторинг!$B$5:$B$1048576,$A4,Мониторинг!$A$5:$A$1048576,U$1)","v":0},{"$f":"COUNTIFS(Мониторинг!$B$5:$B$1048576,$A4,Мониторинг!$A$5:$A$1048576,V$1)","v":0},{"$f":"COUNTIFS(Мониторинг!$B$5:$B$1048576,$A4,Мониторинг!$A$5:$A$1048576,W$1)","v":0},{"$f":"COUNTIFS(Мониторинг!$B$5:$B$1048576,$A4,Мониторинг!$A$5:$A$1048576,X$1)","v":0},{"$f":"COUNTIFS(Мониторинг!$B$5:$B$1048576,$A4,Мониторинг!$A$5:$A$1048576,Y$1)","v":0},{"$f":"COUNTIFS(Мониторинг!$B$5:$B$1048576,$A4,Мониторинг!$A$5:$A$1048576,Z$1)","v":0},{"$f":"COUNTIFS(Мониторинг!$B$5:$B$1048576,$A4,Мониторинг!$A$5:$A$1048576,AA$1)","v":0},{"$f":"COUNTIFS(Мониторинг!$B$5:$B$1048576,$A4,Мониторинг!$A$5:$A$1048576,AB$1)","v":0},{"$f":"COUNTIFS(Мониторинг!$B$5:$B$1048576,$A4,Мониторинг!$A$5:$A$1048576,AC$1)","v":0},{"$f":"COUNTIFS(Мониторинг!$B$5:$B$1048576,$A4,Мониторинг!$A$5:$A$1048576,AD$1)","v":0},{"$f":"COUNTIFS(Мониторинг!$B$5:$B$1048576,$A4,Мониторинг!$A$5:$A$1048576,AE$1)","v":0},{"$f":"COUNTIFS(Мониторинг!$B$5:$B$1048576,$A4,Мониторинг!$A$5:$A$1048576,AF$1)","v":0}]
["Краснова Наталія",0,{"$f":"COUNTIFS(Мониторинг!$B$5:$B$1048576,$A5,Мониторинг!$A$5:$A$1048576,C$1)","v":0},{"$f":"COUNTIFS(Мониторинг!$B$5:$B$1048576,$A5,Мониторинг!$A$5:$A$1048576,D$1)","v":0},{"$f":"COUNTIFS(Мониторинг!$B$5:$B$1048576,$A5,Мониторинг!$A$5:$A$1048576,E$1)","v":0},{"$f":"COUNTIFS(Мониторинг!$B$5:$B$1048576,$A5,Мониторинг!$A$5:$A$1048576,F$1)","v":0},{"$f":"COUNTIFS(Мониторинг!$B$5:$B$1048576,$A5,Мониторинг!$A$5:$A$1048576,G$1)","v":0},{"$f":"COUNTIFS(Мониторинг!$B$5:$B$1048576,$A5,Мониторинг!$A$5:$A$1048576,H$1)","v":0},{"$f":"COUNTIFS(Мониторинг!$B$5:$B$1048576,$A5,Мониторинг!$A$5:$A$1048576,I$1)","v":0},{"$f":"COUNTIFS(Мониторинг!$B$5:$B$1048576,$A5,Мониторинг!$A$5:$A$1048576,J$1)","v":0},{"$f":"COUNTIFS(Мониторинг!$B$5:$B$1048576,$A5,Мониторинг!$A$5:$A$1048576,K$1)","v":0},{"$f":"COUNTIFS(Мониторинг!$B$5:$B$1048576,$A5,Мониторинг!$A$5:$A$1048576,L$1)","v":0},{"$f":"COUNTIFS(Мониторинг!$B$5:$B$1048576,$A5,Мониторинг!$A$5:$A$1048576,M$1)","v":0},{"$f":"COUNTIFS(Мониторинг!$B$5:$B$1048576,$A5,Мониторинг!$A$5:$A$1048576,N$1)","v":0},{"$f":"COUNTIFS(Мониторинг!$B$5:$B$1048576,$A5,Мониторинг!$A$5:$A$1048576,O$1)","v":0},{"$f":"COUNTIFS(Мониторинг!$B$5:$B$1048576,$A5,Мониторинг!$A$5:$A$1048576,P$1)","v":0},{"$f":"COUNTIFS(Мониторинг!$B$5:$B$1048576,$A5,Мониторинг!$A$5:$A$1048576,Q$1)","v":0},{"$f":"COUNTIFS(Мониторинг!$B$5:$B$1048576,$A5,Мониторинг!$A$5:$A$1048576,R$1)","v":0},{"$f":"COUNTIFS(Мониторинг!$B$5:$B$1048576,$A5,Мониторинг!$A$5:$A$1048576,S$1)","v":0},{"$f":"COUNTIFS(Мониторинг!$B$5:$B$1048576,$A5,Мониторинг!$A$5:$A$1048576,T$1)","v":0},{"$f":"COUNTIFS(Мониторинг!$B$5:$B$1048576,$A5,Мониторинг!$A$5:$A$1048576,U$1)","v":0},{"$f":"COUNTIFS(Мониторинг!$B$5:$B$1048576,$A5,Мониторинг!$A$5:$A$1048576,V$1)","v":0},{"$f":"COUNTIFS(Мониторинг!$B$5:$B$1048576,$A5,Мониторинг!$A$5:$A$1048576,W$1)","v":0},{"$f":"COUNTIFS(Мониторинг!$B$5:$B$1048576,$A5,Мониторинг!$A$5:$A$1048576,X$1)","v":0},{"$f":"COUNTIFS(Мониторинг!$B$5:$B$1048576,$A5,Мониторинг!$A$5:$A$1048576,Y$1)","v":0},{"$f":"COUNTIFS(Мониторинг!$B$5:$B$1048576,$A5,Мониторинг!$A$5:$A$1048576,Z$1)","v":0},{"$f":"COUNTIFS(Мониторинг!$B$5:$B$1048576,$A5,Мониторинг!$A$5:$A$1048576,AA$1)","v":0},{"$f":"COUNTIFS(Мониторинг!$B$5:$B$1048576,$A5,Мониторинг!$A$5:$A$1048576,AB$1)","v":0},{"$f":"COUNTIFS(Мониторинг!$B$5:$B$1048576,$A5,Мониторинг!$A$5:$A$1048576,AC$1)","v":0},{"$f":"COUNTIFS(Мониторинг!$B$5:$B$1048576,$A5,Мониторинг!$A$5:$A$1048576,AD$1)","v":0},{"$f":"COUNTIFS(Мониторинг!$B$5:$B$1048576,$A5,Мониторинг!$A$5:$A$1048576,AE$1)","v":0},{"$f":"COUNTIFS(Мониторинг!$B$5:$B$1048576,$A5,Мониторинг!$A$5:$A$1048576,AF$1)","v":0}]
["Рогачова Тетяна",0,{"$f":"COUNTIFS(Мониторинг!$B$5:$B$1048576,$A6,Мониторинг!$A$5:$A$1048576,C$1)","v":0},{"$f":"COUNTIFS(Мониторинг!$B$5:$B$1048576,$A6,Мониторинг!$A$5:$A$1048576,D$1)","v":0},{"$f":"COUNTIFS(Мониторинг!$B$5:$B$1048576,$A6,Мониторинг!$A$5:$A$1048576,E$1)","v":0},{"$f":"COUNTIFS(Мониторинг!$B$5:$B$1048576,$A6,Мониторинг!$A$5:$A$1048576,F$1)","v":0},{"$f":"COUNTIFS(Мониторинг!$B$5:$B$1048576,$A6,Мониторинг!$A$5:$A$1048576,G$1)","v":0},{"$f":"COUNTIFS(Мониторинг!$B$5:$B$1048576,$A6,Мониторинг!$A$5:$A$1048576,H$1)","v":0},{"$f":"COUNTIFS(Мониторинг!$B$5:$B$1048576,$A6,Мониторинг!$A$5:$A$1048576,I$1)","v":0},{"$f":"COUNTIFS(Мониторинг!$B$5:$B$1048576,$A6,Мониторинг!$A$5:$A$1048576,J$1)","v":0},{"$f":"COUNTIFS(Мониторинг!$B$5:$B$1048576,$A6,Мониторинг!$A$5:$A$1048576,K$1)","v":0},{"$f":"COUNTIFS(Мониторинг!$B$5:$B$1048576,$A6,Мониторинг!$A$5:$A$1048576,L$1)","v":0},{"$f":"COUNTIFS(Мониторинг!$B$5:$B$1048576,$A6,Мониторинг!$A$5:$A$1048576,M$1)","v":0},{"$f":"COUNTIFS(Мониторинг!$B$5:$B$1048576,$A6,Мониторинг!$A$5:$A$1048576,N$1)","v":0},{"$f":"COUNTIFS(Мониторинг!$B$5:$B$1048576,$A6,Мониторинг!$A$5:$A$1048576,O$1)","v":0},{"$f":"COUNTIFS(Мониторинг!$B$5:$B$1048576,$A6,Мониторинг!$A$5:$A$1048576,P$1)","v":0},{"$f":"COUNTIFS(Мониторинг!$B$5:$B$1048576,$A6,Мониторинг!$A$5:$A$1048576,Q$1)","v":0},{"$f":"COUNTIFS(Мониторинг!$B$5:$B$1048576,$A6,Мониторинг!$A$5:$A$1048576,R$1)","v":0},{"$f":"COUNTIFS(Мониторинг!$B$5:$B$1048576,$A6,Мониторинг!$A$5:$A$1048576,S$1)","v":0},{"$f":"COUNTIFS(Мониторинг!$B$5:$B$1048576,$A6,Мониторинг!$A$5:$A$1048576,T$1)","v":0},{"$f":"COUNTIFS(Мониторинг!$B$5:$B$1048576,$A6,Мониторинг!$A$5:$A$1048576,U$1)","v":0},{"$f":"COUNTIFS(Мониторинг!$B$5:$B$1048576,$A6,Мониторинг!$A$5:$A$1048576,V$1)","v":0},{"$f":"COUNTIFS(Мониторинг!$B$5:$B$1048576,$A6,Мониторинг!$A$5:$A$1048576,W$1)","v":0},{"$f":"COUNTIFS(Мониторинг!$B$5:$B$1048576,$A6,Мониторинг!$A$5:$A$1048576,X$1)","v":0},{"$f":"COUNTIFS(Мониторинг!$B$5:$B$1048576,$A6,Мониторинг!$A$5:$A$1048576,Y$1)","v":0},{"$f":"COUNTIFS(Мониторинг!$B$5:$B$1048576,$A6,Мониторинг!$A$5:$A$1048576,Z$1)","v":0},{"$f":"COUNTIFS(Мониторинг!$B$5:$B$1048576,$A6,Мониторинг!$A$5:$A$1048576,AA$1)","v":0},{"$f":"COUNTIFS(Мониторинг!$B$5:$B$1048576,$A6,Мониторинг!$A$5:$A$1048576,AB$1)","v":0},{"$f":"COUNTIFS(Мониторинг!$B$5:$B$1048576,$A6,Мониторинг!$A$5:$A$1048576,AC$1)","v":0},{"$f":"COUNTIFS(Мониторинг!$B$5:$B$1048576,$A6,Мониторинг!$A$5:$A$1048576,AD$1)","v":0},{"$f":"COUNTIFS(Мониторинг!$B$5:$B$1048576,$A6,Мониторинг!$A$5:$A$1048576,AE$1)","v":0},{"$f":"COUNTIFS(Мониторинг!$B$5:$B$1048576,$A6,Мониторинг!$A$5:$A$1048576,AF$1)","v":0}]

{"sheet":"Вес","index":4,"n_rows":7,"n_cols":23,"rows_kept":7,"cut":false,"hidden":false,"merged":[]}
[null,"Идентификация абонента/клиента","Обращение по имени ","Реакция на запрос ","Выяснение причины обращения (потребностей)","Внимательное и активное слушание","Предоставление достоверной информации","Навыки продаж (только в ЦО)","Предоставление вариантов решения вопроса","Оптимальное время решения запроса","Корректность регистрации заявок и обращений","Соблюдение норм и правил компании","Плавный переход к предложению","Презентация с демонстрацией выгод","Работа с возражениями","Завершение сделки ","Финальный уточняющий вопрос","Актуализация контактных данных","Формализованная прошание ","Деловая речь","Предоставление информации в доступной и понятной форме","Пояснение действий консультанта ","Дображелательность и слова вежливости"]
["отлично",4,2,2,15,5,8,7,8,5,7,2,4,6,5,0,2,2,4,2,5,2,3]
["нормально",null,null,null,null,null,null,"Н/А",null,null,null,null,2,3,2.5,0]
["плохо",0,0,0,0,0,0,null,0,0,0,0,0,0,0,0,0,0,0,0,0,0,0]
["нет необх",4,2,2,15,5,15,null,8,5,7,2,4,6,5,0,2,2,4,2,5,2,3]
["сделка","оценка","оценка","оценка","оценка","оценка","оценка","авт","оценка","оценка","оценка","оценка","авт","авт","авт","да","оценка","оценка","оценка","оценка","оценка","оценка","оценка"]
[null,null,null,null,null,null,12,13,null,null,null,null,18,19,20]