{"text_format":"1","workbook":"xlsx","n_sheets":8,"sheets":["Перечень","ежемесячный","отчет БП-5 ФЕВРАЛЬ  2014Г","Форин-Так","Евроторгинвестбанк","ЦУМ","Авком Трейд","Сигнал плюс"],"not_rendered":{"charts":0,"images":0,"macros":1,"external_links":1,"defined_names":10,"comments":0,"pivot_tables":0},"unopened":[],"bounds":{"document_bytes":16777216,"sheet_cells":100000,"rows_first":2000,"rows_last":500,"rows_between":2000,"halvings":0,"cell_chars":16384,"cell_head_chars":4096},"cells_cut":0,"cells_raw":0,"read":"whole","date_system":"1900"}

{"sheet":"Перечень","index":0,"n_rows":50,"n_cols":1,"rows_kept":50,"cut":false,"hidden":false,"merged":[]}
[]
["Автопромснаб"]
["Сигнал плюс"]
["Территор.центр соц.обслуж.населения ГУ"]
["Техимпер ЧП"]
["Товарищество собств.нежилого дома по ул Хоружей"]
["Товарищество собственников д.№3 по ул Кульман"]
["Торговый посад ООО"]
["Торгодежда ОАО"]
["Транскомлогистик ООО"]
["Транспортная инспекция"]
["Транстехника БНИИТ УП"]
["Тур Люкс"]
["Тышлек компани ЧП"]
["Тяньшивел"]
["УКС Совестского р-на"]
["УмкаБелМед"]
["Управл.комп.холдинга комплекс Дду Горизонт ОАО"]
["Управление по гражд. и миграции Мингорисполкома"]
["Управление спец. Сантехработ 927  ОАО"]
["Успешная реклама ООО"]
["Фаберлик РБ"]
["Федкон"]
["Федо-М ООО"]
["Форин-Так"]
["Фострейд"]
["ФотоХолст ООО"]
["Фредерик М-Бел ИП ООО"]
["Фэмистиль ЧУП"]
["Харды Тулс"]
["ХатГилСтрой ЧСУП"]
["Химремонт ОАО"]
["Хит-Трик ОДО"]
["ХК-Банк"]
["Хлост ООО"]
["Хозторг"]
["ХостерБай"]
["Центр института Приватизации"]
["Центр охраны труда и пром.безопасности ЗАО"]
["Центр повыш.квалификации"]
["Центр социально-правовой инф. и  обучения"]
["ЦифраТрейд плюс ЧТУП"]
["ЦУМ"]
["Чистые родники"]
["Чулочная Торговая компания"]
["ШвейТехСервис"]
["Ювелирный завод ЗОРКА ООО"]
["Юнивест-М ООО"]
["Ю-Строй ИООО"]
["Евроторгинвестбанк"]

{"sheet":"ежемесячный","index":1,"n_rows":17,"n_cols":7,"rows_kept":17,"cut":false,"hidden":false,"merged":[]}
[]
["заказные отправления",null,"дата","организация","вид услуги","количество","сумма"]
["простые отправления",null,"2014-03-03","Сигнал плюс","заказные отправления",9,0]
["посылки",null,"2014-03-03","ЦУМ","заказные отправления",1,12300]
["мелкие пакеты, ценные письма",null,"2014-03-03","ЦУМ","простые отправления",94,197400]
["EMS внутренние",null,"2014-03-03","Бизнес и Карнавал","заказные отправления",23]
["EMS международные",null,"2014-03-03","Фострейд","заказные отправления",5,86700]
["доп.услуги",null,"2014-03-03","Фострейд","простые отправления",11,21250]
["товары почты",null,"2014-03-03","Федкон","заказные отправления",5,48300]
["маркиров. прод.",null,"2014-03-03","Евроторгинвестбанк","заказные отправления",5,117900]
["переводы",null,"2014-03-03","Форин-Так","заказные отправления",13,260100]
[null,null,"2014-03-03","Форин-Так","простые отправления",3,6300]
[null,null,"2014-03-03"]
[null,null,"2014-03-03"]
[null,null,"2014-03-03"]
[null,null,"2014-03-03"]
[null,null,"2014-03-03"]

{"sheet":"отчет БП-5 ФЕВРАЛЬ  2014Г","index":2,"n_rows":56,"n_cols":28,"rows_kept":56,"cut":false,"hidden":false,"merged":[[2,0,3,0],[2,2,3,2],[2,3,3,3],[2,6,3,6],[2,4,3,4],[2,1,3,1],[2,27,3,27],[2,11,2,12],[2,13,2,14],[0,12,0,14],[1,11,1,15],[2,25,2,26],[2,15,2,16],[2,21,2,22],[2,23,2,24],[2,19,2,20],[2,17,2,18],[2,9,2,10],[2,7,2,8],[50,7,50,8],[50,9,50,10],[51,7,51,8],[51,9,51,10]]}
[null,null,"Приложение 1",null,null,null,"БИЗНЕС ПОЧТА 5",null,null,null,null,null,"Бизнес-почта 5"]
[null,null,null,null,null,null,null,null,null,null,null,"Отчет с 1 по 28 ФЕВРАЛЯ 2014г."]
["№ п/п","Признак","№ договора","Дата заключения","Лицевой счет",null,"Наименование организации","заказные отправления ",null,"простые отправления ",null,"посылки ",null,"мелкие пакеты,ценные письма",null," EMS внутренние",null,"EMS международные",null,"доп.услуги",null,"товары почты",null,"маркиров. прод.",null,"переводы",null,"Доходы по каждой организации"]
[null,null,null,null,null,null,null,"кол-во","доходы","кол-во","доходы","кол-во","доходы","кол-во","доходы","кол-во","доходы","кол-во","доходы","кол-во","доходы","кол-во","доходы","кол-во","доходы","кол-во","доходы"]
[1,null,null,null,null,null,"Автопромснаб",{"$f":"#REF!","v":{"$error":"#REF!"}},{"$f":"#REF!","v":{"$error":"#REF!"}},{"$f":"#REF!","v":{"$error":"#REF!"}},{"$f":"#REF!","v":{"$error":"#REF!"}},{"$f":"#REF!","v":{"$error":"#REF!"}},{"$f":"#REF!","v":{"$error":"#REF!"}},{"$f":"#REF!","v":{"$error":"#REF!"}},{"$f":"#REF!","v":{"$error":"#REF!"}},{"$f":"#REF!","v":{"$error":"#REF!"}},{"$f":"#REF!","v":{"$error":"#REF!"}},{"$f":"#REF!","v":{"$error":"#REF!"}},{"$f":"#REF!","v":{"$error":"#REF!"}},{"$f":"#REF!","v":{"$error":"#REF!"}},{"$f":"#REF!","v":{"$error":"#REF!"}},{"$f":"#REF!","v":{"$error":"#REF!"}},{"$f":"#REF!","v":{"$error":"#REF!"}},{"$f":"#REF!","v":{"$error":"#REF!"}},{"$f":"#REF!","v":{"$error":"#REF!"}},{"$f":"#REF!","v":{"$error":"#REF!"}},{"$f":"#REF!","v":{"$error":"#REF!"}},{"$f":"#REF!","v":{"$error":"#REF!"}}]
[2,null,null,null,null,null,"Сигнал плюс",{"$f":"'Сигнал плюс'!B36","v":9},{"$f":"'Сигнал плюс'!C36","v":0},{"$f":"'Сигнал плюс'!D36","v":0},{"$f":"'Сигнал плюс'!E36","v":0},{"$f":"'Сигнал плюс'!F36","v":0},{"$f":"'Сигнал плюс'!G36","v":0},{"$f":"'Сигнал плюс'!H36","v":0},{"$f":"'Сигнал плюс'!I36","v":0},{"$f":"'Сигнал плюс'!J36","v":0},{"$f":"'Сигнал плюс'!K36","v":0},{"$f":"'Сигнал плюс'!L36","v":0},{"$f":"'Сигнал плюс'!M36","v":0},{"$f":"'Сигнал плюс'!N36","v":0},{"$f":"'Сигнал плюс'!O36","v":0},{"$f":"'Сигнал плюс'!P36","v":0},{"$f":"'Сигнал плюс'!Q36","v":0},{"$f":"'Сигнал плюс'!R36","v":0},{"$f":"'Сигнал плюс'!S36","v":0},{"$f":"'Сигнал плюс'!T36","v":0},{"$f":"'Сигнал плюс'!U36","v":0},{"$f":"'Сигнал плюс'!V36","v":0}]
[3,null,null,null,null,null,"ЦУМ",{"$f":"ЦУМ!B36","v":1},{"$f":"ЦУМ!C36","v":12300},{"$f":"ЦУМ!D36","v":94},{"$f":"ЦУМ!E36","v":197400},{"$f":"ЦУМ!F36","v":0},{"$f":"ЦУМ!G36","v":0},{"$f":"ЦУМ!H36","v":0},{"$f":"ЦУМ!I36","v":0},{"$f":"ЦУМ!J36","v":0},{"$f":"ЦУМ!K36","v":0},{"$f":"ЦУМ!L36","v":0},{"$f":"ЦУМ!M36","v":0},{"$f":"ЦУМ!N36","v":0},{"$f":"ЦУМ!O36","v":0},{"$f":"ЦУМ!P36","v":0},{"$f":"ЦУМ!Q36","v":0},{"$f":"ЦУМ!R36","v":0},{"$f":"ЦУМ!S36","v":0},{"$f":"ЦУМ!T36","v":0},{"$f":"ЦУМ!U36","v":0},{"$f":"ЦУМ!V36","v":209700}]
[4,null,null,null,null,null,"Бизнес и Карнавал",{"$f":"#REF!","v":{"$error":"#REF!"}},{"$f":"#REF!","v":{"$error":"#REF!"}},{"$f":"#REF!","v":{"$error":"#REF!"}},{"$f":"#REF!","v":{"$error":"#REF!"}},{"$f":"#REF!","v":{"$error":"#REF!"}},{"$f":"#REF!","v":{"$error":"#REF!"}},{"$f":"#REF!","v":{"$error":"#REF!"}},{"$f":"#REF!","v":{"$error":"#REF!"}},{"$f":"#REF!","v":{"$error":"#REF!"}},{"$f":"#REF!","v":{"$error":"#REF!"}},{"$f":"#REF!","v":{"$error":"#REF!"}},{"$f":"#REF!","v":{"$error":"#REF!"}},{"$f":"#REF!","v":{"$error":"#REF!"}},{"$f":"#REF!","v":{"$error":"#REF!"}},{"$f":"#REF!","v":{"$error":"#REF!"}},{"$f":"#REF!","v":{"$error":"#REF!"}},{"$f":"#REF!","v":{"$error":"#REF!"}},{"$f":"#REF!","v":{"$error":"#REF!"}},{"$f":"#REF!","v":{"$error":"#REF!"}},{"$f":"#REF!","v":{"$error":"#REF!"}},{"$f":"#REF!","v":{"$error":"#REF!"}}]
[5,null,null,null,null,null,"Фострейд",{"$f":"#REF!","v":{"$error":"#REF!"}},{"$f":"#REF!","v":{"$error":"#REF!"}},{"$f":"#REF!","v":{"$error":"#REF!"}},{"$f":"#REF!","v":{"$error":"#REF!"}},{"$f":"#REF!","v":{"$error":"#REF!"}},{"$f":"#REF!","v":{"$error":"#REF!"}},{"$f":"#REF!","v":{"$error":"#REF!"}},{"$f":"#REF!","v":{"$error":"#REF!"}},{"$f":"#REF!","v":{"$error":"#REF!"}},{"$f":"#REF!","v":{"$error":"#REF!"}},{"$f":"#REF!","v":{"$error":"#REF!"}},{"$f":"#REF!","v":{"$error":"#REF!"}},{"$f":"#REF!","v":{"$error":"#REF!"}},{"$f":"#REF!","v":{"$error":"#REF!"}},{"$f":"#REF!","v":{"$error":"#REF!"}},{"$f":"#REF!","v":{"$error":"#REF!"}},{"$f":"#REF!","v":{"$error":"#REF!"}},{"$f":"#REF!","v":{"$error":"#REF!"}},{"$f":"#REF!","v":{"$error":"#REF!"}},{"$f":"#REF!","v":{"$error":"#REF!"}},{"$f":"#REF!","v":{"$error":"#REF!"}}]
[6,null,null,null,null,null,"Федкон",{"$f":"#REF!","v":{"$error":"#REF!"}},{"$f":"#REF!","v":{"$error":"#REF!"}},{"$f":"#REF!","v":{"$error":"#REF!"}},{"$f":"#REF!","v":{"$error":"#REF!"}},{"$f":"#REF!","v":{"$error":"#REF!"}},{"$f":"#REF!","v":{"$error":"#REF!"}},{"$f":"#REF!","v":{"$error":"#REF!"}},{"$f":"#REF!","v":{"$error":"#REF!"}},{"$f":"#REF!","v":{"$error":"#REF!"}},{"$f":"#REF!","v":{"$error":"#REF!"}},{"$f":"#REF!","v":{"$error":"#REF!"}},{"$f":"#REF!","v":{"$error":"#REF!"}},{"$f":"#REF!","v":{"$error":"#REF!"}},{"$f":"#REF!","v":{"$error":"#REF!"}},{"$f":"#REF!","v":{"$error":"#REF!"}},{"$f":"#REF!","v":{"$error":"#REF!"}},{"$f":"#REF!","v":{"$error":"#REF!"}},{"$f":"#REF!","v":{"$error":"#REF!"}},{"$f":"#REF!","v":{"$error":"#REF!"}},{"$f":"#REF!","v":{"$error":"#REF!"}},{"$f":"#REF!","v":{"$error":"#REF!"}}]
[7,null,null,null,null,null,"Евроторгинвестбанк",{"$f":"Евроторгинвестбанк!B36","v":5},{"$f":"Евроторгинвестбанк!C36","v":117900},{"$f":"Евроторгинвестбанк!D36","v":0},{"$f":"Евроторгинвестбанк!E36","v":0},{"$f":"Евроторгинвестбанк!F36","v":0},{"$f":"Евроторгинвестбанк!G36","v":0},{"$f":"Евроторгинвестбанк!H36","v":0},{"$f":"Евроторгинвестбанк!I36","v":0},{"$f":"Евроторгинвестбанк!J36","v":0},{"$f":"Евроторгинвестбанк!K36","v":0},{"$f":"Евроторгинвестбанк!L36","v":0},{"$f":"Евроторгинвестбанк!M36","v":0},{"$f":"Евроторгинвестбанк!N36","v":0},{"$f":"Евроторгинвестбанк!O36","v":0},{"$f":"Евроторгинвестбанк!P36","v":0},{"$f":"Евроторгинвестбанк!Q36","v":0},{"$f":"Евроторгинвестбанк!R36","v":0},{"$f":"Евроторгинвестбанк!S36","v":0},{"$f":"Евроторгинвестбанк!T36","v":0},{"$f":"Евроторгинвестбанк!U36","v":0},{"$f":"Евроторгинвестбанк!V36","v":117900}]
[8,null,null,null,null,null,"Форин-Так",{"$f":"'Форин-Так'!B36","v":13},{"$f":"'Форин-Так'!C36","v":260100},{"$f":"'Форин-Так'!D36","v":3},{"$f":"'Форин-Так'!E36","v":6300},{"$f":"'Форин-Так'!F36","v":0},{"$f":"'Форин-Так'!G36","v":0},{"$f":"'Форин-Так'!H36","v":0},{"$f":"'Форин-Так'!I36","v":0},{"$f":"'Форин-Так'!J36","v":0},{"$f":"'Форин-Так'!K36","v":0},{"$f":"'Форин-Так'!L36","v":0},{"$f":"'Форин-Так'!M36","v":0},{"$f":"'Форин-Так'!N36","v":0},{"$f":"'Форин-Так'!O36","v":0},{"$f":"'Форин-Так'!P36","v":0},{"$f":"'Форин-Так'!Q36","v":0},{"$f":"'Форин-Так'!R36","v":0},{"$f":"'Форин-Так'!S36","v":0},{"$f":"'Форин-Так'!T36","v":0},{"$f":"'Форин-Так'!U36","v":0},{"$f":"'Форин-Так'!V36","v":266400}]
[9]
[10]
[11]
[12]
[13]
[14]
[15]
[16]
[17]
[18]
[19]
[20]
[21]
[22]
[23]
[24]
[25]
[26]
[27]
[28]
[29]
[30]
[31]
[32]
[33]
[34]
[35]
[36]
[37]
[38]
[39]
[40]
[41]
[432]
[433]
[434]
[435,null,null,null,null,null,null,null,null,null,null,null,null,null,null,null,null,null,null,null,null,null,null,null,null,null,null,{"$f":"AA49+Y49+W49+U49+S49+Q49+O49+M49+K49+I49","v":0}]
[null,null,null,null,null,null,"всего",{"$f":"SUM(H5:H49)","v":{"$error":"#REF!"}},{"$error":"#REF!"},{"$error":"#REF!"},{"$error":"#REF!"},{"$error":"#REF!"},{"$error":"#REF!"},{"$error":"#REF!"},{"$error":"#REF!"},{"$error":"#REF!"},{"$error":"#REF!"},{"$error":"#REF!"},{"$error":"#REF!"},null,{"$error":"#REF!"},null,{"$error":"#REF!"},null,{"$error":"#REF!"},{"$error":"#REF!"},{"$error":"#REF!"},{"$f":"SUM(AB5:AB49)","v":{"$error":"#REF!"}}]
[null,null,null,null,null,null,"Всего услуг","кол-во прин.ПО",null,{"$f":"H50+J50+L50+N50+P50+R50+Z50","v":{"$error":"#REF!"}}]
[null,null,null,null,null,null,null,"сумма доходов",null,{"$f":"AB50","v":{"$error":"#REF!"}}]
[null,null,"Новые"]
[null,null,"по договору"]
[null,null,"франкир.маш"]
[null,null,"марк.маш.своя"]

{"sheet":"Форин-Так","index":3,"n_rows":39,"n_cols":22,"rows_kept":39,"cut":false,"hidden":false,"merged":[[1,21,3,21],[1,0,3,0],[1,1,1,2],[1,3,1,4],[1,5,1,6],[1,7,1,8],[1,9,1,10],[2,1,2,2],[2,3,2,4],[2,5,2,6],[2,7,2,8],[1,11,1,12],[1,13,1,14],[1,15,1,16],[1,17,1,18],[1,19,1,20],[2,11,2,12],[2,13,2,14],[2,15,2,16],[2,17,2,18],[2,19,2,20],[37,1,37,2],[37,3,37,4],[38,1,38,2],[38,3,38,4],[2,9,2,10]]}
[{"$f":"MID(CELL(\"имяфайла\",B2),SEARCH(\"]\",CELL(\"имяфайла\",B2),1)+1,99)","v":"Форин-Так"}]
["Число месяца","заказные отправления",null,"простые отправления",null,"посылки",null,"мелкие пакеты, ценные письма",null,"EMS внутренние",null,"EMS международные",null,"доп.услуги",null,"товары почты",null,"маркиров. прод.",null,"переводы",null,"Итого доходы"]
[null,"(116, 161)",null,"(117, 165)",null," (151, 156)",null,"(121)",null,"  (181 ,182)",null,"  (321, 322)",null,"(241, 311)",null,"(641)",null,"(111)",null,"(138,139,144,145,146,149)"]
[null,"кол-во","доходы","кол-во","доходы","кол-во","доходы","кол-во","доходы","кол-во","доходы","кол-во","доходы","кол-во","доходы","кол-во","доходы","кол-во","доходы","кол-во","доходы"]
["2014-03-01",{"$f":"SUMIFS(ежемесячный!$F:$F,ежемесячный!$C:$C,$A5,ежемесячный!$D:$D,$A$1,ежемесячный!$E:$E,B$2)","v":0},{"$f":"SUMIFS(ежемесячный!$G:$G,ежемесячный!$C:$C,$A5,ежемесячный!$D:$D,$A$1,ежемесячный!$E:$E,B$2)","v":0},{"$f":"SUMIFS(ежемесячный!$F:$F,ежемесячный!$C:$C,$A5,ежемесячный!$D:$D,$A$1,ежемесячный!$E:$E,D$2)","v":0},{"$f":"SUMIFS(ежемесячный!$G:$G,ежемесячный!$C:$C,$A5,ежемесячный!$D:$D,$A$1,ежемесячный!$E:$E,D$2)","v":0},{"$f":"SUMIFS(ежемесячный!$F:$F,ежемесячный!$C:$C,$A5,ежемесячный!$D:$D,$A$1,ежемесячный!$E:$E,F$2)","v":0},{"$f":"SUMIFS(ежемесячный!$G:$G,ежемесячный!$C:$C,$A5,ежемесячный!$D:$D,$A$1,ежемесячный!$E:$E,F$2)","v":0},{"$f":"SUMIFS(ежемесячный!$F:$F,ежемесячный!$C:$C,$A5,ежемесячный!$D:$D,$A$1,ежемесячный!$E:$E,H$2)","v":0},{"$f":"SUMIFS(ежемесячный!$G:$G,ежемесячный!$C:$C,$A5,ежемесячный!$D:$D,$A$1,ежемесячный!$E:$E,H$2)","v":0},{"$f":"SUMIFS(ежемесячный!$F:$F,ежемесячный!$C:$C,$A5,ежемесячный!$D:$D,$A$1,ежемесячный!$E:$E,J$2)","v":0},{"$f":"SUMIFS(ежемесячный!$G:$G,ежемесячный!$C:$C,$A5,ежемесячный!$D:$D,$A$1,ежемесячный!$E:$E,J$2)","v":0},{"$f":"SUMIFS(ежемесячный!$F:$F,ежемесячный!$C:$C,$A5,ежемесячный!$D:$D,$A$1,ежемесячный!$E:$E,L$2)","v":0},{"$f":"SUMIFS(ежемесячный!$G:$G,ежемесячный!$C:$C,$A5,ежемесячный!$D:$D,$A$1,ежемесячный!$E:$E,L$2)","v":0},{"$f":"SUMIFS(ежемесячный!$F:$F,ежемесячный!$C:$C,$A5,ежемесячный!$D:$D,$A$1,ежемесячный!$E:$E,N$2)","v":0},{"$f":"SUMIFS(ежемесячный!$G:$G,ежемесячный!$C:$C,$A5,ежемесячный!$D:$D,$A$1,ежемесячный!$E:$E,N$2)","v":0},{"$f":"SUMIFS(ежемесячный!$F:$F,ежемесячный!$C:$C,$A5,ежемесячный!$D:$D,$A$1,ежемесячный!$E:$E,P$2)","v":0},{"$f":"SUMIFS(ежемесячный!$G:$G,ежемесячный!$C:$C,$A5,ежемесячный!$D:$D,$A$1,ежемесячный!$E:$E,P$2)","v":0},{"$f":"SUMIFS(ежемесячный!$F:$F,ежемесячный!$C:$C,$A5,ежемесячный!$D:$D,$A$1,ежемесячный!$E:$E,R$2)","v":0},{"$f":"SUMIFS(ежемесячный!$G:$G,ежемесячный!$C:$C,$A5,ежемесячный!$D:$D,$A$1,ежемесячный!$E:$E,R$2)","v":0},{"$f":"SUMIFS(ежемесячный!$F:$F,ежемесячный!$C:$C,$A5,ежемесячный!$D:$D,$A$1,ежемесячный!$E:$E,T$2)","v":0},{"$f":"SUMIFS(ежемесячный!$G:$G,ежемесячный!$C:$C,$A5,ежемесячный!$D:$D,$A$1,ежемесячный!$E:$E,T$2)","v":0},{"$f":"U5+S5+Q5+O5+M5+K5+I5+G5+E5+C5","v":0}]
["2014-03-02",{"$f":"SUMIFS(ежемесячный!$F:$F,ежемесячный!$C:$C,$A6,ежемесячный!$D:$D,$A$1,ежемесячный!$E:$E,B$2)","v":0},{"$f":"SUMIFS(ежемесячный!$G:$G,ежемесячный!$C:$C,$A6,ежемесячный!$D:$D,$A$1,ежемесячный!$E:$E,B$2)","v":0},{"$f":"SUMIFS(ежемесячный!$F:$F,ежемесячный!$C:$C,$A6,ежемесячный!$D:$D,$A$1,ежемесячный!$E:$E,D$2)","v":0},{"$f":"SUMIFS(ежемесячный!$G:$G,ежемесячный!$C:$C,$A6,ежемесячный!$D:$D,$A$1,ежемесячный!$E:$E,D$2)","v":0},{"$f":"SUMIFS(ежемесячный!$F:$F,ежемесячный!$C:$C,$A6,ежемесячный!$D:$D,$A$1,ежемесячный!$E:$E,F$2)","v":0},{"$f":"SUMIFS(ежемесячный!$G:$G,ежемесячный!$C:$C,$A6,ежемесячный!$D:$D,$A$1,ежемесячный!$E:$E,F$2)","v":0},{"$f":"SUMIFS(ежемесячный!$F:$F,ежемесячный!$C:$C,$A6,ежемесячный!$D:$D,$A$1,ежемесячный!$E:$E,H$2)","v":0},{"$f":"SUMIFS(ежемесячный!$G:$G,ежемесячный!$C:$C,$A6,ежемесячный!$D:$D,$A$1,ежемесячный!$E:$E,H$2)","v":0},{"$f":"SUMIFS(ежемесячный!$F:$F,ежемесячный!$C:$C,$A6,ежемесячный!$D:$D,$A$1,ежемесячный!$E:$E,J$2)","v":0},{"$f":"SUMIFS(ежемесячный!$G:$G,ежемесячный!$C:$C,$A6,ежемесячный!$D:$D,$A$1,ежемесячный!$E:$E,J$2)","v":0},{"$f":"SUMIFS(ежемесячный!$F:$F,ежемесячный!$C:$C,$A6,ежемесячный!$D:$D,$A$1,ежемесячный!$E:$E,L$2)","v":0},{"$f":"SUMIFS(ежемесячный!$G:$G,ежемесячный!$C:$C,$A6,ежемесячный!$D:$D,$A$1,ежемесячный!$E:$E,L$2)","v":0},{"$f":"SUMIFS(ежемесячный!$F:$F,ежемесячный!$C:$C,$A6,ежемесячный!$D:$D,$A$1,ежемесячный!$E:$E,N$2)","v":0},{"$f":"SUMIFS(ежемесячный!$G:$G,ежемесячный!$C:$C,$A6,ежемесячный!$D:$D,$A$1,ежемесячный!$E:$E,N$2)","v":0},{"$f":"SUMIFS(ежемесячный!$F:$F,ежемесячный!$C:$C,$A6,ежемесячный!$D:$D,$A$1,ежемесячный!$E:$E,P$2)","v":0},{"$f":"SUMIFS(ежемесячный!$G:$G,ежемесячный!$C:$C,$A6,ежемесячный!$D:$D,$A$1,ежемесячный!$E:$E,P$2)","v":0},{"$f":"SUMIFS(ежемесячный!$F:$F,ежемесячный!$C:$C,$A6,ежемесячный!$D:$D,$A$1,ежемесячный!$E:$E,R$2)","v":0},{"$f":"SUMIFS(ежемесячный!$G:$G,ежемесячный!$C:$C,$A6,ежемесячный!$D:$D,$A$1,ежемесячный!$E:$E,R$2)","v":0},{"$f":"SUMIFS(ежемесячный!$F:$F,ежемесячный!$C:$C,$A6,ежемесячный!$D:$D,$A$1,ежемесячный!$E:$E,T$2)","v":0},{"$f":"SUMIFS(ежемесячный!$G:$G,ежемесячный!$C:$C,$A6,ежемесячный!$D:$D,$A$1,ежемесячный!$E:$E,T$2)","v":0},0]
["2014-03-03",{"$f":"SUMIFS(ежемесячный!$F:$F,ежемесячный!$C:$C,$A7,ежемесячный!$D:$D,$A$1,ежемесячный!$E:$E,B$2)","v":13},{"$f":"SUMIFS(ежемесячный!$G:$G,ежемесячный!$C:$C,$A7,ежемесячный!$D:$D,$A$1,ежемесячный!$E:$E,B$2)","v":260100},{"$f":"SUMIFS(ежемесячный!$F:$F,ежемесячный!$C:$C,$A7,ежемесячный!$D:$D,$A$1,ежемесячный!$E:$E,D$2)","v":3},{"$f":"SUMIFS(ежемесячный!$G:$G,ежемесячный!$C:$C,$A7,ежемесячный!$D:$D,$A$1,ежемесячный!$E:$E,D$2)","v":6300},{"$f":"SUMIFS(ежемесячный!$F:$F,ежемесячный!$C:$C,$A7,ежемесячный!$D:$D,$A$1,ежемесячный!$E:$E,F$2)","v":0},{"$f":"SUMIFS(ежемесячный!$G:$G,ежемесячный!$C:$C,$A7,ежемесячный!$D:$D,$A$1,ежемесячный!$E:$E,F$2)","v":0},{"$f":"SUMIFS(ежемесячный!$F:$F,ежемесячный!$C:$C,$A7,ежемесячный!$D:$D,$A$1,ежемесячный!$E:$E,H$2)","v":0},{"$f":"SUMIFS(ежемесячный!$G:$G,ежемесячный!$C:$C,$A7,ежемесячный!$D:$D,$A$1,ежемесячный!$E:$E,H$2)","v":0},{"$f":"SUMIFS(ежемесячный!$F:$F,ежемесячный!$C:$C,$A7,ежемесячный!$D:$D,$A$1,ежемесячный!$E:$E,J$2)","v":0},{"$f":"SUMIFS(ежемесячный!$G:$G,ежемесячный!$C:$C,$A7,ежемесячный!$D:$D,$A$1,ежемесячный!$E:$E,J$2)","v":0},{"$f":"SUMIFS(ежемесячный!$F:$F,ежемесячный!$C:$C,$A7,ежемесячный!$D:$D,$A$1,ежемесячный!$E:$E,L$2)","v":0},{"$f":"SUMIFS(ежемесячный!$G:$G,ежемесячный!$C:$C,$A7,ежемесячный!$D:$D,$A$1,ежемесячный!$E:$E,L$2)","v":0},{"$f":"SUMIFS(ежемесячный!$F:$F,ежемесячный!$C:$C,$A7,ежемесячный!$D:$D,$A$1,ежемесячный!$E:$E,N$2)","v":0},{"$f":"SUMIFS(ежемесячный!$G:$G,ежемесячный!$C:$C,$A7,ежемесячный!$D:$D,$A$1,ежемесячный!$E:$E,N$2)","v":0},{"$f":"SUMIFS(ежемесячный!$F:$F,ежемесячный!$C:$C,$A7,ежемесячный!$D:$D,$A$1,ежемесячный!$E:$E,P$2)","v":0},{"$f":"SUMIFS(ежемесячный!$G:$G,ежемесячный!$C:$C,$A7,ежемесячный!$D:$D,$A$1,ежемесячный!$E:$E,P$2)","v":0},{"$f":"SUMIFS(ежемесячный!$F:$F,ежемесячный!$C:$C,$A7,ежемесячный!$D:$D,$A$1,ежемесячный!$E:$E,R$2)","v":0},{"$f":"SUMIFS(ежемесячный!$G:$G,ежемесячный!$C:$C,$A7,ежемесячный!$D:$D,$A$1,ежемесячный!$E:$E,R$2)","v":0},{"$f":"SUMIFS(ежемесячный!$F:$F,ежемесячный!$C:$C,$A7,ежемесячный!$D:$D,$A$1,ежемесячный!$E:$E,T$2)","v":0},{"$f":"SUMIFS(ежемесячный!$G:$G,ежемесячный!$C:$C,$A7,ежемесячный!$D:$D,$A$1,ежемесячный!$E:$E,T$2)","v":0},266400]
["2014-03-04",{"$f":"SUMIFS(ежемесячный!$F:$F,ежемесячный!$C:$C,$A8,ежемесячный!$D:$D,$A$1,ежемесячный!$E:$E,B$2)","v":0},{"$f":"SUMIFS(ежемесячный!$G:$G,ежемесячный!$C:$C,$A8,ежемесячный!$D:$D,$A$1,ежемесячный!$E:$E,B$2)","v":0},{"$f":"SUMIFS(ежемесячный!$F:$F,ежемесячный!$C:$C,$A8,ежемесячный!$D:$D,$A$1,ежемесячный!$E:$E,D$2)","v":0},{"$f":"SUMIFS(ежемесячный!$G:$G,ежемесячный!$C:$C,$A8,ежемесячный!$D:$D,$A$1,ежемесячный!$E:$E,D$2)","v":0},{"$f":"SUMIFS(ежемесячный!$F:$F,ежемесячный!$C:$C,$A8,ежемесячный!$D:$D,$A$1,ежемесячный!$E:$E,F$2)","v":0},{"$f":"SUMIFS(ежемесячный!$G:$G,ежемесячный!$C:$C,$A8,ежемесячный!$D:$D,$A$1,ежемесячный!$E:$E,F$2)","v":0},{"$f":"SUMIFS(ежемесячный!$F:$F,ежемесячный!$C:$C,$A8,ежемесячный!$D:$D,$A$1,ежемесячный!$E:$E,H$2)","v":0},{"$f":"SUMIFS(ежемесячный!$G:$G,ежемесячный!$C:$C,$A8,ежемесячный!$D:$D,$A$1,ежемесячный!$E:$E,H$2)","v":0},{"$f":"SUMIFS(ежемесячный!$F:$F,ежемесячный!$C:$C,$A8,ежемесячный!$D:$D,$A$1,ежемесячный!$E:$E,J$2)","v":0},{"$f":"SUMIFS(ежемесячный!$G:$G,ежемесячный!$C:$C,$A8,ежемесячный!$D:$D,$A$1,ежемесячный!$E:$E,J$2)","v":0},{"$f":"SUMIFS(ежемесячный!$F:$F,ежемесячный!$C:$C,$A8,ежемесячный!$D:$D,$A$1,ежемесячный!$E:$E,L$2)","v":0},{"$f":"SUMIFS(ежемесячный!$G:$G,ежемесячный!$C:$C,$A8,ежемесячный!$D:$D,$A$1,ежемесячный!$E:$E,L$2)","v":0},{"$f":"SUMIFS(ежемесячный!$F:$F,ежемесячный!$C:$C,$A8,ежемесячный!$D:$D,$A$1,ежемесячный!$E:$E,N$2)","v":0},{"$f":"SUMIFS(ежемесячный!$G:$G,ежемесячный!$C:$C,$A8,ежемесячный!$D:$D,$A$1,ежемесячный!$E:$E,N$2)","v":0},{"$f":"SUMIFS(ежемесячный!$F:$F,ежемесячный!$C:$C,$A8,ежемесячный!$D:$D,$A$1,ежемесячный!$E:$E,P$2)","v":0},{"$f":"SUMIFS(ежемесячный!$G:$G,ежемесячный!$C:$C,$A8,ежемесячный!$D:$D,$A$1,ежемесячный!$E:$E,P$2)","v":0},{"$f":"SUMIFS(ежемесячный!$F:$F,ежемесячный!$C:$C,$A8,ежемесячный!$D:$D,$A$1,ежемесячный!$E:$E,R$2)","v":0},{"$f":"SUMIFS(ежемесячный!$G:$G,ежемесячный!$C:$C,$A8,ежемесячный!$D:$D,$A$1,ежемесячный!$E:$E,R$2)","v":0},{"$f":"SUMIFS(ежемесячный!$F:$F,ежемесячный!$C:$C,$A8,ежемесячный!$D:$D,$A$1,ежемесячный!$E:$E,T$2)","v":0},{"$f":"SUMIFS(ежемесячный!$G:$G,ежемесячный!$C:$C,$A8,ежемесячный!$D:$D,$A$1,ежемесячный!$E:$E,T$2)","v":0},0]
["2014-03-05",{"$f":"SUMIFS(ежемесячный!$F:$F,ежемесячный!$C:$C,$A9,ежемесячный!$D:$D,$A$1,ежемесячный!$E:$E,B$2)","v":0},{"$f":"SUMIFS(ежемесячный!$G:$G,ежемесячный!$C:$C,$A9,ежемесячный!$D:$D,$A$1,ежемесячный!$E:$E,B$2)","v":0},{"$f":"SUMIFS(ежемесячный!$F:$F,ежемесячный!$C:$C,$A9,ежемесячный!$D:$D,$A$1,ежемесячный!$E:$E,D$2)","v":0},{"$f":"SUMIFS(ежемесячный!$G:$G,ежемесячный!$C:$C,$A9,ежемесячный!$D:$D,$A$1,ежемесячный!$E:$E,D$2)","v":0},{"$f":"SUMIFS(ежемесячный!$F:$F,ежемесячный!$C:$C,$A9,ежемесячный!$D:$D,$A$1,ежемесячный!$E:$E,F$2)","v":0},{"$f":"SUMIFS(ежемесячный!$G:$G,ежемесячный!$C:$C,$A9,ежемесячный!$D:$D,$A$1,ежемесячный!$E:$E,F$2)","v":0},{"$f":"SUMIFS(ежемесячный!$F:$F,ежемесячный!$C:$C,$A9,ежемесячный!$D:$D,$A$1,ежемесячный!$E:$E,H$2)","v":0},{"$f":"SUMIFS(ежемесячный!$G:$G,ежемесячный!$C:$C,$A9,ежемесячный!$D:$D,$A$1,ежемесячный!$E:$E,H$2)","v":0},{"$f":"SUMIFS(ежемесячный!$F:$F,ежемесячный!$C:$C,$A9,ежемесячный!$D:$D,$A$1,ежемесячный!$E:$E,J$2)","v":0},{"$f":"SUMIFS(ежемесячный!$G:$G,ежемесячный!$C:$C,$A9,ежемесячный!$D:$D,$A$1,ежемесячный!$E:$E,J$2)","v":0},{"$f":"SUMIFS(ежемесячный!$F:$F,ежемесячный!$C:$C,$A9,ежемесячный!$D:$D,$A$1,ежемесячный!$E:$E,L$2)","v":0},{"$f":"SUMIFS(ежемесячный!$G:$G,ежемесячный!$C:$C,$A9,ежемесячный!$D:$D,$A$1,ежемесячный!$E:$E,L$2)","v":0},{"$f":"SUMIFS(ежемесячный!$F:$F,ежемесячный!$C:$C,$A9,ежемесячный!$D:$D,$A$1,ежемесячный!$E:$E,N$2)","v":0},{"$f":"SUMIFS(ежемесячный!$G:$G,ежемесячный!$C:$C,$A9,ежемесячный!$D:$D,$A$1,ежемесячный!$E:$E,N$2)","v":0},{"$f":"SUMIFS(ежемесячный!$F:$F,ежемесячный!$C:$C,$A9,ежемесячный!$D:$D,$A$1,ежемесячный!$E:$E,P$2)","v":0},{"$f":"SUMIFS(ежемесячный!$G:$G,ежемесячный!$C:$C,$A9,ежемесячный!$D:$D,$A$1,ежемесячный!$E:$E,P$2)","v":0},{"$f":"SUMIFS(ежемесячный!$F:$F,ежемесячный!$C:$C,$A9,ежемесячный!$D:$D,$A$1,ежемесячный!$E:$E,R$2)","v":0},{"$f":"SUMIFS(ежемесячный!$G:$G,ежемесячный!$C:$C,$A9,ежемесячный!$D:$D,$A$1,ежемесячный!$E:$E,R$2)","v":0},{"$f":"SUMIFS(ежемесячный!$F:$F,ежемесячный!$C:$C,$A9,ежемесячный!$D:$D,$A$1,ежемесячный!$E:$E,T$2)","v":0},{"$f":"SUMIFS(ежемесячный!$G:$G,ежемесячный!$C:$C,$A9,ежемесячный!$D:$D,$A$1,ежемесячный!$E:$E,T$2)","v":0},0]
["2014-03-06",{"$f":"SUMIFS(ежемесячный!$F:$F,ежемесячный!$C:$C,$A10,ежемесячный!$D:$D,$A$1,ежемесячный!$E:$E,B$2)","v":0},{"$f":"SUMIFS(ежемесячный!$G:$G,ежемесячный!$C:$C,$A10,ежемесячный!$D:$D,$A$1,ежемесячный!$E:$E,B$2)","v":0},{"$f":"SUMIFS(ежемесячный!$F:$F,ежемесячный!$C:$C,$A10,ежемесячный!$D:$D,$A$1,ежемесячный!$E:$E,D$2)","v":0},{"$f":"SUMIFS(ежемесячный!$G:$G,ежемесячный!$C:$C,$A10,ежемесячный!$D:$D,$A$1,ежемесячный!$E:$E,D$2)","v":0},{"$f":"SUMIFS(ежемесячный!$F:$F,ежемесячный!$C:$C,$A10,ежемесячный!$D:$D,$A$1,ежемесячный!$E:$E,F$2)","v":0},{"$f":"SUMIFS(ежемесячный!$G:$G,ежемесячный!$C:$C,$A10,ежемесячный!$D:$D,$A$1,ежемесячный!$E:$E,F$2)","v":0},{"$f":"SUMIFS(ежемесячный!$F:$F,ежемесячный!$C:$C,$A10,ежемесячный!$D:$D,$A$1,ежемесячный!$E:$E,H$2)","v":0},{"$f":"SUMIFS(ежемесячный!$G:$G,ежемесячный!$C:$C,$A10,ежемесячный!$D:$D,$A$1,ежемесячный!$E:$E,H$2)","v":0},{"$f":"SUMIFS(ежемесячный!$F:$F,ежемесячный!$C:$C,$A10,ежемесячный!$D:$D,$A$1,ежемесячный!$E:$E,J$2)","v":0},{"$f":"SUMIFS(ежемесячный!$G:$G,ежемесячный!$C:$C,$A10,ежемесячный!$D:$D,$A$1,ежемесячный!$E:$E,J$2)","v":0},{"$f":"SUMIFS(ежемесячный!$F:$F,ежемесячный!$C:$C,$A10,ежемесячный!$D:$D,$A$1,ежемесячный!$E:$E,L$2)","v":0},{"$f":"SUMIFS(ежемесячный!$G:$G,ежемесячный!$C:$C,$A10,ежемесячный!$D:$D,$A$1,ежемесячный!$E:$E,L$2)","v":0},{"$f":"SUMIFS(ежемесячный!$F:$F,ежемесячный!$C:$C,$A10,ежемесячный!$D:$D,$A$1,ежемесячный!$E:$E,N$2)","v":0},{"$f":"SUMIFS(ежемесячный!$G:$G,ежемесячный!$C:$C,$A10,ежемесячный!$D:$D,$A$1,ежемесячный!$E:$E,N$2)","v":0},{"$f":"SUMIFS(ежемесячный!$F:$F,ежемесячный!$C:$C,$A10,ежемесячный!$D:$D,$A$1,ежемесячный!$E:$E,P$2)","v":0},{"$f":"SUMIFS(ежемесячный!$G:$G,ежемесячный!$C:$C,$A10,ежемесячный!$D:$D,$A$1,ежемесячный!$E:$E,P$2)","v":0},{"$f":"SUMIFS(ежемесячный!$F:$F,ежемесячный!$C:$C,$A10,ежемесячный!$D:$D,$A$1,ежемесячный!$E:$E,R$2)","v":0},{"$f":"SUMIFS(ежемесячный!$G:$G,ежемесячный!$C:$C,$A10,ежемесячный!$D:$D,$A$1,ежемесячный!$E:$E,R$2)","v":0},{"$f":"SUMIFS(ежемесячный!$F:$F,ежемесячный!$C:$C,$A10,ежемесячный!$D:$D,$A$1,ежемесячный!$E:$E,T$2)","v":0},{"$f":"SUMIFS(ежемесячный!$G:$G,ежемесячный!$C:$C,$A10,ежемесячный!$D:$D,$A$1,ежемесячный!$E:$E,T$2)","v":0},0]
["2014-03-07",{"$f":"SUMIFS(ежемесячный!$F:$F,ежемесячный!$C:$C,$A11,ежемесячный!$D:$D,$A$1,ежемесячный!$E:$E,B$2)","v":0},{"$f":"SUMIFS(ежемесячный!$G:$G,ежемесячный!$C:$C,$A11,ежемесячный!$D:$D,$A$1,ежемесячный!$E:$E,B$2)","v":0},{"$f":"SUMIFS(ежемесячный!$F:$F,ежемесячный!$C:$C,$A11,ежемесячный!$D:$D,$A$1,ежемесячный!$E:$E,D$2)","v":0},{"$f":"SUMIFS(ежемесячный!$G:$G,ежемесячный!$C:$C,$A11,ежемесячный!$D:$D,$A$1,ежемесячный!$E:$E,D$2)","v":0},{"$f":"SUMIFS(ежемесячный!$F:$F,ежемесячный!$C:$C,$A11,ежемесячный!$D:$D,$A$1,ежемесячный!$E:$E,F$2)","v":0},{"$f":"SUMIFS(ежемесячный!$G:$G,ежемесячный!$C:$C,$A11,ежемесячный!$D:$D,$A$1,ежемесячный!$E:$E,F$2)","v":0},{"$f":"SUMIFS(ежемесячный!$F:$F,ежемесячный!$C:$C,$A11,ежемесячный!$D:$D,$A$1,ежемесячный!$E:$E,H$2)","v":0},{"$f":"SUMIFS(ежемесячный!$G:$G,ежемесячный!$C:$C,$A11,ежемесячный!$D:$D,$A$1,ежемесячный!$E:$E,H$2)","v":0},{"$f":"SUMIFS(ежемесячный!$F:$F,ежемесячный!$C:$C,$A11,ежемесячный!$D:$D,$A$1,ежемесячный!$E:$E,J$2)","v":0},{"$f":"SUMIFS(ежемесячный!$G:$G,ежемесячный!$C:$C,$A11,ежемесячный!$D:$D,$A$1,ежемесячный!$E:$E,J$2)","v":0},{"$f":"SUMIFS(ежемесячный!$F:$F,ежемесячный!$C:$C,$A11,ежемесячный!$D:$D,$A$1,ежемесячный!$E:$E,L$2)","v":0},{"$f":"SUMIFS(ежемесячный!$G:$G,ежемесячный!$C:$C,$A11,ежемесячный!$D:$D,$A$1,ежемесячный!$E:$E,L$2)","v":0},{"$f":"SUMIFS(ежемесячный!$F:$F,ежемесячный!$C:$C,$A11,ежемесячный!$D:$D,$A$1,ежемесячный!$E:$E,N$2)","v":0},{"$f":"SUMIFS(ежемесячный!$G:$G,ежемесячный!$C:$C,$A11,ежемесячный!$D:$D,$A$1,ежемесячный!$E:$E,N$2)","v":0},{"$f":"SUMIFS(ежемесячный!$F:$F,ежемесячный!$C:$C,$A11,ежемесячный!$D:$D,$A$1,ежемесячный!$E:$E,P$2)","v":0},{"$f":"SUMIFS(ежемесячный!$G:$G,ежемесячный!$C:$C,$A11,ежемесячный!$D:$D,$A$1,ежемесячный!$E:$E,P$2)","v":0},{"$f":"SUMIFS(ежемесячный!$F:$F,ежемесячный!$C:$C,$A11,ежемесячный!$D:$D,$A$1,ежемесячный!$E:$E,R$2)","v":0},{"$f":"SUMIFS(ежемесячный!$G:$G,ежемесячный!$C:$C,$A11,ежемесячный!$D:$D,$A$1,ежемесячный!$E:$E,R$2)","v":0},{"$f":"SUMIFS(ежемесячный!$F:$F,ежемесячный!$C:$C,$A11,ежемесячный!$D:$D,$A$1,ежемесячный!$E:$E,T$2)","v":0},{"$f":"SUMIFS(ежемесячный!$G:$G,ежемесячный!$C:$C,$A11,ежемесячный!$D:$D,$A$1,ежемесячный!$E:$E,T$2)","v":0},0]
["2014-03-08",{"$f":"SUMIFS(ежемесячный!$F:$F,ежемесячный!$C:$C,$A12,ежемесячный!$D:$D,$A$1,ежемесячный!$E:$E,B$2)","v":0},{"$f":"SUMIFS(ежемесячный!$G:$G,ежемесячный!$C:$C,$A12,ежемесячный!$D:$D,$A$1,ежемесячный!$E:$E,B$2)","v":0},{"$f":"SUMIFS(ежемесячный!$F:$F,ежемесячный!$C:$C,$A12,ежемесячный!$D:$D,$A$1,ежемесячный!$E:$E,D$2)","v":0},{"$f":"SUMIFS(ежемесячный!$G:$G,ежемесячный!$C:$C,$A12,ежемесячный!$D:$D,$A$1,ежемесячный!$E:$E,D$2)","v":0},{"$f":"SUMIFS(ежемесячный!$F:$F,ежемесячный!$C:$C,$A12,ежемесячный!$D:$D,$A$1,ежемесячный!$E:$E,F$2)","v":0},{"$f":"SUMIFS(ежемесячный!$G:$G,ежемесячный!$C:$C,$A12,ежемесячный!$D:$D,$A$1,ежемесячный!$E:$E,F$2)","v":0},{"$f":"SUMIFS(ежемесячный!$F:$F,ежемесячный!$C:$C,$A12,ежемесячный!$D:$D,$A$1,ежемесячный!$E:$E,H$2)","v":0},{"$f":"SUMIFS(ежемесячный!$G:$G,ежемесячный!$C:$C,$A12,ежемесячный!$D:$D,$A$1,ежемесячный!$E:$E,H$2)","v":0},{"$f":"SUMIFS(ежемесячный!$F:$F,ежемесячный!$C:$C,$A12,ежемесячный!$D:$D,$A$1,ежемесячный!$E:$E,J$2)","v":0},{"$f":"SUMIFS(ежемесячный!$G:$G,ежемесячный!$C:$C,$A12,ежемесячный!$D:$D,$A$1,ежемесячный!$E:$E,J$2)","v":0},{"$f":"SUMIFS(ежемесячный!$F:$F,ежемесячный!$C:$C,$A12,ежемесячный!$D:$D,$A$1,ежемесячный!$E:$E,L$2)","v":0},{"$f":"SUMIFS(ежемесячный!$G:$G,ежемесячный!$C:$C,$A12,ежемесячный!$D:$D,$A$1,ежемесячный!$E:$E,L$2)","v":0},{"$f":"SUMIFS(ежемесячный!$F:$F,ежемесячный!$C:$C,$A12,ежемесячный!$D:$D,$A$1,ежемесячный!$E:$E,N$2)","v":0},{"$f":"SUMIFS(ежемесячный!$G:$G,ежемесячный!$C:$C,$A12,ежемесячный!$D:$D,$A$1,ежемесячный!$E:$E,N$2)","v":0},{"$f":"SUMIFS(ежемесячный!$F:$F,ежемесячный!$C:$C,$A12,ежемесячный!$D:$D,$A$1,ежемесячный!$E:$E,P$2)","v":0},{"$f":"SUMIFS(ежемесячный!$G:$G,ежемесячный!$C:$C,$A12,ежемесячный!$D:$D,$A$1,ежемесячный!$E:$E,P$2)","v":0},{"$f":"SUMIFS(ежемесячный!$F:$F,ежемесячный!$C:$C,$A12,ежемесячный!$D:$D,$A$1,ежемесячный!$E:$E,R$2)","v":0},{"$f":"SUMIFS(ежемесячный!$G:$G,ежемесячный!$C:$C,$A12,ежемесячный!$D:$D,$A$1,ежемесячный!$E:$E,R$2)","v":0},{"$f":"SUMIFS(ежемесячный!$F:$F,ежемесячный!$C:$C,$A12,ежемесячный!$D:$D,$A$1,ежемесячный!$E:$E,T$2)","v":0},{"$f":"SUMIFS(ежемесячный!$G:$G,ежемесячный!$C:$C,$A12,ежемесячный!$D:$D,$A$1,ежемесячный!$E:$E,T$2)","v":0},0]
["2014-03-09",{"$f":"SUMIFS(ежемесячный!$F:$F,ежемесячный!$C:$C,$A13,ежемесячный!$D:$D,$A$1,ежемесячный!$E:$E,B$2)","v":0},{"$f":"SUMIFS(ежемесячный!$G:$G,ежемесячный!$C:$C,$A13,ежемесячный!$D:$D,$A$1,ежемесячный!$E:$E,B$2)","v":0},{"$f":"SUMIFS(ежемесячный!$F:$F,ежемесячный!$C:$C,$A13,ежемесячный!$D:$D,$A$1,ежемесячный!$E:$E,D$2)","v":0},{"$f":"SUMIFS(ежемесячный!$G:$G,ежемесячный!$C:$C,$A13,ежемесячный!$D:$D,$A$1,ежемесячный!$E:$E,D$2)","v":0},{"$f":"SUMIFS(ежемесячный!$F:$F,ежемесячный!$C:$C,$A13,ежемесячный!$D:$D,$A$1,ежемесячный!$E:$E,F$2)","v":0},{"$f":"SUMIFS(ежемесячный!$G:$G,ежемесячный!$C:$C,$A13,ежемесячный!$D:$D,$A$1,ежемесячный!$E:$E,F$2)","v":0},{"$f":"SUMIFS(ежемесячный!$F:$F,ежемесячный!$C:$C,$A13,ежемесячный!$D:$D,$A$1,ежемесячный!$E:$E,H$2)","v":0},{"$f":"SUMIFS(ежемесячный!$G:$G,ежемесячный!$C:$C,$A13,ежемесячный!$D:$D,$A$1,ежемесячный!$E:$E,H$2)","v":0},{"$f":"SUMIFS(ежемесячный!$F:$F,ежемесячный!$C:$C,$A13,ежемесячный!$D:$D,$A$1,ежемесячный!$E:$E,J$2)","v":0},{"$f":"SUMIFS(ежемесячный!$G:$G,ежемесячный!$C:$C,$A13,ежемесячный!$D:$D,$A$1,ежемесячный!$E:$E,J$2)","v":0},{"$f":"SUMIFS(ежемесячный!$F:$F,ежемесячный!$C:$C,$A13,ежемесячный!$D:$D,$A$1,ежемесячный!$E:$E,L$2)","v":0},{"$f":"SUMIFS(ежемесячный!$G:$G,ежемесячный!$C:$C,$A13,ежемесячный!$D:$D,$A$1,ежемесячный!$E:$E,L$2)","v":0},{"$f":"SUMIFS(ежемесячный!$F:$F,ежемесячный!$C:$C,$A13,ежемесячный!$D:$D,$A$1,ежемесячный!$E:$E,N$2)","v":0},{"$f":"SUMIFS(ежемесячный!$G:$G,ежемесячный!$C:$C,$A13,ежемесячный!$D:$D,$A$1,ежемесячный!$E:$E,N$2)","v":0},{"$f":"SUMIFS(ежемесячный!$F:$F,ежемесячный!$C:$C,$A13,ежемесячный!$D:$D,$A$1,ежемесячный!$E:$E,P$2)","v":0},{"$f":"SUMIFS(ежемесячный!$G:$G,ежемесячный!$C:$C,$A13,ежемесячный!$D:$D,$A$1,ежемесячный!$E:$E,P$2)","v":0},{"$f":"SUMIFS(ежемесячный!$F:$F,ежемесячный!$C:$C,$A13,ежемесячный!$D:$D,$A$1,ежемесячный!$E:$E,R$2)","v":0},{"$f":"SUMIFS(ежемесячный!$G:$G,ежемесячный!$C:$C,$A13,ежемесячный!$D:$D,$A$1,ежемесячный!$E:$E,R$2)","v":0},{"$f":"SUMIFS(ежемесячный!$F:$F,ежемесячный!$C:$C,$A13,ежемесячный!$D:$D,$A$1,ежемесячный!$E:$E,T$2)","v":0},{"$f":"SUMIFS(ежемесячный!$G:$G,ежемесячный!$C:$C,$A13,ежемесячный!$D:$D,$A$1,ежемесячный!$E:$E,T$2)","v":0},0]
["2014-03-10",{"$f":"SUMIFS(ежемесячный!$F:$F,ежемесячный!$C:$C,$A14,ежемесячный!$D:$D,$A$1,ежемесячный!$E:$E,B$2)","v":0},{"$f":"SUMIFS(ежемесячный!$G:$G,ежемесячный!$C:$C,$A14,ежемесячный!$D:$D,$A$1,ежемесячный!$E:$E,B$2)","v":0},{"$f":"SUMIFS(ежемесячный!$F:$F,ежемесячный!$C:$C,$A14,ежемесячный!$D:$D,$A$1,ежемесячный!$E:$E,D$2)","v":0},{"$f":"SUMIFS(ежемесячный!$G:$G,ежемесячный!$C:$C,$A14,ежемесячный!$D:$D,$A$1,ежемесячный!$E:$E,D$2)","v":0},{"$f":"SUMIFS(ежемесячный!$F:$F,ежемесячный!$C:$C,$A14,ежемесячный!$D:$D,$A$1,ежемесячный!$E:$E,F$2)","v":0},{"$f":"SUMIFS(ежемесячный!$G:$G,ежемесячный!$C:$C,$A14,ежемесячный!$D:$D,$A$1,ежемесячный!$E:$E,F$2)","v":0},{"$f":"SUMIFS(ежемесячный!$F:$F,ежемесячный!$C:$C,$A14,ежемесячный!$D:$D,$A$1,ежемесячный!$E:$E,H$2)","v":0},{"$f":"SUMIFS(ежемесячный!$G:$G,ежемесячный!$C:$C,$A14,ежемесячный!$D:$D,$A$1,ежемесячный!$E:$E,H$2)","v":0},{"$f":"SUMIFS(ежемесячный!$F:$F,ежемесячный!$C:$C,$A14,ежемесячный!$D:$D,$A$1,ежемесячный!$E:$E,J$2)","v":0},{"$f":"SUMIFS(ежемесячный!$G:$G,ежемесячный!$C:$C,$A14,ежемесячный!$D:$D,$A$1,ежемесячный!$E:$E,J$2)","v":0},{"$f":"SUMIFS(ежемесячный!$F:$F,ежемесячный!$C:$C,$A14,ежемесячный!$D:$D,$A$1,ежемесячный!$E:$E,L$2)","v":0},{"$f":"SUMIFS(ежемесячный!$G:$G,ежемесячный!$C:$C,$A14,ежемесячный!$D:$D,$A$1,ежемесячный!$E:$E,L$2)","v":0},{"$f":"SUMIFS(ежемесячный!$F:$F,ежемесячный!$C:$C,$A14,ежемесячный!$D:$D,$A$1,ежемесячный!$E:$E,N$2)","v":0},{"$f":"SUMIFS(ежемесячный!$G:$G,ежемесячный!$C:$C,$A14,ежемесячный!$D:$D,$A$1,ежемесячный!$E:$E,N$2)","v":0},{"$f":"SUMIFS(ежемесячный!$F:$F,ежемесячный!$C:$C,$A14,ежемесячный!$D:$D,$A$1,ежемесячный!$E:$E,P$2)","v":0},{"$f":"SUMIFS(ежемесячный!$G:$G,ежемесячный!$C:$C,$A14,ежемесячный!$D:$D,$A$1,ежемесячный!$E:$E,P$2)","v":0},{"$f":"SUMIFS(ежемесячный!$F:$F,ежемесячный!$C:$C,$A14,ежемесячный!$D:$D,$A$1,ежемесячный!$E:$E,R$2)","v":0},{"$f":"SUMIFS(ежемесячный!$G:$G,ежемесячный!$C:$C,$A14,ежемесячный!$D:$D,$A$1,ежемесячный!$E:$E,R$2)","v":0},{"$f":"SUMIFS(ежемесячный!$F:$F,ежемесячный!$C:$C,$A14,ежемесячный!$D:$D,$A$1,ежемесячный!$E:$E,T$2)","v":0},{"$f":"SUMIFS(ежемесячный!$G:$G,ежемесячный!$C:$C,$A14,ежемесячный!$D:$D,$A$1,ежемесячный!$E:$E,T$2)","v":0},0]
["2014-03-11",{"$f":"SUMIFS(ежемесячный!$F:$F,ежемесячный!$C:$C,$A15,ежемесячный!$D:$D,$A$1,ежемесячный!$E:$E,B$2)","v":0},{"$f":"SUMIFS(ежемесячный!$G:$G,ежемесячный!$C:$C,$A15,ежемесячный!$D:$D,$A$1,ежемесячный!$E:$E,B$2)","v":0},{"$f":"SUMIFS(ежемесячный!$F:$F,ежемесячный!$C:$C,$A15,ежемесячный!$D:$D,$A$1,ежемесячный!$E:$E,D$2)","v":0},{"$f":"SUMIFS(ежемесячный!$G:$G,ежемесячный!$C:$C,$A15,ежемесячный!$D:$D,$A$1,ежемесячный!$E:$E,D$2)","v":0},{"$f":"SUMIFS(ежемесячный!$F:$F,ежемесячный!$C:$C,$A15,ежемесячный!$D:$D,$A$1,ежемесячный!$E:$E,F$2)","v":0},{"$f":"SUMIFS(ежемесячный!$G:$G,ежемесячный!$C:$C,$A15,ежемесячный!$D:$D,$A$1,ежемесячный!$E:$E,F$2)","v":0},{"$f":"SUMIFS(ежемесячный!$F:$F,ежемесячный!$C:$C,$A15,ежемесячный!$D:$D,$A$1,ежемесячный!$E:$E,H$2)","v":0},{"$f":"SUMIFS(ежемесячный!$G:$G,ежемесячный!$C:$C,$A15,ежемесячный!$D:$D,$A$1,ежемесячный!$E:$E,H$2)","v":0},{"$f":"SUMIFS(ежемесячный!$F:$F,ежемесячный!$C:$C,$A15,ежемесячный!$D:$D,$A$1,ежемесячный!$E:$E,J$2)","v":0},{"$f":"SUMIFS(ежемесячный!$G:$G,ежемесячный!$C:$C,$A15,ежемесячный!$D:$D,$A$1,ежемесячный!$E:$E,J$2)","v":0},{"$f":"SUMIFS(ежемесячный!$F:$F,ежемесячный!$C:$C,$A15,ежемесячный!$D:$D,$A$1,ежемесячный!$E:$E,L$2)","v":0},{"$f":"SUMIFS(ежемесячный!$G:$G,ежемесячный!$C:$C,$A15,ежемесячный!$D:$D,$A$1,ежемесячный!$E:$E,L$2)","v":0},{"$f":"SUMIFS(ежемесячный!$F:$F,ежемесячный!$C:$C,$A15,ежемесячный!$D:$D,$A$1,ежемесячный!$E:$E,N$2)","v":0},{"$f":"SUMIFS(ежемесячный!$G:$G,ежемесячный!$C:$C,$A15,ежемесячный!$D:$D,$A$1,ежемесячный!$E:$E,N$2)","v":0},{"$f":"SUMIFS(ежемесячный!$F:$F,ежемесячный!$C:$C,$A15,ежемесячный!$D:$D,$A$1,ежемесячный!$E:$E,P$2)","v":0},{"$f":"SUMIFS(ежемесячный!$G:$G,ежемесячный!$C:$C,$A15,ежемесячный!$D:$D,$A$1,ежемесячный!$E:$E,P$2)","v":0},{"$f":"SUMIFS(ежемесячный!$F:$F,ежемесячный!$C:$C,$A15,ежемесячный!$D:$D,$A$1,ежемесячный!$E:$E,R$2)","v":0},{"$f":"SUMIFS(ежемесячный!$G:$G,ежемесячный!$C:$C,$A15,ежемесячный!$D:$D,$A$1,ежемесячный!$E:$E,R$2)","v":0},{"$f":"SUMIFS(ежемесячный!$F:$F,ежемесячный!$C:$C,$A15,ежемесячный!$D:$D,$A$1,ежемесячный!$E:$E,T$2)","v":0},{"$f":"SUMIFS(ежемесячный!$G:$G,ежемесячный!$C:$C,$A15,ежемесячный!$D:$D,$A$1,ежемесячный!$E:$E,T$2)","v":0},0]
["2014-03-12",{"$f":"SUMIFS(ежемесячный!$F:$F,ежемесячный!$C:$C,$A16,ежемесячный!$D:$D,$A$1,ежемесячный!$E:$E,B$2)","v":0},{"$f":"SUMIFS(ежемесячный!$G:$G,ежемесячный!$C:$C,$A16,ежемесячный!$D:$D,$A$1,ежемесячный!$E:$E,B$2)","v":0},{"$f":"SUMIFS(ежемесячный!$F:$F,ежемесячный!$C:$C,$A16,ежемесячный!$D:$D,$A$1,ежемесячный!$E:$E,D$2)","v":0},{"$f":"SUMIFS(ежемесячный!$G:$G,ежемесячный!$C:$C,$A16,ежемесячный!$D:$D,$A$1,ежемесячный!$E:$E,D$2)","v":0},{"$f":"SUMIFS(ежемесячный!$F:$F,ежемесячный!$C:$C,$A16,ежемесячный!$D:$D,$A$1,ежемесячный!$E:$E,F$2)","v":0},{"$f":"SUMIFS(ежемесячный!$G:$G,ежемесячный!$C:$C,$A16,ежемесячный!$D:$D,$A$1,ежемесячный!$E:$E,F$2)","v":0},{"$f":"SUMIFS(ежемесячный!$F:$F,ежемесячный!$C:$C,$A16,ежемесячный!$D:$D,$A$1,ежемесячный!$E:$E,H$2)","v":0},{"$f":"SUMIFS(ежемесячный!$G:$G,ежемесячный!$C:$C,$A16,ежемесячный!$D:$D,$A$1,ежемесячный!$E:$E,H$2)","v":0},{"$f":"SUMIFS(ежемесячный!$F:$F,ежемесячный!$C:$C,$A16,ежемесячный!$D:$D,$A$1,ежемесячный!$E:$E,J$2)","v":0},{"$f":"SUMIFS(ежемесячный!$G:$G,ежемесячный!$C:$C,$A16,ежемесячный!$D:$D,$A$1,ежемесячный!$E:$E,J$2)","v":0},{"$f":"SUMIFS(ежемесячный!$F:$F,ежемесячный!$C:$C,$A16,ежемесячный!$D:$D,$A$1,ежемесячный!$E:$E,L$2)","v":0},{"$f":"SUMIFS(ежемесячный!$G:$G,ежемесячный!$C:$C,$A16,ежемесячный!$D:$D,$A$1,ежемесячный!$E:$E,L$2)","v":0},{"$f":"SUMIFS(ежемесячный!$F:$F,ежемесячный!$C:$C,$A16,ежемесячный!$D:$D,$A$1,ежемесячный!$E:$E,N$2)","v":0},{"$f":"SUMIFS(ежемесячный!$G:$G,ежемесячный!$C:$C,$A16,ежемесячный!$D:$D,$A$1,ежемесячный!$E:$E,N$2)","v":0},{"$f":"SUMIFS(ежемесячный!$F:$F,ежемесячный!$C:$C,$A16,ежемесячный!$D:$D,$A$1,ежемесячный!$E:$E,P$2)","v":0},{"$f":"SUMIFS(ежемесячный!$G:$G,ежемесячный!$C:$C,$A16,ежемесячный!$D:$D,$A$1,ежемесячный!$E:$E,P$2)","v":0},{"$f":"SUMIFS(ежемесячный!$F:$F,ежемесячный!$C:$C,$A16,ежемесячный!$D:$D,$A$1,ежемесячный!$E:$E,R$2)","v":0},{"$f":"SUMIFS(ежемесячный!$G:$G,ежемесячный!$C:$C,$A16,ежемесячный!$D:$D,$A$1,ежемесячный!$E:$E,R$2)","v":0},{"$f":"SUMIFS(ежемесячный!$F:$F,ежемесячный!$C:$C,$A16,ежемесячный!$D:$D,$A$1,ежемесячный!$E:$E,T$2)","v":0},{"$f":"SUMIFS(ежемесячный!$G:$G,ежемесячный!$C:$C,$A16,ежемесячный!$D:$D,$A$1,ежемесячный!$E:$E,T$2)","v":0},0]
["2014-03-13",{"$f":"SUMIFS(ежемесячный!$F:$F,ежемесячный!$C:$C,$A17,ежемесячный!$D:$D,$A$1,ежемесячный!$E:$E,B$2)","v":0},{"$f":"SUMIFS(ежемесячный!$G:$G,ежемесячный!$C:$C,$A17,ежемесячный!$D:$D,$A$1,ежемесячный!$E:$E,B$2)","v":0},{"$f":"SUMIFS(ежемесячный!$F:$F,ежемесячный!$C:$C,$A17,ежемесячный!$D:$D,$A$1,ежемесячный!$E:$E,D$2)","v":0},{"$f":"SUMIFS(ежемесячный!$G:$G,ежемесячный!$C:$C,$A17,ежемесячный!$D:$D,$A$1,ежемесячный!$E:$E,D$2)","v":0},{"$f":"SUMIFS(ежемесячный!$F:$F,ежемесячный!$C:$C,$A17,ежемесячный!$D:$D,$A$1,ежемесячный!$E:$E,F$2)","v":0},{"$f":"SUMIFS(ежемесячный!$G:$G,ежемесячный!$C:$C,$A17,ежемесячный!$D:$D,$A$1,ежемесячный!$E:$E,F$2)","v":0},{"$f":"SUMIFS(ежемесячный!$F:$F,ежемесячный!$C:$C,$A17,ежемесячный!$D:$D,$A$1,ежемесячный!$E:$E,H$2)","v":0},{"$f":"SUMIFS(ежемесячный!$G:$G,ежемесячный!$C:$C,$A17,ежемесячный!$D:$D,$A$1,ежемесячный!$E:$E,H$2)","v":0},{"$f":"SUMIFS(ежемесячный!$F:$F,ежемесячный!$C:$C,$A17,ежемесячный!$D:$D,$A$1,ежемесячный!$E:$E,J$2)","v":0},{"$f":"SUMIFS(ежемесячный!$G:$G,ежемесячный!$C:$C,$A17,ежемесячный!$D:$D,$A$1,ежемесячный!$E:$E,J$2)","v":0},{"$f":"SUMIFS(ежемесячный!$F:$F,ежемесячный!$C:$C,$A17,ежемесячный!$D:$D,$A$1,ежемесячный!$E:$E,L$2)","v":0},{"$f":"SUMIFS(ежемесячный!$G:$G,ежемесячный!$C:$C,$A17,ежемесячный!$D:$D,$A$1,ежемесячный!$E:$E,L$2)","v":0},{"$f":"SUMIFS(ежемесячный!$F:$F,ежемесячный!$C:$C,$A17,ежемесячный!$D:$D,$A$1,ежемесячный!$E:$E,N$2)","v":0},{"$f":"SUMIFS(ежемесячный!$G:$G,ежемесячный!$C:$C,$A17,ежемесячный!$D:$D,$A$1,ежемесячный!$E:$E,N$2)","v":0},{"$f":"SUMIFS(ежемесячный!$F:$F,ежемесячный!$C:$C,$A17,ежемесячный!$D:$D,$A$1,ежемесячный!$E:$E,P$2)","v":0},{"$f":"SUMIFS(ежемесячный!$G:$G,ежемесячный!$C:$C,$A17,ежемесячный!$D:$D,$A$1,ежемесячный!$E:$E,P$2)","v":0},{"$f":"SUMIFS(ежемесячный!$F:$F,ежемесячный!$C:$C,$A17,ежемесячный!$D:$D,$A$1,ежемесячный!$E:$E,R$2)","v":0},{"$f":"SUMIFS(ежемесячный!$G:$G,ежемесячный!$C:$C,$A17,ежемесячный!$D:$D,$A$1,ежемесячный!$E:$E,R$2)","v":0},{"$f":"SUMIFS(ежемесячный!$F:$F,ежемесячный!$C:$C,$A17,ежемесячный!$D:$D,$A$1,ежемесячный!$E:$E,T$2)","v":0},{"$f":"SUMIFS(ежемесячный!$G:$G,ежемесячный!$C:$C,$A17,ежемесячный!$D:$D,$A$1,ежемесячный!$E:$E,T$2)","v":0},0]
["2014-03-14",{"$f":"SUMIFS(ежемесячный!$F:$F,ежемесячный!$C:$C,$A18,ежемесячный!$D:$D,$A$1,ежемесячный!$E:$E,B$2)","v":0},{"$f":"SUMIFS(ежемесячный!$G:$G,ежемесячный!$C:$C,$A18,ежемесячный!$D:$D,$A$1,ежемесячный!$E:$E,B$2)","v":0},{"$f":"SUMIFS(ежемесячный!$F:$F,ежемесячный!$C:$C,$A18,ежемесячный!$D:$D,$A$1,ежемесячный!$E:$E,D$2)","v":0},{"$f":"SUMIFS(ежемесячный!$G:$G,ежемесячный!$C:$C,$A18,ежемесячный!$D:$D,$A$1,ежемесячный!$E:$E,D$2)","v":0},{"$f":"SUMIFS(ежемесячный!$F:$F,ежемесячный!$C:$C,$A18,ежемесячный!$D:$D,$A$1,ежемесячный!$E:$E,F$2)","v":0},{"$f":"SUMIFS(ежемесячный!$G:$G,ежемесячный!$C:$C,$A18,ежемесячный!$D:$D,$A$1,ежемесячный!$E:$E,F$2)","v":0},{"$f":"SUMIFS(ежемесячный!$F:$F,ежемесячный!$C:$C,$A18,ежемесячный!$D:$D,$A$1,ежемесячный!$E:$E,H$2)","v":0},{"$f":"SUMIFS(ежемесячный!$G:$G,ежемесячный!$C:$C,$A18,ежемесячный!$D:$D,$A$1,ежемесячный!$E:$E,H$2)","v":0},{"$f":"SUMIFS(ежемесячный!$F:$F,ежемесячный!$C:$C,$A18,ежемесячный!$D:$D,$A$1,ежемесячный!$E:$E,J$2)","v":0},{"$f":"SUMIFS(ежемесячный!$G:$G,ежемесячный!$C:$C,$A18,ежемесячный!$D:$D,$A$1,ежемесячный!$E:$E,J$2)","v":0},{"$f":"SUMIFS(ежемесячный!$F:$F,ежемесячный!$C:$C,$A18,ежемесячный!$D:$D,$A$1,ежемесячный!$E:$E,L$2)","v":0},{"$f":"SUMIFS(ежемесячный!$G:$G,ежемесячный!$C:$C,$A18,ежемесячный!$D:$D,$A$1,ежемесячный!$E:$E,L$2)","v":0},{"$f":"SUMIFS(ежемесячный!$F:$F,ежемесячный!$C:$C,$A18,ежемесячный!$D:$D,$A$1,ежемесячный!$E:$E,N$2)","v":0},{"$f":"SUMIFS(ежемесячный!$G:$G,ежемесячный!$C:$C,$A18,ежемесячный!$D:$D,$A$1,ежемесячный!$E:$E,N$2)","v":0},{"$f":"SUMIFS(ежемесячный!$F:$F,ежемесячный!$C:$C,$A18,ежемесячный!$D:$D,$A$1,ежемесячный!$E:$E,P$2)","v":0},{"$f":"SUMIFS(ежемесячный!$G:$G,ежемесячный!$C:$C,$A18,ежемесячный!$D:$D,$A$1,ежемесячный!$E:$E,P$2)","v":0},{"$f":"SUMIFS(ежемесячный!$F:$F,ежемесячный!$C:$C,$A18,ежемесячный!$D:$D,$A$1,ежемесячный!$E:$E,R$2)","v":0},{"$f":"SUMIFS(ежемесячный!$G:$G,ежемесячный!$C:$C,$A18,ежемесячный!$D:$D,$A$1,ежемесячный!$E:$E,R$2)","v":0},{"$f":"SUMIFS(ежемесячный!$F:$F,ежемесячный!$C:$C,$A18,ежемесячный!$D:$D,$A$1,ежемесячный!$E:$E,T$2)","v":0},{"$f":"SUMIFS(ежемесячный!$G:$G,ежемесячный!$C:$C,$A18,ежемесячный!$D:$D,$A$1,ежемесячный!$E:$E,T$2)","v":0},0]
["2014-03-15",{"$f":"SUMIFS(ежемесячный!$F:$F,ежемесячный!$C:$C,$A19,ежемесячный!$D:$D,$A$1,ежемесячный!$E:$E,B$2)","v":0},{"$f":"SUMIFS(ежемесячный!$G:$G,ежемесячный!$C:$C,$A19,ежемесячный!$D:$D,$A$1,ежемесячный!$E:$E,B$2)","v":0},{"$f":"SUMIFS(ежемесячный!$F:$F,ежемесячный!$C:$C,$A19,ежемесячный!$D:$D,$A$1,ежемесячный!$E:$E,D$2)","v":0},{"$f":"SUMIFS(ежемесячный!$G:$G,ежемесячный!$C:$C,$A19,ежемесячный!$D:$D,$A$1,ежемесячный!$E:$E,D$2)","v":0},{"$f":"SUMIFS(ежемесячный!$F:$F,ежемесячный!$C:$C,$A19,ежемесячный!$D:$D,$A$1,ежемесячный!$E:$E,F$2)","v":0},{"$f":"SUMIFS(ежемесячный!$G:$G,ежемесячный!$C:$C,$A19,ежемесячный!$D:$D,$A$1,ежемесячный!$E:$E,F$2)","v":0},{"$f":"SUMIFS(ежемесячный!$F:$F,ежемесячный!$C:$C,$A19,ежемесячный!$D:$D,$A$1,ежемесячный!$E:$E,H$2)","v":0},{"$f":"SUMIFS(ежемесячный!$G:$G,ежемесячный!$C:$C,$A19,ежемесячный!$D:$D,$A$1,ежемесячный!$E:$E,H$2)","v":0},{"$f":"SUMIFS(ежемесячный!$F:$F,ежемесячный!$C:$C,$A19,ежемесячный!$D:$D,$A$1,ежемесячный!$E:$E,J$2)","v":0},{"$f":"SUMIFS(ежемесячный!$G:$G,ежемесячный!$C:$C,$A19,ежемесячный!$D:$D,$A$1,ежемесячный!$E:$E,J$2)","v":0},{"$f":"SUMIFS(ежемесячный!$F:$F,ежемесячный!$C:$C,$A19,ежемесячный!$D:$D,$A$1,ежемесячный!$E:$E,L$2)","v":0},{"$f":"SUMIFS(ежемесячный!$G:$G,ежемесячный!$C:$C,$A19,ежемесячный!$D:$D,$A$1,ежемесячный!$E:$E,L$2)","v":0},{"$f":"SUMIFS(ежемесячный!$F:$F,ежемесячный!$C:$C,$A19,ежемесячный!$D:$D,$A$1,ежемесячный!$E:$E,N$2)","v":0},{"$f":"SUMIFS(ежемесячный!$G:$G,ежемесячный!$C:$C,$A19,ежемесячный!$D:$D,$A$1,ежемесячный!$E:$E,N$2)","v":0},{"$f":"SUMIFS(ежемесячный!$F:$F,ежемесячный!$C:$C,$A19,ежемесячный!$D:$D,$A$1,ежемесячный!$E:$E,P$2)","v":0},{"$f":"SUMIFS(ежемесячный!$G:$G,ежемесячный!$C:$C,$A19,ежемесячный!$D:$D,$A$1,ежемесячный!$E:$E,P$2)","v":0},{"$f":"SUMIFS(ежемесячный!$F:$F,ежемесячный!$C:$C,$A19,ежемесячный!$D:$D,$A$1,ежемесячный!$E:$E,R$2)","v":0},{"$f":"SUMIFS(ежемесячный!$G:$G,ежемесячный!$C:$C,$A19,ежемесячный!$D:$D,$A$1,ежемесячный!$E:$E,R$2)","v":0},{"$f":"SUMIFS(ежемесячный!$F:$F,ежемесячный!$C:$C,$A19,ежемесячный!$D:$D,$A$1,ежемесячный!$E:$E,T$2)","v":0},{"$f":"SUMIFS(ежемесячный!$G:$G,ежемесячный!$C:$C,$A19,ежемесячный!$D:$D,$A$1,ежемесячный!$E:$E,T$2)","v":0},0]
["2014-03-16",{"$f":"SUMIFS(ежемесячный!$F:$F,ежемесячный!$C:$C,$A20,ежемесячный!$D:$D,$A$1,ежемесячный!$E:$E,B$2)","v":0},{"$f":"SUMIFS(ежемесячный!$G:$G,ежемесячный!$C:$C,$A20,ежемесячный!$D:$D,$A$1,ежемесячный!$E:$E,B$2)","v":0},{"$f":"SUMIFS(ежемесячный!$F:$F,ежемесячный!$C:$C,$A20,ежемесячный!$D:$D,$A$1,ежемесячный!$E:$E,D$2)","v":0},{"$f":"SUMIFS(ежемесячный!$G:$G,ежемесячный!$C:$C,$A20,ежемесячный!$D:$D,$A$1,ежемесячный!$E:$E,D$2)","v":0},{"$f":"SUMIFS(ежемесячный!$F:$F,ежемесячный!$C:$C,$A20,ежемесячный!$D:$D,$A$1,ежемесячный!$E:$E,F$2)","v":0},{"$f":"SUMIFS(ежемесячный!$G:$G,ежемесячный!$C:$C,$A20,ежемесячный!$D:$D,$A$1,ежемесячный!$E:$E,F$2)","v":0},{"$f":"SUMIFS(ежемесячный!$F:$F,ежемесячный!$C:$C,$A20,ежемесячный!$D:$D,$A$1,ежемесячный!$E:$E,H$2)","v":0},{"$f":"SUMIFS(ежемесячный!$G:$G,ежемесячный!$C:$C,$A20,ежемесячный!$D:$D,$A$1,ежемесячный!$E:$E,H$2)","v":0},{"$f":"SUMIFS(ежемесячный!$F:$F,ежемесячный!$C:$C,$A20,ежемесячный!$D:$D,$A$1,ежемесячный!$E:$E,J$2)","v":0},{"$f":"SUMIFS(ежемесячный!$G:$G,ежемесячный!$C:$C,$A20,ежемесячный!$D:$D,$A$1,ежемесячный!$E:$E,J$2)","v":0},{"$f":"SUMIFS(ежемесячный!$F:$F,ежемесячный!$C:$C,$A20,ежемесячный!$D:$D,$A$1,ежемесячный!$E:$E,L$2)","v":0},{"$f":"SUMIFS(ежемесячный!$G:$G,ежемесячный!$C:$C,$A20,ежемесячный!$D:$D,$A$1,ежемесячный!$E:$E,L$2)","v":0},{"$f":"SUMIFS(ежемесячный!$F:$F,ежемесячный!$C:$C,$A20,ежемесячный!$D:$D,$A$1,ежемесячный!$E:$E,N$2)","v":0},{"$f":"SUMIFS(ежемесячный!$G:$G,ежемесячный!$C:$C,$A20,ежемесячный!$D:$D,$A$1,ежемесячный!$E:$E,N$2)","v":0},{"$f":"SUMIFS(ежемесячный!$F:$F,ежемесячный!$C:$C,$A20,ежемесячный!$D:$D,$A$1,ежемесячный!$E:$E,P$2)","v":0},{"$f":"SUMIFS(ежемесячный!$G:$G,ежемесячный!$C:$C,$A20,ежемесячный!$D:$D,$A$1,ежемесячный!$E:$E,P$2)","v":0},{"$f":"SUMIFS(ежемесячный!$F:$F,ежемесячный!$C:$C,$A20,ежемесячный!$D:$D,$A$1,ежемесячный!$E:$E,R$2)","v":0},{"$f":"SUMIFS(ежемесячный!$G:$G,ежемесячный!$C:$C,$A20,ежемесячный!$D:$D,$A$1,ежемесячный!$E:$E,R$2)","v":0},{"$f":"SUMIFS(ежемесячный!$F:$F,ежемесячный!$C:$C,$A20,ежемесячный!$D:$D,$A$1,ежемесячный!$E:$E,T$2)","v":0},{"$f":"SUMIFS(ежемесячный!$G:$G,ежемесячный!$C:$C,$A20,ежемесячный!$D:$D,$A$1,ежемесячный!$E:$E,T$2)","v":0},0]
["2014-03-17",{"$f":"SUMIFS(ежемесячный!$F:$F,ежемесячный!$C:$C,$A21,ежемесячный!$D:$D,$A$1,ежемесячный!$E:$E,B$2)","v":0},{"$f":"SUMIFS(ежемесячный!$G:$G,ежемесячный!$C:$C,$A21,ежемесячный!$D:$D,$A$1,ежемесячный!$E:$E,B$2)","v":0},{"$f":"SUMIFS(ежемесячный!$F:$F,ежемесячный!$C:$C,$A21,ежемесячный!$D:$D,$A$1,ежемесячный!$E:$E,D$2)","v":0},{"$f":"SUMIFS(ежемесячный!$G:$G,ежемесячный!$C:$C,$A21,ежемесячный!$D:$D,$A$1,ежемесячный!$E:$E,D$2)","v":0},{"$f":"SUMIFS(ежемесячный!$F:$F,ежемесячный!$C:$C,$A21,ежемесячный!$D:$D,$A$1,ежемесячный!$E:$E,F$2)","v":0},{"$f":"SUMIFS(ежемесячный!$G:$G,ежемесячный!$C:$C,$A21,ежемесячный!$D:$D,$A$1,ежемесячный!$E:$E,F$2)","v":0},{"$f":"SUMIFS(ежемесячный!$F:$F,ежемесячный!$C:$C,$A21,ежемесячный!$D:$D,$A$1,ежемесячный!$E:$E,H$2)","v":0},{"$f":"SUMIFS(ежемесячный!$G:$G,ежемесячный!$C:$C,$A21,ежемесячный!$D:$D,$A$1,ежемесячный!$E:$E,H$2)","v":0},{"$f":"SUMIFS(ежемесячный!$F:$F,ежемесячный!$C:$C,$A21,ежемесячный!$D:$D,$A$1,ежемесячный!$E:$E,J$2)","v":0},{"$f":"SUMIFS(ежемесячный!$G:$G,ежемесячный!$C:$C,$A21,ежемесячный!$D:$D,$A$1,ежемесячный!$E:$E,J$2)","v":0},{"$f":"SUMIFS(ежемесячный!$F:$F,ежемесячный!$C:$C,$A21,ежемесячный!$D:$D,$A$1,ежемесячный!$E:$E,L$2)","v":0},{"$f":"SUMIFS(ежемесячный!$G:$G,ежемесячный!$C:$C,$A21,ежемесячный!$D:$D,$A$1,ежемесячный!$E:$E,L$2)","v":0},{"$f":"SUMIFS(ежемесячный!$F:$F,ежемесячный!$C:$C,$A21,ежемесячный!$D:$D,$A$1,ежемесячный!$E:$E,N$2)","v":0},{"$f":"SUMIFS(ежемесячный!$G:$G,ежемесячный!$C:$C,$A21,ежемесячный!$D:$D,$A$1,ежемесячный!$E:$E,N$2)","v":0},{"$f":"SUMIFS(ежемесячный!$F:$F,ежемесячный!$C:$C,$A21,ежемесячный!$D:$D,$A$1,ежемесячный!$E:$E,P$2)","v":0},{"$f":"SUMIFS(ежемесячный!$G:$G,ежемесячный!$C:$C,$A21,ежемесячный!$D:$D,$A$1,ежемесячный!$E:$E,P$2)","v":0},{"$f":"SUMIFS(ежемесячный!$F:$F,ежемесячный!$C:$C,$A21,ежемесячный!$D:$D,$A$1,ежемесячный!$E:$E,R$2)","v":0},{"$f":"SUMIFS(ежемесячный!$G:$G,ежемесячный!$C:$C,$A21,ежемесячный!$D:$D,$A$1,ежемесячный!$E:$E,R$2)","v":0},{"$f":"SUMIFS(ежемесячный!$F:$F,ежемесячный!$C:$C,$A21,ежемесячный!$D:$D,$A$1,ежемесячный!$E:$E,T$2)","v":0},{"$f":"SUMIFS(ежемесячный!$G:$G,ежемесячный!$C:$C,$A21,ежемесячный!$D:$D,$A$1,ежемесячный!$E:$E,T$2)","v":0},0]
["2014-03-18",{"$f":"SUMIFS(ежемесячный!$F:$F,ежемесячный!$C:$C,$A22,ежемесячный!$D:$D,$A$1,ежемесячный!$E:$E,B$2)","v":0},{"$f":"SUMIFS(ежемесячный!$G:$G,ежемесячный!$C:$C,$A22,ежемесячный!$D:$D,$A$1,ежемесячный!$E:$E,B$2)","v":0},{"$f":"SUMIFS(ежемесячный!$F:$F,ежемесячный!$C:$C,$A22,ежемесячный!$D:$D,$A$1,ежемесячный!$E:$E,D$2)","v":0},{"$f":"SUMIFS(ежемесячный!$G:$G,ежемесячный!$C:$C,$A22,ежемесячный!$D:$D,$A$1,ежемесячный!$E:$E,D$2)","v":0},{"$f":"SUMIFS(ежемесячный!$F:$F,ежемесячный!$C:$C,$A22,ежемесячный!$D:$D,$A$1,ежемесячный!$E:$E,F$2)","v":0},{"$f":"SUMIFS(ежемесячный!$G:$G,ежемесячный!$C:$C,$A22,ежемесячный!$D:$D,$A$1,ежемесячный!$E:$E,F$2)","v":0},{"$f":"SUMIFS(ежемесячный!$F:$F,ежемесячный!$C:$C,$A22,ежемесячный!$D:$D,$A$1,ежемесячный!$E:$E,H$2)","v":0},{"$f":"SUMIFS(ежемесячный!$G:$G,ежемесячный!$C:$C,$A22,ежемесячный!$D:$D,$A$1,ежемесячный!$E:$E,H$2)","v":0},{"$f":"SUMIFS(ежемесячный!$F:$F,ежемесячный!$C:$C,$A22,ежемесячный!$D:$D,$A$1,ежемесячный!$E:$E,J$2)","v":0},{"$f":"SUMIFS(ежемесячный!$G:$G,ежемесячный!$C:$C,$A22,ежемесячный!$D:$D,$A$1,ежемесячный!$E:$E,J$2)","v":0},{"$f":"SUMIFS(ежемесячный!$F:$F,ежемесячный!$C:$C,$A22,ежемесячный!$D:$D,$A$1,ежемесячный!$E:$E,L$2)","v":0},{"$f":"SUMIFS(ежемесячный!$G:$G,ежемесячный!$C:$C,$A22,ежемесячный!$D:$D,$A$1,ежемесячный!$E:$E,L$2)","v":0},{"$f":"SUMIFS(ежемесячный!$F:$F,ежемесячный!$C:$C,$A22,ежемесячный!$D:$D,$A$1,ежемесячный!$E:$E,N$2)","v":0},{"$f":"SUMIFS(ежемесячный!$G:$G,ежемесячный!$C:$C,$A22,ежемесячный!$D:$D,$A$1,ежемесячный!$E:$E,N$2)","v":0},{"$f":"SUMIFS(ежемесячный!$F:$F,ежемесячный!$C:$C,$A22,ежемесячный!$D:$D,$A$1,ежемесячный!$E:$E,P$2)","v":0},{"$f":"SUMIFS(ежемесячный!$G:$G,ежемесячный!$C:$C,$A22,ежемесячный!$D:$D,$A$1,ежемесячный!$E:$E,P$2)","v":0},{"$f":"SUMIFS(ежемесячный!$F:$F,ежемесячный!$C:$C,$A22,ежемесячный!$D:$D,$A$1,ежемесячный!$E:$E,R$2)","v":0},{"$f":"SUMIFS(ежемесячный!$G:$G,ежемесячный!$C:$C,$A22,ежемесячный!$D:$D,$A$1,ежемесячный!$E:$E,R$2)","v":0},{"$f":"SUMIFS(ежемесячный!$F:$F,ежемесячный!$C:$C,$A22,ежемесячный!$D:$D,$A$1,ежемесячный!$E:$E,T$2)","v":0},{"$f":"SUMIFS(ежемесячный!$G:$G,ежемесячный!$C:$C,$A22,ежемесячный!$D:$D,$A$1,ежемесячный!$E:$E,T$2)","v":0},0]
["2014-03-19",{"$f":"SUMIFS(ежемесячный!$F:$F,ежемесячный!$C:$C,$A23,ежемесячный!$D:$D,$A$1,ежемесячный!$E:$E,B$2)","v":0},{"$f":"SUMIFS(ежемесячный!$G:$G,ежемесячный!$C:$C,$A23,ежемесячный!$D:$D,$A$1,ежемесячный!$E:$E,B$2)","v":0},{"$f":"SUMIFS(ежемесячный!$F:$F,ежемесячный!$C:$C,$A23,ежемесячный!$D:$D,$A$1,ежемесячный!$E:$E,D$2)","v":0},{"$f":"SUMIFS(ежемесячный!$G:$G,ежемесячный!$C:$C,$A23,ежемесячный!$D:$D,$A$1,ежемесячный!$E:$E,D$2)","v":0},{"$f":"SUMIFS(ежемесячный!$F:$F,ежемесячный!$C:$C,$A23,ежемесячный!$D:$D,$A$1,ежемесячный!$E:$E,F$2)","v":0},{"$f":"SUMIFS(ежемесячный!$G:$G,ежемесячный!$C:$C,$A23,ежемесячный!$D:$D,$A$1,ежемесячный!$E:$E,F$2)","v":0},{"$f":"SUMIFS(ежемесячный!$F:$F,ежемесячный!$C:$C,$A23,ежемесячный!$D:$D,$A$1,ежемесячный!$E:$E,H$2)","v":0},{"$f":"SUMIFS(ежемесячный!$G:$G,ежемесячный!$C:$C,$A23,ежемесячный!$D:$D,$A$1,ежемесячный!$E:$E,H$2)","v":0},{"$f":"SUMIFS(ежемесячный!$F:$F,ежемесячный!$C:$C,$A23,ежемесячный!$D:$D,$A$1,ежемесячный!$E:$E,J$2)","v":0},{"$f":"SUMIFS(ежемесячный!$G:$G,ежемесячный!$C:$C,$A23,ежемесячный!$D:$D,$A$1,ежемесячный!$E:$E,J$2)","v":0},{"$f":"SUMIFS(ежемесячный!$F:$F,ежемесячный!$C:$C,$A23,ежемесячный!$D:$D,$A$1,ежемесячный!$E:$E,L$2)","v":0},{"$f":"SUMIFS(ежемесячный!$G:$G,ежемесячный!$C:$C,$A23,ежемесячный!$D:$D,$A$1,ежемесячный!$E:$E,L$2)","v":0},{"$f":"SUMIFS(ежемесячный!$F:$F,ежемесячный!$C:$C,$A23,ежемесячный!$D:$D,$A$1,ежемесячный!$E:$E,N$2)","v":0},{"$f":"SUMIFS(ежемесячный!$G:$G,ежемесячный!$C:$C,$A23,ежемесячный!$D:$D,$A$1,ежемесячный!$E:$E,N$2)","v":0},{"$f":"SUMIFS(ежемесячный!$F:$F,ежемесячный!$C:$C,$A23,ежемесячный!$D:$D,$A$1,ежемесячный!$E:$E,P$2)","v":0},{"$f":"SUMIFS(ежемесячный!$G:$G,ежемесячный!$C:$C,$A23,ежемесячный!$D:$D,$A$1,ежемесячный!$E:$E,P$2)","v":0},{"$f":"SUMIFS(ежемесячный!$F:$F,ежемесячный!$C:$C,$A23,ежемесячный!$D:$D,$A$1,ежемесячный!$E:$E,R$2)","v":0},{"$f":"SUMIFS(ежемесячный!$G:$G,ежемесячный!$C:$C,$A23,ежемесячный!$D:$D,$A$1,ежемесячный!$E:$E,R$2)","v":0},{"$f":"SUMIFS(ежемесячный!$F:$F,ежемесячный!$C:$C,$A23,ежемесячный!$D:$D,$A$1,ежемесячный!$E:$E,T$2)","v":0},{"$f":"SUMIFS(ежемесячный!$G:$G,ежемесячный!$C:$C,$A23,ежемесячный!$D:$D,$A$1,ежемесячный!$E:$E,T$2)","v":0},0]
["2014-03-20",{"$f":"SUMIFS(ежемесячный!$F:$F,ежемесячный!$C:$C,$A24,ежемесячный!$D:$D,$A$1,ежемесячный!$E:$E,B$2)","v":0},{"$f":"SUMIFS(ежемесячный!$G:$G,ежемесячный!$C:$C,$A24,ежемесячный!$D:$D,$A$1,ежемесячный!$E:$E,B$2)","v":0},{"$f":"SUMIFS(ежемесячный!$F:$F,ежемесячный!$C:$C,$A24,ежемесячный!$D:$D,$A$1,ежемесячный!$E:$E,D$2)","v":0},{"$f":"SUMIFS(ежемесячный!$G:$G,ежемесячный!$C:$C,$A24,ежемесячный!$D:$D,$A$1,ежемесячный!$E:$E,D$2)","v":0},{"$f":"SUMIFS(ежемесячный!$F:$F,ежемесячный!$C:$C,$A24,ежемесячный!$D:$D,$A$1,ежемесячный!$E:$E,F$2)","v":0},{"$f":"SUMIFS(ежемесячный!$G:$G,ежемесячный!$C:$C,$A24,ежемесячный!$D:$D,$A$1,ежемесячный!$E:$E,F$2)","v":0},{"$f":"SUMIFS(ежемесячный!$F:$F,ежемесячный!$C:$C,$A24,ежемесячный!$D:$D,$A$1,ежемесячный!$E:$E,H$2)","v":0},{"$f":"SUMIFS(ежемесячный!$G:$G,ежемесячный!$C:$C,$A24,ежемесячный!$D:$D,$A$1,ежемесячный!$E:$E,H$2)","v":0},{"$f":"SUMIFS(ежемесячный!$F:$F,ежемесячный!$C:$C,$A24,ежемесячный!$D:$D,$A$1,ежемесячный!$E:$E,J$2)","v":0},{"$f":"SUMIFS(ежемесячный!$G:$G,ежемесячный!$C:$C,$A24,ежемесячный!$D:$D,$A$1,ежемесячный!$E:$E,J$2)","v":0},{"$f":"SUMIFS(ежемесячный!$F:$F,ежемесячный!$C:$C,$A24,ежемесячный!$D:$D,$A$1,ежемесячный!$E:$E,L$2)","v":0},{"$f":"SUMIFS(ежемесячный!$G:$G,ежемесячный!$C:$C,$A24,ежемесячный!$D:$D,$A$1,ежемесячный!$E:$E,L$2)","v":0},{"$f":"SUMIFS(ежемесячный!$F:$F,ежемесячный!$C:$C,$A24,ежемесячный!$D:$D,$A$1,ежемесячный!$E:$E,N$2)","v":0},{"$f":"SUMIFS(ежемесячный!$G:$G,ежемесячный!$C:$C,$A24,ежемесячный!$D:$D,$A$1,ежемесячный!$E:$E,N$2)","v":0},{"$f":"SUMIFS(ежемесячный!$F:$F,ежемесячный!$C:$C,$A24,ежемесячный!$D:$D,$A$1,ежемесячный!$E:$E,P$2)","v":0},{"$f":"SUMIFS(ежемесячный!$G:$G,ежемесячный!$C:$C,$A24,ежемесячный!$D:$D,$A$1,ежемесячный!$E:$E,P$2)","v":0},{"$f":"SUMIFS(ежемесячный!$F:$F,ежемесячный!$C:$C,$A24,ежемесячный!$D:$D,$A$1,ежемесячный!$E:$E,R$2)","v":0},{"$f":"SUMIFS(ежемесячный!$G:$G,ежемесячный!$C:$C,$A24,ежемесячный!$D:$D,$A$1,ежемесячный!$E:$E,R$2)","v":0},{"$f":"SUMIFS(ежемесячный!$F:$F,ежемесячный!$C:$C,$A24,ежемесячный!$D:$D,$A$1,ежемесячный!$E:$E,T$2)","v":0},{"$f":"SUMIFS(ежемесячный!$G:$G,ежемесячный!$C:$C,$A24,ежемесячный!$D:$D,$A$1,ежемесячный!$E:$E,T$2)","v":0},0]
["2014-03-21",{"$f":"SUMIFS(ежемесячный!$F:$F,ежемесячный!$C:$C,$A25,ежемесячный!$D:$D,$A$1,ежемесячный!$E:$E,B$2)","v":0},{"$f":"SUMIFS(ежемесячный!$G:$G,ежемесячный!$C:$C,$A25,ежемесячный!$D:$D,$A$1,ежемесячный!$E:$E,B$2)","v":0},{"$f":"SUMIFS(ежемесячный!$F:$F,ежемесячный!$C:$C,$A25,ежемесячный!$D:$D,$A$1,ежемесячный!$E:$E,D$2)","v":0},{"$f":"SUMIFS(ежемесячный!$G:$G,ежемесячный!$C:$C,$A25,ежемесячный!$D:$D,$A$1,ежемесячный!$E:$E,D$2)","v":0},{"$f":"SUMIFS(ежемесячный!$F:$F,ежемесячный!$C:$C,$A25,ежемесячный!$D:$D,$A$1,ежемесячный!$E:$E,F$2)","v":0},{"$f":"SUMIFS(ежемесячный!$G:$G,ежемесячный!$C:$C,$A25,ежемесячный!$D:$D,$A$1,ежемесячный!$E:$E,F$2)","v":0},{"$f":"SUMIFS(ежемесячный!$F:$F,ежемесячный!$C:$C,$A25,ежемесячный!$D:$D,$A$1,ежемесячный!$E:$E,H$2)","v":0},{"$f":"SUMIFS(ежемесячный!$G:$G,ежемесячный!$C:$C,$A25,ежемесячный!$D:$D,$A$1,ежемесячный!$E:$E,H$2)","v":0},{"$f":"SUMIFS(ежемесячный!$F:$F,ежемесячный!$C:$C,$A25,ежемесячный!$D:$D,$A$1,ежемесячный!$E:$E,J$2)","v":0},{"$f":"SUMIFS(ежемесячный!$G:$G,ежемесячный!$C:$C,$A25,ежемесячный!$D:$D,$A$1,ежемесячный!$E:$E,J$2)","v":0},{"$f":"SUMIFS(ежемесячный!$F:$F,ежемесячный!$C:$C,$A25,ежемесячный!$D:$D,$A$1,ежемесячный!$E:$E,L$2)","v":0},{"$f":"SUMIFS(ежемесячный!$G:$G,ежемесячный!$C:$C,$A25,ежемесячный!$D:$D,$A$1,ежемесячный!$E:$E,L$2)","v":0},{"$f":"SUMIFS(ежемесячный!$F:$F,ежемесячный!$C:$C,$A25,ежемесячный!$D:$D,$A$1,ежемесячный!$E:$E,N$2)","v":0},{"$f":"SUMIFS(ежемесячный!$G:$G,ежемесячный!$C:$C,$A25,ежемесячный!$D:$D,$A$1,ежемесячный!$E:$E,N$2)","v":0},{"$f":"SUMIFS(ежемесячный!$F:$F,ежемесячный!$C:$C,$A25,ежемесячный!$D:$D,$A$1,ежемесячный!$E:$E,P$2)","v":0},{"$f":"SUMIFS(ежемесячный!$G:$G,ежемесячный!$C:$C,$A25,ежемесячный!$D:$D,$A$1,ежемесячный!$E:$E,P$2)","v":0},{"$f":"SUMIFS(ежемесячный!$F:$F,ежемесячный!$C:$C,$A25,ежемесячный!$D:$D,$A$1,ежемесячный!$E:$E,R$2)","v":0},{"$f":"SUMIFS(ежемесячный!$G:$G,ежемесячный!$C:$C,$A25,ежемесячный!$D:$D,$A$1,ежемесячный!$E:$E,R$2)","v":0},{"$f":"SUMIFS(ежемесячный!$F:$F,ежемесячный!$C:$C,$A25,ежемесячный!$D:$D,$A$1,ежемесячный!$E:$E,T$2)","v":0},{"$f":"SUMIFS(ежемесячный!$G:$G,ежемесячный!$C:$C,$A25,ежемесячный!$D:$D,$A$1,ежемесячный!$E:$E,T$2)","v":0},0]
["2014-03-22",{"$f":"SUMIFS(ежемесячный!$F:$F,ежемесячный!$C:$C,$A26,ежемесячный!$D:$D,$A$1,ежемесячный!$E:$E,B$2)","v":0},{"$f":"SUMIFS(ежемесячный!$G:$G,ежемесячный!$C:$C,$A26,ежемесячный!$D:$D,$A$1,ежемесячный!$E:$E,B$2)","v":0},{"$f":"SUMIFS(ежемесячный!$F:$F,ежемесячный!$C:$C,$A26,ежемесячный!$D:$D,$A$1,ежемесячный!$E:$E,D$2)","v":0},{"$f":"SUMIFS(ежемесячный!$G:$G,ежемесячный!$C:$C,$A26,ежемесячный!$D:$D,$A$1,ежемесячный!$E:$E,D$2)","v":0},{"$f":"SUMIFS(ежемесячный!$F:$F,ежемесячный!$C:$C,$A26,ежемесячный!$D:$D,$A$1,ежемесячный!$E:$E,F$2)","v":0},{"$f":"SUMIFS(ежемесячный!$G:$G,ежемесячный!$C:$C,$A26,ежемесячный!$D:$D,$A$1,ежемесячный!$E:$E,F$2)","v":0},{"$f":"SUMIFS(ежемесячный!$F:$F,ежемесячный!$C:$C,$A26,ежемесячный!$D:$D,$A$1,ежемесячный!$E:$E,H$2)","v":0},{"$f":"SUMIFS(ежемесячный!$G:$G,ежемесячный!$C:$C,$A26,ежемесячный!$D:$D,$A$1,ежемесячный!$E:$E,H$2)","v":0},{"$f":"SUMIFS(ежемесячный!$F:$F,ежемесячный!$C:$C,$A26,ежемесячный!$D:$D,$A$1,ежемесячный!$E:$E,J$2)","v":0},{"$f":"SUMIFS(ежемесячный!$G:$G,ежемесячный!$C:$C,$A26,ежемесячный!$D:$D,$A$1,ежемесячный!$E:$E,J$2)","v":0},{"$f":"SUMIFS(ежемесячный!$F:$F,ежемесячный!$C:$C,$A26,ежемесячный!$D:$D,$A$1,ежемесячный!$E:$E,L$2)","v":0},{"$f":"SUMIFS(ежемесячный!$G:$G,ежемесячный!$C:$C,$A26,ежемесячный!$D:$D,$A$1,ежемесячный!$E:$E,L$2)","v":0},{"$f":"SUMIFS(ежемесячный!$F:$F,ежемесячный!$C:$C,$A26,ежемесячный!$D:$D,$A$1,ежемесячный!$E:$E,N$2)","v":0},{"$f":"SUMIFS(ежемесячный!$G:$G,ежемесячный!$C:$C,$A26,ежемесячный!$D:$D,$A$1,ежемесячный!$E:$E,N$2)","v":0},{"$f":"SUMIFS(ежемесячный!$F:$F,ежемесячный!$C:$C,$A26,ежемесячный!$D:$D,$A$1,ежемесячный!$E:$E,P$2)","v":0},{"$f":"SUMIFS(ежемесячный!$G:$G,ежемесячный!$C:$C,$A26,ежемесячный!$D:$D,$A$1,ежемесячный!$E:$E,P$2)","v":0},{"$f":"SUMIFS(ежемесячный!$F:$F,ежемесячный!$C:$C,$A26,ежемесячный!$D:$D,$A$1,ежемесячный!$E:$E,R$2)","v":0},{"$f":"SUMIFS(ежемесячный!$G:$G,ежемесячный!$C:$C,$A26,ежемесячный!$D:$D,$A$1,ежемесячный!$E:$E,R$2)","v":0},{"$f":"SUMIFS(ежемесячный!$F:$F,ежемесячный!$C:$C,$A26,ежемесячный!$D:$D,$A$1,ежемесячный!$E:$E,T$2)","v":0},{"$f":"SUMIFS(ежемесячный!$G:$G,ежемесячный!$C:$C,$A26,ежемесячный!$D:$D,$A$1,ежемесячный!$E:$E,T$2)","v":0},0]
["2014-03-23",{"$f":"SUMIFS(ежемесячный!$F:$F,ежемесячный!$C:$C,$A27,ежемесячный!$D:$D,$A$1,ежемесячный!$E:$E,B$2)","v":0},{"$f":"SUMIFS(ежемесячный!$G:$G,ежемесячный!$C:$C,$A27,ежемесячный!$D:$D,$A$1,ежемесячный!$E:$E,B$2)","v":0},{"$f":"SUMIFS(ежемесячный!$F:$F,ежемесячный!$C:$C,$A27,ежемесячный!$D:$D,$A$1,ежемесячный!$E:$E,D$2)","v":0},{"$f":"SUMIFS(ежемесячный!$G:$G,ежемесячный!$C:$C,$A27,ежемесячный!$D:$D,$A$1,ежемесячный!$E:$E,D$2)","v":0},{"$f":"SUMIFS(ежемесячный!$F:$F,ежемесячный!$C:$C,$A27,ежемесячный!$D:$D,$A$1,ежемесячный!$E:$E,F$2)","v":0},{"$f":"SUMIFS(ежемесячный!$G:$G,ежемесячный!$C:$C,$A27,ежемесячный!$D:$D,$A$1,ежемесячный!$E:$E,F$2)","v":0},{"$f":"SUMIFS(ежемесячный!$F:$F,ежемесячный!$C:$C,$A27,ежемесячный!$D:$D,$A$1,ежемесячный!$E:$E,H$2)","v":0},{"$f":"SUMIFS(ежемесячный!$G:$G,ежемесячный!$C:$C,$A27,ежемесячный!$D:$D,$A$1,ежемесячный!$E:$E,H$2)","v":0},{"$f":"SUMIFS(ежемесячный!$F:$F,ежемесячный!$C:$C,$A27,ежемесячный!$D:$D,$A$1,ежемесячный!$E:$E,J$2)","v":0},{"$f":"SUMIFS(ежемесячный!$G:$G,ежемесячный!$C:$C,$A27,ежемесячный!$D:$D,$A$1,ежемесячный!$E:$E,J$2)","v":0},{"$f":"SUMIFS(ежемесячный!$F:$F,ежемесячный!$C:$C,$A27,ежемесячный!$D:$D,$A$1,ежемесячный!$E:$E,L$2)","v":0},{"$f":"SUMIFS(ежемесячный!$G:$G,ежемесячный!$C:$C,$A27,ежемесячный!$D:$D,$A$1,ежемесячный!$E:$E,L$2)","v":0},{"$f":"SUMIFS(ежемесячный!$F:$F,ежемесячный!$C:$C,$A27,ежемесячный!$D:$D,$A$1,ежемесячный!$E:$E,N$2)","v":0},{"$f":"SUMIFS(ежемесячный!$G:$G,ежемесячный!$C:$C,$A27,ежемесячный!$D:$D,$A$1,ежемесячный!$E:$E,N$2)","v":0},{"$f":"SUMIFS(ежемесячный!$F:$F,ежемесячный!$C:$C,$A27,ежемесячный!$D:$D,$A$1,ежемесячный!$E:$E,P$2)","v":0},{"$f":"SUMIFS(ежемесячный!$G:$G,ежемесячный!$C:$C,$A27,ежемесячный!$D:$D,$A$1,ежемесячный!$E:$E,P$2)","v":0},{"$f":"SUMIFS(ежемесячный!$F:$F,ежемесячный!$C:$C,$A27,ежемесячный!$D:$D,$A$1,ежемесячный!$E:$E,R$2)","v":0},{"$f":"SUMIFS(ежемесячный!$G:$G,ежемесячный!$C:$C,$A27,ежемесячный!$D:$D,$A$1,ежемесячный!$E:$E,R$2)","v":0},{"$f":"SUMIFS(ежемесячный!$F:$F,ежемесячный!$C:$C,$A27,ежемесячный!$D:$D,$A$1,ежемесячный!$E:$E,T$2)","v":0},{"$f":"SUMIFS(ежемесячный!$G:$G,ежемесячный!$C:$C,$A27,ежемесячный!$D:$D,$A$1,ежемесячный!$E:$E,T$2)","v":0},0]
["2014-03-24",{"$f":"SUMIFS(ежемесячный!$F:$F,ежемесячный!$C:$C,$A28,ежемесячный!$D:$D,$A$1,ежемесячный!$E:$E,B$2)","v":0},{"$f":"SUMIFS(ежемесячный!$G:$G,ежемесячный!$C:$C,$A28,ежемесячный!$D:$D,$A$1,ежемесячный!$E:$E,B$2)","v":0},{"$f":"SUMIFS(ежемесячный!$F:$F,ежемесячный!$C:$C,$A28,ежемесячный!$D:$D,$A$1,ежемесячный!$E:$E,D$2)","v":0},{"$f":"SUMIFS(ежемесячный!$G:$G,ежемесячный!$C:$C,$A28,ежемесячный!$D:$D,$A$1,ежемесячный!$E:$E,D$2)","v":0},{"$f":"SUMIFS(ежемесячный!$F:$F,ежемесячный!$C:$C,$A28,ежемесячный!$D:$D,$A$1,ежемесячный!$E:$E,F$2)","v":0},{"$f":"SUMIFS(ежемесячный!$G:$G,ежемесячный!$C:$C,$A28,ежемесячный!$D:$D,$A$1,ежемесячный!$E:$E,F$2)","v":0},{"$f":"SUMIFS(ежемесячный!$F:$F,ежемесячный!$C:$C,$A28,ежемесячный!$D:$D,$A$1,ежемесячный!$E:$E,H$2)","v":0},{"$f":"SUMIFS(ежемесячный!$G:$G,ежемесячный!$C:$C,$A28,ежемесячный!$D:$D,$A$1,ежемесячный!$E:$E,H$2)","v":0},{"$f":"SUMIFS(ежемесячный!$F:$F,ежемесячный!$C:$C,$A28,ежемесячный!$D:$D,$A$1,ежемесячный!$E:$E,J$2)","v":0},{"$f":"SUMIFS(ежемесячный!$G:$G,ежемесячный!$C:$C,$A28,ежемесячный!$D:$D,$A$1,ежемесячный!$E:$E,J$2)","v":0},{"$f":"SUMIFS(ежемесячный!$F:$F,ежемесячный!$C:$C,$A28,ежемесячный!$D:$D,$A$1,ежемесячный!$E:$E,L$2)","v":0},{"$f":"SUMIFS(ежемесячный!$G:$G,ежемесячный!$C:$C,$A28,ежемесячный!$D:$D,$A$1,ежемесячный!$E:$E,L$2)","v":0},{"$f":"SUMIFS(ежемесячный!$F:$F,ежемесячный!$C:$C,$A28,ежемесячный!$D:$D,$A$1,ежемесячный!$E:$E,N$2)","v":0},{"$f":"SUMIFS(ежемесячный!$G:$G,ежемесячный!$C:$C,$A28,ежемесячный!$D:$D,$A$1,ежемесячный!$E:$E,N$2)","v":0},{"$f":"SUMIFS(ежемесячный!$F:$F,ежемесячный!$C:$C,$A28,ежемесячный!$D:$D,$A$1,ежемесячный!$E:$E,P$2)","v":0},{"$f":"SUMIFS(ежемесячный!$G:$G,ежемесячный!$C:$C,$A28,ежемесячный!$D:$D,$A$1,ежемесячный!$E:$E,P$2)","v":0},{"$f":"SUMIFS(ежемесячный!$F:$F,ежемесячный!$C:$C,$A28,ежемесячный!$D:$D,$A$1,ежемесячный!$E:$E,R$2)","v":0},{"$f":"SUMIFS(ежемесячный!$G:$G,ежемесячный!$C:$C,$A28,ежемесячный!$D:$D,$A$1,ежемесячный!$E:$E,R$2)","v":0},{"$f":"SUMIFS(ежемесячный!$F:$F,ежемесячный!$C:$C,$A28,ежемесячный!$D:$D,$A$1,ежемесячный!$E:$E,T$2)","v":0},{"$f":"SUMIFS(ежемесячный!$G:$G,ежемесячный!$C:$C,$A28,ежемесячный!$D:$D,$A$1,ежемесячный!$E:$E,T$2)","v":0},0]
["2014-03-25",{"$f":"SUMIFS(ежемесячный!$F:$F,ежемесячный!$C:$C,$A29,ежемесячный!$D:$D,$A$1,ежемесячный!$E:$E,B$2)","v":0},{"$f":"SUMIFS(ежемесячный!$G:$G,ежемесячный!$C:$C,$A29,ежемесячный!$D:$D,$A$1,ежемесячный!$E:$E,B$2)","v":0},{"$f":"SUMIFS(ежемесячный!$F:$F,ежемесячный!$C:$C,$A29,ежемесячный!$D:$D,$A$1,ежемесячный!$E:$E,D$2)","v":0},{"$f":"SUMIFS(ежемесячный!$G:$G,ежемесячный!$C:$C,$A29,ежемесячный!$D:$D,$A$1,ежемесячный!$E:$E,D$2)","v":0},{"$f":"SUMIFS(ежемесячный!$F:$F,ежемесячный!$C:$C,$A29,ежемесячный!$D:$D,$A$1,ежемесячный!$E:$E,F$2)","v":0},{"$f":"SUMIFS(ежемесячный!$G:$G,ежемесячный!$C:$C,$A29,ежемесячный!$D:$D,$A$1,ежемесячный!$E:$E,F$2)","v":0},{"$f":"SUMIFS(ежемесячный!$F:$F,ежемесячный!$C:$C,$A29,ежемесячный!$D:$D,$A$1,ежемесячный!$E:$E,H$2)","v":0},{"$f":"SUMIFS(ежемесячный!$G:$G,ежемесячный!$C:$C,$A29,ежемесячный!$D:$D,$A$1,ежемесячный!$E:$E,H$2)","v":0},{"$f":"SUMIFS(ежемесячный!$F:$F,ежемесячный!$C:$C,$A29,ежемесячный!$D:$D,$A$1,ежемесячный!$E:$E,J$2)","v":0},{"$f":"SUMIFS(ежемесячный!$G:$G,ежемесячный!$C:$C,$A29,ежемесячный!$D:$D,$A$1,ежемесячный!$E:$E,J$2)","v":0},{"$f":"SUMIFS(ежемесячный!$F:$F,ежемесячный!$C:$C,$A29,ежемесячный!$D:$D,$A$1,ежемесячный!$E:$E,L$2)","v":0},{"$f":"SUMIFS(ежемесячный!$G:$G,ежемесячный!$C:$C,$A29,ежемесячный!$D:$D,$A$1,ежемесячный!$E:$E,L$2)","v":0},{"$f":"SUMIFS(ежемесячный!$F:$F,ежемесячный!$C:$C,$A29,ежемесячный!$D:$D,$A$1,ежемесячный!$E:$E,N$2)","v":0},{"$f":"SUMIFS(ежемесячный!$G:$G,ежемесячный!$C:$C,$A29,ежемесячный!$D:$D,$A$1,ежемесячный!$E:$E,N$2)","v":0},{"$f":"SUMIFS(ежемесячный!$F:$F,ежемесячный!$C:$C,$A29,ежемесячный!$D:$D,$A$1,ежемесячный!$E:$E,P$2)","v":0},{"$f":"SUMIFS(ежемесячный!$G:$G,ежемесячный!$C:$C,$A29,ежемесячный!$D:$D,$A$1,ежемесячный!$E:$E,P$2)","v":0},{"$f":"SUMIFS(ежемесячный!$F:$F,ежемесячный!$C:$C,$A29,ежемесячный!$D:$D,$A$1,ежемесячный!$E:$E,R$2)","v":0},{"$f":"SUMIFS(ежемесячный!$G:$G,ежемесячный!$C:$C,$A29,ежемесячный!$D:$D,$A$1,ежемесячный!$E:$E,R$2)","v":0},{"$f":"SUMIFS(ежемесячный!$F:$F,ежемесячный!$C:$C,$A29,ежемесячный!$D:$D,$A$1,ежемесячный!$E:$E,T$2)","v":0},{"$f":"SUMIFS(ежемесячный!$G:$G,ежемесячный!$C:$C,$A29,ежемесячный!$D:$D,$A$1,ежемесячный!$E:$E,T$2)","v":0},0]
["2014-03-26",{"$f":"SUMIFS(ежемесячный!$F:$F,ежемесячный!$C:$C,$A30,ежемесячный!$D:$D,$A$1,ежемесячный!$E:$E,B$2)","v":0},{"$f":"SUMIFS(ежемесячный!$G:$G,ежемесячный!$C:$C,$A30,ежемесячный!$D:$D,$A$1,ежемесячный!$E:$E,B$2)","v":0},{"$f":"SUMIFS(ежемесячный!$F:$F,ежемесячный!$C:$C,$A30,ежемесячный!$D:$D,$A$1,ежемесячный!$E:$E,D$2)","v":0},{"$f":"SUMIFS(ежемесячный!$G:$G,ежемесячный!$C:$C,$A30,ежемесячный!$D:$D,$A$1,ежемесячный!$E:$E,D$2)","v":0},{"$f":"SUMIFS(ежемесячный!$F:$F,ежемесячный!$C:$C,$A30,ежемесячный!$D:$D,$A$1,ежемесячный!$E:$E,F$2)","v":0},{"$f":"SUMIFS(ежемесячный!$G:$G,ежемесячный!$C:$C,$A30,ежемесячный!$D:$D,$A$1,ежемесячный!$E:$E,F$2)","v":0},{"$f":"SUMIFS(ежемесячный!$F:$F,ежемесячный!$C:$C,$A30,ежемесячный!$D:$D,$A$1,ежемесячный!$E:$E,H$2)","v":0},{"$f":"SUMIFS(ежемесячный!$G:$G,ежемесячный!$C:$C,$A30,ежемесячный!$D:$D,$A$1,ежемесячный!$E:$E,H$2)","v":0},{"$f":"SUMIFS(ежемесячный!$F:$F,ежемесячный!$C:$C,$A30,ежемесячный!$D:$D,$A$1,ежемесячный!$E:$E,J$2)","v":0},{"$f":"SUMIFS(ежемесячный!$G:$G,ежемесячный!$C:$C,$A30,ежемесячный!$D:$D,$A$1,ежемесячный!$E:$E,J$2)","v":0},{"$f":"SUMIFS(ежемесячный!$F:$F,ежемесячный!$C:$C,$A30,ежемесячный!$D:$D,$A$1,ежемесячный!$E:$E,L$2)","v":0},{"$f":"SUMIFS(ежемесячный!$G:$G,ежемесячный!$C:$C,$A30,ежемесячный!$D:$D,$A$1,ежемесячный!$E:$E,L$2)","v":0},{"$f":"SUMIFS(ежемесячный!$F:$F,ежемесячный!$C:$C,$A30,ежемесячный!$D:$D,$A$1,ежемесячный!$E:$E,N$2)","v":0},{"$f":"SUMIFS(ежемесячный!$G:$G,ежемесячный!$C:$C,$A30,ежемесячный!$D:$D,$A$1,ежемесячный!$E:$E,N$2)","v":0},{"$f":"SUMIFS(ежемесячный!$F:$F,ежемесячный!$C:$C,$A30,ежемесячный!$D:$D,$A$1,ежемесячный!$E:$E,P$2)","v":0},{"$f":"SUMIFS(ежемесячный!$G:$G,ежемесячный!$C:$C,$A30,ежемесячный!$D:$D,$A$1,ежемесячный!$E:$E,P$2)","v":0},{"$f":"SUMIFS(ежемесячный!$F:$F,ежемесячный!$C:$C,$A30,ежемесячный!$D:$D,$A$1,ежемесячный!$E:$E,R$2)","v":0},{"$f":"SUMIFS(ежемесячный!$G:$G,ежемесячный!$C:$C,$A30,ежемесячный!$D:$D,$A$1,ежемесячный!$E:$E,R$2)","v":0},{"$f":"SUMIFS(ежемесячный!$F:$F,ежемесячный!$C:$C,$A30,ежемесячный!$D:$D,$A$1,ежемесячный!$E:$E,T$2)","v":0},{"$f":"SUMIFS(ежемесячный!$G:$G,ежемесячный!$C:$C,$A30,ежемесячный!$D:$D,$A$1,ежемесячный!$E:$E,T$2)","v":0},0]
["2014-03-27",{"$f":"SUMIFS(ежемесячный!$F:$F,ежемесячный!$C:$C,$A31,ежемесячный!$D:$D,$A$1,ежемесячный!$E:$E,B$2)","v":0},{"$f":"SUMIFS(ежемесячный!$G:$G,ежемесячный!$C:$C,$A31,ежемесячный!$D:$D,$A$1,ежемесячный!$E:$E,B$2)","v":0},{"$f":"SUMIFS(ежемесячный!$F:$F,ежемесячный!$C:$C,$A31,ежемесячный!$D:$D,$A$1,ежемесячный!$E:$E,D$2)","v":0},{"$f":"SUMIFS(ежемесячный!$G:$G,ежемесячный!$C:$C,$A31,ежемесячный!$D:$D,$A$1,ежемесячный!$E:$E,D$2)","v":0},{"$f":"SUMIFS(ежемесячный!$F:$F,ежемесячный!$C:$C,$A31,ежемесячный!$D:$D,$A$1,ежемесячный!$E:$E,F$2)","v":0},{"$f":"SUMIFS(ежемесячный!$G:$G,ежемесячный!$C:$C,$A31,ежемесячный!$D:$D,$A$1,ежемесячный!$E:$E,F$2)","v":0},{"$f":"SUMIFS(ежемесячный!$F:$F,ежемесячный!$C:$C,$A31,ежемесячный!$D:$D,$A$1,ежемесячный!$E:$E,H$2)","v":0},{"$f":"SUMIFS(ежемесячный!$G:$G,ежемесячный!$C:$C,$A31,ежемесячный!$D:$D,$A$1,ежемесячный!$E:$E,H$2)","v":0},{"$f":"SUMIFS(ежемесячный!$F:$F,ежемесячный!$C:$C,$A31,ежемесячный!$D:$D,$A$1,ежемесячный!$E:$E,J$2)","v":0},{"$f":"SUMIFS(ежемесячный!$G:$G,ежемесячный!$C:$C,$A31,ежемесячный!$D:$D,$A$1,ежемесячный!$E:$E,J$2)","v":0},{"$f":"SUMIFS(ежемесячный!$F:$F,ежемесячный!$C:$C,$A31,ежемесячный!$D:$D,$A$1,ежемесячный!$E:$E,L$2)","v":0},{"$f":"SUMIFS(ежемесячный!$G:$G,ежемесячный!$C:$C,$A31,ежемесячный!$D:$D,$A$1,ежемесячный!$E:$E,L$2)","v":0},{"$f":"SUMIFS(ежемесячный!$F:$F,ежемесячный!$C:$C,$A31,ежемесячный!$D:$D,$A$1,ежемесячный!$E:$E,N$2)","v":0},{"$f":"SUMIFS(ежемесячный!$G:$G,ежемесячный!$C:$C,$A31,ежемесячный!$D:$D,$A$1,ежемесячный!$E:$E,N$2)","v":0},{"$f":"SUMIFS(ежемесячный!$F:$F,ежемесячный!$C:$C,$A31,ежемесячный!$D:$D,$A$1,ежемесячный!$E:$E,P$2)","v":0},{"$f":"SUMIFS(ежемесячный!$G:$G,ежемесячный!$C:$C,$A31,ежемесячный!$D:$D,$A$1,ежемесячный!$E:$E,P$2)","v":0},{"$f":"SUMIFS(ежемесячный!$F:$F,ежемесячный!$C:$C,$A31,ежемесячный!$D:$D,$A$1,ежемесячный!$E:$E,R$2)","v":0},{"$f":"SUMIFS(ежемесячный!$G:$G,ежемесячный!$C:$C,$A31,ежемесячный!$D:$D,$A$1,ежемесячный!$E:$E,R$2)","v":0},{"$f":"SUMIFS(ежемесячный!$F:$F,ежемесячный!$C:$C,$A31,ежемесячный!$D:$D,$A$1,ежемесячный!$E:$E,T$2)","v":0},{"$f":"SUMIFS(ежемесячный!$G:$G,ежемесячный!$C:$C,$A31,ежемесячный!$D:$D,$A$1,ежемесячный!$E:$E,T$2)","v":0},0]
["2014-03-28",{"$f":"SUMIFS(ежемесячный!$F:$F,ежемесячный!$C:$C,$A32,ежемесячный!$D:$D,$A$1,ежемесячный!$E:$E,B$2)","v":0},{"$f":"SUMIFS(ежемесячный!$G:$G,ежемесячный!$C:$C,$A32,ежемесячный!$D:$D,$A$1,ежемесячный!$E:$E,B$2)","v":0},{"$f":"SUMIFS(ежемесячный!$F:$F,ежемесячный!$C:$C,$A32,ежемесячный!$D:$D,$A$1,ежемесячный!$E:$E,D$2)","v":0},{"$f":"SUMIFS(ежемесячный!$G:$G,ежемесячный!$C:$C,$A32,ежемесячный!$D:$D,$A$1,ежемесячный!$E:$E,D$2)","v":0},{"$f":"SUMIFS(ежемесячный!$F:$F,ежемесячный!$C:$C,$A32,ежемесячный!$D:$D,$A$1,ежемесячный!$E:$E,F$2)","v":0},{"$f":"SUMIFS(ежемесячный!$G:$G,ежемесячный!$C:$C,$A32,ежемесячный!$D:$D,$A$1,ежемесячный!$E:$E,F$2)","v":0},{"$f":"SUMIFS(ежемесячный!$F:$F,ежемесячный!$C:$C,$A32,ежемесячный!$D:$D,$A$1,ежемесячный!$E:$E,H$2)","v":0},{"$f":"SUMIFS(ежемесячный!$G:$G,ежемесячный!$C:$C,$A32,ежемесячный!$D:$D,$A$1,ежемесячный!$E:$E,H$2)","v":0},{"$f":"SUMIFS(ежемесячный!$F:$F,ежемесячный!$C:$C,$A32,ежемесячный!$D:$D,$A$1,ежемесячный!$E:$E,J$2)","v":0},{"$f":"SUMIFS(ежемесячный!$G:$G,ежемесячный!$C:$C,$A32,ежемесячный!$D:$D,$A$1,ежемесячный!$E:$E,J$2)","v":0},{"$f":"SUMIFS(ежемесячный!$F:$F,ежемесячный!$C:$C,$A32,ежемесячный!$D:$D,$A$1,ежемесячный!$E:$E,L$2)","v":0},{"$f":"SUMIFS(ежемесячный!$G:$G,ежемесячный!$C:$C,$A32,ежемесячный!$D:$D,$A$1,ежемесячный!$E:$E,L$2)","v":0},{"$f":"SUMIFS(ежемесячный!$F:$F,ежемесячный!$C:$C,$A32,ежемесячный!$D:$D,$A$1,ежемесячный!$E:$E,N$2)","v":0},{"$f":"SUMIFS(ежемесячный!$G:$G,ежемесячный!$C:$C,$A32,ежемесячный!$D:$D,$A$1,ежемесячный!$E:$E,N$2)","v":0},{"$f":"SUMIFS(ежемесячный!$F:$F,ежемесячный!$C:$C,$A32,ежемесячный!$D:$D,$A$1,ежемесячный!$E:$E,P$2)","v":0},{"$f":"SUMIFS(ежемесячный!$G:$G,ежемесячный!$C:$C,$A32,ежемесячный!$D:$D,$A$1,ежемесячный!$E:$E,P$2)","v":0},{"$f":"SUMIFS(ежемесячный!$F:$F,ежемесячный!$C:$C,$A32,ежемесячный!$D:$D,$A$1,ежемесячный!$E:$E,R$2)","v":0},{"$f":"SUMIFS(ежемесячный!$G:$G,ежемесячный!$C:$C,$A32,ежемесячный!$D:$D,$A$1,ежемесячный!$E:$E,R$2)","v":0},{"$f":"SUMIFS(ежемесячный!$F:$F,ежемесячный!$C:$C,$A32,ежемесячный!$D:$D,$A$1,ежемесячный!$E:$E,T$2)","v":0},{"$f":"SUMIFS(ежемесячный!$G:$G,ежемесячный!$C:$C,$A32,ежемесячный!$D:$D,$A$1,ежемесячный!$E:$E,T$2)","v":0},0]
["2014-03-29",{"$f":"SUMIFS(ежемесячный!$F:$F,ежемесячный!$C:$C,$A33,ежемесячный!$D:$D,$A$1,ежемесячный!$E:$E,B$2)","v":0},{"$f":"SUMIFS(ежемесячный!$G:$G,ежемесячный!$C:$C,$A33,ежемесячный!$D:$D,$A$1,ежемесячный!$E:$E,B$2)","v":0},{"$f":"SUMIFS(ежемесячный!$F:$F,ежемесячный!$C:$C,$A33,ежемесячный!$D:$D,$A$1,ежемесячный!$E:$E,D$2)","v":0},{"$f":"SUMIFS(ежемесячный!$G:$G,ежемесячный!$C:$C,$A33,ежемесячный!$D:$D,$A$1,ежемесячный!$E:$E,D$2)","v":0},{"$f":"SUMIFS(ежемесячный!$F:$F,ежемесячный!$C:$C,$A33,ежемесячный!$D:$D,$A$1,ежемесячный!$E:$E,F$2)","v":0},{"$f":"SUMIFS(ежемесячный!$G:$G,ежемесячный!$C:$C,$A33,ежемесячный!$D:$D,$A$1,ежемесячный!$E:$E,F$2)","v":0},{"$f":"SUMIFS(ежемесячный!$F:$F,ежемесячный!$C:$C,$A33,ежемесячный!$D:$D,$A$1,ежемесячный!$E:$E,H$2)","v":0},{"$f":"SUMIFS(ежемесячный!$G:$G,ежемесячный!$C:$C,$A33,ежемесячный!$D:$D,$A$1,ежемесячный!$E:$E,H$2)","v":0},{"$f":"SUMIFS(ежемесячный!$F:$F,ежемесячный!$C:$C,$A33,ежемесячный!$D:$D,$A$1,ежемесячный!$E:$E,J$2)","v":0},{"$f":"SUMIFS(ежемесячный!$G:$G,ежемесячный!$C:$C,$A33,ежемесячный!$D:$D,$A$1,ежемесячный!$E:$E,J$2)","v":0},{"$f":"SUMIFS(ежемесячный!$F:$F,ежемесячный!$C:$C,$A33,ежемесячный!$D:$D,$A$1,ежемесячный!$E:$E,L$2)","v":0},{"$f":"SUMIFS(ежемесячный!$G:$G,ежемесячный!$C:$C,$A33,ежемесячный!$D:$D,$A$1,ежемесячный!$E:$E,L$2)","v":0},{"$f":"SUMIFS(ежемесячный!$F:$F,ежемесячный!$C:$C,$A33,ежемесячный!$D:$D,$A$1,ежемесячный!$E:$E,N$2)","v":0},{"$f":"SUMIFS(ежемесячный!$G:$G,ежемесячный!$C:$C,$A33,ежемесячный!$D:$D,$A$1,ежемесячный!$E:$E,N$2)","v":0},{"$f":"SUMIFS(ежемесячный!$F:$F,ежемесячный!$C:$C,$A33,ежемесячный!$D:$D,$A$1,ежемесячный!$E:$E,P$2)","v":0},{"$f":"SUMIFS(ежемесячный!$G:$G,ежемесячный!$C:$C,$A33,ежемесячный!$D:$D,$A$1,ежемесячный!$E:$E,P$2)","v":0},{"$f":"SUMIFS(ежемесячный!$F:$F,ежемесячный!$C:$C,$A33,ежемесячный!$D:$D,$A$1,ежемесячный!$E:$E,R$2)","v":0},{"$f":"SUMIFS(ежемесячный!$G:$G,ежемесячный!$C:$C,$A33,ежемесячный!$D:$D,$A$1,ежемесячный!$E:$E,R$2)","v":0},{"$f":"SUMIFS(ежемесячный!$F:$F,ежемесячный!$C:$C,$A33,ежемесячный!$D:$D,$A$1,ежемесячный!$E:$E,T$2)","v":0},{"$f":"SUMIFS(ежемесячный!$G:$G,ежемесячный!$C:$C,$A33,ежемесячный!$D:$D,$A$1,ежемесячный!$E:$E,T$2)","v":0},0]
["2014-03-30",{"$f":"SUMIFS(ежемесячный!$F:$F,ежемесячный!$C:$C,$A34,ежемесячный!$D:$D,$A$1,ежемесячный!$E:$E,B$2)","v":0},{"$f":"SUMIFS(ежемесячный!$G:$G,ежемесячный!$C:$C,$A34,ежемесячный!$D:$D,$A$1,ежемесячный!$E:$E,B$2)","v":0},{"$f":"SUMIFS(ежемесячный!$F:$F,ежемесячный!$C:$C,$A34,ежемесячный!$D:$D,$A$1,ежемесячный!$E:$E,D$2)","v":0},{"$f":"SUMIFS(ежемесячный!$G:$G,ежемесячный!$C:$C,$A34,ежемесячный!$D:$D,$A$1,ежемесячный!$E:$E,D$2)","v":0},{"$f":"SUMIFS(ежемесячный!$F:$F,ежемесячный!$C:$C,$A34,ежемесячный!$D:$D,$A$1,ежемесячный!$E:$E,F$2)","v":0},{"$f":"SUMIFS(ежемесячный!$G:$G,ежемесячный!$C:$C,$A34,ежемесячный!$D:$D,$A$1,ежемесячный!$E:$E,F$2)","v":0},{"$f":"SUMIFS(ежемесячный!$F:$F,ежемесячный!$C:$C,$A34,ежемесячный!$D:$D,$A$1,ежемесячный!$E:$E,H$2)","v":0},{"$f":"SUMIFS(ежемесячный!$G:$G,ежемесячный!$C:$C,$A34,ежемесячный!$D:$D,$A$1,ежемесячный!$E:$E,H$2)","v":0},{"$f":"SUMIFS(ежемесячный!$F:$F,ежемесячный!$C:$C,$A34,ежемесячный!$D:$D,$A$1,ежемесячный!$E:$E,J$2)","v":0},{"$f":"SUMIFS(ежемесячный!$G:$G,ежемесячный!$C:$C,$A34,ежемесячный!$D:$D,$A$1,ежемесячный!$E:$E,J$2)","v":0},{"$f":"SUMIFS(ежемесячный!$F:$F,ежемесячный!$C:$C,$A34,ежемесячный!$D:$D,$A$1,ежемесячный!$E:$E,L$2)","v":0},{"$f":"SUMIFS(ежемесячный!$G:$G,ежемесячный!$C:$C,$A34,ежемесячный!$D:$D,$A$1,ежемесячный!$E:$E,L$2)","v":0},{"$f":"SUMIFS(ежемесячный!$F:$F,ежемесячный!$C:$C,$A34,ежемесячный!$D:$D,$A$1,ежемесячный!$E:$E,N$2)","v":0},{"$f":"SUMIFS(ежемесячный!$G:$G,ежемесячный!$C:$C,$A34,ежемесячный!$D:$D,$A$1,ежемесячный!$E:$E,N$2)","v":0},{"$f":"SUMIFS(ежемесячный!$F:$F,ежемесячный!$C:$C,$A34,ежемесячный!$D:$D,$A$1,ежемесячный!$E:$E,P$2)","v":0},{"$f":"SUMIFS(ежемесячный!$G:$G,ежемесячный!$C:$C,$A34,ежемесячный!$D:$D,$A$1,ежемесячный!$E:$E,P$2)","v":0},{"$f":"SUMIFS(ежемесячный!$F:$F,ежемесячный!$C:$C,$A34,ежемесячный!$D:$D,$A$1,ежемесячный!$E:$E,R$2)","v":0},{"$f":"SUMIFS(ежемесячный!$G:$G,ежемесячный!$C:$C,$A34,ежемесячный!$D:$D,$A$1,ежемесячный!$E:$E,R$2)","v":0},{"$f":"SUMIFS(ежемесячный!$F:$F,ежемесячный!$C:$C,$A34,ежемесячный!$D:$D,$A$1,ежемесячный!$E:$E,T$2)","v":0},{"$f":"SUMIFS(ежемесячный!$G:$G,ежемесячный!$C:$C,$A34,ежемесячный!$D:$D,$A$1,ежемесячный!$E:$E,T$2)","v":0},0]
["2014-03-31",{"$f":"SUMIFS(ежемесячный!$F:$F,ежемесячный!$C:$C,$A35,ежемесячный!$D:$D,$A$1,ежемесячный!$E:$E,B$2)","v":0},{"$f":"SUMIFS(ежемесячный!$G:$G,ежемесячный!$C:$C,$A35,ежемесячный!$D:$D,$A$1,ежемесячный!$E:$E,B$2)","v":0},{"$f":"SUMIFS(ежемесячный!$F:$F,ежемесячный!$C:$C,$A35,ежемесячный!$D:$D,$A$1,ежемесячный!$E:$E,D$2)","v":0},{"$f":"SUMIFS(ежемесячный!$G:$G,ежемесячный!$C:$C,$A35,ежемесячный!$D:$D,$A$1,ежемесячный!$E:$E,D$2)","v":0},{"$f":"SUMIFS(ежемесячный!$F:$F,ежемесячный!$C:$C,$A35,ежемесячный!$D:$D,$A$1,ежемесячный!$E:$E,F$2)","v":0},{"$f":"SUMIFS(ежемесячный!$G:$G,ежемесячный!$C:$C,$A35,ежемесячный!$D:$D,$A$1,ежемесячный!$E:$E,F$2)","v":0},{"$f":"SUMIFS(ежемесячный!$F:$F,ежемесячный!$C:$C,$A35,ежемесячный!$D:$D,$A$1,ежемесячный!$E:$E,H$2)","v":0},{"$f":"SUMIFS(ежемесячный!$G:$G,ежемесячный!$C:$C,$A35,ежемесячный!$D:$D,$A$1,ежемесячный!$E:$E,H$2)","v":0},{"$f":"SUMIFS(ежемесячный!$F:$F,ежемесячный!$C:$C,$A35,ежемесячный!$D:$D,$A$1,ежемесячный!$E:$E,J$2)","v":0},{"$f":"SUMIFS(ежемесячный!$G:$G,ежемесячный!$C:$C,$A35,ежемесячный!$D:$D,$A$1,ежемесячный!$E:$E,J$2)","v":0},{"$f":"SUMIFS(ежемесячный!$F:$F,ежемесячный!$C:$C,$A35,ежемесячный!$D:$D,$A$1,ежемесячный!$E:$E,L$2)","v":0},{"$f":"SUMIFS(ежемесячный!$G:$G,ежемесячный!$C:$C,$A35,ежемесячный!$D:$D,$A$1,ежемесячный!$E:$E,L$2)","v":0},{"$f":"SUMIFS(ежемесячный!$F:$F,ежемесячный!$C:$C,$A35,ежемесячный!$D:$D,$A$1,ежемесячный!$E:$E,N$2)","v":0},{"$f":"SUMIFS(ежемесячный!$G:$G,ежемесячный!$C:$C,$A35,ежемесячный!$D:$D,$A$1,ежемесячный!$E:$E,N$2)","v":0},{"$f":"SUMIFS(ежемесячный!$F:$F,ежемесячный!$C:$C,$A35,ежемесячный!$D:$D,$A$1,ежемесячный!$E:$E,P$2)","v":0},{"$f":"SUMIFS(ежемесячный!$G:$G,ежемесячный!$C:$C,$A35,ежемесячный!$D:$D,$A$1,ежемесячный!$E:$E,P$2)","v":0},{"$f":"SUMIFS(ежемесячный!$F:$F,ежемесячный!$C:$C,$A35,ежемесячный!$D:$D,$A$1,ежемесячный!$E:$E,R$2)","v":0},{"$f":"SUMIFS(ежемесячный!$G:$G,ежемесячный!$C:$C,$A35,ежемесячный!$D:$D,$A$1,ежемесячный!$E:$E,R$2)","v":0},{"$f":"SUMIFS(ежемесячный!$F:$F,ежемесячный!$C:$C,$A35,ежемесячный!$D:$D,$A$1,ежемесячный!$E:$E,T$2)","v":0},{"$f":"SUMIFS(ежемесячный!$G:$G,ежемесячный!$C:$C,$A35,ежемесячный!$D:$D,$A$1,ежемесячный!$E:$E,T$2)","v":0},0]
[null,{"$f":"SUM(B5:B35)","v":13},{"$f":"SUM(C5:C35)","v":260100},{"$f":"SUM(D5:D35)","v":3},6300,0,0,0,0,0,0,0,0,null,0,null,0,null,0,0,0,266400]
[]
[null,"кол-во прин.ПО",null,{"$f":"B36+D36+F36+H36+J36+L36+T36","v":16}]
[null,"сумма доходов",null,{"$f":"V36","v":266400}]

{"sheet":"Евроторгинвестбанк","index":4,"n_rows":39,"n_cols":22,"rows_kept":39,"cut":false,"hidden":false,"merged":[[1,21,3,21],[1,0,3,0],[1,1,1,2],[1,3,1,4],[1,5,1,6],[1,7,1,8],[1,9,1,10],[2,1,2,2],[2,3,2,4],[2,5,2,6],[2,7,2,8],[1,11,1,12],[1,13,1,14],[1,15,1,16],[1,17,1,18],[1,19,1,20],[2,11,2,12],[2,13,2,14],[2,15,2,16],[2,17,2,18],[2,19,2,20],[37,1,37,2],[37,3,37,4],[38,1,38,2],[38,3,38,4],[2,9,2,10]]}
[{"$f":"MID(CELL(\"имяфайла\",B2),SEARCH(\"]\",CELL(\"имяфайла\",B2),1)+1,99)","v":"Евроторгинвестбанк"}]
["Число месяца","заказные отправления",null,"простые отправления",null,"посылки",null,"мелкие пакеты, ценные письма",null,"EMS внутренние",null,"EMS международные",null,"доп.услуги",null,"товары почты",null,"маркиров. прод.",null,"переводы",null,"Итого доходы"]
[null,"(116, 161)",null,"(117, 165)",null," (151, 156)",null,"(121)",null,"  (181 ,182)",null,"  (321, 322)",null,"(241, 311)",null,"(641)",null,"(111)",null,"(138,139,144,145,146,149)"]
[null,"кол-во","доходы","кол-во","доходы","кол-во","доходы","кол-во","доходы","кол-во","доходы","кол-во","доходы","кол-во","доходы","кол-во","доходы","кол-во","доходы","кол-во","доходы"]
["2014-03-01",{"$f":"SUMIFS(ежемесячный!$F:$F,ежемесячный!$C:$C,$A5,ежемесячный!$D:$D,$A$1,ежемесячный!$E:$E,B$2)","v":0},{"$f":"SUMIFS(ежемесячный!$G:$G,ежемесячный!$C:$C,$A5,ежемесячный!$D:$D,$A$1,ежемесячный!$E:$E,B$2)","v":0},{"$f":"SUMIFS(ежемесячный!$F:$F,ежемесячный!$C:$C,$A5,ежемесячный!$D:$D,$A$1,ежемесячный!$E:$E,D$2)","v":0},{"$f":"SUMIFS(ежемесячный!$G:$G,ежемесячный!$C:$C,$A5,ежемесячный!$D:$D,$A$1,ежемесячный!$E:$E,D$2)","v":0},{"$f":"SUMIFS(ежемесячный!$F:$F,ежемесячный!$C:$C,$A5,ежемесячный!$D:$D,$A$1,ежемесячный!$E:$E,F$2)","v":0},{"$f":"SUMIFS(ежемесячный!$G:$G,ежемесячный!$C:$C,$A5,ежемесячный!$D:$D,$A$1,ежемесячный!$E:$E,F$2)","v":0},{"$f":"SUMIFS(ежемесячный!$F:$F,ежемесячный!$C:$C,$A5,ежемесячный!$D:$D,$A$1,ежемесячный!$E:$E,H$2)","v":0},{"$f":"SUMIFS(ежемесячный!$G:$G,ежемесячный!$C:$C,$A5,ежемесячный!$D:$D,$A$1,ежемесячный!$E:$E,H$2)","v":0},{"$f":"SUMIFS(ежемесячный!$F:$F,ежемесячный!$C:$C,$A5,ежемесячный!$D:$D,$A$1,ежемесячный!$E:$E,J$2)","v":0},{"$f":"SUMIFS(ежемесячный!$G:$G,ежемесячный!$C:$C,$A5,ежемесячный!$D:$D,$A$1,ежемесячный!$E:$E,J$2)","v":0},{"$f":"SUMIFS(ежемесячный!$F:$F,ежемесячный!$C:$C,$A5,ежемесячный!$D:$D,$A$1,ежемесячный!$E:$E,L$2)","v":0},{"$f":"SUMIFS(ежемесячный!$G:$G,ежемесячный!$C:$C,$A5,ежемесячный!$D:$D,$A$1,ежемесячный!$E:$E,L$2)","v":0},{"$f":"SUMIFS(ежемесячный!$F:$F,ежемесячный!$C:$C,$A5,ежемесячный!$D:$D,$A$1,ежемесячный!$E:$E,N$2)","v":0},{"$f":"SUMIFS(ежемесячный!$G:$G,ежемесячный!$C:$C,$A5,ежемесячный!$D:$D,$A$1,ежемесячный!$E:$E,N$2)","v":0},{"$f":"SUMIFS(ежемесячный!$F:$F,ежемесячный!$C:$C,$A5,ежемесячный!$D:$D,$A$1,ежемесячный!$E:$E,P$2)","v":0},{"$f":"SUMIFS(ежемесячный!$G:$G,ежемесячный!$C:$C,$A5,ежемесячный!$D:$D,$A$1,ежемесячный!$E:$E,P$2)","v":0},{"$f":"SUMIFS(ежемесячный!$F:$F,ежемесячный!$C:$C,$A5,ежемесячный!$D:$D,$A$1,ежемесячный!$E:$E,R$2)","v":0},{"$f":"SUMIFS(ежемесячный!$G:$G,ежемесячный!$C:$C,$A5,ежемесячный!$D:$D,$A$1,ежемесячный!$E:$E,R$2)","v":0},{"$f":"SUMIFS(ежемесячный!$F:$F,ежемесячный!$C:$C,$A5,ежемесячный!$D:$D,$A$1,ежемесячный!$E:$E,T$2)","v":0},{"$f":"SUMIFS(ежемесячный!$G:$G,ежемесячный!$C:$C,$A5,ежемесячный!$D:$D,$A$1,ежемесячный!$E:$E,T$2)","v":0},{"$f":"U5+S5+Q5+O5+M5+K5+I5+G5+E5+C5","v":0}]
["2014-03-02",{"$f":"SUMIFS(ежемесячный!$F:$F,ежемесячный!$C:$C,$A6,ежемесячный!$D:$D,$A$1,ежемесячный!$E:$E,B$2)","v":0},{"$f":"SUMIFS(ежемесячный!$G:$G,ежемесячный!$C:$C,$A6,ежемесячный!$D:$D,$A$1,ежемесячный!$E:$E,B$2)","v":0},{"$f":"SUMIFS(ежемесячный!$F:$F,ежемесячный!$C:$C,$A6,ежемесячный!$D:$D,$A$1,ежемесячный!$E:$E,D$2)","v":0},{"$f":"SUMIFS(ежемесячный!$G:$G,ежемесячный!$C:$C,$A6,ежемесячный!$D:$D,$A$1,ежемесячный!$E:$E,D$2)","v":0},{"$f":"SUMIFS(ежемесячный!$F:$F,ежемесячный!$C:$C,$A6,ежемесячный!$D:$D,$A$1,ежемесячный!$E:$E,F$2)","v":0},{"$f":"SUMIFS(ежемесячный!$G:$G,ежемесячный!$C:$C,$A6,ежемесячный!$D:$D,$A$1,ежемесячный!$E:$E,F$2)","v":0},{"$f":"SUMIFS(ежемесячный!$F:$F,ежемесячный!$C:$C,$A6,ежемесячный!$D:$D,$A$1,ежемесячный!$E:$E,H$2)","v":0},{"$f":"SUMIFS(ежемесячный!$G:$G,ежемесячный!$C:$C,$A6,ежемесячный!$D:$D,$A$1,ежемесячный!$E:$E,H$2)","v":0},{"$f":"SUMIFS(ежемесячный!$F:$F,ежемесячный!$C:$C,$A6,ежемесячный!$D:$D,$A$1,ежемесячный!$E:$E,J$2)","v":0},{"$f":"SUMIFS(ежемесячный!$G:$G,ежемесячный!$C:$C,$A6,ежемесячный!$D:$D,$A$1,ежемесячный!$E:$E,J$2)","v":0},{"$f":"SUMIFS(ежемесячный!$F:$F,ежемесячный!$C:$C,$A6,ежемесячный!$D:$D,$A$1,ежемесячный!$E:$E,L$2)","v":0},{"$f":"SUMIFS(ежемесячный!$G:$G,ежемесячный!$C:$C,$A6,ежемесячный!$D:$D,$A$1,ежемесячный!$E:$E,L$2)","v":0},{"$f":"SUMIFS(ежемесячный!$F:$F,ежемесячный!$C:$C,$A6,ежемесячный!$D:$D,$A$1,ежемесячный!$E:$E,N$2)","v":0},{"$f":"SUMIFS(ежемесячный!$G:$G,ежемесячный!$C:$C,$A6,ежемесячный!$D:$D,$A$1,ежемесячный!$E:$E,N$2)","v":0},{"$f":"SUMIFS(ежемесячный!$F:$F,ежемесячный!$C:$C,$A6,ежемесячный!$D:$D,$A$1,ежемесячный!$E:$E,P$2)","v":0},{"$f":"SUMIFS(ежемесячный!$G:$G,ежемесячный!$C:$C,$A6,ежемесячный!$D:$D,$A$1,ежемесячный!$E:$E,P$2)","v":0},{"$f":"SUMIFS(ежемесячный!$F:$F,ежемесячный!$C:$C,$A6,ежемесячный!$D:$D,$A$1,ежемесячный!$E:$E,R$2)","v":0},{"$f":"SUMIFS(ежемесячный!$G:$G,ежемесячный!$C:$C,$A6,ежемесячный!$D:$D,$A$1,ежемесячный!$E:$E,R$2)","v":0},{"$f":"SUMIFS(ежемесячный!$F:$F,ежемесячный!$C:$C,$A6,ежемесячный!$D:$D,$A$1,ежемесячный!$E:$E,T$2)","v":0},{"$f":"SUMIFS(ежемесячный!$G:$G,ежемесячный!$C:$C,$A6,ежемесячный!$D:$D,$A$1,ежемесячный!$E:$E,T$2)","v":0},0]
["2014-03-03",{"$f":"SUMIFS(ежемесячный!$F:$F,ежемесячный!$C:$C,$A7,ежемесячный!$D:$D,$A$1,ежемесячный!$E:$E,B$2)","v":5},{"$f":"SUMIFS(ежемесячный!$G:$G,ежемесячный!$C:$C,$A7,ежемесячный!$D:$D,$A$1,ежемесячный!$E:$E,B$2)","v":117900},{"$f":"SUMIFS(ежемесячный!$F:$F,ежемесячный!$C:$C,$A7,ежемесячный!$D:$D,$A$1,ежемесячный!$E:$E,D$2)","v":0},{"$f":"SUMIFS(ежемесячный!$G:$G,ежемесячный!$C:$C,$A7,ежемесячный!$D:$D,$A$1,ежемесячный!$E:$E,D$2)","v":0},{"$f":"SUMIFS(ежемесячный!$F:$F,ежемесячный!$C:$C,$A7,ежемесячный!$D:$D,$A$1,ежемесячный!$E:$E,F$2)","v":0},{"$f":"SUMIFS(ежемесячный!$G:$G,ежемесячный!$C:$C,$A7,ежемесячный!$D:$D,$A$1,ежемесячный!$E:$E,F$2)","v":0},{"$f":"SUMIFS(ежемесячный!$F:$F,ежемесячный!$C:$C,$A7,ежемесячный!$D:$D,$A$1,ежемесячный!$E:$E,H$2)","v":0},{"$f":"SUMIFS(ежемесячный!$G:$G,ежемесячный!$C:$C,$A7,ежемесячный!$D:$D,$A$1,ежемесячный!$E:$E,H$2)","v":0},{"$f":"SUMIFS(ежемесячный!$F:$F,ежемесячный!$C:$C,$A7,ежемесячный!$D:$D,$A$1,ежемесячный!$E:$E,J$2)","v":0},{"$f":"SUMIFS(ежемесячный!$G:$G,ежемесячный!$C:$C,$A7,ежемесячный!$D:$D,$A$1,ежемесячный!$E:$E,J$2)","v":0},{"$f":"SUMIFS(ежемесячный!$F:$F,ежемесячный!$C:$C,$A7,ежемесячный!$D:$D,$A$1,ежемесячный!$E:$E,L$2)","v":0},{"$f":"SUMIFS(ежемесячный!$G:$G,ежемесячный!$C:$C,$A7,ежемесячный!$D:$D,$A$1,ежемесячный!$E:$E,L$2)","v":0},{"$f":"SUMIFS(ежемесячный!$F:$F,ежемесячный!$C:$C,$A7,ежемесячный!$D:$D,$A$1,ежемесячный!$E:$E,N$2)","v":0},{"$f":"SUMIFS(ежемесячный!$G:$G,ежемесячный!$C:$C,$A7,ежемесячный!$D:$D,$A$1,ежемесячный!$E:$E,N$2)","v":0},{"$f":"SUMIFS(ежемесячный!$F:$F,ежемесячный!$C:$C,$A7,ежемесячный!$D:$D,$A$1,ежемесячный!$E:$E,P$2)","v":0},{"$f":"SUMIFS(ежемесячный!$G:$G,ежемесячный!$C:$C,$A7,ежемесячный!$D:$D,$A$1,ежемесячный!$E:$E,P$2)","v":0},{"$f":"SUMIFS(ежемесячный!$F:$F,ежемесячный!$C:$C,$A7,ежемесячный!$D:$D,$A$1,ежемесячный!$E:$E,R$2)","v":0},{"$f":"SUMIFS(ежемесячный!$G:$G,ежемесячный!$C:$C,$A7,ежемесячный!$D:$D,$A$1,ежемесячный!$E:$E,R$2)","v":0},{"$f":"SUMIFS(ежемесячный!$F:$F,ежемесячный!$C:$C,$A7,ежемесячный!$D:$D,$A$1,ежемесячный!$E:$E,T$2)","v":0},{"$f":"SUMIFS(ежемесячный!$G:$G,ежемесячный!$C:$C,$A7,ежемесячный!$D:$D,$A$1,ежемесячный!$E:$E,T$2)","v":0},117900]
["2014-03-04",{"$f":"SUMIFS(ежемесячный!$F:$F,ежемесячный!$C:$C,$A8,ежемесячный!$D:$D,$A$1,ежемесячный!$E:$E,B$2)","v":0},{"$f":"SUMIFS(ежемесячный!$G:$G,ежемесячный!$C:$C,$A8,ежемесячный!$D:$D,$A$1,ежемесячный!$E:$E,B$2)","v":0},{"$f":"SUMIFS(ежемесячный!$F:$F,ежемесячный!$C:$C,$A8,ежемесячный!$D:$D,$A$1,ежемесячный!$E:$E,D$2)","v":0},{"$f":"SUMIFS(ежемесячный!$G:$G,ежемесячный!$C:$C,$A8,ежемесячный!$D:$D,$A$1,ежемесячный!$E:$E,D$2)","v":0},{"$f":"SUMIFS(ежемесячный!$F:$F,ежемесячный!$C:$C,$A8,ежемесячный!$D:$D,$A$1,ежемесячный!$E:$E,F$2)","v":0},{"$f":"SUMIFS(ежемесячный!$G:$G,ежемесячный!$C:$C,$A8,ежемесячный!$D:$D,$A$1,ежемесячный!$E:$E,F$2)","v":0},{"$f":"SUMIFS(ежемесячный!$F:$F,ежемесячный!$C:$C,$A8,ежемесячный!$D:$D,$A$1,ежемесячный!$E:$E,H$2)","v":0},{"$f":"SUMIFS(ежемесячный!$G:$G,ежемесячный!$C:$C,$A8,ежемесячный!$D:$D,$A$1,ежемесячный!$E:$E,H$2)","v":0},{"$f":"SUMIFS(ежемесячный!$F:$F,ежемесячный!$C:$C,$A8,ежемесячный!$D:$D,$A$1,ежемесячный!$E:$E,J$2)","v":0},{"$f":"SUMIFS(ежемесячный!$G:$G,ежемесячный!$C:$C,$A8,ежемесячный!$D:$D,$A$1,ежемесячный!$E:$E,J$2)","v":0},{"$f":"SUMIFS(ежемесячный!$F:$F,ежемесячный!$C:$C,$A8,ежемесячный!$D:$D,$A$1,ежемесячный!$E:$E,L$2)","v":0},{"$f":"SUMIFS(ежемесячный!$G:$G,ежемесячный!$C:$C,$A8,ежемесячный!$D:$D,$A$1,ежемесячный!$E:$E,L$2)","v":0},{"$f":"SUMIFS(ежемесячный!$F:$F,ежемесячный!$C:$C,$A8,ежемесячный!$D:$D,$A$1,ежемесячный!$E:$E,N$2)","v":0},{"$f":"SUMIFS(ежемесячный!$G:$G,ежемесячный!$C:$C,$A8,ежемесячный!$D:$D,$A$1,ежемесячный!$E:$E,N$2)","v":0},{"$f":"SUMIFS(ежемесячный!$F:$F,ежемесячный!$C:$C,$A8,ежемесячный!$D:$D,$A$1,ежемесячный!$E:$E,P$2)","v":0},{"$f":"SUMIFS(ежемесячный!$G:$G,ежемесячный!$C:$C,$A8,ежемесячный!$D:$D,$A$1,ежемесячный!$E:$E,P$2)","v":0},{"$f":"SUMIFS(ежемесячный!$F:$F,ежемесячный!$C:$C,$A8,ежемесячный!$D:$D,$A$1,ежемесячный!$E:$E,R$2)","v":0},{"$f":"SUMIFS(ежемесячный!$G:$G,ежемесячный!$C:$C,$A8,ежемесячный!$D:$D,$A$1,ежемесячный!$E:$E,R$2)","v":0},{"$f":"SUMIFS(ежемесячный!$F:$F,ежемесячный!$C:$C,$A8,ежемесячный!$D:$D,$A$1,ежемесячный!$E:$E,T$2)","v":0},{"$f":"SUMIFS(ежемесячный!$G:$G,ежемесячный!$C:$C,$A8,ежемесячный!$D:$D,$A$1,ежемесячный!$E:$E,T$2)","v":0},0]
["2014-03-05",{"$f":"SUMIFS(ежемесячный!$F:$F,ежемесячный!$C:$C,$A9,ежемесячный!$D:$D,$A$1,ежемесячный!$E:$E,B$2)","v":0},{"$f":"SUMIFS(ежемесячный!$G:$G,ежемесячный!$C:$C,$A9,ежемесячный!$D:$D,$A$1,ежемесячный!$E:$E,B$2)","v":0},{"$f":"SUMIFS(ежемесячный!$F:$F,ежемесячный!$C:$C,$A9,ежемесячный!$D:$D,$A$1,ежемесячный!$E:$E,D$2)","v":0},{"$f":"SUMIFS(ежемесячный!$G:$G,ежемесячный!$C:$C,$A9,ежемесячный!$D:$D,$A$1,ежемесячный!$E:$E,D$2)","v":0},{"$f":"SUMIFS(ежемесячный!$F:$F,ежемесячный!$C:$C,$A9,ежемесячный!$D:$D,$A$1,ежемесячный!$E:$E,F$2)","v":0},{"$f":"SUMIFS(ежемесячный!$G:$G,ежемесячный!$C:$C,$A9,ежемесячный!$D:$D,$A$1,ежемесячный!$E:$E,F$2)","v":0},{"$f":"SUMIFS(ежемесячный!$F:$F,ежемесячный!$C:$C,$A9,ежемесячный!$D:$D,$A$1,ежемесячный!$E:$E,H$2)","v":0},{"$f":"SUMIFS(ежемесячный!$G:$G,ежемесячный!$C:$C,$A9,ежемесячный!$D:$D,$A$1,ежемесячный!$E:$E,H$2)","v":0},{"$f":"SUMIFS(ежемесячный!$F:$F,ежемесячный!$C:$C,$A9,ежемесячный!$D:$D,$A$1,ежемесячный!$E:$E,J$2)","v":0},{"$f":"SUMIFS(ежемесячный!$G:$G,ежемесячный!$C:$C,$A9,ежемесячный!$D:$D,$A$1,ежемесячный!$E:$E,J$2)","v":0},{"$f":"SUMIFS(ежемесячный!$F:$F,ежемесячный!$C:$C,$A9,ежемесячный!$D:$D,$A$1,ежемесячный!$E:$E,L$2)","v":0},{"$f":"SUMIFS(ежемесячный!$G:$G,ежемесячный!$C:$C,$A9,ежемесячный!$D:$D,$A$1,ежемесячный!$E:$E,L$2)","v":0},{"$f":"SUMIFS(ежемесячный!$F:$F,ежемесячный!$C:$C,$A9,ежемесячный!$D:$D,$A$1,ежемесячный!$E:$E,N$2)","v":0},{"$f":"SUMIFS(ежемесячный!$G:$G,ежемесячный!$C:$C,$A9,ежемесячный!$D:$D,$A$1,ежемесячный!$E:$E,N$2)","v":0},{"$f":"SUMIFS(ежемесячный!$F:$F,ежемесячный!$C:$C,$A9,ежемесячный!$D:$D,$A$1,ежемесячный!$E:$E,P$2)","v":0},{"$f":"SUMIFS(ежемесячный!$G:$G,ежемесячный!$C:$C,$A9,ежемесячный!$D:$D,$A$1,ежемесячный!$E:$E,P$2)","v":0},{"$f":"SUMIFS(ежемесячный!$F:$F,ежемесячный!$C:$C,$A9,ежемесячный!$D:$D,$A$1,ежемесячный!$E:$E,R$2)","v":0},{"$f":"SUMIFS(ежемесячный!$G:$G,ежемесячный!$C:$C,$A9,ежемесячный!$D:$D,$A$1,ежемесячный!$E:$E,R$2)","v":0},{"$f":"SUMIFS(ежемесячный!$F:$F,ежемесячный!$C:$C,$A9,ежемесячный!$D:$D,$A$1,ежемесячный!$E:$E,T$2)","v":0},{"$f":"SUMIFS(ежемесячный!$G:$G,ежемесячный!$C:$C,$A9,ежемесячный!$D:$D,$A$1,ежемесячный!$E:$E,T$2)","v":0},0]
["2014-03-06",{"$f":"SUMIFS(ежемесячный!$F:$F,ежемесячный!$C:$C,$A10,ежемесячный!$D:$D,$A$1,ежемесячный!$E:$E,B$2)","v":0},{"$f":"SUMIFS(ежемесячный!$G:$G,ежемесячный!$C:$C,$A10,ежемесячный!$D:$D,$A$1,ежемесячный!$E:$E,B$2)","v":0},{"$f":"SUMIFS(ежемесячный!$F:$F,ежемесячный!$C:$C,$A10,ежемесячный!$D:$D,$A$1,ежемесячный!$E:$E,D$2)","v":0},{"$f":"SUMIFS(ежемесячный!$G:$G,ежемесячный!$C:$C,$A10,ежемесячный!$D:$D,$A$1,ежемесячный!$E:$E,D$2)","v":0},{"$f":"SUMIFS(ежемесячный!$F:$F,ежемесячный!$C:$C,$A10,ежемесячный!$D:$D,$A$1,ежемесячный!$E:$E,F$2)","v":0},{"$f":"SUMIFS(ежемесячный!$G:$G,ежемесячный!$C:$C,$A10,ежемесячный!$D:$D,$A$1,ежемесячный!$E:$E,F$2)","v":0},{"$f":"SUMIFS(ежемесячный!$F:$F,ежемесячный!$C:$C,$A10,ежемесячный!$D:$D,$A$1,ежемесячный!$E:$E,H$2)","v":0},{"$f":"SUMIFS(ежемесячный!$G:$G,ежемесячный!$C:$C,$A10,ежемесячный!$D:$D,$A$1,ежемесячный!$E:$E,H$2)","v":0},{"$f":"SUMIFS(ежемесячный!$F:$F,ежемесячный!$C:$C,$A10,ежемесячный!$D:$D,$A$1,ежемесячный!$E:$E,J$2)","v":0},{"$f":"SUMIFS(ежемесячный!$G:$G,ежемесячный!$C:$C,$A10,ежемесячный!$D:$D,$A$1,ежемесячный!$E:$E,J$2)","v":0},{"$f":"SUMIFS(ежемесячный!$F:$F,ежемесячный!$C:$C,$A10,ежемесячный!$D:$D,$A$1,ежемесячный!$E:$E,L$2)","v":0},{"$f":"SUMIFS(ежемесячный!$G:$G,ежемесячный!$C:$C,$A10,ежемесячный!$D:$D,$A$1,ежемесячный!$E:$E,L$2)","v":0},{"$f":"SUMIFS(ежемесячный!$F:$F,ежемесячный!$C:$C,$A10,ежемесячный!$D:$D,$A$1,ежемесячный!$E:$E,N$2)","v":0},{"$f":"SUMIFS(ежемесячный!$G:$G,ежемесячный!$C:$C,$A10,ежемесячный!$D:$D,$A$1,ежемесячный!$E:$E,N$2)","v":0},{"$f":"SUMIFS(ежемесячный!$F:$F,ежемесячный!$C:$C,$A10,ежемесячный!$D:$D,$A$1,ежемесячный!$E:$E,P$2)","v":0},{"$f":"SUMIFS(ежемесячный!$G:$G,ежемесячный!$C:$C,$A10,ежемесячный!$D:$D,$A$1,ежемесячный!$E:$E,P$2)","v":0},{"$f":"SUMIFS(ежемесячный!$F:$F,ежемесячный!$C:$C,$A10,ежемесячный!$D:$D,$A$1,ежемесячный!$E:$E,R$2)","v":0},{"$f":"SUMIFS(ежемесячный!$G:$G,ежемесячный!$C:$C,$A10,ежемесячный!$D:$D,$A$1,ежемесячный!$E:$E,R$2)","v":0},{"$f":"SUMIFS(ежемесячный!$F:$F,ежемесячный!$C:$C,$A10,ежемесячный!$D:$D,$A$1,ежемесячный!$E:$E,T$2)","v":0},{"$f":"SUMIFS(ежемесячный!$G:$G,ежемесячный!$C:$C,$A10,ежемесячный!$D:$D,$A$1,ежемесячный!$E:$E,T$2)","v":0},0]
["2014-03-07",{"$f":"SUMIFS(ежемесячный!$F:$F,ежемесячный!$C:$C,$A11,ежемесячный!$D:$D,$A$1,ежемесячный!$E:$E,B$2)","v":0},{"$f":"SUMIFS(ежемесячный!$G:$G,ежемесячный!$C:$C,$A11,ежемесячный!$D:$D,$A$1,ежемесячный!$E:$E,B$2)","v":0},{"$f":"SUMIFS(ежемесячный!$F:$F,ежемесячный!$C:$C,$A11,ежемесячный!$D:$D,$A$1,ежемесячный!$E:$E,D$2)","v":0},{"$f":"SUMIFS(ежемесячный!$G:$G,ежемесячный!$C:$C,$A11,ежемесячный!$D:$D,$A$1,ежемесячный!$E:$E,D$2)","v":0},{"$f":"SUMIFS(ежемесячный!$F:$F,ежемесячный!$C:$C,$A11,ежемесячный!$D:$D,$A$1,ежемесячный!$E:$E,F$2)","v":0},{"$f":"SUMIFS(ежемесячный!$G:$G,ежемесячный!$C:$C,$A11,ежемесячный!$D:$D,$A$1,ежемесячный!$E:$E,F$2)","v":0},{"$f":"SUMIFS(ежемесячный!$F:$F,ежемесячный!$C:$C,$A11,ежемесячный!$D:$D,$A$1,ежемесячный!$E:$E,H$2)","v":0},{"$f":"SUMIFS(ежемесячный!$G:$G,ежемесячный!$C:$C,$A11,ежемесячный!$D:$D,$A$1,ежемесячный!$E:$E,H$2)","v":0},{"$f":"SUMIFS(ежемесячный!$F:$F,ежемесячный!$C:$C,$A11,ежемесячный!$D:$D,$A$1,ежемесячный!$E:$E,J$2)","v":0},{"$f":"SUMIFS(ежемесячный!$G:$G,ежемесячный!$C:$C,$A11,ежемесячный!$D:$D,$A$1,ежемесячный!$E:$E,J$2)","v":0},{"$f":"SUMIFS(ежемесячный!$F:$F,ежемесячный!$C:$C,$A11,ежемесячный!$D:$D,$A$1,ежемесячный!$E:$E,L$2)","v":0},{"$f":"SUMIFS(ежемесячный!$G:$G,ежемесячный!$C:$C,$A11,ежемесячный!$D:$D,$A$1,ежемесячный!$E:$E,L$2)","v":0},{"$f":"SUMIFS(ежемесячный!$F:$F,ежемесячный!$C:$C,$A11,ежемесячный!$D:$D,$A$1,ежемесячный!$E:$E,N$2)","v":0},{"$f":"SUMIFS(ежемесячный!$G:$G,ежемесячный!$C:$C,$A11,ежемесячный!$D:$D,$A$1,ежемесячный!$E:$E,N$2)","v":0},{"$f":"SUMIFS(ежемесячный!$F:$F,ежемесячный!$C:$C,$A11,ежемесячный!$D:$D,$A$1,ежемесячный!$E:$E,P$2)","v":0},{"$f":"SUMIFS(ежемесячный!$G:$G,ежемесячный!$C:$C,$A11,ежемесячный!$D:$D,$A$1,ежемесячный!$E:$E,P$2)","v":0},{"$f":"SUMIFS(ежемесячный!$F:$F,ежемесячный!$C:$C,$A11,ежемесячный!$D:$D,$A$1,ежемесячный!$E:$E,R$2)","v":0},{"$f":"SUMIFS(ежемесячный!$G:$G,ежемесячный!$C:$C,$A11,ежемесячный!$D:$D,$A$1,ежемесячный!$E:$E,R$2)","v":0},{"$f":"SUMIFS(ежемесячный!$F:$F,ежемесячный!$C:$C,$A11,ежемесячный!$D:$D,$A$1,ежемесячный!$E:$E,T$2)","v":0},{"$f":"SUMIFS(ежемесячный!$G:$G,ежемесячный!$C:$C,$A11,ежемесячный!$D:$D,$A$1,ежемесячный!$E:$E,T$2)","v":0},0]
["2014-03-08",{"$f":"SUMIFS(ежемесячный!$F:$F,ежемесячный!$C:$C,$A12,ежемесячный!$D:$D,$A$1,ежемесячный!$E:$E,B$2)","v":0},{"$f":"SUMIFS(ежемесячный!$G:$G,ежемесячный!$C:$C,$A12,ежемесячный!$D:$D,$A$1,ежемесячный!$E:$E,B$2)","v":0},{"$f":"SUMIFS(ежемесячный!$F:$F,ежемесячный!$C:$C,$A12,ежемесячный!$D:$D,$A$1,ежемесячный!$E:$E,D$2)","v":0},{"$f":"SUMIFS(ежемесячный!$G:$G,ежемесячный!$C:$C,$A12,ежемесячный!$D:$D,$A$1,ежемесячный!$E:$E,D$2)","v":0},{"$f":"SUMIFS(ежемесячный!$F:$F,ежемесячный!$C:$C,$A12,ежемесячный!$D:$D,$A$1,ежемесячный!$E:$E,F$2)","v":0},{"$f":"SUMIFS(ежемесячный!$G:$G,ежемесячный!$C:$C,$A12,ежемесячный!$D:$D,$A$1,ежемесячный!$E:$E,F$2)","v":0},{"$f":"SUMIFS(ежемесячный!$F:$F,ежемесячный!$C:$C,$A12,ежемесячный!$D:$D,$A$1,ежемесячный!$E:$E,H$2)","v":0},{"$f":"SUMIFS(ежемесячный!$G:$G,ежемесячный!$C:$C,$A12,ежемесячный!$D:$D,$A$1,ежемесячный!$E:$E,H$2)","v":0},{"$f":"SUMIFS(ежемесячный!$F:$F,ежемесячный!$C:$C,$A12,ежемесячный!$D:$D,$A$1,ежемесячный!$E:$E,J$2)","v":0},{"$f":"SUMIFS(ежемесячный!$G:$G,ежемесячный!$C:$C,$A12,ежемесячный!$D:$D,$A$1,ежемесячный!$E:$E,J$2)","v":0},{"$f":"SUMIFS(ежемесячный!$F:$F,ежемесячный!$C:$C,$A12,ежемесячный!$D:$D,$A$1,ежемесячный!$E:$E,L$2)","v":0},{"$f":"SUMIFS(ежемесячный!$G:$G,ежемесячный!$C:$C,$A12,ежемесячный!$D:$D,$A$1,ежемесячный!$E:$E,L$2)","v":0},{"$f":"SUMIFS(ежемесячный!$F:$F,ежемесячный!$C:$C,$A12,ежемесячный!$D:$D,$A$1,ежемесячный!$E:$E,N$2)","v":0},{"$f":"SUMIFS(ежемесячный!$G:$G,ежемесячный!$C:$C,$A12,ежемесячный!$D:$D,$A$1,ежемесячный!$E:$E,N$2)","v":0},{"$f":"SUMIFS(ежемесячный!$F:$F,ежемесячный!$C:$C,$A12,ежемесячный!$D:$D,$A$1,ежемесячный!$E:$E,P$2)","v":0},{"$f":"SUMIFS(ежемесячный!$G:$G,ежемесячный!$C:$C,$A12,ежемесячный!$D:$D,$A$1,ежемесячный!$E:$E,P$2)","v":0},{"$f":"SUMIFS(ежемесячный!$F:$F,ежемесячный!$C:$C,$A12,ежемесячный!$D:$D,$A$1,ежемесячный!$E:$E,R$2)","v":0},{"$f":"SUMIFS(ежемесячный!$G:$G,ежемесячный!$C:$C,$A12,ежемесячный!$D:$D,$A$1,ежемесячный!$E:$E,R$2)","v":0},{"$f":"SUMIFS(ежемесячный!$F:$F,ежемесячный!$C:$C,$A12,ежемесячный!$D:$D,$A$1,ежемесячный!$E:$E,T$2)","v":0},{"$f":"SUMIFS(ежемесячный!$G:$G,ежемесячный!$C:$C,$A12,ежемесячный!$D:$D,$A$1,ежемесячный!$E:$E,T$2)","v":0},0]
["2014-03-09",{"$f":"SUMIFS(ежемесячный!$F:$F,ежемесячный!$C:$C,$A13,ежемесячный!$D:$D,$A$1,ежемесячный!$E:$E,B$2)","v":0},{"$f":"SUMIFS(ежемесячный!$G:$G,ежемесячный!$C:$C,$A13,ежемесячный!$D:$D,$A$1,ежемесячный!$E:$E,B$2)","v":0},{"$f":"SUMIFS(ежемесячный!$F:$F,ежемесячный!$C:$C,$A13,ежемесячный!$D:$D,$A$1,ежемесячный!$E:$E,D$2)","v":0},{"$f":"SUMIFS(ежемесячный!$G:$G,ежемесячный!$C:$C,$A13,ежемесячный!$D:$D,$A$1,ежемесячный!$E:$E,D$2)","v":0},{"$f":"SUMIFS(ежемесячный!$F:$F,ежемесячный!$C:$C,$A13,ежемесячный!$D:$D,$A$1,ежемесячный!$E:$E,F$2)","v":0},{"$f":"SUMIFS(ежемесячный!$G:$G,ежемесячный!$C:$C,$A13,ежемесячный!$D:$D,$A$1,ежемесячный!$E:$E,F$2)","v":0},{"$f":"SUMIFS(ежемесячный!$F:$F,ежемесячный!$C:$C,$A13,ежемесячный!$D:$D,$A$1,ежемесячный!$E:$E,H$2)","v":0},{"$f":"SUMIFS(ежемесячный!$G:$G,ежемесячный!$C:$C,$A13,ежемесячный!$D:$D,$A$1,ежемесячный!$E:$E,H$2)","v":0},{"$f":"SUMIFS(ежемесячный!$F:$F,ежемесячный!$C:$C,$A13,ежемесячный!$D:$D,$A$1,ежемесячный!$E:$E,J$2)","v":0},{"$f":"SUMIFS(ежемесячный!$G:$G,ежемесячный!$C:$C,$A13,ежемесячный!$D:$D,$A$1,ежемесячный!$E:$E,J$2)","v":0},{"$f":"SUMIFS(ежемесячный!$F:$F,ежемесячный!$C:$C,$A13,ежемесячный!$D:$D,$A$1,ежемесячный!$E:$E,L$2)","v":0},{"$f":"SUMIFS(ежемесячный!$G:$G,ежемесячный!$C:$C,$A13,ежемесячный!$D:$D,$A$1,ежемесячный!$E:$E,L$2)","v":0},{"$f":"SUMIFS(ежемесячный!$F:$F,ежемесячный!$C:$C,$A13,ежемесячный!$D:$D,$A$1,ежемесячный!$E:$E,N$2)","v":0},{"$f":"SUMIFS(ежемесячный!$G:$G,ежемесячный!$C:$C,$A13,ежемесячный!$D:$D,$A$1,ежемесячный!$E:$E,N$2)","v":0},{"$f":"SUMIFS(ежемесячный!$F:$F,ежемесячный!$C:$C,$A13,ежемесячный!$D:$D,$A$1,ежемесячный!$E:$E,P$2)","v":0},{"$f":"SUMIFS(ежемесячный!$G:$G,ежемесячный!$C:$C,$A13,ежемесячный!$D:$D,$A$1,ежемесячный!$E:$E,P$2)","v":0},{"$f":"SUMIFS(ежемесячный!$F:$F,ежемесячный!$C:$C,$A13,ежемесячный!$D:$D,$A$1,ежемесячный!$E:$E,R$2)","v":0},{"$f":"SUMIFS(ежемесячный!$G:$G,ежемесячный!$C:$C,$A13,ежемесячный!$D:$D,$A$1,ежемесячный!$E:$E,R$2)","v":0},{"$f":"SUMIFS(ежемесячный!$F:$F,ежемесячный!$C:$C,$A13,ежемесячный!$D:$D,$A$1,ежемесячный!$E:$E,T$2)","v":0},{"$f":"SUMIFS(ежемесячный!$G:$G,ежемесячный!$C:$C,$A13,ежемесячный!$D:$D,$A$1,ежемесячный!$E:$E,T$2)","v":0},0]
["2014-03-10",{"$f":"SUMIFS(ежемесячный!$F:$F,ежемесячный!$C:$C,$A14,ежемесячный!$D:$D,$A$1,ежемесячный!$E:$E,B$2)","v":0},{"$f":"SUMIFS(ежемесячный!$G:$G,ежемесячный!$C:$C,$A14,ежемесячный!$D:$D,$A$1,ежемесячный!$E:$E,B$2)","v":0},{"$f":"SUMIFS(ежемесячный!$F:$F,ежемесячный!$C:$C,$A14,ежемесячный!$D:$D,$A$1,ежемесячный!$E:$E,D$2)","v":0},{"$f":"SUMIFS(ежемесячный!$G:$G,ежемесячный!$C:$C,$A14,ежемесячный!$D:$D,$A$1,ежемесячный!$E:$E,D$2)","v":0},{"$f":"SUMIFS(ежемесячный!$F:$F,ежемесячный!$C:$C,$A14,ежемесячный!$D:$D,$A$1,ежемесячный!$E:$E,F$2)","v":0},{"$f":"SUMIFS(ежемесячный!$G:$G,ежемесячный!$C:$C,$A14,ежемесячный!$D:$D,$A$1,ежемесячный!$E:$E,F$2)","v":0},{"$f":"SUMIFS(ежемесячный!$F:$F,ежемесячный!$C:$C,$A14,ежемесячный!$D:$D,$A$1,ежемесячный!$E:$E,H$2)","v":0},{"$f":"SUMIFS(ежемесячный!$G:$G,ежемесячный!$C:$C,$A14,ежемесячный!$D:$D,$A$1,ежемесячный!$E:$E,H$2)","v":0},{"$f":"SUMIFS(ежемесячный!$F:$F,ежемесячный!$C:$C,$A14,ежемесячный!$D:$D,$A$1,ежемесячный!$E:$E,J$2)","v":0},{"$f":"SUMIFS(ежемесячный!$G:$G,ежемесячный!$C:$C,$A14,ежемесячный!$D:$D,$A$1,ежемесячный!$E:$E,J$2)","v":0},{"$f":"SUMIFS(ежемесячный!$F:$F,ежемесячный!$C:$C,$A14,ежемесячный!$D:$D,$A$1,ежемесячный!$E:$E,L$2)","v":0},{"$f":"SUMIFS(ежемесячный!$G:$G,ежемесячный!$C:$C,$A14,ежемесячный!$D:$D,$A$1,ежемесячный!$E:$E,L$2)","v":0},{"$f":"SUMIFS(ежемесячный!$F:$F,ежемесячный!$C:$C,$A14,ежемесячный!$D:$D,$A$1,ежемесячный!$E:$E,N$2)","v":0},{"$f":"SUMIFS(ежемесячный!$G:$G,ежемесячный!$C:$C,$A14,ежемесячный!$D:$D,$A$1,ежемесячный!$E:$E,N$2)","v":0},{"$f":"SUMIFS(ежемесячный!$F:$F,ежемесячный!$C:$C,$A14,ежемесячный!$D:$D,$A$1,ежемесячный!$E:$E,P$2)","v":0},{"$f":"SUMIFS(ежемесячный!$G:$G,ежемесячный!$C:$C,$A14,ежемесячный!$D:$D,$A$1,ежемесячный!$E:$E,P$2)","v":0},{"$f":"SUMIFS(ежемесячный!$F:$F,ежемесячный!$C:$C,$A14,ежемесячный!$D:$D,$A$1,ежемесячный!$E:$E,R$2)","v":0},{"$f":"SUMIFS(ежемесячный!$G:$G,ежемесячный!$C:$C,$A14,ежемесячный!$D:$D,$A$1,ежемесячный!$E:$E,R$2)","v":0},{"$f":"SUMIFS(ежемесячный!$F:$F,ежемесячный!$C:$C,$A14,ежемесячный!$D:$D,$A$1,ежемесячный!$E:$E,T$2)","v":0},{"$f":"SUMIFS(ежемесячный!$G:$G,ежемесячный!$C:$C,$A14,ежемесячный!$D:$D,$A$1,ежемесячный!$E:$E,T$2)","v":0},0]
["2014-03-11",{"$f":"SUMIFS(ежемесячный!$F:$F,ежемесячный!$C:$C,$A15,ежемесячный!$D:$D,$A$1,ежемесячный!$E:$E,B$2)","v":0},{"$f":"SUMIFS(ежемесячный!$G:$G,ежемесячный!$C:$C,$A15,ежемесячный!$D:$D,$A$1,ежемесячный!$E:$E,B$2)","v":0},{"$f":"SUMIFS(ежемесячный!$F:$F,ежемесячный!$C:$C,$A15,ежемесячный!$D:$D,$A$1,ежемесячный!$E:$E,D$2)","v":0},{"$f":"SUMIFS(ежемесячный!$G:$G,ежемесячный!$C:$C,$A15,ежемесячный!$D:$D,$A$1,ежемесячный!$E:$E,D$2)","v":0},{"$f":"SUMIFS(ежемесячный!$F:$F,ежемесячный!$C:$C,$A15,ежемесячный!$D:$D,$A$1,ежемесячный!$E:$E,F$2)","v":0},{"$f":"SUMIFS(ежемесячный!$G:$G,ежемесячный!$C:$C,$A15,ежемесячный!$D:$D,$A$1,ежемесячный!$E:$E,F$2)","v":0},{"$f":"SUMIFS(ежемесячный!$F:$F,ежемесячный!$C:$C,$A15,ежемесячный!$D:$D,$A$1,ежемесячный!$E:$E,H$2)","v":0},{"$f":"SUMIFS(ежемесячный!$G:$G,ежемесячный!$C:$C,$A15,ежемесячный!$D:$D,$A$1,ежемесячный!$E:$E,H$2)","v":0},{"$f":"SUMIFS(ежемесячный!$F:$F,ежемесячный!$C:$C,$A15,ежемесячный!$D:$D,$A$1,ежемесячный!$E:$E,J$2)","v":0},{"$f":"SUMIFS(ежемесячный!$G:$G,ежемесячный!$C:$C,$A15,ежемесячный!$D:$D,$A$1,ежемесячный!$E:$E,J$2)","v":0},{"$f":"SUMIFS(ежемесячный!$F:$F,ежемесячный!$C:$C,$A15,ежемесячный!$D:$D,$A$1,ежемесячный!$E:$E,L$2)","v":0},{"$f":"SUMIFS(ежемесячный!$G:$G,ежемесячный!$C:$C,$A15,ежемесячный!$D:$D,$A$1,ежемесячный!$E:$E,L$2)","v":0},{"$f":"SUMIFS(ежемесячный!$F:$F,ежемесячный!$C:$C,$A15,ежемесячный!$D:$D,$A$1,ежемесячный!$E:$E,N$2)","v":0},{"$f":"SUMIFS(ежемесячный!$G:$G,ежемесячный!$C:$C,$A15,ежемесячный!$D:$D,$A$1,ежемесячный!$E:$E,N$2)","v":0},{"$f":"SUMIFS(ежемесячный!$F:$F,ежемесячный!$C:$C,$A15,ежемесячный!$D:$D,$A$1,ежемесячный!$E:$E,P$2)","v":0},{"$f":"SUMIFS(ежемесячный!$G:$G,ежемесячный!$C:$C,$A15,ежемесячный!$D:$D,$A$1,ежемесячный!$E:$E,P$2)","v":0},{"$f":"SUMIFS(ежемесячный!$F:$F,ежемесячный!$C:$C,$A15,ежемесячный!$D:$D,$A$1,ежемесячный!$E:$E,R$2)","v":0},{"$f":"SUMIFS(ежемесячный!$G:$G,ежемесячный!$C:$C,$A15,ежемесячный!$D:$D,$A$1,ежемесячный!$E:$E,R$2)","v":0},{"$f":"SUMIFS(ежемесячный!$F:$F,ежемесячный!$C:$C,$A15,ежемесячный!$D:$D,$A$1,ежемесячный!$E:$E,T$2)","v":0},{"$f":"SUMIFS(ежемесячный!$G:$G,ежемесячный!$C:$C,$A15,ежемесячный!$D:$D,$A$1,ежемесячный!$E:$E,T$2)","v":0},0]
["2014-03-12",{"$f":"SUMIFS(ежемесячный!$F:$F,ежемесячный!$C:$C,$A16,ежемесячный!$D:$D,$A$1,ежемесячный!$E:$E,B$2)","v":0},{"$f":"SUMIFS(ежемесячный!$G:$G,ежемесячный!$C:$C,$A16,ежемесячный!$D:$D,$A$1,ежемесячный!$E:$E,B$2)","v":0},{"$f":"SUMIFS(ежемесячный!$F:$F,ежемесячный!$C:$C,$A16,ежемесячный!$D:$D,$A$1,ежемесячный!$E:$E,D$2)","v":0},{"$f":"SUMIFS(ежемесячный!$G:$G,ежемесячный!$C:$C,$A16,ежемесячный!$D:$D,$A$1,ежемесячный!$E:$E,D$2)","v":0},{"$f":"SUMIFS(ежемесячный!$F:$F,ежемесячный!$C:$C,$A16,ежемесячный!$D:$D,$A$1,ежемесячный!$E:$E,F$2)","v":0},{"$f":"SUMIFS(ежемесячный!$G:$G,ежемесячный!$C:$C,$A16,ежемесячный!$D:$D,$A$1,ежемесячный!$E:$E,F$2)","v":0},{"$f":"SUMIFS(ежемесячный!$F:$F,ежемесячный!$C:$C,$A16,ежемесячный!$D:$D,$A$1,ежемесячный!$E:$E,H$2)","v":0},{"$f":"SUMIFS(ежемесячный!$G:$G,ежемесячный!$C:$C,$A16,ежемесячный!$D:$D,$A$1,ежемесячный!$E:$E,H$2)","v":0},{"$f":"SUMIFS(ежемесячный!$F:$F,ежемесячный!$C:$C,$A16,ежемесячный!$D:$D,$A$1,ежемесячный!$E:$E,J$2)","v":0},{"$f":"SUMIFS(ежемесячный!$G:$G,ежемесячный!$C:$C,$A16,ежемесячный!$D:$D,$A$1,ежемесячный!$E:$E,J$2)","v":0},{"$f":"SUMIFS(ежемесячный!$F:$F,ежемесячный!$C:$C,$A16,ежемесячный!$D:$D,$A$1,ежемесячный!$E:$E,L$2)","v":0},{"$f":"SUMIFS(ежемесячный!$G:$G,ежемесячный!$C:$C,$A16,ежемесячный!$D:$D,$A$1,ежемесячный!$E:$E,L$2)","v":0},{"$f":"SUMIFS(ежемесячный!$F:$F,ежемесячный!$C:$C,$A16,ежемесячный!$D:$D,$A$1,ежемесячный!$E:$E,N$2)","v":0},{"$f":"SUMIFS(ежемесячный!$G:$G,ежемесячный!$C:$C,$A16,ежемесячный!$D:$D,$A$1,ежемесячный!$E:$E,N$2)","v":0},{"$f":"SUMIFS(ежемесячный!$F:$F,ежемесячный!$C:$C,$A16,ежемесячный!$D:$D,$A$1,ежемесячный!$E:$E,P$2)","v":0},{"$f":"SUMIFS(ежемесячный!$G:$G,ежемесячный!$C:$C,$A16,ежемесячный!$D:$D,$A$1,ежемесячный!$E:$E,P$2)","v":0},{"$f":"SUMIFS(ежемесячный!$F:$F,ежемесячный!$C:$C,$A16,ежемесячный!$D:$D,$A$1,ежемесячный!$E:$E,R$2)","v":0},{"$f":"SUMIFS(ежемесячный!$G:$G,ежемесячный!$C:$C,$A16,ежемесячный!$D:$D,$A$1,ежемесячный!$E:$E,R$2)","v":0},{"$f":"SUMIFS(ежемесячный!$F:$F,ежемесячный!$C:$C,$A16,ежемесячный!$D:$D,$A$1,ежемесячный!$E:$E,T$2)","v":0},{"$f":"SUMIFS(ежемесячный!$G:$G,ежемесячный!$C:$C,$A16,ежемесячный!$D:$D,$A$1,ежемесячный!$E:$E,T$2)","v":0},0]
["2014-03-13",{"$f":"SUMIFS(ежемесячный!$F:$F,ежемесячный!$C:$C,$A17,ежемесячный!$D:$D,$A$1,ежемесячный!$E:$E,B$2)","v":0},{"$f":"SUMIFS(ежемесячный!$G:$G,ежемесячный!$C:$C,$A17,ежемесячный!$D:$D,$A$1,ежемесячный!$E:$E,B$2)","v":0},{"$f":"SUMIFS(ежемесячный!$F:$F,ежемесячный!$C:$C,$A17,ежемесячный!$D:$D,$A$1,ежемесячный!$E:$E,D$2)","v":0},{"$f":"SUMIFS(ежемесячный!$G:$G,ежемесячный!$C:$C,$A17,ежемесячный!$D:$D,$A$1,ежемесячный!$E:$E,D$2)","v":0},{"$f":"SUMIFS(ежемесячный!$F:$F,ежемесячный!$C:$C,$A17,ежемесячный!$D:$D,$A$1,ежемесячный!$E:$E,F$2)","v":0},{"$f":"SUMIFS(ежемесячный!$G:$G,ежемесячный!$C:$C,$A17,ежемесячный!$D:$D,$A$1,ежемесячный!$E:$E,F$2)","v":0},{"$f":"SUMIFS(ежемесячный!$F:$F,ежемесячный!$C:$C,$A17,ежемесячный!$D:$D,$A$1,ежемесячный!$E:$E,H$2)","v":0},{"$f":"SUMIFS(ежемесячный!$G:$G,ежемесячный!$C:$C,$A17,ежемесячный!$D:$D,$A$1,ежемесячный!$E:$E,H$2)","v":0},{"$f":"SUMIFS(ежемесячный!$F:$F,ежемесячный!$C:$C,$A17,ежемесячный!$D:$D,$A$1,ежемесячный!$E:$E,J$2)","v":0},{"$f":"SUMIFS(ежемесячный!$G:$G,ежемесячный!$C:$C,$A17,ежемесячный!$D:$D,$A$1,ежемесячный!$E:$E,J$2)","v":0},{"$f":"SUMIFS(ежемесячный!$F:$F,ежемесячный!$C:$C,$A17,ежемесячный!$D:$D,$A$1,ежемесячный!$E:$E,L$2)","v":0},{"$f":"SUMIFS(ежемесячный!$G:$G,ежемесячный!$C:$C,$A17,ежемесячный!$D:$D,$A$1,ежемесячный!$E:$E,L$2)","v":0},{"$f":"SUMIFS(ежемесячный!$F:$F,ежемесячный!$C:$C,$A17,ежемесячный!$D:$D,$A$1,ежемесячный!$E:$E,N$2)","v":0},{"$f":"SUMIFS(ежемесячный!$G:$G,ежемесячный!$C:$C,$A17,ежемесячный!$D:$D,$A$1,ежемесячный!$E:$E,N$2)","v":0},{"$f":"SUMIFS(ежемесячный!$F:$F,ежемесячный!$C:$C,$A17,ежемесячный!$D:$D,$A$1,ежемесячный!$E:$E,P$2)","v":0},{"$f":"SUMIFS(ежемесячный!$G:$G,ежемесячный!$C:$C,$A17,ежемесячный!$D:$D,$A$1,ежемесячный!$E:$E,P$2)","v":0},{"$f":"SUMIFS(ежемесячный!$F:$F,ежемесячный!$C:$C,$A17,ежемесячный!$D:$D,$A$1,ежемесячный!$E:$E,R$2)","v":0},{"$f":"SUMIFS(ежемесячный!$G:$G,ежемесячный!$C:$C,$A17,ежемесячный!$D:$D,$A$1,ежемесячный!$E:$E,R$2)","v":0},{"$f":"SUMIFS(ежемесячный!$F:$F,ежемесячный!$C:$C,$A17,ежемесячный!$D:$D,$A$1,ежемесячный!$E:$E,T$2)","v":0},{"$f":"SUMIFS(ежемесячный!$G:$G,ежемесячный!$C:$C,$A17,ежемесячный!$D:$D,$A$1,ежемесячный!$E:$E,T$2)","v":0},0]
["2014-03-14",{"$f":"SUMIFS(ежемесячный!$F:$F,ежемесячный!$C:$C,$A18,ежемесячный!$D:$D,$A$1,ежемесячный!$E:$E,B$2)","v":0},{"$f":"SUMIFS(ежемесячный!$G:$G,ежемесячный!$C:$C,$A18,ежемесячный!$D:$D,$A$1,ежемесячный!$E:$E,B$2)","v":0},{"$f":"SUMIFS(ежемесячный!$F:$F,ежемесячный!$C:$C,$A18,ежемесячный!$D:$D,$A$1,ежемесячный!$E:$E,D$2)","v":0},{"$f":"SUMIFS(ежемесячный!$G:$G,ежемесячный!$C:$C,$A18,ежемесячный!$D:$D,$A$1,ежемесячный!$E:$E,D$2)","v":0},{"$f":"SUMIFS(ежемесячный!$F:$F,ежемесячный!$C:$C,$A18,ежемесячный!$D:$D,$A$1,ежемесячный!$E:$E,F$2)","v":0},{"$f":"SUMIFS(ежемесячный!$G:$G,ежемесячный!$C:$C,$A18,ежемесячный!$D:$D,$A$1,ежемесячный!$E:$E,F$2)","v":0},{"$f":"SUMIFS(ежемесячный!$F:$F,ежемесячный!$C:$C,$A18,ежемесячный!$D:$D,$A$1,ежемесячный!$E:$E,H$2)","v":0},{"$f":"SUMIFS(ежемесячный!$G:$G,ежемесячный!$C:$C,$A18,ежемесячный!$D:$D,$A$1,ежемесячный!$E:$E,H$2)","v":0},{"$f":"SUMIFS(ежемесячный!$F:$F,ежемесячный!$C:$C,$A18,ежемесячный!$D:$D,$A$1,ежемесячный!$E:$E,J$2)","v":0},{"$f":"SUMIFS(ежемесячный!$G:$G,ежемесячный!$C:$C,$A18,ежемесячный!$D:$D,$A$1,ежемесячный!$E:$E,J$2)","v":0},{"$f":"SUMIFS(ежемесячный!$F:$F,ежемесячный!$C:$C,$A18,ежемесячный!$D:$D,$A$1,ежемесячный!$E:$E,L$2)","v":0},{"$f":"SUMIFS(ежемесячный!$G:$G,ежемесячный!$C:$C,$A18,ежемесячный!$D:$D,$A$1,ежемесячный!$E:$E,L$2)","v":0},{"$f":"SUMIFS(ежемесячный!$F:$F,ежемесячный!$C:$C,$A18,ежемесячный!$D:$D,$A$1,ежемесячный!$E:$E,N$2)","v":0},{"$f":"SUMIFS(ежемесячный!$G:$G,ежемесячный!$C:$C,$A18,ежемесячный!$D:$D,$A$1,ежемесячный!$E:$E,N$2)","v":0},{"$f":"SUMIFS(ежемесячный!$F:$F,ежемесячный!$C:$C,$A18,ежемесячный!$D:$D,$A$1,ежемесячный!$E:$E,P$2)","v":0},{"$f":"SUMIFS(ежемесячный!$G:$G,ежемесячный!$C:$C,$A18,ежемесячный!$D:$D,$A$1,ежемесячный!$E:$E,P$2)","v":0},{"$f":"SUMIFS(ежемесячный!$F:$F,ежемесячный!$C:$C,$A18,ежемесячный!$D:$D,$A$1,ежемесячный!$E:$E,R$2)","v":0},{"$f":"SUMIFS(ежемесячный!$G:$G,ежемесячный!$C:$C,$A18,ежемесячный!$D:$D,$A$1,ежемесячный!$E:$E,R$2)","v":0},{"$f":"SUMIFS(ежемесячный!$F:$F,ежемесячный!$C:$C,$A18,ежемесячный!$D:$D,$A$1,ежемесячный!$E:$E,T$2)","v":0},{"$f":"SUMIFS(ежемесячный!$G:$G,ежемесячный!$C:$C,$A18,ежемесячный!$D:$D,$A$1,ежемесячный!$E:$E,T$2)","v":0},0]
["2014-03-15",{"$f":"SUMIFS(ежемесячный!$F:$F,ежемесячный!$C:$C,$A19,ежемесячный!$D:$D,$A$1,ежемесячный!$E:$E,B$2)","v":0},{"$f":"SUMIFS(ежемесячный!$G:$G,ежемесячный!$C:$C,$A19,ежемесячный!$D:$D,$A$1,ежемесячный!$E:$E,B$2)","v":0},{"$f":"SUMIFS(ежемесячный!$F:$F,ежемесячный!$C:$C,$A19,ежемесячный!$D:$D,$A$1,ежемесячный!$E:$E,D$2)","v":0},{"$f":"SUMIFS(ежемесячный!$G:$G,ежемесячный!$C:$C,$A19,ежемесячный!$D:$D,$A$1,ежемесячный!$E:$E,D$2)","v":0},{"$f":"SUMIFS(ежемесячный!$F:$F,ежемесячный!$C:$C,$A19,ежемесячный!$D:$D,$A$1,ежемесячный!$E:$E,F$2)","v":0},{"$f":"SUMIFS(ежемесячный!$G:$G,ежемесячный!$C:$C,$A19,ежемесячный!$D:$D,$A$1,ежемесячный!$E:$E,F$2)","v":0},{"$f":"SUMIFS(ежемесячный!$F:$F,ежемесячный!$C:$C,$A19,ежемесячный!$D:$D,$A$1,ежемесячный!$E:$E,H$2)","v":0},{"$f":"SUMIFS(ежемесячный!$G:$G,ежемесячный!$C:$C,$A19,ежемесячный!$D:$D,$A$1,ежемесячный!$E:$E,H$2)","v":0},{"$f":"SUMIFS(ежемесячный!$F:$F,ежемесячный!$C:$C,$A19,ежемесячный!$D:$D,$A$1,ежемесячный!$E:$E,J$2)","v":0},{"$f":"SUMIFS(ежемесячный!$G:$G,ежемесячный!$C:$C,$A19,ежемесячный!$D:$D,$A$1,ежемесячный!$E:$E,J$2)","v":0},{"$f":"SUMIFS(ежемесячный!$F:$F,ежемесячный!$C:$C,$A19,ежемесячный!$D:$D,$A$1,ежемесячный!$E:$E,L$2)","v":0},{"$f":"SUMIFS(ежемесячный!$G:$G,ежемесячный!$C:$C,$A19,ежемесячный!$D:$D,$A$1,ежемесячный!$E:$E,L$2)","v":0},{"$f":"SUMIFS(ежемесячный!$F:$F,ежемесячный!$C:$C,$A19,ежемесячный!$D:$D,$A$1,ежемесячный!$E:$E,N$2)","v":0},{"$f":"SUMIFS(ежемесячный!$G:$G,ежемесячный!$C:$C,$A19,ежемесячный!$D:$D,$A$1,ежемесячный!$E:$E,N$2)","v":0},{"$f":"SUMIFS(ежемесячный!$F:$F,ежемесячный!$C:$C,$A19,ежемесячный!$D:$D,$A$1,ежемесячный!$E:$E,P$2)","v":0},{"$f":"SUMIFS(ежемесячный!$G:$G,ежемесячный!$C:$C,$A19,ежемесячный!$D:$D,$A$1,ежемесячный!$E:$E,P$2)","v":0},{"$f":"SUMIFS(ежемесячный!$F:$F,ежемесячный!$C:$C,$A19,ежемесячный!$D:$D,$A$1,ежемесячный!$E:$E,R$2)","v":0},{"$f":"SUMIFS(ежемесячный!$G:$G,ежемесячный!$C:$C,$A19,ежемесячный!$D:$D,$A$1,ежемесячный!$E:$E,R$2)","v":0},{"$f":"SUMIFS(ежемесячный!$F:$F,ежемесячный!$C:$C,$A19,ежемесячный!$D:$D,$A$1,ежемесячный!$E:$E,T$2)","v":0},{"$f":"SUMIFS(ежемесячный!$G:$G,ежемесячный!$C:$C,$A19,ежемесячный!$D:$D,$A$1,ежемесячный!$E:$E,T$2)","v":0},0]
["2014-03-16",{"$f":"SUMIFS(ежемесячный!$F:$F,ежемесячный!$C:$C,$A20,ежемесячный!$D:$D,$A$1,ежемесячный!$E:$E,B$2)","v":0},{"$f":"SUMIFS(ежемесячный!$G:$G,ежемесячный!$C:$C,$A20,ежемесячный!$D:$D,$A$1,ежемесячный!$E:$E,B$2)","v":0},{"$f":"SUMIFS(ежемесячный!$F:$F,ежемесячный!$C:$C,$A20,ежемесячный!$D:$D,$A$1,ежемесячный!$E:$E,D$2)","v":0},{"$f":"SUMIFS(ежемесячный!$G:$G,ежемесячный!$C:$C,$A20,ежемесячный!$D:$D,$A$1,ежемесячный!$E:$E,D$2)","v":0},{"$f":"SUMIFS(ежемесячный!$F:$F,ежемесячный!$C:$C,$A20,ежемесячный!$D:$D,$A$1,ежемесячный!$E:$E,F$2)","v":0},{"$f":"SUMIFS(ежемесячный!$G:$G,ежемесячный!$C:$C,$A20,ежемесячный!$D:$D,$A$1,ежемесячный!$E:$E,F$2)","v":0},{"$f":"SUMIFS(ежемесячный!$F:$F,ежемесячный!$C:$C,$A20,ежемесячный!$D:$D,$A$1,ежемесячный!$E:$E,H$2)","v":0},{"$f":"SUMIFS(ежемесячный!$G:$G,ежемесячный!$C:$C,$A20,ежемесячный!$D:$D,$A$1,ежемесячный!$E:$E,H$2)","v":0},{"$f":"SUMIFS(ежемесячный!$F:$F,ежемесячный!$C:$C,$A20,ежемесячный!$D:$D,$A$1,ежемесячный!$E:$E,J$2)","v":0},{"$f":"SUMIFS(ежемесячный!$G:$G,ежемесячный!$C:$C,$A20,ежемесячный!$D:$D,$A$1,ежемесячный!$E:$E,J$2)","v":0},{"$f":"SUMIFS(ежемесячный!$F:$F,ежемесячный!$C:$C,$A20,ежемесячный!$D:$D,$A$1,ежемесячный!$E:$E,L$2)","v":0},{"$f":"SUMIFS(ежемесячный!$G:$G,ежемесячный!$C:$C,$A20,ежемесячный!$D:$D,$A$1,ежемесячный!$E:$E,L$2)","v":0},{"$f":"SUMIFS(ежемесячный!$F:$F,ежемесячный!$C:$C,$A20,ежемесячный!$D:$D,$A$1,ежемесячный!$E:$E,N$2)","v":0},{"$f":"SUMIFS(ежемесячный!$G:$G,ежемесячный!$C:$C,$A20,ежемесячный!$D:$D,$A$1,ежемесячный!$E:$E,N$2)","v":0},{"$f":"SUMIFS(ежемесячный!$F:$F,ежемесячный!$C:$C,$A20,ежемесячный!$D:$D,$A$1,ежемесячный!$E:$E,P$2)","v":0},{"$f":"SUMIFS(ежемесячный!$G:$G,ежемесячный!$C:$C,$A20,ежемесячный!$D:$D,$A$1,ежемесячный!$E:$E,P$2)","v":0},{"$f":"SUMIFS(ежемесячный!$F:$F,ежемесячный!$C:$C,$A20,ежемесячный!$D:$D,$A$1,ежемесячный!$E:$E,R$2)","v":0},{"$f":"SUMIFS(ежемесячный!$G:$G,ежемесячный!$C:$C,$A20,ежемесячный!$D:$D,$A$1,ежемесячный!$E:$E,R$2)","v":0},{"$f":"SUMIFS(ежемесячный!$F:$F,ежемесячный!$C:$C,$A20,ежемесячный!$D:$D,$A$1,ежемесячный!$E:$E,T$2)","v":0},{"$f":"SUMIFS(ежемесячный!$G:$G,ежемесячный!$C:$C,$A20,ежемесячный!$D:$D,$A$1,ежемесячный!$E:$E,T$2)","v":0},0]
["2014-03-17",{"$f":"SUMIFS(ежемесячный!$F:$F,ежемесячный!$C:$C,$A21,ежемесячный!$D:$D,$A$1,ежемесячный!$E:$E,B$2)","v":0},{"$f":"SUMIFS(ежемесячный!$G:$G,ежемесячный!$C:$C,$A21,ежемесячный!$D:$D,$A$1,ежемесячный!$E:$E,B$2)","v":0},{"$f":"SUMIFS(ежемесячный!$F:$F,ежемесячный!$C:$C,$A21,ежемесячный!$D:$D,$A$1,ежемесячный!$E:$E,D$2)","v":0},{"$f":"SUMIFS(ежемесячный!$G:$G,ежемесячный!$C:$C,$A21,ежемесячный!$D:$D,$A$1,ежемесячный!$E:$E,D$2)","v":0},{"$f":"SUMIFS(ежемесячный!$F:$F,ежемесячный!$C:$C,$A21,ежемесячный!$D:$D,$A$1,ежемесячный!$E:$E,F$2)","v":0},{"$f":"SUMIFS(ежемесячный!$G:$G,ежемесячный!$C:$C,$A21,ежемесячный!$D:$D,$A$1,ежемесячный!$E:$E,F$2)","v":0},{"$f":"SUMIFS(ежемесячный!$F:$F,ежемесячный!$C:$C,$A21,ежемесячный!$D:$D,$A$1,ежемесячный!$E:$E,H$2)","v":0},{"$f":"SUMIFS(ежемесячный!$G:$G,ежемесячный!$C:$C,$A21,ежемесячный!$D:$D,$A$1,ежемесячный!$E:$E,H$2)","v":0},{"$f":"SUMIFS(ежемесячный!$F:$F,ежемесячный!$C:$C,$A21,ежемесячный!$D:$D,$A$1,ежемесячный!$E:$E,J$2)","v":0},{"$f":"SUMIFS(ежемесячный!$G:$G,ежемесячный!$C:$C,$A21,ежемесячный!$D:$D,$A$1,ежемесячный!$E:$E,J$2)","v":0},{"$f":"SUMIFS(ежемесячный!$F:$F,ежемесячный!$C:$C,$A21,ежемесячный!$D:$D,$A$1,ежемесячный!$E:$E,L$2)","v":0},{"$f":"SUMIFS(ежемесячный!$G:$G,ежемесячный!$C:$C,$A21,ежемесячный!$D:$D,$A$1,ежемесячный!$E:$E,L$2)","v":0},{"$f":"SUMIFS(ежемесячный!$F:$F,ежемесячный!$C:$C,$A21,ежемесячный!$D:$D,$A$1,ежемесячный!$E:$E,N$2)","v":0},{"$f":"SUMIFS(ежемесячный!$G:$G,ежемесячный!$C:$C,$A21,ежемесячный!$D:$D,$A$1,ежемесячный!$E:$E,N$2)","v":0},{"$f":"SUMIFS(ежемесячный!$F:$F,ежемесячный!$C:$C,$A21,ежемесячный!$D:$D,$A$1,ежемесячный!$E:$E,P$2)","v":0},{"$f":"SUMIFS(ежемесячный!$G:$G,ежемесячный!$C:$C,$A21,ежемесячный!$D:$D,$A$1,ежемесячный!$E:$E,P$2)","v":0},{"$f":"SUMIFS(ежемесячный!$F:$F,ежемесячный!$C:$C,$A21,ежемесячный!$D:$D,$A$1,ежемесячный!$E:$E,R$2)","v":0},{"$f":"SUMIFS(ежемесячный!$G:$G,ежемесячный!$C:$C,$A21,ежемесячный!$D:$D,$A$1,ежемесячный!$E:$E,R$2)","v":0},{"$f":"SUMIFS(ежемесячный!$F:$F,ежемесячный!$C:$C,$A21,ежемесячный!$D:$D,$A$1,ежемесячный!$E:$E,T$2)","v":0},{"$f":"SUMIFS(ежемесячный!$G:$G,ежемесячный!$C:$C,$A21,ежемесячный!$D:$D,$A$1,ежемесячный!$E:$E,T$2)","v":0},0]
["2014-03-18",{"$f":"SUMIFS(ежемесячный!$F:$F,ежемесячный!$C:$C,$A22,ежемесячный!$D:$D,$A$1,ежемесячный!$E:$E,B$2)","v":0},{"$f":"SUMIFS(ежемесячный!$G:$G,ежемесячный!$C:$C,$A22,ежемесячный!$D:$D,$A$1,ежемесячный!$E:$E,B$2)","v":0},{"$f":"SUMIFS(ежемесячный!$F:$F,ежемесячный!$C:$C,$A22,ежемесячный!$D:$D,$A$1,ежемесячный!$E:$E,D$2)","v":0},{"$f":"SUMIFS(ежемесячный!$G:$G,ежемесячный!$C:$C,$A22,ежемесячный!$D:$D,$A$1,ежемесячный!$E:$E,D$2)","v":0},{"$f":"SUMIFS(ежемесячный!$F:$F,ежемесячный!$C:$C,$A22,ежемесячный!$D:$D,$A$1,ежемесячный!$E:$E,F$2)","v":0},{"$f":"SUMIFS(ежемесячный!$G:$G,ежемесячный!$C:$C,$A22,ежемесячный!$D:$D,$A$1,ежемесячный!$E:$E,F$2)","v":0},{"$f":"SUMIFS(ежемесячный!$F:$F,ежемесячный!$C:$C,$A22,ежемесячный!$D:$D,$A$1,ежемесячный!$E:$E,H$2)","v":0},{"$f":"SUMIFS(ежемесячный!$G:$G,ежемесячный!$C:$C,$A22,ежемесячный!$D:$D,$A$1,ежемесячный!$E:$E,H$2)","v":0},{"$f":"SUMIFS(ежемесячный!$F:$F,ежемесячный!$C:$C,$A22,ежемесячный!$D:$D,$A$1,ежемесячный!$E:$E,J$2)","v":0},{"$f":"SUMIFS(ежемесячный!$G:$G,ежемесячный!$C:$C,$A22,ежемесячный!$D:$D,$A$1,ежемесячный!$E:$E,J$2)","v":0},{"$f":"SUMIFS(ежемесячный!$F:$F,ежемесячный!$C:$C,$A22,ежемесячный!$D:$D,$A$1,ежемесячный!$E:$E,L$2)","v":0},{"$f":"SUMIFS(ежемесячный!$G:$G,ежемесячный!$C:$C,$A22,ежемесячный!$D:$D,$A$1,ежемесячный!$E:$E,L$2)","v":0},{"$f":"SUMIFS(ежемесячный!$F:$F,ежемесячный!$C:$C,$A22,ежемесячный!$D:$D,$A$1,ежемесячный!$E:$E,N$2)","v":0},{"$f":"SUMIFS(ежемесячный!$G:$G,ежемесячный!$C:$C,$A22,ежемесячный!$D:$D,$A$1,ежемесячный!$E:$E,N$2)","v":0},{"$f":"SUMIFS(ежемесячный!$F:$F,ежемесячный!$C:$C,$A22,ежемесячный!$D:$D,$A$1,ежемесячный!$E:$E,P$2)","v":0},{"$f":"SUMIFS(ежемесячный!$G:$G,ежемесячный!$C:$C,$A22,ежемесячный!$D:$D,$A$1,ежемесячный!$E:$E,P$2)","v":0},{"$f":"SUMIFS(ежемесячный!$F:$F,ежемесячный!$C:$C,$A22,ежемесячный!$D:$D,$A$1,ежемесячный!$E:$E,R$2)","v":0},{"$f":"SUMIFS(ежемесячный!$G:$G,ежемесячный!$C:$C,$A22,ежемесячный!$D:$D,$A$1,ежемесячный!$E:$E,R$2)","v":0},{"$f":"SUMIFS(ежемесячный!$F:$F,ежемесячный!$C:$C,$A22,ежемесячный!$D:$D,$A$1,ежемесячный!$E:$E,T$2)","v":0},{"$f":"SUMIFS(ежемесячный!$G:$G,ежемесячный!$C:$C,$A22,ежемесячный!$D:$D,$A$1,ежемесячный!$E:$E,T$2)","v":0},0]
["2014-03-19",{"$f":"SUMIFS(ежемесячный!$F:$F,ежемесячный!$C:$C,$A23,ежемесячный!$D:$D,$A$1,ежемесячный!$E:$E,B$2)","v":0},{"$f":"SUMIFS(ежемесячный!$G:$G,ежемесячный!$C:$C,$A23,ежемесячный!$D:$D,$A$1,ежемесячный!$E:$E,B$2)","v":0},{"$f":"SUMIFS(ежемесячный!$F:$F,ежемесячный!$C:$C,$A23,ежемесячный!$D:$D,$A$1,ежемесячный!$E:$E,D$2)","v":0},{"$f":"SUMIFS(ежемесячный!$G:$G,ежемесячный!$C:$C,$A23,ежемесячный!$D:$D,$A$1,ежемесячный!$E:$E,D$2)","v":0},{"$f":"SUMIFS(ежемесячный!$F:$F,ежемесячный!$C:$C,$A23,ежемесячный!$D:$D,$A$1,ежемесячный!$E:$E,F$2)","v":0},{"$f":"SUMIFS(ежемесячный!$G:$G,ежемесячный!$C:$C,$A23,ежемесячный!$D:$D,$A$1,ежемесячный!$E:$E,F$2)","v":0},{"$f":"SUMIFS(ежемесячный!$F:$F,ежемесячный!$C:$C,$A23,ежемесячный!$D:$D,$A$1,ежемесячный!$E:$E,H$2)","v":0},{"$f":"SUMIFS(ежемесячный!$G:$G,ежемесячный!$C:$C,$A23,ежемесячный!$D:$D,$A$1,ежемесячный!$E:$E,H$2)","v":0},{"$f":"SUMIFS(ежемесячный!$F:$F,ежемесячный!$C:$C,$A23,ежемесячный!$D:$D,$A$1,ежемесячный!$E:$E,J$2)","v":0},{"$f":"SUMIFS(ежемесячный!$G:$G,ежемесячный!$C:$C,$A23,ежемесячный!$D:$D,$A$1,ежемесячный!$E:$E,J$2)","v":0},{"$f":"SUMIFS(ежемесячный!$F:$F,ежемесячный!$C:$C,$A23,ежемесячный!$D:$D,$A$1,ежемесячный!$E:$E,L$2)","v":0},{"$f":"SUMIFS(ежемесячный!$G:$G,ежемесячный!$C:$C,$A23,ежемесячный!$D:$D,$A$1,ежемесячный!$E:$E,L$2)","v":0},{"$f":"SUMIFS(ежемесячный!$F:$F,ежемесячный!$C:$C,$A23,ежемесячный!$D:$D,$A$1,ежемесячный!$E:$E,N$2)","v":0},{"$f":"SUMIFS(ежемесячный!$G:$G,ежемесячный!$C:$C,$A23,ежемесячный!$D:$D,$A$1,ежемесячный!$E:$E,N$2)","v":0},{"$f":"SUMIFS(ежемесячный!$F:$F,ежемесячный!$C:$C,$A23,ежемесячный!$D:$D,$A$1,ежемесячный!$E:$E,P$2)","v":0},{"$f":"SUMIFS(ежемесячный!$G:$G,ежемесячный!$C:$C,$A23,ежемесячный!$D:$D,$A$1,ежемесячный!$E:$E,P$2)","v":0},{"$f":"SUMIFS(ежемесячный!$F:$F,ежемесячный!$C:$C,$A23,ежемесячный!$D:$D,$A$1,ежемесячный!$E:$E,R$2)","v":0},{"$f":"SUMIFS(ежемесячный!$G:$G,ежемесячный!$C:$C,$A23,ежемесячный!$D:$D,$A$1,ежемесячный!$E:$E,R$2)","v":0},{"$f":"SUMIFS(ежемесячный!$F:$F,ежемесячный!$C:$C,$A23,ежемесячный!$D:$D,$A$1,ежемесячный!$E:$E,T$2)","v":0},{"$f":"SUMIFS(ежемесячный!$G:$G,ежемесячный!$C:$C,$A23,ежемесячный!$D:$D,$A$1,ежемесячный!$E:$E,T$2)","v":0},0]
["2014-03-20",{"$f":"SUMIFS(ежемесячный!$F:$F,ежемесячный!$C:$C,$A24,ежемесячный!$D:$D,$A$1,ежемесячный!$E:$E,B$2)","v":0},{"$f":"SUMIFS(ежемесячный!$G:$G,ежемесячный!$C:$C,$A24,ежемесячный!$D:$D,$A$1,ежемесячный!$E:$E,B$2)","v":0},{"$f":"SUMIFS(ежемесячный!$F:$F,ежемесячный!$C:$C,$A24,ежемесячный!$D:$D,$A$1,ежемесячный!$E:$E,D$2)","v":0},{"$f":"SUMIFS(ежемесячный!$G:$G,ежемесячный!$C:$C,$A24,ежемесячный!$D:$D,$A$1,ежемесячный!$E:$E,D$2)","v":0},{"$f":"SUMIFS(ежемесячный!$F:$F,ежемесячный!$C:$C,$A24,ежемесячный!$D:$D,$A$1,ежемесячный!$E:$E,F$2)","v":0},{"$f":"SUMIFS(ежемесячный!$G:$G,ежемесячный!$C:$C,$A24,ежемесячный!$D:$D,$A$1,ежемесячный!$E:$E,F$2)","v":0},{"$f":"SUMIFS(ежемесячный!$F:$F,ежемесячный!$C:$C,$A24,ежемесячный!$D:$D,$A$1,ежемесячный!$E:$E,H$2)","v":0},{"$f":"SUMIFS(ежемесячный!$G:$G,ежемесячный!$C:$C,$A24,ежемесячный!$D:$D,$A$1,ежемесячный!$E:$E,H$2)","v":0},{"$f":"SUMIFS(ежемесячный!$F:$F,ежемесячный!$C:$C,$A24,ежемесячный!$D:$D,$A$1,ежемесячный!$E:$E,J$2)","v":0},{"$f":"SUMIFS(ежемесячный!$G:$G,ежемесячный!$C:$C,$A24,ежемесячный!$D:$D,$A$1,ежемесячный!$E:$E,J$2)","v":0},{"$f":"SUMIFS(ежемесячный!$F:$F,ежемесячный!$C:$C,$A24,ежемесячный!$D:$D,$A$1,ежемесячный!$E:$E,L$2)","v":0},{"$f":"SUMIFS(ежемесячный!$G:$G,ежемесячный!$C:$C,$A24,ежемесячный!$D:$D,$A$1,ежемесячный!$E:$E,L$2)","v":0},{"$f":"SUMIFS(ежемесячный!$F:$F,ежемесячный!$C:$C,$A24,ежемесячный!$D:$D,$A$1,ежемесячный!$E:$E,N$2)","v":0},{"$f":"SUMIFS(ежемесячный!$G:$G,ежемесячный!$C:$C,$A24,ежемесячный!$D:$D,$A$1,ежемесячный!$E:$E,N$2)","v":0},{"$f":"SUMIFS(ежемесячный!$F:$F,ежемесячный!$C:$C,$A24,ежемесячный!$D:$D,$A$1,ежемесячный!$E:$E,P$2)","v":0},{"$f":"SUMIFS(ежемесячный!$G:$G,ежемесячный!$C:$C,$A24,ежемесячный!$D:$D,$A$1,ежемесячный!$E:$E,P$2)","v":0},{"$f":"SUMIFS(ежемесячный!$F:$F,ежемесячный!$C:$C,$A24,ежемесячный!$D:$D,$A$1,ежемесячный!$E:$E,R$2)","v":0},{"$f":"SUMIFS(ежемесячный!$G:$G,ежемесячный!$C:$C,$A24,ежемесячный!$D:$D,$A$1,ежемесячный!$E:$E,R$2)","v":0},{"$f":"SUMIFS(ежемесячный!$F:$F,ежемесячный!$C:$C,$A24,ежемесячный!$D:$D,$A$1,ежемесячный!$E:$E,T$2)","v":0},{"$f":"SUMIFS(ежемесячный!$G:$G,ежемесячный!$C:$C,$A24,ежемесячный!$D:$D,$A$1,ежемесячный!$E:$E,T$2)","v":0},0]
["2014-03-21",{"$f":"SUMIFS(ежемесячный!$F:$F,ежемесячный!$C:$C,$A25,ежемесячный!$D:$D,$A$1,ежемесячный!$E:$E,B$2)","v":0},{"$f":"SUMIFS(ежемесячный!$G:$G,ежемесячный!$C:$C,$A25,ежемесячный!$D:$D,$A$1,ежемесячный!$E:$E,B$2)","v":0},{"$f":"SUMIFS(ежемесячный!$F:$F,ежемесячный!$C:$C,$A25,ежемесячный!$D:$D,$A$1,ежемесячный!$E:$E,D$2)","v":0},{"$f":"SUMIFS(ежемесячный!$G:$G,ежемесячный!$C:$C,$A25,ежемесячный!$D:$D,$A$1,ежемесячный!$E:$E,D$2)","v":0},{"$f":"SUMIFS(ежемесячный!$F:$F,ежемесячный!$C:$C,$A25,ежемесячный!$D:$D,$A$1,ежемесячный!$E:$E,F$2)","v":0},{"$f":"SUMIFS(ежемесячный!$G:$G,ежемесячный!$C:$C,$A25,ежемесячный!$D:$D,$A$1,ежемесячный!$E:$E,F$2)","v":0},{"$f":"SUMIFS(ежемесячный!$F:$F,ежемесячный!$C:$C,$A25,ежемесячный!$D:$D,$A$1,ежемесячный!$E:$E,H$2)","v":0},{"$f":"SUMIFS(ежемесячный!$G:$G,ежемесячный!$C:$C,$A25,ежемесячный!$D:$D,$A$1,ежемесячный!$E:$E,H$2)","v":0},{"$f":"SUMIFS(ежемесячный!$F:$F,ежемесячный!$C:$C,$A25,ежемесячный!$D:$D,$A$1,ежемесячный!$E:$E,J$2)","v":0},{"$f":"SUMIFS(ежемесячный!$G:$G,ежемесячный!$C:$C,$A25,ежемесячный!$D:$D,$A$1,ежемесячный!$E:$E,J$2)","v":0},{"$f":"SUMIFS(ежемесячный!$F:$F,ежемесячный!$C:$C,$A25,ежемесячный!$D:$D,$A$1,ежемесячный!$E:$E,L$2)","v":0},{"$f":"SUMIFS(ежемесячный!$G:$G,ежемесячный!$C:$C,$A25,ежемесячный!$D:$D,$A$1,ежемесячный!$E:$E,L$2)","v":0},{"$f":"SUMIFS(ежемесячный!$F:$F,ежемесячный!$C:$C,$A25,ежемесячный!$D:$D,$A$1,ежемесячный!$E:$E,N$2)","v":0},{"$f":"SUMIFS(ежемесячный!$G:$G,ежемесячный!$C:$C,$A25,ежемесячный!$D:$D,$A$1,ежемесячный!$E:$E,N$2)","v":0},{"$f":"SUMIFS(ежемесячный!$F:$F,ежемесячный!$C:$C,$A25,ежемесячный!$D:$D,$A$1,ежемесячный!$E:$E,P$2)","v":0},{"$f":"SUMIFS(ежемесячный!$G:$G,ежемесячный!$C:$C,$A25,ежемесячный!$D:$D,$A$1,ежемесячный!$E:$E,P$2)","v":0},{"$f":"SUMIFS(ежемесячный!$F:$F,ежемесячный!$C:$C,$A25,ежемесячный!$D:$D,$A$1,ежемесячный!$E:$E,R$2)","v":0},{"$f":"SUMIFS(ежемесячный!$G:$G,ежемесячный!$C:$C,$A25,ежемесячный!$D:$D,$A$1,ежемесячный!$E:$E,R$2)","v":0},{"$f":"SUMIFS(ежемесячный!$F:$F,ежемесячный!$C:$C,$A25,ежемесячный!$D:$D,$A$1,ежемесячный!$E:$E,T$2)","v":0},{"$f":"SUMIFS(ежемесячный!$G:$G,ежемесячный!$C:$C,$A25,ежемесячный!$D:$D,$A$1,ежемесячный!$E:$E,T$2)","v":0},0]
["2014-03-22",{"$f":"SUMIFS(ежемесячный!$F:$F,ежемесячный!$C:$C,$A26,ежемесячный!$D:$D,$A$1,ежемесячный!$E:$E,B$2)","v":0},{"$f":"SUMIFS(ежемесячный!$G:$G,ежемесячный!$C:$C,$A26,ежемесячный!$D:$D,$A$1,ежемесячный!$E:$E,B$2)","v":0},{"$f":"SUMIFS(ежемесячный!$F:$F,ежемесячный!$C:$C,$A26,ежемесячный!$D:$D,$A$1,ежемесячный!$E:$E,D$2)","v":0},{"$f":"SUMIFS(ежемесячный!$G:$G,ежемесячный!$C:$C,$A26,ежемесячный!$D:$D,$A$1,ежемесячный!$E:$E,D$2)","v":0},{"$f":"SUMIFS(ежемесячный!$F:$F,ежемесячный!$C:$C,$A26,ежемесячный!$D:$D,$A$1,ежемесячный!$E:$E,F$2)","v":0},{"$f":"SUMIFS(ежемесячный!$G:$G,ежемесячный!$C:$C,$A26,ежемесячный!$D:$D,$A$1,ежемесячный!$E:$E,F$2)","v":0},{"$f":"SUMIFS(ежемесячный!$F:$F,ежемесячный!$C:$C,$A26,ежемесячный!$D:$D,$A$1,ежемесячный!$E:$E,H$2)","v":0},{"$f":"SUMIFS(ежемесячный!$G:$G,ежемесячный!$C:$C,$A26,ежемесячный!$D:$D,$A$1,ежемесячный!$E:$E,H$2)","v":0},{"$f":"SUMIFS(ежемесячный!$F:$F,ежемесячный!$C:$C,$A26,ежемесячный!$D:$D,$A$1,ежемесячный!$E:$E,J$2)","v":0},{"$f":"SUMIFS(ежемесячный!$G:$G,ежемесячный!$C:$C,$A26,ежемесячный!$D:$D,$A$1,ежемесячный!$E:$E,J$2)","v":0},{"$f":"SUMIFS(ежемесячный!$F:$F,ежемесячный!$C:$C,$A26,ежемесячный!$D:$D,$A$1,ежемесячный!$E:$E,L$2)","v":0},{"$f":"SUMIFS(ежемесячный!$G:$G,ежемесячный!$C:$C,$A26,ежемесячный!$D:$D,$A$1,ежемесячный!$E:$E,L$2)","v":0},{"$f":"SUMIFS(ежемесячный!$F:$F,ежемесячный!$C:$C,$A26,ежемесячный!$D:$D,$A$1,ежемесячный!$E:$E,N$2)","v":0},{"$f":"SUMIFS(ежемесячный!$G:$G,ежемесячный!$C:$C,$A26,ежемесячный!$D:$D,$A$1,ежемесячный!$E:$E,N$2)","v":0},{"$f":"SUMIFS(ежемесячный!$F:$F,ежемесячный!$C:$C,$A26,ежемесячный!$D:$D,$A$1,ежемесячный!$E:$E,P$2)","v":0},{"$f":"SUMIFS(ежемесячный!$G:$G,ежемесячный!$C:$C,$A26,ежемесячный!$D:$D,$A$1,ежемесячный!$E:$E,P$2)","v":0},{"$f":"SUMIFS(ежемесячный!$F:$F,ежемесячный!$C:$C,$A26,ежемесячный!$D:$D,$A$1,ежемесячный!$E:$E,R$2)","v":0},{"$f":"SUMIFS(ежемесячный!$G:$G,ежемесячный!$C:$C,$A26,ежемесячный!$D:$D,$A$1,ежемесячный!$E:$E,R$2)","v":0},{"$f":"SUMIFS(ежемесячный!$F:$F,ежемесячный!$C:$C,$A26,ежемесячный!$D:$D,$A$1,ежемесячный!$E:$E,T$2)","v":0},{"$f":"SUMIFS(ежемесячный!$G:$G,ежемесячный!$C:$C,$A26,ежемесячный!$D:$D,$A$1,ежемесячный!$E:$E,T$2)","v":0},0]
["2014-03-23",{"$f":"SUMIFS(ежемесячный!$F:$F,ежемесячный!$C:$C,$A27,ежемесячный!$D:$D,$A$1,ежемесячный!$E:$E,B$2)","v":0},{"$f":"SUMIFS(ежемесячный!$G:$G,ежемесячный!$C:$C,$A27,ежемесячный!$D:$D,$A$1,ежемесячный!$E:$E,B$2)","v":0},{"$f":"SUMIFS(ежемесячный!$F:$F,ежемесячный!$C:$C,$A27,ежемесячный!$D:$D,$A$1,ежемесячный!$E:$E,D$2)","v":0},{"$f":"SUMIFS(ежемесячный!$G:$G,ежемесячный!$C:$C,$A27,ежемесячный!$D:$D,$A$1,ежемесячный!$E:$E,D$2)","v":0},{"$f":"SUMIFS(ежемесячный!$F:$F,ежемесячный!$C:$C,$A27,ежемесячный!$D:$D,$A$1,ежемесячный!$E:$E,F$2)","v":0},{"$f":"SUMIFS(ежемесячный!$G:$G,ежемесячный!$C:$C,$A27,ежемесячный!$D:$D,$A$1,ежемесячный!$E:$E,F$2)","v":0},{"$f":"SUMIFS(ежемесячный!$F:$F,ежемесячный!$C:$C,$A27,ежемесячный!$D:$D,$A$1,ежемесячный!$E:$E,H$2)","v":0},{"$f":"SUMIFS(ежемесячный!$G:$G,ежемесячный!$C:$C,$A27,ежемесячный!$D:$D,$A$1,ежемесячный!$E:$E,H$2)","v":0},{"$f":"SUMIFS(ежемесячный!$F:$F,ежемесячный!$C:$C,$A27,ежемесячный!$D:$D,$A$1,ежемесячный!$E:$E,J$2)","v":0},{"$f":"SUMIFS(ежемесячный!$G:$G,ежемесячный!$C:$C,$A27,ежемесячный!$D:$D,$A$1,ежемесячный!$E:$E,J$2)","v":0},{"$f":"SUMIFS(ежемесячный!$F:$F,ежемесячный!$C:$C,$A27,ежемесячный!$D:$D,$A$1,ежемесячный!$E:$E,L$2)","v":0},{"$f":"SUMIFS(ежемесячный!$G:$G,ежемесячный!$C:$C,$A27,ежемесячный!$D:$D,$A$1,ежемесячный!$E:$E,L$2)","v":0},{"$f":"SUMIFS(ежемесячный!$F:$F,ежемесячный!$C:$C,$A27,ежемесячный!$D:$D,$A$1,ежемесячный!$E:$E,N$2)","v":0},{"$f":"SUMIFS(ежемесячный!$G:$G,ежемесячный!$C:$C,$A27,ежемесячный!$D:$D,$A$1,ежемесячный!$E:$E,N$2)","v":0},{"$f":"SUMIFS(ежемесячный!$F:$F,ежемесячный!$C:$C,$A27,ежемесячный!$D:$D,$A$1,ежемесячный!$E:$E,P$2)","v":0},{"$f":"SUMIFS(ежемесячный!$G:$G,ежемесячный!$C:$C,$A27,ежемесячный!$D:$D,$A$1,ежемесячный!$E:$E,P$2)","v":0},{"$f":"SUMIFS(ежемесячный!$F:$F,ежемесячный!$C:$C,$A27,ежемесячный!$D:$D,$A$1,ежемесячный!$E:$E,R$2)","v":0},{"$f":"SUMIFS(ежемесячный!$G:$G,ежемесячный!$C:$C,$A27,ежемесячный!$D:$D,$A$1,ежемесячный!$E:$E,R$2)","v":0},{"$f":"SUMIFS(ежемесячный!$F:$F,ежемесячный!$C:$C,$A27,ежемесячный!$D:$D,$A$1,ежемесячный!$E:$E,T$2)","v":0},{"$f":"SUMIFS(ежемесячный!$G:$G,ежемесячный!$C:$C,$A27,ежемесячный!$D:$D,$A$1,ежемесячный!$E:$E,T$2)","v":0},0]
["2014-03-24",{"$f":"SUMIFS(ежемесячный!$F:$F,ежемесячный!$C:$C,$A28,ежемесячный!$D:$D,$A$1,ежемесячный!$E:$E,B$2)","v":0},{"$f":"SUMIFS(ежемесячный!$G:$G,ежемесячный!$C:$C,$A28,ежемесячный!$D:$D,$A$1,ежемесячный!$E:$E,B$2)","v":0},{"$f":"SUMIFS(ежемесячный!$F:$F,ежемесячный!$C:$C,$A28,ежемесячный!$D:$D,$A$1,ежемесячный!$E:$E,D$2)","v":0},{"$f":"SUMIFS(ежемесячный!$G:$G,ежемесячный!$C:$C,$A28,ежемесячный!$D:$D,$A$1,ежемесячный!$E:$E,D$2)","v":0},{"$f":"SUMIFS(ежемесячный!$F:$F,ежемесячный!$C:$C,$A28,ежемесячный!$D:$D,$A$1,ежемесячный!$E:$E,F$2)","v":0},{"$f":"SUMIFS(ежемесячный!$G:$G,ежемесячный!$C:$C,$A28,ежемесячный!$D:$D,$A$1,ежемесячный!$E:$E,F$2)","v":0},{"$f":"SUMIFS(ежемесячный!$F:$F,ежемесячный!$C:$C,$A28,ежемесячный!$D:$D,$A$1,ежемесячный!$E:$E,H$2)","v":0},{"$f":"SUMIFS(ежемесячный!$G:$G,ежемесячный!$C:$C,$A28,ежемесячный!$D:$D,$A$1,ежемесячный!$E:$E,H$2)","v":0},{"$f":"SUMIFS(ежемесячный!$F:$F,ежемесячный!$C:$C,$A28,ежемесячный!$D:$D,$A$1,ежемесячный!$E:$E,J$2)","v":0},{"$f":"SUMIFS(ежемесячный!$G:$G,ежемесячный!$C:$C,$A28,ежемесячный!$D:$D,$A$1,ежемесячный!$E:$E,J$2)","v":0},{"$f":"SUMIFS(ежемесячный!$F:$F,ежемесячный!$C:$C,$A28,ежемесячный!$D:$D,$A$1,ежемесячный!$E:$E,L$2)","v":0},{"$f":"SUMIFS(ежемесячный!$G:$G,ежемесячный!$C:$C,$A28,ежемесячный!$D:$D,$A$1,ежемесячный!$E:$E,L$2)","v":0},{"$f":"SUMIFS(ежемесячный!$F:$F,ежемесячный!$C:$C,$A28,ежемесячный!$D:$D,$A$1,ежемесячный!$E:$E,N$2)","v":0},{"$f":"SUMIFS(ежемесячный!$G:$G,ежемесячный!$C:$C,$A28,ежемесячный!$D:$D,$A$1,ежемесячный!$E:$E,N$2)","v":0},{"$f":"SUMIFS(ежемесячный!$F:$F,ежемесячный!$C:$C,$A28,ежемесячный!$D:$D,$A$1,ежемесячный!$E:$E,P$2)","v":0},{"$f":"SUMIFS(ежемесячный!$G:$G,ежемесячный!$C:$C,$A28,ежемесячный!$D:$D,$A$1,ежемесячный!$E:$E,P$2)","v":0},{"$f":"SUMIFS(ежемесячный!$F:$F,ежемесячный!$C:$C,$A28,ежемесячный!$D:$D,$A$1,ежемесячный!$E:$E,R$2)","v":0},{"$f":"SUMIFS(ежемесячный!$G:$G,ежемесячный!$C:$C,$A28,ежемесячный!$D:$D,$A$1,ежемесячный!$E:$E,R$2)","v":0},{"$f":"SUMIFS(ежемесячный!$F:$F,ежемесячный!$C:$C,$A28,ежемесячный!$D:$D,$A$1,ежемесячный!$E:$E,T$2)","v":0},{"$f":"SUMIFS(ежемесячный!$G:$G,ежемесячный!$C:$C,$A28,ежемесячный!$D:$D,$A$1,ежемесячный!$E:$E,T$2)","v":0},0]
["2014-03-25",{"$f":"SUMIFS(ежемесячный!$F:$F,ежемесячный!$C:$C,$A29,ежемесячный!$D:$D,$A$1,ежемесячный!$E:$E,B$2)","v":0},{"$f":"SUMIFS(ежемесячный!$G:$G,ежемесячный!$C:$C,$A29,ежемесячный!$D:$D,$A$1,ежемесячный!$E:$E,B$2)","v":0},{"$f":"SUMIFS(ежемесячный!$F:$F,ежемесячный!$C:$C,$A29,ежемесячный!$D:$D,$A$1,ежемесячный!$E:$E,D$2)","v":0},{"$f":"SUMIFS(ежемесячный!$G:$G,ежемесячный!$C:$C,$A29,ежемесячный!$D:$D,$A$1,ежемесячный!$E:$E,D$2)","v":0},{"$f":"SUMIFS(ежемесячный!$F:$F,ежемесячный!$C:$C,$A29,ежемесячный!$D:$D,$A$1,ежемесячный!$E:$E,F$2)","v":0},{"$f":"SUMIFS(ежемесячный!$G:$G,ежемесячный!$C:$C,$A29,ежемесячный!$D:$D,$A$1,ежемесячный!$E:$E,F$2)","v":0},{"$f":"SUMIFS(ежемесячный!$F:$F,ежемесячный!$C:$C,$A29,ежемесячный!$D:$D,$A$1,ежемесячный!$E:$E,H$2)","v":0},{"$f":"SUMIFS(ежемесячный!$G:$G,ежемесячный!$C:$C,$A29,ежемесячный!$D:$D,$A$1,ежемесячный!$E:$E,H$2)","v":0},{"$f":"SUMIFS(ежемесячный!$F:$F,ежемесячный!$C:$C,$A29,ежемесячный!$D:$D,$A$1,ежемесячный!$E:$E,J$2)","v":0},{"$f":"SUMIFS(ежемесячный!$G:$G,ежемесячный!$C:$C,$A29,ежемесячный!$D:$D,$A$1,ежемесячный!$E:$E,J$2)","v":0},{"$f":"SUMIFS(ежемесячный!$F:$F,ежемесячный!$C:$C,$A29,ежемесячный!$D:$D,$A$1,ежемесячный!$E:$E,L$2)","v":0},{"$f":"SUMIFS(ежемесячный!$G:$G,ежемесячный!$C:$C,$A29,ежемесячный!$D:$D,$A$1,ежемесячный!$E:$E,L$2)","v":0},{"$f":"SUMIFS(ежемесячный!$F:$F,ежемесячный!$C:$C,$A29,ежемесячный!$D:$D,$A$1,ежемесячный!$E:$E,N$2)","v":0},{"$f":"SUMIFS(ежемесячный!$G:$G,ежемесячный!$C:$C,$A29,ежемесячный!$D:$D,$A$1,ежемесячный!$E:$E,N$2)","v":0},{"$f":"SUMIFS(ежемесячный!$F:$F,ежемесячный!$C:$C,$A29,ежемесячный!$D:$D,$A$1,ежемесячный!$E:$E,P$2)","v":0},{"$f":"SUMIFS(ежемесячный!$G:$G,ежемесячный!$C:$C,$A29,ежемесячный!$D:$D,$A$1,ежемесячный!$E:$E,P$2)","v":0},{"$f":"SUMIFS(ежемесячный!$F:$F,ежемесячный!$C:$C,$A29,ежемесячный!$D:$D,$A$1,ежемесячный!$E:$E,R$2)","v":0},{"$f":"SUMIFS(ежемесячный!$G:$G,ежемесячный!$C:$C,$A29,ежемесячный!$D:$D,$A$1,ежемесячный!$E:$E,R$2)","v":0},{"$f":"SUMIFS(ежемесячный!$F:$F,ежемесячный!$C:$C,$A29,ежемесячный!$D:$D,$A$1,ежемесячный!$E:$E,T$2)","v":0},{"$f":"SUMIFS(ежемесячный!$G:$G,ежемесячный!$C:$C,$A29,ежемесячный!$D:$D,$A$1,ежемесячный!$E:$E,T$2)","v":0},0]
["2014-03-26",{"$f":"SUMIFS(ежемесячный!$F:$F,ежемесячный!$C:$C,$A30,ежемесячный!$D:$D,$A$1,ежемесячный!$E:$E,B$2)","v":0},{"$f":"SUMIFS(ежемесячный!$G:$G,ежемесячный!$C:$C,$A30,ежемесячный!$D:$D,$A$1,ежемесячный!$E:$E,B$2)","v":0},{"$f":"SUMIFS(ежемесячный!$F:$F,ежемесячный!$C:$C,$A30,ежемесячный!$D:$D,$A$1,ежемесячный!$E:$E,D$2)","v":0},{"$f":"SUMIFS(ежемесячный!$G:$G,ежемесячный!$C:$C,$A30,ежемесячный!$D:$D,$A$1,ежемесячный!$E:$E,D$2)","v":0},{"$f":"SUMIFS(ежемесячный!$F:$F,ежемесячный!$C:$C,$A30,ежемесячный!$D:$D,$A$1,ежемесячный!$E:$E,F$2)","v":0},{"$f":"SUMIFS(ежемесячный!$G:$G,ежемесячный!$C:$C,$A30,ежемесячный!$D:$D,$A$1,ежемесячный!$E:$E,F$2)","v":0},{"$f":"SUMIFS(ежемесячный!$F:$F,ежемесячный!$C:$C,$A30,ежемесячный!$D:$D,$A$1,ежемесячный!$E:$E,H$2)","v":0},{"$f":"SUMIFS(ежемесячный!$G:$G,ежемесячный!$C:$C,$A30,ежемесячный!$D:$D,$A$1,ежемесячный!$E:$E,H$2)","v":0},{"$f":"SUMIFS(ежемесячный!$F:$F,ежемесячный!$C:$C,$A30,ежемесячный!$D:$D,$A$1,ежемесячный!$E:$E,J$2)","v":0},{"$f":"SUMIFS(ежемесячный!$G:$G,ежемесячный!$C:$C,$A30,ежемесячный!$D:$D,$A$1,ежемесячный!$E:$E,J$2)","v":0},{"$f":"SUMIFS(ежемесячный!$F:$F,ежемесячный!$C:$C,$A30,ежемесячный!$D:$D,$A$1,ежемесячный!$E:$E,L$2)","v":0},{"$f":"SUMIFS(ежемесячный!$G:$G,ежемесячный!$C:$C,$A30,ежемесячный!$D:$D,$A$1,ежемесячный!$E:$E,L$2)","v":0},{"$f":"SUMIFS(ежемесячный!$F:$F,ежемесячный!$C:$C,$A30,ежемесячный!$D:$D,$A$1,ежемесячный!$E:$E,N$2)","v":0},{"$f":"SUMIFS(ежемесячный!$G:$G,ежемесячный!$C:$C,$A30,ежемесячный!$D:$D,$A$1,ежемесячный!$E:$E,N$2)","v":0},{"$f":"SUMIFS(ежемесячный!$F:$F,ежемесячный!$C:$C,$A30,ежемесячный!$D:$D,$A$1,ежемесячный!$E:$E,P$2)","v":0},{"$f":"SUMIFS(ежемесячный!$G:$G,ежемесячный!$C:$C,$A30,ежемесячный!$D:$D,$A$1,ежемесячный!$E:$E,P$2)","v":0},{"$f":"SUMIFS(ежемесячный!$F:$F,ежемесячный!$C:$C,$A30,ежемесячный!$D:$D,$A$1,ежемесячный!$E:$E,R$2)","v":0},{"$f":"SUMIFS(ежемесячный!$G:$G,ежемесячный!$C:$C,$A30,ежемесячный!$D:$D,$A$1,ежемесячный!$E:$E,R$2)","v":0},{"$f":"SUMIFS(ежемесячный!$F:$F,ежемесячный!$C:$C,$A30,ежемесячный!$D:$D,$A$1,ежемесячный!$E:$E,T$2)","v":0},{"$f":"SUMIFS(ежемесячный!$G:$G,ежемесячный!$C:$C,$A30,ежемесячный!$D:$D,$A$1,ежемесячный!$E:$E,T$2)","v":0},0]
["2014-03-27",{"$f":"SUMIFS(ежемесячный!$F:$F,ежемесячный!$C:$C,$A31,ежемесячный!$D:$D,$A$1,ежемесячный!$E:$E,B$2)","v":0},{"$f":"SUMIFS(ежемесячный!$G:$G,ежемесячный!$C:$C,$A31,ежемесячный!$D:$D,$A$1,ежемесячный!$E:$E,B$2)","v":0},{"$f":"SUMIFS(ежемесячный!$F:$F,ежемесячный!$C:$C,$A31,ежемесячный!$D:$D,$A$1,ежемесячный!$E:$E,D$2)","v":0},{"$f":"SUMIFS(ежемесячный!$G:$G,ежемесячный!$C:$C,$A31,ежемесячный!$D:$D,$A$1,ежемесячный!$E:$E,D$2)","v":0},{"$f":"SUMIFS(ежемесячный!$F:$F,ежемесячный!$C:$C,$A31,ежемесячный!$D:$D,$A$1,ежемесячный!$E:$E,F$2)","v":0},{"$f":"SUMIFS(ежемесячный!$G:$G,ежемесячный!$C:$C,$A31,ежемесячный!$D:$D,$A$1,ежемесячный!$E:$E,F$2)","v":0},{"$f":"SUMIFS(ежемесячный!$F:$F,ежемесячный!$C:$C,$A31,ежемесячный!$D:$D,$A$1,ежемесячный!$E:$E,H$2)","v":0},{"$f":"SUMIFS(ежемесячный!$G:$G,ежемесячный!$C:$C,$A31,ежемесячный!$D:$D,$A$1,ежемесячный!$E:$E,H$2)","v":0},{"$f":"SUMIFS(ежемесячный!$F:$F,ежемесячный!$C:$C,$A31,ежемесячный!$D:$D,$A$1,ежемесячный!$E:$E,J$2)","v":0},{"$f":"SUMIFS(ежемесячный!$G:$G,ежемесячный!$C:$C,$A31,ежемесячный!$D:$D,$A$1,ежемесячный!$E:$E,J$2)","v":0},{"$f":"SUMIFS(ежемесячный!$F:$F,ежемесячный!$C:$C,$A31,ежемесячный!$D:$D,$A$1,ежемесячный!$E:$E,L$2)","v":0},{"$f":"SUMIFS(ежемесячный!$G:$G,ежемесячный!$C:$C,$A31,ежемесячный!$D:$D,$A$1,ежемесячный!$E:$E,L$2)","v":0},{"$f":"SUMIFS(ежемесячный!$F:$F,ежемесячный!$C:$C,$A31,ежемесячный!$D:$D,$A$1,ежемесячный!$E:$E,N$2)","v":0},{"$f":"SUMIFS(ежемесячный!$G:$G,ежемесячный!$C:$C,$A31,ежемесячный!$D:$D,$A$1,ежемесячный!$E:$E,N$2)","v":0},{"$f":"SUMIFS(ежемесячный!$F:$F,ежемесячный!$C:$C,$A31,ежемесячный!$D:$D,$A$1,ежемесячный!$E:$E,P$2)","v":0},{"$f":"SUMIFS(ежемесячный!$G:$G,ежемесячный!$C:$C,$A31,ежемесячный!$D:$D,$A$1,ежемесячный!$E:$E,P$2)","v":0},{"$f":"SUMIFS(ежемесячный!$F:$F,ежемесячный!$C:$C,$A31,ежемесячный!$D:$D,$A$1,ежемесячный!$E:$E,R$2)","v":0},{"$f":"SUMIFS(ежемесячный!$G:$G,ежемесячный!$C:$C,$A31,ежемесячный!$D:$D,$A$1,ежемесячный!$E:$E,R$2)","v":0},{"$f":"SUMIFS(ежемесячный!$F:$F,ежемесячный!$C:$C,$A31,ежемесячный!$D:$D,$A$1,ежемесячный!$E:$E,T$2)","v":0},{"$f":"SUMIFS(ежемесячный!$G:$G,ежемесячный!$C:$C,$A31,ежемесячный!$D:$D,$A$1,ежемесячный!$E:$E,T$2)","v":0},0]
["2014-03-28",{"$f":"SUMIFS(ежемесячный!$F:$F,ежемесячный!$C:$C,$A32,ежемесячный!$D:$D,$A$1,ежемесячный!$E:$E,B$2)","v":0},{"$f":"SUMIFS(ежемесячный!$G:$G,ежемесячный!$C:$C,$A32,ежемесячный!$D:$D,$A$1,ежемесячный!$E:$E,B$2)","v":0},{"$f":"SUMIFS(ежемесячный!$F:$F,ежемесячный!$C:$C,$A32,ежемесячный!$D:$D,$A$1,ежемесячный!$E:$E,D$2)","v":0},{"$f":"SUMIFS(ежемесячный!$G:$G,ежемесячный!$C:$C,$A32,ежемесячный!$D:$D,$A$1,ежемесячный!$E:$E,D$2)","v":0},{"$f":"SUMIFS(ежемесячный!$F:$F,ежемесячный!$C:$C,$A32,ежемесячный!$D:$D,$A$1,ежемесячный!$E:$E,F$2)","v":0},{"$f":"SUMIFS(ежемесячный!$G:$G,ежемесячный!$C:$C,$A32,ежемесячный!$D:$D,$A$1,ежемесячный!$E:$E,F$2)","v":0},{"$f":"SUMIFS(ежемесячный!$F:$F,ежемесячный!$C:$C,$A32,ежемесячный!$D:$D,$A$1,ежемесячный!$E:$E,H$2)","v":0},{"$f":"SUMIFS(ежемесячный!$G:$G,ежемесячный!$C:$C,$A32,ежемесячный!$D:$D,$A$1,ежемесячный!$E:$E,H$2)","v":0},{"$f":"SUMIFS(ежемесячный!$F:$F,ежемесячный!$C:$C,$A32,ежемесячный!$D:$D,$A$1,ежемесячный!$E:$E,J$2)","v":0},{"$f":"SUMIFS(ежемесячный!$G:$G,ежемесячный!$C:$C,$A32,ежемесячный!$D:$D,$A$1,ежемесячный!$E:$E,J$2)","v":0},{"$f":"SUMIFS(ежемесячный!$F:$F,ежемесячный!$C:$C,$A32,ежемесячный!$D:$D,$A$1,ежемесячный!$E:$E,L$2)","v":0},{"$f":"SUMIFS(ежемесячный!$G:$G,ежемесячный!$C:$C,$A32,ежемесячный!$D:$D,$A$1,ежемесячный!$E:$E,L$2)","v":0},{"$f":"SUMIFS(ежемесячный!$F:$F,ежемесячный!$C:$C,$A32,ежемесячный!$D:$D,$A$1,ежемесячный!$E:$E,N$2)","v":0},{"$f":"SUMIFS(ежемесячный!$G:$G,ежемесячный!$C:$C,$A32,ежемесячный!$D:$D,$A$1,ежемесячный!$E:$E,N$2)","v":0},{"$f":"SUMIFS(ежемесячный!$F:$F,ежемесячный!$C:$C,$A32,ежемесячный!$D:$D,$A$1,ежемесячный!$E:$E,P$2)","v":0},{"$f":"SUMIFS(ежемесячный!$G:$G,ежемесячный!$C:$C,$A32,ежемесячный!$D:$D,$A$1,ежемесячный!$E:$E,P$2)","v":0},{"$f":"SUMIFS(ежемесячный!$F:$F,ежемесячный!$C:$C,$A32,ежемесячный!$D:$D,$A$1,ежемесячный!$E:$E,R$2)","v":0},{"$f":"SUMIFS(ежемесячный!$G:$G,ежемесячный!$C:$C,$A32,ежемесячный!$D:$D,$A$1,ежемесячный!$E:$E,R$2)","v":0},{"$f":"SUMIFS(ежемесячный!$F:$F,ежемесячный!$C:$C,$A32,ежемесячный!$D:$D,$A$1,ежемесячный!$E:$E,T$2)","v":0},{"$f":"SUMIFS(ежемесячный!$G:$G,ежемесячный!$C:$C,$A32,ежемесячный!$D:$D,$A$1,ежемесячный!$E:$E,T$2)","v":0},0]
["2014-03-29",{"$f":"SUMIFS(ежемесячный!$F:$F,ежемесячный!$C:$C,$A33,ежемесячный!$D:$D,$A$1,ежемесячный!$E:$E,B$2)","v":0},{"$f":"SUMIFS(ежемесячный!$G:$G,ежемесячный!$C:$C,$A33,ежемесячный!$D:$D,$A$1,ежемесячный!$E:$E,B$2)","v":0},{"$f":"SUMIFS(ежемесячный!$F:$F,ежемесячный!$C:$C,$A33,ежемесячный!$D:$D,$A$1,ежемесячный!$E:$E,D$2)","v":0},{"$f":"SUMIFS(ежемесячный!$G:$G,ежемесячный!$C:$C,$A33,ежемесячный!$D:$D,$A$1,ежемесячный!$E:$E,D$2)","v":0},{"$f":"SUMIFS(ежемесячный!$F:$F,ежемесячный!$C:$C,$A33,ежемесячный!$D:$D,$A$1,ежемесячный!$E:$E,F$2)","v":0},{"$f":"SUMIFS(ежемесячный!$G:$G,ежемесячный!$C:$C,$A33,ежемесячный!$D:$D,$A$1,ежемесячный!$E:$E,F$2)","v":0},{"$f":"SUMIFS(ежемесячный!$F:$F,ежемесячный!$C:$C,$A33,ежемесячный!$D:$D,$A$1,ежемесячный!$E:$E,H$2)","v":0},{"$f":"SUMIFS(ежемесячный!$G:$G,ежемесячный!$C:$C,$A33,ежемесячный!$D:$D,$A$1,ежемесячный!$E:$E,H$2)","v":0},{"$f":"SUMIFS(ежемесячный!$F:$F,ежемесячный!$C:$C,$A33,ежемесячный!$D:$D,$A$1,ежемесячный!$E:$E,J$2)","v":0},{"$f":"SUMIFS(ежемесячный!$G:$G,ежемесячный!$C:$C,$A33,ежемесячный!$D:$D,$A$1,ежемесячный!$E:$E,J$2)","v":0},{"$f":"SUMIFS(ежемесячный!$F:$F,ежемесячный!$C:$C,$A33,ежемесячный!$D:$D,$A$1,ежемесячный!$E:$E,L$2)","v":0},{"$f":"SUMIFS(ежемесячный!$G:$G,ежемесячный!$C:$C,$A33,ежемесячный!$D:$D,$A$1,ежемесячный!$E:$E,L$2)","v":0},{"$f":"SUMIFS(ежемесячный!$F:$F,ежемесячный!$C:$C,$A33,ежемесячный!$D:$D,$A$1,ежемесячный!$E:$E,N$2)","v":0},{"$f":"SUMIFS(ежемесячный!$G:$G,ежемесячный!$C:$C,$A33,ежемесячный!$D:$D,$A$1,ежемесячный!$E:$E,N$2)","v":0},{"$f":"SUMIFS(ежемесячный!$F:$F,ежемесячный!$C:$C,$A33,ежемесячный!$D:$D,$A$1,ежемесячный!$E:$E,P$2)","v":0},{"$f":"SUMIFS(ежемесячный!$G:$G,ежемесячный!$C:$C,$A33,ежемесячный!$D:$D,$A$1,ежемесячный!$E:$E,P$2)","v":0},{"$f":"SUMIFS(ежемесячный!$F:$F,ежемесячный!$C:$C,$A33,ежемесячный!$D:$D,$A$1,ежемесячный!$E:$E,R$2)","v":0},{"$f":"SUMIFS(ежемесячный!$G:$G,ежемесячный!$C:$C,$A33,ежемесячный!$D:$D,$A$1,ежемесячный!$E:$E,R$2)","v":0},{"$f":"SUMIFS(ежемесячный!$F:$F,ежемесячный!$C:$C,$A33,ежемесячный!$D:$D,$A$1,ежемесячный!$E:$E,T$2)","v":0},{"$f":"SUMIFS(ежемесячный!$G:$G,ежемесячный!$C:$C,$A33,ежемесячный!$D:$D,$A$1,ежемесячный!$E:$E,T$2)","v":0},0]
["2014-03-30",{"$f":"SUMIFS(ежемесячный!$F:$F,ежемесячный!$C:$C,$A34,ежемесячный!$D:$D,$A$1,ежемесячный!$E:$E,B$2)","v":0},{"$f":"SUMIFS(ежемесячный!$G:$G,ежемесячный!$C:$C,$A34,ежемесячный!$D:$D,$A$1,ежемесячный!$E:$E,B$2)","v":0},{"$f":"SUMIFS(ежемесячный!$F:$F,ежемесячный!$C:$C,$A34,ежемесячный!$D:$D,$A$1,ежемесячный!$E:$E,D$2)","v":0},{"$f":"SUMIFS(ежемесячный!$G:$G,ежемесячный!$C:$C,$A34,ежемесячный!$D:$D,$A$1,ежемесячный!$E:$E,D$2)","v":0},{"$f":"SUMIFS(ежемесячный!$F:$F,ежемесячный!$C:$C,$A34,ежемесячный!$D:$D,$A$1,ежемесячный!$E:$E,F$2)","v":0},{"$f":"SUMIFS(ежемесячный!$G:$G,ежемесячный!$C:$C,$A34,ежемесячный!$D:$D,$A$1,ежемесячный!$E:$E,F$2)","v":0},{"$f":"SUMIFS(ежемесячный!$F:$F,ежемесячный!$C:$C,$A34,ежемесячный!$D:$D,$A$1,ежемесячный!$E:$E,H$2)","v":0},{"$f":"SUMIFS(ежемесячный!$G:$G,ежемесячный!$C:$C,$A34,ежемесячный!$D:$D,$A$1,ежемесячный!$E:$E,H$2)","v":0},{"$f":"SUMIFS(ежемесячный!$F:$F,ежемесячный!$C:$C,$A34,ежемесячный!$D:$D,$A$1,ежемесячный!$E:$E,J$2)","v":0},{"$f":"SUMIFS(ежемесячный!$G:$G,ежемесячный!$C:$C,$A34,ежемесячный!$D:$D,$A$1,ежемесячный!$E:$E,J$2)","v":0},{"$f":"SUMIFS(ежемесячный!$F:$F,ежемесячный!$C:$C,$A34,ежемесячный!$D:$D,$A$1,ежемесячный!$E:$E,L$2)","v":0},{"$f":"SUMIFS(ежемесячный!$G:$G,ежемесячный!$C:$C,$A34,ежемесячный!$D:$D,$A$1,ежемесячный!$E:$E,L$2)","v":0},{"$f":"SUMIFS(ежемесячный!$F:$F,ежемесячный!$C:$C,$A34,ежемесячный!$D:$D,$A$1,ежемесячный!$E:$E,N$2)","v":0},{"$f":"SUMIFS(ежемесячный!$G:$G,ежемесячный!$C:$C,$A34,ежемесячный!$D:$D,$A$1,ежемесячный!$E:$E,N$2)","v":0},{"$f":"SUMIFS(ежемесячный!$F:$F,ежемесячный!$C:$C,$A34,ежемесячный!$D:$D,$A$1,ежемесячный!$E:$E,P$2)","v":0},{"$f":"SUMIFS(ежемесячный!$G:$G,ежемесячный!$C:$C,$A34,ежемесячный!$D:$D,$A$1,ежемесячный!$E:$E,P$2)","v":0},{"$f":"SUMIFS(ежемесячный!$F:$F,ежемесячный!$C:$C,$A34,ежемесячный!$D:$D,$A$1,ежемесячный!$E:$E,R$2)","v":0},{"$f":"SUMIFS(ежемесячный!$G:$G,ежемесячный!$C:$C,$A34,ежемесячный!$D:$D,$A$1,ежемесячный!$E:$E,R$2)","v":0},{"$f":"SUMIFS(ежемесячный!$F:$F,ежемесячный!$C:$C,$A34,ежемесячный!$D:$D,$A$1,ежемесячный!$E:$E,T$2)","v":0},{"$f":"SUMIFS(ежемесячный!$G:$G,ежемесячный!$C:$C,$A34,ежемесячный!$D:$D,$A$1,ежемесячный!$E:$E,T$2)","v":0},0]
["2014-03-31",{"$f":"SUMIFS(ежемесячный!$F:$F,ежемесячный!$C:$C,$A35,ежемесячный!$D:$D,$A$1,ежемесячный!$E:$E,B$2)","v":0},{"$f":"SUMIFS(ежемесячный!$G:$G,ежемесячный!$C:$C,$A35,ежемесячный!$D:$D,$A$1,ежемесячный!$E:$E,B$2)","v":0},{"$f":"SUMIFS(ежемесячный!$F:$F,ежемесячный!$C:$C,$A35,ежемесячный!$D:$D,$A$1,ежемесячный!$E:$E,D$2)","v":0},{"$f":"SUMIFS(ежемесячный!$G:$G,ежемесячный!$C:$C,$A35,ежемесячный!$D:$D,$A$1,ежемесячный!$E:$E,D$2)","v":0},{"$f":"SUMIFS(ежемесячный!$F:$F,ежемесячный!$C:$C,$A35,ежемесячный!$D:$D,$A$1,ежемесячный!$E:$E,F$2)","v":0},{"$f":"SUMIFS(ежемесячный!$G:$G,ежемесячный!$C:$C,$A35,ежемесячный!$D:$D,$A$1,ежемесячный!$E:$E,F$2)","v":0},{"$f":"SUMIFS(ежемесячный!$F:$F,ежемесячный!$C:$C,$A35,ежемесячный!$D:$D,$A$1,ежемесячный!$E:$E,H$2)","v":0},{"$f":"SUMIFS(ежемесячный!$G:$G,ежемесячный!$C:$C,$A35,ежемесячный!$D:$D,$A$1,ежемесячный!$E:$E,H$2)","v":0},{"$f":"SUMIFS(ежемесячный!$F:$F,ежемесячный!$C:$C,$A35,ежемесячный!$D:$D,$A$1,ежемесячный!$E:$E,J$2)","v":0},{"$f":"SUMIFS(ежемесячный!$G:$G,ежемесячный!$C:$C,$A35,ежемесячный!$D:$D,$A$1,ежемесячный!$E:$E,J$2)","v":0},{"$f":"SUMIFS(ежемесячный!$F:$F,ежемесячный!$C:$C,$A35,ежемесячный!$D:$D,$A$1,ежемесячный!$E:$E,L$2)","v":0},{"$f":"SUMIFS(ежемесячный!$G:$G,ежемесячный!$C:$C,$A35,ежемесячный!$D:$D,$A$1,ежемесячный!$E:$E,L$2)","v":0},{"$f":"SUMIFS(ежемесячный!$F:$F,ежемесячный!$C:$C,$A35,ежемесячный!$D:$D,$A$1,ежемесячный!$E:$E,N$2)","v":0},{"$f":"SUMIFS(ежемесячный!$G:$G,ежемесячный!$C:$C,$A35,ежемесячный!$D:$D,$A$1,ежемесячный!$E:$E,N$2)","v":0},{"$f":"SUMIFS(ежемесячный!$F:$F,ежемесячный!$C:$C,$A35,ежемесячный!$D:$D,$A$1,ежемесячный!$E:$E,P$2)","v":0},{"$f":"SUMIFS(ежемесячный!$G:$G,ежемесячный!$C:$C,$A35,ежемесячный!$D:$D,$A$1,ежемесячный!$E:$E,P$2)","v":0},{"$f":"SUMIFS(ежемесячный!$F:$F,ежемесячный!$C:$C,$A35,ежемесячный!$D:$D,$A$1,ежемесячный!$E:$E,R$2)","v":0},{"$f":"SUMIFS(ежемесячный!$G:$G,ежемесячный!$C:$C,$A35,ежемесячный!$D:$D,$A$1,ежемесячный!$E:$E,R$2)","v":0},{"$f":"SUMIFS(ежемесячный!$F:$F,ежемесячный!$C:$C,$A35,ежемесячный!$D:$D,$A$1,ежемесячный!$E:$E,T$2)","v":0},{"$f":"SUMIFS(ежемесячный!$G:$G,ежемесячный!$C:$C,$A35,ежемесячный!$D:$D,$A$1,ежемесячный!$E:$E,T$2)","v":0},0]
[null,{"$f":"SUM(B5:B35)","v":5},{"$f":"SUM(C5:C35)","v":117900},{"$f":"SUM(D5:D35)","v":0},0,0,0,0,0,0,0,0,0,null,0,null,0,null,0,0,0,117900]
[]
[null,"кол-во прин.ПО",null,{"$f":"B36+D36+F36+H36+J36+L36+T36","v":5}]
[null,"сумма доходов",null,{"$f":"V36","v":117900}]

{"sheet":"ЦУМ","index":5,"n_rows":39,"n_cols":22,"rows_kept":39,"cut":false,"hidden":false,"merged":[[1,21,3,21],[1,0,3,0],[1,1,1,2],[1,3,1,4],[1,5,1,6],[1,7,1,8],[1,9,1,10],[2,1,2,2],[2,3,2,4],[2,5,2,6],[2,7,2,8],[1,11,1,12],[1,13,1,14],[1,15,1,16],[1,17,1,18],[1,19,1,20],[2,11,2,12],[2,13,2,14],[2,15,2,16],[2,17,2,18],[2,19,2,20],[37,1,37,2],[37,3,37,4],[38,1,38,2],[38,3,38,4],[2,9,2,10]]}
[{"$f":"MID(CELL(\"имяфайла\",B2),SEARCH(\"]\",CELL(\"имяфайла\",B2),1)+1,99)","v":"ЦУМ"}]
["Число месяца","заказные отправления",null,"простые отправления",null,"посылки",null,"мелкие пакеты, ценные письма",null,"EMS внутренние",null,"EMS международные",null,"доп.услуги",null,"товары почты",null,"маркиров. прод.",null,"переводы",null,"Итого доходы"]
[null,"(116, 161)",null,"(117, 165)",null," (151, 156)",null,"(121)",null,"  (181 ,182)",null,"  (321, 322)",null,"(241, 311)",null,"(641)",null,"(111)",null,"(138,139,144,145,146,149)"]
[null,"кол-во","доходы","кол-во","доходы","кол-во","доходы","кол-во","доходы","кол-во","доходы","кол-во","доходы","кол-во","доходы","кол-во","доходы","кол-во","доходы","кол-во","доходы"]
["2014-03-01",{"$f":"SUMIFS(ежемесячный!$F:$F,ежемесячный!$C:$C,$A5,ежемесячный!$D:$D,$A$1,ежемесячный!$E:$E,B$2)","v":0},{"$f":"SUMIFS(ежемесячный!$G:$G,ежемесячный!$C:$C,$A5,ежемесячный!$D:$D,$A$1,ежемесячный!$E:$E,B$2)","v":0},{"$f":"SUMIFS(ежемесячный!$F:$F,ежемесячный!$C:$C,$A5,ежемесячный!$D:$D,$A$1,ежемесячный!$E:$E,D$2)","v":0},{"$f":"SUMIFS(ежемесячный!$G:$G,ежемесячный!$C:$C,$A5,ежемесячный!$D:$D,$A$1,ежемесячный!$E:$E,D$2)","v":0},{"$f":"SUMIFS(ежемесячный!$F:$F,ежемесячный!$C:$C,$A5,ежемесячный!$D:$D,$A$1,ежемесячный!$E:$E,F$2)","v":0},{"$f":"SUMIFS(ежемесячный!$G:$G,ежемесячный!$C:$C,$A5,ежемесячный!$D:$D,$A$1,ежемесячный!$E:$E,F$2)","v":0},{"$f":"SUMIFS(ежемесячный!$F:$F,ежемесячный!$C:$C,$A5,ежемесячный!$D:$D,$A$1,ежемесячный!$E:$E,H$2)","v":0},{"$f":"SUMIFS(ежемесячный!$G:$G,ежемесячный!$C:$C,$A5,ежемесячный!$D:$D,$A$1,ежемесячный!$E:$E,H$2)","v":0},{"$f":"SUMIFS(ежемесячный!$F:$F,ежемесячный!$C:$C,$A5,ежемесячный!$D:$D,$A$1,ежемесячный!$E:$E,J$2)","v":0},{"$f":"SUMIFS(ежемесячный!$G:$G,ежемесячный!$C:$C,$A5,ежемесячный!$D:$D,$A$1,ежемесячный!$E:$E,J$2)","v":0},{"$f":"SUMIFS(ежемесячный!$F:$F,ежемесячный!$C:$C,$A5,ежемесячный!$D:$D,$A$1,ежемесячный!$E:$E,L$2)","v":0},{"$f":"SUMIFS(ежемесячный!$G:$G,ежемесячный!$C:$C,$A5,ежемесячный!$D:$D,$A$1,ежемесячный!$E:$E,L$2)","v":0},{"$f":"SUMIFS(ежемесячный!$F:$F,ежемесячный!$C:$C,$A5,ежемесячный!$D:$D,$A$1,ежемесячный!$E:$E,N$2)","v":0},{"$f":"SUMIFS(ежемесячный!$G:$G,ежемесячный!$C:$C,$A5,ежемесячный!$D:$D,$A$1,ежемесячный!$E:$E,N$2)","v":0},{"$f":"SUMIFS(ежемесячный!$F:$F,ежемесячный!$C:$C,$A5,ежемесячный!$D:$D,$A$1,ежемесячный!$E:$E,P$2)","v":0},{"$f":"SUMIFS(ежемесячный!$G:$G,ежемесячный!$C:$C,$A5,ежемесячный!$D:$D,$A$1,ежемесячный!$E:$E,P$2)","v":0},{"$f":"SUMIFS(ежемесячный!$F:$F,ежемесячный!$C:$C,$A5,ежемесячный!$D:$D,$A$1,ежемесячный!$E:$E,R$2)","v":0},{"$f":"SUMIFS(ежемесячный!$G:$G,ежемесячный!$C:$C,$A5,ежемесячный!$D:$D,$A$1,ежемесячный!$E:$E,R$2)","v":0},{"$f":"SUMIFS(ежемесячный!$F:$F,ежемесячный!$C:$C,$A5,ежемесячный!$D:$D,$A$1,ежемесячный!$E:$E,T$2)","v":0},{"$f":"SUMIFS(ежемесячный!$G:$G,ежемесячный!$C:$C,$A5,ежемесячный!$D:$D,$A$1,ежемесячный!$E:$E,T$2)","v":0},{"$f":"U5+S5+Q5+O5+M5+K5+I5+G5+E5+C5","v":0}]
["2014-03-02",{"$f":"SUMIFS(ежемесячный!$F:$F,ежемесячный!$C:$C,$A6,ежемесячный!$D:$D,$A$1,ежемесячный!$E:$E,B$2)","v":0},{"$f":"SUMIFS(ежемесячный!$G:$G,ежемесячный!$C:$C,$A6,ежемесячный!$D:$D,$A$1,ежемесячный!$E:$E,B$2)","v":0},{"$f":"SUMIFS(ежемесячный!$F:$F,ежемесячный!$C:$C,$A6,ежемесячный!$D:$D,$A$1,ежемесячный!$E:$E,D$2)","v":0},{"$f":"SUMIFS(ежемесячный!$G:$G,ежемесячный!$C:$C,$A6,ежемесячный!$D:$D,$A$1,ежемесячный!$E:$E,D$2)","v":0},{"$f":"SUMIFS(ежемесячный!$F:$F,ежемесячный!$C:$C,$A6,ежемесячный!$D:$D,$A$1,ежемесячный!$E:$E,F$2)","v":0},{"$f":"SUMIFS(ежемесячный!$G:$G,ежемесячный!$C:$C,$A6,ежемесячный!$D:$D,$A$1,ежемесячный!$E:$E,F$2)","v":0},{"$f":"SUMIFS(ежемесячный!$F:$F,ежемесячный!$C:$C,$A6,ежемесячный!$D:$D,$A$1,ежемесячный!$E:$E,H$2)","v":0},{"$f":"SUMIFS(ежемесячный!$G:$G,ежемесячный!$C:$C,$A6,ежемесячный!$D:$D,$A$1,ежемесячный!$E:$E,H$2)","v":0},{"$f":"SUMIFS(ежемесячный!$F:$F,ежемесячный!$C:$C,$A6,ежемесячный!$D:$D,$A$1,ежемесячный!$E:$E,J$2)","v":0},{"$f":"SUMIFS(ежемесячный!$G:$G,ежемесячный!$C:$C,$A6,ежемесячный!$D:$D,$A$1,ежемесячный!$E:$E,J$2)","v":0},{"$f":"SUMIFS(ежемесячный!$F:$F,ежемесячный!$C:$C,$A6,ежемесячный!$D:$D,$A$1,ежемесячный!$E:$E,L$2)","v":0},{"$f":"SUMIFS(ежемесячный!$G:$G,ежемесячный!$C:$C,$A6,ежемесячный!$D:$D,$A$1,ежемесячный!$E:$E,L$2)","v":0},{"$f":"SUMIFS(ежемесячный!$F:$F,ежемесячный!$C:$C,$A6,ежемесячный!$D:$D,$A$1,ежемесячный!$E:$E,N$2)","v":0},{"$f":"SUMIFS(ежемесячный!$G:$G,ежемесячный!$C:$C,$A6,ежемесячный!$D:$D,$A$1,ежемесячный!$E:$E,N$2)","v":0},{"$f":"SUMIFS(ежемесячный!$F:$F,ежемесячный!$C:$C,$A6,ежемесячный!$D:$D,$A$1,ежемесячный!$E:$E,P$2)","v":0},{"$f":"SUMIFS(ежемесячный!$G:$G,ежемесячный!$C:$C,$A6,ежемесячный!$D:$D,$A$1,ежемесячный!$E:$E,P$2)","v":0},{"$f":"SUMIFS(ежемесячный!$F:$F,ежемесячный!$C:$C,$A6,ежемесячный!$D:$D,$A$1,ежемесячный!$E:$E,R$2)","v":0},{"$f":"SUMIFS(ежемесячный!$G:$G,ежемесячный!$C:$C,$A6,ежемесячный!$D:$D,$A$1,ежемесячный!$E:$E,R$2)","v":0},{"$f":"SUMIFS(ежемесячный!$F:$F,ежемесячный!$C:$C,$A6,ежемесячный!$D:$D,$A$1,ежемесячный!$E:$E,T$2)","v":0},{"$f":"SUMIFS(ежемесячный!$G:$G,ежемесячный!$C:$C,$A6,ежемесячный!$D:$D,$A$1,ежемесячный!$E:$E,T$2)","v":0},0]
["2014-03-03",{"$f":"SUMIFS(ежемесячный!$F:$F,ежемесячный!$C:$C,$A7,ежемесячный!$D:$D,$A$1,ежемесячный!$E:$E,B$2)","v":1},{"$f":"SUMIFS(ежемесячный!$G:$G,ежемесячный!$C:$C,$A7,ежемесячный!$D:$D,$A$1,ежемесячный!$E:$E,B$2)","v":12300},{"$f":"SUMIFS(ежемесячный!$F:$F,ежемесячный!$C:$C,$A7,ежемесячный!$D:$D,$A$1,ежемесячный!$E:$E,D$2)","v":94},{"$f":"SUMIFS(ежемесячный!$G:$G,ежемесячный!$C:$C,$A7,ежемесячный!$D:$D,$A$1,ежемесячный!$E:$E,D$2)","v":197400},{"$f":"SUMIFS(ежемесячный!$F:$F,ежемесячный!$C:$C,$A7,ежемесячный!$D:$D,$A$1,ежемесячный!$E:$E,F$2)","v":0},{"$f":"SUMIFS(ежемесячный!$G:$G,ежемесячный!$C:$C,$A7,ежемесячный!$D:$D,$A$1,ежемесячный!$E:$E,F$2)","v":0},{"$f":"SUMIFS(ежемесячный!$F:$F,ежемесячный!$C:$C,$A7,ежемесячный!$D:$D,$A$1,ежемесячный!$E:$E,H$2)","v":0},{"$f":"SUMIFS(ежемесячный!$G:$G,ежемесячный!$C:$C,$A7,ежемесячный!$D:$D,$A$1,ежемесячный!$E:$E,H$2)","v":0},{"$f":"SUMIFS(ежемесячный!$F:$F,ежемесячный!$C:$C,$A7,ежемесячный!$D:$D,$A$1,ежемесячный!$E:$E,J$2)","v":0},{"$f":"SUMIFS(ежемесячный!$G:$G,ежемесячный!$C:$C,$A7,ежемесячный!$D:$D,$A$1,ежемесячный!$E:$E,J$2)","v":0},{"$f":"SUMIFS(ежемесячный!$F:$F,ежемесячный!$C:$C,$A7,ежемесячный!$D:$D,$A$1,ежемесячный!$E:$E,L$2)","v":0},{"$f":"SUMIFS(ежемесячный!$G:$G,ежемесячный!$C:$C,$A7,ежемесячный!$D:$D,$A$1,ежемесячный!$E:$E,L$2)","v":0},{"$f":"SUMIFS(ежемесячный!$F:$F,ежемесячный!$C:$C,$A7,ежемесячный!$D:$D,$A$1,ежемесячный!$E:$E,N$2)","v":0},{"$f":"SUMIFS(ежемесячный!$G:$G,ежемесячный!$C:$C,$A7,ежемесячный!$D:$D,$A$1,ежемесячный!$E:$E,N$2)","v":0},{"$f":"SUMIFS(ежемесячный!$F:$F,ежемесячный!$C:$C,$A7,ежемесячный!$D:$D,$A$1,ежемесячный!$E:$E,P$2)","v":0},{"$f":"SUMIFS(ежемесячный!$G:$G,ежемесячный!$C:$C,$A7,ежемесячный!$D:$D,$A$1,ежемесячный!$E:$E,P$2)","v":0},{"$f":"SUMIFS(ежемесячный!$F:$F,ежемесячный!$C:$C,$A7,ежемесячный!$D:$D,$A$1,ежемесячный!$E:$E,R$2)","v":0},{"$f":"SUMIFS(ежемесячный!$G:$G,ежемесячный!$C:$C,$A7,ежемесячный!$D:$D,$A$1,ежемесячный!$E:$E,R$2)","v":0},{"$f":"SUMIFS(ежемесячный!$F:$F,ежемесячный!$C:$C,$A7,ежемесячный!$D:$D,$A$1,ежемесячный!$E:$E,T$2)","v":0},{"$f":"SUMIFS(ежемесячный!$G:$G,ежемесячный!$C:$C,$A7,ежемесячный!$D:$D,$A$1,ежемесячный!$E:$E,T$2)","v":0},209700]
["2014-03-04",{"$f":"SUMIFS(ежемесячный!$F:$F,ежемесячный!$C:$C,$A8,ежемесячный!$D:$D,$A$1,ежемесячный!$E:$E,B$2)","v":0},{"$f":"SUMIFS(ежемесячный!$G:$G,ежемесячный!$C:$C,$A8,ежемесячный!$D:$D,$A$1,ежемесячный!$E:$E,B$2)","v":0},{"$f":"SUMIFS(ежемесячный!$F:$F,ежемесячный!$C:$C,$A8,ежемесячный!$D:$D,$A$1,ежемесячный!$E:$E,D$2)","v":0},{"$f":"SUMIFS(ежемесячный!$G:$G,ежемесячный!$C:$C,$A8,ежемесячный!$D:$D,$A$1,ежемесячный!$E:$E,D$2)","v":0},{"$f":"SUMIFS(ежемесячный!$F:$F,ежемесячный!$C:$C,$A8,ежемесячный!$D:$D,$A$1,ежемесячный!$E:$E,F$2)","v":0},{"$f":"SUMIFS(ежемесячный!$G:$G,ежемесячный!$C:$C,$A8,ежемесячный!$D:$D,$A$1,ежемесячный!$E:$E,F$2)","v":0},{"$f":"SUMIFS(ежемесячный!$F:$F,ежемесячный!$C:$C,$A8,ежемесячный!$D:$D,$A$1,ежемесячный!$E:$E,H$2)","v":0},{"$f":"SUMIFS(ежемесячный!$G:$G,ежемесячный!$C:$C,$A8,ежемесячный!$D:$D,$A$1,ежемесячный!$E:$E,H$2)","v":0},{"$f":"SUMIFS(ежемесячный!$F:$F,ежемесячный!$C:$C,$A8,ежемесячный!$D:$D,$A$1,ежемесячный!$E:$E,J$2)","v":0},{"$f":"SUMIFS(ежемесячный!$G:$G,ежемесячный!$C:$C,$A8,ежемесячный!$D:$D,$A$1,ежемесячный!$E:$E,J$2)","v":0},{"$f":"SUMIFS(ежемесячный!$F:$F,ежемесячный!$C:$C,$A8,ежемесячный!$D:$D,$A$1,ежемесячный!$E:$E,L$2)","v":0},{"$f":"SUMIFS(ежемесячный!$G:$G,ежемесячный!$C:$C,$A8,ежемесячный!$D:$D,$A$1,ежемесячный!$E:$E,L$2)","v":0},{"$f":"SUMIFS(ежемесячный!$F:$F,ежемесячный!$C:$C,$A8,ежемесячный!$D:$D,$A$1,ежемесячный!$E:$E,N$2)","v":0},{"$f":"SUMIFS(ежемесячный!$G:$G,ежемесячный!$C:$C,$A8,ежемесячный!$D:$D,$A$1,ежемесячный!$E:$E,N$2)","v":0},{"$f":"SUMIFS(ежемесячный!$F:$F,ежемесячный!$C:$C,$A8,ежемесячный!$D:$D,$A$1,ежемесячный!$E:$E,P$2)","v":0},{"$f":"SUMIFS(ежемесячный!$G:$G,ежемесячный!$C:$C,$A8,ежемесячный!$D:$D,$A$1,ежемесячный!$E:$E,P$2)","v":0},{"$f":"SUMIFS(ежемесячный!$F:$F,ежемесячный!$C:$C,$A8,ежемесячный!$D:$D,$A$1,ежемесячный!$E:$E,R$2)","v":0},{"$f":"SUMIFS(ежемесячный!$G:$G,ежемесячный!$C:$C,$A8,ежемесячный!$D:$D,$A$1,ежемесячный!$E:$E,R$2)","v":0},{"$f":"SUMIFS(ежемесячный!$F:$F,ежемесячный!$C:$C,$A8,ежемесячный!$D:$D,$A$1,ежемесячный!$E:$E,T$2)","v":0},{"$f":"SUMIFS(ежемесячный!$G:$G,ежемесячный!$C:$C,$A8,ежемесячный!$D:$D,$A$1,ежемесячный!$E:$E,T$2)","v":0},0]
["2014-03-05",{"$f":"SUMIFS(ежемесячный!$F:$F,ежемесячный!$C:$C,$A9,ежемесячный!$D:$D,$A$1,ежемесячный!$E:$E,B$2)","v":0},{"$f":"SUMIFS(ежемесячный!$G:$G,ежемесячный!$C:$C,$A9,ежемесячный!$D:$D,$A$1,ежемесячный!$E:$E,B$2)","v":0},{"$f":"SUMIFS(ежемесячный!$F:$F,ежемесячный!$C:$C,$A9,ежемесячный!$D:$D,$A$1,ежемесячный!$E:$E,D$2)","v":0},{"$f":"SUMIFS(ежемесячный!$G:$G,ежемесячный!$C:$C,$A9,ежемесячный!$D:$D,$A$1,ежемесячный!$E:$E,D$2)","v":0},{"$f":"SUMIFS(ежемесячный!$F:$F,ежемесячный!$C:$C,$A9,ежемесячный!$D:$D,$A$1,ежемесячный!$E:$E,F$2)","v":0},{"$f":"SUMIFS(ежемесячный!$G:$G,ежемесячный!$C:$C,$A9,ежемесячный!$D:$D,$A$1,ежемесячный!$E:$E,F$2)","v":0},{"$f":"SUMIFS(ежемесячный!$F:$F,ежемесячный!$C:$C,$A9,ежемесячный!$D:$D,$A$1,ежемесячный!$E:$E,H$2)","v":0},{"$f":"SUMIFS(ежемесячный!$G:$G,ежемесячный!$C:$C,$A9,ежемесячный!$D:$D,$A$1,ежемесячный!$E:$E,H$2)","v":0},{"$f":"SUMIFS(ежемесячный!$F:$F,ежемесячный!$C:$C,$A9,ежемесячный!$D:$D,$A$1,ежемесячный!$E:$E,J$2)","v":0},{"$f":"SUMIFS(ежемесячный!$G:$G,ежемесячный!$C:$C,$A9,ежемесячный!$D:$D,$A$1,ежемесячный!$E:$E,J$2)","v":0},{"$f":"SUMIFS(ежемесячный!$F:$F,ежемесячный!$C:$C,$A9,ежемесячный!$D:$D,$A$1,ежемесячный!$E:$E,L$2)","v":0},{"$f":"SUMIFS(ежемесячный!$G:$G,ежемесячный!$C:$C,$A9,ежемесячный!$D:$D,$A$1,ежемесячный!$E:$E,L$2)","v":0},{"$f":"SUMIFS(ежемесячный!$F:$F,ежемесячный!$C:$C,$A9,ежемесячный!$D:$D,$A$1,ежемесячный!$E:$E,N$2)","v":0},{"$f":"SUMIFS(ежемесячный!$G:$G,ежемесячный!$C:$C,$A9,ежемесячный!$D:$D,$A$1,ежемесячный!$E:$E,N$2)","v":0},{"$f":"SUMIFS(ежемесячный!$F:$F,ежемесячный!$C:$C,$A9,ежемесячный!$D:$D,$A$1,ежемесячный!$E:$E,P$2)","v":0},{"$f":"SUMIFS(ежемесячный!$G:$G,ежемесячный!$C:$C,$A9,ежемесячный!$D:$D,$A$1,ежемесячный!$E:$E,P$2)","v":0},{"$f":"SUMIFS(ежемесячный!$F:$F,ежемесячный!$C:$C,$A9,ежемесячный!$D:$D,$A$1,ежемесячный!$E:$E,R$2)","v":0},{"$f":"SUMIFS(ежемесячный!$G:$G,ежемесячный!$C:$C,$A9,ежемесячный!$D:$D,$A$1,ежемесячный!$E:$E,R$2)","v":0},{"$f":"SUMIFS(ежемесячный!$F:$F,ежемесячный!$C:$C,$A9,ежемесячный!$D:$D,$A$1,ежемесячный!$E:$E,T$2)","v":0},{"$f":"SUMIFS(ежемесячный!$G:$G,ежемесячный!$C:$C,$A9,ежемесячный!$D:$D,$A$1,ежемесячный!$E:$E,T$2)","v":0},0]
["2014-03-06",{"$f":"SUMIFS(ежемесячный!$F:$F,ежемесячный!$C:$C,$A10,ежемесячный!$D:$D,$A$1,ежемесячный!$E:$E,B$2)","v":0},{"$f":"SUMIFS(ежемесячный!$G:$G,ежемесячный!$C:$C,$A10,ежемесячный!$D:$D,$A$1,ежемесячный!$E:$E,B$2)","v":0},{"$f":"SUMIFS(ежемесячный!$F:$F,ежемесячный!$C:$C,$A10,ежемесячный!$D:$D,$A$1,ежемесячный!$E:$E,D$2)","v":0},{"$f":"SUMIFS(ежемесячный!$G:$G,ежемесячный!$C:$C,$A10,ежемесячный!$D:$D,$A$1,ежемесячный!$E:$E,D$2)","v":0},{"$f":"SUMIFS(ежемесячный!$F:$F,ежемесячный!$C:$C,$A10,ежемесячный!$D:$D,$A$1,ежемесячный!$E:$E,F$2)","v":0},{"$f":"SUMIFS(ежемесячный!$G:$G,ежемесячный!$C:$C,$A10,ежемесячный!$D:$D,$A$1,ежемесячный!$E:$E,F$2)","v":0},{"$f":"SUMIFS(ежемесячный!$F:$F,ежемесячный!$C:$C,$A10,ежемесячный!$D:$D,$A$1,ежемесячный!$E:$E,H$2)","v":0},{"$f":"SUMIFS(ежемесячный!$G:$G,ежемесячный!$C:$C,$A10,ежемесячный!$D:$D,$A$1,ежемесячный!$E:$E,H$2)","v":0},{"$f":"SUMIFS(ежемесячный!$F:$F,ежемесячный!$C:$C,$A10,ежемесячный!$D:$D,$A$1,ежемесячный!$E:$E,J$2)","v":0},{"$f":"SUMIFS(ежемесячный!$G:$G,ежемесячный!$C:$C,$A10,ежемесячный!$D:$D,$A$1,ежемесячный!$E:$E,J$2)","v":0},{"$f":"SUMIFS(ежемесячный!$F:$F,ежемесячный!$C:$C,$A10,ежемесячный!$D:$D,$A$1,ежемесячный!$E:$E,L$2)","v":0},{"$f":"SUMIFS(ежемесячный!$G:$G,ежемесячный!$C:$C,$A10,ежемесячный!$D:$D,$A$1,ежемесячный!$E:$E,L$2)","v":0},{"$f":"SUMIFS(ежемесячный!$F:$F,ежемесячный!$C:$C,$A10,ежемесячный!$D:$D,$A$1,ежемесячный!$E:$E,N$2)","v":0},{"$f":"SUMIFS(ежемесячный!$G:$G,ежемесячный!$C:$C,$A10,ежемесячный!$D:$D,$A$1,ежемесячный!$E:$E,N$2)","v":0},{"$f":"SUMIFS(ежемесячный!$F:$F,ежемесячный!$C:$C,$A10,ежемесячный!$D:$D,$A$1,ежемесячный!$E:$E,P$2)","v":0},{"$f":"SUMIFS(ежемесячный!$G:$G,ежемесячный!$C:$C,$A10,ежемесячный!$D:$D,$A$1,ежемесячный!$E:$E,P$2)","v":0},{"$f":"SUMIFS(ежемесячный!$F:$F,ежемесячный!$C:$C,$A10,ежемесячный!$D:$D,$A$1,ежемесячный!$E:$E,R$2)","v":0},{"$f":"SUMIFS(ежемесячный!$G:$G,ежемесячный!$C:$C,$A10,ежемесячный!$D:$D,$A$1,ежемесячный!$E:$E,R$2)","v":0},{"$f":"SUMIFS(ежемесячный!$F:$F,ежемесячный!$C:$C,$A10,ежемесячный!$D:$D,$A$1,ежемесячный!$E:$E,T$2)","v":0},{"$f":"SUMIFS(ежемесячный!$G:$G,ежемесячный!$C:$C,$A10,ежемесячный!$D:$D,$A$1,ежемесячный!$E:$E,T$2)","v":0},0]
["2014-03-07",{"$f":"SUMIFS(ежемесячный!$F:$F,ежемесячный!$C:$C,$A11,ежемесячный!$D:$D,$A$1,ежемесячный!$E:$E,B$2)","v":0},{"$f":"SUMIFS(ежемесячный!$G:$G,ежемесячный!$C:$C,$A11,ежемесячный!$D:$D,$A$1,ежемесячный!$E:$E,B$2)","v":0},{"$f":"SUMIFS(ежемесячный!$F:$F,ежемесячный!$C:$C,$A11,ежемесячный!$D:$D,$A$1,ежемесячный!$E:$E,D$2)","v":0},{"$f":"SUMIFS(ежемесячный!$G:$G,ежемесячный!$C:$C,$A11,ежемесячный!$D:$D,$A$1,ежемесячный!$E:$E,D$2)","v":0},{"$f":"SUMIFS(ежемесячный!$F:$F,ежемесячный!$C:$C,$A11,ежемесячный!$D:$D,$A$1,ежемесячный!$E:$E,F$2)","v":0},{"$f":"SUMIFS(ежемесячный!$G:$G,ежемесячный!$C:$C,$A11,ежемесячный!$D:$D,$A$1,ежемесячный!$E:$E,F$2)","v":0},{"$f":"SUMIFS(ежемесячный!$F:$F,ежемесячный!$C:$C,$A11,ежемесячный!$D:$D,$A$1,ежемесячный!$E:$E,H$2)","v":0},{"$f":"SUMIFS(ежемесячный!$G:$G,ежемесячный!$C:$C,$A11,ежемесячный!$D:$D,$A$1,ежемесячный!$E:$E,H$2)","v":0},{"$f":"SUMIFS(ежемесячный!$F:$F,ежемесячный!$C:$C,$A11,ежемесячный!$D:$D,$A$1,ежемесячный!$E:$E,J$2)","v":0},{"$f":"SUMIFS(ежемесячный!$G:$G,ежемесячный!$C:$C,$A11,ежемесячный!$D:$D,$A$1,ежемесячный!$E:$E,J$2)","v":0},{"$f":"SUMIFS(ежемесячный!$F:$F,ежемесячный!$C:$C,$A11,ежемесячный!$D:$D,$A$1,ежемесячный!$E:$E,L$2)","v":0},{"$f":"SUMIFS(ежемесячный!$G:$G,ежемесячный!$C:$C,$A11,ежемесячный!$D:$D,$A$1,ежемесячный!$E:$E,L$2)","v":0},{"$f":"SUMIFS(ежемесячный!$F:$F,ежемесячный!$C:$C,$A11,ежемесячный!$D:$D,$A$1,ежемесячный!$E:$E,N$2)","v":0},{"$f":"SUMIFS(ежемесячный!$G:$G,ежемесячный!$C:$C,$A11,ежемесячный!$D:$D,$A$1,ежемесячный!$E:$E,N$2)","v":0},{"$f":"SUMIFS(ежемесячный!$F:$F,ежемесячный!$C:$C,$A11,ежемесячный!$D:$D,$A$1,ежемесячный!$E:$E,P$2)","v":0},{"$f":"SUMIFS(ежемесячный!$G:$G,ежемесячный!$C:$C,$A11,ежемесячный!$D:$D,$A$1,ежемесячный!$E:$E,P$2)","v":0},{"$f":"SUMIFS(ежемесячный!$F:$F,ежемесячный!$C:$C,$A11,ежемесячный!$D:$D,$A$1,ежемесячный!$E:$E,R$2)","v":0},{"$f":"SUMIFS(ежемесячный!$G:$G,ежемесячный!$C:$C,$A11,ежемесячный!$D:$D,$A$1,ежемесячный!$E:$E,R$2)","v":0},{"$f":"SUMIFS(ежемесячный!$F:$F,ежемесячный!$C:$C,$A11,ежемесячный!$D:$D,$A$1,ежемесячный!$E:$E,T$2)","v":0},{"$f":"SUMIFS(ежемесячный!$G:$G,ежемесячный!$C:$C,$A11,ежемесячный!$D:$D,$A$1,ежемесячный!$E:$E,T$2)","v":0},0]
["2014-03-08",{"$f":"SUMIFS(ежемесячный!$F:$F,ежемесячный!$C:$C,$A12,ежемесячный!$D:$D,$A$1,ежемесячный!$E:$E,B$2)","v":0},{"$f":"SUMIFS(ежемесячный!$G:$G,ежемесячный!$C:$C,$A12,ежемесячный!$D:$D,$A$1,ежемесячный!$E:$E,B$2)","v":0},{"$f":"SUMIFS(ежемесячный!$F:$F,ежемесячный!$C:$C,$A12,ежемесячный!$D:$D,$A$1,ежемесячный!$E:$E,D$2)","v":0},{"$f":"SUMIFS(ежемесячный!$G:$G,ежемесячный!$C:$C,$A12,ежемесячный!$D:$D,$A$1,ежемесячный!$E:$E,D$2)","v":0},{"$f":"SUMIFS(ежемесячный!$F:$F,ежемесячный!$C:$C,$A12,ежемесячный!$D:$D,$A$1,ежемесячный!$E:$E,F$2)","v":0},{"$f":"SUMIFS(ежемесячный!$G:$G,ежемесячный!$C:$C,$A12,ежемесячный!$D:$D,$A$1,ежемесячный!$E:$E,F$2)","v":0},{"$f":"SUMIFS(ежемесячный!$F:$F,ежемесячный!$C:$C,$A12,ежемесячный!$D:$D,$A$1,ежемесячный!$E:$E,H$2)","v":0},{"$f":"SUMIFS(ежемесячный!$G:$G,ежемесячный!$C:$C,$A12,ежемесячный!$D:$D,$A$1,ежемесячный!$E:$E,H$2)","v":0},{"$f":"SUMIFS(ежемесячный!$F:$F,ежемесячный!$C:$C,$A12,ежемесячный!$D:$D,$A$1,ежемесячный!$E:$E,J$2)","v":0},{"$f":"SUMIFS(ежемесячный!$G:$G,ежемесячный!$C:$C,$A12,ежемесячный!$D:$D,$A$1,ежемесячный!$E:$E,J$2)","v":0},{"$f":"SUMIFS(ежемесячный!$F:$F,ежемесячный!$C:$C,$A12,ежемесячный!$D:$D,$A$1,ежемесячный!$E:$E,L$2)","v":0},{"$f":"SUMIFS(ежемесячный!$G:$G,ежемесячный!$C:$C,$A12,ежемесячный!$D:$D,$A$1,ежемесячный!$E:$E,L$2)","v":0},{"$f":"SUMIFS(ежемесячный!$F:$F,ежемесячный!$C:$C,$A12,ежемесячный!$D:$D,$A$1,ежемесячный!$E:$E,N$2)","v":0},{"$f":"SUMIFS(ежемесячный!$G:$G,ежемесячный!$C:$C,$A12,ежемесячный!$D:$D,$A$1,ежемесячный!$E:$E,N$2)","v":0},{"$f":"SUMIFS(ежемесячный!$F:$F,ежемесячный!$C:$C,$A12,ежемесячный!$D:$D,$A$1,ежемесячный!$E:$E,P$2)","v":0},{"$f":"SUMIFS(ежемесячный!$G:$G,ежемесячный!$C:$C,$A12,ежемесячный!$D:$D,$A$1,ежемесячный!$E:$E,P$2)","v":0},{"$f":"SUMIFS(ежемесячный!$F:$F,ежемесячный!$C:$C,$A12,ежемесячный!$D:$D,$A$1,ежемесячный!$E:$E,R$2)","v":0},{"$f":"SUMIFS(ежемесячный!$G:$G,ежемесячный!$C:$C,$A12,ежемесячный!$D:$D,$A$1,ежемесячный!$E:$E,R$2)","v":0},{"$f":"SUMIFS(ежемесячный!$F:$F,ежемесячный!$C:$C,$A12,ежемесячный!$D:$D,$A$1,ежемесячный!$E:$E,T$2)","v":0},{"$f":"SUMIFS(ежемесячный!$G:$G,ежемесячный!$C:$C,$A12,ежемесячный!$D:$D,$A$1,ежемесячный!$E:$E,T$2)","v":0},0]
["2014-03-09",{"$f":"SUMIFS(ежемесячный!$F:$F,ежемесячный!$C:$C,$A13,ежемесячный!$D:$D,$A$1,ежемесячный!$E:$E,B$2)","v":0},{"$f":"SUMIFS(ежемесячный!$G:$G,ежемесячный!$C:$C,$A13,ежемесячный!$D:$D,$A$1,ежемесячный!$E:$E,B$2)","v":0},{"$f":"SUMIFS(ежемесячный!$F:$F,ежемесячный!$C:$C,$A13,ежемесячный!$D:$D,$A$1,ежемесячный!$E:$E,D$2)","v":0},{"$f":"SUMIFS(ежемесячный!$G:$G,ежемесячный!$C:$C,$A13,ежемесячный!$D:$D,$A$1,ежемесячный!$E:$E,D$2)","v":0},{"$f":"SUMIFS(ежемесячный!$F:$F,ежемесячный!$C:$C,$A13,ежемесячный!$D:$D,$A$1,ежемесячный!$E:$E,F$2)","v":0},{"$f":"SUMIFS(ежемесячный!$G:$G,ежемесячный!$C:$C,$A13,ежемесячный!$D:$D,$A$1,ежемесячный!$E:$E,F$2)","v":0},{"$f":"SUMIFS(ежемесячный!$F:$F,ежемесячный!$C:$C,$A13,ежемесячный!$D:$D,$A$1,ежемесячный!$E:$E,H$2)","v":0},{"$f":"SUMIFS(ежемесячный!$G:$G,ежемесячный!$C:$C,$A13,ежемесячный!$D:$D,$A$1,ежемесячный!$E:$E,H$2)","v":0},{"$f":"SUMIFS(ежемесячный!$F:$F,ежемесячный!$C:$C,$A13,ежемесячный!$D:$D,$A$1,ежемесячный!$E:$E,J$2)","v":0},{"$f":"SUMIFS(ежемесячный!$G:$G,ежемесячный!$C:$C,$A13,ежемесячный!$D:$D,$A$1,ежемесячный!$E:$E,J$2)","v":0},{"$f":"SUMIFS(ежемесячный!$F:$F,ежемесячный!$C:$C,$A13,ежемесячный!$D:$D,$A$1,ежемесячный!$E:$E,L$2)","v":0},{"$f":"SUMIFS(ежемесячный!$G:$G,ежемесячный!$C:$C,$A13,ежемесячный!$D:$D,$A$1,ежемесячный!$E:$E,L$2)","v":0},{"$f":"SUMIFS(ежемесячный!$F:$F,ежемесячный!$C:$C,$A13,ежемесячный!$D:$D,$A$1,ежемесячный!$E:$E,N$2)","v":0},{"$f":"SUMIFS(ежемесячный!$G:$G,ежемесячный!$C:$C,$A13,ежемесячный!$D:$D,$A$1,ежемесячный!$E:$E,N$2)","v":0},{"$f":"SUMIFS(ежемесячный!$F:$F,ежемесячный!$C:$C,$A13,ежемесячный!$D:$D,$A$1,ежемесячный!$E:$E,P$2)","v":0},{"$f":"SUMIFS(ежемесячный!$G:$G,ежемесячный!$C:$C,$A13,ежемесячный!$D:$D,$A$1,ежемесячный!$E:$E,P$2)","v":0},{"$f":"SUMIFS(ежемесячный!$F:$F,ежемесячный!$C:$C,$A13,ежемесячный!$D:$D,$A$1,ежемесячный!$E:$E,R$2)","v":0},{"$f":"SUMIFS(ежемесячный!$G:$G,ежемесячный!$C:$C,$A13,ежемесячный!$D:$D,$A$1,ежемесячный!$E:$E,R$2)","v":0},{"$f":"SUMIFS(ежемесячный!$F:$F,ежемесячный!$C:$C,$A13,ежемесячный!$D:$D,$A$1,ежемесячный!$E:$E,T$2)","v":0},{"$f":"SUMIFS(ежемесячный!$G:$G,ежемесячный!$C:$C,$A13,ежемесячный!$D:$D,$A$1,ежемесячный!$E:$E,T$2)","v":0},0]
["2014-03-10",{"$f":"SUMIFS(ежемесячный!$F:$F,ежемесячный!$C:$C,$A14,ежемесячный!$D:$D,$A$1,ежемесячный!$E:$E,B$2)","v":0},{"$f":"SUMIFS(ежемесячный!$G:$G,ежемесячный!$C:$C,$A14,ежемесячный!$D:$D,$A$1,ежемесячный!$E:$E,B$2)","v":0},{"$f":"SUMIFS(ежемесячный!$F:$F,ежемесячный!$C:$C,$A14,ежемесячный!$D:$D,$A$1,ежемесячный!$E:$E,D$2)","v":0},{"$f":"SUMIFS(ежемесячный!$G:$G,ежемесячный!$C:$C,$A14,ежемесячный!$D:$D,$A$1,ежемесячный!$E:$E,D$2)","v":0},{"$f":"SUMIFS(ежемесячный!$F:$F,ежемесячный!$C:$C,$A14,ежемесячный!$D:$D,$A$1,ежемесячный!$E:$E,F$2)","v":0},{"$f":"SUMIFS(ежемесячный!$G:$G,ежемесячный!$C:$C,$A14,ежемесячный!$D:$D,$A$1,ежемесячный!$E:$E,F$2)","v":0},{"$f":"SUMIFS(ежемесячный!$F:$F,ежемесячный!$C:$C,$A14,ежемесячный!$D:$D,$A$1,ежемесячный!$E:$E,H$2)","v":0},{"$f":"SUMIFS(ежемесячный!$G:$G,ежемесячный!$C:$C,$A14,ежемесячный!$D:$D,$A$1,ежемесячный!$E:$E,H$2)","v":0},{"$f":"SUMIFS(ежемесячный!$F:$F,ежемесячный!$C:$C,$A14,ежемесячный!$D:$D,$A$1,ежемесячный!$E:$E,J$2)","v":0},{"$f":"SUMIFS(ежемесячный!$G:$G,ежемесячный!$C:$C,$A14,ежемесячный!$D:$D,$A$1,ежемесячный!$E:$E,J$2)","v":0},{"$f":"SUMIFS(ежемесячный!$F:$F,ежемесячный!$C:$C,$A14,ежемесячный!$D:$D,$A$1,ежемесячный!$E:$E,L$2)","v":0},{"$f":"SUMIFS(ежемесячный!$G:$G,ежемесячный!$C:$C,$A14,ежемесячный!$D:$D,$A$1,ежемесячный!$E:$E,L$2)","v":0},{"$f":"SUMIFS(ежемесячный!$F:$F,ежемесячный!$C:$C,$A14,ежемесячный!$D:$D,$A$1,ежемесячный!$E:$E,N$2)","v":0},{"$f":"SUMIFS(ежемесячный!$G:$G,ежемесячный!$C:$C,$A14,ежемесячный!$D:$D,$A$1,ежемесячный!$E:$E,N$2)","v":0},{"$f":"SUMIFS(ежемесячный!$F:$F,ежемесячный!$C:$C,$A14,ежемесячный!$D:$D,$A$1,ежемесячный!$E:$E,P$2)","v":0},{"$f":"SUMIFS(ежемесячный!$G:$G,ежемесячный!$C:$C,$A14,ежемесячный!$D:$D,$A$1,ежемесячный!$E:$E,P$2)","v":0},{"$f":"SUMIFS(ежемесячный!$F:$F,ежемесячный!$C:$C,$A14,ежемесячный!$D:$D,$A$1,ежемесячный!$E:$E,R$2)","v":0},{"$f":"SUMIFS(ежемесячный!$G:$G,ежемесячный!$C:$C,$A14,ежемесячный!$D:$D,$A$1,ежемесячный!$E:$E,R$2)","v":0},{"$f":"SUMIFS(ежемесячный!$F:$F,ежемесячный!$C:$C,$A14,ежемесячный!$D:$D,$A$1,ежемесячный!$E:$E,T$2)","v":0},{"$f":"SUMIFS(ежемесячный!$G:$G,ежемесячный!$C:$C,$A14,ежемесячный!$D:$D,$A$1,ежемесячный!$E:$E,T$2)","v":0},0]
["2014-03-11",{"$f":"SUMIFS(ежемесячный!$F:$F,ежемесячный!$C:$C,$A15,ежемесячный!$D:$D,$A$1,ежемесячный!$E:$E,B$2)","v":0},{"$f":"SUMIFS(ежемесячный!$G:$G,ежемесячный!$C:$C,$A15,ежемесячный!$D:$D,$A$1,ежемесячный!$E:$E,B$2)","v":0},{"$f":"SUMIFS(ежемесячный!$F:$F,ежемесячный!$C:$C,$A15,ежемесячный!$D:$D,$A$1,ежемесячный!$E:$E,D$2)","v":0},{"$f":"SUMIFS(ежемесячный!$G:$G,ежемесячный!$C:$C,$A15,ежемесячный!$D:$D,$A$1,ежемесячный!$E:$E,D$2)","v":0},{"$f":"SUMIFS(ежемесячный!$F:$F,ежемесячный!$C:$C,$A15,ежемесячный!$D:$D,$A$1,ежемесячный!$E:$E,F$2)","v":0},{"$f":"SUMIFS(ежемесячный!$G:$G,ежемесячный!$C:$C,$A15,ежемесячный!$D:$D,$A$1,ежемесячный!$E:$E,F$2)","v":0},{"$f":"SUMIFS(ежемесячный!$F:$F,ежемесячный!$C:$C,$A15,ежемесячный!$D:$D,$A$1,ежемесячный!$E:$E,H$2)","v":0},{"$f":"SUMIFS(ежемесячный!$G:$G,ежемесячный!$C:$C,$A15,ежемесячный!$D:$D,$A$1,ежемесячный!$E:$E,H$2)","v":0},{"$f":"SUMIFS(ежемесячный!$F:$F,ежемесячный!$C:$C,$A15,ежемесячный!$D:$D,$A$1,ежемесячный!$E:$E,J$2)","v":0},{"$f":"SUMIFS(ежемесячный!$G:$G,ежемесячный!$C:$C,$A15,ежемесячный!$D:$D,$A$1,ежемесячный!$E:$E,J$2)","v":0},{"$f":"SUMIFS(ежемесячный!$F:$F,ежемесячный!$C:$C,$A15,ежемесячный!$D:$D,$A$1,ежемесячный!$E:$E,L$2)","v":0},{"$f":"SUMIFS(ежемесячный!$G:$G,ежемесячный!$C:$C,$A15,ежемесячный!$D:$D,$A$1,ежемесячный!$E:$E,L$2)","v":0},{"$f":"SUMIFS(ежемесячный!$F:$F,ежемесячный!$C:$C,$A15,ежемесячный!$D:$D,$A$1,ежемесячный!$E:$E,N$2)","v":0},{"$f":"SUMIFS(ежемесячный!$G:$G,ежемесячный!$C:$C,$A15,ежемесячный!$D:$D,$A$1,ежемесячный!$E:$E,N$2)","v":0},{"$f":"SUMIFS(ежемесячный!$F:$F,ежемесячный!$C:$C,$A15,ежемесячный!$D:$D,$A$1,ежемесячный!$E:$E,P$2)","v":0},{"$f":"SUMIFS(ежемесячный!$G:$G,ежемесячный!$C:$C,$A15,ежемесячный!$D:$D,$A$1,ежемесячный!$E:$E,P$2)","v":0},{"$f":"SUMIFS(ежемесячный!$F:$F,ежемесячный!$C:$C,$A15,ежемесячный!$D:$D,$A$1,ежемесячный!$E:$E,R$2)","v":0},{"$f":"SUMIFS(ежемесячный!$G:$G,ежемесячный!$C:$C,$A15,ежемесячный!$D:$D,$A$1,ежемесячный!$E:$E,R$2)","v":0},{"$f":"SUMIFS(ежемесячный!$F:$F,ежемесячный!$C:$C,$A15,ежемесячный!$D:$D,$A$1,ежемесячный!$E:$E,T$2)","v":0},{"$f":"SUMIFS(ежемесячный!$G:$G,ежемесячный!$C:$C,$A15,ежемесячный!$D:$D,$A$1,ежемесячный!$E:$E,T$2)","v":0},0]
["2014-03-12",{"$f":"SUMIFS(ежемесячный!$F:$F,ежемесячный!$C:$C,$A16,ежемесячный!$D:$D,$A$1,ежемесячный!$E:$E,B$2)","v":0},{"$f":"SUMIFS(ежемесячный!$G:$G,ежемесячный!$C:$C,$A16,ежемесячный!$D:$D,$A$1,ежемесячный!$E:$E,B$2)","v":0},{"$f":"SUMIFS(ежемесячный!$F:$F,ежемесячный!$C:$C,$A16,ежемесячный!$D:$D,$A$1,ежемесячный!$E:$E,D$2)","v":0},{"$f":"SUMIFS(ежемесячный!$G:$G,ежемесячный!$C:$C,$A16,ежемесячный!$D:$D,$A$1,ежемесячный!$E:$E,D$2)","v":0},{"$f":"SUMIFS(ежемесячный!$F:$F,ежемесячный!$C:$C,$A16,ежемесячный!$D:$D,$A$1,ежемесячный!$E:$E,F$2)","v":0},{"$f":"SUMIFS(ежемесячный!$G:$G,ежемесячный!$C:$C,$A16,ежемесячный!$D:$D,$A$1,ежемесячный!$E:$E,F$2)","v":0},{"$f":"SUMIFS(ежемесячный!$F:$F,ежемесячный!$C:$C,$A16,ежемесячный!$D:$D,$A$1,ежемесячный!$E:$E,H$2)","v":0},{"$f":"SUMIFS(ежемесячный!$G:$G,ежемесячный!$C:$C,$A16,ежемесячный!$D:$D,$A$1,ежемесячный!$E:$E,H$2)","v":0},{"$f":"SUMIFS(ежемесячный!$F:$F,ежемесячный!$C:$C,$A16,ежемесячный!$D:$D,$A$1,ежемесячный!$E:$E,J$2)","v":0},{"$f":"SUMIFS(ежемесячный!$G:$G,ежемесячный!$C:$C,$A16,ежемесячный!$D:$D,$A$1,ежемесячный!$E:$E,J$2)","v":0},{"$f":"SUMIFS(ежемесячный!$F:$F,ежемесячный!$C:$C,$A16,ежемесячный!$D:$D,$A$1,ежемесячный!$E:$E,L$2)","v":0},{"$f":"SUMIFS(ежемесячный!$G:$G,ежемесячный!$C:$C,$A16,ежемесячный!$D:$D,$A$1,ежемесячный!$E:$E,L$2)","v":0},{"$f":"SUMIFS(ежемесячный!$F:$F,ежемесячный!$C:$C,$A16,ежемесячный!$D:$D,$A$1,ежемесячный!$E:$E,N$2)","v":0},{"$f":"SUMIFS(ежемесячный!$G:$G,ежемесячный!$C:$C,$A16,ежемесячный!$D:$D,$A$1,ежемесячный!$E:$E,N$2)","v":0},{"$f":"SUMIFS(ежемесячный!$F:$F,ежемесячный!$C:$C,$A16,ежемесячный!$D:$D,$A$1,ежемесячный!$E:$E,P$2)","v":0},{"$f":"SUMIFS(ежемесячный!$G:$G,ежемесячный!$C:$C,$A16,ежемесячный!$D:$D,$A$1,ежемесячный!$E:$E,P$2)","v":0},{"$f":"SUMIFS(ежемесячный!$F:$F,ежемесячный!$C:$C,$A16,ежемесячный!$D:$D,$A$1,ежемесячный!$E:$E,R$2)","v":0},{"$f":"SUMIFS(ежемесячный!$G:$G,ежемесячный!$C:$C,$A16,ежемесячный!$D:$D,$A$1,ежемесячный!$E:$E,R$2)","v":0},{"$f":"SUMIFS(ежемесячный!$F:$F,ежемесячный!$C:$C,$A16,ежемесячный!$D:$D,$A$1,ежемесячный!$E:$E,T$2)","v":0},{"$f":"SUMIFS(ежемесячный!$G:$G,ежемесячный!$C:$C,$A16,ежемесячный!$D:$D,$A$1,ежемесячный!$E:$E,T$2)","v":0},0]
["2014-03-13",{"$f":"SUMIFS(ежемесячный!$F:$F,ежемесячный!$C:$C,$A17,ежемесячный!$D:$D,$A$1,ежемесячный!$E:$E,B$2)","v":0},{"$f":"SUMIFS(ежемесячный!$G:$G,ежемесячный!$C:$C,$A17,ежемесячный!$D:$D,$A$1,ежемесячный!$E:$E,B$2)","v":0},{"$f":"SUMIFS(ежемесячный!$F:$F,ежемесячный!$C:$C,$A17,ежемесячный!$D:$D,$A$1,ежемесячный!$E:$E,D$2)","v":0},{"$f":"SUMIFS(ежемесячный!$G:$G,ежемесячный!$C:$C,$A17,ежемесячный!$D:$D,$A$1,ежемесячный!$E:$E,D$2)","v":0},{"$f":"SUMIFS(ежемесячный!$F:$F,ежемесячный!$C:$C,$A17,ежемесячный!$D:$D,$A$1,ежемесячный!$E:$E,F$2)","v":0},{"$f":"SUMIFS(ежемесячный!$G:$G,ежемесячный!$C:$C,$A17,ежемесячный!$D:$D,$A$1,ежемесячный!$E:$E,F$2)","v":0},{"$f":"SUMIFS(ежемесячный!$F:$F,ежемесячный!$C:$C,$A17,ежемесячный!$D:$D,$A$1,ежемесячный!$E:$E,H$2)","v":0},{"$f":"SUMIFS(ежемесячный!$G:$G,ежемесячный!$C:$C,$A17,ежемесячный!$D:$D,$A$1,ежемесячный!$E:$E,H$2)","v":0},{"$f":"SUMIFS(ежемесячный!$F:$F,ежемесячный!$C:$C,$A17,ежемесячный!$D:$D,$A$1,ежемесячный!$E:$E,J$2)","v":0},{"$f":"SUMIFS(ежемесячный!$G:$G,ежемесячный!$C:$C,$A17,ежемесячный!$D:$D,$A$1,ежемесячный!$E:$E,J$2)","v":0},{"$f":"SUMIFS(ежемесячный!$F:$F,ежемесячный!$C:$C,$A17,ежемесячный!$D:$D,$A$1,ежемесячный!$E:$E,L$2)","v":0},{"$f":"SUMIFS(ежемесячный!$G:$G,ежемесячный!$C:$C,$A17,ежемесячный!$D:$D,$A$1,ежемесячный!$E:$E,L$2)","v":0},{"$f":"SUMIFS(ежемесячный!$F:$F,ежемесячный!$C:$C,$A17,ежемесячный!$D:$D,$A$1,ежемесячный!$E:$E,N$2)","v":0},{"$f":"SUMIFS(ежемесячный!$G:$G,ежемесячный!$C:$C,$A17,ежемесячный!$D:$D,$A$1,ежемесячный!$E:$E,N$2)","v":0},{"$f":"SUMIFS(ежемесячный!$F:$F,ежемесячный!$C:$C,$A17,ежемесячный!$D:$D,$A$1,ежемесячный!$E:$E,P$2)","v":0},{"$f":"SUMIFS(ежемесячный!$G:$G,ежемесячный!$C:$C,$A17,ежемесячный!$D:$D,$A$1,ежемесячный!$E:$E,P$2)","v":0},{"$f":"SUMIFS(ежемесячный!$F:$F,ежемесячный!$C:$C,$A17,ежемесячный!$D:$D,$A$1,ежемесячный!$E:$E,R$2)","v":0},{"$f":"SUMIFS(ежемесячный!$G:$G,ежемесячный!$C:$C,$A17,ежемесячный!$D:$D,$A$1,ежемесячный!$E:$E,R$2)","v":0},{"$f":"SUMIFS(ежемесячный!$F:$F,ежемесячный!$C:$C,$A17,ежемесячный!$D:$D,$A$1,ежемесячный!$E:$E,T$2)","v":0},{"$f":"SUMIFS(ежемесячный!$G:$G,ежемесячный!$C:$C,$A17,ежемесячный!$D:$D,$A$1,ежемесячный!$E:$E,T$2)","v":0},0]
["2014-03-14",{"$f":"SUMIFS(ежемесячный!$F:$F,ежемесячный!$C:$C,$A18,ежемесячный!$D:$D,$A$1,ежемесячный!$E:$E,B$2)","v":0},{"$f":"SUMIFS(ежемесячный!$G:$G,ежемесячный!$C:$C,$A18,ежемесячный!$D:$D,$A$1,ежемесячный!$E:$E,B$2)","v":0},{"$f":"SUMIFS(ежемесячный!$F:$F,ежемесячный!$C:$C,$A18,ежемесячный!$D:$D,$A$1,ежемесячный!$E:$E,D$2)","v":0},{"$f":"SUMIFS(ежемесячный!$G:$G,ежемесячный!$C:$C,$A18,ежемесячный!$D:$D,$A$1,ежемесячный!$E:$E,D$2)","v":0},{"$f":"SUMIFS(ежемесячный!$F:$F,ежемесячный!$C:$C,$A18,ежемесячный!$D:$D,$A$1,ежемесячный!$E:$E,F$2)","v":0},{"$f":"SUMIFS(ежемесячный!$G:$G,ежемесячный!$C:$C,$A18,ежемесячный!$D:$D,$A$1,ежемесячный!$E:$E,F$2)","v":0},{"$f":"SUMIFS(ежемесячный!$F:$F,ежемесячный!$C:$C,$A18,ежемесячный!$D:$D,$A$1,ежемесячный!$E:$E,H$2)","v":0},{"$f":"SUMIFS(ежемесячный!$G:$G,ежемесячный!$C:$C,$A18,ежемесячный!$D:$D,$A$1,ежемесячный!$E:$E,H$2)","v":0},{"$f":"SUMIFS(ежемесячный!$F:$F,ежемесячный!$C:$C,$A18,ежемесячный!$D:$D,$A$1,ежемесячный!$E:$E,J$2)","v":0},{"$f":"SUMIFS(ежемесячный!$G:$G,ежемесячный!$C:$C,$A18,ежемесячный!$D:$D,$A$1,ежемесячный!$E:$E,J$2)","v":0},{"$f":"SUMIFS(ежемесячный!$F:$F,ежемесячный!$C:$C,$A18,ежемесячный!$D:$D,$A$1,ежемесячный!$E:$E,L$2)","v":0},{"$f":"SUMIFS(ежемесячный!$G:$G,ежемесячный!$C:$C,$A18,ежемесячный!$D:$D,$A$1,ежемесячный!$E:$E,L$2)","v":0},{"$f":"SUMIFS(ежемесячный!$F:$F,ежемесячный!$C:$C,$A18,ежемесячный!$D:$D,$A$1,ежемесячный!$E:$E,N$2)","v":0},{"$f":"SUMIFS(ежемесячный!$G:$G,ежемесячный!$C:$C,$A18,ежемесячный!$D:$D,$A$1,ежемесячный!$E:$E,N$2)","v":0},{"$f":"SUMIFS(ежемесячный!$F:$F,ежемесячный!$C:$C,$A18,ежемесячный!$D:$D,$A$1,ежемесячный!$E:$E,P$2)","v":0},{"$f":"SUMIFS(ежемесячный!$G:$G,ежемесячный!$C:$C,$A18,ежемесячный!$D:$D,$A$1,ежемесячный!$E:$E,P$2)","v":0},{"$f":"SUMIFS(ежемесячный!$F:$F,ежемесячный!$C:$C,$A18,ежемесячный!$D:$D,$A$1,ежемесячный!$E:$E,R$2)","v":0},{"$f":"SUMIFS(ежемесячный!$G:$G,ежемесячный!$C:$C,$A18,ежемесячный!$D:$D,$A$1,ежемесячный!$E:$E,R$2)","v":0},{"$f":"SUMIFS(ежемесячный!$F:$F,ежемесячный!$C:$C,$A18,ежемесячный!$D:$D,$A$1,ежемесячный!$E:$E,T$2)","v":0},{"$f":"SUMIFS(ежемесячный!$G:$G,ежемесячный!$C:$C,$A18,ежемесячный!$D:$D,$A$1,ежемесячный!$E:$E,T$2)","v":0},0]
["2014-03-15",{"$f":"SUMIFS(ежемесячный!$F:$F,ежемесячный!$C:$C,$A19,ежемесячный!$D:$D,$A$1,ежемесячный!$E:$E,B$2)","v":0},{"$f":"SUMIFS(ежемесячный!$G:$G,ежемесячный!$C:$C,$A19,ежемесячный!$D:$D,$A$1,ежемесячный!$E:$E,B$2)","v":0},{"$f":"SUMIFS(ежемесячный!$F:$F,ежемесячный!$C:$C,$A19,ежемесячный!$D:$D,$A$1,ежемесячный!$E:$E,D$2)","v":0},{"$f":"SUMIFS(ежемесячный!$G:$G,ежемесячный!$C:$C,$A19,ежемесячный!$D:$D,$A$1,ежемесячный!$E:$E,D$2)","v":0},{"$f":"SUMIFS(ежемесячный!$F:$F,ежемесячный!$C:$C,$A19,ежемесячный!$D:$D,$A$1,ежемесячный!$E:$E,F$2)","v":0},{"$f":"SUMIFS(ежемесячный!$G:$G,ежемесячный!$C:$C,$A19,ежемесячный!$D:$D,$A$1,ежемесячный!$E:$E,F$2)","v":0},{"$f":"SUMIFS(ежемесячный!$F:$F,ежемесячный!$C:$C,$A19,ежемесячный!$D:$D,$A$1,ежемесячный!$E:$E,H$2)","v":0},{"$f":"SUMIFS(ежемесячный!$G:$G,ежемесячный!$C:$C,$A19,ежемесячный!$D:$D,$A$1,ежемесячный!$E:$E,H$2)","v":0},{"$f":"SUMIFS(ежемесячный!$F:$F,ежемесячный!$C:$C,$A19,ежемесячный!$D:$D,$A$1,ежемесячный!$E:$E,J$2)","v":0},{"$f":"SUMIFS(ежемесячный!$G:$G,ежемесячный!$C:$C,$A19,ежемесячный!$D:$D,$A$1,ежемесячный!$E:$E,J$2)","v":0},{"$f":"SUMIFS(ежемесячный!$F:$F,ежемесячный!$C:$C,$A19,ежемесячный!$D:$D,$A$1,ежемесячный!$E:$E,L$2)","v":0},{"$f":"SUMIFS(ежемесячный!$G:$G,ежемесячный!$C:$C,$A19,ежемесячный!$D:$D,$A$1,ежемесячный!$E:$E,L$2)","v":0},{"$f":"SUMIFS(ежемесячный!$F:$F,ежемесячный!$C:$C,$A19,ежемесячный!$D:$D,$A$1,ежемесячный!$E:$E,N$2)","v":0},{"$f":"SUMIFS(ежемесячный!$G:$G,ежемесячный!$C:$C,$A19,ежемесячный!$D:$D,$A$1,ежемесячный!$E:$E,N$2)","v":0},{"$f":"SUMIFS(ежемесячный!$F:$F,ежемесячный!$C:$C,$A19,ежемесячный!$D:$D,$A$1,ежемесячный!$E:$E,P$2)","v":0},{"$f":"SUMIFS(ежемесячный!$G:$G,ежемесячный!$C:$C,$A19,ежемесячный!$D:$D,$A$1,ежемесячный!$E:$E,P$2)","v":0},{"$f":"SUMIFS(ежемесячный!$F:$F,ежемесячный!$C:$C,$A19,ежемесячный!$D:$D,$A$1,ежемесячный!$E:$E,R$2)","v":0},{"$f":"SUMIFS(ежемесячный!$G:$G,ежемесячный!$C:$C,$A19,ежемесячный!$D:$D,$A$1,ежемесячный!$E:$E,R$2)","v":0},{"$f":"SUMIFS(ежемесячный!$F:$F,ежемесячный!$C:$C,$A19,ежемесячный!$D:$D,$A$1,ежемесячный!$E:$E,T$2)","v":0},{"$f":"SUMIFS(ежемесячный!$G:$G,ежемесячный!$C:$C,$A19,ежемесячный!$D:$D,$A$1,ежемесячный!$E:$E,T$2)","v":0},0]
["2014-03-16",{"$f":"SUMIFS(ежемесячный!$F:$F,ежемесячный!$C:$C,$A20,ежемесячный!$D:$D,$A$1,ежемесячный!$E:$E,B$2)","v":0},{"$f":"SUMIFS(ежемесячный!$G:$G,ежемесячный!$C:$C,$A20,ежемесячный!$D:$D,$A$1,ежемесячный!$E:$E,B$2)","v":0},{"$f":"SUMIFS(ежемесячный!$F:$F,ежемесячный!$C:$C,$A20,ежемесячный!$D:$D,$A$1,ежемесячный!$E:$E,D$2)","v":0},{"$f":"SUMIFS(ежемесячный!$G:$G,ежемесячный!$C:$C,$A20,ежемесячный!$D:$D,$A$1,ежемесячный!$E:$E,D$2)","v":0},{"$f":"SUMIFS(ежемесячный!$F:$F,ежемесячный!$C:$C,$A20,ежемесячный!$D:$D,$A$1,ежемесячный!$E:$E,F$2)","v":0},{"$f":"SUMIFS(ежемесячный!$G:$G,ежемесячный!$C:$C,$A20,ежемесячный!$D:$D,$A$1,ежемесячный!$E:$E,F$2)","v":0},{"$f":"SUMIFS(ежемесячный!$F:$F,ежемесячный!$C:$C,$A20,ежемесячный!$D:$D,$A$1,ежемесячный!$E:$E,H$2)","v":0},{"$f":"SUMIFS(ежемесячный!$G:$G,ежемесячный!$C:$C,$A20,ежемесячный!$D:$D,$A$1,ежемесячный!$E:$E,H$2)","v":0},{"$f":"SUMIFS(ежемесячный!$F:$F,ежемесячный!$C:$C,$A20,ежемесячный!$D:$D,$A$1,ежемесячный!$E:$E,J$2)","v":0},{"$f":"SUMIFS(ежемесячный!$G:$G,ежемесячный!$C:$C,$A20,ежемесячный!$D:$D,$A$1,ежемесячный!$E:$E,J$2)","v":0},{"$f":"SUMIFS(ежемесячный!$F:$F,ежемесячный!$C:$C,$A20,ежемесячный!$D:$D,$A$1,ежемесячный!$E:$E,L$2)","v":0},{"$f":"SUMIFS(ежемесячный!$G:$G,ежемесячный!$C:$C,$A20,ежемесячный!$D:$D,$A$1,ежемесячный!$E:$E,L$2)","v":0},{"$f":"SUMIFS(ежемесячный!$F:$F,ежемесячный!$C:$C,$A20,ежемесячный!$D:$D,$A$1,ежемесячный!$E:$E,N$2)","v":0},{"$f":"SUMIFS(ежемесячный!$G:$G,ежемесячный!$C:$C,$A20,ежемесячный!$D:$D,$A$1,ежемесячный!$E:$E,N$2)","v":0},{"$f":"SUMIFS(ежемесячный!$F:$F,ежемесячный!$C:$C,$A20,ежемесячный!$D:$D,$A$1,ежемесячный!$E:$E,P$2)","v":0},{"$f":"SUMIFS(ежемесячный!$G:$G,ежемесячный!$C:$C,$A20,ежемесячный!$D:$D,$A$1,ежемесячный!$E:$E,P$2)","v":0},{"$f":"SUMIFS(ежемесячный!$F:$F,ежемесячный!$C:$C,$A20,ежемесячный!$D:$D,$A$1,ежемесячный!$E:$E,R$2)","v":0},{"$f":"SUMIFS(ежемесячный!$G:$G,ежемесячный!$C:$C,$A20,ежемесячный!$D:$D,$A$1,ежемесячный!$E:$E,R$2)","v":0},{"$f":"SUMIFS(ежемесячный!$F:$F,ежемесячный!$C:$C,$A20,ежемесячный!$D:$D,$A$1,ежемесячный!$E:$E,T$2)","v":0},{"$f":"SUMIFS(ежемесячный!$G:$G,ежемесячный!$C:$C,$A20,ежемесячный!$D:$D,$A$1,ежемесячный!$E:$E,T$2)","v":0},0]
["2014-03-17",{"$f":"SUMIFS(ежемесячный!$F:$F,ежемесячный!$C:$C,$A21,ежемесячный!$D:$D,$A$1,ежемесячный!$E:$E,B$2)","v":0},{"$f":"SUMIFS(ежемесячный!$G:$G,ежемесячный!$C:$C,$A21,ежемесячный!$D:$D,$A$1,ежемесячный!$E:$E,B$2)","v":0},{"$f":"SUMIFS(ежемесячный!$F:$F,ежемесячный!$C:$C,$A21,ежемесячный!$D:$D,$A$1,ежемесячный!$E:$E,D$2)","v":0},{"$f":"SUMIFS(ежемесячный!$G:$G,ежемесячный!$C:$C,$A21,ежемесячный!$D:$D,$A$1,ежемесячный!$E:$E,D$2)","v":0},{"$f":"SUMIFS(ежемесячный!$F:$F,ежемесячный!$C:$C,$A21,ежемесячный!$D:$D,$A$1,ежемесячный!$E:$E,F$2)","v":0},{"$f":"SUMIFS(ежемесячный!$G:$G,ежемесячный!$C:$C,$A21,ежемесячный!$D:$D,$A$1,ежемесячный!$E:$E,F$2)","v":0},{"$f":"SUMIFS(ежемесячный!$F:$F,ежемесячный!$C:$C,$A21,ежемесячный!$D:$D,$A$1,ежемесячный!$E:$E,H$2)","v":0},{"$f":"SUMIFS(ежемесячный!$G:$G,ежемесячный!$C:$C,$A21,ежемесячный!$D:$D,$A$1,ежемесячный!$E:$E,H$2)","v":0},{"$f":"SUMIFS(ежемесячный!$F:$F,ежемесячный!$C:$C,$A21,ежемесячный!$D:$D,$A$1,ежемесячный!$E:$E,J$2)","v":0},{"$f":"SUMIFS(ежемесячный!$G:$G,ежемесячный!$C:$C,$A21,ежемесячный!$D:$D,$A$1,ежемесячный!$E:$E,J$2)","v":0},{"$f":"SUMIFS(ежемесячный!$F:$F,ежемесячный!$C:$C,$A21,ежемесячный!$D:$D,$A$1,ежемесячный!$E:$E,L$2)","v":0},{"$f":"SUMIFS(ежемесячный!$G:$G,ежемесячный!$C:$C,$A21,ежемесячный!$D:$D,$A$1,ежемесячный!$E:$E,L$2)","v":0},{"$f":"SUMIFS(ежемесячный!$F:$F,ежемесячный!$C:$C,$A21,ежемесячный!$D:$D,$A$1,ежемесячный!$E:$E,N$2)","v":0},{"$f":"SUMIFS(ежемесячный!$G:$G,ежемесячный!$C:$C,$A21,ежемесячный!$D:$D,$A$1,ежемесячный!$E:$E,N$2)","v":0},{"$f":"SUMIFS(ежемесячный!$F:$F,ежемесячный!$C:$C,$A21,ежемесячный!$D:$D,$A$1,ежемесячный!$E:$E,P$2)","v":0},{"$f":"SUMIFS(ежемесячный!$G:$G,ежемесячный!$C:$C,$A21,ежемесячный!$D:$D,$A$1,ежемесячный!$E:$E,P$2)","v":0},{"$f":"SUMIFS(ежемесячный!$F:$F,ежемесячный!$C:$C,$A21,ежемесячный!$D:$D,$A$1,ежемесячный!$E:$E,R$2)","v":0},{"$f":"SUMIFS(ежемесячный!$G:$G,ежемесячный!$C:$C,$A21,ежемесячный!$D:$D,$A$1,ежемесячный!$E:$E,R$2)","v":0},{"$f":"SUMIFS(ежемесячный!$F:$F,ежемесячный!$C:$C,$A21,ежемесячный!$D:$D,$A$1,ежемесячный!$E:$E,T$2)","v":0},{"$f":"SUMIFS(ежемесячный!$G:$G,ежемесячный!$C:$C,$A21,ежемесячный!$D:$D,$A$1,ежемесячный!$E:$E,T$2)","v":0},0]
["2014-03-18",{"$f":"SUMIFS(ежемесячный!$F:$F,ежемесячный!$C:$C,$A22,ежемесячный!$D:$D,$A$1,ежемесячный!$E:$E,B$2)","v":0},{"$f":"SUMIFS(ежемесячный!$G:$G,ежемесячный!$C:$C,$A22,ежемесячный!$D:$D,$A$1,ежемесячный!$E:$E,B$2)","v":0},{"$f":"SUMIFS(ежемесячный!$F:$F,ежемесячный!$C:$C,$A22,ежемесячный!$D:$D,$A$1,ежемесячный!$E:$E,D$2)","v":0},{"$f":"SUMIFS(ежемесячный!$G:$G,ежемесячный!$C:$C,$A22,ежемесячный!$D:$D,$A$1,ежемесячный!$E:$E,D$2)","v":0},{"$f":"SUMIFS(ежемесячный!$F:$F,ежемесячный!$C:$C,$A22,ежемесячный!$D:$D,$A$1,ежемесячный!$E:$E,F$2)","v":0},{"$f":"SUMIFS(ежемесячный!$G:$G,ежемесячный!$C:$C,$A22,ежемесячный!$D:$D,$A$1,ежемесячный!$E:$E,F$2)","v":0},{"$f":"SUMIFS(ежемесячный!$F:$F,ежемесячный!$C:$C,$A22,ежемесячный!$D:$D,$A$1,ежемесячный!$E:$E,H$2)","v":0},{"$f":"SUMIFS(ежемесячный!$G:$G,ежемесячный!$C:$C,$A22,ежемесячный!$D:$D,$A$1,ежемесячный!$E:$E,H$2)","v":0},{"$f":"SUMIFS(ежемесячный!$F:$F,ежемесячный!$C:$C,$A22,ежемесячный!$D:$D,$A$1,ежемесячный!$E:$E,J$2)","v":0},{"$f":"SUMIFS(ежемесячный!$G:$G,ежемесячный!$C:$C,$A22,ежемесячный!$D:$D,$A$1,ежемесячный!$E:$E,J$2)","v":0},{"$f":"SUMIFS(ежемесячный!$F:$F,ежемесячный!$C:$C,$A22,ежемесячный!$D:$D,$A$1,ежемесячный!$E:$E,L$2)","v":0},{"$f":"SUMIFS(ежемесячный!$G:$G,ежемесячный!$C:$C,$A22,ежемесячный!$D:$D,$A$1,ежемесячный!$E:$E,L$2)","v":0},{"$f":"SUMIFS(ежемесячный!$F:$F,ежемесячный!$C:$C,$A22,ежемесячный!$D:$D,$A$1,ежемесячный!$E:$E,N$2)","v":0},{"$f":"SUMIFS(ежемесячный!$G:$G,ежемесячный!$C:$C,$A22,ежемесячный!$D:$D,$A$1,ежемесячный!$E:$E,N$2)","v":0},{"$f":"SUMIFS(ежемесячный!$F:$F,ежемесячный!$C:$C,$A22,ежемесячный!$D:$D,$A$1,ежемесячный!$E:$E,P$2)","v":0},{"$f":"SUMIFS(ежемесячный!$G:$G,ежемесячный!$C:$C,$A22,ежемесячный!$D:$D,$A$1,ежемесячный!$E:$E,P$2)","v":0},{"$f":"SUMIFS(ежемесячный!$F:$F,ежемесячный!$C:$C,$A22,ежемесячный!$D:$D,$A$1,ежемесячный!$E:$E,R$2)","v":0},{"$f":"SUMIFS(ежемесячный!$G:$G,ежемесячный!$C:$C,$A22,ежемесячный!$D:$D,$A$1,ежемесячный!$E:$E,R$2)","v":0},{"$f":"SUMIFS(ежемесячный!$F:$F,ежемесячный!$C:$C,$A22,ежемесячный!$D:$D,$A$1,ежемесячный!$E:$E,T$2)","v":0},{"$f":"SUMIFS(ежемесячный!$G:$G,ежемесячный!$C:$C,$A22,ежемесячный!$D:$D,$A$1,ежемесячный!$E:$E,T$2)","v":0},0]
["2014-03-19",{"$f":"SUMIFS(ежемесячный!$F:$F,ежемесячный!$C:$C,$A23,ежемесячный!$D:$D,$A$1,ежемесячный!$E:$E,B$2)","v":0},{"$f":"SUMIFS(ежемесячный!$G:$G,ежемесячный!$C:$C,$A23,ежемесячный!$D:$D,$A$1,ежемесячный!$E:$E,B$2)","v":0},{"$f":"SUMIFS(ежемесячный!$F:$F,ежемесячный!$C:$C,$A23,ежемесячный!$D:$D,$A$1,ежемесячный!$E:$E,D$2)","v":0},{"$f":"SUMIFS(ежемесячный!$G:$G,ежемесячный!$C:$C,$A23,ежемесячный!$D:$D,$A$1,ежемесячный!$E:$E,D$2)","v":0},{"$f":"SUMIFS(ежемесячный!$F:$F,ежемесячный!$C:$C,$A23,ежемесячный!$D:$D,$A$1,ежемесячный!$E:$E,F$2)","v":0},{"$f":"SUMIFS(ежемесячный!$G:$G,ежемесячный!$C:$C,$A23,ежемесячный!$D:$D,$A$1,ежемесячный!$E:$E,F$2)","v":0},{"$f":"SUMIFS(ежемесячный!$F:$F,ежемесячный!$C:$C,$A23,ежемесячный!$D:$D,$A$1,ежемесячный!$E:$E,H$2)","v":0},{"$f":"SUMIFS(ежемесячный!$G:$G,ежемесячный!$C:$C,$A23,ежемесячный!$D:$D,$A$1,ежемесячный!$E:$E,H$2)","v":0},{"$f":"SUMIFS(ежемесячный!$F:$F,ежемесячный!$C:$C,$A23,ежемесячный!$D:$D,$A$1,ежемесячный!$E:$E,J$2)","v":0},{"$f":"SUMIFS(ежемесячный!$G:$G,ежемесячный!$C:$C,$A23,ежемесячный!$D:$D,$A$1,ежемесячный!$E:$E,J$2)","v":0},{"$f":"SUMIFS(ежемесячный!$F:$F,ежемесячный!$C:$C,$A23,ежемесячный!$D:$D,$A$1,ежемесячный!$E:$E,L$2)","v":0},{"$f":"SUMIFS(ежемесячный!$G:$G,ежемесячный!$C:$C,$A23,ежемесячный!$D:$D,$A$1,ежемесячный!$E:$E,L$2)","v":0},{"$f":"SUMIFS(ежемесячный!$F:$F,ежемесячный!$C:$C,$A23,ежемесячный!$D:$D,$A$1,ежемесячный!$E:$E,N$2)","v":0},{"$f":"SUMIFS(ежемесячный!$G:$G,ежемесячный!$C:$C,$A23,ежемесячный!$D:$D,$A$1,ежемесячный!$E:$E,N$2)","v":0},{"$f":"SUMIFS(ежемесячный!$F:$F,ежемесячный!$C:$C,$A23,ежемесячный!$D:$D,$A$1,ежемесячный!$E:$E,P$2)","v":0},{"$f":"SUMIFS(ежемесячный!$G:$G,ежемесячный!$C:$C,$A23,ежемесячный!$D:$D,$A$1,ежемесячный!$E:$E,P$2)","v":0},{"$f":"SUMIFS(ежемесячный!$F:$F,ежемесячный!$C:$C,$A23,ежемесячный!$D:$D,$A$1,ежемесячный!$E:$E,R$2)","v":0},{"$f":"SUMIFS(ежемесячный!$G:$G,ежемесячный!$C:$C,$A23,ежемесячный!$D:$D,$A$1,ежемесячный!$E:$E,R$2)","v":0},{"$f":"SUMIFS(ежемесячный!$F:$F,ежемесячный!$C:$C,$A23,ежемесячный!$D:$D,$A$1,ежемесячный!$E:$E,T$2)","v":0},{"$f":"SUMIFS(ежемесячный!$G:$G,ежемесячный!$C:$C,$A23,ежемесячный!$D:$D,$A$1,ежемесячный!$E:$E,T$2)","v":0},0]
["2014-03-20",{"$f":"SUMIFS(ежемесячный!$F:$F,ежемесячный!$C:$C,$A24,ежемесячный!$D:$D,$A$1,ежемесячный!$E:$E,B$2)","v":0},{"$f":"SUMIFS(ежемесячный!$G:$G,ежемесячный!$C:$C,$A24,ежемесячный!$D:$D,$A$1,ежемесячный!$E:$E,B$2)","v":0},{"$f":"SUMIFS(ежемесячный!$F:$F,ежемесячный!$C:$C,$A24,ежемесячный!$D:$D,$A$1,ежемесячный!$E:$E,D$2)","v":0},{"$f":"SUMIFS(ежемесячный!$G:$G,ежемесячный!$C:$C,$A24,ежемесячный!$D:$D,$A$1,ежемесячный!$E:$E,D$2)","v":0},{"$f":"SUMIFS(ежемесячный!$F:$F,ежемесячный!$C:$C,$A24,ежемесячный!$D:$D,$A$1,ежемесячный!$E:$E,F$2)","v":0},{"$f":"SUMIFS(ежемесячный!$G:$G,ежемесячный!$C:$C,$A24,ежемесячный!$D:$D,$A$1,ежемесячный!$E:$E,F$2)","v":0},{"$f":"SUMIFS(ежемесячный!$F:$F,ежемесячный!$C:$C,$A24,ежемесячный!$D:$D,$A$1,ежемесячный!$E:$E,H$2)","v":0},{"$f":"SUMIFS(ежемесячный!$G:$G,ежемесячный!$C:$C,$A24,ежемесячный!$D:$D,$A$1,ежемесячный!$E:$E,H$2)","v":0},{"$f":"SUMIFS(ежемесячный!$F:$F,ежемесячный!$C:$C,$A24,ежемесячный!$D:$D,$A$1,ежемесячный!$E:$E,J$2)","v":0},{"$f":"SUMIFS(ежемесячный!$G:$G,ежемесячный!$C:$C,$A24,ежемесячный!$D:$D,$A$1,ежемесячный!$E:$E,J$2)","v":0},{"$f":"SUMIFS(ежемесячный!$F:$F,ежемесячный!$C:$C,$A24,ежемесячный!$D:$D,$A$1,ежемесячный!$E:$E,L$2)","v":0},{"$f":"SUMIFS(ежемесячный!$G:$G,ежемесячный!$C:$C,$A24,ежемесячный!$D:$D,$A$1,ежемесячный!$E:$E,L$2)","v":0},{"$f":"SUMIFS(ежемесячный!$F:$F,ежемесячный!$C:$C,$A24,ежемесячный!$D:$D,$A$1,ежемесячный!$E:$E,N$2)","v":0},{"$f":"SUMIFS(ежемесячный!$G:$G,ежемесячный!$C:$C,$A24,ежемесячный!$D:$D,$A$1,ежемесячный!$E:$E,N$2)","v":0},{"$f":"SUMIFS(ежемесячный!$F:$F,ежемесячный!$C:$C,$A24,ежемесячный!$D:$D,$A$1,ежемесячный!$E:$E,P$2)","v":0},{"$f":"SUMIFS(ежемесячный!$G:$G,ежемесячный!$C:$C,$A24,ежемесячный!$D:$D,$A$1,ежемесячный!$E:$E,P$2)","v":0},{"$f":"SUMIFS(ежемесячный!$F:$F,ежемесячный!$C:$C,$A24,ежемесячный!$D:$D,$A$1,ежемесячный!$E:$E,R$2)","v":0},{"$f":"SUMIFS(ежемесячный!$G:$G,ежемесячный!$C:$C,$A24,ежемесячный!$D:$D,$A$1,ежемесячный!$E:$E,R$2)","v":0},{"$f":"SUMIFS(ежемесячный!$F:$F,ежемесячный!$C:$C,$A24,ежемесячный!$D:$D,$A$1,ежемесячный!$E:$E,T$2)","v":0},{"$f":"SUMIFS(ежемесячный!$G:$G,ежемесячный!$C:$C,$A24,ежемесячный!$D:$D,$A$1,ежемесячный!$E:$E,T$2)","v":0},0]
["2014-03-21",{"$f":"SUMIFS(ежемесячный!$F:$F,ежемесячный!$C:$C,$A25,ежемесячный!$D:$D,$A$1,ежемесячный!$E:$E,B$2)","v":0},{"$f":"SUMIFS(ежемесячный!$G:$G,ежемесячный!$C:$C,$A25,ежемесячный!$D:$D,$A$1,ежемесячный!$E:$E,B$2)","v":0},{"$f":"SUMIFS(ежемесячный!$F:$F,ежемесячный!$C:$C,$A25,ежемесячный!$D:$D,$A$1,ежемесячный!$E:$E,D$2)","v":0},{"$f":"SUMIFS(ежемесячный!$G:$G,ежемесячный!$C:$C,$A25,ежемесячный!$D:$D,$A$1,ежемесячный!$E:$E,D$2)","v":0},{"$f":"SUMIFS(ежемесячный!$F:$F,ежемесячный!$C:$C,$A25,ежемесячный!$D:$D,$A$1,ежемесячный!$E:$E,F$2)","v":0},{"$f":"SUMIFS(ежемесячный!$G:$G,ежемесячный!$C:$C,$A25,ежемесячный!$D:$D,$A$1,ежемесячный!$E:$E,F$2)","v":0},{"$f":"SUMIFS(ежемесячный!$F:$F,ежемесячный!$C:$C,$A25,ежемесячный!$D:$D,$A$1,ежемесячный!$E:$E,H$2)","v":0},{"$f":"SUMIFS(ежемесячный!$G:$G,ежемесячный!$C:$C,$A25,ежемесячный!$D:$D,$A$1,ежемесячный!$E:$E,H$2)","v":0},{"$f":"SUMIFS(ежемесячный!$F:$F,ежемесячный!$C:$C,$A25,ежемесячный!$D:$D,$A$1,ежемесячный!$E:$E,J$2)","v":0},{"$f":"SUMIFS(ежемесячный!$G:$G,ежемесячный!$C:$C,$A25,ежемесячный!$D:$D,$A$1,ежемесячный!$E:$E,J$2)","v":0},{"$f":"SUMIFS(ежемесячный!$F:$F,ежемесячный!$C:$C,$A25,ежемесячный!$D:$D,$A$1,ежемесячный!$E:$E,L$2)","v":0},{"$f":"SUMIFS(ежемесячный!$G:$G,ежемесячный!$C:$C,$A25,ежемесячный!$D:$D,$A$1,ежемесячный!$E:$E,L$2)","v":0},{"$f":"SUMIFS(ежемесячный!$F:$F,ежемесячный!$C:$C,$A25,ежемесячный!$D:$D,$A$1,ежемесячный!$E:$E,N$2)","v":0},{"$f":"SUMIFS(ежемесячный!$G:$G,ежемесячный!$C:$C,$A25,ежемесячный!$D:$D,$A$1,ежемесячный!$E:$E,N$2)","v":0},{"$f":"SUMIFS(ежемесячный!$F:$F,ежемесячный!$C:$C,$A25,ежемесячный!$D:$D,$A$1,ежемесячный!$E:$E,P$2)","v":0},{"$f":"SUMIFS(ежемесячный!$G:$G,ежемесячный!$C:$C,$A25,ежемесячный!$D:$D,$A$1,ежемесячный!$E:$E,P$2)","v":0},{"$f":"SUMIFS(ежемесячный!$F:$F,ежемесячный!$C:$C,$A25,ежемесячный!$D:$D,$A$1,ежемесячный!$E:$E,R$2)","v":0},{"$f":"SUMIFS(ежемесячный!$G:$G,ежемесячный!$C:$C,$A25,ежемесячный!$D:$D,$A$1,ежемесячный!$E:$E,R$2)","v":0},{"$f":"SUMIFS(ежемесячный!$F:$F,ежемесячный!$C:$C,$A25,ежемесячный!$D:$D,$A$1,ежемесячный!$E:$E,T$2)","v":0},{"$f":"SUMIFS(ежемесячный!$G:$G,ежемесячный!$C:$C,$A25,ежемесячный!$D:$D,$A$1,ежемесячный!$E:$E,T$2)","v":0},0]
["2014-03-22",{"$f":"SUMIFS(ежемесячный!$F:$F,ежемесячный!$C:$C,$A26,ежемесячный!$D:$D,$A$1,ежемесячный!$E:$E,B$2)","v":0},{"$f":"SUMIFS(ежемесячный!$G:$G,ежемесячный!$C:$C,$A26,ежемесячный!$D:$D,$A$1,ежемесячный!$E:$E,B$2)","v":0},{"$f":"SUMIFS(ежемесячный!$F:$F,ежемесячный!$C:$C,$A26,ежемесячный!$D:$D,$A$1,ежемесячный!$E:$E,D$2)","v":0},{"$f":"SUMIFS(ежемесячный!$G:$G,ежемесячный!$C:$C,$A26,ежемесячный!$D:$D,$A$1,ежемесячный!$E:$E,D$2)","v":0},{"$f":"SUMIFS(ежемесячный!$F:$F,ежемесячный!$C:$C,$A26,ежемесячный!$D:$D,$A$1,ежемесячный!$E:$E,F$2)","v":0},{"$f":"SUMIFS(ежемесячный!$G:$G,ежемесячный!$C:$C,$A26,ежемесячный!$D:$D,$A$1,ежемесячный!$E:$E,F$2)","v":0},{"$f":"SUMIFS(ежемесячный!$F:$F,ежемесячный!$C:$C,$A26,ежемесячный!$D:$D,$A$1,ежемесячный!$E:$E,H$2)","v":0},{"$f":"SUMIFS(ежемесячный!$G:$G,ежемесячный!$C:$C,$A26,ежемесячный!$D:$D,$A$1,ежемесячный!$E:$E,H$2)","v":0},{"$f":"SUMIFS(ежемесячный!$F:$F,ежемесячный!$C:$C,$A26,ежемесячный!$D:$D,$A$1,ежемесячный!$E:$E,J$2)","v":0},{"$f":"SUMIFS(ежемесячный!$G:$G,ежемесячный!$C:$C,$A26,ежемесячный!$D:$D,$A$1,ежемесячный!$E:$E,J$2)","v":0},{"$f":"SUMIFS(ежемесячный!$F:$F,ежемесячный!$C:$C,$A26,ежемесячный!$D:$D,$A$1,ежемесячный!$E:$E,L$2)","v":0},{"$f":"SUMIFS(ежемесячный!$G:$G,ежемесячный!$C:$C,$A26,ежемесячный!$D:$D,$A$1,ежемесячный!$E:$E,L$2)","v":0},{"$f":"SUMIFS(ежемесячный!$F:$F,ежемесячный!$C:$C,$A26,ежемесячный!$D:$D,$A$1,ежемесячный!$E:$E,N$2)","v":0},{"$f":"SUMIFS(ежемесячный!$G:$G,ежемесячный!$C:$C,$A26,ежемесячный!$D:$D,$A$1,ежемесячный!$E:$E,N$2)","v":0},{"$f":"SUMIFS(ежемесячный!$F:$F,ежемесячный!$C:$C,$A26,ежемесячный!$D:$D,$A$1,ежемесячный!$E:$E,P$2)","v":0},{"$f":"SUMIFS(ежемесячный!$G:$G,ежемесячный!$C:$C,$A26,ежемесячный!$D:$D,$A$1,ежемесячный!$E:$E,P$2)","v":0},{"$f":"SUMIFS(ежемесячный!$F:$F,ежемесячный!$C:$C,$A26,ежемесячный!$D:$D,$A$1,ежемесячный!$E:$E,R$2)","v":0},{"$f":"SUMIFS(ежемесячный!$G:$G,ежемесячный!$C:$C,$A26,ежемесячный!$D:$D,$A$1,ежемесячный!$E:$E,R$2)","v":0},{"$f":"SUMIFS(ежемесячный!$F:$F,ежемесячный!$C:$C,$A26,ежемесячный!$D:$D,$A$1,ежемесячный!$E:$E,T$2)","v":0},{"$f":"SUMIFS(ежемесячный!$G:$G,ежемесячный!$C:$C,$A26,ежемесячный!$D:$D,$A$1,ежемесячный!$E:$E,T$2)","v":0},0]
["2014-03-23",{"$f":"SUMIFS(ежемесячный!$F:$F,ежемесячный!$C:$C,$A27,ежемесячный!$D:$D,$A$1,ежемесячный!$E:$E,B$2)","v":0},{"$f":"SUMIFS(ежемесячный!$G:$G,ежемесячный!$C:$C,$A27,ежемесячный!$D:$D,$A$1,ежемесячный!$E:$E,B$2)","v":0},{"$f":"SUMIFS(ежемесячный!$F:$F,ежемесячный!$C:$C,$A27,ежемесячный!$D:$D,$A$1,ежемесячный!$E:$E,D$2)","v":0},{"$f":"SUMIFS(ежемесячный!$G:$G,ежемесячный!$C:$C,$A27,ежемесячный!$D:$D,$A$1,ежемесячный!$E:$E,D$2)","v":0},{"$f":"SUMIFS(ежемесячный!$F:$F,ежемесячный!$C:$C,$A27,ежемесячный!$D:$D,$A$1,ежемесячный!$E:$E,F$2)","v":0},{"$f":"SUMIFS(ежемесячный!$G:$G,ежемесячный!$C:$C,$A27,ежемесячный!$D:$D,$A$1,ежемесячный!$E:$E,F$2)","v":0},{"$f":"SUMIFS(ежемесячный!$F:$F,ежемесячный!$C:$C,$A27,ежемесячный!$D:$D,$A$1,ежемесячный!$E:$E,H$2)","v":0},{"$f":"SUMIFS(ежемесячный!$G:$G,ежемесячный!$C:$C,$A27,ежемесячный!$D:$D,$A$1,ежемесячный!$E:$E,H$2)","v":0},{"$f":"SUMIFS(ежемесячный!$F:$F,ежемесячный!$C:$C,$A27,ежемесячный!$D:$D,$A$1,ежемесячный!$E:$E,J$2)","v":0},{"$f":"SUMIFS(ежемесячный!$G:$G,ежемесячный!$C:$C,$A27,ежемесячный!$D:$D,$A$1,ежемесячный!$E:$E,J$2)","v":0},{"$f":"SUMIFS(ежемесячный!$F:$F,ежемесячный!$C:$C,$A27,ежемесячный!$D:$D,$A$1,ежемесячный!$E:$E,L$2)","v":0},{"$f":"SUMIFS(ежемесячный!$G:$G,ежемесячный!$C:$C,$A27,ежемесячный!$D:$D,$A$1,ежемесячный!$E:$E,L$2)","v":0},{"$f":"SUMIFS(ежемесячный!$F:$F,ежемесячный!$C:$C,$A27,ежемесячный!$D:$D,$A$1,ежемесячный!$E:$E,N$2)","v":0},{"$f":"SUMIFS(ежемесячный!$G:$G,ежемесячный!$C:$C,$A27,ежемесячный!$D:$D,$A$1,ежемесячный!$E:$E,N$2)","v":0},{"$f":"SUMIFS(ежемесячный!$F:$F,ежемесячный!$C:$C,$A27,ежемесячный!$D:$D,$A$1,ежемесячный!$E:$E,P$2)","v":0},{"$f":"SUMIFS(ежемесячный!$G:$G,ежемесячный!$C:$C,$A27,ежемесячный!$D:$D,$A$1,ежемесячный!$E:$E,P$2)","v":0},{"$f":"SUMIFS(ежемесячный!$F:$F,ежемесячный!$C:$C,$A27,ежемесячный!$D:$D,$A$1,ежемесячный!$E:$E,R$2)","v":0},{"$f":"SUMIFS(ежемесячный!$G:$G,ежемесячный!$C:$C,$A27,ежемесячный!$D:$D,$A$1,ежемесячный!$E:$E,R$2)","v":0},{"$f":"SUMIFS(ежемесячный!$F:$F,ежемесячный!$C:$C,$A27,ежемесячный!$D:$D,$A$1,ежемесячный!$E:$E,T$2)","v":0},{"$f":"SUMIFS(ежемесячный!$G:$G,ежемесячный!$C:$C,$A27,ежемесячный!$D:$D,$A$1,ежемесячный!$E:$E,T$2)","v":0},0]
["2014-03-24",{"$f":"SUMIFS(ежемесячный!$F:$F,ежемесячный!$C:$C,$A28,ежемесячный!$D:$D,$A$1,ежемесячный!$E:$E,B$2)","v":0},{"$f":"SUMIFS(ежемесячный!$G:$G,ежемесячный!$C:$C,$A28,ежемесячный!$D:$D,$A$1,ежемесячный!$E:$E,B$2)","v":0},{"$f":"SUMIFS(ежемесячный!$F:$F,ежемесячный!$C:$C,$A28,ежемесячный!$D:$D,$A$1,ежемесячный!$E:$E,D$2)","v":0},{"$f":"SUMIFS(ежемесячный!$G:$G,ежемесячный!$C:$C,$A28,ежемесячный!$D:$D,$A$1,ежемесячный!$E:$E,D$2)","v":0},{"$f":"SUMIFS(ежемесячный!$F:$F,ежемесячный!$C:$C,$A28,ежемесячный!$D:$D,$A$1,ежемесячный!$E:$E,F$2)","v":0},{"$f":"SUMIFS(ежемесячный!$G:$G,ежемесячный!$C:$C,$A28,ежемесячный!$D:$D,$A$1,ежемесячный!$E:$E,F$2)","v":0},{"$f":"SUMIFS(ежемесячный!$F:$F,ежемесячный!$C:$C,$A28,ежемесячный!$D:$D,$A$1,ежемесячный!$E:$E,H$2)","v":0},{"$f":"SUMIFS(ежемесячный!$G:$G,ежемесячный!$C:$C,$A28,ежемесячный!$D:$D,$A$1,ежемесячный!$E:$E,H$2)","v":0},{"$f":"SUMIFS(ежемесячный!$F:$F,ежемесячный!$C:$C,$A28,ежемесячный!$D:$D,$A$1,ежемесячный!$E:$E,J$2)","v":0},{"$f":"SUMIFS(ежемесячный!$G:$G,ежемесячный!$C:$C,$A28,ежемесячный!$D:$D,$A$1,ежемесячный!$E:$E,J$2)","v":0},{"$f":"SUMIFS(ежемесячный!$F:$F,ежемесячный!$C:$C,$A28,ежемесячный!$D:$D,$A$1,ежемесячный!$E:$E,L$2)","v":0},{"$f":"SUMIFS(ежемесячный!$G:$G,ежемесячный!$C:$C,$A28,ежемесячный!$D:$D,$A$1,ежемесячный!$E:$E,L$2)","v":0},{"$f":"SUMIFS(ежемесячный!$F:$F,ежемесячный!$C:$C,$A28,ежемесячный!$D:$D,$A$1,ежемесячный!$E:$E,N$2)","v":0},{"$f":"SUMIFS(ежемесячный!$G:$G,ежемесячный!$C:$C,$A28,ежемесячный!$D:$D,$A$1,ежемесячный!$E:$E,N$2)","v":0},{"$f":"SUMIFS(ежемесячный!$F:$F,ежемесячный!$C:$C,$A28,ежемесячный!$D:$D,$A$1,ежемесячный!$E:$E,P$2)","v":0},{"$f":"SUMIFS(ежемесячный!$G:$G,ежемесячный!$C:$C,$A28,ежемесячный!$D:$D,$A$1,ежемесячный!$E:$E,P$2)","v":0},{"$f":"SUMIFS(ежемесячный!$F:$F,ежемесячный!$C:$C,$A28,ежемесячный!$D:$D,$A$1,ежемесячный!$E:$E,R$2)","v":0},{"$f":"SUMIFS(ежемесячный!$G:$G,ежемесячный!$C:$C,$A28,ежемесячный!$D:$D,$A$1,ежемесячный!$E:$E,R$2)","v":0},{"$f":"SUMIFS(ежемесячный!$F:$F,ежемесячный!$C:$C,$A28,ежемесячный!$D:$D,$A$1,ежемесячный!$E:$E,T$2)","v":0},{"$f":"SUMIFS(ежемесячный!$G:$G,ежемесячный!$C:$C,$A28,ежемесячный!$D:$D,$A$1,ежемесячный!$E:$E,T$2)","v":0},0]
["2014-03-25",{"$f":"SUMIFS(ежемесячный!$F:$F,ежемесячный!$C:$C,$A29,ежемесячный!$D:$D,$A$1,ежемесячный!$E:$E,B$2)","v":0},{"$f":"SUMIFS(ежемесячный!$G:$G,ежемесячный!$C:$C,$A29,ежемесячный!$D:$D,$A$1,ежемесячный!$E:$E,B$2)","v":0},{"$f":"SUMIFS(ежемесячный!$F:$F,ежемесячный!$C:$C,$A29,ежемесячный!$D:$D,$A$1,ежемесячный!$E:$E,D$2)","v":0},{"$f":"SUMIFS(ежемесячный!$G:$G,ежемесячный!$C:$C,$A29,ежемесячный!$D:$D,$A$1,ежемесячный!$E:$E,D$2)","v":0},{"$f":"SUMIFS(ежемесячный!$F:$F,ежемесячный!$C:$C,$A29,ежемесячный!$D:$D,$A$1,ежемесячный!$E:$E,F$2)","v":0},{"$f":"SUMIFS(ежемесячный!$G:$G,ежемесячный!$C:$C,$A29,ежемесячный!$D:$D,$A$1,ежемесячный!$E:$E,F$2)","v":0},{"$f":"SUMIFS(ежемесячный!$F:$F,ежемесячный!$C:$C,$A29,ежемесячный!$D:$D,$A$1,ежемесячный!$E:$E,H$2)","v":0},{"$f":"SUMIFS(ежемесячный!$G:$G,ежемесячный!$C:$C,$A29,ежемесячный!$D:$D,$A$1,ежемесячный!$E:$E,H$2)","v":0},{"$f":"SUMIFS(ежемесячный!$F:$F,ежемесячный!$C:$C,$A29,ежемесячный!$D:$D,$A$1,ежемесячный!$E:$E,J$2)","v":0},{"$f":"SUMIFS(ежемесячный!$G:$G,ежемесячный!$C:$C,$A29,ежемесячный!$D:$D,$A$1,ежемесячный!$E:$E,J$2)","v":0},{"$f":"SUMIFS(ежемесячный!$F:$F,ежемесячный!$C:$C,$A29,ежемесячный!$D:$D,$A$1,ежемесячный!$E:$E,L$2)","v":0},{"$f":"SUMIFS(ежемесячный!$G:$G,ежемесячный!$C:$C,$A29,ежемесячный!$D:$D,$A$1,ежемесячный!$E:$E,L$2)","v":0},{"$f":"SUMIFS(ежемесячный!$F:$F,ежемесячный!$C:$C,$A29,ежемесячный!$D:$D,$A$1,ежемесячный!$E:$E,N$2)","v":0},{"$f":"SUMIFS(ежемесячный!$G:$G,ежемесячный!$C:$C,$A29,ежемесячный!$D:$D,$A$1,ежемесячный!$E:$E,N$2)","v":0},{"$f":"SUMIFS(ежемесячный!$F:$F,ежемесячный!$C:$C,$A29,ежемесячный!$D:$D,$A$1,ежемесячный!$E:$E,P$2)","v":0},{"$f":"SUMIFS(ежемесячный!$G:$G,ежемесячный!$C:$C,$A29,ежемесячный!$D:$D,$A$1,ежемесячный!$E:$E,P$2)","v":0},{"$f":"SUMIFS(ежемесячный!$F:$F,ежемесячный!$C:$C,$A29,ежемесячный!$D:$D,$A$1,ежемесячный!$E:$E,R$2)","v":0},{"$f":"SUMIFS(ежемесячный!$G:$G,ежемесячный!$C:$C,$A29,ежемесячный!$D:$D,$A$1,ежемесячный!$E:$E,R$2)","v":0},{"$f":"SUMIFS(ежемесячный!$F:$F,ежемесячный!$C:$C,$A29,ежемесячный!$D:$D,$A$1,ежемесячный!$E:$E,T$2)","v":0},{"$f":"SUMIFS(ежемесячный!$G:$G,ежемесячный!$C:$C,$A29,ежемесячный!$D:$D,$A$1,ежемесячный!$E:$E,T$2)","v":0},0]
["2014-03-26",{"$f":"SUMIFS(ежемесячный!$F:$F,ежемесячный!$C:$C,$A30,ежемесячный!$D:$D,$A$1,ежемесячный!$E:$E,B$2)","v":0},{"$f":"SUMIFS(ежемесячный!$G:$G,ежемесячный!$C:$C,$A30,ежемесячный!$D:$D,$A$1,ежемесячный!$E:$E,B$2)","v":0},{"$f":"SUMIFS(ежемесячный!$F:$F,ежемесячный!$C:$C,$A30,ежемесячный!$D:$D,$A$1,ежемесячный!$E:$E,D$2)","v":0},{"$f":"SUMIFS(ежемесячный!$G:$G,ежемесячный!$C:$C,$A30,ежемесячный!$D:$D,$A$1,ежемесячный!$E:$E,D$2)","v":0},{"$f":"SUMIFS(ежемесячный!$F:$F,ежемесячный!$C:$C,$A30,ежемесячный!$D:$D,$A$1,ежемесячный!$E:$E,F$2)","v":0},{"$f":"SUMIFS(ежемесячный!$G:$G,ежемесячный!$C:$C,$A30,ежемесячный!$D:$D,$A$1,ежемесячный!$E:$E,F$2)","v":0},{"$f":"SUMIFS(ежемесячный!$F:$F,ежемесячный!$C:$C,$A30,ежемесячный!$D:$D,$A$1,ежемесячный!$E:$E,H$2)","v":0},{"$f":"SUMIFS(ежемесячный!$G:$G,ежемесячный!$C:$C,$A30,ежемесячный!$D:$D,$A$1,ежемесячный!$E:$E,H$2)","v":0},{"$f":"SUMIFS(ежемесячный!$F:$F,ежемесячный!$C:$C,$A30,ежемесячный!$D:$D,$A$1,ежемесячный!$E:$E,J$2)","v":0},{"$f":"SUMIFS(ежемесячный!$G:$G,ежемесячный!$C:$C,$A30,ежемесячный!$D:$D,$A$1,ежемесячный!$E:$E,J$2)","v":0},{"$f":"SUMIFS(ежемесячный!$F:$F,ежемесячный!$C:$C,$A30,ежемесячный!$D:$D,$A$1,ежемесячный!$E:$E,L$2)","v":0},{"$f":"SUMIFS(ежемесячный!$G:$G,ежемесячный!$C:$C,$A30,ежемесячный!$D:$D,$A$1,ежемесячный!$E:$E,L$2)","v":0},{"$f":"SUMIFS(ежемесячный!$F:$F,ежемесячный!$C:$C,$A30,ежемесячный!$D:$D,$A$1,ежемесячный!$E:$E,N$2)","v":0},{"$f":"SUMIFS(ежемесячный!$G:$G,ежемесячный!$C:$C,$A30,ежемесячный!$D:$D,$A$1,ежемесячный!$E:$E,N$2)","v":0},{"$f":"SUMIFS(ежемесячный!$F:$F,ежемесячный!$C:$C,$A30,ежемесячный!$D:$D,$A$1,ежемесячный!$E:$E,P$2)","v":0},{"$f":"SUMIFS(ежемесячный!$G:$G,ежемесячный!$C:$C,$A30,ежемесячный!$D:$D,$A$1,ежемесячный!$E:$E,P$2)","v":0},{"$f":"SUMIFS(ежемесячный!$F:$F,ежемесячный!$C:$C,$A30,ежемесячный!$D:$D,$A$1,ежемесячный!$E:$E,R$2)","v":0},{"$f":"SUMIFS(ежемесячный!$G:$G,ежемесячный!$C:$C,$A30,ежемесячный!$D:$D,$A$1,ежемесячный!$E:$E,R$2)","v":0},{"$f":"SUMIFS(ежемесячный!$F:$F,ежемесячный!$C:$C,$A30,ежемесячный!$D:$D,$A$1,ежемесячный!$E:$E,T$2)","v":0},{"$f":"SUMIFS(ежемесячный!$G:$G,ежемесячный!$C:$C,$A30,ежемесячный!$D:$D,$A$1,ежемесячный!$E:$E,T$2)","v":0},0]
["2014-03-27",{"$f":"SUMIFS(ежемесячный!$F:$F,ежемесячный!$C:$C,$A31,ежемесячный!$D:$D,$A$1,ежемесячный!$E:$E,B$2)","v":0},{"$f":"SUMIFS(ежемесячный!$G:$G,ежемесячный!$C:$C,$A31,ежемесячный!$D:$D,$A$1,ежемесячный!$E:$E,B$2)","v":0},{"$f":"SUMIFS(ежемесячный!$F:$F,ежемесячный!$C:$C,$A31,ежемесячный!$D:$D,$A$1,ежемесячный!$E:$E,D$2)","v":0},{"$f":"SUMIFS(ежемесячный!$G:$G,ежемесячный!$C:$C,$A31,ежемесячный!$D:$D,$A$1,ежемесячный!$E:$E,D$2)","v":0},{"$f":"SUMIFS(ежемесячный!$F:$F,ежемесячный!$C:$C,$A31,ежемесячный!$D:$D,$A$1,ежемесячный!$E:$E,F$2)","v":0},{"$f":"SUMIFS(ежемесячный!$G:$G,ежемесячный!$C:$C,$A31,ежемесячный!$D:$D,$A$1,ежемесячный!$E:$E,F$2)","v":0},{"$f":"SUMIFS(ежемесячный!$F:$F,ежемесячный!$C:$C,$A31,ежемесячный!$D:$D,$A$1,ежемесячный!$E:$E,H$2)","v":0},{"$f":"SUMIFS(ежемесячный!$G:$G,ежемесячный!$C:$C,$A31,ежемесячный!$D:$D,$A$1,ежемесячный!$E:$E,H$2)","v":0},{"$f":"SUMIFS(ежемесячный!$F:$F,ежемесячный!$C:$C,$A31,ежемесячный!$D:$D,$A$1,ежемесячный!$E:$E,J$2)","v":0},{"$f":"SUMIFS(ежемесячный!$G:$G,ежемесячный!$C:$C,$A31,ежемесячный!$D:$D,$A$1,ежемесячный!$E:$E,J$2)","v":0},{"$f":"SUMIFS(ежемесячный!$F:$F,ежемесячный!$C:$C,$A31,ежемесячный!$D:$D,$A$1,ежемесячный!$E:$E,L$2)","v":0},{"$f":"SUMIFS(ежемесячный!$G:$G,ежемесячный!$C:$C,$A31,ежемесячный!$D:$D,$A$1,ежемесячный!$E:$E,L$2)","v":0},{"$f":"SUMIFS(ежемесячный!$F:$F,ежемесячный!$C:$C,$A31,ежемесячный!$D:$D,$A$1,ежемесячный!$E:$E,N$2)","v":0},{"$f":"SUMIFS(ежемесячный!$G:$G,ежемесячный!$C:$C,$A31,ежемесячный!$D:$D,$A$1,ежемесячный!$E:$E,N$2)","v":0},{"$f":"SUMIFS(ежемесячный!$F:$F,ежемесячный!$C:$C,$A31,ежемесячный!$D:$D,$A$1,ежемесячный!$E:$E,P$2)","v":0},{"$f":"SUMIFS(ежемесячный!$G:$G,ежемесячный!$C:$C,$A31,ежемесячный!$D:$D,$A$1,ежемесячный!$E:$E,P$2)","v":0},{"$f":"SUMIFS(ежемесячный!$F:$F,ежемесячный!$C:$C,$A31,ежемесячный!$D:$D,$A$1,ежемесячный!$E:$E,R$2)","v":0},{"$f":"SUMIFS(ежемесячный!$G:$G,ежемесячный!$C:$C,$A31,ежемесячный!$D:$D,$A$1,ежемесячный!$E:$E,R$2)","v":0},{"$f":"SUMIFS(ежемесячный!$F:$F,ежемесячный!$C:$C,$A31,ежемесячный!$D:$D,$A$1,ежемесячный!$E:$E,T$2)","v":0},{"$f":"SUMIFS(ежемесячный!$G:$G,ежемесячный!$C:$C,$A31,ежемесячный!$D:$D,$A$1,ежемесячный!$E:$E,T$2)","v":0},0]
["2014-03-28",{"$f":"SUMIFS(ежемесячный!$F:$F,ежемесячный!$C:$C,$A32,ежемесячный!$D:$D,$A$1,ежемесячный!$E:$E,B$2)","v":0},{"$f":"SUMIFS(ежемесячный!$G:$G,ежемесячный!$C:$C,$A32,ежемесячный!$D:$D,$A$1,ежемесячный!$E:$E,B$2)","v":0},{"$f":"SUMIFS(ежемесячный!$F:$F,ежемесячный!$C:$C,$A32,ежемесячный!$D:$D,$A$1,ежемесячный!$E:$E,D$2)","v":0},{"$f":"SUMIFS(ежемесячный!$G:$G,ежемесячный!$C:$C,$A32,ежемесячный!$D:$D,$A$1,ежемесячный!$E:$E,D$2)","v":0},{"$f":"SUMIFS(ежемесячный!$F:$F,ежемесячный!$C:$C,$A32,ежемесячный!$D:$D,$A$1,ежемесячный!$E:$E,F$2)","v":0},{"$f":"SUMIFS(ежемесячный!$G:$G,ежемесячный!$C:$C,$A32,ежемесячный!$D:$D,$A$1,ежемесячный!$E:$E,F$2)","v":0},{"$f":"SUMIFS(ежемесячный!$F:$F,ежемесячный!$C:$C,$A32,ежемесячный!$D:$D,$A$1,ежемесячный!$E:$E,H$2)","v":0},{"$f":"SUMIFS(ежемесячный!$G:$G,ежемесячный!$C:$C,$A32,ежемесячный!$D:$D,$A$1,ежемесячный!$E:$E,H$2)","v":0},{"$f":"SUMIFS(ежемесячный!$F:$F,ежемесячный!$C:$C,$A32,ежемесячный!$D:$D,$A$1,ежемесячный!$E:$E,J$2)","v":0},{"$f":"SUMIFS(ежемесячный!$G:$G,ежемесячный!$C:$C,$A32,ежемесячный!$D:$D,$A$1,ежемесячный!$E:$E,J$2)","v":0},{"$f":"SUMIFS(ежемесячный!$F:$F,ежемесячный!$C:$C,$A32,ежемесячный!$D:$D,$A$1,ежемесячный!$E:$E,L$2)","v":0},{"$f":"SUMIFS(ежемесячный!$G:$G,ежемесячный!$C:$C,$A32,ежемесячный!$D:$D,$A$1,ежемесячный!$E:$E,L$2)","v":0},{"$f":"SUMIFS(ежемесячный!$F:$F,ежемесячный!$C:$C,$A32,ежемесячный!$D:$D,$A$1,ежемесячный!$E:$E,N$2)","v":0},{"$f":"SUMIFS(ежемесячный!$G:$G,ежемесячный!$C:$C,$A32,ежемесячный!$D:$D,$A$1,ежемесячный!$E:$E,N$2)","v":0},{"$f":"SUMIFS(ежемесячный!$F:$F,ежемесячный!$C:$C,$A32,ежемесячный!$D:$D,$A$1,ежемесячный!$E:$E,P$2)","v":0},{"$f":"SUMIFS(ежемесячный!$G:$G,ежемесячный!$C:$C,$A32,ежемесячный!$D:$D,$A$1,ежемесячный!$E:$E,P$2)","v":0},{"$f":"SUMIFS(ежемесячный!$F:$F,ежемесячный!$C:$C,$A32,ежемесячный!$D:$D,$A$1,ежемесячный!$E:$E,R$2)","v":0},{"$f":"SUMIFS(ежемесячный!$G:$G,ежемесячный!$C:$C,$A32,ежемесячный!$D:$D,$A$1,ежемесячный!$E:$E,R$2)","v":0},{"$f":"SUMIFS(ежемесячный!$F:$F,ежемесячный!$C:$C,$A32,ежемесячный!$D:$D,$A$1,ежемесячный!$E:$E,T$2)","v":0},{"$f":"SUMIFS(ежемесячный!$G:$G,ежемесячный!$C:$C,$A32,ежемесячный!$D:$D,$A$1,ежемесячный!$E:$E,T$2)","v":0},0]
["2014-03-29",{"$f":"SUMIFS(ежемесячный!$F:$F,ежемесячный!$C:$C,$A33,ежемесячный!$D:$D,$A$1,ежемесячный!$E:$E,B$2)","v":0},{"$f":"SUMIFS(ежемесячный!$G:$G,ежемесячный!$C:$C,$A33,ежемесячный!$D:$D,$A$1,ежемесячный!$E:$E,B$2)","v":0},{"$f":"SUMIFS(ежемесячный!$F:$F,ежемесячный!$C:$C,$A33,ежемесячный!$D:$D,$A$1,ежемесячный!$E:$E,D$2)","v":0},{"$f":"SUMIFS(ежемесячный!$G:$G,ежемесячный!$C:$C,$A33,ежемесячный!$D:$D,$A$1,ежемесячный!$E:$E,D$2)","v":0},{"$f":"SUMIFS(ежемесячный!$F:$F,ежемесячный!$C:$C,$A33,ежемесячный!$D:$D,$A$1,ежемесячный!$E:$E,F$2)","v":0},{"$f":"SUMIFS(ежемесячный!$G:$G,ежемесячный!$C:$C,$A33,ежемесячный!$D:$D,$A$1,ежемесячный!$E:$E,F$2)","v":0},{"$f":"SUMIFS(ежемесячный!$F:$F,ежемесячный!$C:$C,$A33,ежемесячный!$D:$D,$A$1,ежемесячный!$E:$E,H$2)","v":0},{"$f":"SUMIFS(ежемесячный!$G:$G,ежемесячный!$C:$C,$A33,ежемесячный!$D:$D,$A$1,ежемесячный!$E:$E,H$2)","v":0},{"$f":"SUMIFS(ежемесячный!$F:$F,ежемесячный!$C:$C,$A33,ежемесячный!$D:$D,$A$1,ежемесячный!$E:$E,J$2)","v":0},{"$f":"SUMIFS(ежемесячный!$G:$G,ежемесячный!$C:$C,$A33,ежемесячный!$D:$D,$A$1,ежемесячный!$E:$E,J$2)","v":0},{"$f":"SUMIFS(ежемесячный!$F:$F,ежемесячный!$C:$C,$A33,ежемесячный!$D:$D,$A$1,ежемесячный!$E:$E,L$2)","v":0},{"$f":"SUMIFS(ежемесячный!$G:$G,ежемесячный!$C:$C,$A33,ежемесячный!$D:$D,$A$1,ежемесячный!$E:$E,L$2)","v":0},{"$f":"SUMIFS(ежемесячный!$F:$F,ежемесячный!$C:$C,$A33,ежемесячный!$D:$D,$A$1,ежемесячный!$E:$E,N$2)","v":0},{"$f":"SUMIFS(ежемесячный!$G:$G,ежемесячный!$C:$C,$A33,ежемесячный!$D:$D,$A$1,ежемесячный!$E:$E,N$2)","v":0},{"$f":"SUMIFS(ежемесячный!$F:$F,ежемесячный!$C:$C,$A33,ежемесячный!$D:$D,$A$1,ежемесячный!$E:$E,P$2)","v":0},{"$f":"SUMIFS(ежемесячный!$G:$G,ежемесячный!$C:$C,$A33,ежемесячный!$D:$D,$A$1,ежемесячный!$E:$E,P$2)","v":0},{"$f":"SUMIFS(ежемесячный!$F:$F,ежемесячный!$C:$C,$A33,ежемесячный!$D:$D,$A$1,ежемесячный!$E:$E,R$2)","v":0},{"$f":"SUMIFS(ежемесячный!$G:$G,ежемесячный!$C:$C,$A33,ежемесячный!$D:$D,$A$1,ежемесячный!$E:$E,R$2)","v":0},{"$f":"SUMIFS(ежемесячный!$F:$F,ежемесячный!$C:$C,$A33,ежемесячный!$D:$D,$A$1,ежемесячный!$E:$E,T$2)","v":0},{"$f":"SUMIFS(ежемесячный!$G:$G,ежемесячный!$C:$C,$A33,ежемесячный!$D:$D,$A$1,ежемесячный!$E:$E,T$2)","v":0},0]
["2014-03-30",{"$f":"SUMIFS(ежемесячный!$F:$F,ежемесячный!$C:$C,$A34,ежемесячный!$D:$D,$A$1,ежемесячный!$E:$E,B$2)","v":0},{"$f":"SUMIFS(ежемесячный!$G:$G,ежемесячный!$C:$C,$A34,ежемесячный!$D:$D,$A$1,ежемесячный!$E:$E,B$2)","v":0},{"$f":"SUMIFS(ежемесячный!$F:$F,ежемесячный!$C:$C,$A34,ежемесячный!$D:$D,$A$1,ежемесячный!$E:$E,D$2)","v":0},{"$f":"SUMIFS(ежемесячный!$G:$G,ежемесячный!$C:$C,$A34,ежемесячный!$D:$D,$A$1,ежемесячный!$E:$E,D$2)","v":0},{"$f":"SUMIFS(ежемесячный!$F:$F,ежемесячный!$C:$C,$A34,ежемесячный!$D:$D,$A$1,ежемесячный!$E:$E,F$2)","v":0},{"$f":"SUMIFS(ежемесячный!$G:$G,ежемесячный!$C:$C,$A34,ежемесячный!$D:$D,$A$1,ежемесячный!$E:$E,F$2)","v":0},{"$f":"SUMIFS(ежемесячный!$F:$F,ежемесячный!$C:$C,$A34,ежемесячный!$D:$D,$A$1,ежемесячный!$E:$E,H$2)","v":0},{"$f":"SUMIFS(ежемесячный!$G:$G,ежемесячный!$C:$C,$A34,ежемесячный!$D:$D,$A$1,ежемесячный!$E:$E,H$2)","v":0},{"$f":"SUMIFS(ежемесячный!$F:$F,ежемесячный!$C:$C,$A34,ежемесячный!$D:$D,$A$1,ежемесячный!$E:$E,J$2)","v":0},{"$f":"SUMIFS(ежемесячный!$G:$G,ежемесячный!$C:$C,$A34,ежемесячный!$D:$D,$A$1,ежемесячный!$E:$E,J$2)","v":0},{"$f":"SUMIFS(ежемесячный!$F:$F,ежемесячный!$C:$C,$A34,ежемесячный!$D:$D,$A$1,ежемесячный!$E:$E,L$2)","v":0},{"$f":"SUMIFS(ежемесячный!$G:$G,ежемесячный!$C:$C,$A34,ежемесячный!$D:$D,$A$1,ежемесячный!$E:$E,L$2)","v":0},{"$f":"SUMIFS(ежемесячный!$F:$F,ежемесячный!$C:$C,$A34,ежемесячный!$D:$D,$A$1,ежемесячный!$E:$E,N$2)","v":0},{"$f":"SUMIFS(ежемесячный!$G:$G,ежемесячный!$C:$C,$A34,ежемесячный!$D:$D,$A$1,ежемесячный!$E:$E,N$2)","v":0},{"$f":"SUMIFS(ежемесячный!$F:$F,ежемесячный!$C:$C,$A34,ежемесячный!$D:$D,$A$1,ежемесячный!$E:$E,P$2)","v":0},{"$f":"SUMIFS(ежемесячный!$G:$G,ежемесячный!$C:$C,$A34,ежемесячный!$D:$D,$A$1,ежемесячный!$E:$E,P$2)","v":0},{"$f":"SUMIFS(ежемесячный!$F:$F,ежемесячный!$C:$C,$A34,ежемесячный!$D:$D,$A$1,ежемесячный!$E:$E,R$2)","v":0},{"$f":"SUMIFS(ежемесячный!$G:$G,ежемесячный!$C:$C,$A34,ежемесячный!$D:$D,$A$1,ежемесячный!$E:$E,R$2)","v":0},{"$f":"SUMIFS(ежемесячный!$F:$F,ежемесячный!$C:$C,$A34,ежемесячный!$D:$D,$A$1,ежемесячный!$E:$E,T$2)","v":0},{"$f":"SUMIFS(ежемесячный!$G:$G,ежемесячный!$C:$C,$A34,ежемесячный!$D:$D,$A$1,ежемесячный!$E:$E,T$2)","v":0},0]
["2014-03-31",{"$f":"SUMIFS(ежемесячный!$F:$F,ежемесячный!$C:$C,$A35,ежемесячный!$D:$D,$A$1,ежемесячный!$E:$E,B$2)","v":0},{"$f":"SUMIFS(ежемесячный!$G:$G,ежемесячный!$C:$C,$A35,ежемесячный!$D:$D,$A$1,ежемесячный!$E:$E,B$2)","v":0},{"$f":"SUMIFS(ежемесячный!$F:$F,ежемесячный!$C:$C,$A35,ежемесячный!$D:$D,$A$1,ежемесячный!$E:$E,D$2)","v":0},{"$f":"SUMIFS(ежемесячный!$G:$G,ежемесячный!$C:$C,$A35,ежемесячный!$D:$D,$A$1,ежемесячный!$E:$E,D$2)","v":0},{"$f":"SUMIFS(ежемесячный!$F:$F,ежемесячный!$C:$C,$A35,ежемесячный!$D:$D,$A$1,ежемесячный!$E:$E,F$2)","v":0},{"$f":"SUMIFS(ежемесячный!$G:$G,ежемесячный!$C:$C,$A35,ежемесячный!$D:$D,$A$1,ежемесячный!$E:$E,F$2)","v":0},{"$f":"SUMIFS(ежемесячный!$F:$F,ежемесячный!$C:$C,$A35,ежемесячный!$D:$D,$A$1,ежемесячный!$E:$E,H$2)","v":0},{"$f":"SUMIFS(ежемесячный!$G:$G,ежемесячный!$C:$C,$A35,ежемесячный!$D:$D,$A$1,ежемесячный!$E:$E,H$2)","v":0},{"$f":"SUMIFS(ежемесячный!$F:$F,ежемесячный!$C:$C,$A35,ежемесячный!$D:$D,$A$1,ежемесячный!$E:$E,J$2)","v":0},{"$f":"SUMIFS(ежемесячный!$G:$G,ежемесячный!$C:$C,$A35,ежемесячный!$D:$D,$A$1,ежемесячный!$E:$E,J$2)","v":0},{"$f":"SUMIFS(ежемесячный!$F:$F,ежемесячный!$C:$C,$A35,ежемесячный!$D:$D,$A$1,ежемесячный!$E:$E,L$2)","v":0},{"$f":"SUMIFS(ежемесячный!$G:$G,ежемесячный!$C:$C,$A35,ежемесячный!$D:$D,$A$1,ежемесячный!$E:$E,L$2)","v":0},{"$f":"SUMIFS(ежемесячный!$F:$F,ежемесячный!$C:$C,$A35,ежемесячный!$D:$D,$A$1,ежемесячный!$E:$E,N$2)","v":0},{"$f":"SUMIFS(ежемесячный!$G:$G,ежемесячный!$C:$C,$A35,ежемесячный!$D:$D,$A$1,ежемесячный!$E:$E,N$2)","v":0},{"$f":"SUMIFS(ежемесячный!$F:$F,ежемесячный!$C:$C,$A35,ежемесячный!$D:$D,$A$1,ежемесячный!$E:$E,P$2)","v":0},{"$f":"SUMIFS(ежемесячный!$G:$G,ежемесячный!$C:$C,$A35,ежемесячный!$D:$D,$A$1,ежемесячный!$E:$E,P$2)","v":0},{"$f":"SUMIFS(ежемесячный!$F:$F,ежемесячный!$C:$C,$A35,ежемесячный!$D:$D,$A$1,ежемесячный!$E:$E,R$2)","v":0},{"$f":"SUMIFS(ежемесячный!$G:$G,ежемесячный!$C:$C,$A35,ежемесячный!$D:$D,$A$1,ежемесячный!$E:$E,R$2)","v":0},{"$f":"SUMIFS(ежемесячный!$F:$F,ежемесячный!$C:$C,$A35,ежемесячный!$D:$D,$A$1,ежемесячный!$E:$E,T$2)","v":0},{"$f":"SUMIFS(ежемесячный!$G:$G,ежемесячный!$C:$C,$A35,ежемесячный!$D:$D,$A$1,ежемесячный!$E:$E,T$2)","v":0},0]
[null,{"$f":"SUM(B5:B35)","v":1},{"$f":"SUM(C5:C35)","v":12300},{"$f":"SUM(D5:D35)","v":94},197400,0,0,0,0,0,0,0,0,null,0,null,0,null,0,0,0,209700]
[]
[null,"кол-во прин.ПО",null,{"$f":"B36+D36+F36+H36+J36+L36+T36","v":95}]
[null,"сумма доходов",null,{"$f":"V36","v":209700}]

{"sheet":"Авком Трейд","index":6,"n_rows":39,"n_cols":22,"rows_kept":39,"cut":false,"hidden":false,"merged":[[1,11,1,12],[1,19,1,20],[1,21,3,21],[37,1,37,2],[37,3,37,4],[1,5,1,6],[1,7,1,8],[1,9,1,10],[2,5,2,6],[2,7,2,8],[2,9,2,10],[2,11,2,12],[1,13,1,14],[1,15,1,16],[1,17,1,18],[2,13,2,14],[1,0,3,0],[1,1,1,2],[1,3,1,4],[2,1,2,2],[2,3,2,4],[2,15,2,16],[2,17,2,18],[2,19,2,20],[38,1,38,2],[38,3,38,4]]}
[{"$f":"MID(CELL(\"имяфайла\",B2),SEARCH(\"]\",CELL(\"имяфайла\",B2),1)+1,99)","v":"Авком Трейд"}]
["Число месяца","заказные отправления",null,"простые отправления",null,"посылки",null,"мелкие пакеты, ценные письма",null,"EMS внутренние",null,"EMS международные",null,"доп.услуги",null,"товары почты",null,"маркиров. прод.",null,"переводы",null,"Итого доходы"]
[null,"(116, 161)",null,"(117, 165)",null," (151, 156)",null,"(121)",null,"  (181 ,182)",null,"  (321, 322)",null,"(241, 311)",null,"(641)",null,"(111)",null,"(138,139,144,145,146,149)"]
[null,"кол-во","доходы","кол-во","доходы","кол-во","доходы","кол-во","доходы","кол-во","доходы","кол-во","доходы","кол-во","доходы","кол-во","доходы","кол-во","доходы","кол-во","доходы"]
["2014-03-01",{"$f":"SUMIFS(ежемесячный!$F:$F,ежемесячный!$C:$C,$A5,ежемесячный!$D:$D,$A$1,ежемесячный!$E:$E,B$2)","v":0},{"$f":"SUMIFS(ежемесячный!$G:$G,ежемесячный!$C:$C,$A5,ежемесячный!$D:$D,$A$1,ежемесячный!$E:$E,B$2)","v":0},{"$f":"SUMIFS(ежемесячный!$F:$F,ежемесячный!$C:$C,$A5,ежемесячный!$D:$D,$A$1,ежемесячный!$E:$E,D$2)","v":0},{"$f":"SUMIFS(ежемесячный!$G:$G,ежемесячный!$C:$C,$A5,ежемесячный!$D:$D,$A$1,ежемесячный!$E:$E,D$2)","v":0},{"$f":"SUMIFS(ежемесячный!$F:$F,ежемесячный!$C:$C,$A5,ежемесячный!$D:$D,$A$1,ежемесячный!$E:$E,F$2)","v":0},{"$f":"SUMIFS(ежемесячный!$G:$G,ежемесячный!$C:$C,$A5,ежемесячный!$D:$D,$A$1,ежемесячный!$E:$E,F$2)","v":0},{"$f":"SUMIFS(ежемесячный!$F:$F,ежемесячный!$C:$C,$A5,ежемесячный!$D:$D,$A$1,ежемесячный!$E:$E,H$2)","v":0},{"$f":"SUMIFS(ежемесячный!$G:$G,ежемесячный!$C:$C,$A5,ежемесячный!$D:$D,$A$1,ежемесячный!$E:$E,H$2)","v":0},{"$f":"SUMIFS(ежемесячный!$F:$F,ежемесячный!$C:$C,$A5,ежемесячный!$D:$D,$A$1,ежемесячный!$E:$E,J$2)","v":0},{"$f":"SUMIFS(ежемесячный!$G:$G,ежемесячный!$C:$C,$A5,ежемесячный!$D:$D,$A$1,ежемесячный!$E:$E,J$2)","v":0},{"$f":"SUMIFS(ежемесячный!$F:$F,ежемесячный!$C:$C,$A5,ежемесячный!$D:$D,$A$1,ежемесячный!$E:$E,L$2)","v":0},{"$f":"SUMIFS(ежемесячный!$G:$G,ежемесячный!$C:$C,$A5,ежемесячный!$D:$D,$A$1,ежемесячный!$E:$E,L$2)","v":0},{"$f":"SUMIFS(ежемесячный!$F:$F,ежемесячный!$C:$C,$A5,ежемесячный!$D:$D,$A$1,ежемесячный!$E:$E,N$2)","v":0},{"$f":"SUMIFS(ежемесячный!$G:$G,ежемесячный!$C:$C,$A5,ежемесячный!$D:$D,$A$1,ежемесячный!$E:$E,N$2)","v":0},{"$f":"SUMIFS(ежемесячный!$F:$F,ежемесячный!$C:$C,$A5,ежемесячный!$D:$D,$A$1,ежемесячный!$E:$E,P$2)","v":0},{"$f":"SUMIFS(ежемесячный!$G:$G,ежемесячный!$C:$C,$A5,ежемесячный!$D:$D,$A$1,ежемесячный!$E:$E,P$2)","v":0},{"$f":"SUMIFS(ежемесячный!$F:$F,ежемесячный!$C:$C,$A5,ежемесячный!$D:$D,$A$1,ежемесячный!$E:$E,R$2)","v":0},{"$f":"SUMIFS(ежемесячный!$G:$G,ежемесячный!$C:$C,$A5,ежемесячный!$D:$D,$A$1,ежемесячный!$E:$E,R$2)","v":0},{"$f":"SUMIFS(ежемесячный!$F:$F,ежемесячный!$C:$C,$A5,ежемесячный!$D:$D,$A$1,ежемесячный!$E:$E,T$2)","v":0},{"$f":"SUMIFS(ежемесячный!$G:$G,ежемесячный!$C:$C,$A5,ежемесячный!$D:$D,$A$1,ежемесячный!$E:$E,T$2)","v":0},{"$f":"U5+S5+Q5+O5+M5+K5+I5+G5+E5+C5","v":0}]
["2014-03-02",{"$f":"SUMIFS(ежемесячный!$F:$F,ежемесячный!$C:$C,$A6,ежемесячный!$D:$D,$A$1,ежемесячный!$E:$E,B$2)","v":0},{"$f":"SUMIFS(ежемесячный!$G:$G,ежемесячный!$C:$C,$A6,ежемесячный!$D:$D,$A$1,ежемесячный!$E:$E,B$2)","v":0},{"$f":"SUMIFS(ежемесячный!$F:$F,ежемесячный!$C:$C,$A6,ежемесячный!$D:$D,$A$1,ежемесячный!$E:$E,D$2)","v":0},{"$f":"SUMIFS(ежемесячный!$G:$G,ежемесячный!$C:$C,$A6,ежемесячный!$D:$D,$A$1,ежемесячный!$E:$E,D$2)","v":0},{"$f":"SUMIFS(ежемесячный!$F:$F,ежемесячный!$C:$C,$A6,ежемесячный!$D:$D,$A$1,ежемесячный!$E:$E,F$2)","v":0},{"$f":"SUMIFS(ежемесячный!$G:$G,ежемесячный!$C:$C,$A6,ежемесячный!$D:$D,$A$1,ежемесячный!$E:$E,F$2)","v":0},{"$f":"SUMIFS(ежемесячный!$F:$F,ежемесячный!$C:$C,$A6,ежемесячный!$D:$D,$A$1,ежемесячный!$E:$E,H$2)","v":0},{"$f":"SUMIFS(ежемесячный!$G:$G,ежемесячный!$C:$C,$A6,ежемесячный!$D:$D,$A$1,ежемесячный!$E:$E,H$2)","v":0},{"$f":"SUMIFS(ежемесячный!$F:$F,ежемесячный!$C:$C,$A6,ежемесячный!$D:$D,$A$1,ежемесячный!$E:$E,J$2)","v":0},{"$f":"SUMIFS(ежемесячный!$G:$G,ежемесячный!$C:$C,$A6,ежемесячный!$D:$D,$A$1,ежемесячный!$E:$E,J$2)","v":0},{"$f":"SUMIFS(ежемесячный!$F:$F,ежемесячный!$C:$C,$A6,ежемесячный!$D:$D,$A$1,ежемесячный!$E:$E,L$2)","v":0},{"$f":"SUMIFS(ежемесячный!$G:$G,ежемесячный!$C:$C,$A6,ежемесячный!$D:$D,$A$1,ежемесячный!$E:$E,L$2)","v":0},{"$f":"SUMIFS(ежемесячный!$F:$F,ежемесячный!$C:$C,$A6,ежемесячный!$D:$D,$A$1,ежемесячный!$E:$E,N$2)","v":0},{"$f":"SUMIFS(ежемесячный!$G:$G,ежемесячный!$C:$C,$A6,ежемесячный!$D:$D,$A$1,ежемесячный!$E:$E,N$2)","v":0},{"$f":"SUMIFS(ежемесячный!$F:$F,ежемесячный!$C:$C,$A6,ежемесячный!$D:$D,$A$1,ежемесячный!$E:$E,P$2)","v":0},{"$f":"SUMIFS(ежемесячный!$G:$G,ежемесячный!$C:$C,$A6,ежемесячный!$D:$D,$A$1,ежемесячный!$E:$E,P$2)","v":0},{"$f":"SUMIFS(ежемесячный!$F:$F,ежемесячный!$C:$C,$A6,ежемесячный!$D:$D,$A$1,ежемесячный!$E:$E,R$2)","v":0},{"$f":"SUMIFS(ежемесячный!$G:$G,ежемесячный!$C:$C,$A6,ежемесячный!$D:$D,$A$1,ежемесячный!$E:$E,R$2)","v":0},{"$f":"SUMIFS(ежемесячный!$F:$F,ежемесячный!$C:$C,$A6,ежемесячный!$D:$D,$A$1,ежемесячный!$E:$E,T$2)","v":0},{"$f":"SUMIFS(ежемесячный!$G:$G,ежемесячный!$C:$C,$A6,ежемесячный!$D:$D,$A$1,ежемесячный!$E:$E,T$2)","v":0},0]
["2014-03-03",{"$f":"SUMIFS(ежемесячный!$F:$F,ежемесячный!$C:$C,$A7,ежемесячный!$D:$D,$A$1,ежемесячный!$E:$E,B$2)","v":0},{"$f":"SUMIFS(ежемесячный!$G:$G,ежемесячный!$C:$C,$A7,ежемесячный!$D:$D,$A$1,ежемесячный!$E:$E,B$2)","v":0},{"$f":"SUMIFS(ежемесячный!$F:$F,ежемесячный!$C:$C,$A7,ежемесячный!$D:$D,$A$1,ежемесячный!$E:$E,D$2)","v":0},{"$f":"SUMIFS(ежемесячный!$G:$G,ежемесячный!$C:$C,$A7,ежемесячный!$D:$D,$A$1,ежемесячный!$E:$E,D$2)","v":0},{"$f":"SUMIFS(ежемесячный!$F:$F,ежемесячный!$C:$C,$A7,ежемесячный!$D:$D,$A$1,ежемесячный!$E:$E,F$2)","v":0},{"$f":"SUMIFS(ежемесячный!$G:$G,ежемесячный!$C:$C,$A7,ежемесячный!$D:$D,$A$1,ежемесячный!$E:$E,F$2)","v":0},{"$f":"SUMIFS(ежемесячный!$F:$F,ежемесячный!$C:$C,$A7,ежемесячный!$D:$D,$A$1,ежемесячный!$E:$E,H$2)","v":0},{"$f":"SUMIFS(ежемесячный!$G:$G,ежемесячный!$C:$C,$A7,ежемесячный!$D:$D,$A$1,ежемесячный!$E:$E,H$2)","v":0},{"$f":"SUMIFS(ежемесячный!$F:$F,ежемесячный!$C:$C,$A7,ежемесячный!$D:$D,$A$1,ежемесячный!$E:$E,J$2)","v":0},{"$f":"SUMIFS(ежемесячный!$G:$G,ежемесячный!$C:$C,$A7,ежемесячный!$D:$D,$A$1,ежемесячный!$E:$E,J$2)","v":0},{"$f":"SUMIFS(ежемесячный!$F:$F,ежемесячный!$C:$C,$A7,ежемесячный!$D:$D,$A$1,ежемесячный!$E:$E,L$2)","v":0},{"$f":"SUMIFS(ежемесячный!$G:$G,ежемесячный!$C:$C,$A7,ежемесячный!$D:$D,$A$1,ежемесячный!$E:$E,L$2)","v":0},{"$f":"SUMIFS(ежемесячный!$F:$F,ежемесячный!$C:$C,$A7,ежемесячный!$D:$D,$A$1,ежемесячный!$E:$E,N$2)","v":0},{"$f":"SUMIFS(ежемесячный!$G:$G,ежемесячный!$C:$C,$A7,ежемесячный!$D:$D,$A$1,ежемесячный!$E:$E,N$2)","v":0},{"$f":"SUMIFS(ежемесячный!$F:$F,ежемесячный!$C:$C,$A7,ежемесячный!$D:$D,$A$1,ежемесячный!$E:$E,P$2)","v":0},{"$f":"SUMIFS(ежемесячный!$G:$G,ежемесячный!$C:$C,$A7,ежемесячный!$D:$D,$A$1,ежемесячный!$E:$E,P$2)","v":0},{"$f":"SUMIFS(ежемесячный!$F:$F,ежемесячный!$C:$C,$A7,ежемесячный!$D:$D,$A$1,ежемесячный!$E:$E,R$2)","v":0},{"$f":"SUMIFS(ежемесячный!$G:$G,ежемесячный!$C:$C,$A7,ежемесячный!$D:$D,$A$1,ежемесячный!$E:$E,R$2)","v":0},{"$f":"SUMIFS(ежемесячный!$F:$F,ежемесячный!$C:$C,$A7,ежемесячный!$D:$D,$A$1,ежемесячный!$E:$E,T$2)","v":0},{"$f":"SUMIFS(ежемесячный!$G:$G,ежемесячный!$C:$C,$A7,ежемесячный!$D:$D,$A$1,ежемесячный!$E:$E,T$2)","v":0},0]
["2014-03-04",{"$f":"SUMIFS(ежемесячный!$F:$F,ежемесячный!$C:$C,$A8,ежемесячный!$D:$D,$A$1,ежемесячный!$E:$E,B$2)","v":0},{"$f":"SUMIFS(ежемесячный!$G:$G,ежемесячный!$C:$C,$A8,ежемесячный!$D:$D,$A$1,ежемесячный!$E:$E,B$2)","v":0},{"$f":"SUMIFS(ежемесячный!$F:$F,ежемесячный!$C:$C,$A8,ежемесячный!$D:$D,$A$1,ежемесячный!$E:$E,D$2)","v":0},{"$f":"SUMIFS(ежемесячный!$G:$G,ежемесячный!$C:$C,$A8,ежемесячный!$D:$D,$A$1,ежемесячный!$E:$E,D$2)","v":0},{"$f":"SUMIFS(ежемесячный!$F:$F,ежемесячный!$C:$C,$A8,ежемесячный!$D:$D,$A$1,ежемесячный!$E:$E,F$2)","v":0},{"$f":"SUMIFS(ежемесячный!$G:$G,ежемесячный!$C:$C,$A8,ежемесячный!$D:$D,$A$1,ежемесячный!$E:$E,F$2)","v":0},{"$f":"SUMIFS(ежемесячный!$F:$F,ежемесячный!$C:$C,$A8,ежемесячный!$D:$D,$A$1,ежемесячный!$E:$E,H$2)","v":0},{"$f":"SUMIFS(ежемесячный!$G:$G,ежемесячный!$C:$C,$A8,ежемесячный!$D:$D,$A$1,ежемесячный!$E:$E,H$2)","v":0},{"$f":"SUMIFS(ежемесячный!$F:$F,ежемесячный!$C:$C,$A8,ежемесячный!$D:$D,$A$1,ежемесячный!$E:$E,J$2)","v":0},{"$f":"SUMIFS(ежемесячный!$G:$G,ежемесячный!$C:$C,$A8,ежемесячный!$D:$D,$A$1,ежемесячный!$E:$E,J$2)","v":0},{"$f":"SUMIFS(ежемесячный!$F:$F,ежемесячный!$C:$C,$A8,ежемесячный!$D:$D,$A$1,ежемесячный!$E:$E,L$2)","v":0},{"$f":"SUMIFS(ежемесячный!$G:$G,ежемесячный!$C:$C,$A8,ежемесячный!$D:$D,$A$1,ежемесячный!$E:$E,L$2)","v":0},{"$f":"SUMIFS(ежемесячный!$F:$F,ежемесячный!$C:$C,$A8,ежемесячный!$D:$D,$A$1,ежемесячный!$E:$E,N$2)","v":0},{"$f":"SUMIFS(ежемесячный!$G:$G,ежемесячный!$C:$C,$A8,ежемесячный!$D:$D,$A$1,ежемесячный!$E:$E,N$2)","v":0},{"$f":"SUMIFS(ежемесячный!$F:$F,ежемесячный!$C:$C,$A8,ежемесячный!$D:$D,$A$1,ежемесячный!$E:$E,P$2)","v":0},{"$f":"SUMIFS(ежемесячный!$G:$G,ежемесячный!$C:$C,$A8,ежемесячный!$D:$D,$A$1,ежемесячный!$E:$E,P$2)","v":0},{"$f":"SUMIFS(ежемесячный!$F:$F,ежемесячный!$C:$C,$A8,ежемесячный!$D:$D,$A$1,ежемесячный!$E:$E,R$2)","v":0},{"$f":"SUMIFS(ежемесячный!$G:$G,ежемесячный!$C:$C,$A8,ежемесячный!$D:$D,$A$1,ежемесячный!$E:$E,R$2)","v":0},{"$f":"SUMIFS(ежемесячный!$F:$F,ежемесячный!$C:$C,$A8,ежемесячный!$D:$D,$A$1,ежемесячный!$E:$E,T$2)","v":0},{"$f":"SUMIFS(ежемесячный!$G:$G,ежемесячный!$C:$C,$A8,ежемесячный!$D:$D,$A$1,ежемесячный!$E:$E,T$2)","v":0},0]
["2014-03-05",{"$f":"SUMIFS(ежемесячный!$F:$F,ежемесячный!$C:$C,$A9,ежемесячный!$D:$D,$A$1,ежемесячный!$E:$E,B$2)","v":0},{"$f":"SUMIFS(ежемесячный!$G:$G,ежемесячный!$C:$C,$A9,ежемесячный!$D:$D,$A$1,ежемесячный!$E:$E,B$2)","v":0},{"$f":"SUMIFS(ежемесячный!$F:$F,ежемесячный!$C:$C,$A9,ежемесячный!$D:$D,$A$1,ежемесячный!$E:$E,D$2)","v":0},{"$f":"SUMIFS(ежемесячный!$G:$G,ежемесячный!$C:$C,$A9,ежемесячный!$D:$D,$A$1,ежемесячный!$E:$E,D$2)","v":0},{"$f":"SUMIFS(ежемесячный!$F:$F,ежемесячный!$C:$C,$A9,ежемесячный!$D:$D,$A$1,ежемесячный!$E:$E,F$2)","v":0},{"$f":"SUMIFS(ежемесячный!$G:$G,ежемесячный!$C:$C,$A9,ежемесячный!$D:$D,$A$1,ежемесячный!$E:$E,F$2)","v":0},{"$f":"SUMIFS(ежемесячный!$F:$F,ежемесячный!$C:$C,$A9,ежемесячный!$D:$D,$A$1,ежемесячный!$E:$E,H$2)","v":0},{"$f":"SUMIFS(ежемесячный!$G:$G,ежемесячный!$C:$C,$A9,ежемесячный!$D:$D,$A$1,ежемесячный!$E:$E,H$2)","v":0},{"$f":"SUMIFS(ежемесячный!$F:$F,ежемесячный!$C:$C,$A9,ежемесячный!$D:$D,$A$1,ежемесячный!$E:$E,J$2)","v":0},{"$f":"SUMIFS(ежемесячный!$G:$G,ежемесячный!$C:$C,$A9,ежемесячный!$D:$D,$A$1,ежемесячный!$E:$E,J$2)","v":0},{"$f":"SUMIFS(ежемесячный!$F:$F,ежемесячный!$C:$C,$A9,ежемесячный!$D:$D,$A$1,ежемесячный!$E:$E,L$2)","v":0},{"$f":"SUMIFS(ежемесячный!$G:$G,ежемесячный!$C:$C,$A9,ежемесячный!$D:$D,$A$1,ежемесячный!$E:$E,L$2)","v":0},{"$f":"SUMIFS(ежемесячный!$F:$F,ежемесячный!$C:$C,$A9,ежемесячный!$D:$D,$A$1,ежемесячный!$E:$E,N$2)","v":0},{"$f":"SUMIFS(ежемесячный!$G:$G,ежемесячный!$C:$C,$A9,ежемесячный!$D:$D,$A$1,ежемесячный!$E:$E,N$2)","v":0},{"$f":"SUMIFS(ежемесячный!$F:$F,ежемесячный!$C:$C,$A9,ежемесячный!$D:$D,$A$1,ежемесячный!$E:$E,P$2)","v":0},{"$f":"SUMIFS(ежемесячный!$G:$G,ежемесячный!$C:$C,$A9,ежемесячный!$D:$D,$A$1,ежемесячный!$E:$E,P$2)","v":0},{"$f":"SUMIFS(ежемесячный!$F:$F,ежемесячный!$C:$C,$A9,ежемесячный!$D:$D,$A$1,ежемесячный!$E:$E,R$2)","v":0},{"$f":"SUMIFS(ежемесячный!$G:$G,ежемесячный!$C:$C,$A9,ежемесячный!$D:$D,$A$1,ежемесячный!$E:$E,R$2)","v":0},{"$f":"SUMIFS(ежемесячный!$F:$F,ежемесячный!$C:$C,$A9,ежемесячный!$D:$D,$A$1,ежемесячный!$E:$E,T$2)","v":0},{"$f":"SUMIFS(ежемесячный!$G:$G,ежемесячный!$C:$C,$A9,ежемесячный!$D:$D,$A$1,ежемесячный!$E:$E,T$2)","v":0},0]
["2014-03-06",{"$f":"SUMIFS(ежемесячный!$F:$F,ежемесячный!$C:$C,$A10,ежемесячный!$D:$D,$A$1,ежемесячный!$E:$E,B$2)","v":0},{"$f":"SUMIFS(ежемесячный!$G:$G,ежемесячный!$C:$C,$A10,ежемесячный!$D:$D,$A$1,ежемесячный!$E:$E,B$2)","v":0},{"$f":"SUMIFS(ежемесячный!$F:$F,ежемесячный!$C:$C,$A10,ежемесячный!$D:$D,$A$1,ежемесячный!$E:$E,D$2)","v":0},{"$f":"SUMIFS(ежемесячный!$G:$G,ежемесячный!$C:$C,$A10,ежемесячный!$D:$D,$A$1,ежемесячный!$E:$E,D$2)","v":0},{"$f":"SUMIFS(ежемесячный!$F:$F,ежемесячный!$C:$C,$A10,ежемесячный!$D:$D,$A$1,ежемесячный!$E:$E,F$2)","v":0},{"$f":"SUMIFS(ежемесячный!$G:$G,ежемесячный!$C:$C,$A10,ежемесячный!$D:$D,$A$1,ежемесячный!$E:$E,F$2)","v":0},{"$f":"SUMIFS(ежемесячный!$F:$F,ежемесячный!$C:$C,$A10,ежемесячный!$D:$D,$A$1,ежемесячный!$E:$E,H$2)","v":0},{"$f":"SUMIFS(ежемесячный!$G:$G,ежемесячный!$C:$C,$A10,ежемесячный!$D:$D,$A$1,ежемесячный!$E:$E,H$2)","v":0},{"$f":"SUMIFS(ежемесячный!$F:$F,ежемесячный!$C:$C,$A10,ежемесячный!$D:$D,$A$1,ежемесячный!$E:$E,J$2)","v":0},{"$f":"SUMIFS(ежемесячный!$G:$G,ежемесячный!$C:$C,$A10,ежемесячный!$D:$D,$A$1,ежемесячный!$E:$E,J$2)","v":0},{"$f":"SUMIFS(ежемесячный!$F:$F,ежемесячный!$C:$C,$A10,ежемесячный!$D:$D,$A$1,ежемесячный!$E:$E,L$2)","v":0},{"$f":"SUMIFS(ежемесячный!$G:$G,ежемесячный!$C:$C,$A10,ежемесячный!$D:$D,$A$1,ежемесячный!$E:$E,L$2)","v":0},{"$f":"SUMIFS(ежемесячный!$F:$F,ежемесячный!$C:$C,$A10,ежемесячный!$D:$D,$A$1,ежемесячный!$E:$E,N$2)","v":0},{"$f":"SUMIFS(ежемесячный!$G:$G,ежемесячный!$C:$C,$A10,ежемесячный!$D:$D,$A$1,ежемесячный!$E:$E,N$2)","v":0},{"$f":"SUMIFS(ежемесячный!$F:$F,ежемесячный!$C:$C,$A10,ежемесячный!$D:$D,$A$1,ежемесячный!$E:$E,P$2)","v":0},{"$f":"SUMIFS(ежемесячный!$G:$G,ежемесячный!$C:$C,$A10,ежемесячный!$D:$D,$A$1,ежемесячный!$E:$E,P$2)","v":0},{"$f":"SUMIFS(ежемесячный!$F:$F,ежемесячный!$C:$C,$A10,ежемесячный!$D:$D,$A$1,ежемесячный!$E:$E,R$2)","v":0},{"$f":"SUMIFS(ежемесячный!$G:$G,ежемесячный!$C:$C,$A10,ежемесячный!$D:$D,$A$1,ежемесячный!$E:$E,R$2)","v":0},{"$f":"SUMIFS(ежемесячный!$F:$F,ежемесячный!$C:$C,$A10,ежемесячный!$D:$D,$A$1,ежемесячный!$E:$E,T$2)","v":0},{"$f":"SUMIFS(ежемесячный!$G:$G,ежемесячный!$C:$C,$A10,ежемесячный!$D:$D,$A$1,ежемесячный!$E:$E,T$2)","v":0},0]
["2014-03-07",{"$f":"SUMIFS(ежемесячный!$F:$F,ежемесячный!$C:$C,$A11,ежемесячный!$D:$D,$A$1,ежемесячный!$E:$E,B$2)","v":0},{"$f":"SUMIFS(ежемесячный!$G:$G,ежемесячный!$C:$C,$A11,ежемесячный!$D:$D,$A$1,ежемесячный!$E:$E,B$2)","v":0},{"$f":"SUMIFS(ежемесячный!$F:$F,ежемесячный!$C:$C,$A11,ежемесячный!$D:$D,$A$1,ежемесячный!$E:$E,D$2)","v":0},{"$f":"SUMIFS(ежемесячный!$G:$G,ежемесячный!$C:$C,$A11,ежемесячный!$D:$D,$A$1,ежемесячный!$E:$E,D$2)","v":0},{"$f":"SUMIFS(ежемесячный!$F:$F,ежемесячный!$C:$C,$A11,ежемесячный!$D:$D,$A$1,ежемесячный!$E:$E,F$2)","v":0},{"$f":"SUMIFS(ежемесячный!$G:$G,ежемесячный!$C:$C,$A11,ежемесячный!$D:$D,$A$1,ежемесячный!$E:$E,F$2)","v":0},{"$f":"SUMIFS(ежемесячный!$F:$F,ежемесячный!$C:$C,$A11,ежемесячный!$D:$D,$A$1,ежемесячный!$E:$E,H$2)","v":0},{"$f":"SUMIFS(ежемесячный!$G:$G,ежемесячный!$C:$C,$A11,ежемесячный!$D:$D,$A$1,ежемесячный!$E:$E,H$2)","v":0},{"$f":"SUMIFS(ежемесячный!$F:$F,ежемесячный!$C:$C,$A11,ежемесячный!$D:$D,$A$1,ежемесячный!$E:$E,J$2)","v":0},{"$f":"SUMIFS(ежемесячный!$G:$G,ежемесячный!$C:$C,$A11,ежемесячный!$D:$D,$A$1,ежемесячный!$E:$E,J$2)","v":0},{"$f":"SUMIFS(ежемесячный!$F:$F,ежемесячный!$C:$C,$A11,ежемесячный!$D:$D,$A$1,ежемесячный!$E:$E,L$2)","v":0},{"$f":"SUMIFS(ежемесячный!$G:$G,ежемесячный!$C:$C,$A11,ежемесячный!$D:$D,$A$1,ежемесячный!$E:$E,L$2)","v":0},{"$f":"SUMIFS(ежемесячный!$F:$F,ежемесячный!$C:$C,$A11,ежемесячный!$D:$D,$A$1,ежемесячный!$E:$E,N$2)","v":0},{"$f":"SUMIFS(ежемесячный!$G:$G,ежемесячный!$C:$C,$A11,ежемесячный!$D:$D,$A$1,ежемесячный!$E:$E,N$2)","v":0},{"$f":"SUMIFS(ежемесячный!$F:$F,ежемесячный!$C:$C,$A11,ежемесячный!$D:$D,$A$1,ежемесячный!$E:$E,P$2)","v":0},{"$f":"SUMIFS(ежемесячный!$G:$G,ежемесячный!$C:$C,$A11,ежемесячный!$D:$D,$A$1,ежемесячный!$E:$E,P$2)","v":0},{"$f":"SUMIFS(ежемесячный!$F:$F,ежемесячный!$C:$C,$A11,ежемесячный!$D:$D,$A$1,ежемесячный!$E:$E,R$2)","v":0},{"$f":"SUMIFS(ежемесячный!$G:$G,ежемесячный!$C:$C,$A11,ежемесячный!$D:$D,$A$1,ежемесячный!$E:$E,R$2)","v":0},{"$f":"SUMIFS(ежемесячный!$F:$F,ежемесячный!$C:$C,$A11,ежемесячный!$D:$D,$A$1,ежемесячный!$E:$E,T$2)","v":0},{"$f":"SUMIFS(ежемесячный!$G:$G,ежемесячный!$C:$C,$A11,ежемесячный!$D:$D,$A$1,ежемесячный!$E:$E,T$2)","v":0},0]
["2014-03-08",{"$f":"SUMIFS(ежемесячный!$F:$F,ежемесячный!$C:$C,$A12,ежемесячный!$D:$D,$A$1,ежемесячный!$E:$E,B$2)","v":0},{"$f":"SUMIFS(ежемесячный!$G:$G,ежемесячный!$C:$C,$A12,ежемесячный!$D:$D,$A$1,ежемесячный!$E:$E,B$2)","v":0},{"$f":"SUMIFS(ежемесячный!$F:$F,ежемесячный!$C:$C,$A12,ежемесячный!$D:$D,$A$1,ежемесячный!$E:$E,D$2)","v":0},{"$f":"SUMIFS(ежемесячный!$G:$G,ежемесячный!$C:$C,$A12,ежемесячный!$D:$D,$A$1,ежемесячный!$E:$E,D$2)","v":0},{"$f":"SUMIFS(ежемесячный!$F:$F,ежемесячный!$C:$C,$A12,ежемесячный!$D:$D,$A$1,ежемесячный!$E:$E,F$2)","v":0},{"$f":"SUMIFS(ежемесячный!$G:$G,ежемесячный!$C:$C,$A12,ежемесячный!$D:$D,$A$1,ежемесячный!$E:$E,F$2)","v":0},{"$f":"SUMIFS(ежемесячный!$F:$F,ежемесячный!$C:$C,$A12,ежемесячный!$D:$D,$A$1,ежемесячный!$E:$E,H$2)","v":0},{"$f":"SUMIFS(ежемесячный!$G:$G,ежемесячный!$C:$C,$A12,ежемесячный!$D:$D,$A$1,ежемесячный!$E:$E,H$2)","v":0},{"$f":"SUMIFS(ежемесячный!$F:$F,ежемесячный!$C:$C,$A12,ежемесячный!$D:$D,$A$1,ежемесячный!$E:$E,J$2)","v":0},{"$f":"SUMIFS(ежемесячный!$G:$G,ежемесячный!$C:$C,$A12,ежемесячный!$D:$D,$A$1,ежемесячный!$E:$E,J$2)","v":0},{"$f":"SUMIFS(ежемесячный!$F:$F,ежемесячный!$C:$C,$A12,ежемесячный!$D:$D,$A$1,ежемесячный!$E:$E,L$2)","v":0},{"$f":"SUMIFS(ежемесячный!$G:$G,ежемесячный!$C:$C,$A12,ежемесячный!$D:$D,$A$1,ежемесячный!$E:$E,L$2)","v":0},{"$f":"SUMIFS(ежемесячный!$F:$F,ежемесячный!$C:$C,$A12,ежемесячный!$D:$D,$A$1,ежемесячный!$E:$E,N$2)","v":0},{"$f":"SUMIFS(ежемесячный!$G:$G,ежемесячный!$C:$C,$A12,ежемесячный!$D:$D,$A$1,ежемесячный!$E:$E,N$2)","v":0},{"$f":"SUMIFS(ежемесячный!$F:$F,ежемесячный!$C:$C,$A12,ежемесячный!$D:$D,$A$1,ежемесячный!$E:$E,P$2)","v":0},{"$f":"SUMIFS(ежемесячный!$G:$G,ежемесячный!$C:$C,$A12,ежемесячный!$D:$D,$A$1,ежемесячный!$E:$E,P$2)","v":0},{"$f":"SUMIFS(ежемесячный!$F:$F,ежемесячный!$C:$C,$A12,ежемесячный!$D:$D,$A$1,ежемесячный!$E:$E,R$2)","v":0},{"$f":"SUMIFS(ежемесячный!$G:$G,ежемесячный!$C:$C,$A12,ежемесячный!$D:$D,$A$1,ежемесячный!$E:$E,R$2)","v":0},{"$f":"SUMIFS(ежемесячный!$F:$F,ежемесячный!$C:$C,$A12,ежемесячный!$D:$D,$A$1,ежемесячный!$E:$E,T$2)","v":0},{"$f":"SUMIFS(ежемесячный!$G:$G,ежемесячный!$C:$C,$A12,ежемесячный!$D:$D,$A$1,ежемесячный!$E:$E,T$2)","v":0},0]
["2014-03-09",{"$f":"SUMIFS(ежемесячный!$F:$F,ежемесячный!$C:$C,$A13,ежемесячный!$D:$D,$A$1,ежемесячный!$E:$E,B$2)","v":0},{"$f":"SUMIFS(ежемесячный!$G:$G,ежемесячный!$C:$C,$A13,ежемесячный!$D:$D,$A$1,ежемесячный!$E:$E,B$2)","v":0},{"$f":"SUMIFS(ежемесячный!$F:$F,ежемесячный!$C:$C,$A13,ежемесячный!$D:$D,$A$1,ежемесячный!$E:$E,D$2)","v":0},{"$f":"SUMIFS(ежемесячный!$G:$G,ежемесячный!$C:$C,$A13,ежемесячный!$D:$D,$A$1,ежемесячный!$E:$E,D$2)","v":0},{"$f":"SUMIFS(ежемесячный!$F:$F,ежемесячный!$C:$C,$A13,ежемесячный!$D:$D,$A$1,ежемесячный!$E:$E,F$2)","v":0},{"$f":"SUMIFS(ежемесячный!$G:$G,ежемесячный!$C:$C,$A13,ежемесячный!$D:$D,$A$1,ежемесячный!$E:$E,F$2)","v":0},{"$f":"SUMIFS(ежемесячный!$F:$F,ежемесячный!$C:$C,$A13,ежемесячный!$D:$D,$A$1,ежемесячный!$E:$E,H$2)","v":0},{"$f":"SUMIFS(ежемесячный!$G:$G,ежемесячный!$C:$C,$A13,ежемесячный!$D:$D,$A$1,ежемесячный!$E:$E,H$2)","v":0},{"$f":"SUMIFS(ежемесячный!$F:$F,ежемесячный!$C:$C,$A13,ежемесячный!$D:$D,$A$1,ежемесячный!$E:$E,J$2)","v":0},{"$f":"SUMIFS(ежемесячный!$G:$G,ежемесячный!$C:$C,$A13,ежемесячный!$D:$D,$A$1,ежемесячный!$E:$E,J$2)","v":0},{"$f":"SUMIFS(ежемесячный!$F:$F,ежемесячный!$C:$C,$A13,ежемесячный!$D:$D,$A$1,ежемесячный!$E:$E,L$2)","v":0},{"$f":"SUMIFS(ежемесячный!$G:$G,ежемесячный!$C:$C,$A13,ежемесячный!$D:$D,$A$1,ежемесячный!$E:$E,L$2)","v":0},{"$f":"SUMIFS(ежемесячный!$F:$F,ежемесячный!$C:$C,$A13,ежемесячный!$D:$D,$A$1,ежемесячный!$E:$E,N$2)","v":0},{"$f":"SUMIFS(ежемесячный!$G:$G,ежемесячный!$C:$C,$A13,ежемесячный!$D:$D,$A$1,ежемесячный!$E:$E,N$2)","v":0},{"$f":"SUMIFS(ежемесячный!$F:$F,ежемесячный!$C:$C,$A13,ежемесячный!$D:$D,$A$1,ежемесячный!$E:$E,P$2)","v":0},{"$f":"SUMIFS(ежемесячный!$G:$G,ежемесячный!$C:$C,$A13,ежемесячный!$D:$D,$A$1,ежемесячный!$E:$E,P$2)","v":0},{"$f":"SUMIFS(ежемесячный!$F:$F,ежемесячный!$C:$C,$A13,ежемесячный!$D:$D,$A$1,ежемесячный!$E:$E,R$2)","v":0},{"$f":"SUMIFS(ежемесячный!$G:$G,ежемесячный!$C:$C,$A13,ежемесячный!$D:$D,$A$1,ежемесячный!$E:$E,R$2)","v":0},{"$f":"SUMIFS(ежемесячный!$F:$F,ежемесячный!$C:$C,$A13,ежемесячный!$D:$D,$A$1,ежемесячный!$E:$E,T$2)","v":0},{"$f":"SUMIFS(ежемесячный!$G:$G,ежемесячный!$C:$C,$A13,ежемесячный!$D:$D,$A$1,ежемесячный!$E:$E,T$2)","v":0},0]
["2014-03-10",{"$f":"SUMIFS(ежемесячный!$F:$F,ежемесячный!$C:$C,$A14,ежемесячный!$D:$D,$A$1,ежемесячный!$E:$E,B$2)","v":0},{"$f":"SUMIFS(ежемесячный!$G:$G,ежемесячный!$C:$C,$A14,ежемесячный!$D:$D,$A$1,ежемесячный!$E:$E,B$2)","v":0},{"$f":"SUMIFS(ежемесячный!$F:$F,ежемесячный!$C:$C,$A14,ежемесячный!$D:$D,$A$1,ежемесячный!$E:$E,D$2)","v":0},{"$f":"SUMIFS(ежемесячный!$G:$G,ежемесячный!$C:$C,$A14,ежемесячный!$D:$D,$A$1,ежемесячный!$E:$E,D$2)","v":0},{"$f":"SUMIFS(ежемесячный!$F:$F,ежемесячный!$C:$C,$A14,ежемесячный!$D:$D,$A$1,ежемесячный!$E:$E,F$2)","v":0},{"$f":"SUMIFS(ежемесячный!$G:$G,ежемесячный!$C:$C,$A14,ежемесячный!$D:$D,$A$1,ежемесячный!$E:$E,F$2)","v":0},{"$f":"SUMIFS(ежемесячный!$F:$F,ежемесячный!$C:$C,$A14,ежемесячный!$D:$D,$A$1,ежемесячный!$E:$E,H$2)","v":0},{"$f":"SUMIFS(ежемесячный!$G:$G,ежемесячный!$C:$C,$A14,ежемесячный!$D:$D,$A$1,ежемесячный!$E:$E,H$2)","v":0},{"$f":"SUMIFS(ежемесячный!$F:$F,ежемесячный!$C:$C,$A14,ежемесячный!$D:$D,$A$1,ежемесячный!$E:$E,J$2)","v":0},{"$f":"SUMIFS(ежемесячный!$G:$G,ежемесячный!$C:$C,$A14,ежемесячный!$D:$D,$A$1,ежемесячный!$E:$E,J$2)","v":0},{"$f":"SUMIFS(ежемесячный!$F:$F,ежемесячный!$C:$C,$A14,ежемесячный!$D:$D,$A$1,ежемесячный!$E:$E,L$2)","v":0},{"$f":"SUMIFS(ежемесячный!$G:$G,ежемесячный!$C:$C,$A14,ежемесячный!$D:$D,$A$1,ежемесячный!$E:$E,L$2)","v":0},{"$f":"SUMIFS(ежемесячный!$F:$F,ежемесячный!$C:$C,$A14,ежемесячный!$D:$D,$A$1,ежемесячный!$E:$E,N$2)","v":0},{"$f":"SUMIFS(ежемесячный!$G:$G,ежемесячный!$C:$C,$A14,ежемесячный!$D:$D,$A$1,ежемесячный!$E:$E,N$2)","v":0},{"$f":"SUMIFS(ежемесячный!$F:$F,ежемесячный!$C:$C,$A14,ежемесячный!$D:$D,$A$1,ежемесячный!$E:$E,P$2)","v":0},{"$f":"SUMIFS(ежемесячный!$G:$G,ежемесячный!$C:$C,$A14,ежемесячный!$D:$D,$A$1,ежемесячный!$E:$E,P$2)","v":0},{"$f":"SUMIFS(ежемесячный!$F:$F,ежемесячный!$C:$C,$A14,ежемесячный!$D:$D,$A$1,ежемесячный!$E:$E,R$2)","v":0},{"$f":"SUMIFS(ежемесячный!$G:$G,ежемесячный!$C:$C,$A14,ежемесячный!$D:$D,$A$1,ежемесячный!$E:$E,R$2)","v":0},{"$f":"SUMIFS(ежемесячный!$F:$F,ежемесячный!$C:$C,$A14,ежемесячный!$D:$D,$A$1,ежемесячный!$E:$E,T$2)","v":0},{"$f":"SUMIFS(ежемесячный!$G:$G,ежемесячный!$C:$C,$A14,ежемесячный!$D:$D,$A$1,ежемесячный!$E:$E,T$2)","v":0},0]
["2014-03-11",{"$f":"SUMIFS(ежемесячный!$F:$F,ежемесячный!$C:$C,$A15,ежемесячный!$D:$D,$A$1,ежемесячный!$E:$E,B$2)","v":0},{"$f":"SUMIFS(ежемесячный!$G:$G,ежемесячный!$C:$C,$A15,ежемесячный!$D:$D,$A$1,ежемесячный!$E:$E,B$2)","v":0},{"$f":"SUMIFS(ежемесячный!$F:$F,ежемесячный!$C:$C,$A15,ежемесячный!$D:$D,$A$1,ежемесячный!$E:$E,D$2)","v":0},{"$f":"SUMIFS(ежемесячный!$G:$G,ежемесячный!$C:$C,$A15,ежемесячный!$D:$D,$A$1,ежемесячный!$E:$E,D$2)","v":0},{"$f":"SUMIFS(ежемесячный!$F:$F,ежемесячный!$C:$C,$A15,ежемесячный!$D:$D,$A$1,ежемесячный!$E:$E,F$2)","v":0},{"$f":"SUMIFS(ежемесячный!$G:$G,ежемесячный!$C:$C,$A15,ежемесячный!$D:$D,$A$1,ежемесячный!$E:$E,F$2)","v":0},{"$f":"SUMIFS(ежемесячный!$F:$F,ежемесячный!$C:$C,$A15,ежемесячный!$D:$D,$A$1,ежемесячный!$E:$E,H$2)","v":0},{"$f":"SUMIFS(ежемесячный!$G:$G,ежемесячный!$C:$C,$A15,ежемесячный!$D:$D,$A$1,ежемесячный!$E:$E,H$2)","v":0},{"$f":"SUMIFS(ежемесячный!$F:$F,ежемесячный!$C:$C,$A15,ежемесячный!$D:$D,$A$1,ежемесячный!$E:$E,J$2)","v":0},{"$f":"SUMIFS(ежемесячный!$G:$G,ежемесячный!$C:$C,$A15,ежемесячный!$D:$D,$A$1,ежемесячный!$E:$E,J$2)","v":0},{"$f":"SUMIFS(ежемесячный!$F:$F,ежемесячный!$C:$C,$A15,ежемесячный!$D:$D,$A$1,ежемесячный!$E:$E,L$2)","v":0},{"$f":"SUMIFS(ежемесячный!$G:$G,ежемесячный!$C:$C,$A15,ежемесячный!$D:$D,$A$1,ежемесячный!$E:$E,L$2)","v":0},{"$f":"SUMIFS(ежемесячный!$F:$F,ежемесячный!$C:$C,$A15,ежемесячный!$D:$D,$A$1,ежемесячный!$E:$E,N$2)","v":0},{"$f":"SUMIFS(ежемесячный!$G:$G,ежемесячный!$C:$C,$A15,ежемесячный!$D:$D,$A$1,ежемесячный!$E:$E,N$2)","v":0},{"$f":"SUMIFS(ежемесячный!$F:$F,ежемесячный!$C:$C,$A15,ежемесячный!$D:$D,$A$1,ежемесячный!$E:$E,P$2)","v":0},{"$f":"SUMIFS(ежемесячный!$G:$G,ежемесячный!$C:$C,$A15,ежемесячный!$D:$D,$A$1,ежемесячный!$E:$E,P$2)","v":0},{"$f":"SUMIFS(ежемесячный!$F:$F,ежемесячный!$C:$C,$A15,ежемесячный!$D:$D,$A$1,ежемесячный!$E:$E,R$2)","v":0},{"$f":"SUMIFS(ежемесячный!$G:$G,ежемесячный!$C:$C,$A15,ежемесячный!$D:$D,$A$1,ежемесячный!$E:$E,R$2)","v":0},{"$f":"SUMIFS(ежемесячный!$F:$F,ежемесячный!$C:$C,$A15,ежемесячный!$D:$D,$A$1,ежемесячный!$E:$E,T$2)","v":0},{"$f":"SUMIFS(ежемесячный!$G:$G,ежемесячный!$C:$C,$A15,ежемесячный!$D:$D,$A$1,ежемесячный!$E:$E,T$2)","v":0},0]
["2014-03-12",{"$f":"SUMIFS(ежемесячный!$F:$F,ежемесячный!$C:$C,$A16,ежемесячный!$D:$D,$A$1,ежемесячный!$E:$E,B$2)","v":0},{"$f":"SUMIFS(ежемесячный!$G:$G,ежемесячный!$C:$C,$A16,ежемесячный!$D:$D,$A$1,ежемесячный!$E:$E,B$2)","v":0},{"$f":"SUMIFS(ежемесячный!$F:$F,ежемесячный!$C:$C,$A16,ежемесячный!$D:$D,$A$1,ежемесячный!$E:$E,D$2)","v":0},{"$f":"SUMIFS(ежемесячный!$G:$G,ежемесячный!$C:$C,$A16,ежемесячный!$D:$D,$A$1,ежемесячный!$E:$E,D$2)","v":0},{"$f":"SUMIFS(ежемесячный!$F:$F,ежемесячный!$C:$C,$A16,ежемесячный!$D:$D,$A$1,ежемесячный!$E:$E,F$2)","v":0},{"$f":"SUMIFS(ежемесячный!$G:$G,ежемесячный!$C:$C,$A16,ежемесячный!$D:$D,$A$1,ежемесячный!$E:$E,F$2)","v":0},{"$f":"SUMIFS(ежемесячный!$F:$F,ежемесячный!$C:$C,$A16,ежемесячный!$D:$D,$A$1,ежемесячный!$E:$E,H$2)","v":0},{"$f":"SUMIFS(ежемесячный!$G:$G,ежемесячный!$C:$C,$A16,ежемесячный!$D:$D,$A$1,ежемесячный!$E:$E,H$2)","v":0},{"$f":"SUMIFS(ежемесячный!$F:$F,ежемесячный!$C:$C,$A16,ежемесячный!$D:$D,$A$1,ежемесячный!$E:$E,J$2)","v":0},{"$f":"SUMIFS(ежемесячный!$G:$G,ежемесячный!$C:$C,$A16,ежемесячный!$D:$D,$A$1,ежемесячный!$E:$E,J$2)","v":0},{"$f":"SUMIFS(ежемесячный!$F:$F,ежемесячный!$C:$C,$A16,ежемесячный!$D:$D,$A$1,ежемесячный!$E:$E,L$2)","v":0},{"$f":"SUMIFS(ежемесячный!$G:$G,ежемесячный!$C:$C,$A16,ежемесячный!$D:$D,$A$1,ежемесячный!$E:$E,L$2)","v":0},{"$f":"SUMIFS(ежемесячный!$F:$F,ежемесячный!$C:$C,$A16,ежемесячный!$D:$D,$A$1,ежемесячный!$E:$E,N$2)","v":0},{"$f":"SUMIFS(ежемесячный!$G:$G,ежемесячный!$C:$C,$A16,ежемесячный!$D:$D,$A$1,ежемесячный!$E:$E,N$2)","v":0},{"$f":"SUMIFS(ежемесячный!$F:$F,ежемесячный!$C:$C,$A16,ежемесячный!$D:$D,$A$1,ежемесячный!$E:$E,P$2)","v":0},{"$f":"SUMIFS(ежемесячный!$G:$G,ежемесячный!$C:$C,$A16,ежемесячный!$D:$D,$A$1,ежемесячный!$E:$E,P$2)","v":0},{"$f":"SUMIFS(ежемесячный!$F:$F,ежемесячный!$C:$C,$A16,ежемесячный!$D:$D,$A$1,ежемесячный!$E:$E,R$2)","v":0},{"$f":"SUMIFS(ежемесячный!$G:$G,ежемесячный!$C:$C,$A16,ежемесячный!$D:$D,$A$1,ежемесячный!$E:$E,R$2)","v":0},{"$f":"SUMIFS(ежемесячный!$F:$F,ежемесячный!$C:$C,$A16,ежемесячный!$D:$D,$A$1,ежемесячный!$E:$E,T$2)","v":0},{"$f":"SUMIFS(ежемесячный!$G:$G,ежемесячный!$C:$C,$A16,ежемесячный!$D:$D,$A$1,ежемесячный!$E:$E,T$2)","v":0},0]
["2014-03-13",{"$f":"SUMIFS(ежемесячный!$F:$F,ежемесячный!$C:$C,$A17,ежемесячный!$D:$D,$A$1,ежемесячный!$E:$E,B$2)","v":0},{"$f":"SUMIFS(ежемесячный!$G:$G,ежемесячный!$C:$C,$A17,ежемесячный!$D:$D,$A$1,ежемесячный!$E:$E,B$2)","v":0},{"$f":"SUMIFS(ежемесячный!$F:$F,ежемесячный!$C:$C,$A17,ежемесячный!$D:$D,$A$1,ежемесячный!$E:$E,D$2)","v":0},{"$f":"SUMIFS(ежемесячный!$G:$G,ежемесячный!$C:$C,$A17,ежемесячный!$D:$D,$A$1,ежемесячный!$E:$E,D$2)","v":0},{"$f":"SUMIFS(ежемесячный!$F:$F,ежемесячный!$C:$C,$A17,ежемесячный!$D:$D,$A$1,ежемесячный!$E:$E,F$2)","v":0},{"$f":"SUMIFS(ежемесячный!$G:$G,ежемесячный!$C:$C,$A17,ежемесячный!$D:$D,$A$1,ежемесячный!$E:$E,F$2)","v":0},{"$f":"SUMIFS(ежемесячный!$F:$F,ежемесячный!$C:$C,$A17,ежемесячный!$D:$D,$A$1,ежемесячный!$E:$E,H$2)","v":0},{"$f":"SUMIFS(ежемесячный!$G:$G,ежемесячный!$C:$C,$A17,ежемесячный!$D:$D,$A$1,ежемесячный!$E:$E,H$2)","v":0},{"$f":"SUMIFS(ежемесячный!$F:$F,ежемесячный!$C:$C,$A17,ежемесячный!$D:$D,$A$1,ежемесячный!$E:$E,J$2)","v":0},{"$f":"SUMIFS(ежемесячный!$G:$G,ежемесячный!$C:$C,$A17,ежемесячный!$D:$D,$A$1,ежемесячный!$E:$E,J$2)","v":0},{"$f":"SUMIFS(ежемесячный!$F:$F,ежемесячный!$C:$C,$A17,ежемесячный!$D:$D,$A$1,ежемесячный!$E:$E,L$2)","v":0},{"$f":"SUMIFS(ежемесячный!$G:$G,ежемесячный!$C:$C,$A17,ежемесячный!$D:$D,$A$1,ежемесячный!$E:$E,L$2)","v":0},{"$f":"SUMIFS(ежемесячный!$F:$F,ежемесячный!$C:$C,$A17,ежемесячный!$D:$D,$A$1,ежемесячный!$E:$E,N$2)","v":0},{"$f":"SUMIFS(ежемесячный!$G:$G,ежемесячный!$C:$C,$A17,ежемесячный!$D:$D,$A$1,ежемесячный!$E:$E,N$2)","v":0},{"$f":"SUMIFS(ежемесячный!$F:$F,ежемесячный!$C:$C,$A17,ежемесячный!$D:$D,$A$1,ежемесячный!$E:$E,P$2)","v":0},{"$f":"SUMIFS(ежемесячный!$G:$G,ежемесячный!$C:$C,$A17,ежемесячный!$D:$D,$A$1,ежемесячный!$E:$E,P$2)","v":0},{"$f":"SUMIFS(ежемесячный!$F:$F,ежемесячный!$C:$C,$A17,ежемесячный!$D:$D,$A$1,ежемесячный!$E:$E,R$2)","v":0},{"$f":"SUMIFS(ежемесячный!$G:$G,ежемесячный!$C:$C,$A17,ежемесячный!$D:$D,$A$1,ежемесячный!$E:$E,R$2)","v":0},{"$f":"SUMIFS(ежемесячный!$F:$F,ежемесячный!$C:$C,$A17,ежемесячный!$D:$D,$A$1,ежемесячный!$E:$E,T$2)","v":0},{"$f":"SUMIFS(ежемесячный!$G:$G,ежемесячный!$C:$C,$A17,ежемесячный!$D:$D,$A$1,ежемесячный!$E:$E,T$2)","v":0},0]
["2014-03-14",{"$f":"SUMIFS(ежемесячный!$F:$F,ежемесячный!$C:$C,$A18,ежемесячный!$D:$D,$A$1,ежемесячный!$E:$E,B$2)","v":0},{"$f":"SUMIFS(ежемесячный!$G:$G,ежемесячный!$C:$C,$A18,ежемесячный!$D:$D,$A$1,ежемесячный!$E:$E,B$2)","v":0},{"$f":"SUMIFS(ежемесячный!$F:$F,ежемесячный!$C:$C,$A18,ежемесячный!$D:$D,$A$1,ежемесячный!$E:$E,D$2)","v":0},{"$f":"SUMIFS(ежемесячный!$G:$G,ежемесячный!$C:$C,$A18,ежемесячный!$D:$D,$A$1,ежемесячный!$E:$E,D$2)","v":0},{"$f":"SUMIFS(ежемесячный!$F:$F,ежемесячный!$C:$C,$A18,ежемесячный!$D:$D,$A$1,ежемесячный!$E:$E,F$2)","v":0},{"$f":"SUMIFS(ежемесячный!$G:$G,ежемесячный!$C:$C,$A18,ежемесячный!$D:$D,$A$1,ежемесячный!$E:$E,F$2)","v":0},{"$f":"SUMIFS(ежемесячный!$F:$F,ежемесячный!$C:$C,$A18,ежемесячный!$D:$D,$A$1,ежемесячный!$E:$E,H$2)","v":0},{"$f":"SUMIFS(ежемесячный!$G:$G,ежемесячный!$C:$C,$A18,ежемесячный!$D:$D,$A$1,ежемесячный!$E:$E,H$2)","v":0},{"$f":"SUMIFS(ежемесячный!$F:$F,ежемесячный!$C:$C,$A18,ежемесячный!$D:$D,$A$1,ежемесячный!$E:$E,J$2)","v":0},{"$f":"SUMIFS(ежемесячный!$G:$G,ежемесячный!$C:$C,$A18,ежемесячный!$D:$D,$A$1,ежемесячный!$E:$E,J$2)","v":0},{"$f":"SUMIFS(ежемесячный!$F:$F,ежемесячный!$C:$C,$A18,ежемесячный!$D:$D,$A$1,ежемесячный!$E:$E,L$2)","v":0},{"$f":"SUMIFS(ежемесячный!$G:$G,ежемесячный!$C:$C,$A18,ежемесячный!$D:$D,$A$1,ежемесячный!$E:$E,L$2)","v":0},{"$f":"SUMIFS(ежемесячный!$F:$F,ежемесячный!$C:$C,$A18,ежемесячный!$D:$D,$A$1,ежемесячный!$E:$E,N$2)","v":0},{"$f":"SUMIFS(ежемесячный!$G:$G,ежемесячный!$C:$C,$A18,ежемесячный!$D:$D,$A$1,ежемесячный!$E:$E,N$2)","v":0},{"$f":"SUMIFS(ежемесячный!$F:$F,ежемесячный!$C:$C,$A18,ежемесячный!$D:$D,$A$1,ежемесячный!$E:$E,P$2)","v":0},{"$f":"SUMIFS(ежемесячный!$G:$G,ежемесячный!$C:$C,$A18,ежемесячный!$D:$D,$A$1,ежемесячный!$E:$E,P$2)","v":0},{"$f":"SUMIFS(ежемесячный!$F:$F,ежемесячный!$C:$C,$A18,ежемесячный!$D:$D,$A$1,ежемесячный!$E:$E,R$2)","v":0},{"$f":"SUMIFS(ежемесячный!$G:$G,ежемесячный!$C:$C,$A18,ежемесячный!$D:$D,$A$1,ежемесячный!$E:$E,R$2)","v":0},{"$f":"SUMIFS(ежемесячный!$F:$F,ежемесячный!$C:$C,$A18,ежемесячный!$D:$D,$A$1,ежемесячный!$E:$E,T$2)","v":0},{"$f":"SUMIFS(ежемесячный!$G:$G,ежемесячный!$C:$C,$A18,ежемесячный!$D:$D,$A$1,ежемесячный!$E:$E,T$2)","v":0},0]
["2014-03-15",{"$f":"SUMIFS(ежемесячный!$F:$F,ежемесячный!$C:$C,$A19,ежемесячный!$D:$D,$A$1,ежемесячный!$E:$E,B$2)","v":0},{"$f":"SUMIFS(ежемесячный!$G:$G,ежемесячный!$C:$C,$A19,ежемесячный!$D:$D,$A$1,ежемесячный!$E:$E,B$2)","v":0},{"$f":"SUMIFS(ежемесячный!$F:$F,ежемесячный!$C:$C,$A19,ежемесячный!$D:$D,$A$1,ежемесячный!$E:$E,D$2)","v":0},{"$f":"SUMIFS(ежемесячный!$G:$G,ежемесячный!$C:$C,$A19,ежемесячный!$D:$D,$A$1,ежемесячный!$E:$E,D$2)","v":0},{"$f":"SUMIFS(ежемесячный!$F:$F,ежемесячный!$C:$C,$A19,ежемесячный!$D:$D,$A$1,ежемесячный!$E:$E,F$2)","v":0},{"$f":"SUMIFS(ежемесячный!$G:$G,ежемесячный!$C:$C,$A19,ежемесячный!$D:$D,$A$1,ежемесячный!$E:$E,F$2)","v":0},{"$f":"SUMIFS(ежемесячный!$F:$F,ежемесячный!$C:$C,$A19,ежемесячный!$D:$D,$A$1,ежемесячный!$E:$E,H$2)","v":0},{"$f":"SUMIFS(ежемесячный!$G:$G,ежемесячный!$C:$C,$A19,ежемесячный!$D:$D,$A$1,ежемесячный!$E:$E,H$2)","v":0},{"$f":"SUMIFS(ежемесячный!$F:$F,ежемесячный!$C:$C,$A19,ежемесячный!$D:$D,$A$1,ежемесячный!$E:$E,J$2)","v":0},{"$f":"SUMIFS(ежемесячный!$G:$G,ежемесячный!$C:$C,$A19,ежемесячный!$D:$D,$A$1,ежемесячный!$E:$E,J$2)","v":0},{"$f":"SUMIFS(ежемесячный!$F:$F,ежемесячный!$C:$C,$A19,ежемесячный!$D:$D,$A$1,ежемесячный!$E:$E,L$2)","v":0},{"$f":"SUMIFS(ежемесячный!$G:$G,ежемесячный!$C:$C,$A19,ежемесячный!$D:$D,$A$1,ежемесячный!$E:$E,L$2)","v":0},{"$f":"SUMIFS(ежемесячный!$F:$F,ежемесячный!$C:$C,$A19,ежемесячный!$D:$D,$A$1,ежемесячный!$E:$E,N$2)","v":0},{"$f":"SUMIFS(ежемесячный!$G:$G,ежемесячный!$C:$C,$A19,ежемесячный!$D:$D,$A$1,ежемесячный!$E:$E,N$2)","v":0},{"$f":"SUMIFS(ежемесячный!$F:$F,ежемесячный!$C:$C,$A19,ежемесячный!$D:$D,$A$1,ежемесячный!$E:$E,P$2)","v":0},{"$f":"SUMIFS(ежемесячный!$G:$G,ежемесячный!$C:$C,$A19,ежемесячный!$D:$D,$A$1,ежемесячный!$E:$E,P$2)","v":0},{"$f":"SUMIFS(ежемесячный!$F:$F,ежемесячный!$C:$C,$A19,ежемесячный!$D:$D,$A$1,ежемесячный!$E:$E,R$2)","v":0},{"$f":"SUMIFS(ежемесячный!$G:$G,ежемесячный!$C:$C,$A19,ежемесячный!$D:$D,$A$1,ежемесячный!$E:$E,R$2)","v":0},{"$f":"SUMIFS(ежемесячный!$F:$F,ежемесячный!$C:$C,$A19,ежемесячный!$D:$D,$A$1,ежемесячный!$E:$E,T$2)","v":0},{"$f":"SUMIFS(ежемесячный!$G:$G,ежемесячный!$C:$C,$A19,ежемесячный!$D:$D,$A$1,ежемесячный!$E:$E,T$2)","v":0},0]
["2014-03-16",{"$f":"SUMIFS(ежемесячный!$F:$F,ежемесячный!$C:$C,$A20,ежемесячный!$D:$D,$A$1,ежемесячный!$E:$E,B$2)","v":0},{"$f":"SUMIFS(ежемесячный!$G:$G,ежемесячный!$C:$C,$A20,ежемесячный!$D:$D,$A$1,ежемесячный!$E:$E,B$2)","v":0},{"$f":"SUMIFS(ежемесячный!$F:$F,ежемесячный!$C:$C,$A20,ежемесячный!$D:$D,$A$1,ежемесячный!$E:$E,D$2)","v":0},{"$f":"SUMIFS(ежемесячный!$G:$G,ежемесячный!$C:$C,$A20,ежемесячный!$D:$D,$A$1,ежемесячный!$E:$E,D$2)","v":0},{"$f":"SUMIFS(ежемесячный!$F:$F,ежемесячный!$C:$C,$A20,ежемесячный!$D:$D,$A$1,ежемесячный!$E:$E,F$2)","v":0},{"$f":"SUMIFS(ежемесячный!$G:$G,ежемесячный!$C:$C,$A20,ежемесячный!$D:$D,$A$1,ежемесячный!$E:$E,F$2)","v":0},{"$f":"SUMIFS(ежемесячный!$F:$F,ежемесячный!$C:$C,$A20,ежемесячный!$D:$D,$A$1,ежемесячный!$E:$E,H$2)","v":0},{"$f":"SUMIFS(ежемесячный!$G:$G,ежемесячный!$C:$C,$A20,ежемесячный!$D:$D,$A$1,ежемесячный!$E:$E,H$2)","v":0},{"$f":"SUMIFS(ежемесячный!$F:$F,ежемесячный!$C:$C,$A20,ежемесячный!$D:$D,$A$1,ежемесячный!$E:$E,J$2)","v":0},{"$f":"SUMIFS(ежемесячный!$G:$G,ежемесячный!$C:$C,$A20,ежемесячный!$D:$D,$A$1,ежемесячный!$E:$E,J$2)","v":0},{"$f":"SUMIFS(ежемесячный!$F:$F,ежемесячный!$C:$C,$A20,ежемесячный!$D:$D,$A$1,ежемесячный!$E:$E,L$2)","v":0},{"$f":"SUMIFS(ежемесячный!$G:$G,ежемесячный!$C:$C,$A20,ежемесячный!$D:$D,$A$1,ежемесячный!$E:$E,L$2)","v":0},{"$f":"SUMIFS(ежемесячный!$F:$F,ежемесячный!$C:$C,$A20,ежемесячный!$D:$D,$A$1,ежемесячный!$E:$E,N$2)","v":0},{"$f":"SUMIFS(ежемесячный!$G:$G,ежемесячный!$C:$C,$A20,ежемесячный!$D:$D,$A$1,ежемесячный!$E:$E,N$2)","v":0},{"$f":"SUMIFS(ежемесячный!$F:$F,ежемесячный!$C:$C,$A20,ежемесячный!$D:$D,$A$1,ежемесячный!$E:$E,P$2)","v":0},{"$f":"SUMIFS(ежемесячный!$G:$G,ежемесячный!$C:$C,$A20,ежемесячный!$D:$D,$A$1,ежемесячный!$E:$E,P$2)","v":0},{"$f":"SUMIFS(ежемесячный!$F:$F,ежемесячный!$C:$C,$A20,ежемесячный!$D:$D,$A$1,ежемесячный!$E:$E,R$2)","v":0},{"$f":"SUMIFS(ежемесячный!$G:$G,ежемесячный!$C:$C,$A20,ежемесячный!$D:$D,$A$1,ежемесячный!$E:$E,R$2)","v":0},{"$f":"SUMIFS(ежемесячный!$F:$F,ежемесячный!$C:$C,$A20,ежемесячный!$D:$D,$A$1,ежемесячный!$E:$E,T$2)","v":0},{"$f":"SUMIFS(ежемесячный!$G:$G,ежемесячный!$C:$C,$A20,ежемесячный!$D:$D,$A$1,ежемесячный!$E:$E,T$2)","v":0},0]
["2014-03-17",{"$f":"SUMIFS(ежемесячный!$F:$F,ежемесячный!$C:$C,$A21,ежемесячный!$D:$D,$A$1,ежемесячный!$E:$E,B$2)","v":0},{"$f":"SUMIFS(ежемесячный!$G:$G,ежемесячный!$C:$C,$A21,ежемесячный!$D:$D,$A$1,ежемесячный!$E:$E,B$2)","v":0},{"$f":"SUMIFS(ежемесячный!$F:$F,ежемесячный!$C:$C,$A21,ежемесячный!$D:$D,$A$1,ежемесячный!$E:$E,D$2)","v":0},{"$f":"SUMIFS(ежемесячный!$G:$G,ежемесячный!$C:$C,$A21,ежемесячный!$D:$D,$A$1,ежемесячный!$E:$E,D$2)","v":0},{"$f":"SUMIFS(ежемесячный!$F:$F,ежемесячный!$C:$C,$A21,ежемесячный!$D:$D,$A$1,ежемесячный!$E:$E,F$2)","v":0},{"$f":"SUMIFS(ежемесячный!$G:$G,ежемесячный!$C:$C,$A21,ежемесячный!$D:$D,$A$1,ежемесячный!$E:$E,F$2)","v":0},{"$f":"SUMIFS(ежемесячный!$F:$F,ежемесячный!$C:$C,$A21,ежемесячный!$D:$D,$A$1,ежемесячный!$E:$E,H$2)","v":0},{"$f":"SUMIFS(ежемесячный!$G:$G,ежемесячный!$C:$C,$A21,ежемесячный!$D:$D,$A$1,ежемесячный!$E:$E,H$2)","v":0},{"$f":"SUMIFS(ежемесячный!$F:$F,ежемесячный!$C:$C,$A21,ежемесячный!$D:$D,$A$1,ежемесячный!$E:$E,J$2)","v":0},{"$f":"SUMIFS(ежемесячный!$G:$G,ежемесячный!$C:$C,$A21,ежемесячный!$D:$D,$A$1,ежемесячный!$E:$E,J$2)","v":0},{"$f":"SUMIFS(ежемесячный!$F:$F,ежемесячный!$C:$C,$A21,ежемесячный!$D:$D,$A$1,ежемесячный!$E:$E,L$2)","v":0},{"$f":"SUMIFS(ежемесячный!$G:$G,ежемесячный!$C:$C,$A21,ежемесячный!$D:$D,$A$1,ежемесячный!$E:$E,L$2)","v":0},{"$f":"SUMIFS(ежемесячный!$F:$F,ежемесячный!$C:$C,$A21,ежемесячный!$D:$D,$A$1,ежемесячный!$E:$E,N$2)","v":0},{"$f":"SUMIFS(ежемесячный!$G:$G,ежемесячный!$C:$C,$A21,ежемесячный!$D:$D,$A$1,ежемесячный!$E:$E,N$2)","v":0},{"$f":"SUMIFS(ежемесячный!$F:$F,ежемесячный!$C:$C,$A21,ежемесячный!$D:$D,$A$1,ежемесячный!$E:$E,P$2)","v":0},{"$f":"SUMIFS(ежемесячный!$G:$G,ежемесячный!$C:$C,$A21,ежемесячный!$D:$D,$A$1,ежемесячный!$E:$E,P$2)","v":0},{"$f":"SUMIFS(ежемесячный!$F:$F,ежемесячный!$C:$C,$A21,ежемесячный!$D:$D,$A$1,ежемесячный!$E:$E,R$2)","v":0},{"$f":"SUMIFS(ежемесячный!$G:$G,ежемесячный!$C:$C,$A21,ежемесячный!$D:$D,$A$1,ежемесячный!$E:$E,R$2)","v":0},{"$f":"SUMIFS(ежемесячный!$F:$F,ежемесячный!$C:$C,$A21,ежемесячный!$D:$D,$A$1,ежемесячный!$E:$E,T$2)","v":0},{"$f":"SUMIFS(ежемесячный!$G:$G,ежемесячный!$C:$C,$A21,ежемесячный!$D:$D,$A$1,ежемесячный!$E:$E,T$2)","v":0},0]
["2014-03-18",{"$f":"SUMIFS(ежемесячный!$F:$F,ежемесячный!$C:$C,$A22,ежемесячный!$D:$D,$A$1,ежемесячный!$E:$E,B$2)","v":0},{"$f":"SUMIFS(ежемесячный!$G:$G,ежемесячный!$C:$C,$A22,ежемесячный!$D:$D,$A$1,ежемесячный!$E:$E,B$2)","v":0},{"$f":"SUMIFS(ежемесячный!$F:$F,ежемесячный!$C:$C,$A22,ежемесячный!$D:$D,$A$1,ежемесячный!$E:$E,D$2)","v":0},{"$f":"SUMIFS(ежемесячный!$G:$G,ежемесячный!$C:$C,$A22,ежемесячный!$D:$D,$A$1,ежемесячный!$E:$E,D$2)","v":0},{"$f":"SUMIFS(ежемесячный!$F:$F,ежемесячный!$C:$C,$A22,ежемесячный!$D:$D,$A$1,ежемесячный!$E:$E,F$2)","v":0},{"$f":"SUMIFS(ежемесячный!$G:$G,ежемесячный!$C:$C,$A22,ежемесячный!$D:$D,$A$1,ежемесячный!$E:$E,F$2)","v":0},{"$f":"SUMIFS(ежемесячный!$F:$F,ежемесячный!$C:$C,$A22,ежемесячный!$D:$D,$A$1,ежемесячный!$E:$E,H$2)","v":0},{"$f":"SUMIFS(ежемесячный!$G:$G,ежемесячный!$C:$C,$A22,ежемесячный!$D:$D,$A$1,ежемесячный!$E:$E,H$2)","v":0},{"$f":"SUMIFS(ежемесячный!$F:$F,ежемесячный!$C:$C,$A22,ежемесячный!$D:$D,$A$1,ежемесячный!$E:$E,J$2)","v":0},{"$f":"SUMIFS(ежемесячный!$G:$G,ежемесячный!$C:$C,$A22,ежемесячный!$D:$D,$A$1,ежемесячный!$E:$E,J$2)","v":0},{"$f":"SUMIFS(ежемесячный!$F:$F,ежемесячный!$C:$C,$A22,ежемесячный!$D:$D,$A$1,ежемесячный!$E:$E,L$2)","v":0},{"$f":"SUMIFS(ежемесячный!$G:$G,ежемесячный!$C:$C,$A22,ежемесячный!$D:$D,$A$1,ежемесячный!$E:$E,L$2)","v":0},{"$f":"SUMIFS(ежемесячный!$F:$F,ежемесячный!$C:$C,$A22,ежемесячный!$D:$D,$A$1,ежемесячный!$E:$E,N$2)","v":0},{"$f":"SUMIFS(ежемесячный!$G:$G,ежемесячный!$C:$C,$A22,ежемесячный!$D:$D,$A$1,ежемесячный!$E:$E,N$2)","v":0},{"$f":"SUMIFS(ежемесячный!$F:$F,ежемесячный!$C:$C,$A22,ежемесячный!$D:$D,$A$1,ежемесячный!$E:$E,P$2)","v":0},{"$f":"SUMIFS(ежемесячный!$G:$G,ежемесячный!$C:$C,$A22,ежемесячный!$D:$D,$A$1,ежемесячный!$E:$E,P$2)","v":0},{"$f":"SUMIFS(ежемесячный!$F:$F,ежемесячный!$C:$C,$A22,ежемесячный!$D:$D,$A$1,ежемесячный!$E:$E,R$2)","v":0},{"$f":"SUMIFS(ежемесячный!$G:$G,ежемесячный!$C:$C,$A22,ежемесячный!$D:$D,$A$1,ежемесячный!$E:$E,R$2)","v":0},{"$f":"SUMIFS(ежемесячный!$F:$F,ежемесячный!$C:$C,$A22,ежемесячный!$D:$D,$A$1,ежемесячный!$E:$E,T$2)","v":0},{"$f":"SUMIFS(ежемесячный!$G:$G,ежемесячный!$C:$C,$A22,ежемесячный!$D:$D,$A$1,ежемесячный!$E:$E,T$2)","v":0},0]
["2014-03-19",{"$f":"SUMIFS(ежемесячный!$F:$F,ежемесячный!$C:$C,$A23,ежемесячный!$D:$D,$A$1,ежемесячный!$E:$E,B$2)","v":0},{"$f":"SUMIFS(ежемесячный!$G:$G,ежемесячный!$C:$C,$A23,ежемесячный!$D:$D,$A$1,ежемесячный!$E:$E,B$2)","v":0},{"$f":"SUMIFS(ежемесячный!$F:$F,ежемесячный!$C:$C,$A23,ежемесячный!$D:$D,$A$1,ежемесячный!$E:$E,D$2)","v":0},{"$f":"SUMIFS(ежемесячный!$G:$G,ежемесячный!$C:$C,$A23,ежемесячный!$D:$D,$A$1,ежемесячный!$E:$E,D$2)","v":0},{"$f":"SUMIFS(ежемесячный!$F:$F,ежемесячный!$C:$C,$A23,ежемесячный!$D:$D,$A$1,ежемесячный!$E:$E,F$2)","v":0},{"$f":"SUMIFS(ежемесячный!$G:$G,ежемесячный!$C:$C,$A23,ежемесячный!$D:$D,$A$1,ежемесячный!$E:$E,F$2)","v":0},{"$f":"SUMIFS(ежемесячный!$F:$F,ежемесячный!$C:$C,$A23,ежемесячный!$D:$D,$A$1,ежемесячный!$E:$E,H$2)","v":0},{"$f":"SUMIFS(ежемесячный!$G:$G,ежемесячный!$C:$C,$A23,ежемесячный!$D:$D,$A$1,ежемесячный!$E:$E,H$2)","v":0},{"$f":"SUMIFS(ежемесячный!$F:$F,ежемесячный!$C:$C,$A23,ежемесячный!$D:$D,$A$1,ежемесячный!$E:$E,J$2)","v":0},{"$f":"SUMIFS(ежемесячный!$G:$G,ежемесячный!$C:$C,$A23,ежемесячный!$D:$D,$A$1,ежемесячный!$E:$E,J$2)","v":0},{"$f":"SUMIFS(ежемесячный!$F:$F,ежемесячный!$C:$C,$A23,ежемесячный!$D:$D,$A$1,ежемесячный!$E:$E,L$2)","v":0},{"$f":"SUMIFS(ежемесячный!$G:$G,ежемесячный!$C:$C,$A23,ежемесячный!$D:$D,$A$1,ежемесячный!$E:$E,L$2)","v":0},{"$f":"SUMIFS(ежемесячный!$F:$F,ежемесячный!$C:$C,$A23,ежемесячный!$D:$D,$A$1,ежемесячный!$E:$E,N$2)","v":0},{"$f":"SUMIFS(ежемесячный!$G:$G,ежемесячный!$C:$C,$A23,ежемесячный!$D:$D,$A$1,ежемесячный!$E:$E,N$2)","v":0},{"$f":"SUMIFS(ежемесячный!$F:$F,ежемесячный!$C:$C,$A23,ежемесячный!$D:$D,$A$1,ежемесячный!$E:$E,P$2)","v":0},{"$f":"SUMIFS(ежемесячный!$G:$G,ежемесячный!$C:$C,$A23,ежемесячный!$D:$D,$A$1,ежемесячный!$E:$E,P$2)","v":0},{"$f":"SUMIFS(ежемесячный!$F:$F,ежемесячный!$C:$C,$A23,ежемесячный!$D:$D,$A$1,ежемесячный!$E:$E,R$2)","v":0},{"$f":"SUMIFS(ежемесячный!$G:$G,ежемесячный!$C:$C,$A23,ежемесячный!$D:$D,$A$1,ежемесячный!$E:$E,R$2)","v":0},{"$f":"SUMIFS(ежемесячный!$F:$F,ежемесячный!$C:$C,$A23,ежемесячный!$D:$D,$A$1,ежемесячный!$E:$E,T$2)","v":0},{"$f":"SUMIFS(ежемесячный!$G:$G,ежемесячный!$C:$C,$A23,ежемесячный!$D:$D,$A$1,ежемесячный!$E:$E,T$2)","v":0},0]
["2014-03-20",{"$f":"SUMIFS(ежемесячный!$F:$F,ежемесячный!$C:$C,$A24,ежемесячный!$D:$D,$A$1,ежемесячный!$E:$E,B$2)","v":0},{"$f":"SUMIFS(ежемесячный!$G:$G,ежемесячный!$C:$C,$A24,ежемесячный!$D:$D,$A$1,ежемесячный!$E:$E,B$2)","v":0},{"$f":"SUMIFS(ежемесячный!$F:$F,ежемесячный!$C:$C,$A24,ежемесячный!$D:$D,$A$1,ежемесячный!$E:$E,D$2)","v":0},{"$f":"SUMIFS(ежемесячный!$G:$G,ежемесячный!$C:$C,$A24,ежемесячный!$D:$D,$A$1,ежемесячный!$E:$E,D$2)","v":0},{"$f":"SUMIFS(ежемесячный!$F:$F,ежемесячный!$C:$C,$A24,ежемесячный!$D:$D,$A$1,ежемесячный!$E:$E,F$2)","v":0},{"$f":"SUMIFS(ежемесячный!$G:$G,ежемесячный!$C:$C,$A24,ежемесячный!$D:$D,$A$1,ежемесячный!$E:$E,F$2)","v":0},{"$f":"SUMIFS(ежемесячный!$F:$F,ежемесячный!$C:$C,$A24,ежемесячный!$D:$D,$A$1,ежемесячный!$E:$E,H$2)","v":0},{"$f":"SUMIFS(ежемесячный!$G:$G,ежемесячный!$C:$C,$A24,ежемесячный!$D:$D,$A$1,ежемесячный!$E:$E,H$2)","v":0},{"$f":"SUMIFS(ежемесячный!$F:$F,ежемесячный!$C:$C,$A24,ежемесячный!$D:$D,$A$1,ежемесячный!$E:$E,J$2)","v":0},{"$f":"SUMIFS(ежемесячный!$G:$G,ежемесячный!$C:$C,$A24,ежемесячный!$D:$D,$A$1,ежемесячный!$E:$E,J$2)","v":0},{"$f":"SUMIFS(ежемесячный!$F:$F,ежемесячный!$C:$C,$A24,ежемесячный!$D:$D,$A$1,ежемесячный!$E:$E,L$2)","v":0},{"$f":"SUMIFS(ежемесячный!$G:$G,ежемесячный!$C:$C,$A24,ежемесячный!$D:$D,$A$1,ежемесячный!$E:$E,L$2)","v":0},{"$f":"SUMIFS(ежемесячный!$F:$F,ежемесячный!$C:$C,$A24,ежемесячный!$D:$D,$A$1,ежемесячный!$E:$E,N$2)","v":0},{"$f":"SUMIFS(ежемесячный!$G:$G,ежемесячный!$C:$C,$A24,ежемесячный!$D:$D,$A$1,ежемесячный!$E:$E,N$2)","v":0},{"$f":"SUMIFS(ежемесячный!$F:$F,ежемесячный!$C:$C,$A24,ежемесячный!$D:$D,$A$1,ежемесячный!$E:$E,P$2)","v":0},{"$f":"SUMIFS(ежемесячный!$G:$G,ежемесячный!$C:$C,$A24,ежемесячный!$D:$D,$A$1,ежемесячный!$E:$E,P$2)","v":0},{"$f":"SUMIFS(ежемесячный!$F:$F,ежемесячный!$C:$C,$A24,ежемесячный!$D:$D,$A$1,ежемесячный!$E:$E,R$2)","v":0},{"$f":"SUMIFS(ежемесячный!$G:$G,ежемесячный!$C:$C,$A24,ежемесячный!$D:$D,$A$1,ежемесячный!$E:$E,R$2)","v":0},{"$f":"SUMIFS(ежемесячный!$F:$F,ежемесячный!$C:$C,$A24,ежемесячный!$D:$D,$A$1,ежемесячный!$E:$E,T$2)","v":0},{"$f":"SUMIFS(ежемесячный!$G:$G,ежемесячный!$C:$C,$A24,ежемесячный!$D:$D,$A$1,ежемесячный!$E:$E,T$2)","v":0},0]
["2014-03-21",{"$f":"SUMIFS(ежемесячный!$F:$F,ежемесячный!$C:$C,$A25,ежемесячный!$D:$D,$A$1,ежемесячный!$E:$E,B$2)","v":0},{"$f":"SUMIFS(ежемесячный!$G:$G,ежемесячный!$C:$C,$A25,ежемесячный!$D:$D,$A$1,ежемесячный!$E:$E,B$2)","v":0},{"$f":"SUMIFS(ежемесячный!$F:$F,ежемесячный!$C:$C,$A25,ежемесячный!$D:$D,$A$1,ежемесячный!$E:$E,D$2)","v":0},{"$f":"SUMIFS(ежемесячный!$G:$G,ежемесячный!$C:$C,$A25,ежемесячный!$D:$D,$A$1,ежемесячный!$E:$E,D$2)","v":0},{"$f":"SUMIFS(ежемесячный!$F:$F,ежемесячный!$C:$C,$A25,ежемесячный!$D:$D,$A$1,ежемесячный!$E:$E,F$2)","v":0},{"$f":"SUMIFS(ежемесячный!$G:$G,ежемесячный!$C:$C,$A25,ежемесячный!$D:$D,$A$1,ежемесячный!$E:$E,F$2)","v":0},{"$f":"SUMIFS(ежемесячный!$F:$F,ежемесячный!$C:$C,$A25,ежемесячный!$D:$D,$A$1,ежемесячный!$E:$E,H$2)","v":0},{"$f":"SUMIFS(ежемесячный!$G:$G,ежемесячный!$C:$C,$A25,ежемесячный!$D:$D,$A$1,ежемесячный!$E:$E,H$2)","v":0},{"$f":"SUMIFS(ежемесячный!$F:$F,ежемесячный!$C:$C,$A25,ежемесячный!$D:$D,$A$1,ежемесячный!$E:$E,J$2)","v":0},{"$f":"SUMIFS(ежемесячный!$G:$G,ежемесячный!$C:$C,$A25,ежемесячный!$D:$D,$A$1,ежемесячный!$E:$E,J$2)","v":0},{"$f":"SUMIFS(ежемесячный!$F:$F,ежемесячный!$C:$C,$A25,ежемесячный!$D:$D,$A$1,ежемесячный!$E:$E,L$2)","v":0},{"$f":"SUMIFS(ежемесячный!$G:$G,ежемесячный!$C:$C,$A25,ежемесячный!$D:$D,$A$1,ежемесячный!$E:$E,L$2)","v":0},{"$f":"SUMIFS(ежемесячный!$F:$F,ежемесячный!$C:$C,$A25,ежемесячный!$D:$D,$A$1,ежемесячный!$E:$E,N$2)","v":0},{"$f":"SUMIFS(ежемесячный!$G:$G,ежемесячный!$C:$C,$A25,ежемесячный!$D:$D,$A$1,ежемесячный!$E:$E,N$2)","v":0},{"$f":"SUMIFS(ежемесячный!$F:$F,ежемесячный!$C:$C,$A25,ежемесячный!$D:$D,$A$1,ежемесячный!$E:$E,P$2)","v":0},{"$f":"SUMIFS(ежемесячный!$G:$G,ежемесячный!$C:$C,$A25,ежемесячный!$D:$D,$A$1,ежемесячный!$E:$E,P$2)","v":0},{"$f":"SUMIFS(ежемесячный!$F:$F,ежемесячный!$C:$C,$A25,ежемесячный!$D:$D,$A$1,ежемесячный!$E:$E,R$2)","v":0},{"$f":"SUMIFS(ежемесячный!$G:$G,ежемесячный!$C:$C,$A25,ежемесячный!$D:$D,$A$1,ежемесячный!$E:$E,R$2)","v":0},{"$f":"SUMIFS(ежемесячный!$F:$F,ежемесячный!$C:$C,$A25,ежемесячный!$D:$D,$A$1,ежемесячный!$E:$E,T$2)","v":0},{"$f":"SUMIFS(ежемесячный!$G:$G,ежемесячный!$C:$C,$A25,ежемесячный!$D:$D,$A$1,ежемесячный!$E:$E,T$2)","v":0},0]
["2014-03-22",{"$f":"SUMIFS(ежемесячный!$F:$F,ежемесячный!$C:$C,$A26,ежемесячный!$D:$D,$A$1,ежемесячный!$E:$E,B$2)","v":0},{"$f":"SUMIFS(ежемесячный!$G:$G,ежемесячный!$C:$C,$A26,ежемесячный!$D:$D,$A$1,ежемесячный!$E:$E,B$2)","v":0},{"$f":"SUMIFS(ежемесячный!$F:$F,ежемесячный!$C:$C,$A26,ежемесячный!$D:$D,$A$1,ежемесячный!$E:$E,D$2)","v":0},{"$f":"SUMIFS(ежемесячный!$G:$G,ежемесячный!$C:$C,$A26,ежемесячный!$D:$D,$A$1,ежемесячный!$E:$E,D$2)","v":0},{"$f":"SUMIFS(ежемесячный!$F:$F,ежемесячный!$C:$C,$A26,ежемесячный!$D:$D,$A$1,ежемесячный!$E:$E,F$2)","v":0},{"$f":"SUMIFS(ежемесячный!$G:$G,ежемесячный!$C:$C,$A26,ежемесячный!$D:$D,$A$1,ежемесячный!$E:$E,F$2)","v":0},{"$f":"SUMIFS(ежемесячный!$F:$F,ежемесячный!$C:$C,$A26,ежемесячный!$D:$D,$A$1,ежемесячный!$E:$E,H$2)","v":0},{"$f":"SUMIFS(ежемесячный!$G:$G,ежемесячный!$C:$C,$A26,ежемесячный!$D:$D,$A$1,ежемесячный!$E:$E,H$2)","v":0},{"$f":"SUMIFS(ежемесячный!$F:$F,ежемесячный!$C:$C,$A26,ежемесячный!$D:$D,$A$1,ежемесячный!$E:$E,J$2)","v":0},{"$f":"SUMIFS(ежемесячный!$G:$G,ежемесячный!$C:$C,$A26,ежемесячный!$D:$D,$A$1,ежемесячный!$E:$E,J$2)","v":0},{"$f":"SUMIFS(ежемесячный!$F:$F,ежемесячный!$C:$C,$A26,ежемесячный!$D:$D,$A$1,ежемесячный!$E:$E,L$2)","v":0},{"$f":"SUMIFS(ежемесячный!$G:$G,ежемесячный!$C:$C,$A26,ежемесячный!$D:$D,$A$1,ежемесячный!$E:$E,L$2)","v":0},{"$f":"SUMIFS(ежемесячный!$F:$F,ежемесячный!$C:$C,$A26,ежемесячный!$D:$D,$A$1,ежемесячный!$E:$E,N$2)","v":0},{"$f":"SUMIFS(ежемесячный!$G:$G,ежемесячный!$C:$C,$A26,ежемесячный!$D:$D,$A$1,ежемесячный!$E:$E,N$2)","v":0},{"$f":"SUMIFS(ежемесячный!$F:$F,ежемесячный!$C:$C,$A26,ежемесячный!$D:$D,$A$1,ежемесячный!$E:$E,P$2)","v":0},{"$f":"SUMIFS(ежемесячный!$G:$G,ежемесячный!$C:$C,$A26,ежемесячный!$D:$D,$A$1,ежемесячный!$E:$E,P$2)","v":0},{"$f":"SUMIFS(ежемесячный!$F:$F,ежемесячный!$C:$C,$A26,ежемесячный!$D:$D,$A$1,ежемесячный!$E:$E,R$2)","v":0},{"$f":"SUMIFS(ежемесячный!$G:$G,ежемесячный!$C:$C,$A26,ежемесячный!$D:$D,$A$1,ежемесячный!$E:$E,R$2)","v":0},{"$f":"SUMIFS(ежемесячный!$F:$F,ежемесячный!$C:$C,$A26,ежемесячный!$D:$D,$A$1,ежемесячный!$E:$E,T$2)","v":0},{"$f":"SUMIFS(ежемесячный!$G:$G,ежемесячный!$C:$C,$A26,ежемесячный!$D:$D,$A$1,ежемесячный!$E:$E,T$2)","v":0},0]
["2014-03-23",{"$f":"SUMIFS(ежемесячный!$F:$F,ежемесячный!$C:$C,$A27,ежемесячный!$D:$D,$A$1,ежемесячный!$E:$E,B$2)","v":0},{"$f":"SUMIFS(ежемесячный!$G:$G,ежемесячный!$C:$C,$A27,ежемесячный!$D:$D,$A$1,ежемесячный!$E:$E,B$2)","v":0},{"$f":"SUMIFS(ежемесячный!$F:$F,ежемесячный!$C:$C,$A27,ежемесячный!$D:$D,$A$1,ежемесячный!$E:$E,D$2)","v":0},{"$f":"SUMIFS(ежемесячный!$G:$G,ежемесячный!$C:$C,$A27,ежемесячный!$D:$D,$A$1,ежемесячный!$E:$E,D$2)","v":0},{"$f":"SUMIFS(ежемесячный!$F:$F,ежемесячный!$C:$C,$A27,ежемесячный!$D:$D,$A$1,ежемесячный!$E:$E,F$2)","v":0},{"$f":"SUMIFS(ежемесячный!$G:$G,ежемесячный!$C:$C,$A27,ежемесячный!$D:$D,$A$1,ежемесячный!$E:$E,F$2)","v":0},{"$f":"SUMIFS(ежемесячный!$F:$F,ежемесячный!$C:$C,$A27,ежемесячный!$D:$D,$A$1,ежемесячный!$E:$E,H$2)","v":0},{"$f":"SUMIFS(ежемесячный!$G:$G,ежемесячный!$C:$C,$A27,ежемесячный!$D:$D,$A$1,ежемесячный!$E:$E,H$2)","v":0},{"$f":"SUMIFS(ежемесячный!$F:$F,ежемесячный!$C:$C,$A27,ежемесячный!$D:$D,$A$1,ежемесячный!$E:$E,J$2)","v":0},{"$f":"SUMIFS(ежемесячный!$G:$G,ежемесячный!$C:$C,$A27,ежемесячный!$D:$D,$A$1,ежемесячный!$E:$E,J$2)","v":0},{"$f":"SUMIFS(ежемесячный!$F:$F,ежемесячный!$C:$C,$A27,ежемесячный!$D:$D,$A$1,ежемесячный!$E:$E,L$2)","v":0},{"$f":"SUMIFS(ежемесячный!$G:$G,ежемесячный!$C:$C,$A27,ежемесячный!$D:$D,$A$1,ежемесячный!$E:$E,L$2)","v":0},{"$f":"SUMIFS(ежемесячный!$F:$F,ежемесячный!$C:$C,$A27,ежемесячный!$D:$D,$A$1,ежемесячный!$E:$E,N$2)","v":0},{"$f":"SUMIFS(ежемесячный!$G:$G,ежемесячный!$C:$C,$A27,ежемесячный!$D:$D,$A$1,ежемесячный!$E:$E,N$2)","v":0},{"$f":"SUMIFS(ежемесячный!$F:$F,ежемесячный!$C:$C,$A27,ежемесячный!$D:$D,$A$1,ежемесячный!$E:$E,P$2)","v":0},{"$f":"SUMIFS(ежемесячный!$G:$G,ежемесячный!$C:$C,$A27,ежемесячный!$D:$D,$A$1,ежемесячный!$E:$E,P$2)","v":0},{"$f":"SUMIFS(ежемесячный!$F:$F,ежемесячный!$C:$C,$A27,ежемесячный!$D:$D,$A$1,ежемесячный!$E:$E,R$2)","v":0},{"$f":"SUMIFS(ежемесячный!$G:$G,ежемесячный!$C:$C,$A27,ежемесячный!$D:$D,$A$1,ежемесячный!$E:$E,R$2)","v":0},{"$f":"SUMIFS(ежемесячный!$F:$F,ежемесячный!$C:$C,$A27,ежемесячный!$D:$D,$A$1,ежемесячный!$E:$E,T$2)","v":0},{"$f":"SUMIFS(ежемесячный!$G:$G,ежемесячный!$C:$C,$A27,ежемесячный!$D:$D,$A$1,ежемесячный!$E:$E,T$2)","v":0},0]
["2014-03-24",{"$f":"SUMIFS(ежемесячный!$F:$F,ежемесячный!$C:$C,$A28,ежемесячный!$D:$D,$A$1,ежемесячный!$E:$E,B$2)","v":0},{"$f":"SUMIFS(ежемесячный!$G:$G,ежемесячный!$C:$C,$A28,ежемесячный!$D:$D,$A$1,ежемесячный!$E:$E,B$2)","v":0},{"$f":"SUMIFS(ежемесячный!$F:$F,ежемесячный!$C:$C,$A28,ежемесячный!$D:$D,$A$1,ежемесячный!$E:$E,D$2)","v":0},{"$f":"SUMIFS(ежемесячный!$G:$G,ежемесячный!$C:$C,$A28,ежемесячный!$D:$D,$A$1,ежемесячный!$E:$E,D$2)","v":0},{"$f":"SUMIFS(ежемесячный!$F:$F,ежемесячный!$C:$C,$A28,ежемесячный!$D:$D,$A$1,ежемесячный!$E:$E,F$2)","v":0},{"$f":"SUMIFS(ежемесячный!$G:$G,ежемесячный!$C:$C,$A28,ежемесячный!$D:$D,$A$1,ежемесячный!$E:$E,F$2)","v":0},{"$f":"SUMIFS(ежемесячный!$F:$F,ежемесячный!$C:$C,$A28,ежемесячный!$D:$D,$A$1,ежемесячный!$E:$E,H$2)","v":0},{"$f":"SUMIFS(ежемесячный!$G:$G,ежемесячный!$C:$C,$A28,ежемесячный!$D:$D,$A$1,ежемесячный!$E:$E,H$2)","v":0},{"$f":"SUMIFS(ежемесячный!$F:$F,ежемесячный!$C:$C,$A28,ежемесячный!$D:$D,$A$1,ежемесячный!$E:$E,J$2)","v":0},{"$f":"SUMIFS(ежемесячный!$G:$G,ежемесячный!$C:$C,$A28,ежемесячный!$D:$D,$A$1,ежемесячный!$E:$E,J$2)","v":0},{"$f":"SUMIFS(ежемесячный!$F:$F,ежемесячный!$C:$C,$A28,ежемесячный!$D:$D,$A$1,ежемесячный!$E:$E,L$2)","v":0},{"$f":"SUMIFS(ежемесячный!$G:$G,ежемесячный!$C:$C,$A28,ежемесячный!$D:$D,$A$1,ежемесячный!$E:$E,L$2)","v":0},{"$f":"SUMIFS(ежемесячный!$F:$F,ежемесячный!$C:$C,$A28,ежемесячный!$D:$D,$A$1,ежемесячный!$E:$E,N$2)","v":0},{"$f":"SUMIFS(ежемесячный!$G:$G,ежемесячный!$C:$C,$A28,ежемесячный!$D:$D,$A$1,ежемесячный!$E:$E,N$2)","v":0},{"$f":"SUMIFS(ежемесячный!$F:$F,ежемесячный!$C:$C,$A28,ежемесячный!$D:$D,$A$1,ежемесячный!$E:$E,P$2)","v":0},{"$f":"SUMIFS(ежемесячный!$G:$G,ежемесячный!$C:$C,$A28,ежемесячный!$D:$D,$A$1,ежемесячный!$E:$E,P$2)","v":0},{"$f":"SUMIFS(ежемесячный!$F:$F,ежемесячный!$C:$C,$A28,ежемесячный!$D:$D,$A$1,ежемесячный!$E:$E,R$2)","v":0},{"$f":"SUMIFS(ежемесячный!$G:$G,ежемесячный!$C:$C,$A28,ежемесячный!$D:$D,$A$1,ежемесячный!$E:$E,R$2)","v":0},{"$f":"SUMIFS(ежемесячный!$F:$F,ежемесячный!$C:$C,$A28,ежемесячный!$D:$D,$A$1,ежемесячный!$E:$E,T$2)","v":0},{"$f":"SUMIFS(ежемесячный!$G:$G,ежемесячный!$C:$C,$A28,ежемесячный!$D:$D,$A$1,ежемесячный!$E:$E,T$2)","v":0},0]
["2014-03-25",{"$f":"SUMIFS(ежемесячный!$F:$F,ежемесячный!$C:$C,$A29,ежемесячный!$D:$D,$A$1,ежемесячный!$E:$E,B$2)","v":0},{"$f":"SUMIFS(ежемесячный!$G:$G,ежемесячный!$C:$C,$A29,ежемесячный!$D:$D,$A$1,ежемесячный!$E:$E,B$2)","v":0},{"$f":"SUMIFS(ежемесячный!$F:$F,ежемесячный!$C:$C,$A29,ежемесячный!$D:$D,$A$1,ежемесячный!$E:$E,D$2)","v":0},{"$f":"SUMIFS(ежемесячный!$G:$G,ежемесячный!$C:$C,$A29,ежемесячный!$D:$D,$A$1,ежемесячный!$E:$E,D$2)","v":0},{"$f":"SUMIFS(ежемесячный!$F:$F,ежемесячный!$C:$C,$A29,ежемесячный!$D:$D,$A$1,ежемесячный!$E:$E,F$2)","v":0},{"$f":"SUMIFS(ежемесячный!$G:$G,ежемесячный!$C:$C,$A29,ежемесячный!$D:$D,$A$1,ежемесячный!$E:$E,F$2)","v":0},{"$f":"SUMIFS(ежемесячный!$F:$F,ежемесячный!$C:$C,$A29,ежемесячный!$D:$D,$A$1,ежемесячный!$E:$E,H$2)","v":0},{"$f":"SUMIFS(ежемесячный!$G:$G,ежемесячный!$C:$C,$A29,ежемесячный!$D:$D,$A$1,ежемесячный!$E:$E,H$2)","v":0},{"$f":"SUMIFS(ежемесячный!$F:$F,ежемесячный!$C:$C,$A29,ежемесячный!$D:$D,$A$1,ежемесячный!$E:$E,J$2)","v":0},{"$f":"SUMIFS(ежемесячный!$G:$G,ежемесячный!$C:$C,$A29,ежемесячный!$D:$D,$A$1,ежемесячный!$E:$E,J$2)","v":0},{"$f":"SUMIFS(ежемесячный!$F:$F,ежемесячный!$C:$C,$A29,ежемесячный!$D:$D,$A$1,ежемесячный!$E:$E,L$2)","v":0},{"$f":"SUMIFS(ежемесячный!$G:$G,ежемесячный!$C:$C,$A29,ежемесячный!$D:$D,$A$1,ежемесячный!$E:$E,L$2)","v":0},{"$f":"SUMIFS(ежемесячный!$F:$F,ежемесячный!$C:$C,$A29,ежемесячный!$D:$D,$A$1,ежемесячный!$E:$E,N$2)","v":0},{"$f":"SUMIFS(ежемесячный!$G:$G,ежемесячный!$C:$C,$A29,ежемесячный!$D:$D,$A$1,ежемесячный!$E:$E,N$2)","v":0},{"$f":"SUMIFS(ежемесячный!$F:$F,ежемесячный!$C:$C,$A29,ежемесячный!$D:$D,$A$1,ежемесячный!$E:$E,P$2)","v":0},{"$f":"SUMIFS(ежемесячный!$G:$G,ежемесячный!$C:$C,$A29,ежемесячный!$D:$D,$A$1,ежемесячный!$E:$E,P$2)","v":0},{"$f":"SUMIFS(ежемесячный!$F:$F,ежемесячный!$C:$C,$A29,ежемесячный!$D:$D,$A$1,ежемесячный!$E:$E,R$2)","v":0},{"$f":"SUMIFS(ежемесячный!$G:$G,ежемесячный!$C:$C,$A29,ежемесячный!$D:$D,$A$1,ежемесячный!$E:$E,R$2)","v":0},{"$f":"SUMIFS(ежемесячный!$F:$F,ежемесячный!$C:$C,$A29,ежемесячный!$D:$D,$A$1,ежемесячный!$E:$E,T$2)","v":0},{"$f":"SUMIFS(ежемесячный!$G:$G,ежемесячный!$C:$C,$A29,ежемесячный!$D:$D,$A$1,ежемесячный!$E:$E,T$2)","v":0},0]
["2014-03-26",{"$f":"SUMIFS(ежемесячный!$F:$F,ежемесячный!$C:$C,$A30,ежемесячный!$D:$D,$A$1,ежемесячный!$E:$E,B$2)","v":0},{"$f":"SUMIFS(ежемесячный!$G:$G,ежемесячный!$C:$C,$A30,ежемесячный!$D:$D,$A$1,ежемесячный!$E:$E,B$2)","v":0},{"$f":"SUMIFS(ежемесячный!$F:$F,ежемесячный!$C:$C,$A30,ежемесячный!$D:$D,$A$1,ежемесячный!$E:$E,D$2)","v":0},{"$f":"SUMIFS(ежемесячный!$G:$G,ежемесячный!$C:$C,$A30,ежемесячный!$D:$D,$A$1,ежемесячный!$E:$E,D$2)","v":0},{"$f":"SUMIFS(ежемесячный!$F:$F,ежемесячный!$C:$C,$A30,ежемесячный!$D:$D,$A$1,ежемесячный!$E:$E,F$2)","v":0},{"$f":"SUMIFS(ежемесячный!$G:$G,ежемесячный!$C:$C,$A30,ежемесячный!$D:$D,$A$1,ежемесячный!$E:$E,F$2)","v":0},{"$f":"SUMIFS(ежемесячный!$F:$F,ежемесячный!$C:$C,$A30,ежемесячный!$D:$D,$A$1,ежемесячный!$E:$E,H$2)","v":0},{"$f":"SUMIFS(ежемесячный!$G:$G,ежемесячный!$C:$C,$A30,ежемесячный!$D:$D,$A$1,ежемесячный!$E:$E,H$2)","v":0},{"$f":"SUMIFS(ежемесячный!$F:$F,ежемесячный!$C:$C,$A30,ежемесячный!$D:$D,$A$1,ежемесячный!$E:$E,J$2)","v":0},{"$f":"SUMIFS(ежемесячный!$G:$G,ежемесячный!$C:$C,$A30,ежемесячный!$D:$D,$A$1,ежемесячный!$E:$E,J$2)","v":0},{"$f":"SUMIFS(ежемесячный!$F:$F,ежемесячный!$C:$C,$A30,ежемесячный!$D:$D,$A$1,ежемесячный!$E:$E,L$2)","v":0},{"$f":"SUMIFS(ежемесячный!$G:$G,ежемесячный!$C:$C,$A30,ежемесячный!$D:$D,$A$1,ежемесячный!$E:$E,L$2)","v":0},{"$f":"SUMIFS(ежемесячный!$F:$F,ежемесячный!$C:$C,$A30,ежемесячный!$D:$D,$A$1,ежемесячный!$E:$E,N$2)","v":0},{"$f":"SUMIFS(ежемесячный!$G:$G,ежемесячный!$C:$C,$A30,ежемесячный!$D:$D,$A$1,ежемесячный!$E:$E,N$2)","v":0},{"$f":"SUMIFS(ежемесячный!$F:$F,ежемесячный!$C:$C,$A30,ежемесячный!$D:$D,$A$1,ежемесячный!$E:$E,P$2)","v":0},{"$f":"SUMIFS(ежемесячный!$G:$G,ежемесячный!$C:$C,$A30,ежемесячный!$D:$D,$A$1,ежемесячный!$E:$E,P$2)","v":0},{"$f":"SUMIFS(ежемесячный!$F:$F,ежемесячный!$C:$C,$A30,ежемесячный!$D:$D,$A$1,ежемесячный!$E:$E,R$2)","v":0},{"$f":"SUMIFS(ежемесячный!$G:$G,ежемесячный!$C:$C,$A30,ежемесячный!$D:$D,$A$1,ежемесячный!$E:$E,R$2)","v":0},{"$f":"SUMIFS(ежемесячный!$F:$F,ежемесячный!$C:$C,$A30,ежемесячный!$D:$D,$A$1,ежемесячный!$E:$E,T$2)","v":0},{"$f":"SUMIFS(ежемесячный!$G:$G,ежемесячный!$C:$C,$A30,ежемесячный!$D:$D,$A$1,ежемесячный!$E:$E,T$2)","v":0},0]
["2014-03-27",{"$f":"SUMIFS(ежемесячный!$F:$F,ежемесячный!$C:$C,$A31,ежемесячный!$D:$D,$A$1,ежемесячный!$E:$E,B$2)","v":0},{"$f":"SUMIFS(ежемесячный!$G:$G,ежемесячный!$C:$C,$A31,ежемесячный!$D:$D,$A$1,ежемесячный!$E:$E,B$2)","v":0},{"$f":"SUMIFS(ежемесячный!$F:$F,ежемесячный!$C:$C,$A31,ежемесячный!$D:$D,$A$1,ежемесячный!$E:$E,D$2)","v":0},{"$f":"SUMIFS(ежемесячный!$G:$G,ежемесячный!$C:$C,$A31,ежемесячный!$D:$D,$A$1,ежемесячный!$E:$E,D$2)","v":0},{"$f":"SUMIFS(ежемесячный!$F:$F,ежемесячный!$C:$C,$A31,ежемесячный!$D:$D,$A$1,ежемесячный!$E:$E,F$2)","v":0},{"$f":"SUMIFS(ежемесячный!$G:$G,ежемесячный!$C:$C,$A31,ежемесячный!$D:$D,$A$1,ежемесячный!$E:$E,F$2)","v":0},{"$f":"SUMIFS(ежемесячный!$F:$F,ежемесячный!$C:$C,$A31,ежемесячный!$D:$D,$A$1,ежемесячный!$E:$E,H$2)","v":0},{"$f":"SUMIFS(ежемесячный!$G:$G,ежемесячный!$C:$C,$A31,ежемесячный!$D:$D,$A$1,ежемесячный!$E:$E,H$2)","v":0},{"$f":"SUMIFS(ежемесячный!$F:$F,ежемесячный!$C:$C,$A31,ежемесячный!$D:$D,$A$1,ежемесячный!$E:$E,J$2)","v":0},{"$f":"SUMIFS(ежемесячный!$G:$G,ежемесячный!$C:$C,$A31,ежемесячный!$D:$D,$A$1,ежемесячный!$E:$E,J$2)","v":0},{"$f":"SUMIFS(ежемесячный!$F:$F,ежемесячный!$C:$C,$A31,ежемесячный!$D:$D,$A$1,ежемесячный!$E:$E,L$2)","v":0},{"$f":"SUMIFS(ежемесячный!$G:$G,ежемесячный!$C:$C,$A31,ежемесячный!$D:$D,$A$1,ежемесячный!$E:$E,L$2)","v":0},{"$f":"SUMIFS(ежемесячный!$F:$F,ежемесячный!$C:$C,$A31,ежемесячный!$D:$D,$A$1,ежемесячный!$E:$E,N$2)","v":0},{"$f":"SUMIFS(ежемесячный!$G:$G,ежемесячный!$C:$C,$A31,ежемесячный!$D:$D,$A$1,ежемесячный!$E:$E,N$2)","v":0},{"$f":"SUMIFS(ежемесячный!$F:$F,ежемесячный!$C:$C,$A31,ежемесячный!$D:$D,$A$1,ежемесячный!$E:$E,P$2)","v":0},{"$f":"SUMIFS(ежемесячный!$G:$G,ежемесячный!$C:$C,$A31,ежемесячный!$D:$D,$A$1,ежемесячный!$E:$E,P$2)","v":0},{"$f":"SUMIFS(ежемесячный!$F:$F,ежемесячный!$C:$C,$A31,ежемесячный!$D:$D,$A$1,ежемесячный!$E:$E,R$2)","v":0},{"$f":"SUMIFS(ежемесячный!$G:$G,ежемесячный!$C:$C,$A31,ежемесячный!$D:$D,$A$1,ежемесячный!$E:$E,R$2)","v":0},{"$f":"SUMIFS(ежемесячный!$F:$F,ежемесячный!$C:$C,$A31,ежемесячный!$D:$D,$A$1,ежемесячный!$E:$E,T$2)","v":0},{"$f":"SUMIFS(ежемесячный!$G:$G,ежемесячный!$C:$C,$A31,ежемесячный!$D:$D,$A$1,ежемесячный!$E:$E,T$2)","v":0},0]
["2014-03-28",{"$f":"SUMIFS(ежемесячный!$F:$F,ежемесячный!$C:$C,$A32,ежемесячный!$D:$D,$A$1,ежемесячный!$E:$E,B$2)","v":0},{"$f":"SUMIFS(ежемесячный!$G:$G,ежемесячный!$C:$C,$A32,ежемесячный!$D:$D,$A$1,ежемесячный!$E:$E,B$2)","v":0},{"$f":"SUMIFS(ежемесячный!$F:$F,ежемесячный!$C:$C,$A32,ежемесячный!$D:$D,$A$1,ежемесячный!$E:$E,D$2)","v":0},{"$f":"SUMIFS(ежемесячный!$G:$G,ежемесячный!$C:$C,$A32,ежемесячный!$D:$D,$A$1,ежемесячный!$E:$E,D$2)","v":0},{"$f":"SUMIFS(ежемесячный!$F:$F,ежемесячный!$C:$C,$A32,ежемесячный!$D:$D,$A$1,ежемесячный!$E:$E,F$2)","v":0},{"$f":"SUMIFS(ежемесячный!$G:$G,ежемесячный!$C:$C,$A32,ежемесячный!$D:$D,$A$1,ежемесячный!$E:$E,F$2)","v":0},{"$f":"SUMIFS(ежемесячный!$F:$F,ежемесячный!$C:$C,$A32,ежемесячный!$D:$D,$A$1,ежемесячный!$E:$E,H$2)","v":0},{"$f":"SUMIFS(ежемесячный!$G:$G,ежемесячный!$C:$C,$A32,ежемесячный!$D:$D,$A$1,ежемесячный!$E:$E,H$2)","v":0},{"$f":"SUMIFS(ежемесячный!$F:$F,ежемесячный!$C:$C,$A32,ежемесячный!$D:$D,$A$1,ежемесячный!$E:$E,J$2)","v":0},{"$f":"SUMIFS(ежемесячный!$G:$G,ежемесячный!$C:$C,$A32,ежемесячный!$D:$D,$A$1,ежемесячный!$E:$E,J$2)","v":0},{"$f":"SUMIFS(ежемесячный!$F:$F,ежемесячный!$C:$C,$A32,ежемесячный!$D:$D,$A$1,ежемесячный!$E:$E,L$2)","v":0},{"$f":"SUMIFS(ежемесячный!$G:$G,ежемесячный!$C:$C,$A32,ежемесячный!$D:$D,$A$1,ежемесячный!$E:$E,L$2)","v":0},{"$f":"SUMIFS(ежемесячный!$F:$F,ежемесячный!$C:$C,$A32,ежемесячный!$D:$D,$A$1,ежемесячный!$E:$E,N$2)","v":0},{"$f":"SUMIFS(ежемесячный!$G:$G,ежемесячный!$C:$C,$A32,ежемесячный!$D:$D,$A$1,ежемесячный!$E:$E,N$2)","v":0},{"$f":"SUMIFS(ежемесячный!$F:$F,ежемесячный!$C:$C,$A32,ежемесячный!$D:$D,$A$1,ежемесячный!$E:$E,P$2)","v":0},{"$f":"SUMIFS(ежемесячный!$G:$G,ежемесячный!$C:$C,$A32,ежемесячный!$D:$D,$A$1,ежемесячный!$E:$E,P$2)","v":0},{"$f":"SUMIFS(ежемесячный!$F:$F,ежемесячный!$C:$C,$A32,ежемесячный!$D:$D,$A$1,ежемесячный!$E:$E,R$2)","v":0},{"$f":"SUMIFS(ежемесячный!$G:$G,ежемесячный!$C:$C,$A32,ежемесячный!$D:$D,$A$1,ежемесячный!$E:$E,R$2)","v":0},{"$f":"SUMIFS(ежемесячный!$F:$F,ежемесячный!$C:$C,$A32,ежемесячный!$D:$D,$A$1,ежемесячный!$E:$E,T$2)","v":0},{"$f":"SUMIFS(ежемесячный!$G:$G,ежемесячный!$C:$C,$A32,ежемесячный!$D:$D,$A$1,ежемесячный!$E:$E,T$2)","v":0},0]
["2014-03-29",{"$f":"SUMIFS(ежемесячный!$F:$F,ежемесячный!$C:$C,$A33,ежемесячный!$D:$D,$A$1,ежемесячный!$E:$E,B$2)","v":0},{"$f":"SUMIFS(ежемесячный!$G:$G,ежемесячный!$C:$C,$A33,ежемесячный!$D:$D,$A$1,ежемесячный!$E:$E,B$2)","v":0},{"$f":"SUMIFS(ежемесячный!$F:$F,ежемесячный!$C:$C,$A33,ежемесячный!$D:$D,$A$1,ежемесячный!$E:$E,D$2)","v":0},{"$f":"SUMIFS(ежемесячный!$G:$G,ежемесячный!$C:$C,$A33,ежемесячный!$D:$D,$A$1,ежемесячный!$E:$E,D$2)","v":0},{"$f":"SUMIFS(ежемесячный!$F:$F,ежемесячный!$C:$C,$A33,ежемесячный!$D:$D,$A$1,ежемесячный!$E:$E,F$2)","v":0},{"$f":"SUMIFS(ежемесячный!$G:$G,ежемесячный!$C:$C,$A33,ежемесячный!$D:$D,$A$1,ежемесячный!$E:$E,F$2)","v":0},{"$f":"SUMIFS(ежемесячный!$F:$F,ежемесячный!$C:$C,$A33,ежемесячный!$D:$D,$A$1,ежемесячный!$E:$E,H$2)","v":0},{"$f":"SUMIFS(ежемесячный!$G:$G,ежемесячный!$C:$C,$A33,ежемесячный!$D:$D,$A$1,ежемесячный!$E:$E,H$2)","v":0},{"$f":"SUMIFS(ежемесячный!$F:$F,ежемесячный!$C:$C,$A33,ежемесячный!$D:$D,$A$1,ежемесячный!$E:$E,J$2)","v":0},{"$f":"SUMIFS(ежемесячный!$G:$G,ежемесячный!$C:$C,$A33,ежемесячный!$D:$D,$A$1,ежемесячный!$E:$E,J$2)","v":0},{"$f":"SUMIFS(ежемесячный!$F:$F,ежемесячный!$C:$C,$A33,ежемесячный!$D:$D,$A$1,ежемесячный!$E:$E,L$2)","v":0},{"$f":"SUMIFS(ежемесячный!$G:$G,ежемесячный!$C:$C,$A33,ежемесячный!$D:$D,$A$1,ежемесячный!$E:$E,L$2)","v":0},{"$f":"SUMIFS(ежемесячный!$F:$F,ежемесячный!$C:$C,$A33,ежемесячный!$D:$D,$A$1,ежемесячный!$E:$E,N$2)","v":0},{"$f":"SUMIFS(ежемесячный!$G:$G,ежемесячный!$C:$C,$A33,ежемесячный!$D:$D,$A$1,ежемесячный!$E:$E,N$2)","v":0},{"$f":"SUMIFS(ежемесячный!$F:$F,ежемесячный!$C:$C,$A33,ежемесячный!$D:$D,$A$1,ежемесячный!$E:$E,P$2)","v":0},{"$f":"SUMIFS(ежемесячный!$G:$G,ежемесячный!$C:$C,$A33,ежемесячный!$D:$D,$A$1,ежемесячный!$E:$E,P$2)","v":0},{"$f":"SUMIFS(ежемесячный!$F:$F,ежемесячный!$C:$C,$A33,ежемесячный!$D:$D,$A$1,ежемесячный!$E:$E,R$2)","v":0},{"$f":"SUMIFS(ежемесячный!$G:$G,ежемесячный!$C:$C,$A33,ежемесячный!$D:$D,$A$1,ежемесячный!$E:$E,R$2)","v":0},{"$f":"SUMIFS(ежемесячный!$F:$F,ежемесячный!$C:$C,$A33,ежемесячный!$D:$D,$A$1,ежемесячный!$E:$E,T$2)","v":0},{"$f":"SUMIFS(ежемесячный!$G:$G,ежемесячный!$C:$C,$A33,ежемесячный!$D:$D,$A$1,ежемесячный!$E:$E,T$2)","v":0},0]
["2014-03-30",{"$f":"SUMIFS(ежемесячный!$F:$F,ежемесячный!$C:$C,$A34,ежемесячный!$D:$D,$A$1,ежемесячный!$E:$E,B$2)","v":0},{"$f":"SUMIFS(ежемесячный!$G:$G,ежемесячный!$C:$C,$A34,ежемесячный!$D:$D,$A$1,ежемесячный!$E:$E,B$2)","v":0},{"$f":"SUMIFS(ежемесячный!$F:$F,ежемесячный!$C:$C,$A34,ежемесячный!$D:$D,$A$1,ежемесячный!$E:$E,D$2)","v":0},{"$f":"SUMIFS(ежемесячный!$G:$G,ежемесячный!$C:$C,$A34,ежемесячный!$D:$D,$A$1,ежемесячный!$E:$E,D$2)","v":0},{"$f":"SUMIFS(ежемесячный!$F:$F,ежемесячный!$C:$C,$A34,ежемесячный!$D:$D,$A$1,ежемесячный!$E:$E,F$2)","v":0},{"$f":"SUMIFS(ежемесячный!$G:$G,ежемесячный!$C:$C,$A34,ежемесячный!$D:$D,$A$1,ежемесячный!$E:$E,F$2)","v":0},{"$f":"SUMIFS(ежемесячный!$F:$F,ежемесячный!$C:$C,$A34,ежемесячный!$D:$D,$A$1,ежемесячный!$E:$E,H$2)","v":0},{"$f":"SUMIFS(ежемесячный!$G:$G,ежемесячный!$C:$C,$A34,ежемесячный!$D:$D,$A$1,ежемесячный!$E:$E,H$2)","v":0},{"$f":"SUMIFS(ежемесячный!$F:$F,ежемесячный!$C:$C,$A34,ежемесячный!$D:$D,$A$1,ежемесячный!$E:$E,J$2)","v":0},{"$f":"SUMIFS(ежемесячный!$G:$G,ежемесячный!$C:$C,$A34,ежемесячный!$D:$D,$A$1,ежемесячный!$E:$E,J$2)","v":0},{"$f":"SUMIFS(ежемесячный!$F:$F,ежемесячный!$C:$C,$A34,ежемесячный!$D:$D,$A$1,ежемесячный!$E:$E,L$2)","v":0},{"$f":"SUMIFS(ежемесячный!$G:$G,ежемесячный!$C:$C,$A34,ежемесячный!$D:$D,$A$1,ежемесячный!$E:$E,L$2)","v":0},{"$f":"SUMIFS(ежемесячный!$F:$F,ежемесячный!$C:$C,$A34,ежемесячный!$D:$D,$A$1,ежемесячный!$E:$E,N$2)","v":0},{"$f":"SUMIFS(ежемесячный!$G:$G,ежемесячный!$C:$C,$A34,ежемесячный!$D:$D,$A$1,ежемесячный!$E:$E,N$2)","v":0},{"$f":"SUMIFS(ежемесячный!$F:$F,ежемесячный!$C:$C,$A34,ежемесячный!$D:$D,$A$1,ежемесячный!$E:$E,P$2)","v":0},{"$f":"SUMIFS(ежемесячный!$G:$G,ежемесячный!$C:$C,$A34,ежемесячный!$D:$D,$A$1,ежемесячный!$E:$E,P$2)","v":0},{"$f":"SUMIFS(ежемесячный!$F:$F,ежемесячный!$C:$C,$A34,ежемесячный!$D:$D,$A$1,ежемесячный!$E:$E,R$2)","v":0},{"$f":"SUMIFS(ежемесячный!$G:$G,ежемесячный!$C:$C,$A34,ежемесячный!$D:$D,$A$1,ежемесячный!$E:$E,R$2)","v":0},{"$f":"SUMIFS(ежемесячный!$F:$F,ежемесячный!$C:$C,$A34,ежемесячный!$D:$D,$A$1,ежемесячный!$E:$E,T$2)","v":0},{"$f":"SUMIFS(ежемесячный!$G:$G,ежемесячный!$C:$C,$A34,ежемесячный!$D:$D,$A$1,ежемесячный!$E:$E,T$2)","v":0},0]
["2014-03-31",{"$f":"SUMIFS(ежемесячный!$F:$F,ежемесячный!$C:$C,$A35,ежемесячный!$D:$D,$A$1,ежемесячный!$E:$E,B$2)","v":0},{"$f":"SUMIFS(ежемесячный!$G:$G,ежемесячный!$C:$C,$A35,ежемесячный!$D:$D,$A$1,ежемесячный!$E:$E,B$2)","v":0},{"$f":"SUMIFS(ежемесячный!$F:$F,ежемесячный!$C:$C,$A35,ежемесячный!$D:$D,$A$1,ежемесячный!$E:$E,D$2)","v":0},{"$f":"SUMIFS(ежемесячный!$G:$G,ежемесячный!$C:$C,$A35,ежемесячный!$D:$D,$A$1,ежемесячный!$E:$E,D$2)","v":0},{"$f":"SUMIFS(ежемесячный!$F:$F,ежемесячный!$C:$C,$A35,ежемесячный!$D:$D,$A$1,ежемесячный!$E:$E,F$2)","v":0},{"$f":"SUMIFS(ежемесячный!$G:$G,ежемесячный!$C:$C,$A35,ежемесячный!$D:$D,$A$1,ежемесячный!$E:$E,F$2)","v":0},{"$f":"SUMIFS(ежемесячный!$F:$F,ежемесячный!$C:$C,$A35,ежемесячный!$D:$D,$A$1,ежемесячный!$E:$E,H$2)","v":0},{"$f":"SUMIFS(ежемесячный!$G:$G,ежемесячный!$C:$C,$A35,ежемесячный!$D:$D,$A$1,ежемесячный!$E:$E,H$2)","v":0},{"$f":"SUMIFS(ежемесячный!$F:$F,ежемесячный!$C:$C,$A35,ежемесячный!$D:$D,$A$1,ежемесячный!$E:$E,J$2)","v":0},{"$f":"SUMIFS(ежемесячный!$G:$G,ежемесячный!$C:$C,$A35,ежемесячный!$D:$D,$A$1,ежемесячный!$E:$E,J$2)","v":0},{"$f":"SUMIFS(ежемесячный!$F:$F,ежемесячный!$C:$C,$A35,ежемесячный!$D:$D,$A$1,ежемесячный!$E:$E,L$2)","v":0},{"$f":"SUMIFS(ежемесячный!$G:$G,ежемесячный!$C:$C,$A35,ежемесячный!$D:$D,$A$1,ежемесячный!$E:$E,L$2)","v":0},{"$f":"SUMIFS(ежемесячный!$F:$F,ежемесячный!$C:$C,$A35,ежемесячный!$D:$D,$A$1,ежемесячный!$E:$E,N$2)","v":0},{"$f":"SUMIFS(ежемесячный!$G:$G,ежемесячный!$C:$C,$A35,ежемесячный!$D:$D,$A$1,ежемесячный!$E:$E,N$2)","v":0},{"$f":"SUMIFS(ежемесячный!$F:$F,ежемесячный!$C:$C,$A35,ежемесячный!$D:$D,$A$1,ежемесячный!$E:$E,P$2)","v":0},{"$f":"SUMIFS(ежемесячный!$G:$G,ежемесячный!$C:$C,$A35,ежемесячный!$D:$D,$A$1,ежемесячный!$E:$E,P$2)","v":0},{"$f":"SUMIFS(ежемесячный!$F:$F,ежемесячный!$C:$C,$A35,ежемесячный!$D:$D,$A$1,ежемесячный!$E:$E,R$2)","v":0},{"$f":"SUMIFS(ежемесячный!$G:$G,ежемесячный!$C:$C,$A35,ежемесячный!$D:$D,$A$1,ежемесячный!$E:$E,R$2)","v":0},{"$f":"SUMIFS(ежемесячный!$F:$F,ежемесячный!$C:$C,$A35,ежемесячный!$D:$D,$A$1,ежемесячный!$E:$E,T$2)","v":0},{"$f":"SUMIFS(ежемесячный!$G:$G,ежемесячный!$C:$C,$A35,ежемесячный!$D:$D,$A$1,ежемесячный!$E:$E,T$2)","v":0},0]
[null,{"$f":"SUM(B5:B35)","v":0},{"$f":"SUM(C5:C35)","v":0},{"$f":"SUM(D5:D35)","v":0},0,0,0,0,0,0,0,0,0,null,0,null,0,null,0,0,0,0]
[]
[null,"кол-во прин.ПО",null,{"$f":"B36+D36+F36+H36+J36+L36+T36","v":0}]
[null,"сумма доходов",null,{"$f":"V36","v":0}]

{"sheet":"Сигнал плюс","index":7,"n_rows":39,"n_cols":22,"rows_kept":39,"cut":false,"hidden":false,"merged":[[1,21,3,21],[1,0,3,0],[1,1,1,2],[1,3,1,4],[1,5,1,6],[1,7,1,8],[1,9,1,10],[2,1,2,2],[2,3,2,4],[2,5,2,6],[2,7,2,8],[1,11,1,12],[1,13,1,14],[1,15,1,16],[1,17,1,18],[1,19,1,20],[2,11,2,12],[2,13,2,14],[2,15,2,16],[2,17,2,18],[2,19,2,20],[37,1,37,2],[37,3,37,4],[38,1,38,2],[38,3,38,4],[2,9,2,10]]}
[{"$f":"MID(CELL(\"имяфайла\",B2),SEARCH(\"]\",CELL(\"имяфайла\",B2),1)+1,99)","v":"Сигнал плюс"}]
["Число месяца","заказные отправления",null,"простые отправления",null,"посылки",null,"мелкие пакеты, ценные письма",null,"EMS внутренние",null,"EMS международные",null,"доп.услуги",null,"товары почты",null,"маркиров. прод.",null,"переводы",null,"Итого доходы"]
[null,"(116, 161)",null,"(117, 165)",null," (151, 156)",null,"(121)",null,"  (181 ,182)",null,"  (321, 322)",null,"(241, 311)",null,"(641)",null,"(111)",null,"(138,139,144,145,146,149)"]
[null,"кол-во","доходы","кол-во","доходы","кол-во","доходы","кол-во","доходы","кол-во","доходы","кол-во","доходы","кол-во","доходы","кол-во","доходы","кол-во","доходы","кол-во","доходы"]
["2014-03-01",{"$f":"SUMIFS(ежемесячный!$F:$F,ежемесячный!$C:$C,$A5,ежемесячный!$D:$D,$A$1,ежемесячный!$E:$E,B$2)","v":0},{"$f":"SUMIFS(ежемесячный!$G:$G,ежемесячный!$C:$C,$A5,ежемесячный!$D:$D,$A$1,ежемесячный!$E:$E,B$2)","v":0},{"$f":"SUMIFS(ежемесячный!$F:$F,ежемесячный!$C:$C,$A5,ежемесячный!$D:$D,$A$1,ежемесячный!$E:$E,D$2)","v":0},{"$f":"SUMIFS(ежемесячный!$G:$G,ежемесячный!$C:$C,$A5,ежемесячный!$D:$D,$A$1,ежемесячный!$E:$E,D$2)","v":0},{"$f":"SUMIFS(ежемесячный!$F:$F,ежемесячный!$C:$C,$A5,ежемесячный!$D:$D,$A$1,ежемесячный!$E:$E,F$2)","v":0},{"$f":"SUMIFS(ежемесячный!$G:$G,ежемесячный!$C:$C,$A5,ежемесячный!$D:$D,$A$1,ежемесячный!$E:$E,F$2)","v":0},{"$f":"SUMIFS(ежемесячный!$F:$F,ежемесячный!$C:$C,$A5,ежемесячный!$D:$D,$A$1,ежемесячный!$E:$E,H$2)","v":0},{"$f":"SUMIFS(ежемесячный!$G:$G,ежемесячный!$C:$C,$A5,ежемесячный!$D:$D,$A$1,ежемесячный!$E:$E,H$2)","v":0},{"$f":"SUMIFS(ежемесячный!$F:$F,ежемесячный!$C:$C,$A5,ежемесячный!$D:$D,$A$1,ежемесячный!$E:$E,J$2)","v":0},{"$f":"SUMIFS(ежемесячный!$G:$G,ежемесячный!$C:$C,$A5,ежемесячный!$D:$D,$A$1,ежемесячный!$E:$E,J$2)","v":0},{"$f":"SUMIFS(ежемесячный!$F:$F,ежемесячный!$C:$C,$A5,ежемесячный!$D:$D,$A$1,ежемесячный!$E:$E,L$2)","v":0},{"$f":"SUMIFS(ежемесячный!$G:$G,ежемесячный!$C:$C,$A5,ежемесячный!$D:$D,$A$1,ежемесячный!$E:$E,L$2)","v":0},{"$f":"SUMIFS(ежемесячный!$F:$F,ежемесячный!$C:$C,$A5,ежемесячный!$D:$D,$A$1,ежемесячный!$E:$E,N$2)","v":0},{"$f":"SUMIFS(ежемесячный!$G:$G,ежемесячный!$C:$C,$A5,ежемесячный!$D:$D,$A$1,ежемесячный!$E:$E,N$2)","v":0},{"$f":"SUMIFS(ежемесячный!$F:$F,ежемесячный!$C:$C,$A5,ежемесячный!$D:$D,$A$1,ежемесячный!$E:$E,P$2)","v":0},{"$f":"SUMIFS(ежемесячный!$G:$G,ежемесячный!$C:$C,$A5,ежемесячный!$D:$D,$A$1,ежемесячный!$E:$E,P$2)","v":0},{"$f":"SUMIFS(ежемесячный!$F:$F,ежемесячный!$C:$C,$A5,ежемесячный!$D:$D,$A$1,ежемесячный!$E:$E,R$2)","v":0},{"$f":"SUMIFS(ежемесячный!$G:$G,ежемесячный!$C:$C,$A5,ежемесячный!$D:$D,$A$1,ежемесячный!$E:$E,R$2)","v":0},{"$f":"SUMIFS(ежемесячный!$F:$F,ежемесячный!$C:$C,$A5,ежемесячный!$D:$D,$A$1,ежемесячный!$E:$E,T$2)","v":0},{"$f":"SUMIFS(ежемесячный!$G:$G,ежемесячный!$C:$C,$A5,ежемесячный!$D:$D,$A$1,ежемесячный!$E:$E,T$2)","v":0},{"$f":"U5+S5+Q5+O5+M5+K5+I5+G5+E5+C5","v":0}]
["2014-03-02",{"$f":"SUMIFS(ежемесячный!$F:$F,ежемесячный!$C:$C,$A6,ежемесячный!$D:$D,$A$1,ежемесячный!$E:$E,B$2)","v":0},{"$f":"SUMIFS(ежемесячный!$G:$G,ежемесячный!$C:$C,$A6,ежемесячный!$D:$D,$A$1,ежемесячный!$E:$E,B$2)","v":0},{"$f":"SUMIFS(ежемесячный!$F:$F,ежемесячный!$C:$C,$A6,ежемесячный!$D:$D,$A$1,ежемесячный!$E:$E,D$2)","v":0},{"$f":"SUMIFS(ежемесячный!$G:$G,ежемесячный!$C:$C,$A6,ежемесячный!$D:$D,$A$1,ежемесячный!$E:$E,D$2)","v":0},{"$f":"SUMIFS(ежемесячный!$F:$F,ежемесячный!$C:$C,$A6,ежемесячный!$D:$D,$A$1,ежемесячный!$E:$E,F$2)","v":0},{"$f":"SUMIFS(ежемесячный!$G:$G,ежемесячный!$C:$C,$A6,ежемесячный!$D:$D,$A$1,ежемесячный!$E:$E,F$2)","v":0},{"$f":"SUMIFS(ежемесячный!$F:$F,ежемесячный!$C:$C,$A6,ежемесячный!$D:$D,$A$1,ежемесячный!$E:$E,H$2)","v":0},{"$f":"SUMIFS(ежемесячный!$G:$G,ежемесячный!$C:$C,$A6,ежемесячный!$D:$D,$A$1,ежемесячный!$E:$E,H$2)","v":0},{"$f":"SUMIFS(ежемесячный!$F:$F,ежемесячный!$C:$C,$A6,ежемесячный!$D:$D,$A$1,ежемесячный!$E:$E,J$2)","v":0},{"$f":"SUMIFS(ежемесячный!$G:$G,ежемесячный!$C:$C,$A6,ежемесячный!$D:$D,$A$1,ежемесячный!$E:$E,J$2)","v":0},{"$f":"SUMIFS(ежемесячный!$F:$F,ежемесячный!$C:$C,$A6,ежемесячный!$D:$D,$A$1,ежемесячный!$E:$E,L$2)","v":0},{"$f":"SUMIFS(ежемесячный!$G:$G,ежемесячный!$C:$C,$A6,ежемесячный!$D:$D,$A$1,ежемесячный!$E:$E,L$2)","v":0},{"$f":"SUMIFS(ежемесячный!$F:$F,ежемесячный!$C:$C,$A6,ежемесячный!$D:$D,$A$1,ежемесячный!$E:$E,N$2)","v":0},{"$f":"SUMIFS(ежемесячный!$G:$G,ежемесячный!$C:$C,$A6,ежемесячный!$D:$D,$A$1,ежемесячный!$E:$E,N$2)","v":0},{"$f":"SUMIFS(ежемесячный!$F:$F,ежемесячный!$C:$C,$A6,ежемесячный!$D:$D,$A$1,ежемесячный!$E:$E,P$2)","v":0},{"$f":"SUMIFS(ежемесячный!$G:$G,ежемесячный!$C:$C,$A6,ежемесячный!$D:$D,$A$1,ежемесячный!$E:$E,P$2)","v":0},{"$f":"SUMIFS(ежемесячный!$F:$F,ежемесячный!$C:$C,$A6,ежемесячный!$D:$D,$A$1,ежемесячный!$E:$E,R$2)","v":0},{"$f":"SUMIFS(ежемесячный!$G:$G,ежемесячный!$C:$C,$A6,ежемесячный!$D:$D,$A$1,ежемесячный!$E:$E,R$2)","v":0},{"$f":"SUMIFS(ежемесячный!$F:$F,ежемесячный!$C:$C,$A6,ежемесячный!$D:$D,$A$1,ежемесячный!$E:$E,T$2)","v":0},{"$f":"SUMIFS(ежемесячный!$G:$G,ежемесячный!$C:$C,$A6,ежемесячный!$D:$D,$A$1,ежемесячный!$E:$E,T$2)","v":0},0]
["2014-03-03",{"$f":"SUMIFS(ежемесячный!$F:$F,ежемесячный!$C:$C,$A7,ежемесячный!$D:$D,$A$1,ежемесячный!$E:$E,B$2)","v":9},{"$f":"SUMIFS(ежемесячный!$G:$G,ежемесячный!$C:$C,$A7,ежемесячный!$D:$D,$A$1,ежемесячный!$E:$E,B$2)","v":0},{"$f":"SUMIFS(ежемесячный!$F:$F,ежемесячный!$C:$C,$A7,ежемесячный!$D:$D,$A$1,ежемесячный!$E:$E,D$2)","v":0},{"$f":"SUMIFS(ежемесячный!$G:$G,ежемесячный!$C:$C,$A7,ежемесячный!$D:$D,$A$1,ежемесячный!$E:$E,D$2)","v":0},{"$f":"SUMIFS(ежемесячный!$F:$F,ежемесячный!$C:$C,$A7,ежемесячный!$D:$D,$A$1,ежемесячный!$E:$E,F$2)","v":0},{"$f":"SUMIFS(ежемесячный!$G:$G,ежемесячный!$C:$C,$A7,ежемесячный!$D:$D,$A$1,ежемесячный!$E:$E,F$2)","v":0},{"$f":"SUMIFS(ежемесячный!$F:$F,ежемесячный!$C:$C,$A7,ежемесячный!$D:$D,$A$1,ежемесячный!$E:$E,H$2)","v":0},{"$f":"SUMIFS(ежемесячный!$G:$G,ежемесячный!$C:$C,$A7,ежемесячный!$D:$D,$A$1,ежемесячный!$E:$E,H$2)","v":0},{"$f":"SUMIFS(ежемесячный!$F:$F,ежемесячный!$C:$C,$A7,ежемесячный!$D:$D,$A$1,ежемесячный!$E:$E,J$2)","v":0},{"$f":"SUMIFS(ежемесячный!$G:$G,ежемесячный!$C:$C,$A7,ежемесячный!$D:$D,$A$1,ежемесячный!$E:$E,J$2)","v":0},{"$f":"SUMIFS(ежемесячный!$F:$F,ежемесячный!$C:$C,$A7,ежемесячный!$D:$D,$A$1,ежемесячный!$E:$E,L$2)","v":0},{"$f":"SUMIFS(ежемесячный!$G:$G,ежемесячный!$C:$C,$A7,ежемесячный!$D:$D,$A$1,ежемесячный!$E:$E,L$2)","v":0},{"$f":"SUMIFS(ежемесячный!$F:$F,ежемесячный!$C:$C,$A7,ежемесячный!$D:$D,$A$1,ежемесячный!$E:$E,N$2)","v":0},{"$f":"SUMIFS(ежемесячный!$G:$G,ежемесячный!$C:$C,$A7,ежемесячный!$D:$D,$A$1,ежемесячный!$E:$E,N$2)","v":0},{"$f":"SUMIFS(ежемесячный!$F:$F,ежемесячный!$C:$C,$A7,ежемесячный!$D:$D,$A$1,ежемесячный!$E:$E,P$2)","v":0},{"$f":"SUMIFS(ежемесячный!$G:$G,ежемесячный!$C:$C,$A7,ежемесячный!$D:$D,$A$1,ежемесячный!$E:$E,P$2)","v":0},{"$f":"SUMIFS(ежемесячный!$F:$F,ежемесячный!$C:$C,$A7,ежемесячный!$D:$D,$A$1,ежемесячный!$E:$E,R$2)","v":0},{"$f":"SUMIFS(ежемесячный!$G:$G,ежемесячный!$C:$C,$A7,ежемесячный!$D:$D,$A$1,ежемесячный!$E:$E,R$2)","v":0},{"$f":"SUMIFS(ежемесячный!$F:$F,ежемесячный!$C:$C,$A7,ежемесячный!$D:$D,$A$1,ежемесячный!$E:$E,T$2)","v":0},{"$f":"SUMIFS(ежемесячный!$G:$G,ежемесячный!$C:$C,$A7,ежемесячный!$D:$D,$A$1,ежемесячный!$E:$E,T$2)","v":0},0]
["2014-03-04",{"$f":"SUMIFS(ежемесячный!$F:$F,ежемесячный!$C:$C,$A8,ежемесячный!$D:$D,$A$1,ежемесячный!$E:$E,B$2)","v":0},{"$f":"SUMIFS(ежемесячный!$G:$G,ежемесячный!$C:$C,$A8,ежемесячный!$D:$D,$A$1,ежемесячный!$E:$E,B$2)","v":0},{"$f":"SUMIFS(ежемесячный!$F:$F,ежемесячный!$C:$C,$A8,ежемесячный!$D:$D,$A$1,ежемесячный!$E:$E,D$2)","v":0},{"$f":"SUMIFS(ежемесячный!$G:$G,ежемесячный!$C:$C,$A8,ежемесячный!$D:$D,$A$1,ежемесячный!$E:$E,D$2)","v":0},{"$f":"SUMIFS(ежемесячный!$F:$F,ежемесячный!$C:$C,$A8,ежемесячный!$D:$D,$A$1,ежемесячный!$E:$E,F$2)","v":0},{"$f":"SUMIFS(ежемесячный!$G:$G,ежемесячный!$C:$C,$A8,ежемесячный!$D:$D,$A$1,ежемесячный!$E:$E,F$2)","v":0},{"$f":"SUMIFS(ежемесячный!$F:$F,ежемесячный!$C:$C,$A8,ежемесячный!$D:$D,$A$1,ежемесячный!$E:$E,H$2)","v":0},{"$f":"SUMIFS(ежемесячный!$G:$G,ежемесячный!$C:$C,$A8,ежемесячный!$D:$D,$A$1,ежемесячный!$E:$E,H$2)","v":0},{"$f":"SUMIFS(ежемесячный!$F:$F,ежемесячный!$C:$C,$A8,ежемесячный!$D:$D,$A$1,ежемесячный!$E:$E,J$2)","v":0},{"$f":"SUMIFS(ежемесячный!$G:$G,ежемесячный!$C:$C,$A8,ежемесячный!$D:$D,$A$1,ежемесячный!$E:$E,J$2)","v":0},{"$f":"SUMIFS(ежемесячный!$F:$F,ежемесячный!$C:$C,$A8,ежемесячный!$D:$D,$A$1,ежемесячный!$E:$E,L$2)","v":0},{"$f":"SUMIFS(ежемесячный!$G:$G,ежемесячный!$C:$C,$A8,ежемесячный!$D:$D,$A$1,ежемесячный!$E:$E,L$2)","v":0},{"$f":"SUMIFS(ежемесячный!$F:$F,ежемесячный!$C:$C,$A8,ежемесячный!$D:$D,$A$1,ежемесячный!$E:$E,N$2)","v":0},{"$f":"SUMIFS(ежемесячный!$G:$G,ежемесячный!$C:$C,$A8,ежемесячный!$D:$D,$A$1,ежемесячный!$E:$E,N$2)","v":0},{"$f":"SUMIFS(ежемесячный!$F:$F,ежемесячный!$C:$C,$A8,ежемесячный!$D:$D,$A$1,ежемесячный!$E:$E,P$2)","v":0},{"$f":"SUMIFS(ежемесячный!$G:$G,ежемесячный!$C:$C,$A8,ежемесячный!$D:$D,$A$1,ежемесячный!$E:$E,P$2)","v":0},{"$f":"SUMIFS(ежемесячный!$F:$F,ежемесячный!$C:$C,$A8,ежемесячный!$D:$D,$A$1,ежемесячный!$E:$E,R$2)","v":0},{"$f":"SUMIFS(ежемесячный!$G:$G,ежемесячный!$C:$C,$A8,ежемесячный!$D:$D,$A$1,ежемесячный!$E:$E,R$2)","v":0},{"$f":"SUMIFS(ежемесячный!$F:$F,ежемесячный!$C:$C,$A8,ежемесячный!$D:$D,$A$1,ежемесячный!$E:$E,T$2)","v":0},{"$f":"SUMIFS(ежемесячный!$G:$G,ежемесячный!$C:$C,$A8,ежемесячный!$D:$D,$A$1,ежемесячный!$E:$E,T$2)","v":0},0]
["2014-03-05",{"$f":"SUMIFS(ежемесячный!$F:$F,ежемесячный!$C:$C,$A9,ежемесячный!$D:$D,$A$1,ежемесячный!$E:$E,B$2)","v":0},{"$f":"SUMIFS(ежемесячный!$G:$G,ежемесячный!$C:$C,$A9,ежемесячный!$D:$D,$A$1,ежемесячный!$E:$E,B$2)","v":0},{"$f":"SUMIFS(ежемесячный!$F:$F,ежемесячный!$C:$C,$A9,ежемесячный!$D:$D,$A$1,ежемесячный!$E:$E,D$2)","v":0},{"$f":"SUMIFS(ежемесячный!$G:$G,ежемесячный!$C:$C,$A9,ежемесячный!$D:$D,$A$1,ежемесячный!$E:$E,D$2)","v":0},{"$f":"SUMIFS(ежемесячный!$F:$F,ежемесячный!$C:$C,$A9,ежемесячный!$D:$D,$A$1,ежемесячный!$E:$E,F$2)","v":0},{"$f":"SUMIFS(ежемесячный!$G:$G,ежемесячный!$C:$C,$A9,ежемесячный!$D:$D,$A$1,ежемесячный!$E:$E,F$2)","v":0},{"$f":"SUMIFS(ежемесячный!$F:$F,ежемесячный!$C:$C,$A9,ежемесячный!$D:$D,$A$1,ежемесячный!$E:$E,H$2)","v":0},{"$f":"SUMIFS(ежемесячный!$G:$G,ежемесячный!$C:$C,$A9,ежемесячный!$D:$D,$A$1,ежемесячный!$E:$E,H$2)","v":0},{"$f":"SUMIFS(ежемесячный!$F:$F,ежемесячный!$C:$C,$A9,ежемесячный!$D:$D,$A$1,ежемесячный!$E:$E,J$2)","v":0},{"$f":"SUMIFS(ежемесячный!$G:$G,ежемесячный!$C:$C,$A9,ежемесячный!$D:$D,$A$1,ежемесячный!$E:$E,J$2)","v":0},{"$f":"SUMIFS(ежемесячный!$F:$F,ежемесячный!$C:$C,$A9,ежемесячный!$D:$D,$A$1,ежемесячный!$E:$E,L$2)","v":0},{"$f":"SUMIFS(ежемесячный!$G:$G,ежемесячный!$C:$C,$A9,ежемесячный!$D:$D,$A$1,ежемесячный!$E:$E,L$2)","v":0},{"$f":"SUMIFS(ежемесячный!$F:$F,ежемесячный!$C:$C,$A9,ежемесячный!$D:$D,$A$1,ежемесячный!$E:$E,N$2)","v":0},{"$f":"SUMIFS(ежемесячный!$G:$G,ежемесячный!$C:$C,$A9,ежемесячный!$D:$D,$A$1,ежемесячный!$E:$E,N$2)","v":0},{"$f":"SUMIFS(ежемесячный!$F:$F,ежемесячный!$C:$C,$A9,ежемесячный!$D:$D,$A$1,ежемесячный!$E:$E,P$2)","v":0},{"$f":"SUMIFS(ежемесячный!$G:$G,ежемесячный!$C:$C,$A9,ежемесячный!$D:$D,$A$1,ежемесячный!$E:$E,P$2)","v":0},{"$f":"SUMIFS(ежемесячный!$F:$F,ежемесячный!$C:$C,$A9,ежемесячный!$D:$D,$A$1,ежемесячный!$E:$E,R$2)","v":0},{"$f":"SUMIFS(ежемесячный!$G:$G,ежемесячный!$C:$C,$A9,ежемесячный!$D:$D,$A$1,ежемесячный!$E:$E,R$2)","v":0},{"$f":"SUMIFS(ежемесячный!$F:$F,ежемесячный!$C:$C,$A9,ежемесячный!$D:$D,$A$1,ежемесячный!$E:$E,T$2)","v":0},{"$f":"SUMIFS(ежемесячный!$G:$G,ежемесячный!$C:$C,$A9,ежемесячный!$D:$D,$A$1,ежемесячный!$E:$E,T$2)","v":0},0]
["2014-03-06",{"$f":"SUMIFS(ежемесячный!$F:$F,ежемесячный!$C:$C,$A10,ежемесячный!$D:$D,$A$1,ежемесячный!$E:$E,B$2)","v":0},{"$f":"SUMIFS(ежемесячный!$G:$G,ежемесячный!$C:$C,$A10,ежемесячный!$D:$D,$A$1,ежемесячный!$E:$E,B$2)","v":0},{"$f":"SUMIFS(ежемесячный!$F:$F,ежемесячный!$C:$C,$A10,ежемесячный!$D:$D,$A$1,ежемесячный!$E:$E,D$2)","v":0},{"$f":"SUMIFS(ежемесячный!$G:$G,ежемесячный!$C:$C,$A10,ежемесячный!$D:$D,$A$1,ежемесячный!$E:$E,D$2)","v":0},{"$f":"SUMIFS(ежемесячный!$F:$F,ежемесячный!$C:$C,$A10,ежемесячный!$D:$D,$A$1,ежемесячный!$E:$E,F$2)","v":0},{"$f":"SUMIFS(ежемесячный!$G:$G,ежемесячный!$C:$C,$A10,ежемесячный!$D:$D,$A$1,ежемесячный!$E:$E,F$2)","v":0},{"$f":"SUMIFS(ежемесячный!$F:$F,ежемесячный!$C:$C,$A10,ежемесячный!$D:$D,$A$1,ежемесячный!$E:$E,H$2)","v":0},{"$f":"SUMIFS(ежемесячный!$G:$G,ежемесячный!$C:$C,$A10,ежемесячный!$D:$D,$A$1,ежемесячный!$E:$E,H$2)","v":0},{"$f":"SUMIFS(ежемесячный!$F:$F,ежемесячный!$C:$C,$A10,ежемесячный!$D:$D,$A$1,ежемесячный!$E:$E,J$2)","v":0},{"$f":"SUMIFS(ежемесячный!$G:$G,ежемесячный!$C:$C,$A10,ежемесячный!$D:$D,$A$1,ежемесячный!$E:$E,J$2)","v":0},{"$f":"SUMIFS(ежемесячный!$F:$F,ежемесячный!$C:$C,$A10,ежемесячный!$D:$D,$A$1,ежемесячный!$E:$E,L$2)","v":0},{"$f":"SUMIFS(ежемесячный!$G:$G,ежемесячный!$C:$C,$A10,ежемесячный!$D:$D,$A$1,ежемесячный!$E:$E,L$2)","v":0},{"$f":"SUMIFS(ежемесячный!$F:$F,ежемесячный!$C:$C,$A10,ежемесячный!$D:$D,$A$1,ежемесячный!$E:$E,N$2)","v":0},{"$f":"SUMIFS(ежемесячный!$G:$G,ежемесячный!$C:$C,$A10,ежемесячный!$D:$D,$A$1,ежемесячный!$E:$E,N$2)","v":0},{"$f":"SUMIFS(ежемесячный!$F:$F,ежемесячный!$C:$C,$A10,ежемесячный!$D:$D,$A$1,ежемесячный!$E:$E,P$2)","v":0},{"$f":"SUMIFS(ежемесячный!$G:$G,ежемесячный!$C:$C,$A10,ежемесячный!$D:$D,$A$1,ежемесячный!$E:$E,P$2)","v":0},{"$f":"SUMIFS(ежемесячный!$F:$F,ежемесячный!$C:$C,$A10,ежемесячный!$D:$D,$A$1,ежемесячный!$E:$E,R$2)","v":0},{"$f":"SUMIFS(ежемесячный!$G:$G,ежемесячный!$C:$C,$A10,ежемесячный!$D:$D,$A$1,ежемесячный!$E:$E,R$2)","v":0},{"$f":"SUMIFS(ежемесячный!$F:$F,ежемесячный!$C:$C,$A10,ежемесячный!$D:$D,$A$1,ежемесячный!$E:$E,T$2)","v":0},{"$f":"SUMIFS(ежемесячный!$G:$G,ежемесячный!$C:$C,$A10,ежемесячный!$D:$D,$A$1,ежемесячный!$E:$E,T$2)","v":0},0]
["2014-03-07",{"$f":"SUMIFS(ежемесячный!$F:$F,ежемесячный!$C:$C,$A11,ежемесячный!$D:$D,$A$1,ежемесячный!$E:$E,B$2)","v":0},{"$f":"SUMIFS(ежемесячный!$G:$G,ежемесячный!$C:$C,$A11,ежемесячный!$D:$D,$A$1,ежемесячный!$E:$E,B$2)","v":0},{"$f":"SUMIFS(ежемесячный!$F:$F,ежемесячный!$C:$C,$A11,ежемесячный!$D:$D,$A$1,ежемесячный!$E:$E,D$2)","v":0},{"$f":"SUMIFS(ежемесячный!$G:$G,ежемесячный!$C:$C,$A11,ежемесячный!$D:$D,$A$1,ежемесячный!$E:$E,D$2)","v":0},{"$f":"SUMIFS(ежемесячный!$F:$F,ежемесячный!$C:$C,$A11,ежемесячный!$D:$D,$A$1,ежемесячный!$E:$E,F$2)","v":0},{"$f":"SUMIFS(ежемесячный!$G:$G,ежемесячный!$C:$C,$A11,ежемесячный!$D:$D,$A$1,ежемесячный!$E:$E,F$2)","v":0},{"$f":"SUMIFS(ежемесячный!$F:$F,ежемесячный!$C:$C,$A11,ежемесячный!$D:$D,$A$1,ежемесячный!$E:$E,H$2)","v":0},{"$f":"SUMIFS(ежемесячный!$G:$G,ежемесячный!$C:$C,$A11,ежемесячный!$D:$D,$A$1,ежемесячный!$E:$E,H$2)","v":0},{"$f":"SUMIFS(ежемесячный!$F:$F,ежемесячный!$C:$C,$A11,ежемесячный!$D:$D,$A$1,ежемесячный!$E:$E,J$2)","v":0},{"$f":"SUMIFS(ежемесячный!$G:$G,ежемесячный!$C:$C,$A11,ежемесячный!$D:$D,$A$1,ежемесячный!$E:$E,J$2)","v":0},{"$f":"SUMIFS(ежемесячный!$F:$F,ежемесячный!$C:$C,$A11,ежемесячный!$D:$D,$A$1,ежемесячный!$E:$E,L$2)","v":0},{"$f":"SUMIFS(ежемесячный!$G:$G,ежемесячный!$C:$C,$A11,ежемесячный!$D:$D,$A$1,ежемесячный!$E:$E,L$2)","v":0},{"$f":"SUMIFS(ежемесячный!$F:$F,ежемесячный!$C:$C,$A11,ежемесячный!$D:$D,$A$1,ежемесячный!$E:$E,N$2)","v":0},{"$f":"SUMIFS(ежемесячный!$G:$G,ежемесячный!$C:$C,$A11,ежемесячный!$D:$D,$A$1,ежемесячный!$E:$E,N$2)","v":0},{"$f":"SUMIFS(ежемесячный!$F:$F,ежемесячный!$C:$C,$A11,ежемесячный!$D:$D,$A$1,ежемесячный!$E:$E,P$2)","v":0},{"$f":"SUMIFS(ежемесячный!$G:$G,ежемесячный!$C:$C,$A11,ежемесячный!$D:$D,$A$1,ежемесячный!$E:$E,P$2)","v":0},{"$f":"SUMIFS(ежемесячный!$F:$F,ежемесячный!$C:$C,$A11,ежемесячный!$D:$D,$A$1,ежемесячный!$E:$E,R$2)","v":0},{"$f":"SUMIFS(ежемесячный!$G:$G,ежемесячный!$C:$C,$A11,ежемесячный!$D:$D,$A$1,ежемесячный!$E:$E,R$2)","v":0},{"$f":"SUMIFS(ежемесячный!$F:$F,ежемесячный!$C:$C,$A11,ежемесячный!$D:$D,$A$1,ежемесячный!$E:$E,T$2)","v":0},{"$f":"SUMIFS(ежемесячный!$G:$G,ежемесячный!$C:$C,$A11,ежемесячный!$D:$D,$A$1,ежемесячный!$E:$E,T$2)","v":0},0]
["2014-03-08",{"$f":"SUMIFS(ежемесячный!$F:$F,ежемесячный!$C:$C,$A12,ежемесячный!$D:$D,$A$1,ежемесячный!$E:$E,B$2)","v":0},{"$f":"SUMIFS(ежемесячный!$G:$G,ежемесячный!$C:$C,$A12,ежемесячный!$D:$D,$A$1,ежемесячный!$E:$E,B$2)","v":0},{"$f":"SUMIFS(ежемесячный!$F:$F,ежемесячный!$C:$C,$A12,ежемесячный!$D:$D,$A$1,ежемесячный!$E:$E,D$2)","v":0},{"$f":"SUMIFS(ежемесячный!$G:$G,ежемесячный!$C:$C,$A12,ежемесячный!$D:$D,$A$1,ежемесячный!$E:$E,D$2)","v":0},{"$f":"SUMIFS(ежемесячный!$F:$F,ежемесячный!$C:$C,$A12,ежемесячный!$D:$D,$A$1,ежемесячный!$E:$E,F$2)","v":0},{"$f":"SUMIFS(ежемесячный!$G:$G,ежемесячный!$C:$C,$A12,ежемесячный!$D:$D,$A$1,ежемесячный!$E:$E,F$2)","v":0},{"$f":"SUMIFS(ежемесячный!$F:$F,ежемесячный!$C:$C,$A12,ежемесячный!$D:$D,$A$1,ежемесячный!$E:$E,H$2)","v":0},{"$f":"SUMIFS(ежемесячный!$G:$G,ежемесячный!$C:$C,$A12,ежемесячный!$D:$D,$A$1,ежемесячный!$E:$E,H$2)","v":0},{"$f":"SUMIFS(ежемесячный!$F:$F,ежемесячный!$C:$C,$A12,ежемесячный!$D:$D,$A$1,ежемесячный!$E:$E,J$2)","v":0},{"$f":"SUMIFS(ежемесячный!$G:$G,ежемесячный!$C:$C,$A12,ежемесячный!$D:$D,$A$1,ежемесячный!$E:$E,J$2)","v":0},{"$f":"SUMIFS(ежемесячный!$F:$F,ежемесячный!$C:$C,$A12,ежемесячный!$D:$D,$A$1,ежемесячный!$E:$E,L$2)","v":0},{"$f":"SUMIFS(ежемесячный!$G:$G,ежемесячный!$C:$C,$A12,ежемесячный!$D:$D,$A$1,ежемесячный!$E:$E,L$2)","v":0},{"$f":"SUMIFS(ежемесячный!$F:$F,ежемесячный!$C:$C,$A12,ежемесячный!$D:$D,$A$1,ежемесячный!$E:$E,N$2)","v":0},{"$f":"SUMIFS(ежемесячный!$G:$G,ежемесячный!$C:$C,$A12,ежемесячный!$D:$D,$A$1,ежемесячный!$E:$E,N$2)","v":0},{"$f":"SUMIFS(ежемесячный!$F:$F,ежемесячный!$C:$C,$A12,ежемесячный!$D:$D,$A$1,ежемесячный!$E:$E,P$2)","v":0},{"$f":"SUMIFS(ежемесячный!$G:$G,ежемесячный!$C:$C,$A12,ежемесячный!$D:$D,$A$1,ежемесячный!$E:$E,P$2)","v":0},{"$f":"SUMIFS(ежемесячный!$F:$F,ежемесячный!$C:$C,$A12,ежемесячный!$D:$D,$A$1,ежемесячный!$E:$E,R$2)","v":0},{"$f":"SUMIFS(ежемесячный!$G:$G,ежемесячный!$C:$C,$A12,ежемесячный!$D:$D,$A$1,ежемесячный!$E:$E,R$2)","v":0},{"$f":"SUMIFS(ежемесячный!$F:$F,ежемесячный!$C:$C,$A12,ежемесячный!$D:$D,$A$1,ежемесячный!$E:$E,T$2)","v":0},{"$f":"SUMIFS(ежемесячный!$G:$G,ежемесячный!$C:$C,$A12,ежемесячный!$D:$D,$A$1,ежемесячный!$E:$E,T$2)","v":0},0]
["2014-03-09",{"$f":"SUMIFS(ежемесячный!$F:$F,ежемесячный!$C:$C,$A13,ежемесячный!$D:$D,$A$1,ежемесячный!$E:$E,B$2)","v":0},{"$f":"SUMIFS(ежемесячный!$G:$G,ежемесячный!$C:$C,$A13,ежемесячный!$D:$D,$A$1,ежемесячный!$E:$E,B$2)","v":0},{"$f":"SUMIFS(ежемесячный!$F:$F,ежемесячный!$C:$C,$A13,ежемесячный!$D:$D,$A$1,ежемесячный!$E:$E,D$2)","v":0},{"$f":"SUMIFS(ежемесячный!$G:$G,ежемесячный!$C:$C,$A13,ежемесячный!$D:$D,$A$1,ежемесячный!$E:$E,D$2)","v":0},{"$f":"SUMIFS(ежемесячный!$F:$F,ежемесячный!$C:$C,$A13,ежемесячный!$D:$D,$A$1,ежемесячный!$E:$E,F$2)","v":0},{"$f":"SUMIFS(ежемесячный!$G:$G,ежемесячный!$C:$C,$A13,ежемесячный!$D:$D,$A$1,ежемесячный!$E:$E,F$2)","v":0},{"$f":"SUMIFS(ежемесячный!$F:$F,ежемесячный!$C:$C,$A13,ежемесячный!$D:$D,$A$1,ежемесячный!$E:$E,H$2)","v":0},{"$f":"SUMIFS(ежемесячный!$G:$G,ежемесячный!$C:$C,$A13,ежемесячный!$D:$D,$A$1,ежемесячный!$E:$E,H$2)","v":0},{"$f":"SUMIFS(ежемесячный!$F:$F,ежемесячный!$C:$C,$A13,ежемесячный!$D:$D,$A$1,ежемесячный!$E:$E,J$2)","v":0},{"$f":"SUMIFS(ежемесячный!$G:$G,ежемесячный!$C:$C,$A13,ежемесячный!$D:$D,$A$1,ежемесячный!$E:$E,J$2)","v":0},{"$f":"SUMIFS(ежемесячный!$F:$F,ежемесячный!$C:$C,$A13,ежемесячный!$D:$D,$A$1,ежемесячный!$E:$E,L$2)","v":0},{"$f":"SUMIFS(ежемесячный!$G:$G,ежемесячный!$C:$C,$A13,ежемесячный!$D:$D,$A$1,ежемесячный!$E:$E,L$2)","v":0},{"$f":"SUMIFS(ежемесячный!$F:$F,ежемесячный!$C:$C,$A13,ежемесячный!$D:$D,$A$1,ежемесячный!$E:$E,N$2)","v":0},{"$f":"SUMIFS(ежемесячный!$G:$G,ежемесячный!$C:$C,$A13,ежемесячный!$D:$D,$A$1,ежемесячный!$E:$E,N$2)","v":0},{"$f":"SUMIFS(ежемесячный!$F:$F,ежемесячный!$C:$C,$A13,ежемесячный!$D:$D,$A$1,ежемесячный!$E:$E,P$2)","v":0},{"$f":"SUMIFS(ежемесячный!$G:$G,ежемесячный!$C:$C,$A13,ежемесячный!$D:$D,$A$1,ежемесячный!$E:$E,P$2)","v":0},{"$f":"SUMIFS(ежемесячный!$F:$F,ежемесячный!$C:$C,$A13,ежемесячный!$D:$D,$A$1,ежемесячный!$E:$E,R$2)","v":0},{"$f":"SUMIFS(ежемесячный!$G:$G,ежемесячный!$C:$C,$A13,ежемесячный!$D:$D,$A$1,ежемесячный!$E:$E,R$2)","v":0},{"$f":"SUMIFS(ежемесячный!$F:$F,ежемесячный!$C:$C,$A13,ежемесячный!$D:$D,$A$1,ежемесячный!$E:$E,T$2)","v":0},{"$f":"SUMIFS(ежемесячный!$G:$G,ежемесячный!$C:$C,$A13,ежемесячный!$D:$D,$A$1,ежемесячный!$E:$E,T$2)","v":0},0]
["2014-03-10",{"$f":"SUMIFS(ежемесячный!$F:$F,ежемесячный!$C:$C,$A14,ежемесячный!$D:$D,$A$1,ежемесячный!$E:$E,B$2)","v":0},{"$f":"SUMIFS(ежемесячный!$G:$G,ежемесячный!$C:$C,$A14,ежемесячный!$D:$D,$A$1,ежемесячный!$E:$E,B$2)","v":0},{"$f":"SUMIFS(ежемесячный!$F:$F,ежемесячный!$C:$C,$A14,ежемесячный!$D:$D,$A$1,ежемесячный!$E:$E,D$2)","v":0},{"$f":"SUMIFS(ежемесячный!$G:$G,ежемесячный!$C:$C,$A14,ежемесячный!$D:$D,$A$1,ежемесячный!$E:$E,D$2)","v":0},{"$f":"SUMIFS(ежемесячный!$F:$F,ежемесячный!$C:$C,$A14,ежемесячный!$D:$D,$A$1,ежемесячный!$E:$E,F$2)","v":0},{"$f":"SUMIFS(ежемесячный!$G:$G,ежемесячный!$C:$C,$A14,ежемесячный!$D:$D,$A$1,ежемесячный!$E:$E,F$2)","v":0},{"$f":"SUMIFS(ежемесячный!$F:$F,ежемесячный!$C:$C,$A14,ежемесячный!$D:$D,$A$1,ежемесячный!$E:$E,H$2)","v":0},{"$f":"SUMIFS(ежемесячный!$G:$G,ежемесячный!$C:$C,$A14,ежемесячный!$D:$D,$A$1,ежемесячный!$E:$E,H$2)","v":0},{"$f":"SUMIFS(ежемесячный!$F:$F,ежемесячный!$C:$C,$A14,ежемесячный!$D:$D,$A$1,ежемесячный!$E:$E,J$2)","v":0},{"$f":"SUMIFS(ежемесячный!$G:$G,ежемесячный!$C:$C,$A14,ежемесячный!$D:$D,$A$1,ежемесячный!$E:$E,J$2)","v":0},{"$f":"SUMIFS(ежемесячный!$F:$F,ежемесячный!$C:$C,$A14,ежемесячный!$D:$D,$A$1,ежемесячный!$E:$E,L$2)","v":0},{"$f":"SUMIFS(ежемесячный!$G:$G,ежемесячный!$C:$C,$A14,ежемесячный!$D:$D,$A$1,ежемесячный!$E:$E,L$2)","v":0},{"$f":"SUMIFS(ежемесячный!$F:$F,ежемесячный!$C:$C,$A14,ежемесячный!$D:$D,$A$1,ежемесячный!$E:$E,N$2)","v":0},{"$f":"SUMIFS(ежемесячный!$G:$G,ежемесячный!$C:$C,$A14,ежемесячный!$D:$D,$A$1,ежемесячный!$E:$E,N$2)","v":0},{"$f":"SUMIFS(ежемесячный!$F:$F,ежемесячный!$C:$C,$A14,ежемесячный!$D:$D,$A$1,ежемесячный!$E:$E,P$2)","v":0},{"$f":"SUMIFS(ежемесячный!$G:$G,ежемесячный!$C:$C,$A14,ежемесячный!$D:$D,$A$1,ежемесячный!$E:$E,P$2)","v":0},{"$f":"SUMIFS(ежемесячный!$F:$F,ежемесячный!$C:$C,$A14,ежемесячный!$D:$D,$A$1,ежемесячный!$E:$E,R$2)","v":0},{"$f":"SUMIFS(ежемесячный!$G:$G,ежемесячный!$C:$C,$A14,ежемесячный!$D:$D,$A$1,ежемесячный!$E:$E,R$2)","v":0},{"$f":"SUMIFS(ежемесячный!$F:$F,ежемесячный!$C:$C,$A14,ежемесячный!$D:$D,$A$1,ежемесячный!$E:$E,T$2)","v":0},{"$f":"SUMIFS(ежемесячный!$G:$G,ежемесячный!$C:$C,$A14,ежемесячный!$D:$D,$A$1,ежемесячный!$E:$E,T$2)","v":0},0]
["2014-03-11",{"$f":"SUMIFS(ежемесячный!$F:$F,ежемесячный!$C:$C,$A15,ежемесячный!$D:$D,$A$1,ежемесячный!$E:$E,B$2)","v":0},{"$f":"SUMIFS(ежемесячный!$G:$G,ежемесячный!$C:$C,$A15,ежемесячный!$D:$D,$A$1,ежемесячный!$E:$E,B$2)","v":0},{"$f":"SUMIFS(ежемесячный!$F:$F,ежемесячный!$C:$C,$A15,ежемесячный!$D:$D,$A$1,ежемесячный!$E:$E,D$2)","v":0},{"$f":"SUMIFS(ежемесячный!$G:$G,ежемесячный!$C:$C,$A15,ежемесячный!$D:$D,$A$1,ежемесячный!$E:$E,D$2)","v":0},{"$f":"SUMIFS(ежемесячный!$F:$F,ежемесячный!$C:$C,$A15,ежемесячный!$D:$D,$A$1,ежемесячный!$E:$E,F$2)","v":0},{"$f":"SUMIFS(ежемесячный!$G:$G,ежемесячный!$C:$C,$A15,ежемесячный!$D:$D,$A$1,ежемесячный!$E:$E,F$2)","v":0},{"$f":"SUMIFS(ежемесячный!$F:$F,ежемесячный!$C:$C,$A15,ежемесячный!$D:$D,$A$1,ежемесячный!$E:$E,H$2)","v":0},{"$f":"SUMIFS(ежемесячный!$G:$G,ежемесячный!$C:$C,$A15,ежемесячный!$D:$D,$A$1,ежемесячный!$E:$E,H$2)","v":0},{"$f":"SUMIFS(ежемесячный!$F:$F,ежемесячный!$C:$C,$A15,ежемесячный!$D:$D,$A$1,ежемесячный!$E:$E,J$2)","v":0},{"$f":"SUMIFS(ежемесячный!$G:$G,ежемесячный!$C:$C,$A15,ежемесячный!$D:$D,$A$1,ежемесячный!$E:$E,J$2)","v":0},{"$f":"SUMIFS(ежемесячный!$F:$F,ежемесячный!$C:$C,$A15,ежемесячный!$D:$D,$A$1,ежемесячный!$E:$E,L$2)","v":0},{"$f":"SUMIFS(ежемесячный!$G:$G,ежемесячный!$C:$C,$A15,ежемесячный!$D:$D,$A$1,ежемесячный!$E:$E,L$2)","v":0},{"$f":"SUMIFS(ежемесячный!$F:$F,ежемесячный!$C:$C,$A15,ежемесячный!$D:$D,$A$1,ежемесячный!$E:$E,N$2)","v":0},{"$f":"SUMIFS(ежемесячный!$G:$G,ежемесячный!$C:$C,$A15,ежемесячный!$D:$D,$A$1,ежемесячный!$E:$E,N$2)","v":0},{"$f":"SUMIFS(ежемесячный!$F:$F,ежемесячный!$C:$C,$A15,ежемесячный!$D:$D,$A$1,ежемесячный!$E:$E,P$2)","v":0},{"$f":"SUMIFS(ежемесячный!$G:$G,ежемесячный!$C:$C,$A15,ежемесячный!$D:$D,$A$1,ежемесячный!$E:$E,P$2)","v":0},{"$f":"SUMIFS(ежемесячный!$F:$F,ежемесячный!$C:$C,$A15,ежемесячный!$D:$D,$A$1,ежемесячный!$E:$E,R$2)","v":0},{"$f":"SUMIFS(ежемесячный!$G:$G,ежемесячный!$C:$C,$A15,ежемесячный!$D:$D,$A$1,ежемесячный!$E:$E,R$2)","v":0},{"$f":"SUMIFS(ежемесячный!$F:$F,ежемесячный!$C:$C,$A15,ежемесячный!$D:$D,$A$1,ежемесячный!$E:$E,T$2)","v":0},{"$f":"SUMIFS(ежемесячный!$G:$G,ежемесячный!$C:$C,$A15,ежемесячный!$D:$D,$A$1,ежемесячный!$E:$E,T$2)","v":0},0]
["2014-03-12",{"$f":"SUMIFS(ежемесячный!$F:$F,ежемесячный!$C:$C,$A16,ежемесячный!$D:$D,$A$1,ежемесячный!$E:$E,B$2)","v":0},{"$f":"SUMIFS(ежемесячный!$G:$G,ежемесячный!$C:$C,$A16,ежемесячный!$D:$D,$A$1,ежемесячный!$E:$E,B$2)","v":0},{"$f":"SUMIFS(ежемесячный!$F:$F,ежемесячный!$C:$C,$A16,ежемесячный!$D:$D,$A$1,ежемесячный!$E:$E,D$2)","v":0},{"$f":"SUMIFS(ежемесячный!$G:$G,ежемесячный!$C:$C,$A16,ежемесячный!$D:$D,$A$1,ежемесячный!$E:$E,D$2)","v":0},{"$f":"SUMIFS(ежемесячный!$F:$F,ежемесячный!$C:$C,$A16,ежемесячный!$D:$D,$A$1,ежемесячный!$E:$E,F$2)","v":0},{"$f":"SUMIFS(ежемесячный!$G:$G,ежемесячный!$C:$C,$A16,ежемесячный!$D:$D,$A$1,ежемесячный!$E:$E,F$2)","v":0},{"$f":"SUMIFS(ежемесячный!$F:$F,ежемесячный!$C:$C,$A16,ежемесячный!$D:$D,$A$1,ежемесячный!$E:$E,H$2)","v":0},{"$f":"SUMIFS(ежемесячный!$G:$G,ежемесячный!$C:$C,$A16,ежемесячный!$D:$D,$A$1,ежемесячный!$E:$E,H$2)","v":0},{"$f":"SUMIFS(ежемесячный!$F:$F,ежемесячный!$C:$C,$A16,ежемесячный!$D:$D,$A$1,ежемесячный!$E:$E,J$2)","v":0},{"$f":"SUMIFS(ежемесячный!$G:$G,ежемесячный!$C:$C,$A16,ежемесячный!$D:$D,$A$1,ежемесячный!$E:$E,J$2)","v":0},{"$f":"SUMIFS(ежемесячный!$F:$F,ежемесячный!$C:$C,$A16,ежемесячный!$D:$D,$A$1,ежемесячный!$E:$E,L$2)","v":0},{"$f":"SUMIFS(ежемесячный!$G:$G,ежемесячный!$C:$C,$A16,ежемесячный!$D:$D,$A$1,ежемесячный!$E:$E,L$2)","v":0},{"$f":"SUMIFS(ежемесячный!$F:$F,ежемесячный!$C:$C,$A16,ежемесячный!$D:$D,$A$1,ежемесячный!$E:$E,N$2)","v":0},{"$f":"SUMIFS(ежемесячный!$G:$G,ежемесячный!$C:$C,$A16,ежемесячный!$D:$D,$A$1,ежемесячный!$E:$E,N$2)","v":0},{"$f":"SUMIFS(ежемесячный!$F:$F,ежемесячный!$C:$C,$A16,ежемесячный!$D:$D,$A$1,ежемесячный!$E:$E,P$2)","v":0},{"$f":"SUMIFS(ежемесячный!$G:$G,ежемесячный!$C:$C,$A16,ежемесячный!$D:$D,$A$1,ежемесячный!$E:$E,P$2)","v":0},{"$f":"SUMIFS(ежемесячный!$F:$F,ежемесячный!$C:$C,$A16,ежемесячный!$D:$D,$A$1,ежемесячный!$E:$E,R$2)","v":0},{"$f":"SUMIFS(ежемесячный!$G:$G,ежемесячный!$C:$C,$A16,ежемесячный!$D:$D,$A$1,ежемесячный!$E:$E,R$2)","v":0},{"$f":"SUMIFS(ежемесячный!$F:$F,ежемесячный!$C:$C,$A16,ежемесячный!$D:$D,$A$1,ежемесячный!$E:$E,T$2)","v":0},{"$f":"SUMIFS(ежемесячный!$G:$G,ежемесячный!$C:$C,$A16,ежемесячный!$D:$D,$A$1,ежемесячный!$E:$E,T$2)","v":0},0]
["2014-03-13",{"$f":"SUMIFS(ежемесячный!$F:$F,ежемесячный!$C:$C,$A17,ежемесячный!$D:$D,$A$1,ежемесячный!$E:$E,B$2)","v":0},{"$f":"SUMIFS(ежемесячный!$G:$G,ежемесячный!$C:$C,$A17,ежемесячный!$D:$D,$A$1,ежемесячный!$E:$E,B$2)","v":0},{"$f":"SUMIFS(ежемесячный!$F:$F,ежемесячный!$C:$C,$A17,ежемесячный!$D:$D,$A$1,ежемесячный!$E:$E,D$2)","v":0},{"$f":"SUMIFS(ежемесячный!$G:$G,ежемесячный!$C:$C,$A17,ежемесячный!$D:$D,$A$1,ежемесячный!$E:$E,D$2)","v":0},{"$f":"SUMIFS(ежемесячный!$F:$F,ежемесячный!$C:$C,$A17,ежемесячный!$D:$D,$A$1,ежемесячный!$E:$E,F$2)","v":0},{"$f":"SUMIFS(ежемесячный!$G:$G,ежемесячный!$C:$C,$A17,ежемесячный!$D:$D,$A$1,ежемесячный!$E:$E,F$2)","v":0},{"$f":"SUMIFS(ежемесячный!$F:$F,ежемесячный!$C:$C,$A17,ежемесячный!$D:$D,$A$1,ежемесячный!$E:$E,H$2)","v":0},{"$f":"SUMIFS(ежемесячный!$G:$G,ежемесячный!$C:$C,$A17,ежемесячный!$D:$D,$A$1,ежемесячный!$E:$E,H$2)","v":0},{"$f":"SUMIFS(ежемесячный!$F:$F,ежемесячный!$C:$C,$A17,ежемесячный!$D:$D,$A$1,ежемесячный!$E:$E,J$2)","v":0},{"$f":"SUMIFS(ежемесячный!$G:$G,ежемесячный!$C:$C,$A17,ежемесячный!$D:$D,$A$1,ежемесячный!$E:$E,J$2)","v":0},{"$f":"SUMIFS(ежемесячный!$F:$F,ежемесячный!$C:$C,$A17,ежемесячный!$D:$D,$A$1,ежемесячный!$E:$E,L$2)","v":0},{"$f":"SUMIFS(ежемесячный!$G:$G,ежемесячный!$C:$C,$A17,ежемесячный!$D:$D,$A$1,ежемесячный!$E:$E,L$2)","v":0},{"$f":"SUMIFS(ежемесячный!$F:$F,ежемесячный!$C:$C,$A17,ежемесячный!$D:$D,$A$1,ежемесячный!$E:$E,N$2)","v":0},{"$f":"SUMIFS(ежемесячный!$G:$G,ежемесячный!$C:$C,$A17,ежемесячный!$D:$D,$A$1,ежемесячный!$E:$E,N$2)","v":0},{"$f":"SUMIFS(ежемесячный!$F:$F,ежемесячный!$C:$C,$A17,ежемесячный!$D:$D,$A$1,ежемесячный!$E:$E,P$2)","v":0},{"$f":"SUMIFS(ежемесячный!$G:$G,ежемесячный!$C:$C,$A17,ежемесячный!$D:$D,$A$1,ежемесячный!$E:$E,P$2)","v":0},{"$f":"SUMIFS(ежемесячный!$F:$F,ежемесячный!$C:$C,$A17,ежемесячный!$D:$D,$A$1,ежемесячный!$E:$E,R$2)","v":0},{"$f":"SUMIFS(ежемесячный!$G:$G,ежемесячный!$C:$C,$A17,ежемесячный!$D:$D,$A$1,ежемесячный!$E:$E,R$2)","v":0},{"$f":"SUMIFS(ежемесячный!$F:$F,ежемесячный!$C:$C,$A17,ежемесячный!$D:$D,$A$1,ежемесячный!$E:$E,T$2)","v":0},{"$f":"SUMIFS(ежемесячный!$G:$G,ежемесячный!$C:$C,$A17,ежемесячный!$D:$D,$A$1,ежемесячный!$E:$E,T$2)","v":0},0]
["2014-03-14",{"$f":"SUMIFS(ежемесячный!$F:$F,ежемесячный!$C:$C,$A18,ежемесячный!$D:$D,$A$1,ежемесячный!$E:$E,B$2)","v":0},{"$f":"SUMIFS(ежемесячный!$G:$G,ежемесячный!$C:$C,$A18,ежемесячный!$D:$D,$A$1,ежемесячный!$E:$E,B$2)","v":0},{"$f":"SUMIFS(ежемесячный!$F:$F,ежемесячный!$C:$C,$A18,ежемесячный!$D:$D,$A$1,ежемесячный!$E:$E,D$2)","v":0},{"$f":"SUMIFS(ежемесячный!$G:$G,ежемесячный!$C:$C,$A18,ежемесячный!$D:$D,$A$1,ежемесячный!$E:$E,D$2)","v":0},{"$f":"SUMIFS(ежемесячный!$F:$F,ежемесячный!$C:$C,$A18,ежемесячный!$D:$D,$A$1,ежемесячный!$E:$E,F$2)","v":0},{"$f":"SUMIFS(ежемесячный!$G:$G,ежемесячный!$C:$C,$A18,ежемесячный!$D:$D,$A$1,ежемесячный!$E:$E,F$2)","v":0},{"$f":"SUMIFS(ежемесячный!$F:$F,ежемесячный!$C:$C,$A18,ежемесячный!$D:$D,$A$1,ежемесячный!$E:$E,H$2)","v":0},{"$f":"SUMIFS(ежемесячный!$G:$G,ежемесячный!$C:$C,$A18,ежемесячный!$D:$D,$A$1,ежемесячный!$E:$E,H$2)","v":0},{"$f":"SUMIFS(ежемесячный!$F:$F,ежемесячный!$C:$C,$A18,ежемесячный!$D:$D,$A$1,ежемесячный!$E:$E,J$2)","v":0},{"$f":"SUMIFS(ежемесячный!$G:$G,ежемесячный!$C:$C,$A18,ежемесячный!$D:$D,$A$1,ежемесячный!$E:$E,J$2)","v":0},{"$f":"SUMIFS(ежемесячный!$F:$F,ежемесячный!$C:$C,$A18,ежемесячный!$D:$D,$A$1,ежемесячный!$E:$E,L$2)","v":0},{"$f":"SUMIFS(ежемесячный!$G:$G,ежемесячный!$C:$C,$A18,ежемесячный!$D:$D,$A$1,ежемесячный!$E:$E,L$2)","v":0},{"$f":"SUMIFS(ежемесячный!$F:$F,ежемесячный!$C:$C,$A18,ежемесячный!$D:$D,$A$1,ежемесячный!$E:$E,N$2)","v":0},{"$f":"SUMIFS(ежемесячный!$G:$G,ежемесячный!$C:$C,$A18,ежемесячный!$D:$D,$A$1,ежемесячный!$E:$E,N$2)","v":0},{"$f":"SUMIFS(ежемесячный!$F:$F,ежемесячный!$C:$C,$A18,ежемесячный!$D:$D,$A$1,ежемесячный!$E:$E,P$2)","v":0},{"$f":"SUMIFS(ежемесячный!$G:$G,ежемесячный!$C:$C,$A18,ежемесячный!$D:$D,$A$1,ежемесячный!$E:$E,P$2)","v":0},{"$f":"SUMIFS(ежемесячный!$F:$F,ежемесячный!$C:$C,$A18,ежемесячный!$D:$D,$A$1,ежемесячный!$E:$E,R$2)","v":0},{"$f":"SUMIFS(ежемесячный!$G:$G,ежемесячный!$C:$C,$A18,ежемесячный!$D:$D,$A$1,ежемесячный!$E:$E,R$2)","v":0},{"$f":"SUMIFS(ежемесячный!$F:$F,ежемесячный!$C:$C,$A18,ежемесячный!$D:$D,$A$1,ежемесячный!$E:$E,T$2)","v":0},{"$f":"SUMIFS(ежемесячный!$G:$G,ежемесячный!$C:$C,$A18,ежемесячный!$D:$D,$A$1,ежемесячный!$E:$E,T$2)","v":0},0]
["2014-03-15",{"$f":"SUMIFS(ежемесячный!$F:$F,ежемесячный!$C:$C,$A19,ежемесячный!$D:$D,$A$1,ежемесячный!$E:$E,B$2)","v":0},{"$f":"SUMIFS(ежемесячный!$G:$G,ежемесячный!$C:$C,$A19,ежемесячный!$D:$D,$A$1,ежемесячный!$E:$E,B$2)","v":0},{"$f":"SUMIFS(ежемесячный!$F:$F,ежемесячный!$C:$C,$A19,ежемесячный!$D:$D,$A$1,ежемесячный!$E:$E,D$2)","v":0},{"$f":"SUMIFS(ежемесячный!$G:$G,ежемесячный!$C:$C,$A19,ежемесячный!$D:$D,$A$1,ежемесячный!$E:$E,D$2)","v":0},{"$f":"SUMIFS(ежемесячный!$F:$F,ежемесячный!$C:$C,$A19,ежемесячный!$D:$D,$A$1,ежемесячный!$E:$E,F$2)","v":0},{"$f":"SUMIFS(ежемесячный!$G:$G,ежемесячный!$C:$C,$A19,ежемесячный!$D:$D,$A$1,ежемесячный!$E:$E,F$2)","v":0},{"$f":"SUMIFS(ежемесячный!$F:$F,ежемесячный!$C:$C,$A19,ежемесячный!$D:$D,$A$1,ежемесячный!$E:$E,H$2)","v":0},{"$f":"SUMIFS(ежемесячный!$G:$G,ежемесячный!$C:$C,$A19,ежемесячный!$D:$D,$A$1,ежемесячный!$E:$E,H$2)","v":0},{"$f":"SUMIFS(ежемесячный!$F:$F,ежемесячный!$C:$C,$A19,ежемесячный!$D:$D,$A$1,ежемесячный!$E:$E,J$2)","v":0},{"$f":"SUMIFS(ежемесячный!$G:$G,ежемесячный!$C:$C,$A19,ежемесячный!$D:$D,$A$1,ежемесячный!$E:$E,J$2)","v":0},{"$f":"SUMIFS(ежемесячный!$F:$F,ежемесячный!$C:$C,$A19,ежемесячный!$D:$D,$A$1,ежемесячный!$E:$E,L$2)","v":0},{"$f":"SUMIFS(ежемесячный!$G:$G,ежемесячный!$C:$C,$A19,ежемесячный!$D:$D,$A$1,ежемесячный!$E:$E,L$2)","v":0},{"$f":"SUMIFS(ежемесячный!$F:$F,ежемесячный!$C:$C,$A19,ежемесячный!$D:$D,$A$1,ежемесячный!$E:$E,N$2)","v":0},{"$f":"SUMIFS(ежемесячный!$G:$G,ежемесячный!$C:$C,$A19,ежемесячный!$D:$D,$A$1,ежемесячный!$E:$E,N$2)","v":0},{"$f":"SUMIFS(ежемесячный!$F:$F,ежемесячный!$C:$C,$A19,ежемесячный!$D:$D,$A$1,ежемесячный!$E:$E,P$2)","v":0},{"$f":"SUMIFS(ежемесячный!$G:$G,ежемесячный!$C:$C,$A19,ежемесячный!$D:$D,$A$1,ежемесячный!$E:$E,P$2)","v":0},{"$f":"SUMIFS(ежемесячный!$F:$F,ежемесячный!$C:$C,$A19,ежемесячный!$D:$D,$A$1,ежемесячный!$E:$E,R$2)","v":0},{"$f":"SUMIFS(ежемесячный!$G:$G,ежемесячный!$C:$C,$A19,ежемесячный!$D:$D,$A$1,ежемесячный!$E:$E,R$2)","v":0},{"$f":"SUMIFS(ежемесячный!$F:$F,ежемесячный!$C:$C,$A19,ежемесячный!$D:$D,$A$1,ежемесячный!$E:$E,T$2)","v":0},{"$f":"SUMIFS(ежемесячный!$G:$G,ежемесячный!$C:$C,$A19,ежемесячный!$D:$D,$A$1,ежемесячный!$E:$E,T$2)","v":0},0]
["2014-03-16",{"$f":"SUMIFS(ежемесячный!$F:$F,ежемесячный!$C:$C,$A20,ежемесячный!$D:$D,$A$1,ежемесячный!$E:$E,B$2)","v":0},{"$f":"SUMIFS(ежемесячный!$G:$G,ежемесячный!$C:$C,$A20,ежемесячный!$D:$D,$A$1,ежемесячный!$E:$E,B$2)","v":0},{"$f":"SUMIFS(ежемесячный!$F:$F,ежемесячный!$C:$C,$A20,ежемесячный!$D:$D,$A$1,ежемесячный!$E:$E,D$2)","v":0},{"$f":"SUMIFS(ежемесячный!$G:$G,ежемесячный!$C:$C,$A20,ежемесячный!$D:$D,$A$1,ежемесячный!$E:$E,D$2)","v":0},{"$f":"SUMIFS(ежемесячный!$F:$F,ежемесячный!$C:$C,$A20,ежемесячный!$D:$D,$A$1,ежемесячный!$E:$E,F$2)","v":0},{"$f":"SUMIFS(ежемесячный!$G:$G,ежемесячный!$C:$C,$A20,ежемесячный!$D:$D,$A$1,ежемесячный!$E:$E,F$2)","v":0},{"$f":"SUMIFS(ежемесячный!$F:$F,ежемесячный!$C:$C,$A20,ежемесячный!$D:$D,$A$1,ежемесячный!$E:$E,H$2)","v":0},{"$f":"SUMIFS(ежемесячный!$G:$G,ежемесячный!$C:$C,$A20,ежемесячный!$D:$D,$A$1,ежемесячный!$E:$E,H$2)","v":0},{"$f":"SUMIFS(ежемесячный!$F:$F,ежемесячный!$C:$C,$A20,ежемесячный!$D:$D,$A$1,ежемесячный!$E:$E,J$2)","v":0},{"$f":"SUMIFS(ежемесячный!$G:$G,ежемесячный!$C:$C,$A20,ежемесячный!$D:$D,$A$1,ежемесячный!$E:$E,J$2)","v":0},{"$f":"SUMIFS(ежемесячный!$F:$F,ежемесячный!$C:$C,$A20,ежемесячный!$D:$D,$A$1,ежемесячный!$E:$E,L$2)","v":0},{"$f":"SUMIFS(ежемесячный!$G:$G,ежемесячный!$C:$C,$A20,ежемесячный!$D:$D,$A$1,ежемесячный!$E:$E,L$2)","v":0},{"$f":"SUMIFS(ежемесячный!$F:$F,ежемесячный!$C:$C,$A20,ежемесячный!$D:$D,$A$1,ежемесячный!$E:$E,N$2)","v":0},{"$f":"SUMIFS(ежемесячный!$G:$G,ежемесячный!$C:$C,$A20,ежемесячный!$D:$D,$A$1,ежемесячный!$E:$E,N$2)","v":0},{"$f":"SUMIFS(ежемесячный!$F:$F,ежемесячный!$C:$C,$A20,ежемесячный!$D:$D,$A$1,ежемесячный!$E:$E,P$2)","v":0},{"$f":"SUMIFS(ежемесячный!$G:$G,ежемесячный!$C:$C,$A20,ежемесячный!$D:$D,$A$1,ежемесячный!$E:$E,P$2)","v":0},{"$f":"SUMIFS(ежемесячный!$F:$F,ежемесячный!$C:$C,$A20,ежемесячный!$D:$D,$A$1,ежемесячный!$E:$E,R$2)","v":0},{"$f":"SUMIFS(ежемесячный!$G:$G,ежемесячный!$C:$C,$A20,ежемесячный!$D:$D,$A$1,ежемесячный!$E:$E,R$2)","v":0},{"$f":"SUMIFS(ежемесячный!$F:$F,ежемесячный!$C:$C,$A20,ежемесячный!$D:$D,$A$1,ежемесячный!$E:$E,T$2)","v":0},{"$f":"SUMIFS(ежемесячный!$G:$G,ежемесячный!$C:$C,$A20,ежемесячный!$D:$D,$A$1,ежемесячный!$E:$E,T$2)","v":0},0]
["2014-03-17",{"$f":"SUMIFS(ежемесячный!$F:$F,ежемесячный!$C:$C,$A21,ежемесячный!$D:$D,$A$1,ежемесячный!$E:$E,B$2)","v":0},{"$f":"SUMIFS(ежемесячный!$G:$G,ежемесячный!$C:$C,$A21,ежемесячный!$D:$D,$A$1,ежемесячный!$E:$E,B$2)","v":0},{"$f":"SUMIFS(ежемесячный!$F:$F,ежемесячный!$C:$C,$A21,ежемесячный!$D:$D,$A$1,ежемесячный!$E:$E,D$2)","v":0},{"$f":"SUMIFS(ежемесячный!$G:$G,ежемесячный!$C:$C,$A21,ежемесячный!$D:$D,$A$1,ежемесячный!$E:$E,D$2)","v":0},{"$f":"SUMIFS(ежемесячный!$F:$F,ежемесячный!$C:$C,$A21,ежемесячный!$D:$D,$A$1,ежемесячный!$E:$E,F$2)","v":0},{"$f":"SUMIFS(ежемесячный!$G:$G,ежемесячный!$C:$C,$A21,ежемесячный!$D:$D,$A$1,ежемесячный!$E:$E,F$2)","v":0},{"$f":"SUMIFS(ежемесячный!$F:$F,ежемесячный!$C:$C,$A21,ежемесячный!$D:$D,$A$1,ежемесячный!$E:$E,H$2)","v":0},{"$f":"SUMIFS(ежемесячный!$G:$G,ежемесячный!$C:$C,$A21,ежемесячный!$D:$D,$A$1,ежемесячный!$E:$E,H$2)","v":0},{"$f":"SUMIFS(ежемесячный!$F:$F,ежемесячный!$C:$C,$A21,ежемесячный!$D:$D,$A$1,ежемесячный!$E:$E,J$2)","v":0},{"$f":"SUMIFS(ежемесячный!$G:$G,ежемесячный!$C:$C,$A21,ежемесячный!$D:$D,$A$1,ежемесячный!$E:$E,J$2)","v":0},{"$f":"SUMIFS(ежемесячный!$F:$F,ежемесячный!$C:$C,$A21,ежемесячный!$D:$D,$A$1,ежемесячный!$E:$E,L$2)","v":0},{"$f":"SUMIFS(ежемесячный!$G:$G,ежемесячный!$C:$C,$A21,ежемесячный!$D:$D,$A$1,ежемесячный!$E:$E,L$2)","v":0},{"$f":"SUMIFS(ежемесячный!$F:$F,ежемесячный!$C:$C,$A21,ежемесячный!$D:$D,$A$1,ежемесячный!$E:$E,N$2)","v":0},{"$f":"SUMIFS(ежемесячный!$G:$G,ежемесячный!$C:$C,$A21,ежемесячный!$D:$D,$A$1,ежемесячный!$E:$E,N$2)","v":0},{"$f":"SUMIFS(ежемесячный!$F:$F,ежемесячный!$C:$C,$A21,ежемесячный!$D:$D,$A$1,ежемесячный!$E:$E,P$2)","v":0},{"$f":"SUMIFS(ежемесячный!$G:$G,ежемесячный!$C:$C,$A21,ежемесячный!$D:$D,$A$1,ежемесячный!$E:$E,P$2)","v":0},{"$f":"SUMIFS(ежемесячный!$F:$F,ежемесячный!$C:$C,$A21,ежемесячный!$D:$D,$A$1,ежемесячный!$E:$E,R$2)","v":0},{"$f":"SUMIFS(ежемесячный!$G:$G,ежемесячный!$C:$C,$A21,ежемесячный!$D:$D,$A$1,ежемесячный!$E:$E,R$2)","v":0},{"$f":"SUMIFS(ежемесячный!$F:$F,ежемесячный!$C:$C,$A21,ежемесячный!$D:$D,$A$1,ежемесячный!$E:$E,T$2)","v":0},{"$f":"SUMIFS(ежемесячный!$G:$G,ежемесячный!$C:$C,$A21,ежемесячный!$D:$D,$A$1,ежемесячный!$E:$E,T$2)","v":0},0]
["2014-03-18",{"$f":"SUMIFS(ежемесячный!$F:$F,ежемесячный!$C:$C,$A22,ежемесячный!$D:$D,$A$1,ежемесячный!$E:$E,B$2)","v":0},{"$f":"SUMIFS(ежемесячный!$G:$G,ежемесячный!$C:$C,$A22,ежемесячный!$D:$D,$A$1,ежемесячный!$E:$E,B$2)","v":0},{"$f":"SUMIFS(ежемесячный!$F:$F,ежемесячный!$C:$C,$A22,ежемесячный!$D:$D,$A$1,ежемесячный!$E:$E,D$2)","v":0},{"$f":"SUMIFS(ежемесячный!$G:$G,ежемесячный!$C:$C,$A22,ежемесячный!$D:$D,$A$1,ежемесячный!$E:$E,D$2)","v":0},{"$f":"SUMIFS(ежемесячный!$F:$F,ежемесячный!$C:$C,$A22,ежемесячный!$D:$D,$A$1,ежемесячный!$E:$E,F$2)","v":0},{"$f":"SUMIFS(ежемесячный!$G:$G,ежемесячный!$C:$C,$A22,ежемесячный!$D:$D,$A$1,ежемесячный!$E:$E,F$2)","v":0},{"$f":"SUMIFS(ежемесячный!$F:$F,ежемесячный!$C:$C,$A22,ежемесячный!$D:$D,$A$1,ежемесячный!$E:$E,H$2)","v":0},{"$f":"SUMIFS(ежемесячный!$G:$G,ежемесячный!$C:$C,$A22,ежемесячный!$D:$D,$A$1,ежемесячный!$E:$E,H$2)","v":0},{"$f":"SUMIFS(ежемесячный!$F:$F,ежемесячный!$C:$C,$A22,ежемесячный!$D:$D,$A$1,ежемесячный!$E:$E,J$2)","v":0},{"$f":"SUMIFS(ежемесячный!$G:$G,ежемесячный!$C:$C,$A22,ежемесячный!$D:$D,$A$1,ежемесячный!$E:$E,J$2)","v":0},{"$f":"SUMIFS(ежемесячный!$F:$F,ежемесячный!$C:$C,$A22,ежемесячный!$D:$D,$A$1,ежемесячный!$E:$E,L$2)","v":0},{"$f":"SUMIFS(ежемесячный!$G:$G,ежемесячный!$C:$C,$A22,ежемесячный!$D:$D,$A$1,ежемесячный!$E:$E,L$2)","v":0},{"$f":"SUMIFS(ежемесячный!$F:$F,ежемесячный!$C:$C,$A22,ежемесячный!$D:$D,$A$1,ежемесячный!$E:$E,N$2)","v":0},{"$f":"SUMIFS(ежемесячный!$G:$G,ежемесячный!$C:$C,$A22,ежемесячный!$D:$D,$A$1,ежемесячный!$E:$E,N$2)","v":0},{"$f":"SUMIFS(ежемесячный!$F:$F,ежемесячный!$C:$C,$A22,ежемесячный!$D:$D,$A$1,ежемесячный!$E:$E,P$2)","v":0},{"$f":"SUMIFS(ежемесячный!$G:$G,ежемесячный!$C:$C,$A22,ежемесячный!$D:$D,$A$1,ежемесячный!$E:$E,P$2)","v":0},{"$f":"SUMIFS(ежемесячный!$F:$F,ежемесячный!$C:$C,$A22,ежемесячный!$D:$D,$A$1,ежемесячный!$E:$E,R$2)","v":0},{"$f":"SUMIFS(ежемесячный!$G:$G,ежемесячный!$C:$C,$A22,ежемесячный!$D:$D,$A$1,ежемесячный!$E:$E,R$2)","v":0},{"$f":"SUMIFS(ежемесячный!$F:$F,ежемесячный!$C:$C,$A22,ежемесячный!$D:$D,$A$1,ежемесячный!$E:$E,T$2)","v":0},{"$f":"SUMIFS(ежемесячный!$G:$G,ежемесячный!$C:$C,$A22,ежемесячный!$D:$D,$A$1,ежемесячный!$E:$E,T$2)","v":0},0]
["2014-03-19",{"$f":"SUMIFS(ежемесячный!$F:$F,ежемесячный!$C:$C,$A23,ежемесячный!$D:$D,$A$1,ежемесячный!$E:$E,B$2)","v":0},{"$f":"SUMIFS(ежемесячный!$G:$G,ежемесячный!$C:$C,$A23,ежемесячный!$D:$D,$A$1,ежемесячный!$E:$E,B$2)","v":0},{"$f":"SUMIFS(ежемесячный!$F:$F,ежемесячный!$C:$C,$A23,ежемесячный!$D:$D,$A$1,ежемесячный!$E:$E,D$2)","v":0},{"$f":"SUMIFS(ежемесячный!$G:$G,ежемесячный!$C:$C,$A23,ежемесячный!$D:$D,$A$1,ежемесячный!$E:$E,D$2)","v":0},{"$f":"SUMIFS(ежемесячный!$F:$F,ежемесячный!$C:$C,$A23,ежемесячный!$D:$D,$A$1,ежемесячный!$E:$E,F$2)","v":0},{"$f":"SUMIFS(ежемесячный!$G:$G,ежемесячный!$C:$C,$A23,ежемесячный!$D:$D,$A$1,ежемесячный!$E:$E,F$2)","v":0},{"$f":"SUMIFS(ежемесячный!$F:$F,ежемесячный!$C:$C,$A23,ежемесячный!$D:$D,$A$1,ежемесячный!$E:$E,H$2)","v":0},{"$f":"SUMIFS(ежемесячный!$G:$G,ежемесячный!$C:$C,$A23,ежемесячный!$D:$D,$A$1,ежемесячный!$E:$E,H$2)","v":0},{"$f":"SUMIFS(ежемесячный!$F:$F,ежемесячный!$C:$C,$A23,ежемесячный!$D:$D,$A$1,ежемесячный!$E:$E,J$2)","v":0},{"$f":"SUMIFS(ежемесячный!$G:$G,ежемесячный!$C:$C,$A23,ежемесячный!$D:$D,$A$1,ежемесячный!$E:$E,J$2)","v":0},{"$f":"SUMIFS(ежемесячный!$F:$F,ежемесячный!$C:$C,$A23,ежемесячный!$D:$D,$A$1,ежемесячный!$E:$E,L$2)","v":0},{"$f":"SUMIFS(ежемесячный!$G:$G,ежемесячный!$C:$C,$A23,ежемесячный!$D:$D,$A$1,ежемесячный!$E:$E,L$2)","v":0},{"$f":"SUMIFS(ежемесячный!$F:$F,ежемесячный!$C:$C,$A23,ежемесячный!$D:$D,$A$1,ежемесячный!$E:$E,N$2)","v":0},{"$f":"SUMIFS(ежемесячный!$G:$G,ежемесячный!$C:$C,$A23,ежемесячный!$D:$D,$A$1,ежемесячный!$E:$E,N$2)","v":0},{"$f":"SUMIFS(ежемесячный!$F:$F,ежемесячный!$C:$C,$A23,ежемесячный!$D:$D,$A$1,ежемесячный!$E:$E,P$2)","v":0},{"$f":"SUMIFS(ежемесячный!$G:$G,ежемесячный!$C:$C,$A23,ежемесячный!$D:$D,$A$1,ежемесячный!$E:$E,P$2)","v":0},{"$f":"SUMIFS(ежемесячный!$F:$F,ежемесячный!$C:$C,$A23,ежемесячный!$D:$D,$A$1,ежемесячный!$E:$E,R$2)","v":0},{"$f":"SUMIFS(ежемесячный!$G:$G,ежемесячный!$C:$C,$A23,ежемесячный!$D:$D,$A$1,ежемесячный!$E:$E,R$2)","v":0},{"$f":"SUMIFS(ежемесячный!$F:$F,ежемесячный!$C:$C,$A23,ежемесячный!$D:$D,$A$1,ежемесячный!$E:$E,T$2)","v":0},{"$f":"SUMIFS(ежемесячный!$G:$G,ежемесячный!$C:$C,$A23,ежемесячный!$D:$D,$A$1,ежемесячный!$E:$E,T$2)","v":0},0]
["2014-03-20",{"$f":"SUMIFS(ежемесячный!$F:$F,ежемесячный!$C:$C,$A24,ежемесячный!$D:$D,$A$1,ежемесячный!$E:$E,B$2)","v":0},{"$f":"SUMIFS(ежемесячный!$G:$G,ежемесячный!$C:$C,$A24,ежемесячный!$D:$D,$A$1,ежемесячный!$E:$E,B$2)","v":0},{"$f":"SUMIFS(ежемесячный!$F:$F,ежемесячный!$C:$C,$A24,ежемесячный!$D:$D,$A$1,ежемесячный!$E:$E,D$2)","v":0},{"$f":"SUMIFS(ежемесячный!$G:$G,ежемесячный!$C:$C,$A24,ежемесячный!$D:$D,$A$1,ежемесячный!$E:$E,D$2)","v":0},{"$f":"SUMIFS(ежемесячный!$F:$F,ежемесячный!$C:$C,$A24,ежемесячный!$D:$D,$A$1,ежемесячный!$E:$E,F$2)","v":0},{"$f":"SUMIFS(ежемесячный!$G:$G,ежемесячный!$C:$C,$A24,ежемесячный!$D:$D,$A$1,ежемесячный!$E:$E,F$2)","v":0},{"$f":"SUMIFS(ежемесячный!$F:$F,ежемесячный!$C:$C,$A24,ежемесячный!$D:$D,$A$1,ежемесячный!$E:$E,H$2)","v":0},{"$f":"SUMIFS(ежемесячный!$G:$G,ежемесячный!$C:$C,$A24,ежемесячный!$D:$D,$A$1,ежемесячный!$E:$E,H$2)","v":0},{"$f":"SUMIFS(ежемесячный!$F:$F,ежемесячный!$C:$C,$A24,ежемесячный!$D:$D,$A$1,ежемесячный!$E:$E,J$2)","v":0},{"$f":"SUMIFS(ежемесячный!$G:$G,ежемесячный!$C:$C,$A24,ежемесячный!$D:$D,$A$1,ежемесячный!$E:$E,J$2)","v":0},{"$f":"SUMIFS(ежемесячный!$F:$F,ежемесячный!$C:$C,$A24,ежемесячный!$D:$D,$A$1,ежемесячный!$E:$E,L$2)","v":0},{"$f":"SUMIFS(ежемесячный!$G:$G,ежемесячный!$C:$C,$A24,ежемесячный!$D:$D,$A$1,ежемесячный!$E:$E,L$2)","v":0},{"$f":"SUMIFS(ежемесячный!$F:$F,ежемесячный!$C:$C,$A24,ежемесячный!$D:$D,$A$1,ежемесячный!$E:$E,N$2)","v":0},{"$f":"SUMIFS(ежемесячный!$G:$G,ежемесячный!$C:$C,$A24,ежемесячный!$D:$D,$A$1,ежемесячный!$E:$E,N$2)","v":0},{"$f":"SUMIFS(ежемесячный!$F:$F,ежемесячный!$C:$C,$A24,ежемесячный!$D:$D,$A$1,ежемесячный!$E:$E,P$2)","v":0},{"$f":"SUMIFS(ежемесячный!$G:$G,ежемесячный!$C:$C,$A24,ежемесячный!$D:$D,$A$1,ежемесячный!$E:$E,P$2)","v":0},{"$f":"SUMIFS(ежемесячный!$F:$F,ежемесячный!$C:$C,$A24,ежемесячный!$D:$D,$A$1,ежемесячный!$E:$E,R$2)","v":0},{"$f":"SUMIFS(ежемесячный!$G:$G,ежемесячный!$C:$C,$A24,ежемесячный!$D:$D,$A$1,ежемесячный!$E:$E,R$2)","v":0},{"$f":"SUMIFS(ежемесячный!$F:$F,ежемесячный!$C:$C,$A24,ежемесячный!$D:$D,$A$1,ежемесячный!$E:$E,T$2)","v":0},{"$f":"SUMIFS(ежемесячный!$G:$G,ежемесячный!$C:$C,$A24,ежемесячный!$D:$D,$A$1,ежемесячный!$E:$E,T$2)","v":0},0]
["2014-03-21",{"$f":"SUMIFS(ежемесячный!$F:$F,ежемесячный!$C:$C,$A25,ежемесячный!$D:$D,$A$1,ежемесячный!$E:$E,B$2)","v":0},{"$f":"SUMIFS(ежемесячный!$G:$G,ежемесячный!$C:$C,$A25,ежемесячный!$D:$D,$A$1,ежемесячный!$E:$E,B$2)","v":0},{"$f":"SUMIFS(ежемесячный!$F:$F,ежемесячный!$C:$C,$A25,ежемесячный!$D:$D,$A$1,ежемесячный!$E:$E,D$2)","v":0},{"$f":"SUMIFS(ежемесячный!$G:$G,ежемесячный!$C:$C,$A25,ежемесячный!$D:$D,$A$1,ежемесячный!$E:$E,D$2)","v":0},{"$f":"SUMIFS(ежемесячный!$F:$F,ежемесячный!$C:$C,$A25,ежемесячный!$D:$D,$A$1,ежемесячный!$E:$E,F$2)","v":0},{"$f":"SUMIFS(ежемесячный!$G:$G,ежемесячный!$C:$C,$A25,ежемесячный!$D:$D,$A$1,ежемесячный!$E:$E,F$2)","v":0},{"$f":"SUMIFS(ежемесячный!$F:$F,ежемесячный!$C:$C,$A25,ежемесячный!$D:$D,$A$1,ежемесячный!$E:$E,H$2)","v":0},{"$f":"SUMIFS(ежемесячный!$G:$G,ежемесячный!$C:$C,$A25,ежемесячный!$D:$D,$A$1,ежемесячный!$E:$E,H$2)","v":0},{"$f":"SUMIFS(ежемесячный!$F:$F,ежемесячный!$C:$C,$A25,ежемесячный!$D:$D,$A$1,ежемесячный!$E:$E,J$2)","v":0},{"$f":"SUMIFS(ежемесячный!$G:$G,ежемесячный!$C:$C,$A25,ежемесячный!$D:$D,$A$1,ежемесячный!$E:$E,J$2)","v":0},{"$f":"SUMIFS(ежемесячный!$F:$F,ежемесячный!$C:$C,$A25,ежемесячный!$D:$D,$A$1,ежемесячный!$E:$E,L$2)","v":0},{"$f":"SUMIFS(ежемесячный!$G:$G,ежемесячный!$C:$C,$A25,ежемесячный!$D:$D,$A$1,ежемесячный!$E:$E,L$2)","v":0},{"$f":"SUMIFS(ежемесячный!$F:$F,ежемесячный!$C:$C,$A25,ежемесячный!$D:$D,$A$1,ежемесячный!$E:$E,N$2)","v":0},{"$f":"SUMIFS(ежемесячный!$G:$G,ежемесячный!$C:$C,$A25,ежемесячный!$D:$D,$A$1,ежемесячный!$E:$E,N$2)","v":0},{"$f":"SUMIFS(ежемесячный!$F:$F,ежемесячный!$C:$C,$A25,ежемесячный!$D:$D,$A$1,ежемесячный!$E:$E,P$2)","v":0},{"$f":"SUMIFS(ежемесячный!$G:$G,ежемесячный!$C:$C,$A25,ежемесячный!$D:$D,$A$1,ежемесячный!$E:$E,P$2)","v":0},{"$f":"SUMIFS(ежемесячный!$F:$F,ежемесячный!$C:$C,$A25,ежемесячный!$D:$D,$A$1,ежемесячный!$E:$E,R$2)","v":0},{"$f":"SUMIFS(ежемесячный!$G:$G,ежемесячный!$C:$C,$A25,ежемесячный!$D:$D,$A$1,ежемесячный!$E:$E,R$2)","v":0},{"$f":"SUMIFS(ежемесячный!$F:$F,ежемесячный!$C:$C,$A25,ежемесячный!$D:$D,$A$1,ежемесячный!$E:$E,T$2)","v":0},{"$f":"SUMIFS(ежемесячный!$G:$G,ежемесячный!$C:$C,$A25,ежемесячный!$D:$D,$A$1,ежемесячный!$E:$E,T$2)","v":0},0]
["2014-03-22",{"$f":"SUMIFS(ежемесячный!$F:$F,ежемесячный!$C:$C,$A26,ежемесячный!$D:$D,$A$1,ежемесячный!$E:$E,B$2)","v":0},{"$f":"SUMIFS(ежемесячный!$G:$G,ежемесячный!$C:$C,$A26,ежемесячный!$D:$D,$A$1,ежемесячный!$E:$E,B$2)","v":0},{"$f":"SUMIFS(ежемесячный!$F:$F,ежемесячный!$C:$C,$A26,ежемесячный!$D:$D,$A$1,ежемесячный!$E:$E,D$2)","v":0},{"$f":"SUMIFS(ежемесячный!$G:$G,ежемесячный!$C:$C,$A26,ежемесячный!$D:$D,$A$1,ежемесячный!$E:$E,D$2)","v":0},{"$f":"SUMIFS(ежемесячный!$F:$F,ежемесячный!$C:$C,$A26,ежемесячный!$D:$D,$A$1,ежемесячный!$E:$E,F$2)","v":0},{"$f":"SUMIFS(ежемесячный!$G:$G,ежемесячный!$C:$C,$A26,ежемесячный!$D:$D,$A$1,ежемесячный!$E:$E,F$2)","v":0},{"$f":"SUMIFS(ежемесячный!$F:$F,ежемесячный!$C:$C,$A26,ежемесячный!$D:$D,$A$1,ежемесячный!$E:$E,H$2)","v":0},{"$f":"SUMIFS(ежемесячный!$G:$G,ежемесячный!$C:$C,$A26,ежемесячный!$D:$D,$A$1,ежемесячный!$E:$E,H$2)","v":0},{"$f":"SUMIFS(ежемесячный!$F:$F,ежемесячный!$C:$C,$A26,ежемесячный!$D:$D,$A$1,ежемесячный!$E:$E,J$2)","v":0},{"$f":"SUMIFS(ежемесячный!$G:$G,ежемесячный!$C:$C,$A26,ежемесячный!$D:$D,$A$1,ежемесячный!$E:$E,J$2)","v":0},{"$f":"SUMIFS(ежемесячный!$F:$F,ежемесячный!$C:$C,$A26,ежемесячный!$D:$D,$A$1,ежемесячный!$E:$E,L$2)","v":0},{"$f":"SUMIFS(ежемесячный!$G:$G,ежемесячный!$C:$C,$A26,ежемесячный!$D:$D,$A$1,ежемесячный!$E:$E,L$2)","v":0},{"$f":"SUMIFS(ежемесячный!$F:$F,ежемесячный!$C:$C,$A26,ежемесячный!$D:$D,$A$1,ежемесячный!$E:$E,N$2)","v":0},{"$f":"SUMIFS(ежемесячный!$G:$G,ежемесячный!$C:$C,$A26,ежемесячный!$D:$D,$A$1,ежемесячный!$E:$E,N$2)","v":0},{"$f":"SUMIFS(ежемесячный!$F:$F,ежемесячный!$C:$C,$A26,ежемесячный!$D:$D,$A$1,ежемесячный!$E:$E,P$2)","v":0},{"$f":"SUMIFS(ежемесячный!$G:$G,ежемесячный!$C:$C,$A26,ежемесячный!$D:$D,$A$1,ежемесячный!$E:$E,P$2)","v":0},{"$f":"SUMIFS(ежемесячный!$F:$F,ежемесячный!$C:$C,$A26,ежемесячный!$D:$D,$A$1,ежемесячный!$E:$E,R$2)","v":0},{"$f":"SUMIFS(ежемесячный!$G:$G,ежемесячный!$C:$C,$A26,ежемесячный!$D:$D,$A$1,ежемесячный!$E:$E,R$2)","v":0},{"$f":"SUMIFS(ежемесячный!$F:$F,ежемесячный!$C:$C,$A26,ежемесячный!$D:$D,$A$1,ежемесячный!$E:$E,T$2)","v":0},{"$f":"SUMIFS(ежемесячный!$G:$G,ежемесячный!$C:$C,$A26,ежемесячный!$D:$D,$A$1,ежемесячный!$E:$E,T$2)","v":0},0]
["2014-03-23",{"$f":"SUMIFS(ежемесячный!$F:$F,ежемесячный!$C:$C,$A27,ежемесячный!$D:$D,$A$1,ежемесячный!$E:$E,B$2)","v":0},{"$f":"SUMIFS(ежемесячный!$G:$G,ежемесячный!$C:$C,$A27,ежемесячный!$D:$D,$A$1,ежемесячный!$E:$E,B$2)","v":0},{"$f":"SUMIFS(ежемесячный!$F:$F,ежемесячный!$C:$C,$A27,ежемесячный!$D:$D,$A$1,ежемесячный!$E:$E,D$2)","v":0},{"$f":"SUMIFS(ежемесячный!$G:$G,ежемесячный!$C:$C,$A27,ежемесячный!$D:$D,$A$1,ежемесячный!$E:$E,D$2)","v":0},{"$f":"SUMIFS(ежемесячный!$F:$F,ежемесячный!$C:$C,$A27,ежемесячный!$D:$D,$A$1,ежемесячный!$E:$E,F$2)","v":0},{"$f":"SUMIFS(ежемесячный!$G:$G,ежемесячный!$C:$C,$A27,ежемесячный!$D:$D,$A$1,ежемесячный!$E:$E,F$2)","v":0},{"$f":"SUMIFS(ежемесячный!$F:$F,ежемесячный!$C:$C,$A27,ежемесячный!$D:$D,$A$1,ежемесячный!$E:$E,H$2)","v":0},{"$f":"SUMIFS(ежемесячный!$G:$G,ежемесячный!$C:$C,$A27,ежемесячный!$D:$D,$A$1,ежемесячный!$E:$E,H$2)","v":0},{"$f":"SUMIFS(ежемесячный!$F:$F,ежемесячный!$C:$C,$A27,ежемесячный!$D:$D,$A$1,ежемесячный!$E:$E,J$2)","v":0},{"$f":"SUMIFS(ежемесячный!$G:$G,ежемесячный!$C:$C,$A27,ежемесячный!$D:$D,$A$1,ежемесячный!$E:$E,J$2)","v":0},{"$f":"SUMIFS(ежемесячный!$F:$F,ежемесячный!$C:$C,$A27,ежемесячный!$D:$D,$A$1,ежемесячный!$E:$E,L$2)","v":0},{"$f":"SUMIFS(ежемесячный!$G:$G,ежемесячный!$C:$C,$A27,ежемесячный!$D:$D,$A$1,ежемесячный!$E:$E,L$2)","v":0},{"$f":"SUMIFS(ежемесячный!$F:$F,ежемесячный!$C:$C,$A27,ежемесячный!$D:$D,$A$1,ежемесячный!$E:$E,N$2)","v":0},{"$f":"SUMIFS(ежемесячный!$G:$G,ежемесячный!$C:$C,$A27,ежемесячный!$D:$D,$A$1,ежемесячный!$E:$E,N$2)","v":0},{"$f":"SUMIFS(ежемесячный!$F:$F,ежемесячный!$C:$C,$A27,ежемесячный!$D:$D,$A$1,ежемесячный!$E:$E,P$2)","v":0},{"$f":"SUMIFS(ежемесячный!$G:$G,ежемесячный!$C:$C,$A27,ежемесячный!$D:$D,$A$1,ежемесячный!$E:$E,P$2)","v":0},{"$f":"SUMIFS(ежемесячный!$F:$F,ежемесячный!$C:$C,$A27,ежемесячный!$D:$D,$A$1,ежемесячный!$E:$E,R$2)","v":0},{"$f":"SUMIFS(ежемесячный!$G:$G,ежемесячный!$C:$C,$A27,ежемесячный!$D:$D,$A$1,ежемесячный!$E:$E,R$2)","v":0},{"$f":"SUMIFS(ежемесячный!$F:$F,ежемесячный!$C:$C,$A27,ежемесячный!$D:$D,$A$1,ежемесячный!$E:$E,T$2)","v":0},{"$f":"SUMIFS(ежемесячный!$G:$G,ежемесячный!$C:$C,$A27,ежемесячный!$D:$D,$A$1,ежемесячный!$E:$E,T$2)","v":0},0]
["2014-03-24",{"$f":"SUMIFS(ежемесячный!$F:$F,ежемесячный!$C:$C,$A28,ежемесячный!$D:$D,$A$1,ежемесячный!$E:$E,B$2)","v":0},{"$f":"SUMIFS(ежемесячный!$G:$G,ежемесячный!$C:$C,$A28,ежемесячный!$D:$D,$A$1,ежемесячный!$E:$E,B$2)","v":0},{"$f":"SUMIFS(ежемесячный!$F:$F,ежемесячный!$C:$C,$A28,ежемесячный!$D:$D,$A$1,ежемесячный!$E:$E,D$2)","v":0},{"$f":"SUMIFS(ежемесячный!$G:$G,ежемесячный!$C:$C,$A28,ежемесячный!$D:$D,$A$1,ежемесячный!$E:$E,D$2)","v":0},{"$f":"SUMIFS(ежемесячный!$F:$F,ежемесячный!$C:$C,$A28,ежемесячный!$D:$D,$A$1,ежемесячный!$E:$E,F$2)","v":0},{"$f":"SUMIFS(ежемесячный!$G:$G,ежемесячный!$C:$C,$A28,ежемесячный!$D:$D,$A$1,ежемесячный!$E:$E,F$2)","v":0},{"$f":"SUMIFS(ежемесячный!$F:$F,ежемесячный!$C:$C,$A28,ежемесячный!$D:$D,$A$1,ежемесячный!$E:$E,H$2)","v":0},{"$f":"SUMIFS(ежемесячный!$G:$G,ежемесячный!$C:$C,$A28,ежемесячный!$D:$D,$A$1,ежемесячный!$E:$E,H$2)","v":0},{"$f":"SUMIFS(ежемесячный!$F:$F,ежемесячный!$C:$C,$A28,ежемесячный!$D:$D,$A$1,ежемесячный!$E:$E,J$2)","v":0},{"$f":"SUMIFS(ежемесячный!$G:$G,ежемесячный!$C:$C,$A28,ежемесячный!$D:$D,$A$1,ежемесячный!$E:$E,J$2)","v":0},{"$f":"SUMIFS(ежемесячный!$F:$F,ежемесячный!$C:$C,$A28,ежемесячный!$D:$D,$A$1,ежемесячный!$E:$E,L$2)","v":0},{"$f":"SUMIFS(ежемесячный!$G:$G,ежемесячный!$C:$C,$A28,ежемесячный!$D:$D,$A$1,ежемесячный!$E:$E,L$2)","v":0},{"$f":"SUMIFS(ежемесячный!$F:$F,ежемесячный!$C:$C,$A28,ежемесячный!$D:$D,$A$1,ежемесячный!$E:$E,N$2)","v":0},{"$f":"SUMIFS(ежемесячный!$G:$G,ежемесячный!$C:$C,$A28,ежемесячный!$D:$D,$A$1,ежемесячный!$E:$E,N$2)","v":0},{"$f":"SUMIFS(ежемесячный!$F:$F,ежемесячный!$C:$C,$A28,ежемесячный!$D:$D,$A$1,ежемесячный!$E:$E,P$2)","v":0},{"$f":"SUMIFS(ежемесячный!$G:$G,ежемесячный!$C:$C,$A28,ежемесячный!$D:$D,$A$1,ежемесячный!$E:$E,P$2)","v":0},{"$f":"SUMIFS(ежемесячный!$F:$F,ежемесячный!$C:$C,$A28,ежемесячный!$D:$D,$A$1,ежемесячный!$E:$E,R$2)","v":0},{"$f":"SUMIFS(ежемесячный!$G:$G,ежемесячный!$C:$C,$A28,ежемесячный!$D:$D,$A$1,ежемесячный!$E:$E,R$2)","v":0},{"$f":"SUMIFS(ежемесячный!$F:$F,ежемесячный!$C:$C,$A28,ежемесячный!$D:$D,$A$1,ежемесячный!$E:$E,T$2)","v":0},{"$f":"SUMIFS(ежемесячный!$G:$G,ежемесячный!$C:$C,$A28,ежемесячный!$D:$D,$A$1,ежемесячный!$E:$E,T$2)","v":0},0]
["2014-03-25",{"$f":"SUMIFS(ежемесячный!$F:$F,ежемесячный!$C:$C,$A29,ежемесячный!$D:$D,$A$1,ежемесячный!$E:$E,B$2)","v":0},{"$f":"SUMIFS(ежемесячный!$G:$G,ежемесячный!$C:$C,$A29,ежемесячный!$D:$D,$A$1,ежемесячный!$E:$E,B$2)","v":0},{"$f":"SUMIFS(ежемесячный!$F:$F,ежемесячный!$C:$C,$A29,ежемесячный!$D:$D,$A$1,ежемесячный!$E:$E,D$2)","v":0},{"$f":"SUMIFS(ежемесячный!$G:$G,ежемесячный!$C:$C,$A29,ежемесячный!$D:$D,$A$1,ежемесячный!$E:$E,D$2)","v":0},{"$f":"SUMIFS(ежемесячный!$F:$F,ежемесячный!$C:$C,$A29,ежемесячный!$D:$D,$A$1,ежемесячный!$E:$E,F$2)","v":0},{"$f":"SUMIFS(ежемесячный!$G:$G,ежемесячный!$C:$C,$A29,ежемесячный!$D:$D,$A$1,ежемесячный!$E:$E,F$2)","v":0},{"$f":"SUMIFS(ежемесячный!$F:$F,ежемесячный!$C:$C,$A29,ежемесячный!$D:$D,$A$1,ежемесячный!$E:$E,H$2)","v":0},{"$f":"SUMIFS(ежемесячный!$G:$G,ежемесячный!$C:$C,$A29,ежемесячный!$D:$D,$A$1,ежемесячный!$E:$E,H$2)","v":0},{"$f":"SUMIFS(ежемесячный!$F:$F,ежемесячный!$C:$C,$A29,ежемесячный!$D:$D,$A$1,ежемесячный!$E:$E,J$2)","v":0},{"$f":"SUMIFS(ежемесячный!$G:$G,ежемесячный!$C:$C,$A29,ежемесячный!$D:$D,$A$1,ежемесячный!$E:$E,J$2)","v":0},{"$f":"SUMIFS(ежемесячный!$F:$F,ежемесячный!$C:$C,$A29,ежемесячный!$D:$D,$A$1,ежемесячный!$E:$E,L$2)","v":0},{"$f":"SUMIFS(ежемесячный!$G:$G,ежемесячный!$C:$C,$A29,ежемесячный!$D:$D,$A$1,ежемесячный!$E:$E,L$2)","v":0},{"$f":"SUMIFS(ежемесячный!$F:$F,ежемесячный!$C:$C,$A29,ежемесячный!$D:$D,$A$1,ежемесячный!$E:$E,N$2)","v":0},{"$f":"SUMIFS(ежемесячный!$G:$G,ежемесячный!$C:$C,$A29,ежемесячный!$D:$D,$A$1,ежемесячный!$E:$E,N$2)","v":0},{"$f":"SUMIFS(ежемесячный!$F:$F,ежемесячный!$C:$C,$A29,ежемесячный!$D:$D,$A$1,ежемесячный!$E:$E,P$2)","v":0},{"$f":"SUMIFS(ежемесячный!$G:$G,ежемесячный!$C:$C,$A29,ежемесячный!$D:$D,$A$1,ежемесячный!$E:$E,P$2)","v":0},{"$f":"SUMIFS(ежемесячный!$F:$F,ежемесячный!$C:$C,$A29,ежемесячный!$D:$D,$A$1,ежемесячный!$E:$E,R$2)","v":0},{"$f":"SUMIFS(ежемесячный!$G:$G,ежемесячный!$C:$C,$A29,ежемесячный!$D:$D,$A$1,ежемесячный!$E:$E,R$2)","v":0},{"$f":"SUMIFS(ежемесячный!$F:$F,ежемесячный!$C:$C,$A29,ежемесячный!$D:$D,$A$1,ежемесячный!$E:$E,T$2)","v":0},{"$f":"SUMIFS(ежемесячный!$G:$G,ежемесячный!$C:$C,$A29,ежемесячный!$D:$D,$A$1,ежемесячный!$E:$E,T$2)","v":0},0]
["2014-03-26",{"$f":"SUMIFS(ежемесячный!$F:$F,ежемесячный!$C:$C,$A30,ежемесячный!$D:$D,$A$1,ежемесячный!$E:$E,B$2)","v":0},{"$f":"SUMIFS(ежемесячный!$G:$G,ежемесячный!$C:$C,$A30,ежемесячный!$D:$D,$A$1,ежемесячный!$E:$E,B$2)","v":0},{"$f":"SUMIFS(ежемесячный!$F:$F,ежемесячный!$C:$C,$A30,ежемесячный!$D:$D,$A$1,ежемесячный!$E:$E,D$2)","v":0},{"$f":"SUMIFS(ежемесячный!$G:$G,ежемесячный!$C:$C,$A30,ежемесячный!$D:$D,$A$1,ежемесячный!$E:$E,D$2)","v":0},{"$f":"SUMIFS(ежемесячный!$F:$F,ежемесячный!$C:$C,$A30,ежемесячный!$D:$D,$A$1,ежемесячный!$E:$E,F$2)","v":0},{"$f":"SUMIFS(ежемесячный!$G:$G,ежемесячный!$C:$C,$A30,ежемесячный!$D:$D,$A$1,ежемесячный!$E:$E,F$2)","v":0},{"$f":"SUMIFS(ежемесячный!$F:$F,ежемесячный!$C:$C,$A30,ежемесячный!$D:$D,$A$1,ежемесячный!$E:$E,H$2)","v":0},{"$f":"SUMIFS(ежемесячный!$G:$G,ежемесячный!$C:$C,$A30,ежемесячный!$D:$D,$A$1,ежемесячный!$E:$E,H$2)","v":0},{"$f":"SUMIFS(ежемесячный!$F:$F,ежемесячный!$C:$C,$A30,ежемесячный!$D:$D,$A$1,ежемесячный!$E:$E,J$2)","v":0},{"$f":"SUMIFS(ежемесячный!$G:$G,ежемесячный!$C:$C,$A30,ежемесячный!$D:$D,$A$1,ежемесячный!$E:$E,J$2)","v":0},{"$f":"SUMIFS(ежемесячный!$F:$F,ежемесячный!$C:$C,$A30,ежемесячный!$D:$D,$A$1,ежемесячный!$E:$E,L$2)","v":0},{"$f":"SUMIFS(ежемесячный!$G:$G,ежемесячный!$C:$C,$A30,ежемесячный!$D:$D,$A$1,ежемесячный!$E:$E,L$2)","v":0},{"$f":"SUMIFS(ежемесячный!$F:$F,ежемесячный!$C:$C,$A30,ежемесячный!$D:$D,$A$1,ежемесячный!$E:$E,N$2)","v":0},{"$f":"SUMIFS(ежемесячный!$G:$G,ежемесячный!$C:$C,$A30,ежемесячный!$D:$D,$A$1,ежемесячный!$E:$E,N$2)","v":0},{"$f":"SUMIFS(ежемесячный!$F:$F,ежемесячный!$C:$C,$A30,ежемесячный!$D:$D,$A$1,ежемесячный!$E:$E,P$2)","v":0},{"$f":"SUMIFS(ежемесячный!$G:$G,ежемесячный!$C:$C,$A30,ежемесячный!$D:$D,$A$1,ежемесячный!$E:$E,P$2)","v":0},{"$f":"SUMIFS(ежемесячный!$F:$F,ежемесячный!$C:$C,$A30,ежемесячный!$D:$D,$A$1,ежемесячный!$E:$E,R$2)","v":0},{"$f":"SUMIFS(ежемесячный!$G:$G,ежемесячный!$C:$C,$A30,ежемесячный!$D:$D,$A$1,ежемесячный!$E:$E,R$2)","v":0},{"$f":"SUMIFS(ежемесячный!$F:$F,ежемесячный!$C:$C,$A30,ежемесячный!$D:$D,$A$1,ежемесячный!$E:$E,T$2)","v":0},{"$f":"SUMIFS(ежемесячный!$G:$G,ежемесячный!$C:$C,$A30,ежемесячный!$D:$D,$A$1,ежемесячный!$E:$E,T$2)","v":0},0]
["2014-03-27",{"$f":"SUMIFS(ежемесячный!$F:$F,ежемесячный!$C:$C,$A31,ежемесячный!$D:$D,$A$1,ежемесячный!$E:$E,B$2)","v":0},{"$f":"SUMIFS(ежемесячный!$G:$G,ежемесячный!$C:$C,$A31,ежемесячный!$D:$D,$A$1,ежемесячный!$E:$E,B$2)","v":0},{"$f":"SUMIFS(ежемесячный!$F:$F,ежемесячный!$C:$C,$A31,ежемесячный!$D:$D,$A$1,ежемесячный!$E:$E,D$2)","v":0},{"$f":"SUMIFS(ежемесячный!$G:$G,ежемесячный!$C:$C,$A31,ежемесячный!$D:$D,$A$1,ежемесячный!$E:$E,D$2)","v":0},{"$f":"SUMIFS(ежемесячный!$F:$F,ежемесячный!$C:$C,$A31,ежемесячный!$D:$D,$A$1,ежемесячный!$E:$E,F$2)","v":0},{"$f":"SUMIFS(ежемесячный!$G:$G,ежемесячный!$C:$C,$A31,ежемесячный!$D:$D,$A$1,ежемесячный!$E:$E,F$2)","v":0},{"$f":"SUMIFS(ежемесячный!$F:$F,ежемесячный!$C:$C,$A31,ежемесячный!$D:$D,$A$1,ежемесячный!$E:$E,H$2)","v":0},{"$f":"SUMIFS(ежемесячный!$G:$G,ежемесячный!$C:$C,$A31,ежемесячный!$D:$D,$A$1,ежемесячный!$E:$E,H$2)","v":0},{"$f":"SUMIFS(ежемесячный!$F:$F,ежемесячный!$C:$C,$A31,ежемесячный!$D:$D,$A$1,ежемесячный!$E:$E,J$2)","v":0},{"$f":"SUMIFS(ежемесячный!$G:$G,ежемесячный!$C:$C,$A31,ежемесячный!$D:$D,$A$1,ежемесячный!$E:$E,J$2)","v":0},{"$f":"SUMIFS(ежемесячный!$F:$F,ежемесячный!$C:$C,$A31,ежемесячный!$D:$D,$A$1,ежемесячный!$E:$E,L$2)","v":0},{"$f":"SUMIFS(ежемесячный!$G:$G,ежемесячный!$C:$C,$A31,ежемесячный!$D:$D,$A$1,ежемесячный!$E:$E,L$2)","v":0},{"$f":"SUMIFS(ежемесячный!$F:$F,ежемесячный!$C:$C,$A31,ежемесячный!$D:$D,$A$1,ежемесячный!$E:$E,N$2)","v":0},{"$f":"SUMIFS(ежемесячный!$G:$G,ежемесячный!$C:$C,$A31,ежемесячный!$D:$D,$A$1,ежемесячный!$E:$E,N$2)","v":0},{"$f":"SUMIFS(ежемесячный!$F:$F,ежемесячный!$C:$C,$A31,ежемесячный!$D:$D,$A$1,ежемесячный!$E:$E,P$2)","v":0},{"$f":"SUMIFS(ежемесячный!$G:$G,ежемесячный!$C:$C,$A31,ежемесячный!$D:$D,$A$1,ежемесячный!$E:$E,P$2)","v":0},{"$f":"SUMIFS(ежемесячный!$F:$F,ежемесячный!$C:$C,$A31,ежемесячный!$D:$D,$A$1,ежемесячный!$E:$E,R$2)","v":0},{"$f":"SUMIFS(ежемесячный!$G:$G,ежемесячный!$C:$C,$A31,ежемесячный!$D:$D,$A$1,ежемесячный!$E:$E,R$2)","v":0},{"$f":"SUMIFS(ежемесячный!$F:$F,ежемесячный!$C:$C,$A31,ежемесячный!$D:$D,$A$1,ежемесячный!$E:$E,T$2)","v":0},{"$f":"SUMIFS(ежемесячный!$G:$G,ежемесячный!$C:$C,$A31,ежемесячный!$D:$D,$A$1,ежемесячный!$E:$E,T$2)","v":0},0]
["2014-03-28",{"$f":"SUMIFS(ежемесячный!$F:$F,ежемесячный!$C:$C,$A32,ежемесячный!$D:$D,$A$1,ежемесячный!$E:$E,B$2)","v":0},{"$f":"SUMIFS(ежемесячный!$G:$G,ежемесячный!$C:$C,$A32,ежемесячный!$D:$D,$A$1,ежемесячный!$E:$E,B$2)","v":0},{"$f":"SUMIFS(ежемесячный!$F:$F,ежемесячный!$C:$C,$A32,ежемесячный!$D:$D,$A$1,ежемесячный!$E:$E,D$2)","v":0},{"$f":"SUMIFS(ежемесячный!$G:$G,ежемесячный!$C:$C,$A32,ежемесячный!$D:$D,$A$1,ежемесячный!$E:$E,D$2)","v":0},{"$f":"SUMIFS(ежемесячный!$F:$F,ежемесячный!$C:$C,$A32,ежемесячный!$D:$D,$A$1,ежемесячный!$E:$E,F$2)","v":0},{"$f":"SUMIFS(ежемесячный!$G:$G,ежемесячный!$C:$C,$A32,ежемесячный!$D:$D,$A$1,ежемесячный!$E:$E,F$2)","v":0},{"$f":"SUMIFS(ежемесячный!$F:$F,ежемесячный!$C:$C,$A32,ежемесячный!$D:$D,$A$1,ежемесячный!$E:$E,H$2)","v":0},{"$f":"SUMIFS(ежемесячный!$G:$G,ежемесячный!$C:$C,$A32,ежемесячный!$D:$D,$A$1,ежемесячный!$E:$E,H$2)","v":0},{"$f":"SUMIFS(ежемесячный!$F:$F,ежемесячный!$C:$C,$A32,ежемесячный!$D:$D,$A$1,ежемесячный!$E:$E,J$2)","v":0},{"$f":"SUMIFS(ежемесячный!$G:$G,ежемесячный!$C:$C,$A32,ежемесячный!$D:$D,$A$1,ежемесячный!$E:$E,J$2)","v":0},{"$f":"SUMIFS(ежемесячный!$F:$F,ежемесячный!$C:$C,$A32,ежемесячный!$D:$D,$A$1,ежемесячный!$E:$E,L$2)","v":0},{"$f":"SUMIFS(ежемесячный!$G:$G,ежемесячный!$C:$C,$A32,ежемесячный!$D:$D,$A$1,ежемесячный!$E:$E,L$2)","v":0},{"$f":"SUMIFS(ежемесячный!$F:$F,ежемесячный!$C:$C,$A32,ежемесячный!$D:$D,$A$1,ежемесячный!$E:$E,N$2)","v":0},{"$f":"SUMIFS(ежемесячный!$G:$G,ежемесячный!$C:$C,$A32,ежемесячный!$D:$D,$A$1,ежемесячный!$E:$E,N$2)","v":0},{"$f":"SUMIFS(ежемесячный!$F:$F,ежемесячный!$C:$C,$A32,ежемесячный!$D:$D,$A$1,ежемесячный!$E:$E,P$2)","v":0},{"$f":"SUMIFS(ежемесячный!$G:$G,ежемесячный!$C:$C,$A32,ежемесячный!$D:$D,$A$1,ежемесячный!$E:$E,P$2)","v":0},{"$f":"SUMIFS(ежемесячный!$F:$F,ежемесячный!$C:$C,$A32,ежемесячный!$D:$D,$A$1,ежемесячный!$E:$E,R$2)","v":0},{"$f":"SUMIFS(ежемесячный!$G:$G,ежемесячный!$C:$C,$A32,ежемесячный!$D:$D,$A$1,ежемесячный!$E:$E,R$2)","v":0},{"$f":"SUMIFS(ежемесячный!$F:$F,ежемесячный!$C:$C,$A32,ежемесячный!$D:$D,$A$1,ежемесячный!$E:$E,T$2)","v":0},{"$f":"SUMIFS(ежемесячный!$G:$G,ежемесячный!$C:$C,$A32,ежемесячный!$D:$D,$A$1,ежемесячный!$E:$E,T$2)","v":0},0]
["2014-03-29",{"$f":"SUMIFS(ежемесячный!$F:$F,ежемесячный!$C:$C,$A33,ежемесячный!$D:$D,$A$1,ежемесячный!$E:$E,B$2)","v":0},{"$f":"SUMIFS(ежемесячный!$G:$G,ежемесячный!$C:$C,$A33,ежемесячный!$D:$D,$A$1,ежемесячный!$E:$E,B$2)","v":0},{"$f":"SUMIFS(ежемесячный!$F:$F,ежемесячный!$C:$C,$A33,ежемесячный!$D:$D,$A$1,ежемесячный!$E:$E,D$2)","v":0},{"$f":"SUMIFS(ежемесячный!$G:$G,ежемесячный!$C:$C,$A33,ежемесячный!$D:$D,$A$1,ежемесячный!$E:$E,D$2)","v":0},{"$f":"SUMIFS(ежемесячный!$F:$F,ежемесячный!$C:$C,$A33,ежемесячный!$D:$D,$A$1,ежемесячный!$E:$E,F$2)","v":0},{"$f":"SUMIFS(ежемесячный!$G:$G,ежемесячный!$C:$C,$A33,ежемесячный!$D:$D,$A$1,ежемесячный!$E:$E,F$2)","v":0},{"$f":"SUMIFS(ежемесячный!$F:$F,ежемесячный!$C:$C,$A33,ежемесячный!$D:$D,$A$1,ежемесячный!$E:$E,H$2)","v":0},{"$f":"SUMIFS(ежемесячный!$G:$G,ежемесячный!$C:$C,$A33,ежемесячный!$D:$D,$A$1,ежемесячный!$E:$E,H$2)","v":0},{"$f":"SUMIFS(ежемесячный!$F:$F,ежемесячный!$C:$C,$A33,ежемесячный!$D:$D,$A$1,ежемесячный!$E:$E,J$2)","v":0},{"$f":"SUMIFS(ежемесячный!$G:$G,ежемесячный!$C:$C,$A33,ежемесячный!$D:$D,$A$1,ежемесячный!$E:$E,J$2)","v":0},{"$f":"SUMIFS(ежемесячный!$F:$F,ежемесячный!$C:$C,$A33,ежемесячный!$D:$D,$A$1,ежемесячный!$E:$E,L$2)","v":0},{"$f":"SUMIFS(ежемесячный!$G:$G,ежемесячный!$C:$C,$A33,ежемесячный!$D:$D,$A$1,ежемесячный!$E:$E,L$2)","v":0},{"$f":"SUMIFS(ежемесячный!$F:$F,ежемесячный!$C:$C,$A33,ежемесячный!$D:$D,$A$1,ежемесячный!$E:$E,N$2)","v":0},{"$f":"SUMIFS(ежемесячный!$G:$G,ежемесячный!$C:$C,$A33,ежемесячный!$D:$D,$A$1,ежемесячный!$E:$E,N$2)","v":0},{"$f":"SUMIFS(ежемесячный!$F:$F,ежемесячный!$C:$C,$A33,ежемесячный!$D:$D,$A$1,ежемесячный!$E:$E,P$2)","v":0},{"$f":"SUMIFS(ежемесячный!$G:$G,ежемесячный!$C:$C,$A33,ежемесячный!$D:$D,$A$1,ежемесячный!$E:$E,P$2)","v":0},{"$f":"SUMIFS(ежемесячный!$F:$F,ежемесячный!$C:$C,$A33,ежемесячный!$D:$D,$A$1,ежемесячный!$E:$E,R$2)","v":0},{"$f":"SUMIFS(ежемесячный!$G:$G,ежемесячный!$C:$C,$A33,ежемесячный!$D:$D,$A$1,ежемесячный!$E:$E,R$2)","v":0},{"$f":"SUMIFS(ежемесячный!$F:$F,ежемесячный!$C:$C,$A33,ежемесячный!$D:$D,$A$1,ежемесячный!$E:$E,T$2)","v":0},{"$f":"SUMIFS(ежемесячный!$G:$G,ежемесячный!$C:$C,$A33,ежемесячный!$D:$D,$A$1,ежемесячный!$E:$E,T$2)","v":0},0]
["2014-03-30",{"$f":"SUMIFS(ежемесячный!$F:$F,ежемесячный!$C:$C,$A34,ежемесячный!$D:$D,$A$1,ежемесячный!$E:$E,B$2)","v":0},{"$f":"SUMIFS(ежемесячный!$G:$G,ежемесячный!$C:$C,$A34,ежемесячный!$D:$D,$A$1,ежемесячный!$E:$E,B$2)","v":0},{"$f":"SUMIFS(ежемесячный!$F:$F,ежемесячный!$C:$C,$A34,ежемесячный!$D:$D,$A$1,ежемесячный!$E:$E,D$2)","v":0},{"$f":"SUMIFS(ежемесячный!$G:$G,ежемесячный!$C:$C,$A34,ежемесячный!$D:$D,$A$1,ежемесячный!$E:$E,D$2)","v":0},{"$f":"SUMIFS(ежемесячный!$F:$F,ежемесячный!$C:$C,$A34,ежемесячный!$D:$D,$A$1,ежемесячный!$E:$E,F$2)","v":0},{"$f":"SUMIFS(ежемесячный!$G:$G,ежемесячный!$C:$C,$A34,ежемесячный!$D:$D,$A$1,ежемесячный!$E:$E,F$2)","v":0},{"$f":"SUMIFS(ежемесячный!$F:$F,ежемесячный!$C:$C,$A34,ежемесячный!$D:$D,$A$1,ежемесячный!$E:$E,H$2)","v":0},{"$f":"SUMIFS(ежемесячный!$G:$G,ежемесячный!$C:$C,$A34,ежемесячный!$D:$D,$A$1,ежемесячный!$E:$E,H$2)","v":0},{"$f":"SUMIFS(ежемесячный!$F:$F,ежемесячный!$C:$C,$A34,ежемесячный!$D:$D,$A$1,ежемесячный!$E:$E,J$2)","v":0},{"$f":"SUMIFS(ежемесячный!$G:$G,ежемесячный!$C:$C,$A34,ежемесячный!$D:$D,$A$1,ежемесячный!$E:$E,J$2)","v":0},{"$f":"SUMIFS(ежемесячный!$F:$F,ежемесячный!$C:$C,$A34,ежемесячный!$D:$D,$A$1,ежемесячный!$E:$E,L$2)","v":0},{"$f":"SUMIFS(ежемесячный!$G:$G,ежемесячный!$C:$C,$A34,ежемесячный!$D:$D,$A$1,ежемесячный!$E:$E,L$2)","v":0},{"$f":"SUMIFS(ежемесячный!$F:$F,ежемесячный!$C:$C,$A34,ежемесячный!$D:$D,$A$1,ежемесячный!$E:$E,N$2)","v":0},{"$f":"SUMIFS(ежемесячный!$G:$G,ежемесячный!$C:$C,$A34,ежемесячный!$D:$D,$A$1,ежемесячный!$E:$E,N$2)","v":0},{"$f":"SUMIFS(ежемесячный!$F:$F,ежемесячный!$C:$C,$A34,ежемесячный!$D:$D,$A$1,ежемесячный!$E:$E,P$2)","v":0},{"$f":"SUMIFS(ежемесячный!$G:$G,ежемесячный!$C:$C,$A34,ежемесячный!$D:$D,$A$1,ежемесячный!$E:$E,P$2)","v":0},{"$f":"SUMIFS(ежемесячный!$F:$F,ежемесячный!$C:$C,$A34,ежемесячный!$D:$D,$A$1,ежемесячный!$E:$E,R$2)","v":0},{"$f":"SUMIFS(ежемесячный!$G:$G,ежемесячный!$C:$C,$A34,ежемесячный!$D:$D,$A$1,ежемесячный!$E:$E,R$2)","v":0},{"$f":"SUMIFS(ежемесячный!$F:$F,ежемесячный!$C:$C,$A34,ежемесячный!$D:$D,$A$1,ежемесячный!$E:$E,T$2)","v":0},{"$f":"SUMIFS(ежемесячный!$G:$G,ежемесячный!$C:$C,$A34,ежемесячный!$D:$D,$A$1,ежемесячный!$E:$E,T$2)","v":0},0]
["2014-03-31",{"$f":"SUMIFS(ежемесячный!$F:$F,ежемесячный!$C:$C,$A35,ежемесячный!$D:$D,$A$1,ежемесячный!$E:$E,B$2)","v":0},{"$f":"SUMIFS(ежемесячный!$G:$G,ежемесячный!$C:$C,$A35,ежемесячный!$D:$D,$A$1,ежемесячный!$E:$E,B$2)","v":0},{"$f":"SUMIFS(ежемесячный!$F:$F,ежемесячный!$C:$C,$A35,ежемесячный!$D:$D,$A$1,ежемесячный!$E:$E,D$2)","v":0},{"$f":"SUMIFS(ежемесячный!$G:$G,ежемесячный!$C:$C,$A35,ежемесячный!$D:$D,$A$1,ежемесячный!$E:$E,D$2)","v":0},{"$f":"SUMIFS(ежемесячный!$F:$F,ежемесячный!$C:$C,$A35,ежемесячный!$D:$D,$A$1,ежемесячный!$E:$E,F$2)","v":0},{"$f":"SUMIFS(ежемесячный!$G:$G,ежемесячный!$C:$C,$A35,ежемесячный!$D:$D,$A$1,ежемесячный!$E:$E,F$2)","v":0},{"$f":"SUMIFS(ежемесячный!$F:$F,ежемесячный!$C:$C,$A35,ежемесячный!$D:$D,$A$1,ежемесячный!$E:$E,H$2)","v":0},{"$f":"SUMIFS(ежемесячный!$G:$G,ежемесячный!$C:$C,$A35,ежемесячный!$D:$D,$A$1,ежемесячный!$E:$E,H$2)","v":0},{"$f":"SUMIFS(ежемесячный!$F:$F,ежемесячный!$C:$C,$A35,ежемесячный!$D:$D,$A$1,ежемесячный!$E:$E,J$2)","v":0},{"$f":"SUMIFS(ежемесячный!$G:$G,ежемесячный!$C:$C,$A35,ежемесячный!$D:$D,$A$1,ежемесячный!$E:$E,J$2)","v":0},{"$f":"SUMIFS(ежемесячный!$F:$F,ежемесячный!$C:$C,$A35,ежемесячный!$D:$D,$A$1,ежемесячный!$E:$E,L$2)","v":0},{"$f":"SUMIFS(ежемесячный!$G:$G,ежемесячный!$C:$C,$A35,ежемесячный!$D:$D,$A$1,ежемесячный!$E:$E,L$2)","v":0},{"$f":"SUMIFS(ежемесячный!$F:$F,ежемесячный!$C:$C,$A35,ежемесячный!$D:$D,$A$1,ежемесячный!$E:$E,N$2)","v":0},{"$f":"SUMIFS(ежемесячный!$G:$G,ежемесячный!$C:$C,$A35,ежемесячный!$D:$D,$A$1,ежемесячный!$E:$E,N$2)","v":0},{"$f":"SUMIFS(ежемесячный!$F:$F,ежемесячный!$C:$C,$A35,ежемесячный!$D:$D,$A$1,ежемесячный!$E:$E,P$2)","v":0},{"$f":"SUMIFS(ежемесячный!$G:$G,ежемесячный!$C:$C,$A35,ежемесячный!$D:$D,$A$1,ежемесячный!$E:$E,P$2)","v":0},{"$f":"SUMIFS(ежемесячный!$F:$F,ежемесячный!$C:$C,$A35,ежемесячный!$D:$D,$A$1,ежемесячный!$E:$E,R$2)","v":0},{"$f":"SUMIFS(ежемесячный!$G:$G,ежемесячный!$C:$C,$A35,ежемесячный!$D:$D,$A$1,ежемесячный!$E:$E,R$2)","v":0},{"$f":"SUMIFS(ежемесячный!$F:$F,ежемесячный!$C:$C,$A35,ежемесячный!$D:$D,$A$1,ежемесячный!$E:$E,T$2)","v":0},{"$f":"SUMIFS(ежемесячный!$G:$G,ежемесячный!$C:$C,$A35,ежемесячный!$D:$D,$A$1,ежемесячный!$E:$E,T$2)","v":0},0]
[null,{"$f":"SUM(B5:B35)","v":9},{"$f":"SUM(C5:C35)","v":0},{"$f":"SUM(D5:D35)","v":0},0,0,0,0,0,0,0,0,0,null,0,null,0,null,0,0,0,0]
[]
[null,"кол-во прин.ПО",null,{"$f":"B36+D36+F36+H36+J36+L36+T36","v":9}]
[null,"сумма доходов",null,{"$f":"V36","v":0}]