{"text_format":"1","workbook":"xlsx","n_sheets":5,"sheets":["ежемесячный","отчет БП-5 ФЕВРАЛЬ  2014Г","Авком Трейд","Аванбек","IT-Эксперт"],"not_rendered":{"charts":0,"images":0,"macros":1,"external_links":1,"defined_names":6,"comments":0,"pivot_tables":0},"unopened":[],"bounds":{"document_bytes":16777216,"sheet_cells":100000,"rows_first":2000,"rows_last":500,"rows_between":2000,"halvings":0,"cell_chars":16384,"cell_head_chars":4096},"cells_cut":0,"cells_raw":0,"read":"whole","date_system":"1900"}

{"sheet":"ежемесячный","index":0,"n_rows":24,"n_cols":8,"rows_kept":24,"cut":false,"hidden":false,"merged":[]}
[]
["Автовождение","заказное",null,"дата","организация","вид услуги","количество","сумма"]
["Авком Трейд","простое",null,"2014-03-01","IT-эксперт","эксперсс",2,35000]
["Аванбек","эксперсс",null,"2014-03-01","Аванбек","заказное",8,25300]
["IT-эксперт","емс",null,"2014-03-01","Авком Трейд","заказное",123,125000]
[null,"маркиров",null,"2014-03-01","Авком Трейд","простое",1,30000]
[null,null,null,"2014-03-02","Авком Трейд","маркиров",null,3500000]
[null,null,null,"2014-03-02","Авком Трейд","заказное",80,326000]
[null,null,null,"2014-03-03","IT-эксперт","простое",236,12500]
[null,null,null,"2014-03-03","Аванбек","заказное",36,283000]
[null,null,null,"2014-03-12","Авком Трейд","заказное",12,5444444]
[]
[]
[]
[]
[]
[]
[]
[null,null,null,"Для создания листа из дубликата Авком Трейд, необходимо на ярлычке листа ПКМ--Переместить/копировать--создать коапию перед любым листом."]
[null,null,null,"ПКМ--на ярлычке этого листа--переименовать. Присвоить одно из имен из столбца А этого листа."]
[null,null,null,"На листе Авком Трейд и на других из него сделанных, при смене значения в ячейках Е3:Е17, текущая дата в столбец В проставляется макросом. При необходимости её можно поменять."]
[null,null,null,"На листе Авком Трейд желтым обозначены ячейки в которые вставляются данные из таблицы на этом листе."]
[null,null,null,"По такому принципу нужно сделать до конца таблицы."]
[null,null,null,"После того как в строке 1, На листе Авком Трейд , все необходимые названия будут прописаны , черную заливку можно убрать, белый шрифт вспомогательных ячеек не будет виден."]

{"sheet":"отчет БП-5 ФЕВРАЛЬ  2014Г","index":1,"n_rows":127,"n_cols":25,"rows_kept":127,"cut":false,"hidden":false,"merged":[[121,7,121,8],[121,9,121,10],[122,7,122,8],[122,9,122,10],[132,9,132,10],[133,9,133,10],[2,11,2,12],[2,13,2,14],[2,15,2,16],[2,17,2,18],[2,22,2,23],[2,24,3,24],[0,12,0,14],[1,11,1,15],[2,0,3,0],[2,1,3,1],[2,2,3,2],[2,3,3,3],[2,4,3,4],[2,6,3,6],[2,7,2,8],[2,9,2,10]]}
[null,null,"Приложение 1",null,null,null,"БИЗНЕС ПОЧТА 5",null,null,null,null,null,"Бизнес-почта 5"]
[null,null,null,null,null,null,null,null,null,null,null,"Отчет с 1 по 28 ФЕВРАЛЯ 2014г."]
["№ п/п","Признак","№ договора","Дата заключения","Лицевой счет",null,"Наименование организации","заказные отправления                         (116, 161)",null,"простые отправления                               (117, 165)",null,"посылки                                          (151, 156)",null,"мелкие пакеты,                                  ценные письма (121)",null," EMS внутренние          (181 ,182)",null,"EMS международные  (321, 322)",null,"доп.услуги (241, 311)","товары почты                          (641)","маркиров. прод.                         (111)","переводы  (138,139,144,145,146,149)",null,"Доходы по каждой организации"]
[null,null,null,null,null,null,null,"кол-во","доходы","кол-во","доходы","кол-во","доходы","кол-во","доходы","кол-во","доходы","кол-во","доходы","доходы","доходы","доходы","кол-во","доходы"]
[1,"Договор","22-02-11/237","2012-09-04",907,12,"Автопромснаб ООО",{"$f":"[1]Автопромснаб!B35","v":0},{"$f":"[1]Автопромснаб!C35","v":0},{"$f":"[1]Автопромснаб!D35","v":0},{"$f":"[1]Автопромснаб!E35","v":0},{"$f":"[1]Автопромснаб!F35","v":0},{"$f":"[1]Автопромснаб!G35","v":0},{"$f":"[1]Автопромснаб!H35","v":0},{"$f":"[1]Автопромснаб!I35","v":0},{"$f":"[1]Автопромснаб!J35","v":0},{"$f":"[1]Автопромснаб!K35","v":0},{"$f":"[1]Автопромснаб!L35","v":0},{"$f":"[1]Автопромснаб!M35","v":0},{"$f":"[1]Автопромснаб!N35","v":0},{"$f":"[1]Автопромснаб!O35","v":0},{"$f":"[1]Автопромснаб!P35","v":0},{"$f":"[1]Автопромснаб!Q35","v":0},{"$f":"[1]Автопромснаб!R35","v":0},{"$f":"[1]Автопромснаб!S35","v":0}]
[2,"Договор","22-02-11/238","2012-09-04",897,12,"Автопромснаб-Спедишн СП ООО",{"$f":"'[1]Автопромснаб-спедишн'!B35","v":0},{"$f":"'[1]Автопромснаб-спедишн'!C35","v":0},{"$f":"'[1]Автопромснаб-спедишн'!D35","v":0},{"$f":"'[1]Автопромснаб-спедишн'!E35","v":0},{"$f":"'[1]Автопромснаб-спедишн'!F35","v":0},{"$f":"'[1]Автопромснаб-спедишн'!G35","v":0},{"$f":"'[1]Автопромснаб-спедишн'!H35","v":0},{"$f":"'[1]Автопромснаб-спедишн'!I35","v":0},{"$f":"'[1]Автопромснаб-спедишн'!J35","v":0},{"$f":"'[1]Автопромснаб-спедишн'!K35","v":0},{"$f":"'[1]Автопромснаб-спедишн'!L35","v":0},{"$f":"'[1]Автопромснаб-спедишн'!M35","v":0},{"$f":"'[1]Автопромснаб-спедишн'!N35","v":0},{"$f":"'[1]Автопромснаб-спедишн'!O35","v":0},{"$f":"'[1]Автопромснаб-спедишн'!P35","v":0},{"$f":"'[1]Автопромснаб-спедишн'!Q35","v":0},{"$f":"'[1]Автопромснаб-спедишн'!R35","v":0},{"$f":"'[1]Автопромснаб-спедишн'!S35","v":0}]
[3,null,null,null,null,null,"Аг-во по гос.регистрации и зем. Кадастру ППО РУП",{"$f":"'[1]Аг-во по гос.регистр.и зем.кад.'!B35","v":0},{"$f":"'[1]Аг-во по гос.регистр.и зем.кад.'!C35","v":0},{"$f":"'[1]Аг-во по гос.регистр.и зем.кад.'!D35","v":0},{"$f":"'[1]Аг-во по гос.регистр.и зем.кад.'!E35","v":0},{"$f":"'[1]Аг-во по гос.регистр.и зем.кад.'!F35","v":0},{"$f":"'[1]Аг-во по гос.регистр.и зем.кад.'!G35","v":0},{"$f":"'[1]Аг-во по гос.регистр.и зем.кад.'!H35","v":0},{"$f":"'[1]Аг-во по гос.регистр.и зем.кад.'!I35","v":0},{"$f":"'[1]Аг-во по гос.регистр.и зем.кад.'!J35","v":0},{"$f":"'[1]Аг-во по гос.регистр.и зем.кад.'!K35","v":0},{"$f":"'[1]Аг-во по гос.регистр.и зем.кад.'!L35","v":0},{"$f":"'[1]Аг-во по гос.регистр.и зем.кад.'!M35","v":0},{"$f":"'[1]Аг-во по гос.регистр.и зем.кад.'!N35","v":0},{"$f":"'[1]Аг-во по гос.регистр.и зем.кад.'!O35","v":0},{"$f":"'[1]Аг-во по гос.регистр.и зем.кад.'!P35","v":0},{"$f":"'[1]Аг-во по гос.регистр.и зем.кад.'!Q35","v":0},{"$f":"'[1]Аг-во по гос.регистр.и зем.кад.'!R35","v":0},{"$f":"'[1]Аг-во по гос.регистр.и зем.кад.'!S35","v":0}]
[4,"Договор",259,"2014-02-25",2152,null,"Агролизинг ОАО",{"$f":"[1]Агролизинг!B35","v":0},{"$f":"[1]Агролизинг!C35","v":0},{"$f":"[1]Агролизинг!D35","v":0},{"$f":"[1]Агролизинг!E35","v":0},{"$f":"[1]Агролизинг!F35","v":0},{"$f":"[1]Агролизинг!G35","v":0},{"$f":"[1]Агролизинг!H35","v":0},{"$f":"[1]Агролизинг!I35","v":0},{"$f":"[1]Агролизинг!J35","v":0},{"$f":"[1]Агролизинг!K35","v":0},{"$f":"[1]Агролизинг!L35","v":0},{"$f":"[1]Агролизинг!M35","v":0},{"$f":"[1]Агролизинг!N35","v":0},{"$f":"[1]Агролизинг!O35","v":0},{"$f":"[1]Агролизинг!P35","v":0},{"$f":"[1]Агролизинг!Q35","v":0},{"$f":"[1]Агролизинг!R35","v":0},{"$f":"[1]Агролизинг!S35","v":0}]
[5,"Договор",330,"2013-03-20",1276,null,"Амеди ЧПУП",{"$f":"[1]Амеди!B35","v":0},{"$f":"[1]Амеди!C35","v":0},{"$f":"[1]Амеди!D35","v":0},{"$f":"[1]Амеди!E35","v":0},{"$f":"[1]Амеди!F35","v":0},{"$f":"[1]Амеди!G35","v":0},{"$f":"[1]Амеди!H35","v":0},{"$f":"[1]Амеди!I35","v":0},{"$f":"[1]Амеди!J35","v":0},{"$f":"[1]Амеди!K35","v":0},{"$f":"[1]Амеди!L35","v":0},{"$f":"[1]Амеди!M35","v":0},{"$f":"[1]Амеди!N35","v":0},{"$f":"[1]Амеди!O35","v":0},{"$f":"[1]Амеди!P35","v":0},{"$f":"[1]Амеди!Q35","v":0},{"$f":"[1]Амеди!R35","v":0},{"$f":"[1]Амеди!S35","v":0}]
[6,null,null,null,null,null,"Амкодор-Белвар ОАО",{"$f":"'[1]Амкодор-Белвар'!B35","v":0},{"$f":"'[1]Амкодор-Белвар'!C35","v":0},{"$f":"'[1]Амкодор-Белвар'!D35","v":0},{"$f":"'[1]Амкодор-Белвар'!E35","v":0},{"$f":"'[1]Амкодор-Белвар'!F35","v":0},{"$f":"'[1]Амкодор-Белвар'!G35","v":0},{"$f":"'[1]Амкодор-Белвар'!H35","v":0},{"$f":"'[1]Амкодор-Белвар'!I35","v":0},{"$f":"'[1]Амкодор-Белвар'!J35","v":0},{"$f":"'[1]Амкодор-Белвар'!K35","v":0},{"$f":"'[1]Амкодор-Белвар'!L35","v":0},{"$f":"'[1]Амкодор-Белвар'!M35","v":0},{"$f":"'[1]Амкодор-Белвар'!N35","v":0},{"$f":"'[1]Амкодор-Белвар'!O35","v":0},{"$f":"'[1]Амкодор-Белвар'!P35","v":0},{"$f":"'[1]Амкодор-Белвар'!Q35","v":0},{"$f":"'[1]Амкодор-Белвар'!R35","v":0},{"$f":"'[1]Амкодор-Белвар'!S35","v":0}]
[7,null,null,null,null,null,"Артизан",{"$f":"[1]Артизан!B35","v":0},{"$f":"[1]Артизан!C35","v":0},{"$f":"[1]Артизан!D35","v":0},{"$f":"[1]Артизан!E35","v":0},{"$f":"[1]Артизан!F35","v":0},{"$f":"[1]Артизан!G35","v":0},{"$f":"[1]Артизан!H35","v":0},{"$f":"[1]Артизан!I35","v":0},{"$f":"[1]Артизан!J35","v":0},{"$f":"[1]Артизан!K35","v":0},{"$f":"[1]Артизан!L35","v":0},{"$f":"[1]Артизан!M35","v":0},{"$f":"[1]Артизан!N35","v":0},{"$f":"[1]Артизан!O35","v":0},{"$f":"[1]Артизан!P35","v":0},{"$f":"[1]Артизан!Q35","v":0},{"$f":"[1]Артизан!R35","v":0},{"$f":"[1]Артизан!S35","v":0}]
[8,null,null,null,null,null,"Балтика",{"$f":"[1]Балтика!B35","v":0},{"$f":"[1]Балтика!C35","v":0},{"$f":"[1]Балтика!D35","v":0},{"$f":"[1]Балтика!E35","v":0},{"$f":"[1]Балтика!F35","v":0},{"$f":"[1]Балтика!G35","v":0},{"$f":"[1]Балтика!H35","v":0},{"$f":"[1]Балтика!I35","v":0},{"$f":"[1]Балтика!J35","v":0},{"$f":"[1]Балтика!K35","v":0},{"$f":"[1]Балтика!L35","v":0},{"$f":"[1]Балтика!M35","v":0},{"$f":"[1]Балтика!N35","v":0},{"$f":"[1]Балтика!O35","v":0},{"$f":"[1]Балтика!P35","v":0},{"$f":"[1]Балтика!Q35","v":0},{"$f":"[1]Балтика!R35","v":0},{"$f":"[1]Балтика!S35","v":0}]
[9,null,null,null,null,null,"Высшая Аттестационная комиссия",{"$f":"'[1]Высшая аттестац комиссия'!B35","v":0},{"$f":"'[1]Высшая аттестац комиссия'!C35","v":0},{"$f":"'[1]Высшая аттестац комиссия'!D35","v":0},{"$f":"'[1]Высшая аттестац комиссия'!E35","v":0},{"$f":"'[1]Высшая аттестац комиссия'!F35","v":0},{"$f":"'[1]Высшая аттестац комиссия'!G35","v":0},{"$f":"'[1]Высшая аттестац комиссия'!H35","v":0},{"$f":"'[1]Высшая аттестац комиссия'!I35","v":0},{"$f":"'[1]Высшая аттестац комиссия'!J35","v":0},{"$f":"'[1]Высшая аттестац комиссия'!K35","v":0},{"$f":"'[1]Высшая аттестац комиссия'!L35","v":0},{"$f":"'[1]Высшая аттестац комиссия'!M35","v":0},{"$f":"'[1]Высшая аттестац комиссия'!N35","v":0},{"$f":"'[1]Высшая аттестац комиссия'!O35","v":0},{"$f":"'[1]Высшая аттестац комиссия'!P35","v":0},{"$f":"'[1]Высшая аттестац комиссия'!Q35","v":0},{"$f":"'[1]Высшая аттестац комиссия'!R35","v":0},{"$f":"'[1]Высшая аттестац комиссия'!S35","v":0}]
[10,null,null,null,null,null,"Белаэрокосмогеодезия РУП",{"$f":"[1]БелАэроКосмоГеодезия!B35","v":0},{"$f":"[1]БелАэроКосмоГеодезия!C35","v":0},{"$f":"[1]БелАэроКосмоГеодезия!D35","v":0},{"$f":"[1]БелАэроКосмоГеодезия!E35","v":0},{"$f":"[1]БелАэроКосмоГеодезия!F35","v":0},{"$f":"[1]БелАэроКосмоГеодезия!G35","v":0},{"$f":"[1]БелАэроКосмоГеодезия!H35","v":0},{"$f":"[1]БелАэроКосмоГеодезия!I35","v":0},{"$f":"[1]БелАэроКосмоГеодезия!J35","v":0},{"$f":"[1]БелАэроКосмоГеодезия!K35","v":0},{"$f":"[1]БелАэроКосмоГеодезия!L35","v":0},{"$f":"[1]БелАэроКосмоГеодезия!M35","v":0},{"$f":"[1]БелАэроКосмоГеодезия!N35","v":0},{"$f":"[1]БелАэроКосмоГеодезия!O35","v":0},{"$f":"[1]БелАэроКосмоГеодезия!P35","v":0},{"$f":"[1]БелАэроКосмоГеодезия!Q35","v":0},{"$f":"[1]БелАэроКосмоГеодезия!R35","v":0},{"$f":"[1]БелАэроКосмоГеодезия!S35","v":0}]
[11,null,null,null,null,null,"Белгосфилармония",{"$f":"[1]БелгосФилармония!B35","v":0},{"$f":"[1]БелгосФилармония!C35","v":0},{"$f":"[1]БелгосФилармония!D35","v":0},{"$f":"[1]БелгосФилармония!E35","v":0},{"$f":"[1]БелгосФилармония!F35","v":0},{"$f":"[1]БелгосФилармония!G35","v":0},{"$f":"[1]БелгосФилармония!H35","v":0},{"$f":"[1]БелгосФилармония!I35","v":0},{"$f":"[1]БелгосФилармония!J35","v":0},{"$f":"[1]БелгосФилармония!K35","v":0},{"$f":"[1]БелгосФилармония!L35","v":0},{"$f":"[1]БелгосФилармония!M35","v":0},{"$f":"[1]БелгосФилармония!N35","v":0},{"$f":"[1]БелгосФилармония!O35","v":0},{"$f":"[1]БелгосФилармония!P35","v":0},{"$f":"[1]БелгосФилармония!Q35","v":0},{"$f":"[1]БелгосФилармония!R35","v":0},{"$f":"[1]БелгосФилармония!S35","v":0}]
[12,null,null,null,null,null,"Белниитоппроект РУП",{"$f":"[1]Белниитоппроект!B35","v":0},{"$f":"[1]Белниитоппроект!C35","v":0},{"$f":"[1]Белниитоппроект!D35","v":0},{"$f":"[1]Белниитоппроект!E35","v":0},{"$f":"[1]Белниитоппроект!F35","v":0},{"$f":"[1]Белниитоппроект!G35","v":0},{"$f":"[1]Белниитоппроект!H35","v":0},{"$f":"[1]Белниитоппроект!I35","v":0},{"$f":"[1]Белниитоппроект!J35","v":0},{"$f":"[1]Белниитоппроект!K35","v":0},{"$f":"[1]Белниитоппроект!L35","v":0},{"$f":"[1]Белниитоппроект!M35","v":0},{"$f":"[1]Белниитоппроект!N35","v":0},{"$f":"[1]Белниитоппроект!O35","v":0},{"$f":"[1]Белниитоппроект!P35","v":0},{"$f":"[1]Белниитоппроект!Q35","v":0},{"$f":"[1]Белниитоппроект!R35","v":0},{"$f":"[1]Белниитоппроект!S35","v":0}]
[13,null,null,null,null,null,"Белпромтара ОАО",{"$f":"[1]Белпромтара!B35","v":0},{"$f":"[1]Белпромтара!C35","v":0},{"$f":"[1]Белпромтара!D35","v":0},{"$f":"[1]Белпромтара!E35","v":0},{"$f":"[1]Белпромтара!F35","v":0},{"$f":"[1]Белпромтара!G35","v":0},{"$f":"[1]Белпромтара!H35","v":0},{"$f":"[1]Белпромтара!I35","v":0},{"$f":"[1]Белпромтара!J35","v":0},{"$f":"[1]Белпромтара!K35","v":0},{"$f":"[1]Белпромтара!L35","v":0},{"$f":"[1]Белпромтара!M35","v":0},{"$f":"[1]Белпромтара!N35","v":0},{"$f":"[1]Белпромтара!O35","v":0},{"$f":"[1]Белпромтара!P35","v":0},{"$f":"[1]Белпромтара!Q35","v":0},{"$f":"[1]Белпромтара!R35","v":0},{"$f":"[1]Белпромтара!S35","v":0}]
[14,"Договор",501,"2013-06-19",358,null,"БелСел СП ООО ",{"$f":"[1]БелСел!B35","v":0},{"$f":"[1]БелСел!C35","v":0},{"$f":"[1]БелСел!D35","v":0},{"$f":"[1]БелСел!E35","v":0},{"$f":"[1]БелСел!F35","v":0},{"$f":"[1]БелСел!G35","v":0},{"$f":"[1]БелСел!H35","v":0},{"$f":"[1]БелСел!I35","v":0},{"$f":"[1]БелСел!J35","v":0},{"$f":"[1]БелСел!K35","v":0},{"$f":"[1]БелСел!L35","v":0},{"$f":"[1]БелСел!M35","v":0},{"$f":"[1]БелСел!N35","v":0},{"$f":"[1]БелСел!O35","v":0},{"$f":"[1]БелСел!P35","v":0},{"$f":"[1]БелСел!Q35","v":0},{"$f":"[1]БелСел!R35","v":0},{"$f":"[1]БелСел!S35","v":0}]
[15,"Маркир",null,null,null,null,"Белтопгаз ГПО",{"$f":"[1]БелТопГаз!B35","v":0},{"$f":"[1]БелТопГаз!C35","v":0},{"$f":"[1]БелТопГаз!D35","v":0},{"$f":"[1]БелТопГаз!E35","v":0},{"$f":"[1]БелТопГаз!F35","v":0},{"$f":"[1]БелТопГаз!G35","v":0},{"$f":"[1]БелТопГаз!H35","v":0},{"$f":"[1]БелТопГаз!I35","v":0},{"$f":"[1]БелТопГаз!J35","v":0},{"$f":"[1]БелТопГаз!K35","v":0},{"$f":"[1]БелТопГаз!L35","v":0},{"$f":"[1]БелТопГаз!M35","v":0},{"$f":"[1]БелТопГаз!N35","v":0},{"$f":"[1]БелТопГаз!O35","v":0},{"$f":"[1]БелТопГаз!P35","v":0},{"$f":"[1]БелТопГаз!Q35","v":0},{"$f":"[1]БелТопГаз!R35","v":0},{"$f":"[1]БелТопГаз!S35","v":0}]
[16,null,null,null,null,null,"Бизнес и Карнавал ЧПТУП",{"$f":"'[1]Бизнес и Карнавал'!B35","v":0},{"$f":"'[1]Бизнес и Карнавал'!C35","v":0},{"$f":"'[1]Бизнес и Карнавал'!D35","v":0},{"$f":"'[1]Бизнес и Карнавал'!E35","v":0},{"$f":"'[1]Бизнес и Карнавал'!F35","v":0},{"$f":"'[1]Бизнес и Карнавал'!G35","v":0},{"$f":"'[1]Бизнес и Карнавал'!H35","v":0},{"$f":"'[1]Бизнес и Карнавал'!I35","v":0},{"$f":"'[1]Бизнес и Карнавал'!J35","v":0},{"$f":"'[1]Бизнес и Карнавал'!K35","v":0},{"$f":"'[1]Бизнес и Карнавал'!L35","v":0},{"$f":"'[1]Бизнес и Карнавал'!M35","v":0},{"$f":"'[1]Бизнес и Карнавал'!N35","v":0},{"$f":"'[1]Бизнес и Карнавал'!O35","v":0},{"$f":"'[1]Бизнес и Карнавал'!P35","v":0},{"$f":"'[1]Бизнес и Карнавал'!Q35","v":0},{"$f":"'[1]Бизнес и Карнавал'!R35","v":0},{"$f":"'[1]Бизнес и Карнавал'!S35","v":0}]
[17,null,null,null,null,null,"БПС-Сбербанк",{"$f":"'[1]БПС-Сбербанк'!B35","v":0},{"$f":"'[1]БПС-Сбербанк'!C35","v":0},{"$f":"'[1]БПС-Сбербанк'!D35","v":0},{"$f":"'[1]БПС-Сбербанк'!E35","v":0},{"$f":"'[1]БПС-Сбербанк'!F35","v":0},{"$f":"'[1]БПС-Сбербанк'!G35","v":0},{"$f":"'[1]БПС-Сбербанк'!H35","v":0},{"$f":"'[1]БПС-Сбербанк'!I35","v":0},{"$f":"'[1]БПС-Сбербанк'!J35","v":0},{"$f":"'[1]БПС-Сбербанк'!K35","v":0},{"$f":"'[1]БПС-Сбербанк'!L35","v":0},{"$f":"'[1]БПС-Сбербанк'!M35","v":0},{"$f":"'[1]БПС-Сбербанк'!N35","v":0},{"$f":"'[1]БПС-Сбербанк'!O35","v":0},{"$f":"'[1]БПС-Сбербанк'!P35","v":0},{"$f":"'[1]БПС-Сбербанк'!Q35","v":0},{"$f":"'[1]БПС-Сбербанк'!R35","v":0},{"$f":"'[1]БПС-Сбербанк'!S35","v":0}]
[18,null,null,null,null,null,"ВипМаг ЧП",{"$f":"[1]ВипМаг!B35","v":0},{"$f":"[1]ВипМаг!C35","v":0},{"$f":"[1]ВипМаг!D35","v":0},{"$f":"[1]ВипМаг!E35","v":0},{"$f":"[1]ВипМаг!F35","v":0},{"$f":"[1]ВипМаг!G35","v":0},{"$f":"[1]ВипМаг!H35","v":0},{"$f":"[1]ВипМаг!I35","v":0},{"$f":"[1]ВипМаг!J35","v":0},{"$f":"[1]ВипМаг!K35","v":0},{"$f":"[1]ВипМаг!L35","v":0},{"$f":"[1]ВипМаг!M35","v":0},{"$f":"[1]ВипМаг!N35","v":0},{"$f":"[1]ВипМаг!O35","v":0},{"$f":"[1]ВипМаг!P35","v":0},{"$f":"[1]ВипМаг!Q35","v":0},{"$f":"[1]ВипМаг!R35","v":0},{"$f":"[1]ВипМаг!S35","v":0}]
[19,null,null,null,null,null,"Гревцов Медиа ООО",{"$f":"'[1]Гревцов Медиа'!B35","v":0},{"$f":"'[1]Гревцов Медиа'!C35","v":0},{"$f":"'[1]Гревцов Медиа'!D35","v":0},{"$f":"'[1]Гревцов Медиа'!E35","v":0},{"$f":"'[1]Гревцов Медиа'!F35","v":0},{"$f":"'[1]Гревцов Медиа'!G35","v":0},{"$f":"'[1]Гревцов Медиа'!H35","v":0},{"$f":"'[1]Гревцов Медиа'!I35","v":0},{"$f":"'[1]Гревцов Медиа'!J35","v":0},{"$f":"'[1]Гревцов Медиа'!K35","v":0},{"$f":"'[1]Гревцов Медиа'!L35","v":0},{"$f":"'[1]Гревцов Медиа'!M35","v":0},{"$f":"'[1]Гревцов Медиа'!N35","v":0},{"$f":"'[1]Гревцов Медиа'!O35","v":0},{"$f":"'[1]Гревцов Медиа'!P35","v":0},{"$f":"'[1]Гревцов Медиа'!Q35","v":0},{"$f":"'[1]Гревцов Медиа'!R35","v":0},{"$f":"'[1]Гревцов Медиа'!S35","v":0}]
[20,null,null,null,null,null,"Дарик  ПЧУП",{"$f":"'[1]Дарик ПЧУП'!B35","v":0},{"$f":"'[1]Дарик ПЧУП'!C35","v":0},{"$f":"'[1]Дарик ПЧУП'!D35","v":0},{"$f":"'[1]Дарик ПЧУП'!E35","v":0},{"$f":"'[1]Дарик ПЧУП'!F35","v":0},{"$f":"'[1]Дарик ПЧУП'!G35","v":0},{"$f":"'[1]Дарик ПЧУП'!H35","v":0},{"$f":"'[1]Дарик ПЧУП'!I35","v":0},{"$f":"'[1]Дарик ПЧУП'!J35","v":0},{"$f":"'[1]Дарик ПЧУП'!K35","v":0},{"$f":"'[1]Дарик ПЧУП'!L35","v":0},{"$f":"'[1]Дарик ПЧУП'!M35","v":0},{"$f":"'[1]Дарик ПЧУП'!N35","v":0},{"$f":"'[1]Дарик ПЧУП'!O35","v":0},{"$f":"'[1]Дарик ПЧУП'!P35","v":0},{"$f":"'[1]Дарик ПЧУП'!Q35","v":0},{"$f":"'[1]Дарик ПЧУП'!R35","v":0},{"$f":"'[1]Дарик ПЧУП'!S35","v":0}]
[21,null,null,null,null,null,"Демис ПЧУП",{"$f":"[1]Демис!B35","v":0},{"$f":"[1]Демис!C35","v":0},{"$f":"[1]Демис!D35","v":0},{"$f":"[1]Демис!E35","v":0},{"$f":"[1]Демис!F35","v":0},{"$f":"[1]Демис!G35","v":0},{"$f":"[1]Демис!H35","v":0},{"$f":"[1]Демис!I35","v":0},{"$f":"[1]Демис!J35","v":0},{"$f":"[1]Демис!K35","v":0},{"$f":"[1]Демис!L35","v":0},{"$f":"[1]Демис!M35","v":0},{"$f":"[1]Демис!N35","v":0},{"$f":"[1]Демис!O35","v":0},{"$f":"[1]Демис!P35","v":0},{"$f":"[1]Демис!Q35","v":0},{"$f":"[1]Демис!R35","v":0},{"$f":"[1]Демис!S35","v":0}]
[22,null,null,null,null,null,"Дивимакс",{"$f":"[1]Дивимакс!B35","v":0},{"$f":"[1]Дивимакс!C35","v":0},{"$f":"[1]Дивимакс!D35","v":0},{"$f":"[1]Дивимакс!E35","v":0},{"$f":"[1]Дивимакс!F35","v":0},{"$f":"[1]Дивимакс!G35","v":0},{"$f":"[1]Дивимакс!H35","v":0},{"$f":"[1]Дивимакс!I35","v":0},{"$f":"[1]Дивимакс!J35","v":0},{"$f":"[1]Дивимакс!K35","v":0},{"$f":"[1]Дивимакс!L35","v":0},{"$f":"[1]Дивимакс!M35","v":0},{"$f":"[1]Дивимакс!N35","v":0},{"$f":"[1]Дивимакс!O35","v":0},{"$f":"[1]Дивимакс!P35","v":0},{"$f":"[1]Дивимакс!Q35","v":0},{"$f":"[1]Дивимакс!R35","v":0},{"$f":"[1]Дивимакс!S35","v":0}]
[23,null,null,null,null,null,"Завод СВТ",{"$f":"'[1]Завод СВТ'!B35","v":0},{"$f":"'[1]Завод СВТ'!C35","v":0},{"$f":"'[1]Завод СВТ'!D35","v":0},{"$f":"'[1]Завод СВТ'!E35","v":0},{"$f":"'[1]Завод СВТ'!F35","v":0},{"$f":"'[1]Завод СВТ'!G35","v":0},{"$f":"'[1]Завод СВТ'!H35","v":0},{"$f":"'[1]Завод СВТ'!I35","v":0},{"$f":"'[1]Завод СВТ'!J35","v":0},{"$f":"'[1]Завод СВТ'!K35","v":0},{"$f":"'[1]Завод СВТ'!L35","v":0},{"$f":"'[1]Завод СВТ'!M35","v":0},{"$f":"'[1]Завод СВТ'!N35","v":0},{"$f":"'[1]Завод СВТ'!O35","v":0},{"$f":"'[1]Завод СВТ'!P35","v":0},{"$f":"'[1]Завод СВТ'!Q35","v":0},{"$f":"'[1]Завод СВТ'!R35","v":0},{"$f":"'[1]Завод СВТ'!S35","v":0}]
[24,null,null,null,null,null,"Законы Бизнеса",{"$f":"'[1]Законы Бизнеса'!B35","v":0},{"$f":"'[1]Законы Бизнеса'!C35","v":0},{"$f":"'[1]Законы Бизнеса'!D35","v":0},{"$f":"'[1]Законы Бизнеса'!E35","v":0},{"$f":"'[1]Законы Бизнеса'!F35","v":0},{"$f":"'[1]Законы Бизнеса'!G35","v":0},{"$f":"'[1]Законы Бизнеса'!H35","v":0},{"$f":"'[1]Законы Бизнеса'!I35","v":0},{"$f":"'[1]Законы Бизнеса'!J35","v":0},{"$f":"'[1]Законы Бизнеса'!K35","v":0},{"$f":"'[1]Законы Бизнеса'!L35","v":0},{"$f":"'[1]Законы Бизнеса'!M35","v":0},{"$f":"'[1]Законы Бизнеса'!N35","v":0},{"$f":"'[1]Законы Бизнеса'!O35","v":0},{"$f":"'[1]Законы Бизнеса'!P35","v":0},{"$f":"'[1]Законы Бизнеса'!Q35","v":0},{"$f":"'[1]Законы Бизнеса'!R35","v":0},{"$f":"'[1]Законы Бизнеса'!S35","v":0}]
[25,"Договор",945,"2013-12-05",1990,null,"Западный двор ООО",{"$f":"'[1]Западный двор'!B35","v":0},{"$f":"'[1]Западный двор'!C35","v":0},{"$f":"'[1]Западный двор'!D35","v":0},{"$f":"'[1]Западный двор'!E35","v":0},{"$f":"'[1]Западный двор'!F35","v":0},{"$f":"'[1]Западный двор'!G35","v":0},{"$f":"'[1]Западный двор'!H35","v":0},{"$f":"'[1]Западный двор'!I35","v":0},{"$f":"'[1]Западный двор'!J35","v":0},{"$f":"'[1]Западный двор'!K35","v":0},{"$f":"'[1]Западный двор'!L35","v":0},{"$f":"'[1]Западный двор'!M35","v":0},{"$f":"'[1]Западный двор'!N35","v":0},{"$f":"'[1]Западный двор'!O35","v":0},{"$f":"'[1]Западный двор'!P35","v":0},{"$f":"'[1]Западный двор'!Q35","v":0},{"$f":"'[1]Западный двор'!R35","v":0},{"$f":"'[1]Западный двор'!S35","v":0}]
[26,null,null,null,null,null,"Здесь и сейчас",{"$f":"'[1]Здесь и сейчас'!B35","v":0},{"$f":"'[1]Здесь и сейчас'!C35","v":0},{"$f":"'[1]Здесь и сейчас'!D35","v":0},{"$f":"'[1]Здесь и сейчас'!E35","v":0},{"$f":"'[1]Здесь и сейчас'!F35","v":0},{"$f":"'[1]Здесь и сейчас'!G35","v":0},{"$f":"'[1]Здесь и сейчас'!H35","v":0},{"$f":"'[1]Здесь и сейчас'!I35","v":0},{"$f":"'[1]Здесь и сейчас'!J35","v":0},{"$f":"'[1]Здесь и сейчас'!K35","v":0},{"$f":"'[1]Здесь и сейчас'!L35","v":0},{"$f":"'[1]Здесь и сейчас'!M35","v":0},{"$f":"'[1]Здесь и сейчас'!N35","v":0},{"$f":"'[1]Здесь и сейчас'!O35","v":0},{"$f":"'[1]Здесь и сейчас'!P35","v":0},{"$f":"'[1]Здесь и сейчас'!Q35","v":0},{"$f":"'[1]Здесь и сейчас'!R35","v":0},{"$f":"'[1]Здесь и сейчас'!S35","v":0}]
[27,null,null,null,null,null,"Златка СООО",{"$f":"[1]Златка!B35","v":0},{"$f":"[1]Златка!C35","v":0},{"$f":"[1]Златка!D35","v":0},{"$f":"[1]Златка!E35","v":0},{"$f":"[1]Златка!F35","v":0},{"$f":"[1]Златка!G35","v":0},{"$f":"[1]Златка!H35","v":0},{"$f":"[1]Златка!I35","v":0},{"$f":"[1]Златка!J35","v":0},{"$f":"[1]Златка!K35","v":0},{"$f":"[1]Златка!L35","v":0},{"$f":"[1]Златка!M35","v":0},{"$f":"[1]Златка!N35","v":0},{"$f":"[1]Златка!O35","v":0},{"$f":"[1]Златка!P35","v":0},{"$f":"[1]Златка!Q35","v":0},{"$f":"[1]Златка!R35","v":0},{"$f":"[1]Златка!S35","v":0}]
[28,"Договор",34,"2013-01-10",1134,null,"Издательский дом \"Маркет\" ООО",{"$f":"'[1]ИД Маркет'!B35","v":0},{"$f":"'[1]ИД Маркет'!C35","v":0},{"$f":"'[1]ИД Маркет'!D35","v":0},{"$f":"'[1]ИД Маркет'!E35","v":0},{"$f":"'[1]ИД Маркет'!F35","v":0},{"$f":"'[1]ИД Маркет'!G35","v":0},{"$f":"'[1]ИД Маркет'!H35","v":0},{"$f":"'[1]ИД Маркет'!I35","v":0},{"$f":"'[1]ИД Маркет'!J35","v":0},{"$f":"'[1]ИД Маркет'!K35","v":0},{"$f":"'[1]ИД Маркет'!L35","v":0},{"$f":"'[1]ИД Маркет'!M35","v":0},{"$f":"'[1]ИД Маркет'!N35","v":0},{"$f":"'[1]ИД Маркет'!O35","v":0},{"$f":"'[1]ИД Маркет'!P35","v":0},{"$f":"'[1]ИД Маркет'!Q35","v":0},{"$f":"'[1]ИД Маркет'!R35","v":0},{"$f":"'[1]ИД Маркет'!S35","v":0}]
[29,null,null,null,null,null,"ИМНС",{"$f":"[1]ИМНС!B35","v":0},{"$f":"[1]ИМНС!C35","v":0},{"$f":"[1]ИМНС!D35","v":0},{"$f":"[1]ИМНС!E35","v":0},{"$f":"[1]ИМНС!F35","v":0},{"$f":"[1]ИМНС!G35","v":0},{"$f":"[1]ИМНС!H35","v":0},{"$f":"[1]ИМНС!I35","v":0},{"$f":"[1]ИМНС!J35","v":0},{"$f":"[1]ИМНС!K35","v":0},{"$f":"[1]ИМНС!L35","v":0},{"$f":"[1]ИМНС!M35","v":0},{"$f":"[1]ИМНС!N35","v":0},{"$f":"[1]ИМНС!O35","v":0},{"$f":"[1]ИМНС!P35","v":0},{"$f":"[1]ИМНС!Q35","v":0},{"$f":"[1]ИМНС!R35","v":0},{"$f":"[1]ИМНС!S35","v":0}]
[30,null,null,null,null,null,"Интелстандарт",{"$f":"[1]Интелстандарт!B35","v":0},{"$f":"[1]Интелстандарт!C35","v":0},{"$f":"[1]Интелстандарт!D35","v":0},{"$f":"[1]Интелстандарт!E35","v":0},{"$f":"[1]Интелстандарт!F35","v":0},{"$f":"[1]Интелстандарт!G35","v":0},{"$f":"[1]Интелстандарт!H35","v":0},{"$f":"[1]Интелстандарт!I35","v":0},{"$f":"[1]Интелстандарт!J35","v":0},{"$f":"[1]Интелстандарт!K35","v":0},{"$f":"[1]Интелстандарт!L35","v":0},{"$f":"[1]Интелстандарт!M35","v":0},{"$f":"[1]Интелстандарт!N35","v":0},{"$f":"[1]Интелстандарт!O35","v":0},{"$f":"[1]Интелстандарт!P35","v":0},{"$f":"[1]Интелстандарт!Q35","v":0},{"$f":"[1]Интелстандарт!R35","v":0},{"$f":"[1]Интелстандарт!S35","v":0}]
[31,null,null,null,null,null,"Интеркосметика",{"$f":"[1]Интеркосметика!B35","v":0},{"$f":"[1]Интеркосметика!C35","v":0},{"$f":"[1]Интеркосметика!D35","v":0},{"$f":"[1]Интеркосметика!E35","v":0},{"$f":"[1]Интеркосметика!F35","v":0},{"$f":"[1]Интеркосметика!G35","v":0},{"$f":"[1]Интеркосметика!H35","v":0},{"$f":"[1]Интеркосметика!I35","v":0},{"$f":"[1]Интеркосметика!J35","v":0},{"$f":"[1]Интеркосметика!K35","v":0},{"$f":"[1]Интеркосметика!L35","v":0},{"$f":"[1]Интеркосметика!M35","v":0},{"$f":"[1]Интеркосметика!N35","v":0},{"$f":"[1]Интеркосметика!O35","v":0},{"$f":"[1]Интеркосметика!P35","v":0},{"$f":"[1]Интеркосметика!Q35","v":0},{"$f":"[1]Интеркосметика!R35","v":0},{"$f":"[1]Интеркосметика!S35","v":0}]
[32,null,null,null,null,null,"Инф.издат центр по налогам и сборам",{"$f":"'[1]ИИЦ по налогам и сборам'!B35","v":0},{"$f":"'[1]ИИЦ по налогам и сборам'!C35","v":0},{"$f":"'[1]ИИЦ по налогам и сборам'!D35","v":0},{"$f":"'[1]ИИЦ по налогам и сборам'!E35","v":0},{"$f":"'[1]ИИЦ по налогам и сборам'!F35","v":0},{"$f":"'[1]ИИЦ по налогам и сборам'!G35","v":0},{"$f":"'[1]ИИЦ по налогам и сборам'!H35","v":0},{"$f":"'[1]ИИЦ по налогам и сборам'!I35","v":0},{"$f":"'[1]ИИЦ по налогам и сборам'!J35","v":0},{"$f":"'[1]ИИЦ по налогам и сборам'!K35","v":0},{"$f":"'[1]ИИЦ по налогам и сборам'!L35","v":0},{"$f":"'[1]ИИЦ по налогам и сборам'!M35","v":0},{"$f":"'[1]ИИЦ по налогам и сборам'!N35","v":0},{"$f":"'[1]ИИЦ по налогам и сборам'!O35","v":0},{"$f":"'[1]ИИЦ по налогам и сборам'!P35","v":0},{"$f":"'[1]ИИЦ по налогам и сборам'!Q35","v":0},{"$f":"'[1]ИИЦ по налогам и сборам'!R35","v":0},{"$f":"'[1]ИИЦ по налогам и сборам'!S35","v":0}]
[33,null,null,null,null,null,"КМ-про",{"$f":"'[1]КМ-про'!B35","v":0},{"$f":"'[1]КМ-про'!C35","v":0},{"$f":"'[1]КМ-про'!D35","v":0},{"$f":"'[1]КМ-про'!E35","v":0},{"$f":"'[1]КМ-про'!F35","v":0},{"$f":"'[1]КМ-про'!G35","v":0},{"$f":"'[1]КМ-про'!H35","v":0},{"$f":"'[1]КМ-про'!I35","v":0},{"$f":"'[1]КМ-про'!J35","v":0},{"$f":"'[1]КМ-про'!K35","v":0},{"$f":"'[1]КМ-про'!L35","v":0},{"$f":"'[1]КМ-про'!M35","v":0},{"$f":"'[1]КМ-про'!N35","v":0},{"$f":"'[1]КМ-про'!O35","v":0},{"$f":"'[1]КМ-про'!P35","v":0},{"$f":"'[1]КМ-про'!Q35","v":0},{"$f":"'[1]КМ-про'!R35","v":0},{"$f":"'[1]КМ-про'!S35","v":0}]
[34,"Франкир",null,null,null,null,"Косметика+трейдинг",{"$f":"'[1]Косметика+трейдинг'!B35","v":0},{"$f":"'[1]Косметика+трейдинг'!C35","v":0},{"$f":"'[1]Косметика+трейдинг'!D35","v":0},{"$f":"'[1]Косметика+трейдинг'!E35","v":0},{"$f":"'[1]Косметика+трейдинг'!F35","v":0},{"$f":"'[1]Косметика+трейдинг'!G35","v":0},{"$f":"'[1]Косметика+трейдинг'!H35","v":0},{"$f":"'[1]Косметика+трейдинг'!I35","v":0},{"$f":"'[1]Косметика+трейдинг'!J35","v":0},{"$f":"'[1]Косметика+трейдинг'!K35","v":0},{"$f":"'[1]Косметика+трейдинг'!L35","v":0},{"$f":"'[1]Косметика+трейдинг'!M35","v":0},{"$f":"'[1]Косметика+трейдинг'!N35","v":0},{"$f":"'[1]Косметика+трейдинг'!O35","v":0},{"$f":"'[1]Косметика+трейдинг'!P35","v":0},{"$f":"'[1]Косметика+трейдинг'!Q35","v":0},{"$f":"'[1]Косметика+трейдинг'!R35","v":0},{"$f":"'[1]Косметика+трейдинг'!S35","v":0}]
[35,null,null,null,null,null,"Леангрупп",{"$f":"[1]ЛЕАНгрупп!B35","v":0},{"$f":"[1]ЛЕАНгрупп!C35","v":0},{"$f":"[1]ЛЕАНгрупп!D35","v":0},{"$f":"[1]ЛЕАНгрупп!E35","v":0},{"$f":"[1]ЛЕАНгрупп!F35","v":0},{"$f":"[1]ЛЕАНгрупп!G35","v":0},{"$f":"[1]ЛЕАНгрупп!H35","v":0},{"$f":"[1]ЛЕАНгрупп!I35","v":0},{"$f":"[1]ЛЕАНгрупп!J35","v":0},{"$f":"[1]ЛЕАНгрупп!K35","v":0},{"$f":"[1]ЛЕАНгрупп!L35","v":0},{"$f":"[1]ЛЕАНгрупп!M35","v":0},{"$f":"[1]ЛЕАНгрупп!N35","v":0},{"$f":"[1]ЛЕАНгрупп!O35","v":0},{"$f":"[1]ЛЕАНгрупп!P35","v":0},{"$f":"[1]ЛЕАНгрупп!Q35","v":0},{"$f":"[1]ЛЕАНгрупп!R35","v":0},{"$f":"[1]ЛЕАНгрупп!S35","v":0}]
[36,null,null,null,null,null,"ЛИДО РУП",{"$f":"[1]ЛИДО!B35","v":0},{"$f":"[1]ЛИДО!C35","v":0},{"$f":"[1]ЛИДО!D35","v":0},{"$f":"[1]ЛИДО!E35","v":0},{"$f":"[1]ЛИДО!F35","v":0},{"$f":"[1]ЛИДО!G35","v":0},{"$f":"[1]ЛИДО!H35","v":0},{"$f":"[1]ЛИДО!I35","v":0},{"$f":"[1]ЛИДО!J35","v":0},{"$f":"[1]ЛИДО!K35","v":0},{"$f":"[1]ЛИДО!L35","v":0},{"$f":"[1]ЛИДО!M35","v":0},{"$f":"[1]ЛИДО!N35","v":0},{"$f":"[1]ЛИДО!O35","v":0},{"$f":"[1]ЛИДО!P35","v":0},{"$f":"[1]ЛИДО!Q35","v":0},{"$f":"[1]ЛИДО!R35","v":0},{"$f":"[1]ЛИДО!S35","v":0}]
[37,null,null,null,null,null,"Надежные программы НПЧУП",{"$f":"'[1]Надежные программы'!B35","v":0},{"$f":"'[1]Надежные программы'!C35","v":0},{"$f":"'[1]Надежные программы'!D35","v":0},{"$f":"'[1]Надежные программы'!E35","v":0},{"$f":"'[1]Надежные программы'!F35","v":0},{"$f":"'[1]Надежные программы'!G35","v":0},{"$f":"'[1]Надежные программы'!H35","v":0},{"$f":"'[1]Надежные программы'!I35","v":0},{"$f":"'[1]Надежные программы'!J35","v":0},{"$f":"'[1]Надежные программы'!K35","v":0},{"$f":"'[1]Надежные программы'!L35","v":0},{"$f":"'[1]Надежные программы'!M35","v":0},{"$f":"'[1]Надежные программы'!N35","v":0},{"$f":"'[1]Надежные программы'!O35","v":0},{"$f":"'[1]Надежные программы'!P35","v":0},{"$f":"'[1]Надежные программы'!Q35","v":0},{"$f":"'[1]Надежные программы'!R35","v":0},{"$f":"'[1]Надежные программы'!S35","v":0}]
[38,null,null,null,null,null,"Нац.центр интеллектуальной собственности",{"$f":"[1]НЦИС!B35","v":0},{"$f":"[1]НЦИС!C35","v":0},{"$f":"[1]НЦИС!D35","v":0},{"$f":"[1]НЦИС!E35","v":0},{"$f":"[1]НЦИС!F35","v":0},{"$f":"[1]НЦИС!G35","v":0},{"$f":"[1]НЦИС!H35","v":0},{"$f":"[1]НЦИС!I35","v":0},{"$f":"[1]НЦИС!J35","v":0},{"$f":"[1]НЦИС!K35","v":0},{"$f":"[1]НЦИС!L35","v":0},{"$f":"[1]НЦИС!M35","v":0},{"$f":"[1]НЦИС!N35","v":0},{"$f":"[1]НЦИС!O35","v":0},{"$f":"[1]НЦИС!P35","v":0},{"$f":"[1]НЦИС!Q35","v":0},{"$f":"[1]НЦИС!R35","v":0},{"$f":"[1]НЦИС!S35","v":0}]
[39,null,null,null,null,null,"Нотариальная контора Советского р-на",{"$f":"[1]Нотар.контора!B35","v":0},{"$f":"[1]Нотар.контора!C35","v":0},{"$f":"[1]Нотар.контора!D35","v":0},{"$f":"[1]Нотар.контора!E35","v":0},{"$f":"[1]Нотар.контора!F35","v":0},{"$f":"[1]Нотар.контора!G35","v":0},{"$f":"[1]Нотар.контора!H35","v":0},{"$f":"[1]Нотар.контора!I35","v":0},{"$f":"[1]Нотар.контора!J35","v":0},{"$f":"[1]Нотар.контора!K35","v":0},{"$f":"[1]Нотар.контора!L35","v":0},{"$f":"[1]Нотар.контора!M35","v":0},{"$f":"[1]Нотар.контора!N35","v":0},{"$f":"[1]Нотар.контора!O35","v":0},{"$f":"[1]Нотар.контора!P35","v":0},{"$f":"[1]Нотар.контора!Q35","v":0},{"$f":"[1]Нотар.контора!R35","v":0},{"$f":"[1]Нотар.контора!S35","v":0}]
[40,null,null,null,null,null,"Отличные окна МНС ООО",{"$f":"'[1]Отличные окна '!B35","v":0},{"$f":"'[1]Отличные окна '!C35","v":0},{"$f":"'[1]Отличные окна '!D35","v":0},{"$f":"'[1]Отличные окна '!E35","v":0},{"$f":"'[1]Отличные окна '!F35","v":0},{"$f":"'[1]Отличные окна '!G35","v":0},{"$f":"'[1]Отличные окна '!H35","v":0},{"$f":"'[1]Отличные окна '!I35","v":0},{"$f":"'[1]Отличные окна '!J35","v":0},{"$f":"'[1]Отличные окна '!K35","v":0},{"$f":"'[1]Отличные окна '!L35","v":0},{"$f":"'[1]Отличные окна '!M35","v":0},{"$f":"'[1]Отличные окна '!N35","v":0},{"$f":"'[1]Отличные окна '!O35","v":0},{"$f":"'[1]Отличные окна '!P35","v":0},{"$f":"'[1]Отличные окна '!Q35","v":0},{"$f":"'[1]Отличные окна '!R35","v":0},{"$f":"'[1]Отличные окна '!S35","v":0}]
[41,"Договор",944,"2013-12-05",1989,null,"Парфюмбытхим СООО",{"$f":"[1]Парфюмбытхим!B35","v":0},{"$f":"[1]Парфюмбытхим!C35","v":0},{"$f":"[1]Парфюмбытхим!D35","v":0},{"$f":"[1]Парфюмбытхим!E35","v":0},{"$f":"[1]Парфюмбытхим!F35","v":0},{"$f":"[1]Парфюмбытхим!G35","v":0},{"$f":"[1]Парфюмбытхим!H35","v":0},{"$f":"[1]Парфюмбытхим!I35","v":0},{"$f":"[1]Парфюмбытхим!J35","v":0},{"$f":"[1]Парфюмбытхим!K35","v":0},{"$f":"[1]Парфюмбытхим!L35","v":0},{"$f":"[1]Парфюмбытхим!M35","v":0},{"$f":"[1]Парфюмбытхим!N35","v":0},{"$f":"[1]Парфюмбытхим!O35","v":0},{"$f":"[1]Парфюмбытхим!P35","v":0},{"$f":"[1]Парфюмбытхим!Q35","v":0},{"$f":"[1]Парфюмбытхим!R35","v":0},{"$f":"[1]Парфюмбытхим!S35","v":0}]
[42,null,null,null,null,null,"Парфюмтрейд",{"$f":"[1]ПарфюмТрейд!B35","v":0},{"$f":"[1]ПарфюмТрейд!C35","v":0},{"$f":"[1]ПарфюмТрейд!D35","v":0},{"$f":"[1]ПарфюмТрейд!E35","v":0},{"$f":"[1]ПарфюмТрейд!F35","v":0},{"$f":"[1]ПарфюмТрейд!G35","v":0},{"$f":"[1]ПарфюмТрейд!H35","v":0},{"$f":"[1]ПарфюмТрейд!I35","v":0},{"$f":"[1]ПарфюмТрейд!J35","v":0},{"$f":"[1]ПарфюмТрейд!K35","v":0},{"$f":"[1]ПарфюмТрейд!L35","v":0},{"$f":"[1]ПарфюмТрейд!M35","v":0},{"$f":"[1]ПарфюмТрейд!N35","v":0},{"$f":"[1]ПарфюмТрейд!O35","v":0},{"$f":"[1]ПарфюмТрейд!P35","v":0},{"$f":"[1]ПарфюмТрейд!Q35","v":0},{"$f":"[1]ПарфюмТрейд!R35","v":0},{"$f":"[1]ПарфюмТрейд!S35","v":0}]
[43,"Договор",1090,"2012-12-29",1181,null,"Полипромсервис ООО",{"$f":"[1]Полипромсервис!B35","v":0},{"$f":"[1]Полипромсервис!C35","v":0},{"$f":"[1]Полипромсервис!D35","v":0},{"$f":"[1]Полипромсервис!E35","v":0},{"$f":"[1]Полипромсервис!F35","v":0},{"$f":"[1]Полипромсервис!G35","v":0},{"$f":"[1]Полипромсервис!H35","v":0},{"$f":"[1]Полипромсервис!I35","v":0},{"$f":"[1]Полипромсервис!J35","v":0},{"$f":"[1]Полипромсервис!K35","v":0},{"$f":"[1]Полипромсервис!L35","v":0},{"$f":"[1]Полипромсервис!M35","v":0},{"$f":"[1]Полипромсервис!N35","v":0},{"$f":"[1]Полипромсервис!O35","v":0},{"$f":"[1]Полипромсервис!P35","v":0},{"$f":"[1]Полипромсервис!Q35","v":0},{"$f":"[1]Полипромсервис!R35","v":0},{"$f":"[1]Полипромсервис!S35","v":0}]
[44,null,null,null,null,null,"Правитэксперт",{"$f":"[1]ПравитЭксперт!B35","v":0},{"$f":"[1]ПравитЭксперт!C35","v":0},{"$f":"[1]ПравитЭксперт!D35","v":0},{"$f":"[1]ПравитЭксперт!E35","v":0},{"$f":"[1]ПравитЭксперт!F35","v":0},{"$f":"[1]ПравитЭксперт!G35","v":0},{"$f":"[1]ПравитЭксперт!H35","v":0},{"$f":"[1]ПравитЭксперт!I35","v":0},{"$f":"[1]ПравитЭксперт!J35","v":0},{"$f":"[1]ПравитЭксперт!K35","v":0},{"$f":"[1]ПравитЭксперт!L35","v":0},{"$f":"[1]ПравитЭксперт!M35","v":0},{"$f":"[1]ПравитЭксперт!N35","v":0},{"$f":"[1]ПравитЭксперт!O35","v":0},{"$f":"[1]ПравитЭксперт!P35","v":0},{"$f":"[1]ПравитЭксперт!Q35","v":0},{"$f":"[1]ПравитЭксперт!R35","v":0},{"$f":"[1]ПравитЭксперт!S35","v":0}]
[45,null,null,null,null,null,"Правозащита",{"$f":"[1]Правозащита!B35","v":0},{"$f":"[1]Правозащита!C35","v":0},{"$f":"[1]Правозащита!D35","v":0},{"$f":"[1]Правозащита!E35","v":0},{"$f":"[1]Правозащита!F35","v":0},{"$f":"[1]Правозащита!G35","v":0},{"$f":"[1]Правозащита!H35","v":0},{"$f":"[1]Правозащита!I35","v":0},{"$f":"[1]Правозащита!J35","v":0},{"$f":"[1]Правозащита!K35","v":0},{"$f":"[1]Правозащита!L35","v":0},{"$f":"[1]Правозащита!M35","v":0},{"$f":"[1]Правозащита!N35","v":0},{"$f":"[1]Правозащита!O35","v":0},{"$f":"[1]Правозащита!P35","v":0},{"$f":"[1]Правозащита!Q35","v":0},{"$f":"[1]Правозащита!R35","v":0},{"$f":"[1]Правозащита!S35","v":0}]
[46,null,null,null,null,null,"РРБ-Банк ЗАО",{"$f":"'[1]РРБ-Банк'!B35","v":0},{"$f":"'[1]РРБ-Банк'!C35","v":0},{"$f":"'[1]РРБ-Банк'!D35","v":0},{"$f":"'[1]РРБ-Банк'!E35","v":0},{"$f":"'[1]РРБ-Банк'!F35","v":0},{"$f":"'[1]РРБ-Банк'!G35","v":0},{"$f":"'[1]РРБ-Банк'!H35","v":0},{"$f":"'[1]РРБ-Банк'!I35","v":0},{"$f":"'[1]РРБ-Банк'!J35","v":0},{"$f":"'[1]РРБ-Банк'!K35","v":0},{"$f":"'[1]РРБ-Банк'!L35","v":0},{"$f":"'[1]РРБ-Банк'!M35","v":0},{"$f":"'[1]РРБ-Банк'!N35","v":0},{"$f":"'[1]РРБ-Банк'!O35","v":0},{"$f":"'[1]РРБ-Банк'!P35","v":0},{"$f":"'[1]РРБ-Банк'!Q35","v":0},{"$f":"'[1]РРБ-Банк'!R35","v":0},{"$f":"'[1]РРБ-Банк'!S35","v":0}]
[47,null,null,null,null,null,"Синкевич ЧТСУП",{"$f":"'[1]Синкевич ЧТСУП'!B35","v":0},{"$f":"'[1]Синкевич ЧТСУП'!C35","v":0},{"$f":"'[1]Синкевич ЧТСУП'!D35","v":0},{"$f":"'[1]Синкевич ЧТСУП'!E35","v":0},{"$f":"'[1]Синкевич ЧТСУП'!F35","v":0},{"$f":"'[1]Синкевич ЧТСУП'!G35","v":0},{"$f":"'[1]Синкевич ЧТСУП'!H35","v":0},{"$f":"'[1]Синкевич ЧТСУП'!I35","v":0},{"$f":"'[1]Синкевич ЧТСУП'!J35","v":0},{"$f":"'[1]Синкевич ЧТСУП'!K35","v":0},{"$f":"'[1]Синкевич ЧТСУП'!L35","v":0},{"$f":"'[1]Синкевич ЧТСУП'!M35","v":0},{"$f":"'[1]Синкевич ЧТСУП'!N35","v":0},{"$f":"'[1]Синкевич ЧТСУП'!O35","v":0},{"$f":"'[1]Синкевич ЧТСУП'!P35","v":0},{"$f":"'[1]Синкевич ЧТСУП'!Q35","v":0},{"$f":"'[1]Синкевич ЧТСУП'!R35","v":0},{"$f":"'[1]Синкевич ЧТСУП'!S35","v":0}]
[48,null,null,null,null,null,"Строительный континент ООО",{"$f":"'[1]Строительный континент'!B35","v":0},{"$f":"'[1]Строительный континент'!C35","v":0},{"$f":"'[1]Строительный континент'!D35","v":0},{"$f":"'[1]Строительный континент'!E35","v":0},{"$f":"'[1]Строительный континент'!F35","v":0},{"$f":"'[1]Строительный континент'!G35","v":0},{"$f":"'[1]Строительный континент'!H35","v":0},{"$f":"'[1]Строительный континент'!I35","v":0},{"$f":"'[1]Строительный континент'!J35","v":0},{"$f":"'[1]Строительный континент'!K35","v":0},{"$f":"'[1]Строительный континент'!L35","v":0},{"$f":"'[1]Строительный континент'!M35","v":0},{"$f":"'[1]Строительный континент'!N35","v":0},{"$f":"'[1]Строительный континент'!O35","v":0},{"$f":"'[1]Строительный континент'!P35","v":0},{"$f":"'[1]Строительный континент'!Q35","v":0},{"$f":"'[1]Строительный континент'!R35","v":0},{"$f":"'[1]Строительный континент'!S35","v":0}]
[49,null,null,null,null,null,"Стройтрест  №7 ОАО",{"$f":"'[1]Стройтрест 7'!B35","v":0},{"$f":"'[1]Стройтрест 7'!C35","v":0},{"$f":"'[1]Стройтрест 7'!D35","v":0},{"$f":"'[1]Стройтрест 7'!E35","v":0},{"$f":"'[1]Стройтрест 7'!F35","v":0},{"$f":"'[1]Стройтрест 7'!G35","v":0},{"$f":"'[1]Стройтрест 7'!H35","v":0},{"$f":"'[1]Стройтрест 7'!I35","v":0},{"$f":"'[1]Стройтрест 7'!J35","v":0},{"$f":"'[1]Стройтрест 7'!K35","v":0},{"$f":"'[1]Стройтрест 7'!L35","v":0},{"$f":"'[1]Стройтрест 7'!M35","v":0},{"$f":"'[1]Стройтрест 7'!N35","v":0},{"$f":"'[1]Стройтрест 7'!O35","v":0},{"$f":"'[1]Стройтрест 7'!P35","v":0},{"$f":"'[1]Стройтрест 7'!Q35","v":0},{"$f":"'[1]Стройтрест 7'!R35","v":0},{"$f":"'[1]Стройтрест 7'!S35","v":0}]
[50,null,null,null,null,null,"СУ-2 ОАО Стройтрест №1",{"$f":"'[1]СУ-2'!B35","v":0},{"$f":"'[1]СУ-2'!C35","v":0},{"$f":"'[1]СУ-2'!D35","v":0},{"$f":"'[1]СУ-2'!E35","v":0},{"$f":"'[1]СУ-2'!F35","v":0},{"$f":"'[1]СУ-2'!G35","v":0},{"$f":"'[1]СУ-2'!H35","v":0},{"$f":"'[1]СУ-2'!I35","v":0},{"$f":"'[1]СУ-2'!J35","v":0},{"$f":"'[1]СУ-2'!K35","v":0},{"$f":"'[1]СУ-2'!L35","v":0},{"$f":"'[1]СУ-2'!M35","v":0},{"$f":"'[1]СУ-2'!N35","v":0},{"$f":"'[1]СУ-2'!O35","v":0},{"$f":"'[1]СУ-2'!P35","v":0},{"$f":"'[1]СУ-2'!Q35","v":0},{"$f":"'[1]СУ-2'!R35","v":0},{"$f":"'[1]СУ-2'!S35","v":0}]
[51,null,null,null,null,null,"СУ-3 ОАО Стройтрест №1",{"$f":"'[1]СУ-3'!B35","v":0},{"$f":"'[1]СУ-3'!C35","v":0},{"$f":"'[1]СУ-3'!D35","v":0},{"$f":"'[1]СУ-3'!E35","v":0},{"$f":"'[1]СУ-3'!F35","v":0},{"$f":"'[1]СУ-3'!G35","v":0},{"$f":"'[1]СУ-3'!H35","v":0},{"$f":"'[1]СУ-3'!I35","v":0},{"$f":"'[1]СУ-3'!J35","v":0},{"$f":"'[1]СУ-3'!K35","v":0},{"$f":"'[1]СУ-3'!L35","v":0},{"$f":"'[1]СУ-3'!M35","v":0},{"$f":"'[1]СУ-3'!N35","v":0},{"$f":"'[1]СУ-3'!O35","v":0},{"$f":"'[1]СУ-3'!P35","v":0},{"$f":"'[1]СУ-3'!Q35","v":0},{"$f":"'[1]СУ-3'!R35","v":0},{"$f":"'[1]СУ-3'!S35","v":0}]
[52,"Договор",3,"2014-01-03",2003,null,"ТАСК ЗАСО",{"$f":"[1]ТАСК!B35","v":0},{"$f":"[1]ТАСК!C35","v":0},{"$f":"[1]ТАСК!D35","v":0},{"$f":"[1]ТАСК!E35","v":0},{"$f":"[1]ТАСК!F35","v":0},{"$f":"[1]ТАСК!G35","v":0},{"$f":"[1]ТАСК!H35","v":0},{"$f":"[1]ТАСК!I35","v":0},{"$f":"[1]ТАСК!J35","v":0},{"$f":"[1]ТАСК!K35","v":0},{"$f":"[1]ТАСК!L35","v":0},{"$f":"[1]ТАСК!M35","v":0},{"$f":"[1]ТАСК!N35","v":0},{"$f":"[1]ТАСК!O35","v":0},{"$f":"[1]ТАСК!P35","v":0},{"$f":"[1]ТАСК!Q35","v":0},{"$f":"[1]ТАСК!R35","v":0},{"$f":"[1]ТАСК!S35","v":0}]
[53,null,null,null,null,null,"Тендерный центр Мингорисполкома",{"$f":"'[1]Тенд.центр Мингорисполкома'!B35","v":0},{"$f":"'[1]Тенд.центр Мингорисполкома'!C35","v":0},{"$f":"'[1]Тенд.центр Мингорисполкома'!D35","v":0},{"$f":"'[1]Тенд.центр Мингорисполкома'!E35","v":0},{"$f":"'[1]Тенд.центр Мингорисполкома'!F35","v":0},{"$f":"'[1]Тенд.центр Мингорисполкома'!G35","v":0},{"$f":"'[1]Тенд.центр Мингорисполкома'!H35","v":0},{"$f":"'[1]Тенд.центр Мингорисполкома'!I35","v":0},{"$f":"'[1]Тенд.центр Мингорисполкома'!J35","v":0},{"$f":"'[1]Тенд.центр Мингорисполкома'!K35","v":0},{"$f":"'[1]Тенд.центр Мингорисполкома'!L35","v":0},{"$f":"'[1]Тенд.центр Мингорисполкома'!M35","v":0},{"$f":"'[1]Тенд.центр Мингорисполкома'!N35","v":0},{"$f":"'[1]Тенд.центр Мингорисполкома'!O35","v":0},{"$f":"'[1]Тенд.центр Мингорисполкома'!P35","v":0},{"$f":"'[1]Тенд.центр Мингорисполкома'!Q35","v":0},{"$f":"'[1]Тенд.центр Мингорисполкома'!R35","v":0},{"$f":"'[1]Тенд.центр Мингорисполкома'!S35","v":0}]
[54,null,null,null,null,null,"TUT.BY МЕДИА ООО",{"$f":"[1]TUT.BY!B35","v":0},{"$f":"[1]TUT.BY!C35","v":0},{"$f":"[1]TUT.BY!D35","v":0},{"$f":"[1]TUT.BY!E35","v":0},{"$f":"[1]TUT.BY!F35","v":0},{"$f":"[1]TUT.BY!G35","v":0},{"$f":"[1]TUT.BY!H35","v":0},{"$f":"[1]TUT.BY!I35","v":0},{"$f":"[1]TUT.BY!J35","v":0},{"$f":"[1]TUT.BY!K35","v":0},{"$f":"[1]TUT.BY!L35","v":0},{"$f":"[1]TUT.BY!M35","v":0},{"$f":"[1]TUT.BY!N35","v":0},{"$f":"[1]TUT.BY!O35","v":0},{"$f":"[1]TUT.BY!P35","v":0},{"$f":"[1]TUT.BY!Q35","v":0},{"$f":"[1]TUT.BY!R35","v":0},{"$f":"[1]TUT.BY!S35","v":0}]
[55,"Договор",322,"2008-11-12",5246,null,"ФедКон ОДО",{"$f":"[1]ФедКон!B35","v":0},{"$f":"[1]ФедКон!C35","v":0},{"$f":"[1]ФедКон!D35","v":0},{"$f":"[1]ФедКон!E35","v":0},{"$f":"[1]ФедКон!F35","v":0},{"$f":"[1]ФедКон!G35","v":0},{"$f":"[1]ФедКон!H35","v":0},{"$f":"[1]ФедКон!I35","v":0},{"$f":"[1]ФедКон!J35","v":0},{"$f":"[1]ФедКон!K35","v":0},{"$f":"[1]ФедКон!L35","v":0},{"$f":"[1]ФедКон!M35","v":0},{"$f":"[1]ФедКон!N35","v":0},{"$f":"[1]ФедКон!O35","v":0},{"$f":"[1]ФедКон!P35","v":0},{"$f":"[1]ФедКон!Q35","v":0},{"$f":"[1]ФедКон!R35","v":0},{"$f":"[1]ФедКон!S35","v":0}]
[56,null,null,null,null,null,"Химремонт ОАО",{"$f":"[1]Химремонт!B35","v":0},{"$f":"[1]Химремонт!C35","v":0},{"$f":"[1]Химремонт!D35","v":0},{"$f":"[1]Химремонт!E35","v":0},{"$f":"[1]Химремонт!F35","v":0},{"$f":"[1]Химремонт!G35","v":0},{"$f":"[1]Химремонт!H35","v":0},{"$f":"[1]Химремонт!I35","v":0},{"$f":"[1]Химремонт!J35","v":0},{"$f":"[1]Химремонт!K35","v":0},{"$f":"[1]Химремонт!L35","v":0},{"$f":"[1]Химремонт!M35","v":0},{"$f":"[1]Химремонт!N35","v":0},{"$f":"[1]Химремонт!O35","v":0},{"$f":"[1]Химремонт!P35","v":0},{"$f":"[1]Химремонт!Q35","v":0},{"$f":"[1]Химремонт!R35","v":0},{"$f":"[1]Химремонт!S35","v":0}]
[57,null,null,null,null,null,"Центр охраны труда и пром.безопасности ЗАО",{"$f":"'[1]Центр ОТ и ПБ'!B35","v":0},{"$f":"'[1]Центр ОТ и ПБ'!C35","v":0},{"$f":"'[1]Центр ОТ и ПБ'!D35","v":0},{"$f":"'[1]Центр ОТ и ПБ'!E35","v":0},{"$f":"'[1]Центр ОТ и ПБ'!F35","v":0},{"$f":"'[1]Центр ОТ и ПБ'!G35","v":0},{"$f":"'[1]Центр ОТ и ПБ'!H35","v":0},{"$f":"'[1]Центр ОТ и ПБ'!I35","v":0},{"$f":"'[1]Центр ОТ и ПБ'!J35","v":0},{"$f":"'[1]Центр ОТ и ПБ'!K35","v":0},{"$f":"'[1]Центр ОТ и ПБ'!L35","v":0},{"$f":"'[1]Центр ОТ и ПБ'!M35","v":0},{"$f":"'[1]Центр ОТ и ПБ'!N35","v":0},{"$f":"'[1]Центр ОТ и ПБ'!O35","v":0},{"$f":"'[1]Центр ОТ и ПБ'!P35","v":0},{"$f":"'[1]Центр ОТ и ПБ'!Q35","v":0},{"$f":"'[1]Центр ОТ и ПБ'!R35","v":0},{"$f":"'[1]Центр ОТ и ПБ'!S35","v":0}]
[58,null,null,null,null,null,"Центр повыш.квалификации",{"$f":"'[1]Центр повыш.квалиф.'!B35","v":0},{"$f":"'[1]Центр повыш.квалиф.'!C35","v":0},{"$f":"'[1]Центр повыш.квалиф.'!D35","v":0},{"$f":"'[1]Центр повыш.квалиф.'!E35","v":0},{"$f":"'[1]Центр повыш.квалиф.'!F35","v":0},{"$f":"'[1]Центр повыш.квалиф.'!G35","v":0},{"$f":"'[1]Центр повыш.квалиф.'!H35","v":0},{"$f":"'[1]Центр повыш.квалиф.'!I35","v":0},{"$f":"'[1]Центр повыш.квалиф.'!J35","v":0},{"$f":"'[1]Центр повыш.квалиф.'!K35","v":0},{"$f":"'[1]Центр повыш.квалиф.'!L35","v":0},{"$f":"'[1]Центр повыш.квалиф.'!M35","v":0},{"$f":"'[1]Центр повыш.квалиф.'!N35","v":0},{"$f":"'[1]Центр повыш.квалиф.'!O35","v":0},{"$f":"'[1]Центр повыш.квалиф.'!P35","v":0},{"$f":"'[1]Центр повыш.квалиф.'!Q35","v":0},{"$f":"'[1]Центр повыш.квалиф.'!R35","v":0},{"$f":"'[1]Центр повыш.квалиф.'!S35","v":0}]
[59,"Маркир",null,null,null,null," ЦУМ Минск ОАО",{"$f":"'[1]ЦУМ Минск'!B35","v":0},{"$f":"'[1]ЦУМ Минск'!C35","v":0},{"$f":"'[1]ЦУМ Минск'!D35","v":0},{"$f":"'[1]ЦУМ Минск'!E35","v":0},{"$f":"'[1]ЦУМ Минск'!F35","v":0},{"$f":"'[1]ЦУМ Минск'!G35","v":0},{"$f":"'[1]ЦУМ Минск'!H35","v":0},{"$f":"'[1]ЦУМ Минск'!I35","v":0},{"$f":"'[1]ЦУМ Минск'!J35","v":0},{"$f":"'[1]ЦУМ Минск'!K35","v":0},{"$f":"'[1]ЦУМ Минск'!L35","v":0},{"$f":"'[1]ЦУМ Минск'!M35","v":0},{"$f":"'[1]ЦУМ Минск'!N35","v":0},{"$f":"'[1]ЦУМ Минск'!O35","v":0},{"$f":"'[1]ЦУМ Минск'!P35","v":0},{"$f":"'[1]ЦУМ Минск'!Q35","v":0},{"$f":"'[1]ЦУМ Минск'!R35","v":0},{"$f":"'[1]ЦУМ Минск'!S35","v":0}]
[60,null,null,null,null,null,"Чистые родники",{"$f":"'[1]Чистые родники'!B35","v":0},{"$f":"'[1]Чистые родники'!C35","v":0},{"$f":"'[1]Чистые родники'!D35","v":0},{"$f":"'[1]Чистые родники'!E35","v":0},{"$f":"'[1]Чистые родники'!F35","v":0},{"$f":"'[1]Чистые родники'!G35","v":0},{"$f":"'[1]Чистые родники'!H35","v":0},{"$f":"'[1]Чистые родники'!I35","v":0},{"$f":"'[1]Чистые родники'!J35","v":0},{"$f":"'[1]Чистые родники'!K35","v":0},{"$f":"'[1]Чистые родники'!L35","v":0},{"$f":"'[1]Чистые родники'!M35","v":0},{"$f":"'[1]Чистые родники'!N35","v":0},{"$f":"'[1]Чистые родники'!O35","v":0},{"$f":"'[1]Чистые родники'!P35","v":0},{"$f":"'[1]Чистые родники'!Q35","v":0},{"$f":"'[1]Чистые родники'!R35","v":0},{"$f":"'[1]Чистые родники'!S35","v":0}]
[61,null,null,null,null,null,"Электросила",{"$f":"[1]Электросила!B35","v":0},{"$f":"[1]Электросила!C35","v":0},{"$f":"[1]Электросила!D35","v":0},{"$f":"[1]Электросила!E35","v":0},{"$f":"[1]Электросила!F35","v":0},{"$f":"[1]Электросила!G35","v":0},{"$f":"[1]Электросила!H35","v":0},{"$f":"[1]Электросила!I35","v":0},{"$f":"[1]Электросила!J35","v":0},{"$f":"[1]Электросила!K35","v":0},{"$f":"[1]Электросила!L35","v":0},{"$f":"[1]Электросила!M35","v":0},{"$f":"[1]Электросила!N35","v":0},{"$f":"[1]Электросила!O35","v":0},{"$f":"[1]Электросила!P35","v":0},{"$f":"[1]Электросила!Q35","v":0},{"$f":"[1]Электросила!R35","v":0},{"$f":"[1]Электросила!S35","v":0}]
[62,"Договор","22-02-11/301","2012-09-17",918,null,"Этонир ЧТЭУП",{"$f":"[1]Этонир!B35","v":0},{"$f":"[1]Этонир!C35","v":0},{"$f":"[1]Этонир!D35","v":0},{"$f":"[1]Этонир!E35","v":0},{"$f":"[1]Этонир!F35","v":0},{"$f":"[1]Этонир!G35","v":0},{"$f":"[1]Этонир!H35","v":0},{"$f":"[1]Этонир!I35","v":0},{"$f":"[1]Этонир!J35","v":0},{"$f":"[1]Этонир!K35","v":0},{"$f":"[1]Этонир!L35","v":0},{"$f":"[1]Этонир!M35","v":0},{"$f":"[1]Этонир!N35","v":0},{"$f":"[1]Этонир!O35","v":0},{"$f":"[1]Этонир!P35","v":0},{"$f":"[1]Этонир!Q35","v":0},{"$f":"[1]Этонир!R35","v":0},{"$f":"[1]Этонир!S35","v":0}]
[63,null,null,null,null,null,"Пролайт групп",{"$f":"'[1]Пролайт групп'!B35","v":0},{"$f":"'[1]Пролайт групп'!C35","v":0},{"$f":"'[1]Пролайт групп'!D35","v":0},{"$f":"'[1]Пролайт групп'!E35","v":0},{"$f":"'[1]Пролайт групп'!F35","v":0},{"$f":"'[1]Пролайт групп'!G35","v":0},{"$f":"'[1]Пролайт групп'!H35","v":0},{"$f":"'[1]Пролайт групп'!I35","v":0},{"$f":"'[1]Пролайт групп'!J35","v":0},{"$f":"'[1]Пролайт групп'!K35","v":0},{"$f":"'[1]Пролайт групп'!L35","v":0},{"$f":"'[1]Пролайт групп'!M35","v":0},{"$f":"'[1]Пролайт групп'!N35","v":0},{"$f":"'[1]Пролайт групп'!O35","v":0},{"$f":"'[1]Пролайт групп'!P35","v":0},{"$f":"'[1]Пролайт групп'!Q35","v":0},{"$f":"'[1]Пролайт групп'!R35","v":0},{"$f":"'[1]Пролайт групп'!S35","v":0}]
[64,"Договор",527,"2010-05-12",449,71,"Артронас ОДО",{"$f":"[1]Артронас!B35","v":0},{"$f":"[1]Артронас!C35","v":0},{"$f":"[1]Артронас!D35","v":0},{"$f":"[1]Артронас!E35","v":0},{"$f":"[1]Артронас!F35","v":0},{"$f":"[1]Артронас!G35","v":0},{"$f":"[1]Артронас!H35","v":0},{"$f":"[1]Артронас!I35","v":0},{"$f":"[1]Артронас!J35","v":0},{"$f":"[1]Артронас!K35","v":0},{"$f":"[1]Артронас!L35","v":0},{"$f":"[1]Артронас!M35","v":0},{"$f":"[1]Артронас!N35","v":0},{"$f":"[1]Артронас!O35","v":0},{"$f":"[1]Артронас!P35","v":0},{"$f":"[1]Артронас!Q35","v":0},{"$f":"[1]Артронас!R35","v":0},{"$f":"[1]Артронас!S35","v":0}]
[65,null,null,null,null,null,"Хозторг",{"$f":"[1]Хозторг!B35","v":0},{"$f":"[1]Хозторг!C35","v":0},{"$f":"[1]Хозторг!D35","v":0},{"$f":"[1]Хозторг!E35","v":0},{"$f":"[1]Хозторг!F35","v":0},{"$f":"[1]Хозторг!G35","v":0},{"$f":"[1]Хозторг!H35","v":0},{"$f":"[1]Хозторг!I35","v":0},{"$f":"[1]Хозторг!J35","v":0},{"$f":"[1]Хозторг!K35","v":0},{"$f":"[1]Хозторг!L35","v":0},{"$f":"[1]Хозторг!M35","v":0},{"$f":"[1]Хозторг!N35","v":0},{"$f":"[1]Хозторг!O35","v":0},{"$f":"[1]Хозторг!P35","v":0},{"$f":"[1]Хозторг!Q35","v":0},{"$f":"[1]Хозторг!R35","v":0},{"$f":"[1]Хозторг!S35","v":0}]
[66,null,null,null,null,null,"Инспекция труда",{"$f":"'[1]Инспекция труда'!B35","v":0},{"$f":"'[1]Инспекция труда'!C35","v":0},{"$f":"'[1]Инспекция труда'!D35","v":0},{"$f":"'[1]Инспекция труда'!E35","v":0},{"$f":"'[1]Инспекция труда'!F35","v":0},{"$f":"'[1]Инспекция труда'!G35","v":0},{"$f":"'[1]Инспекция труда'!H35","v":0},{"$f":"'[1]Инспекция труда'!I35","v":0},{"$f":"'[1]Инспекция труда'!J35","v":0},{"$f":"'[1]Инспекция труда'!K35","v":0},{"$f":"'[1]Инспекция труда'!L35","v":0},{"$f":"'[1]Инспекция труда'!M35","v":0},{"$f":"'[1]Инспекция труда'!N35","v":0},{"$f":"'[1]Инспекция труда'!O35","v":0},{"$f":"'[1]Инспекция труда'!P35","v":0},{"$f":"'[1]Инспекция труда'!Q35","v":0},{"$f":"'[1]Инспекция труда'!R35","v":0},{"$f":"'[1]Инспекция труда'!S35","v":0}]
[67,null,null,null,null,null,"Агентство \"Минск-Новости\"",{"$f":"'[1]Минск-новости'!B35","v":0},{"$f":"'[1]Минск-новости'!C35","v":0},{"$f":"'[1]Минск-новости'!D35","v":0},{"$f":"'[1]Минск-новости'!E35","v":0},{"$f":"'[1]Минск-новости'!F35","v":0},{"$f":"'[1]Минск-новости'!G35","v":0},{"$f":"'[1]Минск-новости'!H35","v":0},{"$f":"'[1]Минск-новости'!I35","v":0},{"$f":"'[1]Минск-новости'!J35","v":0},{"$f":"'[1]Минск-новости'!K35","v":0},{"$f":"'[1]Минск-новости'!L35","v":0},{"$f":"'[1]Минск-новости'!M35","v":0},{"$f":"'[1]Минск-новости'!N35","v":0},{"$f":"'[1]Минск-новости'!O35","v":0},{"$f":"'[1]Минск-новости'!P35","v":0},{"$f":"'[1]Минск-новости'!Q35","v":0},{"$f":"'[1]Минск-новости'!R35","v":0},{"$f":"'[1]Минск-новости'!S35","v":0}]
[68,null,null,null,null,null,"МГПТК полиграфии УО",{"$f":"'[1]МГПТК полиграфии'!B35","v":0},{"$f":"'[1]МГПТК полиграфии'!C35","v":0},{"$f":"'[1]МГПТК полиграфии'!D35","v":0},{"$f":"'[1]МГПТК полиграфии'!E35","v":0},{"$f":"'[1]МГПТК полиграфии'!F35","v":0},{"$f":"'[1]МГПТК полиграфии'!G35","v":0},{"$f":"'[1]МГПТК полиграфии'!H35","v":0},{"$f":"'[1]МГПТК полиграфии'!I35","v":0},{"$f":"'[1]МГПТК полиграфии'!J35","v":0},{"$f":"'[1]МГПТК полиграфии'!K35","v":0},{"$f":"'[1]МГПТК полиграфии'!L35","v":0},{"$f":"'[1]МГПТК полиграфии'!M35","v":0},{"$f":"'[1]МГПТК полиграфии'!N35","v":0},{"$f":"'[1]МГПТК полиграфии'!O35","v":0},{"$f":"'[1]МГПТК полиграфии'!P35","v":0},{"$f":"'[1]МГПТК полиграфии'!Q35","v":0},{"$f":"'[1]МГПТК полиграфии'!R35","v":0},{"$f":"'[1]МГПТК полиграфии'!S35","v":0}]
[69,null,null,null,null,null,"Рекомбис",{"$f":"[1]Рекомбис!B35","v":0},{"$f":"[1]Рекомбис!C35","v":0},{"$f":"[1]Рекомбис!D35","v":0},{"$f":"[1]Рекомбис!E35","v":0},{"$f":"[1]Рекомбис!F35","v":0},{"$f":"[1]Рекомбис!G35","v":0},{"$f":"[1]Рекомбис!H35","v":0},{"$f":"[1]Рекомбис!I35","v":0},{"$f":"[1]Рекомбис!J35","v":0},{"$f":"[1]Рекомбис!K35","v":0},{"$f":"[1]Рекомбис!L35","v":0},{"$f":"[1]Рекомбис!M35","v":0},{"$f":"[1]Рекомбис!N35","v":0},{"$f":"[1]Рекомбис!O35","v":0},{"$f":"[1]Рекомбис!P35","v":0},{"$f":"[1]Рекомбис!Q35","v":0},{"$f":"[1]Рекомбис!R35","v":0},{"$f":"[1]Рекомбис!S35","v":0}]
[70,null,null,null,null,null,"Оргстрой ОАО",{"$f":"[1]ОргСтрой!B35","v":0},{"$f":"[1]ОргСтрой!C35","v":0},{"$f":"[1]ОргСтрой!D35","v":0},{"$f":"[1]ОргСтрой!E35","v":0},{"$f":"[1]ОргСтрой!F35","v":0},{"$f":"[1]ОргСтрой!G35","v":0},{"$f":"[1]ОргСтрой!H35","v":0},{"$f":"[1]ОргСтрой!I35","v":0},{"$f":"[1]ОргСтрой!J35","v":0},{"$f":"[1]ОргСтрой!K35","v":0},{"$f":"[1]ОргСтрой!L35","v":0},{"$f":"[1]ОргСтрой!M35","v":0},{"$f":"[1]ОргСтрой!N35","v":0},{"$f":"[1]ОргСтрой!O35","v":0},{"$f":"[1]ОргСтрой!P35","v":0},{"$f":"[1]ОргСтрой!Q35","v":0},{"$f":"[1]ОргСтрой!R35","v":0},{"$f":"[1]ОргСтрой!S35","v":0}]
[71,null,null,null,null,null,"Лекс-Патент",{"$f":"'[1]Лекс-патент'!B35","v":0},{"$f":"'[1]Лекс-патент'!C35","v":0},{"$f":"'[1]Лекс-патент'!D35","v":0},{"$f":"'[1]Лекс-патент'!E35","v":0},{"$f":"'[1]Лекс-патент'!F35","v":0},{"$f":"'[1]Лекс-патент'!G35","v":0},{"$f":"'[1]Лекс-патент'!H35","v":0},{"$f":"'[1]Лекс-патент'!I35","v":0},{"$f":"'[1]Лекс-патент'!J35","v":0},{"$f":"'[1]Лекс-патент'!K35","v":0},{"$f":"'[1]Лекс-патент'!L35","v":0},{"$f":"'[1]Лекс-патент'!M35","v":0},{"$f":"'[1]Лекс-патент'!N35","v":0},{"$f":"'[1]Лекс-патент'!O35","v":0},{"$f":"'[1]Лекс-патент'!P35","v":0},{"$f":"'[1]Лекс-патент'!Q35","v":0},{"$f":"'[1]Лекс-патент'!R35","v":0},{"$f":"'[1]Лекс-патент'!S35","v":0}]
[72,null,null,null,null,null,"БелЕвросеть",{"$f":"[1]БелЕвросеть!B35","v":0},{"$f":"[1]БелЕвросеть!C35","v":0},{"$f":"[1]БелЕвросеть!D35","v":0},{"$f":"[1]БелЕвросеть!E35","v":0},{"$f":"[1]БелЕвросеть!F35","v":0},{"$f":"[1]БелЕвросеть!G35","v":0},{"$f":"[1]БелЕвросеть!H35","v":0},{"$f":"[1]БелЕвросеть!I35","v":0},{"$f":"[1]БелЕвросеть!J35","v":0},{"$f":"[1]БелЕвросеть!K35","v":0},{"$f":"[1]БелЕвросеть!L35","v":0},{"$f":"[1]БелЕвросеть!M35","v":0},{"$f":"[1]БелЕвросеть!N35","v":0},{"$f":"[1]БелЕвросеть!O35","v":0},{"$f":"[1]БелЕвросеть!P35","v":0},{"$f":"[1]БелЕвросеть!Q35","v":0},{"$f":"[1]БелЕвросеть!R35","v":0},{"$f":"[1]БелЕвросеть!S35","v":0}]
[73,null,null,null,null,null,"Белнифоком",{"$f":"[1]Белнифоком!B35","v":0},{"$f":"[1]Белнифоком!C35","v":0},{"$f":"[1]Белнифоком!D35","v":0},{"$f":"[1]Белнифоком!E35","v":0},{"$f":"[1]Белнифоком!F35","v":0},{"$f":"[1]Белнифоком!G35","v":0},{"$f":"[1]Белнифоком!H35","v":0},{"$f":"[1]Белнифоком!I35","v":0},{"$f":"[1]Белнифоком!J35","v":0},{"$f":"[1]Белнифоком!K35","v":0},{"$f":"[1]Белнифоком!L35","v":0},{"$f":"[1]Белнифоком!M35","v":0},{"$f":"[1]Белнифоком!N35","v":0},{"$f":"[1]Белнифоком!O35","v":0},{"$f":"[1]Белнифоком!P35","v":0},{"$f":"[1]Белнифоком!Q35","v":0},{"$f":"[1]Белнифоком!R35","v":0},{"$f":"[1]Белнифоком!S35","v":0}]
[74,null,null,null,null,null,"IT-Эксперт",{"$f":"'[1]IT-Эксперт'!B35","v":0},{"$f":"'[1]IT-Эксперт'!C35","v":0},{"$f":"'[1]IT-Эксперт'!D35","v":0},{"$f":"'[1]IT-Эксперт'!E35","v":0},{"$f":"'[1]IT-Эксперт'!F35","v":0},{"$f":"'[1]IT-Эксперт'!G35","v":0},{"$f":"'[1]IT-Эксперт'!H35","v":0},{"$f":"'[1]IT-Эксперт'!I35","v":0},{"$f":"'[1]IT-Эксперт'!J35","v":0},{"$f":"'[1]IT-Эксперт'!K35","v":0},{"$f":"'[1]IT-Эксперт'!L35","v":0},{"$f":"'[1]IT-Эксперт'!M35","v":0},{"$f":"'[1]IT-Эксперт'!N35","v":0},{"$f":"'[1]IT-Эксперт'!O35","v":0},{"$f":"'[1]IT-Эксперт'!P35","v":0},{"$f":"'[1]IT-Эксперт'!Q35","v":0},{"$f":"'[1]IT-Эксперт'!R35","v":0},{"$f":"'[1]IT-Эксперт'!S35","v":0}]
[75,null,null,null,null,null,"Облачный хостинг",{"$f":"'[1]Облачный хостинг'!B35","v":0},{"$f":"'[1]Облачный хостинг'!C35","v":0},{"$f":"'[1]Облачный хостинг'!D35","v":0},{"$f":"'[1]Облачный хостинг'!E35","v":0},{"$f":"'[1]Облачный хостинг'!F35","v":0},{"$f":"'[1]Облачный хостинг'!G35","v":0},{"$f":"'[1]Облачный хостинг'!H35","v":0},{"$f":"'[1]Облачный хостинг'!I35","v":0},{"$f":"'[1]Облачный хостинг'!J35","v":0},{"$f":"'[1]Облачный хостинг'!K35","v":0},{"$f":"'[1]Облачный хостинг'!L35","v":0},{"$f":"'[1]Облачный хостинг'!M35","v":0},{"$f":"'[1]Облачный хостинг'!N35","v":0},{"$f":"'[1]Облачный хостинг'!O35","v":0},{"$f":"'[1]Облачный хостинг'!P35","v":0},{"$f":"'[1]Облачный хостинг'!Q35","v":0},{"$f":"'[1]Облачный хостинг'!R35","v":0},{"$f":"'[1]Облачный хостинг'!S35","v":0}]
[76,null,null,null,null,null,"Банковское дело ООО",{"$f":"'[1]Банковское дело'!B35","v":0},{"$f":"'[1]Банковское дело'!C35","v":0},{"$f":"'[1]Банковское дело'!D35","v":0},{"$f":"'[1]Банковское дело'!E35","v":0},{"$f":"'[1]Банковское дело'!F35","v":0},{"$f":"'[1]Банковское дело'!G35","v":0},{"$f":"'[1]Банковское дело'!H35","v":0},{"$f":"'[1]Банковское дело'!I35","v":0},{"$f":"'[1]Банковское дело'!J35","v":0},{"$f":"'[1]Банковское дело'!K35","v":0},{"$f":"'[1]Банковское дело'!L35","v":0},{"$f":"'[1]Банковское дело'!M35","v":0},{"$f":"'[1]Банковское дело'!N35","v":0},{"$f":"'[1]Банковское дело'!O35","v":0},{"$f":"'[1]Банковское дело'!P35","v":0},{"$f":"'[1]Банковское дело'!Q35","v":0},{"$f":"'[1]Банковское дело'!R35","v":0},{"$f":"'[1]Банковское дело'!S35","v":0}]
[77,null,null,null,null,null,"Люфтганза",{"$f":"[1]Люфтганза!B35","v":0},{"$f":"[1]Люфтганза!C35","v":0},{"$f":"[1]Люфтганза!D35","v":0},{"$f":"[1]Люфтганза!E35","v":0},{"$f":"[1]Люфтганза!F35","v":0},{"$f":"[1]Люфтганза!G35","v":0},{"$f":"[1]Люфтганза!H35","v":0},{"$f":"[1]Люфтганза!I35","v":0},{"$f":"[1]Люфтганза!J35","v":0},{"$f":"[1]Люфтганза!K35","v":0},{"$f":"[1]Люфтганза!L35","v":0},{"$f":"[1]Люфтганза!M35","v":0},{"$f":"[1]Люфтганза!N35","v":0},{"$f":"[1]Люфтганза!O35","v":0},{"$f":"[1]Люфтганза!P35","v":0},{"$f":"[1]Люфтганза!Q35","v":0},{"$f":"[1]Люфтганза!R35","v":0},{"$f":"[1]Люфтганза!S35","v":0}]
[78,null,null,null,null,null,"Управление по гражд. и миграции Мингорисполкома",{"$f":"'[1]Упр.гражд.и миграции'!B35","v":0},{"$f":"'[1]Упр.гражд.и миграции'!C35","v":0},{"$f":"'[1]Упр.гражд.и миграции'!D35","v":0},{"$f":"'[1]Упр.гражд.и миграции'!E35","v":0},{"$f":"'[1]Упр.гражд.и миграции'!F35","v":0},{"$f":"'[1]Упр.гражд.и миграции'!G35","v":0},{"$f":"'[1]Упр.гражд.и миграции'!H35","v":0},{"$f":"'[1]Упр.гражд.и миграции'!I35","v":0},{"$f":"'[1]Упр.гражд.и миграции'!J35","v":0},{"$f":"'[1]Упр.гражд.и миграции'!K35","v":0},{"$f":"'[1]Упр.гражд.и миграции'!L35","v":0},{"$f":"'[1]Упр.гражд.и миграции'!M35","v":0},{"$f":"'[1]Упр.гражд.и миграции'!N35","v":0},{"$f":"'[1]Упр.гражд.и миграции'!O35","v":0},{"$f":"'[1]Упр.гражд.и миграции'!P35","v":0},{"$f":"'[1]Упр.гражд.и миграции'!Q35","v":0},{"$f":"'[1]Упр.гражд.и миграции'!R35","v":0},{"$f":"'[1]Упр.гражд.и миграции'!S35","v":0}]
[79,null,null,null,null,null,"Грандмоторс ИП",{"$f":"[1]Грандмоторс!B35","v":0},{"$f":"[1]Грандмоторс!C35","v":0},{"$f":"[1]Грандмоторс!D35","v":0},{"$f":"[1]Грандмоторс!E35","v":0},{"$f":"[1]Грандмоторс!F35","v":0},{"$f":"[1]Грандмоторс!G35","v":0},{"$f":"[1]Грандмоторс!H35","v":0},{"$f":"[1]Грандмоторс!I35","v":0},{"$f":"[1]Грандмоторс!J35","v":0},{"$f":"[1]Грандмоторс!K35","v":0},{"$f":"[1]Грандмоторс!L35","v":0},{"$f":"[1]Грандмоторс!M35","v":0},{"$f":"[1]Грандмоторс!N35","v":0},{"$f":"[1]Грандмоторс!O35","v":0},{"$f":"[1]Грандмоторс!P35","v":0},{"$f":"[1]Грандмоторс!Q35","v":0},{"$f":"[1]Грандмоторс!R35","v":0},{"$f":"[1]Грандмоторс!S35","v":0}]
[80,null,null,null,null,null,"Бизнес-системы ЧП",{"$f":"'[1]Бизнес-системы'!B35","v":0},{"$f":"'[1]Бизнес-системы'!C35","v":0},{"$f":"'[1]Бизнес-системы'!D35","v":0},{"$f":"'[1]Бизнес-системы'!E35","v":0},{"$f":"'[1]Бизнес-системы'!F35","v":0},{"$f":"'[1]Бизнес-системы'!G35","v":0},{"$f":"'[1]Бизнес-системы'!H35","v":0},{"$f":"'[1]Бизнес-системы'!I35","v":0},{"$f":"'[1]Бизнес-системы'!J35","v":0},{"$f":"'[1]Бизнес-системы'!K35","v":0},{"$f":"'[1]Бизнес-системы'!L35","v":0},{"$f":"'[1]Бизнес-системы'!M35","v":0},{"$f":"'[1]Бизнес-системы'!N35","v":0},{"$f":"'[1]Бизнес-системы'!O35","v":0},{"$f":"'[1]Бизнес-системы'!P35","v":0},{"$f":"'[1]Бизнес-системы'!Q35","v":0},{"$f":"'[1]Бизнес-системы'!R35","v":0},{"$f":"'[1]Бизнес-системы'!S35","v":0}]
[81,null,null,null,null,null,"Профит-ВК",{"$f":"'[1]Профит-ВК'!B35","v":0},{"$f":"'[1]Профит-ВК'!C35","v":0},{"$f":"'[1]Профит-ВК'!D35","v":0},{"$f":"'[1]Профит-ВК'!E35","v":0},{"$f":"'[1]Профит-ВК'!F35","v":0},{"$f":"'[1]Профит-ВК'!G35","v":0},{"$f":"'[1]Профит-ВК'!H35","v":0},{"$f":"'[1]Профит-ВК'!I35","v":0},{"$f":"'[1]Профит-ВК'!J35","v":0},{"$f":"'[1]Профит-ВК'!K35","v":0},{"$f":"'[1]Профит-ВК'!L35","v":0},{"$f":"'[1]Профит-ВК'!M35","v":0},{"$f":"'[1]Профит-ВК'!N35","v":0},{"$f":"'[1]Профит-ВК'!O35","v":0},{"$f":"'[1]Профит-ВК'!P35","v":0},{"$f":"'[1]Профит-ВК'!Q35","v":0},{"$f":"'[1]Профит-ВК'!R35","v":0},{"$f":"'[1]Профит-ВК'!S35","v":0}]
[82,null,null,null,null,null,"Академия МВД",{"$f":"'[1]Академия МВД'!B35","v":0},{"$f":"'[1]Академия МВД'!C35","v":0},{"$f":"'[1]Академия МВД'!D35","v":0},{"$f":"'[1]Академия МВД'!E35","v":0},{"$f":"'[1]Академия МВД'!F35","v":0},{"$f":"'[1]Академия МВД'!G35","v":0},{"$f":"'[1]Академия МВД'!H35","v":0},{"$f":"'[1]Академия МВД'!I35","v":0},{"$f":"'[1]Академия МВД'!J35","v":0},{"$f":"'[1]Академия МВД'!K35","v":0},{"$f":"'[1]Академия МВД'!L35","v":0},{"$f":"'[1]Академия МВД'!M35","v":0},{"$f":"'[1]Академия МВД'!N35","v":0},{"$f":"'[1]Академия МВД'!O35","v":0},{"$f":"'[1]Академия МВД'!P35","v":0},{"$f":"'[1]Академия МВД'!Q35","v":0},{"$f":"'[1]Академия МВД'!R35","v":0},{"$f":"'[1]Академия МВД'!S35","v":0}]
[83,null,null,null,null,null,"Белтопгаз-Комплект",{"$f":"'[1]Белтопгаз-Комплект'!B35","v":0},{"$f":"'[1]Белтопгаз-Комплект'!C35","v":0},{"$f":"'[1]Белтопгаз-Комплект'!D35","v":0},{"$f":"'[1]Белтопгаз-Комплект'!E35","v":0},{"$f":"'[1]Белтопгаз-Комплект'!F35","v":0},{"$f":"'[1]Белтопгаз-Комплект'!G35","v":0},{"$f":"'[1]Белтопгаз-Комплект'!H35","v":0},{"$f":"'[1]Белтопгаз-Комплект'!I35","v":0},{"$f":"'[1]Белтопгаз-Комплект'!J35","v":0},{"$f":"'[1]Белтопгаз-Комплект'!K35","v":0},{"$f":"'[1]Белтопгаз-Комплект'!L35","v":0},{"$f":"'[1]Белтопгаз-Комплект'!M35","v":0},{"$f":"'[1]Белтопгаз-Комплект'!N35","v":0},{"$f":"'[1]Белтопгаз-Комплект'!O35","v":0},{"$f":"'[1]Белтопгаз-Комплект'!P35","v":0},{"$f":"'[1]Белтопгаз-Комплект'!Q35","v":0},{"$f":"'[1]Белтопгаз-Комплект'!R35","v":0},{"$f":"'[1]Белтопгаз-Комплект'!S35","v":0}]
[84,null,null,null,null,null,"Дансис",{"$f":"[1]Дансис!B35","v":0},{"$f":"[1]Дансис!C35","v":0},{"$f":"[1]Дансис!D35","v":0},{"$f":"[1]Дансис!E35","v":0},{"$f":"[1]Дансис!F35","v":0},{"$f":"[1]Дансис!G35","v":0},{"$f":"[1]Дансис!H35","v":0},{"$f":"[1]Дансис!I35","v":0},{"$f":"[1]Дансис!J35","v":0},{"$f":"[1]Дансис!K35","v":0},{"$f":"[1]Дансис!L35","v":0},{"$f":"[1]Дансис!M35","v":0},{"$f":"[1]Дансис!N35","v":0},{"$f":"[1]Дансис!O35","v":0},{"$f":"[1]Дансис!P35","v":0},{"$f":"[1]Дансис!Q35","v":0},{"$f":"[1]Дансис!R35","v":0},{"$f":"[1]Дансис!S35","v":0}]
[85,"Франкир",null,null,null,null,"Издательский дом \"Звязда\" РИУ",{"$f":"'[1]ИД Звязда'!B35","v":0},{"$f":"'[1]ИД Звязда'!C35","v":0},{"$f":"'[1]ИД Звязда'!D35","v":0},{"$f":"'[1]ИД Звязда'!E35","v":0},{"$f":"'[1]ИД Звязда'!F35","v":0},{"$f":"'[1]ИД Звязда'!G35","v":0},{"$f":"'[1]ИД Звязда'!H35","v":0},{"$f":"'[1]ИД Звязда'!I35","v":0},{"$f":"'[1]ИД Звязда'!J35","v":0},{"$f":"'[1]ИД Звязда'!K35","v":0},{"$f":"'[1]ИД Звязда'!L35","v":0},{"$f":"'[1]ИД Звязда'!M35","v":0},{"$f":"'[1]ИД Звязда'!N35","v":0},{"$f":"'[1]ИД Звязда'!O35","v":0},{"$f":"'[1]ИД Звязда'!P35","v":0},{"$f":"'[1]ИД Звязда'!Q35","v":0},{"$f":"'[1]ИД Звязда'!R35","v":0},{"$f":"'[1]ИД Звязда'!S35","v":0}]
[86,null,null,null,null,null,"Институт порошковой металлургии ГНУ",{"$f":"'[1]Институт порошк.металлург.'!B35","v":0},{"$f":"'[1]Институт порошк.металлург.'!C35","v":0},{"$f":"'[1]Институт порошк.металлург.'!D35","v":0},{"$f":"'[1]Институт порошк.металлург.'!E35","v":0},{"$f":"'[1]Институт порошк.металлург.'!F35","v":0},{"$f":"'[1]Институт порошк.металлург.'!G35","v":0},{"$f":"'[1]Институт порошк.металлург.'!H35","v":0},{"$f":"'[1]Институт порошк.металлург.'!I35","v":0},{"$f":"'[1]Институт порошк.металлург.'!J35","v":0},{"$f":"'[1]Институт порошк.металлург.'!K35","v":0},{"$f":"'[1]Институт порошк.металлург.'!L35","v":0},{"$f":"'[1]Институт порошк.металлург.'!M35","v":0},{"$f":"'[1]Институт порошк.металлург.'!N35","v":0},{"$f":"'[1]Институт порошк.металлург.'!O35","v":0},{"$f":"'[1]Институт порошк.металлург.'!P35","v":0},{"$f":"'[1]Институт порошк.металлург.'!Q35","v":0},{"$f":"'[1]Институт порошк.металлург.'!R35","v":0},{"$f":"'[1]Институт порошк.металлург.'!S35","v":0}]
[87,null,null,null,null,null,"Минская городская телефонная сеть",{"$f":"[1]МГТС!B35","v":0},{"$f":"[1]МГТС!C35","v":0},{"$f":"[1]МГТС!D35","v":0},{"$f":"[1]МГТС!E35","v":0},{"$f":"[1]МГТС!F35","v":0},{"$f":"[1]МГТС!G35","v":0},{"$f":"[1]МГТС!H35","v":0},{"$f":"[1]МГТС!I35","v":0},{"$f":"[1]МГТС!J35","v":0},{"$f":"[1]МГТС!K35","v":0},{"$f":"[1]МГТС!L35","v":0},{"$f":"[1]МГТС!M35","v":0},{"$f":"[1]МГТС!N35","v":0},{"$f":"[1]МГТС!O35","v":0},{"$f":"[1]МГТС!P35","v":0},{"$f":"[1]МГТС!Q35","v":0},{"$f":"[1]МГТС!R35","v":0},{"$f":"[1]МГТС!S35","v":0}]
[88,null,null,null,null,null,"Минскоблсельстрой УП",{"$f":"[1]МинскОблсельстрой!B35","v":0},{"$f":"[1]МинскОблсельстрой!C35","v":0},{"$f":"[1]МинскОблсельстрой!D35","v":0},{"$f":"[1]МинскОблсельстрой!E35","v":0},{"$f":"[1]МинскОблсельстрой!F35","v":0},{"$f":"[1]МинскОблсельстрой!G35","v":0},{"$f":"[1]МинскОблсельстрой!H35","v":0},{"$f":"[1]МинскОблсельстрой!I35","v":0},{"$f":"[1]МинскОблсельстрой!J35","v":0},{"$f":"[1]МинскОблсельстрой!K35","v":0},{"$f":"[1]МинскОблсельстрой!L35","v":0},{"$f":"[1]МинскОблсельстрой!M35","v":0},{"$f":"[1]МинскОблсельстрой!N35","v":0},{"$f":"[1]МинскОблсельстрой!O35","v":0},{"$f":"[1]МинскОблсельстрой!P35","v":0},{"$f":"[1]МинскОблсельстрой!Q35","v":0},{"$f":"[1]МинскОблсельстрой!R35","v":0},{"$f":"[1]МинскОблсельстрой!S35","v":0}]
[89,"Франкир",null,null,null,null,"СмартВэй",{"$f":"[1]СмартВэй!B35","v":0},{"$f":"[1]СмартВэй!C35","v":0},{"$f":"[1]СмартВэй!D35","v":0},{"$f":"[1]СмартВэй!E35","v":0},{"$f":"[1]СмартВэй!F35","v":0},{"$f":"[1]СмартВэй!G35","v":0},{"$f":"[1]СмартВэй!H35","v":0},{"$f":"[1]СмартВэй!I35","v":0},{"$f":"[1]СмартВэй!J35","v":0},{"$f":"[1]СмартВэй!K35","v":0},{"$f":"[1]СмартВэй!L35","v":0},{"$f":"[1]СмартВэй!M35","v":0},{"$f":"[1]СмартВэй!N35","v":0},{"$f":"[1]СмартВэй!O35","v":0},{"$f":"[1]СмартВэй!P35","v":0},{"$f":"[1]СмартВэй!Q35","v":0},{"$f":"[1]СмартВэй!R35","v":0},{"$f":"[1]СмартВэй!S35","v":0}]
[90,null,null,null,null,null,"Столичное телевидение телеканал",{"$f":"'[1]Столичное телевидение'!B35","v":0},{"$f":"'[1]Столичное телевидение'!C35","v":0},{"$f":"'[1]Столичное телевидение'!D35","v":0},{"$f":"'[1]Столичное телевидение'!E35","v":0},{"$f":"'[1]Столичное телевидение'!F35","v":0},{"$f":"'[1]Столичное телевидение'!G35","v":0},{"$f":"'[1]Столичное телевидение'!H35","v":0},{"$f":"'[1]Столичное телевидение'!I35","v":0},{"$f":"'[1]Столичное телевидение'!J35","v":0},{"$f":"'[1]Столичное телевидение'!K35","v":0},{"$f":"'[1]Столичное телевидение'!L35","v":0},{"$f":"'[1]Столичное телевидение'!M35","v":0},{"$f":"'[1]Столичное телевидение'!N35","v":0},{"$f":"'[1]Столичное телевидение'!O35","v":0},{"$f":"'[1]Столичное телевидение'!P35","v":0},{"$f":"'[1]Столичное телевидение'!Q35","v":0},{"$f":"'[1]Столичное телевидение'!R35","v":0},{"$f":"'[1]Столичное телевидение'!S35","v":0}]
[91,null,null,null,null,null,"Сырьевые ресурсы",{"$f":"'[1]Сырьевые ресурсы'!B35","v":0},{"$f":"'[1]Сырьевые ресурсы'!C35","v":0},{"$f":"'[1]Сырьевые ресурсы'!D35","v":0},{"$f":"'[1]Сырьевые ресурсы'!E35","v":0},{"$f":"'[1]Сырьевые ресурсы'!F35","v":0},{"$f":"'[1]Сырьевые ресурсы'!G35","v":0},{"$f":"'[1]Сырьевые ресурсы'!H35","v":0},{"$f":"'[1]Сырьевые ресурсы'!I35","v":0},{"$f":"'[1]Сырьевые ресурсы'!J35","v":0},{"$f":"'[1]Сырьевые ресурсы'!K35","v":0},{"$f":"'[1]Сырьевые ресурсы'!L35","v":0},{"$f":"'[1]Сырьевые ресурсы'!M35","v":0},{"$f":"'[1]Сырьевые ресурсы'!N35","v":0},{"$f":"'[1]Сырьевые ресурсы'!O35","v":0},{"$f":"'[1]Сырьевые ресурсы'!P35","v":0},{"$f":"'[1]Сырьевые ресурсы'!Q35","v":0},{"$f":"'[1]Сырьевые ресурсы'!R35","v":0},{"$f":"'[1]Сырьевые ресурсы'!S35","v":0}]
[92,"Договор",391,"2013-04-22",1361,null,"Фэмистиль ЧУП",{"$f":"[1]Фэмистиль!B35","v":0},{"$f":"[1]Фэмистиль!C35","v":0},{"$f":"[1]Фэмистиль!D35","v":0},{"$f":"[1]Фэмистиль!E35","v":0},{"$f":"[1]Фэмистиль!F35","v":0},{"$f":"[1]Фэмистиль!G35","v":0},{"$f":"[1]Фэмистиль!H35","v":0},{"$f":"[1]Фэмистиль!I35","v":0},{"$f":"[1]Фэмистиль!J35","v":0},{"$f":"[1]Фэмистиль!K35","v":0},{"$f":"[1]Фэмистиль!L35","v":0},{"$f":"[1]Фэмистиль!M35","v":0},{"$f":"[1]Фэмистиль!N35","v":0},{"$f":"[1]Фэмистиль!O35","v":0},{"$f":"[1]Фэмистиль!P35","v":0},{"$f":"[1]Фэмистиль!Q35","v":0},{"$f":"[1]Фэмистиль!R35","v":0},{"$f":"[1]Фэмистиль!S35","v":0}]
[93,"Договор",301,"2013-04-08",1364,null,"ГлобалФризБел",{"$f":"[1]ГлобалФризБел!B35","v":0},{"$f":"[1]ГлобалФризБел!C35","v":0},{"$f":"[1]ГлобалФризБел!D35","v":0},{"$f":"[1]ГлобалФризБел!E35","v":0},{"$f":"[1]ГлобалФризБел!F35","v":0},{"$f":"[1]ГлобалФризБел!G35","v":0},{"$f":"[1]ГлобалФризБел!H35","v":0},{"$f":"[1]ГлобалФризБел!I35","v":0},{"$f":"[1]ГлобалФризБел!J35","v":0},{"$f":"[1]ГлобалФризБел!K35","v":0},{"$f":"[1]ГлобалФризБел!L35","v":0},{"$f":"[1]ГлобалФризБел!M35","v":0},{"$f":"[1]ГлобалФризБел!N35","v":0},{"$f":"[1]ГлобалФризБел!O35","v":0},{"$f":"[1]ГлобалФризБел!P35","v":0},{"$f":"[1]ГлобалФризБел!Q35","v":0},{"$f":"[1]ГлобалФризБел!R35","v":0},{"$f":"[1]ГлобалФризБел!S35","v":0}]
[94,null,null,null,null,null,"ЖРЭО Советского р-на",{"$f":"'[1]ЖРЭО Советского р-на'!B35","v":0},{"$f":"'[1]ЖРЭО Советского р-на'!C35","v":0},{"$f":"'[1]ЖРЭО Советского р-на'!D35","v":0},{"$f":"'[1]ЖРЭО Советского р-на'!E35","v":0},{"$f":"'[1]ЖРЭО Советского р-на'!F35","v":0},{"$f":"'[1]ЖРЭО Советского р-на'!G35","v":0},{"$f":"'[1]ЖРЭО Советского р-на'!H35","v":0},{"$f":"'[1]ЖРЭО Советского р-на'!I35","v":0},{"$f":"'[1]ЖРЭО Советского р-на'!J35","v":0},{"$f":"'[1]ЖРЭО Советского р-на'!K35","v":0},{"$f":"'[1]ЖРЭО Советского р-на'!L35","v":0},{"$f":"'[1]ЖРЭО Советского р-на'!M35","v":0},{"$f":"'[1]ЖРЭО Советского р-на'!N35","v":0},{"$f":"'[1]ЖРЭО Советского р-на'!O35","v":0},{"$f":"'[1]ЖРЭО Советского р-на'!P35","v":0},{"$f":"'[1]ЖРЭО Советского р-на'!Q35","v":0},{"$f":"'[1]ЖРЭО Советского р-на'!R35","v":0},{"$f":"'[1]ЖРЭО Советского р-на'!S35","v":0}]
[95,null,null,null,null,null,"Минский Комаровский рынок УП",{"$f":"'[1]Комаровский рынок'!B35","v":0},{"$f":"'[1]Комаровский рынок'!C35","v":0},{"$f":"'[1]Комаровский рынок'!D35","v":0},{"$f":"'[1]Комаровский рынок'!E35","v":0},{"$f":"'[1]Комаровский рынок'!F35","v":0},{"$f":"'[1]Комаровский рынок'!G35","v":0},{"$f":"'[1]Комаровский рынок'!H35","v":0},{"$f":"'[1]Комаровский рынок'!I35","v":0},{"$f":"'[1]Комаровский рынок'!J35","v":0},{"$f":"'[1]Комаровский рынок'!K35","v":0},{"$f":"'[1]Комаровский рынок'!L35","v":0},{"$f":"'[1]Комаровский рынок'!M35","v":0},{"$f":"'[1]Комаровский рынок'!N35","v":0},{"$f":"'[1]Комаровский рынок'!O35","v":0},{"$f":"'[1]Комаровский рынок'!P35","v":0},{"$f":"'[1]Комаровский рынок'!Q35","v":0},{"$f":"'[1]Комаровский рынок'!R35","v":0},{"$f":"'[1]Комаровский рынок'!S35","v":0}]
[96,null,null,null,null,null,"Промагролизинг",{"$f":"[1]Промагролизинг!B35","v":0},{"$f":"[1]Промагролизинг!C35","v":0},{"$f":"[1]Промагролизинг!D35","v":0},{"$f":"[1]Промагролизинг!E35","v":0},{"$f":"[1]Промагролизинг!F35","v":0},{"$f":"[1]Промагролизинг!G35","v":0},{"$f":"[1]Промагролизинг!H35","v":0},{"$f":"[1]Промагролизинг!I35","v":0},{"$f":"[1]Промагролизинг!J35","v":0},{"$f":"[1]Промагролизинг!K35","v":0},{"$f":"[1]Промагролизинг!L35","v":0},{"$f":"[1]Промагролизинг!M35","v":0},{"$f":"[1]Промагролизинг!N35","v":0},{"$f":"[1]Промагролизинг!O35","v":0},{"$f":"[1]Промагролизинг!P35","v":0},{"$f":"[1]Промагролизинг!Q35","v":0},{"$f":"[1]Промагролизинг!R35","v":0},{"$f":"[1]Промагролизинг!S35","v":0}]
[97,null,null,null,null,null,"Дормаш",{"$f":"[1]Дормаш!B35","v":0},{"$f":"[1]Дормаш!C35","v":0},{"$f":"[1]Дормаш!D35","v":0},{"$f":"[1]Дормаш!E35","v":0},{"$f":"[1]Дормаш!F35","v":0},{"$f":"[1]Дормаш!G35","v":0},{"$f":"[1]Дормаш!H35","v":0},{"$f":"[1]Дормаш!I35","v":0},{"$f":"[1]Дормаш!J35","v":0},{"$f":"[1]Дормаш!K35","v":0},{"$f":"[1]Дормаш!L35","v":0},{"$f":"[1]Дормаш!M35","v":0},{"$f":"[1]Дормаш!N35","v":0},{"$f":"[1]Дормаш!O35","v":0},{"$f":"[1]Дормаш!P35","v":0},{"$f":"[1]Дормаш!Q35","v":0},{"$f":"[1]Дормаш!R35","v":0},{"$f":"[1]Дормаш!S35","v":0}]
[98,null,null,null,null,null,"Белэлектроспецкомплект",{"$f":"[1]Белэлектроспецкомплект!B35","v":0},{"$f":"[1]Белэлектроспецкомплект!C35","v":0},{"$f":"[1]Белэлектроспецкомплект!D35","v":0},{"$f":"[1]Белэлектроспецкомплект!E35","v":0},{"$f":"[1]Белэлектроспецкомплект!F35","v":0},{"$f":"[1]Белэлектроспецкомплект!G35","v":0},{"$f":"[1]Белэлектроспецкомплект!H35","v":0},{"$f":"[1]Белэлектроспецкомплект!I35","v":0},{"$f":"[1]Белэлектроспецкомплект!J35","v":0},{"$f":"[1]Белэлектроспецкомплект!K35","v":0},{"$f":"[1]Белэлектроспецкомплект!L35","v":0},{"$f":"[1]Белэлектроспецкомплект!M35","v":0},{"$f":"[1]Белэлектроспецкомплект!N35","v":0},{"$f":"[1]Белэлектроспецкомплект!O35","v":0},{"$f":"[1]Белэлектроспецкомплект!P35","v":0},{"$f":"[1]Белэлектроспецкомплект!Q35","v":0},{"$f":"[1]Белэлектроспецкомплект!R35","v":0},{"$f":"[1]Белэлектроспецкомплект!S35","v":0}]
[99,null,null,null,null,null,"Белпатентсервис",{"$f":"[1]Белпатентсервис!B35","v":0},{"$f":"[1]Белпатентсервис!C35","v":0},{"$f":"[1]Белпатентсервис!D35","v":0},{"$f":"[1]Белпатентсервис!E35","v":0},{"$f":"[1]Белпатентсервис!F35","v":0},{"$f":"[1]Белпатентсервис!G35","v":0},{"$f":"[1]Белпатентсервис!H35","v":0},{"$f":"[1]Белпатентсервис!I35","v":0},{"$f":"[1]Белпатентсервис!J35","v":0},{"$f":"[1]Белпатентсервис!K35","v":0},{"$f":"[1]Белпатентсервис!L35","v":0},{"$f":"[1]Белпатентсервис!M35","v":0},{"$f":"[1]Белпатентсервис!N35","v":0},{"$f":"[1]Белпатентсервис!O35","v":0},{"$f":"[1]Белпатентсервис!P35","v":0},{"$f":"[1]Белпатентсервис!Q35","v":0},{"$f":"[1]Белпатентсервис!R35","v":0},{"$f":"[1]Белпатентсервис!S35","v":0}]
[100,null,null,null,null,null,"Инспекция по семеноводству",{"$f":"'[1]Инспекция по семеноводству'!B35","v":0},{"$f":"'[1]Инспекция по семеноводству'!C35","v":0},{"$f":"'[1]Инспекция по семеноводству'!D35","v":0},{"$f":"'[1]Инспекция по семеноводству'!E35","v":0},{"$f":"'[1]Инспекция по семеноводству'!F35","v":0},{"$f":"'[1]Инспекция по семеноводству'!G35","v":0},{"$f":"'[1]Инспекция по семеноводству'!H35","v":0},{"$f":"'[1]Инспекция по семеноводству'!I35","v":0},{"$f":"'[1]Инспекция по семеноводству'!J35","v":0},{"$f":"'[1]Инспекция по семеноводству'!K35","v":0},{"$f":"'[1]Инспекция по семеноводству'!L35","v":0},{"$f":"'[1]Инспекция по семеноводству'!M35","v":0},{"$f":"'[1]Инспекция по семеноводству'!N35","v":0},{"$f":"'[1]Инспекция по семеноводству'!O35","v":0},{"$f":"'[1]Инспекция по семеноводству'!P35","v":0},{"$f":"'[1]Инспекция по семеноводству'!Q35","v":0},{"$f":"'[1]Инспекция по семеноводству'!R35","v":0},{"$f":"'[1]Инспекция по семеноводству'!S35","v":0}]
[101,null,null,null,null,null,"Административная комиссия",{"$f":"'[1]Административная комиссия'!B35","v":0},{"$f":"'[1]Административная комиссия'!C35","v":0},{"$f":"'[1]Административная комиссия'!D35","v":0},{"$f":"'[1]Административная комиссия'!E35","v":0},{"$f":"'[1]Административная комиссия'!F35","v":0},{"$f":"'[1]Административная комиссия'!G35","v":0},{"$f":"'[1]Административная комиссия'!H35","v":0},{"$f":"'[1]Административная комиссия'!I35","v":0},{"$f":"'[1]Административная комиссия'!J35","v":0},{"$f":"'[1]Административная комиссия'!K35","v":0},{"$f":"'[1]Административная комиссия'!L35","v":0},{"$f":"'[1]Административная комиссия'!M35","v":0},{"$f":"'[1]Административная комиссия'!N35","v":0},{"$f":"'[1]Административная комиссия'!O35","v":0},{"$f":"'[1]Административная комиссия'!P35","v":0},{"$f":"'[1]Административная комиссия'!Q35","v":0},{"$f":"'[1]Административная комиссия'!R35","v":0},{"$f":"'[1]Административная комиссия'!S35","v":0}]
[102,null,null,null,null,null,"СПН-медиа",{"$f":"'[1]СПН-медиа'!B35","v":0},{"$f":"'[1]СПН-медиа'!C35","v":0},{"$f":"'[1]СПН-медиа'!D35","v":0},{"$f":"'[1]СПН-медиа'!E35","v":0},{"$f":"'[1]СПН-медиа'!F35","v":0},{"$f":"'[1]СПН-медиа'!G35","v":0},{"$f":"'[1]СПН-медиа'!H35","v":0},{"$f":"'[1]СПН-медиа'!I35","v":0},{"$f":"'[1]СПН-медиа'!J35","v":0},{"$f":"'[1]СПН-медиа'!K35","v":0},{"$f":"'[1]СПН-медиа'!L35","v":0},{"$f":"'[1]СПН-медиа'!M35","v":0},{"$f":"'[1]СПН-медиа'!N35","v":0},{"$f":"'[1]СПН-медиа'!O35","v":0},{"$f":"'[1]СПН-медиа'!P35","v":0},{"$f":"'[1]СПН-медиа'!Q35","v":0},{"$f":"'[1]СПН-медиа'!R35","v":0},{"$f":"'[1]СПН-медиа'!S35","v":0}]
[103,null,null,null,null,null,"Эксист-Бел",{"$f":"'[1]Эксист-Бел'!B35","v":0},{"$f":"'[1]Эксист-Бел'!C35","v":0},{"$f":"'[1]Эксист-Бел'!D35","v":0},{"$f":"'[1]Эксист-Бел'!E35","v":0},{"$f":"'[1]Эксист-Бел'!F35","v":0},{"$f":"'[1]Эксист-Бел'!G35","v":0},{"$f":"'[1]Эксист-Бел'!H35","v":0},{"$f":"'[1]Эксист-Бел'!I35","v":0},{"$f":"'[1]Эксист-Бел'!J35","v":0},{"$f":"'[1]Эксист-Бел'!K35","v":0},{"$f":"'[1]Эксист-Бел'!L35","v":0},{"$f":"'[1]Эксист-Бел'!M35","v":0},{"$f":"'[1]Эксист-Бел'!N35","v":0},{"$f":"'[1]Эксист-Бел'!O35","v":0},{"$f":"'[1]Эксист-Бел'!P35","v":0},{"$f":"'[1]Эксист-Бел'!Q35","v":0},{"$f":"'[1]Эксист-Бел'!R35","v":0},{"$f":"'[1]Эксист-Бел'!S35","v":0}]
[427,"Договор",185,"2014-02-10",2122,null,"СУ-2 Полесьежилстрой",{"$f":"'[1]СУ-2 Полесье'!B35","v":0},{"$f":"'[1]СУ-2 Полесье'!C35","v":0},{"$f":"'[1]СУ-2 Полесье'!D35","v":0},{"$f":"'[1]СУ-2 Полесье'!E35","v":0},{"$f":"'[1]СУ-2 Полесье'!F35","v":0},{"$f":"'[1]СУ-2 Полесье'!G35","v":0},{"$f":"'[1]СУ-2 Полесье'!H35","v":0},{"$f":"'[1]СУ-2 Полесье'!I35","v":0},{"$f":"'[1]СУ-2 Полесье'!J35","v":0},{"$f":"'[1]СУ-2 Полесье'!K35","v":0},{"$f":"'[1]СУ-2 Полесье'!L35","v":0},{"$f":"'[1]СУ-2 Полесье'!M35","v":0},{"$f":"'[1]СУ-2 Полесье'!N35","v":0},{"$f":"'[1]СУ-2 Полесье'!O35","v":0},{"$f":"'[1]СУ-2 Полесье'!P35","v":0},{"$f":"'[1]СУ-2 Полесье'!Q35","v":0},{"$f":"'[1]СУ-2 Полесье'!R35","v":0},{"$f":"'[1]СУ-2 Полесье'!S35","v":0}]
[428,"Договор",187,"2014-02-05",2124,null,"Крона Белорашиа",{"$f":"[1]КронаБелорашиа!B35","v":0},{"$f":"[1]КронаБелорашиа!C35","v":0},{"$f":"[1]КронаБелорашиа!D35","v":0},{"$f":"[1]КронаБелорашиа!E35","v":0},{"$f":"[1]КронаБелорашиа!F35","v":0},{"$f":"[1]КронаБелорашиа!G35","v":0},{"$f":"[1]КронаБелорашиа!H35","v":0},{"$f":"[1]КронаБелорашиа!I35","v":0},{"$f":"[1]КронаБелорашиа!J35","v":0},{"$f":"[1]КронаБелорашиа!K35","v":0},{"$f":"[1]КронаБелорашиа!L35","v":0},{"$f":"[1]КронаБелорашиа!M35","v":0},{"$f":"[1]КронаБелорашиа!N35","v":0},{"$f":"[1]КронаБелорашиа!O35","v":0},{"$f":"[1]КронаБелорашиа!P35","v":0},{"$f":"[1]КронаБелорашиа!Q35","v":0},{"$f":"[1]КронаБелорашиа!R35","v":0},{"$f":"[1]КронаБелорашиа!S35","v":0}]
[429,"Франкир",null,null,null,null,"Саммит Технолоджис",{"$f":"'[1]Саммит Т'!B35","v":0},{"$f":"'[1]Саммит Т'!C35","v":0},{"$f":"'[1]Саммит Т'!D35","v":0},{"$f":"'[1]Саммит Т'!E35","v":0},{"$f":"'[1]Саммит Т'!F35","v":0},{"$f":"'[1]Саммит Т'!G35","v":0},{"$f":"'[1]Саммит Т'!H35","v":0},{"$f":"'[1]Саммит Т'!I35","v":0},{"$f":"'[1]Саммит Т'!J35","v":0},{"$f":"'[1]Саммит Т'!K35","v":0},{"$f":"'[1]Саммит Т'!L35","v":0},{"$f":"'[1]Саммит Т'!M35","v":0},{"$f":"'[1]Саммит Т'!N35","v":0},{"$f":"'[1]Саммит Т'!O35","v":0},{"$f":"'[1]Саммит Т'!P35","v":0},{"$f":"'[1]Саммит Т'!Q35","v":0},{"$f":"'[1]Саммит Т'!R35","v":0},{"$f":"'[1]Саммит Т'!S35","v":0}]
[430,null,null,null,null,null,"Матвеенко ИП",{"$f":"'[1]Матвеенко ИП'!B35","v":0},{"$f":"'[1]Матвеенко ИП'!C35","v":0},{"$f":"'[1]Матвеенко ИП'!D35","v":0},{"$f":"'[1]Матвеенко ИП'!E35","v":0},{"$f":"'[1]Матвеенко ИП'!F35","v":0},{"$f":"'[1]Матвеенко ИП'!G35","v":0},{"$f":"'[1]Матвеенко ИП'!H35","v":0},{"$f":"'[1]Матвеенко ИП'!I35","v":0},{"$f":"'[1]Матвеенко ИП'!J35","v":0},{"$f":"'[1]Матвеенко ИП'!K35","v":0},{"$f":"'[1]Матвеенко ИП'!L35","v":0},{"$f":"'[1]Матвеенко ИП'!M35","v":0},{"$f":"'[1]Матвеенко ИП'!N35","v":0},{"$f":"'[1]Матвеенко ИП'!O35","v":0},{"$f":"'[1]Матвеенко ИП'!P35","v":0},{"$f":"'[1]Матвеенко ИП'!Q35","v":0},{"$f":"'[1]Матвеенко ИП'!R35","v":0},{"$f":"'[1]Матвеенко ИП'!S35","v":0}]
[431,null,null,null,null,null,"Всегда Вместе ГК",{"$f":"'[1]Всегда Вместе'!B35","v":0},{"$f":"'[1]Всегда Вместе'!C35","v":0},{"$f":"'[1]Всегда Вместе'!D35","v":0},{"$f":"'[1]Всегда Вместе'!E35","v":0},{"$f":"'[1]Всегда Вместе'!F35","v":0},{"$f":"'[1]Всегда Вместе'!G35","v":0},{"$f":"'[1]Всегда Вместе'!H35","v":0},{"$f":"'[1]Всегда Вместе'!I35","v":0},{"$f":"'[1]Всегда Вместе'!J35","v":0},{"$f":"'[1]Всегда Вместе'!K35","v":0},{"$f":"'[1]Всегда Вместе'!L35","v":0},{"$f":"'[1]Всегда Вместе'!M35","v":0},{"$f":"'[1]Всегда Вместе'!N35","v":0},{"$f":"'[1]Всегда Вместе'!O35","v":0},{"$f":"'[1]Всегда Вместе'!P35","v":0},{"$f":"'[1]Всегда Вместе'!Q35","v":0},{"$f":"'[1]Всегда Вместе'!R35","v":0},{"$f":"'[1]Всегда Вместе'!S35","v":0}]
[432,"Договор",262,"2014-02-03",2150,null,"Витсвитстрой",{"$f":"[1]ВитВитстрой!B35","v":0},{"$f":"[1]ВитВитстрой!C35","v":0},{"$f":"[1]ВитВитстрой!D35","v":0},{"$f":"[1]ВитВитстрой!E35","v":0},{"$f":"[1]ВитВитстрой!F35","v":0},{"$f":"[1]ВитВитстрой!G35","v":0},{"$f":"[1]ВитВитстрой!H35","v":0},{"$f":"[1]ВитВитстрой!I35","v":0},{"$f":"[1]ВитВитстрой!J35","v":0},{"$f":"[1]ВитВитстрой!K35","v":0},{"$f":"[1]ВитВитстрой!L35","v":0},{"$f":"[1]ВитВитстрой!M35","v":0},{"$f":"[1]ВитВитстрой!N35","v":0},{"$f":"[1]ВитВитстрой!O35","v":0},{"$f":"[1]ВитВитстрой!P35","v":0},{"$f":"[1]ВитВитстрой!Q35","v":0},{"$f":"[1]ВитВитстрой!R35","v":0},{"$f":"[1]ВитВитстрой!S35","v":0}]
[433,"Договор","1-/2","2014-02-27",2157,null,"Центр института Приватизации",{"$f":"'[1]Центр инстПриватизации'!B35","v":0},{"$f":"'[1]Центр инстПриватизации'!C35","v":0},{"$f":"'[1]Центр инстПриватизации'!D35","v":0},{"$f":"'[1]Центр инстПриватизации'!E35","v":0},{"$f":"'[1]Центр инстПриватизации'!F35","v":0},{"$f":"'[1]Центр инстПриватизации'!G35","v":0},{"$f":"'[1]Центр инстПриватизации'!H35","v":0},{"$f":"'[1]Центр инстПриватизации'!I35","v":0},{"$f":"'[1]Центр инстПриватизации'!J35","v":0},{"$f":"'[1]Центр инстПриватизации'!K35","v":0},{"$f":"'[1]Центр инстПриватизации'!L35","v":0},{"$f":"'[1]Центр инстПриватизации'!M35","v":0},{"$f":"'[1]Центр инстПриватизации'!N35","v":0},{"$f":"'[1]Центр инстПриватизации'!O35","v":0},{"$f":"'[1]Центр инстПриватизации'!P35","v":0},{"$f":"'[1]Центр инстПриватизации'!Q35","v":0},{"$f":"'[1]Центр инстПриватизации'!R35","v":0},{"$f":"'[1]Центр инстПриватизации'!S35","v":0}]
[434,"Договор",223,"2014-02-18",2136,null,"Мицкевич ИП",{"$f":"[1]Мицкевич!B35","v":0},{"$f":"[1]Мицкевич!C35","v":0},{"$f":"[1]Мицкевич!D35","v":0},{"$f":"[1]Мицкевич!E35","v":0},{"$f":"[1]Мицкевич!F35","v":0},{"$f":"[1]Мицкевич!G35","v":0},{"$f":"[1]Мицкевич!H35","v":0},{"$f":"[1]Мицкевич!I35","v":0},{"$f":"[1]Мицкевич!J35","v":0},{"$f":"[1]Мицкевич!K35","v":0},{"$f":"[1]Мицкевич!L35","v":0},{"$f":"[1]Мицкевич!M35","v":0},{"$f":"[1]Мицкевич!N35","v":0},{"$f":"[1]Мицкевич!O35","v":0},{"$f":"[1]Мицкевич!P35","v":0},{"$f":"[1]Мицкевич!Q35","v":0},{"$f":"[1]Мицкевич!R35","v":0},{"$f":"[1]Мицкевич!S35","v":0}]
[435,"Договор","22-02-09/31","2014-02-17",2069,null,"ЛюбоДело",{"$f":"'[1]Любо Дело'!B35","v":0},{"$f":"'[1]Любо Дело'!C35","v":0},{"$f":"'[1]Любо Дело'!D35","v":0},{"$f":"'[1]Любо Дело'!E35","v":0},{"$f":"'[1]Любо Дело'!F35","v":0},{"$f":"'[1]Любо Дело'!G35","v":0},{"$f":"'[1]Любо Дело'!H35","v":0},{"$f":"'[1]Любо Дело'!I35","v":0},{"$f":"'[1]Любо Дело'!J35","v":0},{"$f":"'[1]Любо Дело'!K35","v":0},{"$f":"'[1]Любо Дело'!L35","v":0},{"$f":"'[1]Любо Дело'!M35","v":0},{"$f":"'[1]Любо Дело'!N35","v":0},{"$f":"'[1]Любо Дело'!O35","v":0},{"$f":"'[1]Любо Дело'!P35","v":0},{"$f":"'[1]Любо Дело'!Q35","v":0},{"$f":"'[1]Любо Дело'!R35","v":0},{"$f":"'[1]Любо Дело'!S35","v":0}]
[432,"Договор",221,"2014-02-18",2134,null,"Пластгрупп ЧТУП"]
[433]
[434]
[435,null,null,null,null,null,null,null,null,null,null,null,null,null,null,null,null,null,null,null,null,null,null,null,{"$f":"X120+V120+U120+T120+S120+Q120+O120+M120+K120+I120","v":0}]
[null,null,null,null,null,null,"всего",{"$f":"SUM(H5:H120)","v":0},0,0,0,0,0,0,0,0,0,0,0,0,0,0,0,0,{"$f":"SUM(Y5:Y120)","v":0}]
[null,null,null,null,null,null,"Всего услуг","кол-во прин.ПО",null,{"$f":"H121+J121+L121+N121+P121+R121+W121","v":0}]
[null,null,null,null,null,null,null,"сумма доходов",null,{"$f":"Y121","v":0}]
[null,null,"Новые"]
[null,null,"по договору"]
[null,null,"франкир.маш"]
[null,null,"марк.маш.своя"]

{"sheet":"Авком Трейд","index":2,"n_rows":38,"n_cols":21,"rows_kept":38,"cut":false,"hidden":false,"merged":[[1,11,1,12],[1,18,1,19],[1,20,2,20],[36,1,36,2],[36,3,36,4],[1,5,1,6],[1,7,1,8],[1,9,1,10],[37,1,37,2],[37,3,37,4],[1,0,2,0],[1,1,1,2],[1,3,1,4]]}
[{"$f":"MID(CELL(\"имяфайла\",B1),SEARCH(\"]\",CELL(\"имяфайла\",B1),1)+1,99)","v":"Авком Трейд"},"заказное",null,"простое"]
["Число месяца","заказные отправления                         (116, 161)",null,"простые отправления                               (117, 165)",null,"посылки                                          (151, 156)",null,"мелкие пакеты,                                  ценные письма (121)",null," EMS внутренние          (181 ,182)",null,"EMS международные  (321, 322)",null,"доп.услуги (241, 311)",null,"товары почты                          (641)",null,"маркиров. прод.                         (111)","переводы  (138,139,144,145,146,149)",null,"Итого доходы"]
[null,"кол-во","доходы","кол-во","доходы","кол-во","доходы","кол-во","доходы","кол-во","доходы","кол-во","доходы","доходы",null,"доходы",null,"доходы","кол-во","доходы"]
["2014-03-01",{"$f":"SUMIFS(ежемесячный!$G:$G,ежемесячный!$D:$D,$A4,ежемесячный!$E:$E,$A$1,ежемесячный!$F:$F,B$1)","v":123},{"$f":"SUMIFS(ежемесячный!$H:$H,ежемесячный!$D:$D,$A4,ежемесячный!$E:$E,$A$1,ежемесячный!$F:$F,B$1)","v":125000},{"$f":"SUMIFS(ежемесячный!$G:$G,ежемесячный!$D:$D,$A4,ежемесячный!$E:$E,$A$1,ежемесячный!$F:$F,D$1)","v":1},{"$f":"SUMIFS(ежемесячный!$H:$H,ежемесячный!$D:$D,$A4,ежемесячный!$E:$E,$A$1,ежемесячный!$F:$F,D$1)","v":30000},0,0,0,0,0,0,0,0,0,null,0,null,0,0,0,{"$f":"T4+R4+P4+N4+M4+K4+I4+G4+E4+C4","v":155000}]
["2014-03-02",{"$f":"SUMIFS(ежемесячный!$G:$G,ежемесячный!$D:$D,$A5,ежемесячный!$E:$E,$A$1,ежемесячный!$F:$F,B$1)","v":80},{"$f":"SUMIFS(ежемесячный!$H:$H,ежемесячный!$D:$D,$A5,ежемесячный!$E:$E,$A$1,ежемесячный!$F:$F,B$1)","v":326000},{"$f":"SUMIFS(ежемесячный!$G:$G,ежемесячный!$D:$D,$A5,ежемесячный!$E:$E,$A$1,ежемесячный!$F:$F,D$1)","v":0},{"$f":"SUMIFS(ежемесячный!$H:$H,ежемесячный!$D:$D,$A5,ежемесячный!$E:$E,$A$1,ежемесячный!$F:$F,D$1)","v":0},0,0,0,0,0,0,0,0,0,null,0,null,0,0,0,326000]
["2014-03-03",{"$f":"SUMIFS(ежемесячный!$G:$G,ежемесячный!$D:$D,$A6,ежемесячный!$E:$E,$A$1,ежемесячный!$F:$F,B$1)","v":0},{"$f":"SUMIFS(ежемесячный!$H:$H,ежемесячный!$D:$D,$A6,ежемесячный!$E:$E,$A$1,ежемесячный!$F:$F,B$1)","v":0},{"$f":"SUMIFS(ежемесячный!$G:$G,ежемесячный!$D:$D,$A6,ежемесячный!$E:$E,$A$1,ежемесячный!$F:$F,D$1)","v":0},{"$f":"SUMIFS(ежемесячный!$H:$H,ежемесячный!$D:$D,$A6,ежемесячный!$E:$E,$A$1,ежемесячный!$F:$F,D$1)","v":0},0,0,0,0,0,0,0,0,0,null,0,null,0,0,0,0]
["2014-03-04",{"$f":"SUMIFS(ежемесячный!$G:$G,ежемесячный!$D:$D,$A7,ежемесячный!$E:$E,$A$1,ежемесячный!$F:$F,B$1)","v":0},{"$f":"SUMIFS(ежемесячный!$H:$H,ежемесячный!$D:$D,$A7,ежемесячный!$E:$E,$A$1,ежемесячный!$F:$F,B$1)","v":0},{"$f":"SUMIFS(ежемесячный!$G:$G,ежемесячный!$D:$D,$A7,ежемесячный!$E:$E,$A$1,ежемесячный!$F:$F,D$1)","v":0},{"$f":"SUMIFS(ежемесячный!$H:$H,ежемесячный!$D:$D,$A7,ежемесячный!$E:$E,$A$1,ежемесячный!$F:$F,D$1)","v":0},0,0,0,0,0,0,0,0,0,null,0,null,0,0,0,0]
["2014-03-05",{"$f":"SUMIFS(ежемесячный!$G:$G,ежемесячный!$D:$D,$A8,ежемесячный!$E:$E,$A$1,ежемесячный!$F:$F,B$1)","v":0},{"$f":"SUMIFS(ежемесячный!$H:$H,ежемесячный!$D:$D,$A8,ежемесячный!$E:$E,$A$1,ежемесячный!$F:$F,B$1)","v":0},{"$f":"SUMIFS(ежемесячный!$G:$G,ежемесячный!$D:$D,$A8,ежемесячный!$E:$E,$A$1,ежемесячный!$F:$F,D$1)","v":0},{"$f":"SUMIFS(ежемесячный!$H:$H,ежемесячный!$D:$D,$A8,ежемесячный!$E:$E,$A$1,ежемесячный!$F:$F,D$1)","v":0},0,0,0,0,0,0,0,0,0,null,0,null,0,0,0,0]
["2014-03-06",{"$f":"SUMIFS(ежемесячный!$G:$G,ежемесячный!$D:$D,$A9,ежемесячный!$E:$E,$A$1,ежемесячный!$F:$F,B$1)","v":0},{"$f":"SUMIFS(ежемесячный!$H:$H,ежемесячный!$D:$D,$A9,ежемесячный!$E:$E,$A$1,ежемесячный!$F:$F,B$1)","v":0},{"$f":"SUMIFS(ежемесячный!$G:$G,ежемесячный!$D:$D,$A9,ежемесячный!$E:$E,$A$1,ежемесячный!$F:$F,D$1)","v":0},{"$f":"SUMIFS(ежемесячный!$H:$H,ежемесячный!$D:$D,$A9,ежемесячный!$E:$E,$A$1,ежемесячный!$F:$F,D$1)","v":0},0,0,0,0,0,0,0,0,0,null,0,null,0,0,0,0]
["2014-03-07",{"$f":"SUMIFS(ежемесячный!$G:$G,ежемесячный!$D:$D,$A10,ежемесячный!$E:$E,$A$1,ежемесячный!$F:$F,B$1)","v":0},{"$f":"SUMIFS(ежемесячный!$H:$H,ежемесячный!$D:$D,$A10,ежемесячный!$E:$E,$A$1,ежемесячный!$F:$F,B$1)","v":0},{"$f":"SUMIFS(ежемесячный!$G:$G,ежемесячный!$D:$D,$A10,ежемесячный!$E:$E,$A$1,ежемесячный!$F:$F,D$1)","v":0},{"$f":"SUMIFS(ежемесячный!$H:$H,ежемесячный!$D:$D,$A10,ежемесячный!$E:$E,$A$1,ежемесячный!$F:$F,D$1)","v":0},0,0,0,0,0,0,0,0,0,null,0,null,0,0,0,0]
["2014-03-08",{"$f":"SUMIFS(ежемесячный!$G:$G,ежемесячный!$D:$D,$A11,ежемесячный!$E:$E,$A$1,ежемесячный!$F:$F,B$1)","v":0},{"$f":"SUMIFS(ежемесячный!$H:$H,ежемесячный!$D:$D,$A11,ежемесячный!$E:$E,$A$1,ежемесячный!$F:$F,B$1)","v":0},{"$f":"SUMIFS(ежемесячный!$G:$G,ежемесячный!$D:$D,$A11,ежемесячный!$E:$E,$A$1,ежемесячный!$F:$F,D$1)","v":0},{"$f":"SUMIFS(ежемесячный!$H:$H,ежемесячный!$D:$D,$A11,ежемесячный!$E:$E,$A$1,ежемесячный!$F:$F,D$1)","v":0},0,0,0,0,0,0,0,0,0,null,0,null,0,0,0,0]
["2014-03-09",{"$f":"SUMIFS(ежемесячный!$G:$G,ежемесячный!$D:$D,$A12,ежемесячный!$E:$E,$A$1,ежемесячный!$F:$F,B$1)","v":0},{"$f":"SUMIFS(ежемесячный!$H:$H,ежемесячный!$D:$D,$A12,ежемесячный!$E:$E,$A$1,ежемесячный!$F:$F,B$1)","v":0},{"$f":"SUMIFS(ежемесячный!$G:$G,ежемесячный!$D:$D,$A12,ежемесячный!$E:$E,$A$1,ежемесячный!$F:$F,D$1)","v":0},{"$f":"SUMIFS(ежемесячный!$H:$H,ежемесячный!$D:$D,$A12,ежемесячный!$E:$E,$A$1,ежемесячный!$F:$F,D$1)","v":0},0,0,0,0,0,0,0,0,0,null,0,null,0,0,0,0]
["2014-03-10",{"$f":"SUMIFS(ежемесячный!$G:$G,ежемесячный!$D:$D,$A13,ежемесячный!$E:$E,$A$1,ежемесячный!$F:$F,B$1)","v":0},{"$f":"SUMIFS(ежемесячный!$H:$H,ежемесячный!$D:$D,$A13,ежемесячный!$E:$E,$A$1,ежемесячный!$F:$F,B$1)","v":0},{"$f":"SUMIFS(ежемесячный!$G:$G,ежемесячный!$D:$D,$A13,ежемесячный!$E:$E,$A$1,ежемесячный!$F:$F,D$1)","v":0},{"$f":"SUMIFS(ежемесячный!$H:$H,ежемесячный!$D:$D,$A13,ежемесячный!$E:$E,$A$1,ежемесячный!$F:$F,D$1)","v":0},0,0,0,0,0,0,0,0,0,null,0,null,0,0,0,0]
["2014-03-11",{"$f":"SUMIFS(ежемесячный!$G:$G,ежемесячный!$D:$D,$A14,ежемесячный!$E:$E,$A$1,ежемесячный!$F:$F,B$1)","v":0},{"$f":"SUMIFS(ежемесячный!$H:$H,ежемесячный!$D:$D,$A14,ежемесячный!$E:$E,$A$1,ежемесячный!$F:$F,B$1)","v":0},{"$f":"SUMIFS(ежемесячный!$G:$G,ежемесячный!$D:$D,$A14,ежемесячный!$E:$E,$A$1,ежемесячный!$F:$F,D$1)","v":0},{"$f":"SUMIFS(ежемесячный!$H:$H,ежемесячный!$D:$D,$A14,ежемесячный!$E:$E,$A$1,ежемесячный!$F:$F,D$1)","v":0},0,0,0,0,0,0,0,0,0,null,0,null,0,0,0,0]
["2014-03-12",{"$f":"SUMIFS(ежемесячный!$G:$G,ежемесячный!$D:$D,$A15,ежемесячный!$E:$E,$A$1,ежемесячный!$F:$F,B$1)","v":12},{"$f":"SUMIFS(ежемесячный!$H:$H,ежемесячный!$D:$D,$A15,ежемесячный!$E:$E,$A$1,ежемесячный!$F:$F,B$1)","v":5444444},{"$f":"SUMIFS(ежемесячный!$G:$G,ежемесячный!$D:$D,$A15,ежемесячный!$E:$E,$A$1,ежемесячный!$F:$F,D$1)","v":0},{"$f":"SUMIFS(ежемесячный!$H:$H,ежемесячный!$D:$D,$A15,ежемесячный!$E:$E,$A$1,ежемесячный!$F:$F,D$1)","v":0},0,0,0,0,0,0,0,0,0,null,0,null,0,0,0,5444444]
["2014-03-13",{"$f":"SUMIFS(ежемесячный!$G:$G,ежемесячный!$D:$D,$A16,ежемесячный!$E:$E,$A$1,ежемесячный!$F:$F,B$1)","v":0},{"$f":"SUMIFS(ежемесячный!$H:$H,ежемесячный!$D:$D,$A16,ежемесячный!$E:$E,$A$1,ежемесячный!$F:$F,B$1)","v":0},{"$f":"SUMIFS(ежемесячный!$G:$G,ежемесячный!$D:$D,$A16,ежемесячный!$E:$E,$A$1,ежемесячный!$F:$F,D$1)","v":0},{"$f":"SUMIFS(ежемесячный!$H:$H,ежемесячный!$D:$D,$A16,ежемесячный!$E:$E,$A$1,ежемесячный!$F:$F,D$1)","v":0},0,0,0,0,0,0,0,0,0,null,0,null,0,0,0,0]
["2014-03-14",{"$f":"SUMIFS(ежемесячный!$G:$G,ежемесячный!$D:$D,$A17,ежемесячный!$E:$E,$A$1,ежемесячный!$F:$F,B$1)","v":0},{"$f":"SUMIFS(ежемесячный!$H:$H,ежемесячный!$D:$D,$A17,ежемесячный!$E:$E,$A$1,ежемесячный!$F:$F,B$1)","v":0},{"$f":"SUMIFS(ежемесячный!$G:$G,ежемесячный!$D:$D,$A17,ежемесячный!$E:$E,$A$1,ежемесячный!$F:$F,D$1)","v":0},{"$f":"SUMIFS(ежемесячный!$H:$H,ежемесячный!$D:$D,$A17,ежемесячный!$E:$E,$A$1,ежемесячный!$F:$F,D$1)","v":0},0,0,0,0,0,0,0,0,0,null,0,null,0,0,0,0]
["2014-03-15",{"$f":"SUMIFS(ежемесячный!$G:$G,ежемесячный!$D:$D,$A18,ежемесячный!$E:$E,$A$1,ежемесячный!$F:$F,B$1)","v":0},{"$f":"SUMIFS(ежемесячный!$H:$H,ежемесячный!$D:$D,$A18,ежемесячный!$E:$E,$A$1,ежемесячный!$F:$F,B$1)","v":0},{"$f":"SUMIFS(ежемесячный!$G:$G,ежемесячный!$D:$D,$A18,ежемесячный!$E:$E,$A$1,ежемесячный!$F:$F,D$1)","v":0},{"$f":"SUMIFS(ежемесячный!$H:$H,ежемесячный!$D:$D,$A18,ежемесячный!$E:$E,$A$1,ежемесячный!$F:$F,D$1)","v":0},0,0,0,0,0,0,0,0,0,null,0,null,0,0,0,0]
["2014-03-16",{"$f":"SUMIFS(ежемесячный!$G:$G,ежемесячный!$D:$D,$A19,ежемесячный!$E:$E,$A$1,ежемесячный!$F:$F,B$1)","v":0},{"$f":"SUMIFS(ежемесячный!$H:$H,ежемесячный!$D:$D,$A19,ежемесячный!$E:$E,$A$1,ежемесячный!$F:$F,B$1)","v":0},{"$f":"SUMIFS(ежемесячный!$G:$G,ежемесячный!$D:$D,$A19,ежемесячный!$E:$E,$A$1,ежемесячный!$F:$F,D$1)","v":0},{"$f":"SUMIFS(ежемесячный!$H:$H,ежемесячный!$D:$D,$A19,ежемесячный!$E:$E,$A$1,ежемесячный!$F:$F,D$1)","v":0},0,0,0,0,0,0,0,0,0,null,0,null,0,0,0,0]
["2014-03-17",{"$f":"SUMIFS(ежемесячный!$G:$G,ежемесячный!$D:$D,$A20,ежемесячный!$E:$E,$A$1,ежемесячный!$F:$F,B$1)","v":0},{"$f":"SUMIFS(ежемесячный!$H:$H,ежемесячный!$D:$D,$A20,ежемесячный!$E:$E,$A$1,ежемесячный!$F:$F,B$1)","v":0},{"$f":"SUMIFS(ежемесячный!$G:$G,ежемесячный!$D:$D,$A20,ежемесячный!$E:$E,$A$1,ежемесячный!$F:$F,D$1)","v":0},{"$f":"SUMIFS(ежемесячный!$H:$H,ежемесячный!$D:$D,$A20,ежемесячный!$E:$E,$A$1,ежемесячный!$F:$F,D$1)","v":0},0,0,0,0,0,0,0,0,0,null,0,null,0,0,0,0]
["2014-03-18",{"$f":"SUMIFS(ежемесячный!$G:$G,ежемесячный!$D:$D,$A21,ежемесячный!$E:$E,$A$1,ежемесячный!$F:$F,B$1)","v":0},{"$f":"SUMIFS(ежемесячный!$H:$H,ежемесячный!$D:$D,$A21,ежемесячный!$E:$E,$A$1,ежемесячный!$F:$F,B$1)","v":0},{"$f":"SUMIFS(ежемесячный!$G:$G,ежемесячный!$D:$D,$A21,ежемесячный!$E:$E,$A$1,ежемесячный!$F:$F,D$1)","v":0},{"$f":"SUMIFS(ежемесячный!$H:$H,ежемесячный!$D:$D,$A21,ежемесячный!$E:$E,$A$1,ежемесячный!$F:$F,D$1)","v":0},0,0,0,0,0,0,0,0,0,null,0,null,0,0,0,0]
["2014-03-19",{"$f":"SUMIFS(ежемесячный!$G:$G,ежемесячный!$D:$D,$A22,ежемесячный!$E:$E,$A$1,ежемесячный!$F:$F,B$1)","v":0},{"$f":"SUMIFS(ежемесячный!$H:$H,ежемесячный!$D:$D,$A22,ежемесячный!$E:$E,$A$1,ежемесячный!$F:$F,B$1)","v":0},{"$f":"SUMIFS(ежемесячный!$G:$G,ежемесячный!$D:$D,$A22,ежемесячный!$E:$E,$A$1,ежемесячный!$F:$F,D$1)","v":0},{"$f":"SUMIFS(ежемесячный!$H:$H,ежемесячный!$D:$D,$A22,ежемесячный!$E:$E,$A$1,ежемесячный!$F:$F,D$1)","v":0},0,0,0,0,0,0,0,0,0,null,0,null,0,0,0,0]
["2014-03-20",{"$f":"SUMIFS(ежемесячный!$G:$G,ежемесячный!$D:$D,$A23,ежемесячный!$E:$E,$A$1,ежемесячный!$F:$F,B$1)","v":0},{"$f":"SUMIFS(ежемесячный!$H:$H,ежемесячный!$D:$D,$A23,ежемесячный!$E:$E,$A$1,ежемесячный!$F:$F,B$1)","v":0},{"$f":"SUMIFS(ежемесячный!$G:$G,ежемесячный!$D:$D,$A23,ежемесячный!$E:$E,$A$1,ежемесячный!$F:$F,D$1)","v":0},{"$f":"SUMIFS(ежемесячный!$H:$H,ежемесячный!$D:$D,$A23,ежемесячный!$E:$E,$A$1,ежемесячный!$F:$F,D$1)","v":0},0,0,0,0,0,0,0,0,0,null,0,null,0,0,0,0]
["2014-03-21",{"$f":"SUMIFS(ежемесячный!$G:$G,ежемесячный!$D:$D,$A24,ежемесячный!$E:$E,$A$1,ежемесячный!$F:$F,B$1)","v":0},{"$f":"SUMIFS(ежемесячный!$H:$H,ежемесячный!$D:$D,$A24,ежемесячный!$E:$E,$A$1,ежемесячный!$F:$F,B$1)","v":0},{"$f":"SUMIFS(ежемесячный!$G:$G,ежемесячный!$D:$D,$A24,ежемесячный!$E:$E,$A$1,ежемесячный!$F:$F,D$1)","v":0},{"$f":"SUMIFS(ежемесячный!$H:$H,ежемесячный!$D:$D,$A24,ежемесячный!$E:$E,$A$1,ежемесячный!$F:$F,D$1)","v":0},0,0,0,0,0,0,0,0,0,null,0,null,0,0,0,0]
["2014-03-22",{"$f":"SUMIFS(ежемесячный!$G:$G,ежемесячный!$D:$D,$A25,ежемесячный!$E:$E,$A$1,ежемесячный!$F:$F,B$1)","v":0},{"$f":"SUMIFS(ежемесячный!$H:$H,ежемесячный!$D:$D,$A25,ежемесячный!$E:$E,$A$1,ежемесячный!$F:$F,B$1)","v":0},{"$f":"SUMIFS(ежемесячный!$G:$G,ежемесячный!$D:$D,$A25,ежемесячный!$E:$E,$A$1,ежемесячный!$F:$F,D$1)","v":0},{"$f":"SUMIFS(ежемесячный!$H:$H,ежемесячный!$D:$D,$A25,ежемесячный!$E:$E,$A$1,ежемесячный!$F:$F,D$1)","v":0},0,0,0,0,0,0,0,0,0,null,0,null,0,0,0,0]
["2014-03-23",{"$f":"SUMIFS(ежемесячный!$G:$G,ежемесячный!$D:$D,$A26,ежемесячный!$E:$E,$A$1,ежемесячный!$F:$F,B$1)","v":0},{"$f":"SUMIFS(ежемесячный!$H:$H,ежемесячный!$D:$D,$A26,ежемесячный!$E:$E,$A$1,ежемесячный!$F:$F,B$1)","v":0},{"$f":"SUMIFS(ежемесячный!$G:$G,ежемесячный!$D:$D,$A26,ежемесячный!$E:$E,$A$1,ежемесячный!$F:$F,D$1)","v":0},{"$f":"SUMIFS(ежемесячный!$H:$H,ежемесячный!$D:$D,$A26,ежемесячный!$E:$E,$A$1,ежемесячный!$F:$F,D$1)","v":0},0,0,0,0,0,0,0,0,0,null,0,null,0,0,0,0]
["2014-03-24",{"$f":"SUMIFS(ежемесячный!$G:$G,ежемесячный!$D:$D,$A27,ежемесячный!$E:$E,$A$1,ежемесячный!$F:$F,B$1)","v":0},{"$f":"SUMIFS(ежемесячный!$H:$H,ежемесячный!$D:$D,$A27,ежемесячный!$E:$E,$A$1,ежемесячный!$F:$F,B$1)","v":0},{"$f":"SUMIFS(ежемесячный!$G:$G,ежемесячный!$D:$D,$A27,ежемесячный!$E:$E,$A$1,ежемесячный!$F:$F,D$1)","v":0},{"$f":"SUMIFS(ежемесячный!$H:$H,ежемесячный!$D:$D,$A27,ежемесячный!$E:$E,$A$1,ежемесячный!$F:$F,D$1)","v":0},0,0,0,0,0,0,0,0,0,null,0,null,0,0,0,0]
["2014-03-25",{"$f":"SUMIFS(ежемесячный!$G:$G,ежемесячный!$D:$D,$A28,ежемесячный!$E:$E,$A$1,ежемесячный!$F:$F,B$1)","v":0},{"$f":"SUMIFS(ежемесячный!$H:$H,ежемесячный!$D:$D,$A28,ежемесячный!$E:$E,$A$1,ежемесячный!$F:$F,B$1)","v":0},{"$f":"SUMIFS(ежемесячный!$G:$G,ежемесячный!$D:$D,$A28,ежемесячный!$E:$E,$A$1,ежемесячный!$F:$F,D$1)","v":0},{"$f":"SUMIFS(ежемесячный!$H:$H,ежемесячный!$D:$D,$A28,ежемесячный!$E:$E,$A$1,ежемесячный!$F:$F,D$1)","v":0},0,0,0,0,0,0,0,0,0,null,0,null,0,0,0,0]
["2014-03-26",{"$f":"SUMIFS(ежемесячный!$G:$G,ежемесячный!$D:$D,$A29,ежемесячный!$E:$E,$A$1,ежемесячный!$F:$F,B$1)","v":0},{"$f":"SUMIFS(ежемесячный!$H:$H,ежемесячный!$D:$D,$A29,ежемесячный!$E:$E,$A$1,ежемесячный!$F:$F,B$1)","v":0},{"$f":"SUMIFS(ежемесячный!$G:$G,ежемесячный!$D:$D,$A29,ежемесячный!$E:$E,$A$1,ежемесячный!$F:$F,D$1)","v":0},{"$f":"SUMIFS(ежемесячный!$H:$H,ежемесячный!$D:$D,$A29,ежемесячный!$E:$E,$A$1,ежемесячный!$F:$F,D$1)","v":0},0,0,0,0,0,0,0,0,0,null,0,null,0,0,0,0]
["2014-03-27",{"$f":"SUMIFS(ежемесячный!$G:$G,ежемесячный!$D:$D,$A30,ежемесячный!$E:$E,$A$1,ежемесячный!$F:$F,B$1)","v":0},{"$f":"SUMIFS(ежемесячный!$H:$H,ежемесячный!$D:$D,$A30,ежемесячный!$E:$E,$A$1,ежемесячный!$F:$F,B$1)","v":0},{"$f":"SUMIFS(ежемесячный!$G:$G,ежемесячный!$D:$D,$A30,ежемесячный!$E:$E,$A$1,ежемесячный!$F:$F,D$1)","v":0},{"$f":"SUMIFS(ежемесячный!$H:$H,ежемесячный!$D:$D,$A30,ежемесячный!$E:$E,$A$1,ежемесячный!$F:$F,D$1)","v":0},0,0,0,0,0,0,0,0,0,null,0,null,0,0,0,0]
["2014-03-28",{"$f":"SUMIFS(ежемесячный!$G:$G,ежемесячный!$D:$D,$A31,ежемесячный!$E:$E,$A$1,ежемесячный!$F:$F,B$1)","v":0},{"$f":"SUMIFS(ежемесячный!$H:$H,ежемесячный!$D:$D,$A31,ежемесячный!$E:$E,$A$1,ежемесячный!$F:$F,B$1)","v":0},{"$f":"SUMIFS(ежемесячный!$G:$G,ежемесячный!$D:$D,$A31,ежемесячный!$E:$E,$A$1,ежемесячный!$F:$F,D$1)","v":0},{"$f":"SUMIFS(ежемесячный!$H:$H,ежемесячный!$D:$D,$A31,ежемесячный!$E:$E,$A$1,ежемесячный!$F:$F,D$1)","v":0},0,0,0,0,0,0,0,0,0,null,0,null,0,0,0,0]
["2014-03-29",{"$f":"SUMIFS(ежемесячный!$G:$G,ежемесячный!$D:$D,$A32,ежемесячный!$E:$E,$A$1,ежемесячный!$F:$F,B$1)","v":0},{"$f":"SUMIFS(ежемесячный!$H:$H,ежемесячный!$D:$D,$A32,ежемесячный!$E:$E,$A$1,ежемесячный!$F:$F,B$1)","v":0},{"$f":"SUMIFS(ежемесячный!$G:$G,ежемесячный!$D:$D,$A32,ежемесячный!$E:$E,$A$1,ежемесячный!$F:$F,D$1)","v":0},{"$f":"SUMIFS(ежемесячный!$H:$H,ежемесячный!$D:$D,$A32,ежемесячный!$E:$E,$A$1,ежемесячный!$F:$F,D$1)","v":0},0,0,0,0,0,0,0,0,0,null,0,null,0,0,0,0]
["2014-03-30",{"$f":"SUMIFS(ежемесячный!$G:$G,ежемесячный!$D:$D,$A33,ежемесячный!$E:$E,$A$1,ежемесячный!$F:$F,B$1)","v":0},{"$f":"SUMIFS(ежемесячный!$H:$H,ежемесячный!$D:$D,$A33,ежемесячный!$E:$E,$A$1,ежемесячный!$F:$F,B$1)","v":0},{"$f":"SUMIFS(ежемесячный!$G:$G,ежемесячный!$D:$D,$A33,ежемесячный!$E:$E,$A$1,ежемесячный!$F:$F,D$1)","v":0},{"$f":"SUMIFS(ежемесячный!$H:$H,ежемесячный!$D:$D,$A33,ежемесячный!$E:$E,$A$1,ежемесячный!$F:$F,D$1)","v":0},0,0,0,0,0,0,0,0,0,null,0,null,0,0,0,0]
["2014-03-31",{"$f":"SUMIFS(ежемесячный!$G:$G,ежемесячный!$D:$D,$A34,ежемесячный!$E:$E,$A$1,ежемесячный!$F:$F,B$1)","v":0},{"$f":"SUMIFS(ежемесячный!$H:$H,ежемесячный!$D:$D,$A34,ежемесячный!$E:$E,$A$1,ежемесячный!$F:$F,B$1)","v":0},{"$f":"SUMIFS(ежемесячный!$G:$G,ежемесячный!$D:$D,$A34,ежемесячный!$E:$E,$A$1,ежемесячный!$F:$F,D$1)","v":0},{"$f":"SUMIFS(ежемесячный!$H:$H,ежемесячный!$D:$D,$A34,ежемесячный!$E:$E,$A$1,ежемесячный!$F:$F,D$1)","v":0},0,0,0,0,0,0,0,0,0,null,0,null,0,0,0,0]
[null,{"$f":"SUM(B4:B34)","v":215},{"$f":"SUM(C4:C34)","v":5895444},{"$f":"SUM(D4:D34)","v":1},30000,0,0,0,0,0,0,0,0,0,null,0,null,0,0,0,5925444]
[]
[null,"кол-во прин.ПО",null,{"$f":"B35+D35+F35+H35+J35+L35+S35","v":216}]
[null,"сумма доходов",null,{"$f":"U35","v":5925444}]

{"sheet":"Аванбек","index":3,"n_rows":38,"n_cols":21,"rows_kept":38,"cut":false,"hidden":false,"merged":[[1,11,1,12],[1,18,1,19],[1,20,2,20],[36,1,36,2],[36,3,36,4],[37,1,37,2],[37,3,37,4],[1,0,2,0],[1,1,1,2],[1,3,1,4],[1,5,1,6],[1,7,1,8],[1,9,1,10]]}
[{"$f":"MID(CELL(\"имяфайла\",B1),SEARCH(\"]\",CELL(\"имяфайла\",B1),1)+1,99)","v":"Аванбек"},"заказное",null,"простое"]
["Число месяца","заказные отправления                         (116, 161)",null,"простые отправления                               (117, 165)",null,"посылки                                          (151, 156)",null,"мелкие пакеты,                                  ценные письма (121)",null," EMS внутренние          (181 ,182)",null,"EMS международные  (321, 322)",null,"доп.услуги (241, 311)",null,"товары почты                          (641)",null,"маркиров. прод.                         (111)","переводы  (138,139,144,145,146,149)",null,"Итого доходы"]
[null,"кол-во","доходы","кол-во","доходы","кол-во","доходы","кол-во","доходы","кол-во","доходы","кол-во","доходы","доходы",null,"доходы",null,"доходы","кол-во","доходы"]
["2014-03-01",{"$f":"SUMIFS(ежемесячный!$G:$G,ежемесячный!$D:$D,$A4,ежемесячный!$E:$E,$A$1,ежемесячный!$F:$F,B$1)","v":8},{"$f":"SUMIFS(ежемесячный!$H:$H,ежемесячный!$D:$D,$A4,ежемесячный!$E:$E,$A$1,ежемесячный!$F:$F,B$1)","v":25300},{"$f":"SUMIFS(ежемесячный!$G:$G,ежемесячный!$D:$D,$A4,ежемесячный!$E:$E,$A$1,ежемесячный!$F:$F,D$1)","v":0},{"$f":"SUMIFS(ежемесячный!$H:$H,ежемесячный!$D:$D,$A4,ежемесячный!$E:$E,$A$1,ежемесячный!$F:$F,D$1)","v":0},0,0,0,0,0,0,0,0,0,null,0,null,0,0,0,{"$f":"T4+R4+P4+N4+M4+K4+I4+G4+E4+C4","v":25300}]
["2014-03-02",{"$f":"SUMIFS(ежемесячный!$G:$G,ежемесячный!$D:$D,$A5,ежемесячный!$E:$E,$A$1,ежемесячный!$F:$F,B$1)","v":0},{"$f":"SUMIFS(ежемесячный!$H:$H,ежемесячный!$D:$D,$A5,ежемесячный!$E:$E,$A$1,ежемесячный!$F:$F,B$1)","v":0},{"$f":"SUMIFS(ежемесячный!$G:$G,ежемесячный!$D:$D,$A5,ежемесячный!$E:$E,$A$1,ежемесячный!$F:$F,D$1)","v":0},{"$f":"SUMIFS(ежемесячный!$H:$H,ежемесячный!$D:$D,$A5,ежемесячный!$E:$E,$A$1,ежемесячный!$F:$F,D$1)","v":0},0,0,0,0,0,0,0,0,0,null,0,null,0,0,0,0]
["2014-03-03",{"$f":"SUMIFS(ежемесячный!$G:$G,ежемесячный!$D:$D,$A6,ежемесячный!$E:$E,$A$1,ежемесячный!$F:$F,B$1)","v":36},{"$f":"SUMIFS(ежемесячный!$H:$H,ежемесячный!$D:$D,$A6,ежемесячный!$E:$E,$A$1,ежемесячный!$F:$F,B$1)","v":283000},{"$f":"SUMIFS(ежемесячный!$G:$G,ежемесячный!$D:$D,$A6,ежемесячный!$E:$E,$A$1,ежемесячный!$F:$F,D$1)","v":0},{"$f":"SUMIFS(ежемесячный!$H:$H,ежемесячный!$D:$D,$A6,ежемесячный!$E:$E,$A$1,ежемесячный!$F:$F,D$1)","v":0},0,0,0,0,0,0,0,0,0,null,0,null,0,0,0,283000]
["2014-03-04",{"$f":"SUMIFS(ежемесячный!$G:$G,ежемесячный!$D:$D,$A7,ежемесячный!$E:$E,$A$1,ежемесячный!$F:$F,B$1)","v":0},{"$f":"SUMIFS(ежемесячный!$H:$H,ежемесячный!$D:$D,$A7,ежемесячный!$E:$E,$A$1,ежемесячный!$F:$F,B$1)","v":0},{"$f":"SUMIFS(ежемесячный!$G:$G,ежемесячный!$D:$D,$A7,ежемесячный!$E:$E,$A$1,ежемесячный!$F:$F,D$1)","v":0},{"$f":"SUMIFS(ежемесячный!$H:$H,ежемесячный!$D:$D,$A7,ежемесячный!$E:$E,$A$1,ежемесячный!$F:$F,D$1)","v":0},0,0,0,0,0,0,0,0,0,null,0,null,0,0,0,0]
["2014-03-05",{"$f":"SUMIFS(ежемесячный!$G:$G,ежемесячный!$D:$D,$A8,ежемесячный!$E:$E,$A$1,ежемесячный!$F:$F,B$1)","v":0},{"$f":"SUMIFS(ежемесячный!$H:$H,ежемесячный!$D:$D,$A8,ежемесячный!$E:$E,$A$1,ежемесячный!$F:$F,B$1)","v":0},{"$f":"SUMIFS(ежемесячный!$G:$G,ежемесячный!$D:$D,$A8,ежемесячный!$E:$E,$A$1,ежемесячный!$F:$F,D$1)","v":0},{"$f":"SUMIFS(ежемесячный!$H:$H,ежемесячный!$D:$D,$A8,ежемесячный!$E:$E,$A$1,ежемесячный!$F:$F,D$1)","v":0},0,0,0,0,0,0,0,0,0,null,0,null,0,0,0,0]
["2014-03-06",{"$f":"SUMIFS(ежемесячный!$G:$G,ежемесячный!$D:$D,$A9,ежемесячный!$E:$E,$A$1,ежемесячный!$F:$F,B$1)","v":0},{"$f":"SUMIFS(ежемесячный!$H:$H,ежемесячный!$D:$D,$A9,ежемесячный!$E:$E,$A$1,ежемесячный!$F:$F,B$1)","v":0},{"$f":"SUMIFS(ежемесячный!$G:$G,ежемесячный!$D:$D,$A9,ежемесячный!$E:$E,$A$1,ежемесячный!$F:$F,D$1)","v":0},{"$f":"SUMIFS(ежемесячный!$H:$H,ежемесячный!$D:$D,$A9,ежемесячный!$E:$E,$A$1,ежемесячный!$F:$F,D$1)","v":0},0,0,0,0,0,0,0,0,0,null,0,null,0,0,0,0]
["2014-03-07",{"$f":"SUMIFS(ежемесячный!$G:$G,ежемесячный!$D:$D,$A10,ежемесячный!$E:$E,$A$1,ежемесячный!$F:$F,B$1)","v":0},{"$f":"SUMIFS(ежемесячный!$H:$H,ежемесячный!$D:$D,$A10,ежемесячный!$E:$E,$A$1,ежемесячный!$F:$F,B$1)","v":0},{"$f":"SUMIFS(ежемесячный!$G:$G,ежемесячный!$D:$D,$A10,ежемесячный!$E:$E,$A$1,ежемесячный!$F:$F,D$1)","v":0},{"$f":"SUMIFS(ежемесячный!$H:$H,ежемесячный!$D:$D,$A10,ежемесячный!$E:$E,$A$1,ежемесячный!$F:$F,D$1)","v":0},0,0,0,0,0,0,0,0,0,null,0,null,0,0,0,0]
["2014-03-08",{"$f":"SUMIFS(ежемесячный!$G:$G,ежемесячный!$D:$D,$A11,ежемесячный!$E:$E,$A$1,ежемесячный!$F:$F,B$1)","v":0},{"$f":"SUMIFS(ежемесячный!$H:$H,ежемесячный!$D:$D,$A11,ежемесячный!$E:$E,$A$1,ежемесячный!$F:$F,B$1)","v":0},{"$f":"SUMIFS(ежемесячный!$G:$G,ежемесячный!$D:$D,$A11,ежемесячный!$E:$E,$A$1,ежемесячный!$F:$F,D$1)","v":0},{"$f":"SUMIFS(ежемесячный!$H:$H,ежемесячный!$D:$D,$A11,ежемесячный!$E:$E,$A$1,ежемесячный!$F:$F,D$1)","v":0},0,0,0,0,0,0,0,0,0,null,0,null,0,0,0,0]
["2014-03-09",{"$f":"SUMIFS(ежемесячный!$G:$G,ежемесячный!$D:$D,$A12,ежемесячный!$E:$E,$A$1,ежемесячный!$F:$F,B$1)","v":0},{"$f":"SUMIFS(ежемесячный!$H:$H,ежемесячный!$D:$D,$A12,ежемесячный!$E:$E,$A$1,ежемесячный!$F:$F,B$1)","v":0},{"$f":"SUMIFS(ежемесячный!$G:$G,ежемесячный!$D:$D,$A12,ежемесячный!$E:$E,$A$1,ежемесячный!$F:$F,D$1)","v":0},{"$f":"SUMIFS(ежемесячный!$H:$H,ежемесячный!$D:$D,$A12,ежемесячный!$E:$E,$A$1,ежемесячный!$F:$F,D$1)","v":0},0,0,0,0,0,0,0,0,0,null,0,null,0,0,0,0]
["2014-03-10",{"$f":"SUMIFS(ежемесячный!$G:$G,ежемесячный!$D:$D,$A13,ежемесячный!$E:$E,$A$1,ежемесячный!$F:$F,B$1)","v":0},{"$f":"SUMIFS(ежемесячный!$H:$H,ежемесячный!$D:$D,$A13,ежемесячный!$E:$E,$A$1,ежемесячный!$F:$F,B$1)","v":0},{"$f":"SUMIFS(ежемесячный!$G:$G,ежемесячный!$D:$D,$A13,ежемесячный!$E:$E,$A$1,ежемесячный!$F:$F,D$1)","v":0},{"$f":"SUMIFS(ежемесячный!$H:$H,ежемесячный!$D:$D,$A13,ежемесячный!$E:$E,$A$1,ежемесячный!$F:$F,D$1)","v":0},0,0,0,0,0,0,0,0,0,null,0,null,0,0,0,0]
["2014-03-11",{"$f":"SUMIFS(ежемесячный!$G:$G,ежемесячный!$D:$D,$A14,ежемесячный!$E:$E,$A$1,ежемесячный!$F:$F,B$1)","v":0},{"$f":"SUMIFS(ежемесячный!$H:$H,ежемесячный!$D:$D,$A14,ежемесячный!$E:$E,$A$1,ежемесячный!$F:$F,B$1)","v":0},{"$f":"SUMIFS(ежемесячный!$G:$G,ежемесячный!$D:$D,$A14,ежемесячный!$E:$E,$A$1,ежемесячный!$F:$F,D$1)","v":0},{"$f":"SUMIFS(ежемесячный!$H:$H,ежемесячный!$D:$D,$A14,ежемесячный!$E:$E,$A$1,ежемесячный!$F:$F,D$1)","v":0},0,0,0,0,0,0,0,0,0,null,0,null,0,0,0,0]
["2014-03-12",{"$f":"SUMIFS(ежемесячный!$G:$G,ежемесячный!$D:$D,$A15,ежемесячный!$E:$E,$A$1,ежемесячный!$F:$F,B$1)","v":0},{"$f":"SUMIFS(ежемесячный!$H:$H,ежемесячный!$D:$D,$A15,ежемесячный!$E:$E,$A$1,ежемесячный!$F:$F,B$1)","v":0},{"$f":"SUMIFS(ежемесячный!$G:$G,ежемесячный!$D:$D,$A15,ежемесячный!$E:$E,$A$1,ежемесячный!$F:$F,D$1)","v":0},{"$f":"SUMIFS(ежемесячный!$H:$H,ежемесячный!$D:$D,$A15,ежемесячный!$E:$E,$A$1,ежемесячный!$F:$F,D$1)","v":0},0,0,0,0,0,0,0,0,0,null,0,null,0,0,0,0]
["2014-03-13",{"$f":"SUMIFS(ежемесячный!$G:$G,ежемесячный!$D:$D,$A16,ежемесячный!$E:$E,$A$1,ежемесячный!$F:$F,B$1)","v":0},{"$f":"SUMIFS(ежемесячный!$H:$H,ежемесячный!$D:$D,$A16,ежемесячный!$E:$E,$A$1,ежемесячный!$F:$F,B$1)","v":0},{"$f":"SUMIFS(ежемесячный!$G:$G,ежемесячный!$D:$D,$A16,ежемесячный!$E:$E,$A$1,ежемесячный!$F:$F,D$1)","v":0},{"$f":"SUMIFS(ежемесячный!$H:$H,ежемесячный!$D:$D,$A16,ежемесячный!$E:$E,$A$1,ежемесячный!$F:$F,D$1)","v":0},0,0,0,0,0,0,0,0,0,null,0,null,0,0,0,0]
["2014-03-14",{"$f":"SUMIFS(ежемесячный!$G:$G,ежемесячный!$D:$D,$A17,ежемесячный!$E:$E,$A$1,ежемесячный!$F:$F,B$1)","v":0},{"$f":"SUMIFS(ежемесячный!$H:$H,ежемесячный!$D:$D,$A17,ежемесячный!$E:$E,$A$1,ежемесячный!$F:$F,B$1)","v":0},{"$f":"SUMIFS(ежемесячный!$G:$G,ежемесячный!$D:$D,$A17,ежемесячный!$E:$E,$A$1,ежемесячный!$F:$F,D$1)","v":0},{"$f":"SUMIFS(ежемесячный!$H:$H,ежемесячный!$D:$D,$A17,ежемесячный!$E:$E,$A$1,ежемесячный!$F:$F,D$1)","v":0},0,0,0,0,0,0,0,0,0,null,0,null,0,0,0,0]
["2014-03-15",{"$f":"SUMIFS(ежемесячный!$G:$G,ежемесячный!$D:$D,$A18,ежемесячный!$E:$E,$A$1,ежемесячный!$F:$F,B$1)","v":0},{"$f":"SUMIFS(ежемесячный!$H:$H,ежемесячный!$D:$D,$A18,ежемесячный!$E:$E,$A$1,ежемесячный!$F:$F,B$1)","v":0},{"$f":"SUMIFS(ежемесячный!$G:$G,ежемесячный!$D:$D,$A18,ежемесячный!$E:$E,$A$1,ежемесячный!$F:$F,D$1)","v":0},{"$f":"SUMIFS(ежемесячный!$H:$H,ежемесячный!$D:$D,$A18,ежемесячный!$E:$E,$A$1,ежемесячный!$F:$F,D$1)","v":0},0,0,0,0,0,0,0,0,0,null,0,null,0,0,0,0]
["2014-03-16",{"$f":"SUMIFS(ежемесячный!$G:$G,ежемесячный!$D:$D,$A19,ежемесячный!$E:$E,$A$1,ежемесячный!$F:$F,B$1)","v":0},{"$f":"SUMIFS(ежемесячный!$H:$H,ежемесячный!$D:$D,$A19,ежемесячный!$E:$E,$A$1,ежемесячный!$F:$F,B$1)","v":0},{"$f":"SUMIFS(ежемесячный!$G:$G,ежемесячный!$D:$D,$A19,ежемесячный!$E:$E,$A$1,ежемесячный!$F:$F,D$1)","v":0},{"$f":"SUMIFS(ежемесячный!$H:$H,ежемесячный!$D:$D,$A19,ежемесячный!$E:$E,$A$1,ежемесячный!$F:$F,D$1)","v":0},0,0,0,0,0,0,0,0,0,null,0,null,0,0,0,0]
["2014-03-17",{"$f":"SUMIFS(ежемесячный!$G:$G,ежемесячный!$D:$D,$A20,ежемесячный!$E:$E,$A$1,ежемесячный!$F:$F,B$1)","v":0},{"$f":"SUMIFS(ежемесячный!$H:$H,ежемесячный!$D:$D,$A20,ежемесячный!$E:$E,$A$1,ежемесячный!$F:$F,B$1)","v":0},{"$f":"SUMIFS(ежемесячный!$G:$G,ежемесячный!$D:$D,$A20,ежемесячный!$E:$E,$A$1,ежемесячный!$F:$F,D$1)","v":0},{"$f":"SUMIFS(ежемесячный!$H:$H,ежемесячный!$D:$D,$A20,ежемесячный!$E:$E,$A$1,ежемесячный!$F:$F,D$1)","v":0},0,0,0,0,0,0,0,0,0,null,0,null,0,0,0,0]
["2014-03-18",{"$f":"SUMIFS(ежемесячный!$G:$G,ежемесячный!$D:$D,$A21,ежемесячный!$E:$E,$A$1,ежемесячный!$F:$F,B$1)","v":0},{"$f":"SUMIFS(ежемесячный!$H:$H,ежемесячный!$D:$D,$A21,ежемесячный!$E:$E,$A$1,ежемесячный!$F:$F,B$1)","v":0},{"$f":"SUMIFS(ежемесячный!$G:$G,ежемесячный!$D:$D,$A21,ежемесячный!$E:$E,$A$1,ежемесячный!$F:$F,D$1)","v":0},{"$f":"SUMIFS(ежемесячный!$H:$H,ежемесячный!$D:$D,$A21,ежемесячный!$E:$E,$A$1,ежемесячный!$F:$F,D$1)","v":0},0,0,0,0,0,0,0,0,0,null,0,null,0,0,0,0]
["2014-03-19",{"$f":"SUMIFS(ежемесячный!$G:$G,ежемесячный!$D:$D,$A22,ежемесячный!$E:$E,$A$1,ежемесячный!$F:$F,B$1)","v":0},{"$f":"SUMIFS(ежемесячный!$H:$H,ежемесячный!$D:$D,$A22,ежемесячный!$E:$E,$A$1,ежемесячный!$F:$F,B$1)","v":0},{"$f":"SUMIFS(ежемесячный!$G:$G,ежемесячный!$D:$D,$A22,ежемесячный!$E:$E,$A$1,ежемесячный!$F:$F,D$1)","v":0},{"$f":"SUMIFS(ежемесячный!$H:$H,ежемесячный!$D:$D,$A22,ежемесячный!$E:$E,$A$1,ежемесячный!$F:$F,D$1)","v":0},0,0,0,0,0,0,0,0,0,null,0,null,0,0,0,0]
["2014-03-20",{"$f":"SUMIFS(ежемесячный!$G:$G,ежемесячный!$D:$D,$A23,ежемесячный!$E:$E,$A$1,ежемесячный!$F:$F,B$1)","v":0},{"$f":"SUMIFS(ежемесячный!$H:$H,ежемесячный!$D:$D,$A23,ежемесячный!$E:$E,$A$1,ежемесячный!$F:$F,B$1)","v":0},{"$f":"SUMIFS(ежемесячный!$G:$G,ежемесячный!$D:$D,$A23,ежемесячный!$E:$E,$A$1,ежемесячный!$F:$F,D$1)","v":0},{"$f":"SUMIFS(ежемесячный!$H:$H,ежемесячный!$D:$D,$A23,ежемесячный!$E:$E,$A$1,ежемесячный!$F:$F,D$1)","v":0},0,0,0,0,0,0,0,0,0,null,0,null,0,0,0,0]
["2014-03-21",{"$f":"SUMIFS(ежемесячный!$G:$G,ежемесячный!$D:$D,$A24,ежемесячный!$E:$E,$A$1,ежемесячный!$F:$F,B$1)","v":0},{"$f":"SUMIFS(ежемесячный!$H:$H,ежемесячный!$D:$D,$A24,ежемесячный!$E:$E,$A$1,ежемесячный!$F:$F,B$1)","v":0},{"$f":"SUMIFS(ежемесячный!$G:$G,ежемесячный!$D:$D,$A24,ежемесячный!$E:$E,$A$1,ежемесячный!$F:$F,D$1)","v":0},{"$f":"SUMIFS(ежемесячный!$H:$H,ежемесячный!$D:$D,$A24,ежемесячный!$E:$E,$A$1,ежемесячный!$F:$F,D$1)","v":0},0,0,0,0,0,0,0,0,0,null,0,null,0,0,0,0]
["2014-03-22",{"$f":"SUMIFS(ежемесячный!$G:$G,ежемесячный!$D:$D,$A25,ежемесячный!$E:$E,$A$1,ежемесячный!$F:$F,B$1)","v":0},{"$f":"SUMIFS(ежемесячный!$H:$H,ежемесячный!$D:$D,$A25,ежемесячный!$E:$E,$A$1,ежемесячный!$F:$F,B$1)","v":0},{"$f":"SUMIFS(ежемесячный!$G:$G,ежемесячный!$D:$D,$A25,ежемесячный!$E:$E,$A$1,ежемесячный!$F:$F,D$1)","v":0},{"$f":"SUMIFS(ежемесячный!$H:$H,ежемесячный!$D:$D,$A25,ежемесячный!$E:$E,$A$1,ежемесячный!$F:$F,D$1)","v":0},0,0,0,0,0,0,0,0,0,null,0,null,0,0,0,0]
["2014-03-23",{"$f":"SUMIFS(ежемесячный!$G:$G,ежемесячный!$D:$D,$A26,ежемесячный!$E:$E,$A$1,ежемесячный!$F:$F,B$1)","v":0},{"$f":"SUMIFS(ежемесячный!$H:$H,ежемесячный!$D:$D,$A26,ежемесячный!$E:$E,$A$1,ежемесячный!$F:$F,B$1)","v":0},{"$f":"SUMIFS(ежемесячный!$G:$G,ежемесячный!$D:$D,$A26,ежемесячный!$E:$E,$A$1,ежемесячный!$F:$F,D$1)","v":0},{"$f":"SUMIFS(ежемесячный!$H:$H,ежемесячный!$D:$D,$A26,ежемесячный!$E:$E,$A$1,ежемесячный!$F:$F,D$1)","v":0},0,0,0,0,0,0,0,0,0,null,0,null,0,0,0,0]
["2014-03-24",{"$f":"SUMIFS(ежемесячный!$G:$G,ежемесячный!$D:$D,$A27,ежемесячный!$E:$E,$A$1,ежемесячный!$F:$F,B$1)","v":0},{"$f":"SUMIFS(ежемесячный!$H:$H,ежемесячный!$D:$D,$A27,ежемесячный!$E:$E,$A$1,ежемесячный!$F:$F,B$1)","v":0},{"$f":"SUMIFS(ежемесячный!$G:$G,ежемесячный!$D:$D,$A27,ежемесячный!$E:$E,$A$1,ежемесячный!$F:$F,D$1)","v":0},{"$f":"SUMIFS(ежемесячный!$H:$H,ежемесячный!$D:$D,$A27,ежемесячный!$E:$E,$A$1,ежемесячный!$F:$F,D$1)","v":0},0,0,0,0,0,0,0,0,0,null,0,null,0,0,0,0]
["2014-03-25",{"$f":"SUMIFS(ежемесячный!$G:$G,ежемесячный!$D:$D,$A28,ежемесячный!$E:$E,$A$1,ежемесячный!$F:$F,B$1)","v":0},{"$f":"SUMIFS(ежемесячный!$H:$H,ежемесячный!$D:$D,$A28,ежемесячный!$E:$E,$A$1,ежемесячный!$F:$F,B$1)","v":0},{"$f":"SUMIFS(ежемесячный!$G:$G,ежемесячный!$D:$D,$A28,ежемесячный!$E:$E,$A$1,ежемесячный!$F:$F,D$1)","v":0},{"$f":"SUMIFS(ежемесячный!$H:$H,ежемесячный!$D:$D,$A28,ежемесячный!$E:$E,$A$1,ежемесячный!$F:$F,D$1)","v":0},0,0,0,0,0,0,0,0,0,null,0,null,0,0,0,0]
["2014-03-26",{"$f":"SUMIFS(ежемесячный!$G:$G,ежемесячный!$D:$D,$A29,ежемесячный!$E:$E,$A$1,ежемесячный!$F:$F,B$1)","v":0},{"$f":"SUMIFS(ежемесячный!$H:$H,ежемесячный!$D:$D,$A29,ежемесячный!$E:$E,$A$1,ежемесячный!$F:$F,B$1)","v":0},{"$f":"SUMIFS(ежемесячный!$G:$G,ежемесячный!$D:$D,$A29,ежемесячный!$E:$E,$A$1,ежемесячный!$F:$F,D$1)","v":0},{"$f":"SUMIFS(ежемесячный!$H:$H,ежемесячный!$D:$D,$A29,ежемесячный!$E:$E,$A$1,ежемесячный!$F:$F,D$1)","v":0},0,0,0,0,0,0,0,0,0,null,0,null,0,0,0,0]
["2014-03-27",{"$f":"SUMIFS(ежемесячный!$G:$G,ежемесячный!$D:$D,$A30,ежемесячный!$E:$E,$A$1,ежемесячный!$F:$F,B$1)","v":0},{"$f":"SUMIFS(ежемесячный!$H:$H,ежемесячный!$D:$D,$A30,ежемесячный!$E:$E,$A$1,ежемесячный!$F:$F,B$1)","v":0},{"$f":"SUMIFS(ежемесячный!$G:$G,ежемесячный!$D:$D,$A30,ежемесячный!$E:$E,$A$1,ежемесячный!$F:$F,D$1)","v":0},{"$f":"SUMIFS(ежемесячный!$H:$H,ежемесячный!$D:$D,$A30,ежемесячный!$E:$E,$A$1,ежемесячный!$F:$F,D$1)","v":0},0,0,0,0,0,0,0,0,0,null,0,null,0,0,0,0]
["2014-03-28",{"$f":"SUMIFS(ежемесячный!$G:$G,ежемесячный!$D:$D,$A31,ежемесячный!$E:$E,$A$1,ежемесячный!$F:$F,B$1)","v":0},{"$f":"SUMIFS(ежемесячный!$H:$H,ежемесячный!$D:$D,$A31,ежемесячный!$E:$E,$A$1,ежемесячный!$F:$F,B$1)","v":0},{"$f":"SUMIFS(ежемесячный!$G:$G,ежемесячный!$D:$D,$A31,ежемесячный!$E:$E,$A$1,ежемесячный!$F:$F,D$1)","v":0},{"$f":"SUMIFS(ежемесячный!$H:$H,ежемесячный!$D:$D,$A31,ежемесячный!$E:$E,$A$1,ежемесячный!$F:$F,D$1)","v":0},0,0,0,0,0,0,0,0,0,null,0,null,0,0,0,0]
["2014-03-29",{"$f":"SUMIFS(ежемесячный!$G:$G,ежемесячный!$D:$D,$A32,ежемесячный!$E:$E,$A$1,ежемесячный!$F:$F,B$1)","v":0},{"$f":"SUMIFS(ежемесячный!$H:$H,ежемесячный!$D:$D,$A32,ежемесячный!$E:$E,$A$1,ежемесячный!$F:$F,B$1)","v":0},{"$f":"SUMIFS(ежемесячный!$G:$G,ежемесячный!$D:$D,$A32,ежемесячный!$E:$E,$A$1,ежемесячный!$F:$F,D$1)","v":0},{"$f":"SUMIFS(ежемесячный!$H:$H,ежемесячный!$D:$D,$A32,ежемесячный!$E:$E,$A$1,ежемесячный!$F:$F,D$1)","v":0},0,0,0,0,0,0,0,0,0,null,0,null,0,0,0,0]
["2014-03-30",{"$f":"SUMIFS(ежемесячный!$G:$G,ежемесячный!$D:$D,$A33,ежемесячный!$E:$E,$A$1,ежемесячный!$F:$F,B$1)","v":0},{"$f":"SUMIFS(ежемесячный!$H:$H,ежемесячный!$D:$D,$A33,ежемесячный!$E:$E,$A$1,ежемесячный!$F:$F,B$1)","v":0},{"$f":"SUMIFS(ежемесячный!$G:$G,ежемесячный!$D:$D,$A33,ежемесячный!$E:$E,$A$1,ежемесячный!$F:$F,D$1)","v":0},{"$f":"SUMIFS(ежемесячный!$H:$H,ежемесячный!$D:$D,$A33,ежемесячный!$E:$E,$A$1,ежемесячный!$F:$F,D$1)","v":0},0,0,0,0,0,0,0,0,0,null,0,null,0,0,0,0]
["2014-03-31",{"$f":"SUMIFS(ежемесячный!$G:$G,ежемесячный!$D:$D,$A34,ежемесячный!$E:$E,$A$1,ежемесячный!$F:$F,B$1)","v":0},{"$f":"SUMIFS(ежемесячный!$H:$H,ежемесячный!$D:$D,$A34,ежемесячный!$E:$E,$A$1,ежемесячный!$F:$F,B$1)","v":0},{"$f":"SUMIFS(ежемесячный!$G:$G,ежемесячный!$D:$D,$A34,ежемесячный!$E:$E,$A$1,ежемесячный!$F:$F,D$1)","v":0},{"$f":"SUMIFS(ежемесячный!$H:$H,ежемесячный!$D:$D,$A34,ежемесячный!$E:$E,$A$1,ежемесячный!$F:$F,D$1)","v":0},0,0,0,0,0,0,0,0,0,null,0,null,0,0,0,0]
[null,{"$f":"SUM(B4:B34)","v":44},{"$f":"SUM(C4:C34)","v":308300},{"$f":"SUM(D4:D34)","v":0},0,0,0,0,0,0,0,0,0,0,null,0,null,0,0,0,308300]
[]
[null,"кол-во прин.ПО",null,{"$f":"B35+D35+F35+H35+J35+L35+S35","v":44}]
[null,"сумма доходов",null,{"$f":"U35","v":308300}]

{"sheet":"IT-Эксперт","index":4,"n_rows":38,"n_cols":19,"rows_kept":38,"cut":false,"hidden":false,"merged":[[1,11,1,12],[1,16,1,17],[1,18,2,18],[36,1,36,2],[36,3,36,4],[1,5,1,6],[1,7,1,8],[1,9,1,10],[37,1,37,2],[37,3,37,4],[1,0,2,0],[1,1,1,2],[1,3,1,4]]}
[{"$f":"MID(CELL(\"имяфайла\",B1),SEARCH(\"]\",CELL(\"имяфайла\",B1),1)+1,99)","v":"IT-Эксперт"}]
["Число месяца","заказные отправления                         (116, 161)",null,"простые отправления                               (117, 165)",null,"посылки                                          (151, 156)",null,"мелкие пакеты,                                  ценные письма (121)",null," EMS внутренние          (181 ,182)",null,"EMS международные  (321, 322)",null,"доп.услуги (241, 311)","товары почты                          (641)","маркиров. прод.                         (111)","переводы  (138,139,144,145,146,149)",null,"Итого доходы"]
[null,"кол-во","доходы","кол-во","доходы","кол-во","доходы","кол-во","доходы","кол-во","доходы","кол-во","доходы","доходы","доходы","доходы","кол-во","доходы"]
[1,0,0,0,0,0,0,0,0,0,0,0,0,0,0,0,0,0,{"$f":"R4+P4+O4+N4+M4+K4+I4+G4+E4+C4","v":0}]
[{"$f":"A4+1","v":2},0,0,0,0,0,0,0,0,0,0,0,0,0,0,0,0,0,{"$f":"R5+P5+O5+N5+M5+K5+I5+G5+E5+C5","v":0}]
[{"$f":"A5+1","v":3},0,0,0,0,0,0,0,0,0,0,0,0,0,0,0,0,0,0]
[4,0,0,0,0,0,0,0,0,0,0,0,0,0,0,0,0,0,0]
[5,0,0,0,0,0,0,0,0,0,0,0,0,0,0,0,0,0,0]
[6,0,0,0,0,0,0,0,0,0,0,0,0,0,0,0,0,0,0]
[7,0,0,0,0,0,0,0,0,0,0,0,0,0,0,0,0,0,0]
[8,0,0,0,0,0,0,0,0,0,0,0,0,0,0,0,0,0,0]
[9,0,0,0,0,0,0,0,0,0,0,0,0,0,0,0,0,0,0]
[10,0,0,0,0,0,0,0,0,0,0,0,0,0,0,0,0,0,0]
[11,0,0,0,0,0,0,0,0,0,0,0,0,0,0,0,0,0,0]
[12,0,0,0,0,0,0,0,0,0,0,0,0,0,0,0,0,0,0]
[13,0,0,0,0,0,0,0,0,0,0,0,0,0,0,0,0,0,0]
[14,0,0,0,0,0,0,0,0,0,0,0,0,0,0,0,0,0,0]
[15,0,0,0,0,0,0,0,0,0,0,0,0,0,0,0,0,0,0]
[16,0,0,0,0,0,0,0,0,0,0,0,0,0,0,0,0,0,0]
[17,0,0,0,0,0,0,0,0,0,0,0,0,0,0,0,0,0,0]
[18,0,0,0,0,0,0,0,0,0,0,0,0,0,0,0,0,0,0]
[19,0,0,0,0,0,0,0,0,0,0,0,0,0,0,0,0,0,0]
[20,0,0,0,0,0,0,0,0,0,0,0,0,0,0,0,0,0,0]
[21,0,0,0,0,0,0,0,0,0,0,0,0,0,0,0,0,0,0]
[22,0,0,0,0,0,0,0,0,0,0,0,0,0,0,0,0,0,0]
[23,0,0,0,0,0,0,0,0,0,0,0,0,0,0,0,0,0,0]
[24,0,0,0,0,0,0,0,0,0,0,0,0,0,0,0,0,0,0]
[25,0,0,0,0,0,0,0,0,0,0,0,0,0,0,0,0,0,0]
[26,0,0,0,0,0,0,0,0,0,0,0,0,0,0,0,0,0,0]
[27,0,0,0,0,0,0,0,0,0,0,0,0,0,0,0,0,0,0]
[28,0,0,0,0,0,0,0,0,0,0,0,0,0,0,0,0,0,0]
[29,0,0,0,0,0,0,0,0,0,0,0,0,0,0,0,0,0,0]
[30,0,0,0,0,0,0,0,0,0,0,0,0,0,0,0,0,0,0]
[31,0,0,0,0,0,0,0,0,0,0,0,0,0,0,0,0,0,0]
[null,{"$f":"SUM(B4:B34)","v":0},{"$f":"SUM(C4:C34)","v":0},{"$f":"SUM(D4:D34)","v":0},0,0,0,0,0,0,0,0,0,0,0,0,0,0,0]
[]
[null,"кол-во прин.ПО",null,{"$f":"B35+D35+F35+H35+J35+L35+Q35","v":0}]
[null,"сумма доходов",null,{"$f":"S35","v":0}]