Workbook

Sheet Сентябрь2026
A1: № | B1: Деталь | C1: Операция | D1: Остаток на 1е число | E1: остаток на конец месяца | F1: текущий месяц | G1: 1 | H1: 2 | I1: 3 | J1: 4 | K1: 5 | L1: 6 | M1: 7 | N1: 8 | O1: 9 | P1: 10 | Q1: 11 | R1: 12 | S1: 13 | T1: 14 | U1: 15 | V1: 16 | W1: 17 | X1: 18 | Y1: 19 | Z1: 20 | AA1: 21 | AB1: 22 | AC1: 23 | AD1: 24 | AE1: 25 | AF1: 26 | AG1: 27 | AH1: 28 | AI1: 29 | AJ1: 30 | AK1: Итого за месяц, шт.
A2: 1 | B2: Корпус насоса В65/182/188 16 GG ОТЛ Арт 2028366 | C2: Заготовка с ОТЛ (приход) | D2: 0 | E2: =D2+F2 -> 48 | F2: =SUM(G2:AJ2)-F4-F5-F3 -> 48 | V2: 24 | AC2: 24 | AK2: =SUM(G2:AJ2) -> 48
C3: Под отправку заказчику (упаковано) | D3: 0 | E3: =D3+F3 -> 0 | F3: =SUM(G3:AJ3) -> 0 | AK3: =SUM(G3:AJ3) -> 0
C4: Брак (Литья) отправлено на ОТЛ | D4: 0 | E4: =D4+F4 -> 0 | F4: =SUM(G4:AJ4) -> 0 | AK4: =SUM(G4:AJ4) -> 0
C5: Брак (МЕХ) отправлено на ОТЛ | D5: 0 | E5: =D5+F5 -> 0 | F5: =SUM(G5:AJ5) -> 0 | AK5: =SUM(G5:AJ5) -> 0
C6: Отправлено заказчику | D6: 0 | E6: =D6+F6 -> 0 | F6: =SUM(G6:AJ6) -> 0 | AK6: =SUM(G6:AJ6) -> 0
C7: Остаток ГП (упаковано, не отправлено) | D7: 0 | E7: =D7+F7 -> 0 | F7: =F3-F6 -> 0 | AK7: =F7 -> 0

Sheet Октябрь2026
A1: № | B1: Деталь | C1: Операция | D1: Остаток на 1е число | E1: Остаток на конец месяца | F1: Текущий месяц | G1: 1 | H1: 2 | I1: 3 | J1: 4 | K1: 5 | L1: 6 | M1: 7 | N1: 8 | O1: 9 | P1: 10 | Q1: 11 | R1: 12 | S1: 13 | T1: 14 | U1: 15 | V1: 16 | W1: 17 | X1: 18 | Y1: 19 | Z1: 20 | AA1: 21 | AB1: 22 | AC1: 23 | AD1: 24 | AE1: 25 | AF1: 26 | AG1: 27 | AH1: 28 | AI1: 29 | AJ1: 30 | AK1: 31 | AL1: Итого за месяц, шт.
A2: 1 | B2: Корпус | C2: Заготовка с ОТЛ (приход) | D2: =Сентябрь2026!E2 -> 48 | E2: =D2+F2 -> 72 | F2: =SUM(G2:AK2)-F4-F5-F3 -> 24 | H2: 24 | AL2: =SUM(G2:AK2) -> 24
C3: Под отправку заказчику (упаковано) | D3: =Сентябрь2026!E3 -> 0 | E3: =D3+F3 -> 0 | F3: =SUM(G3:AK3) -> 0 | AL3: =SUM(G3:AK3) -> 0
C4: Брак (Литья) отправлено на ОТЛ | D4: =Сентябрь2026!E4 -> 0 | E4: =D4+F4 -> 0 | F4: =SUM(G4:AK4) -> 0 | AL4: =SUM(G4:AK4) -> 0
C5: Брак (МЕХ) отправлено на ОТЛ | D5: =Сентябрь2026!E5 -> 0 | E5: =D5+F5 -> 0 | F5: =SUM(G5:AK5) -> 0 | AL5: =SUM(G5:AK5) -> 0
C6: Отправлено заказчику | D6: =Сентябрь2026!E6 -> 0 | E6: =D6+F6 -> 0 | F6: =SUM(G6:AK6) -> 0 | AL6: =SUM(G6:AK6) -> 0
C7: Остаток ГП (упаковано, не отправлено) | D7: =Сентябрь2026!E7 -> 0 | E7: =D7+F7 -> 0 | F7: =F3-F6 -> 0 | AL7: =F7 -> 0

Sheet Ноябрь2026
A1: № | B1: Деталь | C1: Операция | D1: Остаток на 1е число | E1: Остаток на конец месяца | F1: Текущий месяц | G1: 1 | H1: 2 | I1: 3 | J1: 4 | K1: 5 | L1: 6 | M1: 7 | N1: 8 | O1: 9 | P1: 10 | Q1: 11 | R1: 12 | S1: 13 | T1: 14 | U1: 15 | V1: 16 | W1: 17 | X1: 18 | Y1: 19 | Z1: 20 | AA1: 21 | AB1: 22 | AC1: 23 | AD1: 24 | AE1: 25 | AF1: 26 | AG1: 27 | AH1: 28 | AI1: 29 | AJ1: 30 | AK1: 31 | AL1: Итого за месяц, шт.
A2: 1 | B2: Корпус насоса В65/182/188 16 GG ОТЛ Арт 2028366 | C2: Заготовка с ОТЛ (приход) | D2: =Сентябрь2026!E2 -> 48 | E2: =D2+F2 -> 72 | F2: =SUM(G2:AK2)-F4-F5-F3 -> 24 | H2: 24 | AL2: =SUM(G2:AK2) -> 24
C3: Под отправку заказчику (упаковано) | D3: =Сентябрь2026!E3 -> 0 | E3: =D3+F3 -> 0 | F3: =SUM(G3:AK3) -> 0 | AL3: =SUM(G3:AK3) -> 0
C4: Брак (Литья) отправлено на ОТЛ | D4: =Сентябрь2026!E4 -> 0 | E4: =D4+F4 -> 0 | F4: =SUM(G4:AK4) -> 0 | AL4: =SUM(G4:AK4) -> 0
C5: Брак (МЕХ) отправлено на ОТЛ | D5: =Сентябрь2026!E5 -> 0 | E5: =D5+F5 -> 0 | F5: =SUM(G5:AK5) -> 0 | AL5: =SUM(G5:AK5) -> 0
C6: Отправлено заказчику | D6: =Сентябрь2026!E6 -> 0 | E6: =D6+F6 -> 0 | F6: =SUM(G6:AK6) -> 0 | AL6: =SUM(G6:AK6) -> 0
C7: Остаток ГП (упаковано, не отправлено) | D7: =Сентябрь2026!E7 -> 0 | E7: =D7+F7 -> 0 | F7: =F3-F6 -> 0 | AL7: =F7 -> 0
